{"text_format":"1","workbook":"xlsx","n_sheets":2,"sheets":["AASHTO T26","RX"],"not_rendered":{"charts":0,"images":1,"macros":1,"external_links":0,"defined_names":65,"comments":1,"pivot_tables":0},"unopened":[],"bounds":{"document_bytes":16777216,"sheet_cells":100000,"rows_first":2000,"rows_last":500,"rows_between":2000,"halvings":0,"cell_chars":16384,"cell_head_chars":4096},"cells_cut":0,"cells_raw":0,"read":"whole","date_system":"1900"}

{"sheet":"AASHTO T26","index":0,"n_rows":56,"n_cols":11,"rows_kept":56,"cut":false,"hidden":false,"merged":[[0,0,0,1],[16,3,16,4],[20,1,20,2],[10,3,10,4],[11,3,11,4],[20,3,20,8],[14,3,14,8],[7,3,7,4],[7,7,7,8],[9,3,9,4],[12,7,12,8],[9,7,9,8],[13,7,13,8],[10,7,10,8],[11,7,11,8],[13,3,13,4],[8,7,8,8],[8,3,8,4],[36,4,36,5],[16,7,16,8],[34,3,35,3],[30,7,30,8],[28,7,29,8],[28,5,29,6],[34,6,35,6],[23,3,23,4],[12,3,12,4],[28,4,29,4],[15,3,15,8],[34,7,35,8],[30,5,30,6],[28,3,29,3],[56,1,56,3],[50,2,50,4],[52,6,52,8],[45,1,46,8],[49,2,49,4],[48,1,48,8],[52,1,52,3],[47,1,47,8],[42,3,42,8],[24,3,24,4],[36,7,36,8],[42,1,42,2],[28,1,29,1],[28,2,29,2],[34,1,35,1],[34,2,35,2],[34,4,35,5],[40,3,40,5],[39,3,39,5]]}
["TxDOT Manuals >"]
[null,"TEXAS DEPARTMENT OF TRANSPORTATION",null,null,null,null,null,null,null,null,22]
[null,null,null,null,null,null,null,null,null,null,1]
[null,null,null,null,null,null,null,null,null,null,"aashtot26.xlsm::45446.464641"]
[null,"CHEMICAL ANALYSIS OF WATER"]
[null,"AASHTO T 26"]
[null,null,null,null,null,null,null,null,{"$f":"\"File Version: \" & TEXT(MID(sn,SEARCH(\"::\",sn,1)+2,20),\"mm/dd/yy hh:mm:ss\")","v":"File Version: 06/03/24 11:09:05"}]
[null,null,"SAMPLE ID:",null,null,null,"SAMPLED DATE:"]
[null,null,"TEST NUMBER:",null,null,null,"LETTING DATE:"]
[null,null,"SAMPLE STATUS:",null,null,null,"CONTROLLING CSJ:"]
[null,null,"COUNTY:",null,null,null,"SPEC YEAR:"]
[null,null,"SAMPLED BY:",null,null,null,"SPEC ITEM:"]
[null,null,"SAMPLE LOCATION:",null,null,null,"SPECIAL PROVISION:"]
[null,null,"MATERIAL CODE:",null,null,null,"GRADE:"]
[null,null,"MATERIAL NAME:"]
[null,null,"PRODUCER:"]
[null,null,"AREA ENGINEER:",null,null,null,"PROJECT MANAGER:"]
[]
[null,null,"COURSE\\LIFT:",null,"STATION:",null,null,"DIST. FROM CL:"]
[]
[null,"INTENDED FOR USE IN:"]
[]
[null,null,null,null,null,"Normal ","Excessive"]
[null,null,null,"ACIDITY:"]
[null,null,null,"ALKALINITY:"]
[]
[null,"CHLORIDE ION CONCENTRATION"]
[]
[null,"Sample Wt.","Starting mL","Ending mL","Total mL","N of AgNO3",null,"Concentration (ppm Cl)"]
[]
[null,null,null,null,{"$f":"IF(OR(D31=\"\",C31=\"\"),\"\",D31-C31)","v":""},null,null,{"$f":"IF(ISERROR((E31*3.545*F31*10000)/B31),\"\",(E31*3.545*F31*10000)/B31)","v":""}]
[]
[null,"SULFATE CONCENTRATION"]
[]
[null,"Crucible ID","Crucible Wt.","Sample Wt.","Crucible + Residue Wt.",null,"Residue Wt.","Concentration (ppm SO4)"]
[]
[null,null,null,null,null,null,{"$f":"IF(OR(E37=\"\",C37=\"\"),\"\",E37-C37)","v":""},{"$f":"IF(ISERROR((41.15*G37*10000)/D37),\"\",(41.15*G37*10000)/D37)","v":""}]
[]
[]
[null,null,null,"CHLORIDE ION CONCENTRATION:",null,null,{"$f":"H31","v":""}]
[null,null,null,"SULFATE ION CONCENTRATION:",null,null,{"$f":"H37","v":""}]
[]
[null,"Acceptable Uses:",null,{"$f":"IF(AND($G$40=\"\",$G$41=\"\"),\"\",IF(AND(G40<=1000,G41<=1000),\"ACCEPTABLE FOR USE IN CONCRETE\",IF(AND(G40<=5000,G41<=5000),\"ACCEPTABLE FOR USE IN EMBANKMENT ONLY\",\"NOT ACCEPTABLE\")))","v":""}]
[]
[null,"Remarks:",{"$f":"NOW()","v":"2024-06-03T11:09:05.380"}]
[]
[]
[]
[]
[null,"Test Method:","Tested By:",null,null,"Tested Date:"]
[null,"AASHTOT26"]
[null,"Test Stamp Code:",null,null,"Omit Test:","Completed Date:","Reviewed By:"]
[]
[null,"Locked By:","TxDOT:","District:","Area:"]
[]
[null,"Authorized By:",null,null,"Authorized Date:"]

{"sheet":"RX","index":1,"n_rows":25,"n_cols":9,"rows_kept":25,"cut":false,"hidden":true,"merged":[]}
[23]
["Fld_nbr","Value","Desc_1","Desc_2","Desc_3","Desc_4","Desc_5","Desc_6","Desc_7"]
[1,{"$f":"IF('AASHTO T26'!$B$46=\"\",\"\",'AASHTO T26'!$B$46)","v":""},{"$f":"IF('AASHTO T26'!$B$45=\"\",\"\",'AASHTO T26'!$B$45)","v":"Remarks:"}]
[2,{"$f":"IF('AASHTO T26'!$D$19=\"\",\"\",'AASHTO T26'!$D$19)","v":""},{"$f":"IF('AASHTO T26'!$C$19=\"\",\"\",'AASHTO T26'!$C$19)","v":"COURSE\\LIFT:"}]
[3,{"$f":"IF('AASHTO T26'!$C$51=\"\",\"\",'AASHTO T26'!$C$51)","v":""},"Tested By",{"$f":"IF('AASHTO T26'!$B$51=\"\",\"\",'AASHTO T26'!$B$51)","v":"AASHTOT26"}]
[4,{"$f":"IF('AASHTO T26'!$F$51=\"\",\"\",'AASHTO T26'!$F$51)","v":""},"Tested Date",{"$f":"IF('AASHTO T26'!$B$51=\"\",\"\",'AASHTO T26'!$B$51)","v":"AASHTOT26"}]
[5,{"$f":"IF('AASHTO T26'!$F$24=\"\",\"\",'AASHTO T26'!$F$24)","v":""},{"$f":"IF('AASHTO T26'!$B$6=\"\",\"\",'AASHTO T26'!$B$6)","v":"AASHTO T 26"},{"$f":"IF('AASHTO T26'!$D$24=\"\",\"\",'AASHTO T26'!$D$24)","v":"ACIDITY:"},{"$f":"IF('AASHTO T26'!$F$23=\"\",\"\",'AASHTO T26'!$F$23)","v":"Normal "}]
[6,{"$f":"IF('AASHTO T26'!$G$24=\"\",\"\",'AASHTO T26'!$G$24)","v":""},{"$f":"IF('AASHTO T26'!$B$6=\"\",\"\",'AASHTO T26'!$B$6)","v":"AASHTO T 26"},{"$f":"IF('AASHTO T26'!$D$24=\"\",\"\",'AASHTO T26'!$D$24)","v":"ACIDITY:"},{"$f":"IF('AASHTO T26'!$G$23=\"\",\"\",'AASHTO T26'!$G$23)","v":"Excessive"}]
[7,{"$f":"IF('AASHTO T26'!$F$25=\"\",\"\",'AASHTO T26'!$F$25)","v":""},{"$f":"IF('AASHTO T26'!$B$6=\"\",\"\",'AASHTO T26'!$B$6)","v":"AASHTO T 26"},{"$f":"IF('AASHTO T26'!$D$25=\"\",\"\",'AASHTO T26'!$D$25)","v":"ALKALINITY:"},{"$f":"IF('AASHTO T26'!$F$23=\"\",\"\",'AASHTO T26'!$F$23)","v":"Normal "}]
[8,{"$f":"IF('AASHTO T26'!$G$25=\"\",\"\",'AASHTO T26'!$G$25)","v":""},{"$f":"IF('AASHTO T26'!$B$6=\"\",\"\",'AASHTO T26'!$B$6)","v":"AASHTO T 26"},{"$f":"IF('AASHTO T26'!$D$25=\"\",\"\",'AASHTO T26'!$D$25)","v":"ALKALINITY:"},{"$f":"IF('AASHTO T26'!$G$23=\"\",\"\",'AASHTO T26'!$G$23)","v":"Excessive"}]
[9,{"$f":"IF('AASHTO T26'!$B$31=\"\",\"\",'AASHTO T26'!$B$31)","v":""},{"$f":"IF('AASHTO T26'!$B$6=\"\",\"\",'AASHTO T26'!$B$6)","v":"AASHTO T 26"},{"$f":"IF('AASHTO T26'!$B$29=\"\",\"\",'AASHTO T26'!$B$29)","v":"Sample Wt."}]
[10,{"$f":"IF('AASHTO T26'!$C$31=\"\",\"\",'AASHTO T26'!$C$31)","v":""},{"$f":"IF('AASHTO T26'!$B$6=\"\",\"\",'AASHTO T26'!$B$6)","v":"AASHTO T 26"},{"$f":"IF('AASHTO T26'!$C$29=\"\",\"\",'AASHTO T26'!$C$29)","v":"Starting mL"}]
[11,{"$f":"IF('AASHTO T26'!$D$31=\"\",\"\",'AASHTO T26'!$D$31)","v":""},{"$f":"IF('AASHTO T26'!$B$6=\"\",\"\",'AASHTO T26'!$B$6)","v":"AASHTO T 26"},{"$f":"IF('AASHTO T26'!$D$29=\"\",\"\",'AASHTO T26'!$D$29)","v":"Ending mL"}]
[12,{"$f":"IF('AASHTO T26'!$E$31=\"\",\"\",'AASHTO T26'!$E$31)","v":""},{"$f":"IF('AASHTO T26'!$B$6=\"\",\"\",'AASHTO T26'!$B$6)","v":"AASHTO T 26"},{"$f":"IF('AASHTO T26'!$E$29=\"\",\"\",'AASHTO T26'!$E$29)","v":"Total mL"}]
[13,{"$f":"IF('AASHTO T26'!$F$31=\"\",\"\",'AASHTO T26'!$F$31)","v":""},{"$f":"IF('AASHTO T26'!$B$6=\"\",\"\",'AASHTO T26'!$B$6)","v":"AASHTO T 26"},{"$f":"IF('AASHTO T26'!$F$29=\"\",\"\",'AASHTO T26'!$F$29)","v":"N of AgNO3"}]
[14,{"$f":"IF('AASHTO T26'!$H$31=\"\",\"\",'AASHTO T26'!$H$31)","v":""},{"$f":"IF('AASHTO T26'!$B$6=\"\",\"\",'AASHTO T26'!$B$6)","v":"AASHTO T 26"},{"$f":"IF('AASHTO T26'!$H$29=\"\",\"\",'AASHTO T26'!$H$29)","v":"Concentration (ppm Cl)"}]
[15,{"$f":"IF('AASHTO T26'!$B$37=\"\",\"\",'AASHTO T26'!$B$37)","v":""},{"$f":"IF('AASHTO T26'!$B$6=\"\",\"\",'AASHTO T26'!$B$6)","v":"AASHTO T 26"},{"$f":"IF('AASHTO T26'!$B$35=\"\",\"\",'AASHTO T26'!$B$35)","v":"Crucible ID"}]
[16,{"$f":"IF('AASHTO T26'!$C$37=\"\",\"\",'AASHTO T26'!$C$37)","v":""},{"$f":"IF('AASHTO T26'!$B$6=\"\",\"\",'AASHTO T26'!$B$6)","v":"AASHTO T 26"},{"$f":"IF('AASHTO T26'!$C$35=\"\",\"\",'AASHTO T26'!$C$35)","v":"Crucible Wt."}]
[17,{"$f":"IF('AASHTO T26'!$D$37=\"\",\"\",'AASHTO T26'!$D$37)","v":""},{"$f":"IF('AASHTO T26'!$B$6=\"\",\"\",'AASHTO T26'!$B$6)","v":"AASHTO T 26"},{"$f":"IF('AASHTO T26'!$D$35=\"\",\"\",'AASHTO T26'!$D$35)","v":"Sample Wt."}]
[18,{"$f":"IF('AASHTO T26'!$E$37=\"\",\"\",'AASHTO T26'!$E$37)","v":""},{"$f":"IF('AASHTO T26'!$B$6=\"\",\"\",'AASHTO T26'!$B$6)","v":"AASHTO T 26"},{"$f":"IF('AASHTO T26'!$E$35=\"\",\"\",'AASHTO T26'!$E$35)","v":"Crucible + Residue Wt."}]
[19,{"$f":"IF('AASHTO T26'!$G$37=\"\",\"\",'AASHTO T26'!$G$37)","v":""},{"$f":"IF('AASHTO T26'!$B$6=\"\",\"\",'AASHTO T26'!$B$6)","v":"AASHTO T 26"},{"$f":"IF('AASHTO T26'!$G$35=\"\",\"\",'AASHTO T26'!$G$35)","v":"Residue Wt."}]
[20,{"$f":"IF('AASHTO T26'!$H$37=\"\",\"\",'AASHTO T26'!$H$37)","v":""},{"$f":"IF('AASHTO T26'!$B$6=\"\",\"\",'AASHTO T26'!$B$6)","v":"AASHTO T 26"},{"$f":"IF('AASHTO T26'!$H$35=\"\",\"\",'AASHTO T26'!$H$35)","v":"Concentration (ppm SO4)"}]
[21,{"$f":"IF('AASHTO T26'!$G$40=\"\",\"\",'AASHTO T26'!$G$40)","v":""},{"$f":"IF('AASHTO T26'!$B$6=\"\",\"\",'AASHTO T26'!$B$6)","v":"AASHTO T 26"},{"$f":"IF('AASHTO T26'!$D$40=\"\",\"\",'AASHTO T26'!$D$40)","v":"CHLORIDE ION CONCENTRATION:"}]
[22,{"$f":"IF('AASHTO T26'!$G$41=\"\",\"\",'AASHTO T26'!$G$41)","v":""},{"$f":"IF('AASHTO T26'!$B$6=\"\",\"\",'AASHTO T26'!$B$6)","v":"AASHTO T 26"},{"$f":"IF('AASHTO T26'!$D$41=\"\",\"\",'AASHTO T26'!$D$41)","v":"SULFATE ION CONCENTRATION:"}]
[23,{"$f":"IF('AASHTO T26'!$D$43=\"\",\"\",'AASHTO T26'!$D$43)","v":""},{"$f":"IF('AASHTO T26'!$B$6=\"\",\"\",'AASHTO T26'!$B$6)","v":"AASHTO T 26"},{"$f":"IF('AASHTO T26'!$B$43=\"\",\"\",'AASHTO T26'!$B$43)","v":"Acceptable Uses:"}]