{"text_format":"1","workbook":"xlsx","n_sheets":3,"sheets":["UHPC","Lookup","RX"],"not_rendered":{"charts":0,"images":1,"macros":1,"external_links":1,"defined_names":139,"comments":1,"pivot_tables":0},"unopened":[],"bounds":{"document_bytes":16777216,"sheet_cells":100000,"rows_first":2000,"rows_last":500,"rows_between":2000,"halvings":0,"cell_chars":16384,"cell_head_chars":4096},"cells_cut":0,"cells_raw":0,"read":"whole","date_system":"1900"}

{"sheet":"UHPC","index":0,"n_rows":120,"n_cols":13,"rows_kept":120,"cut":false,"hidden":false,"merged":[[47,3,47,5],[48,3,48,5],[39,12,41,12],[36,12,38,12],[33,12,35,12],[39,3,41,3],[36,3,38,3],[33,3,35,3],[39,9,41,9],[36,9,38,9],[33,9,35,9],[44,2,45,9],[24,12,26,12],[30,12,32,12],[27,12,29,12],[22,1,23,1],[27,3,29,3],[30,3,32,3],[30,9,32,9],[27,9,29,9],[24,9,26,9],[22,2,23,2],[24,3,26,3],[16,4,16,5],[11,4,11,5],[15,4,15,9],[16,8,16,9],[14,4,14,9],[0,0,0,2],[12,8,12,9],[12,4,12,5],[13,4,13,5],[13,8,13,9],[7,8,7,9],[10,8,10,9],[7,4,7,5],[10,4,10,5],[8,4,8,5],[8,8,8,9],[9,8,9,9],[9,4,9,5],[11,8,11,9],[57,2,57,4],[53,7,53,9],[49,3,49,5],[53,2,53,4],[50,3,50,5]]}
["TxDOT Manuals >"]
[null,null,"TEXAS DEPARTMENT OF TRANSPORTATION",null,null,null,null,null,null,null,null,84]
[null,null,null,null,null,null,null,null,null,null,null,2]
[null,null,null,null,null,null,null,null,null,null,null,"astmc1856.xlsm::45575.374722"]
[null,null,"ULTRA HIGH PERFORMANCE CONCRETE - COMPRESSIVE STRENGTH TESTING"]
[]
[null,null,null,null,null,null,null,null,null,{"$f":"\"ASTMC1856 :: File Version: \" & TEXT(MID(sn,SEARCH(\"::\",sn,1)+2,20),\"mm/dd/yy hh:mm:ss\")","v":"ASTMC1856 :: File Version: 10/10/24 08:59:36"}]
[null,null,null,"SAMPLE ID:",null,null,null,"SAMPLED DATE:"]
[null,null,null,"TEST NUMBER:",null,null,null,"LETTING DATE:"]
[null,null,null,"SAMPLE STATUS:",null,null,null,"CONTROLLING CSJ:"]
[null,null,null,"COUNTY:",null,null,null,"SPEC YEAR:"]
[null,null,null,"SAMPLED BY:",null,null,null,"SPEC ITEM:"]
[null,null,null,"SAMPLE LOCATION:",null,null,null,"SPECIAL PROVISION:"]
[null,null,null,"MATERIAL CODE:",null,null,null,"GRADE:"]
[null,null,null,"MATERIAL NAME:"]
[null,null,null,"PRODUCER:"]
[null,null,null,"AREA ENGINEER:",null,null,null,"PROJECT MANAGER:"]
[]
[null,null,null,"COURSE\\LIFT:",null,"STATION:",null,null,"DIST. FROM CL:"]
[]
[null,null,"Compressive Strength"]
[]
[null,"Number","Specimen ID","Age","Diameter","Area","Length","Max Load","Compressive Strength","Average Compressive Strength","Correction Factor","Corrected Compressive Strength","Corrected Average"]
[null,null,null,"(days)","(nearest 0.001 in.)","(in2)","(nearest 0.01 in.)","(lb)","(psi)","(psi)",null,"(psi)","(psi)"]
[null,1,null,4,null,{"$f":"IF(ISBLANK(E25), \"\", ROUND(PI()*(E25^2)/4, 3))","v":""},null,null,{"$f":"IF(ISBLANK(H25), \"\", ROUND(H25/F25, 0))","v":""},{"$f":"IF(I26=\"\", \"\", ROUND(AVERAGE(I25:I27), -1))","v":""},{"$f":"IF(ISBLANK(G25),\"\",IF(ROUND(G25/E25,2)>=1.75,1,FORECAST(G25/E25,\nINDEX(Lookup!$B$2:$B$5,MATCH(G25/E25,Lookup!$A$2:$A$5,1)):INDEX(Lookup!$B$2:$B$5,MATCH(G25/E25,Lookup!$A$2:$A$5,1)+1),\nINDEX(Lookup!$A$2:$A$5,MATCH(G25/E25,Lookup!$A$2:$A$5,1)):INDEX(Lookup!$A$2:$A$5,MATCH(G25/E25,Lookup!$A$2:$A$5,1)+1))))","v":""},{"$f":"IF(ISBLANK(H25),\"\",H25*K25/F25)","v":""},{"$f":"IF(L26=\"\",\"\",ROUND(AVERAGE(L25:L27),-1))","v":""}]
[null,2,null,null,null,{"$f":"IF(ISBLANK(E26), \"\", ROUND(PI()*(E26^2)/4, 3))","v":""},null,null,{"$f":"IF(ISBLANK(H26), \"\", ROUND(H26/F26, 0))","v":""},null,{"$f":"IF(ISBLANK(G26),\"\",IF(ROUND(G26/E26,2)>=1.75,1,FORECAST(ROUND(G26/E26,2),\nINDEX(Lookup!$B$2:$B$5,MATCH(G26/E26,Lookup!$A$2:$A$5,1)):INDEX(Lookup!$B$2:$B$5,MATCH(G26/E26,Lookup!$A$2:$A$5,1)+1),\nINDEX(Lookup!$A$2:$A$5,MATCH(G26/E26,Lookup!$A$2:$A$5,1)):INDEX(Lookup!$A$2:$A$5,MATCH(G26/E26,Lookup!$A$2:$A$5,1)+1))))","v":""},{"$f":"IF(ISBLANK(H26),\"\",H26*K26/F26)","v":""}]
[null,3,null,null,null,"",null,null,"",null,{"$f":"IF(ISBLANK(G27),\"\",IF(ROUND(G27/E27,2)>=1.75,1,FORECAST(ROUND(G27/E27,2),\nINDEX(Lookup!$B$2:$B$5,MATCH(G27/E27,Lookup!$A$2:$A$5,1)):INDEX(Lookup!$B$2:$B$5,MATCH(G27/E27,Lookup!$A$2:$A$5,1)+1),\nINDEX(Lookup!$A$2:$A$5,MATCH(G27/E27,Lookup!$A$2:$A$5,1)):INDEX(Lookup!$A$2:$A$5,MATCH(G27/E27,Lookup!$A$2:$A$5,1)+1))))","v":""},""]
[null,1,null,14,null,"",null,null,"",{"$f":"IF(I29=\"\", \"\", ROUND(AVERAGE(I28:I30), -1))","v":""},{"$f":"IF(ISBLANK(G28),\"\",IF(ROUND(G28/E28,2)>=1.75,1,FORECAST(ROUND(G28/E28,2),\nINDEX(Lookup!$B$2:$B$5,MATCH(G28/E28,Lookup!$A$2:$A$5,1)):INDEX(Lookup!$B$2:$B$5,MATCH(G28/E28,Lookup!$A$2:$A$5,1)+1),\nINDEX(Lookup!$A$2:$A$5,MATCH(G28/E28,Lookup!$A$2:$A$5,1)):INDEX(Lookup!$A$2:$A$5,MATCH(G28/E28,Lookup!$A$2:$A$5,1)+1))))","v":""},"",{"$f":"IF(L29=\"\",\"\",ROUND(AVERAGE(L28:L30),-1))","v":""}]
[null,2,null,null,null,"",null,null,"",null,{"$f":"IF(ISBLANK(G29),\"\",IF(ROUND(G29/E29,2)>=1.75,1,FORECAST(ROUND(G29/E29,2),\nINDEX(Lookup!$B$2:$B$5,MATCH(G29/E29,Lookup!$A$2:$A$5,1)):INDEX(Lookup!$B$2:$B$5,MATCH(G29/E29,Lookup!$A$2:$A$5,1)+1),\nINDEX(Lookup!$A$2:$A$5,MATCH(G29/E29,Lookup!$A$2:$A$5,1)):INDEX(Lookup!$A$2:$A$5,MATCH(G29/E29,Lookup!$A$2:$A$5,1)+1))))","v":""},""]
[null,3,null,null,null,"",null,null,"",null,{"$f":"IF(ISBLANK(G30),\"\",IF(ROUND(G30/E30,2)>=1.75,1,FORECAST(ROUND(G30/E30,2),\nINDEX(Lookup!$B$2:$B$5,MATCH(G30/E30,Lookup!$A$2:$A$5,1)):INDEX(Lookup!$B$2:$B$5,MATCH(G30/E30,Lookup!$A$2:$A$5,1)+1),\nINDEX(Lookup!$A$2:$A$5,MATCH(G30/E30,Lookup!$A$2:$A$5,1)):INDEX(Lookup!$A$2:$A$5,MATCH(G30/E30,Lookup!$A$2:$A$5,1)+1))))","v":""},""]
[null,1,null,28,null,"",null,null,"",{"$f":"IF(I32=\"\", \"\", ROUND(AVERAGE(I31:I33), -1))","v":""},{"$f":"IF(ISBLANK(G31),\"\",IF(ROUND(G31/E31,2)>=1.75,1,FORECAST(ROUND(G31/E31,2),\nINDEX(Lookup!$B$2:$B$5,MATCH(G31/E31,Lookup!$A$2:$A$5,1)):INDEX(Lookup!$B$2:$B$5,MATCH(G31/E31,Lookup!$A$2:$A$5,1)+1),\nINDEX(Lookup!$A$2:$A$5,MATCH(G31/E31,Lookup!$A$2:$A$5,1)):INDEX(Lookup!$A$2:$A$5,MATCH(G31/E31,Lookup!$A$2:$A$5,1)+1))))","v":""},"",{"$f":"IF(L32=\"\",\"\",ROUND(AVERAGE(L31:L33),-1))","v":""}]
[null,2,null,null,null,"",null,null,"",null,{"$f":"IF(ISBLANK(G32),\"\",IF(ROUND(G32/E32,2)>=1.75,1,FORECAST(ROUND(G32/E32,2),\nINDEX(Lookup!$B$2:$B$5,MATCH(G32/E32,Lookup!$A$2:$A$5,1)):INDEX(Lookup!$B$2:$B$5,MATCH(G32/E32,Lookup!$A$2:$A$5,1)+1),\nINDEX(Lookup!$A$2:$A$5,MATCH(G32/E32,Lookup!$A$2:$A$5,1)):INDEX(Lookup!$A$2:$A$5,MATCH(G32/E32,Lookup!$A$2:$A$5,1)+1))))","v":""},""]
[null,3,null,null,null,"",null,null,"",null,{"$f":"IF(ISBLANK(G33),\"\",IF(ROUND(G33/E33,2)>=1.75,1,FORECAST(ROUND(G33/E33,2),\nINDEX(Lookup!$B$2:$B$5,MATCH(G33/E33,Lookup!$A$2:$A$5,1)):INDEX(Lookup!$B$2:$B$5,MATCH(G33/E33,Lookup!$A$2:$A$5,1)+1),\nINDEX(Lookup!$A$2:$A$5,MATCH(G33/E33,Lookup!$A$2:$A$5,1)):INDEX(Lookup!$A$2:$A$5,MATCH(G33/E33,Lookup!$A$2:$A$5,1)+1))))","v":""},""]
[null,1,null,null,null,"",null,null,null,null,{"$f":"IF(ISBLANK(G34),\"\",IF(ROUND(G34/E34,2)>=1.75,1,FORECAST(ROUND(G34/E34,2),\nINDEX(Lookup!$B$2:$B$5,MATCH(G34/E34,Lookup!$A$2:$A$5,1)):INDEX(Lookup!$B$2:$B$5,MATCH(G34/E34,Lookup!$A$2:$A$5,1)+1),\nINDEX(Lookup!$A$2:$A$5,MATCH(G34/E34,Lookup!$A$2:$A$5,1)):INDEX(Lookup!$A$2:$A$5,MATCH(G34/E34,Lookup!$A$2:$A$5,1)+1))))","v":""},"",{"$f":"IF(L35=\"\",\"\",ROUND(AVERAGE(L34:L36),-1))","v":""}]
[null,2,null,null,null,"",null,null,null,null,{"$f":"IF(ISBLANK(G35),\"\",IF(ROUND(G35/E35,2)>=1.75,1,FORECAST(ROUND(G35/E35,2),\nINDEX(Lookup!$B$2:$B$5,MATCH(G35/E35,Lookup!$A$2:$A$5,1)):INDEX(Lookup!$B$2:$B$5,MATCH(G35/E35,Lookup!$A$2:$A$5,1)+1),\nINDEX(Lookup!$A$2:$A$5,MATCH(G35/E35,Lookup!$A$2:$A$5,1)):INDEX(Lookup!$A$2:$A$5,MATCH(G35/E35,Lookup!$A$2:$A$5,1)+1))))","v":""},""]
[null,3,null,null,null,"",null,null,null,null,{"$f":"IF(ISBLANK(G36),\"\",IF(ROUND(G36/E36,2)>=1.75,1,FORECAST(ROUND(G36/E36,2),\nINDEX(Lookup!$B$2:$B$5,MATCH(G36/E36,Lookup!$A$2:$A$5,1)):INDEX(Lookup!$B$2:$B$5,MATCH(G36/E36,Lookup!$A$2:$A$5,1)+1),\nINDEX(Lookup!$A$2:$A$5,MATCH(G36/E36,Lookup!$A$2:$A$5,1)):INDEX(Lookup!$A$2:$A$5,MATCH(G36/E36,Lookup!$A$2:$A$5,1)+1))))","v":""},""]
[null,1,null,null,null,"",null,null,null,null,{"$f":"IF(ISBLANK(G37),\"\",IF(ROUND(G37/E37,2)>=1.75,1,FORECAST(ROUND(G37/E37,2),\nINDEX(Lookup!$B$2:$B$5,MATCH(G37/E37,Lookup!$A$2:$A$5,1)):INDEX(Lookup!$B$2:$B$5,MATCH(G37/E37,Lookup!$A$2:$A$5,1)+1),\nINDEX(Lookup!$A$2:$A$5,MATCH(G37/E37,Lookup!$A$2:$A$5,1)):INDEX(Lookup!$A$2:$A$5,MATCH(G37/E37,Lookup!$A$2:$A$5,1)+1))))","v":""},"",{"$f":"IF(L38=\"\",\"\",ROUND(AVERAGE(L37:L39),-1))","v":""}]
[null,2,null,null,null,"",null,null,null,null,{"$f":"IF(ISBLANK(G38),\"\",IF(ROUND(G38/E38,2)>=1.75,1,FORECAST(ROUND(G38/E38,2),\nINDEX(Lookup!$B$2:$B$5,MATCH(G38/E38,Lookup!$A$2:$A$5,1)):INDEX(Lookup!$B$2:$B$5,MATCH(G38/E38,Lookup!$A$2:$A$5,1)+1),\nINDEX(Lookup!$A$2:$A$5,MATCH(G38/E38,Lookup!$A$2:$A$5,1)):INDEX(Lookup!$A$2:$A$5,MATCH(G38/E38,Lookup!$A$2:$A$5,1)+1))))","v":""},""]
[null,3,null,null,null,"",null,null,null,null,{"$f":"IF(ISBLANK(G39),\"\",IF(ROUND(G39/E39,2)>=1.75,1,FORECAST(ROUND(G39/E39,2),\nINDEX(Lookup!$B$2:$B$5,MATCH(G39/E39,Lookup!$A$2:$A$5,1)):INDEX(Lookup!$B$2:$B$5,MATCH(G39/E39,Lookup!$A$2:$A$5,1)+1),\nINDEX(Lookup!$A$2:$A$5,MATCH(G39/E39,Lookup!$A$2:$A$5,1)):INDEX(Lookup!$A$2:$A$5,MATCH(G39/E39,Lookup!$A$2:$A$5,1)+1))))","v":""},""]
[null,1,null,null,null,"",null,null,null,null,{"$f":"IF(ISBLANK(G40),\"\",IF(ROUND(G40/E40,2)>=1.75,1,FORECAST(ROUND(G40/E40,2),\nINDEX(Lookup!$B$2:$B$5,MATCH(G40/E40,Lookup!$A$2:$A$5,1)):INDEX(Lookup!$B$2:$B$5,MATCH(G40/E40,Lookup!$A$2:$A$5,1)+1),\nINDEX(Lookup!$A$2:$A$5,MATCH(G40/E40,Lookup!$A$2:$A$5,1)):INDEX(Lookup!$A$2:$A$5,MATCH(G40/E40,Lookup!$A$2:$A$5,1)+1))))","v":""},"",{"$f":"IF(L41=\"\",\"\",ROUND(AVERAGE(L40:L42),-1))","v":""}]
[null,2,null,null,null,"",null,null,null,null,{"$f":"IF(ISBLANK(G41),\"\",IF(ROUND(G41/E41,2)>=1.75,1,FORECAST(ROUND(G41/E41,2),\nINDEX(Lookup!$B$2:$B$5,MATCH(G41/E41,Lookup!$A$2:$A$5,1)):INDEX(Lookup!$B$2:$B$5,MATCH(G41/E41,Lookup!$A$2:$A$5,1)+1),\nINDEX(Lookup!$A$2:$A$5,MATCH(G41/E41,Lookup!$A$2:$A$5,1)):INDEX(Lookup!$A$2:$A$5,MATCH(G41/E41,Lookup!$A$2:$A$5,1)+1))))","v":""},""]
[null,3,null,null,null,"",null,null,null,null,{"$f":"IF(ISBLANK(G42),\"\",IF(ROUND(G42/E42,2)>=1.75,1,FORECAST(ROUND(G42/E42,2),\nINDEX(Lookup!$B$2:$B$5,MATCH(G42/E42,Lookup!$A$2:$A$5,1)):INDEX(Lookup!$B$2:$B$5,MATCH(G42/E42,Lookup!$A$2:$A$5,1)+1),\nINDEX(Lookup!$A$2:$A$5,MATCH(G42/E42,Lookup!$A$2:$A$5,1)):INDEX(Lookup!$A$2:$A$5,MATCH(G42/E42,Lookup!$A$2:$A$5,1)+1))))","v":""},""]
[]
[null,null,"Remarks:",{"$f":"NOW()","v":"2024-10-10T08:59:36.740"}]
[]
[]
[]
[null,null,"Sample Method:","Sampled By:",null,null,"Sampled Date:"]
[null,null,"ASTMC1856"]
[null,null,"Test Method:","Tested By:",null,null,"Tested Date:"]
[null,null,"ASTMC1856"]
[]
[null,null,"Test Stamp Code:",null,null,"Omit Test:","Completed Date:","Reviewed By:"]
[]
[null,null,"Locked By:","TxDOT:","District:","Area:"]
[]
[null,null,"Authorized By:",null,null,"Authorized Date:"]
[null,null,null,null,null,null,{"$f":"IF(OR(ISBLANK(AuthorizedDate), AuthorizedDate>44025), 2, 1)","v":2}]
[]
[]
[]
[]
[]
[]
[]
[]
[]
[]
[]
[]
[]
[]
[]
[]
[]
[]
[]
[]
[]
[]
[]
[]
[]
[]
[]
[]
[]
[]
[]
[]
[]
[]
[]
[]
[]
[]
[]
[]
[]
[]
[]
[]
[]
[]
[]
[]
[]
[]
[]
[]
[]
[]
[]
[]
[]
[]
[]
[]
[]
[null,{"$f":"IF(UHPC!G37=\"\",\"\")","v":""}]

{"sheet":"Lookup","index":1,"n_rows":5,"n_cols":2,"rows_kept":5,"cut":false,"hidden":true,"merged":[]}
["L:D corrections"]
[1,0.87]
[1.25,0.93]
[1.5,0.96]
[1.75,0.98]

{"sheet":"RX","index":2,"n_rows":151,"n_cols":15,"rows_kept":151,"cut":false,"hidden":true,"merged":[]}
[{"$f":"COUNTA(A3:A9992)","v":149}]
["Fld_nbr","Value","DESC_1","DESC_2","DESC_3","DESC_4","DESC_5","DESC_6","DESC_7",null,null,"36=no"]
[1,{"$f":"IF(Field1=\"\", \"\", Field1)","v":""},{"$f":"MID(CELL(\"filename\",UHPC!A1),FIND(\"]\",CELL(\"filename\",UHPC!A1))+1,255)","v":"UHPC"},{"$f":"UHPC!C44","v":"Remarks:"},null,null,null,null,null,null,null,"37=no"]
[{"$f":"A3+1","v":2},{"$f":"IF(Field42=\"\", \"\", Field42)","v":""},{"$f":"MID(CELL(\"filename\",UHPC!A2),FIND(\"]\",CELL(\"filename\",UHPC!A2))+1,255)","v":"UHPC"},{"$f":"UHPC!D50","v":"Tested By:"},{"$f":"UHPC!C51","v":"ASTMC1856"},null,null,null,null,null,null,"38=yes",null,null,{"$f":"IF(Field1=\"\", \"\", Field1)","v":""}]
[{"$f":"A4+1","v":3},{"$f":"IF(Field43=\"\", \"\", Field43)","v":""},{"$f":"MID(CELL(\"filename\",UHPC!A3),FIND(\"]\",CELL(\"filename\",UHPC!A3))+1,255)","v":"UHPC"},{"$f":"UHPC!G50","v":"Tested Date:"},{"$f":"UHPC!C51","v":"ASTMC1856"},null,null,null,null,null,null,"35=yes"]
[4,{"$f":"IF(Field6=\"\", \"\", Field6)","v":""},{"$f":"MID(CELL(\"filename\",UHPC!A7),FIND(\"]\",CELL(\"filename\",UHPC!A7))+1,255)","v":"UHPC"},{"$f":"UHPC!$C$21","v":"Compressive Strength"},{"$f":"UHPC!$C$23","v":"Specimen ID"},{"$f":"UHPC!$D$25","v":4},{"$f":"UHPC!$B$25","v":1}]
[5,{"$f":"IF(Field10=\"\", \"\", Field10)","v":""},{"$f":"MID(CELL(\"filename\",UHPC!A8),FIND(\"]\",CELL(\"filename\",UHPC!A8))+1,255)","v":"UHPC"},{"$f":"UHPC!$C$21","v":"Compressive Strength"},{"$f":"UHPC!$C$23","v":"Specimen ID"},{"$f":"UHPC!$D$25","v":4},{"$f":"UHPC!$B$26","v":2}]
[6,{"$f":"IF(Field14=\"\", \"\", Field14)","v":""},{"$f":"MID(CELL(\"filename\",UHPC!A9),FIND(\"]\",CELL(\"filename\",UHPC!A9))+1,255)","v":"UHPC"},{"$f":"UHPC!$C$21","v":"Compressive Strength"},{"$f":"UHPC!$C$23","v":"Specimen ID"},{"$f":"UHPC!$D$25","v":4},{"$f":"UHPC!$B$27","v":3}]
[7,{"$f":"IF(Field7=\"\", \"\", Field7)","v":""},{"$f":"MID(CELL(\"filename\",UHPC!A10),FIND(\"]\",CELL(\"filename\",UHPC!A10))+1,255)","v":"UHPC"},{"$f":"UHPC!$C$21","v":"Compressive Strength"},{"$f":"UHPC!$E$23","v":"Diameter"},{"$f":"UHPC!$D$25","v":4},{"$f":"UHPC!$B$25","v":1}]
[8,{"$f":"IF(Field11=\"\", \"\", Field11)","v":""},{"$f":"MID(CELL(\"filename\",UHPC!A11),FIND(\"]\",CELL(\"filename\",UHPC!A11))+1,255)","v":"UHPC"},{"$f":"UHPC!$C$21","v":"Compressive Strength"},{"$f":"UHPC!$E$23","v":"Diameter"},{"$f":"UHPC!$D$25","v":4},{"$f":"UHPC!$B$26","v":2}]
[9,{"$f":"IF(Field15=\"\", \"\", Field15)","v":""},{"$f":"MID(CELL(\"filename\",UHPC!A12),FIND(\"]\",CELL(\"filename\",UHPC!A12))+1,255)","v":"UHPC"},{"$f":"UHPC!$C$21","v":"Compressive Strength"},{"$f":"UHPC!$E$23","v":"Diameter"},{"$f":"UHPC!$D$25","v":4},{"$f":"UHPC!$B$27","v":3}]
[10,{"$f":"IF(UHPC!F25=\"\", \"\", UHPC!F25)","v":""},{"$f":"MID(CELL(\"filename\",UHPC!A13),FIND(\"]\",CELL(\"filename\",UHPC!A13))+1,255)","v":"UHPC"},{"$f":"UHPC!$C$21","v":"Compressive Strength"},{"$f":"UHPC!$F$23","v":"Area"},{"$f":"UHPC!$D$25","v":4},{"$f":"UHPC!$B$25","v":1}]
[11,{"$f":"IF(UHPC!F26=\"\", \"\", UHPC!F26)","v":""},{"$f":"MID(CELL(\"filename\",UHPC!A14),FIND(\"]\",CELL(\"filename\",UHPC!A14))+1,255)","v":"UHPC"},{"$f":"UHPC!$C$21","v":"Compressive Strength"},{"$f":"UHPC!$F$23","v":"Area"},{"$f":"UHPC!$D$25","v":4},{"$f":"UHPC!$B$26","v":2}]
[12,{"$f":"IF(UHPC!F27=\"\", \"\", UHPC!F27)","v":""},{"$f":"MID(CELL(\"filename\",UHPC!A15),FIND(\"]\",CELL(\"filename\",UHPC!A15))+1,255)","v":"UHPC"},{"$f":"UHPC!$C$21","v":"Compressive Strength"},{"$f":"UHPC!$F$23","v":"Area"},{"$f":"UHPC!$D$25","v":4},{"$f":"UHPC!$B$27","v":3}]
[13,{"$f":"IF(Field8=\"\", \"\", Field8)","v":""},{"$f":"MID(CELL(\"filename\",UHPC!A16),FIND(\"]\",CELL(\"filename\",UHPC!A16))+1,255)","v":"UHPC"},{"$f":"UHPC!$C$21","v":"Compressive Strength"},{"$f":"UHPC!$G$23","v":"Length"},{"$f":"UHPC!$D$25","v":4},{"$f":"UHPC!$B$25","v":1}]
[14,{"$f":"IF(Field12=\"\", \"\", Field12)","v":""},{"$f":"MID(CELL(\"filename\",UHPC!A17),FIND(\"]\",CELL(\"filename\",UHPC!A17))+1,255)","v":"UHPC"},{"$f":"UHPC!$C$21","v":"Compressive Strength"},{"$f":"UHPC!$G$23","v":"Length"},{"$f":"UHPC!$D$25","v":4},{"$f":"UHPC!$B$26","v":2}]
[15,{"$f":"IF(Field16=\"\", \"\", Field16)","v":""},{"$f":"MID(CELL(\"filename\",UHPC!A18),FIND(\"]\",CELL(\"filename\",UHPC!A18))+1,255)","v":"UHPC"},{"$f":"UHPC!$C$21","v":"Compressive Strength"},{"$f":"UHPC!$G$23","v":"Length"},{"$f":"UHPC!$D$25","v":4},{"$f":"UHPC!$B$27","v":3}]
[16,{"$f":"IF(Field9=\"\", \"\", Field9)","v":""},{"$f":"MID(CELL(\"filename\",UHPC!A19),FIND(\"]\",CELL(\"filename\",UHPC!A19))+1,255)","v":"UHPC"},{"$f":"UHPC!$C$21","v":"Compressive Strength"},{"$f":"UHPC!$H$23","v":"Max Load"},{"$f":"UHPC!$D$25","v":4},{"$f":"UHPC!$B$25","v":1}]
[17,{"$f":"IF(Field13=\"\", \"\", Field13)","v":""},{"$f":"MID(CELL(\"filename\",UHPC!A20),FIND(\"]\",CELL(\"filename\",UHPC!A20))+1,255)","v":"UHPC"},{"$f":"UHPC!$C$21","v":"Compressive Strength"},{"$f":"UHPC!$H$23","v":"Max Load"},{"$f":"UHPC!$D$25","v":4},{"$f":"UHPC!$B$26","v":2}]
[18,{"$f":"IF(Field17=\"\", \"\", Field17)","v":""},{"$f":"MID(CELL(\"filename\",UHPC!A21),FIND(\"]\",CELL(\"filename\",UHPC!A21))+1,255)","v":"UHPC"},{"$f":"UHPC!$C$21","v":"Compressive Strength"},{"$f":"UHPC!$H$23","v":"Max Load"},{"$f":"UHPC!$D$25","v":4},{"$f":"UHPC!$B$27","v":3}]
[19,{"$f":"IF(UHPC!I25=\"\", \"\", UHPC!I25)","v":""},{"$f":"MID(CELL(\"filename\",UHPC!A22),FIND(\"]\",CELL(\"filename\",UHPC!A22))+1,255)","v":"UHPC"},{"$f":"UHPC!$C$21","v":"Compressive Strength"},{"$f":"UHPC!$I$23","v":"Compressive Strength"},{"$f":"UHPC!$D$25","v":4},{"$f":"UHPC!$B$25","v":1}]
[20,{"$f":"IF(UHPC!I26=\"\", \"\", UHPC!I26)","v":""},{"$f":"MID(CELL(\"filename\",UHPC!A23),FIND(\"]\",CELL(\"filename\",UHPC!A23))+1,255)","v":"UHPC"},{"$f":"UHPC!$C$21","v":"Compressive Strength"},{"$f":"UHPC!$I$23","v":"Compressive Strength"},{"$f":"UHPC!$D$25","v":4},{"$f":"UHPC!$B$26","v":2}]
[21,{"$f":"IF(UHPC!I27=\"\", \"\", UHPC!I27)","v":""},{"$f":"MID(CELL(\"filename\",UHPC!A24),FIND(\"]\",CELL(\"filename\",UHPC!A24))+1,255)","v":"UHPC"},{"$f":"UHPC!$C$21","v":"Compressive Strength"},{"$f":"UHPC!$I$23","v":"Compressive Strength"},{"$f":"UHPC!$D$25","v":4},{"$f":"UHPC!$B$27","v":3}]
[22,{"$f":"IF(UHPC!J25=\"\", \"\", UHPC!J25)","v":""},{"$f":"MID(CELL(\"filename\",UHPC!A25),FIND(\"]\",CELL(\"filename\",UHPC!A25))+1,255)","v":"UHPC"},{"$f":"UHPC!$C$21","v":"Compressive Strength"},{"$f":"UHPC!J$23","v":"Average Compressive Strength"},{"$f":"UHPC!$D$25","v":4}]
[23,{"$f":"IF(Field18=\"\", \"\", Field18)","v":""},{"$f":"MID(CELL(\"filename\",UHPC!A26),FIND(\"]\",CELL(\"filename\",UHPC!A26))+1,255)","v":"UHPC"},{"$f":"UHPC!$C$21","v":"Compressive Strength"},{"$f":"UHPC!$C$23","v":"Specimen ID"},{"$f":"UHPC!$D$28","v":14},{"$f":"UHPC!$B$28","v":1}]
[24,{"$f":"IF(Field22=\"\", \"\", Field22)","v":""},{"$f":"MID(CELL(\"filename\",UHPC!A27),FIND(\"]\",CELL(\"filename\",UHPC!A27))+1,255)","v":"UHPC"},{"$f":"UHPC!$C$21","v":"Compressive Strength"},{"$f":"UHPC!$C$23","v":"Specimen ID"},{"$f":"UHPC!$D$28","v":14},{"$f":"UHPC!$B$29","v":2}]
[25,{"$f":"IF(Field26=\"\", \"\", Field26)","v":""},{"$f":"MID(CELL(\"filename\",UHPC!A28),FIND(\"]\",CELL(\"filename\",UHPC!A28))+1,255)","v":"UHPC"},{"$f":"UHPC!$C$21","v":"Compressive Strength"},{"$f":"UHPC!$C$23","v":"Specimen ID"},{"$f":"UHPC!$D$28","v":14},{"$f":"UHPC!$B$30","v":3}]
[26,{"$f":"IF(Field19=\"\", \"\", Field19)","v":""},{"$f":"MID(CELL(\"filename\",UHPC!A29),FIND(\"]\",CELL(\"filename\",UHPC!A29))+1,255)","v":"UHPC"},{"$f":"UHPC!$C$21","v":"Compressive Strength"},{"$f":"UHPC!$E$23","v":"Diameter"},{"$f":"UHPC!$D$28","v":14},{"$f":"UHPC!$B$28","v":1}]
[27,{"$f":"IF(Field23=\"\", \"\", Field23)","v":""},{"$f":"MID(CELL(\"filename\",UHPC!A30),FIND(\"]\",CELL(\"filename\",UHPC!A30))+1,255)","v":"UHPC"},{"$f":"UHPC!$C$21","v":"Compressive Strength"},{"$f":"UHPC!$E$23","v":"Diameter"},{"$f":"UHPC!$D$28","v":14},{"$f":"UHPC!$B$29","v":2}]
[28,{"$f":"IF(Field27=\"\", \"\", Field27)","v":""},{"$f":"MID(CELL(\"filename\",UHPC!A31),FIND(\"]\",CELL(\"filename\",UHPC!A31))+1,255)","v":"UHPC"},{"$f":"UHPC!$C$21","v":"Compressive Strength"},{"$f":"UHPC!$E$23","v":"Diameter"},{"$f":"UHPC!$D$28","v":14},{"$f":"UHPC!$B$30","v":3}]
[29,{"$f":"IF(UHPC!F28=\"\", \"\", UHPC!F28)","v":""},{"$f":"MID(CELL(\"filename\",UHPC!A32),FIND(\"]\",CELL(\"filename\",UHPC!A32))+1,255)","v":"UHPC"},{"$f":"UHPC!$C$21","v":"Compressive Strength"},{"$f":"UHPC!$F$23","v":"Area"},{"$f":"UHPC!$D$28","v":14},{"$f":"UHPC!$B$28","v":1}]
[30,{"$f":"IF(UHPC!F29=\"\", \"\", UHPC!F29)","v":""},{"$f":"MID(CELL(\"filename\",UHPC!A33),FIND(\"]\",CELL(\"filename\",UHPC!A33))+1,255)","v":"UHPC"},{"$f":"UHPC!$C$21","v":"Compressive Strength"},{"$f":"UHPC!$F$23","v":"Area"},{"$f":"UHPC!$D$28","v":14},{"$f":"UHPC!$B$29","v":2}]
[31,{"$f":"IF(UHPC!F30=\"\", \"\", UHPC!F30)","v":""},{"$f":"MID(CELL(\"filename\",UHPC!A43),FIND(\"]\",CELL(\"filename\",UHPC!A43))+1,255)","v":"UHPC"},{"$f":"UHPC!$C$21","v":"Compressive Strength"},{"$f":"UHPC!$F$23","v":"Area"},{"$f":"UHPC!$D$28","v":14},{"$f":"UHPC!$B$30","v":3}]
[32,{"$f":"IF(Field20=\"\", \"\", Field20)","v":""},{"$f":"MID(CELL(\"filename\",UHPC!A44),FIND(\"]\",CELL(\"filename\",UHPC!A44))+1,255)","v":"UHPC"},{"$f":"UHPC!$C$21","v":"Compressive Strength"},{"$f":"UHPC!$G$23","v":"Length"},{"$f":"UHPC!$D$28","v":14},{"$f":"UHPC!$B$28","v":1}]
[33,{"$f":"IF(Field24=\"\", \"\", Field24)","v":""},{"$f":"MID(CELL(\"filename\",UHPC!A45),FIND(\"]\",CELL(\"filename\",UHPC!A45))+1,255)","v":"UHPC"},{"$f":"UHPC!$C$21","v":"Compressive Strength"},{"$f":"UHPC!$G$23","v":"Length"},{"$f":"UHPC!$D$28","v":14},{"$f":"UHPC!$B$29","v":2}]
[34,{"$f":"IF(Field28=\"\", \"\", Field28)","v":""},{"$f":"MID(CELL(\"filename\",UHPC!A46),FIND(\"]\",CELL(\"filename\",UHPC!A46))+1,255)","v":"UHPC"},{"$f":"UHPC!$C$21","v":"Compressive Strength"},{"$f":"UHPC!$G$23","v":"Length"},{"$f":"UHPC!$D$28","v":14},{"$f":"UHPC!$B$30","v":3}]
[35,{"$f":"IF(Field21=\"\", \"\", Field21)","v":""},{"$f":"MID(CELL(\"filename\",UHPC!#REF!),FIND(\"]\",CELL(\"filename\",UHPC!#REF!))+1,255)","v":{"$error":"#REF!"}},{"$f":"UHPC!$C$21","v":"Compressive Strength"},{"$f":"UHPC!$H$23","v":"Max Load"},{"$f":"UHPC!$D$28","v":14},{"$f":"UHPC!$B$28","v":1}]
[36,{"$f":"IF(Field25=\"\", \"\", Field25)","v":""},{"$f":"MID(CELL(\"filename\",UHPC!A50),FIND(\"]\",CELL(\"filename\",UHPC!A50))+1,255)","v":"UHPC"},{"$f":"UHPC!$C$21","v":"Compressive Strength"},{"$f":"UHPC!$H$23","v":"Max Load"},{"$f":"UHPC!$D$28","v":14},{"$f":"UHPC!$B$29","v":2}]
[37,{"$f":"IF(Field29=\"\", \"\", Field29)","v":""},{"$f":"MID(CELL(\"filename\",UHPC!A51),FIND(\"]\",CELL(\"filename\",UHPC!A51))+1,255)","v":"UHPC"},{"$f":"UHPC!$C$21","v":"Compressive Strength"},{"$f":"UHPC!$H$23","v":"Max Load"},{"$f":"UHPC!$D$28","v":14},{"$f":"UHPC!$B$30","v":3}]
[38,{"$f":"IF(UHPC!I28=\"\", \"\", UHPC!I28)","v":""},{"$f":"MID(CELL(\"filename\",UHPC!A52),FIND(\"]\",CELL(\"filename\",UHPC!A52))+1,255)","v":"UHPC"},{"$f":"UHPC!$C$21","v":"Compressive Strength"},{"$f":"UHPC!$I$23","v":"Compressive Strength"},{"$f":"UHPC!$D$28","v":14},{"$f":"UHPC!$B$28","v":1}]
[39,{"$f":"IF(UHPC!I29=\"\", \"\", UHPC!I29)","v":""},{"$f":"MID(CELL(\"filename\",UHPC!A53),FIND(\"]\",CELL(\"filename\",UHPC!A53))+1,255)","v":"UHPC"},{"$f":"UHPC!$C$21","v":"Compressive Strength"},{"$f":"UHPC!$I$23","v":"Compressive Strength"},{"$f":"UHPC!$D$28","v":14},{"$f":"UHPC!$B$29","v":2}]
[40,{"$f":"IF(UHPC!I30=\"\", \"\", UHPC!I30)","v":""},{"$f":"MID(CELL(\"filename\",UHPC!A54),FIND(\"]\",CELL(\"filename\",UHPC!A54))+1,255)","v":"UHPC"},{"$f":"UHPC!$C$21","v":"Compressive Strength"},{"$f":"UHPC!$I$23","v":"Compressive Strength"},{"$f":"UHPC!$D$28","v":14},{"$f":"UHPC!$B$30","v":3}]
[41,{"$f":"IF(UHPC!J28=\"\", \"\", UHPC!J28)","v":""},{"$f":"MID(CELL(\"filename\",UHPC!A55),FIND(\"]\",CELL(\"filename\",UHPC!A55))+1,255)","v":"UHPC"},{"$f":"UHPC!$C$21","v":"Compressive Strength"},{"$f":"UHPC!J$23","v":"Average Compressive Strength"},{"$f":"UHPC!$D$28","v":14}]
[42,{"$f":"IF(Field30=\"\", \"\", Field30)","v":""},{"$f":"MID(CELL(\"filename\",UHPC!A56),FIND(\"]\",CELL(\"filename\",UHPC!A56))+1,255)","v":"UHPC"},{"$f":"UHPC!$C$21","v":"Compressive Strength"},{"$f":"UHPC!$C$23","v":"Specimen ID"},{"$f":"UHPC!$D$31","v":28},{"$f":"UHPC!$B$31","v":1}]
[43,{"$f":"IF(Field34=\"\", \"\", Field34)","v":""},{"$f":"MID(CELL(\"filename\",UHPC!A57),FIND(\"]\",CELL(\"filename\",UHPC!A57))+1,255)","v":"UHPC"},{"$f":"UHPC!$C$21","v":"Compressive Strength"},{"$f":"UHPC!$C$23","v":"Specimen ID"},{"$f":"UHPC!$D$31","v":28},{"$f":"UHPC!$B$32","v":2}]
[44,{"$f":"IF(Field38=\"\", \"\", Field38)","v":""},{"$f":"MID(CELL(\"filename\",UHPC!A58),FIND(\"]\",CELL(\"filename\",UHPC!A58))+1,255)","v":"UHPC"},{"$f":"UHPC!$C$21","v":"Compressive Strength"},{"$f":"UHPC!$C$23","v":"Specimen ID"},{"$f":"UHPC!$D$31","v":28},{"$f":"UHPC!$B$33","v":3}]
[45,{"$f":"IF(Field31=\"\", \"\", Field31)","v":""},{"$f":"MID(CELL(\"filename\",UHPC!A59),FIND(\"]\",CELL(\"filename\",UHPC!A59))+1,255)","v":"UHPC"},{"$f":"UHPC!$C$21","v":"Compressive Strength"},{"$f":"UHPC!$E$23","v":"Diameter"},{"$f":"UHPC!$D$31","v":28},{"$f":"UHPC!$B$31","v":1}]
[46,{"$f":"IF(Field35=\"\", \"\", Field35)","v":""},{"$f":"MID(CELL(\"filename\",UHPC!A60),FIND(\"]\",CELL(\"filename\",UHPC!A60))+1,255)","v":"UHPC"},{"$f":"UHPC!$C$21","v":"Compressive Strength"},{"$f":"UHPC!$E$23","v":"Diameter"},{"$f":"UHPC!$D$31","v":28},{"$f":"UHPC!$B$32","v":2}]
[47,{"$f":"IF(Field39=\"\", \"\", Field39)","v":""},{"$f":"MID(CELL(\"filename\",UHPC!A61),FIND(\"]\",CELL(\"filename\",UHPC!A61))+1,255)","v":"UHPC"},{"$f":"UHPC!$C$21","v":"Compressive Strength"},{"$f":"UHPC!$E$23","v":"Diameter"},{"$f":"UHPC!$D$31","v":28},{"$f":"UHPC!$B$33","v":3}]
[48,{"$f":"IF(UHPC!F31=\"\", \"\", UHPC!F31)","v":""},{"$f":"MID(CELL(\"filename\",UHPC!A62),FIND(\"]\",CELL(\"filename\",UHPC!A62))+1,255)","v":"UHPC"},{"$f":"UHPC!$C$21","v":"Compressive Strength"},{"$f":"UHPC!$F$23","v":"Area"},{"$f":"UHPC!$D$31","v":28},{"$f":"UHPC!$B$31","v":1}]
[49,{"$f":"IF(UHPC!F32=\"\", \"\", UHPC!F32)","v":""},{"$f":"MID(CELL(\"filename\",UHPC!A63),FIND(\"]\",CELL(\"filename\",UHPC!A63))+1,255)","v":"UHPC"},{"$f":"UHPC!$C$21","v":"Compressive Strength"},{"$f":"UHPC!$F$23","v":"Area"},{"$f":"UHPC!$D$31","v":28},{"$f":"UHPC!$B$32","v":2}]
[50,{"$f":"IF(UHPC!F33=\"\", \"\", UHPC!F33)","v":""},{"$f":"MID(CELL(\"filename\",UHPC!A64),FIND(\"]\",CELL(\"filename\",UHPC!A64))+1,255)","v":"UHPC"},{"$f":"UHPC!$C$21","v":"Compressive Strength"},{"$f":"UHPC!$F$23","v":"Area"},{"$f":"UHPC!$D$31","v":28},{"$f":"UHPC!$B$33","v":3}]
[51,{"$f":"IF(Field32=\"\", \"\", Field32)","v":""},{"$f":"MID(CELL(\"filename\",UHPC!A65),FIND(\"]\",CELL(\"filename\",UHPC!A65))+1,255)","v":"UHPC"},{"$f":"UHPC!$C$21","v":"Compressive Strength"},{"$f":"UHPC!$G$23","v":"Length"},{"$f":"UHPC!$D$31","v":28},{"$f":"UHPC!$B$31","v":1}]
[52,{"$f":"IF(Field36=\"\", \"\", Field36)","v":""},{"$f":"MID(CELL(\"filename\",UHPC!A66),FIND(\"]\",CELL(\"filename\",UHPC!A66))+1,255)","v":"UHPC"},{"$f":"UHPC!$C$21","v":"Compressive Strength"},{"$f":"UHPC!$G$23","v":"Length"},{"$f":"UHPC!$D$31","v":28},{"$f":"UHPC!$B$32","v":2}]
[53,{"$f":"IF(Field40=\"\", \"\", Field40)","v":""},{"$f":"MID(CELL(\"filename\",UHPC!A67),FIND(\"]\",CELL(\"filename\",UHPC!A67))+1,255)","v":"UHPC"},{"$f":"UHPC!$C$21","v":"Compressive Strength"},{"$f":"UHPC!$G$23","v":"Length"},{"$f":"UHPC!$D$31","v":28},{"$f":"UHPC!$B$33","v":3}]
[54,{"$f":"IF(Field33=\"\", \"\", Field33)","v":""},{"$f":"MID(CELL(\"filename\",UHPC!A68),FIND(\"]\",CELL(\"filename\",UHPC!A68))+1,255)","v":"UHPC"},{"$f":"UHPC!$C$21","v":"Compressive Strength"},{"$f":"UHPC!$H$23","v":"Max Load"},{"$f":"UHPC!$D$31","v":28},{"$f":"UHPC!$B$31","v":1}]
[55,{"$f":"IF(Field37=\"\", \"\", Field37)","v":""},{"$f":"MID(CELL(\"filename\",UHPC!A69),FIND(\"]\",CELL(\"filename\",UHPC!A69))+1,255)","v":"UHPC"},{"$f":"UHPC!$C$21","v":"Compressive Strength"},{"$f":"UHPC!$H$23","v":"Max Load"},{"$f":"UHPC!$D$31","v":28},{"$f":"UHPC!$B$32","v":2}]
[56,{"$f":"IF(Field41=\"\", \"\", Field41)","v":""},{"$f":"MID(CELL(\"filename\",UHPC!A70),FIND(\"]\",CELL(\"filename\",UHPC!A70))+1,255)","v":"UHPC"},{"$f":"UHPC!$C$21","v":"Compressive Strength"},{"$f":"UHPC!$H$23","v":"Max Load"},{"$f":"UHPC!$D$31","v":28},{"$f":"UHPC!$B$33","v":3}]
[57,{"$f":"IF(UHPC!I31=\"\", \"\", UHPC!I31)","v":""},{"$f":"MID(CELL(\"filename\",UHPC!A71),FIND(\"]\",CELL(\"filename\",UHPC!A71))+1,255)","v":"UHPC"},{"$f":"UHPC!$C$21","v":"Compressive Strength"},{"$f":"UHPC!$I$23","v":"Compressive Strength"},{"$f":"UHPC!$D$31","v":28},{"$f":"UHPC!$B$31","v":1}]
[58,{"$f":"IF(UHPC!I32=\"\", \"\", UHPC!I32)","v":""},{"$f":"MID(CELL(\"filename\",UHPC!A72),FIND(\"]\",CELL(\"filename\",UHPC!A72))+1,255)","v":"UHPC"},{"$f":"UHPC!$C$21","v":"Compressive Strength"},{"$f":"UHPC!$I$23","v":"Compressive Strength"},{"$f":"UHPC!$D$31","v":28},{"$f":"UHPC!$B$32","v":2}]
[59,{"$f":"IF(UHPC!I33=\"\", \"\", UHPC!I33)","v":""},{"$f":"MID(CELL(\"filename\",UHPC!A73),FIND(\"]\",CELL(\"filename\",UHPC!A73))+1,255)","v":"UHPC"},{"$f":"UHPC!$C$21","v":"Compressive Strength"},{"$f":"UHPC!$I$23","v":"Compressive Strength"},{"$f":"UHPC!$D$31","v":28},{"$f":"UHPC!$B$33","v":3}]
[60,{"$f":"IF(UHPC!J31=\"\", \"\", UHPC!J31)","v":""},{"$f":"MID(CELL(\"filename\",UHPC!A74),FIND(\"]\",CELL(\"filename\",UHPC!A74))+1,255)","v":"UHPC"},{"$f":"UHPC!$C$21","v":"Compressive Strength"},{"$f":"UHPC!J$23","v":"Average Compressive Strength"},{"$f":"UHPC!$D$31","v":28}]
[61,{"$f":"IF(UHPC!K25=\"\",\"\",UHPC!K25)","v":""},{"$f":"MID(CELL(\"filename\",UHPC!A75),FIND(\"]\",CELL(\"filename\",UHPC!A75))+1,255)","v":"UHPC"},{"$f":"UHPC!$C$21","v":"Compressive Strength"},{"$f":"UHPC!$K$23","v":"Correction Factor"},{"$f":"UHPC!$D$25","v":4},{"$f":"UHPC!B25","v":1}]
[62,{"$f":"IF(UHPC!K26=\"\",\"\",UHPC!K26)","v":""},{"$f":"MID(CELL(\"filename\",UHPC!A76),FIND(\"]\",CELL(\"filename\",UHPC!A76))+1,255)","v":"UHPC"},{"$f":"UHPC!$C$21","v":"Compressive Strength"},{"$f":"UHPC!$K$23","v":"Correction Factor"},{"$f":"UHPC!D25","v":4},{"$f":"UHPC!B26","v":2}]
[63,{"$f":"IF(UHPC!K27=\"\",\"\",UHPC!K27)","v":""},{"$f":"MID(CELL(\"filename\",UHPC!A77),FIND(\"]\",CELL(\"filename\",UHPC!A77))+1,255)","v":"UHPC"},{"$f":"UHPC!$C$21","v":"Compressive Strength"},{"$f":"UHPC!$K$23","v":"Correction Factor"},{"$f":"UHPC!D25","v":4},{"$f":"UHPC!B27","v":3}]
[64,{"$f":"IF(UHPC!L25=\"\",\"\",UHPC!L25)","v":""},{"$f":"MID(CELL(\"filename\",UHPC!A78),FIND(\"]\",CELL(\"filename\",UHPC!A78))+1,255)","v":"UHPC"},{"$f":"UHPC!$C$21","v":"Compressive Strength"},{"$f":"UHPC!$L$23","v":"Corrected Compressive Strength"},{"$f":"UHPC!$D$25","v":4},{"$f":"UHPC!B25","v":1}]
[65,{"$f":"IF(UHPC!L26=\"\",\"\",UHPC!L26)","v":""},{"$f":"MID(CELL(\"filename\",UHPC!A79),FIND(\"]\",CELL(\"filename\",UHPC!A79))+1,255)","v":"UHPC"},{"$f":"UHPC!$C$21","v":"Compressive Strength"},{"$f":"UHPC!$L$23","v":"Corrected Compressive Strength"},{"$f":"UHPC!$D$25","v":4},{"$f":"UHPC!B26","v":2}]
[66,{"$f":"IF(UHPC!L27=\"\",\"\",UHPC!L27)","v":""},{"$f":"MID(CELL(\"filename\",UHPC!A80),FIND(\"]\",CELL(\"filename\",UHPC!A80))+1,255)","v":"UHPC"},{"$f":"UHPC!$C$21","v":"Compressive Strength"},{"$f":"UHPC!$L$23","v":"Corrected Compressive Strength"},{"$f":"UHPC!$D$25","v":4},{"$f":"UHPC!B27","v":3}]
[67,{"$f":"IF(UHPC!M25=\"\",\"\",UHPC!M25)","v":""},{"$f":"MID(CELL(\"filename\",UHPC!A81),FIND(\"]\",CELL(\"filename\",UHPC!A81))+1,255)","v":"UHPC"},{"$f":"UHPC!$C$21","v":"Compressive Strength"},{"$f":"UHPC!$M$23","v":"Corrected Average"},{"$f":"UHPC!$D$25","v":4}]
[68,{"$f":"IF(UHPC!K28=\"\",\"\",UHPC!K28)","v":""},{"$f":"MID(CELL(\"filename\",UHPC!A82),FIND(\"]\",CELL(\"filename\",UHPC!A82))+1,255)","v":"UHPC"},{"$f":"UHPC!$C$21","v":"Compressive Strength"},{"$f":"UHPC!$K$23","v":"Correction Factor"},{"$f":"UHPC!$D$28","v":14},{"$f":"UHPC!B28","v":1}]
[69,{"$f":"IF(UHPC!K29=\"\",\"\",UHPC!K29)","v":""},{"$f":"MID(CELL(\"filename\",UHPC!A83),FIND(\"]\",CELL(\"filename\",UHPC!A83))+1,255)","v":"UHPC"},{"$f":"UHPC!$C$21","v":"Compressive Strength"},{"$f":"UHPC!$K$23","v":"Correction Factor"},{"$f":"UHPC!$D$28","v":14},{"$f":"UHPC!B29","v":2}]
[70,{"$f":"IF(UHPC!K30=\"\",\"\",UHPC!K30)","v":""},{"$f":"MID(CELL(\"filename\",UHPC!A84),FIND(\"]\",CELL(\"filename\",UHPC!A84))+1,255)","v":"UHPC"},{"$f":"UHPC!$C$21","v":"Compressive Strength"},{"$f":"UHPC!$K$23","v":"Correction Factor"},{"$f":"UHPC!$D$28","v":14},{"$f":"UHPC!B30","v":3}]
[71,{"$f":"IF(UHPC!L28=\"\",\"\",UHPC!L28)","v":""},{"$f":"MID(CELL(\"filename\",UHPC!A85),FIND(\"]\",CELL(\"filename\",UHPC!A85))+1,255)","v":"UHPC"},{"$f":"UHPC!$C$21","v":"Compressive Strength"},{"$f":"UHPC!$L$23","v":"Corrected Compressive Strength"},{"$f":"UHPC!$D$28","v":14},{"$f":"UHPC!B28","v":1}]
[72,{"$f":"IF(UHPC!L29=\"\",\"\",UHPC!L29)","v":""},{"$f":"MID(CELL(\"filename\",UHPC!A86),FIND(\"]\",CELL(\"filename\",UHPC!A86))+1,255)","v":"UHPC"},{"$f":"UHPC!$C$21","v":"Compressive Strength"},{"$f":"UHPC!$L$23","v":"Corrected Compressive Strength"},{"$f":"UHPC!$D$28","v":14},{"$f":"UHPC!B29","v":2}]
[73,{"$f":"IF(UHPC!L30=\"\",\"\",UHPC!L30)","v":""},{"$f":"MID(CELL(\"filename\",UHPC!A87),FIND(\"]\",CELL(\"filename\",UHPC!A87))+1,255)","v":"UHPC"},{"$f":"UHPC!$C$21","v":"Compressive Strength"},{"$f":"UHPC!$L$23","v":"Corrected Compressive Strength"},{"$f":"UHPC!$D$28","v":14},{"$f":"UHPC!B30","v":3}]
[74,null,{"$f":"MID(CELL(\"filename\",UHPC!A88),FIND(\"]\",CELL(\"filename\",UHPC!A88))+1,255)","v":"UHPC"},{"$f":"UHPC!$C$21","v":"Compressive Strength"},{"$f":"UHPC!M23","v":"Corrected Average"},{"$f":"UHPC!$D$28","v":14}]
[75,{"$f":"IF(UHPC!K31=\"\",\"\",UHPC!K31)","v":""},{"$f":"MID(CELL(\"filename\",UHPC!A89),FIND(\"]\",CELL(\"filename\",UHPC!A89))+1,255)","v":"UHPC"},{"$f":"UHPC!$C$21","v":"Compressive Strength"},{"$f":"UHPC!$K$23","v":"Correction Factor"},{"$f":"UHPC!$D$31","v":28},{"$f":"UHPC!B31","v":1}]
[76,{"$f":"IF(UHPC!K32=\"\",\"\",UHPC!K32)","v":""},{"$f":"MID(CELL(\"filename\",UHPC!A90),FIND(\"]\",CELL(\"filename\",UHPC!A90))+1,255)","v":"UHPC"},{"$f":"UHPC!$C$21","v":"Compressive Strength"},{"$f":"UHPC!$K$23","v":"Correction Factor"},{"$f":"UHPC!$D$31","v":28},{"$f":"UHPC!B32","v":2}]
[77,{"$f":"IF(UHPC!K33=\"\",\"\",UHPC!K33)","v":""},{"$f":"MID(CELL(\"filename\",UHPC!A91),FIND(\"]\",CELL(\"filename\",UHPC!A91))+1,255)","v":"UHPC"},{"$f":"UHPC!$C$21","v":"Compressive Strength"},{"$f":"UHPC!$K$23","v":"Correction Factor"},{"$f":"UHPC!$D$31","v":28},{"$f":"UHPC!B33","v":3}]
[78,{"$f":"IF(UHPC!L31=\"\",\"\",UHPC!L31)","v":""},{"$f":"MID(CELL(\"filename\",UHPC!A92),FIND(\"]\",CELL(\"filename\",UHPC!A92))+1,255)","v":"UHPC"},{"$f":"UHPC!$C$21","v":"Compressive Strength"},{"$f":"UHPC!$L$23","v":"Corrected Compressive Strength"},{"$f":"UHPC!$D$31","v":28},{"$f":"UHPC!B31","v":1}]
[79,{"$f":"IF(UHPC!L32=\"\",\"\",UHPC!L32)","v":""},{"$f":"MID(CELL(\"filename\",UHPC!A93),FIND(\"]\",CELL(\"filename\",UHPC!A93))+1,255)","v":"UHPC"},{"$f":"UHPC!$C$21","v":"Compressive Strength"},{"$f":"UHPC!$L$23","v":"Corrected Compressive Strength"},{"$f":"UHPC!$D$31","v":28},{"$f":"UHPC!B32","v":2}]
[80,{"$f":"IF(UHPC!L33=\"\",\"\",UHPC!L33)","v":""},{"$f":"MID(CELL(\"filename\",UHPC!A94),FIND(\"]\",CELL(\"filename\",UHPC!A94))+1,255)","v":"UHPC"},{"$f":"UHPC!$C$21","v":"Compressive Strength"},{"$f":"UHPC!$L$23","v":"Corrected Compressive Strength"},{"$f":"UHPC!$D$31","v":28},{"$f":"UHPC!B33","v":3}]
[81,{"$f":"IF(UHPC!M31=\"\",\"\",UHPC!M31)","v":""},{"$f":"MID(CELL(\"filename\",UHPC!A95),FIND(\"]\",CELL(\"filename\",UHPC!A95))+1,255)","v":"UHPC"},{"$f":"UHPC!$C$21","v":"Compressive Strength"},{"$f":"UHPC!M23","v":"Corrected Average"},{"$f":"UHPC!$D$31","v":28}]
[82,{"$f":"IF(UHPC!C34=\"\",\"\",UHPC!C34)","v":""},{"$f":"MID(CELL(\"filename\",UHPC!A87),FIND(\"]\",CELL(\"filename\",UHPC!A87))+1,255)","v":"UHPC"},{"$f":"UHPC!$C$21","v":"Compressive Strength"},{"$f":"UHPC!$C$23","v":"Specimen ID"},{"$f":"UHPC!$D$34","v":0},{"$f":"UHPC!$B$25","v":1}]
[83,{"$f":"IF(UHPC!C35=\"\",\"\",UHPC!C35)","v":""},{"$f":"MID(CELL(\"filename\",UHPC!A88),FIND(\"]\",CELL(\"filename\",UHPC!A88))+1,255)","v":"UHPC"},{"$f":"UHPC!$C$21","v":"Compressive Strength"},{"$f":"UHPC!$C$23","v":"Specimen ID"},{"$f":"UHPC!$D$34","v":0},{"$f":"UHPC!$B$26","v":2}]
[84,{"$f":"IF(UHPC!C36=\"\",\"\",UHPC!C36)","v":""},{"$f":"MID(CELL(\"filename\",UHPC!A89),FIND(\"]\",CELL(\"filename\",UHPC!A89))+1,255)","v":"UHPC"},{"$f":"UHPC!$C$21","v":"Compressive Strength"},{"$f":"UHPC!$C$23","v":"Specimen ID"},{"$f":"UHPC!$D$34","v":0},{"$f":"UHPC!$B$27","v":3}]
[85,{"$f":"IF(UHPC!E34=\"\",\"\",UHPC!E34)","v":""},{"$f":"MID(CELL(\"filename\",UHPC!A90),FIND(\"]\",CELL(\"filename\",UHPC!A90))+1,255)","v":"UHPC"},{"$f":"UHPC!$C$21","v":"Compressive Strength"},{"$f":"UHPC!$E$23","v":"Diameter"},{"$f":"UHPC!$D$34","v":0},{"$f":"UHPC!$B$25","v":1}]
[86,{"$f":"IF(UHPC!E35=\"\",\"\",UHPC!E35)","v":""},{"$f":"MID(CELL(\"filename\",UHPC!A91),FIND(\"]\",CELL(\"filename\",UHPC!A91))+1,255)","v":"UHPC"},{"$f":"UHPC!$C$21","v":"Compressive Strength"},{"$f":"UHPC!$E$23","v":"Diameter"},{"$f":"UHPC!$D$34","v":0},{"$f":"UHPC!$B$26","v":2}]
[87,{"$f":"IF(UHPC!E36=\"\",\"\",UHPC!E36)","v":""},{"$f":"MID(CELL(\"filename\",UHPC!A92),FIND(\"]\",CELL(\"filename\",UHPC!A92))+1,255)","v":"UHPC"},{"$f":"UHPC!$C$21","v":"Compressive Strength"},{"$f":"UHPC!$E$23","v":"Diameter"},{"$f":"UHPC!$D$34","v":0},{"$f":"UHPC!$B$27","v":3}]
[88,{"$f":"IF(UHPC!F34=\"\",\"\",UHPC!F34)","v":""},{"$f":"MID(CELL(\"filename\",UHPC!A93),FIND(\"]\",CELL(\"filename\",UHPC!A93))+1,255)","v":"UHPC"},{"$f":"UHPC!$C$21","v":"Compressive Strength"},{"$f":"UHPC!$F$23","v":"Area"},{"$f":"UHPC!$D$34","v":0},{"$f":"UHPC!$B$25","v":1}]
[89,{"$f":"IF(UHPC!F35=\"\",\"\",UHPC!F35)","v":""},{"$f":"MID(CELL(\"filename\",UHPC!A94),FIND(\"]\",CELL(\"filename\",UHPC!A94))+1,255)","v":"UHPC"},{"$f":"UHPC!$C$21","v":"Compressive Strength"},{"$f":"UHPC!$F$23","v":"Area"},{"$f":"UHPC!$D$34","v":0},{"$f":"UHPC!$B$26","v":2}]
[90,{"$f":"IF(UHPC!F36=\"\",\"\",UHPC!F36)","v":""},{"$f":"MID(CELL(\"filename\",UHPC!A95),FIND(\"]\",CELL(\"filename\",UHPC!A95))+1,255)","v":"UHPC"},{"$f":"UHPC!$C$21","v":"Compressive Strength"},{"$f":"UHPC!$F$23","v":"Area"},{"$f":"UHPC!$D$34","v":0},{"$f":"UHPC!$B$27","v":3}]
[91,{"$f":"IF(UHPC!G34=\"\",\"\",UHPC!G34)","v":""},{"$f":"MID(CELL(\"filename\",UHPC!A96),FIND(\"]\",CELL(\"filename\",UHPC!A96))+1,255)","v":"UHPC"},{"$f":"UHPC!$C$21","v":"Compressive Strength"},{"$f":"UHPC!$G$23","v":"Length"},{"$f":"UHPC!$D$34","v":0},{"$f":"UHPC!$B$25","v":1}]
[92,{"$f":"IF(UHPC!G35=\"\",\"\",UHPC!G35)","v":""},{"$f":"MID(CELL(\"filename\",UHPC!A97),FIND(\"]\",CELL(\"filename\",UHPC!A97))+1,255)","v":"UHPC"},{"$f":"UHPC!$C$21","v":"Compressive Strength"},{"$f":"UHPC!$G$23","v":"Length"},{"$f":"UHPC!$D$34","v":0},{"$f":"UHPC!$B$26","v":2}]
[93,{"$f":"IF(UHPC!G36=\"\",\"\",UHPC!G36)","v":""},{"$f":"MID(CELL(\"filename\",UHPC!A98),FIND(\"]\",CELL(\"filename\",UHPC!A98))+1,255)","v":"UHPC"},{"$f":"UHPC!$C$21","v":"Compressive Strength"},{"$f":"UHPC!$G$23","v":"Length"},{"$f":"UHPC!$D$34","v":0},{"$f":"UHPC!$B$27","v":3}]
[94,{"$f":"IF(UHPC!H34=\"\",\"\",UHPC!H34)","v":""},{"$f":"MID(CELL(\"filename\",UHPC!A99),FIND(\"]\",CELL(\"filename\",UHPC!A99))+1,255)","v":"UHPC"},{"$f":"UHPC!$C$21","v":"Compressive Strength"},{"$f":"UHPC!$H$23","v":"Max Load"},{"$f":"UHPC!$D$34","v":0},{"$f":"UHPC!$B$25","v":1}]
[95,{"$f":"IF(UHPC!H35=\"\",\"\",UHPC!H35)","v":""},{"$f":"MID(CELL(\"filename\",UHPC!A100),FIND(\"]\",CELL(\"filename\",UHPC!A100))+1,255)","v":"UHPC"},{"$f":"UHPC!$C$21","v":"Compressive Strength"},{"$f":"UHPC!$H$23","v":"Max Load"},{"$f":"UHPC!$D$34","v":0},{"$f":"UHPC!$B$26","v":2}]
[96,{"$f":"IF(UHPC!H36=\"\",\"\",UHPC!H36)","v":""},{"$f":"MID(CELL(\"filename\",UHPC!A101),FIND(\"]\",CELL(\"filename\",UHPC!A101))+1,255)","v":"UHPC"},{"$f":"UHPC!$C$21","v":"Compressive Strength"},{"$f":"UHPC!$H$23","v":"Max Load"},{"$f":"UHPC!$D$34","v":0},{"$f":"UHPC!$B$27","v":3}]
[97,{"$f":"IF(UHPC!K34=\"\",\"\",UHPC!K34)","v":""},{"$f":"MID(CELL(\"filename\",UHPC!A102),FIND(\"]\",CELL(\"filename\",UHPC!A102))+1,255)","v":"UHPC"},{"$f":"UHPC!$C$21","v":"Compressive Strength"},{"$f":"UHPC!$K$23","v":"Correction Factor"},{"$f":"UHPC!$D$34","v":0},{"$f":"UHPC!$B$25","v":1}]
[98,{"$f":"IF(UHPC!K35=\"\",\"\",UHPC!K35)","v":""},{"$f":"MID(CELL(\"filename\",UHPC!A103),FIND(\"]\",CELL(\"filename\",UHPC!A103))+1,255)","v":"UHPC"},{"$f":"UHPC!$C$21","v":"Compressive Strength"},{"$f":"UHPC!$K$23","v":"Correction Factor"},{"$f":"UHPC!$D$34","v":0},{"$f":"UHPC!$B$26","v":2}]
[99,{"$f":"IF(UHPC!K36=\"\",\"\",UHPC!K36)","v":""},{"$f":"MID(CELL(\"filename\",UHPC!A104),FIND(\"]\",CELL(\"filename\",UHPC!A104))+1,255)","v":"UHPC"},{"$f":"UHPC!$C$21","v":"Compressive Strength"},{"$f":"UHPC!$K$23","v":"Correction Factor"},{"$f":"UHPC!$D$34","v":0},{"$f":"UHPC!$B$27","v":3}]
[100,{"$f":"IF(UHPC!L34=\"\",\"\",UHPC!L34)","v":""},{"$f":"MID(CELL(\"filename\",UHPC!A105),FIND(\"]\",CELL(\"filename\",UHPC!A105))+1,255)","v":"UHPC"},{"$f":"UHPC!$C$21","v":"Compressive Strength"},{"$f":"UHPC!$L$23","v":"Corrected Compressive Strength"},{"$f":"UHPC!$D$34","v":0},{"$f":"UHPC!$B$25","v":1}]
[101,{"$f":"IF(UHPC!L35=\"\",\"\",UHPC!L35)","v":""},{"$f":"MID(CELL(\"filename\",UHPC!A106),FIND(\"]\",CELL(\"filename\",UHPC!A106))+1,255)","v":"UHPC"},{"$f":"UHPC!$C$21","v":"Compressive Strength"},{"$f":"UHPC!$L$23","v":"Corrected Compressive Strength"},{"$f":"UHPC!$D$34","v":0},{"$f":"UHPC!$B$26","v":2}]
[102,{"$f":"IF(UHPC!L36=\"\",\"\",UHPC!L36)","v":""},{"$f":"MID(CELL(\"filename\",UHPC!A107),FIND(\"]\",CELL(\"filename\",UHPC!A107))+1,255)","v":"UHPC"},{"$f":"UHPC!$C$21","v":"Compressive Strength"},{"$f":"UHPC!$L$23","v":"Corrected Compressive Strength"},{"$f":"UHPC!$D$34","v":0},{"$f":"UHPC!$B$27","v":3}]
[103,{"$f":"IF(UHPC!M34=\"\",\"\",UHPC!M34)","v":""},{"$f":"MID(CELL(\"filename\",UHPC!A105),FIND(\"]\",CELL(\"filename\",UHPC!A105))+1,255)","v":"UHPC"},{"$f":"UHPC!$C$21","v":"Compressive Strength"},{"$f":"UHPC!J$23","v":"Average Compressive Strength"},{"$f":"UHPC!$D$34","v":0}]
[104,{"$f":"IF(UHPC!C37=\"\",\"\",UHPC!C37)","v":""},{"$f":"MID(CELL(\"filename\",UHPC!A112),FIND(\"]\",CELL(\"filename\",UHPC!A112))+1,255)","v":"UHPC"},{"$f":"UHPC!$C$21","v":"Compressive Strength"},{"$f":"UHPC!$C$23","v":"Specimen ID"},{"$f":"UHPC!$D$37","v":0},{"$f":"UHPC!$B$25","v":1}]
[105,{"$f":"IF(UHPC!C38=\"\",\"\",UHPC!C38)","v":""},{"$f":"MID(CELL(\"filename\",UHPC!A113),FIND(\"]\",CELL(\"filename\",UHPC!A113))+1,255)","v":"UHPC"},{"$f":"UHPC!$C$21","v":"Compressive Strength"},{"$f":"UHPC!$C$23","v":"Specimen ID"},{"$f":"UHPC!$D$37","v":0},{"$f":"UHPC!$B$26","v":2}]
[106,{"$f":"IF(UHPC!C39=\"\",\"\",UHPC!C39)","v":""},{"$f":"MID(CELL(\"filename\",UHPC!A114),FIND(\"]\",CELL(\"filename\",UHPC!A114))+1,255)","v":"UHPC"},{"$f":"UHPC!$C$21","v":"Compressive Strength"},{"$f":"UHPC!$C$23","v":"Specimen ID"},{"$f":"UHPC!$D$37","v":0},{"$f":"UHPC!$B$27","v":3}]
[107,{"$f":"IF(UHPC!E37=\"\",\"\",UHPC!E37)","v":""},{"$f":"MID(CELL(\"filename\",UHPC!A115),FIND(\"]\",CELL(\"filename\",UHPC!A115))+1,255)","v":"UHPC"},{"$f":"UHPC!$C$21","v":"Compressive Strength"},{"$f":"UHPC!$E$23","v":"Diameter"},{"$f":"UHPC!$D$37","v":0},{"$f":"UHPC!$B$25","v":1}]
[108,{"$f":"IF(UHPC!E38=\"\",\"\",UHPC!E38)","v":""},{"$f":"MID(CELL(\"filename\",UHPC!A116),FIND(\"]\",CELL(\"filename\",UHPC!A116))+1,255)","v":"UHPC"},{"$f":"UHPC!$C$21","v":"Compressive Strength"},{"$f":"UHPC!$E$23","v":"Diameter"},{"$f":"UHPC!$D$37","v":0},{"$f":"UHPC!$B$26","v":2}]
[109,{"$f":"IF(UHPC!E39=\"\",\"\",UHPC!E39)","v":""},{"$f":"MID(CELL(\"filename\",UHPC!A117),FIND(\"]\",CELL(\"filename\",UHPC!A117))+1,255)","v":"UHPC"},{"$f":"UHPC!$C$21","v":"Compressive Strength"},{"$f":"UHPC!$E$23","v":"Diameter"},{"$f":"UHPC!$D$37","v":0},{"$f":"UHPC!$B$27","v":3}]
[110,{"$f":"IF(UHPC!F37=\"\",\"\",UHPC!F37)","v":""},{"$f":"MID(CELL(\"filename\",UHPC!A118),FIND(\"]\",CELL(\"filename\",UHPC!A118))+1,255)","v":"UHPC"},{"$f":"UHPC!$C$21","v":"Compressive Strength"},{"$f":"UHPC!$F$23","v":"Area"},{"$f":"UHPC!$D$37","v":0},{"$f":"UHPC!$B$25","v":1}]
[111,{"$f":"IF(UHPC!F38=\"\",\"\",UHPC!F38)","v":""},{"$f":"MID(CELL(\"filename\",UHPC!A119),FIND(\"]\",CELL(\"filename\",UHPC!A119))+1,255)","v":"UHPC"},{"$f":"UHPC!$C$21","v":"Compressive Strength"},{"$f":"UHPC!$F$23","v":"Area"},{"$f":"UHPC!$D$37","v":0},{"$f":"UHPC!$B$26","v":2}]
[112,{"$f":"IF(UHPC!F39=\"\",\"\",UHPC!F39)","v":""},{"$f":"MID(CELL(\"filename\",UHPC!A120),FIND(\"]\",CELL(\"filename\",UHPC!A120))+1,255)","v":"UHPC"},{"$f":"UHPC!$C$21","v":"Compressive Strength"},{"$f":"UHPC!$F$23","v":"Area"},{"$f":"UHPC!$D$37","v":0},{"$f":"UHPC!$B$27","v":3}]
[113,{"$f":"IF(UHPC!G37=\"\",\"\",UHPC!G37)","v":""},{"$f":"MID(CELL(\"filename\",UHPC!A121),FIND(\"]\",CELL(\"filename\",UHPC!A121))+1,255)","v":"UHPC"},{"$f":"UHPC!$C$21","v":"Compressive Strength"},{"$f":"UHPC!$G$23","v":"Length"},{"$f":"UHPC!$D$37","v":0},{"$f":"UHPC!$B$25","v":1}]
[114,{"$f":"IF(UHPC!G38=\"\",\"\",UHPC!G38)","v":""},{"$f":"MID(CELL(\"filename\",UHPC!A122),FIND(\"]\",CELL(\"filename\",UHPC!A122))+1,255)","v":"UHPC"},{"$f":"UHPC!$C$21","v":"Compressive Strength"},{"$f":"UHPC!$G$23","v":"Length"},{"$f":"UHPC!$D$37","v":0},{"$f":"UHPC!$B$26","v":2}]
[115,{"$f":"IF(UHPC!G39=\"\",\"\",UHPC!G39)","v":""},{"$f":"MID(CELL(\"filename\",UHPC!A123),FIND(\"]\",CELL(\"filename\",UHPC!A123))+1,255)","v":"UHPC"},{"$f":"UHPC!$C$21","v":"Compressive Strength"},{"$f":"UHPC!$G$23","v":"Length"},{"$f":"UHPC!$D$37","v":0},{"$f":"UHPC!$B$27","v":3}]
[116,{"$f":"IF(UHPC!H37=\"\",\"\",UHPC!H37)","v":""},{"$f":"MID(CELL(\"filename\",UHPC!A124),FIND(\"]\",CELL(\"filename\",UHPC!A124))+1,255)","v":"UHPC"},{"$f":"UHPC!$C$21","v":"Compressive Strength"},{"$f":"UHPC!$H$23","v":"Max Load"},{"$f":"UHPC!$D$37","v":0},{"$f":"UHPC!$B$25","v":1}]
[117,{"$f":"IF(UHPC!H38=\"\",\"\",UHPC!H38)","v":""},{"$f":"MID(CELL(\"filename\",UHPC!A125),FIND(\"]\",CELL(\"filename\",UHPC!A125))+1,255)","v":"UHPC"},{"$f":"UHPC!$C$21","v":"Compressive Strength"},{"$f":"UHPC!$H$23","v":"Max Load"},{"$f":"UHPC!$D$37","v":0},{"$f":"UHPC!$B$26","v":2}]
[118,{"$f":"IF(UHPC!H39=\"\",\"\",UHPC!H39)","v":""},{"$f":"MID(CELL(\"filename\",UHPC!A126),FIND(\"]\",CELL(\"filename\",UHPC!A126))+1,255)","v":"UHPC"},{"$f":"UHPC!$C$21","v":"Compressive Strength"},{"$f":"UHPC!$H$23","v":"Max Load"},{"$f":"UHPC!$D$37","v":0},{"$f":"UHPC!$B$27","v":3}]
[119,{"$f":"IF(UHPC!K37=\"\",\"\",UHPC!K37)","v":""},{"$f":"MID(CELL(\"filename\",UHPC!A127),FIND(\"]\",CELL(\"filename\",UHPC!A127))+1,255)","v":"UHPC"},{"$f":"UHPC!$C$21","v":"Compressive Strength"},{"$f":"UHPC!$K$23","v":"Correction Factor"},{"$f":"UHPC!$D$37","v":0},{"$f":"UHPC!$B$25","v":1}]
[120,{"$f":"IF(UHPC!K38=\"\",\"\",UHPC!K38)","v":""},{"$f":"MID(CELL(\"filename\",UHPC!A128),FIND(\"]\",CELL(\"filename\",UHPC!A128))+1,255)","v":"UHPC"},{"$f":"UHPC!$C$21","v":"Compressive Strength"},{"$f":"UHPC!$K$23","v":"Correction Factor"},{"$f":"UHPC!$D$37","v":0},{"$f":"UHPC!$B$26","v":2}]
[121,{"$f":"IF(UHPC!K39=\"\",\"\",UHPC!K39)","v":""},{"$f":"MID(CELL(\"filename\",UHPC!A129),FIND(\"]\",CELL(\"filename\",UHPC!A129))+1,255)","v":"UHPC"},{"$f":"UHPC!$C$21","v":"Compressive Strength"},{"$f":"UHPC!$K$23","v":"Correction Factor"},{"$f":"UHPC!$D$37","v":0},{"$f":"UHPC!$B$27","v":3}]
[122,{"$f":"IF(UHPC!L37=\"\",\"\",UHPC!L37)","v":""},{"$f":"MID(CELL(\"filename\",UHPC!A130),FIND(\"]\",CELL(\"filename\",UHPC!A130))+1,255)","v":"UHPC"},{"$f":"UHPC!$C$21","v":"Compressive Strength"},{"$f":"UHPC!$L$23","v":"Corrected Compressive Strength"},{"$f":"UHPC!$D$37","v":0},{"$f":"UHPC!$B$25","v":1}]
[123,{"$f":"IF(UHPC!L38=\"\",\"\",UHPC!L38)","v":""},{"$f":"MID(CELL(\"filename\",UHPC!A131),FIND(\"]\",CELL(\"filename\",UHPC!A131))+1,255)","v":"UHPC"},{"$f":"UHPC!$C$21","v":"Compressive Strength"},{"$f":"UHPC!$L$23","v":"Corrected Compressive Strength"},{"$f":"UHPC!$D$37","v":0},{"$f":"UHPC!$B$26","v":2}]
[124,{"$f":"IF(UHPC!L39=\"\",\"\",UHPC!L39)","v":""},{"$f":"MID(CELL(\"filename\",UHPC!A132),FIND(\"]\",CELL(\"filename\",UHPC!A132))+1,255)","v":"UHPC"},{"$f":"UHPC!$C$21","v":"Compressive Strength"},{"$f":"UHPC!$L$23","v":"Corrected Compressive Strength"},{"$f":"UHPC!$D$37","v":0},{"$f":"UHPC!$B$27","v":3}]
[125,{"$f":"IF(UHPC!M37=\"\",\"\",UHPC!M37)","v":""},{"$f":"MID(CELL(\"filename\",UHPC!A130),FIND(\"]\",CELL(\"filename\",UHPC!A130))+1,255)","v":"UHPC"},{"$f":"UHPC!$C$21","v":"Compressive Strength"},{"$f":"UHPC!J$23","v":"Average Compressive Strength"},{"$f":"UHPC!$D$37","v":0}]
[126,{"$f":"IF(UHPC!C40=\"\",\"\",UHPC!C40)","v":""},{"$f":"MID(CELL(\"filename\",UHPC!A134),FIND(\"]\",CELL(\"filename\",UHPC!A134))+1,255)","v":"UHPC"},{"$f":"UHPC!$C$21","v":"Compressive Strength"},{"$f":"UHPC!$C$23","v":"Specimen ID"},{"$f":"UHPC!$D$40","v":0},{"$f":"UHPC!$B$25","v":1}]
[127,{"$f":"IF(UHPC!C41=\"\",\"\",UHPC!C41)","v":""},{"$f":"MID(CELL(\"filename\",UHPC!A135),FIND(\"]\",CELL(\"filename\",UHPC!A135))+1,255)","v":"UHPC"},{"$f":"UHPC!$C$21","v":"Compressive Strength"},{"$f":"UHPC!$C$23","v":"Specimen ID"},{"$f":"UHPC!$D$40","v":0},{"$f":"UHPC!$B$26","v":2}]
[128,{"$f":"IF(UHPC!C42=\"\",\"\",UHPC!C42)","v":""},{"$f":"MID(CELL(\"filename\",UHPC!A136),FIND(\"]\",CELL(\"filename\",UHPC!A136))+1,255)","v":"UHPC"},{"$f":"UHPC!$C$21","v":"Compressive Strength"},{"$f":"UHPC!$C$23","v":"Specimen ID"},{"$f":"UHPC!$D$40","v":0},{"$f":"UHPC!$B$27","v":3}]
[129,{"$f":"IF(UHPC!E40=\"\",\"\",UHPC!E40)","v":""},{"$f":"MID(CELL(\"filename\",UHPC!A137),FIND(\"]\",CELL(\"filename\",UHPC!A137))+1,255)","v":"UHPC"},{"$f":"UHPC!$C$21","v":"Compressive Strength"},{"$f":"UHPC!$E$23","v":"Diameter"},{"$f":"UHPC!$D$40","v":0},{"$f":"UHPC!$B$25","v":1}]
[130,{"$f":"IF(UHPC!E41=\"\",\"\",UHPC!E41)","v":""},{"$f":"MID(CELL(\"filename\",UHPC!A138),FIND(\"]\",CELL(\"filename\",UHPC!A138))+1,255)","v":"UHPC"},{"$f":"UHPC!$C$21","v":"Compressive Strength"},{"$f":"UHPC!$E$23","v":"Diameter"},{"$f":"UHPC!$D$40","v":0},{"$f":"UHPC!$B$26","v":2}]
[131,{"$f":"IF(UHPC!E42=\"\",\"\",UHPC!E42)","v":""},{"$f":"MID(CELL(\"filename\",UHPC!A139),FIND(\"]\",CELL(\"filename\",UHPC!A139))+1,255)","v":"UHPC"},{"$f":"UHPC!$C$21","v":"Compressive Strength"},{"$f":"UHPC!$E$23","v":"Diameter"},{"$f":"UHPC!$D$40","v":0},{"$f":"UHPC!$B$27","v":3}]
[132,{"$f":"IF(UHPC!F40=\"\",\"\",UHPC!F40)","v":""},{"$f":"MID(CELL(\"filename\",UHPC!A140),FIND(\"]\",CELL(\"filename\",UHPC!A140))+1,255)","v":"UHPC"},{"$f":"UHPC!$C$21","v":"Compressive Strength"},{"$f":"UHPC!$F$23","v":"Area"},{"$f":"UHPC!$D$40","v":0},{"$f":"UHPC!$B$25","v":1}]
[133,{"$f":"IF(UHPC!F41=\"\",\"\",UHPC!F41)","v":""},{"$f":"MID(CELL(\"filename\",UHPC!A141),FIND(\"]\",CELL(\"filename\",UHPC!A141))+1,255)","v":"UHPC"},{"$f":"UHPC!$C$21","v":"Compressive Strength"},{"$f":"UHPC!$F$23","v":"Area"},{"$f":"UHPC!$D$40","v":0},{"$f":"UHPC!$B$26","v":2}]
[134,{"$f":"IF(UHPC!F42=\"\",\"\",UHPC!F42)","v":""},{"$f":"MID(CELL(\"filename\",UHPC!A142),FIND(\"]\",CELL(\"filename\",UHPC!A142))+1,255)","v":"UHPC"},{"$f":"UHPC!$C$21","v":"Compressive Strength"},{"$f":"UHPC!$F$23","v":"Area"},{"$f":"UHPC!$D$40","v":0},{"$f":"UHPC!$B$27","v":3}]
[135,{"$f":"IF(UHPC!G40=\"\",\"\",UHPC!G40)","v":""},{"$f":"MID(CELL(\"filename\",UHPC!A143),FIND(\"]\",CELL(\"filename\",UHPC!A143))+1,255)","v":"UHPC"},{"$f":"UHPC!$C$21","v":"Compressive Strength"},{"$f":"UHPC!$G$23","v":"Length"},{"$f":"UHPC!$D$40","v":0},{"$f":"UHPC!$B$25","v":1}]
[136,{"$f":"IF(UHPC!G41=\"\",\"\",UHPC!G41)","v":""},{"$f":"MID(CELL(\"filename\",UHPC!A144),FIND(\"]\",CELL(\"filename\",UHPC!A144))+1,255)","v":"UHPC"},{"$f":"UHPC!$C$21","v":"Compressive Strength"},{"$f":"UHPC!$G$23","v":"Length"},{"$f":"UHPC!$D$40","v":0},{"$f":"UHPC!$B$26","v":2}]
[137,{"$f":"IF(UHPC!G42=\"\",\"\",UHPC!G42)","v":""},{"$f":"MID(CELL(\"filename\",UHPC!A145),FIND(\"]\",CELL(\"filename\",UHPC!A145))+1,255)","v":"UHPC"},{"$f":"UHPC!$C$21","v":"Compressive Strength"},{"$f":"UHPC!$G$23","v":"Length"},{"$f":"UHPC!$D$40","v":0},{"$f":"UHPC!$B$27","v":3}]
[138,{"$f":"IF(UHPC!H40=\"\",\"\",UHPC!H40)","v":""},{"$f":"MID(CELL(\"filename\",UHPC!A146),FIND(\"]\",CELL(\"filename\",UHPC!A146))+1,255)","v":"UHPC"},{"$f":"UHPC!$C$21","v":"Compressive Strength"},{"$f":"UHPC!$H$23","v":"Max Load"},{"$f":"UHPC!$D$40","v":0},{"$f":"UHPC!$B$25","v":1}]
[139,{"$f":"IF(UHPC!H41=\"\",\"\",UHPC!H41)","v":""},{"$f":"MID(CELL(\"filename\",UHPC!A147),FIND(\"]\",CELL(\"filename\",UHPC!A147))+1,255)","v":"UHPC"},{"$f":"UHPC!$C$21","v":"Compressive Strength"},{"$f":"UHPC!$H$23","v":"Max Load"},{"$f":"UHPC!$D$40","v":0},{"$f":"UHPC!$B$26","v":2}]
[140,{"$f":"IF(UHPC!H42=\"\",\"\",UHPC!H42)","v":""},{"$f":"MID(CELL(\"filename\",UHPC!A148),FIND(\"]\",CELL(\"filename\",UHPC!A148))+1,255)","v":"UHPC"},{"$f":"UHPC!$C$21","v":"Compressive Strength"},{"$f":"UHPC!$H$23","v":"Max Load"},{"$f":"UHPC!$D$40","v":0},{"$f":"UHPC!$B$27","v":3}]
[141,{"$f":"IF(UHPC!K40=\"\",\"\",UHPC!K40)","v":""},{"$f":"MID(CELL(\"filename\",UHPC!A149),FIND(\"]\",CELL(\"filename\",UHPC!A149))+1,255)","v":"UHPC"},{"$f":"UHPC!$C$21","v":"Compressive Strength"},{"$f":"UHPC!$K$23","v":"Correction Factor"},{"$f":"UHPC!$D$40","v":0},{"$f":"UHPC!$B$25","v":1}]
[142,{"$f":"IF(UHPC!K41=\"\",\"\",UHPC!K41)","v":""},{"$f":"MID(CELL(\"filename\",UHPC!A150),FIND(\"]\",CELL(\"filename\",UHPC!A150))+1,255)","v":"UHPC"},{"$f":"UHPC!$C$21","v":"Compressive Strength"},{"$f":"UHPC!$K$23","v":"Correction Factor"},{"$f":"UHPC!$D$40","v":0},{"$f":"UHPC!$B$26","v":2}]
[143,{"$f":"IF(UHPC!K42=\"\",\"\",UHPC!K42)","v":""},{"$f":"MID(CELL(\"filename\",UHPC!A151),FIND(\"]\",CELL(\"filename\",UHPC!A151))+1,255)","v":"UHPC"},{"$f":"UHPC!$C$21","v":"Compressive Strength"},{"$f":"UHPC!$K$23","v":"Correction Factor"},{"$f":"UHPC!$D$40","v":0},{"$f":"UHPC!$B$27","v":3}]
[144,{"$f":"IF(UHPC!L40=\"\",\"\",UHPC!L40)","v":""},{"$f":"MID(CELL(\"filename\",UHPC!A152),FIND(\"]\",CELL(\"filename\",UHPC!A152))+1,255)","v":"UHPC"},{"$f":"UHPC!$C$21","v":"Compressive Strength"},{"$f":"UHPC!$L$23","v":"Corrected Compressive Strength"},{"$f":"UHPC!$D$40","v":0},{"$f":"UHPC!$B$25","v":1}]
[145,{"$f":"IF(UHPC!L41=\"\",\"\",UHPC!L41)","v":""},{"$f":"MID(CELL(\"filename\",UHPC!A153),FIND(\"]\",CELL(\"filename\",UHPC!A153))+1,255)","v":"UHPC"},{"$f":"UHPC!$C$21","v":"Compressive Strength"},{"$f":"UHPC!$L$23","v":"Corrected Compressive Strength"},{"$f":"UHPC!$D$40","v":0},{"$f":"UHPC!$B$26","v":2}]
[146,{"$f":"IF(UHPC!L42=\"\",\"\",UHPC!L42)","v":""},{"$f":"MID(CELL(\"filename\",UHPC!A154),FIND(\"]\",CELL(\"filename\",UHPC!A154))+1,255)","v":"UHPC"},{"$f":"UHPC!$C$21","v":"Compressive Strength"},{"$f":"UHPC!$L$23","v":"Corrected Compressive Strength"},{"$f":"UHPC!$D$40","v":0},{"$f":"UHPC!$B$27","v":3}]
[147,{"$f":"IF(UHPC!M40=\"\",\"\",UHPC!M40)","v":""},{"$f":"MID(CELL(\"filename\",UHPC!A152),FIND(\"]\",CELL(\"filename\",UHPC!A152))+1,255)","v":"UHPC"},{"$f":"UHPC!$C$21","v":"Compressive Strength"},{"$f":"UHPC!J$23","v":"Average Compressive Strength"},{"$f":"UHPC!$D$40","v":0}]
[148,{"$f":"IF(Field83=\"\", \"\", Field83)","v":""},{"$f":"MID(CELL(\"filename\",UHPC!A147),FIND(\"]\",CELL(\"filename\",UHPC!A147))+1,255)","v":"UHPC"},{"$f":"UHPC!D48","v":"Sampled By:"},{"$f":"UHPC!C49","v":"ASTMC1856"},null,null,null,null,null,null," "]
[149,{"$f":"IF(Field84=\"\", \"\", Field84)","v":""},{"$f":"MID(CELL(\"filename\",UHPC!A147),FIND(\"]\",CELL(\"filename\",UHPC!A147))+1,255)","v":"UHPC"},{"$f":"UHPC!G48","v":"Sampled Date:"},{"$f":"UHPC!C49","v":"ASTMC1856"}]