{"text_format":"1","workbook":"xlsx","n_sheets":14,"sheets":["Help","Mix Design","Matl Properties","Optimized Gradation","Mix Proportions via ACI 211","Trial Batch Results","Non-Vol. Mixers Tolerances","Vol. Mixers Tolerances","Producer Data","Effects of Air on Yield","2004, Item 421 Info","RX","Revisions","Hidden Tables"],"not_rendered":{"charts":3,"images":1,"macros":1,"external_links":1,"defined_names":945,"comments":5,"pivot_tables":0},"unopened":[],"bounds":{"document_bytes":16777216,"sheet_cells":100000,"rows_first":2000,"rows_last":500,"rows_between":2000,"halvings":0,"cell_chars":16384,"cell_head_chars":4096},"cells_cut":0,"cells_raw":0,"read":"whole","date_system":"1900"}

{"sheet":"Help","index":0,"n_rows":95,"n_cols":4,"rows_kept":95,"cut":false,"hidden":false,"merged":[[8,0,11,0],[8,1,11,11],[20,2,20,11],[42,2,42,11],[31,2,33,11],[40,3,40,11],[45,3,45,11],[49,2,49,11],[53,1,53,11],[50,2,51,11],[7,1,7,11],[19,2,19,11],[38,2,38,11],[39,3,39,11],[18,2,18,11],[34,3,34,8],[35,2,36,11],[37,2,37,11],[21,2,25,11],[26,2,30,11],[2,1,5,11],[12,2,12,11],[13,2,17,11],[80,1,81,11],[69,2,70,11],[73,1,73,11],[48,1,48,11],[54,1,54,11],[52,3,52,8],[77,2,79,11],[57,2,58,11],[41,3,41,11],[43,2,43,11],[55,2,56,11],[46,2,47,11],[44,3,44,11],[88,2,88,11],[82,1,82,11],[74,2,76,11],[93,3,93,11],[94,3,94,11],[89,2,89,11],[90,2,90,11],[91,2,91,11],[92,3,92,11],[59,2,62,11],[63,2,65,11],[66,2,68,11],[87,1,87,11],[71,1,71,11],[72,2,72,11]]}
[]
[null,"  "]
[null,"If you have any questions or comments concerning this program, or would like to obtain an updated version of this program (if it has been updated) contact the Rigid Pavements and Concrete Materials Branch of the Construction Division at 512-506-5856 or you may contact one of the representatives of the SiteManager material management system."]
[]
[]
[]
[]
["*","Requirements: Sheets in this workbook that have a red tab are required. Sheets in this workbook that have an yellow tab may be required depending on the project. Other sheets are optional."]
["*","Getting Started: Begin with the \"Mix Design\" sheet. Here you will select dependent variables such as specification year, class of concrete, nominal maximum aggregate size, water/cement (W/C) ratio, and others. These variables will affect the calculations on other sheets in the workbook."]
[]
[]
[]
[null,"•","Spec Year: Built-in specifications are only applicable to the 2004 Texas Standard Specifications."]
[null,"•","Class of Concrete: Select the correct concrete class for this project. Clicking in the light blue cell, adjacent to the class label, will reveal a small dropdown list. From this list select the class that matches your mix. This class will determine the specifications displayed. If the class of concrete does not have a specification, \"Input at right\" will be displayed. At this point, type a requirement in the light blue cell adjacent to this message. If necessary, consult the \"2004, Item 421 Info \" sheet."]
[]
[]
[]
[]
[null,"•","Nominal Maximum Aggregate Size: Select the nominal maximum aggregate size."]
[null,"•","Slump: Input the initial slump. If necessary, consult the \"2004, Item 421 Info\" sheet."]
[null,"•","Optimized Gradation Design: Select yes or no if this design will utilize Tex-470-A, \"Optimized Aggregate Gradation for Hydraulic Cement Concrete Mix Designs.\""]
[null,"•","Air-Entrained or Non Air-Entrained Concrete: Select if the concrete will be air entrained or non-air entrained by choosing from the dropdown list. Select if mix design is to be used for rigid pavement, by choosing from the dropdown list. Select if air entrainment will be reduced by 1% if compressive strength exceeds 5,000 psi. If non air-entrained, the approximate entrapped air based on ACI 211 Table 6.3.3 will be displayed. If desired, you can input a different entrapped air voids content in the cell below."]
[]
[]
[]
[]
[null,"•","Target Strength: If desired, input an alternate minimum 28-day compressive strength than the concrete class' requirement. (Bear in mind that the larger of the two strengths will be used.) From the inputed data on the \"Producer Data\" sheet, the producer's standard deviation, S, and the number of tests used to estimate S will be displayed. If you have already calculated S, you can input S and the number of tests used to calculate S without having to input data on the \"Producer Data\" sheet."]
[]
[]
[]
[]
[null,"•","Mix Design Option: If applicable, select the mix design option from the dropdown list. If Option 6 or 7 is selected, input the maximum % Na2O equivalent in cement. If Option 8 is selected, input the material % expansion and check if testing laboratory is on approved list:"]
[]
[]
[null,null,null,"ftp://ftp.dot.state.tx.us/pub/txdot-info/cmd/mpl/commlabC1260.pdf"]
[null,"•","W/C or W/CM: If desired, input an alternate W/C or W/CM than the concrete class' requirement. (Bear in mind that the smaller of the two ratios will be used.)"]
[]
[null,null,"For Non-ACI 211 Mix Proptions, input below cells. For ACI 211 Design go to Matl Propterties Tab\n and Mix Proportions via ACI 211 Tab "]
[null,"•","Paste Components:"]
[null,null,null,"Water: Input source, volume, and weight."]
[null,null,null,"Cementitious Materials: Input type/class, source, volume, and weight."]
[null,null,null,"Admixtures: Input type, source, and dosage (fl oz./100 lbs. cement)."]
[null,"•","Other Components: Input source, volume, and weight for fibers and other components."]
[null,"•","Aggregates: Input grade and source for each aggregate."]
[null,null,null,"Non-Optimized Mix Designs: Input volume and weight. "]
[null,null,null,"Optimized Mix Designs: Input percentages of total aggregate volume."]
[null,"•","Weight of Full Truck: If desired, input the capacity of the concrete truck for estimation of the weight of concrete in a full truck."]
[]
["*","Move on to the \"Matl Properties\" sheet. Input the properties in the light blue cells. Some properties are required when using an optimized mix design. All properties are necessary to calculate a concrete mix design via ACI 211."]
[null,"•","Aggregates: Specific gravities of aggregates are required when using an optimized mix design."]
[null,"•","% Solids in Admixtures: Go to the Material Producer List for Chemical Admixtures for Concrete (see below link) to find the % solids for the admixture(s) to be used. The % solids will affect the adjusted weight of water."]
[]
[null,null,null,"ftp://ftp.dot.state.tx.us/pub/txdot-info/cmd/mpl/admixtur.pdf"]
["*","Move on to the \"Optimized Gradation\" sheet. Input the sieve analysis results in the light blue cells. This sheet is required when using an optimized mix design."]
["*","Move on to the \"Mix Proportions via ACI 211\" sheet if using ACI 211 Design. This sheet will calculate a concrete mix design."]
[null,"•","Construction Details: Inputting these details will assist in determining an appropriate nominal maximum aggregate size."]
[]
[null,"•","Nominal Maximum Aggregate Size: Based on the guidelines provided by specification requirements and the construction details, select the nominal maximum aggregate size."]
[]
[null,"•","Water Adjustment: For aggregate shape & texture, optimized aggregate gradation, air entraining admixture, etc, change the water adjustment factor by inputing a percentage for each category based on the guidelines adjacent to each category. A negative number will decrease the water and a positive number will increase the water."]
[]
[]
[]
[null,"•","Coarse Aggregate Factor: If desired, specify a Coarse Aggregate Factor different from the calculated Coarse Aggregate Factor. Note, it only calculates once material properties are entered. The calculation is based on ACI 211 Table 6.3.6."]
[]
[]
[null,"•","Paste Components: Input Water, Cement, Admixtures ( fl oz. per CY), percentage of agggregates. \nEnsure the W/Cm ratio is less than controlling W/Cm ratio."]
[]
[]
[null,"•","Weight of Full Truck: If desired, input the capacity of the concrete truck for estimation of the weight of concrete in a full truck."]
[]
["*","Move on to the \"Trial Batch Results\" sheet. Input the trial batch results for caluculation of target strengths."]
[null,"•","Trial Batch Results: On the \"Trial Batch Results\" sheet, input the trial batch results for calculation of target strengths."]
["*","Move on to Batch Tolerances."]
[null,"•","Non-Volumetric Mixer Tolerances: On the \"Non-Vol. Mixers Tolerances\" sheet, you can enter a batch size, amount of ice to be used (if applicable) and surface moisture contents and the sheet will display the batch weights, volumes, and non-volumetric tolerances as required by Item 421."]
[]
[]
[null,"•","Volumetric Mixer Tolerances: On the \"Vol. Mixers Tolerances\" sheet, you can enter a batch size, amount of ice to be used (if applicable) and surface moisture contents and the sheet will display the batch weights, volumes, and volumetric mixer tolerances as required by Item 421."]
[]
[]
["*","Move on to the \"Producer Data\" sheet. Input the date and compressive strength for each test for calculation of the standard deviation. Note: ACI 318 requires production  data from two separate runs to be calculated individually and then averaged; however, TxDOT allows multiple production run data to be combined for calculation of the standard deviation."]
[]
["*","Move on to the \"Effects of Air on Yield\" sheet. This is an informational sheet only."]
[]
["*","To move from page to page click on the different sheet tabs at the bottom of the page."]
[]
[]
["*","For TxDOT personel: To import a complete HCCMxDes2 template into SiteManager, use the following instructions."]
[null,"•","Logon to SiteManager."]
[null,"•","Create/open the SiteManager Sample ID."]
[null,"•","Open the HCCMxDes2 test."]
[null,"•","With the XiteManager toolbar:"]
[null,null,"•","Select CUSTOM TOOLS."]
[null,null,"•","Select IMPORT."]
[null,null,"•","Browse to the HCCMxDes2 file to import."]

{"sheet":"Mix Design","index":1,"n_rows":116,"n_cols":15,"rows_kept":116,"cut":false,"hidden":false,"merged":[[83,2,83,3],[83,5,83,6],[84,2,84,3],[84,5,84,6],[89,2,89,3],[89,5,89,6],[83,1,89,1],[30,1,30,4],[87,2,87,3],[87,5,87,6],[53,5,53,6],[54,5,54,6],[55,5,55,6],[71,1,73,1],[76,1,82,1],[74,1,75,1],[78,2,78,3],[76,2,76,3],[71,2,71,3],[73,2,73,3],[57,5,57,6],[59,5,59,6],[60,5,60,6],[57,2,57,3],[95,2,95,6],[93,8,93,9],[95,8,95,9],[96,8,96,9],[97,8,97,9],[94,8,94,9],[85,2,85,3],[85,5,85,6],[113,1,113,2],[86,2,86,3],[86,5,86,6],[88,8,88,9],[89,8,89,9],[111,7,111,9],[84,8,84,9],[85,8,85,9],[92,8,92,9],[0,0,0,3],[58,2,58,3],[58,5,58,6],[15,4,15,11],[33,1,33,6],[34,1,34,6],[35,1,35,6],[36,1,36,6],[37,1,37,6],[29,9,29,11],[78,8,78,9],[91,8,91,9],[80,8,80,9],[81,8,81,9],[82,8,82,9],[79,8,79,9],[83,8,83,9],[86,8,86,9],[88,2,88,3],[66,8,66,9],[67,8,67,9],[7,8,7,11],[8,8,8,11],[9,8,9,11],[10,8,10,11],[11,8,11,11],[12,8,12,11],[13,8,13,11],[75,8,75,9],[61,8,61,9],[51,8,51,9],[52,8,52,9],[60,8,60,9],[57,8,57,9],[59,8,59,9],[53,8,53,9],[54,8,54,9],[55,8,55,9],[58,8,58,9],[62,8,62,9],[56,8,56,9],[26,12,27,12],[50,5,50,6],[51,5,51,6],[39,1,39,6],[40,1,40,6],[41,1,41,6],[38,3,38,6],[28,9,28,11],[52,5,52,6],[26,9,27,11],[40,9,40,11],[27,1,27,4],[28,1,28,4],[47,7,48,7],[7,1,7,3],[8,1,8,3],[9,2,9,3],[10,1,10,3],[11,1,11,3],[12,1,12,3],[13,1,13,3],[14,1,14,3],[70,2,70,3],[46,1,46,6],[47,1,48,6],[44,1,44,6],[70,5,70,6],[45,1,45,6],[29,3,29,4],[7,4,7,5],[8,4,8,5],[10,4,10,5],[11,4,11,5],[61,5,61,6],[62,5,62,6],[63,5,63,6],[64,5,64,6],[56,5,56,6],[65,5,65,6],[66,5,66,6],[67,5,67,6],[73,8,73,9],[115,1,115,4],[79,2,79,3],[80,2,80,3],[77,2,77,3],[72,2,72,3],[72,5,72,6],[72,8,72,9],[69,8,69,9],[70,8,70,9],[76,5,76,6],[77,5,77,6],[69,5,69,6],[75,5,75,6],[76,8,76,9],[77,8,77,9],[74,8,74,9],[68,8,68,9],[65,8,65,9],[71,8,71,9],[87,8,87,9],[75,2,75,3],[111,1,111,4],[109,2,109,5],[74,2,74,3],[62,2,62,3],[63,2,63,3],[64,2,64,3],[74,5,74,6],[68,5,68,6],[88,5,88,6],[108,1,108,11],[96,2,96,6],[97,2,97,6],[105,1,106,11],[107,1,107,11],[92,2,92,6],[93,2,93,6],[94,2,94,6],[82,2,82,3],[81,2,81,3],[63,8,63,9],[64,8,64,9],[71,5,71,6],[73,5,73,6],[13,4,13,5],[9,4,9,5],[12,4,12,5],[50,8,50,9],[18,8,18,10],[24,9,24,11],[25,9,25,11],[36,9,36,11],[39,9,39,11],[38,9,38,11],[18,6,18,7],[14,4,14,11],[16,8,16,11],[16,4,16,5],[30,9,30,11],[31,9,31,11],[24,1,24,4],[25,1,25,4],[26,1,26,4],[37,9,37,11],[20,8,20,9],[20,1,20,2],[20,3,20,4],[20,6,20,7],[82,5,82,6],[78,5,78,6],[79,5,79,6],[80,5,80,6],[81,5,81,6],[15,1,15,3],[16,1,16,3],[18,1,18,3],[51,2,51,3],[50,2,50,3],[51,1,70,1],[54,2,54,3],[55,2,55,3],[56,2,56,3],[66,2,66,3],[52,2,52,3],[53,2,53,3],[67,2,67,3],[68,2,68,3],[69,2,69,3],[59,2,59,3],[60,2,60,3],[61,2,61,3],[65,2,65,3]]}
["TxDOT Test Procedures >"]
[null,"TEXAS DEPARTMENT OF TRANSPORTATION",null,null,null,null,null,null,null,null,null,null,null,null,643]
[null,null,null,null,null,null,null,null,null,null,null,null,null,null,7]
[null,null,null,null,null,null,null,null,null,null,null,null,null,null,"HCCMxDes2.xlsm::42072.434317"]
[null,"HYDRAULIC CEMENT CONCRETE MIX DESIGN & CONTROL"]
[null,"Mix Design"]
[null,null,null,null,null,null,null,null,null,null,null,{"$f":"\"File Version: \" & TEXT(MID(sn,SEARCH(\"::\",sn,1)+2,20),\"mm/dd/yy hh:mm:ss\")","v":"File Version: 03/09/15 10:25:25"}]
[null,"SAMPLE ID:",null,null,null,null,null,"SAMPLED DATE:"]
[null,"TEST NUMBER:",null,null,null,null,null,"LETTING DATE:"]
[null,null,"SAMPLE STATUS:",null,null,null,null,"CONTROLLING CSJ:",""]
[null,"COUNTY:",null,null,null,null,null,"SPEC YEAR:"]
[null,"SAMPLED BY:",null,null,null,null,null,"SPEC ITEM:",""]
[null,"SAMPLE LOCATION:",null,null,null,null,null,"SPECIAL PROVISION:"]
[null,"MATERIAL CODE:",null,null,null,null,null,"CLASS:"]
[null,"MATERIAL NAME:"]
[null,"PRODUCER:"]
[null,"AREA ENGINEER:",null,null,null,null,null,"PROJECT MANAGER:"]
[]
[null,"COURSE\\LIFT:",null,null,null,"STATION:",null,null,"DIST. FROM CL:"]
[]
[null,"Plant:",null,null,null,"Design #:",null,null,"Date:"]
[]
[]
[null,"PROJECT SUMMARY",null,null,"See Item 421, Table 5",null,null,null,null,"SELECTING AIR-ENTRAINMENT"]
[null,"Design Strength, Min. 28-day f'c (psi):",null,null,null,{"$f":"IF(ConcreteClass=\"\",\"\",VLOOKUP(ConcreteClass,'Hidden Tables'!A3:E22,2))","v":""},null,{"$f":"IF(G25=\"\",F25,G25)","v":""},null,"Air-Entrained:"]
[null,"Maximum W/C Ratio:",null,null,null,{"$f":"IF(ConcreteClass=\"\",\"\",VLOOKUP(ConcreteClass,'Hidden Tables'!A3:E22,3))","v":""},null,{"$f":"IF(G26=\"\",F26,G26)","v":""},null,"Pavement:"]
[null,"Max. Nominal Aggregate Size (inches):",null,null,null,{"$f":"IF(ConcreteClass=\"\",\"\",VLOOKUP(ConcreteClass,'Hidden Tables'!A3:E22,4))","v":""},null,{"$f":"IF(G27=\"\",F27,G27)","v":""},null,"Reduce air content by 1%, based on strength above 5,000 psi?:"]
[null,"Min. Nominal Aggregate Size (inches):",null,null,null,{"$f":"IF(ConcreteClass=\"\",\"\",VLOOKUP(ConcreteClass,'Hidden Tables'!A3:E22,5))","v":""},null,{"$f":"IF(G28=\"\",F28,G28)","v":""}]
[null,"Nominal Maximum Aggregate Size, (inches):",null,null,null,null,null,null,null,"Specified total air content, %:",null,null,{"$f":"IF(AND(M25=\"\",M26=\"\"),\"\",IF(M25=\"No\",0,IF(AND(M27=\"Yes\",M26=\"Yes\"),3,IF(AND(M27=\"Yes\",M26=\"No\"),4.5,IF(M26=\"Yes\",4,5.5)))))","v":""}]
[null,"See Item 421, Table 8",null,"Initial Slump, (inches):",null,null,null,null,null,"Plan note air content, %:"]
[null,"Optimized Gradation Design:",null,null,null,null,null,null,null,"Approximate entrapped air content, % :",null,null,{"$f":"IF(M25=\"No\",IF(F29=0.375,3,IF(F29=0.5,2.5,IF(F29=0.75,2,IF(F29=1,1.5,IF(F29=1.5,1,0.5))))),0)","v":0}]
[null,null,null,null,null,null,null,null,null,"Entrapped air content different from above, % :"]
[null,"SELECTING TARGET STRENGTH"]
[null,"Min. 28-day compressive strength based on class of concrete f 'c min., (psi): ",null,null,null,null,null,{"$f":"IF(F25=\"Input at right\",IF(G25=\"\",\"\",G25),F25)","v":""}]
[null,"Specified minimum 28-day compressive strength f 'c min., (psi):",null,null,null,null,null,null,null,"SELECTING MIX DESIGN OPTION"]
[null,"Maximum of preceding 2 rows f 'c*, (psi):",null,null,null,null,null,{"$f":"IF(AND(H34=\"\",H35=\"\"),\"\",MAX(H34:H35))","v":""},null,"See Item 421.4.A.6"]
[null,"Producer's standard deviation (index of producer's precision), S (psi):",null,null,null,null,null,null,null,"Mix Design Option:"]
[null,"Producer's standard deviation from inputted data, S (psi):",null,null,null,null,null,{"$f":"IF(ISBLANK(H37),IF('Producer Data'!J50=\"\",\"\",'Producer Data'!J50),H37)","v":""},null,"Max. % NA2O equivalent in cement",null,null,null,null,{"$f":"IF(N(H38)<=300,470,IF(AND(N(H38)>300,N(H38)<=400),620,IF(AND(N(H38)>400,N(H38)<=500),850,IF(AND(N(H38)>500,N(H38)<=600),1120,1390))))","v":470}]
[null,"Producer Data",null,"Number of tests of a concrete mixture used to estimate S:",null,null,null,null,null,"lb. alkali per cu. yd.",null,null,{"$f":"IF(ISERROR((K54*M38)/100),\" \",IF(OR(MixDesOption=6,MixDesOption=7),((K54*M38)/100),\"\"))","v":""},null,{"$f":"IF(version>1,IF(N(H38)<=300,430,IF(AND(N(H38)>300,N(H38)<=400),580,IF(AND(N(H38)>400,N(H38)<=500),760,IF(AND(N(H38)>500,N(H38)<=600),1010,1260)))), IF(N(H38)<=300,470,IF(AND(N(H38)>300,N(H38)<=400),620,IF(AND(N(H38)>400,N(H38)<=500),850,IF(AND(N(H38)>500,N(H38)<=600),1120,1390)))))","v":430}]
[null,"Number of tests from inputted data:",null,null,null,null,null,{"$f":"IF(ISBLANK(H39),IF('Producer Data'!J51=\"\",\"\",'Producer Data'!J51),H39)","v":""},null,"ASTM C 1567 % Expansion:",null,null,null,null,{"$f":"IF(N(H38)<=300,400,IF(AND(N(H38)>300,N(H38)<=400),530,IF(AND(N(H38)>400,N(H38)<=500),670,IF(AND(N(H38)>500,N(H38)<=600),900,1130))))","v":400}]
[null,"Over design amount, A (psi):",null,null,null,null,null,{"$f":"IF(COUNTBLANK(H34:H40)=7,\"\",IF(ConcreteClass=\"CLASS P\",0,IF(N(H40)<15,IF(N(H36)<3000,1000,IF(AND(N(H36)>=3000,N(H36)<=5000),1200,1400)),IF(AND(N(H40)>=15,N(H40)<20),O38,IF(AND(N(H40)>=20,N(H40)<30),O39,O40)))))","v":""},null,"Approved Lab Used?:"]
[null,"Mix design target strength, f 'cr = f'c* + A, f 'cr, (psi):",null,null,null,null,null,{"$f":"IF(ISERROR(H36+H41),\"\",H36+H41)","v":""}]
[]
[null,"SELECTING W/C OR W/CM"]
[null,"Maximum w/c or w/cm based on class of concrete:",null,null,null,null,null,{"$f":"IF(F26=\"Input at right\",G26,F26)","v":""}]
[null,"Specified maximum w/c or w/cm:"]
[null,"Mix Design w/c or w/cm = minimum value from preceding 2 rows:",null,null,null,null,null,{"$f":"IF(AND(H45=\"\",H46=\"\"),\"\",MIN(H45:H46))","v":""}]
[null,"Max. cementitious material content ,lbs/CY:\n(should be 700 lbs/CY unless otherwise specified or approved)"]
[]
[]
[null,null,"Mix Component",null,"Type/Class/\nGrade","Producer/Source",null,"% or Dosage*","Absolute Vol. (ft3)",null,"SSD† Weight (lbs/CY)"]
[null,"Paste","Basic Water Demand:"]
[null,null,"Total Cementitious:",null,null,{"$f":"IF(K53=\"\",\"\",IF(ROUND((N(K52)+N(K69)+N(K70))/N(K53),2)<=N(H47),\"\",CONCATENATE(\"Exceeds Controlling W/Cm! \")))","v":""},null,null,{"$f":"IF(ISBLANK(K52),\"\",IF(OR(ISERROR((K69+K70+K52)/(SUM(K54:K61))),((K69+K70+K52)/(SUM(K54:K61)))=0),\"\",\"W/Cm = \"&ROUND(((K69+K70+K52)/(SUM(K54:K61))),2)))","v":""},null,{"$f":"IF(ISBLANK(K54),\"\",IF(ISERROR(ROUND(SUM(K54:K61),0)),\"\",ROUND(SUM(K54:K61),0)))","v":""}]
[null,null,"Portland Cement:",null,null,null,null,{"$f":"IF(ISBLANK(K54),\"\",ROUND(K54/K53*100,0))","v":""}]
[null,null,"Flyash:",null,null,null,null,{"$f":"IF(ISBLANK(K55),\"\",ROUND(K55/K53*100,0))","v":""}]
[null,null,"GGBF Slag:",null,null,null,null,{"$f":"IF(ISBLANK(K56),\"\",ROUND(K56/K53*100,0))","v":""}]
[null,null,"Silica Fume:",null,null,null,null,{"$f":"IF(ISBLANK(K57),\"\",ROUND(K57/K53*100,0))","v":""}]
[null,null,"UFFA:",null,null,null,null,{"$f":"IF(ISBLANK(K58),\"\",ROUND(K58/K53*100,0))","v":""}]
[null,null,"MFFA:",null,null,null,null,{"$f":"IF(ISBLANK(K59),\"\",ROUND(K59/K53*100,0))","v":""}]
[null,null,"Metakaolin:",null,null,null,null,{"$f":"IF(ISBLANK(K60),\"\",ROUND(K60/K53*100,0))","v":""}]
[null,null,"Other Pozzolan:",null,null,null,null,{"$f":"IF(ISBLANK(K61),\"\",ROUND(K61/K53*100,0))","v":""}]
[null,null,"Air entraining admixture:",null,null,null,null,null,{"$f":"IF(ISBLANK(H62),\"\",IF(ISERROR(ROUND((N(H62)*(N($K$53)/100))*(1.044379*10^-3),2)),\"\",ROUND((N(H62)*(N($K$53)/100))*(1.044379*10^-3),2)))","v":""}]
[null,null,"Set retarder:",null,"B",null,null,null,""]
[null,null,"Accelerator:",null,"C",null,null,null,""]
[null,null,"Water Reducer:",null,"A",null,null,null,""]
[null,null,"High-Range Water Reducer:",null,"F",null,null,null,""]
[null,null,"Water Reducing Retarder:",null,"D",null,null,null,""]
[null,null,"High-Range Water Reducing Retarder:",null,"G",null,null,null,""]
[null,null,"Lithium Nitrate Admixture:",null,null,null,null,null,"",null,null,{"$f":"IF(ISBLANK(H69),\"\", \"Input at Left - Water Contribution (lbs/CY) \")","v":""}]
[null,null,"Corrosion Inhibitor:",null,null,null,null,null,"",null,null,{"$f":"IF(ISBLANK(H70),\"\", \"Input at Left - Water Contribution (lbs/CY) \")","v":""}]
[null,null,"Paste Volume = Total\n(water + cm):",null,null,null,null,null,{"$f":"IF(COUNTBLANK(I54:J70)=17,\"\",I52+SUM(I54:J70))","v":0}]
[null,"Air","Entrapped air:",null,null,null,null,{"$f":"IF(M25=\"Yes\",0,IF(OR(ISBLANK(M32),M32=\"\"),M31,M32))","v":0},{"$f":"IF(H72=\"\",\"\",ROUND((27*(H72/100)),2))","v":0}]
[null,null,"Target Total Air Content:",null,null,null,null,{"$f":"IF(ISBLANK(M29),0,IF(ISBLANK(M30),M29,M30))","v":""},{"$f":"IF(H73=\"\",\"\",ROUND((27*(H73/100)),2))","v":""}]
[null,null,"Air + Paste Volume:",null,null,null,null,null,{"$f":"IF(ISERROR(I71+I72+I73),\"\",I71+I72+I73)","v":""}]
[null,"Other","Fibers:"]
[]
[null,"Non Optimized Aggregates","Total Aggregate Volume:",null,null,null,null,null,{"$f":"IF(ISBLANK(I78),\"\",SUM(I78:I83))","v":""},{"$f":"IF(ISBLANK(J78),\"\",SUM(J78:J83))","v":""},{"$f":"IF(ISBLANK(K78),\"\",SUM(K78:K83))","v":""}]
[null,null,"Coarse Aggregate 1:"]
[null,null,"Coarse Aggregate 2:"]
[null,null,"Intermediate Aggregate 1:"]
[null,null,"Intermediate Aggregate 2:"]
[null,null,"Fine Aggregate 1:"]
[null,null,"Fine Aggregate 2:"]
[null,"Optimized Aggregates","Total Aggregate Volume:",null,null,null,null,{"$f":"IF(ISERROR(SUM(H85:H90)),\"\",SUM(H85:H90))","v":0},{"$f":"IF(I74=\"\",\"\",27-I75-I76-I74)","v":""},null,{"$f":"IF(ISERROR(SUM(K85:K90)),\"\",SUM(K85:K90))","v":0}]
[null,null,"Coarse Aggregate 1:",null,null,null,null,null,{"$f":"IF(OR(ISERROR($I$84*(H85/100)),ISBLANK(H85)),\"\",ROUND($I$84*(H85/100),2))","v":""},null,{"$f":"IF(OR(ISBLANK(H85),ISERROR(I85*62.4*'Matl Properties'!$C$24)),\"\",I85*62.4*'Matl Properties'!$C$24)","v":""}]
[null,null,"Coarse Aggregate 2:",null,null,null,null,null,"",null,{"$f":"IF(OR(ISBLANK(H86),ISERROR(I86*62.4*'Matl Properties'!$C$25)),\"\",I86*62.4*'Matl Properties'!$C$25)","v":""}]
[null,null,"Intermediate Aggregate 1:",null,null,null,null,null,"",null,{"$f":"IF(OR(ISBLANK(H87),ISERROR(I87*62.4*'Matl Properties'!$C$26)),\"\",I87*62.4*'Matl Properties'!$C$26)","v":""}]
[null,null,"Intermediate Aggregate 2:",null,null,null,null,null,"",null,{"$f":"IF(OR(ISBLANK(H88),ISERROR(I88*62.4*'Matl Properties'!$C$27)),\"\",I88*62.4*'Matl Properties'!$C$27)","v":""}]
[null,null,"Fine Aggregate 1:",null,null,null,null,null,"",null,{"$f":"IF(OR(ISBLANK(H89),ISERROR(I89*62.4*'Matl Properties'!$C$28)),\"\",I89*62.4*'Matl Properties'!$C$28)","v":""}]
[null,null,"Fine Aggregate 2:",null,null,null,null,null,"",null,{"$f":"IF(OR(ISBLANK(H90),ISERROR(I90*62.4*'Matl Properties'!$C$29)),\"\",I90*62.4*'Matl Properties'!$C$29)","v":""}]
[]
[null,null,null,null,null,null,null,"CY","Absolute Vol. (ft3)",null,"SSD Weight (lbs/CY)","lbs/ft3"]
[null,null,"Total Weight / CY:",null,null,null,null,null,null,null,{"$f":"IF(F31=\"Yes\",ROUND((N(K52)+N(K53)+N(K69)+N(K70)+SUM(K75:K76)+N(K84)),0),ROUND((N(K52)+N(K53)+N(K69)+N(K70)+SUM(K75:K76)+N(K77)),0))","v":0}]
[null,null,"Size of Truck:"]
[null,null,"Est. Total Weight / Truck:",null,null,null,null,null,null,null,{"$f":"N(K93)*N(H94)","v":0}]
[null,null,"Total Absolute Volume:",null,null,null,null,null,{"$f":"IF(F31=\"Yes\",N(I74)+SUM(I75:J76)+SUM(I85:J90),N(I74)+SUM(I75:J76)+SUM(I78:J83))","v":0}]
[null,null,"Theoretical Weight of Concrete Computed on an Air-Free Basis**:",null,null,null,null,null,null,null,null,{"$f":"IF(ISERROR(N(K93)/(N(I96)-N(I72)-N(I73))),\"\",(ROUND((N(K93)/(N(I96)-N(I72)-N(I73))),1)))","v":""}]
[null,null,"Design Yield (Unit Weight):",null,null,null,null,null,null,null,null,{"$f":"IF(ISERROR(K93/N(I96)),\"\",ROUND((N(K93)/N(I96)),1))","v":""}]
[null,null,"* Dosage (fl oz./100 lbs. cement)"]
[null,null,"† Aggregate weights should be inputed as saturated-surface dry weights."]
[null,null,"◄ Only applicable if non air-entrained concrete."]
[null,null,"▼ Only applicable if air-entrained concrete."]
[null,null,"** See Tex-417-A (ASTM C 138)"]
[]
[null,"Remarks:",null,{"$f":"NOW()","v":"2015-06-23T15:06:35.770"}]
[]
[]
[]
[]
[]
[null,"Test Stamp Code:",null,null,null,"Omit Test:","Completed Date:","Reviewed By:"]
[]
[null,"Locked By:",null,"TxDOT:","District:","Area:"]
[null,"",null,"","",""]
[null,"Authorized By:",null,null,null,"Authorized Date:"]
[null,null,null,null,null,null,{"$f":"IF(OR(AuthorizedDate=\"\",AuthorizedDate>40659),2,1)","v":2}]

{"sheet":"Matl Properties","index":2,"n_rows":46,"n_cols":11,"rows_kept":46,"cut":false,"hidden":false,"merged":[[45,3,45,4],[13,8,13,9],[26,3,26,4],[18,7,18,8],[24,3,24,4],[25,3,25,4],[18,3,18,4],[20,1,20,7],[13,1,13,2],[13,6,13,7],[14,1,14,2],[18,1,18,2],[15,1,15,2],[16,1,16,2],[16,6,16,7],[45,1,45,2],[0,0,0,1],[7,6,7,7],[8,1,8,2],[8,6,8,7],[7,1,7,2],[7,3,7,4],[8,3,8,4],[1,4,1,5],[9,1,9,2],[22,3,22,4],[23,3,23,4],[7,8,7,9],[12,8,12,9],[10,1,10,2],[12,6,12,7],[11,8,11,9],[9,3,9,4],[10,3,10,4],[11,6,11,7],[10,6,10,7],[8,8,8,9],[9,8,9,9],[9,6,9,7],[10,8,10,9],[44,1,44,2],[42,1,42,9],[40,4,40,6],[30,1,30,2],[34,4,34,6],[38,4,38,6],[33,4,33,6],[37,4,37,6],[32,4,32,6],[34,2,35,2],[34,1,35,1],[35,4,35,6],[36,4,36,6],[39,4,39,6],[43,3,43,4],[44,3,44,4],[34,0,39,0],[27,3,27,4],[11,3,11,4],[12,3,12,4],[13,3,13,4],[16,3,16,4],[11,1,11,2],[12,1,12,2],[21,3,21,4],[28,3,28,4]]}
["TxDOT Manuals >",null,null,null,"Tex-402-A","Tex-403-A","Tex-404-A","Tex-409-A"]
[null,"HELP",null,null,"Material Producer List"]
[null,"TEXAS DEPARTMENT OF TRANSPORTATION"]
[]
[null,"HYDRAULIC CEMENT CONCRETE MIX DESIGN & CONTROL"]
[null,"Material Properties"]
[]
[null,"SAMPLE ID",null,{"$f":"IF('Mix Design'!E8=\"\",\"\",'Mix Design'!E8)","v":""},null,null,"SAMPLED DATE:",null,{"$f":"IF('Mix Design'!I8=\"\",\"\",'Mix Design'!I8)","v":""}]
[null,"TEST NUMBER:",null,{"$f":"IF('Mix Design'!E9=\"\",\"\",'Mix Design'!E9)","v":""},null,null,"LETTING DATE:",null,{"$f":"IF('Mix Design'!I9=\"\",\"\",'Mix Design'!I9)","v":""}]
[null,"SAMPLE STATUS:",null,{"$f":"IF('Mix Design'!E10=\"\",\"\",'Mix Design'!E10)","v":""},null,null,"CONTROLLING CSJ:",null,{"$f":"IF('Mix Design'!I10=\"\",\"\",'Mix Design'!I10)","v":""}]
[null,"COUNTY:",null,{"$f":"IF('Mix Design'!E11=\"\",\"\",'Mix Design'!E11)","v":""},null,null,"SPEC YEAR:",null,{"$f":"IF('Mix Design'!I11=\"\",\"\",'Mix Design'!I11)","v":""}]
[null,"SAMPLED BY:",null,{"$f":"IF('Mix Design'!E12=\"\",\"\",'Mix Design'!E12)","v":""},null,null,"SPEC ITEM:",null,{"$f":"IF('Mix Design'!I12=\"\",\"\",'Mix Design'!I12)","v":""}]
[null,"SAMPLE LOCATION:",null,{"$f":"IF('Mix Design'!E13=\"\",\"\",'Mix Design'!E13)","v":""},null,null,"SPECIAL PROVISION:",null,{"$f":"IF('Mix Design'!I13=\"\",\"\",'Mix Design'!I13)","v":""}]
[null,"MATERIAL CODE:",null,{"$f":"IF('Mix Design'!E14=\"\",\"\",'Mix Design'!E14)","v":""},null,null,"CLASS:",null,{"$f":"IF('Mix Design'!I14=\"\",\"\",'Mix Design'!I14)","v":""}]
[null,"MATERIAL NAME:",null,{"$f":"IF('Mix Design'!E15=\"\",\"\",'Mix Design'!E15)","v":""}]
[null,"PRODUCER:",null,{"$f":"IF('Mix Design'!E16=\"\",\"\",'Mix Design'!E16)","v":""}]
[null,"AREA ENGINEER:",null,{"$f":"IF('Mix Design'!E17=\"\",\"\",'Mix Design'!E17)","v":""},null,null,"PROJECT MANAGER:",null,{"$f":"IF('Mix Design'!I17=\"\",\"\",'Mix Design'!I17)","v":""}]
[]
[null,"COURSE\\LIFT:",null,{"$f":"IF('Mix Design'!E19=\"\",\"\",'Mix Design'!E19)","v":""},{"$f":"IF('Mix Design'!E19=\"\",\"\",'Mix Design'!E19)","v":""},"STATION:",{"$f":"IF('Mix Design'!G19=\"\",\"\",'Mix Design'!G19)","v":""},"DIST. FROM CL:",null,{"$f":"IF('Mix Design'!L19=\"\",\"\",'Mix Design'!L19)","v":""}]
[]
[null,"AGGREGATE PROPERTIES (FROM LABORATORY TESTING)",null,null,null,null,null,null,null,null,"`"]
[null,null,"Specific Gravity (SSD)","Rodded Unit Weight (UDRY)",null,"Fineness Modulus (FM)","Absorption (%)","Unit Weight (SSD)"]
[null,"Test Method","Tex-403-A","Tex-404-A",null,"Tex-402-A","Tex-403-A"]
[null,"Coarse Aggregate 1:",null,null,null,null,null,{"$f":"IF(ISBLANK(D24),\" \",ROUND(D24*(1+G24/100),2))","v":" "}]
[null,"Coarse Aggregate 2:",null,null,null,null,null,{"$f":"IF(ISBLANK(D25),\" \",ROUND(D25*(1+G25/100),2))","v":" "}]
[null,"Intermediate Aggregate 1:",null,null,null,null,null,{"$f":"IF(ISBLANK(D26),\" \",ROUND(D26*(1+G26/100),2))","v":" "}]
[null,"Intermediate Aggregate 2:",null,null,null,null,null,{"$f":"IF(ISBLANK(D27),\" \",ROUND(D27*(1+G27/100),2))","v":" "}]
[null,"Fine Aggregate 1:"]
[null,"Fine Aggregate 2:"]
[]
[null,"CEMENTITIOUS MATERIALS",null,null,"CHEMICAL ADMIXTURES"]
[null,null,"Specific Gravity",null,null,null,null,"% Solids"]
[null,"Hydraulic cement ",null,null,"Air entraining admixutre"]
[null,"Fly Ash",null,null,"Set Retarder"]
[null,"Ground Granulated Blast Furnace Slag",null,null,"Accelerator"]
[null,null,null,null,"Water reducer"]
[null,"Silica Fume",null,null,"High-range water reducer"]
[null,"UFFA",null,null,"Water reducing retarder"]
[null,"MFFA",null,null,"High-range water reducing retarder"]
[null,"Metakaolin",null,null,"Lithium nitrate admixture"]
[null,"Other Pozzolan",null,null,"Corrosion inhibitor"]
[]
[null,"OTHER MATERIALS"]
[null,null,null,"Specific Gravity"]
[null,"Fibers"]
[null,{"$f":"IF(ISBLANK('Mix Design'!C76),\"\",'Mix Design'!C76)","v":""}]

{"sheet":"Optimized Gradation","index":3,"n_rows":65,"n_cols":27,"rows_kept":65,"cut":false,"hidden":false,"merged":[[0,1,0,2],[6,1,6,2],[6,6,6,7],[12,3,12,4],[11,1,11,2],[6,3,6,4],[10,3,10,4],[9,3,9,4],[9,6,9,7],[6,8,6,9],[15,1,15,2],[15,6,15,7],[11,3,11,4],[9,8,9,9],[10,1,10,2],[7,3,7,4],[8,8,8,9],[9,1,9,2],[15,3,15,4],[36,1,36,2],[21,14,22,14],[24,14,25,14],[27,14,28,14],[17,1,17,2],[17,3,17,4],[17,7,17,8],[20,21,20,24],[7,1,7,2],[7,6,7,7],[7,8,7,9],[8,1,8,2],[8,6,8,7],[10,6,10,7],[10,8,10,9],[13,1,13,2],[12,1,12,2],[11,8,11,9],[11,6,11,7],[8,3,8,4],[12,6,12,7],[12,8,12,9],[14,1,14,2]]}
[null,"TxDOT Manuals >",null,null,null,"Tex-470-A"]
[null,null,"HELP"]
[]
[null,"HYDRAULIC CEMENT CONCRETE MIX DESIGN & CONTROL"]
[null,"Optimized Gradation"]
[]
[null,"SAMPLE ID",null,{"$f":"IF('Mix Design'!E8=\"\",\"\",'Mix Design'!E8)","v":""},null,null,"SAMPLED DATE:",null,{"$f":"IF('Mix Design'!I8=\"\",\"\",'Mix Design'!I8)","v":""}]
[null,"TEST NUMBER:",null,{"$f":"IF('Mix Design'!E9=\"\",\"\",'Mix Design'!E9)","v":""},null,null,"LETTING DATE:",null,{"$f":"IF('Mix Design'!I9=\"\",\"\",'Mix Design'!I9)","v":""}]
[null,"SAMPLE STATUS:",null,{"$f":"IF('Mix Design'!E10=\"\",\"\",'Mix Design'!E10)","v":""},null,null,"CONTROLLING CSJ:",null,{"$f":"IF('Mix Design'!I10=\"\",\"\",'Mix Design'!I10)","v":""}]
[null,"COUNTY:",null,{"$f":"IF('Mix Design'!E11=\"\",\"\",'Mix Design'!E11)","v":""},null,null,"SPEC YEAR:",null,{"$f":"IF('Mix Design'!I11=\"\",\"\",'Mix Design'!I11)","v":""}]
[null,"SAMPLED BY:",null,{"$f":"IF('Mix Design'!E12=\"\",\"\",'Mix Design'!E12)","v":""},null,null,"SPEC ITEM:",null,{"$f":"IF('Mix Design'!I12=\"\",\"\",'Mix Design'!I12)","v":""}]
[null,"SAMPLE LOCATION:",null,{"$f":"IF('Mix Design'!E13=\"\",\"\",'Mix Design'!E13)","v":""},null,null,"SPECIAL PROVISION:",null,{"$f":"IF('Mix Design'!I13=\"\",\"\",'Mix Design'!I13)","v":""}]
[null,"MATERIAL CODE:",null,{"$f":"IF('Mix Design'!E14=\"\",\"\",'Mix Design'!E14)","v":""},null,null,"CLASS:",null,{"$f":"IF('Mix Design'!I14=\"\",\"\",'Mix Design'!I14)","v":""}]
[null,"MATERIAL NAME:",null,{"$f":"IF('Mix Design'!E15=\"\",\"\",'Mix Design'!E15)","v":""}]
[null,"PRODUCER:",null,{"$f":"IF('Mix Design'!E16=\"\",\"\",'Mix Design'!E16)","v":""}]
[null,"AREA ENGINEER:",null,{"$f":"IF('Mix Design'!E17=\"\",\"\",'Mix Design'!E17)","v":""},null,null,"PROJECT MANAGER:",null,{"$f":"IF('Mix Design'!I17=\"\",\"\",'Mix Design'!I17)","v":""}]
[]
[null,"COURSE\\LIFT:",null,{"$f":"IF('Mix Design'!E19=\"\",\"\",'Mix Design'!E19)","v":""},{"$f":"IF('Mix Design'!E18=\"\",\"\",'Mix Design'!E18)","v":""},"STATION:",{"$f":"IF('Mix Design'!G19=\"\",\"\",'Mix Design'!G19)","v":""},"DIST. FROM CL:",null,{"$f":"IF('Mix Design'!L19=\"\",\"\",'Mix Design'!L19)","v":""}]
[]
[null,"SIEVE ANALYSIS"]
[null,"Sieve Size","Sieve Size (in)","Coarse Agg. 1\n% Passing","Coarse Agg. 2\n% Passing","Intermediate Agg. 1\n% Passing","Intermediate Agg. 2\n% Passing","Fine Agg. 1 % Passing","Fine Agg. 2 % Passing","Combined % Passing","Combined Cumulative % Retained","Combined % Retained",null,"0.45 Sieve Sizes",null,null,null,null,"0.45 Sieve Sizes","% Passing",null,"Coarseness Chart"]
[null,"2 1/2 in",2.5,null,null,null,null,null,null,{"$f":"IF(ISERROR(D22*$D$37+E22*$E$37+F22*$F$37+G22*$G$37+H22*$H$37+I22*$I$37),\"\",D22*$D$37+E22*$E$37+F22*$F$37+G22*$G$37+H22*$H$37+I22*$I$37)","v":0},{"$f":"IF(ISERROR(100-J22),\"\",100-J22)","v":100},{"$f":"K22","v":100},null,{"$f":"C22^0.45","v":1.5103340164972456},"Minimum Density Line",{"$f":"IF(P25=N23,N24,IF(P25=N24,N25,IF(P25=N25,N26,IF(P25=N26,N27,IF(P25=N27,N28)))))","v":false},100,null,1.5103340164972456,100,null,30,34.992000000000004,52,34]
[null,"2 in",2,null,null,null,null,null,null,0,100,{"$f":"IF(ISERROR(K23-K22),\"\",K23-K22)","v":0},null,1.3660402567543954,null,0,0,null,1.5103340164972456,0,null,40,33.206000000000003,52,38,45,32.299999999999997]
[null,"1 1/2 in",1.5,null,null,null,null,null,null,0,100,0,null,1.200165301609877,null,null,null,null,null,null,null,50,31.42,null,null,50,31.42]
[null,"1 in",1,null,null,null,null,null,null,0,100,0,null,1,"Density Line",{"$f":"IF(J23<=90,N22,IF(J24<=90,N23,IF(J25<=90,N24,IF(J26<=90,N25,IF(J27<=90,N26)))))","v":1.5103340164972456},100,null,1.3660402567543954,100,null,60,29.634,68,32,60,29.634]
[null,"3/4 in",0.75,null,null,null,null,null,null,0,100,0,null,0.87857242542864411,null,0,0,null,1.3660402567543954,0,null,70,27.847999999999999,68,36,70,27.847999999999999]
[null,"1/2 in",0.5,null,null,null,null,null,null,0,100,0,null,0.73204284797281272,null,null,null,null,null,null,null,80,26.062000000000001,null,null,75,26.95]
[null,"3/8 in",0.375,null,null,null,null,null,null,0,100,0,null,0.64315266046116626,"Maximum Density Line",{"$f":"IF(P25=N23,N22,IF(P25=N24,N23,IF(P25=N25,N24,IF(P25=N26,N25,IF(P25=N27,N26)))))","v":false},100,null,1.200165301609877,100,null,null,null,52,34]
[null,"No. 4",0.187,null,null,null,null,null,null,0,100,0,null,0.47024991198971094,null,0,0,null,1.200165301609877,0,null,null,null,68,32]
[null,"No. 8",9.2999999999999999E-2,null,null,null,null,null,null,0,100,0,null,0.34341347078021256,null,null,null,null,null,null,null,40,45,null,null,45,44.1]
[null,"No. 16",4.65E-2,null,null,null,null,null,null,0,100,0,null,0.25139337518217508,null,null,null,null,1,100,null,50,43.213999999999999,52,38,50,43.213999999999999]
[null," No. 30",2.4E-2,null,null,null,null,null,null,0,100,0,null,0.18667882504260316,null,null,null,null,1,0,null,60,41.427999999999997,68,36,60,41.427999999999997]
[null,"No. 50",1.2E-2,null,null,null,null,null,null,0,100,0,null,0.13665689874040565,null,null,null,null,null,null,null,70,39.641999999999996,null,null,70,39.641999999999996]
[null,"No. 100",6.0000000000000001E-3,null,null,null,null,null,null,0,100,0,null,0.1000387053490588,null,null,null,null,0.87857242542864411,100,null,80,37.855999999999995,null,null,75,38.75]
[null,"No. 200",3.0000000000000001E-3,null,null,null,null,null,null,0,100,0,null,7.3232618771238059E-2,null,null,null,null,0.87857242542864411,0]
[null,"Pan",0,null,null,null,null,null,null,0,100,0,null,0,null,null,null,null,null,null,null,45,32.25,null,null,45,32.25]
[null,"Percent  of Total Agg.",null,{"$f":"IF(ISERROR('Mix Design'!H85/100),\"\",'Mix Design'!H85/100)","v":0},{"$f":"IF(ISERROR('Mix Design'!H86/100),\"\",'Mix Design'!H86/100)","v":0},{"$f":"IF(ISERROR('Mix Design'!H87/100),\"\",'Mix Design'!H87/100)","v":0},{"$f":"IF(ISERROR('Mix Design'!H88/100),\"\",'Mix Design'!H88/100)","v":0},{"$f":"IF(ISERROR('Mix Design'!H89/100),\"\",'Mix Design'!H89/100)","v":0},{"$f":"IF(ISERROR('Mix Design'!H90/100),\"\",'Mix Design'!H90/100)","v":0},{"$f":"ROUND(SUM(D37:I37),4)","v":0},null,null,null,null,null,null,null,null,0.73204284797281272,100,null,45,44,null,null,45,44]
[null,null,null,null,null,null,null,null,null,null,null,null,null,null,null,null,null,null,0.73204284797281272,0]
[null,null,null,"Workability Factor =",{"$f":"IF(ISERROR(ROUND(J30+(('Mix Design'!K53-564)/94)*2.5,1)),\"\",ROUND(J30+(('Mix Design'!K53-564)/94)*2.5,1))","v":""},null,null,null,null,null,null,null,null,null,null,null,null,null,null,null,null,75,27,null,null,75,27]
[null,null,null,"Coarseness Factor =",{"$f":"IF(ISERROR(K28/K30*100),\"\",K28/K30*100)","v":100},null,null,null,null,null,null,null,null,null,null,null,null,null,0.64315266046116626,100,null,75,38.75,null,null,75,38.75]
[null,null,null,null,null,null,null,null,null,null,null,null,null,null,null,null,null,null,0.64315266046116626,0]
[]
[null,null,null,null,null,null,null,null,null,null,null,null,null,null,null,null,null,null,0.47024991198971094,100]
[null,null,null,null,null,null,null,null,null,null,null,null,null,null,null,null,null,null,0.47024991198971094,0]
[]
[null,null,null,null,null,null,null,null,null,null,null,null,null,null,null,null,null,null,0.34341347078021256,100]
[null,null,null,null,null,null,null,null,null,null,null,null,null,null,null,null,null,null,0.34341347078021256,0]
[]
[null,null,null,null,null,null,null,null,null,null,null,null,null,null,null,null,null,null,0.25139337518217508,100]
[null,null,null,null,null,null,null,null,null,null,null,null,null,null,null,null,null,null,0.25139337518217508,0]
[]
[null,null,null,null,null,null,null,null,null,null,null,null,null,null,null,null,null,null,0.18667882504260316,100]
[null,null,null,null,null,null,null,null,null,null,null,null,null,null,null,null,null,null,0.18667882504260316,0]
[]
[null,null,null,null,null,null,null,null,null,null,null,null,null,null,null,null,null,null,0.13665689874040565,100]
[null,null,null,null,null,null,null,null,null,null,null,null,null,null,null,null,null,null,0.13665689874040565,0]
[]
[null,null,null,null,null,null,null,null,null,null,null,null,null,null,null,null,null,null,0.1000387053490588,100]
[null,null,null,null,null,null,null,null,null,null,null,null,null,null,null,null,null,null,0.1000387053490588,0]
[]
[null,null,null,null,null,null,null,null,null,null,null,null,null,null,null,null,null,null,7.3232618771238059E-2,100]
[null,null,null,null,null,null,null,null,null,null,null,null,null,null,null,null,null,null,7.3232618771238059E-2,0]
[]
[null,null,null,null,null,null,null,null,null,null,null,null,null,null,null,null,null,null,0,100]
[null,null,null,null,null,null,null,null,null,null,null,null,null,null,null,null,null,null,0,0]

{"sheet":"Mix Proportions via ACI 211","index":4,"n_rows":106,"n_cols":13,"rows_kept":106,"cut":false,"hidden":false,"merged":[[36,2,36,5],[36,6,36,7],[37,2,37,5],[37,6,37,7],[47,2,47,7],[38,2,38,5],[38,6,38,7],[42,2,42,5],[42,6,42,7],[39,2,39,5],[39,6,39,7],[40,2,40,5],[40,6,40,7],[52,5,52,6],[52,2,52,3],[50,2,50,3],[51,2,51,3],[43,2,43,7],[41,2,41,5],[41,6,41,7],[48,2,48,7],[46,2,46,9],[53,5,53,8],[79,1,80,1],[83,2,83,3],[84,2,84,3],[85,2,85,3],[82,2,82,3],[79,2,79,3],[80,2,80,3],[83,1,94,1],[89,2,89,3],[88,2,88,3],[76,1,78,1],[56,2,56,3],[57,2,57,3],[58,2,58,3],[59,2,59,3],[60,2,60,3],[63,2,63,3],[68,2,68,3],[76,2,76,3],[77,2,77,3],[75,2,75,3],[90,2,90,3],[86,2,86,3],[13,9,13,10],[18,8,18,9],[15,2,15,4],[15,5,15,10],[16,2,16,4],[16,5,16,6],[16,7,16,8],[16,9,16,10],[50,5,50,6],[20,2,20,9],[21,2,21,7],[22,2,22,7],[23,2,23,7],[25,2,25,9],[29,2,29,7],[26,2,26,7],[27,2,27,7],[28,2,28,7],[30,2,30,7],[32,2,32,7],[34,2,34,9],[44,2,44,7],[35,2,35,5],[35,6,35,7],[7,2,7,4],[9,2,9,4],[11,2,11,4],[12,2,12,4],[14,2,14,4],[70,2,70,3],[56,1,75,1],[78,2,78,3],[71,2,71,3],[72,2,72,3],[73,2,73,3],[74,2,74,3],[10,2,10,4],[18,2,18,4],[13,2,13,4],[66,2,66,3],[67,2,67,3],[69,2,69,3],[61,2,61,3],[62,2,62,3],[64,2,64,3],[65,2,65,3],[55,2,55,3],[31,2,31,7],[7,5,7,6],[7,7,7,8],[7,9,7,10],[8,2,8,4],[8,5,8,6],[8,7,8,8],[8,9,8,10],[0,1,0,2],[53,2,53,3],[9,5,9,6],[12,5,12,6],[14,5,14,10],[9,7,9,8],[9,9,9,10],[10,5,10,6],[10,7,10,8],[10,9,10,10],[11,5,11,6],[11,7,11,8],[11,9,11,10],[12,7,12,8],[12,9,12,10],[13,5,13,6],[13,7,13,8],[87,2,87,3],[102,2,102,7],[103,2,103,7],[100,2,100,7],[91,2,91,3],[92,2,92,3],[93,2,93,3],[99,2,99,7],[98,2,98,7],[94,2,94,3],[101,2,101,7]]}
[null,"TxDOT Manuals >"]
[null,null,"HELP"]
[null,null,"TEXAS DEPARTMENT OF TRANSPORTATION"]
[]
[null,null,"HYDRAULIC CEMENT CONCRETE MIX DESIGN & CONTROL"]
[null,null,"Mix Proportions based on ACI 211.1-91®"]
[]
[null,null,"SAMPLE ID",null,null,{"$f":"IF('Mix Design'!E8=\"\",\"\",'Mix Design'!E8)","v":""},null,"SAMPLED DATE:",null,{"$f":"IF('Mix Design'!I8=\"\",\"\",'Mix Design'!I8)","v":""}]
[null,null,"TEST NUMBER:",null,null,{"$f":"IF('Mix Design'!E9=\"\",\"\",'Mix Design'!E9)","v":""},null,"LETTING DATE:",null,{"$f":"IF('Mix Design'!I9=\"\",\"\",'Mix Design'!I9)","v":""}]
[null,null,"SAMPLE STATUS:",null,null,{"$f":"IF('Mix Design'!E10=\"\",\"\",'Mix Design'!E10)","v":""},null,"CONTROLLING CSJ:",null,{"$f":"IF('Mix Design'!I10=\"\",\"\",'Mix Design'!I10)","v":""}]
[null,null,"COUNTY:",null,null,{"$f":"IF('Mix Design'!E11=\"\",\"\",'Mix Design'!E11)","v":""},null,"SPEC YEAR:",null,{"$f":"IF('Mix Design'!I11=\"\",\"\",'Mix Design'!I11)","v":""}]
[null,null,"SAMPLED BY:",null,null,{"$f":"IF('Mix Design'!E12=\"\",\"\",'Mix Design'!E12)","v":""},null,"SPEC ITEM:",null,{"$f":"IF('Mix Design'!I12=\"\",\"\",'Mix Design'!I12)","v":""}]
[null,null,"SAMPLE LOCATION:",null,null,{"$f":"IF('Mix Design'!E13=\"\",\"\",'Mix Design'!E13)","v":""},null,"SPECIAL PROVISION:",null,{"$f":"IF('Mix Design'!I13=\"\",\"\",'Mix Design'!I13)","v":""}]
[null,null,"MATERIAL CODE:",null,null,{"$f":"IF('Mix Design'!E14=\"\",\"\",'Mix Design'!E14)","v":""},null,"CLASS:",null,{"$f":"IF('Mix Design'!I14=\"\",\"\",'Mix Design'!I14)","v":""}]
[null,null,"MATERIAL NAME:",null,null,{"$f":"IF('Mix Design'!E15=\"\",\"\",'Mix Design'!E15)","v":""}]
[null,null,"PRODUCER:",null,null,{"$f":"IF('Mix Design'!E16=\"\",\"\",'Mix Design'!E16)","v":""}]
[null,null,"AREA ENGINEER:",null,null,{"$f":"IF('Mix Design'!E17=\"\",\"\",'Mix Design'!E17)","v":""},null,"PROJECT MANAGER:",null,{"$f":"IF('Mix Design'!I17=\"\",\"\",'Mix Design'!I17)","v":""}]
[]
[null,null,"COURSE\\LIFT:",null,null,{"$f":"IF('Mix Design'!E19=\"\",\"\",'Mix Design'!E19)","v":""},"STATION:",{"$f":"IF('Mix Design'!G19=\"\",\"\",'Mix Design'!G19)","v":""},"DIST. FROM CL:",null,{"$f":"IF('Mix Design'!L19=\"\",\"\",'Mix Design'!L19)","v":""}]
[]
[null,null,"CONSTRUCTION DETAILS"]
[null,null,"Minimum dim. between formed (or slip-formed) faces, (inches):"]
[null,null,"Minimum pavement/slab/overlay thickness, (inches):"]
[null,null,"Minimum clear spacing between reinforcing bars, (inches):"]
[]
[null,null,"SELECTING NOMINAL MAXIMUM AGGREGATE SIZE"]
[null,null,"1/5 mimimum dimension between formed faces, (inches):",null,null,null,null,null,{"$f":"IF(I22=0,\"\",I22/5)","v":""}]
[null,null,"1/3 minimum slab depth, (inches):",null,null,null,null,null,{"$f":"IF(I23=0,\"\",I23/3)","v":""}]
[null,null,"3/4 minimum clear opening between reinforcing bars, (inches):",null,null,null,null,null,{"$f":"IF(I24=0,\"\",I24*(3/4))","v":""}]
[null,null,"Specified nominal maximum aggregate size based on class of concrete, (inches):",null,null,null,null,null,{"$f":"IF('Mix Design'!F27=\"Input at right\",'Mix Design'!G27,'Mix Design'!F27)","v":""}]
[null,null,"Minimum of all values (preceding 4 rows), (inches):",null,null,null,null,null,{"$f":"IF(AND(I27=0,I28=0,I29=0),IF('Mix Design'!F27=\"\",\"\",IF('Mix Design'!F27=\"Specify\",'Mix Design'!G27,'Mix Design'!F27)),IF(COUNTBLANK(I27:I30)=4,\"\",MIN(I27:I30)))","v":""}]
[null,null,"Selected Nominal Maximum Aggregate Size from Mix Design, (inches):",null,null,null,null,null,{"$f":"IF('Mix Design'!F29=\"\",\"\",'Mix Design'!F29)","v":""}]
[null,null,"Select Nominal Maximum Aggregate Size, (inches):"]
[]
[null,null,"WATER ADJUSTMENT"]
[null,null,"Water Adjustment Factor",null,null,null,"Water Adjustment Effectiveness",null,"Select Adjustment %"]
[null,null,"Aggregate shape & texture",null,null,null,"(-5 to +5%)"]
[null,null,"Optimized aggregate gradation",null,null,null,"(-10 to +10%)"]
[null,null,"Air entraining admixture",null,null,null,"(-10 to 0%)"]
[null,null,"Normal range water reducing admixture",null,null,null,"(-10 to -5%)"]
[null,null,"High-range water reducer (HRWR)",null,null,null,"(-30 to -12%)"]
[null,null,"Mineral admixtures, fly ash to silica fume",null,null,null,"(-10 to +15%)"]
[null,null,"Other factors: w/c, cement fineness, temperature",null,null,null,"(-10 to +10%)"]
[null,null,"Cumulative adjustment percentage:, %",null,null,null,null,null,{"$f":"IF(COUNTBLANK(I37:I43)=7,\"\",SUM(I37:I43))","v":""}]
[null,null,"Water Adjustment Factor:",null,null,null,null,null,{"$f":"1+(N(I44)/100)","v":1}]
[]
[null,null,"SELECTING COARSE AGGREGATE FACTOR"]
[null,null,"Calculated Coarse Aggregate Factor, CAF (based on inputted material properties):",null,null,null,null,null,{"$f":"IF(E92=\"\",\"\",IF(E92=2.4,IF(E51<1,-0.4503*E51^2+0.9383*E51+0.2191,-0.02*E51^2+0.13*E51+0.6),IF(E51<1,(-0.4503*E51^2+0.9383*E51+0.2191-((E92-2.4)*10)*0.01),(-0.02*E51^2+0.13*E51+0.6-((E92-2.4)*10)*0.01))))","v":""}]
[null,null,"Specified Coarse Aggregate Factor, CAF:"]
[]
[null,null,"Nom. Max. Agg. Size, (inches):",null,{"$f":"IF(I33=\"\",'Mix Design'!F29,I33)","v":0},"Slump, (inches):",null,{"$f":"IF('Mix Design'!F30=\"\",\"\",'Mix Design'!F30)","v":""}]
[null,null,"Mix design target strength, (psi):",null,{"$f":"'Mix Design'!H42","v":""},null,"Air Entrained?:",{"$f":"IF('Mix Design'!M25=\"Yes\",\"Yes\",\"No\")","v":"No"}]
[null,null,"Basic Water Demand, lb/CY:",null,{"$f":"IF('Mix Design'!M25=\"Yes\", IF(E51=0.375,290.58*H51^0.1228,IF(E51=0.5,282.95*H51^0.1072,IF(E51=0.75,268.66*H51^0.1016,IF(E51=1,260.45*H51^0.0948,IF(E51=1.5,240.52*H51^0.1019, IF(E51=2,230.56*H51^0.1058,\" \")))))),IF(E51=0.375,335.34*H51^0.1082,IF(E51=0.5,322.79*H51^0.0952,IF(E51=0.75,303.52*H51^0.091,IF(E51=1,290.36*H51^0.0859,IF(E51=1.5,265.43*H51^0.0932, IF(E51=2,250.48*H51^0.0982,\" \")))))))","v":" "},"Controlling w/c or w/cm:",null,{"$f":"'Mix Design'!H47","v":""}]
[null,null,"Water Adjustment Factor:",null,{"$f":"N(I45)","v":1},"Use calculated weights for tolerance sheets?"]
[]
[null,null,"Mix Component",null,"lbs/CY","% of Total Cement","fl oz./CY","Specific Gravity","Density, lbs/ft3","Approx. Sacks","Absolute Vol. (ft3)","Weight (lbs/CY)"]
[null,"Paste","Specified Water",null,null,null,null,1,62.4,null,{"$f":"IF(AND(L57=\"\",I57=\"\"),\"\",IF(ISERROR(ROUND((N(L57)/N(I57)),2)),\"\",ROUND((N(L57)/N(I57)),2)))","v":0},{"$f":"E57","v":0}]
[null,null,"Total Cementitious",null,null,{"$f":"SUM(F59:F66)","v":0},{"$f":"IF(E58=\"\",\"\",IF(ROUND((N(L57)+N(L74)+N(L75))/N(E58),2)<=N(H53),\"\",CONCATENATE(\"Exceeds Controlling W/Cm! \")))","v":""},null,{"$f":"IF(E58=\"\",\"\",IF((E58)<='Mix Design'!H48,\"\",CONCATENATE(\"Cementitious content exceeds max! \")))","v":""}]
[null,null,"Portland Cement",null,null,null,{"$f":"IF(ISBLANK(E58),\"\",\"W/Cm = \"&ROUND((N(L57)+N(L74)+N(L75))/(E58),2))","v":""},{"$f":"IF('Matl Properties'!$C33=\"\",\"\",'Matl Properties'!$C33)","v":""},{"$f":"IF(H59=\"\",\"\",62.4*H59)","v":""},{"$f":"IF(L59=\"\",\"\",L59/94)","v":""},{"$f":"IF(AND(L59=\"\",I59=\"\"),\"\",IF(ISERROR(ROUND((N(L59)/N(I59)),2)),\"\",ROUND((N(L59)/N(I59)),2)))","v":""},{"$f":"IF(F59=\"\",\"\",ROUND((N($E$58)*(F59/100)),0))","v":""}]
[null,null,"Flyash",null,null,null,null,{"$f":"IF('Matl Properties'!$C34=\"\",\"\",'Matl Properties'!$C34)","v":""},"",{"$f":"IF(L60=\"\",\"\",L60/94)","v":""},{"$f":"IF(AND(L60=\"\",I60=\"\"),\"\",ROUND((N(L60)/N(I60)),2))","v":""},""]
[null,null,"GGBF Slag",null,null,null,null,{"$f":"IF('Matl Properties'!$C35=\"\",\"\",'Matl Properties'!$C35)","v":""},"",null,"",""]
[null,null,"Silica Fume",null,null,null,null,{"$f":"IF('Matl Properties'!$C37=\"\",\"\",'Matl Properties'!$C37)","v":""},"",null,"",""]
[null,null,"UFFA",null,null,null,null,{"$f":"IF('Matl Properties'!$C38=\"\",\"\",'Matl Properties'!$C38)","v":""},"",null,"",""]
[null,null,"MFFA",null,null,null,null,{"$f":"IF('Matl Properties'!$C39=\"\",\"\",'Matl Properties'!$C39)","v":""},"",null,"",""]
[null,null,"Metakaolin",null,null,null,null,{"$f":"IF('Matl Properties'!$C40=\"\",\"\",'Matl Properties'!$C40)","v":""},"",null,"",""]
[null,null,"Other Pozzolan",null,null,null,null,{"$f":"IF('Matl Properties'!$C41=\"\",\"\",'Matl Properties'!$C41)","v":""},"",null,"",""]
[null,null,"Air entraining admixture:",null,null,null,null,null,null,null,{"$f":"IF(G67=\"\",\"\",ROUND(G67*(1.044379*10^-3),2))","v":""}]
[null,null,"Set retarder",null,null,null,null,null,null,null,""]
[null,null,"Accelerator",null,null,null,null,null,null,null,""]
[null,null,"Water Reducer",null,null,null,null,null,null,null,""]
[null,null,"High-Range Water Reducer",null,null,null,null,null,null,null,""]
[null,null,"Water Reducing Retarder",null,null,null,null,null,null,null,""]
[null,null,"Hi-Range Water Reducing Retarder",null,null,null,null,null,null,null,""]
[null,null,"Lithium Nitrate Admixture",null,null,null,null,null,null,null,"",{"$f":"IF(ISBLANK(G74),\" \",K74*62.4*(1-'Matl Properties'!H40/100))","v":" "},{"$f":"IF(ISBLANK(G74),\"\", \"Water Contribution (lbs/CY) \")","v":""}]
[null,null,"Corrosion Inhibitor",null,null,null,null,null,null,null,"",{"$f":"IF(ISBLANK(G75),\"\",K75*62.4*(1-'Matl Properties'!H41/100))","v":""},{"$f":"IF(ISBLANK(G75),\"\", \"Water Contribution (lbs/CY) \")","v":""}]
[null,null,"Paste Volume=Total (water + cm)",null,null,null,null,null,null,null,{"$f":"IF(COUNTBLANK(K57:K75)=18,\"\",SUM(K57:K75))","v":""}]
[null,"Air","Approximate Entrapped Air*:",null,null,{"$f":"'Mix Design'!H72","v":0},null,null,null,null,{"$f":"ROUND((27*(F77/100)),2)","v":0}]
[null,null,"Target Total Air Content**:",null,null,{"$f":"'Mix Design'!H73","v":""},null,null,null,null,{"$f":"IF(ISERROR(ROUND((27*(F78/100)),2)),\"\",ROUND((27*(F78/100)),2))","v":""}]
[null,null,"Air + Paste Volume:",null,null,null,null,null,null,null,{"$f":"IF(ISERROR(SUM(K76,K77,K78)),\"\",SUM(K76,K77,K78))","v":0}]
[null,"Other","Fibers:",null,null,null,null,{"$f":"IF('Matl Properties'!D45=\"\",\"\",'Matl Properties'!D45)","v":""},null,null,{"$f":"IF(H80=\"\",\"\",ROUND((L80/(62.4*H80)),2))","v":""}]
[null,null,{"$f":"IF(ISBLANK('Mix Design'!C76:D76),\"\",'Mix Design'!C76:D76)","v":""},null,null,null,null,{"$f":"IF('Matl Properties'!D46=\"\",\"\",'Matl Properties'!D46)","v":""},null,null,{"$f":"IF(H81=\"\",\"\",ROUND((L81/(62.4*H81)),2))","v":""}]
[]
[null,null,"Mix Component",null,null,"%","Sp. Gr. SSD","Unit Weight, SSD, lbs/ft3","Bulk Vol. = CAF x 27, ft3",null,"Absolute Vol. (ft3)","SSD Weight (lbs/CY)"]
[null,"Aggregate","Total Aggregate Volume, ft3:",null,null,null,null,null,null,null,{"$f":"27-N(K79)-N(K80)-N(K81)","v":27}]
[null,null,"Coarse Aggregate Factor (CAF): ",null,{"$f":"IF(ISERROR(IF(ISBLANK(I49),ROUND(I48,2),I49)),\"\",IF(ISBLANK(I49),ROUND(I48,2),I49))","v":""}]
[null,null,"Coarse Aggregate 1:",null,null,null,{"$f":"IF('Matl Properties'!C24=\"\",\"\",'Matl Properties'!C24)","v":""},{"$f":"IF('Matl Properties'!H24=\"\",\"\",'Matl Properties'!H24)","v":" "},{"$f":"IF(F86=\"\",\"\",N($E$85)*27)","v":""},null,{"$f":"IF(F86=\"\",\"\",IF(ISERROR(ROUND(((N(L86)/(N(G86)*62.4))),2)),\"\",ROUND(((N(L86)/(N(G86)*62.4))),2)))","v":""},{"$f":"IF(F86=\"\",\"\",ROUND(((N(F86)/100)*(N(I86)*N(H86))),0))","v":""}]
[null,null,"Coarse Aggregate 2:",null,null,null,{"$f":"IF('Matl Properties'!C25=\"\",\"\",'Matl Properties'!C25)","v":""},{"$f":"IF('Matl Properties'!H25=\"\",\"\",'Matl Properties'!H25)","v":" "},{"$f":"IF(F87=\"\",\"\",N($E$85)*27)","v":""},null,{"$f":"IF(F87=\"\",\"\",IF(ISERROR(ROUND(((N(L87)/(N(G87)*62.4))),2)),\"\",ROUND(((N(L87)/(N(G87)*62.4))),2)))","v":""},{"$f":"IF(F87=\"\",\"\",ROUND(((N(F87)/100)*(N(I87)*N(H87))),0))","v":""}]
[null,null,"Intermediate Aggregate 1:",null,null,null,{"$f":"IF('Matl Properties'!C26=\"\",\"\",'Matl Properties'!C26)","v":""},{"$f":"IF('Matl Properties'!H26=\"\",\"\",'Matl Properties'!H26)","v":" "},{"$f":"IF(F88=\"\",\"\",N($E$85)*27)","v":""},null,{"$f":"IF(F88=\"\",\"\",IF(ISERROR(ROUND(((N(L88)/(N(G88)*62.4))),2)),\"\",ROUND(((N(L88)/(N(G88)*62.4))),2)))","v":""},{"$f":"IF(F88=\"\",\"\",ROUND(((N(F88)/100)*(N(I88)*N(H88))),0))","v":""}]
[null,null,"Intermediate Aggregate 2:",null,null,null,{"$f":"IF('Matl Properties'!C27=\"\",\"\",'Matl Properties'!C27)","v":""},{"$f":"IF('Matl Properties'!H27=\"\",\"\",'Matl Properties'!H27)","v":" "},{"$f":"IF(F89=\"\",\"\",N($E$85)*27)","v":""},null,{"$f":"IF(F89=\"\",\"\",IF(ISERROR(ROUND(((N(L89)/(N(G89)*62.4))),2)),\"\",ROUND(((N(L89)/(N(G89)*62.4))),2)))","v":""},{"$f":"IF(F89=\"\",\"\",ROUND(((N(F89)/100)*(N(I89)*N(H89))),0))","v":""}]
[null,null,"Total Coarse & Intemediate Agg.",null,null,{"$f":"SUM(F86:F89)","v":0}]
[null,null,"Mix vol. subtotal:",null,null,null,null,null,null,null,{"$f":"SUM(K79:K81)+SUM(K86:K89)","v":0}]
[null,null,"Weighted Average FM:",null,{"$f":"IF(ISBLANK('Matl Properties'!F28),\"\",IF(F93=100,'Matl Properties'!F28,SUMPRODUCT('Matl Properties'!F28:F29,F93:F94)/SUM(F93:F94)))","v":""}]
[null,null,"Fine Aggregate 1",null,null,null,{"$f":"IF('Matl Properties'!C28=\"\",\"\",'Matl Properties'!C28)","v":""},null,null,null,{"$f":"IF(F93=\"\",\"\",ROUND(((27-N(K91))*(N(F93)/100)),2))","v":""},{"$f":"IF(F93=\"\",\"\",ROUND(((N(G93)*62.4)*N(K93)),0))","v":""}]
[null,null,"Fine Aggregate 2",null,null,null,{"$f":"IF('Matl Properties'!C29=\"\",\"\",'Matl Properties'!C29)","v":""},null,null,null,{"$f":"IF(F94=\"\",\"\",ROUND(((27-N(K91))*(N(F94)/100)),2))","v":""},{"$f":"IF(F94=\"\",\"\",ROUND(((N(G94)*62.4)*N(K94)),0))","v":""}]
[null,null,"Total Fine Aggregate",null,null,{"$f":"SUM(F93:F94)","v":0}]
[]
[]
[null,null,null,null,null,null,null,null,"CY","Absolute Vol. (ft3)","SSD Weight (lbs/CY)","lbs/ft3"]
[null,null,"Total Weight:",null,null,null,null,null,null,null,{"$f":"ROUND((N(L57)+N(L74)+N(L75)+SUM(L59:L66)+SUM(L80:L81)+SUM(L86:L89)+SUM(L93:L94)),0)","v":0}]
[null,null,"Size of Truck, CY:"]
[null,null,"Est. Total Weight / Truck  :",null,null,null,null,null,null,null,{"$f":"IF(ISERROR(K99*I100),\"\",K99*I100)","v":0}]
[null,null,"Total Absolute Volume:",null,null,null,null,null,null,{"$f":"IF(ISERROR(SUM(K79:K81)+SUM(K86:K89)+SUM(K93:K94)),\"\",SUM(K79:K81)+SUM(K86:K89)+SUM(K93:K94))","v":0}]
[null,null,"Theoretical Weight of Concrete Computed on an Air-Free Basis (see Tex-417-A):",null,null,null,null,null,null,null,null,{"$f":"IF(ISERROR(ROUND((K99/(J102-K77-K78)),1)),\"\",ROUND((K99/(J102-K77-K78)),1))","v":""}]
[null,null,"Design Yield (Unit Weight):",null,null,null,null,null,null,null,null,{"$f":"IF(ISERROR(ROUND((K99/27),1)),\"\",ROUND((K99/27),1))","v":0}]
[null,null,"* Only applicable for non-air-entrained concrete"]
[null,null,"** Only applicable for air-entrained concrete"]

{"sheet":"Trial Batch Results","index":5,"n_rows":95,"n_cols":12,"rows_kept":95,"cut":false,"hidden":false,"merged":[[45,11,47,11],[48,11,50,11],[51,11,53,11],[13,6,13,7],[13,8,13,9],[15,2,15,3],[15,4,15,9],[14,2,14,3],[14,4,14,9],[18,2,18,3],[18,7,18,8],[16,2,16,3],[16,4,16,5],[16,6,16,7],[16,8,16,9],[26,3,26,4],[40,4,41,4],[39,5,41,5],[39,7,41,7],[39,10,41,10],[20,3,20,4],[22,3,22,4],[32,2,32,4],[23,3,23,4],[39,2,41,2],[39,3,41,3],[92,3,92,5],[24,3,24,4],[35,2,35,11],[26,7,26,10],[28,4,28,5],[38,2,38,11],[31,7,31,9],[29,7,29,9],[29,2,29,4],[30,2,30,4],[31,2,31,4],[54,1,56,8],[54,9,54,10],[42,3,44,3],[45,3,47,3],[48,3,50,3],[51,3,53,3],[56,9,56,10],[55,9,55,10],[39,11,41,11],[42,11,44,11],[79,2,80,10],[0,1,0,2],[8,4,8,5],[11,4,11,5],[13,4,13,5],[7,2,7,3],[7,4,7,5],[8,2,8,3],[9,2,9,3],[9,4,9,5],[10,2,10,3],[10,4,10,5],[13,2,13,3],[11,2,11,3],[12,2,12,3],[12,4,12,5],[7,6,7,7],[7,8,7,9],[39,6,41,6],[39,8,41,8],[39,9,41,9],[8,6,8,7],[8,8,8,9],[9,6,9,7],[9,8,9,9],[28,7,28,10],[32,7,32,9],[21,7,21,8],[23,7,23,8],[24,7,24,8],[30,7,30,9],[22,7,22,8],[10,6,10,7],[10,8,10,9],[11,6,11,7],[11,8,11,9],[12,6,12,7],[12,8,12,9],[94,3,94,5],[70,10,71,10],[90,3,90,5],[82,3,82,5],[84,3,84,5],[86,3,86,5],[88,3,88,5],[66,1,67,1],[81,3,81,5],[74,10,75,10],[72,10,73,10],[74,3,75,3],[66,2,67,2],[66,5,67,5],[68,3,69,3],[70,3,71,3],[72,3,73,3],[91,1,92,1],[64,2,64,10],[68,10,69,10],[66,3,67,3],[66,8,67,8],[66,6,67,6],[65,2,65,10],[66,10,67,10],[66,4,67,4],[66,9,67,9]]}
[null,"TxDOT Manuals >",null,null,"Tex-414-A","Tex-415-A","Tex-416-A","Tex-417-A","Tex-418-A","Tex-422-A","Tex-447-A","Tex-448-A"]
[null,null,"HELP"]
[null,null,"TEXAS DEPARTMENT OF TRANSPORTATION",null,null,null,null,null,null,null,null,16]
[null,null,null,null,null,null,null,null,null,null,null,1]
[null,null,"HYDRAULIC CEMENT CONCRETE MIX DESIGN & CONTROL",null,null,null,null,null,null,null,null,"Tx417.xls::38117.490382"]
[null,null,"Trial Batch Results"]
[]
[null,null,"SAMPLE ID",null,{"$f":"IF('Mix Design'!E8=\"\",\"\",'Mix Design'!E8)","v":""},null,"SAMPLED DATE:",null,{"$f":"IF('Mix Design'!I8=\"\",\"\",'Mix Design'!I8)","v":""}]
[null,null,"TEST NUMBER:",null,{"$f":"IF('Mix Design'!E9=\"\",\"\",'Mix Design'!E9)","v":""},null,"LETTING DATE:",null,{"$f":"IF('Mix Design'!I9=\"\",\"\",'Mix Design'!I9)","v":""}]
[null,null,"SAMPLE STATUS:",null,{"$f":"IF('Mix Design'!E10=\"\",\"\",'Mix Design'!E10)","v":""},null,"CONTROLLING CSJ:",null,{"$f":"IF('Mix Design'!I10=\"\",\"\",'Mix Design'!I10)","v":""}]
[null,null,"COUNTY:",null,{"$f":"IF('Mix Design'!E11=\"\",\"\",'Mix Design'!E11)","v":""},null,"SPEC YEAR:",null,{"$f":"IF('Mix Design'!I11=\"\",\"\",'Mix Design'!I11)","v":""}]
[null,null,"SAMPLED BY:",null,{"$f":"IF('Mix Design'!E12=\"\",\"\",'Mix Design'!E12)","v":""},null,"SPEC ITEM:",null,{"$f":"IF('Mix Design'!I12=\"\",\"\",'Mix Design'!I12)","v":""}]
[null,null,"SAMPLE LOCATION:",null,{"$f":"IF('Mix Design'!E13=\"\",\"\",'Mix Design'!E13)","v":""},null,"SPECIAL PROVISION:",null,{"$f":"IF('Mix Design'!I13=\"\",\"\",'Mix Design'!I13)","v":""}]
[null,null,"MATERIAL CODE:",null,{"$f":"IF('Mix Design'!E14=\"\",\"\",'Mix Design'!E14)","v":""},null,"CLASS:",null,{"$f":"IF('Mix Design'!I14=\"\",\"\",'Mix Design'!I14)","v":""}]
[null,null,"MATERIAL NAME:",null,{"$f":"IF('Mix Design'!E15=\"\",\"\",'Mix Design'!E15)","v":""}]
[null,null,"PRODUCER:",null,{"$f":"IF('Mix Design'!E16=\"\",\"\",'Mix Design'!E16)","v":""}]
[null,null,"AREA ENGINEER:",null,{"$f":"IF('Mix Design'!E17=\"\",\"\",'Mix Design'!E17)","v":""},null,"PROJECT MANAGER:",null,{"$f":"IF('Mix Design'!I17=\"\",\"\",'Mix Design'!I17)","v":""}]
[]
[null,null,"COURSE\\LIFT:",null,{"$f":"IF('Mix Design'!E19=\"\",\"\",'Mix Design'!E19)","v":""},"STATION:",{"$f":"IF('Mix Design'!G19=\"\",\"\",'Mix Design'!G19)","v":""},"DIST. FROM CL:",null,{"$f":"IF('Mix Design'!L19=\"\",\"\",'Mix Design'!L19)","v":""}]
[]
[null,null,null,"SLUMP"]
[null,null,null,"Design Slump:",{"$f":"IF(ISBLANK('Mix Design'!F30),\"\",CONCATENATE('Mix Design'!F30,\" inches\"))","v":""},null,null,"TEMPERATURE"]
[null,null,null,"Tex-415-A (ASTM C 143)",null,null,null,"Tex-422-A (ASTM C 1064)"]
[null,null,null,"Slump ",null,null,null,"Temperature "]
[]
[]
[null,null,null,"AIR CONTENT",null,null,null,"UNIT WEIGHT"]
[null,null,null,"Design Air:",{"$f":"IF(ISBLANK('Mix Design'!H73),CONCATENATE('Mix Proportions via ACI 211'!F78,\"%\"),CONCATENATE('Mix Design'!H73,\"%\"))","v":"%"},null,null,null,"Design Unit Weight:",{"$f":"IF('Mix Design'!L98=0,CONCATENATE('Mix Proportions via ACI 211'!L104,\" lb/ft³\"),CONCATENATE('Mix Design'!L98,\" lb/ft³\"))","v":" lb/ft³"}]
[null,null,null,"Test Method:",null,null,null,"Tex-417-A (ASTM C 138)"]
[null,null,{"$f":"IF(AirMethod=\"Tex 414-A (ASTM C 173)\",\"Water Level Reading, %:\",\"Uncorrected Air Content, %:\")","v":"Uncorrected Air Content, %:"},null,null,null,null,"Mass of bucket, lbs:"]
[null,null,{"$f":"IF(AirMethod=\"Tex 414-A (ASTM C 173)\",\"*Calibrated Cups of Water, Cups:\",\"Aggr. Correction Factor, %:\")","v":"Aggr. Correction Factor, %:"},null,null,null,null,"Volume of bucket, ft³:"]
[null,null,{"$f":"IF(AirMethod=\"Tex 414-A (ASTM C 173)\",\"Amt. of Isopropyl Alcohol, Pints:\",\"\")","v":""},null,null,null,null,"Mass of bucket (filled with) concrete, lbs:"]
[null,null,{"$f":"IF(AirMethod=\"Tex 414-A (ASTM C 173)\",\"Air Content, %:\",\"Corrected Air Content, %:\")","v":"Corrected Air Content, %:"},null,null,{"$f":"IF(ISERROR(IF(AirMethod=\"Tex 414-A (ASTM C 173)\",ROUND(((F30+F31-VLOOKUP(ROUND(F32,0),AirCorrectionFactor,4))/25),2)*25,ROUND(F30-F31,1))),\"\",IF(AirMethod=\"Tex 414-A (ASTM C 173)\",ROUND(((F30+F31-VLOOKUP(ROUND(F32,0),AirCorrectionFactor,4))/25),2)*25,ROUND(F30-F31,1)))","v":0},null,"Density (Unit weight ) of concrete lb/ft³:",null,null,{"$f":"IF(ISERROR((K32-K30)/K31),\"\",(K32-K30)/K31)","v":""}]
[null,null,{"$f":"IF(AirMethod=\"Tex 414-A (ASTM C 173)\",\"* Only necessary if the air content is greater than the 9% range of the meter.\",\"\")","v":""}]
[]
[null,null,"COMPRESSIVE STRENGTH"]
[null,null,null,null,null,null,"Min. 28-Day Design Strength:",{"$f":"IF(ISBLANK('Mix Design'!H36),\"\",CONCATENATE('Mix Design'!H36,\" psi\"))","v":" psi"}]
[null,null,null,null,null,null,"Min. 28-Day Target Strength (based on over-design requirements):",{"$f":"IF(ISBLANK('Mix Design'!H42),\"\",CONCATENATE('Mix Design'!H42,\" psi\"))","v":" psi"},"`"]
[null,null,"Test Method Tex-418-A (ASTM C 39)"]
[null,null,"Cylinder Number","Age",null,"Length of Cylinder  (inches)","Length to Diameter Ratio","Max Load (lbs.)","Failure Type","Correction Factor","Compressive Strength  (psi)","Average Compressive Strength (psi)"]
[null,null,null,null," of Cylinder "]
[]
[null,1,null,null,null,null,{"$f":"IF(ISERROR(IF(CircumDiameter1=\"circumference\",$F43/(SQRT($E43/PI())*2),($F43/$E43))),\"\",IF(CircumDiameter1=\"circumference\",$F43/(SQRT($E43/PI())*2),($F43/$E43)))","v":""},null,null,{"$f":"IF(G43=\"\",\"\",IF(G43<1,\"CHK SIZES\",IF(G43<2.1,1,VLOOKUP(G43,CorrectionFactor,2))))","v":""},{"$f":"IF(G43=\"\",\"\",ROUND(J43*IF(CircumDiameter1=\"Circumference\",(H43/((E43*E43)/12.566)),(H43/(0.7854*E43*E43))),-1))","v":""},{"$f":"IF(ISERROR(IF(ISBLANK(H45),ROUND(AVERAGE(K43:K44),-1),ROUND(AVERAGE(K43:K45),-1))),\"\",IF(ISBLANK(H45),ROUND(AVERAGE(K43:K44),-1),ROUND(AVERAGE(K43:K45),-1)))","v":""}]
[null,2,null,null,null,null,"",null,null,"",""]
[null,3,null,null,null,null,"",null,null,{"$f":"IF(G45=\"\",\"\",IF(G45<1,\"CHK SIZES\",IF(G45<2.1,1,VLOOKUP(G45,CorrectionFactor,2))))","v":""},{"$f":"IF(G45=\"\",\"\",ROUND(J45*IF(CircumDiameter1=\"Circumference\",(H45/((E45*E45)/12.566)),(H45/(0.7854*E45*E45))),-1))","v":""}]
[null,4,null,null,null,null,"",null,null,"","",{"$f":"IF(ISERROR(IF(ISBLANK(H48),ROUND(AVERAGE(K46:K47),-1),ROUND(AVERAGE(K46:K48),-1))),\"\",IF(ISBLANK(H48),ROUND(AVERAGE(K46:K47),-1),ROUND(AVERAGE(K46:K48),-1)))","v":""}]
[null,5,null,null,null,null,"",null,null,"",""]
[null,6,null,null,null,null,"",null,null,{"$f":"IF(G48=\"\",\"\",IF(G48<1,\"CHK SIZES\",IF(G48<2.1,1,VLOOKUP(G48,CorrectionFactor,2))))","v":""},{"$f":"IF(G48=\"\",\"\",ROUND(J48*IF(CircumDiameter1=\"Circumference\",(H48/((E48*E48)/12.566)),(H48/(0.7854*E48*E48))),-1))","v":""}]
[null,7,null,"7-Day",null,null,"",null,null,"","",{"$f":"IF(ISERROR(IF(ISBLANK(H51),ROUND(AVERAGE(K49:K50),-1),ROUND(AVERAGE(K49:K51),-1))),\"\",IF(ISBLANK(H51),ROUND(AVERAGE(K49:K50),-1),ROUND(AVERAGE(K49:K51),-1)))","v":""}]
[null,8,null,null,null,null,"",null,null,"",""]
[null,9,null,null,null,null,"",null,null,{"$f":"IF(G51=\"\",\"\",IF(G51<1,\"CHK SIZES\",IF(G51<2.1,1,VLOOKUP(G51,CorrectionFactor,2))))","v":""},{"$f":"IF(G51=\"\",\"\",ROUND(J51*IF(CircumDiameter1=\"Circumference\",(H51/((E51*E51)/12.566)),(H51/(0.7854*E51*E51))),-1))","v":""}]
[null,10,null,"28-Day",null,null,"",null,null,"","",{"$f":"IF(ISERROR(IF(ISBLANK(H54),ROUND(AVERAGE(K52:K53),-1),ROUND(AVERAGE(K52:K54),-1))),\"\",IF(ISBLANK(H54),ROUND(AVERAGE(K52:K53),-1),ROUND(AVERAGE(K52:K54),-1)))","v":""}]
[null,11,null,null,null,null,"",null,null,"",""]
[null,12,null,null,null,null,{"$f":"IF(ISERROR(IF(CircumDiameter1=\"circumference\",$F54/(SQRT($E54/PI())*2),($F54/$E54))),\"\",IF(CircumDiameter1=\"circumference\",$F54/(SQRT($E54/PI())*2),($F54/$E54)))","v":""},null,null,{"$f":"IF(G54=\"\",\"\",IF(G54<1,\"CHK SIZES\",IF(G54<2.1,1,VLOOKUP(G54,CorrectionFactor,2))))","v":""},{"$f":"IF(G54=\"\",\"\",ROUND(J54*IF(CircumDiameter1=\"Circumference\",(H54/((E54*E54)/12.566)),(H54/(0.7854*E54*E54))),-1))","v":""}]
[null,"Note: Item 421 only requires one set of design strength specimens, consisting of two specimens per set, at 7-day, 28-day, and at least one additional age. Additional age and additional specimen per age are optional.",null,null,null,null,null,null,null,{"$f":"CONCATENATE(D43,\" Target Value:\")","v":" Target Value:"},null,{"$f":"IF(ISERROR(IF(G43=\"\",\"\",ROUND('Mix Design'!$H$36*(AVERAGE(L43)/AVERAGE($L$52)),-1))),\"\",IF(G43=\"\",\"\",ROUND('Mix Design'!$H$36*(AVERAGE(L43)/AVERAGE($L$52)),-1)))","v":""}]
[null,null,null,null,null,null,null,null,null,{"$f":"CONCATENATE(D46,\" Target Value:\")","v":" Target Value:"},null,{"$f":"IF(ISERROR(IF(G46=\"\",\"\",ROUND('Mix Design'!$H$36*(AVERAGE(L46)/AVERAGE($L$52)),-1))),\"\",IF(G46=\"\",\"\",ROUND('Mix Design'!$H$36*(AVERAGE(L46)/AVERAGE($L$52)),-1)))","v":""}]
[null,null,null,null,null,null,null,null,null,"7-Day Target Value:",null,{"$f":"IF(ISERROR(IF(G49=\"\",\"\",ROUND('Mix Design'!$H$36*(AVERAGE(L49)/AVERAGE($L$52)),-1))),\"\",IF(G49=\"\",\"\",ROUND('Mix Design'!$H$36*(AVERAGE(L49)/AVERAGE($L$52)),-1)))","v":""}]
[]
[]
[]
[]
[]
[]
[]
[null,null,"FLEXURAL STRENGTH"]
[null,null,"Tex-448-A"]
[null,null,"Beam Number","Age (Days)","Width of Beam (inches)","Depth of Beam (inches)","Span Length (inches)","Max Recording","*Failure Location (inches)","Modulus of Rupture (psi)","Average Modulus of Rupture (psi)"]
[]
[null,1,null,null,null,null,{"$f":"IF(E69=\"\",\"\",18)","v":""},null,null,{"$f":"IF(ISERROR(IF(I69>(G69*0.05),\"RETEST\",IF(BeamMaxRec=\"(lbs)\",IF(I69=0,((H69*G69)/(E69*F69^2)),(3*H69*I69)/(E69*F69^2)),IF(I69=0,(((H69*6^3/G69)*G69)/(E69*F69^2)),(3*(H69*6^3/G69)*(G69/3-I69))/(E69*F69^2))))),\"\",IF(I69>(G69*0.05),\"RETEST\",IF(BeamMaxRec=\"(lbs)\",IF(I69=0,((H69*G69)/(E69*F69^2)),(3*H69*I69)/(E69*F69^2)),IF(I69=0,(((H69*6^3/G69)*G69)/(E69*F69^2)),(3*(H69*6^3/G69)*(G69/3-I69))/(E69*F69^2)))))","v":""},{"$f":"IF(ISERROR(ROUND(AVERAGE(J69:J70)*2,-1)/2),\"\",ROUND(AVERAGE(J69:J70)*2,-1)/2)","v":""}]
[null,2,null,null,null,null,"",null,null,""]
[null,3,null,null,null,null,"",null,null,"",{"$f":"IF(ISERROR(ROUND(AVERAGE(J71:J72)*2,-1)/2),\"\",ROUND(AVERAGE(J71:J72)*2,-1)/2)","v":""}]
[null,4,null,null,null,null,"",null,null,""]
[null,5,null,"7-Day",null,null,"",null,null,"",{"$f":"IF(ISERROR(ROUND(AVERAGE(J73:J74)*2,-1)/2),\"\",ROUND(AVERAGE(J73:J74)*2,-1)/2)","v":""}]
[null,6,null,null,null,null,"",null,null,""]
[null,7,null,"28-Day",null,null,"",null,null,"",{"$f":"IF(ISERROR(ROUND(AVERAGE(J75:J76)*2,-1)/2),\"\",ROUND(AVERAGE(J75:J76)*2,-1)/2)","v":""}]
[null,8,null,null,null,null,"",null,null,""]
[null,"* When outside the middle 1/3, distance from the line of the fracture to the nearest support measured on the tension surface of the beam."]
[]
[null,null,"Trial Batch Remarks:"]
[]
[]
[null,null,"Test Method:","Tested By:",null,null,"Tested Date:"]
[null,null,"TX415"]
[]
[null,null,"TX422"]
[]
[null,null,"TX414"]
[]
[null,null,"TX416"]
[]
[null,null,"TX417"]
[]
[null,null,"TX418"]
[]
[null,null,"TX448"]

{"sheet":"Non-Vol. Mixers Tolerances","index":6,"n_rows":84,"n_cols":19,"rows_kept":84,"cut":false,"hidden":false,"merged":[[49,7,49,8],[50,7,50,8],[51,7,51,8],[56,7,57,8],[52,7,52,8],[53,7,53,8],[83,7,83,8],[52,9,52,10],[53,9,53,10],[82,9,82,10],[83,9,83,10],[74,7,74,8],[75,7,75,8],[80,7,80,8],[81,7,81,8],[71,7,71,8],[72,7,72,8],[73,7,73,8],[76,7,76,8],[77,7,77,8],[78,7,78,8],[79,7,79,8],[64,7,64,8],[80,9,80,10],[81,9,81,10],[76,9,76,10],[77,9,77,10],[78,9,78,10],[79,9,79,10],[65,7,65,8],[56,4,57,4],[56,5,57,5],[56,6,57,6],[61,7,61,8],[62,7,62,8],[58,7,58,8],[59,7,59,8],[60,7,60,8],[82,7,82,8],[66,7,66,8],[67,7,67,8],[68,7,68,8],[69,7,69,8],[70,7,70,8],[26,9,27,10],[43,1,43,3],[44,1,44,3],[45,7,45,8],[46,7,46,8],[26,1,27,3],[26,4,27,4],[37,1,37,3],[38,1,38,3],[33,1,33,3],[33,7,33,8],[33,9,33,10],[42,7,42,8],[32,9,32,10],[34,9,34,10],[35,9,35,10],[37,9,37,10],[28,9,28,10],[31,9,31,10],[43,7,43,8],[44,7,44,8],[45,9,45,10],[26,5,27,5],[26,6,27,6],[18,1,18,2],[18,6,18,7],[25,1,25,10],[40,7,40,8],[41,7,41,8],[42,9,42,10],[36,9,36,10],[43,9,43,10],[44,9,44,10],[38,9,38,10],[39,9,39,10],[40,9,40,10],[41,9,41,10],[15,1,15,2],[15,3,15,8],[16,1,16,2],[16,3,16,4],[16,5,16,6],[16,7,16,8],[26,7,27,8],[7,1,7,2],[7,3,7,4],[7,5,7,6],[7,7,7,8],[8,1,8,2],[9,1,9,2],[10,1,10,2],[10,5,10,6],[8,5,8,6],[8,3,8,4],[9,3,9,4],[10,3,10,4],[9,5,9,6],[8,7,8,8],[9,7,9,8],[10,7,10,8],[12,7,12,8],[11,1,11,2],[11,5,11,6],[12,1,12,2],[12,5,12,6],[11,3,11,4],[12,3,12,4],[13,1,13,2],[13,5,13,6],[13,7,13,8],[13,3,13,4],[11,7,11,8],[14,1,14,2],[14,3,14,8],[23,1,23,3],[65,0,67,0],[0,0,0,1],[54,4,54,7],[22,1,22,2],[45,1,45,3],[28,7,28,8],[67,1,67,3],[40,1,40,3],[50,1,50,3],[51,1,51,3],[29,7,29,8],[30,7,30,8],[36,1,36,3],[31,7,31,8],[37,7,37,8],[38,7,38,8],[32,7,32,8],[34,7,34,8],[35,7,35,8],[36,7,36,8],[39,7,39,8],[81,1,81,3],[58,1,58,3],[59,1,59,3],[60,1,60,3],[61,1,61,3],[62,1,62,3],[64,1,64,3],[77,1,77,3],[65,1,65,3],[66,1,66,3],[78,1,78,3],[79,1,79,3],[80,1,80,3],[69,1,69,3],[70,1,70,3],[71,1,71,3],[72,1,72,3],[73,1,73,3],[74,1,74,3],[75,1,75,3],[63,1,63,3],[41,1,41,3],[42,1,42,3],[68,1,68,3],[76,1,76,3],[28,1,28,3],[29,1,29,3],[30,1,30,3],[31,1,31,3],[32,1,32,3],[34,1,34,3],[35,1,35,3],[39,1,39,3],[46,1,46,3],[55,1,55,10],[47,7,47,8],[48,7,48,8],[46,9,46,10],[47,9,47,10],[48,9,48,10],[63,7,63,8],[63,9,63,10],[56,1,57,3],[29,9,29,10],[30,9,30,10],[47,1,47,3],[73,9,73,10],[67,9,67,10],[74,9,74,10],[75,9,75,10],[68,9,68,10],[69,9,69,10],[70,9,70,10],[71,9,71,10],[49,9,49,10],[50,9,50,10],[51,9,51,10],[58,9,58,10],[62,9,62,10],[64,9,64,10],[65,9,65,10],[66,9,66,10],[59,9,59,10],[60,9,60,10],[56,9,57,10],[61,9,61,10],[72,9,72,10],[48,1,48,3],[49,1,49,3]]}
["TxDOT Manuals >",null,"Item 421",null,"Tex-409-A"]
[null,"HELP"]
[null,"TEXAS DEPARTMENT OF TRANSPORTATION"]
[]
[null,"HYDRAULIC CEMENT CONCRETE MIX DESIGN & CONTROL"]
[null,"Non-Vol. Mixers Tolerances"]
[]
[null,"SAMPLE ID",null,{"$f":"IF('Mix Design'!E8=\"\",\"\",'Mix Design'!E8)","v":""},null,"SAMPLED DATE:",null,{"$f":"IF('Mix Design'!I8=\"\",\"\",'Mix Design'!I8)","v":""}]
[null,"TEST NUMBER:",null,{"$f":"IF('Mix Design'!E9=\"\",\"\",'Mix Design'!E9)","v":""},null,"LETTING DATE:",null,{"$f":"IF('Mix Design'!I9=\"\",\"\",'Mix Design'!I9)","v":""}]
[null,"SAMPLE STATUS:",null,{"$f":"IF('Mix Design'!E10=\"\",\"\",'Mix Design'!E10)","v":""},null,"CONTROLLING CSJ:",null,{"$f":"IF('Mix Design'!I10=\"\",\"\",'Mix Design'!I10)","v":""}]
[null,"COUNTY:",null,{"$f":"IF('Mix Design'!E11=\"\",\"\",'Mix Design'!E11)","v":""},null,"SPEC YEAR:",null,{"$f":"IF('Mix Design'!I11=\"\",\"\",'Mix Design'!I11)","v":""}]
[null,"SAMPLED BY:",null,{"$f":"IF('Mix Design'!E12=\"\",\"\",'Mix Design'!E12)","v":""},null,"SPEC ITEM:",null,{"$f":"IF('Mix Design'!I12=\"\",\"\",'Mix Design'!I12)","v":""}]
[null,"SAMPLE LOCATION:",null,{"$f":"IF('Mix Design'!E13=\"\",\"\",'Mix Design'!E13)","v":""},null,"SPECIAL PROVISION:",null,{"$f":"IF('Mix Design'!I13=\"\",\"\",'Mix Design'!I13)","v":""}]
[null,"MATERIAL CODE:",null,{"$f":"IF('Mix Design'!E14=\"\",\"\",'Mix Design'!E14)","v":""},null,"CLASS:",null,{"$f":"IF('Mix Design'!I14=\"\",\"\",'Mix Design'!I14)","v":""}]
[null,"MATERIAL NAME:",null,{"$f":"IF('Mix Design'!E15=\"\",\"\",'Mix Design'!E15)","v":""}]
[null,"PRODUCER:",null,{"$f":"IF('Mix Design'!E16=\"\",\"\",'Mix Design'!E16)","v":""}]
[null,"AREA ENGINEER:",null,{"$f":"IF('Mix Design'!E17=\"\",\"\",'Mix Design'!E17)","v":""},null,"PROJECT MANAGER:",null,{"$f":"IF('Mix Design'!I17=\"\",\"\",'Mix Design'!I17)","v":""}]
[]
[null,"COURSE\\LIFT:",null,{"$f":"IF('Mix Design'!E19=\"\",\"\",'Mix Design'!E19)","v":""},"STATION:",{"$f":"IF('Mix Design'!G19=\"\",\"\",'Mix Design'!G19)","v":""},"DIST. FROM CL:",null,{"$f":"IF('Mix Design'!L19=\"\",\"\",'Mix Design'!L19)","v":""}]
[]
[null,null,"Batch Size, CY:",null,null,"Amount of Ice, Lbs.:"]
[]
[null,null,null,null,"CA 1","CA 2","IA 1","IA 2","FA 1","FA 2"]
[null,"Free Moisture ( + ) or Absorption ( - ) (%)"]
[]
[null,"MEASUREMENT TOLERANCES -- Non-Volumetric Mixers"]
[null,"Material",null,null,"Tolerance, (%)",{"$f":"\"Batch Weight \" & CONCATENATE(\"(lbs/ \",$D$21,\"CY)\")","v":"Batch Weight (lbs/ CY)"},{"$f":"\"Batch Volume \" & CONCATENATE(\"(per \",$D$21,\"CY)\")","v":"Batch Volume (per CY)"},{"$f":"\"Allowable Batching Weight Range \" &CONCATENATE(\"(lbs/ \",$D$21,\"CY)\")","v":"Allowable Batching Weight Range (lbs/ CY)"},null,{"$f":"\"Allowable Batching Volume Range \" &CONCATENATE(\"(per \",$D$21,\"CY)\")","v":"Allowable Batching Volume Range (per CY)"}]
[]
[null,"Cement, wt.",null,null,"-1 to +3",{"$f":"IF(ISERROR(IF('Mix Proportions via ACI 211'!$J$54=\"Yes\",'Mix Proportions via ACI 211'!$L$59*$D$21,'Mix Design'!$K$54*$D$21)),\"\",IF('Mix Proportions via ACI 211'!$J$54=\"Yes\",'Mix Proportions via ACI 211'!$L$59*$D$21,'Mix Design'!$K$54*$D$21))","v":0},{"$f":"IF(ISERROR(IF('Mix Proportions via ACI 211'!$J$54=\"Yes\",ROUND((('Mix Proportions via ACI 211'!$K$59/27)*$D$21),2),ROUND((('Mix Design'!$I$54/27)*$D$21),2))),\"\",IF('Mix Proportions via ACI 211'!$J$54=\"Yes\",ROUND((('Mix Proportions via ACI 211'!$K$59/27)*$D$21),2),ROUND((('Mix Design'!$I$54/27)*$D$21),2)))","v":0},{"$f":"IF(ISERROR(CONCATENATE(P29,\" - \",Q29)),\"\",CONCATENATE(P29,\" - \",Q29))","v":"0 - 0"},null,"NA",null,null,null,null,null,{"$f":"ROUND((N(F29)*0.99),1)","v":0},{"$f":"ROUND((N(F29)*1.03),1)","v":0}]
[null,"Flyash, wt.",null,null,"-1 to +3",{"$f":"IF(ISERROR(IF('Mix Proportions via ACI 211'!$J$54=\"Yes\",'Mix Proportions via ACI 211'!$L$60*$D$21,'Mix Design'!$K$55*$D$21)),\"\",IF('Mix Proportions via ACI 211'!$J$54=\"Yes\",'Mix Proportions via ACI 211'!$L$60*$D$21,'Mix Design'!$K$55*$D$21))","v":0},{"$f":"IF(ISERROR(IF('Mix Proportions via ACI 211'!$J$54=\"Yes\",ROUND((('Mix Proportions via ACI 211'!$K$60/27)*$D$21),2),ROUND((('Mix Design'!$I$55/27)*$D$21),2))),\"\",IF('Mix Proportions via ACI 211'!$J$54=\"Yes\",ROUND((('Mix Proportions via ACI 211'!$K$60/27)*$D$21),2),ROUND((('Mix Design'!$I$55/27)*$D$21),2)))","v":0},"0 - 0",null,"NA",null,null,null,null,null,0,0]
[null,"GGBF slag, wt.",null,null,"-1 to +3",{"$f":"IF(ISERROR(IF('Mix Proportions via ACI 211'!$J$54=\"Yes\",'Mix Proportions via ACI 211'!$L$61*$D$21,'Mix Design'!$K$56*$D$21)),\"\",IF('Mix Proportions via ACI 211'!$J$54=\"Yes\",'Mix Proportions via ACI 211'!$L$61*$D$21,'Mix Design'!$K$56*$D$21))","v":0},{"$f":"IF(ISERROR(IF('Mix Proportions via ACI 211'!$J$54=\"Yes\",ROUND((('Mix Proportions via ACI 211'!$K$61/27)*$D$21),2),ROUND((('Mix Design'!$I$56/27)*$D$21),2))),\"\",IF('Mix Proportions via ACI 211'!$J$54=\"Yes\",ROUND((('Mix Proportions via ACI 211'!$K$61/27)*$D$21),2),ROUND((('Mix Design'!$I$56/27)*$D$21),2)))","v":0},"0 - 0",null,"NA",null,null,null,null,null,0,0]
[null,"Silica fume, wt.",null,null,"-1 to +3",{"$f":"IF(ISERROR(IF('Mix Proportions via ACI 211'!$J$54=\"Yes\",'Mix Proportions via ACI 211'!$L$62*$D$21,'Mix Design'!$K$57*$D$21)),\"\",IF('Mix Proportions via ACI 211'!$J$54=\"Yes\",'Mix Proportions via ACI 211'!$L$62*$D$21,'Mix Design'!$K$57*$D$21))","v":0},{"$f":"IF(ISERROR(IF('Mix Proportions via ACI 211'!$J$54=\"Yes\",ROUND((('Mix Proportions via ACI 211'!$K$62/27)*$D$21),2),ROUND((('Mix Design'!$I$57/27)*$D$21),2))),\"\",IF('Mix Proportions via ACI 211'!$J$54=\"Yes\",ROUND((('Mix Proportions via ACI 211'!$K$62/27)*$D$21),2),ROUND((('Mix Design'!$I$57/27)*$D$21),2)))","v":0},"0 - 0",null,"NA",null,null,null,null,null,0,0]
[null,"UFFA, wt.",null,null,"-1 to +3",{"$f":"IF(ISERROR(IF('Mix Proportions via ACI 211'!$J$54=\"Yes\",'Mix Proportions via ACI 211'!$L$63*$D$21,'Mix Design'!$K$58*$D$21)),\"\",IF('Mix Proportions via ACI 211'!$J$54=\"Yes\",'Mix Proportions via ACI 211'!$L$63*$D$21,'Mix Design'!$K$58*$D$21))","v":0},{"$f":"IF(ISERROR(IF('Mix Proportions via ACI 211'!$J$54=\"Yes\",ROUND((('Mix Proportions via ACI 211'!$K$63/27)*$D$21),2),ROUND((('Mix Design'!$I$58/27)*$D$21),2))),\"\",IF('Mix Proportions via ACI 211'!$J$54=\"Yes\",ROUND((('Mix Proportions via ACI 211'!$K$63/27)*$D$21),2),ROUND((('Mix Design'!$I$58/27)*$D$21),2)))","v":0},"0 - 0",null,"NA",null,null,null,null,null,0,0]
[null,"MFFA, wt.",null,null,"-1 to +3",{"$f":"IF(ISERROR(IF('Mix Proportions via ACI 211'!$J$54=\"Yes\",'Mix Proportions via ACI 211'!$L$64*$D$21,'Mix Design'!$K$59*$D$21)),\"\",IF('Mix Proportions via ACI 211'!$J$54=\"Yes\",'Mix Proportions via ACI 211'!$L$64*$D$21,'Mix Design'!$K$59*$D$21))","v":0},{"$f":"IF(ISERROR(IF('Mix Proportions via ACI 211'!$J$54=\"Yes\",ROUND((('Mix Proportions via ACI 211'!$K$64/27)*$D$21),2),ROUND((('Mix Design'!$I$59/27)*$D$21),2))),\"\",IF('Mix Proportions via ACI 211'!$J$54=\"Yes\",ROUND((('Mix Proportions via ACI 211'!$K$64/27)*$D$21),2),ROUND((('Mix Design'!$I$59/27)*$D$21),2)))","v":0},"0 - 0",null,"NA",null,null,null,null,null,0,0]
[null,"Metakaolin, wt.",null,null,"-1 to +3",{"$f":"IF(ISERROR(IF('Mix Proportions via ACI 211'!$J$54=\"Yes\",'Mix Proportions via ACI 211'!$L$65*$D$21,'Mix Design'!$K$60*$D$21)),\"\",IF('Mix Proportions via ACI 211'!$J$54=\"Yes\",'Mix Proportions via ACI 211'!$L$65*$D$21,'Mix Design'!$K$60*$D$21))","v":0},{"$f":"IF(ISERROR(IF('Mix Proportions via ACI 211'!$J$54=\"Yes\",ROUND((('Mix Proportions via ACI 211'!$K$65/27)*$D$21),2),ROUND((('Mix Design'!$I$60/27)*$D$21),2))),\"\",IF('Mix Proportions via ACI 211'!$J$54=\"Yes\",ROUND((('Mix Proportions via ACI 211'!$K$65/27)*$D$21),2),ROUND((('Mix Design'!$I$60/27)*$D$21),2)))","v":0},"0 - 0",null,"NA",null,null,null,null,null,0,0]
[null,"Other pozzolan, wt.",null,null,"-1 to +3",{"$f":"IF(ISERROR(IF('Mix Proportions via ACI 211'!$J$54=\"Yes\",'Mix Proportions via ACI 211'!$L$66*$D$21,'Mix Design'!$K$61*$D$21)),\"\",IF('Mix Proportions via ACI 211'!$J$54=\"Yes\",'Mix Proportions via ACI 211'!$L$66*$D$21,'Mix Design'!$K$61*$D$21))","v":0},{"$f":"IF(ISERROR(IF('Mix Proportions via ACI 211'!$J$54=\"Yes\",ROUND((('Mix Proportions via ACI 211'!$K$66/27)*$D$21),2),ROUND((('Mix Design'!$I$61/27)*$D$21),2))),\"\",IF('Mix Proportions via ACI 211'!$J$54=\"Yes\",ROUND((('Mix Proportions via ACI 211'!$K$66/27)*$D$21),2),ROUND((('Mix Design'!$I$61/27)*$D$21),2)))","v":0},"0 - 0",null,"NA",null,null,null,null,null,0,0]
[null,"Water, wt. or volume",null,null,"±3",{"$f":"IF(ISERROR(IF('Mix Proportions via ACI 211'!$J$54=\"Yes\",L37,M37)),\"\",IF('Mix Proportions via ACI 211'!$J$54=\"Yes\",L37,M37))","v":0},{"$f":"IF(ISERROR(CONCATENATE(O37,\" (gal.)\")),\"\",CONCATENATE(O37,\" (gal.)\"))","v":"0 (gal.)"},"0 - 0",null,{"$f":"IF(ISERROR(CONCATENATE(R37,\" - \",S37,\" (gal.)\")),\"\",CONCATENATE(R37,\" - \",S37,\" (gal.)\"))","v":"0 - 0 (gal.)"},null,{"$f":"ROUND((((N('Mix Proportions via ACI 211'!$L$57)-N('Mix Proportions via ACI 211'!$L$86)*E24/100-N('Mix Proportions via ACI 211'!$L$87)*F24/100-N('Mix Proportions via ACI 211'!$L$88)*G24/100-N('Mix Proportions via ACI 211'!$L$89)*H24/100-N('Mix Proportions via ACI 211'!$L$93)*I24/100-N('Mix Proportions via ACI 211'!$L$94)*J24/100-N('Mix Proportions via ACI 211'!O76))*$D$21)-G21),0)","v":0},{"$f":"ROUND((((N('Mix Design'!$K$52)-N('Mix Design'!$K$78)*E24/100-N('Mix Design'!$K$79)*F24/100-N('Mix Design'!$K$80)*G24/100-N('Mix Design'!$K$81)*H24/100-N('Mix Design'!$K$82)*I24/100-N('Mix Design'!$K$83)*J24/100-N('Mix Proportions via ACI 211'!O76))*$D$21)-G21),0)","v":0},null,{"$f":"IF('Mix Proportions via ACI 211'!$J$54=\"Yes\",ROUND(((N(L37)/62.4)*7.48),2),ROUND(((N(M37)/62.4)*7.48),2))","v":0},{"$f":"ROUND((N(F37)*0.97),1)","v":0},0,{"$f":"ROUND((N(O37)*0.97),2)","v":0},{"$f":"ROUND((N(O37)*1.03),2)","v":0}]
[null,"Fine aggregate 1, wt.",null,null,"±2",{"$f":"IF(ISERROR(IF('Mix Proportions via ACI 211'!$J$54=\"Yes\",L38,M38)),\"\",IF('Mix Proportions via ACI 211'!$J$54=\"Yes\",L38,M38))","v":0},{"$f":"IF(ISERROR(IF('Mix Proportions via ACI 211'!$J$54=\"Yes\",ROUND((('Mix Proportions via ACI 211'!$K$93/27)*$D$21),2),ROUND((('Mix Design'!$I$82/27)*$D$21),2))),\"\",IF('Mix Proportions via ACI 211'!$J$54=\"Yes\",ROUND((('Mix Proportions via ACI 211'!$K$93/27)*$D$21),2),ROUND((('Mix Design'!$I$82/27)*$D$21),2)))","v":0},"0 - 0",null,"NA",null,{"$f":"IF(ISBLANK($I$24),ROUND(((N('Mix Proportions via ACI 211'!$L93)*(1+N($I$24)/100))*N($D$21)),0),ROUND(((N('Mix Proportions via ACI 211'!$L93)*(1+N($I$24)/100))*N($D$21)),0))","v":0},{"$f":"IF(ISBLANK($I$24),ROUND(((N('Mix Design'!$K$82)*(1+N($I$24)/100))*N($D$21)),0),ROUND(((N('Mix Design'!$K$82)*(1+N($I$24)/100))*N($D$21)),0))","v":0},null,null,{"$f":"ROUND((N(F38)*0.98),1)","v":0},{"$f":"ROUND((N(F38)*1.02),1)","v":0}]
[null,"Fine aggregate 2, wt.",null,null,"±2",{"$f":"IF(ISERROR(IF('Mix Proportions via ACI 211'!$J$54=\"Yes\",L39,M39)),\"\",IF('Mix Proportions via ACI 211'!$J$54=\"Yes\",L39,M39))","v":0},{"$f":"IF(ISERROR(IF('Mix Proportions via ACI 211'!$J$54=\"Yes\",ROUND((('Mix Proportions via ACI 211'!$K$94/27)*$D$21),2),ROUND((('Mix Design'!$I$83/27)*$D$21),2))),\"\",IF('Mix Proportions via ACI 211'!$J$54=\"Yes\",ROUND((('Mix Proportions via ACI 211'!$K$94/27)*$D$21),2),ROUND((('Mix Design'!$I$83/27)*$D$21),2)))","v":0},"0 - 0",null,"NA",null,{"$f":"IF(ISBLANK($J$24),ROUND(((N('Mix Proportions via ACI 211'!$L94)*(1+N($J$24)/100))*N($D$21)),0),ROUND(((N('Mix Proportions via ACI 211'!$L94)*(1+N($J$24)/100))*N($D$21)),0))","v":0},{"$f":"IF(ISBLANK($J$24),ROUND(((N('Mix Design'!$K$83)*(1+N($J$24)/100))*N($D$21)),0),ROUND(((N('Mix Design'!$K$83)*(1+N($J$24)/100))*N($D$21)),0))","v":0},null,null,0,0]
[null,"Coarse aggregate 1, wt.",null,null,"±2",{"$f":"IF(ISERROR(IF('Mix Proportions via ACI 211'!$J$54=\"Yes\",L40,M40)),\"\",IF('Mix Proportions via ACI 211'!$J$54=\"Yes\",L40,M40))","v":0},{"$f":"IF(ISERROR(IF('Mix Proportions via ACI 211'!$J$54=\"Yes\",ROUND((('Mix Proportions via ACI 211'!$K$86/27)*$D$21),2),ROUND((('Mix Design'!$I$78/27)*$D$21),2))),\"\",IF('Mix Proportions via ACI 211'!$J$54=\"Yes\",ROUND((('Mix Proportions via ACI 211'!$K$86/27)*$D$21),2),ROUND((('Mix Design'!$I$78/27)*$D$21),2)))","v":0},"0 - 0",null,"NA",null,{"$f":"IF(ISBLANK($E$24),ROUND(((N('Mix Proportions via ACI 211'!$L86)*(1+N($E$24)/100))*N($D$21)),0),ROUND(((N('Mix Proportions via ACI 211'!$L86)*(1+N($E$24)/100))*N($D$21)),0))","v":0},{"$f":"IF(ISBLANK($E$24),ROUND(((N('Mix Design'!$K$78)*(1+N($E$24)/100))*N($D$21)),0),ROUND(((N('Mix Design'!$K$78)*(1+N($E$24)/100))*N($D$21)),0))","v":0},null,null,0,0]
[null,"Coarse aggregate 2, wt.",null,null,"±2",{"$f":"IF(ISERROR(IF('Mix Proportions via ACI 211'!$J$54=\"Yes\",L41,M41)),\"\",IF('Mix Proportions via ACI 211'!$J$54=\"Yes\",L41,M41))","v":0},{"$f":"IF(ISERROR(IF('Mix Proportions via ACI 211'!$J$54=\"Yes\",ROUND((('Mix Proportions via ACI 211'!$K$87/27)*$D$21),2),ROUND((('Mix Design'!$I$80/27)*$D$21),2))),\"\",IF('Mix Proportions via ACI 211'!$J$54=\"Yes\",ROUND((('Mix Proportions via ACI 211'!$K$87/27)*$D$21),2),ROUND((('Mix Design'!$I$80/27)*$D$21),2)))","v":0},"0 - 0",null,"NA",null,{"$f":"IF(ISBLANK($F$24),ROUND(((N('Mix Proportions via ACI 211'!$L87)*(1+N($F$24)/100))*N($D$21)),0),ROUND(((N('Mix Proportions via ACI 211'!$L87)*(1+N($F$24)/100))*N($D$21)),0))","v":0},{"$f":"IF(ISBLANK($F$24),ROUND(((N('Mix Design'!$K$79)*(1+N($F$24)/100))*N($D$21)),0),ROUND(((N('Mix Design'!$K$79)*(1+N($F$24)/100))*N($D$21)),0))","v":0},null,null,0,0]
[null,"Intermediate aggregate 1, wt.",null,null,"±2",{"$f":"IF(ISERROR(IF('Mix Proportions via ACI 211'!$J$54=\"Yes\",L42,M42)),\"\",IF('Mix Proportions via ACI 211'!$J$54=\"Yes\",L42,M42))","v":0},{"$f":"IF(ISERROR(IF('Mix Proportions via ACI 211'!$J$54=\"Yes\",ROUND((('Mix Proportions via ACI 211'!$K$88/27)*$D$21),2),ROUND((('Mix Design'!$I$80/27)*$D$21),2))),\"\",IF('Mix Proportions via ACI 211'!$J$54=\"Yes\",ROUND((('Mix Proportions via ACI 211'!$K$88/27)*$D$21),2),ROUND((('Mix Design'!$I$80/27)*$D$21),2)))","v":0},"0 - 0",null,"NA",null,{"$f":"IF(ISBLANK($G$24),ROUND(((N('Mix Proportions via ACI 211'!$L88)*(1+N($G$24)/100))*N($D$21)),0),ROUND(((N('Mix Proportions via ACI 211'!$L88)*(1+N($G$24)/100))*N($D$21)),0))","v":0},{"$f":"IF(ISBLANK($G$24),ROUND(((N('Mix Design'!$K$80)*(1+N($G$24)/100))*N($D$21)),0),ROUND(((N('Mix Design'!$K$80)*(1+N($G$24)/100))*N($D$21)),0))","v":0},null,null,0,0]
[null,"Intermediate aggregate 2, wt.",null,null,"±2",{"$f":"IF(ISERROR(IF('Mix Proportions via ACI 211'!$J$54=\"Yes\",L43,M43)),\"\",IF('Mix Proportions via ACI 211'!$J$54=\"Yes\",L43,M43))","v":0},{"$f":"IF(ISERROR(IF('Mix Proportions via ACI 211'!$J$54=\"Yes\",ROUND((('Mix Proportions via ACI 211'!$K$89/27)*$D$21),2),ROUND((('Mix Design'!$I$81/27)*$D$21),2))),\"\",IF('Mix Proportions via ACI 211'!$J$54=\"Yes\",ROUND((('Mix Proportions via ACI 211'!$K$89/27)*$D$21),2),ROUND((('Mix Design'!$I$81/27)*$D$21),2)))","v":0},"0 - 0",null,"NA",null,{"$f":"IF(ISBLANK($H$24),ROUND(((N('Mix Proportions via ACI 211'!$L89)*(1+N($H$24)/100))*N($D$21)),0),ROUND(((N('Mix Proportions via ACI 211'!$L89)*(1+N($H$24)/100))*N($D$21)),0))","v":0},{"$f":"IF(ISBLANK($H$24),ROUND(((N('Mix Design'!$K$81)*(1+N($H$24)/100))*N($D$21)),0),ROUND(((N('Mix Design'!$K$81)*(1+N($H$24)/100))*N($D$21)),0))","v":0},null,null,0,0]
[null,"Air entraining admixture, volume",null,null,"±3",null,{"$f":"IF(ISERROR(CONCATENATE(O44,\" (oz.)\")),\"\",CONCATENATE(O44,\" (oz.)\"))","v":""},null,null,{"$f":"IF(ISERROR(CONCATENATE(R44,\" - \",S44,\" (oz.)\")),\"\",CONCATENATE(R44,\" - \",S44,\" (oz.)\"))","v":""},null,null,null,{"$f":"IF('Mix Proportions via ACI 211'!$J$54=\"Yes\",ROUND((N('Mix Proportions via ACI 211'!$G67)),1),ROUND((N('Mix Design'!$H62*('Mix Design'!$K$53/100))),1))","v":{"$error":"#VALUE!"}},{"$f":"ROUND((N(N44)*N($D$21)),1)","v":{"$error":"#VALUE!"}},null,null,{"$f":"ROUND((O44*0.97),1)","v":{"$error":"#VALUE!"}},{"$f":"ROUND((O44*1.03),1)","v":{"$error":"#VALUE!"}}]
[null,"Set retarder, volume",null,null,"±3",null,"",null,null,"",null,null,null,{"$f":"IF('Mix Proportions via ACI 211'!$J$54=\"Yes\",ROUND((N('Mix Proportions via ACI 211'!$G68)),1),ROUND((N('Mix Design'!$H63*('Mix Design'!$K$53/100))),1))","v":{"$error":"#VALUE!"}},{"$error":"#VALUE!"},null,null,{"$error":"#VALUE!"},{"$error":"#VALUE!"}]
[null,"Accelerator, volume",null,null,"±3",null,"",null,null,"",null,null,null,{"$f":"IF('Mix Proportions via ACI 211'!$J$54=\"Yes\",ROUND((N('Mix Proportions via ACI 211'!$G69)),1),ROUND((N('Mix Design'!$H64*('Mix Design'!$K$53/100))),1))","v":{"$error":"#VALUE!"}},{"$error":"#VALUE!"},null,null,{"$error":"#VALUE!"},{"$error":"#VALUE!"}]
[null,"Water reducer, volume",null,null,"±3",null,"",null,null,"",null,null,null,{"$f":"IF('Mix Proportions via ACI 211'!$J$54=\"Yes\",ROUND((N('Mix Proportions via ACI 211'!$G70)),1),ROUND((N('Mix Design'!$H65*('Mix Design'!$K$53/100))),1))","v":{"$error":"#VALUE!"}},{"$error":"#VALUE!"},null,null,{"$error":"#VALUE!"},{"$error":"#VALUE!"}]
[null,"High-range water reducer, volume",null,null,"±3",null,"",null,null,"",null,null,null,{"$f":"IF('Mix Proportions via ACI 211'!$J$54=\"Yes\",ROUND((N('Mix Proportions via ACI 211'!$G71)),1),ROUND((N('Mix Design'!$H66*('Mix Design'!$K$53/100))),1))","v":{"$error":"#VALUE!"}},{"$error":"#VALUE!"},null,null,{"$error":"#VALUE!"},{"$error":"#VALUE!"}]
[null,"Water reducing retarder, volume",null,null,"±3",null,"",null,null,"",null,null,null,{"$f":"IF('Mix Proportions via ACI 211'!$J$54=\"Yes\",ROUND((N('Mix Proportions via ACI 211'!$G72)),1),ROUND((N('Mix Design'!$H67*('Mix Design'!$K$53/100))),1))","v":{"$error":"#VALUE!"}},{"$error":"#VALUE!"},null,null,{"$error":"#VALUE!"},{"$error":"#VALUE!"}]
[null,"High-range water reducing retarder, volume",null,null,"±3",null,"",null,null,"",null,null,null,{"$f":"IF('Mix Proportions via ACI 211'!$J$54=\"Yes\",ROUND((N('Mix Proportions via ACI 211'!$G73)),1),ROUND((N('Mix Design'!$H68*('Mix Design'!$K$53/100))),1))","v":{"$error":"#VALUE!"}},{"$error":"#VALUE!"},null,null,{"$error":"#VALUE!"},{"$error":"#VALUE!"}]
[null,"Lithium nitrate admixture, volume",null,null,"±3",null,"",null,null,"",null,null,null,{"$f":"IF('Mix Proportions via ACI 211'!$J$54=\"Yes\",ROUND((N('Mix Proportions via ACI 211'!$G74)),1),ROUND((N('Mix Design'!$H69*('Mix Design'!$K$53/100))),1))","v":{"$error":"#VALUE!"}},{"$error":"#VALUE!"},null,null,{"$error":"#VALUE!"},{"$error":"#VALUE!"}]
[null,"Corrosion inhibitor, volume",null,null,"±3",null,"",null,null,"",null,null,null,{"$f":"IF('Mix Proportions via ACI 211'!$J$54=\"Yes\",ROUND((N('Mix Proportions via ACI 211'!$G75)),1),ROUND((N('Mix Design'!$H70*('Mix Design'!$K$53/100))),1))","v":{"$error":"#VALUE!"}},{"$error":"#VALUE!"},null,null,{"$error":"#VALUE!"},{"$error":"#VALUE!"}]
[null,"Fibers, wt",null,null,"±2",{"$f":"IF(ISERROR(IF('Mix Proportions via ACI 211'!$J$54=\"Yes\",'Mix Proportions via ACI 211'!$L$80*$D$21,'Mix Design'!$K$75*$D$21)),\"\",IF('Mix Proportions via ACI 211'!$J$54=\"Yes\",'Mix Proportions via ACI 211'!$L$80*$D$21,'Mix Design'!$K$75*$D$21))","v":0},null,{"$f":"IF(ISERROR(CONCATENATE(P53,\" - \",Q53)),\"\",CONCATENATE(P53,\" - \",Q53))","v":"0 - 0"},null,"NA",null,null,null,null,null,{"$f":"ROUND((N(F53)*0.98),1)","v":0},{"$f":"ROUND((N(F53)*1.02),1)","v":0}]
[null,"Other, wt",null,null,"±2",{"$f":"IF(ISERROR(IF('Mix Proportions via ACI 211'!$J$54=\"Yes\",'Mix Proportions via ACI 211'!$L$81*$D$21,'Mix Design'!$K$76*$D$21)),\"\",IF('Mix Proportions via ACI 211'!$J$54=\"Yes\",'Mix Proportions via ACI 211'!$L$81*$D$21,'Mix Design'!$K$76*$D$21))","v":0},null,{"$f":"IF(ISERROR(CONCATENATE(P54,\" - \",Q54)),\"\",CONCATENATE(P54,\" - \",Q54))","v":"0 - 0"},null,"NA",null,null,null,null,null,{"$f":"ROUND((N(F54)*0.98),1)","v":0},{"$f":"ROUND((N(F54)*1.02),1)","v":0}]
[]
[null,"MEASUREMENT TOLERANCES (CUMULATIVE WEIGHING) -- Non-Volumetric Mixers "]
[null,"Material",null,null,"Tolerance, (%)",{"$f":"\"Batch Weight \" & CONCATENATE(\"(lbs/ \",$D$21,\"CY)\")","v":"Batch Weight (lbs/ CY)"},{"$f":"\"Batch Volume \" & CONCATENATE(\"(per \",$D$21,\"CY)\")","v":"Batch Volume (per CY)"},{"$f":"\"Allowable Batching Weight Range \" &CONCATENATE(\"(lbs/ \",$D$21,\"CY)\")","v":"Allowable Batching Weight Range (lbs/ CY)"},null,{"$f":"\"Allowable Batching Volume Range \" &CONCATENATE(\"(per \",$D$21,\"CY)\")","v":"Allowable Batching Volume Range (per CY)"}]
[]
[null,"Cement, wt.",null,null,"-1 to +3",{"$f":"IF(ISERROR(IF('Mix Proportions via ACI 211'!$J$54=\"Yes\",'Mix Proportions via ACI 211'!$L$59*$D$21,'Mix Design'!$K$54*$D$21)),\"\",IF('Mix Proportions via ACI 211'!$J$54=\"Yes\",'Mix Proportions via ACI 211'!$L$59*$D$21,'Mix Design'!$K$54*$D$21))","v":0},{"$f":"IF(ISERROR(IF('Mix Proportions via ACI 211'!$J$54=\"Yes\",ROUND((('Mix Proportions via ACI 211'!$K$59/27)*$D$21),2),ROUND((('Mix Design'!$I$54/27)*$D$21),2))),\"\",IF('Mix Proportions via ACI 211'!$J$54=\"Yes\",ROUND((('Mix Proportions via ACI 211'!$K$59/27)*$D$21),2),ROUND((('Mix Design'!$I$54/27)*$D$21),2)))","v":0},{"$f":"IF(ISERROR(CONCATENATE(P59,\" - \",Q59)),\"\",CONCATENATE(P59,\" - \",Q59))","v":"0 - 0"},null,"NA",null,null,null,null,null,{"$f":"ROUND((N(F59)*0.99),1)","v":0},{"$f":"ROUND((N(F59)*1.03),1)","v":0}]
[null,"Flyash, wt.",null,null,"-1 to +3",{"$f":"IF(ISERROR(IF('Mix Proportions via ACI 211'!$J$54=\"Yes\",'Mix Proportions via ACI 211'!$L$60*$D$21,'Mix Design'!$K$55*$D$21)),\"\",IF('Mix Proportions via ACI 211'!$J$54=\"Yes\",'Mix Proportions via ACI 211'!$L$60*$D$21,'Mix Design'!$K$55*$D$21))","v":0},{"$f":"IF(ISERROR(IF('Mix Proportions via ACI 211'!$J$54=\"Yes\",ROUND((('Mix Proportions via ACI 211'!$K$60/27)*$D$21),2),ROUND((('Mix Design'!$I$55/27)*$D$21),2))),\"\",IF('Mix Proportions via ACI 211'!$J$54=\"Yes\",ROUND((('Mix Proportions via ACI 211'!$K$60/27)*$D$21),2),ROUND((('Mix Design'!$I$55/27)*$D$21),2)))","v":0},"0 - 0",null,"NA",null,null,null,null,null,0,0]
[null,"GGBF slag, wt.",null,null,"-1 to +3",{"$f":"IF(ISERROR(IF('Mix Proportions via ACI 211'!$J$54=\"Yes\",'Mix Proportions via ACI 211'!$L$61*$D$21,'Mix Design'!$K$56*$D$21)),\"\",IF('Mix Proportions via ACI 211'!$J$54=\"Yes\",'Mix Proportions via ACI 211'!$L$61*$D$21,'Mix Design'!$K$56*$D$21))","v":0},{"$f":"IF(ISERROR(IF('Mix Proportions via ACI 211'!$J$54=\"Yes\",ROUND((('Mix Proportions via ACI 211'!$K$61/27)*$D$21),2),ROUND((('Mix Design'!$I$56/27)*$D$21),2))),\"\",IF('Mix Proportions via ACI 211'!$J$54=\"Yes\",ROUND((('Mix Proportions via ACI 211'!$K$61/27)*$D$21),2),ROUND((('Mix Design'!$I$56/27)*$D$21),2)))","v":0},"0 - 0",null,"NA",null,null,null,null,null,0,0]
[null,"Silica fume, wt.",null,null,"-1 to +3",{"$f":"IF(ISERROR(IF('Mix Proportions via ACI 211'!$J$54=\"Yes\",'Mix Proportions via ACI 211'!$L$62*$D$21,'Mix Design'!$K$57*$D$21)),\"\",IF('Mix Proportions via ACI 211'!$J$54=\"Yes\",'Mix Proportions via ACI 211'!$L$62*$D$21,'Mix Design'!$K$57*$D$21))","v":0},{"$f":"IF(ISERROR(IF('Mix Proportions via ACI 211'!$J$54=\"Yes\",ROUND((('Mix Proportions via ACI 211'!$K$62/27)*$D$21),2),ROUND((('Mix Design'!$I$57/27)*$D$21),2))),\"\",IF('Mix Proportions via ACI 211'!$J$54=\"Yes\",ROUND((('Mix Proportions via ACI 211'!$K$62/27)*$D$21),2),ROUND((('Mix Design'!$I$57/27)*$D$21),2)))","v":0},"0 - 0",null,"NA",null,null,null,null,null,0,0]
[null,"UFFA, wt.",null,null,"-1 to +3",{"$f":"IF(ISERROR(IF('Mix Proportions via ACI 211'!$J$54=\"Yes\",'Mix Proportions via ACI 211'!$L$63*$D$21,'Mix Design'!$K$58*$D$21)),\"\",IF('Mix Proportions via ACI 211'!$J$54=\"Yes\",'Mix Proportions via ACI 211'!$L$63*$D$21,'Mix Design'!$K$58*$D$21))","v":0},{"$f":"IF(ISERROR(IF('Mix Proportions via ACI 211'!$J$54=\"Yes\",ROUND((('Mix Proportions via ACI 211'!$K$63/27)*$D$21),2),ROUND((('Mix Design'!$I$58/27)*$D$21),2))),\"\",IF('Mix Proportions via ACI 211'!$J$54=\"Yes\",ROUND((('Mix Proportions via ACI 211'!$K$63/27)*$D$21),2),ROUND((('Mix Design'!$I$58/27)*$D$21),2)))","v":0},"0 - 0",null,"NA",null,null,null,null,null,0,0]
[null,"MFFA, wt.",null,null,"-1 to +3",{"$f":"IF(ISERROR(IF('Mix Proportions via ACI 211'!$J$54=\"Yes\",'Mix Proportions via ACI 211'!$L$64*$D$21,'Mix Design'!$K$59*$D$21)),\"\",IF('Mix Proportions via ACI 211'!$J$54=\"Yes\",'Mix Proportions via ACI 211'!$L$64*$D$21,'Mix Design'!$K$59*$D$21))","v":0},{"$f":"IF(ISERROR(IF('Mix Proportions via ACI 211'!$J$54=\"Yes\",ROUND((('Mix Proportions via ACI 211'!$K$64/27)*$D$21),2),ROUND((('Mix Design'!$I$59/27)*$D$21),2))),\"\",IF('Mix Proportions via ACI 211'!$J$54=\"Yes\",ROUND((('Mix Proportions via ACI 211'!$K$64/27)*$D$21),2),ROUND((('Mix Design'!$I$59/27)*$D$21),2)))","v":0},"0 - 0",null,"NA",null,null,null,null,null,0,0]
[null,"Metakaolin, wt.",null,null,"-1 to +3",{"$f":"IF(ISERROR(IF('Mix Proportions via ACI 211'!$J$54=\"Yes\",'Mix Proportions via ACI 211'!$L$65*$D$21,'Mix Design'!$K$60*$D$21)),\"\",IF('Mix Proportions via ACI 211'!$J$54=\"Yes\",'Mix Proportions via ACI 211'!$L$65*$D$21,'Mix Design'!$K$60*$D$21))","v":0},{"$f":"IF(ISERROR(IF('Mix Proportions via ACI 211'!$J$54=\"Yes\",ROUND((('Mix Proportions via ACI 211'!$K$65/27)*$D$21),2),ROUND((('Mix Design'!$I$60/27)*$D$21),2))),\"\",IF('Mix Proportions via ACI 211'!$J$54=\"Yes\",ROUND((('Mix Proportions via ACI 211'!$K$65/27)*$D$21),2),ROUND((('Mix Design'!$I$60/27)*$D$21),2)))","v":0},"0 - 0",null,"NA",null,null,null,null,null,0,0]
[null,"Other pozzolan, wt.",null,null,"-1 to +3",{"$f":"IF(ISERROR(IF('Mix Proportions via ACI 211'!$J$54=\"Yes\",'Mix Proportions via ACI 211'!$L$66*$D$21,'Mix Design'!$K$61*$D$21)),\"\",IF('Mix Proportions via ACI 211'!$J$54=\"Yes\",'Mix Proportions via ACI 211'!$L$66*$D$21,'Mix Design'!$K$61*$D$21))","v":0},{"$f":"IF(ISERROR(IF('Mix Proportions via ACI 211'!$J$54=\"Yes\",ROUND((('Mix Proportions via ACI 211'!$K$66/27)*$D$21),2),ROUND((('Mix Design'!$I$61/27)*$D$21),2))),\"\",IF('Mix Proportions via ACI 211'!$J$54=\"Yes\",ROUND((('Mix Proportions via ACI 211'!$K$66/27)*$D$21),2),ROUND((('Mix Design'!$I$61/27)*$D$21),2)))","v":0},"0 - 0",null,"NA",null,null,null,null,null,0,0]
[null,"Water, wt. or volume",null,null,"±3",{"$f":"IF(ISERROR(IF('Mix Proportions via ACI 211'!$J$54=\"Yes\",L67,M67)),\"\",IF('Mix Proportions via ACI 211'!$J$54=\"Yes\",L67,M67))","v":0},{"$f":"IF(ISERROR(CONCATENATE(O67,\" (gal.)\")),\"\",CONCATENATE(O67,\" (gal.)\"))","v":"0 (gal.)"},"0 - 0",null,{"$f":"IF(ISERROR(CONCATENATE(R67,\" - \",S67,\" (gal.)\")),\"\",CONCATENATE(R67,\" - \",S67,\" (gal.)\"))","v":"0 - 0 (gal.)"},null,{"$f":"L37","v":0},{"$f":"M37","v":0},null,{"$f":"IF('Mix Proportions via ACI 211'!$J$54=\"Yes\",ROUND(((N(L67)/62.4)*7.48),2),ROUND(((N(M67)/62.4)*7.48),2))","v":0},{"$f":"ROUND((N(F67)*0.97),1)","v":0},0,{"$f":"ROUND((N(O67)*0.97),2)","v":0},{"$f":"ROUND((N(O67)*1.03),2)","v":0}]
[null,"Fine aggregate 1, wt.",null,null,"±1",{"$f":"IF(ISERROR(IF('Mix Proportions via ACI 211'!$J$54=\"Yes\",L68,M68)),\"\",IF('Mix Proportions via ACI 211'!$J$54=\"Yes\",L68,M68))","v":0},{"$f":"IF(ISERROR(IF('Mix Proportions via ACI 211'!$J$54=\"Yes\",ROUND((('Mix Proportions via ACI 211'!$K$93/27)*$D$21),2),ROUND((('Mix Design'!$I$82/27)*$D$21),2))),\"\",IF('Mix Proportions via ACI 211'!$J$54=\"Yes\",ROUND((('Mix Proportions via ACI 211'!$K$93/27)*$D$21),2),ROUND((('Mix Design'!$I$82/27)*$D$21),2)))","v":0},"0 - 0",null,"NA",null,{"$f":"IF(ISBLANK($I$24),ROUND(((N('Mix Proportions via ACI 211'!$L$93)*(1+N($I$24)/100))*N($D$21)),0),ROUND(((N('Mix Proportions via ACI 211'!$L$93)*(1+N($I$24)/100))*N($D$21)),0))","v":0},{"$f":"IF(ISBLANK($I$24),ROUND(((N('Mix Design'!$K$82)*(1+N($I$24)/100))*N($D$21)),0),ROUND(((N('Mix Design'!$K$82)*(1+N($I$24)/100))*N($D$21)),0))","v":0},null,null,{"$f":"ROUND((N(F68)*0.99),1)","v":0},{"$f":"ROUND((N(F68)*1.01),1)","v":0}]
[null,"Fine aggregate 2, wt.",null,null,"±1",{"$f":"IF(ISERROR(IF('Mix Proportions via ACI 211'!$J$54=\"Yes\",L69,M69)),\"\",IF('Mix Proportions via ACI 211'!$J$54=\"Yes\",L69,M69))","v":0},{"$f":"IF(ISERROR(IF('Mix Proportions via ACI 211'!$J$54=\"Yes\",ROUND((('Mix Proportions via ACI 211'!$K$94/27)*$D$21),2),ROUND((('Mix Design'!$I$83/27)*$D$21),2))),\"\",IF('Mix Proportions via ACI 211'!$J$54=\"Yes\",ROUND((('Mix Proportions via ACI 211'!$K$94/27)*$D$21),2),ROUND((('Mix Design'!$I$83/27)*$D$21),2)))","v":0},"0 - 0",null,"NA",null,{"$f":"IF(ISBLANK($J$24),ROUND(((N('Mix Proportions via ACI 211'!$L$94)*(1+N($J$24)/100))*N($D$21)),0),ROUND(((N('Mix Proportions via ACI 211'!$L$94)*(1+N($J$24)/100))*N($D$21)),0))","v":0},{"$f":"IF(ISBLANK($J$24),ROUND(((N('Mix Design'!$K$83)*(1+N($J$24)/100))*N($D$21)),0),ROUND(((N('Mix Design'!$K$83)*(1+N($J$24)/100))*N($D$21)),0))","v":0},null,null,0,0]
[null,"Coarse aggregate 1, wt.",null,null,"±1",{"$f":"IF(ISERROR(IF('Mix Proportions via ACI 211'!$J$54=\"Yes\",L70,M70)),\"\",IF('Mix Proportions via ACI 211'!$J$54=\"Yes\",L70,M70))","v":0},{"$f":"IF(ISERROR(IF('Mix Proportions via ACI 211'!$J$54=\"Yes\",ROUND((('Mix Proportions via ACI 211'!$K$86/27)*$D$21),2),ROUND((('Mix Design'!$I$78/27)*$D$21),2))),\"\",IF('Mix Proportions via ACI 211'!$J$54=\"Yes\",ROUND((('Mix Proportions via ACI 211'!$K$86/27)*$D$21),2),ROUND((('Mix Design'!$I$78/27)*$D$21),2)))","v":0},"0 - 0",null,"NA",null,{"$f":"IF(ISBLANK($E$24),ROUND(((N('Mix Proportions via ACI 211'!$L$86)*(1+N($E$24)/100))*N($D$21)),0),ROUND(((N('Mix Proportions via ACI 211'!$L$86)*(1+N($E$24)/100))*N($D$21)),0))","v":0},{"$f":"IF(ISBLANK($E$24),ROUND(((N('Mix Design'!$K$78)*(1+N($E$24)/100))*N($D$21)),0),ROUND(((N('Mix Design'!$K$78)*(1+N($E$24)/100))*N($D$21)),0))","v":0},null,null,0,0]
[null,"Coarse aggregate 2, wt.",null,null,"±1",{"$f":"IF(ISERROR(IF('Mix Proportions via ACI 211'!$J$54=\"Yes\",L71,M71)),\"\",IF('Mix Proportions via ACI 211'!$J$54=\"Yes\",L71,M71))","v":0},{"$f":"IF(ISERROR(IF('Mix Proportions via ACI 211'!$J$54=\"Yes\",ROUND((('Mix Proportions via ACI 211'!$K$87/27)*$D$21),2),ROUND((('Mix Design'!$I$80/27)*$D$21),2))),\"\",IF('Mix Proportions via ACI 211'!$J$54=\"Yes\",ROUND((('Mix Proportions via ACI 211'!$K$87/27)*$D$21),2),ROUND((('Mix Design'!$I$80/27)*$D$21),2)))","v":0},"0 - 0",null,"NA",null,{"$f":"IF(ISBLANK($F$24),ROUND(((N('Mix Proportions via ACI 211'!$L$87)*(1+N($F$24)/100))*N($D$21)),0),ROUND(((N('Mix Proportions via ACI 211'!$L$87)*(1+N($F$24)/100))*N($D$21)),0))","v":0},{"$f":"IF(ISBLANK($F$24),ROUND(((N('Mix Design'!$K$79)*(1+N($F$24)/100))*N($D$21)),0),ROUND(((N('Mix Design'!$K$79)*(1+N($F$24)/100))*N($D$21)),0))","v":0},null,null,0,0]
[null,"Intermediate aggregate 1, wt.",null,null,"±1",{"$f":"IF(ISERROR(IF('Mix Proportions via ACI 211'!$J$54=\"Yes\",L72,M72)),\"\",IF('Mix Proportions via ACI 211'!$J$54=\"Yes\",L72,M72))","v":0},{"$f":"IF(ISERROR(IF('Mix Proportions via ACI 211'!$J$54=\"Yes\",ROUND((('Mix Proportions via ACI 211'!$K$88/27)*$D$21),2),ROUND((('Mix Design'!$I$80/27)*$D$21),2))),\"\",IF('Mix Proportions via ACI 211'!$J$54=\"Yes\",ROUND((('Mix Proportions via ACI 211'!$K$88/27)*$D$21),2),ROUND((('Mix Design'!$I$80/27)*$D$21),2)))","v":0},"0 - 0",null,"NA",null,{"$f":"IF(ISBLANK($G$24),ROUND(((N('Mix Proportions via ACI 211'!$L$88)*(1+N($G$24)/100))*N(N($D$21))),0),ROUND(((N('Mix Proportions via ACI 211'!$L$88)*(1+N($G$24)/100))*N(N($D$21))),0))","v":0},{"$f":"IF(ISBLANK($G$24),ROUND(((N('Mix Design'!$K$80)*(1+N($G$24)/100))*N($D$21)),0),ROUND(((N('Mix Design'!$K$80)*(1+N($G$24)/100))*N($D$21)),0))","v":0},null,null,0,0]
[null,"Intermediate aggregate 2, wt.",null,null,"±1",{"$f":"IF(ISERROR(IF('Mix Proportions via ACI 211'!$J$54=\"Yes\",L73,M73)),\"\",IF('Mix Proportions via ACI 211'!$J$54=\"Yes\",L73,M73))","v":0},{"$f":"IF(ISERROR(IF('Mix Proportions via ACI 211'!$J$54=\"Yes\",ROUND((('Mix Proportions via ACI 211'!$K$89/27)*$D$21),2),ROUND((('Mix Design'!$I$81/27)*$D$21),2))),\"\",IF('Mix Proportions via ACI 211'!$J$54=\"Yes\",ROUND((('Mix Proportions via ACI 211'!$K$89/27)*$D$21),2),ROUND((('Mix Design'!$I$81/27)*$D$21),2)))","v":0},"0 - 0",null,"NA",null,{"$f":"IF(ISBLANK($H$24),ROUND(((N('Mix Proportions via ACI 211'!$L$89)*(1+N($H$24)/100))*N($D$21)),0),ROUND(((N('Mix Proportions via ACI 211'!$L$89)*(1+N($H$24)/100))*N($D$21)),0))","v":0},{"$f":"IF(ISBLANK($H$24),ROUND(((N('Mix Design'!$K$81)*(1+N($H$24)/100))*N($D$21)),0),ROUND(((N('Mix Design'!$K$81)*(1+N($H$24)/100))*N($D$21)),0))","v":0},null,null,0,0]
[null,"Air entraining admixture, volume",null,null,"±3",null,{"$f":"IF(ISERROR(CONCATENATE(O74,\" (oz.)\")),\"\",CONCATENATE(O74,\" (oz.)\"))","v":""},null,null,{"$f":"IF(ISERROR(CONCATENATE(R74,\" - \",S74,\" (oz.)\")),\"\",CONCATENATE(R74,\" - \",S74,\" (oz.)\"))","v":""},null,null,null,{"$f":"IF('Mix Proportions via ACI 211'!$J$54=\"Yes\",ROUND((N('Mix Proportions via ACI 211'!$G67)),1),ROUND((N('Mix Design'!$H62*('Mix Design'!$K$53/100))),1))","v":{"$error":"#VALUE!"}},{"$f":"ROUND((N(N74)*N($D$21)),1)","v":{"$error":"#VALUE!"}},null,null,{"$f":"ROUND((O74*0.97),1)","v":{"$error":"#VALUE!"}},{"$f":"ROUND((O74*1.03),1)","v":{"$error":"#VALUE!"}}]
[null,"Set retarder, volume",null,null,"±3",null,"",null,null,"",null,null,null,{"$f":"IF('Mix Proportions via ACI 211'!$J$54=\"Yes\",ROUND((N('Mix Proportions via ACI 211'!$G68)),1),ROUND((N('Mix Design'!$H63*('Mix Design'!$K$53/100))),1))","v":{"$error":"#VALUE!"}},{"$error":"#VALUE!"},null,null,{"$error":"#VALUE!"},{"$error":"#VALUE!"}]
[null,"Accelerator, volume",null,null,"±3",null,"",null,null,"",null,null,null,{"$f":"IF('Mix Proportions via ACI 211'!$J$54=\"Yes\",ROUND((N('Mix Proportions via ACI 211'!$G69)),1),ROUND((N('Mix Design'!$H64*('Mix Design'!$K$53/100))),1))","v":{"$error":"#VALUE!"}},{"$error":"#VALUE!"},null,null,{"$error":"#VALUE!"},{"$error":"#VALUE!"}]
[null,"Water reducer, volume",null,null,"±3",null,"",null,null,"",null,null,null,{"$f":"IF('Mix Proportions via ACI 211'!$J$54=\"Yes\",ROUND((N('Mix Proportions via ACI 211'!$G70)),1),ROUND((N('Mix Design'!$H65*('Mix Design'!$K$53/100))),1))","v":{"$error":"#VALUE!"}},{"$error":"#VALUE!"},null,null,{"$error":"#VALUE!"},{"$error":"#VALUE!"}]
[null,"High-range water reducer, volume",null,null,"±3",null,"",null,null,"",null,null,null,{"$f":"IF('Mix Proportions via ACI 211'!$J$54=\"Yes\",ROUND((N('Mix Proportions via ACI 211'!$G71)),1),ROUND((N('Mix Design'!$H66*('Mix Design'!$K$53/100))),1))","v":{"$error":"#VALUE!"}},{"$error":"#VALUE!"},null,null,{"$error":"#VALUE!"},{"$error":"#VALUE!"}]
[null,"Water reducing retarder, volume",null,null,"±3",null,"",null,null,"",null,null,null,{"$f":"IF('Mix Proportions via ACI 211'!$J$54=\"Yes\",ROUND((N('Mix Proportions via ACI 211'!$G72)),1),ROUND((N('Mix Design'!$H67*('Mix Design'!$K$53/100))),1))","v":{"$error":"#VALUE!"}},{"$error":"#VALUE!"},null,null,{"$error":"#VALUE!"},{"$error":"#VALUE!"}]
[null,"High-range water reducing retarder, volume",null,null,"±3",null,"",null,null,"",null,null,null,{"$f":"IF('Mix Proportions via ACI 211'!$J$54=\"Yes\",ROUND((N('Mix Proportions via ACI 211'!$G73)),1),ROUND((N('Mix Design'!$H68*('Mix Design'!$K$53/100))),1))","v":{"$error":"#VALUE!"}},{"$error":"#VALUE!"},null,null,{"$error":"#VALUE!"},{"$error":"#VALUE!"}]
[null,"Lithium nitrate admixture, volume",null,null,"±3",null,"",null,null,"",null,null,null,{"$f":"IF('Mix Proportions via ACI 211'!$J$54=\"Yes\",ROUND((N('Mix Proportions via ACI 211'!$G74)),1),ROUND((N('Mix Design'!$H69*('Mix Design'!$K$53/100))),1))","v":{"$error":"#VALUE!"}},{"$error":"#VALUE!"},null,null,{"$error":"#VALUE!"},{"$error":"#VALUE!"}]
[null,"Corrosion inhibitor, volume",null,null,"±3",null,"",null,null,"",null,null,null,{"$f":"IF('Mix Proportions via ACI 211'!$J$54=\"Yes\",ROUND((N('Mix Proportions via ACI 211'!$G75)),1),ROUND((N('Mix Design'!$H70*('Mix Design'!$K$53/100))),1))","v":{"$error":"#VALUE!"}},{"$error":"#VALUE!"},null,null,{"$error":"#VALUE!"},{"$error":"#VALUE!"}]
[null,"Fibers, wt",null,null,"±2",{"$f":"IF(ISERROR(IF('Mix Proportions via ACI 211'!$J$54=\"Yes\",'Mix Proportions via ACI 211'!$L$80*$D$21,'Mix Design'!$K$75*$D$21)),\"\",IF('Mix Proportions via ACI 211'!$J$54=\"Yes\",'Mix Proportions via ACI 211'!$L$80*$D$21,'Mix Design'!$K$75*$D$21))","v":0},null,{"$f":"IF(ISERROR(CONCATENATE(P83,\" - \",Q83)),\"\",CONCATENATE(P83,\" - \",Q83))","v":"0 - 0"},null,"NA",null,null,null,null,null,{"$f":"ROUND((N(F83)*0.98),1)","v":0},{"$f":"ROUND((N(F83)*1.02),1)","v":0}]
[null,"Other, wt",null,null,"±2",{"$f":"IF(ISERROR(IF('Mix Proportions via ACI 211'!$J$54=\"Yes\",'Mix Proportions via ACI 211'!$L$81*$D$21,'Mix Design'!$K$76*$D$21)),\"\",IF('Mix Proportions via ACI 211'!$J$54=\"Yes\",'Mix Proportions via ACI 211'!$L$81*$D$21,'Mix Design'!$K$76*$D$21))","v":0},null,{"$f":"IF(ISERROR(CONCATENATE(P84,\" - \",Q84)),\"\",CONCATENATE(P84,\" - \",Q84))","v":"0 - 0"},null,"NA",null,null,null,null,null,{"$f":"ROUND((N(F84)*0.98),1)","v":0},{"$f":"ROUND((N(F84)*1.02),1)","v":0}]

{"sheet":"Vol. Mixers Tolerances","index":7,"n_rows":54,"n_cols":19,"rows_kept":54,"cut":false,"hidden":false,"merged":[[52,7,52,8],[53,7,53,8],[52,9,52,10],[53,9,53,10],[33,7,33,8],[33,9,33,10],[34,9,34,10],[35,9,35,10],[36,9,36,10],[37,9,37,10],[38,9,38,10],[39,9,39,10],[40,9,40,10],[41,9,41,10],[50,7,50,8],[43,7,43,8],[44,7,44,8],[45,7,45,8],[38,7,38,8],[42,7,42,8],[46,9,46,10],[51,9,51,10],[47,9,47,10],[48,9,48,10],[18,1,18,2],[18,6,18,7],[15,1,15,2],[15,3,15,8],[16,1,16,2],[16,3,16,4],[20,2,20,3],[26,1,27,3],[26,4,27,4],[26,5,27,5],[22,1,22,2],[25,1,25,10],[26,6,27,6],[26,7,27,8],[26,9,27,10],[20,5,20,6],[23,1,23,3],[10,3,10,4],[12,1,12,2],[12,3,12,4],[12,5,12,6],[12,7,12,8],[16,5,16,6],[16,7,16,8],[13,1,13,2],[13,3,13,4],[13,5,13,6],[13,7,13,8],[14,1,14,2],[14,3,14,8],[0,0,0,1],[7,1,7,2],[7,3,7,4],[7,5,7,6],[7,7,7,8],[35,1,35,3],[31,1,31,3],[30,1,30,3],[33,1,33,3],[8,5,8,6],[8,7,8,8],[9,1,9,2],[9,3,9,4],[9,5,9,6],[9,7,9,8],[8,1,8,2],[8,3,8,4],[10,5,10,6],[10,7,10,8],[11,1,11,2],[11,3,11,4],[11,5,11,6],[11,7,11,8],[10,1,10,2],[28,1,28,3],[39,1,39,3],[38,1,38,3],[37,1,37,3],[42,1,42,3],[41,1,41,3],[40,1,40,3],[36,1,36,3],[32,1,32,3],[34,1,34,3],[51,1,51,3],[29,1,29,3],[29,7,29,8],[30,7,30,8],[31,7,31,8],[46,7,46,8],[39,7,39,8],[40,7,40,8],[41,7,41,8],[32,7,32,8],[34,7,34,8],[35,7,35,8],[50,1,50,3],[43,1,43,3],[48,1,48,3],[47,1,47,3],[46,1,46,3],[45,1,45,3],[44,1,44,3],[49,1,49,3],[51,7,51,8],[47,7,47,8],[48,7,48,8],[49,7,49,8],[49,9,49,10],[50,9,50,10],[43,9,43,10],[44,9,44,10],[45,9,45,10],[28,9,28,10],[28,7,28,8],[36,7,36,8],[37,7,37,8],[32,9,32,10],[42,9,42,10],[29,9,29,10],[30,9,30,10],[31,9,31,10]]}
["TxDOT Manuals >",null,"Item 421",null,"Tex-409-A"]
[null,"HELP"]
[null,"TEXAS DEPARTMENT OF TRANSPORTATION"]
[]
[null,"HYDRAULIC CEMENT CONCRETE MIX DESIGN & CONTROL"]
[null,"Vol. Mixers Tolerances"]
[]
[null,"SAMPLE ID",null,{"$f":"IF('Mix Design'!E8=\"\",\"\",'Mix Design'!E8)","v":""},null,"SAMPLED DATE:",null,{"$f":"IF('Mix Design'!I8=\"\",\"\",'Mix Design'!I8)","v":""}]
[null,"TEST NUMBER:",null,{"$f":"IF('Mix Design'!E9=\"\",\"\",'Mix Design'!E9)","v":""},null,"LETTING DATE:",null,{"$f":"IF('Mix Design'!I9=\"\",\"\",'Mix Design'!I9)","v":""}]
[null,"SAMPLE STATUS:",null,{"$f":"IF('Mix Design'!E10=\"\",\"\",'Mix Design'!E10)","v":""},null,"CONTROLLING CSJ:",null,{"$f":"IF('Mix Design'!I10=\"\",\"\",'Mix Design'!I10)","v":""}]
[null,"COUNTY:",null,{"$f":"IF('Mix Design'!E11=\"\",\"\",'Mix Design'!E11)","v":""},null,"SPEC YEAR:",null,{"$f":"IF('Mix Design'!I11=\"\",\"\",'Mix Design'!I11)","v":""}]
[null,"SAMPLED BY:",null,{"$f":"IF('Mix Design'!E12=\"\",\"\",'Mix Design'!E12)","v":""},null,"SPEC ITEM:",null,{"$f":"IF('Mix Design'!I12=\"\",\"\",'Mix Design'!I12)","v":""}]
[null,"SAMPLE LOCATION:",null,{"$f":"IF('Mix Design'!E13=\"\",\"\",'Mix Design'!E13)","v":""},null,"SPECIAL PROVISION:",null,{"$f":"IF('Mix Design'!I13=\"\",\"\",'Mix Design'!I13)","v":""}]
[null,"MATERIAL CODE:",null,{"$f":"IF('Mix Design'!E14=\"\",\"\",'Mix Design'!E14)","v":""},null,"CLASS:",null,{"$f":"IF('Mix Design'!I14=\"\",\"\",'Mix Design'!I14)","v":""}]
[null,"MATERIAL NAME:",null,{"$f":"IF('Mix Design'!E15=\"\",\"\",'Mix Design'!E15)","v":""}]
[null,"PRODUCER:",null,{"$f":"IF('Mix Design'!E16=\"\",\"\",'Mix Design'!E16)","v":""}]
[null,"AREA ENGINEER:",null,{"$f":"IF('Mix Design'!E17=\"\",\"\",'Mix Design'!E17)","v":""},null,"PROJECT MANAGER:",null,{"$f":"IF('Mix Design'!I17=\"\",\"\",'Mix Design'!I17)","v":""}]
[]
[null,"COURSE\\LIFT:",null,{"$f":"IF('Mix Design'!E19=\"\",\"\",'Mix Design'!E19)","v":""},"STATION:",{"$f":"IF('Mix Design'!G19=\"\",\"\",'Mix Design'!G19)","v":""},"DIST. FROM CL:",null,{"$f":"IF('Mix Design'!L19=\"\",\"\",'Mix Design'!L19)","v":""}]
[]
[null,null,"Batch Size, CY:",null,null,"Amount of Ice, lbs:"]
[]
[null,null,null,null,"CA 1","CA 2","IA 1","IA 2","FA 1","FA 2"]
[null,"Free Moisture ( + ) or Absorption ( - ) (%)"]
[]
[null,"MEASUREMENT TOLERANCES -- Volumetric Mixers"]
[null,"Material",null,null,"Tolerance, (%)",{"$f":"\"Batch Weight \" & CONCATENATE(\"(lbs/ \",$E$21,\"CY)\")","v":"Batch Weight (lbs/ CY)"},{"$f":"\"Batch Volume \" & CONCATENATE(\"(per \",$E$21,\"CY)\")","v":"Batch Volume (per CY)"},{"$f":"\"Allowable Batching Weight Range \" &CONCATENATE(\"(lbs/ \",$E$21,\"CY)\")","v":"Allowable Batching Weight Range (lbs/ CY)"},null,{"$f":"\"Allowable Batching Volume Range \" &CONCATENATE(\"(per \",$E$21,\"CY)\")","v":"Allowable Batching Volume Range (per CY)"}]
[]
[null,"Cement, wt.",null,null,"0 to +4",{"$f":"IF(ISERROR(IF('Mix Proportions via ACI 211'!$J$54=\"Yes\",'Mix Proportions via ACI 211'!$L$59*$E$21,'Mix Design'!$K$54*$E$21)),\"\",IF('Mix Proportions via ACI 211'!$J$54=\"Yes\",'Mix Proportions via ACI 211'!$L$59*$E$21,'Mix Design'!$K$54*$E$21))","v":0},{"$f":"IF(ISERROR(IF('Mix Proportions via ACI 211'!$J$54=\"Yes\",ROUND((('Mix Proportions via ACI 211'!$K$59/27)*$E$21),2),ROUND((('Mix Design'!$I$54/27)*$E$21),2))),\"\",IF('Mix Proportions via ACI 211'!$J$54=\"Yes\",ROUND((('Mix Proportions via ACI 211'!$K$59/27)*$E$21),2),ROUND((('Mix Design'!$I$54/27)*$E$21),2)))","v":0},{"$f":"IF(ISERROR(CONCATENATE(P29,\" - \",Q29)),\"\",CONCATENATE(P29,\" - \",Q29))","v":"0 - 0"},null,"NA",null,null,null,null,null,{"$f":"ROUND((N(F29)*1),0)","v":0},{"$f":"ROUND((N(F29)*1.04),1)","v":0}]
[null,"Flyash, wt.",null,null,"0 to +4",{"$f":"IF(ISERROR(IF('Mix Proportions via ACI 211'!$J$54=\"Yes\",'Mix Proportions via ACI 211'!$L$60*$E$21,'Mix Design'!$K$55*$E$21)),\"\",IF('Mix Proportions via ACI 211'!$J$54=\"Yes\",'Mix Proportions via ACI 211'!$L$60*$E$21,'Mix Design'!$K$55*$E$21))","v":0},{"$f":"IF(ISERROR(IF('Mix Proportions via ACI 211'!$J$54=\"Yes\",ROUND((('Mix Proportions via ACI 211'!$K$60/27)*$E$21),2),ROUND((('Mix Design'!$I$55/27)*$E$21),2))),\"\",IF('Mix Proportions via ACI 211'!$J$54=\"Yes\",ROUND((('Mix Proportions via ACI 211'!$K$60/27)*$E$21),2),ROUND((('Mix Design'!$I$55/27)*$E$21),2)))","v":0},"0 - 0",null,"NA",null,null,null,null,null,0,0]
[null,"GGBF slag, wt.",null,null,"0 to +4",{"$f":"IF(ISERROR(IF('Mix Proportions via ACI 211'!$J$54=\"Yes\",'Mix Proportions via ACI 211'!$L$61*$E$21,'Mix Design'!$K$56*$E$21)),\"\",IF('Mix Proportions via ACI 211'!$J$54=\"Yes\",'Mix Proportions via ACI 211'!$L$61*$E$21,'Mix Design'!$K$56*$E$21))","v":0},{"$f":"IF(ISERROR(IF('Mix Proportions via ACI 211'!$J$54=\"Yes\",ROUND((('Mix Proportions via ACI 211'!$K$61/27)*$E$21),2),ROUND((('Mix Design'!$I$56/27)*$E$21),2))),\"\",IF('Mix Proportions via ACI 211'!$J$54=\"Yes\",ROUND((('Mix Proportions via ACI 211'!$K$61/27)*$E$21),2),ROUND((('Mix Design'!$I$56/27)*$E$21),2)))","v":0},"0 - 0",null,"NA",null,null,null,null,null,0,0]
[null,"Silica fume, wt.",null,null,"0 to +4",{"$f":"IF(ISERROR(IF('Mix Proportions via ACI 211'!$J$54=\"Yes\",'Mix Proportions via ACI 211'!$L$62*$E$21,'Mix Design'!$K$57*$E$21)),\"\",IF('Mix Proportions via ACI 211'!$J$54=\"Yes\",'Mix Proportions via ACI 211'!$L$62*$E$21,'Mix Design'!$K$57*$E$21))","v":0},{"$f":"IF(ISERROR(IF('Mix Proportions via ACI 211'!$J$54=\"Yes\",ROUND((('Mix Proportions via ACI 211'!$K$62/27)*$E$21),2),ROUND((('Mix Design'!$I$57/27)*$E$21),2))),\"\",IF('Mix Proportions via ACI 211'!$J$54=\"Yes\",ROUND((('Mix Proportions via ACI 211'!$K$62/27)*$E$21),2),ROUND((('Mix Design'!$I$57/27)*$E$21),2)))","v":0},"0 - 0",null,"NA",null,null,null,null,null,0,0]
[null,"UFFA, wt.",null,null,"0 to +4",{"$f":"IF(ISERROR(IF('Mix Proportions via ACI 211'!$J$54=\"Yes\",'Mix Proportions via ACI 211'!$L$63*$E$21,'Mix Design'!$K$58*$E$21)),\"\",IF('Mix Proportions via ACI 211'!$J$54=\"Yes\",'Mix Proportions via ACI 211'!$L$63*$E$21,'Mix Design'!$K$58*$E$21))","v":0},{"$f":"IF(ISERROR(IF('Mix Proportions via ACI 211'!$J$54=\"Yes\",ROUND((('Mix Proportions via ACI 211'!$K$63/27)*$E$21),2),ROUND((('Mix Design'!$I$58/27)*$E$21),2))),\"\",IF('Mix Proportions via ACI 211'!$J$54=\"Yes\",ROUND((('Mix Proportions via ACI 211'!$K$63/27)*$E$21),2),ROUND((('Mix Design'!$I$58/27)*$E$21),2)))","v":0},"0 - 0",null,"NA",null,null,null,null,null,0,0]
[null,"MFFA, wt.",null,null,"0 to +4",{"$f":"IF(ISERROR(IF('Mix Proportions via ACI 211'!$J$54=\"Yes\",'Mix Proportions via ACI 211'!$L$64*$D$21,'Mix Design'!$K$59*$D$21)),\"\",IF('Mix Proportions via ACI 211'!$J$54=\"Yes\",'Mix Proportions via ACI 211'!$L$64*$D$21,'Mix Design'!$K$59*$D$21))","v":0},{"$f":"IF(ISERROR(IF('Mix Proportions via ACI 211'!$J$54=\"Yes\",ROUND((('Mix Proportions via ACI 211'!$K$64/27)*$D$21),2),ROUND((('Mix Design'!$I$59/27)*$D$21),2))),\"\",IF('Mix Proportions via ACI 211'!$J$54=\"Yes\",ROUND((('Mix Proportions via ACI 211'!$K$64/27)*$D$21),2),ROUND((('Mix Design'!$I$59/27)*$D$21),2)))","v":0},"0 - 0",null,"NA",null,null,null,null,null,0,0]
[null,"Metakaolin, wt.",null,null,"0 to +4",{"$f":"IF(ISERROR(IF('Mix Proportions via ACI 211'!$J$54=\"Yes\",'Mix Proportions via ACI 211'!$L$65*$E$21,'Mix Design'!$K$60*$E$21)),\"\",IF('Mix Proportions via ACI 211'!$J$54=\"Yes\",'Mix Proportions via ACI 211'!$L$65*$E$21,'Mix Design'!$K$60*$E$21))","v":0},{"$f":"IF(ISERROR(IF('Mix Proportions via ACI 211'!$J$54=\"Yes\",ROUND((('Mix Proportions via ACI 211'!$K$65/27)*$E$21),2),ROUND((('Mix Design'!$I$60/27)*$E$21),2))),\"\",IF('Mix Proportions via ACI 211'!$J$54=\"Yes\",ROUND((('Mix Proportions via ACI 211'!$K$65/27)*$E$21),2),ROUND((('Mix Design'!$I$60/27)*$E$21),2)))","v":0},"0 - 0",null,"NA",null,null,null,null,null,0,0]
[null,"Other pozzolan, wt.",null,null,"0 to +4",{"$f":"IF(ISERROR(IF('Mix Proportions via ACI 211'!$J$54=\"Yes\",'Mix Proportions via ACI 211'!$L$66*$E$21,'Mix Design'!$K$61*$E$21)),\"\",IF('Mix Proportions via ACI 211'!$J$54=\"Yes\",'Mix Proportions via ACI 211'!$L$66*$E$21,'Mix Design'!$K$61*$E$21))","v":0},{"$f":"IF(ISERROR(IF('Mix Proportions via ACI 211'!$J$54=\"Yes\",ROUND((('Mix Proportions via ACI 211'!$K$66/27)*$E$21),2),ROUND((('Mix Design'!$I$61/27)*$E$21),2))),\"\",IF('Mix Proportions via ACI 211'!$J$54=\"Yes\",ROUND((('Mix Proportions via ACI 211'!$K$66/27)*$E$21),2),ROUND((('Mix Design'!$I$61/27)*$E$21),2)))","v":0},"0 - 0",null,"NA",null,null,null,null,null,0,0]
[null,"Water, wt. or volume",null,null,"±1",{"$f":"IF(ISERROR(IF('Mix Proportions via ACI 211'!$J$54=\"Yes\",L37,M37)),\"\",IF('Mix Proportions via ACI 211'!$J$54=\"Yes\",L37,M37))","v":0},{"$f":"IF(ISERROR(CONCATENATE(O37,\" (gal.)\")),\"\",CONCATENATE(O37,\" (gal.)\"))","v":"0 (gal.)"},"0 - 0",null,{"$f":"IF(ISERROR(CONCATENATE(R37,\" - \",S37,\" (gal.)\")),\"\",CONCATENATE(R37,\" - \",S37,\" (gal.)\"))","v":"0 - 0 (gal.)"},null,{"$f":"ROUND((((N('Mix Proportions via ACI 211'!$L$57)-N('Mix Proportions via ACI 211'!$L$86)*N(E24/100)-N('Mix Proportions via ACI 211'!$L$87)*N(F24/100)-N('Mix Proportions via ACI 211'!$L$88)*N(G24/100)-N('Mix Proportions via ACI 211'!$L$89)*N(H24/100)-N('Mix Proportions via ACI 211'!$L$93)*N(I24/100)-N('Mix Proportions via ACI 211'!$L$94)*N(J24/100)-N('Mix Proportions via ACI 211'!O76))*N($E$21))-N(H21)),0)","v":0},{"$f":"ROUND((((N('Mix Design'!$K$52)-N('Mix Design'!$K$78)*E24/100-N('Mix Design'!$K$79)*F24/100-N('Mix Design'!$K$80)*G24/100-N('Mix Design'!$K$81)*H24/100-N('Mix Design'!$K$82*I24/100)-N('Mix Design'!$K$83)*J24/100-N('Mix Proportions via ACI 211'!O76))*N($E$21))-N(H21)),0)","v":0},null,{"$f":"IF('Mix Proportions via ACI 211'!$J$54=\"Yes\",ROUND(((N(L37)/62.4)*7.48),2),ROUND(((N(M37)/62.4)*7.48),2))","v":0},{"$f":"ROUND((N(F37)*0.99),1)","v":0},{"$f":"ROUND((N(F37)*1.01),1)","v":0},{"$f":"ROUND((N(O37)*0.97),2)","v":0},{"$f":"ROUND((N(O37)*1.03),2)","v":0}]
[null,"Fine aggregate 1, wt.",null,null,"±2",{"$f":"IF(ISERROR(IF('Mix Proportions via ACI 211'!$J$54=\"Yes\",L38,M38)),\"\",IF('Mix Proportions via ACI 211'!$J$54=\"Yes\",L38,M38))","v":0},{"$f":"IF(ISERROR(IF('Mix Proportions via ACI 211'!$J$54=\"Yes\",ROUND((('Mix Proportions via ACI 211'!$K$93/27)*$E$21),2),ROUND((('Mix Design'!$I$82/27)*$E$21),2))),\"\",IF('Mix Proportions via ACI 211'!$J$54=\"Yes\",ROUND((('Mix Proportions via ACI 211'!$K$93/27)*$E$21),2),ROUND((('Mix Design'!$I$82/27)*$E$21),2)))","v":0},"0 - 0",null,"NA",null,{"$f":"IF(ISBLANK($I$24),ROUND(((N('Mix Proportions via ACI 211'!$L$93)*(1+N($I$24)/100))*N($E$21)),0),ROUND(((N('Mix Proportions via ACI 211'!$L$93)*(1+N($I$24)/100))*N($E$21)),0))","v":0},{"$f":"IF(ISBLANK($I$24),ROUND(((N('Mix Design'!$K$82)*(1+N($I$24)/100))*N($E$21)),0),ROUND(((N('Mix Design'!$K$82)*(1+N($I$24)/100))*N($E$21)),0))","v":0},null,null,{"$f":"ROUND((N(F38)*0.98),1)","v":0},{"$f":"ROUND((N(F38)*1.02),1)","v":0}]
[null,"Fine aggregate 2, wt.",null,null,"±2",{"$f":"IF(ISERROR(IF('Mix Proportions via ACI 211'!$J$54=\"Yes\",L39,M39)),\"\",IF('Mix Proportions via ACI 211'!$J$54=\"Yes\",L39,M39))","v":0},{"$f":"IF(ISERROR(IF('Mix Proportions via ACI 211'!$J$54=\"Yes\",ROUND((('Mix Proportions via ACI 211'!$K$94/27)*$E$21),2),ROUND((('Mix Design'!$I$83/27)*$E$21),2))),\"\",IF('Mix Proportions via ACI 211'!$J$54=\"Yes\",ROUND((('Mix Proportions via ACI 211'!$K$94/27)*$E$21),2),ROUND((('Mix Design'!$I$83/27)*$E$21),2)))","v":0},"0 - 0",null,"NA",null,{"$f":"IF(ISBLANK($J$24),ROUND(((N('Mix Proportions via ACI 211'!$L$94)*(1+N($J$24)/100))*N($E$21)),0),ROUND(((N('Mix Proportions via ACI 211'!$L$94)*(1+N($J$24)/100))*N($E$21)),0))","v":0},{"$f":"IF(ISBLANK($J$24),ROUND(((N('Mix Design'!$K$83)*(1+N($J$24)/100))*N($E$21)),0),ROUND(((N('Mix Design'!$K$83)*(1+N($J$24)/100))*N($E$21)),0))","v":0},null,null,0,0]
[null,"Coarse aggregate 1, wt.",null,null,"±2",{"$f":"IF(ISERROR(IF('Mix Proportions via ACI 211'!$J$54=\"Yes\",L40,M40)),\"\",IF('Mix Proportions via ACI 211'!$J$54=\"Yes\",L40,M40))","v":0},{"$f":"IF(ISERROR(IF('Mix Proportions via ACI 211'!$J$54=\"Yes\",ROUND((('Mix Proportions via ACI 211'!$K$86/27)*$E$21),2),ROUND((('Mix Design'!$I$78/27)*$E$21),2))),\"\",IF('Mix Proportions via ACI 211'!$J$54=\"Yes\",ROUND((('Mix Proportions via ACI 211'!$K$86/27)*$E$21),2),ROUND((('Mix Design'!$I$78/27)*$E$21),2)))","v":0},"0 - 0",null,"NA",null,{"$f":"IF(ISBLANK($E$24),ROUND(((N('Mix Proportions via ACI 211'!$L$86)*(1+N($E$24)/100))*N($E$21)),0),ROUND(((N('Mix Proportions via ACI 211'!$L$86)*(1+N($E$24)/100))*N($E$21)),0))","v":0},{"$f":"IF(ISBLANK($E$24),ROUND(((N('Mix Design'!$K$78)*(1+N($E$24)/100))*N($E$21)),0),ROUND(((N('Mix Design'!$K$78)*(1+N($E$24)/100))*N($E$21)),0))","v":0},null,null,0,0]
[null,"Coarse aggregate 2, wt.",null,null,"±2",{"$f":"IF(ISERROR(IF('Mix Proportions via ACI 211'!$J$54=\"Yes\",L41,M41)),\"\",IF('Mix Proportions via ACI 211'!$J$54=\"Yes\",L41,M41))","v":0},{"$f":"IF(ISERROR(IF('Mix Proportions via ACI 211'!$J$54=\"Yes\",ROUND((('Mix Proportions via ACI 211'!$K$87/27)*$E$21),2),ROUND((('Mix Design'!$I$80/27)*$E$21),2))),\"\",IF('Mix Proportions via ACI 211'!$J$54=\"Yes\",ROUND((('Mix Proportions via ACI 211'!$K$87/27)*$E$21),2),ROUND((('Mix Design'!$I$80/27)*$E$21),2)))","v":0},"0 - 0",null,"NA",null,{"$f":"IF(ISBLANK($F$24),ROUND(((N('Mix Proportions via ACI 211'!$L$87)*(1+N($F$24)/100))*N($E$21)),0),ROUND(((N('Mix Proportions via ACI 211'!$L$87)*(1+N($F$24)/100))*N($E$21)),0))","v":0},{"$f":"IF(ISBLANK($F$24),ROUND(((N('Mix Design'!$K$79)*(1+N($F$24)/100))*N($E$21)),0),ROUND(((N('Mix Design'!$K$79)*(1+N($F$24)/100))*N($E$21)),0))","v":0},null,null,0,0]
[null,"Intermediate aggregate 1, wt.",null,null,"±2",{"$f":"IF(ISERROR(IF('Mix Proportions via ACI 211'!$J$54=\"Yes\",L42,M42)),\"\",IF('Mix Proportions via ACI 211'!$J$54=\"Yes\",L42,M42))","v":0},{"$f":"IF(ISERROR(IF('Mix Proportions via ACI 211'!$J$54=\"Yes\",ROUND((('Mix Proportions via ACI 211'!$K$88/27)*$E$21),2),ROUND((('Mix Design'!$I$80/27)*$E$21),2))),\"\",IF('Mix Proportions via ACI 211'!$J$54=\"Yes\",ROUND((('Mix Proportions via ACI 211'!$K$88/27)*$E$21),2),ROUND((('Mix Design'!$I$80/27)*$E$21),2)))","v":0},"0 - 0",null,"NA",null,{"$f":"IF(ISBLANK($G$24),ROUND(((N('Mix Proportions via ACI 211'!$L$88)*(1+N($G$24)/100))*N($E$21)),0),ROUND(((N('Mix Proportions via ACI 211'!$L$88)*(1+N($G$24)/100))*N($E$21)),0))","v":0},{"$f":"IF(ISBLANK($G$24),ROUND(((N('Mix Design'!$K$80)*(1+N($G$24)/100))*N($E$21)),0),ROUND(((N('Mix Design'!$K$80)*(1+N($G$24)/100))*N($E$21)),0))","v":0},null,null,0,0]
[null,"Intermediate aggregate 2, wt.",null,null,"±2",{"$f":"IF(ISERROR(IF('Mix Proportions via ACI 211'!$J$54=\"Yes\",L43,M43)),\"\",IF('Mix Proportions via ACI 211'!$J$54=\"Yes\",L43,M43))","v":0},{"$f":"IF(ISERROR(IF('Mix Proportions via ACI 211'!$J$54=\"Yes\",ROUND((('Mix Proportions via ACI 211'!$K$89/27)*$E$21),2),ROUND((('Mix Design'!$I$81/27)*$E$21),2))),\"\",IF('Mix Proportions via ACI 211'!$J$54=\"Yes\",ROUND((('Mix Proportions via ACI 211'!$K$89/27)*$E$21),2),ROUND((('Mix Design'!$I$81/27)*$E$21),2)))","v":0},"0 - 0",null,"NA",null,{"$f":"IF(ISBLANK($H$24),ROUND(((N('Mix Proportions via ACI 211'!$L$89)*(1+N($H$24)/100))*N($E$21)),0),ROUND(((N('Mix Proportions via ACI 211'!$L$89)*(1+N($H$24)/100))*N($E$21)),0))","v":0},{"$f":"IF(ISBLANK($H$24),ROUND(((N('Mix Design'!$K$81)*(1+N($H$24)/100))*N($E$21)),0),ROUND(((N('Mix Design'!$K$81)*(1+N($H$24)/100))*N($E$21)),0))","v":0},null,null,0,0]
[null,"Air entraining admixture, volume",null,null,"±3",null,{"$f":"IF(ISERROR(CONCATENATE(O44,\" (oz.)\")),\"\",CONCATENATE(O44,\" (oz.)\"))","v":""},null,null,{"$f":"IF(ISERROR(CONCATENATE(R44,\" - \",S44,\" (oz.)\")),\"\",CONCATENATE(R44,\" - \",S44,\" (oz.)\"))","v":""},null,null,null,{"$f":"IF('Mix Proportions via ACI 211'!$J$54=\"Yes\",ROUND((N('Mix Proportions via ACI 211'!$G67)),1),ROUND((N('Mix Design'!$H62*('Mix Design'!$K$53/100))),1))","v":{"$error":"#VALUE!"}},{"$f":"ROUND((N44*N($E$21)),1)","v":{"$error":"#VALUE!"}},null,null,{"$f":"ROUND((O44*0.97),1)","v":{"$error":"#VALUE!"}},{"$f":"ROUND((O44*1.03),1)","v":{"$error":"#VALUE!"}}]
[null,"Set retarder, volume",null,null,"±3",null,"",null,null,"",null,null,null,{"$f":"IF('Mix Proportions via ACI 211'!$J$54=\"Yes\",ROUND((N('Mix Proportions via ACI 211'!$G68)),1),ROUND((N('Mix Design'!$H63*('Mix Design'!$K$53/100))),1))","v":{"$error":"#VALUE!"}},{"$error":"#VALUE!"},null,null,{"$error":"#VALUE!"},{"$error":"#VALUE!"}]
[null,"Accelerator, volume",null,null,"±3",null,"",null,null,"",null,null,null,{"$f":"IF('Mix Proportions via ACI 211'!$J$54=\"Yes\",ROUND((N('Mix Proportions via ACI 211'!$G69)),1),ROUND((N('Mix Design'!$H64*('Mix Design'!$K$53/100))),1))","v":{"$error":"#VALUE!"}},{"$error":"#VALUE!"},null,null,{"$error":"#VALUE!"},{"$error":"#VALUE!"}]
[null,"Water reducer, volume",null,null,"±3",null,"",null,null,"",null,null,null,{"$f":"IF('Mix Proportions via ACI 211'!$J$54=\"Yes\",ROUND((N('Mix Proportions via ACI 211'!$G70)),1),ROUND((N('Mix Design'!$H65*('Mix Design'!$K$53/100))),1))","v":{"$error":"#VALUE!"}},{"$error":"#VALUE!"},null,null,{"$error":"#VALUE!"},{"$error":"#VALUE!"}]
[null,"High-range water reducer, volume",null,null,"±3",null,"",null,null,"",null,null,null,{"$f":"IF('Mix Proportions via ACI 211'!$J$54=\"Yes\",ROUND((N('Mix Proportions via ACI 211'!$G71)),1),ROUND((N('Mix Design'!$H66*('Mix Design'!$K$53/100))),1))","v":{"$error":"#VALUE!"}},{"$error":"#VALUE!"},null,null,{"$error":"#VALUE!"},{"$error":"#VALUE!"}]
[null,"Water reducing retarder, volume",null,null,"±3",null,"",null,null,"",null,null,null,{"$f":"IF('Mix Proportions via ACI 211'!$J$54=\"Yes\",ROUND((N('Mix Proportions via ACI 211'!$G72)),1),ROUND((N('Mix Design'!$H67*('Mix Design'!$K$53/100))),1))","v":{"$error":"#VALUE!"}},{"$error":"#VALUE!"},null,null,{"$error":"#VALUE!"},{"$error":"#VALUE!"}]
[null,"High-range water reducing retarder, volume",null,null,"±3",null,"",null,null,"",null,null,null,{"$f":"IF('Mix Proportions via ACI 211'!$J$54=\"Yes\",ROUND((N('Mix Proportions via ACI 211'!$G73)),1),ROUND((N('Mix Design'!$H68*('Mix Design'!$K$53/100))),1))","v":{"$error":"#VALUE!"}},{"$error":"#VALUE!"},null,null,{"$error":"#VALUE!"},{"$error":"#VALUE!"}]
[null,"Lithium nitrate admixture, volume",null,null,"±3",null,"",null,null,"",null,null,null,{"$f":"IF('Mix Proportions via ACI 211'!$J$54=\"Yes\",ROUND((N('Mix Proportions via ACI 211'!$G74)),1),ROUND((N('Mix Design'!$H69*('Mix Design'!$K$53/100))),1))","v":{"$error":"#VALUE!"}},{"$error":"#VALUE!"},null,null,{"$error":"#VALUE!"},{"$error":"#VALUE!"}]
[null,"Corrosion inhibitor, volume",null,null,"±3",null,"",null,null,"",null,null,null,{"$f":"IF('Mix Proportions via ACI 211'!$J$54=\"Yes\",ROUND((N('Mix Proportions via ACI 211'!$G75)),1),ROUND((N('Mix Design'!$H70*('Mix Design'!$K$53/100))),1))","v":{"$error":"#VALUE!"}},{"$error":"#VALUE!"},null,null,{"$error":"#VALUE!"},{"$error":"#VALUE!"}]
[null,"Fibers, wt",null,null,"±2",{"$f":"IF(ISERROR(IF('Mix Proportions via ACI 211'!$J$54=\"Yes\",'Mix Proportions via ACI 211'!$L$80*$E$21,'Mix Design'!$K$75*$E$21)),\"\",IF('Mix Proportions via ACI 211'!$J$54=\"Yes\",'Mix Proportions via ACI 211'!$L$80*$E$21,'Mix Design'!$K$75*$E$21))","v":0},null,{"$f":"IF(ISERROR(CONCATENATE(P53,\" - \",Q53)),\"\",CONCATENATE(P53,\" - \",Q53))","v":"0 - 0"},null,"NA",null,null,null,null,null,{"$f":"ROUND((N(F53)*0.98),0)","v":0},{"$f":"ROUND((N(F53)*1.02),1)","v":0}]
[null,"Other, wt",null,null,"±2",{"$f":"IF(ISERROR(IF('Mix Proportions via ACI 211'!$J$54=\"Yes\",'Mix Proportions via ACI 211'!$L$81*$E$21,'Mix Design'!$K$76*$E$21)),\"\",IF('Mix Proportions via ACI 211'!$J$54=\"Yes\",'Mix Proportions via ACI 211'!$L$81*$E$21,'Mix Design'!$K$76*$E$21))","v":0},null,{"$f":"IF(ISERROR(CONCATENATE(P54,\" - \",Q54)),\"\",CONCATENATE(P54,\" - \",Q54))","v":"0 - 0"},null,"NA",null,null,null,null,null,{"$f":"ROUND((N(F54)*0.98),0)","v":0},{"$f":"ROUND((N(F54)*1.02),1)","v":0}]

{"sheet":"Producer Data","index":8,"n_rows":51,"n_cols":12,"rows_kept":51,"cut":false,"hidden":false,"merged":[[22,3,23,3],[22,5,23,5],[22,7,23,7],[22,9,23,9],[16,4,16,5],[21,4,21,5],[21,6,21,7],[21,8,21,9],[22,8,23,8],[13,2,13,3],[13,6,13,7],[13,8,13,9],[22,2,23,2],[22,4,23,4],[22,6,23,6],[16,6,16,7],[16,8,16,9],[21,2,21,3],[14,2,14,3],[14,4,14,9],[18,2,18,3],[18,7,18,8],[15,2,15,3],[15,4,15,9],[16,2,16,3],[9,2,9,3],[9,6,9,7],[10,8,10,9],[11,8,11,9],[12,4,12,5],[12,8,12,9],[10,2,10,3],[10,6,10,7],[11,2,11,3],[11,6,11,7],[10,4,10,5],[12,2,12,3],[12,6,12,7],[0,4,0,5],[49,7,49,8],[50,7,50,8],[0,1,0,2],[8,4,8,5],[11,4,11,5],[13,4,13,5],[8,8,8,9],[9,4,9,5],[9,8,9,9],[7,2,7,3],[7,4,7,5],[7,6,7,7],[7,8,7,9],[8,2,8,3],[8,6,8,7]]}
[null,"TxDOT Manuals >",null,null,"Return to Mix Design"]
[null,null,"HELP"]
[null,null,"TEXAS DEPARTMENT OF TRANSPORTATION",null,null,null,null,null,null,null,null,16]
[null,null,null,null,null,null,null,null,null,null,null,1]
[null,null,"HYDRAULIC CEMENT CONCRETE MIX DESIGN & CONTROL",null,null,null,null,null,null,null,null,"Tx417.xls::38117.490382"]
[null,null,"Producer Data"]
[]
[null,null,"SAMPLE ID",null,{"$f":"IF('Mix Design'!E8=\"\",\"\",'Mix Design'!E8)","v":""},null,"SAMPLED DATE:",null,{"$f":"IF('Mix Design'!I8=\"\",\"\",'Mix Design'!I8)","v":""}]
[null,null,"TEST NUMBER:",null,{"$f":"IF('Mix Design'!E9=\"\",\"\",'Mix Design'!E9)","v":""},null,"LETTING DATE:",null,{"$f":"IF('Mix Design'!I9=\"\",\"\",'Mix Design'!I9)","v":""}]
[null,null,"SAMPLE STATUS:",null,{"$f":"IF('Mix Design'!E10=\"\",\"\",'Mix Design'!E10)","v":""},null,"CONTROLLING CSJ:",null,{"$f":"IF('Mix Design'!I10=\"\",\"\",'Mix Design'!I10)","v":""}]
[null,null,"COUNTY:",null,{"$f":"IF('Mix Design'!E11=\"\",\"\",'Mix Design'!E11)","v":""},null,"SPEC YEAR:",null,{"$f":"IF('Mix Design'!I11=\"\",\"\",'Mix Design'!I11)","v":""}]
[null,null,"SAMPLED BY:",null,{"$f":"IF('Mix Design'!E12=\"\",\"\",'Mix Design'!E12)","v":""},null,"SPEC ITEM:",null,{"$f":"IF('Mix Design'!I12=\"\",\"\",'Mix Design'!I12)","v":""}]
[null,null,"SAMPLE LOCATION:",null,{"$f":"IF('Mix Design'!E13=\"\",\"\",'Mix Design'!E13)","v":""},null,"SPECIAL PROVISION:",null,{"$f":"IF('Mix Design'!I13=\"\",\"\",'Mix Design'!I13)","v":""}]
[null,null,"MATERIAL CODE:",null,{"$f":"IF('Mix Design'!E14=\"\",\"\",'Mix Design'!E14)","v":""},null,"CLASS:",null,{"$f":"IF('Mix Design'!I14=\"\",\"\",'Mix Design'!I14)","v":""}]
[null,null,"MATERIAL NAME:",null,{"$f":"IF('Mix Design'!E15=\"\",\"\",'Mix Design'!E15)","v":""}]
[null,null,"PRODUCER:",null,{"$f":"IF('Mix Design'!E16=\"\",\"\",'Mix Design'!E16)","v":""}]
[null,null,"AREA ENGINEER:",null,{"$f":"IF('Mix Design'!E17=\"\",\"\",'Mix Design'!E17)","v":""},null,"PROJECT MANAGER:",null,{"$f":"IF('Mix Design'!I17=\"\",\"\",'Mix Design'!I17)","v":""}]
[]
[null,null,"COURSE\\LIFT:",null,{"$f":"IF('Mix Design'!E19=\"\",\"\",'Mix Design'!E19)","v":""},"STATION:",{"$f":"IF('Mix Design'!G19=\"\",\"\",'Mix Design'!G19)","v":""},"DIST. FROM CL:",null,{"$f":"IF('Mix Design'!L19=\"\",\"\",'Mix Design'!L19)","v":""}]
[]
[null,null,"If the Producer's standard deviation is unknown, please enter data below to calculate."]
[null,null,"A",null,"B",null,"C",null,"D"]
[null,null,"Date","Compressive Strength, (psi)","Date","Compressive Strength, (psi)","Date","Compressive Strength, (psi)","Date","Compressive Strength, (psi)"]
[]
[null,1]
[null,2]
[null,3]
[null,4]
[null,5]
[null,6]
[null,7]
[null,8]
[null,9]
[null,10]
[null,11]
[null,12]
[null,13]
[null,14]
[null,15]
[null,16]
[null,17]
[null,18]
[null,19]
[null,20]
[null,21]
[null,22]
[null,23]
[null,24]
[null,25]
[null,null,null,null,null,null,null,"Standard Deviation:",null,{"$f":"IF(ISERROR(STDEV(D25:D49,F25:F49,H25:H49,J25:J49)),\"\",STDEV(D25:D49,F25:F49,H25:H49,J25:J49))","v":""}]
[null,null,null,null,null,null,null,"Number of Tests:",null,{"$f":"IF(COUNTBLANK(C25:J49)=200,\"\",COUNT(D25:D49,F25:F49,H25:H49,J25:J49))","v":""}]

{"sheet":"Effects of Air on Yield","index":9,"n_rows":35,"n_cols":15,"rows_kept":35,"cut":false,"hidden":false,"merged":[[22,3,23,3],[22,4,23,4],[22,5,23,5],[22,6,23,6],[18,1,18,2],[18,6,18,7],[16,7,16,8],[7,1,7,2],[7,3,7,4],[7,5,7,6],[7,7,7,8],[8,1,8,2],[8,5,8,6],[10,1,10,2],[14,1,14,2],[15,1,15,2],[15,3,15,8],[16,1,16,2],[8,7,8,8],[9,3,9,4],[9,1,9,2],[9,5,9,6],[13,5,13,6],[0,0,0,1],[8,3,8,4],[11,3,11,4],[13,3,13,4],[10,3,10,4],[12,3,12,4],[13,1,13,2],[11,1,11,2],[12,1,12,2],[22,14,23,14],[22,10,23,10],[22,11,23,11],[22,12,23,12],[9,7,9,8],[10,7,10,8],[11,7,11,8],[22,13,23,13],[12,7,12,8],[13,7,13,8],[14,3,14,8],[10,5,10,6],[11,5,11,6],[12,5,12,6],[16,3,16,4],[16,5,16,6]]}
["TxDOT Manuals >"]
[null,"HELP"]
[null,"TEXAS DEPARTMENT OF TRANSPORTATION",null,null,null,null,null,null,null,null,16]
[null,null,null,null,null,null,null,null,null,null,1]
[null,"HYDRAULIC CEMENT CONCRETE MIX DESIGN & CONTROL",null,null,null,null,null,null,null,null,"Tx417.xls::38117.490382"]
[null,"Effects of Various Air Contents on Design Yield"]
[]
[null,"SAMPLE ID",null,{"$f":"IF('Mix Design'!E8=\"\",\"\",'Mix Design'!E8)","v":""},null,"SAMPLED DATE:",null,{"$f":"IF('Mix Design'!I8=\"\",\"\",'Mix Design'!I8)","v":""}]
[null,"TEST NUMBER:",null,{"$f":"IF('Mix Design'!E9=\"\",\"\",'Mix Design'!E9)","v":""},null,"LETTING DATE:",null,{"$f":"IF('Mix Design'!I9=\"\",\"\",'Mix Design'!I9)","v":""}]
[null,"SAMPLE STATUS:",null,{"$f":"IF('Mix Design'!E10=\"\",\"\",'Mix Design'!E10)","v":""},null,"CONTROLLING CSJ:",null,{"$f":"IF('Mix Design'!I10=\"\",\"\",'Mix Design'!I10)","v":""}]
[null,"COUNTY:",null,{"$f":"IF('Mix Design'!E11=\"\",\"\",'Mix Design'!E11)","v":""},null,"SPEC YEAR:",null,{"$f":"IF('Mix Design'!I11=\"\",\"\",'Mix Design'!I11)","v":""}]
[null,"SAMPLED BY:",null,{"$f":"IF('Mix Design'!E12=\"\",\"\",'Mix Design'!E12)","v":""},null,"SPEC ITEM:",null,{"$f":"IF('Mix Design'!I12=\"\",\"\",'Mix Design'!I12)","v":""}]
[null,"SAMPLE LOCATION:",null,{"$f":"IF('Mix Design'!E13=\"\",\"\",'Mix Design'!E13)","v":""},null,"SPECIAL PROVISION:",null,{"$f":"IF('Mix Design'!I13=\"\",\"\",'Mix Design'!I13)","v":""}]
[null,"MATERIAL CODE:",null,{"$f":"IF('Mix Design'!E14=\"\",\"\",'Mix Design'!E14)","v":""},null,"CLASS:",null,{"$f":"IF('Mix Design'!I14=\"\",\"\",'Mix Design'!I14)","v":""}]
[null,"MATERIAL NAME:",null,{"$f":"IF('Mix Design'!E15=\"\",\"\",'Mix Design'!E15)","v":""}]
[null,"PRODUCER:",null,{"$f":"IF('Mix Design'!E16=\"\",\"\",'Mix Design'!E16)","v":""}]
[null,"AREA ENGINEER:",null,{"$f":"IF('Mix Design'!E17=\"\",\"\",'Mix Design'!E17)","v":""},null,"PROJECT MANAGER:",null,{"$f":"IF('Mix Design'!I17=\"\",\"\",'Mix Design'!I17)","v":""}]
[]
[null,"COURSE\\LIFT:",null,{"$f":"IF('Mix Design'!E19=\"\",\"\",'Mix Design'!E19)","v":""},"STATION:",{"$f":"IF('Mix Design'!G19=\"\",\"\",'Mix Design'!G19)","v":""},"DIST. FROM CL:",null,{"$f":"IF('Mix Design'!L19=\"\",\"\",'Mix Design'!L19)","v":""}]
[]
[null,"Informational Only"]
[]
[null,null,null,"Air Content, (%)","Volume of Air (ft3)","Total Weight / CY (lbs.)","Design Yield (lb/ft3)",null,null,null,"Remaining Volume for Fines","Fine Aggregate 1","Fine Aggregate 2","Fine Aggregate 1","Fine Aggregate 2"]
[null,null,null,null,"(ft3)","(lb)","(lb/ft3)"]
[null,null,null,0,{"$f":"IF(ISERROR(ROUND((27*(D25/100)),2)),\"\",ROUND((27*(D25/100)),2))","v":0},{"$f":"IF(ISERROR(ROUND((N('Mix Proportions via ACI 211'!$L$57)+SUM('Mix Proportions via ACI 211'!$L$59:$L$66)+SUM('Mix Proportions via ACI 211'!$L$80:$L$81)+SUM('Mix Proportions via ACI 211'!$L$86:$L$89)+SUM(N25:O25)),0)),\"\",ROUND((N('Mix Proportions via ACI 211'!$L$57)+SUM('Mix Proportions via ACI 211'!$L$59:$L$66)+SUM('Mix Proportions via ACI 211'!$L$80:$L$81)+SUM('Mix Proportions via ACI 211'!$L$86:$L$89)+SUM(N25:O25)),0))","v":0},{"$f":"IF(ISERROR(IF(ISERROR(ROUND((F25/27),1)),\"\",ROUND((F25/27),1))),\"\",IF(ISERROR(ROUND((F25/27),1)),\"\",ROUND((F25/27),1)))","v":0},null,null,null,{"$f":"27-(N('Mix Proportions via ACI 211'!$K$76)+SUM('Mix Proportions via ACI 211'!$K$86:$K$89)+E25)","v":27},{"$f":"K25*(N('Mix Proportions via ACI 211'!$F$93)/100)","v":0},{"$f":"K25*(N('Mix Proportions via ACI 211'!$F$94)/100)","v":0},{"$f":"ROUND(((N('Mix Proportions via ACI 211'!$G$93)*62.4)*L25),0)","v":0},{"$f":"ROUND(((N('Mix Proportions via ACI 211'!$G$94)*62.4)*M25),0)","v":0}]
[null,null,null,1,0.27,{"$f":"IF(ISERROR(ROUND((N('Mix Proportions via ACI 211'!$L$57)+SUM('Mix Proportions via ACI 211'!$L$59:$L$66)+SUM('Mix Proportions via ACI 211'!$L$80:$L$81)+SUM('Mix Proportions via ACI 211'!$L$86:$L$89)+SUM(N26:O26)),0)),\"\",ROUND((N('Mix Proportions via ACI 211'!$L$57)+SUM('Mix Proportions via ACI 211'!$L$59:$L$66)+SUM('Mix Proportions via ACI 211'!$L$80:$L$81)+SUM('Mix Proportions via ACI 211'!$L$86:$L$89)+SUM(N26:O26)),0))","v":0},0,null,null,null,{"$f":"27-(N('Mix Proportions via ACI 211'!$K$76)+SUM('Mix Proportions via ACI 211'!$K$86:$K$89)+E26)","v":26.73},{"$f":"K26*(N('Mix Proportions via ACI 211'!$F$93)/100)","v":0},{"$f":"K26*(N('Mix Proportions via ACI 211'!$F$94)/100)","v":0},{"$f":"ROUND(((N('Mix Proportions via ACI 211'!$G$93)*62.4)*L26),0)","v":0},{"$f":"ROUND(((N('Mix Proportions via ACI 211'!$G$94)*62.4)*M26),0)","v":0}]
[null,null,null,2,0.54,{"$f":"IF(ISERROR(ROUND((N('Mix Proportions via ACI 211'!$L$57)+SUM('Mix Proportions via ACI 211'!$L$59:$L$66)+SUM('Mix Proportions via ACI 211'!$L$80:$L$81)+SUM('Mix Proportions via ACI 211'!$L$86:$L$89)+SUM(N27:O27)),0)),\"\",ROUND((N('Mix Proportions via ACI 211'!$L$57)+SUM('Mix Proportions via ACI 211'!$L$59:$L$66)+SUM('Mix Proportions via ACI 211'!$L$80:$L$81)+SUM('Mix Proportions via ACI 211'!$L$86:$L$89)+SUM(N27:O27)),0))","v":0},0,null,null,null,{"$f":"27-(N('Mix Proportions via ACI 211'!$K$76)+SUM('Mix Proportions via ACI 211'!$K$86:$K$89)+E27)","v":26.46},{"$f":"K27*(N('Mix Proportions via ACI 211'!$F$93)/100)","v":0},{"$f":"K27*(N('Mix Proportions via ACI 211'!$F$94)/100)","v":0},{"$f":"ROUND(((N('Mix Proportions via ACI 211'!$G$93)*62.4)*L27),0)","v":0},{"$f":"ROUND(((N('Mix Proportions via ACI 211'!$G$94)*62.4)*M27),0)","v":0}]
[null,null,null,3,0.81,{"$f":"IF(ISERROR(ROUND((N('Mix Proportions via ACI 211'!$L$57)+SUM('Mix Proportions via ACI 211'!$L$59:$L$66)+SUM('Mix Proportions via ACI 211'!$L$80:$L$81)+SUM('Mix Proportions via ACI 211'!$L$86:$L$89)+SUM(N28:O28)),0)),\"\",ROUND((N('Mix Proportions via ACI 211'!$L$57)+SUM('Mix Proportions via ACI 211'!$L$59:$L$66)+SUM('Mix Proportions via ACI 211'!$L$80:$L$81)+SUM('Mix Proportions via ACI 211'!$L$86:$L$89)+SUM(N28:O28)),0))","v":0},0,null,null,null,{"$f":"27-(N('Mix Proportions via ACI 211'!$K$76)+SUM('Mix Proportions via ACI 211'!$K$86:$K$89)+E28)","v":26.19},{"$f":"K28*(N('Mix Proportions via ACI 211'!$F$93)/100)","v":0},{"$f":"K28*(N('Mix Proportions via ACI 211'!$F$94)/100)","v":0},{"$f":"ROUND(((N('Mix Proportions via ACI 211'!$G$93)*62.4)*L28),0)","v":0},{"$f":"ROUND(((N('Mix Proportions via ACI 211'!$G$94)*62.4)*M28),0)","v":0}]
[null,null,null,4,1.08,{"$f":"IF(ISERROR(ROUND((N('Mix Proportions via ACI 211'!$L$57)+SUM('Mix Proportions via ACI 211'!$L$59:$L$66)+SUM('Mix Proportions via ACI 211'!$L$80:$L$81)+SUM('Mix Proportions via ACI 211'!$L$86:$L$89)+SUM(N29:O29)),0)),\"\",ROUND((N('Mix Proportions via ACI 211'!$L$57)+SUM('Mix Proportions via ACI 211'!$L$59:$L$66)+SUM('Mix Proportions via ACI 211'!$L$80:$L$81)+SUM('Mix Proportions via ACI 211'!$L$86:$L$89)+SUM(N29:O29)),0))","v":0},0,null,null,null,{"$f":"27-(N('Mix Proportions via ACI 211'!$K$76)+SUM('Mix Proportions via ACI 211'!$K$86:$K$89)+E29)","v":25.92},{"$f":"K29*(N('Mix Proportions via ACI 211'!$F$93)/100)","v":0},{"$f":"K29*(N('Mix Proportions via ACI 211'!$F$94)/100)","v":0},{"$f":"ROUND(((N('Mix Proportions via ACI 211'!$G$93)*62.4)*L29),0)","v":0},{"$f":"ROUND(((N('Mix Proportions via ACI 211'!$G$94)*62.4)*M29),0)","v":0}]
[null,null,null,5,1.35,{"$f":"IF(ISERROR(ROUND((N('Mix Proportions via ACI 211'!$L$57)+SUM('Mix Proportions via ACI 211'!$L$59:$L$66)+SUM('Mix Proportions via ACI 211'!$L$80:$L$81)+SUM('Mix Proportions via ACI 211'!$L$86:$L$89)+SUM(N30:O30)),0)),\"\",ROUND((N('Mix Proportions via ACI 211'!$L$57)+SUM('Mix Proportions via ACI 211'!$L$59:$L$66)+SUM('Mix Proportions via ACI 211'!$L$80:$L$81)+SUM('Mix Proportions via ACI 211'!$L$86:$L$89)+SUM(N30:O30)),0))","v":0},0,null,null,null,{"$f":"27-(N('Mix Proportions via ACI 211'!$K$76)+SUM('Mix Proportions via ACI 211'!$K$86:$K$89)+E30)","v":25.65},{"$f":"K30*(N('Mix Proportions via ACI 211'!$F$93)/100)","v":0},{"$f":"K30*(N('Mix Proportions via ACI 211'!$F$94)/100)","v":0},{"$f":"ROUND(((N('Mix Proportions via ACI 211'!$G$93)*62.4)*L30),0)","v":0},{"$f":"ROUND(((N('Mix Proportions via ACI 211'!$G$94)*62.4)*M30),0)","v":0}]
[null,null,null,6,1.62,{"$f":"IF(ISERROR(ROUND((N('Mix Proportions via ACI 211'!$L$57)+SUM('Mix Proportions via ACI 211'!$L$59:$L$66)+SUM('Mix Proportions via ACI 211'!$L$80:$L$81)+SUM('Mix Proportions via ACI 211'!$L$86:$L$89)+SUM(N31:O31)),0)),\"\",ROUND((N('Mix Proportions via ACI 211'!$L$57)+SUM('Mix Proportions via ACI 211'!$L$59:$L$66)+SUM('Mix Proportions via ACI 211'!$L$80:$L$81)+SUM('Mix Proportions via ACI 211'!$L$86:$L$89)+SUM(N31:O31)),0))","v":0},0,null,null,null,{"$f":"27-(N('Mix Proportions via ACI 211'!$K$76)+SUM('Mix Proportions via ACI 211'!$K$86:$K$89)+E31)","v":25.38},{"$f":"K31*(N('Mix Proportions via ACI 211'!$F$93)/100)","v":0},{"$f":"K31*(N('Mix Proportions via ACI 211'!$F$94)/100)","v":0},{"$f":"ROUND(((N('Mix Proportions via ACI 211'!$G$93)*62.4)*L31),0)","v":0},{"$f":"ROUND(((N('Mix Proportions via ACI 211'!$G$94)*62.4)*M31),0)","v":0}]
[null,null,null,7,1.89,{"$f":"IF(ISERROR(ROUND((N('Mix Proportions via ACI 211'!$L$57)+SUM('Mix Proportions via ACI 211'!$L$59:$L$66)+SUM('Mix Proportions via ACI 211'!$L$80:$L$81)+SUM('Mix Proportions via ACI 211'!$L$86:$L$89)+SUM(N32:O32)),0)),\"\",ROUND((N('Mix Proportions via ACI 211'!$L$57)+SUM('Mix Proportions via ACI 211'!$L$59:$L$66)+SUM('Mix Proportions via ACI 211'!$L$80:$L$81)+SUM('Mix Proportions via ACI 211'!$L$86:$L$89)+SUM(N32:O32)),0))","v":0},0,null,null,null,{"$f":"27-(N('Mix Proportions via ACI 211'!$K$76)+SUM('Mix Proportions via ACI 211'!$K$86:$K$89)+E32)","v":25.11},{"$f":"K32*(N('Mix Proportions via ACI 211'!$F$93)/100)","v":0},{"$f":"K32*(N('Mix Proportions via ACI 211'!$F$94)/100)","v":0},{"$f":"ROUND(((N('Mix Proportions via ACI 211'!$G$93)*62.4)*L32),0)","v":0},{"$f":"ROUND(((N('Mix Proportions via ACI 211'!$G$94)*62.4)*M32),0)","v":0}]
[null,null,null,8,2.16,{"$f":"IF(ISERROR(ROUND((N('Mix Proportions via ACI 211'!$L$57)+SUM('Mix Proportions via ACI 211'!$L$59:$L$66)+SUM('Mix Proportions via ACI 211'!$L$80:$L$81)+SUM('Mix Proportions via ACI 211'!$L$86:$L$89)+SUM(N33:O33)),0)),\"\",ROUND((N('Mix Proportions via ACI 211'!$L$57)+SUM('Mix Proportions via ACI 211'!$L$59:$L$66)+SUM('Mix Proportions via ACI 211'!$L$80:$L$81)+SUM('Mix Proportions via ACI 211'!$L$86:$L$89)+SUM(N33:O33)),0))","v":0},0,null,null,null,{"$f":"27-(N('Mix Proportions via ACI 211'!$K$76)+SUM('Mix Proportions via ACI 211'!$K$86:$K$89)+E33)","v":24.84},{"$f":"K33*(N('Mix Proportions via ACI 211'!$F$93)/100)","v":0},{"$f":"K33*(N('Mix Proportions via ACI 211'!$F$94)/100)","v":0},{"$f":"ROUND(((N('Mix Proportions via ACI 211'!$G$93)*62.4)*L33),0)","v":0},{"$f":"ROUND(((N('Mix Proportions via ACI 211'!$G$94)*62.4)*M33),0)","v":0}]
[null,null,null,9,2.4300000000000002,{"$f":"IF(ISERROR(ROUND((N('Mix Proportions via ACI 211'!$L$57)+SUM('Mix Proportions via ACI 211'!$L$59:$L$66)+SUM('Mix Proportions via ACI 211'!$L$80:$L$81)+SUM('Mix Proportions via ACI 211'!$L$86:$L$89)+SUM(N34:O34)),0)),\"\",ROUND((N('Mix Proportions via ACI 211'!$L$57)+SUM('Mix Proportions via ACI 211'!$L$59:$L$66)+SUM('Mix Proportions via ACI 211'!$L$80:$L$81)+SUM('Mix Proportions via ACI 211'!$L$86:$L$89)+SUM(N34:O34)),0))","v":0},0,null,null,null,{"$f":"27-(N('Mix Proportions via ACI 211'!$K$76)+SUM('Mix Proportions via ACI 211'!$K$86:$K$89)+E34)","v":24.57},{"$f":"K34*(N('Mix Proportions via ACI 211'!$F$93)/100)","v":0},{"$f":"K34*(N('Mix Proportions via ACI 211'!$F$94)/100)","v":0},{"$f":"ROUND(((N('Mix Proportions via ACI 211'!$G$93)*62.4)*L34),0)","v":0},{"$f":"ROUND(((N('Mix Proportions via ACI 211'!$G$94)*62.4)*M34),0)","v":0}]
[null,null,null,"Calculations based on Mix Proportions via ACI 211"]

{"sheet":"2004, Item 421 Info","index":10,"n_rows":73,"n_cols":6,"rows_kept":73,"cut":false,"hidden":false,"merged":[[72,2,72,8],[0,0,0,1],[32,0,32,8],[2,0,2,8],[28,0,28,8],[29,0,29,8],[30,0,30,8],[31,0,31,8],[24,4,24,8],[25,4,25,8],[27,0,27,8],[26,0,26,8],[20,4,20,8],[21,4,21,8],[22,4,22,8],[23,4,23,8],[15,4,15,8],[17,4,17,8],[19,4,19,8],[14,4,14,8],[16,4,16,8],[18,4,18,8],[47,3,47,4],[48,3,48,4],[43,5,43,6],[36,5,36,6],[37,5,37,6],[38,5,38,6],[39,5,39,6],[41,3,41,4],[42,3,42,4],[43,3,43,4],[48,5,48,6],[44,5,44,6],[45,5,45,6],[46,5,46,6],[47,5,47,6],[40,5,40,6],[47,0,47,2],[48,0,48,2],[41,0,41,2],[42,0,42,2],[43,0,43,2],[44,0,44,2],[46,0,46,2],[40,0,40,2],[36,3,36,4],[37,3,37,4],[38,3,38,4],[36,0,36,2],[37,0,37,2],[38,0,38,2],[39,0,39,2],[44,3,44,4],[45,3,45,4],[46,3,46,4],[39,3,39,4],[40,3,40,4],[1,0,1,8],[4,0,4,8],[5,0,5,8],[6,4,6,8],[45,0,45,2],[34,0,34,6],[35,0,35,6],[41,5,41,6],[42,5,42,6],[9,4,9,8],[11,4,11,8],[12,4,12,8],[7,4,7,8],[8,4,8,8],[10,4,10,8],[13,4,13,8],[53,0,53,8],[54,0,54,8],[65,1,65,2],[65,3,65,7],[66,3,66,7],[58,1,58,8],[59,1,59,8],[60,1,60,8],[55,0,55,8],[56,0,56,8],[61,1,61,8],[62,1,62,8],[63,1,63,8],[64,1,64,8],[57,0,57,8],[68,1,68,8],[71,2,71,8],[67,1,67,8],[70,1,70,8],[69,1,69,8]]}
["Return to Mix Design",null,"Item 421","Item 421 Special Provisions"]
["2004 Texas Standard Specifications"]
["Item 421"]
[]
["Table 5"]
["Concrete Classes"]
["Class of Concrete","Design Strength, Min.           28-day f'c (psi)","Maximum W/C Ratio1","Coarse Aggregate Grades2,3","General Usage4"]
["A",3000,0.6,"1-4, 8","Inlets, manholes, curb, gutter, curb & gutter, conc. retards, sidewalks, driveways, backup walls, anchors"]
["B",2000,0.6,"2-7","Riprap, small roadside signs, and anchors"]
["C5",3600,0.45,"1-6","Drilled shafts, bridge substructure, bridge railing, culverts except top slab of direct traffic culverts, headwalls, wing walls, approach slabs, concrete traffic barrier (cast-in-place)"]
["C(HPC)5",3600,0.45,"1-6","As shown on the plans"]
["D",1500,0.6,"2-7","Riprap"]
["E",3000,0.5,"2-5","Seal concrete"]
["F5","Note 6",0.45,"2-5","Railroad structures; occasionally for bridge piers, columns, or bents"]
["F(HPC)5","Note 6",0.45,"2-5","As shown on the plans"]
["H5","Note 6",0.45,"3-6","Prestressed concrete beams, boxes, piling, and concrete traffic barrier (precast)"]
["H(HPC)5","Note 6",0.45,"3-6","As shown on the plans"]
["S5",4000,0.45,"2-5","Bridge slabs, top slabs of direct traffic culverts"]
["S(HPC)5",4000,0.45,"2-5","As shown on the plans"]
["P","See Item 360",0.45,"2-3","Concrete pavement"]
["DC5",5500,0.4,6,"Dense conc. overlay"]
["CO5",4600,0.4,6,"Conc. overlay"]
["LMC5",4000,0.4,"6-8","Latex-modified concrete overlay"]
["SS5","Note 7",0.45,"4-6","Slurry displacement shafts, underwater drilled shafts"]
["K5","Note 6",0.45,"Note 6","Note 6"]
["HES","Note 6",0.45,"Note 6","Note 6"]
["1. Maxium water-cement or water-cementitious ratio by weight."]
["2. Unless otherwise permitted, do not use Grade 1 coarse aggregate except in massive foundations with 4-in. minimum clear spacing between reinforcing steel bars. Do not use Grade 1 aggregate in drilled shafts."]
["3. Unless otherwise approved, use Grade 8 aggregate in extruded curbs."]
["4. For information only."]
["5. Structural concrete classes."]
["6. As shown on the plans or specified."]
["7. Use a minimum cementitious material content of 650 lb/cy of concrete. Do not apply Table 6 over design requirements to Class SS concrete."]
[]
["Table 8"]
["Slump Requirements"]
["Concrete Designation",null,null,"Recommended Design and Placement Slump, in.",null,"Maximum Acceptable Placement Slump, in."]
["Drilled shafts",null,null,"See Item 416",null,"See Item 416"]
["Thin walled section (9 in. or less)",null,null,4,null,6.5]
["Approach slabs, concrete overlays, caps, columns, piers, wall sections (over 9 in.)",null,null,3,null,5]
["Bridge slabs",null,null,4,null,5.5]
["Prestressed concrete members1",null,null,4,null,6.5]
["Concrete traffic barrier, concrete bridge railing",null,null,4,null,6.5]
["Dense concrete overlay",null,null,0.75,null,2]
["Latex-modified conc. for bridge deck overlays",null,null,3,null,7.5]
["Concrete placed underwater",null,null,6,null,8.5]
["Concrete pavement (slip-formed)",null,null,1.5,null,"3"]
["Concrete pavement (formed)",null,null,4,null,6.5]
["Riprap, cub, gutter, slip-formed, and extruded concrete",null,null,"As approved",null,"As approved"]
["1. If a high-range water reducer (HRWR) is used, maximum acceptable placement slump will be 9 in."]
[]
[]
[]
["421.4.A.6"]
["Mix Design Options"]
["   For structural concrete identified in Table 5 and any other class of concrete designed using more than 520 lb. of cementitious material per cubic yard, use one of the mix design Options 1-8 shown below, unless otherwise shown on the plans."]
["   For concrete classes not identified as structural concrete in Table 5 and designed using less than 520 lb. of cementititious material per cubic yard, use one of the mix design Options 1-8 shown below, except that Class C fly ash may be used instead of Class F fly ash for Options 1, 3, and 4 unless sulfate-resistant concrete is required."]
["   Do not use mix design options 6 or 7 when High Performance Concrete (HPC) is required. Option 8 may be used when HPC is required provided: a minimum of 20% of the cement is replaced with a Class C fly ash; Tex-440-A, \"Initial Time of Set of Fresh Concrete\" is performed during mix design verification; the additional requirements for permeability are met; and the concrete is not required to be sulfate-resistant."]
["Option 1","Replace 20 to 35% of the cement with Class F fly ash."]
["Option 2","Replace 35 to 50% of the cement with GGBFS or MFFA."]
["Option 3","Replace 35 to 50% of the cement with a combination of Class F fly ash, GGBFS, MFFA, UFFA, metakaolin, or silica fume. However, no more than 35% may be fly ash, and no more than 10% may be silica fume."]
["Option 4","Use Type IP or Type IS cement. (Up to 10% of a Type IP or Type IS cement may be replaced with Class F fly ash, GGBFS, or silica fume.)"]
["Option 5","Replace 35 to 50% of the cement with a combination of Class C fly ash and at least 6% of silica fume, UFFA, or metakaolin. However, no more than 35% may be Class C fly ash, and nor more than 10% may be silica fume."]
["Option 6","Use lithium nitrate admixture at a minimum dosage determined by testing conducted in accordance with Tex-471-A, \"Lithium Dosage Determination Using Accelerated Mortar Bar Testing.\" Before use of the mix, provide an annual certified test report signed and sealed by a licensed professional engineer, from a laboratory on the Department's List of Approved Lithium Testing Laboratories, certied by the Construction Division as being capable of testing according to Tex-471-A, \"Lithium Dosage Determination Using Accelerated Mortar Bar Testing.\""]
["Option 7","When using hydraulic cement only, ensure that the total alkali contribution from the cement in the concrete does not exceed 3.50 lb. per cubic yard of concrete when calculated as follows:"]
[null,"lb. alkali per cu. yd. =",null,"(lb. cement per cu. yd.) x (% Na2O equivalent in cement)"]
[null,null,null,100]
[null,"In the above calculation, use the maximum cement alkali content reported on the cement mill certificate."]
[null,"Do not use Option 7 when any of the aggregates in the concrete are listed on the Department's List of Aggregate Sources Excluded from Option 7 ASR Mitigation."]
["Option 8","For any deviations from Options 1-5, perform annual testing on both coarse, intermediate, and fine aggregate separately in accordance with ASTM C 1567. Before use of the mix, provide a certified test report signed and sealed by a licensed professional engineer, from a laboratory on the Department's List of Approved ASTM C 1260 Laboratories, demonstrating that the ASTM C 1567 test result for each aggregate does not exceed 0.10% expansion at 14 days."]
[null,"Do not use Option 8 when any of the aggregates in the concrete are listed on the Department's List of Aggregate Sources Excluded from Option 8 ASR Mitigation. When HPC is required, provide a certified test report signed and sealed by a licensed professional engineer demonstrating that the AASHTO T 277 test results indicate the permeability of the concrete is less than 1,500 coulombs tested immediately after either of the following curing schedules:"]
[null,"●","Moist cure specimens 56 days at 73°F."]
[null,"●","Moist cure specimens 7 days at 73°F followed by 21 days at 100°F."]

{"sheet":"RX","index":11,"n_rows":1105,"n_cols":9,"rows_kept":1105,"cut":false,"hidden":true,"merged":[]}
[1103,{"$f":"SampleId","v":0},{"$f":"TestNumber","v":0}]
["Fld_nbr","Value","Desc_1","Desc_2","Desc_3","Desc_4","Desc_5","Desc_6","Desc_7"]
[1,{"$f":"IF('Mix Design'!$B$106=\"\",\"\",'Mix Design'!$B$106)","v":""},{"$f":"IF('Mix Design'!$B$105=\"\",\"\",'Mix Design'!$B$105)","v":"Remarks:"}]
[2,{"$f":"IF('Mix Design'!$E$19=\"\",\"\",'Mix Design'!$E$19)","v":""},{"$f":"IF('Mix Design'!$B$19=\"\",\"\",'Mix Design'!$B$19)","v":"COURSE\\LIFT:"}]
[3,{"$f":"IF('Mix Design'!$I$14=\"\",\"\",'Mix Design'!$I$14)","v":""},{"$f":"IF('Mix Design'!$H$14=\"\",\"\",'Mix Design'!$H$14)","v":"CLASS:"}]
[4,{"$f":"IF('Mix Design'!$D$21=\"\",\"\",'Mix Design'!$D$21)","v":""},{"$f":"IF('Mix Design'!$B$6=\"\",\"\",'Mix Design'!$B$6)","v":"Mix Design"},{"$f":"IF('Mix Design'!$B$21=\"\",\"\",'Mix Design'!$B$21)","v":"Plant:"}]
[5,{"$f":"IF('Mix Design'!$G$21=\"\",\"\",'Mix Design'!$G$21)","v":""},{"$f":"IF('Mix Design'!$B$6=\"\",\"\",'Mix Design'!$B$6)","v":"Mix Design"},{"$f":"IF('Mix Design'!$F$21=\"\",\"\",'Mix Design'!$F$21)","v":"Design #:"}]
[6,{"$f":"IF('Mix Design'!$K$21=\"\",\"\",'Mix Design'!$K$21)","v":""},{"$f":"IF('Mix Design'!$B$6=\"\",\"\",'Mix Design'!$B$6)","v":"Mix Design"},{"$f":"IF('Mix Design'!$I$21=\"\",\"\",'Mix Design'!$I$21)","v":"Date:"}]
[7,{"$f":"IF('Mix Design'!$F$25=\"\",\"\",'Mix Design'!$F$25)","v":""},{"$f":"IF('Mix Design'!$B$6=\"\",\"\",'Mix Design'!$B$6)","v":"Mix Design"},{"$f":"IF('Mix Design'!$B$24=\"\",\"\",'Mix Design'!$B$24)","v":"PROJECT SUMMARY"},{"$f":"IF('Mix Design'!$B$25=\"\",\"\",'Mix Design'!$B$25)","v":"Design Strength, Min. 28-day f'c (psi):"}]
[8,{"$f":"IF('Mix Design'!$G$25=\"\",\"\",'Mix Design'!$G$25)","v":""},{"$f":"IF('Mix Design'!$B$6=\"\",\"\",'Mix Design'!$B$6)","v":"Mix Design"},{"$f":"IF('Mix Design'!$B$24=\"\",\"\",'Mix Design'!$B$24)","v":"PROJECT SUMMARY"},{"$f":"IF('Mix Design'!$B$25=\"\",\"\",'Mix Design'!$B$25)","v":"Design Strength, Min. 28-day f'c (psi):"}]
[9,{"$f":"IF('Mix Design'!$F$26=\"\",\"\",'Mix Design'!$F$26)","v":""},{"$f":"IF('Mix Design'!$B$6=\"\",\"\",'Mix Design'!$B$6)","v":"Mix Design"},{"$f":"IF('Mix Design'!$B$24=\"\",\"\",'Mix Design'!$B$24)","v":"PROJECT SUMMARY"},{"$f":"IF('Mix Design'!$B$26=\"\",\"\",'Mix Design'!$B$26)","v":"Maximum W/C Ratio:"}]
[10,{"$f":"IF('Mix Design'!$G$26=\"\",\"\",'Mix Design'!$G$26)","v":""},{"$f":"IF('Mix Design'!$B$6=\"\",\"\",'Mix Design'!$B$6)","v":"Mix Design"},{"$f":"IF('Mix Design'!$B$24=\"\",\"\",'Mix Design'!$B$24)","v":"PROJECT SUMMARY"},{"$f":"IF('Mix Design'!$B$26=\"\",\"\",'Mix Design'!$B$26)","v":"Maximum W/C Ratio:"}]
[11,{"$f":"IF('Mix Design'!$F$27=\"\",\"\",'Mix Design'!$F$27)","v":""},{"$f":"IF('Mix Design'!$B$6=\"\",\"\",'Mix Design'!$B$6)","v":"Mix Design"},{"$f":"IF('Mix Design'!$B$24=\"\",\"\",'Mix Design'!$B$24)","v":"PROJECT SUMMARY"},{"$f":"IF('Mix Design'!$B$27=\"\",\"\",'Mix Design'!$B$27)","v":"Max. Nominal Aggregate Size (inches):"}]
[12,{"$f":"IF('Mix Design'!$G$27=\"\",\"\",'Mix Design'!$G$27)","v":""},{"$f":"IF('Mix Design'!$B$6=\"\",\"\",'Mix Design'!$B$6)","v":"Mix Design"},{"$f":"IF('Mix Design'!$B$24=\"\",\"\",'Mix Design'!$B$24)","v":"PROJECT SUMMARY"},{"$f":"IF('Mix Design'!$B$27=\"\",\"\",'Mix Design'!$B$27)","v":"Max. Nominal Aggregate Size (inches):"}]
[13,{"$f":"IF('Mix Design'!$F$28=\"\",\"\",'Mix Design'!$F$28)","v":""},{"$f":"IF('Mix Design'!$B$6=\"\",\"\",'Mix Design'!$B$6)","v":"Mix Design"},{"$f":"IF('Mix Design'!$B$24=\"\",\"\",'Mix Design'!$B$24)","v":"PROJECT SUMMARY"},{"$f":"IF('Mix Design'!$B$28=\"\",\"\",'Mix Design'!$B$28)","v":"Min. Nominal Aggregate Size (inches):"}]
[14,{"$f":"IF('Mix Design'!$G$28=\"\",\"\",'Mix Design'!$G$28)","v":""},{"$f":"IF('Mix Design'!$B$6=\"\",\"\",'Mix Design'!$B$6)","v":"Mix Design"},{"$f":"IF('Mix Design'!$B$24=\"\",\"\",'Mix Design'!$B$24)","v":"PROJECT SUMMARY"},{"$f":"IF('Mix Design'!$B$28=\"\",\"\",'Mix Design'!$B$28)","v":"Min. Nominal Aggregate Size (inches):"}]
[15,{"$f":"IF('Mix Design'!$F$29=\"\",\"\",'Mix Design'!$F$29)","v":""},{"$f":"IF('Mix Design'!$B$6=\"\",\"\",'Mix Design'!$B$6)","v":"Mix Design"},{"$f":"IF('Mix Design'!$B$24=\"\",\"\",'Mix Design'!$B$24)","v":"PROJECT SUMMARY"},{"$f":"IF('Mix Design'!$B$29=\"\",\"\",'Mix Design'!$B$29)","v":"Nominal Maximum Aggregate Size, (inches):"}]
[16,{"$f":"IF('Mix Design'!$F$30=\"\",\"\",'Mix Design'!$F$30)","v":""},{"$f":"IF('Mix Design'!$B$6=\"\",\"\",'Mix Design'!$B$6)","v":"Mix Design"},{"$f":"IF('Mix Design'!$B$24=\"\",\"\",'Mix Design'!$B$24)","v":"PROJECT SUMMARY"},{"$f":"IF('Mix Design'!$D$30=\"\",\"\",'Mix Design'!$D$30)","v":"Initial Slump, (inches):"}]
[17,{"$f":"IF('Mix Design'!$F$31=\"\",\"\",'Mix Design'!$F$31)","v":""},{"$f":"IF('Mix Design'!$B$6=\"\",\"\",'Mix Design'!$B$6)","v":"Mix Design"},{"$f":"IF('Mix Design'!$B$24=\"\",\"\",'Mix Design'!$B$24)","v":"PROJECT SUMMARY"},{"$f":"IF('Mix Design'!$B$31=\"\",\"\",'Mix Design'!$B$31)","v":"Optimized Gradation Design:"}]
[18,{"$f":"IF('Mix Design'!$M$25=\"\",\"\",'Mix Design'!$M$25)","v":""},{"$f":"IF('Mix Design'!$B$6=\"\",\"\",'Mix Design'!$B$6)","v":"Mix Design"},{"$f":"IF('Mix Design'!$J$24=\"\",\"\",'Mix Design'!$J$24)","v":"SELECTING AIR-ENTRAINMENT"},{"$f":"IF('Mix Design'!$J$25=\"\",\"\",'Mix Design'!$J$25)","v":"Air-Entrained:"}]
[19,{"$f":"IF('Mix Design'!$M$26=\"\",\"\",'Mix Design'!$M$26)","v":""},{"$f":"IF('Mix Design'!$B$6=\"\",\"\",'Mix Design'!$B$6)","v":"Mix Design"},{"$f":"IF('Mix Design'!$J$24=\"\",\"\",'Mix Design'!$J$24)","v":"SELECTING AIR-ENTRAINMENT"},{"$f":"IF('Mix Design'!$J$26=\"\",\"\",'Mix Design'!$J$26)","v":"Pavement:"}]
[20,{"$f":"IF('Mix Design'!$M$27=\"\",\"\",'Mix Design'!$M$27)","v":""},{"$f":"IF('Mix Design'!$B$6=\"\",\"\",'Mix Design'!$B$6)","v":"Mix Design"},{"$f":"IF('Mix Design'!$J$24=\"\",\"\",'Mix Design'!$J$24)","v":"SELECTING AIR-ENTRAINMENT"},{"$f":"IF('Mix Design'!$J$27=\"\",\"\",'Mix Design'!$J$27)","v":"Reduce air content by 1%, based on strength above 5,000 psi?:"}]
[21,{"$f":"IF('Mix Design'!$M$29=\"\",\"\",'Mix Design'!$M$29)","v":""},{"$f":"IF('Mix Design'!$B$6=\"\",\"\",'Mix Design'!$B$6)","v":"Mix Design"},{"$f":"IF('Mix Design'!$J$24=\"\",\"\",'Mix Design'!$J$24)","v":"SELECTING AIR-ENTRAINMENT"},{"$f":"IF('Mix Design'!$J$29=\"\",\"\",'Mix Design'!$J$29)","v":"Specified total air content, %:"}]
[22,{"$f":"IF('Mix Design'!$M$30=\"\",\"\",'Mix Design'!$M$30)","v":""},{"$f":"IF('Mix Design'!$B$6=\"\",\"\",'Mix Design'!$B$6)","v":"Mix Design"},{"$f":"IF('Mix Design'!$J$24=\"\",\"\",'Mix Design'!$J$24)","v":"SELECTING AIR-ENTRAINMENT"},{"$f":"IF('Mix Design'!$J$30=\"\",\"\",'Mix Design'!$J$30)","v":"Plan note air content, %:"}]
[23,{"$f":"IF('Mix Design'!$M$31=\"\",\"\",'Mix Design'!$M$31)","v":0},{"$f":"IF('Mix Design'!$B$6=\"\",\"\",'Mix Design'!$B$6)","v":"Mix Design"},{"$f":"IF('Mix Design'!$J$24=\"\",\"\",'Mix Design'!$J$24)","v":"SELECTING AIR-ENTRAINMENT"},{"$f":"IF('Mix Design'!$J$31=\"\",\"\",'Mix Design'!$J$31)","v":"Approximate entrapped air content, % :"}]
[24,{"$f":"IF('Mix Design'!$M$32=\"\",\"\",'Mix Design'!$M$32)","v":""},{"$f":"IF('Mix Design'!$B$6=\"\",\"\",'Mix Design'!$B$6)","v":"Mix Design"},{"$f":"IF('Mix Design'!$J$24=\"\",\"\",'Mix Design'!$J$24)","v":"SELECTING AIR-ENTRAINMENT"},{"$f":"IF('Mix Design'!$J$32=\"\",\"\",'Mix Design'!$J$32)","v":"Entrapped air content different from above, % :"}]
[25,{"$f":"IF('Mix Design'!$H$34=\"\",\"\",'Mix Design'!$H$34)","v":""},{"$f":"IF('Mix Design'!$B$6=\"\",\"\",'Mix Design'!$B$6)","v":"Mix Design"},{"$f":"IF('Mix Design'!$B$33=\"\",\"\",'Mix Design'!$B$33)","v":"SELECTING TARGET STRENGTH"},{"$f":"IF('Mix Design'!$B$34=\"\",\"\",'Mix Design'!$B$34)","v":"Min. 28-day compressive strength based on class of concrete f 'c min., (psi): "}]
[26,{"$f":"IF('Mix Design'!$H$35=\"\",\"\",'Mix Design'!$H$35)","v":""},{"$f":"IF('Mix Design'!$B$6=\"\",\"\",'Mix Design'!$B$6)","v":"Mix Design"},{"$f":"IF('Mix Design'!$B$33=\"\",\"\",'Mix Design'!$B$33)","v":"SELECTING TARGET STRENGTH"},{"$f":"IF('Mix Design'!$B$35=\"\",\"\",'Mix Design'!$B$35)","v":"Specified minimum 28-day compressive strength f 'c min., (psi):"}]
[27,{"$f":"IF('Mix Design'!$H$36=\"\",\"\",'Mix Design'!$H$36)","v":""},{"$f":"IF('Mix Design'!$B$6=\"\",\"\",'Mix Design'!$B$6)","v":"Mix Design"},{"$f":"IF('Mix Design'!$B$33=\"\",\"\",'Mix Design'!$B$33)","v":"SELECTING TARGET STRENGTH"},{"$f":"IF('Mix Design'!$B$36=\"\",\"\",'Mix Design'!$B$36)","v":"Maximum of preceding 2 rows f 'c*, (psi):"}]
[28,{"$f":"IF('Mix Design'!$H$37=\"\",\"\",'Mix Design'!$H$37)","v":""},{"$f":"IF('Mix Design'!$B$6=\"\",\"\",'Mix Design'!$B$6)","v":"Mix Design"},{"$f":"IF('Mix Design'!$B$33=\"\",\"\",'Mix Design'!$B$33)","v":"SELECTING TARGET STRENGTH"},{"$f":"IF('Mix Design'!$B$37=\"\",\"\",'Mix Design'!$B$37)","v":"Producer's standard deviation (index of producer's precision), S (psi):"}]
[29,{"$f":"IF('Mix Design'!$H$38=\"\",\"\",'Mix Design'!$H$38)","v":""},{"$f":"IF('Mix Design'!$B$6=\"\",\"\",'Mix Design'!$B$6)","v":"Mix Design"},{"$f":"IF('Mix Design'!$B$33=\"\",\"\",'Mix Design'!$B$33)","v":"SELECTING TARGET STRENGTH"},{"$f":"IF('Mix Design'!$B$38=\"\",\"\",'Mix Design'!$B$38)","v":"Producer's standard deviation from inputted data, S (psi):"}]
[30,{"$f":"IF('Mix Design'!$H$39=\"\",\"\",'Mix Design'!$H$39)","v":""},{"$f":"IF('Mix Design'!$B$6=\"\",\"\",'Mix Design'!$B$6)","v":"Mix Design"},{"$f":"IF('Mix Design'!$B$33=\"\",\"\",'Mix Design'!$B$33)","v":"SELECTING TARGET STRENGTH"},{"$f":"IF('Mix Design'!$B$39=\"\",\"\",'Mix Design'!$B$39)","v":"Producer Data"}]
[31,{"$f":"IF('Mix Design'!$H$40=\"\",\"\",'Mix Design'!$H$40)","v":""},{"$f":"IF('Mix Design'!$B$6=\"\",\"\",'Mix Design'!$B$6)","v":"Mix Design"},{"$f":"IF('Mix Design'!$B$33=\"\",\"\",'Mix Design'!$B$33)","v":"SELECTING TARGET STRENGTH"},{"$f":"IF('Mix Design'!$B$40=\"\",\"\",'Mix Design'!$B$40)","v":"Number of tests from inputted data:"}]
[32,{"$f":"IF('Mix Design'!$H$41=\"\",\"\",'Mix Design'!$H$41)","v":""},{"$f":"IF('Mix Design'!$B$6=\"\",\"\",'Mix Design'!$B$6)","v":"Mix Design"},{"$f":"IF('Mix Design'!$B$33=\"\",\"\",'Mix Design'!$B$33)","v":"SELECTING TARGET STRENGTH"},{"$f":"IF('Mix Design'!$B$41=\"\",\"\",'Mix Design'!$B$41)","v":"Over design amount, A (psi):"}]
[33,{"$f":"IF('Mix Design'!$H$42=\"\",\"\",'Mix Design'!$H$42)","v":""},{"$f":"IF('Mix Design'!$B$6=\"\",\"\",'Mix Design'!$B$6)","v":"Mix Design"},{"$f":"IF('Mix Design'!$B$33=\"\",\"\",'Mix Design'!$B$33)","v":"SELECTING TARGET STRENGTH"},{"$f":"IF('Mix Design'!$B$42=\"\",\"\",'Mix Design'!$B$42)","v":"Mix design target strength, f 'cr = f'c* + A, f 'cr, (psi):"}]
[34,{"$f":"IF('Mix Design'!$M$37=\"\",\"\",'Mix Design'!$M$37)","v":""},{"$f":"IF('Mix Design'!$B$6=\"\",\"\",'Mix Design'!$B$6)","v":"Mix Design"},{"$f":"IF('Mix Design'!$J$35=\"\",\"\",'Mix Design'!$J$35)","v":"SELECTING MIX DESIGN OPTION"},{"$f":"IF('Mix Design'!$J$37=\"\",\"\",'Mix Design'!$J$37)","v":"Mix Design Option:"}]
[35,{"$f":"IF('Mix Design'!$M$38=\"\",\"\",'Mix Design'!$M$38)","v":""},{"$f":"IF('Mix Design'!$B$6=\"\",\"\",'Mix Design'!$B$6)","v":"Mix Design"},{"$f":"IF('Mix Design'!$J$35=\"\",\"\",'Mix Design'!$J$35)","v":"SELECTING MIX DESIGN OPTION"},{"$f":"IF('Mix Design'!$J$38=\"\",\"\",'Mix Design'!$J$38)","v":"Max. % NA2O equivalent in cement"}]
[36,{"$f":"IF('Mix Design'!$M$39=\"\",\"\",'Mix Design'!$M$39)","v":""},{"$f":"IF('Mix Design'!$B$6=\"\",\"\",'Mix Design'!$B$6)","v":"Mix Design"},{"$f":"IF('Mix Design'!$J$35=\"\",\"\",'Mix Design'!$J$35)","v":"SELECTING MIX DESIGN OPTION"},{"$f":"IF('Mix Design'!$J$39=\"\",\"\",'Mix Design'!$J$39)","v":"lb. alkali per cu. yd."}]
[37,{"$f":"IF('Mix Design'!$M$40=\"\",\"\",'Mix Design'!$M$40)","v":""},{"$f":"IF('Mix Design'!$B$6=\"\",\"\",'Mix Design'!$B$6)","v":"Mix Design"},{"$f":"IF('Mix Design'!$J$35=\"\",\"\",'Mix Design'!$J$35)","v":"SELECTING MIX DESIGN OPTION"},{"$f":"IF('Mix Design'!$J$40=\"\",\"\",'Mix Design'!$J$40)","v":"ASTM C 1567 % Expansion:"}]
[38,{"$f":"IF('Mix Design'!$M$41=\"\",\"\",'Mix Design'!$M$41)","v":""},{"$f":"IF('Mix Design'!$B$6=\"\",\"\",'Mix Design'!$B$6)","v":"Mix Design"},{"$f":"IF('Mix Design'!$J$35=\"\",\"\",'Mix Design'!$J$35)","v":"SELECTING MIX DESIGN OPTION"},{"$f":"IF('Mix Design'!$J$41=\"\",\"\",'Mix Design'!$J$41)","v":"Approved Lab Used?:"}]
[39,{"$f":"IF('Mix Design'!$H$45=\"\",\"\",'Mix Design'!$H$45)","v":""},{"$f":"IF('Mix Design'!$B$6=\"\",\"\",'Mix Design'!$B$6)","v":"Mix Design"},{"$f":"IF('Mix Design'!$B$44=\"\",\"\",'Mix Design'!$B$44)","v":"SELECTING W/C OR W/CM"},{"$f":"IF('Mix Design'!$B$45=\"\",\"\",'Mix Design'!$B$45)","v":"Maximum w/c or w/cm based on class of concrete:"}]
[40,{"$f":"IF('Mix Design'!$H$46=\"\",\"\",'Mix Design'!$H$46)","v":""},{"$f":"IF('Mix Design'!$B$6=\"\",\"\",'Mix Design'!$B$6)","v":"Mix Design"},{"$f":"IF('Mix Design'!$B$44=\"\",\"\",'Mix Design'!$B$44)","v":"SELECTING W/C OR W/CM"},{"$f":"IF('Mix Design'!$B$46=\"\",\"\",'Mix Design'!$B$46)","v":"Specified maximum w/c or w/cm:"}]
[41,{"$f":"IF('Mix Design'!$H$47=\"\",\"\",'Mix Design'!$H$47)","v":""},{"$f":"IF('Mix Design'!$B$6=\"\",\"\",'Mix Design'!$B$6)","v":"Mix Design"},{"$f":"IF('Mix Design'!$B$44=\"\",\"\",'Mix Design'!$B$44)","v":"SELECTING W/C OR W/CM"},{"$f":"IF('Mix Design'!$B$47=\"\",\"\",'Mix Design'!$B$47)","v":"Mix Design w/c or w/cm = minimum value from preceding 2 rows:"}]
[42,{"$f":"IF('Mix Design'!$H$48=\"\",\"\",'Mix Design'!$H$48)","v":""},{"$f":"IF('Mix Design'!$B$6=\"\",\"\",'Mix Design'!$B$6)","v":"Mix Design"},{"$f":"IF('Mix Design'!$B$44=\"\",\"\",'Mix Design'!$B$44)","v":"SELECTING W/C OR W/CM"},{"$f":"IF('Mix Design'!$B$48=\"\",\"\",'Mix Design'!$B$48)","v":"Max. cementitious material content ,lbs/CY:\n(should be 700 lbs/CY unless otherwise specified or approved)"}]
[43,{"$f":"IF('Mix Design'!$F$52=\"\",\"\",'Mix Design'!$F$52)","v":""},{"$f":"IF('Mix Design'!$B$6=\"\",\"\",'Mix Design'!$B$6)","v":"Mix Design"},{"$f":"IF('Mix Design'!$B$52=\"\",\"\",'Mix Design'!$B$52)","v":"Paste"},{"$f":"IF('Mix Design'!$C$52=\"\",\"\",'Mix Design'!$C$52)","v":"Basic Water Demand:"},{"$f":"IF('Mix Design'!$F$51=\"\",\"\",'Mix Design'!$F$51)","v":"Producer/Source"}]
[44,{"$f":"IF('Mix Design'!$I$52=\"\",\"\",'Mix Design'!$I$52)","v":""},{"$f":"IF('Mix Design'!$B$6=\"\",\"\",'Mix Design'!$B$6)","v":"Mix Design"},{"$f":"IF('Mix Design'!$B$52=\"\",\"\",'Mix Design'!$B$52)","v":"Paste"},{"$f":"IF('Mix Design'!$C$52=\"\",\"\",'Mix Design'!$C$52)","v":"Basic Water Demand:"},{"$f":"IF('Mix Design'!$I$51=\"\",\"\",'Mix Design'!$I$51)","v":"Absolute Vol. (ft3)"}]
[45,{"$f":"IF('Mix Design'!$K$52=\"\",\"\",'Mix Design'!$K$52)","v":""},{"$f":"IF('Mix Design'!$B$6=\"\",\"\",'Mix Design'!$B$6)","v":"Mix Design"},{"$f":"IF('Mix Design'!$B$52=\"\",\"\",'Mix Design'!$B$52)","v":"Paste"},{"$f":"IF('Mix Design'!$C$52=\"\",\"\",'Mix Design'!$C$52)","v":"Basic Water Demand:"},{"$f":"IF('Mix Design'!$K$51=\"\",\"\",'Mix Design'!$K$51)","v":"SSD† Weight (lbs/CY)"}]
[46,{"$f":"IF('Mix Design'!$K$53=\"\",\"\",'Mix Design'!$K$53)","v":""},{"$f":"IF('Mix Design'!$B$6=\"\",\"\",'Mix Design'!$B$6)","v":"Mix Design"},{"$f":"IF('Mix Design'!$B$52=\"\",\"\",'Mix Design'!$B$52)","v":"Paste"},{"$f":"IF('Mix Design'!$C$53=\"\",\"\",'Mix Design'!$C$53)","v":"Total Cementitious:"},{"$f":"IF('Mix Design'!$K$51=\"\",\"\",'Mix Design'!$K$51)","v":"SSD† Weight (lbs/CY)"}]
[47,{"$f":"IF('Mix Design'!$E$54=\"\",\"\",'Mix Design'!$E$54)","v":""},{"$f":"IF('Mix Design'!$B$6=\"\",\"\",'Mix Design'!$B$6)","v":"Mix Design"},{"$f":"IF('Mix Design'!$B$52=\"\",\"\",'Mix Design'!$B$52)","v":"Paste"},{"$f":"IF('Mix Design'!$C$54=\"\",\"\",'Mix Design'!$C$54)","v":"Portland Cement:"},{"$f":"IF('Mix Design'!$E$51=\"\",\"\",'Mix Design'!$E$51)","v":"Type/Class/\nGrade"}]
[48,{"$f":"IF('Mix Design'!$F$54=\"\",\"\",'Mix Design'!$F$54)","v":""},{"$f":"IF('Mix Design'!$B$6=\"\",\"\",'Mix Design'!$B$6)","v":"Mix Design"},{"$f":"IF('Mix Design'!$B$52=\"\",\"\",'Mix Design'!$B$52)","v":"Paste"},{"$f":"IF('Mix Design'!$C$54=\"\",\"\",'Mix Design'!$C$54)","v":"Portland Cement:"},{"$f":"IF('Mix Design'!$F$51=\"\",\"\",'Mix Design'!$F$51)","v":"Producer/Source"}]
[49,{"$f":"IF('Mix Design'!$I$54=\"\",\"\",'Mix Design'!$I$54)","v":""},{"$f":"IF('Mix Design'!$B$6=\"\",\"\",'Mix Design'!$B$6)","v":"Mix Design"},{"$f":"IF('Mix Design'!$B$52=\"\",\"\",'Mix Design'!$B$52)","v":"Paste"},{"$f":"IF('Mix Design'!$C$54=\"\",\"\",'Mix Design'!$C$54)","v":"Portland Cement:"},{"$f":"IF('Mix Design'!$I$51=\"\",\"\",'Mix Design'!$I$51)","v":"Absolute Vol. (ft3)"}]
[50,{"$f":"IF('Mix Design'!$K$54=\"\",\"\",'Mix Design'!$K$54)","v":""},{"$f":"IF('Mix Design'!$B$6=\"\",\"\",'Mix Design'!$B$6)","v":"Mix Design"},{"$f":"IF('Mix Design'!$B$52=\"\",\"\",'Mix Design'!$B$52)","v":"Paste"},{"$f":"IF('Mix Design'!$C$54=\"\",\"\",'Mix Design'!$C$54)","v":"Portland Cement:"},{"$f":"IF('Mix Design'!$K$51=\"\",\"\",'Mix Design'!$K$51)","v":"SSD† Weight (lbs/CY)"}]
[51,{"$f":"IF('Mix Design'!$E$55=\"\",\"\",'Mix Design'!$E$55)","v":""},{"$f":"IF('Mix Design'!$B$6=\"\",\"\",'Mix Design'!$B$6)","v":"Mix Design"},{"$f":"IF('Mix Design'!$B$52=\"\",\"\",'Mix Design'!$B$52)","v":"Paste"},{"$f":"IF('Mix Design'!$C$55=\"\",\"\",'Mix Design'!$C$55)","v":"Flyash:"},{"$f":"IF('Mix Design'!$E$51=\"\",\"\",'Mix Design'!$E$51)","v":"Type/Class/\nGrade"}]
[52,{"$f":"IF('Mix Design'!$F$55=\"\",\"\",'Mix Design'!$F$55)","v":""},{"$f":"IF('Mix Design'!$B$6=\"\",\"\",'Mix Design'!$B$6)","v":"Mix Design"},{"$f":"IF('Mix Design'!$B$52=\"\",\"\",'Mix Design'!$B$52)","v":"Paste"},{"$f":"IF('Mix Design'!$C$55=\"\",\"\",'Mix Design'!$C$55)","v":"Flyash:"},{"$f":"IF('Mix Design'!$F$51=\"\",\"\",'Mix Design'!$F$51)","v":"Producer/Source"}]
[53,{"$f":"IF('Mix Design'!$I$55=\"\",\"\",'Mix Design'!$I$55)","v":""},{"$f":"IF('Mix Design'!$B$6=\"\",\"\",'Mix Design'!$B$6)","v":"Mix Design"},{"$f":"IF('Mix Design'!$B$52=\"\",\"\",'Mix Design'!$B$52)","v":"Paste"},{"$f":"IF('Mix Design'!$C$55=\"\",\"\",'Mix Design'!$C$55)","v":"Flyash:"},{"$f":"IF('Mix Design'!$I$51=\"\",\"\",'Mix Design'!$I$51)","v":"Absolute Vol. (ft3)"}]
[54,{"$f":"IF('Mix Design'!$K$55=\"\",\"\",'Mix Design'!$K$55)","v":""},{"$f":"IF('Mix Design'!$B$6=\"\",\"\",'Mix Design'!$B$6)","v":"Mix Design"},{"$f":"IF('Mix Design'!$B$52=\"\",\"\",'Mix Design'!$B$52)","v":"Paste"},{"$f":"IF('Mix Design'!$C$55=\"\",\"\",'Mix Design'!$C$55)","v":"Flyash:"},{"$f":"IF('Mix Design'!$K$51=\"\",\"\",'Mix Design'!$K$51)","v":"SSD† Weight (lbs/CY)"}]
[55,{"$f":"IF('Mix Design'!$F$56=\"\",\"\",'Mix Design'!$F$56)","v":""},{"$f":"IF('Mix Design'!$B$6=\"\",\"\",'Mix Design'!$B$6)","v":"Mix Design"},{"$f":"IF('Mix Design'!$B$52=\"\",\"\",'Mix Design'!$B$52)","v":"Paste"},{"$f":"IF('Mix Design'!$C$56=\"\",\"\",'Mix Design'!$C$56)","v":"GGBF Slag:"},{"$f":"IF('Mix Design'!$F$51=\"\",\"\",'Mix Design'!$F$51)","v":"Producer/Source"}]
[56,{"$f":"IF('Mix Design'!$I$56=\"\",\"\",'Mix Design'!$I$56)","v":""},{"$f":"IF('Mix Design'!$B$6=\"\",\"\",'Mix Design'!$B$6)","v":"Mix Design"},{"$f":"IF('Mix Design'!$B$52=\"\",\"\",'Mix Design'!$B$52)","v":"Paste"},{"$f":"IF('Mix Design'!$C$56=\"\",\"\",'Mix Design'!$C$56)","v":"GGBF Slag:"},{"$f":"IF('Mix Design'!$I$51=\"\",\"\",'Mix Design'!$I$51)","v":"Absolute Vol. (ft3)"}]
[57,{"$f":"IF('Mix Design'!$K$56=\"\",\"\",'Mix Design'!$K$56)","v":""},{"$f":"IF('Mix Design'!$B$6=\"\",\"\",'Mix Design'!$B$6)","v":"Mix Design"},{"$f":"IF('Mix Design'!$B$52=\"\",\"\",'Mix Design'!$B$52)","v":"Paste"},{"$f":"IF('Mix Design'!$C$56=\"\",\"\",'Mix Design'!$C$56)","v":"GGBF Slag:"},{"$f":"IF('Mix Design'!$K$51=\"\",\"\",'Mix Design'!$K$51)","v":"SSD† Weight (lbs/CY)"}]
[58,{"$f":"IF('Mix Design'!$F$57=\"\",\"\",'Mix Design'!$F$57)","v":""},{"$f":"IF('Mix Design'!$B$6=\"\",\"\",'Mix Design'!$B$6)","v":"Mix Design"},{"$f":"IF('Mix Design'!$B$52=\"\",\"\",'Mix Design'!$B$52)","v":"Paste"},{"$f":"IF('Mix Design'!$C$57=\"\",\"\",'Mix Design'!$C$57)","v":"Silica Fume:"},{"$f":"IF('Mix Design'!$F$51=\"\",\"\",'Mix Design'!$F$51)","v":"Producer/Source"}]
[59,{"$f":"IF('Mix Design'!$I$57=\"\",\"\",'Mix Design'!$I$57)","v":""},{"$f":"IF('Mix Design'!$B$6=\"\",\"\",'Mix Design'!$B$6)","v":"Mix Design"},{"$f":"IF('Mix Design'!$B$52=\"\",\"\",'Mix Design'!$B$52)","v":"Paste"},{"$f":"IF('Mix Design'!$C$57=\"\",\"\",'Mix Design'!$C$57)","v":"Silica Fume:"},{"$f":"IF('Mix Design'!$I$51=\"\",\"\",'Mix Design'!$I$51)","v":"Absolute Vol. (ft3)"}]
[60,{"$f":"IF('Mix Design'!$K$57=\"\",\"\",'Mix Design'!$K$57)","v":""},{"$f":"IF('Mix Design'!$B$6=\"\",\"\",'Mix Design'!$B$6)","v":"Mix Design"},{"$f":"IF('Mix Design'!$B$52=\"\",\"\",'Mix Design'!$B$52)","v":"Paste"},{"$f":"IF('Mix Design'!$C$57=\"\",\"\",'Mix Design'!$C$57)","v":"Silica Fume:"},{"$f":"IF('Mix Design'!$K$51=\"\",\"\",'Mix Design'!$K$51)","v":"SSD† Weight (lbs/CY)"}]
[61,{"$f":"IF('Mix Design'!$F$58=\"\",\"\",'Mix Design'!$F$58)","v":""},{"$f":"IF('Mix Design'!$B$6=\"\",\"\",'Mix Design'!$B$6)","v":"Mix Design"},{"$f":"IF('Mix Design'!$B$52=\"\",\"\",'Mix Design'!$B$52)","v":"Paste"},{"$f":"IF('Mix Design'!$C$58=\"\",\"\",'Mix Design'!$C$58)","v":"UFFA:"},{"$f":"IF('Mix Design'!$F$51=\"\",\"\",'Mix Design'!$F$51)","v":"Producer/Source"}]
[62,{"$f":"IF('Mix Design'!$I$58=\"\",\"\",'Mix Design'!$I$58)","v":""},{"$f":"IF('Mix Design'!$B$6=\"\",\"\",'Mix Design'!$B$6)","v":"Mix Design"},{"$f":"IF('Mix Design'!$B$52=\"\",\"\",'Mix Design'!$B$52)","v":"Paste"},{"$f":"IF('Mix Design'!$C$58=\"\",\"\",'Mix Design'!$C$58)","v":"UFFA:"},{"$f":"IF('Mix Design'!$I$51=\"\",\"\",'Mix Design'!$I$51)","v":"Absolute Vol. (ft3)"}]
[63,{"$f":"IF('Mix Design'!$K$58=\"\",\"\",'Mix Design'!$K$58)","v":""},{"$f":"IF('Mix Design'!$B$6=\"\",\"\",'Mix Design'!$B$6)","v":"Mix Design"},{"$f":"IF('Mix Design'!$B$52=\"\",\"\",'Mix Design'!$B$52)","v":"Paste"},{"$f":"IF('Mix Design'!$C$58=\"\",\"\",'Mix Design'!$C$58)","v":"UFFA:"},{"$f":"IF('Mix Design'!$K$51=\"\",\"\",'Mix Design'!$K$51)","v":"SSD† Weight (lbs/CY)"}]
[64,{"$f":"IF('Mix Design'!$F$59=\"\",\"\",'Mix Design'!$F$59)","v":""},{"$f":"IF('Mix Design'!$B$6=\"\",\"\",'Mix Design'!$B$6)","v":"Mix Design"},{"$f":"IF('Mix Design'!$B$52=\"\",\"\",'Mix Design'!$B$52)","v":"Paste"},{"$f":"IF('Mix Design'!$C$59=\"\",\"\",'Mix Design'!$C$59)","v":"MFFA:"},{"$f":"IF('Mix Design'!$F$51=\"\",\"\",'Mix Design'!$F$51)","v":"Producer/Source"}]
[65,{"$f":"IF('Mix Design'!$I$59=\"\",\"\",'Mix Design'!$I$59)","v":""},{"$f":"IF('Mix Design'!$B$6=\"\",\"\",'Mix Design'!$B$6)","v":"Mix Design"},{"$f":"IF('Mix Design'!$B$52=\"\",\"\",'Mix Design'!$B$52)","v":"Paste"},{"$f":"IF('Mix Design'!$C$59=\"\",\"\",'Mix Design'!$C$59)","v":"MFFA:"},{"$f":"IF('Mix Design'!$I$51=\"\",\"\",'Mix Design'!$I$51)","v":"Absolute Vol. (ft3)"}]
[66,{"$f":"IF('Mix Design'!$K$59=\"\",\"\",'Mix Design'!$K$59)","v":""},{"$f":"IF('Mix Design'!$B$6=\"\",\"\",'Mix Design'!$B$6)","v":"Mix Design"},{"$f":"IF('Mix Design'!$B$52=\"\",\"\",'Mix Design'!$B$52)","v":"Paste"},{"$f":"IF('Mix Design'!$C$59=\"\",\"\",'Mix Design'!$C$59)","v":"MFFA:"},{"$f":"IF('Mix Design'!$K$51=\"\",\"\",'Mix Design'!$K$51)","v":"SSD† Weight (lbs/CY)"}]
[67,{"$f":"IF('Mix Design'!$F$60=\"\",\"\",'Mix Design'!$F$60)","v":""},{"$f":"IF('Mix Design'!$B$6=\"\",\"\",'Mix Design'!$B$6)","v":"Mix Design"},{"$f":"IF('Mix Design'!$B$52=\"\",\"\",'Mix Design'!$B$52)","v":"Paste"},{"$f":"IF('Mix Design'!$C$60=\"\",\"\",'Mix Design'!$C$60)","v":"Metakaolin:"},{"$f":"IF('Mix Design'!$F$51=\"\",\"\",'Mix Design'!$F$51)","v":"Producer/Source"}]
[68,{"$f":"IF('Mix Design'!$I$60=\"\",\"\",'Mix Design'!$I$60)","v":""},{"$f":"IF('Mix Design'!$B$6=\"\",\"\",'Mix Design'!$B$6)","v":"Mix Design"},{"$f":"IF('Mix Design'!$B$52=\"\",\"\",'Mix Design'!$B$52)","v":"Paste"},{"$f":"IF('Mix Design'!$C$60=\"\",\"\",'Mix Design'!$C$60)","v":"Metakaolin:"},{"$f":"IF('Mix Design'!$I$51=\"\",\"\",'Mix Design'!$I$51)","v":"Absolute Vol. (ft3)"}]
[69,{"$f":"IF('Mix Design'!$K$60=\"\",\"\",'Mix Design'!$K$60)","v":""},{"$f":"IF('Mix Design'!$B$6=\"\",\"\",'Mix Design'!$B$6)","v":"Mix Design"},{"$f":"IF('Mix Design'!$B$52=\"\",\"\",'Mix Design'!$B$52)","v":"Paste"},{"$f":"IF('Mix Design'!$C$60=\"\",\"\",'Mix Design'!$C$60)","v":"Metakaolin:"},{"$f":"IF('Mix Design'!$K$51=\"\",\"\",'Mix Design'!$K$51)","v":"SSD† Weight (lbs/CY)"}]
[70,{"$f":"IF('Mix Design'!$F$61=\"\",\"\",'Mix Design'!$F$61)","v":""},{"$f":"IF('Mix Design'!$B$6=\"\",\"\",'Mix Design'!$B$6)","v":"Mix Design"},{"$f":"IF('Mix Design'!$B$52=\"\",\"\",'Mix Design'!$B$52)","v":"Paste"},{"$f":"IF('Mix Design'!$C$61=\"\",\"\",'Mix Design'!$C$61)","v":"Other Pozzolan:"},{"$f":"IF('Mix Design'!$F$51=\"\",\"\",'Mix Design'!$F$51)","v":"Producer/Source"}]
[71,{"$f":"IF('Mix Design'!$I$61=\"\",\"\",'Mix Design'!$I$61)","v":""},{"$f":"IF('Mix Design'!$B$6=\"\",\"\",'Mix Design'!$B$6)","v":"Mix Design"},{"$f":"IF('Mix Design'!$B$52=\"\",\"\",'Mix Design'!$B$52)","v":"Paste"},{"$f":"IF('Mix Design'!$C$61=\"\",\"\",'Mix Design'!$C$61)","v":"Other Pozzolan:"},{"$f":"IF('Mix Design'!$I$51=\"\",\"\",'Mix Design'!$I$51)","v":"Absolute Vol. (ft3)"}]
[72,{"$f":"IF('Mix Design'!$K$61=\"\",\"\",'Mix Design'!$K$61)","v":""},{"$f":"IF('Mix Design'!$B$6=\"\",\"\",'Mix Design'!$B$6)","v":"Mix Design"},{"$f":"IF('Mix Design'!$B$52=\"\",\"\",'Mix Design'!$B$52)","v":"Paste"},{"$f":"IF('Mix Design'!$C$61=\"\",\"\",'Mix Design'!$C$61)","v":"Other Pozzolan:"},{"$f":"IF('Mix Design'!$K$51=\"\",\"\",'Mix Design'!$K$51)","v":"SSD† Weight (lbs/CY)"}]
[73,{"$f":"IF('Mix Design'!$F$62=\"\",\"\",'Mix Design'!$F$62)","v":""},{"$f":"IF('Mix Design'!$B$6=\"\",\"\",'Mix Design'!$B$6)","v":"Mix Design"},{"$f":"IF('Mix Design'!$B$52=\"\",\"\",'Mix Design'!$B$52)","v":"Paste"},{"$f":"IF('Mix Design'!$C$62=\"\",\"\",'Mix Design'!$C$62)","v":"Air entraining admixture:"},{"$f":"IF('Mix Design'!$F$51=\"\",\"\",'Mix Design'!$F$51)","v":"Producer/Source"}]
[74,{"$f":"IF('Mix Design'!$H$62=\"\",\"\",'Mix Design'!$H$62)","v":""},{"$f":"IF('Mix Design'!$B$6=\"\",\"\",'Mix Design'!$B$6)","v":"Mix Design"},{"$f":"IF('Mix Design'!$B$52=\"\",\"\",'Mix Design'!$B$52)","v":"Paste"},{"$f":"IF('Mix Design'!$C$62=\"\",\"\",'Mix Design'!$C$62)","v":"Air entraining admixture:"},{"$f":"IF('Mix Design'!$H$51=\"\",\"\",'Mix Design'!$H$51)","v":"% or Dosage*"}]
[75,{"$f":"IF('Mix Design'!$F$63=\"\",\"\",'Mix Design'!$F$63)","v":""},{"$f":"IF('Mix Design'!$B$6=\"\",\"\",'Mix Design'!$B$6)","v":"Mix Design"},{"$f":"IF('Mix Design'!$B$52=\"\",\"\",'Mix Design'!$B$52)","v":"Paste"},{"$f":"IF('Mix Design'!$C$63=\"\",\"\",'Mix Design'!$C$63)","v":"Set retarder:"},{"$f":"IF('Mix Design'!$F$51=\"\",\"\",'Mix Design'!$F$51)","v":"Producer/Source"}]
[76,{"$f":"IF('Mix Design'!$H$63=\"\",\"\",'Mix Design'!$H$63)","v":""},{"$f":"IF('Mix Design'!$B$6=\"\",\"\",'Mix Design'!$B$6)","v":"Mix Design"},{"$f":"IF('Mix Design'!$B$52=\"\",\"\",'Mix Design'!$B$52)","v":"Paste"},{"$f":"IF('Mix Design'!$C$63=\"\",\"\",'Mix Design'!$C$63)","v":"Set retarder:"},{"$f":"IF('Mix Design'!$H$51=\"\",\"\",'Mix Design'!$H$51)","v":"% or Dosage*"}]
[77,{"$f":"IF('Mix Design'!$F$64=\"\",\"\",'Mix Design'!$F$64)","v":""},{"$f":"IF('Mix Design'!$B$6=\"\",\"\",'Mix Design'!$B$6)","v":"Mix Design"},{"$f":"IF('Mix Design'!$B$52=\"\",\"\",'Mix Design'!$B$52)","v":"Paste"},{"$f":"IF('Mix Design'!$C$64=\"\",\"\",'Mix Design'!$C$64)","v":"Accelerator:"},{"$f":"IF('Mix Design'!$F$51=\"\",\"\",'Mix Design'!$F$51)","v":"Producer/Source"}]
[78,{"$f":"IF('Mix Design'!$H$64=\"\",\"\",'Mix Design'!$H$64)","v":""},{"$f":"IF('Mix Design'!$B$6=\"\",\"\",'Mix Design'!$B$6)","v":"Mix Design"},{"$f":"IF('Mix Design'!$B$52=\"\",\"\",'Mix Design'!$B$52)","v":"Paste"},{"$f":"IF('Mix Design'!$C$64=\"\",\"\",'Mix Design'!$C$64)","v":"Accelerator:"},{"$f":"IF('Mix Design'!$H$51=\"\",\"\",'Mix Design'!$H$51)","v":"% or Dosage*"}]
[79,{"$f":"IF('Mix Design'!$F$65=\"\",\"\",'Mix Design'!$F$65)","v":""},{"$f":"IF('Mix Design'!$B$6=\"\",\"\",'Mix Design'!$B$6)","v":"Mix Design"},{"$f":"IF('Mix Design'!$B$52=\"\",\"\",'Mix Design'!$B$52)","v":"Paste"},{"$f":"IF('Mix Design'!$C$65=\"\",\"\",'Mix Design'!$C$65)","v":"Water Reducer:"},{"$f":"IF('Mix Design'!$F$51=\"\",\"\",'Mix Design'!$F$51)","v":"Producer/Source"}]
[80,{"$f":"IF('Mix Design'!$H$65=\"\",\"\",'Mix Design'!$H$65)","v":""},{"$f":"IF('Mix Design'!$B$6=\"\",\"\",'Mix Design'!$B$6)","v":"Mix Design"},{"$f":"IF('Mix Design'!$B$52=\"\",\"\",'Mix Design'!$B$52)","v":"Paste"},{"$f":"IF('Mix Design'!$C$65=\"\",\"\",'Mix Design'!$C$65)","v":"Water Reducer:"},{"$f":"IF('Mix Design'!$H$51=\"\",\"\",'Mix Design'!$H$51)","v":"% or Dosage*"}]
[81,{"$f":"IF('Mix Design'!$F$66=\"\",\"\",'Mix Design'!$F$66)","v":""},{"$f":"IF('Mix Design'!$B$6=\"\",\"\",'Mix Design'!$B$6)","v":"Mix Design"},{"$f":"IF('Mix Design'!$B$52=\"\",\"\",'Mix Design'!$B$52)","v":"Paste"},{"$f":"IF('Mix Design'!$C$66=\"\",\"\",'Mix Design'!$C$66)","v":"High-Range Water Reducer:"},{"$f":"IF('Mix Design'!$F$51=\"\",\"\",'Mix Design'!$F$51)","v":"Producer/Source"}]
[82,{"$f":"IF('Mix Design'!$H$66=\"\",\"\",'Mix Design'!$H$66)","v":""},{"$f":"IF('Mix Design'!$B$6=\"\",\"\",'Mix Design'!$B$6)","v":"Mix Design"},{"$f":"IF('Mix Design'!$B$52=\"\",\"\",'Mix Design'!$B$52)","v":"Paste"},{"$f":"IF('Mix Design'!$C$66=\"\",\"\",'Mix Design'!$C$66)","v":"High-Range Water Reducer:"},{"$f":"IF('Mix Design'!$H$51=\"\",\"\",'Mix Design'!$H$51)","v":"% or Dosage*"}]
[83,{"$f":"IF('Mix Design'!$F$67=\"\",\"\",'Mix Design'!$F$67)","v":""},{"$f":"IF('Mix Design'!$B$6=\"\",\"\",'Mix Design'!$B$6)","v":"Mix Design"},{"$f":"IF('Mix Design'!$B$52=\"\",\"\",'Mix Design'!$B$52)","v":"Paste"},{"$f":"IF('Mix Design'!$C$67=\"\",\"\",'Mix Design'!$C$67)","v":"Water Reducing Retarder:"},{"$f":"IF('Mix Design'!$F$51=\"\",\"\",'Mix Design'!$F$51)","v":"Producer/Source"}]
[84,{"$f":"IF('Mix Design'!$H$67=\"\",\"\",'Mix Design'!$H$67)","v":""},{"$f":"IF('Mix Design'!$B$6=\"\",\"\",'Mix Design'!$B$6)","v":"Mix Design"},{"$f":"IF('Mix Design'!$B$52=\"\",\"\",'Mix Design'!$B$52)","v":"Paste"},{"$f":"IF('Mix Design'!$C$67=\"\",\"\",'Mix Design'!$C$67)","v":"Water Reducing Retarder:"},{"$f":"IF('Mix Design'!$H$51=\"\",\"\",'Mix Design'!$H$51)","v":"% or Dosage*"}]
[85,{"$f":"IF('Mix Design'!$F$68=\"\",\"\",'Mix Design'!$F$68)","v":""},{"$f":"IF('Mix Design'!$B$6=\"\",\"\",'Mix Design'!$B$6)","v":"Mix Design"},{"$f":"IF('Mix Design'!$B$52=\"\",\"\",'Mix Design'!$B$52)","v":"Paste"},{"$f":"IF('Mix Design'!$C$68=\"\",\"\",'Mix Design'!$C$68)","v":"High-Range Water Reducing Retarder:"},{"$f":"IF('Mix Design'!$F$51=\"\",\"\",'Mix Design'!$F$51)","v":"Producer/Source"}]
[86,{"$f":"IF('Mix Design'!$H$68=\"\",\"\",'Mix Design'!$H$68)","v":""},{"$f":"IF('Mix Design'!$B$6=\"\",\"\",'Mix Design'!$B$6)","v":"Mix Design"},{"$f":"IF('Mix Design'!$B$52=\"\",\"\",'Mix Design'!$B$52)","v":"Paste"},{"$f":"IF('Mix Design'!$C$68=\"\",\"\",'Mix Design'!$C$68)","v":"High-Range Water Reducing Retarder:"},{"$f":"IF('Mix Design'!$H$51=\"\",\"\",'Mix Design'!$H$51)","v":"% or Dosage*"}]
[87,{"$f":"IF('Mix Design'!$F$69=\"\",\"\",'Mix Design'!$F$69)","v":""},{"$f":"IF('Mix Design'!$B$6=\"\",\"\",'Mix Design'!$B$6)","v":"Mix Design"},{"$f":"IF('Mix Design'!$B$52=\"\",\"\",'Mix Design'!$B$52)","v":"Paste"},{"$f":"IF('Mix Design'!$C$69=\"\",\"\",'Mix Design'!$C$69)","v":"Lithium Nitrate Admixture:"},{"$f":"IF('Mix Design'!$F$51=\"\",\"\",'Mix Design'!$F$51)","v":"Producer/Source"}]
[88,{"$f":"IF('Mix Design'!$H$69=\"\",\"\",'Mix Design'!$H$69)","v":""},{"$f":"IF('Mix Design'!$B$6=\"\",\"\",'Mix Design'!$B$6)","v":"Mix Design"},{"$f":"IF('Mix Design'!$B$52=\"\",\"\",'Mix Design'!$B$52)","v":"Paste"},{"$f":"IF('Mix Design'!$C$69=\"\",\"\",'Mix Design'!$C$69)","v":"Lithium Nitrate Admixture:"},{"$f":"IF('Mix Design'!$H$51=\"\",\"\",'Mix Design'!$H$51)","v":"% or Dosage*"}]
[89,{"$f":"IF('Mix Design'!$F$70=\"\",\"\",'Mix Design'!$F$70)","v":""},{"$f":"IF('Mix Design'!$B$6=\"\",\"\",'Mix Design'!$B$6)","v":"Mix Design"},{"$f":"IF('Mix Design'!$B$52=\"\",\"\",'Mix Design'!$B$52)","v":"Paste"},{"$f":"IF('Mix Design'!$C$70=\"\",\"\",'Mix Design'!$C$70)","v":"Corrosion Inhibitor:"},{"$f":"IF('Mix Design'!$F$51=\"\",\"\",'Mix Design'!$F$51)","v":"Producer/Source"}]
[90,{"$f":"IF('Mix Design'!$H$70=\"\",\"\",'Mix Design'!$H$70)","v":""},{"$f":"IF('Mix Design'!$B$6=\"\",\"\",'Mix Design'!$B$6)","v":"Mix Design"},{"$f":"IF('Mix Design'!$B$52=\"\",\"\",'Mix Design'!$B$52)","v":"Paste"},{"$f":"IF('Mix Design'!$C$70=\"\",\"\",'Mix Design'!$C$70)","v":"Corrosion Inhibitor:"},{"$f":"IF('Mix Design'!$H$51=\"\",\"\",'Mix Design'!$H$51)","v":"% or Dosage*"}]
[91,{"$f":"IF('Mix Design'!$I$71=\"\",\"\",'Mix Design'!$I$71)","v":0},{"$f":"IF('Mix Design'!$B$6=\"\",\"\",'Mix Design'!$B$6)","v":"Mix Design"},{"$f":"IF('Mix Design'!$B$52=\"\",\"\",'Mix Design'!$B$52)","v":"Paste"},{"$f":"IF('Mix Design'!$C$71=\"\",\"\",'Mix Design'!$C$71)","v":"Paste Volume = Total\n(water + cm):"},{"$f":"IF('Mix Design'!$I$51=\"\",\"\",'Mix Design'!$I$51)","v":"Absolute Vol. (ft3)"}]
[92,{"$f":"IF('Mix Design'!$H$72=\"\",\"\",'Mix Design'!$H$72)","v":0},{"$f":"IF('Mix Design'!$B$6=\"\",\"\",'Mix Design'!$B$6)","v":"Mix Design"},{"$f":"IF('Mix Design'!$B$72=\"\",\"\",'Mix Design'!$B$72)","v":"Air"},{"$f":"IF('Mix Design'!$C$72=\"\",\"\",'Mix Design'!$C$72)","v":"Entrapped air:"},{"$f":"IF('Mix Design'!$H$51=\"\",\"\",'Mix Design'!$H$51)","v":"% or Dosage*"}]
[93,{"$f":"IF('Mix Design'!$I$72=\"\",\"\",'Mix Design'!$I$72)","v":0},{"$f":"IF('Mix Design'!$B$6=\"\",\"\",'Mix Design'!$B$6)","v":"Mix Design"},{"$f":"IF('Mix Design'!$B$72=\"\",\"\",'Mix Design'!$B$72)","v":"Air"},{"$f":"IF('Mix Design'!$C$72=\"\",\"\",'Mix Design'!$C$72)","v":"Entrapped air:"},{"$f":"IF('Mix Design'!$I$51=\"\",\"\",'Mix Design'!$I$51)","v":"Absolute Vol. (ft3)"}]
[94,{"$f":"IF('Mix Design'!$H$73=\"\",\"\",'Mix Design'!$H$73)","v":""},{"$f":"IF('Mix Design'!$B$6=\"\",\"\",'Mix Design'!$B$6)","v":"Mix Design"},{"$f":"IF('Mix Design'!$B$72=\"\",\"\",'Mix Design'!$B$72)","v":"Air"},{"$f":"IF('Mix Design'!$C$73=\"\",\"\",'Mix Design'!$C$73)","v":"Target Total Air Content:"},{"$f":"IF('Mix Design'!$H$51=\"\",\"\",'Mix Design'!$H$51)","v":"% or Dosage*"}]
[95,{"$f":"IF('Mix Design'!$I$73=\"\",\"\",'Mix Design'!$I$73)","v":""},{"$f":"IF('Mix Design'!$B$6=\"\",\"\",'Mix Design'!$B$6)","v":"Mix Design"},{"$f":"IF('Mix Design'!$B$72=\"\",\"\",'Mix Design'!$B$72)","v":"Air"},{"$f":"IF('Mix Design'!$C$73=\"\",\"\",'Mix Design'!$C$73)","v":"Target Total Air Content:"},{"$f":"IF('Mix Design'!$I$51=\"\",\"\",'Mix Design'!$I$51)","v":"Absolute Vol. (ft3)"}]
[96,{"$f":"IF('Mix Design'!$I$74=\"\",\"\",'Mix Design'!$I$74)","v":""},{"$f":"IF('Mix Design'!$B$6=\"\",\"\",'Mix Design'!$B$6)","v":"Mix Design"},{"$f":"IF('Mix Design'!$B$72=\"\",\"\",'Mix Design'!$B$72)","v":"Air"},{"$f":"IF('Mix Design'!$C$74=\"\",\"\",'Mix Design'!$C$74)","v":"Air + Paste Volume:"},{"$f":"IF('Mix Design'!$I$51=\"\",\"\",'Mix Design'!$I$51)","v":"Absolute Vol. (ft3)"}]
[97,{"$f":"IF('Mix Design'!$F$75=\"\",\"\",'Mix Design'!$F$75)","v":""},{"$f":"IF('Mix Design'!$B$6=\"\",\"\",'Mix Design'!$B$6)","v":"Mix Design"},{"$f":"IF('Mix Design'!$B$75=\"\",\"\",'Mix Design'!$B$75)","v":"Other"},{"$f":"IF('Mix Design'!$C$75=\"\",\"\",'Mix Design'!$C$75)","v":"Fibers:"},{"$f":"IF('Mix Design'!$F$51=\"\",\"\",'Mix Design'!$F$51)","v":"Producer/Source"}]
[98,{"$f":"IF('Mix Design'!$I$75=\"\",\"\",'Mix Design'!$I$75)","v":""},{"$f":"IF('Mix Design'!$B$6=\"\",\"\",'Mix Design'!$B$6)","v":"Mix Design"},{"$f":"IF('Mix Design'!$B$75=\"\",\"\",'Mix Design'!$B$75)","v":"Other"},{"$f":"IF('Mix Design'!$C$75=\"\",\"\",'Mix Design'!$C$75)","v":"Fibers:"},{"$f":"IF('Mix Design'!$I$51=\"\",\"\",'Mix Design'!$I$51)","v":"Absolute Vol. (ft3)"}]
[99,{"$f":"IF('Mix Design'!$K$75=\"\",\"\",'Mix Design'!$K$75)","v":""},{"$f":"IF('Mix Design'!$B$6=\"\",\"\",'Mix Design'!$B$6)","v":"Mix Design"},{"$f":"IF('Mix Design'!$B$75=\"\",\"\",'Mix Design'!$B$75)","v":"Other"},{"$f":"IF('Mix Design'!$C$75=\"\",\"\",'Mix Design'!$C$75)","v":"Fibers:"},{"$f":"IF('Mix Design'!$K$51=\"\",\"\",'Mix Design'!$K$51)","v":"SSD† Weight (lbs/CY)"}]
[100,{"$f":"IF('Mix Design'!$C$76=\"\",\"\",'Mix Design'!$C$76)","v":""},{"$f":"IF('Mix Design'!$B$6=\"\",\"\",'Mix Design'!$B$6)","v":"Mix Design"},{"$f":"IF('Mix Design'!$B$75=\"\",\"\",'Mix Design'!$B$75)","v":"Other"},{"$f":"IF('Mix Design'!$B$75=\"\",\"\",'Mix Design'!$B$75)","v":"Other"},{"$f":"IF('Mix Design'!$C$51=\"\",\"\",'Mix Design'!$C$51)","v":"Mix Component"}]
[101,{"$f":"IF('Mix Design'!$F$76=\"\",\"\",'Mix Design'!$F$76)","v":""},{"$f":"IF('Mix Design'!$B$6=\"\",\"\",'Mix Design'!$B$6)","v":"Mix Design"},{"$f":"IF('Mix Design'!$B$75=\"\",\"\",'Mix Design'!$B$75)","v":"Other"},{"$f":"IF('Mix Design'!$C$76=\"\",\"\",'Mix Design'!$C$76)","v":""},{"$f":"IF('Mix Design'!$F$51=\"\",\"\",'Mix Design'!$F$51)","v":"Producer/Source"}]
[102,{"$f":"IF('Mix Design'!$I$76=\"\",\"\",'Mix Design'!$I$76)","v":""},{"$f":"IF('Mix Design'!$B$6=\"\",\"\",'Mix Design'!$B$6)","v":"Mix Design"},{"$f":"IF('Mix Design'!$B$75=\"\",\"\",'Mix Design'!$B$75)","v":"Other"},{"$f":"IF('Mix Design'!$C$76=\"\",\"\",'Mix Design'!$C$76)","v":""},{"$f":"IF('Mix Design'!$I$51=\"\",\"\",'Mix Design'!$I$51)","v":"Absolute Vol. (ft3)"}]
[103,{"$f":"IF('Mix Design'!$K$76=\"\",\"\",'Mix Design'!$K$76)","v":""},{"$f":"IF('Mix Design'!$B$6=\"\",\"\",'Mix Design'!$B$6)","v":"Mix Design"},{"$f":"IF('Mix Design'!$B$75=\"\",\"\",'Mix Design'!$B$75)","v":"Other"},{"$f":"IF('Mix Design'!$C$76=\"\",\"\",'Mix Design'!$C$76)","v":""},{"$f":"IF('Mix Design'!$K$51=\"\",\"\",'Mix Design'!$K$51)","v":"SSD† Weight (lbs/CY)"}]
[104,{"$f":"IF('Mix Design'!$I$77=\"\",\"\",'Mix Design'!$I$77)","v":""},{"$f":"IF('Mix Design'!$B$6=\"\",\"\",'Mix Design'!$B$6)","v":"Mix Design"},{"$f":"IF('Mix Design'!$B$77=\"\",\"\",'Mix Design'!$B$77)","v":"Non Optimized Aggregates"},{"$f":"IF('Mix Design'!$C$77=\"\",\"\",'Mix Design'!$C$77)","v":"Total Aggregate Volume:"},{"$f":"IF('Mix Design'!$I$51=\"\",\"\",'Mix Design'!$I$51)","v":"Absolute Vol. (ft3)"}]
[105,{"$f":"IF('Mix Design'!$K$77=\"\",\"\",'Mix Design'!$K$77)","v":""},{"$f":"IF('Mix Design'!$B$6=\"\",\"\",'Mix Design'!$B$6)","v":"Mix Design"},{"$f":"IF('Mix Design'!$B$77=\"\",\"\",'Mix Design'!$B$77)","v":"Non Optimized Aggregates"},{"$f":"IF('Mix Design'!$C$77=\"\",\"\",'Mix Design'!$C$77)","v":"Total Aggregate Volume:"},{"$f":"IF('Mix Design'!$K$51=\"\",\"\",'Mix Design'!$K$51)","v":"SSD† Weight (lbs/CY)"}]
[106,{"$f":"IF('Mix Design'!$E$78=\"\",\"\",'Mix Design'!$E$78)","v":""},{"$f":"IF('Mix Design'!$B$6=\"\",\"\",'Mix Design'!$B$6)","v":"Mix Design"},{"$f":"IF('Mix Design'!$B$77=\"\",\"\",'Mix Design'!$B$77)","v":"Non Optimized Aggregates"},{"$f":"IF('Mix Design'!$C$78=\"\",\"\",'Mix Design'!$C$78)","v":"Coarse Aggregate 1:"},{"$f":"IF('Mix Design'!$E$51=\"\",\"\",'Mix Design'!$E$51)","v":"Type/Class/\nGrade"}]
[107,{"$f":"IF('Mix Design'!$F$78=\"\",\"\",'Mix Design'!$F$78)","v":""},{"$f":"IF('Mix Design'!$B$6=\"\",\"\",'Mix Design'!$B$6)","v":"Mix Design"},{"$f":"IF('Mix Design'!$B$77=\"\",\"\",'Mix Design'!$B$77)","v":"Non Optimized Aggregates"},{"$f":"IF('Mix Design'!$C$78=\"\",\"\",'Mix Design'!$C$78)","v":"Coarse Aggregate 1:"},{"$f":"IF('Mix Design'!$F$51=\"\",\"\",'Mix Design'!$F$51)","v":"Producer/Source"}]
[108,{"$f":"IF('Mix Design'!$I$78=\"\",\"\",'Mix Design'!$I$78)","v":""},{"$f":"IF('Mix Design'!$B$6=\"\",\"\",'Mix Design'!$B$6)","v":"Mix Design"},{"$f":"IF('Mix Design'!$B$77=\"\",\"\",'Mix Design'!$B$77)","v":"Non Optimized Aggregates"},{"$f":"IF('Mix Design'!$C$78=\"\",\"\",'Mix Design'!$C$78)","v":"Coarse Aggregate 1:"},{"$f":"IF('Mix Design'!$I$51=\"\",\"\",'Mix Design'!$I$51)","v":"Absolute Vol. (ft3)"}]
[109,{"$f":"IF('Mix Design'!$K$78=\"\",\"\",'Mix Design'!$K$78)","v":""},{"$f":"IF('Mix Design'!$B$6=\"\",\"\",'Mix Design'!$B$6)","v":"Mix Design"},{"$f":"IF('Mix Design'!$B$77=\"\",\"\",'Mix Design'!$B$77)","v":"Non Optimized Aggregates"},{"$f":"IF('Mix Design'!$C$78=\"\",\"\",'Mix Design'!$C$78)","v":"Coarse Aggregate 1:"},{"$f":"IF('Mix Design'!$K$51=\"\",\"\",'Mix Design'!$K$51)","v":"SSD† Weight (lbs/CY)"}]
[110,{"$f":"IF('Mix Design'!$E$79=\"\",\"\",'Mix Design'!$E$79)","v":""},{"$f":"IF('Mix Design'!$B$6=\"\",\"\",'Mix Design'!$B$6)","v":"Mix Design"},{"$f":"IF('Mix Design'!$B$77=\"\",\"\",'Mix Design'!$B$77)","v":"Non Optimized Aggregates"},{"$f":"IF('Mix Design'!$C$79=\"\",\"\",'Mix Design'!$C$79)","v":"Coarse Aggregate 2:"},{"$f":"IF('Mix Design'!$E$51=\"\",\"\",'Mix Design'!$E$51)","v":"Type/Class/\nGrade"}]
[111,{"$f":"IF('Mix Design'!$F$79=\"\",\"\",'Mix Design'!$F$79)","v":""},{"$f":"IF('Mix Design'!$B$6=\"\",\"\",'Mix Design'!$B$6)","v":"Mix Design"},{"$f":"IF('Mix Design'!$B$77=\"\",\"\",'Mix Design'!$B$77)","v":"Non Optimized Aggregates"},{"$f":"IF('Mix Design'!$C$79=\"\",\"\",'Mix Design'!$C$79)","v":"Coarse Aggregate 2:"},{"$f":"IF('Mix Design'!$F$51=\"\",\"\",'Mix Design'!$F$51)","v":"Producer/Source"}]
[112,{"$f":"IF('Mix Design'!$I$79=\"\",\"\",'Mix Design'!$I$79)","v":""},{"$f":"IF('Mix Design'!$B$6=\"\",\"\",'Mix Design'!$B$6)","v":"Mix Design"},{"$f":"IF('Mix Design'!$B$77=\"\",\"\",'Mix Design'!$B$77)","v":"Non Optimized Aggregates"},{"$f":"IF('Mix Design'!$C$79=\"\",\"\",'Mix Design'!$C$79)","v":"Coarse Aggregate 2:"},{"$f":"IF('Mix Design'!$I$51=\"\",\"\",'Mix Design'!$I$51)","v":"Absolute Vol. (ft3)"}]
[113,{"$f":"IF('Mix Design'!$K$79=\"\",\"\",'Mix Design'!$K$79)","v":""},{"$f":"IF('Mix Design'!$B$6=\"\",\"\",'Mix Design'!$B$6)","v":"Mix Design"},{"$f":"IF('Mix Design'!$B$77=\"\",\"\",'Mix Design'!$B$77)","v":"Non Optimized Aggregates"},{"$f":"IF('Mix Design'!$C$79=\"\",\"\",'Mix Design'!$C$79)","v":"Coarse Aggregate 2:"},{"$f":"IF('Mix Design'!$K$51=\"\",\"\",'Mix Design'!$K$51)","v":"SSD† Weight (lbs/CY)"}]
[114,{"$f":"IF('Mix Design'!$F$80=\"\",\"\",'Mix Design'!$F$80)","v":""},{"$f":"IF('Mix Design'!$B$6=\"\",\"\",'Mix Design'!$B$6)","v":"Mix Design"},{"$f":"IF('Mix Design'!$B$77=\"\",\"\",'Mix Design'!$B$77)","v":"Non Optimized Aggregates"},{"$f":"IF('Mix Design'!$C$80=\"\",\"\",'Mix Design'!$C$80)","v":"Intermediate Aggregate 1:"},{"$f":"IF('Mix Design'!$F$51=\"\",\"\",'Mix Design'!$F$51)","v":"Producer/Source"}]
[115,{"$f":"IF('Mix Design'!$I$80=\"\",\"\",'Mix Design'!$I$80)","v":""},{"$f":"IF('Mix Design'!$B$6=\"\",\"\",'Mix Design'!$B$6)","v":"Mix Design"},{"$f":"IF('Mix Design'!$B$77=\"\",\"\",'Mix Design'!$B$77)","v":"Non Optimized Aggregates"},{"$f":"IF('Mix Design'!$C$80=\"\",\"\",'Mix Design'!$C$80)","v":"Intermediate Aggregate 1:"},{"$f":"IF('Mix Design'!$I$51=\"\",\"\",'Mix Design'!$I$51)","v":"Absolute Vol. (ft3)"}]
[116,{"$f":"IF('Mix Design'!$K$80=\"\",\"\",'Mix Design'!$K$80)","v":""},{"$f":"IF('Mix Design'!$B$6=\"\",\"\",'Mix Design'!$B$6)","v":"Mix Design"},{"$f":"IF('Mix Design'!$B$77=\"\",\"\",'Mix Design'!$B$77)","v":"Non Optimized Aggregates"},{"$f":"IF('Mix Design'!$C$80=\"\",\"\",'Mix Design'!$C$80)","v":"Intermediate Aggregate 1:"},{"$f":"IF('Mix Design'!$K$51=\"\",\"\",'Mix Design'!$K$51)","v":"SSD† Weight (lbs/CY)"}]
[117,{"$f":"IF('Mix Design'!$F$81=\"\",\"\",'Mix Design'!$F$81)","v":""},{"$f":"IF('Mix Design'!$B$6=\"\",\"\",'Mix Design'!$B$6)","v":"Mix Design"},{"$f":"IF('Mix Design'!$B$77=\"\",\"\",'Mix Design'!$B$77)","v":"Non Optimized Aggregates"},{"$f":"IF('Mix Design'!$C$81=\"\",\"\",'Mix Design'!$C$81)","v":"Intermediate Aggregate 2:"},{"$f":"IF('Mix Design'!$F$51=\"\",\"\",'Mix Design'!$F$51)","v":"Producer/Source"}]
[118,{"$f":"IF('Mix Design'!$I$81=\"\",\"\",'Mix Design'!$I$81)","v":""},{"$f":"IF('Mix Design'!$B$6=\"\",\"\",'Mix Design'!$B$6)","v":"Mix Design"},{"$f":"IF('Mix Design'!$B$77=\"\",\"\",'Mix Design'!$B$77)","v":"Non Optimized Aggregates"},{"$f":"IF('Mix Design'!$C$81=\"\",\"\",'Mix Design'!$C$81)","v":"Intermediate Aggregate 2:"},{"$f":"IF('Mix Design'!$I$51=\"\",\"\",'Mix Design'!$I$51)","v":"Absolute Vol. (ft3)"}]
[119,{"$f":"IF('Mix Design'!$K$81=\"\",\"\",'Mix Design'!$K$81)","v":""},{"$f":"IF('Mix Design'!$B$6=\"\",\"\",'Mix Design'!$B$6)","v":"Mix Design"},{"$f":"IF('Mix Design'!$B$77=\"\",\"\",'Mix Design'!$B$77)","v":"Non Optimized Aggregates"},{"$f":"IF('Mix Design'!$C$81=\"\",\"\",'Mix Design'!$C$81)","v":"Intermediate Aggregate 2:"},{"$f":"IF('Mix Design'!$K$51=\"\",\"\",'Mix Design'!$K$51)","v":"SSD† Weight (lbs/CY)"}]
[120,{"$f":"IF('Mix Design'!$F$82=\"\",\"\",'Mix Design'!$F$82)","v":""},{"$f":"IF('Mix Design'!$B$6=\"\",\"\",'Mix Design'!$B$6)","v":"Mix Design"},{"$f":"IF('Mix Design'!$B$77=\"\",\"\",'Mix Design'!$B$77)","v":"Non Optimized Aggregates"},{"$f":"IF('Mix Design'!$C$82=\"\",\"\",'Mix Design'!$C$82)","v":"Fine Aggregate 1:"},{"$f":"IF('Mix Design'!$F$51=\"\",\"\",'Mix Design'!$F$51)","v":"Producer/Source"}]
[121,{"$f":"IF('Mix Design'!$I$82=\"\",\"\",'Mix Design'!$I$82)","v":""},{"$f":"IF('Mix Design'!$B$6=\"\",\"\",'Mix Design'!$B$6)","v":"Mix Design"},{"$f":"IF('Mix Design'!$B$77=\"\",\"\",'Mix Design'!$B$77)","v":"Non Optimized Aggregates"},{"$f":"IF('Mix Design'!$C$82=\"\",\"\",'Mix Design'!$C$82)","v":"Fine Aggregate 1:"},{"$f":"IF('Mix Design'!$I$51=\"\",\"\",'Mix Design'!$I$51)","v":"Absolute Vol. (ft3)"}]
[122,{"$f":"IF('Mix Design'!$K$82=\"\",\"\",'Mix Design'!$K$82)","v":""},{"$f":"IF('Mix Design'!$B$6=\"\",\"\",'Mix Design'!$B$6)","v":"Mix Design"},{"$f":"IF('Mix Design'!$B$77=\"\",\"\",'Mix Design'!$B$77)","v":"Non Optimized Aggregates"},{"$f":"IF('Mix Design'!$C$82=\"\",\"\",'Mix Design'!$C$82)","v":"Fine Aggregate 1:"},{"$f":"IF('Mix Design'!$K$51=\"\",\"\",'Mix Design'!$K$51)","v":"SSD† Weight (lbs/CY)"}]
[123,{"$f":"IF('Mix Design'!$F$83=\"\",\"\",'Mix Design'!$F$83)","v":""},{"$f":"IF('Mix Design'!$B$6=\"\",\"\",'Mix Design'!$B$6)","v":"Mix Design"},{"$f":"IF('Mix Design'!$B$77=\"\",\"\",'Mix Design'!$B$77)","v":"Non Optimized Aggregates"},{"$f":"IF('Mix Design'!$C$83=\"\",\"\",'Mix Design'!$C$83)","v":"Fine Aggregate 2:"},{"$f":"IF('Mix Design'!$F$51=\"\",\"\",'Mix Design'!$F$51)","v":"Producer/Source"}]
[124,{"$f":"IF('Mix Design'!$I$83=\"\",\"\",'Mix Design'!$I$83)","v":""},{"$f":"IF('Mix Design'!$B$6=\"\",\"\",'Mix Design'!$B$6)","v":"Mix Design"},{"$f":"IF('Mix Design'!$B$77=\"\",\"\",'Mix Design'!$B$77)","v":"Non Optimized Aggregates"},{"$f":"IF('Mix Design'!$C$83=\"\",\"\",'Mix Design'!$C$83)","v":"Fine Aggregate 2:"},{"$f":"IF('Mix Design'!$I$51=\"\",\"\",'Mix Design'!$I$51)","v":"Absolute Vol. (ft3)"}]
[125,{"$f":"IF('Mix Design'!$K$83=\"\",\"\",'Mix Design'!$K$83)","v":""},{"$f":"IF('Mix Design'!$B$6=\"\",\"\",'Mix Design'!$B$6)","v":"Mix Design"},{"$f":"IF('Mix Design'!$B$77=\"\",\"\",'Mix Design'!$B$77)","v":"Non Optimized Aggregates"},{"$f":"IF('Mix Design'!$C$83=\"\",\"\",'Mix Design'!$C$83)","v":"Fine Aggregate 2:"},{"$f":"IF('Mix Design'!$K$51=\"\",\"\",'Mix Design'!$K$51)","v":"SSD† Weight (lbs/CY)"}]
[126,{"$f":"IF('Mix Design'!$H$84=\"\",\"\",'Mix Design'!$H$84)","v":0},{"$f":"IF('Mix Design'!$B$6=\"\",\"\",'Mix Design'!$B$6)","v":"Mix Design"},{"$f":"IF('Mix Design'!$B$77=\"\",\"\",'Mix Design'!$B$77)","v":"Non Optimized Aggregates"},{"$f":"IF('Mix Design'!$C$77=\"\",\"\",'Mix Design'!$C$77)","v":"Total Aggregate Volume:"},{"$f":"IF('Mix Design'!$H$51=\"\",\"\",'Mix Design'!$H$51)","v":"% or Dosage*"}]
[127,{"$f":"IF('Mix Design'!$I$84=\"\",\"\",'Mix Design'!$I$84)","v":""},{"$f":"IF('Mix Design'!$B$6=\"\",\"\",'Mix Design'!$B$6)","v":"Mix Design"},{"$f":"IF('Mix Design'!$B$77=\"\",\"\",'Mix Design'!$B$77)","v":"Non Optimized Aggregates"},{"$f":"IF('Mix Design'!$C$77=\"\",\"\",'Mix Design'!$C$77)","v":"Total Aggregate Volume:"},{"$f":"IF('Mix Design'!$I$51=\"\",\"\",'Mix Design'!$I$51)","v":"Absolute Vol. (ft3)"}]
[128,{"$f":"IF('Mix Design'!$K$84=\"\",\"\",'Mix Design'!$K$84)","v":0},{"$f":"IF('Mix Design'!$B$6=\"\",\"\",'Mix Design'!$B$6)","v":"Mix Design"},{"$f":"IF('Mix Design'!$B$77=\"\",\"\",'Mix Design'!$B$77)","v":"Non Optimized Aggregates"},{"$f":"IF('Mix Design'!$C$77=\"\",\"\",'Mix Design'!$C$77)","v":"Total Aggregate Volume:"},{"$f":"IF('Mix Design'!$K$51=\"\",\"\",'Mix Design'!$K$51)","v":"SSD† Weight (lbs/CY)"}]
[129,{"$f":"IF('Mix Design'!$E$85=\"\",\"\",'Mix Design'!$E$85)","v":""},{"$f":"IF('Mix Design'!$B$6=\"\",\"\",'Mix Design'!$B$6)","v":"Mix Design"},{"$f":"IF('Mix Design'!$B$84=\"\",\"\",'Mix Design'!$B$84)","v":"Optimized Aggregates"},{"$f":"IF('Mix Design'!$C$85=\"\",\"\",'Mix Design'!$C$85)","v":"Coarse Aggregate 1:"},{"$f":"IF('Mix Design'!$E$51=\"\",\"\",'Mix Design'!$E$51)","v":"Type/Class/\nGrade"}]
[130,{"$f":"IF('Mix Design'!$F$85=\"\",\"\",'Mix Design'!$F$85)","v":""},{"$f":"IF('Mix Design'!$B$6=\"\",\"\",'Mix Design'!$B$6)","v":"Mix Design"},{"$f":"IF('Mix Design'!$B$84=\"\",\"\",'Mix Design'!$B$84)","v":"Optimized Aggregates"},{"$f":"IF('Mix Design'!$C$85=\"\",\"\",'Mix Design'!$C$85)","v":"Coarse Aggregate 1:"},{"$f":"IF('Mix Design'!$F$51=\"\",\"\",'Mix Design'!$F$51)","v":"Producer/Source"}]
[131,{"$f":"IF('Mix Design'!$H$85=\"\",\"\",'Mix Design'!$H$85)","v":""},{"$f":"IF('Mix Design'!$B$6=\"\",\"\",'Mix Design'!$B$6)","v":"Mix Design"},{"$f":"IF('Mix Design'!$B$84=\"\",\"\",'Mix Design'!$B$84)","v":"Optimized Aggregates"},{"$f":"IF('Mix Design'!$C$85=\"\",\"\",'Mix Design'!$C$85)","v":"Coarse Aggregate 1:"},{"$f":"IF('Mix Design'!$H$51=\"\",\"\",'Mix Design'!$H$51)","v":"% or Dosage*"}]
[132,{"$f":"IF('Mix Design'!$I$85=\"\",\"\",'Mix Design'!$I$85)","v":""},{"$f":"IF('Mix Design'!$B$6=\"\",\"\",'Mix Design'!$B$6)","v":"Mix Design"},{"$f":"IF('Mix Design'!$B$84=\"\",\"\",'Mix Design'!$B$84)","v":"Optimized Aggregates"},{"$f":"IF('Mix Design'!$C$85=\"\",\"\",'Mix Design'!$C$85)","v":"Coarse Aggregate 1:"},{"$f":"IF('Mix Design'!$I$51=\"\",\"\",'Mix Design'!$I$51)","v":"Absolute Vol. (ft3)"}]
[133,{"$f":"IF('Mix Design'!$K$85=\"\",\"\",'Mix Design'!$K$85)","v":""},{"$f":"IF('Mix Design'!$B$6=\"\",\"\",'Mix Design'!$B$6)","v":"Mix Design"},{"$f":"IF('Mix Design'!$B$84=\"\",\"\",'Mix Design'!$B$84)","v":"Optimized Aggregates"},{"$f":"IF('Mix Design'!$C$85=\"\",\"\",'Mix Design'!$C$85)","v":"Coarse Aggregate 1:"},{"$f":"IF('Mix Design'!$K$51=\"\",\"\",'Mix Design'!$K$51)","v":"SSD† Weight (lbs/CY)"}]
[134,{"$f":"IF('Mix Design'!$E$86=\"\",\"\",'Mix Design'!$E$86)","v":""},{"$f":"IF('Mix Design'!$B$6=\"\",\"\",'Mix Design'!$B$6)","v":"Mix Design"},{"$f":"IF('Mix Design'!$B$84=\"\",\"\",'Mix Design'!$B$84)","v":"Optimized Aggregates"},{"$f":"IF('Mix Design'!$C$86=\"\",\"\",'Mix Design'!$C$86)","v":"Coarse Aggregate 2:"},{"$f":"IF('Mix Design'!$E$51=\"\",\"\",'Mix Design'!$E$51)","v":"Type/Class/\nGrade"}]
[135,{"$f":"IF('Mix Design'!$F$86=\"\",\"\",'Mix Design'!$F$86)","v":""},{"$f":"IF('Mix Design'!$B$6=\"\",\"\",'Mix Design'!$B$6)","v":"Mix Design"},{"$f":"IF('Mix Design'!$B$84=\"\",\"\",'Mix Design'!$B$84)","v":"Optimized Aggregates"},{"$f":"IF('Mix Design'!$C$86=\"\",\"\",'Mix Design'!$C$86)","v":"Coarse Aggregate 2:"},{"$f":"IF('Mix Design'!$F$51=\"\",\"\",'Mix Design'!$F$51)","v":"Producer/Source"}]
[136,{"$f":"IF('Mix Design'!$H$86=\"\",\"\",'Mix Design'!$H$86)","v":""},{"$f":"IF('Mix Design'!$B$6=\"\",\"\",'Mix Design'!$B$6)","v":"Mix Design"},{"$f":"IF('Mix Design'!$B$84=\"\",\"\",'Mix Design'!$B$84)","v":"Optimized Aggregates"},{"$f":"IF('Mix Design'!$C$86=\"\",\"\",'Mix Design'!$C$86)","v":"Coarse Aggregate 2:"},{"$f":"IF('Mix Design'!$H$51=\"\",\"\",'Mix Design'!$H$51)","v":"% or Dosage*"}]
[137,{"$f":"IF('Mix Design'!$I$86=\"\",\"\",'Mix Design'!$I$86)","v":""},{"$f":"IF('Mix Design'!$B$6=\"\",\"\",'Mix Design'!$B$6)","v":"Mix Design"},{"$f":"IF('Mix Design'!$B$84=\"\",\"\",'Mix Design'!$B$84)","v":"Optimized Aggregates"},{"$f":"IF('Mix Design'!$C$86=\"\",\"\",'Mix Design'!$C$86)","v":"Coarse Aggregate 2:"},{"$f":"IF('Mix Design'!$I$51=\"\",\"\",'Mix Design'!$I$51)","v":"Absolute Vol. (ft3)"}]
[138,{"$f":"IF('Mix Design'!$K$86=\"\",\"\",'Mix Design'!$K$86)","v":""},{"$f":"IF('Mix Design'!$B$6=\"\",\"\",'Mix Design'!$B$6)","v":"Mix Design"},{"$f":"IF('Mix Design'!$B$84=\"\",\"\",'Mix Design'!$B$84)","v":"Optimized Aggregates"},{"$f":"IF('Mix Design'!$C$86=\"\",\"\",'Mix Design'!$C$86)","v":"Coarse Aggregate 2:"},{"$f":"IF('Mix Design'!$K$51=\"\",\"\",'Mix Design'!$K$51)","v":"SSD† Weight (lbs/CY)"}]
[139,{"$f":"IF('Mix Design'!$F$87=\"\",\"\",'Mix Design'!$F$87)","v":""},{"$f":"IF('Mix Design'!$B$6=\"\",\"\",'Mix Design'!$B$6)","v":"Mix Design"},{"$f":"IF('Mix Design'!$B$84=\"\",\"\",'Mix Design'!$B$84)","v":"Optimized Aggregates"},{"$f":"IF('Mix Design'!$C$87=\"\",\"\",'Mix Design'!$C$87)","v":"Intermediate Aggregate 1:"},{"$f":"IF('Mix Design'!$F$51=\"\",\"\",'Mix Design'!$F$51)","v":"Producer/Source"}]
[140,{"$f":"IF('Mix Design'!$H$87=\"\",\"\",'Mix Design'!$H$87)","v":""},{"$f":"IF('Mix Design'!$B$6=\"\",\"\",'Mix Design'!$B$6)","v":"Mix Design"},{"$f":"IF('Mix Design'!$B$84=\"\",\"\",'Mix Design'!$B$84)","v":"Optimized Aggregates"},{"$f":"IF('Mix Design'!$C$87=\"\",\"\",'Mix Design'!$C$87)","v":"Intermediate Aggregate 1:"},{"$f":"IF('Mix Design'!$H$51=\"\",\"\",'Mix Design'!$H$51)","v":"% or Dosage*"}]
[141,{"$f":"IF('Mix Design'!$I$87=\"\",\"\",'Mix Design'!$I$87)","v":""},{"$f":"IF('Mix Design'!$B$6=\"\",\"\",'Mix Design'!$B$6)","v":"Mix Design"},{"$f":"IF('Mix Design'!$B$84=\"\",\"\",'Mix Design'!$B$84)","v":"Optimized Aggregates"},{"$f":"IF('Mix Design'!$C$87=\"\",\"\",'Mix Design'!$C$87)","v":"Intermediate Aggregate 1:"},{"$f":"IF('Mix Design'!$I$51=\"\",\"\",'Mix Design'!$I$51)","v":"Absolute Vol. (ft3)"}]
[142,{"$f":"IF('Mix Design'!$K$87=\"\",\"\",'Mix Design'!$K$87)","v":""},{"$f":"IF('Mix Design'!$B$6=\"\",\"\",'Mix Design'!$B$6)","v":"Mix Design"},{"$f":"IF('Mix Design'!$B$84=\"\",\"\",'Mix Design'!$B$84)","v":"Optimized Aggregates"},{"$f":"IF('Mix Design'!$C$87=\"\",\"\",'Mix Design'!$C$87)","v":"Intermediate Aggregate 1:"},{"$f":"IF('Mix Design'!$K$51=\"\",\"\",'Mix Design'!$K$51)","v":"SSD† Weight (lbs/CY)"}]
[143,{"$f":"IF('Mix Design'!$F$88=\"\",\"\",'Mix Design'!$F$88)","v":""},{"$f":"IF('Mix Design'!$B$6=\"\",\"\",'Mix Design'!$B$6)","v":"Mix Design"},{"$f":"IF('Mix Design'!$B$84=\"\",\"\",'Mix Design'!$B$84)","v":"Optimized Aggregates"},{"$f":"IF('Mix Design'!$C$88=\"\",\"\",'Mix Design'!$C$88)","v":"Intermediate Aggregate 2:"},{"$f":"IF('Mix Design'!$F$51=\"\",\"\",'Mix Design'!$F$51)","v":"Producer/Source"}]
[144,{"$f":"IF('Mix Design'!$H$88=\"\",\"\",'Mix Design'!$H$88)","v":""},{"$f":"IF('Mix Design'!$B$6=\"\",\"\",'Mix Design'!$B$6)","v":"Mix Design"},{"$f":"IF('Mix Design'!$B$84=\"\",\"\",'Mix Design'!$B$84)","v":"Optimized Aggregates"},{"$f":"IF('Mix Design'!$C$88=\"\",\"\",'Mix Design'!$C$88)","v":"Intermediate Aggregate 2:"},{"$f":"IF('Mix Design'!$H$51=\"\",\"\",'Mix Design'!$H$51)","v":"% or Dosage*"}]
[145,{"$f":"IF('Mix Design'!$I$88=\"\",\"\",'Mix Design'!$I$88)","v":""},{"$f":"IF('Mix Design'!$B$6=\"\",\"\",'Mix Design'!$B$6)","v":"Mix Design"},{"$f":"IF('Mix Design'!$B$84=\"\",\"\",'Mix Design'!$B$84)","v":"Optimized Aggregates"},{"$f":"IF('Mix Design'!$C$88=\"\",\"\",'Mix Design'!$C$88)","v":"Intermediate Aggregate 2:"},{"$f":"IF('Mix Design'!$I$51=\"\",\"\",'Mix Design'!$I$51)","v":"Absolute Vol. (ft3)"}]
[146,{"$f":"IF('Mix Design'!$K$88=\"\",\"\",'Mix Design'!$K$88)","v":""},{"$f":"IF('Mix Design'!$B$6=\"\",\"\",'Mix Design'!$B$6)","v":"Mix Design"},{"$f":"IF('Mix Design'!$B$84=\"\",\"\",'Mix Design'!$B$84)","v":"Optimized Aggregates"},{"$f":"IF('Mix Design'!$C$88=\"\",\"\",'Mix Design'!$C$88)","v":"Intermediate Aggregate 2:"},{"$f":"IF('Mix Design'!$K$51=\"\",\"\",'Mix Design'!$K$51)","v":"SSD† Weight (lbs/CY)"}]
[147,{"$f":"IF('Mix Design'!$F$89=\"\",\"\",'Mix Design'!$F$89)","v":""},{"$f":"IF('Mix Design'!$B$6=\"\",\"\",'Mix Design'!$B$6)","v":"Mix Design"},{"$f":"IF('Mix Design'!$B$84=\"\",\"\",'Mix Design'!$B$84)","v":"Optimized Aggregates"},{"$f":"IF('Mix Design'!$C$89=\"\",\"\",'Mix Design'!$C$89)","v":"Fine Aggregate 1:"},{"$f":"IF('Mix Design'!$F$51=\"\",\"\",'Mix Design'!$F$51)","v":"Producer/Source"}]
[148,{"$f":"IF('Mix Design'!$H$89=\"\",\"\",'Mix Design'!$H$89)","v":""},{"$f":"IF('Mix Design'!$B$6=\"\",\"\",'Mix Design'!$B$6)","v":"Mix Design"},{"$f":"IF('Mix Design'!$B$84=\"\",\"\",'Mix Design'!$B$84)","v":"Optimized Aggregates"},{"$f":"IF('Mix Design'!$C$89=\"\",\"\",'Mix Design'!$C$89)","v":"Fine Aggregate 1:"},{"$f":"IF('Mix Design'!$H$51=\"\",\"\",'Mix Design'!$H$51)","v":"% or Dosage*"}]
[149,{"$f":"IF('Mix Design'!$I$89=\"\",\"\",'Mix Design'!$I$89)","v":""},{"$f":"IF('Mix Design'!$B$6=\"\",\"\",'Mix Design'!$B$6)","v":"Mix Design"},{"$f":"IF('Mix Design'!$B$84=\"\",\"\",'Mix Design'!$B$84)","v":"Optimized Aggregates"},{"$f":"IF('Mix Design'!$C$89=\"\",\"\",'Mix Design'!$C$89)","v":"Fine Aggregate 1:"},{"$f":"IF('Mix Design'!$I$51=\"\",\"\",'Mix Design'!$I$51)","v":"Absolute Vol. (ft3)"}]
[150,{"$f":"IF('Mix Design'!$K$89=\"\",\"\",'Mix Design'!$K$89)","v":""},{"$f":"IF('Mix Design'!$B$6=\"\",\"\",'Mix Design'!$B$6)","v":"Mix Design"},{"$f":"IF('Mix Design'!$B$84=\"\",\"\",'Mix Design'!$B$84)","v":"Optimized Aggregates"},{"$f":"IF('Mix Design'!$C$89=\"\",\"\",'Mix Design'!$C$89)","v":"Fine Aggregate 1:"},{"$f":"IF('Mix Design'!$K$51=\"\",\"\",'Mix Design'!$K$51)","v":"SSD† Weight (lbs/CY)"}]
[151,{"$f":"IF('Mix Design'!$F$90=\"\",\"\",'Mix Design'!$F$90)","v":""},{"$f":"IF('Mix Design'!$B$6=\"\",\"\",'Mix Design'!$B$6)","v":"Mix Design"},{"$f":"IF('Mix Design'!$B$84=\"\",\"\",'Mix Design'!$B$84)","v":"Optimized Aggregates"},{"$f":"IF('Mix Design'!$C$90=\"\",\"\",'Mix Design'!$C$90)","v":"Fine Aggregate 2:"},{"$f":"IF('Mix Design'!$F$51=\"\",\"\",'Mix Design'!$F$51)","v":"Producer/Source"}]
[152,{"$f":"IF('Mix Design'!$H$90=\"\",\"\",'Mix Design'!$H$90)","v":""},{"$f":"IF('Mix Design'!$B$6=\"\",\"\",'Mix Design'!$B$6)","v":"Mix Design"},{"$f":"IF('Mix Design'!$B$84=\"\",\"\",'Mix Design'!$B$84)","v":"Optimized Aggregates"},{"$f":"IF('Mix Design'!$C$90=\"\",\"\",'Mix Design'!$C$90)","v":"Fine Aggregate 2:"},{"$f":"IF('Mix Design'!$H$51=\"\",\"\",'Mix Design'!$H$51)","v":"% or Dosage*"}]
[153,{"$f":"IF('Mix Design'!$I$90=\"\",\"\",'Mix Design'!$I$90)","v":""},{"$f":"IF('Mix Design'!$B$6=\"\",\"\",'Mix Design'!$B$6)","v":"Mix Design"},{"$f":"IF('Mix Design'!$B$84=\"\",\"\",'Mix Design'!$B$84)","v":"Optimized Aggregates"},{"$f":"IF('Mix Design'!$C$90=\"\",\"\",'Mix Design'!$C$90)","v":"Fine Aggregate 2:"},{"$f":"IF('Mix Design'!$I$51=\"\",\"\",'Mix Design'!$I$51)","v":"Absolute Vol. (ft3)"}]
[154,{"$f":"IF('Mix Design'!$K$90=\"\",\"\",'Mix Design'!$K$90)","v":""},{"$f":"IF('Mix Design'!$B$6=\"\",\"\",'Mix Design'!$B$6)","v":"Mix Design"},{"$f":"IF('Mix Design'!$B$84=\"\",\"\",'Mix Design'!$B$84)","v":"Optimized Aggregates"},{"$f":"IF('Mix Design'!$C$90=\"\",\"\",'Mix Design'!$C$90)","v":"Fine Aggregate 2:"},{"$f":"IF('Mix Design'!$K$51=\"\",\"\",'Mix Design'!$K$51)","v":"SSD† Weight (lbs/CY)"}]
[155,{"$f":"IF('Mix Design'!$K$93=\"\",\"\",'Mix Design'!$K$93)","v":0},{"$f":"IF('Mix Design'!$B$6=\"\",\"\",'Mix Design'!$B$6)","v":"Mix Design"},{"$f":"IF('Mix Design'!$B$84=\"\",\"\",'Mix Design'!$B$84)","v":"Optimized Aggregates"},{"$f":"IF('Mix Design'!$C$93=\"\",\"\",'Mix Design'!$C$93)","v":"Total Weight / CY:"}]
[156,{"$f":"IF('Mix Design'!$H$94=\"\",\"\",'Mix Design'!$H$94)","v":""},{"$f":"IF('Mix Design'!$B$6=\"\",\"\",'Mix Design'!$B$6)","v":"Mix Design"},{"$f":"IF('Mix Design'!$C$94=\"\",\"\",'Mix Design'!$C$94)","v":"Size of Truck:"}]
[157,{"$f":"IF('Mix Design'!$K$95=\"\",\"\",'Mix Design'!$K$95)","v":0},{"$f":"IF('Mix Design'!$B$6=\"\",\"\",'Mix Design'!$B$6)","v":"Mix Design"},{"$f":"IF('Mix Design'!$C$95=\"\",\"\",'Mix Design'!$C$95)","v":"Est. Total Weight / Truck:"}]
[158,{"$f":"IF('Mix Design'!$I$96=\"\",\"\",'Mix Design'!$I$96)","v":0},{"$f":"IF('Mix Design'!$B$6=\"\",\"\",'Mix Design'!$B$6)","v":"Mix Design"},{"$f":"IF('Mix Design'!$C$96=\"\",\"\",'Mix Design'!$C$96)","v":"Total Absolute Volume:"}]
[159,{"$f":"IF('Mix Design'!$L$97=\"\",\"\",'Mix Design'!$L$97)","v":""},{"$f":"IF('Mix Design'!$B$6=\"\",\"\",'Mix Design'!$B$6)","v":"Mix Design"},{"$f":"IF('Mix Design'!$C$97=\"\",\"\",'Mix Design'!$C$97)","v":"Theoretical Weight of Concrete Computed on an Air-Free Basis**:"}]
[160,{"$f":"IF('Mix Design'!$L$98=\"\",\"\",'Mix Design'!$L$98)","v":""},{"$f":"IF('Mix Design'!$B$6=\"\",\"\",'Mix Design'!$B$6)","v":"Mix Design"},{"$f":"IF('Mix Design'!$C$98=\"\",\"\",'Mix Design'!$C$98)","v":"Design Yield (Unit Weight):"}]
[161,{"$f":"IF('Matl Properties'!$C$24=\"\",\"\",'Matl Properties'!$C$24)","v":""},{"$f":"IF('Matl Properties'!$B$6=\"\",\"\",'Matl Properties'!$B$6)","v":"Material Properties"},{"$f":"IF('Matl Properties'!$B$21=\"\",\"\",'Matl Properties'!$B$21)","v":"AGGREGATE PROPERTIES (FROM LABORATORY TESTING)"},{"$f":"IF('Matl Properties'!$B$24=\"\",\"\",'Matl Properties'!$B$24)","v":"Coarse Aggregate 1:"},{"$f":"IF('Matl Properties'!$C$22=\"\",\"\",'Matl Properties'!$C$22)","v":"Specific Gravity (SSD)"}]
[162,{"$f":"IF('Matl Properties'!$D$24=\"\",\"\",'Matl Properties'!$D$24)","v":""},{"$f":"IF('Matl Properties'!$B$6=\"\",\"\",'Matl Properties'!$B$6)","v":"Material Properties"},{"$f":"IF('Matl Properties'!$B$21=\"\",\"\",'Matl Properties'!$B$21)","v":"AGGREGATE PROPERTIES (FROM LABORATORY TESTING)"},{"$f":"IF('Matl Properties'!$B$24=\"\",\"\",'Matl Properties'!$B$24)","v":"Coarse Aggregate 1:"},{"$f":"IF('Matl Properties'!$D$22=\"\",\"\",'Matl Properties'!$D$22)","v":"Rodded Unit Weight (UDRY)"}]
[163,{"$f":"IF('Matl Properties'!$G$24=\"\",\"\",'Matl Properties'!$G$24)","v":""},{"$f":"IF('Matl Properties'!$B$6=\"\",\"\",'Matl Properties'!$B$6)","v":"Material Properties"},{"$f":"IF('Matl Properties'!$B$21=\"\",\"\",'Matl Properties'!$B$21)","v":"AGGREGATE PROPERTIES (FROM LABORATORY TESTING)"},{"$f":"IF('Matl Properties'!$B$24=\"\",\"\",'Matl Properties'!$B$24)","v":"Coarse Aggregate 1:"},{"$f":"IF('Matl Properties'!$G$22=\"\",\"\",'Matl Properties'!$G$22)","v":"Absorption (%)"}]
[164,{"$f":"IF('Matl Properties'!$C$25=\"\",\"\",'Matl Properties'!$C$25)","v":""},{"$f":"IF('Matl Properties'!$B$6=\"\",\"\",'Matl Properties'!$B$6)","v":"Material Properties"},{"$f":"IF('Matl Properties'!$B$21=\"\",\"\",'Matl Properties'!$B$21)","v":"AGGREGATE PROPERTIES (FROM LABORATORY TESTING)"},{"$f":"IF('Matl Properties'!$B$25=\"\",\"\",'Matl Properties'!$B$25)","v":"Coarse Aggregate 2:"},{"$f":"IF('Matl Properties'!$C$22=\"\",\"\",'Matl Properties'!$C$22)","v":"Specific Gravity (SSD)"}]
[165,{"$f":"IF('Matl Properties'!$D$25=\"\",\"\",'Matl Properties'!$D$25)","v":""},{"$f":"IF('Matl Properties'!$B$6=\"\",\"\",'Matl Properties'!$B$6)","v":"Material Properties"},{"$f":"IF('Matl Properties'!$B$21=\"\",\"\",'Matl Properties'!$B$21)","v":"AGGREGATE PROPERTIES (FROM LABORATORY TESTING)"},{"$f":"IF('Matl Properties'!$B$25=\"\",\"\",'Matl Properties'!$B$25)","v":"Coarse Aggregate 2:"},{"$f":"IF('Matl Properties'!$D$22=\"\",\"\",'Matl Properties'!$D$22)","v":"Rodded Unit Weight (UDRY)"}]
[166,{"$f":"IF('Matl Properties'!$G$25=\"\",\"\",'Matl Properties'!$G$25)","v":""},{"$f":"IF('Matl Properties'!$B$6=\"\",\"\",'Matl Properties'!$B$6)","v":"Material Properties"},{"$f":"IF('Matl Properties'!$B$21=\"\",\"\",'Matl Properties'!$B$21)","v":"AGGREGATE PROPERTIES (FROM LABORATORY TESTING)"},{"$f":"IF('Matl Properties'!$B$25=\"\",\"\",'Matl Properties'!$B$25)","v":"Coarse Aggregate 2:"},{"$f":"IF('Matl Properties'!$G$22=\"\",\"\",'Matl Properties'!$G$22)","v":"Absorption (%)"}]
[167,{"$f":"IF('Matl Properties'!$C$26=\"\",\"\",'Matl Properties'!$C$26)","v":""},{"$f":"IF('Matl Properties'!$B$6=\"\",\"\",'Matl Properties'!$B$6)","v":"Material Properties"},{"$f":"IF('Matl Properties'!$B$21=\"\",\"\",'Matl Properties'!$B$21)","v":"AGGREGATE PROPERTIES (FROM LABORATORY TESTING)"},{"$f":"IF('Matl Properties'!$B$26=\"\",\"\",'Matl Properties'!$B$26)","v":"Intermediate Aggregate 1:"},{"$f":"IF('Matl Properties'!$C$22=\"\",\"\",'Matl Properties'!$C$22)","v":"Specific Gravity (SSD)"}]
[168,{"$f":"IF('Matl Properties'!$D$26=\"\",\"\",'Matl Properties'!$D$26)","v":""},{"$f":"IF('Matl Properties'!$B$6=\"\",\"\",'Matl Properties'!$B$6)","v":"Material Properties"},{"$f":"IF('Matl Properties'!$B$21=\"\",\"\",'Matl Properties'!$B$21)","v":"AGGREGATE PROPERTIES (FROM LABORATORY TESTING)"},{"$f":"IF('Matl Properties'!$B$26=\"\",\"\",'Matl Properties'!$B$26)","v":"Intermediate Aggregate 1:"},{"$f":"IF('Matl Properties'!$D$22=\"\",\"\",'Matl Properties'!$D$22)","v":"Rodded Unit Weight (UDRY)"}]
[169,{"$f":"IF('Matl Properties'!$G$26=\"\",\"\",'Matl Properties'!$G$26)","v":""},{"$f":"IF('Matl Properties'!$B$6=\"\",\"\",'Matl Properties'!$B$6)","v":"Material Properties"},{"$f":"IF('Matl Properties'!$B$21=\"\",\"\",'Matl Properties'!$B$21)","v":"AGGREGATE PROPERTIES (FROM LABORATORY TESTING)"},{"$f":"IF('Matl Properties'!$B$26=\"\",\"\",'Matl Properties'!$B$26)","v":"Intermediate Aggregate 1:"},{"$f":"IF('Matl Properties'!$G$22=\"\",\"\",'Matl Properties'!$G$22)","v":"Absorption (%)"}]
[170,{"$f":"IF('Matl Properties'!$C$27=\"\",\"\",'Matl Properties'!$C$27)","v":""},{"$f":"IF('Matl Properties'!$B$6=\"\",\"\",'Matl Properties'!$B$6)","v":"Material Properties"},{"$f":"IF('Matl Properties'!$B$21=\"\",\"\",'Matl Properties'!$B$21)","v":"AGGREGATE PROPERTIES (FROM LABORATORY TESTING)"},{"$f":"IF('Matl Properties'!$B$27=\"\",\"\",'Matl Properties'!$B$27)","v":"Intermediate Aggregate 2:"},{"$f":"IF('Matl Properties'!$C$22=\"\",\"\",'Matl Properties'!$C$22)","v":"Specific Gravity (SSD)"}]
[171,{"$f":"IF('Matl Properties'!$D$27=\"\",\"\",'Matl Properties'!$D$27)","v":""},{"$f":"IF('Matl Properties'!$B$6=\"\",\"\",'Matl Properties'!$B$6)","v":"Material Properties"},{"$f":"IF('Matl Properties'!$B$21=\"\",\"\",'Matl Properties'!$B$21)","v":"AGGREGATE PROPERTIES (FROM LABORATORY TESTING)"},{"$f":"IF('Matl Properties'!$B$27=\"\",\"\",'Matl Properties'!$B$27)","v":"Intermediate Aggregate 2:"},{"$f":"IF('Matl Properties'!$D$22=\"\",\"\",'Matl Properties'!$D$22)","v":"Rodded Unit Weight (UDRY)"}]
[172,{"$f":"IF('Matl Properties'!$G$27=\"\",\"\",'Matl Properties'!$G$27)","v":""},{"$f":"IF('Matl Properties'!$B$6=\"\",\"\",'Matl Properties'!$B$6)","v":"Material Properties"},{"$f":"IF('Matl Properties'!$B$21=\"\",\"\",'Matl Properties'!$B$21)","v":"AGGREGATE PROPERTIES (FROM LABORATORY TESTING)"},{"$f":"IF('Matl Properties'!$B$27=\"\",\"\",'Matl Properties'!$B$27)","v":"Intermediate Aggregate 2:"},{"$f":"IF('Matl Properties'!$G$22=\"\",\"\",'Matl Properties'!$G$22)","v":"Absorption (%)"}]
[173,{"$f":"IF('Matl Properties'!$C$28=\"\",\"\",'Matl Properties'!$C$28)","v":""},{"$f":"IF('Matl Properties'!$B$6=\"\",\"\",'Matl Properties'!$B$6)","v":"Material Properties"},{"$f":"IF('Matl Properties'!$B$21=\"\",\"\",'Matl Properties'!$B$21)","v":"AGGREGATE PROPERTIES (FROM LABORATORY TESTING)"},{"$f":"IF('Matl Properties'!$B$28=\"\",\"\",'Matl Properties'!$B$28)","v":"Fine Aggregate 1:"},{"$f":"IF('Matl Properties'!$C$22=\"\",\"\",'Matl Properties'!$C$22)","v":"Specific Gravity (SSD)"}]
[174,{"$f":"IF('Matl Properties'!$F$28=\"\",\"\",'Matl Properties'!$F$28)","v":""},{"$f":"IF('Matl Properties'!$B$6=\"\",\"\",'Matl Properties'!$B$6)","v":"Material Properties"},{"$f":"IF('Matl Properties'!$B$21=\"\",\"\",'Matl Properties'!$B$21)","v":"AGGREGATE PROPERTIES (FROM LABORATORY TESTING)"},{"$f":"IF('Matl Properties'!$B$28=\"\",\"\",'Matl Properties'!$B$28)","v":"Fine Aggregate 1:"},{"$f":"IF('Matl Properties'!$F$22=\"\",\"\",'Matl Properties'!$F$22)","v":"Fineness Modulus (FM)"}]
[175,{"$f":"IF('Matl Properties'!$G$28=\"\",\"\",'Matl Properties'!$G$28)","v":""},{"$f":"IF('Matl Properties'!$B$6=\"\",\"\",'Matl Properties'!$B$6)","v":"Material Properties"},{"$f":"IF('Matl Properties'!$B$21=\"\",\"\",'Matl Properties'!$B$21)","v":"AGGREGATE PROPERTIES (FROM LABORATORY TESTING)"},{"$f":"IF('Matl Properties'!$B$28=\"\",\"\",'Matl Properties'!$B$28)","v":"Fine Aggregate 1:"},{"$f":"IF('Matl Properties'!$G$22=\"\",\"\",'Matl Properties'!$G$22)","v":"Absorption (%)"}]
[176,{"$f":"IF('Matl Properties'!$C$29=\"\",\"\",'Matl Properties'!$C$29)","v":""},{"$f":"IF('Matl Properties'!$B$6=\"\",\"\",'Matl Properties'!$B$6)","v":"Material Properties"},{"$f":"IF('Matl Properties'!$B$21=\"\",\"\",'Matl Properties'!$B$21)","v":"AGGREGATE PROPERTIES (FROM LABORATORY TESTING)"},{"$f":"IF('Matl Properties'!$B$29=\"\",\"\",'Matl Properties'!$B$29)","v":"Fine Aggregate 2:"},{"$f":"IF('Matl Properties'!$C$22=\"\",\"\",'Matl Properties'!$C$22)","v":"Specific Gravity (SSD)"}]
[177,{"$f":"IF('Matl Properties'!$F$29=\"\",\"\",'Matl Properties'!$F$29)","v":""},{"$f":"IF('Matl Properties'!$B$6=\"\",\"\",'Matl Properties'!$B$6)","v":"Material Properties"},{"$f":"IF('Matl Properties'!$B$21=\"\",\"\",'Matl Properties'!$B$21)","v":"AGGREGATE PROPERTIES (FROM LABORATORY TESTING)"},{"$f":"IF('Matl Properties'!$B$29=\"\",\"\",'Matl Properties'!$B$29)","v":"Fine Aggregate 2:"},{"$f":"IF('Matl Properties'!$F$22=\"\",\"\",'Matl Properties'!$F$22)","v":"Fineness Modulus (FM)"}]
[178,{"$f":"IF('Matl Properties'!$G$29=\"\",\"\",'Matl Properties'!$G$29)","v":""},{"$f":"IF('Matl Properties'!$B$6=\"\",\"\",'Matl Properties'!$B$6)","v":"Material Properties"},{"$f":"IF('Matl Properties'!$B$21=\"\",\"\",'Matl Properties'!$B$21)","v":"AGGREGATE PROPERTIES (FROM LABORATORY TESTING)"},{"$f":"IF('Matl Properties'!$B$29=\"\",\"\",'Matl Properties'!$B$29)","v":"Fine Aggregate 2:"},{"$f":"IF('Matl Properties'!$G$22=\"\",\"\",'Matl Properties'!$G$22)","v":"Absorption (%)"}]
[179,{"$f":"IF('Matl Properties'!$C$33=\"\",\"\",'Matl Properties'!$C$33)","v":""},{"$f":"IF('Matl Properties'!$B$6=\"\",\"\",'Matl Properties'!$B$6)","v":"Material Properties"},{"$f":"IF('Matl Properties'!$B$31=\"\",\"\",'Matl Properties'!$B$31)","v":"CEMENTITIOUS MATERIALS"},{"$f":"IF('Matl Properties'!$B$33=\"\",\"\",'Matl Properties'!$B$33)","v":"Hydraulic cement "},{"$f":"IF('Matl Properties'!$C$32=\"\",\"\",'Matl Properties'!$C$32)","v":"Specific Gravity"}]
[180,{"$f":"IF('Matl Properties'!$C$34=\"\",\"\",'Matl Properties'!$C$34)","v":""},{"$f":"IF('Matl Properties'!$B$6=\"\",\"\",'Matl Properties'!$B$6)","v":"Material Properties"},{"$f":"IF('Matl Properties'!$B$31=\"\",\"\",'Matl Properties'!$B$31)","v":"CEMENTITIOUS MATERIALS"},{"$f":"IF('Matl Properties'!$B$34=\"\",\"\",'Matl Properties'!$B$34)","v":"Fly Ash"},{"$f":"IF('Matl Properties'!$C$32=\"\",\"\",'Matl Properties'!$C$32)","v":"Specific Gravity"}]
[181,{"$f":"IF('Matl Properties'!$C$35=\"\",\"\",'Matl Properties'!$C$35)","v":""},{"$f":"IF('Matl Properties'!$B$6=\"\",\"\",'Matl Properties'!$B$6)","v":"Material Properties"},{"$f":"IF('Matl Properties'!$B$31=\"\",\"\",'Matl Properties'!$B$31)","v":"CEMENTITIOUS MATERIALS"},{"$f":"IF('Matl Properties'!$B$35=\"\",\"\",'Matl Properties'!$B$35)","v":"Ground Granulated Blast Furnace Slag"},{"$f":"IF('Matl Properties'!$C$32=\"\",\"\",'Matl Properties'!$C$32)","v":"Specific Gravity"}]
[182,{"$f":"IF('Matl Properties'!$C$37=\"\",\"\",'Matl Properties'!$C$37)","v":""},{"$f":"IF('Matl Properties'!$B$6=\"\",\"\",'Matl Properties'!$B$6)","v":"Material Properties"},{"$f":"IF('Matl Properties'!$B$31=\"\",\"\",'Matl Properties'!$B$31)","v":"CEMENTITIOUS MATERIALS"},{"$f":"IF('Matl Properties'!$B$37=\"\",\"\",'Matl Properties'!$B$37)","v":"Silica Fume"},{"$f":"IF('Matl Properties'!$C$32=\"\",\"\",'Matl Properties'!$C$32)","v":"Specific Gravity"}]
[183,{"$f":"IF('Matl Properties'!$C$38=\"\",\"\",'Matl Properties'!$C$38)","v":""},{"$f":"IF('Matl Properties'!$B$6=\"\",\"\",'Matl Properties'!$B$6)","v":"Material Properties"},{"$f":"IF('Matl Properties'!$B$31=\"\",\"\",'Matl Properties'!$B$31)","v":"CEMENTITIOUS MATERIALS"},{"$f":"IF('Matl Properties'!$B$38=\"\",\"\",'Matl Properties'!$B$38)","v":"UFFA"},{"$f":"IF('Matl Properties'!$C$32=\"\",\"\",'Matl Properties'!$C$32)","v":"Specific Gravity"}]
[184,{"$f":"IF('Matl Properties'!$C$39=\"\",\"\",'Matl Properties'!$C$39)","v":""},{"$f":"IF('Matl Properties'!$B$6=\"\",\"\",'Matl Properties'!$B$6)","v":"Material Properties"},{"$f":"IF('Matl Properties'!$B$31=\"\",\"\",'Matl Properties'!$B$31)","v":"CEMENTITIOUS MATERIALS"},{"$f":"IF('Matl Properties'!$B$39=\"\",\"\",'Matl Properties'!$B$39)","v":"MFFA"},{"$f":"IF('Matl Properties'!$C$32=\"\",\"\",'Matl Properties'!$C$32)","v":"Specific Gravity"}]
[185,{"$f":"IF('Matl Properties'!$C$40=\"\",\"\",'Matl Properties'!$C$40)","v":""},{"$f":"IF('Matl Properties'!$B$6=\"\",\"\",'Matl Properties'!$B$6)","v":"Material Properties"},{"$f":"IF('Matl Properties'!$B$31=\"\",\"\",'Matl Properties'!$B$31)","v":"CEMENTITIOUS MATERIALS"},{"$f":"IF('Matl Properties'!$B$40=\"\",\"\",'Matl Properties'!$B$40)","v":"Metakaolin"},{"$f":"IF('Matl Properties'!$C$32=\"\",\"\",'Matl Properties'!$C$32)","v":"Specific Gravity"}]
[186,{"$f":"IF('Matl Properties'!$C$41=\"\",\"\",'Matl Properties'!$C$41)","v":""},{"$f":"IF('Matl Properties'!$B$6=\"\",\"\",'Matl Properties'!$B$6)","v":"Material Properties"},{"$f":"IF('Matl Properties'!$B$31=\"\",\"\",'Matl Properties'!$B$31)","v":"CEMENTITIOUS MATERIALS"},{"$f":"IF('Matl Properties'!$B$41=\"\",\"\",'Matl Properties'!$B$41)","v":"Other Pozzolan"},{"$f":"IF('Matl Properties'!$C$32=\"\",\"\",'Matl Properties'!$C$32)","v":"Specific Gravity"}]
[187,{"$f":"IF('Matl Properties'!$H$33=\"\",\"\",'Matl Properties'!$H$33)","v":""},{"$f":"IF('Matl Properties'!$B$6=\"\",\"\",'Matl Properties'!$B$6)","v":"Material Properties"},{"$f":"IF('Matl Properties'!$E$31=\"\",\"\",'Matl Properties'!$E$31)","v":"CHEMICAL ADMIXTURES"},{"$f":"IF('Matl Properties'!$E$33=\"\",\"\",'Matl Properties'!$E$33)","v":"Air entraining admixutre"},{"$f":"IF('Matl Properties'!$H$32=\"\",\"\",'Matl Properties'!$H$32)","v":"% Solids"}]
[188,{"$f":"IF('Matl Properties'!$H$34=\"\",\"\",'Matl Properties'!$H$34)","v":""},{"$f":"IF('Matl Properties'!$B$6=\"\",\"\",'Matl Properties'!$B$6)","v":"Material Properties"},{"$f":"IF('Matl Properties'!$E$31=\"\",\"\",'Matl Properties'!$E$31)","v":"CHEMICAL ADMIXTURES"},{"$f":"IF('Matl Properties'!$E$34=\"\",\"\",'Matl Properties'!$E$34)","v":"Set Retarder"},{"$f":"IF('Matl Properties'!$H$32=\"\",\"\",'Matl Properties'!$H$32)","v":"% Solids"}]
[189,{"$f":"IF('Matl Properties'!$H$35=\"\",\"\",'Matl Properties'!$H$35)","v":""},{"$f":"IF('Matl Properties'!$B$6=\"\",\"\",'Matl Properties'!$B$6)","v":"Material Properties"},{"$f":"IF('Matl Properties'!$E$31=\"\",\"\",'Matl Properties'!$E$31)","v":"CHEMICAL ADMIXTURES"},{"$f":"IF('Matl Properties'!$E$35=\"\",\"\",'Matl Properties'!$E$35)","v":"Accelerator"},{"$f":"IF('Matl Properties'!$H$32=\"\",\"\",'Matl Properties'!$H$32)","v":"% Solids"}]
[190,{"$f":"IF('Matl Properties'!$H$36=\"\",\"\",'Matl Properties'!$H$36)","v":""},{"$f":"IF('Matl Properties'!$B$6=\"\",\"\",'Matl Properties'!$B$6)","v":"Material Properties"},{"$f":"IF('Matl Properties'!$E$31=\"\",\"\",'Matl Properties'!$E$31)","v":"CHEMICAL ADMIXTURES"},{"$f":"IF('Matl Properties'!$E$36=\"\",\"\",'Matl Properties'!$E$36)","v":"Water reducer"},{"$f":"IF('Matl Properties'!$H$32=\"\",\"\",'Matl Properties'!$H$32)","v":"% Solids"}]
[191,{"$f":"IF('Matl Properties'!$H$37=\"\",\"\",'Matl Properties'!$H$37)","v":""},{"$f":"IF('Matl Properties'!$B$6=\"\",\"\",'Matl Properties'!$B$6)","v":"Material Properties"},{"$f":"IF('Matl Properties'!$E$31=\"\",\"\",'Matl Properties'!$E$31)","v":"CHEMICAL ADMIXTURES"},{"$f":"IF('Matl Properties'!$E$37=\"\",\"\",'Matl Properties'!$E$37)","v":"High-range water reducer"},{"$f":"IF('Matl Properties'!$H$32=\"\",\"\",'Matl Properties'!$H$32)","v":"% Solids"}]
[192,{"$f":"IF('Matl Properties'!$H$38=\"\",\"\",'Matl Properties'!$H$38)","v":""},{"$f":"IF('Matl Properties'!$B$6=\"\",\"\",'Matl Properties'!$B$6)","v":"Material Properties"},{"$f":"IF('Matl Properties'!$E$31=\"\",\"\",'Matl Properties'!$E$31)","v":"CHEMICAL ADMIXTURES"},{"$f":"IF('Matl Properties'!$E$38=\"\",\"\",'Matl Properties'!$E$38)","v":"Water reducing retarder"},{"$f":"IF('Matl Properties'!$H$32=\"\",\"\",'Matl Properties'!$H$32)","v":"% Solids"}]
[193,{"$f":"IF('Matl Properties'!$H$39=\"\",\"\",'Matl Properties'!$H$39)","v":""},{"$f":"IF('Matl Properties'!$B$6=\"\",\"\",'Matl Properties'!$B$6)","v":"Material Properties"},{"$f":"IF('Matl Properties'!$E$31=\"\",\"\",'Matl Properties'!$E$31)","v":"CHEMICAL ADMIXTURES"},{"$f":"IF('Matl Properties'!$E$39=\"\",\"\",'Matl Properties'!$E$39)","v":"High-range water reducing retarder"},{"$f":"IF('Matl Properties'!$H$32=\"\",\"\",'Matl Properties'!$H$32)","v":"% Solids"}]
[194,{"$f":"IF('Matl Properties'!$H$40=\"\",\"\",'Matl Properties'!$H$40)","v":""},{"$f":"IF('Matl Properties'!$B$6=\"\",\"\",'Matl Properties'!$B$6)","v":"Material Properties"},{"$f":"IF('Matl Properties'!$E$31=\"\",\"\",'Matl Properties'!$E$31)","v":"CHEMICAL ADMIXTURES"},{"$f":"IF('Matl Properties'!$E$40=\"\",\"\",'Matl Properties'!$E$40)","v":"Lithium nitrate admixture"},{"$f":"IF('Matl Properties'!$H$32=\"\",\"\",'Matl Properties'!$H$32)","v":"% Solids"}]
[195,{"$f":"IF('Matl Properties'!$H$41=\"\",\"\",'Matl Properties'!$H$41)","v":""},{"$f":"IF('Matl Properties'!$B$6=\"\",\"\",'Matl Properties'!$B$6)","v":"Material Properties"},{"$f":"IF('Matl Properties'!$E$31=\"\",\"\",'Matl Properties'!$E$31)","v":"CHEMICAL ADMIXTURES"},{"$f":"IF('Matl Properties'!$E$41=\"\",\"\",'Matl Properties'!$E$41)","v":"Corrosion inhibitor"},{"$f":"IF('Matl Properties'!$H$32=\"\",\"\",'Matl Properties'!$H$32)","v":"% Solids"}]
[196,{"$f":"IF('Matl Properties'!$D$45=\"\",\"\",'Matl Properties'!$D$45)","v":""},{"$f":"IF('Matl Properties'!$B$6=\"\",\"\",'Matl Properties'!$B$6)","v":"Material Properties"},{"$f":"IF('Matl Properties'!$B$43=\"\",\"\",'Matl Properties'!$B$43)","v":"OTHER MATERIALS"},{"$f":"IF('Matl Properties'!$B$45=\"\",\"\",'Matl Properties'!$B$45)","v":"Fibers"},{"$f":"IF('Matl Properties'!$D$44=\"\",\"\",'Matl Properties'!$D$44)","v":"Specific Gravity"}]
[197,{"$f":"IF('Matl Properties'!$D$46=\"\",\"\",'Matl Properties'!$D$46)","v":""},{"$f":"IF('Matl Properties'!$B$6=\"\",\"\",'Matl Properties'!$B$6)","v":"Material Properties"},{"$f":"IF('Matl Properties'!$B$43=\"\",\"\",'Matl Properties'!$B$43)","v":"OTHER MATERIALS"},{"$f":"IF('Matl Properties'!$B$46=\"\",\"\",'Matl Properties'!$B$46)","v":""},{"$f":"IF('Matl Properties'!$D$44=\"\",\"\",'Matl Properties'!$D$44)","v":"Specific Gravity"}]
[198,{"$f":"IF('Optimized Gradation'!$D$22=\"\",\"\",'Optimized Gradation'!$D$22)","v":""},{"$f":"IF('Optimized Gradation'!$B$5=\"\",\"\",'Optimized Gradation'!$B$5)","v":"Optimized Gradation"},{"$f":"IF('Optimized Gradation'!$B$20=\"\",\"\",'Optimized Gradation'!$B$20)","v":"SIEVE ANALYSIS"},{"$f":"IF('Optimized Gradation'!$D$21=\"\",\"\",'Optimized Gradation'!$D$21)","v":"Coarse Agg. 1\n% Passing"},{"$f":"IF('Optimized Gradation'!$B$21=\"\",\"\",'Optimized Gradation'!$B$21)","v":"Sieve Size"},{"$f":"IF('Optimized Gradation'!$B$22=\"\",\"\",'Optimized Gradation'!$B$22)","v":"2 1/2 in"}]
[199,{"$f":"IF('Optimized Gradation'!$D$23=\"\",\"\",'Optimized Gradation'!$D$23)","v":""},{"$f":"IF('Optimized Gradation'!$B$5=\"\",\"\",'Optimized Gradation'!$B$5)","v":"Optimized Gradation"},{"$f":"IF('Optimized Gradation'!$B$20=\"\",\"\",'Optimized Gradation'!$B$20)","v":"SIEVE ANALYSIS"},{"$f":"IF('Optimized Gradation'!$D$21=\"\",\"\",'Optimized Gradation'!$D$21)","v":"Coarse Agg. 1\n% Passing"},{"$f":"IF('Optimized Gradation'!$B$21=\"\",\"\",'Optimized Gradation'!$B$21)","v":"Sieve Size"},{"$f":"IF('Optimized Gradation'!$B$23=\"\",\"\",'Optimized Gradation'!$B$23)","v":"2 in"}]
[200,{"$f":"IF('Optimized Gradation'!$D$24=\"\",\"\",'Optimized Gradation'!$D$24)","v":""},{"$f":"IF('Optimized Gradation'!$B$5=\"\",\"\",'Optimized Gradation'!$B$5)","v":"Optimized Gradation"},{"$f":"IF('Optimized Gradation'!$B$20=\"\",\"\",'Optimized Gradation'!$B$20)","v":"SIEVE ANALYSIS"},{"$f":"IF('Optimized Gradation'!$D$21=\"\",\"\",'Optimized Gradation'!$D$21)","v":"Coarse Agg. 1\n% Passing"},{"$f":"IF('Optimized Gradation'!$B$21=\"\",\"\",'Optimized Gradation'!$B$21)","v":"Sieve Size"},{"$f":"IF('Optimized Gradation'!$B$24=\"\",\"\",'Optimized Gradation'!$B$24)","v":"1 1/2 in"}]
[201,{"$f":"IF('Optimized Gradation'!$D$25=\"\",\"\",'Optimized Gradation'!$D$25)","v":""},{"$f":"IF('Optimized Gradation'!$B$5=\"\",\"\",'Optimized Gradation'!$B$5)","v":"Optimized Gradation"},{"$f":"IF('Optimized Gradation'!$B$20=\"\",\"\",'Optimized Gradation'!$B$20)","v":"SIEVE ANALYSIS"},{"$f":"IF('Optimized Gradation'!$D$21=\"\",\"\",'Optimized Gradation'!$D$21)","v":"Coarse Agg. 1\n% Passing"},{"$f":"IF('Optimized Gradation'!$B$21=\"\",\"\",'Optimized Gradation'!$B$21)","v":"Sieve Size"},{"$f":"IF('Optimized Gradation'!$B$25=\"\",\"\",'Optimized Gradation'!$B$25)","v":"1 in"}]
[202,{"$f":"IF('Optimized Gradation'!$D$26=\"\",\"\",'Optimized Gradation'!$D$26)","v":""},{"$f":"IF('Optimized Gradation'!$B$5=\"\",\"\",'Optimized Gradation'!$B$5)","v":"Optimized Gradation"},{"$f":"IF('Optimized Gradation'!$B$20=\"\",\"\",'Optimized Gradation'!$B$20)","v":"SIEVE ANALYSIS"},{"$f":"IF('Optimized Gradation'!$D$21=\"\",\"\",'Optimized Gradation'!$D$21)","v":"Coarse Agg. 1\n% Passing"},{"$f":"IF('Optimized Gradation'!$B$21=\"\",\"\",'Optimized Gradation'!$B$21)","v":"Sieve Size"},{"$f":"IF('Optimized Gradation'!$B$26=\"\",\"\",'Optimized Gradation'!$B$26)","v":"3/4 in"}]
[203,{"$f":"IF('Optimized Gradation'!$D$27=\"\",\"\",'Optimized Gradation'!$D$27)","v":""},{"$f":"IF('Optimized Gradation'!$B$5=\"\",\"\",'Optimized Gradation'!$B$5)","v":"Optimized Gradation"},{"$f":"IF('Optimized Gradation'!$B$20=\"\",\"\",'Optimized Gradation'!$B$20)","v":"SIEVE ANALYSIS"},{"$f":"IF('Optimized Gradation'!$D$21=\"\",\"\",'Optimized Gradation'!$D$21)","v":"Coarse Agg. 1\n% Passing"},{"$f":"IF('Optimized Gradation'!$B$21=\"\",\"\",'Optimized Gradation'!$B$21)","v":"Sieve Size"},{"$f":"IF('Optimized Gradation'!$B$27=\"\",\"\",'Optimized Gradation'!$B$27)","v":"1/2 in"}]
[204,{"$f":"IF('Optimized Gradation'!$D$28=\"\",\"\",'Optimized Gradation'!$D$28)","v":""},{"$f":"IF('Optimized Gradation'!$B$5=\"\",\"\",'Optimized Gradation'!$B$5)","v":"Optimized Gradation"},{"$f":"IF('Optimized Gradation'!$B$20=\"\",\"\",'Optimized Gradation'!$B$20)","v":"SIEVE ANALYSIS"},{"$f":"IF('Optimized Gradation'!$D$21=\"\",\"\",'Optimized Gradation'!$D$21)","v":"Coarse Agg. 1\n% Passing"},{"$f":"IF('Optimized Gradation'!$B$21=\"\",\"\",'Optimized Gradation'!$B$21)","v":"Sieve Size"},{"$f":"IF('Optimized Gradation'!$B$28=\"\",\"\",'Optimized Gradation'!$B$28)","v":"3/8 in"}]
[205,{"$f":"IF('Optimized Gradation'!$D$29=\"\",\"\",'Optimized Gradation'!$D$29)","v":""},{"$f":"IF('Optimized Gradation'!$B$5=\"\",\"\",'Optimized Gradation'!$B$5)","v":"Optimized Gradation"},{"$f":"IF('Optimized Gradation'!$B$20=\"\",\"\",'Optimized Gradation'!$B$20)","v":"SIEVE ANALYSIS"},{"$f":"IF('Optimized Gradation'!$D$21=\"\",\"\",'Optimized Gradation'!$D$21)","v":"Coarse Agg. 1\n% Passing"},{"$f":"IF('Optimized Gradation'!$B$21=\"\",\"\",'Optimized Gradation'!$B$21)","v":"Sieve Size"},{"$f":"IF('Optimized Gradation'!$B$29=\"\",\"\",'Optimized Gradation'!$B$29)","v":"No. 4"}]
[206,{"$f":"IF('Optimized Gradation'!$D$30=\"\",\"\",'Optimized Gradation'!$D$30)","v":""},{"$f":"IF('Optimized Gradation'!$B$5=\"\",\"\",'Optimized Gradation'!$B$5)","v":"Optimized Gradation"},{"$f":"IF('Optimized Gradation'!$B$20=\"\",\"\",'Optimized Gradation'!$B$20)","v":"SIEVE ANALYSIS"},{"$f":"IF('Optimized Gradation'!$D$21=\"\",\"\",'Optimized Gradation'!$D$21)","v":"Coarse Agg. 1\n% Passing"},{"$f":"IF('Optimized Gradation'!$B$21=\"\",\"\",'Optimized Gradation'!$B$21)","v":"Sieve Size"},{"$f":"IF('Optimized Gradation'!$B$30=\"\",\"\",'Optimized Gradation'!$B$30)","v":"No. 8"}]
[207,{"$f":"IF('Optimized Gradation'!$D$31=\"\",\"\",'Optimized Gradation'!$D$31)","v":""},{"$f":"IF('Optimized Gradation'!$B$5=\"\",\"\",'Optimized Gradation'!$B$5)","v":"Optimized Gradation"},{"$f":"IF('Optimized Gradation'!$B$20=\"\",\"\",'Optimized Gradation'!$B$20)","v":"SIEVE ANALYSIS"},{"$f":"IF('Optimized Gradation'!$D$21=\"\",\"\",'Optimized Gradation'!$D$21)","v":"Coarse Agg. 1\n% Passing"},{"$f":"IF('Optimized Gradation'!$B$21=\"\",\"\",'Optimized Gradation'!$B$21)","v":"Sieve Size"},{"$f":"IF('Optimized Gradation'!$B$31=\"\",\"\",'Optimized Gradation'!$B$31)","v":"No. 16"}]
[208,{"$f":"IF('Optimized Gradation'!$D$32=\"\",\"\",'Optimized Gradation'!$D$32)","v":""},{"$f":"IF('Optimized Gradation'!$B$5=\"\",\"\",'Optimized Gradation'!$B$5)","v":"Optimized Gradation"},{"$f":"IF('Optimized Gradation'!$B$20=\"\",\"\",'Optimized Gradation'!$B$20)","v":"SIEVE ANALYSIS"},{"$f":"IF('Optimized Gradation'!$D$21=\"\",\"\",'Optimized Gradation'!$D$21)","v":"Coarse Agg. 1\n% Passing"},{"$f":"IF('Optimized Gradation'!$B$21=\"\",\"\",'Optimized Gradation'!$B$21)","v":"Sieve Size"},{"$f":"IF('Optimized Gradation'!$B$32=\"\",\"\",'Optimized Gradation'!$B$32)","v":" No. 30"}]
[209,{"$f":"IF('Optimized Gradation'!$D$33=\"\",\"\",'Optimized Gradation'!$D$33)","v":""},{"$f":"IF('Optimized Gradation'!$B$5=\"\",\"\",'Optimized Gradation'!$B$5)","v":"Optimized Gradation"},{"$f":"IF('Optimized Gradation'!$B$20=\"\",\"\",'Optimized Gradation'!$B$20)","v":"SIEVE ANALYSIS"},{"$f":"IF('Optimized Gradation'!$D$21=\"\",\"\",'Optimized Gradation'!$D$21)","v":"Coarse Agg. 1\n% Passing"},{"$f":"IF('Optimized Gradation'!$B$21=\"\",\"\",'Optimized Gradation'!$B$21)","v":"Sieve Size"},{"$f":"IF('Optimized Gradation'!$B$33=\"\",\"\",'Optimized Gradation'!$B$33)","v":"No. 50"}]
[210,{"$f":"IF('Optimized Gradation'!$D$34=\"\",\"\",'Optimized Gradation'!$D$34)","v":""},{"$f":"IF('Optimized Gradation'!$B$5=\"\",\"\",'Optimized Gradation'!$B$5)","v":"Optimized Gradation"},{"$f":"IF('Optimized Gradation'!$B$20=\"\",\"\",'Optimized Gradation'!$B$20)","v":"SIEVE ANALYSIS"},{"$f":"IF('Optimized Gradation'!$D$21=\"\",\"\",'Optimized Gradation'!$D$21)","v":"Coarse Agg. 1\n% Passing"},{"$f":"IF('Optimized Gradation'!$B$21=\"\",\"\",'Optimized Gradation'!$B$21)","v":"Sieve Size"},{"$f":"IF('Optimized Gradation'!$B$34=\"\",\"\",'Optimized Gradation'!$B$34)","v":"No. 100"}]
[211,{"$f":"IF('Optimized Gradation'!$D$35=\"\",\"\",'Optimized Gradation'!$D$35)","v":""},{"$f":"IF('Optimized Gradation'!$B$5=\"\",\"\",'Optimized Gradation'!$B$5)","v":"Optimized Gradation"},{"$f":"IF('Optimized Gradation'!$B$20=\"\",\"\",'Optimized Gradation'!$B$20)","v":"SIEVE ANALYSIS"},{"$f":"IF('Optimized Gradation'!$D$21=\"\",\"\",'Optimized Gradation'!$D$21)","v":"Coarse Agg. 1\n% Passing"},{"$f":"IF('Optimized Gradation'!$B$21=\"\",\"\",'Optimized Gradation'!$B$21)","v":"Sieve Size"},{"$f":"IF('Optimized Gradation'!$B$35=\"\",\"\",'Optimized Gradation'!$B$35)","v":"No. 200"}]
[212,{"$f":"IF('Optimized Gradation'!$D$36=\"\",\"\",'Optimized Gradation'!$D$36)","v":""},{"$f":"IF('Optimized Gradation'!$B$5=\"\",\"\",'Optimized Gradation'!$B$5)","v":"Optimized Gradation"},{"$f":"IF('Optimized Gradation'!$B$20=\"\",\"\",'Optimized Gradation'!$B$20)","v":"SIEVE ANALYSIS"},{"$f":"IF('Optimized Gradation'!$D$21=\"\",\"\",'Optimized Gradation'!$D$21)","v":"Coarse Agg. 1\n% Passing"},{"$f":"IF('Optimized Gradation'!$B$21=\"\",\"\",'Optimized Gradation'!$B$21)","v":"Sieve Size"},{"$f":"IF('Optimized Gradation'!$B$36=\"\",\"\",'Optimized Gradation'!$B$36)","v":"Pan"}]
[213,{"$f":"IF('Optimized Gradation'!$E$22=\"\",\"\",'Optimized Gradation'!$E$22)","v":""},{"$f":"IF('Optimized Gradation'!$B$5=\"\",\"\",'Optimized Gradation'!$B$5)","v":"Optimized Gradation"},{"$f":"IF('Optimized Gradation'!$B$20=\"\",\"\",'Optimized Gradation'!$B$20)","v":"SIEVE ANALYSIS"},{"$f":"IF('Optimized Gradation'!$E$21=\"\",\"\",'Optimized Gradation'!$E$21)","v":"Coarse Agg. 2\n% Passing"},{"$f":"IF('Optimized Gradation'!$B$21=\"\",\"\",'Optimized Gradation'!$B$21)","v":"Sieve Size"},{"$f":"IF('Optimized Gradation'!$B$22=\"\",\"\",'Optimized Gradation'!$B$22)","v":"2 1/2 in"}]
[214,{"$f":"IF('Optimized Gradation'!$E$23=\"\",\"\",'Optimized Gradation'!$E$23)","v":""},{"$f":"IF('Optimized Gradation'!$B$5=\"\",\"\",'Optimized Gradation'!$B$5)","v":"Optimized Gradation"},{"$f":"IF('Optimized Gradation'!$B$20=\"\",\"\",'Optimized Gradation'!$B$20)","v":"SIEVE ANALYSIS"},{"$f":"IF('Optimized Gradation'!$E$21=\"\",\"\",'Optimized Gradation'!$E$21)","v":"Coarse Agg. 2\n% Passing"},{"$f":"IF('Optimized Gradation'!$B$21=\"\",\"\",'Optimized Gradation'!$B$21)","v":"Sieve Size"},{"$f":"IF('Optimized Gradation'!$B$23=\"\",\"\",'Optimized Gradation'!$B$23)","v":"2 in"}]
[215,{"$f":"IF('Optimized Gradation'!$E$24=\"\",\"\",'Optimized Gradation'!$E$24)","v":""},{"$f":"IF('Optimized Gradation'!$B$5=\"\",\"\",'Optimized Gradation'!$B$5)","v":"Optimized Gradation"},{"$f":"IF('Optimized Gradation'!$B$20=\"\",\"\",'Optimized Gradation'!$B$20)","v":"SIEVE ANALYSIS"},{"$f":"IF('Optimized Gradation'!$E$21=\"\",\"\",'Optimized Gradation'!$E$21)","v":"Coarse Agg. 2\n% Passing"},{"$f":"IF('Optimized Gradation'!$B$21=\"\",\"\",'Optimized Gradation'!$B$21)","v":"Sieve Size"},{"$f":"IF('Optimized Gradation'!$B$24=\"\",\"\",'Optimized Gradation'!$B$24)","v":"1 1/2 in"}]
[216,{"$f":"IF('Optimized Gradation'!$E$25=\"\",\"\",'Optimized Gradation'!$E$25)","v":""},{"$f":"IF('Optimized Gradation'!$B$5=\"\",\"\",'Optimized Gradation'!$B$5)","v":"Optimized Gradation"},{"$f":"IF('Optimized Gradation'!$B$20=\"\",\"\",'Optimized Gradation'!$B$20)","v":"SIEVE ANALYSIS"},{"$f":"IF('Optimized Gradation'!$E$21=\"\",\"\",'Optimized Gradation'!$E$21)","v":"Coarse Agg. 2\n% Passing"},{"$f":"IF('Optimized Gradation'!$B$21=\"\",\"\",'Optimized Gradation'!$B$21)","v":"Sieve Size"},{"$f":"IF('Optimized Gradation'!$B$25=\"\",\"\",'Optimized Gradation'!$B$25)","v":"1 in"}]
[217,{"$f":"IF('Optimized Gradation'!$E$26=\"\",\"\",'Optimized Gradation'!$E$26)","v":""},{"$f":"IF('Optimized Gradation'!$B$5=\"\",\"\",'Optimized Gradation'!$B$5)","v":"Optimized Gradation"},{"$f":"IF('Optimized Gradation'!$B$20=\"\",\"\",'Optimized Gradation'!$B$20)","v":"SIEVE ANALYSIS"},{"$f":"IF('Optimized Gradation'!$E$21=\"\",\"\",'Optimized Gradation'!$E$21)","v":"Coarse Agg. 2\n% Passing"},{"$f":"IF('Optimized Gradation'!$B$21=\"\",\"\",'Optimized Gradation'!$B$21)","v":"Sieve Size"},{"$f":"IF('Optimized Gradation'!$B$26=\"\",\"\",'Optimized Gradation'!$B$26)","v":"3/4 in"}]
[218,{"$f":"IF('Optimized Gradation'!$E$27=\"\",\"\",'Optimized Gradation'!$E$27)","v":""},{"$f":"IF('Optimized Gradation'!$B$5=\"\",\"\",'Optimized Gradation'!$B$5)","v":"Optimized Gradation"},{"$f":"IF('Optimized Gradation'!$B$20=\"\",\"\",'Optimized Gradation'!$B$20)","v":"SIEVE ANALYSIS"},{"$f":"IF('Optimized Gradation'!$E$21=\"\",\"\",'Optimized Gradation'!$E$21)","v":"Coarse Agg. 2\n% Passing"},{"$f":"IF('Optimized Gradation'!$B$21=\"\",\"\",'Optimized Gradation'!$B$21)","v":"Sieve Size"},{"$f":"IF('Optimized Gradation'!$B$27=\"\",\"\",'Optimized Gradation'!$B$27)","v":"1/2 in"}]
[219,{"$f":"IF('Optimized Gradation'!$E$28=\"\",\"\",'Optimized Gradation'!$E$28)","v":""},{"$f":"IF('Optimized Gradation'!$B$5=\"\",\"\",'Optimized Gradation'!$B$5)","v":"Optimized Gradation"},{"$f":"IF('Optimized Gradation'!$B$20=\"\",\"\",'Optimized Gradation'!$B$20)","v":"SIEVE ANALYSIS"},{"$f":"IF('Optimized Gradation'!$E$21=\"\",\"\",'Optimized Gradation'!$E$21)","v":"Coarse Agg. 2\n% Passing"},{"$f":"IF('Optimized Gradation'!$B$21=\"\",\"\",'Optimized Gradation'!$B$21)","v":"Sieve Size"},{"$f":"IF('Optimized Gradation'!$B$28=\"\",\"\",'Optimized Gradation'!$B$28)","v":"3/8 in"}]
[220,{"$f":"IF('Optimized Gradation'!$E$29=\"\",\"\",'Optimized Gradation'!$E$29)","v":""},{"$f":"IF('Optimized Gradation'!$B$5=\"\",\"\",'Optimized Gradation'!$B$5)","v":"Optimized Gradation"},{"$f":"IF('Optimized Gradation'!$B$20=\"\",\"\",'Optimized Gradation'!$B$20)","v":"SIEVE ANALYSIS"},{"$f":"IF('Optimized Gradation'!$E$21=\"\",\"\",'Optimized Gradation'!$E$21)","v":"Coarse Agg. 2\n% Passing"},{"$f":"IF('Optimized Gradation'!$B$21=\"\",\"\",'Optimized Gradation'!$B$21)","v":"Sieve Size"},{"$f":"IF('Optimized Gradation'!$B$29=\"\",\"\",'Optimized Gradation'!$B$29)","v":"No. 4"}]
[221,{"$f":"IF('Optimized Gradation'!$E$30=\"\",\"\",'Optimized Gradation'!$E$30)","v":""},{"$f":"IF('Optimized Gradation'!$B$5=\"\",\"\",'Optimized Gradation'!$B$5)","v":"Optimized Gradation"},{"$f":"IF('Optimized Gradation'!$B$20=\"\",\"\",'Optimized Gradation'!$B$20)","v":"SIEVE ANALYSIS"},{"$f":"IF('Optimized Gradation'!$E$21=\"\",\"\",'Optimized Gradation'!$E$21)","v":"Coarse Agg. 2\n% Passing"},{"$f":"IF('Optimized Gradation'!$B$21=\"\",\"\",'Optimized Gradation'!$B$21)","v":"Sieve Size"},{"$f":"IF('Optimized Gradation'!$B$30=\"\",\"\",'Optimized Gradation'!$B$30)","v":"No. 8"}]
[222,{"$f":"IF('Optimized Gradation'!$E$31=\"\",\"\",'Optimized Gradation'!$E$31)","v":""},{"$f":"IF('Optimized Gradation'!$B$5=\"\",\"\",'Optimized Gradation'!$B$5)","v":"Optimized Gradation"},{"$f":"IF('Optimized Gradation'!$B$20=\"\",\"\",'Optimized Gradation'!$B$20)","v":"SIEVE ANALYSIS"},{"$f":"IF('Optimized Gradation'!$E$21=\"\",\"\",'Optimized Gradation'!$E$21)","v":"Coarse Agg. 2\n% Passing"},{"$f":"IF('Optimized Gradation'!$B$21=\"\",\"\",'Optimized Gradation'!$B$21)","v":"Sieve Size"},{"$f":"IF('Optimized Gradation'!$B$31=\"\",\"\",'Optimized Gradation'!$B$31)","v":"No. 16"}]
[223,{"$f":"IF('Optimized Gradation'!$E$32=\"\",\"\",'Optimized Gradation'!$E$32)","v":""},{"$f":"IF('Optimized Gradation'!$B$5=\"\",\"\",'Optimized Gradation'!$B$5)","v":"Optimized Gradation"},{"$f":"IF('Optimized Gradation'!$B$20=\"\",\"\",'Optimized Gradation'!$B$20)","v":"SIEVE ANALYSIS"},{"$f":"IF('Optimized Gradation'!$E$21=\"\",\"\",'Optimized Gradation'!$E$21)","v":"Coarse Agg. 2\n% Passing"},{"$f":"IF('Optimized Gradation'!$B$21=\"\",\"\",'Optimized Gradation'!$B$21)","v":"Sieve Size"},{"$f":"IF('Optimized Gradation'!$B$32=\"\",\"\",'Optimized Gradation'!$B$32)","v":" No. 30"}]
[224,{"$f":"IF('Optimized Gradation'!$E$33=\"\",\"\",'Optimized Gradation'!$E$33)","v":""},{"$f":"IF('Optimized Gradation'!$B$5=\"\",\"\",'Optimized Gradation'!$B$5)","v":"Optimized Gradation"},{"$f":"IF('Optimized Gradation'!$B$20=\"\",\"\",'Optimized Gradation'!$B$20)","v":"SIEVE ANALYSIS"},{"$f":"IF('Optimized Gradation'!$E$21=\"\",\"\",'Optimized Gradation'!$E$21)","v":"Coarse Agg. 2\n% Passing"},{"$f":"IF('Optimized Gradation'!$B$21=\"\",\"\",'Optimized Gradation'!$B$21)","v":"Sieve Size"},{"$f":"IF('Optimized Gradation'!$B$33=\"\",\"\",'Optimized Gradation'!$B$33)","v":"No. 50"}]
[225,{"$f":"IF('Optimized Gradation'!$E$34=\"\",\"\",'Optimized Gradation'!$E$34)","v":""},{"$f":"IF('Optimized Gradation'!$B$5=\"\",\"\",'Optimized Gradation'!$B$5)","v":"Optimized Gradation"},{"$f":"IF('Optimized Gradation'!$B$20=\"\",\"\",'Optimized Gradation'!$B$20)","v":"SIEVE ANALYSIS"},{"$f":"IF('Optimized Gradation'!$E$21=\"\",\"\",'Optimized Gradation'!$E$21)","v":"Coarse Agg. 2\n% Passing"},{"$f":"IF('Optimized Gradation'!$B$21=\"\",\"\",'Optimized Gradation'!$B$21)","v":"Sieve Size"},{"$f":"IF('Optimized Gradation'!$B$34=\"\",\"\",'Optimized Gradation'!$B$34)","v":"No. 100"}]
[226,{"$f":"IF('Optimized Gradation'!$E$35=\"\",\"\",'Optimized Gradation'!$E$35)","v":""},{"$f":"IF('Optimized Gradation'!$B$5=\"\",\"\",'Optimized Gradation'!$B$5)","v":"Optimized Gradation"},{"$f":"IF('Optimized Gradation'!$B$20=\"\",\"\",'Optimized Gradation'!$B$20)","v":"SIEVE ANALYSIS"},{"$f":"IF('Optimized Gradation'!$E$21=\"\",\"\",'Optimized Gradation'!$E$21)","v":"Coarse Agg. 2\n% Passing"},{"$f":"IF('Optimized Gradation'!$B$21=\"\",\"\",'Optimized Gradation'!$B$21)","v":"Sieve Size"},{"$f":"IF('Optimized Gradation'!$B$35=\"\",\"\",'Optimized Gradation'!$B$35)","v":"No. 200"}]
[227,{"$f":"IF('Optimized Gradation'!$E$36=\"\",\"\",'Optimized Gradation'!$E$36)","v":""},{"$f":"IF('Optimized Gradation'!$B$5=\"\",\"\",'Optimized Gradation'!$B$5)","v":"Optimized Gradation"},{"$f":"IF('Optimized Gradation'!$B$20=\"\",\"\",'Optimized Gradation'!$B$20)","v":"SIEVE ANALYSIS"},{"$f":"IF('Optimized Gradation'!$E$21=\"\",\"\",'Optimized Gradation'!$E$21)","v":"Coarse Agg. 2\n% Passing"},{"$f":"IF('Optimized Gradation'!$B$21=\"\",\"\",'Optimized Gradation'!$B$21)","v":"Sieve Size"},{"$f":"IF('Optimized Gradation'!$B$36=\"\",\"\",'Optimized Gradation'!$B$36)","v":"Pan"}]
[228,{"$f":"IF('Optimized Gradation'!$F$22=\"\",\"\",'Optimized Gradation'!$F$22)","v":""},{"$f":"IF('Optimized Gradation'!$B$5=\"\",\"\",'Optimized Gradation'!$B$5)","v":"Optimized Gradation"},{"$f":"IF('Optimized Gradation'!$B$20=\"\",\"\",'Optimized Gradation'!$B$20)","v":"SIEVE ANALYSIS"},{"$f":"IF('Optimized Gradation'!$F$21=\"\",\"\",'Optimized Gradation'!$F$21)","v":"Intermediate Agg. 1\n% Passing"},{"$f":"IF('Optimized Gradation'!$B$21=\"\",\"\",'Optimized Gradation'!$B$21)","v":"Sieve Size"},{"$f":"IF('Optimized Gradation'!$B$22=\"\",\"\",'Optimized Gradation'!$B$22)","v":"2 1/2 in"}]
[229,{"$f":"IF('Optimized Gradation'!$F$23=\"\",\"\",'Optimized Gradation'!$F$23)","v":""},{"$f":"IF('Optimized Gradation'!$B$5=\"\",\"\",'Optimized Gradation'!$B$5)","v":"Optimized Gradation"},{"$f":"IF('Optimized Gradation'!$B$20=\"\",\"\",'Optimized Gradation'!$B$20)","v":"SIEVE ANALYSIS"},{"$f":"IF('Optimized Gradation'!$F$21=\"\",\"\",'Optimized Gradation'!$F$21)","v":"Intermediate Agg. 1\n% Passing"},{"$f":"IF('Optimized Gradation'!$B$21=\"\",\"\",'Optimized Gradation'!$B$21)","v":"Sieve Size"},{"$f":"IF('Optimized Gradation'!$B$23=\"\",\"\",'Optimized Gradation'!$B$23)","v":"2 in"}]
[230,{"$f":"IF('Optimized Gradation'!$F$24=\"\",\"\",'Optimized Gradation'!$F$24)","v":""},{"$f":"IF('Optimized Gradation'!$B$5=\"\",\"\",'Optimized Gradation'!$B$5)","v":"Optimized Gradation"},{"$f":"IF('Optimized Gradation'!$B$20=\"\",\"\",'Optimized Gradation'!$B$20)","v":"SIEVE ANALYSIS"},{"$f":"IF('Optimized Gradation'!$F$21=\"\",\"\",'Optimized Gradation'!$F$21)","v":"Intermediate Agg. 1\n% Passing"},{"$f":"IF('Optimized Gradation'!$B$21=\"\",\"\",'Optimized Gradation'!$B$21)","v":"Sieve Size"},{"$f":"IF('Optimized Gradation'!$B$24=\"\",\"\",'Optimized Gradation'!$B$24)","v":"1 1/2 in"}]
[231,{"$f":"IF('Optimized Gradation'!$F$25=\"\",\"\",'Optimized Gradation'!$F$25)","v":""},{"$f":"IF('Optimized Gradation'!$B$5=\"\",\"\",'Optimized Gradation'!$B$5)","v":"Optimized Gradation"},{"$f":"IF('Optimized Gradation'!$B$20=\"\",\"\",'Optimized Gradation'!$B$20)","v":"SIEVE ANALYSIS"},{"$f":"IF('Optimized Gradation'!$F$21=\"\",\"\",'Optimized Gradation'!$F$21)","v":"Intermediate Agg. 1\n% Passing"},{"$f":"IF('Optimized Gradation'!$B$21=\"\",\"\",'Optimized Gradation'!$B$21)","v":"Sieve Size"},{"$f":"IF('Optimized Gradation'!$B$25=\"\",\"\",'Optimized Gradation'!$B$25)","v":"1 in"}]
[232,{"$f":"IF('Optimized Gradation'!$F$26=\"\",\"\",'Optimized Gradation'!$F$26)","v":""},{"$f":"IF('Optimized Gradation'!$B$5=\"\",\"\",'Optimized Gradation'!$B$5)","v":"Optimized Gradation"},{"$f":"IF('Optimized Gradation'!$B$20=\"\",\"\",'Optimized Gradation'!$B$20)","v":"SIEVE ANALYSIS"},{"$f":"IF('Optimized Gradation'!$F$21=\"\",\"\",'Optimized Gradation'!$F$21)","v":"Intermediate Agg. 1\n% Passing"},{"$f":"IF('Optimized Gradation'!$B$21=\"\",\"\",'Optimized Gradation'!$B$21)","v":"Sieve Size"},{"$f":"IF('Optimized Gradation'!$B$26=\"\",\"\",'Optimized Gradation'!$B$26)","v":"3/4 in"}]
[233,{"$f":"IF('Optimized Gradation'!$F$27=\"\",\"\",'Optimized Gradation'!$F$27)","v":""},{"$f":"IF('Optimized Gradation'!$B$5=\"\",\"\",'Optimized Gradation'!$B$5)","v":"Optimized Gradation"},{"$f":"IF('Optimized Gradation'!$B$20=\"\",\"\",'Optimized Gradation'!$B$20)","v":"SIEVE ANALYSIS"},{"$f":"IF('Optimized Gradation'!$F$21=\"\",\"\",'Optimized Gradation'!$F$21)","v":"Intermediate Agg. 1\n% Passing"},{"$f":"IF('Optimized Gradation'!$B$21=\"\",\"\",'Optimized Gradation'!$B$21)","v":"Sieve Size"},{"$f":"IF('Optimized Gradation'!$B$27=\"\",\"\",'Optimized Gradation'!$B$27)","v":"1/2 in"}]
[234,{"$f":"IF('Optimized Gradation'!$F$28=\"\",\"\",'Optimized Gradation'!$F$28)","v":""},{"$f":"IF('Optimized Gradation'!$B$5=\"\",\"\",'Optimized Gradation'!$B$5)","v":"Optimized Gradation"},{"$f":"IF('Optimized Gradation'!$B$20=\"\",\"\",'Optimized Gradation'!$B$20)","v":"SIEVE ANALYSIS"},{"$f":"IF('Optimized Gradation'!$F$21=\"\",\"\",'Optimized Gradation'!$F$21)","v":"Intermediate Agg. 1\n% Passing"},{"$f":"IF('Optimized Gradation'!$B$21=\"\",\"\",'Optimized Gradation'!$B$21)","v":"Sieve Size"},{"$f":"IF('Optimized Gradation'!$B$28=\"\",\"\",'Optimized Gradation'!$B$28)","v":"3/8 in"}]
[235,{"$f":"IF('Optimized Gradation'!$F$29=\"\",\"\",'Optimized Gradation'!$F$29)","v":""},{"$f":"IF('Optimized Gradation'!$B$5=\"\",\"\",'Optimized Gradation'!$B$5)","v":"Optimized Gradation"},{"$f":"IF('Optimized Gradation'!$B$20=\"\",\"\",'Optimized Gradation'!$B$20)","v":"SIEVE ANALYSIS"},{"$f":"IF('Optimized Gradation'!$F$21=\"\",\"\",'Optimized Gradation'!$F$21)","v":"Intermediate Agg. 1\n% Passing"},{"$f":"IF('Optimized Gradation'!$B$21=\"\",\"\",'Optimized Gradation'!$B$21)","v":"Sieve Size"},{"$f":"IF('Optimized Gradation'!$B$29=\"\",\"\",'Optimized Gradation'!$B$29)","v":"No. 4"}]
[236,{"$f":"IF('Optimized Gradation'!$F$30=\"\",\"\",'Optimized Gradation'!$F$30)","v":""},{"$f":"IF('Optimized Gradation'!$B$5=\"\",\"\",'Optimized Gradation'!$B$5)","v":"Optimized Gradation"},{"$f":"IF('Optimized Gradation'!$B$20=\"\",\"\",'Optimized Gradation'!$B$20)","v":"SIEVE ANALYSIS"},{"$f":"IF('Optimized Gradation'!$F$21=\"\",\"\",'Optimized Gradation'!$F$21)","v":"Intermediate Agg. 1\n% Passing"},{"$f":"IF('Optimized Gradation'!$B$21=\"\",\"\",'Optimized Gradation'!$B$21)","v":"Sieve Size"},{"$f":"IF('Optimized Gradation'!$B$30=\"\",\"\",'Optimized Gradation'!$B$30)","v":"No. 8"}]
[237,{"$f":"IF('Optimized Gradation'!$F$31=\"\",\"\",'Optimized Gradation'!$F$31)","v":""},{"$f":"IF('Optimized Gradation'!$B$5=\"\",\"\",'Optimized Gradation'!$B$5)","v":"Optimized Gradation"},{"$f":"IF('Optimized Gradation'!$B$20=\"\",\"\",'Optimized Gradation'!$B$20)","v":"SIEVE ANALYSIS"},{"$f":"IF('Optimized Gradation'!$F$21=\"\",\"\",'Optimized Gradation'!$F$21)","v":"Intermediate Agg. 1\n% Passing"},{"$f":"IF('Optimized Gradation'!$B$21=\"\",\"\",'Optimized Gradation'!$B$21)","v":"Sieve Size"},{"$f":"IF('Optimized Gradation'!$B$31=\"\",\"\",'Optimized Gradation'!$B$31)","v":"No. 16"}]
[238,{"$f":"IF('Optimized Gradation'!$F$32=\"\",\"\",'Optimized Gradation'!$F$32)","v":""},{"$f":"IF('Optimized Gradation'!$B$5=\"\",\"\",'Optimized Gradation'!$B$5)","v":"Optimized Gradation"},{"$f":"IF('Optimized Gradation'!$B$20=\"\",\"\",'Optimized Gradation'!$B$20)","v":"SIEVE ANALYSIS"},{"$f":"IF('Optimized Gradation'!$F$21=\"\",\"\",'Optimized Gradation'!$F$21)","v":"Intermediate Agg. 1\n% Passing"},{"$f":"IF('Optimized Gradation'!$B$21=\"\",\"\",'Optimized Gradation'!$B$21)","v":"Sieve Size"},{"$f":"IF('Optimized Gradation'!$B$32=\"\",\"\",'Optimized Gradation'!$B$32)","v":" No. 30"}]
[239,{"$f":"IF('Optimized Gradation'!$F$33=\"\",\"\",'Optimized Gradation'!$F$33)","v":""},{"$f":"IF('Optimized Gradation'!$B$5=\"\",\"\",'Optimized Gradation'!$B$5)","v":"Optimized Gradation"},{"$f":"IF('Optimized Gradation'!$B$20=\"\",\"\",'Optimized Gradation'!$B$20)","v":"SIEVE ANALYSIS"},{"$f":"IF('Optimized Gradation'!$F$21=\"\",\"\",'Optimized Gradation'!$F$21)","v":"Intermediate Agg. 1\n% Passing"},{"$f":"IF('Optimized Gradation'!$B$21=\"\",\"\",'Optimized Gradation'!$B$21)","v":"Sieve Size"},{"$f":"IF('Optimized Gradation'!$B$33=\"\",\"\",'Optimized Gradation'!$B$33)","v":"No. 50"}]
[240,{"$f":"IF('Optimized Gradation'!$F$34=\"\",\"\",'Optimized Gradation'!$F$34)","v":""},{"$f":"IF('Optimized Gradation'!$B$5=\"\",\"\",'Optimized Gradation'!$B$5)","v":"Optimized Gradation"},{"$f":"IF('Optimized Gradation'!$B$20=\"\",\"\",'Optimized Gradation'!$B$20)","v":"SIEVE ANALYSIS"},{"$f":"IF('Optimized Gradation'!$F$21=\"\",\"\",'Optimized Gradation'!$F$21)","v":"Intermediate Agg. 1\n% Passing"},{"$f":"IF('Optimized Gradation'!$B$21=\"\",\"\",'Optimized Gradation'!$B$21)","v":"Sieve Size"},{"$f":"IF('Optimized Gradation'!$B$34=\"\",\"\",'Optimized Gradation'!$B$34)","v":"No. 100"}]
[241,{"$f":"IF('Optimized Gradation'!$F$35=\"\",\"\",'Optimized Gradation'!$F$35)","v":""},{"$f":"IF('Optimized Gradation'!$B$5=\"\",\"\",'Optimized Gradation'!$B$5)","v":"Optimized Gradation"},{"$f":"IF('Optimized Gradation'!$B$20=\"\",\"\",'Optimized Gradation'!$B$20)","v":"SIEVE ANALYSIS"},{"$f":"IF('Optimized Gradation'!$F$21=\"\",\"\",'Optimized Gradation'!$F$21)","v":"Intermediate Agg. 1\n% Passing"},{"$f":"IF('Optimized Gradation'!$B$21=\"\",\"\",'Optimized Gradation'!$B$21)","v":"Sieve Size"},{"$f":"IF('Optimized Gradation'!$B$35=\"\",\"\",'Optimized Gradation'!$B$35)","v":"No. 200"}]
[242,{"$f":"IF('Optimized Gradation'!$F$36=\"\",\"\",'Optimized Gradation'!$F$36)","v":""},{"$f":"IF('Optimized Gradation'!$B$5=\"\",\"\",'Optimized Gradation'!$B$5)","v":"Optimized Gradation"},{"$f":"IF('Optimized Gradation'!$B$20=\"\",\"\",'Optimized Gradation'!$B$20)","v":"SIEVE ANALYSIS"},{"$f":"IF('Optimized Gradation'!$F$21=\"\",\"\",'Optimized Gradation'!$F$21)","v":"Intermediate Agg. 1\n% Passing"},{"$f":"IF('Optimized Gradation'!$B$21=\"\",\"\",'Optimized Gradation'!$B$21)","v":"Sieve Size"},{"$f":"IF('Optimized Gradation'!$B$36=\"\",\"\",'Optimized Gradation'!$B$36)","v":"Pan"}]
[243,{"$f":"IF('Optimized Gradation'!$G$22=\"\",\"\",'Optimized Gradation'!$G$22)","v":""},{"$f":"IF('Optimized Gradation'!$B$5=\"\",\"\",'Optimized Gradation'!$B$5)","v":"Optimized Gradation"},{"$f":"IF('Optimized Gradation'!$B$20=\"\",\"\",'Optimized Gradation'!$B$20)","v":"SIEVE ANALYSIS"},{"$f":"IF('Optimized Gradation'!$G$21=\"\",\"\",'Optimized Gradation'!$G$21)","v":"Intermediate Agg. 2\n% Passing"},{"$f":"IF('Optimized Gradation'!$B$21=\"\",\"\",'Optimized Gradation'!$B$21)","v":"Sieve Size"},{"$f":"IF('Optimized Gradation'!$B$22=\"\",\"\",'Optimized Gradation'!$B$22)","v":"2 1/2 in"}]
[244,{"$f":"IF('Optimized Gradation'!$G$23=\"\",\"\",'Optimized Gradation'!$G$23)","v":""},{"$f":"IF('Optimized Gradation'!$B$5=\"\",\"\",'Optimized Gradation'!$B$5)","v":"Optimized Gradation"},{"$f":"IF('Optimized Gradation'!$B$20=\"\",\"\",'Optimized Gradation'!$B$20)","v":"SIEVE ANALYSIS"},{"$f":"IF('Optimized Gradation'!$G$21=\"\",\"\",'Optimized Gradation'!$G$21)","v":"Intermediate Agg. 2\n% Passing"},{"$f":"IF('Optimized Gradation'!$B$21=\"\",\"\",'Optimized Gradation'!$B$21)","v":"Sieve Size"},{"$f":"IF('Optimized Gradation'!$B$23=\"\",\"\",'Optimized Gradation'!$B$23)","v":"2 in"}]
[245,{"$f":"IF('Optimized Gradation'!$G$24=\"\",\"\",'Optimized Gradation'!$G$24)","v":""},{"$f":"IF('Optimized Gradation'!$B$5=\"\",\"\",'Optimized Gradation'!$B$5)","v":"Optimized Gradation"},{"$f":"IF('Optimized Gradation'!$B$20=\"\",\"\",'Optimized Gradation'!$B$20)","v":"SIEVE ANALYSIS"},{"$f":"IF('Optimized Gradation'!$G$21=\"\",\"\",'Optimized Gradation'!$G$21)","v":"Intermediate Agg. 2\n% Passing"},{"$f":"IF('Optimized Gradation'!$B$21=\"\",\"\",'Optimized Gradation'!$B$21)","v":"Sieve Size"},{"$f":"IF('Optimized Gradation'!$B$24=\"\",\"\",'Optimized Gradation'!$B$24)","v":"1 1/2 in"}]
[246,{"$f":"IF('Optimized Gradation'!$G$25=\"\",\"\",'Optimized Gradation'!$G$25)","v":""},{"$f":"IF('Optimized Gradation'!$B$5=\"\",\"\",'Optimized Gradation'!$B$5)","v":"Optimized Gradation"},{"$f":"IF('Optimized Gradation'!$B$20=\"\",\"\",'Optimized Gradation'!$B$20)","v":"SIEVE ANALYSIS"},{"$f":"IF('Optimized Gradation'!$G$21=\"\",\"\",'Optimized Gradation'!$G$21)","v":"Intermediate Agg. 2\n% Passing"},{"$f":"IF('Optimized Gradation'!$B$21=\"\",\"\",'Optimized Gradation'!$B$21)","v":"Sieve Size"},{"$f":"IF('Optimized Gradation'!$B$25=\"\",\"\",'Optimized Gradation'!$B$25)","v":"1 in"}]
[247,{"$f":"IF('Optimized Gradation'!$G$26=\"\",\"\",'Optimized Gradation'!$G$26)","v":""},{"$f":"IF('Optimized Gradation'!$B$5=\"\",\"\",'Optimized Gradation'!$B$5)","v":"Optimized Gradation"},{"$f":"IF('Optimized Gradation'!$B$20=\"\",\"\",'Optimized Gradation'!$B$20)","v":"SIEVE ANALYSIS"},{"$f":"IF('Optimized Gradation'!$G$21=\"\",\"\",'Optimized Gradation'!$G$21)","v":"Intermediate Agg. 2\n% Passing"},{"$f":"IF('Optimized Gradation'!$B$21=\"\",\"\",'Optimized Gradation'!$B$21)","v":"Sieve Size"},{"$f":"IF('Optimized Gradation'!$B$26=\"\",\"\",'Optimized Gradation'!$B$26)","v":"3/4 in"}]
[248,{"$f":"IF('Optimized Gradation'!$G$27=\"\",\"\",'Optimized Gradation'!$G$27)","v":""},{"$f":"IF('Optimized Gradation'!$B$5=\"\",\"\",'Optimized Gradation'!$B$5)","v":"Optimized Gradation"},{"$f":"IF('Optimized Gradation'!$B$20=\"\",\"\",'Optimized Gradation'!$B$20)","v":"SIEVE ANALYSIS"},{"$f":"IF('Optimized Gradation'!$G$21=\"\",\"\",'Optimized Gradation'!$G$21)","v":"Intermediate Agg. 2\n% Passing"},{"$f":"IF('Optimized Gradation'!$B$21=\"\",\"\",'Optimized Gradation'!$B$21)","v":"Sieve Size"},{"$f":"IF('Optimized Gradation'!$B$27=\"\",\"\",'Optimized Gradation'!$B$27)","v":"1/2 in"}]
[249,{"$f":"IF('Optimized Gradation'!$G$28=\"\",\"\",'Optimized Gradation'!$G$28)","v":""},{"$f":"IF('Optimized Gradation'!$B$5=\"\",\"\",'Optimized Gradation'!$B$5)","v":"Optimized Gradation"},{"$f":"IF('Optimized Gradation'!$B$20=\"\",\"\",'Optimized Gradation'!$B$20)","v":"SIEVE ANALYSIS"},{"$f":"IF('Optimized Gradation'!$G$21=\"\",\"\",'Optimized Gradation'!$G$21)","v":"Intermediate Agg. 2\n% Passing"},{"$f":"IF('Optimized Gradation'!$B$21=\"\",\"\",'Optimized Gradation'!$B$21)","v":"Sieve Size"},{"$f":"IF('Optimized Gradation'!$B$28=\"\",\"\",'Optimized Gradation'!$B$28)","v":"3/8 in"}]
[250,{"$f":"IF('Optimized Gradation'!$G$29=\"\",\"\",'Optimized Gradation'!$G$29)","v":""},{"$f":"IF('Optimized Gradation'!$B$5=\"\",\"\",'Optimized Gradation'!$B$5)","v":"Optimized Gradation"},{"$f":"IF('Optimized Gradation'!$B$20=\"\",\"\",'Optimized Gradation'!$B$20)","v":"SIEVE ANALYSIS"},{"$f":"IF('Optimized Gradation'!$G$21=\"\",\"\",'Optimized Gradation'!$G$21)","v":"Intermediate Agg. 2\n% Passing"},{"$f":"IF('Optimized Gradation'!$B$21=\"\",\"\",'Optimized Gradation'!$B$21)","v":"Sieve Size"},{"$f":"IF('Optimized Gradation'!$B$29=\"\",\"\",'Optimized Gradation'!$B$29)","v":"No. 4"}]
[251,{"$f":"IF('Optimized Gradation'!$G$30=\"\",\"\",'Optimized Gradation'!$G$30)","v":""},{"$f":"IF('Optimized Gradation'!$B$5=\"\",\"\",'Optimized Gradation'!$B$5)","v":"Optimized Gradation"},{"$f":"IF('Optimized Gradation'!$B$20=\"\",\"\",'Optimized Gradation'!$B$20)","v":"SIEVE ANALYSIS"},{"$f":"IF('Optimized Gradation'!$G$21=\"\",\"\",'Optimized Gradation'!$G$21)","v":"Intermediate Agg. 2\n% Passing"},{"$f":"IF('Optimized Gradation'!$B$21=\"\",\"\",'Optimized Gradation'!$B$21)","v":"Sieve Size"},{"$f":"IF('Optimized Gradation'!$B$30=\"\",\"\",'Optimized Gradation'!$B$30)","v":"No. 8"}]
[252,{"$f":"IF('Optimized Gradation'!$G$31=\"\",\"\",'Optimized Gradation'!$G$31)","v":""},{"$f":"IF('Optimized Gradation'!$B$5=\"\",\"\",'Optimized Gradation'!$B$5)","v":"Optimized Gradation"},{"$f":"IF('Optimized Gradation'!$B$20=\"\",\"\",'Optimized Gradation'!$B$20)","v":"SIEVE ANALYSIS"},{"$f":"IF('Optimized Gradation'!$G$21=\"\",\"\",'Optimized Gradation'!$G$21)","v":"Intermediate Agg. 2\n% Passing"},{"$f":"IF('Optimized Gradation'!$B$21=\"\",\"\",'Optimized Gradation'!$B$21)","v":"Sieve Size"},{"$f":"IF('Optimized Gradation'!$B$31=\"\",\"\",'Optimized Gradation'!$B$31)","v":"No. 16"}]
[253,{"$f":"IF('Optimized Gradation'!$G$32=\"\",\"\",'Optimized Gradation'!$G$32)","v":""},{"$f":"IF('Optimized Gradation'!$B$5=\"\",\"\",'Optimized Gradation'!$B$5)","v":"Optimized Gradation"},{"$f":"IF('Optimized Gradation'!$B$20=\"\",\"\",'Optimized Gradation'!$B$20)","v":"SIEVE ANALYSIS"},{"$f":"IF('Optimized Gradation'!$G$21=\"\",\"\",'Optimized Gradation'!$G$21)","v":"Intermediate Agg. 2\n% Passing"},{"$f":"IF('Optimized Gradation'!$B$21=\"\",\"\",'Optimized Gradation'!$B$21)","v":"Sieve Size"},{"$f":"IF('Optimized Gradation'!$B$32=\"\",\"\",'Optimized Gradation'!$B$32)","v":" No. 30"}]
[254,{"$f":"IF('Optimized Gradation'!$G$33=\"\",\"\",'Optimized Gradation'!$G$33)","v":""},{"$f":"IF('Optimized Gradation'!$B$5=\"\",\"\",'Optimized Gradation'!$B$5)","v":"Optimized Gradation"},{"$f":"IF('Optimized Gradation'!$B$20=\"\",\"\",'Optimized Gradation'!$B$20)","v":"SIEVE ANALYSIS"},{"$f":"IF('Optimized Gradation'!$G$21=\"\",\"\",'Optimized Gradation'!$G$21)","v":"Intermediate Agg. 2\n% Passing"},{"$f":"IF('Optimized Gradation'!$B$21=\"\",\"\",'Optimized Gradation'!$B$21)","v":"Sieve Size"},{"$f":"IF('Optimized Gradation'!$B$33=\"\",\"\",'Optimized Gradation'!$B$33)","v":"No. 50"}]
[255,{"$f":"IF('Optimized Gradation'!$G$34=\"\",\"\",'Optimized Gradation'!$G$34)","v":""},{"$f":"IF('Optimized Gradation'!$B$5=\"\",\"\",'Optimized Gradation'!$B$5)","v":"Optimized Gradation"},{"$f":"IF('Optimized Gradation'!$B$20=\"\",\"\",'Optimized Gradation'!$B$20)","v":"SIEVE ANALYSIS"},{"$f":"IF('Optimized Gradation'!$G$21=\"\",\"\",'Optimized Gradation'!$G$21)","v":"Intermediate Agg. 2\n% Passing"},{"$f":"IF('Optimized Gradation'!$B$21=\"\",\"\",'Optimized Gradation'!$B$21)","v":"Sieve Size"},{"$f":"IF('Optimized Gradation'!$B$34=\"\",\"\",'Optimized Gradation'!$B$34)","v":"No. 100"}]
[256,{"$f":"IF('Optimized Gradation'!$G$35=\"\",\"\",'Optimized Gradation'!$G$35)","v":""},{"$f":"IF('Optimized Gradation'!$B$5=\"\",\"\",'Optimized Gradation'!$B$5)","v":"Optimized Gradation"},{"$f":"IF('Optimized Gradation'!$B$20=\"\",\"\",'Optimized Gradation'!$B$20)","v":"SIEVE ANALYSIS"},{"$f":"IF('Optimized Gradation'!$G$21=\"\",\"\",'Optimized Gradation'!$G$21)","v":"Intermediate Agg. 2\n% Passing"},{"$f":"IF('Optimized Gradation'!$B$21=\"\",\"\",'Optimized Gradation'!$B$21)","v":"Sieve Size"},{"$f":"IF('Optimized Gradation'!$B$35=\"\",\"\",'Optimized Gradation'!$B$35)","v":"No. 200"}]
[257,{"$f":"IF('Optimized Gradation'!$G$36=\"\",\"\",'Optimized Gradation'!$G$36)","v":""},{"$f":"IF('Optimized Gradation'!$B$5=\"\",\"\",'Optimized Gradation'!$B$5)","v":"Optimized Gradation"},{"$f":"IF('Optimized Gradation'!$B$20=\"\",\"\",'Optimized Gradation'!$B$20)","v":"SIEVE ANALYSIS"},{"$f":"IF('Optimized Gradation'!$G$21=\"\",\"\",'Optimized Gradation'!$G$21)","v":"Intermediate Agg. 2\n% Passing"},{"$f":"IF('Optimized Gradation'!$B$21=\"\",\"\",'Optimized Gradation'!$B$21)","v":"Sieve Size"},{"$f":"IF('Optimized Gradation'!$B$36=\"\",\"\",'Optimized Gradation'!$B$36)","v":"Pan"}]
[258,{"$f":"IF('Optimized Gradation'!$H$22=\"\",\"\",'Optimized Gradation'!$H$22)","v":""},{"$f":"IF('Optimized Gradation'!$B$5=\"\",\"\",'Optimized Gradation'!$B$5)","v":"Optimized Gradation"},{"$f":"IF('Optimized Gradation'!$B$20=\"\",\"\",'Optimized Gradation'!$B$20)","v":"SIEVE ANALYSIS"},{"$f":"IF('Optimized Gradation'!$H$21=\"\",\"\",'Optimized Gradation'!$H$21)","v":"Fine Agg. 1 % Passing"},{"$f":"IF('Optimized Gradation'!$B$21=\"\",\"\",'Optimized Gradation'!$B$21)","v":"Sieve Size"},{"$f":"IF('Optimized Gradation'!$B$22=\"\",\"\",'Optimized Gradation'!$B$22)","v":"2 1/2 in"}]
[259,{"$f":"IF('Optimized Gradation'!$H$23=\"\",\"\",'Optimized Gradation'!$H$23)","v":""},{"$f":"IF('Optimized Gradation'!$B$5=\"\",\"\",'Optimized Gradation'!$B$5)","v":"Optimized Gradation"},{"$f":"IF('Optimized Gradation'!$B$20=\"\",\"\",'Optimized Gradation'!$B$20)","v":"SIEVE ANALYSIS"},{"$f":"IF('Optimized Gradation'!$H$21=\"\",\"\",'Optimized Gradation'!$H$21)","v":"Fine Agg. 1 % Passing"},{"$f":"IF('Optimized Gradation'!$B$21=\"\",\"\",'Optimized Gradation'!$B$21)","v":"Sieve Size"},{"$f":"IF('Optimized Gradation'!$B$23=\"\",\"\",'Optimized Gradation'!$B$23)","v":"2 in"}]
[260,{"$f":"IF('Optimized Gradation'!$H$24=\"\",\"\",'Optimized Gradation'!$H$24)","v":""},{"$f":"IF('Optimized Gradation'!$B$5=\"\",\"\",'Optimized Gradation'!$B$5)","v":"Optimized Gradation"},{"$f":"IF('Optimized Gradation'!$B$20=\"\",\"\",'Optimized Gradation'!$B$20)","v":"SIEVE ANALYSIS"},{"$f":"IF('Optimized Gradation'!$H$21=\"\",\"\",'Optimized Gradation'!$H$21)","v":"Fine Agg. 1 % Passing"},{"$f":"IF('Optimized Gradation'!$B$21=\"\",\"\",'Optimized Gradation'!$B$21)","v":"Sieve Size"},{"$f":"IF('Optimized Gradation'!$B$24=\"\",\"\",'Optimized Gradation'!$B$24)","v":"1 1/2 in"}]
[261,{"$f":"IF('Optimized Gradation'!$H$25=\"\",\"\",'Optimized Gradation'!$H$25)","v":""},{"$f":"IF('Optimized Gradation'!$B$5=\"\",\"\",'Optimized Gradation'!$B$5)","v":"Optimized Gradation"},{"$f":"IF('Optimized Gradation'!$B$20=\"\",\"\",'Optimized Gradation'!$B$20)","v":"SIEVE ANALYSIS"},{"$f":"IF('Optimized Gradation'!$H$21=\"\",\"\",'Optimized Gradation'!$H$21)","v":"Fine Agg. 1 % Passing"},{"$f":"IF('Optimized Gradation'!$B$21=\"\",\"\",'Optimized Gradation'!$B$21)","v":"Sieve Size"},{"$f":"IF('Optimized Gradation'!$B$25=\"\",\"\",'Optimized Gradation'!$B$25)","v":"1 in"}]
[262,{"$f":"IF('Optimized Gradation'!$H$26=\"\",\"\",'Optimized Gradation'!$H$26)","v":""},{"$f":"IF('Optimized Gradation'!$B$5=\"\",\"\",'Optimized Gradation'!$B$5)","v":"Optimized Gradation"},{"$f":"IF('Optimized Gradation'!$B$20=\"\",\"\",'Optimized Gradation'!$B$20)","v":"SIEVE ANALYSIS"},{"$f":"IF('Optimized Gradation'!$H$21=\"\",\"\",'Optimized Gradation'!$H$21)","v":"Fine Agg. 1 % Passing"},{"$f":"IF('Optimized Gradation'!$B$21=\"\",\"\",'Optimized Gradation'!$B$21)","v":"Sieve Size"},{"$f":"IF('Optimized Gradation'!$B$26=\"\",\"\",'Optimized Gradation'!$B$26)","v":"3/4 in"}]
[263,{"$f":"IF('Optimized Gradation'!$H$27=\"\",\"\",'Optimized Gradation'!$H$27)","v":""},{"$f":"IF('Optimized Gradation'!$B$5=\"\",\"\",'Optimized Gradation'!$B$5)","v":"Optimized Gradation"},{"$f":"IF('Optimized Gradation'!$B$20=\"\",\"\",'Optimized Gradation'!$B$20)","v":"SIEVE ANALYSIS"},{"$f":"IF('Optimized Gradation'!$H$21=\"\",\"\",'Optimized Gradation'!$H$21)","v":"Fine Agg. 1 % Passing"},{"$f":"IF('Optimized Gradation'!$B$21=\"\",\"\",'Optimized Gradation'!$B$21)","v":"Sieve Size"},{"$f":"IF('Optimized Gradation'!$B$27=\"\",\"\",'Optimized Gradation'!$B$27)","v":"1/2 in"}]
[264,{"$f":"IF('Optimized Gradation'!$H$28=\"\",\"\",'Optimized Gradation'!$H$28)","v":""},{"$f":"IF('Optimized Gradation'!$B$5=\"\",\"\",'Optimized Gradation'!$B$5)","v":"Optimized Gradation"},{"$f":"IF('Optimized Gradation'!$B$20=\"\",\"\",'Optimized Gradation'!$B$20)","v":"SIEVE ANALYSIS"},{"$f":"IF('Optimized Gradation'!$H$21=\"\",\"\",'Optimized Gradation'!$H$21)","v":"Fine Agg. 1 % Passing"},{"$f":"IF('Optimized Gradation'!$B$21=\"\",\"\",'Optimized Gradation'!$B$21)","v":"Sieve Size"},{"$f":"IF('Optimized Gradation'!$B$28=\"\",\"\",'Optimized Gradation'!$B$28)","v":"3/8 in"}]
[265,{"$f":"IF('Optimized Gradation'!$H$29=\"\",\"\",'Optimized Gradation'!$H$29)","v":""},{"$f":"IF('Optimized Gradation'!$B$5=\"\",\"\",'Optimized Gradation'!$B$5)","v":"Optimized Gradation"},{"$f":"IF('Optimized Gradation'!$B$20=\"\",\"\",'Optimized Gradation'!$B$20)","v":"SIEVE ANALYSIS"},{"$f":"IF('Optimized Gradation'!$H$21=\"\",\"\",'Optimized Gradation'!$H$21)","v":"Fine Agg. 1 % Passing"},{"$f":"IF('Optimized Gradation'!$B$21=\"\",\"\",'Optimized Gradation'!$B$21)","v":"Sieve Size"},{"$f":"IF('Optimized Gradation'!$B$29=\"\",\"\",'Optimized Gradation'!$B$29)","v":"No. 4"}]
[266,{"$f":"IF('Optimized Gradation'!$H$30=\"\",\"\",'Optimized Gradation'!$H$30)","v":""},{"$f":"IF('Optimized Gradation'!$B$5=\"\",\"\",'Optimized Gradation'!$B$5)","v":"Optimized Gradation"},{"$f":"IF('Optimized Gradation'!$B$20=\"\",\"\",'Optimized Gradation'!$B$20)","v":"SIEVE ANALYSIS"},{"$f":"IF('Optimized Gradation'!$H$21=\"\",\"\",'Optimized Gradation'!$H$21)","v":"Fine Agg. 1 % Passing"},{"$f":"IF('Optimized Gradation'!$B$21=\"\",\"\",'Optimized Gradation'!$B$21)","v":"Sieve Size"},{"$f":"IF('Optimized Gradation'!$B$30=\"\",\"\",'Optimized Gradation'!$B$30)","v":"No. 8"}]
[267,{"$f":"IF('Optimized Gradation'!$H$31=\"\",\"\",'Optimized Gradation'!$H$31)","v":""},{"$f":"IF('Optimized Gradation'!$B$5=\"\",\"\",'Optimized Gradation'!$B$5)","v":"Optimized Gradation"},{"$f":"IF('Optimized Gradation'!$B$20=\"\",\"\",'Optimized Gradation'!$B$20)","v":"SIEVE ANALYSIS"},{"$f":"IF('Optimized Gradation'!$H$21=\"\",\"\",'Optimized Gradation'!$H$21)","v":"Fine Agg. 1 % Passing"},{"$f":"IF('Optimized Gradation'!$B$21=\"\",\"\",'Optimized Gradation'!$B$21)","v":"Sieve Size"},{"$f":"IF('Optimized Gradation'!$B$31=\"\",\"\",'Optimized Gradation'!$B$31)","v":"No. 16"}]
[268,{"$f":"IF('Optimized Gradation'!$H$32=\"\",\"\",'Optimized Gradation'!$H$32)","v":""},{"$f":"IF('Optimized Gradation'!$B$5=\"\",\"\",'Optimized Gradation'!$B$5)","v":"Optimized Gradation"},{"$f":"IF('Optimized Gradation'!$B$20=\"\",\"\",'Optimized Gradation'!$B$20)","v":"SIEVE ANALYSIS"},{"$f":"IF('Optimized Gradation'!$H$21=\"\",\"\",'Optimized Gradation'!$H$21)","v":"Fine Agg. 1 % Passing"},{"$f":"IF('Optimized Gradation'!$B$21=\"\",\"\",'Optimized Gradation'!$B$21)","v":"Sieve Size"},{"$f":"IF('Optimized Gradation'!$B$32=\"\",\"\",'Optimized Gradation'!$B$32)","v":" No. 30"}]
[269,{"$f":"IF('Optimized Gradation'!$H$33=\"\",\"\",'Optimized Gradation'!$H$33)","v":""},{"$f":"IF('Optimized Gradation'!$B$5=\"\",\"\",'Optimized Gradation'!$B$5)","v":"Optimized Gradation"},{"$f":"IF('Optimized Gradation'!$B$20=\"\",\"\",'Optimized Gradation'!$B$20)","v":"SIEVE ANALYSIS"},{"$f":"IF('Optimized Gradation'!$H$21=\"\",\"\",'Optimized Gradation'!$H$21)","v":"Fine Agg. 1 % Passing"},{"$f":"IF('Optimized Gradation'!$B$21=\"\",\"\",'Optimized Gradation'!$B$21)","v":"Sieve Size"},{"$f":"IF('Optimized Gradation'!$B$33=\"\",\"\",'Optimized Gradation'!$B$33)","v":"No. 50"}]
[270,{"$f":"IF('Optimized Gradation'!$H$34=\"\",\"\",'Optimized Gradation'!$H$34)","v":""},{"$f":"IF('Optimized Gradation'!$B$5=\"\",\"\",'Optimized Gradation'!$B$5)","v":"Optimized Gradation"},{"$f":"IF('Optimized Gradation'!$B$20=\"\",\"\",'Optimized Gradation'!$B$20)","v":"SIEVE ANALYSIS"},{"$f":"IF('Optimized Gradation'!$H$21=\"\",\"\",'Optimized Gradation'!$H$21)","v":"Fine Agg. 1 % Passing"},{"$f":"IF('Optimized Gradation'!$B$21=\"\",\"\",'Optimized Gradation'!$B$21)","v":"Sieve Size"},{"$f":"IF('Optimized Gradation'!$B$34=\"\",\"\",'Optimized Gradation'!$B$34)","v":"No. 100"}]
[271,{"$f":"IF('Optimized Gradation'!$H$35=\"\",\"\",'Optimized Gradation'!$H$35)","v":""},{"$f":"IF('Optimized Gradation'!$B$5=\"\",\"\",'Optimized Gradation'!$B$5)","v":"Optimized Gradation"},{"$f":"IF('Optimized Gradation'!$B$20=\"\",\"\",'Optimized Gradation'!$B$20)","v":"SIEVE ANALYSIS"},{"$f":"IF('Optimized Gradation'!$H$21=\"\",\"\",'Optimized Gradation'!$H$21)","v":"Fine Agg. 1 % Passing"},{"$f":"IF('Optimized Gradation'!$B$21=\"\",\"\",'Optimized Gradation'!$B$21)","v":"Sieve Size"},{"$f":"IF('Optimized Gradation'!$B$35=\"\",\"\",'Optimized Gradation'!$B$35)","v":"No. 200"}]
[272,{"$f":"IF('Optimized Gradation'!$H$36=\"\",\"\",'Optimized Gradation'!$H$36)","v":""},{"$f":"IF('Optimized Gradation'!$B$5=\"\",\"\",'Optimized Gradation'!$B$5)","v":"Optimized Gradation"},{"$f":"IF('Optimized Gradation'!$B$20=\"\",\"\",'Optimized Gradation'!$B$20)","v":"SIEVE ANALYSIS"},{"$f":"IF('Optimized Gradation'!$H$21=\"\",\"\",'Optimized Gradation'!$H$21)","v":"Fine Agg. 1 % Passing"},{"$f":"IF('Optimized Gradation'!$B$21=\"\",\"\",'Optimized Gradation'!$B$21)","v":"Sieve Size"},{"$f":"IF('Optimized Gradation'!$B$36=\"\",\"\",'Optimized Gradation'!$B$36)","v":"Pan"}]
[273,{"$f":"IF('Optimized Gradation'!$I$22=\"\",\"\",'Optimized Gradation'!$I$22)","v":""},{"$f":"IF('Optimized Gradation'!$B$5=\"\",\"\",'Optimized Gradation'!$B$5)","v":"Optimized Gradation"},{"$f":"IF('Optimized Gradation'!$B$20=\"\",\"\",'Optimized Gradation'!$B$20)","v":"SIEVE ANALYSIS"},{"$f":"IF('Optimized Gradation'!$I$21=\"\",\"\",'Optimized Gradation'!$I$21)","v":"Fine Agg. 2 % Passing"},{"$f":"IF('Optimized Gradation'!$B$21=\"\",\"\",'Optimized Gradation'!$B$21)","v":"Sieve Size"},{"$f":"IF('Optimized Gradation'!$B$22=\"\",\"\",'Optimized Gradation'!$B$22)","v":"2 1/2 in"}]
[274,{"$f":"IF('Optimized Gradation'!$I$23=\"\",\"\",'Optimized Gradation'!$I$23)","v":""},{"$f":"IF('Optimized Gradation'!$B$5=\"\",\"\",'Optimized Gradation'!$B$5)","v":"Optimized Gradation"},{"$f":"IF('Optimized Gradation'!$B$20=\"\",\"\",'Optimized Gradation'!$B$20)","v":"SIEVE ANALYSIS"},{"$f":"IF('Optimized Gradation'!$I$21=\"\",\"\",'Optimized Gradation'!$I$21)","v":"Fine Agg. 2 % Passing"},{"$f":"IF('Optimized Gradation'!$B$21=\"\",\"\",'Optimized Gradation'!$B$21)","v":"Sieve Size"},{"$f":"IF('Optimized Gradation'!$B$23=\"\",\"\",'Optimized Gradation'!$B$23)","v":"2 in"}]
[275,{"$f":"IF('Optimized Gradation'!$I$24=\"\",\"\",'Optimized Gradation'!$I$24)","v":""},{"$f":"IF('Optimized Gradation'!$B$5=\"\",\"\",'Optimized Gradation'!$B$5)","v":"Optimized Gradation"},{"$f":"IF('Optimized Gradation'!$B$20=\"\",\"\",'Optimized Gradation'!$B$20)","v":"SIEVE ANALYSIS"},{"$f":"IF('Optimized Gradation'!$I$21=\"\",\"\",'Optimized Gradation'!$I$21)","v":"Fine Agg. 2 % Passing"},{"$f":"IF('Optimized Gradation'!$B$21=\"\",\"\",'Optimized Gradation'!$B$21)","v":"Sieve Size"},{"$f":"IF('Optimized Gradation'!$B$24=\"\",\"\",'Optimized Gradation'!$B$24)","v":"1 1/2 in"}]
[276,{"$f":"IF('Optimized Gradation'!$I$25=\"\",\"\",'Optimized Gradation'!$I$25)","v":""},{"$f":"IF('Optimized Gradation'!$B$5=\"\",\"\",'Optimized Gradation'!$B$5)","v":"Optimized Gradation"},{"$f":"IF('Optimized Gradation'!$B$20=\"\",\"\",'Optimized Gradation'!$B$20)","v":"SIEVE ANALYSIS"},{"$f":"IF('Optimized Gradation'!$I$21=\"\",\"\",'Optimized Gradation'!$I$21)","v":"Fine Agg. 2 % Passing"},{"$f":"IF('Optimized Gradation'!$B$21=\"\",\"\",'Optimized Gradation'!$B$21)","v":"Sieve Size"},{"$f":"IF('Optimized Gradation'!$B$25=\"\",\"\",'Optimized Gradation'!$B$25)","v":"1 in"}]
[277,{"$f":"IF('Optimized Gradation'!$I$26=\"\",\"\",'Optimized Gradation'!$I$26)","v":""},{"$f":"IF('Optimized Gradation'!$B$5=\"\",\"\",'Optimized Gradation'!$B$5)","v":"Optimized Gradation"},{"$f":"IF('Optimized Gradation'!$B$20=\"\",\"\",'Optimized Gradation'!$B$20)","v":"SIEVE ANALYSIS"},{"$f":"IF('Optimized Gradation'!$I$21=\"\",\"\",'Optimized Gradation'!$I$21)","v":"Fine Agg. 2 % Passing"},{"$f":"IF('Optimized Gradation'!$B$21=\"\",\"\",'Optimized Gradation'!$B$21)","v":"Sieve Size"},{"$f":"IF('Optimized Gradation'!$B$26=\"\",\"\",'Optimized Gradation'!$B$26)","v":"3/4 in"}]
[278,{"$f":"IF('Optimized Gradation'!$I$27=\"\",\"\",'Optimized Gradation'!$I$27)","v":""},{"$f":"IF('Optimized Gradation'!$B$5=\"\",\"\",'Optimized Gradation'!$B$5)","v":"Optimized Gradation"},{"$f":"IF('Optimized Gradation'!$B$20=\"\",\"\",'Optimized Gradation'!$B$20)","v":"SIEVE ANALYSIS"},{"$f":"IF('Optimized Gradation'!$I$21=\"\",\"\",'Optimized Gradation'!$I$21)","v":"Fine Agg. 2 % Passing"},{"$f":"IF('Optimized Gradation'!$B$21=\"\",\"\",'Optimized Gradation'!$B$21)","v":"Sieve Size"},{"$f":"IF('Optimized Gradation'!$B$27=\"\",\"\",'Optimized Gradation'!$B$27)","v":"1/2 in"}]
[279,{"$f":"IF('Optimized Gradation'!$I$28=\"\",\"\",'Optimized Gradation'!$I$28)","v":""},{"$f":"IF('Optimized Gradation'!$B$5=\"\",\"\",'Optimized Gradation'!$B$5)","v":"Optimized Gradation"},{"$f":"IF('Optimized Gradation'!$B$20=\"\",\"\",'Optimized Gradation'!$B$20)","v":"SIEVE ANALYSIS"},{"$f":"IF('Optimized Gradation'!$I$21=\"\",\"\",'Optimized Gradation'!$I$21)","v":"Fine Agg. 2 % Passing"},{"$f":"IF('Optimized Gradation'!$B$21=\"\",\"\",'Optimized Gradation'!$B$21)","v":"Sieve Size"},{"$f":"IF('Optimized Gradation'!$B$28=\"\",\"\",'Optimized Gradation'!$B$28)","v":"3/8 in"}]
[280,{"$f":"IF('Optimized Gradation'!$I$29=\"\",\"\",'Optimized Gradation'!$I$29)","v":""},{"$f":"IF('Optimized Gradation'!$B$5=\"\",\"\",'Optimized Gradation'!$B$5)","v":"Optimized Gradation"},{"$f":"IF('Optimized Gradation'!$B$20=\"\",\"\",'Optimized Gradation'!$B$20)","v":"SIEVE ANALYSIS"},{"$f":"IF('Optimized Gradation'!$I$21=\"\",\"\",'Optimized Gradation'!$I$21)","v":"Fine Agg. 2 % Passing"},{"$f":"IF('Optimized Gradation'!$B$21=\"\",\"\",'Optimized Gradation'!$B$21)","v":"Sieve Size"},{"$f":"IF('Optimized Gradation'!$B$29=\"\",\"\",'Optimized Gradation'!$B$29)","v":"No. 4"}]
[281,{"$f":"IF('Optimized Gradation'!$I$30=\"\",\"\",'Optimized Gradation'!$I$30)","v":""},{"$f":"IF('Optimized Gradation'!$B$5=\"\",\"\",'Optimized Gradation'!$B$5)","v":"Optimized Gradation"},{"$f":"IF('Optimized Gradation'!$B$20=\"\",\"\",'Optimized Gradation'!$B$20)","v":"SIEVE ANALYSIS"},{"$f":"IF('Optimized Gradation'!$I$21=\"\",\"\",'Optimized Gradation'!$I$21)","v":"Fine Agg. 2 % Passing"},{"$f":"IF('Optimized Gradation'!$B$21=\"\",\"\",'Optimized Gradation'!$B$21)","v":"Sieve Size"},{"$f":"IF('Optimized Gradation'!$B$30=\"\",\"\",'Optimized Gradation'!$B$30)","v":"No. 8"}]
[282,{"$f":"IF('Optimized Gradation'!$I$31=\"\",\"\",'Optimized Gradation'!$I$31)","v":""},{"$f":"IF('Optimized Gradation'!$B$5=\"\",\"\",'Optimized Gradation'!$B$5)","v":"Optimized Gradation"},{"$f":"IF('Optimized Gradation'!$B$20=\"\",\"\",'Optimized Gradation'!$B$20)","v":"SIEVE ANALYSIS"},{"$f":"IF('Optimized Gradation'!$I$21=\"\",\"\",'Optimized Gradation'!$I$21)","v":"Fine Agg. 2 % Passing"},{"$f":"IF('Optimized Gradation'!$B$21=\"\",\"\",'Optimized Gradation'!$B$21)","v":"Sieve Size"},{"$f":"IF('Optimized Gradation'!$B$31=\"\",\"\",'Optimized Gradation'!$B$31)","v":"No. 16"}]
[283,{"$f":"IF('Optimized Gradation'!$I$32=\"\",\"\",'Optimized Gradation'!$I$32)","v":""},{"$f":"IF('Optimized Gradation'!$B$5=\"\",\"\",'Optimized Gradation'!$B$5)","v":"Optimized Gradation"},{"$f":"IF('Optimized Gradation'!$B$20=\"\",\"\",'Optimized Gradation'!$B$20)","v":"SIEVE ANALYSIS"},{"$f":"IF('Optimized Gradation'!$I$21=\"\",\"\",'Optimized Gradation'!$I$21)","v":"Fine Agg. 2 % Passing"},{"$f":"IF('Optimized Gradation'!$B$21=\"\",\"\",'Optimized Gradation'!$B$21)","v":"Sieve Size"},{"$f":"IF('Optimized Gradation'!$B$32=\"\",\"\",'Optimized Gradation'!$B$32)","v":" No. 30"}]
[284,{"$f":"IF('Optimized Gradation'!$I$33=\"\",\"\",'Optimized Gradation'!$I$33)","v":""},{"$f":"IF('Optimized Gradation'!$B$5=\"\",\"\",'Optimized Gradation'!$B$5)","v":"Optimized Gradation"},{"$f":"IF('Optimized Gradation'!$B$20=\"\",\"\",'Optimized Gradation'!$B$20)","v":"SIEVE ANALYSIS"},{"$f":"IF('Optimized Gradation'!$I$21=\"\",\"\",'Optimized Gradation'!$I$21)","v":"Fine Agg. 2 % Passing"},{"$f":"IF('Optimized Gradation'!$B$21=\"\",\"\",'Optimized Gradation'!$B$21)","v":"Sieve Size"},{"$f":"IF('Optimized Gradation'!$B$33=\"\",\"\",'Optimized Gradation'!$B$33)","v":"No. 50"}]
[285,{"$f":"IF('Optimized Gradation'!$I$34=\"\",\"\",'Optimized Gradation'!$I$34)","v":""},{"$f":"IF('Optimized Gradation'!$B$5=\"\",\"\",'Optimized Gradation'!$B$5)","v":"Optimized Gradation"},{"$f":"IF('Optimized Gradation'!$B$20=\"\",\"\",'Optimized Gradation'!$B$20)","v":"SIEVE ANALYSIS"},{"$f":"IF('Optimized Gradation'!$I$21=\"\",\"\",'Optimized Gradation'!$I$21)","v":"Fine Agg. 2 % Passing"},{"$f":"IF('Optimized Gradation'!$B$21=\"\",\"\",'Optimized Gradation'!$B$21)","v":"Sieve Size"},{"$f":"IF('Optimized Gradation'!$B$34=\"\",\"\",'Optimized Gradation'!$B$34)","v":"No. 100"}]
[286,{"$f":"IF('Optimized Gradation'!$I$35=\"\",\"\",'Optimized Gradation'!$I$35)","v":""},{"$f":"IF('Optimized Gradation'!$B$5=\"\",\"\",'Optimized Gradation'!$B$5)","v":"Optimized Gradation"},{"$f":"IF('Optimized Gradation'!$B$20=\"\",\"\",'Optimized Gradation'!$B$20)","v":"SIEVE ANALYSIS"},{"$f":"IF('Optimized Gradation'!$I$21=\"\",\"\",'Optimized Gradation'!$I$21)","v":"Fine Agg. 2 % Passing"},{"$f":"IF('Optimized Gradation'!$B$21=\"\",\"\",'Optimized Gradation'!$B$21)","v":"Sieve Size"},{"$f":"IF('Optimized Gradation'!$B$35=\"\",\"\",'Optimized Gradation'!$B$35)","v":"No. 200"}]
[287,{"$f":"IF('Optimized Gradation'!$I$36=\"\",\"\",'Optimized Gradation'!$I$36)","v":""},{"$f":"IF('Optimized Gradation'!$B$5=\"\",\"\",'Optimized Gradation'!$B$5)","v":"Optimized Gradation"},{"$f":"IF('Optimized Gradation'!$B$20=\"\",\"\",'Optimized Gradation'!$B$20)","v":"SIEVE ANALYSIS"},{"$f":"IF('Optimized Gradation'!$I$21=\"\",\"\",'Optimized Gradation'!$I$21)","v":"Fine Agg. 2 % Passing"},{"$f":"IF('Optimized Gradation'!$B$21=\"\",\"\",'Optimized Gradation'!$B$21)","v":"Sieve Size"},{"$f":"IF('Optimized Gradation'!$B$36=\"\",\"\",'Optimized Gradation'!$B$36)","v":"Pan"}]
[288,{"$f":"IF('Optimized Gradation'!$J$22=\"\",\"\",'Optimized Gradation'!$J$22)","v":0},{"$f":"IF('Optimized Gradation'!$B$5=\"\",\"\",'Optimized Gradation'!$B$5)","v":"Optimized Gradation"},{"$f":"IF('Optimized Gradation'!$B$20=\"\",\"\",'Optimized Gradation'!$B$20)","v":"SIEVE ANALYSIS"},{"$f":"IF('Optimized Gradation'!$J$21=\"\",\"\",'Optimized Gradation'!$J$21)","v":"Combined % Passing"},{"$f":"IF('Optimized Gradation'!$B$21=\"\",\"\",'Optimized Gradation'!$B$21)","v":"Sieve Size"},{"$f":"IF('Optimized Gradation'!$B$22=\"\",\"\",'Optimized Gradation'!$B$22)","v":"2 1/2 in"}]
[289,{"$f":"IF('Optimized Gradation'!$J$23=\"\",\"\",'Optimized Gradation'!$J$23)","v":0},{"$f":"IF('Optimized Gradation'!$B$5=\"\",\"\",'Optimized Gradation'!$B$5)","v":"Optimized Gradation"},{"$f":"IF('Optimized Gradation'!$B$20=\"\",\"\",'Optimized Gradation'!$B$20)","v":"SIEVE ANALYSIS"},{"$f":"IF('Optimized Gradation'!$J$21=\"\",\"\",'Optimized Gradation'!$J$21)","v":"Combined % Passing"},{"$f":"IF('Optimized Gradation'!$B$21=\"\",\"\",'Optimized Gradation'!$B$21)","v":"Sieve Size"},{"$f":"IF('Optimized Gradation'!$B$23=\"\",\"\",'Optimized Gradation'!$B$23)","v":"2 in"}]
[290,{"$f":"IF('Optimized Gradation'!$J$24=\"\",\"\",'Optimized Gradation'!$J$24)","v":0},{"$f":"IF('Optimized Gradation'!$B$5=\"\",\"\",'Optimized Gradation'!$B$5)","v":"Optimized Gradation"},{"$f":"IF('Optimized Gradation'!$B$20=\"\",\"\",'Optimized Gradation'!$B$20)","v":"SIEVE ANALYSIS"},{"$f":"IF('Optimized Gradation'!$J$21=\"\",\"\",'Optimized Gradation'!$J$21)","v":"Combined % Passing"},{"$f":"IF('Optimized Gradation'!$B$21=\"\",\"\",'Optimized Gradation'!$B$21)","v":"Sieve Size"},{"$f":"IF('Optimized Gradation'!$B$24=\"\",\"\",'Optimized Gradation'!$B$24)","v":"1 1/2 in"}]
[291,{"$f":"IF('Optimized Gradation'!$J$25=\"\",\"\",'Optimized Gradation'!$J$25)","v":0},{"$f":"IF('Optimized Gradation'!$B$5=\"\",\"\",'Optimized Gradation'!$B$5)","v":"Optimized Gradation"},{"$f":"IF('Optimized Gradation'!$B$20=\"\",\"\",'Optimized Gradation'!$B$20)","v":"SIEVE ANALYSIS"},{"$f":"IF('Optimized Gradation'!$J$21=\"\",\"\",'Optimized Gradation'!$J$21)","v":"Combined % Passing"},{"$f":"IF('Optimized Gradation'!$B$21=\"\",\"\",'Optimized Gradation'!$B$21)","v":"Sieve Size"},{"$f":"IF('Optimized Gradation'!$B$25=\"\",\"\",'Optimized Gradation'!$B$25)","v":"1 in"}]
[292,{"$f":"IF('Optimized Gradation'!$J$26=\"\",\"\",'Optimized Gradation'!$J$26)","v":0},{"$f":"IF('Optimized Gradation'!$B$5=\"\",\"\",'Optimized Gradation'!$B$5)","v":"Optimized Gradation"},{"$f":"IF('Optimized Gradation'!$B$20=\"\",\"\",'Optimized Gradation'!$B$20)","v":"SIEVE ANALYSIS"},{"$f":"IF('Optimized Gradation'!$J$21=\"\",\"\",'Optimized Gradation'!$J$21)","v":"Combined % Passing"},{"$f":"IF('Optimized Gradation'!$B$21=\"\",\"\",'Optimized Gradation'!$B$21)","v":"Sieve Size"},{"$f":"IF('Optimized Gradation'!$B$26=\"\",\"\",'Optimized Gradation'!$B$26)","v":"3/4 in"}]
[293,{"$f":"IF('Optimized Gradation'!$J$27=\"\",\"\",'Optimized Gradation'!$J$27)","v":0},{"$f":"IF('Optimized Gradation'!$B$5=\"\",\"\",'Optimized Gradation'!$B$5)","v":"Optimized Gradation"},{"$f":"IF('Optimized Gradation'!$B$20=\"\",\"\",'Optimized Gradation'!$B$20)","v":"SIEVE ANALYSIS"},{"$f":"IF('Optimized Gradation'!$J$21=\"\",\"\",'Optimized Gradation'!$J$21)","v":"Combined % Passing"},{"$f":"IF('Optimized Gradation'!$B$21=\"\",\"\",'Optimized Gradation'!$B$21)","v":"Sieve Size"},{"$f":"IF('Optimized Gradation'!$B$27=\"\",\"\",'Optimized Gradation'!$B$27)","v":"1/2 in"}]
[294,{"$f":"IF('Optimized Gradation'!$J$28=\"\",\"\",'Optimized Gradation'!$J$28)","v":0},{"$f":"IF('Optimized Gradation'!$B$5=\"\",\"\",'Optimized Gradation'!$B$5)","v":"Optimized Gradation"},{"$f":"IF('Optimized Gradation'!$B$20=\"\",\"\",'Optimized Gradation'!$B$20)","v":"SIEVE ANALYSIS"},{"$f":"IF('Optimized Gradation'!$J$21=\"\",\"\",'Optimized Gradation'!$J$21)","v":"Combined % Passing"},{"$f":"IF('Optimized Gradation'!$B$21=\"\",\"\",'Optimized Gradation'!$B$21)","v":"Sieve Size"},{"$f":"IF('Optimized Gradation'!$B$28=\"\",\"\",'Optimized Gradation'!$B$28)","v":"3/8 in"}]
[295,{"$f":"IF('Optimized Gradation'!$J$29=\"\",\"\",'Optimized Gradation'!$J$29)","v":0},{"$f":"IF('Optimized Gradation'!$B$5=\"\",\"\",'Optimized Gradation'!$B$5)","v":"Optimized Gradation"},{"$f":"IF('Optimized Gradation'!$B$20=\"\",\"\",'Optimized Gradation'!$B$20)","v":"SIEVE ANALYSIS"},{"$f":"IF('Optimized Gradation'!$J$21=\"\",\"\",'Optimized Gradation'!$J$21)","v":"Combined % Passing"},{"$f":"IF('Optimized Gradation'!$B$21=\"\",\"\",'Optimized Gradation'!$B$21)","v":"Sieve Size"},{"$f":"IF('Optimized Gradation'!$B$29=\"\",\"\",'Optimized Gradation'!$B$29)","v":"No. 4"}]
[296,{"$f":"IF('Optimized Gradation'!$J$30=\"\",\"\",'Optimized Gradation'!$J$30)","v":0},{"$f":"IF('Optimized Gradation'!$B$5=\"\",\"\",'Optimized Gradation'!$B$5)","v":"Optimized Gradation"},{"$f":"IF('Optimized Gradation'!$B$20=\"\",\"\",'Optimized Gradation'!$B$20)","v":"SIEVE ANALYSIS"},{"$f":"IF('Optimized Gradation'!$J$21=\"\",\"\",'Optimized Gradation'!$J$21)","v":"Combined % Passing"},{"$f":"IF('Optimized Gradation'!$B$21=\"\",\"\",'Optimized Gradation'!$B$21)","v":"Sieve Size"},{"$f":"IF('Optimized Gradation'!$B$30=\"\",\"\",'Optimized Gradation'!$B$30)","v":"No. 8"}]
[297,{"$f":"IF('Optimized Gradation'!$J$31=\"\",\"\",'Optimized Gradation'!$J$31)","v":0},{"$f":"IF('Optimized Gradation'!$B$5=\"\",\"\",'Optimized Gradation'!$B$5)","v":"Optimized Gradation"},{"$f":"IF('Optimized Gradation'!$B$20=\"\",\"\",'Optimized Gradation'!$B$20)","v":"SIEVE ANALYSIS"},{"$f":"IF('Optimized Gradation'!$J$21=\"\",\"\",'Optimized Gradation'!$J$21)","v":"Combined % Passing"},{"$f":"IF('Optimized Gradation'!$B$21=\"\",\"\",'Optimized Gradation'!$B$21)","v":"Sieve Size"},{"$f":"IF('Optimized Gradation'!$B$31=\"\",\"\",'Optimized Gradation'!$B$31)","v":"No. 16"}]
[298,{"$f":"IF('Optimized Gradation'!$J$32=\"\",\"\",'Optimized Gradation'!$J$32)","v":0},{"$f":"IF('Optimized Gradation'!$B$5=\"\",\"\",'Optimized Gradation'!$B$5)","v":"Optimized Gradation"},{"$f":"IF('Optimized Gradation'!$B$20=\"\",\"\",'Optimized Gradation'!$B$20)","v":"SIEVE ANALYSIS"},{"$f":"IF('Optimized Gradation'!$J$21=\"\",\"\",'Optimized Gradation'!$J$21)","v":"Combined % Passing"},{"$f":"IF('Optimized Gradation'!$B$21=\"\",\"\",'Optimized Gradation'!$B$21)","v":"Sieve Size"},{"$f":"IF('Optimized Gradation'!$B$32=\"\",\"\",'Optimized Gradation'!$B$32)","v":" No. 30"}]
[299,{"$f":"IF('Optimized Gradation'!$J$33=\"\",\"\",'Optimized Gradation'!$J$33)","v":0},{"$f":"IF('Optimized Gradation'!$B$5=\"\",\"\",'Optimized Gradation'!$B$5)","v":"Optimized Gradation"},{"$f":"IF('Optimized Gradation'!$B$20=\"\",\"\",'Optimized Gradation'!$B$20)","v":"SIEVE ANALYSIS"},{"$f":"IF('Optimized Gradation'!$J$21=\"\",\"\",'Optimized Gradation'!$J$21)","v":"Combined % Passing"},{"$f":"IF('Optimized Gradation'!$B$21=\"\",\"\",'Optimized Gradation'!$B$21)","v":"Sieve Size"},{"$f":"IF('Optimized Gradation'!$B$33=\"\",\"\",'Optimized Gradation'!$B$33)","v":"No. 50"}]
[300,{"$f":"IF('Optimized Gradation'!$J$34=\"\",\"\",'Optimized Gradation'!$J$34)","v":0},{"$f":"IF('Optimized Gradation'!$B$5=\"\",\"\",'Optimized Gradation'!$B$5)","v":"Optimized Gradation"},{"$f":"IF('Optimized Gradation'!$B$20=\"\",\"\",'Optimized Gradation'!$B$20)","v":"SIEVE ANALYSIS"},{"$f":"IF('Optimized Gradation'!$J$21=\"\",\"\",'Optimized Gradation'!$J$21)","v":"Combined % Passing"},{"$f":"IF('Optimized Gradation'!$B$21=\"\",\"\",'Optimized Gradation'!$B$21)","v":"Sieve Size"},{"$f":"IF('Optimized Gradation'!$B$34=\"\",\"\",'Optimized Gradation'!$B$34)","v":"No. 100"}]
[301,{"$f":"IF('Optimized Gradation'!$J$35=\"\",\"\",'Optimized Gradation'!$J$35)","v":0},{"$f":"IF('Optimized Gradation'!$B$5=\"\",\"\",'Optimized Gradation'!$B$5)","v":"Optimized Gradation"},{"$f":"IF('Optimized Gradation'!$B$20=\"\",\"\",'Optimized Gradation'!$B$20)","v":"SIEVE ANALYSIS"},{"$f":"IF('Optimized Gradation'!$J$21=\"\",\"\",'Optimized Gradation'!$J$21)","v":"Combined % Passing"},{"$f":"IF('Optimized Gradation'!$B$21=\"\",\"\",'Optimized Gradation'!$B$21)","v":"Sieve Size"},{"$f":"IF('Optimized Gradation'!$B$35=\"\",\"\",'Optimized Gradation'!$B$35)","v":"No. 200"}]
[302,{"$f":"IF('Optimized Gradation'!$J$36=\"\",\"\",'Optimized Gradation'!$J$36)","v":0},{"$f":"IF('Optimized Gradation'!$B$5=\"\",\"\",'Optimized Gradation'!$B$5)","v":"Optimized Gradation"},{"$f":"IF('Optimized Gradation'!$B$20=\"\",\"\",'Optimized Gradation'!$B$20)","v":"SIEVE ANALYSIS"},{"$f":"IF('Optimized Gradation'!$J$21=\"\",\"\",'Optimized Gradation'!$J$21)","v":"Combined % Passing"},{"$f":"IF('Optimized Gradation'!$B$21=\"\",\"\",'Optimized Gradation'!$B$21)","v":"Sieve Size"},{"$f":"IF('Optimized Gradation'!$B$36=\"\",\"\",'Optimized Gradation'!$B$36)","v":"Pan"}]
[303,{"$f":"IF('Optimized Gradation'!$K$22=\"\",\"\",'Optimized Gradation'!$K$22)","v":100},{"$f":"IF('Optimized Gradation'!$B$5=\"\",\"\",'Optimized Gradation'!$B$5)","v":"Optimized Gradation"},{"$f":"IF('Optimized Gradation'!$B$20=\"\",\"\",'Optimized Gradation'!$B$20)","v":"SIEVE ANALYSIS"},{"$f":"IF('Optimized Gradation'!$K$21=\"\",\"\",'Optimized Gradation'!$K$21)","v":"Combined Cumulative % Retained"},{"$f":"IF('Optimized Gradation'!$B$21=\"\",\"\",'Optimized Gradation'!$B$21)","v":"Sieve Size"},{"$f":"IF('Optimized Gradation'!$B$22=\"\",\"\",'Optimized Gradation'!$B$22)","v":"2 1/2 in"}]
[304,{"$f":"IF('Optimized Gradation'!$K$23=\"\",\"\",'Optimized Gradation'!$K$23)","v":100},{"$f":"IF('Optimized Gradation'!$B$5=\"\",\"\",'Optimized Gradation'!$B$5)","v":"Optimized Gradation"},{"$f":"IF('Optimized Gradation'!$B$20=\"\",\"\",'Optimized Gradation'!$B$20)","v":"SIEVE ANALYSIS"},{"$f":"IF('Optimized Gradation'!$K$21=\"\",\"\",'Optimized Gradation'!$K$21)","v":"Combined Cumulative % Retained"},{"$f":"IF('Optimized Gradation'!$B$21=\"\",\"\",'Optimized Gradation'!$B$21)","v":"Sieve Size"},{"$f":"IF('Optimized Gradation'!$B$23=\"\",\"\",'Optimized Gradation'!$B$23)","v":"2 in"}]
[305,{"$f":"IF('Optimized Gradation'!$K$24=\"\",\"\",'Optimized Gradation'!$K$24)","v":100},{"$f":"IF('Optimized Gradation'!$B$5=\"\",\"\",'Optimized Gradation'!$B$5)","v":"Optimized Gradation"},{"$f":"IF('Optimized Gradation'!$B$20=\"\",\"\",'Optimized Gradation'!$B$20)","v":"SIEVE ANALYSIS"},{"$f":"IF('Optimized Gradation'!$K$21=\"\",\"\",'Optimized Gradation'!$K$21)","v":"Combined Cumulative % Retained"},{"$f":"IF('Optimized Gradation'!$B$21=\"\",\"\",'Optimized Gradation'!$B$21)","v":"Sieve Size"},{"$f":"IF('Optimized Gradation'!$B$24=\"\",\"\",'Optimized Gradation'!$B$24)","v":"1 1/2 in"}]
[306,{"$f":"IF('Optimized Gradation'!$K$25=\"\",\"\",'Optimized Gradation'!$K$25)","v":100},{"$f":"IF('Optimized Gradation'!$B$5=\"\",\"\",'Optimized Gradation'!$B$5)","v":"Optimized Gradation"},{"$f":"IF('Optimized Gradation'!$B$20=\"\",\"\",'Optimized Gradation'!$B$20)","v":"SIEVE ANALYSIS"},{"$f":"IF('Optimized Gradation'!$K$21=\"\",\"\",'Optimized Gradation'!$K$21)","v":"Combined Cumulative % Retained"},{"$f":"IF('Optimized Gradation'!$B$21=\"\",\"\",'Optimized Gradation'!$B$21)","v":"Sieve Size"},{"$f":"IF('Optimized Gradation'!$B$25=\"\",\"\",'Optimized Gradation'!$B$25)","v":"1 in"}]
[307,{"$f":"IF('Optimized Gradation'!$K$26=\"\",\"\",'Optimized Gradation'!$K$26)","v":100},{"$f":"IF('Optimized Gradation'!$B$5=\"\",\"\",'Optimized Gradation'!$B$5)","v":"Optimized Gradation"},{"$f":"IF('Optimized Gradation'!$B$20=\"\",\"\",'Optimized Gradation'!$B$20)","v":"SIEVE ANALYSIS"},{"$f":"IF('Optimized Gradation'!$K$21=\"\",\"\",'Optimized Gradation'!$K$21)","v":"Combined Cumulative % Retained"},{"$f":"IF('Optimized Gradation'!$B$21=\"\",\"\",'Optimized Gradation'!$B$21)","v":"Sieve Size"},{"$f":"IF('Optimized Gradation'!$B$26=\"\",\"\",'Optimized Gradation'!$B$26)","v":"3/4 in"}]
[308,{"$f":"IF('Optimized Gradation'!$K$27=\"\",\"\",'Optimized Gradation'!$K$27)","v":100},{"$f":"IF('Optimized Gradation'!$B$5=\"\",\"\",'Optimized Gradation'!$B$5)","v":"Optimized Gradation"},{"$f":"IF('Optimized Gradation'!$B$20=\"\",\"\",'Optimized Gradation'!$B$20)","v":"SIEVE ANALYSIS"},{"$f":"IF('Optimized Gradation'!$K$21=\"\",\"\",'Optimized Gradation'!$K$21)","v":"Combined Cumulative % Retained"},{"$f":"IF('Optimized Gradation'!$B$21=\"\",\"\",'Optimized Gradation'!$B$21)","v":"Sieve Size"},{"$f":"IF('Optimized Gradation'!$B$27=\"\",\"\",'Optimized Gradation'!$B$27)","v":"1/2 in"}]
[309,{"$f":"IF('Optimized Gradation'!$K$28=\"\",\"\",'Optimized Gradation'!$K$28)","v":100},{"$f":"IF('Optimized Gradation'!$B$5=\"\",\"\",'Optimized Gradation'!$B$5)","v":"Optimized Gradation"},{"$f":"IF('Optimized Gradation'!$B$20=\"\",\"\",'Optimized Gradation'!$B$20)","v":"SIEVE ANALYSIS"},{"$f":"IF('Optimized Gradation'!$K$21=\"\",\"\",'Optimized Gradation'!$K$21)","v":"Combined Cumulative % Retained"},{"$f":"IF('Optimized Gradation'!$B$21=\"\",\"\",'Optimized Gradation'!$B$21)","v":"Sieve Size"},{"$f":"IF('Optimized Gradation'!$B$28=\"\",\"\",'Optimized Gradation'!$B$28)","v":"3/8 in"}]
[310,{"$f":"IF('Optimized Gradation'!$K$29=\"\",\"\",'Optimized Gradation'!$K$29)","v":100},{"$f":"IF('Optimized Gradation'!$B$5=\"\",\"\",'Optimized Gradation'!$B$5)","v":"Optimized Gradation"},{"$f":"IF('Optimized Gradation'!$B$20=\"\",\"\",'Optimized Gradation'!$B$20)","v":"SIEVE ANALYSIS"},{"$f":"IF('Optimized Gradation'!$K$21=\"\",\"\",'Optimized Gradation'!$K$21)","v":"Combined Cumulative % Retained"},{"$f":"IF('Optimized Gradation'!$B$21=\"\",\"\",'Optimized Gradation'!$B$21)","v":"Sieve Size"},{"$f":"IF('Optimized Gradation'!$B$29=\"\",\"\",'Optimized Gradation'!$B$29)","v":"No. 4"}]
[311,{"$f":"IF('Optimized Gradation'!$K$30=\"\",\"\",'Optimized Gradation'!$K$30)","v":100},{"$f":"IF('Optimized Gradation'!$B$5=\"\",\"\",'Optimized Gradation'!$B$5)","v":"Optimized Gradation"},{"$f":"IF('Optimized Gradation'!$B$20=\"\",\"\",'Optimized Gradation'!$B$20)","v":"SIEVE ANALYSIS"},{"$f":"IF('Optimized Gradation'!$K$21=\"\",\"\",'Optimized Gradation'!$K$21)","v":"Combined Cumulative % Retained"},{"$f":"IF('Optimized Gradation'!$B$21=\"\",\"\",'Optimized Gradation'!$B$21)","v":"Sieve Size"},{"$f":"IF('Optimized Gradation'!$B$30=\"\",\"\",'Optimized Gradation'!$B$30)","v":"No. 8"}]
[312,{"$f":"IF('Optimized Gradation'!$K$31=\"\",\"\",'Optimized Gradation'!$K$31)","v":100},{"$f":"IF('Optimized Gradation'!$B$5=\"\",\"\",'Optimized Gradation'!$B$5)","v":"Optimized Gradation"},{"$f":"IF('Optimized Gradation'!$B$20=\"\",\"\",'Optimized Gradation'!$B$20)","v":"SIEVE ANALYSIS"},{"$f":"IF('Optimized Gradation'!$K$21=\"\",\"\",'Optimized Gradation'!$K$21)","v":"Combined Cumulative % Retained"},{"$f":"IF('Optimized Gradation'!$B$21=\"\",\"\",'Optimized Gradation'!$B$21)","v":"Sieve Size"},{"$f":"IF('Optimized Gradation'!$B$31=\"\",\"\",'Optimized Gradation'!$B$31)","v":"No. 16"}]
[313,{"$f":"IF('Optimized Gradation'!$K$32=\"\",\"\",'Optimized Gradation'!$K$32)","v":100},{"$f":"IF('Optimized Gradation'!$B$5=\"\",\"\",'Optimized Gradation'!$B$5)","v":"Optimized Gradation"},{"$f":"IF('Optimized Gradation'!$B$20=\"\",\"\",'Optimized Gradation'!$B$20)","v":"SIEVE ANALYSIS"},{"$f":"IF('Optimized Gradation'!$K$21=\"\",\"\",'Optimized Gradation'!$K$21)","v":"Combined Cumulative % Retained"},{"$f":"IF('Optimized Gradation'!$B$21=\"\",\"\",'Optimized Gradation'!$B$21)","v":"Sieve Size"},{"$f":"IF('Optimized Gradation'!$B$32=\"\",\"\",'Optimized Gradation'!$B$32)","v":" No. 30"}]
[314,{"$f":"IF('Optimized Gradation'!$K$33=\"\",\"\",'Optimized Gradation'!$K$33)","v":100},{"$f":"IF('Optimized Gradation'!$B$5=\"\",\"\",'Optimized Gradation'!$B$5)","v":"Optimized Gradation"},{"$f":"IF('Optimized Gradation'!$B$20=\"\",\"\",'Optimized Gradation'!$B$20)","v":"SIEVE ANALYSIS"},{"$f":"IF('Optimized Gradation'!$K$21=\"\",\"\",'Optimized Gradation'!$K$21)","v":"Combined Cumulative % Retained"},{"$f":"IF('Optimized Gradation'!$B$21=\"\",\"\",'Optimized Gradation'!$B$21)","v":"Sieve Size"},{"$f":"IF('Optimized Gradation'!$B$33=\"\",\"\",'Optimized Gradation'!$B$33)","v":"No. 50"}]
[315,{"$f":"IF('Optimized Gradation'!$K$34=\"\",\"\",'Optimized Gradation'!$K$34)","v":100},{"$f":"IF('Optimized Gradation'!$B$5=\"\",\"\",'Optimized Gradation'!$B$5)","v":"Optimized Gradation"},{"$f":"IF('Optimized Gradation'!$B$20=\"\",\"\",'Optimized Gradation'!$B$20)","v":"SIEVE ANALYSIS"},{"$f":"IF('Optimized Gradation'!$K$21=\"\",\"\",'Optimized Gradation'!$K$21)","v":"Combined Cumulative % Retained"},{"$f":"IF('Optimized Gradation'!$B$21=\"\",\"\",'Optimized Gradation'!$B$21)","v":"Sieve Size"},{"$f":"IF('Optimized Gradation'!$B$34=\"\",\"\",'Optimized Gradation'!$B$34)","v":"No. 100"}]
[316,{"$f":"IF('Optimized Gradation'!$K$35=\"\",\"\",'Optimized Gradation'!$K$35)","v":100},{"$f":"IF('Optimized Gradation'!$B$5=\"\",\"\",'Optimized Gradation'!$B$5)","v":"Optimized Gradation"},{"$f":"IF('Optimized Gradation'!$B$20=\"\",\"\",'Optimized Gradation'!$B$20)","v":"SIEVE ANALYSIS"},{"$f":"IF('Optimized Gradation'!$K$21=\"\",\"\",'Optimized Gradation'!$K$21)","v":"Combined Cumulative % Retained"},{"$f":"IF('Optimized Gradation'!$B$21=\"\",\"\",'Optimized Gradation'!$B$21)","v":"Sieve Size"},{"$f":"IF('Optimized Gradation'!$B$35=\"\",\"\",'Optimized Gradation'!$B$35)","v":"No. 200"}]
[317,{"$f":"IF('Optimized Gradation'!$K$36=\"\",\"\",'Optimized Gradation'!$K$36)","v":100},{"$f":"IF('Optimized Gradation'!$B$5=\"\",\"\",'Optimized Gradation'!$B$5)","v":"Optimized Gradation"},{"$f":"IF('Optimized Gradation'!$B$20=\"\",\"\",'Optimized Gradation'!$B$20)","v":"SIEVE ANALYSIS"},{"$f":"IF('Optimized Gradation'!$K$21=\"\",\"\",'Optimized Gradation'!$K$21)","v":"Combined Cumulative % Retained"},{"$f":"IF('Optimized Gradation'!$B$21=\"\",\"\",'Optimized Gradation'!$B$21)","v":"Sieve Size"},{"$f":"IF('Optimized Gradation'!$B$36=\"\",\"\",'Optimized Gradation'!$B$36)","v":"Pan"}]
[318,{"$f":"IF('Optimized Gradation'!$L$22=\"\",\"\",'Optimized Gradation'!$L$22)","v":100},{"$f":"IF('Optimized Gradation'!$B$5=\"\",\"\",'Optimized Gradation'!$B$5)","v":"Optimized Gradation"},{"$f":"IF('Optimized Gradation'!$B$20=\"\",\"\",'Optimized Gradation'!$B$20)","v":"SIEVE ANALYSIS"},{"$f":"IF('Optimized Gradation'!$L$21=\"\",\"\",'Optimized Gradation'!$L$21)","v":"Combined % Retained"},{"$f":"IF('Optimized Gradation'!$B$21=\"\",\"\",'Optimized Gradation'!$B$21)","v":"Sieve Size"},{"$f":"IF('Optimized Gradation'!$B$22=\"\",\"\",'Optimized Gradation'!$B$22)","v":"2 1/2 in"}]
[319,{"$f":"IF('Optimized Gradation'!$L$23=\"\",\"\",'Optimized Gradation'!$L$23)","v":0},{"$f":"IF('Optimized Gradation'!$B$5=\"\",\"\",'Optimized Gradation'!$B$5)","v":"Optimized Gradation"},{"$f":"IF('Optimized Gradation'!$B$20=\"\",\"\",'Optimized Gradation'!$B$20)","v":"SIEVE ANALYSIS"},{"$f":"IF('Optimized Gradation'!$L$21=\"\",\"\",'Optimized Gradation'!$L$21)","v":"Combined % Retained"},{"$f":"IF('Optimized Gradation'!$B$21=\"\",\"\",'Optimized Gradation'!$B$21)","v":"Sieve Size"},{"$f":"IF('Optimized Gradation'!$B$23=\"\",\"\",'Optimized Gradation'!$B$23)","v":"2 in"}]
[320,{"$f":"IF('Optimized Gradation'!$L$24=\"\",\"\",'Optimized Gradation'!$L$24)","v":0},{"$f":"IF('Optimized Gradation'!$B$5=\"\",\"\",'Optimized Gradation'!$B$5)","v":"Optimized Gradation"},{"$f":"IF('Optimized Gradation'!$B$20=\"\",\"\",'Optimized Gradation'!$B$20)","v":"SIEVE ANALYSIS"},{"$f":"IF('Optimized Gradation'!$L$21=\"\",\"\",'Optimized Gradation'!$L$21)","v":"Combined % Retained"},{"$f":"IF('Optimized Gradation'!$B$21=\"\",\"\",'Optimized Gradation'!$B$21)","v":"Sieve Size"},{"$f":"IF('Optimized Gradation'!$B$24=\"\",\"\",'Optimized Gradation'!$B$24)","v":"1 1/2 in"}]
[321,{"$f":"IF('Optimized Gradation'!$L$25=\"\",\"\",'Optimized Gradation'!$L$25)","v":0},{"$f":"IF('Optimized Gradation'!$B$5=\"\",\"\",'Optimized Gradation'!$B$5)","v":"Optimized Gradation"},{"$f":"IF('Optimized Gradation'!$B$20=\"\",\"\",'Optimized Gradation'!$B$20)","v":"SIEVE ANALYSIS"},{"$f":"IF('Optimized Gradation'!$L$21=\"\",\"\",'Optimized Gradation'!$L$21)","v":"Combined % Retained"},{"$f":"IF('Optimized Gradation'!$B$21=\"\",\"\",'Optimized Gradation'!$B$21)","v":"Sieve Size"},{"$f":"IF('Optimized Gradation'!$B$25=\"\",\"\",'Optimized Gradation'!$B$25)","v":"1 in"}]
[322,{"$f":"IF('Optimized Gradation'!$L$26=\"\",\"\",'Optimized Gradation'!$L$26)","v":0},{"$f":"IF('Optimized Gradation'!$B$5=\"\",\"\",'Optimized Gradation'!$B$5)","v":"Optimized Gradation"},{"$f":"IF('Optimized Gradation'!$B$20=\"\",\"\",'Optimized Gradation'!$B$20)","v":"SIEVE ANALYSIS"},{"$f":"IF('Optimized Gradation'!$L$21=\"\",\"\",'Optimized Gradation'!$L$21)","v":"Combined % Retained"},{"$f":"IF('Optimized Gradation'!$B$21=\"\",\"\",'Optimized Gradation'!$B$21)","v":"Sieve Size"},{"$f":"IF('Optimized Gradation'!$B$26=\"\",\"\",'Optimized Gradation'!$B$26)","v":"3/4 in"}]
[323,{"$f":"IF('Optimized Gradation'!$L$27=\"\",\"\",'Optimized Gradation'!$L$27)","v":0},{"$f":"IF('Optimized Gradation'!$B$5=\"\",\"\",'Optimized Gradation'!$B$5)","v":"Optimized Gradation"},{"$f":"IF('Optimized Gradation'!$B$20=\"\",\"\",'Optimized Gradation'!$B$20)","v":"SIEVE ANALYSIS"},{"$f":"IF('Optimized Gradation'!$L$21=\"\",\"\",'Optimized Gradation'!$L$21)","v":"Combined % Retained"},{"$f":"IF('Optimized Gradation'!$B$21=\"\",\"\",'Optimized Gradation'!$B$21)","v":"Sieve Size"},{"$f":"IF('Optimized Gradation'!$B$27=\"\",\"\",'Optimized Gradation'!$B$27)","v":"1/2 in"}]
[324,{"$f":"IF('Optimized Gradation'!$L$28=\"\",\"\",'Optimized Gradation'!$L$28)","v":0},{"$f":"IF('Optimized Gradation'!$B$5=\"\",\"\",'Optimized Gradation'!$B$5)","v":"Optimized Gradation"},{"$f":"IF('Optimized Gradation'!$B$20=\"\",\"\",'Optimized Gradation'!$B$20)","v":"SIEVE ANALYSIS"},{"$f":"IF('Optimized Gradation'!$L$21=\"\",\"\",'Optimized Gradation'!$L$21)","v":"Combined % Retained"},{"$f":"IF('Optimized Gradation'!$B$21=\"\",\"\",'Optimized Gradation'!$B$21)","v":"Sieve Size"},{"$f":"IF('Optimized Gradation'!$B$28=\"\",\"\",'Optimized Gradation'!$B$28)","v":"3/8 in"}]
[325,{"$f":"IF('Optimized Gradation'!$L$29=\"\",\"\",'Optimized Gradation'!$L$29)","v":0},{"$f":"IF('Optimized Gradation'!$B$5=\"\",\"\",'Optimized Gradation'!$B$5)","v":"Optimized Gradation"},{"$f":"IF('Optimized Gradation'!$B$20=\"\",\"\",'Optimized Gradation'!$B$20)","v":"SIEVE ANALYSIS"},{"$f":"IF('Optimized Gradation'!$L$21=\"\",\"\",'Optimized Gradation'!$L$21)","v":"Combined % Retained"},{"$f":"IF('Optimized Gradation'!$B$21=\"\",\"\",'Optimized Gradation'!$B$21)","v":"Sieve Size"},{"$f":"IF('Optimized Gradation'!$B$29=\"\",\"\",'Optimized Gradation'!$B$29)","v":"No. 4"}]
[326,{"$f":"IF('Optimized Gradation'!$L$30=\"\",\"\",'Optimized Gradation'!$L$30)","v":0},{"$f":"IF('Optimized Gradation'!$B$5=\"\",\"\",'Optimized Gradation'!$B$5)","v":"Optimized Gradation"},{"$f":"IF('Optimized Gradation'!$B$20=\"\",\"\",'Optimized Gradation'!$B$20)","v":"SIEVE ANALYSIS"},{"$f":"IF('Optimized Gradation'!$L$21=\"\",\"\",'Optimized Gradation'!$L$21)","v":"Combined % Retained"},{"$f":"IF('Optimized Gradation'!$B$21=\"\",\"\",'Optimized Gradation'!$B$21)","v":"Sieve Size"},{"$f":"IF('Optimized Gradation'!$B$30=\"\",\"\",'Optimized Gradation'!$B$30)","v":"No. 8"}]
[327,{"$f":"IF('Optimized Gradation'!$L$31=\"\",\"\",'Optimized Gradation'!$L$31)","v":0},{"$f":"IF('Optimized Gradation'!$B$5=\"\",\"\",'Optimized Gradation'!$B$5)","v":"Optimized Gradation"},{"$f":"IF('Optimized Gradation'!$B$20=\"\",\"\",'Optimized Gradation'!$B$20)","v":"SIEVE ANALYSIS"},{"$f":"IF('Optimized Gradation'!$L$21=\"\",\"\",'Optimized Gradation'!$L$21)","v":"Combined % Retained"},{"$f":"IF('Optimized Gradation'!$B$21=\"\",\"\",'Optimized Gradation'!$B$21)","v":"Sieve Size"},{"$f":"IF('Optimized Gradation'!$B$31=\"\",\"\",'Optimized Gradation'!$B$31)","v":"No. 16"}]
[328,{"$f":"IF('Optimized Gradation'!$L$32=\"\",\"\",'Optimized Gradation'!$L$32)","v":0},{"$f":"IF('Optimized Gradation'!$B$5=\"\",\"\",'Optimized Gradation'!$B$5)","v":"Optimized Gradation"},{"$f":"IF('Optimized Gradation'!$B$20=\"\",\"\",'Optimized Gradation'!$B$20)","v":"SIEVE ANALYSIS"},{"$f":"IF('Optimized Gradation'!$L$21=\"\",\"\",'Optimized Gradation'!$L$21)","v":"Combined % Retained"},{"$f":"IF('Optimized Gradation'!$B$21=\"\",\"\",'Optimized Gradation'!$B$21)","v":"Sieve Size"},{"$f":"IF('Optimized Gradation'!$B$32=\"\",\"\",'Optimized Gradation'!$B$32)","v":" No. 30"}]
[329,{"$f":"IF('Optimized Gradation'!$L$33=\"\",\"\",'Optimized Gradation'!$L$33)","v":0},{"$f":"IF('Optimized Gradation'!$B$5=\"\",\"\",'Optimized Gradation'!$B$5)","v":"Optimized Gradation"},{"$f":"IF('Optimized Gradation'!$B$20=\"\",\"\",'Optimized Gradation'!$B$20)","v":"SIEVE ANALYSIS"},{"$f":"IF('Optimized Gradation'!$L$21=\"\",\"\",'Optimized Gradation'!$L$21)","v":"Combined % Retained"},{"$f":"IF('Optimized Gradation'!$B$21=\"\",\"\",'Optimized Gradation'!$B$21)","v":"Sieve Size"},{"$f":"IF('Optimized Gradation'!$B$33=\"\",\"\",'Optimized Gradation'!$B$33)","v":"No. 50"}]
[330,{"$f":"IF('Optimized Gradation'!$L$34=\"\",\"\",'Optimized Gradation'!$L$34)","v":0},{"$f":"IF('Optimized Gradation'!$B$5=\"\",\"\",'Optimized Gradation'!$B$5)","v":"Optimized Gradation"},{"$f":"IF('Optimized Gradation'!$B$20=\"\",\"\",'Optimized Gradation'!$B$20)","v":"SIEVE ANALYSIS"},{"$f":"IF('Optimized Gradation'!$L$21=\"\",\"\",'Optimized Gradation'!$L$21)","v":"Combined % Retained"},{"$f":"IF('Optimized Gradation'!$B$21=\"\",\"\",'Optimized Gradation'!$B$21)","v":"Sieve Size"},{"$f":"IF('Optimized Gradation'!$B$34=\"\",\"\",'Optimized Gradation'!$B$34)","v":"No. 100"}]
[331,{"$f":"IF('Optimized Gradation'!$L$35=\"\",\"\",'Optimized Gradation'!$L$35)","v":0},{"$f":"IF('Optimized Gradation'!$B$5=\"\",\"\",'Optimized Gradation'!$B$5)","v":"Optimized Gradation"},{"$f":"IF('Optimized Gradation'!$B$20=\"\",\"\",'Optimized Gradation'!$B$20)","v":"SIEVE ANALYSIS"},{"$f":"IF('Optimized Gradation'!$L$21=\"\",\"\",'Optimized Gradation'!$L$21)","v":"Combined % Retained"},{"$f":"IF('Optimized Gradation'!$B$21=\"\",\"\",'Optimized Gradation'!$B$21)","v":"Sieve Size"},{"$f":"IF('Optimized Gradation'!$B$35=\"\",\"\",'Optimized Gradation'!$B$35)","v":"No. 200"}]
[332,{"$f":"IF('Optimized Gradation'!$L$36=\"\",\"\",'Optimized Gradation'!$L$36)","v":0},{"$f":"IF('Optimized Gradation'!$B$5=\"\",\"\",'Optimized Gradation'!$B$5)","v":"Optimized Gradation"},{"$f":"IF('Optimized Gradation'!$B$20=\"\",\"\",'Optimized Gradation'!$B$20)","v":"SIEVE ANALYSIS"},{"$f":"IF('Optimized Gradation'!$L$21=\"\",\"\",'Optimized Gradation'!$L$21)","v":"Combined % Retained"},{"$f":"IF('Optimized Gradation'!$B$21=\"\",\"\",'Optimized Gradation'!$B$21)","v":"Sieve Size"},{"$f":"IF('Optimized Gradation'!$B$36=\"\",\"\",'Optimized Gradation'!$B$36)","v":"Pan"}]
[333,{"$f":"IF('Optimized Gradation'!$E$39=\"\",\"\",'Optimized Gradation'!$E$39)","v":""},{"$f":"IF('Optimized Gradation'!$B$5=\"\",\"\",'Optimized Gradation'!$B$5)","v":"Optimized Gradation"},{"$f":"IF('Optimized Gradation'!$D$39=\"\",\"\",'Optimized Gradation'!$D$39)","v":"Workability Factor ="}]
[334,{"$f":"IF('Optimized Gradation'!$E$40=\"\",\"\",'Optimized Gradation'!$E$40)","v":100},{"$f":"IF('Optimized Gradation'!$B$5=\"\",\"\",'Optimized Gradation'!$B$5)","v":"Optimized Gradation"},{"$f":"IF('Optimized Gradation'!$D$40=\"\",\"\",'Optimized Gradation'!$D$40)","v":"Coarseness Factor ="}]
[335,{"$f":"IF('Trial Batch Results'!$D$25=\"\",\"\",'Trial Batch Results'!$D$25)","v":""},{"$f":"IF('Trial Batch Results'!$C$6=\"\",\"\",'Trial Batch Results'!$C$6)","v":"Trial Batch Results"},{"$f":"IF('Trial Batch Results'!$D$21=\"\",\"\",'Trial Batch Results'!$D$21)","v":"SLUMP"},{"$f":"IF('Trial Batch Results'!$D$24=\"\",\"\",'Trial Batch Results'!$D$24)","v":"Slump "}]
[336,{"$f":"IF('Trial Batch Results'!$H$25=\"\",\"\",'Trial Batch Results'!$H$25)","v":""},{"$f":"IF('Trial Batch Results'!$C$6=\"\",\"\",'Trial Batch Results'!$C$6)","v":"Trial Batch Results"},{"$f":"IF('Trial Batch Results'!$H$22=\"\",\"\",'Trial Batch Results'!$H$22)","v":"TEMPERATURE"},{"$f":"IF('Trial Batch Results'!$H$24=\"\",\"\",'Trial Batch Results'!$H$24)","v":"Temperature "}]
[337,{"$f":"IF('Trial Batch Results'!$E$29=\"\",\"\",'Trial Batch Results'!$E$29)","v":""},{"$f":"IF('Trial Batch Results'!$C$6=\"\",\"\",'Trial Batch Results'!$C$6)","v":"Trial Batch Results"},{"$f":"IF('Trial Batch Results'!$D$27=\"\",\"\",'Trial Batch Results'!$D$27)","v":"AIR CONTENT"},{"$f":"IF('Trial Batch Results'!$D$29=\"\",\"\",'Trial Batch Results'!$D$29)","v":"Test Method:"}]
[338,{"$f":"IF('Trial Batch Results'!$F$30=\"\",\"\",'Trial Batch Results'!$F$30)","v":""},{"$f":"IF('Trial Batch Results'!$C$6=\"\",\"\",'Trial Batch Results'!$C$6)","v":"Trial Batch Results"},{"$f":"IF('Trial Batch Results'!$D$27=\"\",\"\",'Trial Batch Results'!$D$27)","v":"AIR CONTENT"},{"$f":"IF('Trial Batch Results'!$C$30=\"\",\"\",'Trial Batch Results'!$C$30)","v":"Uncorrected Air Content, %:"}]
[339,{"$f":"IF('Trial Batch Results'!$F$31=\"\",\"\",'Trial Batch Results'!$F$31)","v":""},{"$f":"IF('Trial Batch Results'!$C$6=\"\",\"\",'Trial Batch Results'!$C$6)","v":"Trial Batch Results"},{"$f":"IF('Trial Batch Results'!$D$27=\"\",\"\",'Trial Batch Results'!$D$27)","v":"AIR CONTENT"},{"$f":"IF('Trial Batch Results'!$C$31=\"\",\"\",'Trial Batch Results'!$C$31)","v":"Aggr. Correction Factor, %:"}]
[340,{"$f":"IF('Trial Batch Results'!$F$32=\"\",\"\",'Trial Batch Results'!$F$32)","v":""},{"$f":"IF('Trial Batch Results'!$C$6=\"\",\"\",'Trial Batch Results'!$C$6)","v":"Trial Batch Results"},{"$f":"IF('Trial Batch Results'!$D$27=\"\",\"\",'Trial Batch Results'!$D$27)","v":"AIR CONTENT"},{"$f":"IF('Trial Batch Results'!$C$32=\"\",\"\",'Trial Batch Results'!$C$32)","v":""}]
[341,{"$f":"IF('Trial Batch Results'!$F$33=\"\",\"\",'Trial Batch Results'!$F$33)","v":0},{"$f":"IF('Trial Batch Results'!$C$6=\"\",\"\",'Trial Batch Results'!$C$6)","v":"Trial Batch Results"},{"$f":"IF('Trial Batch Results'!$D$27=\"\",\"\",'Trial Batch Results'!$D$27)","v":"AIR CONTENT"},{"$f":"IF('Trial Batch Results'!$C$33=\"\",\"\",'Trial Batch Results'!$C$33)","v":"Corrected Air Content, %:"}]
[342,{"$f":"IF('Trial Batch Results'!$K$30=\"\",\"\",'Trial Batch Results'!$K$30)","v":""},{"$f":"IF('Trial Batch Results'!$C$6=\"\",\"\",'Trial Batch Results'!$C$6)","v":"Trial Batch Results"},{"$f":"IF('Trial Batch Results'!$H$27=\"\",\"\",'Trial Batch Results'!$H$27)","v":"UNIT WEIGHT"},{"$f":"IF('Trial Batch Results'!$H$30=\"\",\"\",'Trial Batch Results'!$H$30)","v":"Mass of bucket, lbs:"}]
[343,{"$f":"IF('Trial Batch Results'!$K$31=\"\",\"\",'Trial Batch Results'!$K$31)","v":""},{"$f":"IF('Trial Batch Results'!$C$6=\"\",\"\",'Trial Batch Results'!$C$6)","v":"Trial Batch Results"},{"$f":"IF('Trial Batch Results'!$H$27=\"\",\"\",'Trial Batch Results'!$H$27)","v":"UNIT WEIGHT"},{"$f":"IF('Trial Batch Results'!$H$31=\"\",\"\",'Trial Batch Results'!$H$31)","v":"Volume of bucket, ft³:"}]
[344,{"$f":"IF('Trial Batch Results'!$K$32=\"\",\"\",'Trial Batch Results'!$K$32)","v":""},{"$f":"IF('Trial Batch Results'!$C$6=\"\",\"\",'Trial Batch Results'!$C$6)","v":"Trial Batch Results"},{"$f":"IF('Trial Batch Results'!$H$27=\"\",\"\",'Trial Batch Results'!$H$27)","v":"UNIT WEIGHT"},{"$f":"IF('Trial Batch Results'!$H$32=\"\",\"\",'Trial Batch Results'!$H$32)","v":"Mass of bucket (filled with) concrete, lbs:"}]
[345,{"$f":"IF('Trial Batch Results'!$K$33=\"\",\"\",'Trial Batch Results'!$K$33)","v":""},{"$f":"IF('Trial Batch Results'!$C$6=\"\",\"\",'Trial Batch Results'!$C$6)","v":"Trial Batch Results"},{"$f":"IF('Trial Batch Results'!$H$27=\"\",\"\",'Trial Batch Results'!$H$27)","v":"UNIT WEIGHT"},{"$f":"IF('Trial Batch Results'!$H$33=\"\",\"\",'Trial Batch Results'!$H$33)","v":"Density (Unit weight ) of concrete lb/ft³:"}]
[346,{"$f":"IF('Trial Batch Results'!$E$40=\"\",\"\",'Trial Batch Results'!$E$40)","v":""},{"$f":"IF('Trial Batch Results'!$C$6=\"\",\"\",'Trial Batch Results'!$C$6)","v":"Trial Batch Results"},{"$f":"IF('Trial Batch Results'!$C$36=\"\",\"\",'Trial Batch Results'!$C$36)","v":"COMPRESSIVE STRENGTH"}]
[347,{"$f":"IF('Trial Batch Results'!$C$43=\"\",\"\",'Trial Batch Results'!$C$43)","v":""},{"$f":"IF('Trial Batch Results'!$C$6=\"\",\"\",'Trial Batch Results'!$C$6)","v":"Trial Batch Results"},{"$f":"IF('Trial Batch Results'!$C$36=\"\",\"\",'Trial Batch Results'!$C$36)","v":"COMPRESSIVE STRENGTH"},{"$f":"IF('Trial Batch Results'!$C$40=\"\",\"\",'Trial Batch Results'!$C$40)","v":"Cylinder Number"}]
[348,{"$f":"IF('Trial Batch Results'!$D$43=\"\",\"\",'Trial Batch Results'!$D$43)","v":""},{"$f":"IF('Trial Batch Results'!$C$6=\"\",\"\",'Trial Batch Results'!$C$6)","v":"Trial Batch Results"},{"$f":"IF('Trial Batch Results'!$C$36=\"\",\"\",'Trial Batch Results'!$C$36)","v":"COMPRESSIVE STRENGTH"},{"$f":"IF('Trial Batch Results'!$D$40=\"\",\"\",'Trial Batch Results'!$D$40)","v":"Age"}]
[349,{"$f":"IF('Trial Batch Results'!$E$43=\"\",\"\",'Trial Batch Results'!$E$43)","v":""},{"$f":"IF('Trial Batch Results'!$C$6=\"\",\"\",'Trial Batch Results'!$C$6)","v":"Trial Batch Results"},{"$f":"IF('Trial Batch Results'!$C$36=\"\",\"\",'Trial Batch Results'!$C$36)","v":"COMPRESSIVE STRENGTH"},{"$f":"IF('Trial Batch Results'!$E$40=\"\",\"\",'Trial Batch Results'!$E$40)","v":""}]
[350,{"$f":"IF('Trial Batch Results'!$F$43=\"\",\"\",'Trial Batch Results'!$F$43)","v":""},{"$f":"IF('Trial Batch Results'!$C$6=\"\",\"\",'Trial Batch Results'!$C$6)","v":"Trial Batch Results"},{"$f":"IF('Trial Batch Results'!$C$36=\"\",\"\",'Trial Batch Results'!$C$36)","v":"COMPRESSIVE STRENGTH"},{"$f":"IF('Trial Batch Results'!$F$40=\"\",\"\",'Trial Batch Results'!$F$40)","v":"Length of Cylinder  (inches)"}]
[351,{"$f":"IF('Trial Batch Results'!$G$43=\"\",\"\",'Trial Batch Results'!$G$43)","v":""},{"$f":"IF('Trial Batch Results'!$C$6=\"\",\"\",'Trial Batch Results'!$C$6)","v":"Trial Batch Results"},{"$f":"IF('Trial Batch Results'!$C$36=\"\",\"\",'Trial Batch Results'!$C$36)","v":"COMPRESSIVE STRENGTH"},{"$f":"IF('Trial Batch Results'!$G$40=\"\",\"\",'Trial Batch Results'!$G$40)","v":"Length to Diameter Ratio"}]
[352,{"$f":"IF('Trial Batch Results'!$H$43=\"\",\"\",'Trial Batch Results'!$H$43)","v":""},{"$f":"IF('Trial Batch Results'!$C$6=\"\",\"\",'Trial Batch Results'!$C$6)","v":"Trial Batch Results"},{"$f":"IF('Trial Batch Results'!$C$36=\"\",\"\",'Trial Batch Results'!$C$36)","v":"COMPRESSIVE STRENGTH"},{"$f":"IF('Trial Batch Results'!$H$40=\"\",\"\",'Trial Batch Results'!$H$40)","v":"Max Load (lbs.)"}]
[353,{"$f":"IF('Trial Batch Results'!$I$43=\"\",\"\",'Trial Batch Results'!$I$43)","v":""},{"$f":"IF('Trial Batch Results'!$C$6=\"\",\"\",'Trial Batch Results'!$C$6)","v":"Trial Batch Results"},{"$f":"IF('Trial Batch Results'!$C$36=\"\",\"\",'Trial Batch Results'!$C$36)","v":"COMPRESSIVE STRENGTH"},{"$f":"IF('Trial Batch Results'!$I$40=\"\",\"\",'Trial Batch Results'!$I$40)","v":"Failure Type"}]
[354,{"$f":"IF('Trial Batch Results'!$J$43=\"\",\"\",'Trial Batch Results'!$J$43)","v":""},{"$f":"IF('Trial Batch Results'!$C$6=\"\",\"\",'Trial Batch Results'!$C$6)","v":"Trial Batch Results"},{"$f":"IF('Trial Batch Results'!$C$36=\"\",\"\",'Trial Batch Results'!$C$36)","v":"COMPRESSIVE STRENGTH"},{"$f":"IF('Trial Batch Results'!$J$40=\"\",\"\",'Trial Batch Results'!$J$40)","v":"Correction Factor"}]
[355,{"$f":"IF('Trial Batch Results'!$K$43=\"\",\"\",'Trial Batch Results'!$K$43)","v":""},{"$f":"IF('Trial Batch Results'!$C$6=\"\",\"\",'Trial Batch Results'!$C$6)","v":"Trial Batch Results"},{"$f":"IF('Trial Batch Results'!$C$36=\"\",\"\",'Trial Batch Results'!$C$36)","v":"COMPRESSIVE STRENGTH"},{"$f":"IF('Trial Batch Results'!$K$40=\"\",\"\",'Trial Batch Results'!$K$40)","v":"Compressive Strength  (psi)"}]
[356,{"$f":"IF('Trial Batch Results'!$L$43=\"\",\"\",'Trial Batch Results'!$L$43)","v":""},{"$f":"IF('Trial Batch Results'!$C$6=\"\",\"\",'Trial Batch Results'!$C$6)","v":"Trial Batch Results"},{"$f":"IF('Trial Batch Results'!$C$36=\"\",\"\",'Trial Batch Results'!$C$36)","v":"COMPRESSIVE STRENGTH"},{"$f":"IF('Trial Batch Results'!$L$40=\"\",\"\",'Trial Batch Results'!$L$40)","v":"Average Compressive Strength (psi)"}]
[357,{"$f":"IF('Trial Batch Results'!$C$44=\"\",\"\",'Trial Batch Results'!$C$44)","v":""},{"$f":"IF('Trial Batch Results'!$C$6=\"\",\"\",'Trial Batch Results'!$C$6)","v":"Trial Batch Results"},{"$f":"IF('Trial Batch Results'!$C$36=\"\",\"\",'Trial Batch Results'!$C$36)","v":"COMPRESSIVE STRENGTH"},{"$f":"IF('Trial Batch Results'!$C$40=\"\",\"\",'Trial Batch Results'!$C$40)","v":"Cylinder Number"}]
[358,{"$f":"IF('Trial Batch Results'!$E$44=\"\",\"\",'Trial Batch Results'!$E$44)","v":""},{"$f":"IF('Trial Batch Results'!$C$6=\"\",\"\",'Trial Batch Results'!$C$6)","v":"Trial Batch Results"},{"$f":"IF('Trial Batch Results'!$C$36=\"\",\"\",'Trial Batch Results'!$C$36)","v":"COMPRESSIVE STRENGTH"},{"$f":"IF('Trial Batch Results'!$E$40=\"\",\"\",'Trial Batch Results'!$E$40)","v":""}]
[359,{"$f":"IF('Trial Batch Results'!$F$44=\"\",\"\",'Trial Batch Results'!$F$44)","v":""},{"$f":"IF('Trial Batch Results'!$C$6=\"\",\"\",'Trial Batch Results'!$C$6)","v":"Trial Batch Results"},{"$f":"IF('Trial Batch Results'!$C$36=\"\",\"\",'Trial Batch Results'!$C$36)","v":"COMPRESSIVE STRENGTH"},{"$f":"IF('Trial Batch Results'!$F$40=\"\",\"\",'Trial Batch Results'!$F$40)","v":"Length of Cylinder  (inches)"}]
[360,{"$f":"IF('Trial Batch Results'!$G$44=\"\",\"\",'Trial Batch Results'!$G$44)","v":""},{"$f":"IF('Trial Batch Results'!$C$6=\"\",\"\",'Trial Batch Results'!$C$6)","v":"Trial Batch Results"},{"$f":"IF('Trial Batch Results'!$C$36=\"\",\"\",'Trial Batch Results'!$C$36)","v":"COMPRESSIVE STRENGTH"},{"$f":"IF('Trial Batch Results'!$G$40=\"\",\"\",'Trial Batch Results'!$G$40)","v":"Length to Diameter Ratio"}]
[361,{"$f":"IF('Trial Batch Results'!$H$44=\"\",\"\",'Trial Batch Results'!$H$44)","v":""},{"$f":"IF('Trial Batch Results'!$C$6=\"\",\"\",'Trial Batch Results'!$C$6)","v":"Trial Batch Results"},{"$f":"IF('Trial Batch Results'!$C$36=\"\",\"\",'Trial Batch Results'!$C$36)","v":"COMPRESSIVE STRENGTH"},{"$f":"IF('Trial Batch Results'!$H$40=\"\",\"\",'Trial Batch Results'!$H$40)","v":"Max Load (lbs.)"}]
[362,{"$f":"IF('Trial Batch Results'!$I$44=\"\",\"\",'Trial Batch Results'!$I$44)","v":""},{"$f":"IF('Trial Batch Results'!$C$6=\"\",\"\",'Trial Batch Results'!$C$6)","v":"Trial Batch Results"},{"$f":"IF('Trial Batch Results'!$C$36=\"\",\"\",'Trial Batch Results'!$C$36)","v":"COMPRESSIVE STRENGTH"},{"$f":"IF('Trial Batch Results'!$I$40=\"\",\"\",'Trial Batch Results'!$I$40)","v":"Failure Type"}]
[363,{"$f":"IF('Trial Batch Results'!$J$44=\"\",\"\",'Trial Batch Results'!$J$44)","v":""},{"$f":"IF('Trial Batch Results'!$C$6=\"\",\"\",'Trial Batch Results'!$C$6)","v":"Trial Batch Results"},{"$f":"IF('Trial Batch Results'!$C$36=\"\",\"\",'Trial Batch Results'!$C$36)","v":"COMPRESSIVE STRENGTH"},{"$f":"IF('Trial Batch Results'!$J$40=\"\",\"\",'Trial Batch Results'!$J$40)","v":"Correction Factor"}]
[364,{"$f":"IF('Trial Batch Results'!$K$44=\"\",\"\",'Trial Batch Results'!$K$44)","v":""},{"$f":"IF('Trial Batch Results'!$C$6=\"\",\"\",'Trial Batch Results'!$C$6)","v":"Trial Batch Results"},{"$f":"IF('Trial Batch Results'!$C$36=\"\",\"\",'Trial Batch Results'!$C$36)","v":"COMPRESSIVE STRENGTH"},{"$f":"IF('Trial Batch Results'!$K$40=\"\",\"\",'Trial Batch Results'!$K$40)","v":"Compressive Strength  (psi)"}]
[365,{"$f":"IF('Trial Batch Results'!$C$45=\"\",\"\",'Trial Batch Results'!$C$45)","v":""},{"$f":"IF('Trial Batch Results'!$C$6=\"\",\"\",'Trial Batch Results'!$C$6)","v":"Trial Batch Results"},{"$f":"IF('Trial Batch Results'!$C$36=\"\",\"\",'Trial Batch Results'!$C$36)","v":"COMPRESSIVE STRENGTH"},{"$f":"IF('Trial Batch Results'!$C$40=\"\",\"\",'Trial Batch Results'!$C$40)","v":"Cylinder Number"}]
[366,{"$f":"IF('Trial Batch Results'!$E$45=\"\",\"\",'Trial Batch Results'!$E$45)","v":""},{"$f":"IF('Trial Batch Results'!$C$6=\"\",\"\",'Trial Batch Results'!$C$6)","v":"Trial Batch Results"},{"$f":"IF('Trial Batch Results'!$C$36=\"\",\"\",'Trial Batch Results'!$C$36)","v":"COMPRESSIVE STRENGTH"},{"$f":"IF('Trial Batch Results'!$E$40=\"\",\"\",'Trial Batch Results'!$E$40)","v":""}]
[367,{"$f":"IF('Trial Batch Results'!$F$45=\"\",\"\",'Trial Batch Results'!$F$45)","v":""},{"$f":"IF('Trial Batch Results'!$C$6=\"\",\"\",'Trial Batch Results'!$C$6)","v":"Trial Batch Results"},{"$f":"IF('Trial Batch Results'!$C$36=\"\",\"\",'Trial Batch Results'!$C$36)","v":"COMPRESSIVE STRENGTH"},{"$f":"IF('Trial Batch Results'!$F$40=\"\",\"\",'Trial Batch Results'!$F$40)","v":"Length of Cylinder  (inches)"}]
[368,{"$f":"IF('Trial Batch Results'!$G$45=\"\",\"\",'Trial Batch Results'!$G$45)","v":""},{"$f":"IF('Trial Batch Results'!$C$6=\"\",\"\",'Trial Batch Results'!$C$6)","v":"Trial Batch Results"},{"$f":"IF('Trial Batch Results'!$C$36=\"\",\"\",'Trial Batch Results'!$C$36)","v":"COMPRESSIVE STRENGTH"},{"$f":"IF('Trial Batch Results'!$G$40=\"\",\"\",'Trial Batch Results'!$G$40)","v":"Length to Diameter Ratio"}]
[369,{"$f":"IF('Trial Batch Results'!$H$45=\"\",\"\",'Trial Batch Results'!$H$45)","v":""},{"$f":"IF('Trial Batch Results'!$C$6=\"\",\"\",'Trial Batch Results'!$C$6)","v":"Trial Batch Results"},{"$f":"IF('Trial Batch Results'!$C$36=\"\",\"\",'Trial Batch Results'!$C$36)","v":"COMPRESSIVE STRENGTH"},{"$f":"IF('Trial Batch Results'!$H$40=\"\",\"\",'Trial Batch Results'!$H$40)","v":"Max Load (lbs.)"}]
[370,{"$f":"IF('Trial Batch Results'!$I$45=\"\",\"\",'Trial Batch Results'!$I$45)","v":""},{"$f":"IF('Trial Batch Results'!$C$6=\"\",\"\",'Trial Batch Results'!$C$6)","v":"Trial Batch Results"},{"$f":"IF('Trial Batch Results'!$C$36=\"\",\"\",'Trial Batch Results'!$C$36)","v":"COMPRESSIVE STRENGTH"},{"$f":"IF('Trial Batch Results'!$I$40=\"\",\"\",'Trial Batch Results'!$I$40)","v":"Failure Type"}]
[371,{"$f":"IF('Trial Batch Results'!$J$45=\"\",\"\",'Trial Batch Results'!$J$45)","v":""},{"$f":"IF('Trial Batch Results'!$C$6=\"\",\"\",'Trial Batch Results'!$C$6)","v":"Trial Batch Results"},{"$f":"IF('Trial Batch Results'!$C$36=\"\",\"\",'Trial Batch Results'!$C$36)","v":"COMPRESSIVE STRENGTH"},{"$f":"IF('Trial Batch Results'!$J$40=\"\",\"\",'Trial Batch Results'!$J$40)","v":"Correction Factor"}]
[372,{"$f":"IF('Trial Batch Results'!$K$45=\"\",\"\",'Trial Batch Results'!$K$45)","v":""},{"$f":"IF('Trial Batch Results'!$C$6=\"\",\"\",'Trial Batch Results'!$C$6)","v":"Trial Batch Results"},{"$f":"IF('Trial Batch Results'!$C$36=\"\",\"\",'Trial Batch Results'!$C$36)","v":"COMPRESSIVE STRENGTH"},{"$f":"IF('Trial Batch Results'!$K$40=\"\",\"\",'Trial Batch Results'!$K$40)","v":"Compressive Strength  (psi)"}]
[373,{"$f":"IF('Trial Batch Results'!$C$46=\"\",\"\",'Trial Batch Results'!$C$46)","v":""},{"$f":"IF('Trial Batch Results'!$C$6=\"\",\"\",'Trial Batch Results'!$C$6)","v":"Trial Batch Results"},{"$f":"IF('Trial Batch Results'!$C$36=\"\",\"\",'Trial Batch Results'!$C$36)","v":"COMPRESSIVE STRENGTH"},{"$f":"IF('Trial Batch Results'!$C$40=\"\",\"\",'Trial Batch Results'!$C$40)","v":"Cylinder Number"}]
[374,{"$f":"IF('Trial Batch Results'!$D$46=\"\",\"\",'Trial Batch Results'!$D$46)","v":""},{"$f":"IF('Trial Batch Results'!$C$6=\"\",\"\",'Trial Batch Results'!$C$6)","v":"Trial Batch Results"},{"$f":"IF('Trial Batch Results'!$C$36=\"\",\"\",'Trial Batch Results'!$C$36)","v":"COMPRESSIVE STRENGTH"},{"$f":"IF('Trial Batch Results'!$D$40=\"\",\"\",'Trial Batch Results'!$D$40)","v":"Age"}]
[375,{"$f":"IF('Trial Batch Results'!$E$46=\"\",\"\",'Trial Batch Results'!$E$46)","v":""},{"$f":"IF('Trial Batch Results'!$C$6=\"\",\"\",'Trial Batch Results'!$C$6)","v":"Trial Batch Results"},{"$f":"IF('Trial Batch Results'!$C$36=\"\",\"\",'Trial Batch Results'!$C$36)","v":"COMPRESSIVE STRENGTH"},{"$f":"IF('Trial Batch Results'!$E$40=\"\",\"\",'Trial Batch Results'!$E$40)","v":""}]
[376,{"$f":"IF('Trial Batch Results'!$F$46=\"\",\"\",'Trial Batch Results'!$F$46)","v":""},{"$f":"IF('Trial Batch Results'!$C$6=\"\",\"\",'Trial Batch Results'!$C$6)","v":"Trial Batch Results"},{"$f":"IF('Trial Batch Results'!$C$36=\"\",\"\",'Trial Batch Results'!$C$36)","v":"COMPRESSIVE STRENGTH"},{"$f":"IF('Trial Batch Results'!$F$40=\"\",\"\",'Trial Batch Results'!$F$40)","v":"Length of Cylinder  (inches)"}]
[377,{"$f":"IF('Trial Batch Results'!$G$46=\"\",\"\",'Trial Batch Results'!$G$46)","v":""},{"$f":"IF('Trial Batch Results'!$C$6=\"\",\"\",'Trial Batch Results'!$C$6)","v":"Trial Batch Results"},{"$f":"IF('Trial Batch Results'!$C$36=\"\",\"\",'Trial Batch Results'!$C$36)","v":"COMPRESSIVE STRENGTH"},{"$f":"IF('Trial Batch Results'!$G$40=\"\",\"\",'Trial Batch Results'!$G$40)","v":"Length to Diameter Ratio"}]
[378,{"$f":"IF('Trial Batch Results'!$H$46=\"\",\"\",'Trial Batch Results'!$H$46)","v":""},{"$f":"IF('Trial Batch Results'!$C$6=\"\",\"\",'Trial Batch Results'!$C$6)","v":"Trial Batch Results"},{"$f":"IF('Trial Batch Results'!$C$36=\"\",\"\",'Trial Batch Results'!$C$36)","v":"COMPRESSIVE STRENGTH"},{"$f":"IF('Trial Batch Results'!$H$40=\"\",\"\",'Trial Batch Results'!$H$40)","v":"Max Load (lbs.)"}]
[379,{"$f":"IF('Trial Batch Results'!$I$46=\"\",\"\",'Trial Batch Results'!$I$46)","v":""},{"$f":"IF('Trial Batch Results'!$C$6=\"\",\"\",'Trial Batch Results'!$C$6)","v":"Trial Batch Results"},{"$f":"IF('Trial Batch Results'!$C$36=\"\",\"\",'Trial Batch Results'!$C$36)","v":"COMPRESSIVE STRENGTH"},{"$f":"IF('Trial Batch Results'!$I$40=\"\",\"\",'Trial Batch Results'!$I$40)","v":"Failure Type"}]
[380,{"$f":"IF('Trial Batch Results'!$J$46=\"\",\"\",'Trial Batch Results'!$J$46)","v":""},{"$f":"IF('Trial Batch Results'!$C$6=\"\",\"\",'Trial Batch Results'!$C$6)","v":"Trial Batch Results"},{"$f":"IF('Trial Batch Results'!$C$36=\"\",\"\",'Trial Batch Results'!$C$36)","v":"COMPRESSIVE STRENGTH"},{"$f":"IF('Trial Batch Results'!$J$40=\"\",\"\",'Trial Batch Results'!$J$40)","v":"Correction Factor"}]
[381,{"$f":"IF('Trial Batch Results'!$K$46=\"\",\"\",'Trial Batch Results'!$K$46)","v":""},{"$f":"IF('Trial Batch Results'!$C$6=\"\",\"\",'Trial Batch Results'!$C$6)","v":"Trial Batch Results"},{"$f":"IF('Trial Batch Results'!$C$36=\"\",\"\",'Trial Batch Results'!$C$36)","v":"COMPRESSIVE STRENGTH"},{"$f":"IF('Trial Batch Results'!$K$40=\"\",\"\",'Trial Batch Results'!$K$40)","v":"Compressive Strength  (psi)"}]
[382,{"$f":"IF('Trial Batch Results'!$L$46=\"\",\"\",'Trial Batch Results'!$L$46)","v":""},{"$f":"IF('Trial Batch Results'!$C$6=\"\",\"\",'Trial Batch Results'!$C$6)","v":"Trial Batch Results"},{"$f":"IF('Trial Batch Results'!$C$36=\"\",\"\",'Trial Batch Results'!$C$36)","v":"COMPRESSIVE STRENGTH"},{"$f":"IF('Trial Batch Results'!$L$40=\"\",\"\",'Trial Batch Results'!$L$40)","v":"Average Compressive Strength (psi)"}]
[383,{"$f":"IF('Trial Batch Results'!$C$47=\"\",\"\",'Trial Batch Results'!$C$47)","v":""},{"$f":"IF('Trial Batch Results'!$C$6=\"\",\"\",'Trial Batch Results'!$C$6)","v":"Trial Batch Results"},{"$f":"IF('Trial Batch Results'!$C$36=\"\",\"\",'Trial Batch Results'!$C$36)","v":"COMPRESSIVE STRENGTH"},{"$f":"IF('Trial Batch Results'!$C$40=\"\",\"\",'Trial Batch Results'!$C$40)","v":"Cylinder Number"}]
[384,{"$f":"IF('Trial Batch Results'!$E$47=\"\",\"\",'Trial Batch Results'!$E$47)","v":""},{"$f":"IF('Trial Batch Results'!$C$6=\"\",\"\",'Trial Batch Results'!$C$6)","v":"Trial Batch Results"},{"$f":"IF('Trial Batch Results'!$C$36=\"\",\"\",'Trial Batch Results'!$C$36)","v":"COMPRESSIVE STRENGTH"},{"$f":"IF('Trial Batch Results'!$E$40=\"\",\"\",'Trial Batch Results'!$E$40)","v":""}]
[385,{"$f":"IF('Trial Batch Results'!$F$47=\"\",\"\",'Trial Batch Results'!$F$47)","v":""},{"$f":"IF('Trial Batch Results'!$C$6=\"\",\"\",'Trial Batch Results'!$C$6)","v":"Trial Batch Results"},{"$f":"IF('Trial Batch Results'!$C$36=\"\",\"\",'Trial Batch Results'!$C$36)","v":"COMPRESSIVE STRENGTH"},{"$f":"IF('Trial Batch Results'!$F$40=\"\",\"\",'Trial Batch Results'!$F$40)","v":"Length of Cylinder  (inches)"}]
[386,{"$f":"IF('Trial Batch Results'!$G$47=\"\",\"\",'Trial Batch Results'!$G$47)","v":""},{"$f":"IF('Trial Batch Results'!$C$6=\"\",\"\",'Trial Batch Results'!$C$6)","v":"Trial Batch Results"},{"$f":"IF('Trial Batch Results'!$C$36=\"\",\"\",'Trial Batch Results'!$C$36)","v":"COMPRESSIVE STRENGTH"},{"$f":"IF('Trial Batch Results'!$G$40=\"\",\"\",'Trial Batch Results'!$G$40)","v":"Length to Diameter Ratio"}]
[387,{"$f":"IF('Trial Batch Results'!$H$47=\"\",\"\",'Trial Batch Results'!$H$47)","v":""},{"$f":"IF('Trial Batch Results'!$C$6=\"\",\"\",'Trial Batch Results'!$C$6)","v":"Trial Batch Results"},{"$f":"IF('Trial Batch Results'!$C$36=\"\",\"\",'Trial Batch Results'!$C$36)","v":"COMPRESSIVE STRENGTH"},{"$f":"IF('Trial Batch Results'!$H$40=\"\",\"\",'Trial Batch Results'!$H$40)","v":"Max Load (lbs.)"}]
[388,{"$f":"IF('Trial Batch Results'!$I$47=\"\",\"\",'Trial Batch Results'!$I$47)","v":""},{"$f":"IF('Trial Batch Results'!$C$6=\"\",\"\",'Trial Batch Results'!$C$6)","v":"Trial Batch Results"},{"$f":"IF('Trial Batch Results'!$C$36=\"\",\"\",'Trial Batch Results'!$C$36)","v":"COMPRESSIVE STRENGTH"},{"$f":"IF('Trial Batch Results'!$I$40=\"\",\"\",'Trial Batch Results'!$I$40)","v":"Failure Type"}]
[389,{"$f":"IF('Trial Batch Results'!$J$47=\"\",\"\",'Trial Batch Results'!$J$47)","v":""},{"$f":"IF('Trial Batch Results'!$C$6=\"\",\"\",'Trial Batch Results'!$C$6)","v":"Trial Batch Results"},{"$f":"IF('Trial Batch Results'!$C$36=\"\",\"\",'Trial Batch Results'!$C$36)","v":"COMPRESSIVE STRENGTH"},{"$f":"IF('Trial Batch Results'!$J$40=\"\",\"\",'Trial Batch Results'!$J$40)","v":"Correction Factor"}]
[390,{"$f":"IF('Trial Batch Results'!$K$47=\"\",\"\",'Trial Batch Results'!$K$47)","v":""},{"$f":"IF('Trial Batch Results'!$C$6=\"\",\"\",'Trial Batch Results'!$C$6)","v":"Trial Batch Results"},{"$f":"IF('Trial Batch Results'!$C$36=\"\",\"\",'Trial Batch Results'!$C$36)","v":"COMPRESSIVE STRENGTH"},{"$f":"IF('Trial Batch Results'!$K$40=\"\",\"\",'Trial Batch Results'!$K$40)","v":"Compressive Strength  (psi)"}]
[391,{"$f":"IF('Trial Batch Results'!$C$48=\"\",\"\",'Trial Batch Results'!$C$48)","v":""},{"$f":"IF('Trial Batch Results'!$C$6=\"\",\"\",'Trial Batch Results'!$C$6)","v":"Trial Batch Results"},{"$f":"IF('Trial Batch Results'!$C$36=\"\",\"\",'Trial Batch Results'!$C$36)","v":"COMPRESSIVE STRENGTH"},{"$f":"IF('Trial Batch Results'!$C$40=\"\",\"\",'Trial Batch Results'!$C$40)","v":"Cylinder Number"}]
[392,{"$f":"IF('Trial Batch Results'!$E$48=\"\",\"\",'Trial Batch Results'!$E$48)","v":""},{"$f":"IF('Trial Batch Results'!$C$6=\"\",\"\",'Trial Batch Results'!$C$6)","v":"Trial Batch Results"},{"$f":"IF('Trial Batch Results'!$C$36=\"\",\"\",'Trial Batch Results'!$C$36)","v":"COMPRESSIVE STRENGTH"},{"$f":"IF('Trial Batch Results'!$E$40=\"\",\"\",'Trial Batch Results'!$E$40)","v":""}]
[393,{"$f":"IF('Trial Batch Results'!$F$48=\"\",\"\",'Trial Batch Results'!$F$48)","v":""},{"$f":"IF('Trial Batch Results'!$C$6=\"\",\"\",'Trial Batch Results'!$C$6)","v":"Trial Batch Results"},{"$f":"IF('Trial Batch Results'!$C$36=\"\",\"\",'Trial Batch Results'!$C$36)","v":"COMPRESSIVE STRENGTH"},{"$f":"IF('Trial Batch Results'!$F$40=\"\",\"\",'Trial Batch Results'!$F$40)","v":"Length of Cylinder  (inches)"}]
[394,{"$f":"IF('Trial Batch Results'!$G$48=\"\",\"\",'Trial Batch Results'!$G$48)","v":""},{"$f":"IF('Trial Batch Results'!$C$6=\"\",\"\",'Trial Batch Results'!$C$6)","v":"Trial Batch Results"},{"$f":"IF('Trial Batch Results'!$C$36=\"\",\"\",'Trial Batch Results'!$C$36)","v":"COMPRESSIVE STRENGTH"},{"$f":"IF('Trial Batch Results'!$G$40=\"\",\"\",'Trial Batch Results'!$G$40)","v":"Length to Diameter Ratio"}]
[395,{"$f":"IF('Trial Batch Results'!$H$48=\"\",\"\",'Trial Batch Results'!$H$48)","v":""},{"$f":"IF('Trial Batch Results'!$C$6=\"\",\"\",'Trial Batch Results'!$C$6)","v":"Trial Batch Results"},{"$f":"IF('Trial Batch Results'!$C$36=\"\",\"\",'Trial Batch Results'!$C$36)","v":"COMPRESSIVE STRENGTH"},{"$f":"IF('Trial Batch Results'!$H$40=\"\",\"\",'Trial Batch Results'!$H$40)","v":"Max Load (lbs.)"}]
[396,{"$f":"IF('Trial Batch Results'!$I$48=\"\",\"\",'Trial Batch Results'!$I$48)","v":""},{"$f":"IF('Trial Batch Results'!$C$6=\"\",\"\",'Trial Batch Results'!$C$6)","v":"Trial Batch Results"},{"$f":"IF('Trial Batch Results'!$C$36=\"\",\"\",'Trial Batch Results'!$C$36)","v":"COMPRESSIVE STRENGTH"},{"$f":"IF('Trial Batch Results'!$I$40=\"\",\"\",'Trial Batch Results'!$I$40)","v":"Failure Type"}]
[397,{"$f":"IF('Trial Batch Results'!$J$48=\"\",\"\",'Trial Batch Results'!$J$48)","v":""},{"$f":"IF('Trial Batch Results'!$C$6=\"\",\"\",'Trial Batch Results'!$C$6)","v":"Trial Batch Results"},{"$f":"IF('Trial Batch Results'!$C$36=\"\",\"\",'Trial Batch Results'!$C$36)","v":"COMPRESSIVE STRENGTH"},{"$f":"IF('Trial Batch Results'!$J$40=\"\",\"\",'Trial Batch Results'!$J$40)","v":"Correction Factor"}]
[398,{"$f":"IF('Trial Batch Results'!$K$48=\"\",\"\",'Trial Batch Results'!$K$48)","v":""},{"$f":"IF('Trial Batch Results'!$C$6=\"\",\"\",'Trial Batch Results'!$C$6)","v":"Trial Batch Results"},{"$f":"IF('Trial Batch Results'!$C$36=\"\",\"\",'Trial Batch Results'!$C$36)","v":"COMPRESSIVE STRENGTH"},{"$f":"IF('Trial Batch Results'!$K$40=\"\",\"\",'Trial Batch Results'!$K$40)","v":"Compressive Strength  (psi)"}]
[399,{"$f":"IF('Trial Batch Results'!$C$49=\"\",\"\",'Trial Batch Results'!$C$49)","v":""},{"$f":"IF('Trial Batch Results'!$C$6=\"\",\"\",'Trial Batch Results'!$C$6)","v":"Trial Batch Results"},{"$f":"IF('Trial Batch Results'!$C$36=\"\",\"\",'Trial Batch Results'!$C$36)","v":"COMPRESSIVE STRENGTH"},{"$f":"IF('Trial Batch Results'!$C$40=\"\",\"\",'Trial Batch Results'!$C$40)","v":"Cylinder Number"}]
[400,{"$f":"IF('Trial Batch Results'!$D$49=\"\",\"\",'Trial Batch Results'!$D$49)","v":"7-Day"},{"$f":"IF('Trial Batch Results'!$C$6=\"\",\"\",'Trial Batch Results'!$C$6)","v":"Trial Batch Results"},{"$f":"IF('Trial Batch Results'!$C$36=\"\",\"\",'Trial Batch Results'!$C$36)","v":"COMPRESSIVE STRENGTH"},{"$f":"IF('Trial Batch Results'!$D$40=\"\",\"\",'Trial Batch Results'!$D$40)","v":"Age"}]
[401,{"$f":"IF('Trial Batch Results'!$E$49=\"\",\"\",'Trial Batch Results'!$E$49)","v":""},{"$f":"IF('Trial Batch Results'!$C$6=\"\",\"\",'Trial Batch Results'!$C$6)","v":"Trial Batch Results"},{"$f":"IF('Trial Batch Results'!$C$36=\"\",\"\",'Trial Batch Results'!$C$36)","v":"COMPRESSIVE STRENGTH"},{"$f":"IF('Trial Batch Results'!$E$40=\"\",\"\",'Trial Batch Results'!$E$40)","v":""}]
[402,{"$f":"IF('Trial Batch Results'!$F$49=\"\",\"\",'Trial Batch Results'!$F$49)","v":""},{"$f":"IF('Trial Batch Results'!$C$6=\"\",\"\",'Trial Batch Results'!$C$6)","v":"Trial Batch Results"},{"$f":"IF('Trial Batch Results'!$C$36=\"\",\"\",'Trial Batch Results'!$C$36)","v":"COMPRESSIVE STRENGTH"},{"$f":"IF('Trial Batch Results'!$F$40=\"\",\"\",'Trial Batch Results'!$F$40)","v":"Length of Cylinder  (inches)"}]
[403,{"$f":"IF('Trial Batch Results'!$G$49=\"\",\"\",'Trial Batch Results'!$G$49)","v":""},{"$f":"IF('Trial Batch Results'!$C$6=\"\",\"\",'Trial Batch Results'!$C$6)","v":"Trial Batch Results"},{"$f":"IF('Trial Batch Results'!$C$36=\"\",\"\",'Trial Batch Results'!$C$36)","v":"COMPRESSIVE STRENGTH"},{"$f":"IF('Trial Batch Results'!$G$40=\"\",\"\",'Trial Batch Results'!$G$40)","v":"Length to Diameter Ratio"}]
[404,{"$f":"IF('Trial Batch Results'!$H$49=\"\",\"\",'Trial Batch Results'!$H$49)","v":""},{"$f":"IF('Trial Batch Results'!$C$6=\"\",\"\",'Trial Batch Results'!$C$6)","v":"Trial Batch Results"},{"$f":"IF('Trial Batch Results'!$C$36=\"\",\"\",'Trial Batch Results'!$C$36)","v":"COMPRESSIVE STRENGTH"},{"$f":"IF('Trial Batch Results'!$H$40=\"\",\"\",'Trial Batch Results'!$H$40)","v":"Max Load (lbs.)"}]
[405,{"$f":"IF('Trial Batch Results'!$I$49=\"\",\"\",'Trial Batch Results'!$I$49)","v":""},{"$f":"IF('Trial Batch Results'!$C$6=\"\",\"\",'Trial Batch Results'!$C$6)","v":"Trial Batch Results"},{"$f":"IF('Trial Batch Results'!$C$36=\"\",\"\",'Trial Batch Results'!$C$36)","v":"COMPRESSIVE STRENGTH"},{"$f":"IF('Trial Batch Results'!$I$40=\"\",\"\",'Trial Batch Results'!$I$40)","v":"Failure Type"}]
[406,{"$f":"IF('Trial Batch Results'!$J$49=\"\",\"\",'Trial Batch Results'!$J$49)","v":""},{"$f":"IF('Trial Batch Results'!$C$6=\"\",\"\",'Trial Batch Results'!$C$6)","v":"Trial Batch Results"},{"$f":"IF('Trial Batch Results'!$C$36=\"\",\"\",'Trial Batch Results'!$C$36)","v":"COMPRESSIVE STRENGTH"},{"$f":"IF('Trial Batch Results'!$J$40=\"\",\"\",'Trial Batch Results'!$J$40)","v":"Correction Factor"}]
[407,{"$f":"IF('Trial Batch Results'!$K$49=\"\",\"\",'Trial Batch Results'!$K$49)","v":""},{"$f":"IF('Trial Batch Results'!$C$6=\"\",\"\",'Trial Batch Results'!$C$6)","v":"Trial Batch Results"},{"$f":"IF('Trial Batch Results'!$C$36=\"\",\"\",'Trial Batch Results'!$C$36)","v":"COMPRESSIVE STRENGTH"},{"$f":"IF('Trial Batch Results'!$K$40=\"\",\"\",'Trial Batch Results'!$K$40)","v":"Compressive Strength  (psi)"}]
[408,{"$f":"IF('Trial Batch Results'!$L$49=\"\",\"\",'Trial Batch Results'!$L$49)","v":""},{"$f":"IF('Trial Batch Results'!$C$6=\"\",\"\",'Trial Batch Results'!$C$6)","v":"Trial Batch Results"},{"$f":"IF('Trial Batch Results'!$C$36=\"\",\"\",'Trial Batch Results'!$C$36)","v":"COMPRESSIVE STRENGTH"},{"$f":"IF('Trial Batch Results'!$L$40=\"\",\"\",'Trial Batch Results'!$L$40)","v":"Average Compressive Strength (psi)"}]
[409,{"$f":"IF('Trial Batch Results'!$C$50=\"\",\"\",'Trial Batch Results'!$C$50)","v":""},{"$f":"IF('Trial Batch Results'!$C$6=\"\",\"\",'Trial Batch Results'!$C$6)","v":"Trial Batch Results"},{"$f":"IF('Trial Batch Results'!$C$36=\"\",\"\",'Trial Batch Results'!$C$36)","v":"COMPRESSIVE STRENGTH"},{"$f":"IF('Trial Batch Results'!$C$40=\"\",\"\",'Trial Batch Results'!$C$40)","v":"Cylinder Number"}]
[410,{"$f":"IF('Trial Batch Results'!$E$50=\"\",\"\",'Trial Batch Results'!$E$50)","v":""},{"$f":"IF('Trial Batch Results'!$C$6=\"\",\"\",'Trial Batch Results'!$C$6)","v":"Trial Batch Results"},{"$f":"IF('Trial Batch Results'!$C$36=\"\",\"\",'Trial Batch Results'!$C$36)","v":"COMPRESSIVE STRENGTH"},{"$f":"IF('Trial Batch Results'!$E$40=\"\",\"\",'Trial Batch Results'!$E$40)","v":""}]
[411,{"$f":"IF('Trial Batch Results'!$F$50=\"\",\"\",'Trial Batch Results'!$F$50)","v":""},{"$f":"IF('Trial Batch Results'!$C$6=\"\",\"\",'Trial Batch Results'!$C$6)","v":"Trial Batch Results"},{"$f":"IF('Trial Batch Results'!$C$36=\"\",\"\",'Trial Batch Results'!$C$36)","v":"COMPRESSIVE STRENGTH"},{"$f":"IF('Trial Batch Results'!$F$40=\"\",\"\",'Trial Batch Results'!$F$40)","v":"Length of Cylinder  (inches)"}]
[412,{"$f":"IF('Trial Batch Results'!$G$50=\"\",\"\",'Trial Batch Results'!$G$50)","v":""},{"$f":"IF('Trial Batch Results'!$C$6=\"\",\"\",'Trial Batch Results'!$C$6)","v":"Trial Batch Results"},{"$f":"IF('Trial Batch Results'!$C$36=\"\",\"\",'Trial Batch Results'!$C$36)","v":"COMPRESSIVE STRENGTH"},{"$f":"IF('Trial Batch Results'!$G$40=\"\",\"\",'Trial Batch Results'!$G$40)","v":"Length to Diameter Ratio"}]
[413,{"$f":"IF('Trial Batch Results'!$H$50=\"\",\"\",'Trial Batch Results'!$H$50)","v":""},{"$f":"IF('Trial Batch Results'!$C$6=\"\",\"\",'Trial Batch Results'!$C$6)","v":"Trial Batch Results"},{"$f":"IF('Trial Batch Results'!$C$36=\"\",\"\",'Trial Batch Results'!$C$36)","v":"COMPRESSIVE STRENGTH"},{"$f":"IF('Trial Batch Results'!$H$40=\"\",\"\",'Trial Batch Results'!$H$40)","v":"Max Load (lbs.)"}]
[414,{"$f":"IF('Trial Batch Results'!$I$50=\"\",\"\",'Trial Batch Results'!$I$50)","v":""},{"$f":"IF('Trial Batch Results'!$C$6=\"\",\"\",'Trial Batch Results'!$C$6)","v":"Trial Batch Results"},{"$f":"IF('Trial Batch Results'!$C$36=\"\",\"\",'Trial Batch Results'!$C$36)","v":"COMPRESSIVE STRENGTH"},{"$f":"IF('Trial Batch Results'!$I$40=\"\",\"\",'Trial Batch Results'!$I$40)","v":"Failure Type"}]
[415,{"$f":"IF('Trial Batch Results'!$J$50=\"\",\"\",'Trial Batch Results'!$J$50)","v":""},{"$f":"IF('Trial Batch Results'!$C$6=\"\",\"\",'Trial Batch Results'!$C$6)","v":"Trial Batch Results"},{"$f":"IF('Trial Batch Results'!$C$36=\"\",\"\",'Trial Batch Results'!$C$36)","v":"COMPRESSIVE STRENGTH"},{"$f":"IF('Trial Batch Results'!$J$40=\"\",\"\",'Trial Batch Results'!$J$40)","v":"Correction Factor"}]
[416,{"$f":"IF('Trial Batch Results'!$K$50=\"\",\"\",'Trial Batch Results'!$K$50)","v":""},{"$f":"IF('Trial Batch Results'!$C$6=\"\",\"\",'Trial Batch Results'!$C$6)","v":"Trial Batch Results"},{"$f":"IF('Trial Batch Results'!$C$36=\"\",\"\",'Trial Batch Results'!$C$36)","v":"COMPRESSIVE STRENGTH"},{"$f":"IF('Trial Batch Results'!$K$40=\"\",\"\",'Trial Batch Results'!$K$40)","v":"Compressive Strength  (psi)"}]
[417,{"$f":"IF('Trial Batch Results'!$C$51=\"\",\"\",'Trial Batch Results'!$C$51)","v":""},{"$f":"IF('Trial Batch Results'!$C$6=\"\",\"\",'Trial Batch Results'!$C$6)","v":"Trial Batch Results"},{"$f":"IF('Trial Batch Results'!$C$36=\"\",\"\",'Trial Batch Results'!$C$36)","v":"COMPRESSIVE STRENGTH"},{"$f":"IF('Trial Batch Results'!$C$40=\"\",\"\",'Trial Batch Results'!$C$40)","v":"Cylinder Number"}]
[418,{"$f":"IF('Trial Batch Results'!$E$51=\"\",\"\",'Trial Batch Results'!$E$51)","v":""},{"$f":"IF('Trial Batch Results'!$C$6=\"\",\"\",'Trial Batch Results'!$C$6)","v":"Trial Batch Results"},{"$f":"IF('Trial Batch Results'!$C$36=\"\",\"\",'Trial Batch Results'!$C$36)","v":"COMPRESSIVE STRENGTH"},{"$f":"IF('Trial Batch Results'!$E$40=\"\",\"\",'Trial Batch Results'!$E$40)","v":""}]
[419,{"$f":"IF('Trial Batch Results'!$F$51=\"\",\"\",'Trial Batch Results'!$F$51)","v":""},{"$f":"IF('Trial Batch Results'!$C$6=\"\",\"\",'Trial Batch Results'!$C$6)","v":"Trial Batch Results"},{"$f":"IF('Trial Batch Results'!$C$36=\"\",\"\",'Trial Batch Results'!$C$36)","v":"COMPRESSIVE STRENGTH"},{"$f":"IF('Trial Batch Results'!$F$40=\"\",\"\",'Trial Batch Results'!$F$40)","v":"Length of Cylinder  (inches)"}]
[420,{"$f":"IF('Trial Batch Results'!$G$51=\"\",\"\",'Trial Batch Results'!$G$51)","v":""},{"$f":"IF('Trial Batch Results'!$C$6=\"\",\"\",'Trial Batch Results'!$C$6)","v":"Trial Batch Results"},{"$f":"IF('Trial Batch Results'!$C$36=\"\",\"\",'Trial Batch Results'!$C$36)","v":"COMPRESSIVE STRENGTH"},{"$f":"IF('Trial Batch Results'!$G$40=\"\",\"\",'Trial Batch Results'!$G$40)","v":"Length to Diameter Ratio"}]
[421,{"$f":"IF('Trial Batch Results'!$H$51=\"\",\"\",'Trial Batch Results'!$H$51)","v":""},{"$f":"IF('Trial Batch Results'!$C$6=\"\",\"\",'Trial Batch Results'!$C$6)","v":"Trial Batch Results"},{"$f":"IF('Trial Batch Results'!$C$36=\"\",\"\",'Trial Batch Results'!$C$36)","v":"COMPRESSIVE STRENGTH"},{"$f":"IF('Trial Batch Results'!$H$40=\"\",\"\",'Trial Batch Results'!$H$40)","v":"Max Load (lbs.)"}]
[422,{"$f":"IF('Trial Batch Results'!$I$51=\"\",\"\",'Trial Batch Results'!$I$51)","v":""},{"$f":"IF('Trial Batch Results'!$C$6=\"\",\"\",'Trial Batch Results'!$C$6)","v":"Trial Batch Results"},{"$f":"IF('Trial Batch Results'!$C$36=\"\",\"\",'Trial Batch Results'!$C$36)","v":"COMPRESSIVE STRENGTH"},{"$f":"IF('Trial Batch Results'!$I$40=\"\",\"\",'Trial Batch Results'!$I$40)","v":"Failure Type"}]
[423,{"$f":"IF('Trial Batch Results'!$J$51=\"\",\"\",'Trial Batch Results'!$J$51)","v":""},{"$f":"IF('Trial Batch Results'!$C$6=\"\",\"\",'Trial Batch Results'!$C$6)","v":"Trial Batch Results"},{"$f":"IF('Trial Batch Results'!$C$36=\"\",\"\",'Trial Batch Results'!$C$36)","v":"COMPRESSIVE STRENGTH"},{"$f":"IF('Trial Batch Results'!$J$40=\"\",\"\",'Trial Batch Results'!$J$40)","v":"Correction Factor"}]
[424,{"$f":"IF('Trial Batch Results'!$K$51=\"\",\"\",'Trial Batch Results'!$K$51)","v":""},{"$f":"IF('Trial Batch Results'!$C$6=\"\",\"\",'Trial Batch Results'!$C$6)","v":"Trial Batch Results"},{"$f":"IF('Trial Batch Results'!$C$36=\"\",\"\",'Trial Batch Results'!$C$36)","v":"COMPRESSIVE STRENGTH"},{"$f":"IF('Trial Batch Results'!$K$40=\"\",\"\",'Trial Batch Results'!$K$40)","v":"Compressive Strength  (psi)"}]
[425,{"$f":"IF('Trial Batch Results'!$C$52=\"\",\"\",'Trial Batch Results'!$C$52)","v":""},{"$f":"IF('Trial Batch Results'!$C$6=\"\",\"\",'Trial Batch Results'!$C$6)","v":"Trial Batch Results"},{"$f":"IF('Trial Batch Results'!$C$36=\"\",\"\",'Trial Batch Results'!$C$36)","v":"COMPRESSIVE STRENGTH"},{"$f":"IF('Trial Batch Results'!$C$40=\"\",\"\",'Trial Batch Results'!$C$40)","v":"Cylinder Number"}]
[426,{"$f":"IF('Trial Batch Results'!$D$52=\"\",\"\",'Trial Batch Results'!$D$52)","v":"28-Day"},{"$f":"IF('Trial Batch Results'!$C$6=\"\",\"\",'Trial Batch Results'!$C$6)","v":"Trial Batch Results"},{"$f":"IF('Trial Batch Results'!$C$36=\"\",\"\",'Trial Batch Results'!$C$36)","v":"COMPRESSIVE STRENGTH"},{"$f":"IF('Trial Batch Results'!$D$40=\"\",\"\",'Trial Batch Results'!$D$40)","v":"Age"}]
[427,{"$f":"IF('Trial Batch Results'!$E$52=\"\",\"\",'Trial Batch Results'!$E$52)","v":""},{"$f":"IF('Trial Batch Results'!$C$6=\"\",\"\",'Trial Batch Results'!$C$6)","v":"Trial Batch Results"},{"$f":"IF('Trial Batch Results'!$C$36=\"\",\"\",'Trial Batch Results'!$C$36)","v":"COMPRESSIVE STRENGTH"},{"$f":"IF('Trial Batch Results'!$E$40=\"\",\"\",'Trial Batch Results'!$E$40)","v":""}]
[428,{"$f":"IF('Trial Batch Results'!$F$52=\"\",\"\",'Trial Batch Results'!$F$52)","v":""},{"$f":"IF('Trial Batch Results'!$C$6=\"\",\"\",'Trial Batch Results'!$C$6)","v":"Trial Batch Results"},{"$f":"IF('Trial Batch Results'!$C$36=\"\",\"\",'Trial Batch Results'!$C$36)","v":"COMPRESSIVE STRENGTH"},{"$f":"IF('Trial Batch Results'!$F$40=\"\",\"\",'Trial Batch Results'!$F$40)","v":"Length of Cylinder  (inches)"}]
[429,{"$f":"IF('Trial Batch Results'!$G$52=\"\",\"\",'Trial Batch Results'!$G$52)","v":""},{"$f":"IF('Trial Batch Results'!$C$6=\"\",\"\",'Trial Batch Results'!$C$6)","v":"Trial Batch Results"},{"$f":"IF('Trial Batch Results'!$C$36=\"\",\"\",'Trial Batch Results'!$C$36)","v":"COMPRESSIVE STRENGTH"},{"$f":"IF('Trial Batch Results'!$G$40=\"\",\"\",'Trial Batch Results'!$G$40)","v":"Length to Diameter Ratio"}]
[430,{"$f":"IF('Trial Batch Results'!$H$52=\"\",\"\",'Trial Batch Results'!$H$52)","v":""},{"$f":"IF('Trial Batch Results'!$C$6=\"\",\"\",'Trial Batch Results'!$C$6)","v":"Trial Batch Results"},{"$f":"IF('Trial Batch Results'!$C$36=\"\",\"\",'Trial Batch Results'!$C$36)","v":"COMPRESSIVE STRENGTH"},{"$f":"IF('Trial Batch Results'!$H$40=\"\",\"\",'Trial Batch Results'!$H$40)","v":"Max Load (lbs.)"}]
[431,{"$f":"IF('Trial Batch Results'!$I$52=\"\",\"\",'Trial Batch Results'!$I$52)","v":""},{"$f":"IF('Trial Batch Results'!$C$6=\"\",\"\",'Trial Batch Results'!$C$6)","v":"Trial Batch Results"},{"$f":"IF('Trial Batch Results'!$C$36=\"\",\"\",'Trial Batch Results'!$C$36)","v":"COMPRESSIVE STRENGTH"},{"$f":"IF('Trial Batch Results'!$I$40=\"\",\"\",'Trial Batch Results'!$I$40)","v":"Failure Type"}]
[432,{"$f":"IF('Trial Batch Results'!$J$52=\"\",\"\",'Trial Batch Results'!$J$52)","v":""},{"$f":"IF('Trial Batch Results'!$C$6=\"\",\"\",'Trial Batch Results'!$C$6)","v":"Trial Batch Results"},{"$f":"IF('Trial Batch Results'!$C$36=\"\",\"\",'Trial Batch Results'!$C$36)","v":"COMPRESSIVE STRENGTH"},{"$f":"IF('Trial Batch Results'!$J$40=\"\",\"\",'Trial Batch Results'!$J$40)","v":"Correction Factor"}]
[433,{"$f":"IF('Trial Batch Results'!$K$52=\"\",\"\",'Trial Batch Results'!$K$52)","v":""},{"$f":"IF('Trial Batch Results'!$C$6=\"\",\"\",'Trial Batch Results'!$C$6)","v":"Trial Batch Results"},{"$f":"IF('Trial Batch Results'!$C$36=\"\",\"\",'Trial Batch Results'!$C$36)","v":"COMPRESSIVE STRENGTH"},{"$f":"IF('Trial Batch Results'!$K$40=\"\",\"\",'Trial Batch Results'!$K$40)","v":"Compressive Strength  (psi)"}]
[434,{"$f":"IF('Trial Batch Results'!$L$52=\"\",\"\",'Trial Batch Results'!$L$52)","v":""},{"$f":"IF('Trial Batch Results'!$C$6=\"\",\"\",'Trial Batch Results'!$C$6)","v":"Trial Batch Results"},{"$f":"IF('Trial Batch Results'!$C$36=\"\",\"\",'Trial Batch Results'!$C$36)","v":"COMPRESSIVE STRENGTH"},{"$f":"IF('Trial Batch Results'!$L$40=\"\",\"\",'Trial Batch Results'!$L$40)","v":"Average Compressive Strength (psi)"}]
[435,{"$f":"IF('Trial Batch Results'!$C$53=\"\",\"\",'Trial Batch Results'!$C$53)","v":""},{"$f":"IF('Trial Batch Results'!$C$6=\"\",\"\",'Trial Batch Results'!$C$6)","v":"Trial Batch Results"},{"$f":"IF('Trial Batch Results'!$C$36=\"\",\"\",'Trial Batch Results'!$C$36)","v":"COMPRESSIVE STRENGTH"},{"$f":"IF('Trial Batch Results'!$C$40=\"\",\"\",'Trial Batch Results'!$C$40)","v":"Cylinder Number"}]
[436,{"$f":"IF('Trial Batch Results'!$E$53=\"\",\"\",'Trial Batch Results'!$E$53)","v":""},{"$f":"IF('Trial Batch Results'!$C$6=\"\",\"\",'Trial Batch Results'!$C$6)","v":"Trial Batch Results"},{"$f":"IF('Trial Batch Results'!$C$36=\"\",\"\",'Trial Batch Results'!$C$36)","v":"COMPRESSIVE STRENGTH"},{"$f":"IF('Trial Batch Results'!$E$40=\"\",\"\",'Trial Batch Results'!$E$40)","v":""}]
[437,{"$f":"IF('Trial Batch Results'!$F$53=\"\",\"\",'Trial Batch Results'!$F$53)","v":""},{"$f":"IF('Trial Batch Results'!$C$6=\"\",\"\",'Trial Batch Results'!$C$6)","v":"Trial Batch Results"},{"$f":"IF('Trial Batch Results'!$C$36=\"\",\"\",'Trial Batch Results'!$C$36)","v":"COMPRESSIVE STRENGTH"},{"$f":"IF('Trial Batch Results'!$F$40=\"\",\"\",'Trial Batch Results'!$F$40)","v":"Length of Cylinder  (inches)"}]
[438,{"$f":"IF('Trial Batch Results'!$G$53=\"\",\"\",'Trial Batch Results'!$G$53)","v":""},{"$f":"IF('Trial Batch Results'!$C$6=\"\",\"\",'Trial Batch Results'!$C$6)","v":"Trial Batch Results"},{"$f":"IF('Trial Batch Results'!$C$36=\"\",\"\",'Trial Batch Results'!$C$36)","v":"COMPRESSIVE STRENGTH"},{"$f":"IF('Trial Batch Results'!$G$40=\"\",\"\",'Trial Batch Results'!$G$40)","v":"Length to Diameter Ratio"}]
[439,{"$f":"IF('Trial Batch Results'!$H$53=\"\",\"\",'Trial Batch Results'!$H$53)","v":""},{"$f":"IF('Trial Batch Results'!$C$6=\"\",\"\",'Trial Batch Results'!$C$6)","v":"Trial Batch Results"},{"$f":"IF('Trial Batch Results'!$C$36=\"\",\"\",'Trial Batch Results'!$C$36)","v":"COMPRESSIVE STRENGTH"},{"$f":"IF('Trial Batch Results'!$H$40=\"\",\"\",'Trial Batch Results'!$H$40)","v":"Max Load (lbs.)"}]
[440,{"$f":"IF('Trial Batch Results'!$I$53=\"\",\"\",'Trial Batch Results'!$I$53)","v":""},{"$f":"IF('Trial Batch Results'!$C$6=\"\",\"\",'Trial Batch Results'!$C$6)","v":"Trial Batch Results"},{"$f":"IF('Trial Batch Results'!$C$36=\"\",\"\",'Trial Batch Results'!$C$36)","v":"COMPRESSIVE STRENGTH"},{"$f":"IF('Trial Batch Results'!$I$40=\"\",\"\",'Trial Batch Results'!$I$40)","v":"Failure Type"}]
[441,{"$f":"IF('Trial Batch Results'!$J$53=\"\",\"\",'Trial Batch Results'!$J$53)","v":""},{"$f":"IF('Trial Batch Results'!$C$6=\"\",\"\",'Trial Batch Results'!$C$6)","v":"Trial Batch Results"},{"$f":"IF('Trial Batch Results'!$C$36=\"\",\"\",'Trial Batch Results'!$C$36)","v":"COMPRESSIVE STRENGTH"},{"$f":"IF('Trial Batch Results'!$J$40=\"\",\"\",'Trial Batch Results'!$J$40)","v":"Correction Factor"}]
[442,{"$f":"IF('Trial Batch Results'!$K$53=\"\",\"\",'Trial Batch Results'!$K$53)","v":""},{"$f":"IF('Trial Batch Results'!$C$6=\"\",\"\",'Trial Batch Results'!$C$6)","v":"Trial Batch Results"},{"$f":"IF('Trial Batch Results'!$C$36=\"\",\"\",'Trial Batch Results'!$C$36)","v":"COMPRESSIVE STRENGTH"},{"$f":"IF('Trial Batch Results'!$K$40=\"\",\"\",'Trial Batch Results'!$K$40)","v":"Compressive Strength  (psi)"}]
[443,{"$f":"IF('Trial Batch Results'!$C$54=\"\",\"\",'Trial Batch Results'!$C$54)","v":""},{"$f":"IF('Trial Batch Results'!$C$6=\"\",\"\",'Trial Batch Results'!$C$6)","v":"Trial Batch Results"},{"$f":"IF('Trial Batch Results'!$C$36=\"\",\"\",'Trial Batch Results'!$C$36)","v":"COMPRESSIVE STRENGTH"},{"$f":"IF('Trial Batch Results'!$C$40=\"\",\"\",'Trial Batch Results'!$C$40)","v":"Cylinder Number"}]
[444,{"$f":"IF('Trial Batch Results'!$E$54=\"\",\"\",'Trial Batch Results'!$E$54)","v":""},{"$f":"IF('Trial Batch Results'!$C$6=\"\",\"\",'Trial Batch Results'!$C$6)","v":"Trial Batch Results"},{"$f":"IF('Trial Batch Results'!$C$36=\"\",\"\",'Trial Batch Results'!$C$36)","v":"COMPRESSIVE STRENGTH"},{"$f":"IF('Trial Batch Results'!$E$40=\"\",\"\",'Trial Batch Results'!$E$40)","v":""}]
[445,{"$f":"IF('Trial Batch Results'!$F$54=\"\",\"\",'Trial Batch Results'!$F$54)","v":""},{"$f":"IF('Trial Batch Results'!$C$6=\"\",\"\",'Trial Batch Results'!$C$6)","v":"Trial Batch Results"},{"$f":"IF('Trial Batch Results'!$C$36=\"\",\"\",'Trial Batch Results'!$C$36)","v":"COMPRESSIVE STRENGTH"},{"$f":"IF('Trial Batch Results'!$F$40=\"\",\"\",'Trial Batch Results'!$F$40)","v":"Length of Cylinder  (inches)"}]
[446,{"$f":"IF('Trial Batch Results'!$G$54=\"\",\"\",'Trial Batch Results'!$G$54)","v":""},{"$f":"IF('Trial Batch Results'!$C$6=\"\",\"\",'Trial Batch Results'!$C$6)","v":"Trial Batch Results"},{"$f":"IF('Trial Batch Results'!$C$36=\"\",\"\",'Trial Batch Results'!$C$36)","v":"COMPRESSIVE STRENGTH"},{"$f":"IF('Trial Batch Results'!$G$40=\"\",\"\",'Trial Batch Results'!$G$40)","v":"Length to Diameter Ratio"}]
[447,{"$f":"IF('Trial Batch Results'!$H$54=\"\",\"\",'Trial Batch Results'!$H$54)","v":""},{"$f":"IF('Trial Batch Results'!$C$6=\"\",\"\",'Trial Batch Results'!$C$6)","v":"Trial Batch Results"},{"$f":"IF('Trial Batch Results'!$C$36=\"\",\"\",'Trial Batch Results'!$C$36)","v":"COMPRESSIVE STRENGTH"},{"$f":"IF('Trial Batch Results'!$H$40=\"\",\"\",'Trial Batch Results'!$H$40)","v":"Max Load (lbs.)"}]
[448,{"$f":"IF('Trial Batch Results'!$I$54=\"\",\"\",'Trial Batch Results'!$I$54)","v":""},{"$f":"IF('Trial Batch Results'!$C$6=\"\",\"\",'Trial Batch Results'!$C$6)","v":"Trial Batch Results"},{"$f":"IF('Trial Batch Results'!$C$36=\"\",\"\",'Trial Batch Results'!$C$36)","v":"COMPRESSIVE STRENGTH"},{"$f":"IF('Trial Batch Results'!$I$40=\"\",\"\",'Trial Batch Results'!$I$40)","v":"Failure Type"}]
[449,{"$f":"IF('Trial Batch Results'!$J$54=\"\",\"\",'Trial Batch Results'!$J$54)","v":""},{"$f":"IF('Trial Batch Results'!$C$6=\"\",\"\",'Trial Batch Results'!$C$6)","v":"Trial Batch Results"},{"$f":"IF('Trial Batch Results'!$C$36=\"\",\"\",'Trial Batch Results'!$C$36)","v":"COMPRESSIVE STRENGTH"},{"$f":"IF('Trial Batch Results'!$J$40=\"\",\"\",'Trial Batch Results'!$J$40)","v":"Correction Factor"}]
[450,{"$f":"IF('Trial Batch Results'!$K$54=\"\",\"\",'Trial Batch Results'!$K$54)","v":""},{"$f":"IF('Trial Batch Results'!$C$6=\"\",\"\",'Trial Batch Results'!$C$6)","v":"Trial Batch Results"},{"$f":"IF('Trial Batch Results'!$C$36=\"\",\"\",'Trial Batch Results'!$C$36)","v":"COMPRESSIVE STRENGTH"},{"$f":"IF('Trial Batch Results'!$K$40=\"\",\"\",'Trial Batch Results'!$K$40)","v":"Compressive Strength  (psi)"}]
[451,{"$f":"IF('Trial Batch Results'!$L$55=\"\",\"\",'Trial Batch Results'!$K$55)","v":""},{"$f":"IF('Trial Batch Results'!$C$6=\"\",\"\",'Trial Batch Results'!$C$6)","v":"Trial Batch Results"},{"$f":"IF('Trial Batch Results'!$C$36=\"\",\"\",'Trial Batch Results'!$C$36)","v":"COMPRESSIVE STRENGTH"},{"$f":"IF('Trial Batch Results'!$J$55=\"\",\"\",'Trial Batch Results'!$J$55)","v":" Target Value:"}]
[452,{"$f":"IF('Trial Batch Results'!$L$56=\"\",\"\",'Trial Batch Results'!$K$56)","v":""},{"$f":"IF('Trial Batch Results'!$C$6=\"\",\"\",'Trial Batch Results'!$C$6)","v":"Trial Batch Results"},{"$f":"IF('Trial Batch Results'!$C$36=\"\",\"\",'Trial Batch Results'!$C$36)","v":"COMPRESSIVE STRENGTH"},{"$f":"IF('Trial Batch Results'!$J$56=\"\",\"\",'Trial Batch Results'!$J$56)","v":" Target Value:"}]
[453,{"$f":"IF('Trial Batch Results'!$L$57=\"\",\"\",'Trial Batch Results'!$K$57)","v":""},{"$f":"IF('Trial Batch Results'!$C$6=\"\",\"\",'Trial Batch Results'!$C$6)","v":"Trial Batch Results"},{"$f":"IF('Trial Batch Results'!$C$36=\"\",\"\",'Trial Batch Results'!$C$36)","v":"COMPRESSIVE STRENGTH"},{"$f":"IF('Trial Batch Results'!$J$57=\"\",\"\",'Trial Batch Results'!$J$57)","v":"7-Day Target Value:"}]
[454,{"$f":"IF('Trial Batch Results'!$C$69=\"\",\"\",'Trial Batch Results'!$C$69)","v":""},{"$f":"IF('Trial Batch Results'!$C$6=\"\",\"\",'Trial Batch Results'!$C$6)","v":"Trial Batch Results"},{"$f":"IF('Trial Batch Results'!$C$65=\"\",\"\",'Trial Batch Results'!$C$65)","v":"FLEXURAL STRENGTH"},{"$f":"IF('Trial Batch Results'!$C$67=\"\",\"\",'Trial Batch Results'!$C$67)","v":"Beam Number"}]
[455,{"$f":"IF('Trial Batch Results'!$D$69=\"\",\"\",'Trial Batch Results'!$D$69)","v":""},{"$f":"IF('Trial Batch Results'!$C$6=\"\",\"\",'Trial Batch Results'!$C$6)","v":"Trial Batch Results"},{"$f":"IF('Trial Batch Results'!$C$65=\"\",\"\",'Trial Batch Results'!$C$65)","v":"FLEXURAL STRENGTH"},{"$f":"IF('Trial Batch Results'!$D$67=\"\",\"\",'Trial Batch Results'!$D$67)","v":"Age (Days)"}]
[456,{"$f":"IF('Trial Batch Results'!$E$69=\"\",\"\",'Trial Batch Results'!$E$69)","v":""},{"$f":"IF('Trial Batch Results'!$C$6=\"\",\"\",'Trial Batch Results'!$C$6)","v":"Trial Batch Results"},{"$f":"IF('Trial Batch Results'!$C$65=\"\",\"\",'Trial Batch Results'!$C$65)","v":"FLEXURAL STRENGTH"},{"$f":"IF('Trial Batch Results'!$E$67=\"\",\"\",'Trial Batch Results'!$E$67)","v":"Width of Beam (inches)"}]
[457,{"$f":"IF('Trial Batch Results'!$F$69=\"\",\"\",'Trial Batch Results'!$F$69)","v":""},{"$f":"IF('Trial Batch Results'!$C$6=\"\",\"\",'Trial Batch Results'!$C$6)","v":"Trial Batch Results"},{"$f":"IF('Trial Batch Results'!$C$65=\"\",\"\",'Trial Batch Results'!$C$65)","v":"FLEXURAL STRENGTH"},{"$f":"IF('Trial Batch Results'!$F$67=\"\",\"\",'Trial Batch Results'!$F$67)","v":"Depth of Beam (inches)"}]
[458,{"$f":"IF('Trial Batch Results'!$G$69=\"\",\"\",'Trial Batch Results'!$G$69)","v":""},{"$f":"IF('Trial Batch Results'!$C$6=\"\",\"\",'Trial Batch Results'!$C$6)","v":"Trial Batch Results"},{"$f":"IF('Trial Batch Results'!$C$65=\"\",\"\",'Trial Batch Results'!$C$65)","v":"FLEXURAL STRENGTH"},{"$f":"IF('Trial Batch Results'!$G$67=\"\",\"\",'Trial Batch Results'!$G$67)","v":"Span Length (inches)"}]
[459,{"$f":"IF('Trial Batch Results'!$H$69=\"\",\"\",'Trial Batch Results'!$H$69)","v":""},{"$f":"IF('Trial Batch Results'!$C$6=\"\",\"\",'Trial Batch Results'!$C$6)","v":"Trial Batch Results"},{"$f":"IF('Trial Batch Results'!$C$65=\"\",\"\",'Trial Batch Results'!$C$65)","v":"FLEXURAL STRENGTH"},{"$f":"IF('Trial Batch Results'!$H$67=\"\",\"\",'Trial Batch Results'!$H$67)","v":"Max Recording"}]
[460,{"$f":"IF('Trial Batch Results'!$I$69=\"\",\"\",'Trial Batch Results'!$I$69)","v":""},{"$f":"IF('Trial Batch Results'!$C$6=\"\",\"\",'Trial Batch Results'!$C$6)","v":"Trial Batch Results"},{"$f":"IF('Trial Batch Results'!$C$65=\"\",\"\",'Trial Batch Results'!$C$65)","v":"FLEXURAL STRENGTH"},{"$f":"IF('Trial Batch Results'!$I$67=\"\",\"\",'Trial Batch Results'!$I$67)","v":"*Failure Location (inches)"}]
[461,{"$f":"IF('Trial Batch Results'!$J$69=\"\",\"\",'Trial Batch Results'!$J$69)","v":""},{"$f":"IF('Trial Batch Results'!$C$6=\"\",\"\",'Trial Batch Results'!$C$6)","v":"Trial Batch Results"},{"$f":"IF('Trial Batch Results'!$C$65=\"\",\"\",'Trial Batch Results'!$C$65)","v":"FLEXURAL STRENGTH"},{"$f":"IF('Trial Batch Results'!$J$67=\"\",\"\",'Trial Batch Results'!$J$67)","v":"Modulus of Rupture (psi)"}]
[462,{"$f":"IF('Trial Batch Results'!$K$69=\"\",\"\",'Trial Batch Results'!$K$69)","v":""},{"$f":"IF('Trial Batch Results'!$C$6=\"\",\"\",'Trial Batch Results'!$C$6)","v":"Trial Batch Results"},{"$f":"IF('Trial Batch Results'!$C$65=\"\",\"\",'Trial Batch Results'!$C$65)","v":"FLEXURAL STRENGTH"},{"$f":"IF('Trial Batch Results'!$K$67=\"\",\"\",'Trial Batch Results'!$K$67)","v":"Average Modulus of Rupture (psi)"}]
[463,{"$f":"IF('Trial Batch Results'!$C$70=\"\",\"\",'Trial Batch Results'!$C$70)","v":""},{"$f":"IF('Trial Batch Results'!$C$6=\"\",\"\",'Trial Batch Results'!$C$6)","v":"Trial Batch Results"},{"$f":"IF('Trial Batch Results'!$C$65=\"\",\"\",'Trial Batch Results'!$C$65)","v":"FLEXURAL STRENGTH"},{"$f":"IF('Trial Batch Results'!$C$67=\"\",\"\",'Trial Batch Results'!$C$67)","v":"Beam Number"}]
[464,{"$f":"IF('Trial Batch Results'!$E$70=\"\",\"\",'Trial Batch Results'!$E$70)","v":""},{"$f":"IF('Trial Batch Results'!$C$6=\"\",\"\",'Trial Batch Results'!$C$6)","v":"Trial Batch Results"},{"$f":"IF('Trial Batch Results'!$C$65=\"\",\"\",'Trial Batch Results'!$C$65)","v":"FLEXURAL STRENGTH"},{"$f":"IF('Trial Batch Results'!$E$67=\"\",\"\",'Trial Batch Results'!$E$67)","v":"Width of Beam (inches)"}]
[465,{"$f":"IF('Trial Batch Results'!$F$70=\"\",\"\",'Trial Batch Results'!$F$70)","v":""},{"$f":"IF('Trial Batch Results'!$C$6=\"\",\"\",'Trial Batch Results'!$C$6)","v":"Trial Batch Results"},{"$f":"IF('Trial Batch Results'!$C$65=\"\",\"\",'Trial Batch Results'!$C$65)","v":"FLEXURAL STRENGTH"},{"$f":"IF('Trial Batch Results'!$F$67=\"\",\"\",'Trial Batch Results'!$F$67)","v":"Depth of Beam (inches)"}]
[466,{"$f":"IF('Trial Batch Results'!$G$70=\"\",\"\",'Trial Batch Results'!$G$70)","v":""},{"$f":"IF('Trial Batch Results'!$C$6=\"\",\"\",'Trial Batch Results'!$C$6)","v":"Trial Batch Results"},{"$f":"IF('Trial Batch Results'!$C$65=\"\",\"\",'Trial Batch Results'!$C$65)","v":"FLEXURAL STRENGTH"},{"$f":"IF('Trial Batch Results'!$G$67=\"\",\"\",'Trial Batch Results'!$G$67)","v":"Span Length (inches)"}]
[467,{"$f":"IF('Trial Batch Results'!$H$70=\"\",\"\",'Trial Batch Results'!$H$70)","v":""},{"$f":"IF('Trial Batch Results'!$C$6=\"\",\"\",'Trial Batch Results'!$C$6)","v":"Trial Batch Results"},{"$f":"IF('Trial Batch Results'!$C$65=\"\",\"\",'Trial Batch Results'!$C$65)","v":"FLEXURAL STRENGTH"},{"$f":"IF('Trial Batch Results'!$H$67=\"\",\"\",'Trial Batch Results'!$H$67)","v":"Max Recording"}]
[468,{"$f":"IF('Trial Batch Results'!$I$70=\"\",\"\",'Trial Batch Results'!$I$70)","v":""},{"$f":"IF('Trial Batch Results'!$C$6=\"\",\"\",'Trial Batch Results'!$C$6)","v":"Trial Batch Results"},{"$f":"IF('Trial Batch Results'!$C$65=\"\",\"\",'Trial Batch Results'!$C$65)","v":"FLEXURAL STRENGTH"},{"$f":"IF('Trial Batch Results'!$I$67=\"\",\"\",'Trial Batch Results'!$I$67)","v":"*Failure Location (inches)"}]
[469,{"$f":"IF('Trial Batch Results'!$J$70=\"\",\"\",'Trial Batch Results'!$J$70)","v":""},{"$f":"IF('Trial Batch Results'!$C$6=\"\",\"\",'Trial Batch Results'!$C$6)","v":"Trial Batch Results"},{"$f":"IF('Trial Batch Results'!$C$65=\"\",\"\",'Trial Batch Results'!$C$65)","v":"FLEXURAL STRENGTH"},{"$f":"IF('Trial Batch Results'!$J$67=\"\",\"\",'Trial Batch Results'!$J$67)","v":"Modulus of Rupture (psi)"}]
[470,{"$f":"IF('Trial Batch Results'!$C$71=\"\",\"\",'Trial Batch Results'!$C$71)","v":""},{"$f":"IF('Trial Batch Results'!$C$6=\"\",\"\",'Trial Batch Results'!$C$6)","v":"Trial Batch Results"},{"$f":"IF('Trial Batch Results'!$C$65=\"\",\"\",'Trial Batch Results'!$C$65)","v":"FLEXURAL STRENGTH"},{"$f":"IF('Trial Batch Results'!$C$67=\"\",\"\",'Trial Batch Results'!$C$67)","v":"Beam Number"}]
[471,{"$f":"IF('Trial Batch Results'!$D$71=\"\",\"\",'Trial Batch Results'!$D$71)","v":""},{"$f":"IF('Trial Batch Results'!$C$6=\"\",\"\",'Trial Batch Results'!$C$6)","v":"Trial Batch Results"},{"$f":"IF('Trial Batch Results'!$C$65=\"\",\"\",'Trial Batch Results'!$C$65)","v":"FLEXURAL STRENGTH"},{"$f":"IF('Trial Batch Results'!$D$67=\"\",\"\",'Trial Batch Results'!$D$67)","v":"Age (Days)"}]
[472,{"$f":"IF('Trial Batch Results'!$E$71=\"\",\"\",'Trial Batch Results'!$E$71)","v":""},{"$f":"IF('Trial Batch Results'!$C$6=\"\",\"\",'Trial Batch Results'!$C$6)","v":"Trial Batch Results"},{"$f":"IF('Trial Batch Results'!$C$65=\"\",\"\",'Trial Batch Results'!$C$65)","v":"FLEXURAL STRENGTH"},{"$f":"IF('Trial Batch Results'!$E$67=\"\",\"\",'Trial Batch Results'!$E$67)","v":"Width of Beam (inches)"}]
[473,{"$f":"IF('Trial Batch Results'!$F$71=\"\",\"\",'Trial Batch Results'!$F$71)","v":""},{"$f":"IF('Trial Batch Results'!$C$6=\"\",\"\",'Trial Batch Results'!$C$6)","v":"Trial Batch Results"},{"$f":"IF('Trial Batch Results'!$C$65=\"\",\"\",'Trial Batch Results'!$C$65)","v":"FLEXURAL STRENGTH"},{"$f":"IF('Trial Batch Results'!$F$67=\"\",\"\",'Trial Batch Results'!$F$67)","v":"Depth of Beam (inches)"}]
[474,{"$f":"IF('Trial Batch Results'!$G$71=\"\",\"\",'Trial Batch Results'!$G$71)","v":""},{"$f":"IF('Trial Batch Results'!$C$6=\"\",\"\",'Trial Batch Results'!$C$6)","v":"Trial Batch Results"},{"$f":"IF('Trial Batch Results'!$C$65=\"\",\"\",'Trial Batch Results'!$C$65)","v":"FLEXURAL STRENGTH"},{"$f":"IF('Trial Batch Results'!$G$67=\"\",\"\",'Trial Batch Results'!$G$67)","v":"Span Length (inches)"}]
[475,{"$f":"IF('Trial Batch Results'!$H$71=\"\",\"\",'Trial Batch Results'!$H$71)","v":""},{"$f":"IF('Trial Batch Results'!$C$6=\"\",\"\",'Trial Batch Results'!$C$6)","v":"Trial Batch Results"},{"$f":"IF('Trial Batch Results'!$C$65=\"\",\"\",'Trial Batch Results'!$C$65)","v":"FLEXURAL STRENGTH"},{"$f":"IF('Trial Batch Results'!$H$67=\"\",\"\",'Trial Batch Results'!$H$67)","v":"Max Recording"}]
[476,{"$f":"IF('Trial Batch Results'!$I$71=\"\",\"\",'Trial Batch Results'!$I$71)","v":""},{"$f":"IF('Trial Batch Results'!$C$6=\"\",\"\",'Trial Batch Results'!$C$6)","v":"Trial Batch Results"},{"$f":"IF('Trial Batch Results'!$C$65=\"\",\"\",'Trial Batch Results'!$C$65)","v":"FLEXURAL STRENGTH"},{"$f":"IF('Trial Batch Results'!$I$67=\"\",\"\",'Trial Batch Results'!$I$67)","v":"*Failure Location (inches)"}]
[477,{"$f":"IF('Trial Batch Results'!$J$71=\"\",\"\",'Trial Batch Results'!$J$71)","v":""},{"$f":"IF('Trial Batch Results'!$C$6=\"\",\"\",'Trial Batch Results'!$C$6)","v":"Trial Batch Results"},{"$f":"IF('Trial Batch Results'!$C$65=\"\",\"\",'Trial Batch Results'!$C$65)","v":"FLEXURAL STRENGTH"},{"$f":"IF('Trial Batch Results'!$J$67=\"\",\"\",'Trial Batch Results'!$J$67)","v":"Modulus of Rupture (psi)"}]
[478,{"$f":"IF('Trial Batch Results'!$K$71=\"\",\"\",'Trial Batch Results'!$K$71)","v":""},{"$f":"IF('Trial Batch Results'!$C$6=\"\",\"\",'Trial Batch Results'!$C$6)","v":"Trial Batch Results"},{"$f":"IF('Trial Batch Results'!$C$65=\"\",\"\",'Trial Batch Results'!$C$65)","v":"FLEXURAL STRENGTH"},{"$f":"IF('Trial Batch Results'!$K$67=\"\",\"\",'Trial Batch Results'!$K$67)","v":"Average Modulus of Rupture (psi)"}]
[479,{"$f":"IF('Trial Batch Results'!$C$72=\"\",\"\",'Trial Batch Results'!$C$72)","v":""},{"$f":"IF('Trial Batch Results'!$C$6=\"\",\"\",'Trial Batch Results'!$C$6)","v":"Trial Batch Results"},{"$f":"IF('Trial Batch Results'!$C$65=\"\",\"\",'Trial Batch Results'!$C$65)","v":"FLEXURAL STRENGTH"},{"$f":"IF('Trial Batch Results'!$C$67=\"\",\"\",'Trial Batch Results'!$C$67)","v":"Beam Number"}]
[480,{"$f":"IF('Trial Batch Results'!$E$72=\"\",\"\",'Trial Batch Results'!$E$72)","v":""},{"$f":"IF('Trial Batch Results'!$C$6=\"\",\"\",'Trial Batch Results'!$C$6)","v":"Trial Batch Results"},{"$f":"IF('Trial Batch Results'!$C$65=\"\",\"\",'Trial Batch Results'!$C$65)","v":"FLEXURAL STRENGTH"},{"$f":"IF('Trial Batch Results'!$E$67=\"\",\"\",'Trial Batch Results'!$E$67)","v":"Width of Beam (inches)"}]
[481,{"$f":"IF('Trial Batch Results'!$F$72=\"\",\"\",'Trial Batch Results'!$F$72)","v":""},{"$f":"IF('Trial Batch Results'!$C$6=\"\",\"\",'Trial Batch Results'!$C$6)","v":"Trial Batch Results"},{"$f":"IF('Trial Batch Results'!$C$65=\"\",\"\",'Trial Batch Results'!$C$65)","v":"FLEXURAL STRENGTH"},{"$f":"IF('Trial Batch Results'!$F$67=\"\",\"\",'Trial Batch Results'!$F$67)","v":"Depth of Beam (inches)"}]
[482,{"$f":"IF('Trial Batch Results'!$G$72=\"\",\"\",'Trial Batch Results'!$G$72)","v":""},{"$f":"IF('Trial Batch Results'!$C$6=\"\",\"\",'Trial Batch Results'!$C$6)","v":"Trial Batch Results"},{"$f":"IF('Trial Batch Results'!$C$65=\"\",\"\",'Trial Batch Results'!$C$65)","v":"FLEXURAL STRENGTH"},{"$f":"IF('Trial Batch Results'!$G$67=\"\",\"\",'Trial Batch Results'!$G$67)","v":"Span Length (inches)"}]
[483,{"$f":"IF('Trial Batch Results'!$H$72=\"\",\"\",'Trial Batch Results'!$H$72)","v":""},{"$f":"IF('Trial Batch Results'!$C$6=\"\",\"\",'Trial Batch Results'!$C$6)","v":"Trial Batch Results"},{"$f":"IF('Trial Batch Results'!$C$65=\"\",\"\",'Trial Batch Results'!$C$65)","v":"FLEXURAL STRENGTH"},{"$f":"IF('Trial Batch Results'!$H$67=\"\",\"\",'Trial Batch Results'!$H$67)","v":"Max Recording"}]
[484,{"$f":"IF('Trial Batch Results'!$I$72=\"\",\"\",'Trial Batch Results'!$I$72)","v":""},{"$f":"IF('Trial Batch Results'!$C$6=\"\",\"\",'Trial Batch Results'!$C$6)","v":"Trial Batch Results"},{"$f":"IF('Trial Batch Results'!$C$65=\"\",\"\",'Trial Batch Results'!$C$65)","v":"FLEXURAL STRENGTH"},{"$f":"IF('Trial Batch Results'!$I$67=\"\",\"\",'Trial Batch Results'!$I$67)","v":"*Failure Location (inches)"}]
[485,{"$f":"IF('Trial Batch Results'!$J$72=\"\",\"\",'Trial Batch Results'!$J$72)","v":""},{"$f":"IF('Trial Batch Results'!$C$6=\"\",\"\",'Trial Batch Results'!$C$6)","v":"Trial Batch Results"},{"$f":"IF('Trial Batch Results'!$C$65=\"\",\"\",'Trial Batch Results'!$C$65)","v":"FLEXURAL STRENGTH"},{"$f":"IF('Trial Batch Results'!$J$67=\"\",\"\",'Trial Batch Results'!$J$67)","v":"Modulus of Rupture (psi)"}]
[486,{"$f":"IF('Trial Batch Results'!$C$73=\"\",\"\",'Trial Batch Results'!$C$73)","v":""},{"$f":"IF('Trial Batch Results'!$C$6=\"\",\"\",'Trial Batch Results'!$C$6)","v":"Trial Batch Results"},{"$f":"IF('Trial Batch Results'!$C$65=\"\",\"\",'Trial Batch Results'!$C$65)","v":"FLEXURAL STRENGTH"},{"$f":"IF('Trial Batch Results'!$C$67=\"\",\"\",'Trial Batch Results'!$C$67)","v":"Beam Number"}]
[487,{"$f":"IF('Trial Batch Results'!$D$73=\"\",\"\",'Trial Batch Results'!$D$73)","v":"7-Day"},{"$f":"IF('Trial Batch Results'!$C$6=\"\",\"\",'Trial Batch Results'!$C$6)","v":"Trial Batch Results"},{"$f":"IF('Trial Batch Results'!$C$65=\"\",\"\",'Trial Batch Results'!$C$65)","v":"FLEXURAL STRENGTH"},{"$f":"IF('Trial Batch Results'!$D$67=\"\",\"\",'Trial Batch Results'!$D$67)","v":"Age (Days)"}]
[488,{"$f":"IF('Trial Batch Results'!$E$73=\"\",\"\",'Trial Batch Results'!$E$73)","v":""},{"$f":"IF('Trial Batch Results'!$C$6=\"\",\"\",'Trial Batch Results'!$C$6)","v":"Trial Batch Results"},{"$f":"IF('Trial Batch Results'!$C$65=\"\",\"\",'Trial Batch Results'!$C$65)","v":"FLEXURAL STRENGTH"},{"$f":"IF('Trial Batch Results'!$E$67=\"\",\"\",'Trial Batch Results'!$E$67)","v":"Width of Beam (inches)"}]
[489,{"$f":"IF('Trial Batch Results'!$F$73=\"\",\"\",'Trial Batch Results'!$F$73)","v":""},{"$f":"IF('Trial Batch Results'!$C$6=\"\",\"\",'Trial Batch Results'!$C$6)","v":"Trial Batch Results"},{"$f":"IF('Trial Batch Results'!$C$65=\"\",\"\",'Trial Batch Results'!$C$65)","v":"FLEXURAL STRENGTH"},{"$f":"IF('Trial Batch Results'!$F$67=\"\",\"\",'Trial Batch Results'!$F$67)","v":"Depth of Beam (inches)"}]
[490,{"$f":"IF('Trial Batch Results'!$G$73=\"\",\"\",'Trial Batch Results'!$G$73)","v":""},{"$f":"IF('Trial Batch Results'!$C$6=\"\",\"\",'Trial Batch Results'!$C$6)","v":"Trial Batch Results"},{"$f":"IF('Trial Batch Results'!$C$65=\"\",\"\",'Trial Batch Results'!$C$65)","v":"FLEXURAL STRENGTH"},{"$f":"IF('Trial Batch Results'!$G$67=\"\",\"\",'Trial Batch Results'!$G$67)","v":"Span Length (inches)"}]
[491,{"$f":"IF('Trial Batch Results'!$H$73=\"\",\"\",'Trial Batch Results'!$H$73)","v":""},{"$f":"IF('Trial Batch Results'!$C$6=\"\",\"\",'Trial Batch Results'!$C$6)","v":"Trial Batch Results"},{"$f":"IF('Trial Batch Results'!$C$65=\"\",\"\",'Trial Batch Results'!$C$65)","v":"FLEXURAL STRENGTH"},{"$f":"IF('Trial Batch Results'!$H$67=\"\",\"\",'Trial Batch Results'!$H$67)","v":"Max Recording"}]
[492,{"$f":"IF('Trial Batch Results'!$I$73=\"\",\"\",'Trial Batch Results'!$I$73)","v":""},{"$f":"IF('Trial Batch Results'!$C$6=\"\",\"\",'Trial Batch Results'!$C$6)","v":"Trial Batch Results"},{"$f":"IF('Trial Batch Results'!$C$65=\"\",\"\",'Trial Batch Results'!$C$65)","v":"FLEXURAL STRENGTH"},{"$f":"IF('Trial Batch Results'!$I$67=\"\",\"\",'Trial Batch Results'!$I$67)","v":"*Failure Location (inches)"}]
[493,{"$f":"IF('Trial Batch Results'!$J$73=\"\",\"\",'Trial Batch Results'!$J$73)","v":""},{"$f":"IF('Trial Batch Results'!$C$6=\"\",\"\",'Trial Batch Results'!$C$6)","v":"Trial Batch Results"},{"$f":"IF('Trial Batch Results'!$C$65=\"\",\"\",'Trial Batch Results'!$C$65)","v":"FLEXURAL STRENGTH"},{"$f":"IF('Trial Batch Results'!$J$67=\"\",\"\",'Trial Batch Results'!$J$67)","v":"Modulus of Rupture (psi)"}]
[494,{"$f":"IF('Trial Batch Results'!$K$73=\"\",\"\",'Trial Batch Results'!$K$73)","v":""},{"$f":"IF('Trial Batch Results'!$C$6=\"\",\"\",'Trial Batch Results'!$C$6)","v":"Trial Batch Results"},{"$f":"IF('Trial Batch Results'!$C$65=\"\",\"\",'Trial Batch Results'!$C$65)","v":"FLEXURAL STRENGTH"},{"$f":"IF('Trial Batch Results'!$K$67=\"\",\"\",'Trial Batch Results'!$K$67)","v":"Average Modulus of Rupture (psi)"}]
[495,{"$f":"IF('Trial Batch Results'!$C$74=\"\",\"\",'Trial Batch Results'!$C$74)","v":""},{"$f":"IF('Trial Batch Results'!$C$6=\"\",\"\",'Trial Batch Results'!$C$6)","v":"Trial Batch Results"},{"$f":"IF('Trial Batch Results'!$C$65=\"\",\"\",'Trial Batch Results'!$C$65)","v":"FLEXURAL STRENGTH"},{"$f":"IF('Trial Batch Results'!$C$67=\"\",\"\",'Trial Batch Results'!$C$67)","v":"Beam Number"}]
[496,{"$f":"IF('Trial Batch Results'!$E$74=\"\",\"\",'Trial Batch Results'!$E$74)","v":""},{"$f":"IF('Trial Batch Results'!$C$6=\"\",\"\",'Trial Batch Results'!$C$6)","v":"Trial Batch Results"},{"$f":"IF('Trial Batch Results'!$C$65=\"\",\"\",'Trial Batch Results'!$C$65)","v":"FLEXURAL STRENGTH"},{"$f":"IF('Trial Batch Results'!$E$67=\"\",\"\",'Trial Batch Results'!$E$67)","v":"Width of Beam (inches)"}]
[497,{"$f":"IF('Trial Batch Results'!$F$74=\"\",\"\",'Trial Batch Results'!$F$74)","v":""},{"$f":"IF('Trial Batch Results'!$C$6=\"\",\"\",'Trial Batch Results'!$C$6)","v":"Trial Batch Results"},{"$f":"IF('Trial Batch Results'!$C$65=\"\",\"\",'Trial Batch Results'!$C$65)","v":"FLEXURAL STRENGTH"},{"$f":"IF('Trial Batch Results'!$F$67=\"\",\"\",'Trial Batch Results'!$F$67)","v":"Depth of Beam (inches)"}]
[498,{"$f":"IF('Trial Batch Results'!$G$74=\"\",\"\",'Trial Batch Results'!$G$74)","v":""},{"$f":"IF('Trial Batch Results'!$C$6=\"\",\"\",'Trial Batch Results'!$C$6)","v":"Trial Batch Results"},{"$f":"IF('Trial Batch Results'!$C$65=\"\",\"\",'Trial Batch Results'!$C$65)","v":"FLEXURAL STRENGTH"},{"$f":"IF('Trial Batch Results'!$G$67=\"\",\"\",'Trial Batch Results'!$G$67)","v":"Span Length (inches)"}]
[499,{"$f":"IF('Trial Batch Results'!$H$74=\"\",\"\",'Trial Batch Results'!$H$74)","v":""},{"$f":"IF('Trial Batch Results'!$C$6=\"\",\"\",'Trial Batch Results'!$C$6)","v":"Trial Batch Results"},{"$f":"IF('Trial Batch Results'!$C$65=\"\",\"\",'Trial Batch Results'!$C$65)","v":"FLEXURAL STRENGTH"},{"$f":"IF('Trial Batch Results'!$H$67=\"\",\"\",'Trial Batch Results'!$H$67)","v":"Max Recording"}]
[500,{"$f":"IF('Trial Batch Results'!$I$74=\"\",\"\",'Trial Batch Results'!$I$74)","v":""},{"$f":"IF('Trial Batch Results'!$C$6=\"\",\"\",'Trial Batch Results'!$C$6)","v":"Trial Batch Results"},{"$f":"IF('Trial Batch Results'!$C$65=\"\",\"\",'Trial Batch Results'!$C$65)","v":"FLEXURAL STRENGTH"},{"$f":"IF('Trial Batch Results'!$I$67=\"\",\"\",'Trial Batch Results'!$I$67)","v":"*Failure Location (inches)"}]
[501,{"$f":"IF('Trial Batch Results'!$J$74=\"\",\"\",'Trial Batch Results'!$J$74)","v":""},{"$f":"IF('Trial Batch Results'!$C$6=\"\",\"\",'Trial Batch Results'!$C$6)","v":"Trial Batch Results"},{"$f":"IF('Trial Batch Results'!$C$65=\"\",\"\",'Trial Batch Results'!$C$65)","v":"FLEXURAL STRENGTH"},{"$f":"IF('Trial Batch Results'!$J$67=\"\",\"\",'Trial Batch Results'!$J$67)","v":"Modulus of Rupture (psi)"}]
[502,{"$f":"IF('Trial Batch Results'!$C$75=\"\",\"\",'Trial Batch Results'!$C$75)","v":""},{"$f":"IF('Trial Batch Results'!$C$6=\"\",\"\",'Trial Batch Results'!$C$6)","v":"Trial Batch Results"},{"$f":"IF('Trial Batch Results'!$C$65=\"\",\"\",'Trial Batch Results'!$C$65)","v":"FLEXURAL STRENGTH"},{"$f":"IF('Trial Batch Results'!$C$67=\"\",\"\",'Trial Batch Results'!$C$67)","v":"Beam Number"}]
[503,{"$f":"IF('Trial Batch Results'!$D$75=\"\",\"\",'Trial Batch Results'!$D$75)","v":"28-Day"},{"$f":"IF('Trial Batch Results'!$C$6=\"\",\"\",'Trial Batch Results'!$C$6)","v":"Trial Batch Results"},{"$f":"IF('Trial Batch Results'!$C$65=\"\",\"\",'Trial Batch Results'!$C$65)","v":"FLEXURAL STRENGTH"},{"$f":"IF('Trial Batch Results'!$D$67=\"\",\"\",'Trial Batch Results'!$D$67)","v":"Age (Days)"}]
[504,{"$f":"IF('Trial Batch Results'!$E$75=\"\",\"\",'Trial Batch Results'!$E$75)","v":""},{"$f":"IF('Trial Batch Results'!$C$6=\"\",\"\",'Trial Batch Results'!$C$6)","v":"Trial Batch Results"},{"$f":"IF('Trial Batch Results'!$C$65=\"\",\"\",'Trial Batch Results'!$C$65)","v":"FLEXURAL STRENGTH"},{"$f":"IF('Trial Batch Results'!$E$67=\"\",\"\",'Trial Batch Results'!$E$67)","v":"Width of Beam (inches)"}]
[505,{"$f":"IF('Trial Batch Results'!$F$75=\"\",\"\",'Trial Batch Results'!$F$75)","v":""},{"$f":"IF('Trial Batch Results'!$C$6=\"\",\"\",'Trial Batch Results'!$C$6)","v":"Trial Batch Results"},{"$f":"IF('Trial Batch Results'!$C$65=\"\",\"\",'Trial Batch Results'!$C$65)","v":"FLEXURAL STRENGTH"},{"$f":"IF('Trial Batch Results'!$F$67=\"\",\"\",'Trial Batch Results'!$F$67)","v":"Depth of Beam (inches)"}]
[506,{"$f":"IF('Trial Batch Results'!$G$75=\"\",\"\",'Trial Batch Results'!$G$75)","v":""},{"$f":"IF('Trial Batch Results'!$C$6=\"\",\"\",'Trial Batch Results'!$C$6)","v":"Trial Batch Results"},{"$f":"IF('Trial Batch Results'!$C$65=\"\",\"\",'Trial Batch Results'!$C$65)","v":"FLEXURAL STRENGTH"},{"$f":"IF('Trial Batch Results'!$G$67=\"\",\"\",'Trial Batch Results'!$G$67)","v":"Span Length (inches)"}]
[507,{"$f":"IF('Trial Batch Results'!$H$75=\"\",\"\",'Trial Batch Results'!$H$75)","v":""},{"$f":"IF('Trial Batch Results'!$C$6=\"\",\"\",'Trial Batch Results'!$C$6)","v":"Trial Batch Results"},{"$f":"IF('Trial Batch Results'!$C$65=\"\",\"\",'Trial Batch Results'!$C$65)","v":"FLEXURAL STRENGTH"},{"$f":"IF('Trial Batch Results'!$H$67=\"\",\"\",'Trial Batch Results'!$H$67)","v":"Max Recording"}]
[508,{"$f":"IF('Trial Batch Results'!$I$75=\"\",\"\",'Trial Batch Results'!$I$75)","v":""},{"$f":"IF('Trial Batch Results'!$C$6=\"\",\"\",'Trial Batch Results'!$C$6)","v":"Trial Batch Results"},{"$f":"IF('Trial Batch Results'!$C$65=\"\",\"\",'Trial Batch Results'!$C$65)","v":"FLEXURAL STRENGTH"},{"$f":"IF('Trial Batch Results'!$I$67=\"\",\"\",'Trial Batch Results'!$I$67)","v":"*Failure Location (inches)"}]
[509,{"$f":"IF('Trial Batch Results'!$J$75=\"\",\"\",'Trial Batch Results'!$J$75)","v":""},{"$f":"IF('Trial Batch Results'!$C$6=\"\",\"\",'Trial Batch Results'!$C$6)","v":"Trial Batch Results"},{"$f":"IF('Trial Batch Results'!$C$65=\"\",\"\",'Trial Batch Results'!$C$65)","v":"FLEXURAL STRENGTH"},{"$f":"IF('Trial Batch Results'!$J$67=\"\",\"\",'Trial Batch Results'!$J$67)","v":"Modulus of Rupture (psi)"}]
[510,{"$f":"IF('Trial Batch Results'!$K$75=\"\",\"\",'Trial Batch Results'!$K$75)","v":""},{"$f":"IF('Trial Batch Results'!$C$6=\"\",\"\",'Trial Batch Results'!$C$6)","v":"Trial Batch Results"},{"$f":"IF('Trial Batch Results'!$C$65=\"\",\"\",'Trial Batch Results'!$C$65)","v":"FLEXURAL STRENGTH"},{"$f":"IF('Trial Batch Results'!$K$67=\"\",\"\",'Trial Batch Results'!$K$67)","v":"Average Modulus of Rupture (psi)"}]
[511,{"$f":"IF('Trial Batch Results'!$C$76=\"\",\"\",'Trial Batch Results'!$C$76)","v":""},{"$f":"IF('Trial Batch Results'!$C$6=\"\",\"\",'Trial Batch Results'!$C$6)","v":"Trial Batch Results"},{"$f":"IF('Trial Batch Results'!$C$65=\"\",\"\",'Trial Batch Results'!$C$65)","v":"FLEXURAL STRENGTH"},{"$f":"IF('Trial Batch Results'!$C$67=\"\",\"\",'Trial Batch Results'!$C$67)","v":"Beam Number"}]
[512,{"$f":"IF('Trial Batch Results'!$E$76=\"\",\"\",'Trial Batch Results'!$E$76)","v":""},{"$f":"IF('Trial Batch Results'!$C$6=\"\",\"\",'Trial Batch Results'!$C$6)","v":"Trial Batch Results"},{"$f":"IF('Trial Batch Results'!$C$65=\"\",\"\",'Trial Batch Results'!$C$65)","v":"FLEXURAL STRENGTH"},{"$f":"IF('Trial Batch Results'!$E$67=\"\",\"\",'Trial Batch Results'!$E$67)","v":"Width of Beam (inches)"}]
[513,{"$f":"IF('Trial Batch Results'!$F$76=\"\",\"\",'Trial Batch Results'!$F$76)","v":""},{"$f":"IF('Trial Batch Results'!$C$6=\"\",\"\",'Trial Batch Results'!$C$6)","v":"Trial Batch Results"},{"$f":"IF('Trial Batch Results'!$C$65=\"\",\"\",'Trial Batch Results'!$C$65)","v":"FLEXURAL STRENGTH"},{"$f":"IF('Trial Batch Results'!$F$67=\"\",\"\",'Trial Batch Results'!$F$67)","v":"Depth of Beam (inches)"}]
[514,{"$f":"IF('Trial Batch Results'!$G$76=\"\",\"\",'Trial Batch Results'!$G$76)","v":""},{"$f":"IF('Trial Batch Results'!$C$6=\"\",\"\",'Trial Batch Results'!$C$6)","v":"Trial Batch Results"},{"$f":"IF('Trial Batch Results'!$C$65=\"\",\"\",'Trial Batch Results'!$C$65)","v":"FLEXURAL STRENGTH"},{"$f":"IF('Trial Batch Results'!$G$67=\"\",\"\",'Trial Batch Results'!$G$67)","v":"Span Length (inches)"}]
[515,{"$f":"IF('Trial Batch Results'!$H$76=\"\",\"\",'Trial Batch Results'!$H$76)","v":""},{"$f":"IF('Trial Batch Results'!$C$6=\"\",\"\",'Trial Batch Results'!$C$6)","v":"Trial Batch Results"},{"$f":"IF('Trial Batch Results'!$C$65=\"\",\"\",'Trial Batch Results'!$C$65)","v":"FLEXURAL STRENGTH"},{"$f":"IF('Trial Batch Results'!$H$67=\"\",\"\",'Trial Batch Results'!$H$67)","v":"Max Recording"}]
[516,{"$f":"IF('Trial Batch Results'!$I$76=\"\",\"\",'Trial Batch Results'!$I$76)","v":""},{"$f":"IF('Trial Batch Results'!$C$6=\"\",\"\",'Trial Batch Results'!$C$6)","v":"Trial Batch Results"},{"$f":"IF('Trial Batch Results'!$C$65=\"\",\"\",'Trial Batch Results'!$C$65)","v":"FLEXURAL STRENGTH"},{"$f":"IF('Trial Batch Results'!$I$67=\"\",\"\",'Trial Batch Results'!$I$67)","v":"*Failure Location (inches)"}]
[517,{"$f":"IF('Trial Batch Results'!$J$76=\"\",\"\",'Trial Batch Results'!$J$76)","v":""},{"$f":"IF('Trial Batch Results'!$C$6=\"\",\"\",'Trial Batch Results'!$C$6)","v":"Trial Batch Results"},{"$f":"IF('Trial Batch Results'!$C$65=\"\",\"\",'Trial Batch Results'!$C$65)","v":"FLEXURAL STRENGTH"},{"$f":"IF('Trial Batch Results'!$J$67=\"\",\"\",'Trial Batch Results'!$J$67)","v":"Modulus of Rupture (psi)"}]
[518,{"$f":"IF('Trial Batch Results'!$C$80=\"\",\"\",'Trial Batch Results'!$C$80)","v":""},{"$f":"IF('Trial Batch Results'!$C$6=\"\",\"\",'Trial Batch Results'!$C$6)","v":"Trial Batch Results"},{"$f":"IF('Trial Batch Results'!$C$79=\"\",\"\",'Trial Batch Results'!$C$79)","v":"Trial Batch Remarks:"}]
[519,{"$f":"IF('Mix Proportions via ACI 211'!$I$22=\"\",\"\",'Mix Proportions via ACI 211'!$I$22)","v":""},{"$f":"IF('Mix Proportions via ACI 211'!$C$6=\"\",\"\",'Mix Proportions via ACI 211'!$C$6)","v":"Mix Proportions based on ACI 211.1-91®"},{"$f":"IF('Mix Proportions via ACI 211'!$C$21=\"\",\"\",'Mix Proportions via ACI 211'!$C$21)","v":"CONSTRUCTION DETAILS"},{"$f":"IF('Mix Proportions via ACI 211'!$C$22=\"\",\"\",'Mix Proportions via ACI 211'!$C$22)","v":"Minimum dim. between formed (or slip-formed) faces, (inches):"}]
[520,{"$f":"IF('Mix Proportions via ACI 211'!$I$23=\"\",\"\",'Mix Proportions via ACI 211'!$I$23)","v":""},{"$f":"IF('Mix Proportions via ACI 211'!$C$6=\"\",\"\",'Mix Proportions via ACI 211'!$C$6)","v":"Mix Proportions based on ACI 211.1-91®"},{"$f":"IF('Mix Proportions via ACI 211'!$C$21=\"\",\"\",'Mix Proportions via ACI 211'!$C$21)","v":"CONSTRUCTION DETAILS"},{"$f":"IF('Mix Proportions via ACI 211'!$C$23=\"\",\"\",'Mix Proportions via ACI 211'!$C$23)","v":"Minimum pavement/slab/overlay thickness, (inches):"}]
[521,{"$f":"IF('Mix Proportions via ACI 211'!$I$24=\"\",\"\",'Mix Proportions via ACI 211'!$I$24)","v":""},{"$f":"IF('Mix Proportions via ACI 211'!$C$6=\"\",\"\",'Mix Proportions via ACI 211'!$C$6)","v":"Mix Proportions based on ACI 211.1-91®"},{"$f":"IF('Mix Proportions via ACI 211'!$C$21=\"\",\"\",'Mix Proportions via ACI 211'!$C$21)","v":"CONSTRUCTION DETAILS"},{"$f":"IF('Mix Proportions via ACI 211'!$C$24=\"\",\"\",'Mix Proportions via ACI 211'!$C$24)","v":"Minimum clear spacing between reinforcing bars, (inches):"}]
[522,{"$f":"IF('Mix Proportions via ACI 211'!$I$27=\"\",\"\",'Mix Proportions via ACI 211'!$I$27)","v":""},{"$f":"IF('Mix Proportions via ACI 211'!$C$6=\"\",\"\",'Mix Proportions via ACI 211'!$C$6)","v":"Mix Proportions based on ACI 211.1-91®"},{"$f":"IF('Mix Proportions via ACI 211'!$C$26=\"\",\"\",'Mix Proportions via ACI 211'!$C$26)","v":"SELECTING NOMINAL MAXIMUM AGGREGATE SIZE"},{"$f":"IF('Mix Proportions via ACI 211'!$C$27=\"\",\"\",'Mix Proportions via ACI 211'!$C$27)","v":"1/5 mimimum dimension between formed faces, (inches):"}]
[523,{"$f":"IF('Mix Proportions via ACI 211'!$I$28=\"\",\"\",'Mix Proportions via ACI 211'!$I$28)","v":""},{"$f":"IF('Mix Proportions via ACI 211'!$C$6=\"\",\"\",'Mix Proportions via ACI 211'!$C$6)","v":"Mix Proportions based on ACI 211.1-91®"},{"$f":"IF('Mix Proportions via ACI 211'!$C$26=\"\",\"\",'Mix Proportions via ACI 211'!$C$26)","v":"SELECTING NOMINAL MAXIMUM AGGREGATE SIZE"},{"$f":"IF('Mix Proportions via ACI 211'!$C$28=\"\",\"\",'Mix Proportions via ACI 211'!$C$28)","v":"1/3 minimum slab depth, (inches):"}]
[524,{"$f":"IF('Mix Proportions via ACI 211'!$I$29=\"\",\"\",'Mix Proportions via ACI 211'!$I$29)","v":""},{"$f":"IF('Mix Proportions via ACI 211'!$C$6=\"\",\"\",'Mix Proportions via ACI 211'!$C$6)","v":"Mix Proportions based on ACI 211.1-91®"},{"$f":"IF('Mix Proportions via ACI 211'!$C$26=\"\",\"\",'Mix Proportions via ACI 211'!$C$26)","v":"SELECTING NOMINAL MAXIMUM AGGREGATE SIZE"},{"$f":"IF('Mix Proportions via ACI 211'!$C$29=\"\",\"\",'Mix Proportions via ACI 211'!$C$29)","v":"3/4 minimum clear opening between reinforcing bars, (inches):"}]
[525,{"$f":"IF('Mix Proportions via ACI 211'!$I$30=\"\",\"\",'Mix Proportions via ACI 211'!$I$30)","v":""},{"$f":"IF('Mix Proportions via ACI 211'!$C$6=\"\",\"\",'Mix Proportions via ACI 211'!$C$6)","v":"Mix Proportions based on ACI 211.1-91®"},{"$f":"IF('Mix Proportions via ACI 211'!$C$26=\"\",\"\",'Mix Proportions via ACI 211'!$C$26)","v":"SELECTING NOMINAL MAXIMUM AGGREGATE SIZE"},{"$f":"IF('Mix Proportions via ACI 211'!$C$30=\"\",\"\",'Mix Proportions via ACI 211'!$C$30)","v":"Specified nominal maximum aggregate size based on class of concrete, (inches):"}]
[526,{"$f":"IF('Mix Proportions via ACI 211'!$I$31=\"\",\"\",'Mix Proportions via ACI 211'!$I$31)","v":""},{"$f":"IF('Mix Proportions via ACI 211'!$C$6=\"\",\"\",'Mix Proportions via ACI 211'!$C$6)","v":"Mix Proportions based on ACI 211.1-91®"},{"$f":"IF('Mix Proportions via ACI 211'!$C$26=\"\",\"\",'Mix Proportions via ACI 211'!$C$26)","v":"SELECTING NOMINAL MAXIMUM AGGREGATE SIZE"},{"$f":"IF('Mix Proportions via ACI 211'!$C$31=\"\",\"\",'Mix Proportions via ACI 211'!$C$31)","v":"Minimum of all values (preceding 4 rows), (inches):"}]
[527,{"$f":"IF('Mix Proportions via ACI 211'!$I$32=\"\",\"\",'Mix Proportions via ACI 211'!$I$32)","v":""},{"$f":"IF('Mix Proportions via ACI 211'!$C$6=\"\",\"\",'Mix Proportions via ACI 211'!$C$6)","v":"Mix Proportions based on ACI 211.1-91®"},{"$f":"IF('Mix Proportions via ACI 211'!$C$26=\"\",\"\",'Mix Proportions via ACI 211'!$C$26)","v":"SELECTING NOMINAL MAXIMUM AGGREGATE SIZE"},{"$f":"IF('Mix Proportions via ACI 211'!$C$32=\"\",\"\",'Mix Proportions via ACI 211'!$C$32)","v":"Selected Nominal Maximum Aggregate Size from Mix Design, (inches):"}]
[528,{"$f":"IF('Mix Proportions via ACI 211'!$I$33=\"\",\"\",'Mix Proportions via ACI 211'!$I$33)","v":""},{"$f":"IF('Mix Proportions via ACI 211'!$C$6=\"\",\"\",'Mix Proportions via ACI 211'!$C$6)","v":"Mix Proportions based on ACI 211.1-91®"},{"$f":"IF('Mix Proportions via ACI 211'!$C$26=\"\",\"\",'Mix Proportions via ACI 211'!$C$26)","v":"SELECTING NOMINAL MAXIMUM AGGREGATE SIZE"},{"$f":"IF('Mix Proportions via ACI 211'!$C$33=\"\",\"\",'Mix Proportions via ACI 211'!$C$33)","v":"Select Nominal Maximum Aggregate Size, (inches):"}]
[529,{"$f":"IF('Mix Proportions via ACI 211'!$I$37=\"\",\"\",'Mix Proportions via ACI 211'!$I$37)","v":""},{"$f":"IF('Mix Proportions via ACI 211'!$C$6=\"\",\"\",'Mix Proportions via ACI 211'!$C$6)","v":"Mix Proportions based on ACI 211.1-91®"},{"$f":"IF('Mix Proportions via ACI 211'!$C$35=\"\",\"\",'Mix Proportions via ACI 211'!$C$35)","v":"WATER ADJUSTMENT"},{"$f":"IF('Mix Proportions via ACI 211'!$I$36=\"\",\"\",'Mix Proportions via ACI 211'!$I$36)","v":"Select Adjustment %"},{"$f":"IF('Mix Proportions via ACI 211'!$C$37=\"\",\"\",'Mix Proportions via ACI 211'!$C$37)","v":"Aggregate shape & texture"}]
[530,{"$f":"IF('Mix Proportions via ACI 211'!$I$38=\"\",\"\",'Mix Proportions via ACI 211'!$I$38)","v":""},{"$f":"IF('Mix Proportions via ACI 211'!$C$6=\"\",\"\",'Mix Proportions via ACI 211'!$C$6)","v":"Mix Proportions based on ACI 211.1-91®"},{"$f":"IF('Mix Proportions via ACI 211'!$C$35=\"\",\"\",'Mix Proportions via ACI 211'!$C$35)","v":"WATER ADJUSTMENT"},{"$f":"IF('Mix Proportions via ACI 211'!$I$36=\"\",\"\",'Mix Proportions via ACI 211'!$I$36)","v":"Select Adjustment %"},{"$f":"IF('Mix Proportions via ACI 211'!$C$38=\"\",\"\",'Mix Proportions via ACI 211'!$C$38)","v":"Optimized aggregate gradation"}]
[531,{"$f":"IF('Mix Proportions via ACI 211'!$I$39=\"\",\"\",'Mix Proportions via ACI 211'!$I$39)","v":""},{"$f":"IF('Mix Proportions via ACI 211'!$C$6=\"\",\"\",'Mix Proportions via ACI 211'!$C$6)","v":"Mix Proportions based on ACI 211.1-91®"},{"$f":"IF('Mix Proportions via ACI 211'!$C$35=\"\",\"\",'Mix Proportions via ACI 211'!$C$35)","v":"WATER ADJUSTMENT"},{"$f":"IF('Mix Proportions via ACI 211'!$I$36=\"\",\"\",'Mix Proportions via ACI 211'!$I$36)","v":"Select Adjustment %"},{"$f":"IF('Mix Proportions via ACI 211'!$C$39=\"\",\"\",'Mix Proportions via ACI 211'!$C$39)","v":"Air entraining admixture"}]
[532,{"$f":"IF('Mix Proportions via ACI 211'!$I$40=\"\",\"\",'Mix Proportions via ACI 211'!$I$40)","v":""},{"$f":"IF('Mix Proportions via ACI 211'!$C$6=\"\",\"\",'Mix Proportions via ACI 211'!$C$6)","v":"Mix Proportions based on ACI 211.1-91®"},{"$f":"IF('Mix Proportions via ACI 211'!$C$35=\"\",\"\",'Mix Proportions via ACI 211'!$C$35)","v":"WATER ADJUSTMENT"},{"$f":"IF('Mix Proportions via ACI 211'!$I$36=\"\",\"\",'Mix Proportions via ACI 211'!$I$36)","v":"Select Adjustment %"},{"$f":"IF('Mix Proportions via ACI 211'!$C$40=\"\",\"\",'Mix Proportions via ACI 211'!$C$40)","v":"Normal range water reducing admixture"}]
[533,{"$f":"IF('Mix Proportions via ACI 211'!$I$41=\"\",\"\",'Mix Proportions via ACI 211'!$I$41)","v":""},{"$f":"IF('Mix Proportions via ACI 211'!$C$6=\"\",\"\",'Mix Proportions via ACI 211'!$C$6)","v":"Mix Proportions based on ACI 211.1-91®"},{"$f":"IF('Mix Proportions via ACI 211'!$C$35=\"\",\"\",'Mix Proportions via ACI 211'!$C$35)","v":"WATER ADJUSTMENT"},{"$f":"IF('Mix Proportions via ACI 211'!$I$36=\"\",\"\",'Mix Proportions via ACI 211'!$I$36)","v":"Select Adjustment %"},{"$f":"IF('Mix Proportions via ACI 211'!$C$41=\"\",\"\",'Mix Proportions via ACI 211'!$C$41)","v":"High-range water reducer (HRWR)"}]
[534,{"$f":"IF('Mix Proportions via ACI 211'!$I$42=\"\",\"\",'Mix Proportions via ACI 211'!$I$42)","v":""},{"$f":"IF('Mix Proportions via ACI 211'!$C$6=\"\",\"\",'Mix Proportions via ACI 211'!$C$6)","v":"Mix Proportions based on ACI 211.1-91®"},{"$f":"IF('Mix Proportions via ACI 211'!$C$35=\"\",\"\",'Mix Proportions via ACI 211'!$C$35)","v":"WATER ADJUSTMENT"},{"$f":"IF('Mix Proportions via ACI 211'!$I$36=\"\",\"\",'Mix Proportions via ACI 211'!$I$36)","v":"Select Adjustment %"},{"$f":"IF('Mix Proportions via ACI 211'!$C$42=\"\",\"\",'Mix Proportions via ACI 211'!$C$42)","v":"Mineral admixtures, fly ash to silica fume"}]
[535,{"$f":"IF('Mix Proportions via ACI 211'!$I$43=\"\",\"\",'Mix Proportions via ACI 211'!$I$43)","v":""},{"$f":"IF('Mix Proportions via ACI 211'!$C$6=\"\",\"\",'Mix Proportions via ACI 211'!$C$6)","v":"Mix Proportions based on ACI 211.1-91®"},{"$f":"IF('Mix Proportions via ACI 211'!$C$35=\"\",\"\",'Mix Proportions via ACI 211'!$C$35)","v":"WATER ADJUSTMENT"},{"$f":"IF('Mix Proportions via ACI 211'!$I$36=\"\",\"\",'Mix Proportions via ACI 211'!$I$36)","v":"Select Adjustment %"},{"$f":"IF('Mix Proportions via ACI 211'!$C$43=\"\",\"\",'Mix Proportions via ACI 211'!$C$43)","v":"Other factors: w/c, cement fineness, temperature"}]
[536,{"$f":"IF('Mix Proportions via ACI 211'!$I$44=\"\",\"\",'Mix Proportions via ACI 211'!$I$44)","v":""},{"$f":"IF('Mix Proportions via ACI 211'!$C$6=\"\",\"\",'Mix Proportions via ACI 211'!$C$6)","v":"Mix Proportions based on ACI 211.1-91®"},{"$f":"IF('Mix Proportions via ACI 211'!$C$35=\"\",\"\",'Mix Proportions via ACI 211'!$C$35)","v":"WATER ADJUSTMENT"},{"$f":"IF('Mix Proportions via ACI 211'!$I$36=\"\",\"\",'Mix Proportions via ACI 211'!$I$36)","v":"Select Adjustment %"},{"$f":"IF('Mix Proportions via ACI 211'!$C$44=\"\",\"\",'Mix Proportions via ACI 211'!$C$44)","v":"Cumulative adjustment percentage:, %"}]
[537,{"$f":"IF('Mix Proportions via ACI 211'!$I$45=\"\",\"\",'Mix Proportions via ACI 211'!$I$45)","v":1},{"$f":"IF('Mix Proportions via ACI 211'!$C$6=\"\",\"\",'Mix Proportions via ACI 211'!$C$6)","v":"Mix Proportions based on ACI 211.1-91®"},{"$f":"IF('Mix Proportions via ACI 211'!$C$35=\"\",\"\",'Mix Proportions via ACI 211'!$C$35)","v":"WATER ADJUSTMENT"},{"$f":"IF('Mix Proportions via ACI 211'!$I$36=\"\",\"\",'Mix Proportions via ACI 211'!$I$36)","v":"Select Adjustment %"},{"$f":"IF('Mix Proportions via ACI 211'!$C$45=\"\",\"\",'Mix Proportions via ACI 211'!$C$45)","v":"Water Adjustment Factor:"}]
[538,{"$f":"IF('Mix Proportions via ACI 211'!$I$48=\"\",\"\",'Mix Proportions via ACI 211'!$I$48)","v":""},{"$f":"IF('Mix Proportions via ACI 211'!$C$6=\"\",\"\",'Mix Proportions via ACI 211'!$C$6)","v":"Mix Proportions based on ACI 211.1-91®"},{"$f":"IF('Mix Proportions via ACI 211'!$C$47=\"\",\"\",'Mix Proportions via ACI 211'!$C$47)","v":"SELECTING COARSE AGGREGATE FACTOR"},{"$f":"IF('Mix Proportions via ACI 211'!$C$48=\"\",\"\",'Mix Proportions via ACI 211'!$C$48)","v":"Calculated Coarse Aggregate Factor, CAF (based on inputted material properties):"}]
[539,{"$f":"IF('Mix Proportions via ACI 211'!$I$49=\"\",\"\",'Mix Proportions via ACI 211'!$I$49)","v":""},{"$f":"IF('Mix Proportions via ACI 211'!$C$6=\"\",\"\",'Mix Proportions via ACI 211'!$C$6)","v":"Mix Proportions based on ACI 211.1-91®"},{"$f":"IF('Mix Proportions via ACI 211'!$C$47=\"\",\"\",'Mix Proportions via ACI 211'!$C$47)","v":"SELECTING COARSE AGGREGATE FACTOR"},{"$f":"IF('Mix Proportions via ACI 211'!$C$49=\"\",\"\",'Mix Proportions via ACI 211'!$C$49)","v":"Specified Coarse Aggregate Factor, CAF:"}]
[540,{"$f":"IF('Mix Proportions via ACI 211'!$E$53=\"\",\"\",'Mix Proportions via ACI 211'!$E$53)","v":" "},{"$f":"IF('Mix Proportions via ACI 211'!$C$6=\"\",\"\",'Mix Proportions via ACI 211'!$C$6)","v":"Mix Proportions based on ACI 211.1-91®"},{"$f":"IF('Mix Proportions via ACI 211'!$C$53=\"\",\"\",'Mix Proportions via ACI 211'!$C$53)","v":"Basic Water Demand, lb/CY:"}]
[541,{"$f":"IF('Mix Proportions via ACI 211'!$J$54=\"\",\"\",'Mix Proportions via ACI 211'!$J$54)","v":""},{"$f":"IF('Mix Proportions via ACI 211'!$C$6=\"\",\"\",'Mix Proportions via ACI 211'!$C$6)","v":"Mix Proportions based on ACI 211.1-91®"},{"$f":"IF('Mix Proportions via ACI 211'!$F$54=\"\",\"\",'Mix Proportions via ACI 211'!$F$54)","v":"Use calculated weights for tolerance sheets?"}]
[542,{"$f":"IF('Mix Proportions via ACI 211'!$E$57=\"\",\"\",'Mix Proportions via ACI 211'!$E$57)","v":""},{"$f":"IF('Mix Proportions via ACI 211'!$C$6=\"\",\"\",'Mix Proportions via ACI 211'!$C$6)","v":"Mix Proportions based on ACI 211.1-91®"},{"$f":"IF('Mix Proportions via ACI 211'!$B$57=\"\",\"\",'Mix Proportions via ACI 211'!$B$57)","v":"Paste"},{"$f":"IF('Mix Proportions via ACI 211'!$C$57=\"\",\"\",'Mix Proportions via ACI 211'!$C$57)","v":"Specified Water"},{"$f":"IF('Mix Proportions via ACI 211'!$E$56=\"\",\"\",'Mix Proportions via ACI 211'!$E$56)","v":"lbs/CY"}]
[543,{"$f":"IF('Mix Proportions via ACI 211'!$H$57=\"\",\"\",'Mix Proportions via ACI 211'!$H$57)","v":1},{"$f":"IF('Mix Proportions via ACI 211'!$C$6=\"\",\"\",'Mix Proportions via ACI 211'!$C$6)","v":"Mix Proportions based on ACI 211.1-91®"},{"$f":"IF('Mix Proportions via ACI 211'!$B$57=\"\",\"\",'Mix Proportions via ACI 211'!$B$57)","v":"Paste"},{"$f":"IF('Mix Proportions via ACI 211'!$C$57=\"\",\"\",'Mix Proportions via ACI 211'!$C$57)","v":"Specified Water"},{"$f":"IF('Mix Proportions via ACI 211'!$H$56=\"\",\"\",'Mix Proportions via ACI 211'!$H$56)","v":"Specific Gravity"}]
[544,{"$f":"IF('Mix Proportions via ACI 211'!$I$57=\"\",\"\",'Mix Proportions via ACI 211'!$I$57)","v":62.4},{"$f":"IF('Mix Proportions via ACI 211'!$C$6=\"\",\"\",'Mix Proportions via ACI 211'!$C$6)","v":"Mix Proportions based on ACI 211.1-91®"},{"$f":"IF('Mix Proportions via ACI 211'!$B$57=\"\",\"\",'Mix Proportions via ACI 211'!$B$57)","v":"Paste"},{"$f":"IF('Mix Proportions via ACI 211'!$C$57=\"\",\"\",'Mix Proportions via ACI 211'!$C$57)","v":"Specified Water"},{"$f":"IF('Mix Proportions via ACI 211'!$I$56=\"\",\"\",'Mix Proportions via ACI 211'!$I$56)","v":"Density, lbs/ft3"}]
[545,{"$f":"IF('Mix Proportions via ACI 211'!$J$57=\"\",\"\",'Mix Proportions via ACI 211'!$J$57)","v":""},{"$f":"IF('Mix Proportions via ACI 211'!$C$6=\"\",\"\",'Mix Proportions via ACI 211'!$C$6)","v":"Mix Proportions based on ACI 211.1-91®"},{"$f":"IF('Mix Proportions via ACI 211'!$B$57=\"\",\"\",'Mix Proportions via ACI 211'!$B$57)","v":"Paste"},{"$f":"IF('Mix Proportions via ACI 211'!$C$57=\"\",\"\",'Mix Proportions via ACI 211'!$C$57)","v":"Specified Water"},{"$f":"IF('Mix Proportions via ACI 211'!$K$56=\"\",\"\",'Mix Proportions via ACI 211'!$K$56)","v":"Absolute Vol. (ft3)"}]
[546,{"$f":"IF('Mix Proportions via ACI 211'!$L$57=\"\",\"\",'Mix Proportions via ACI 211'!$L$57)","v":0},{"$f":"IF('Mix Proportions via ACI 211'!$C$6=\"\",\"\",'Mix Proportions via ACI 211'!$C$6)","v":"Mix Proportions based on ACI 211.1-91®"},{"$f":"IF('Mix Proportions via ACI 211'!$B$57=\"\",\"\",'Mix Proportions via ACI 211'!$B$57)","v":"Paste"},{"$f":"IF('Mix Proportions via ACI 211'!$C$57=\"\",\"\",'Mix Proportions via ACI 211'!$C$57)","v":"Specified Water"},{"$f":"IF('Mix Proportions via ACI 211'!$L$56=\"\",\"\",'Mix Proportions via ACI 211'!$L$56)","v":"Weight (lbs/CY)"}]
[547,{"$f":"IF('Mix Proportions via ACI 211'!$E$58=\"\",\"\",'Mix Proportions via ACI 211'!$E$58)","v":""},{"$f":"IF('Mix Proportions via ACI 211'!$C$6=\"\",\"\",'Mix Proportions via ACI 211'!$C$6)","v":"Mix Proportions based on ACI 211.1-91®"},{"$f":"IF('Mix Proportions via ACI 211'!$B$57=\"\",\"\",'Mix Proportions via ACI 211'!$B$57)","v":"Paste"},{"$f":"IF('Mix Proportions via ACI 211'!$C$58=\"\",\"\",'Mix Proportions via ACI 211'!$C$58)","v":"Total Cementitious"},{"$f":"IF('Mix Proportions via ACI 211'!$E$56=\"\",\"\",'Mix Proportions via ACI 211'!$E$56)","v":"lbs/CY"}]
[548,{"$f":"IF('Mix Proportions via ACI 211'!$F$59=\"\",\"\",'Mix Proportions via ACI 211'!$F$59)","v":""},{"$f":"IF('Mix Proportions via ACI 211'!$C$6=\"\",\"\",'Mix Proportions via ACI 211'!$C$6)","v":"Mix Proportions based on ACI 211.1-91®"},{"$f":"IF('Mix Proportions via ACI 211'!$B$57=\"\",\"\",'Mix Proportions via ACI 211'!$B$57)","v":"Paste"},{"$f":"IF('Mix Proportions via ACI 211'!$C$59=\"\",\"\",'Mix Proportions via ACI 211'!$C$59)","v":"Portland Cement"},{"$f":"IF('Mix Proportions via ACI 211'!$F$56=\"\",\"\",'Mix Proportions via ACI 211'!$F$56)","v":"% of Total Cement"}]
[549,{"$f":"IF('Mix Proportions via ACI 211'!$H$59=\"\",\"\",'Mix Proportions via ACI 211'!$H$59)","v":""},{"$f":"IF('Mix Proportions via ACI 211'!$C$6=\"\",\"\",'Mix Proportions via ACI 211'!$C$6)","v":"Mix Proportions based on ACI 211.1-91®"},{"$f":"IF('Mix Proportions via ACI 211'!$B$57=\"\",\"\",'Mix Proportions via ACI 211'!$B$57)","v":"Paste"},{"$f":"IF('Mix Proportions via ACI 211'!$C$59=\"\",\"\",'Mix Proportions via ACI 211'!$C$59)","v":"Portland Cement"},{"$f":"IF('Mix Proportions via ACI 211'!$H$56=\"\",\"\",'Mix Proportions via ACI 211'!$H$56)","v":"Specific Gravity"}]
[550,{"$f":"IF('Mix Proportions via ACI 211'!$I$59=\"\",\"\",'Mix Proportions via ACI 211'!$I$59)","v":""},{"$f":"IF('Mix Proportions via ACI 211'!$C$6=\"\",\"\",'Mix Proportions via ACI 211'!$C$6)","v":"Mix Proportions based on ACI 211.1-91®"},{"$f":"IF('Mix Proportions via ACI 211'!$B$57=\"\",\"\",'Mix Proportions via ACI 211'!$B$57)","v":"Paste"},{"$f":"IF('Mix Proportions via ACI 211'!$C$59=\"\",\"\",'Mix Proportions via ACI 211'!$C$59)","v":"Portland Cement"},{"$f":"IF('Mix Proportions via ACI 211'!$I$56=\"\",\"\",'Mix Proportions via ACI 211'!$I$56)","v":"Density, lbs/ft3"}]
[551,{"$f":"IF('Mix Proportions via ACI 211'!$J$59=\"\",\"\",'Mix Proportions via ACI 211'!$J$59)","v":""},{"$f":"IF('Mix Proportions via ACI 211'!$C$6=\"\",\"\",'Mix Proportions via ACI 211'!$C$6)","v":"Mix Proportions based on ACI 211.1-91®"},{"$f":"IF('Mix Proportions via ACI 211'!$B$57=\"\",\"\",'Mix Proportions via ACI 211'!$B$57)","v":"Paste"},{"$f":"IF('Mix Proportions via ACI 211'!$C$59=\"\",\"\",'Mix Proportions via ACI 211'!$C$59)","v":"Portland Cement"},{"$f":"IF('Mix Proportions via ACI 211'!$J$56=\"\",\"\",'Mix Proportions via ACI 211'!$J$56)","v":"Approx. Sacks"}]
[552,{"$f":"IF('Mix Proportions via ACI 211'!$K$59=\"\",\"\",'Mix Proportions via ACI 211'!$K$59)","v":""},{"$f":"IF('Mix Proportions via ACI 211'!$C$6=\"\",\"\",'Mix Proportions via ACI 211'!$C$6)","v":"Mix Proportions based on ACI 211.1-91®"},{"$f":"IF('Mix Proportions via ACI 211'!$B$57=\"\",\"\",'Mix Proportions via ACI 211'!$B$57)","v":"Paste"},{"$f":"IF('Mix Proportions via ACI 211'!$C$59=\"\",\"\",'Mix Proportions via ACI 211'!$C$59)","v":"Portland Cement"},{"$f":"IF('Mix Proportions via ACI 211'!$K$56=\"\",\"\",'Mix Proportions via ACI 211'!$K$56)","v":"Absolute Vol. (ft3)"}]
[553,{"$f":"IF('Mix Proportions via ACI 211'!$L$59=\"\",\"\",'Mix Proportions via ACI 211'!$L$59)","v":""},{"$f":"IF('Mix Proportions via ACI 211'!$C$6=\"\",\"\",'Mix Proportions via ACI 211'!$C$6)","v":"Mix Proportions based on ACI 211.1-91®"},{"$f":"IF('Mix Proportions via ACI 211'!$B$57=\"\",\"\",'Mix Proportions via ACI 211'!$B$57)","v":"Paste"},{"$f":"IF('Mix Proportions via ACI 211'!$C$59=\"\",\"\",'Mix Proportions via ACI 211'!$C$59)","v":"Portland Cement"},{"$f":"IF('Mix Proportions via ACI 211'!$L$56=\"\",\"\",'Mix Proportions via ACI 211'!$L$56)","v":"Weight (lbs/CY)"}]
[554,{"$f":"IF('Mix Proportions via ACI 211'!$F$60=\"\",\"\",'Mix Proportions via ACI 211'!$F$60)","v":""},{"$f":"IF('Mix Proportions via ACI 211'!$C$6=\"\",\"\",'Mix Proportions via ACI 211'!$C$6)","v":"Mix Proportions based on ACI 211.1-91®"},{"$f":"IF('Mix Proportions via ACI 211'!$B$57=\"\",\"\",'Mix Proportions via ACI 211'!$B$57)","v":"Paste"},{"$f":"IF('Mix Proportions via ACI 211'!$C$60=\"\",\"\",'Mix Proportions via ACI 211'!$C$60)","v":"Flyash"},{"$f":"IF('Mix Proportions via ACI 211'!$F$56=\"\",\"\",'Mix Proportions via ACI 211'!$F$56)","v":"% of Total Cement"}]
[555,{"$f":"IF('Mix Proportions via ACI 211'!$H$60=\"\",\"\",'Mix Proportions via ACI 211'!$H$60)","v":""},{"$f":"IF('Mix Proportions via ACI 211'!$C$6=\"\",\"\",'Mix Proportions via ACI 211'!$C$6)","v":"Mix Proportions based on ACI 211.1-91®"},{"$f":"IF('Mix Proportions via ACI 211'!$B$57=\"\",\"\",'Mix Proportions via ACI 211'!$B$57)","v":"Paste"},{"$f":"IF('Mix Proportions via ACI 211'!$C$60=\"\",\"\",'Mix Proportions via ACI 211'!$C$60)","v":"Flyash"},{"$f":"IF('Mix Proportions via ACI 211'!$H$56=\"\",\"\",'Mix Proportions via ACI 211'!$H$56)","v":"Specific Gravity"}]
[556,{"$f":"IF('Mix Proportions via ACI 211'!$I$60=\"\",\"\",'Mix Proportions via ACI 211'!$I$60)","v":""},{"$f":"IF('Mix Proportions via ACI 211'!$C$6=\"\",\"\",'Mix Proportions via ACI 211'!$C$6)","v":"Mix Proportions based on ACI 211.1-91®"},{"$f":"IF('Mix Proportions via ACI 211'!$B$57=\"\",\"\",'Mix Proportions via ACI 211'!$B$57)","v":"Paste"},{"$f":"IF('Mix Proportions via ACI 211'!$C$60=\"\",\"\",'Mix Proportions via ACI 211'!$C$60)","v":"Flyash"},{"$f":"IF('Mix Proportions via ACI 211'!$I$56=\"\",\"\",'Mix Proportions via ACI 211'!$I$56)","v":"Density, lbs/ft3"}]
[557,{"$f":"IF('Mix Proportions via ACI 211'!$J$60=\"\",\"\",'Mix Proportions via ACI 211'!$J$60)","v":""},{"$f":"IF('Mix Proportions via ACI 211'!$C$6=\"\",\"\",'Mix Proportions via ACI 211'!$C$6)","v":"Mix Proportions based on ACI 211.1-91®"},{"$f":"IF('Mix Proportions via ACI 211'!$B$57=\"\",\"\",'Mix Proportions via ACI 211'!$B$57)","v":"Paste"},{"$f":"IF('Mix Proportions via ACI 211'!$C$60=\"\",\"\",'Mix Proportions via ACI 211'!$C$60)","v":"Flyash"},{"$f":"IF('Mix Proportions via ACI 211'!$J$56=\"\",\"\",'Mix Proportions via ACI 211'!$J$56)","v":"Approx. Sacks"}]
[558,{"$f":"IF('Mix Proportions via ACI 211'!$K$60=\"\",\"\",'Mix Proportions via ACI 211'!$K$60)","v":""},{"$f":"IF('Mix Proportions via ACI 211'!$C$6=\"\",\"\",'Mix Proportions via ACI 211'!$C$6)","v":"Mix Proportions based on ACI 211.1-91®"},{"$f":"IF('Mix Proportions via ACI 211'!$B$57=\"\",\"\",'Mix Proportions via ACI 211'!$B$57)","v":"Paste"},{"$f":"IF('Mix Proportions via ACI 211'!$C$60=\"\",\"\",'Mix Proportions via ACI 211'!$C$60)","v":"Flyash"},{"$f":"IF('Mix Proportions via ACI 211'!$K$56=\"\",\"\",'Mix Proportions via ACI 211'!$K$56)","v":"Absolute Vol. (ft3)"}]
[559,{"$f":"IF('Mix Proportions via ACI 211'!$L$60=\"\",\"\",'Mix Proportions via ACI 211'!$L$60)","v":""},{"$f":"IF('Mix Proportions via ACI 211'!$C$6=\"\",\"\",'Mix Proportions via ACI 211'!$C$6)","v":"Mix Proportions based on ACI 211.1-91®"},{"$f":"IF('Mix Proportions via ACI 211'!$B$57=\"\",\"\",'Mix Proportions via ACI 211'!$B$57)","v":"Paste"},{"$f":"IF('Mix Proportions via ACI 211'!$C$60=\"\",\"\",'Mix Proportions via ACI 211'!$C$60)","v":"Flyash"},{"$f":"IF('Mix Proportions via ACI 211'!$L$56=\"\",\"\",'Mix Proportions via ACI 211'!$L$56)","v":"Weight (lbs/CY)"}]
[560,{"$f":"IF('Mix Proportions via ACI 211'!$F$61=\"\",\"\",'Mix Proportions via ACI 211'!$F$61)","v":""},{"$f":"IF('Mix Proportions via ACI 211'!$C$6=\"\",\"\",'Mix Proportions via ACI 211'!$C$6)","v":"Mix Proportions based on ACI 211.1-91®"},{"$f":"IF('Mix Proportions via ACI 211'!$B$57=\"\",\"\",'Mix Proportions via ACI 211'!$B$57)","v":"Paste"},{"$f":"IF('Mix Proportions via ACI 211'!$C$61=\"\",\"\",'Mix Proportions via ACI 211'!$C$61)","v":"GGBF Slag"},{"$f":"IF('Mix Proportions via ACI 211'!$F$56=\"\",\"\",'Mix Proportions via ACI 211'!$F$56)","v":"% of Total Cement"}]
[561,{"$f":"IF('Mix Proportions via ACI 211'!$H$61=\"\",\"\",'Mix Proportions via ACI 211'!$H$61)","v":""},{"$f":"IF('Mix Proportions via ACI 211'!$C$6=\"\",\"\",'Mix Proportions via ACI 211'!$C$6)","v":"Mix Proportions based on ACI 211.1-91®"},{"$f":"IF('Mix Proportions via ACI 211'!$B$57=\"\",\"\",'Mix Proportions via ACI 211'!$B$57)","v":"Paste"},{"$f":"IF('Mix Proportions via ACI 211'!$C$61=\"\",\"\",'Mix Proportions via ACI 211'!$C$61)","v":"GGBF Slag"},{"$f":"IF('Mix Proportions via ACI 211'!$H$56=\"\",\"\",'Mix Proportions via ACI 211'!$H$56)","v":"Specific Gravity"}]
[562,{"$f":"IF('Mix Proportions via ACI 211'!$I$61=\"\",\"\",'Mix Proportions via ACI 211'!$I$61)","v":""},{"$f":"IF('Mix Proportions via ACI 211'!$C$6=\"\",\"\",'Mix Proportions via ACI 211'!$C$6)","v":"Mix Proportions based on ACI 211.1-91®"},{"$f":"IF('Mix Proportions via ACI 211'!$B$57=\"\",\"\",'Mix Proportions via ACI 211'!$B$57)","v":"Paste"},{"$f":"IF('Mix Proportions via ACI 211'!$C$61=\"\",\"\",'Mix Proportions via ACI 211'!$C$61)","v":"GGBF Slag"},{"$f":"IF('Mix Proportions via ACI 211'!$I$56=\"\",\"\",'Mix Proportions via ACI 211'!$I$56)","v":"Density, lbs/ft3"}]
[563,{"$f":"IF('Mix Proportions via ACI 211'!$K$61=\"\",\"\",'Mix Proportions via ACI 211'!$K$61)","v":""},{"$f":"IF('Mix Proportions via ACI 211'!$C$6=\"\",\"\",'Mix Proportions via ACI 211'!$C$6)","v":"Mix Proportions based on ACI 211.1-91®"},{"$f":"IF('Mix Proportions via ACI 211'!$B$57=\"\",\"\",'Mix Proportions via ACI 211'!$B$57)","v":"Paste"},{"$f":"IF('Mix Proportions via ACI 211'!$C$61=\"\",\"\",'Mix Proportions via ACI 211'!$C$61)","v":"GGBF Slag"},{"$f":"IF('Mix Proportions via ACI 211'!$K$56=\"\",\"\",'Mix Proportions via ACI 211'!$K$56)","v":"Absolute Vol. (ft3)"}]
[564,{"$f":"IF('Mix Proportions via ACI 211'!$L$61=\"\",\"\",'Mix Proportions via ACI 211'!$L$61)","v":""},{"$f":"IF('Mix Proportions via ACI 211'!$C$6=\"\",\"\",'Mix Proportions via ACI 211'!$C$6)","v":"Mix Proportions based on ACI 211.1-91®"},{"$f":"IF('Mix Proportions via ACI 211'!$B$57=\"\",\"\",'Mix Proportions via ACI 211'!$B$57)","v":"Paste"},{"$f":"IF('Mix Proportions via ACI 211'!$C$61=\"\",\"\",'Mix Proportions via ACI 211'!$C$61)","v":"GGBF Slag"},{"$f":"IF('Mix Proportions via ACI 211'!$L$56=\"\",\"\",'Mix Proportions via ACI 211'!$L$56)","v":"Weight (lbs/CY)"}]
[565,{"$f":"IF('Mix Proportions via ACI 211'!$F$62=\"\",\"\",'Mix Proportions via ACI 211'!$F$62)","v":""},{"$f":"IF('Mix Proportions via ACI 211'!$C$6=\"\",\"\",'Mix Proportions via ACI 211'!$C$6)","v":"Mix Proportions based on ACI 211.1-91®"},{"$f":"IF('Mix Proportions via ACI 211'!$B$57=\"\",\"\",'Mix Proportions via ACI 211'!$B$57)","v":"Paste"},{"$f":"IF('Mix Proportions via ACI 211'!$C$62=\"\",\"\",'Mix Proportions via ACI 211'!$C$62)","v":"Silica Fume"},{"$f":"IF('Mix Proportions via ACI 211'!$F$56=\"\",\"\",'Mix Proportions via ACI 211'!$F$56)","v":"% of Total Cement"}]
[566,{"$f":"IF('Mix Proportions via ACI 211'!$H$62=\"\",\"\",'Mix Proportions via ACI 211'!$H$62)","v":""},{"$f":"IF('Mix Proportions via ACI 211'!$C$6=\"\",\"\",'Mix Proportions via ACI 211'!$C$6)","v":"Mix Proportions based on ACI 211.1-91®"},{"$f":"IF('Mix Proportions via ACI 211'!$B$57=\"\",\"\",'Mix Proportions via ACI 211'!$B$57)","v":"Paste"},{"$f":"IF('Mix Proportions via ACI 211'!$C$62=\"\",\"\",'Mix Proportions via ACI 211'!$C$62)","v":"Silica Fume"},{"$f":"IF('Mix Proportions via ACI 211'!$H$56=\"\",\"\",'Mix Proportions via ACI 211'!$H$56)","v":"Specific Gravity"}]
[567,{"$f":"IF('Mix Proportions via ACI 211'!$I$62=\"\",\"\",'Mix Proportions via ACI 211'!$I$62)","v":""},{"$f":"IF('Mix Proportions via ACI 211'!$C$6=\"\",\"\",'Mix Proportions via ACI 211'!$C$6)","v":"Mix Proportions based on ACI 211.1-91®"},{"$f":"IF('Mix Proportions via ACI 211'!$B$57=\"\",\"\",'Mix Proportions via ACI 211'!$B$57)","v":"Paste"},{"$f":"IF('Mix Proportions via ACI 211'!$C$62=\"\",\"\",'Mix Proportions via ACI 211'!$C$62)","v":"Silica Fume"},{"$f":"IF('Mix Proportions via ACI 211'!$I$56=\"\",\"\",'Mix Proportions via ACI 211'!$I$56)","v":"Density, lbs/ft3"}]
[568,{"$f":"IF('Mix Proportions via ACI 211'!$K$62=\"\",\"\",'Mix Proportions via ACI 211'!$K$62)","v":""},{"$f":"IF('Mix Proportions via ACI 211'!$C$6=\"\",\"\",'Mix Proportions via ACI 211'!$C$6)","v":"Mix Proportions based on ACI 211.1-91®"},{"$f":"IF('Mix Proportions via ACI 211'!$B$57=\"\",\"\",'Mix Proportions via ACI 211'!$B$57)","v":"Paste"},{"$f":"IF('Mix Proportions via ACI 211'!$C$62=\"\",\"\",'Mix Proportions via ACI 211'!$C$62)","v":"Silica Fume"},{"$f":"IF('Mix Proportions via ACI 211'!$K$56=\"\",\"\",'Mix Proportions via ACI 211'!$K$56)","v":"Absolute Vol. (ft3)"}]
[569,{"$f":"IF('Mix Proportions via ACI 211'!$L$62=\"\",\"\",'Mix Proportions via ACI 211'!$L$62)","v":""},{"$f":"IF('Mix Proportions via ACI 211'!$C$6=\"\",\"\",'Mix Proportions via ACI 211'!$C$6)","v":"Mix Proportions based on ACI 211.1-91®"},{"$f":"IF('Mix Proportions via ACI 211'!$B$57=\"\",\"\",'Mix Proportions via ACI 211'!$B$57)","v":"Paste"},{"$f":"IF('Mix Proportions via ACI 211'!$C$62=\"\",\"\",'Mix Proportions via ACI 211'!$C$62)","v":"Silica Fume"},{"$f":"IF('Mix Proportions via ACI 211'!$L$56=\"\",\"\",'Mix Proportions via ACI 211'!$L$56)","v":"Weight (lbs/CY)"}]
[570,{"$f":"IF('Mix Proportions via ACI 211'!$F$63=\"\",\"\",'Mix Proportions via ACI 211'!$F$63)","v":""},{"$f":"IF('Mix Proportions via ACI 211'!$C$6=\"\",\"\",'Mix Proportions via ACI 211'!$C$6)","v":"Mix Proportions based on ACI 211.1-91®"},{"$f":"IF('Mix Proportions via ACI 211'!$B$57=\"\",\"\",'Mix Proportions via ACI 211'!$B$57)","v":"Paste"},{"$f":"IF('Mix Proportions via ACI 211'!$C$63=\"\",\"\",'Mix Proportions via ACI 211'!$C$63)","v":"UFFA"},{"$f":"IF('Mix Proportions via ACI 211'!$F$56=\"\",\"\",'Mix Proportions via ACI 211'!$F$56)","v":"% of Total Cement"}]
[571,{"$f":"IF('Mix Proportions via ACI 211'!$H$63=\"\",\"\",'Mix Proportions via ACI 211'!$H$63)","v":""},{"$f":"IF('Mix Proportions via ACI 211'!$C$6=\"\",\"\",'Mix Proportions via ACI 211'!$C$6)","v":"Mix Proportions based on ACI 211.1-91®"},{"$f":"IF('Mix Proportions via ACI 211'!$B$57=\"\",\"\",'Mix Proportions via ACI 211'!$B$57)","v":"Paste"},{"$f":"IF('Mix Proportions via ACI 211'!$C$63=\"\",\"\",'Mix Proportions via ACI 211'!$C$63)","v":"UFFA"},{"$f":"IF('Mix Proportions via ACI 211'!$H$56=\"\",\"\",'Mix Proportions via ACI 211'!$H$56)","v":"Specific Gravity"}]
[572,{"$f":"IF('Mix Proportions via ACI 211'!$I$63=\"\",\"\",'Mix Proportions via ACI 211'!$I$63)","v":""},{"$f":"IF('Mix Proportions via ACI 211'!$C$6=\"\",\"\",'Mix Proportions via ACI 211'!$C$6)","v":"Mix Proportions based on ACI 211.1-91®"},{"$f":"IF('Mix Proportions via ACI 211'!$B$57=\"\",\"\",'Mix Proportions via ACI 211'!$B$57)","v":"Paste"},{"$f":"IF('Mix Proportions via ACI 211'!$C$63=\"\",\"\",'Mix Proportions via ACI 211'!$C$63)","v":"UFFA"},{"$f":"IF('Mix Proportions via ACI 211'!$I$56=\"\",\"\",'Mix Proportions via ACI 211'!$I$56)","v":"Density, lbs/ft3"}]
[573,{"$f":"IF('Mix Proportions via ACI 211'!$K$63=\"\",\"\",'Mix Proportions via ACI 211'!$K$63)","v":""},{"$f":"IF('Mix Proportions via ACI 211'!$C$6=\"\",\"\",'Mix Proportions via ACI 211'!$C$6)","v":"Mix Proportions based on ACI 211.1-91®"},{"$f":"IF('Mix Proportions via ACI 211'!$B$57=\"\",\"\",'Mix Proportions via ACI 211'!$B$57)","v":"Paste"},{"$f":"IF('Mix Proportions via ACI 211'!$C$63=\"\",\"\",'Mix Proportions via ACI 211'!$C$63)","v":"UFFA"},{"$f":"IF('Mix Proportions via ACI 211'!$K$56=\"\",\"\",'Mix Proportions via ACI 211'!$K$56)","v":"Absolute Vol. (ft3)"}]
[574,{"$f":"IF('Mix Proportions via ACI 211'!$L$63=\"\",\"\",'Mix Proportions via ACI 211'!$L$63)","v":""},{"$f":"IF('Mix Proportions via ACI 211'!$C$6=\"\",\"\",'Mix Proportions via ACI 211'!$C$6)","v":"Mix Proportions based on ACI 211.1-91®"},{"$f":"IF('Mix Proportions via ACI 211'!$B$57=\"\",\"\",'Mix Proportions via ACI 211'!$B$57)","v":"Paste"},{"$f":"IF('Mix Proportions via ACI 211'!$C$63=\"\",\"\",'Mix Proportions via ACI 211'!$C$63)","v":"UFFA"},{"$f":"IF('Mix Proportions via ACI 211'!$L$56=\"\",\"\",'Mix Proportions via ACI 211'!$L$56)","v":"Weight (lbs/CY)"}]
[575,{"$f":"IF('Mix Proportions via ACI 211'!$F$64=\"\",\"\",'Mix Proportions via ACI 211'!$F$64)","v":""},{"$f":"IF('Mix Proportions via ACI 211'!$C$6=\"\",\"\",'Mix Proportions via ACI 211'!$C$6)","v":"Mix Proportions based on ACI 211.1-91®"},{"$f":"IF('Mix Proportions via ACI 211'!$B$57=\"\",\"\",'Mix Proportions via ACI 211'!$B$57)","v":"Paste"},{"$f":"IF('Mix Proportions via ACI 211'!$C$64=\"\",\"\",'Mix Proportions via ACI 211'!$C$64)","v":"MFFA"},{"$f":"IF('Mix Proportions via ACI 211'!$F$56=\"\",\"\",'Mix Proportions via ACI 211'!$F$56)","v":"% of Total Cement"}]
[576,{"$f":"IF('Mix Proportions via ACI 211'!$H$64=\"\",\"\",'Mix Proportions via ACI 211'!$H$64)","v":""},{"$f":"IF('Mix Proportions via ACI 211'!$C$6=\"\",\"\",'Mix Proportions via ACI 211'!$C$6)","v":"Mix Proportions based on ACI 211.1-91®"},{"$f":"IF('Mix Proportions via ACI 211'!$B$57=\"\",\"\",'Mix Proportions via ACI 211'!$B$57)","v":"Paste"},{"$f":"IF('Mix Proportions via ACI 211'!$C$64=\"\",\"\",'Mix Proportions via ACI 211'!$C$64)","v":"MFFA"},{"$f":"IF('Mix Proportions via ACI 211'!$H$56=\"\",\"\",'Mix Proportions via ACI 211'!$H$56)","v":"Specific Gravity"}]
[577,{"$f":"IF('Mix Proportions via ACI 211'!$I$64=\"\",\"\",'Mix Proportions via ACI 211'!$I$64)","v":""},{"$f":"IF('Mix Proportions via ACI 211'!$C$6=\"\",\"\",'Mix Proportions via ACI 211'!$C$6)","v":"Mix Proportions based on ACI 211.1-91®"},{"$f":"IF('Mix Proportions via ACI 211'!$B$57=\"\",\"\",'Mix Proportions via ACI 211'!$B$57)","v":"Paste"},{"$f":"IF('Mix Proportions via ACI 211'!$C$64=\"\",\"\",'Mix Proportions via ACI 211'!$C$64)","v":"MFFA"},{"$f":"IF('Mix Proportions via ACI 211'!$I$56=\"\",\"\",'Mix Proportions via ACI 211'!$I$56)","v":"Density, lbs/ft3"}]
[578,{"$f":"IF('Mix Proportions via ACI 211'!$K$64=\"\",\"\",'Mix Proportions via ACI 211'!$K$64)","v":""},{"$f":"IF('Mix Proportions via ACI 211'!$C$6=\"\",\"\",'Mix Proportions via ACI 211'!$C$6)","v":"Mix Proportions based on ACI 211.1-91®"},{"$f":"IF('Mix Proportions via ACI 211'!$B$57=\"\",\"\",'Mix Proportions via ACI 211'!$B$57)","v":"Paste"},{"$f":"IF('Mix Proportions via ACI 211'!$C$64=\"\",\"\",'Mix Proportions via ACI 211'!$C$64)","v":"MFFA"},{"$f":"IF('Mix Proportions via ACI 211'!$K$56=\"\",\"\",'Mix Proportions via ACI 211'!$K$56)","v":"Absolute Vol. (ft3)"}]
[579,{"$f":"IF('Mix Proportions via ACI 211'!$L$64=\"\",\"\",'Mix Proportions via ACI 211'!$L$64)","v":""},{"$f":"IF('Mix Proportions via ACI 211'!$C$6=\"\",\"\",'Mix Proportions via ACI 211'!$C$6)","v":"Mix Proportions based on ACI 211.1-91®"},{"$f":"IF('Mix Proportions via ACI 211'!$B$57=\"\",\"\",'Mix Proportions via ACI 211'!$B$57)","v":"Paste"},{"$f":"IF('Mix Proportions via ACI 211'!$C$64=\"\",\"\",'Mix Proportions via ACI 211'!$C$64)","v":"MFFA"},{"$f":"IF('Mix Proportions via ACI 211'!$L$56=\"\",\"\",'Mix Proportions via ACI 211'!$L$56)","v":"Weight (lbs/CY)"}]
[580,{"$f":"IF('Mix Proportions via ACI 211'!$F$65=\"\",\"\",'Mix Proportions via ACI 211'!$F$65)","v":""},{"$f":"IF('Mix Proportions via ACI 211'!$C$6=\"\",\"\",'Mix Proportions via ACI 211'!$C$6)","v":"Mix Proportions based on ACI 211.1-91®"},{"$f":"IF('Mix Proportions via ACI 211'!$B$57=\"\",\"\",'Mix Proportions via ACI 211'!$B$57)","v":"Paste"},{"$f":"IF('Mix Proportions via ACI 211'!$C$65=\"\",\"\",'Mix Proportions via ACI 211'!$C$65)","v":"Metakaolin"},{"$f":"IF('Mix Proportions via ACI 211'!$F$56=\"\",\"\",'Mix Proportions via ACI 211'!$F$56)","v":"% of Total Cement"}]
[581,{"$f":"IF('Mix Proportions via ACI 211'!$H$65=\"\",\"\",'Mix Proportions via ACI 211'!$H$65)","v":""},{"$f":"IF('Mix Proportions via ACI 211'!$C$6=\"\",\"\",'Mix Proportions via ACI 211'!$C$6)","v":"Mix Proportions based on ACI 211.1-91®"},{"$f":"IF('Mix Proportions via ACI 211'!$B$57=\"\",\"\",'Mix Proportions via ACI 211'!$B$57)","v":"Paste"},{"$f":"IF('Mix Proportions via ACI 211'!$C$65=\"\",\"\",'Mix Proportions via ACI 211'!$C$65)","v":"Metakaolin"},{"$f":"IF('Mix Proportions via ACI 211'!$H$56=\"\",\"\",'Mix Proportions via ACI 211'!$H$56)","v":"Specific Gravity"}]
[582,{"$f":"IF('Mix Proportions via ACI 211'!$I$65=\"\",\"\",'Mix Proportions via ACI 211'!$I$65)","v":""},{"$f":"IF('Mix Proportions via ACI 211'!$C$6=\"\",\"\",'Mix Proportions via ACI 211'!$C$6)","v":"Mix Proportions based on ACI 211.1-91®"},{"$f":"IF('Mix Proportions via ACI 211'!$B$57=\"\",\"\",'Mix Proportions via ACI 211'!$B$57)","v":"Paste"},{"$f":"IF('Mix Proportions via ACI 211'!$C$65=\"\",\"\",'Mix Proportions via ACI 211'!$C$65)","v":"Metakaolin"},{"$f":"IF('Mix Proportions via ACI 211'!$I$56=\"\",\"\",'Mix Proportions via ACI 211'!$I$56)","v":"Density, lbs/ft3"}]
[583,{"$f":"IF('Mix Proportions via ACI 211'!$K$65=\"\",\"\",'Mix Proportions via ACI 211'!$K$65)","v":""},{"$f":"IF('Mix Proportions via ACI 211'!$C$6=\"\",\"\",'Mix Proportions via ACI 211'!$C$6)","v":"Mix Proportions based on ACI 211.1-91®"},{"$f":"IF('Mix Proportions via ACI 211'!$B$57=\"\",\"\",'Mix Proportions via ACI 211'!$B$57)","v":"Paste"},{"$f":"IF('Mix Proportions via ACI 211'!$C$65=\"\",\"\",'Mix Proportions via ACI 211'!$C$65)","v":"Metakaolin"},{"$f":"IF('Mix Proportions via ACI 211'!$K$56=\"\",\"\",'Mix Proportions via ACI 211'!$K$56)","v":"Absolute Vol. (ft3)"}]
[584,{"$f":"IF('Mix Proportions via ACI 211'!$L$65=\"\",\"\",'Mix Proportions via ACI 211'!$L$65)","v":""},{"$f":"IF('Mix Proportions via ACI 211'!$C$6=\"\",\"\",'Mix Proportions via ACI 211'!$C$6)","v":"Mix Proportions based on ACI 211.1-91®"},{"$f":"IF('Mix Proportions via ACI 211'!$B$57=\"\",\"\",'Mix Proportions via ACI 211'!$B$57)","v":"Paste"},{"$f":"IF('Mix Proportions via ACI 211'!$C$65=\"\",\"\",'Mix Proportions via ACI 211'!$C$65)","v":"Metakaolin"},{"$f":"IF('Mix Proportions via ACI 211'!$L$56=\"\",\"\",'Mix Proportions via ACI 211'!$L$56)","v":"Weight (lbs/CY)"}]
[585,{"$f":"IF('Mix Proportions via ACI 211'!$F$66=\"\",\"\",'Mix Proportions via ACI 211'!$F$66)","v":""},{"$f":"IF('Mix Proportions via ACI 211'!$C$6=\"\",\"\",'Mix Proportions via ACI 211'!$C$6)","v":"Mix Proportions based on ACI 211.1-91®"},{"$f":"IF('Mix Proportions via ACI 211'!$B$57=\"\",\"\",'Mix Proportions via ACI 211'!$B$57)","v":"Paste"},{"$f":"IF('Mix Proportions via ACI 211'!$C$66=\"\",\"\",'Mix Proportions via ACI 211'!$C$66)","v":"Other Pozzolan"},{"$f":"IF('Mix Proportions via ACI 211'!$F$56=\"\",\"\",'Mix Proportions via ACI 211'!$F$56)","v":"% of Total Cement"}]
[586,{"$f":"IF('Mix Proportions via ACI 211'!$H$66=\"\",\"\",'Mix Proportions via ACI 211'!$H$66)","v":""},{"$f":"IF('Mix Proportions via ACI 211'!$C$6=\"\",\"\",'Mix Proportions via ACI 211'!$C$6)","v":"Mix Proportions based on ACI 211.1-91®"},{"$f":"IF('Mix Proportions via ACI 211'!$B$57=\"\",\"\",'Mix Proportions via ACI 211'!$B$57)","v":"Paste"},{"$f":"IF('Mix Proportions via ACI 211'!$C$66=\"\",\"\",'Mix Proportions via ACI 211'!$C$66)","v":"Other Pozzolan"},{"$f":"IF('Mix Proportions via ACI 211'!$H$56=\"\",\"\",'Mix Proportions via ACI 211'!$H$56)","v":"Specific Gravity"}]
[587,{"$f":"IF('Mix Proportions via ACI 211'!$I$66=\"\",\"\",'Mix Proportions via ACI 211'!$I$66)","v":""},{"$f":"IF('Mix Proportions via ACI 211'!$C$6=\"\",\"\",'Mix Proportions via ACI 211'!$C$6)","v":"Mix Proportions based on ACI 211.1-91®"},{"$f":"IF('Mix Proportions via ACI 211'!$B$57=\"\",\"\",'Mix Proportions via ACI 211'!$B$57)","v":"Paste"},{"$f":"IF('Mix Proportions via ACI 211'!$C$66=\"\",\"\",'Mix Proportions via ACI 211'!$C$66)","v":"Other Pozzolan"},{"$f":"IF('Mix Proportions via ACI 211'!$I$56=\"\",\"\",'Mix Proportions via ACI 211'!$I$56)","v":"Density, lbs/ft3"}]
[588,{"$f":"IF('Mix Proportions via ACI 211'!$K$66=\"\",\"\",'Mix Proportions via ACI 211'!$K$66)","v":""},{"$f":"IF('Mix Proportions via ACI 211'!$C$6=\"\",\"\",'Mix Proportions via ACI 211'!$C$6)","v":"Mix Proportions based on ACI 211.1-91®"},{"$f":"IF('Mix Proportions via ACI 211'!$B$57=\"\",\"\",'Mix Proportions via ACI 211'!$B$57)","v":"Paste"},{"$f":"IF('Mix Proportions via ACI 211'!$C$66=\"\",\"\",'Mix Proportions via ACI 211'!$C$66)","v":"Other Pozzolan"},{"$f":"IF('Mix Proportions via ACI 211'!$K$56=\"\",\"\",'Mix Proportions via ACI 211'!$K$56)","v":"Absolute Vol. (ft3)"}]
[589,{"$f":"IF('Mix Proportions via ACI 211'!$L$66=\"\",\"\",'Mix Proportions via ACI 211'!$L$66)","v":""},{"$f":"IF('Mix Proportions via ACI 211'!$C$6=\"\",\"\",'Mix Proportions via ACI 211'!$C$6)","v":"Mix Proportions based on ACI 211.1-91®"},{"$f":"IF('Mix Proportions via ACI 211'!$B$57=\"\",\"\",'Mix Proportions via ACI 211'!$B$57)","v":"Paste"},{"$f":"IF('Mix Proportions via ACI 211'!$C$66=\"\",\"\",'Mix Proportions via ACI 211'!$C$66)","v":"Other Pozzolan"},{"$f":"IF('Mix Proportions via ACI 211'!$L$56=\"\",\"\",'Mix Proportions via ACI 211'!$L$56)","v":"Weight (lbs/CY)"}]
[590,{"$f":"IF('Mix Proportions via ACI 211'!$G$67=\"\",\"\",'Mix Proportions via ACI 211'!$G$67)","v":""},{"$f":"IF('Mix Proportions via ACI 211'!$C$6=\"\",\"\",'Mix Proportions via ACI 211'!$C$6)","v":"Mix Proportions based on ACI 211.1-91®"},{"$f":"IF('Mix Proportions via ACI 211'!$B$57=\"\",\"\",'Mix Proportions via ACI 211'!$B$57)","v":"Paste"},{"$f":"IF('Mix Proportions via ACI 211'!$C$67=\"\",\"\",'Mix Proportions via ACI 211'!$C$67)","v":"Air entraining admixture:"},{"$f":"IF('Mix Proportions via ACI 211'!$G$56=\"\",\"\",'Mix Proportions via ACI 211'!$G$56)","v":"fl oz./CY"}]
[591,{"$f":"IF('Mix Proportions via ACI 211'!$K$67=\"\",\"\",'Mix Proportions via ACI 211'!$K$67)","v":""},{"$f":"IF('Mix Proportions via ACI 211'!$C$6=\"\",\"\",'Mix Proportions via ACI 211'!$C$6)","v":"Mix Proportions based on ACI 211.1-91®"},{"$f":"IF('Mix Proportions via ACI 211'!$B$57=\"\",\"\",'Mix Proportions via ACI 211'!$B$57)","v":"Paste"},{"$f":"IF('Mix Proportions via ACI 211'!$C$67=\"\",\"\",'Mix Proportions via ACI 211'!$C$67)","v":"Air entraining admixture:"},{"$f":"IF('Mix Proportions via ACI 211'!$K$56=\"\",\"\",'Mix Proportions via ACI 211'!$K$56)","v":"Absolute Vol. (ft3)"}]
[592,{"$f":"IF('Mix Proportions via ACI 211'!$G$68=\"\",\"\",'Mix Proportions via ACI 211'!$G$68)","v":""},{"$f":"IF('Mix Proportions via ACI 211'!$C$6=\"\",\"\",'Mix Proportions via ACI 211'!$C$6)","v":"Mix Proportions based on ACI 211.1-91®"},{"$f":"IF('Mix Proportions via ACI 211'!$B$57=\"\",\"\",'Mix Proportions via ACI 211'!$B$57)","v":"Paste"},{"$f":"IF('Mix Proportions via ACI 211'!$C$68=\"\",\"\",'Mix Proportions via ACI 211'!$C$68)","v":"Set retarder"},{"$f":"IF('Mix Proportions via ACI 211'!$G$56=\"\",\"\",'Mix Proportions via ACI 211'!$G$56)","v":"fl oz./CY"}]
[593,{"$f":"IF('Mix Proportions via ACI 211'!$K$68=\"\",\"\",'Mix Proportions via ACI 211'!$K$68)","v":""},{"$f":"IF('Mix Proportions via ACI 211'!$C$6=\"\",\"\",'Mix Proportions via ACI 211'!$C$6)","v":"Mix Proportions based on ACI 211.1-91®"},{"$f":"IF('Mix Proportions via ACI 211'!$B$57=\"\",\"\",'Mix Proportions via ACI 211'!$B$57)","v":"Paste"},{"$f":"IF('Mix Proportions via ACI 211'!$C$68=\"\",\"\",'Mix Proportions via ACI 211'!$C$68)","v":"Set retarder"},{"$f":"IF('Mix Proportions via ACI 211'!$K$56=\"\",\"\",'Mix Proportions via ACI 211'!$K$56)","v":"Absolute Vol. (ft3)"}]
[594,{"$f":"IF('Mix Proportions via ACI 211'!$G$69=\"\",\"\",'Mix Proportions via ACI 211'!$G$69)","v":""},{"$f":"IF('Mix Proportions via ACI 211'!$C$6=\"\",\"\",'Mix Proportions via ACI 211'!$C$6)","v":"Mix Proportions based on ACI 211.1-91®"},{"$f":"IF('Mix Proportions via ACI 211'!$B$57=\"\",\"\",'Mix Proportions via ACI 211'!$B$57)","v":"Paste"},{"$f":"IF('Mix Proportions via ACI 211'!$C$69=\"\",\"\",'Mix Proportions via ACI 211'!$C$69)","v":"Accelerator"},{"$f":"IF('Mix Proportions via ACI 211'!$G$56=\"\",\"\",'Mix Proportions via ACI 211'!$G$56)","v":"fl oz./CY"}]
[595,{"$f":"IF('Mix Proportions via ACI 211'!$K$69=\"\",\"\",'Mix Proportions via ACI 211'!$K$69)","v":""},{"$f":"IF('Mix Proportions via ACI 211'!$C$6=\"\",\"\",'Mix Proportions via ACI 211'!$C$6)","v":"Mix Proportions based on ACI 211.1-91®"},{"$f":"IF('Mix Proportions via ACI 211'!$B$57=\"\",\"\",'Mix Proportions via ACI 211'!$B$57)","v":"Paste"},{"$f":"IF('Mix Proportions via ACI 211'!$C$69=\"\",\"\",'Mix Proportions via ACI 211'!$C$69)","v":"Accelerator"},{"$f":"IF('Mix Proportions via ACI 211'!$K$56=\"\",\"\",'Mix Proportions via ACI 211'!$K$56)","v":"Absolute Vol. (ft3)"}]
[596,{"$f":"IF('Mix Proportions via ACI 211'!$G$70=\"\",\"\",'Mix Proportions via ACI 211'!$G$70)","v":""},{"$f":"IF('Mix Proportions via ACI 211'!$C$6=\"\",\"\",'Mix Proportions via ACI 211'!$C$6)","v":"Mix Proportions based on ACI 211.1-91®"},{"$f":"IF('Mix Proportions via ACI 211'!$B$57=\"\",\"\",'Mix Proportions via ACI 211'!$B$57)","v":"Paste"},{"$f":"IF('Mix Proportions via ACI 211'!$C$70=\"\",\"\",'Mix Proportions via ACI 211'!$C$70)","v":"Water Reducer"},{"$f":"IF('Mix Proportions via ACI 211'!$G$56=\"\",\"\",'Mix Proportions via ACI 211'!$G$56)","v":"fl oz./CY"}]
[597,{"$f":"IF('Mix Proportions via ACI 211'!$K$70=\"\",\"\",'Mix Proportions via ACI 211'!$K$70)","v":""},{"$f":"IF('Mix Proportions via ACI 211'!$C$6=\"\",\"\",'Mix Proportions via ACI 211'!$C$6)","v":"Mix Proportions based on ACI 211.1-91®"},{"$f":"IF('Mix Proportions via ACI 211'!$B$57=\"\",\"\",'Mix Proportions via ACI 211'!$B$57)","v":"Paste"},{"$f":"IF('Mix Proportions via ACI 211'!$C$70=\"\",\"\",'Mix Proportions via ACI 211'!$C$70)","v":"Water Reducer"},{"$f":"IF('Mix Proportions via ACI 211'!$K$56=\"\",\"\",'Mix Proportions via ACI 211'!$K$56)","v":"Absolute Vol. (ft3)"}]
[598,{"$f":"IF('Mix Proportions via ACI 211'!$G$71=\"\",\"\",'Mix Proportions via ACI 211'!$G$71)","v":""},{"$f":"IF('Mix Proportions via ACI 211'!$C$6=\"\",\"\",'Mix Proportions via ACI 211'!$C$6)","v":"Mix Proportions based on ACI 211.1-91®"},{"$f":"IF('Mix Proportions via ACI 211'!$B$57=\"\",\"\",'Mix Proportions via ACI 211'!$B$57)","v":"Paste"},{"$f":"IF('Mix Proportions via ACI 211'!$C$71=\"\",\"\",'Mix Proportions via ACI 211'!$C$71)","v":"High-Range Water Reducer"},{"$f":"IF('Mix Proportions via ACI 211'!$G$56=\"\",\"\",'Mix Proportions via ACI 211'!$G$56)","v":"fl oz./CY"}]
[599,{"$f":"IF('Mix Proportions via ACI 211'!$K$71=\"\",\"\",'Mix Proportions via ACI 211'!$K$71)","v":""},{"$f":"IF('Mix Proportions via ACI 211'!$C$6=\"\",\"\",'Mix Proportions via ACI 211'!$C$6)","v":"Mix Proportions based on ACI 211.1-91®"},{"$f":"IF('Mix Proportions via ACI 211'!$B$57=\"\",\"\",'Mix Proportions via ACI 211'!$B$57)","v":"Paste"},{"$f":"IF('Mix Proportions via ACI 211'!$C$71=\"\",\"\",'Mix Proportions via ACI 211'!$C$71)","v":"High-Range Water Reducer"},{"$f":"IF('Mix Proportions via ACI 211'!$K$56=\"\",\"\",'Mix Proportions via ACI 211'!$K$56)","v":"Absolute Vol. (ft3)"}]
[600,{"$f":"IF('Mix Proportions via ACI 211'!$G$72=\"\",\"\",'Mix Proportions via ACI 211'!$G$72)","v":""},{"$f":"IF('Mix Proportions via ACI 211'!$C$6=\"\",\"\",'Mix Proportions via ACI 211'!$C$6)","v":"Mix Proportions based on ACI 211.1-91®"},{"$f":"IF('Mix Proportions via ACI 211'!$B$57=\"\",\"\",'Mix Proportions via ACI 211'!$B$57)","v":"Paste"},{"$f":"IF('Mix Proportions via ACI 211'!$C$72=\"\",\"\",'Mix Proportions via ACI 211'!$C$72)","v":"Water Reducing Retarder"},{"$f":"IF('Mix Proportions via ACI 211'!$G$56=\"\",\"\",'Mix Proportions via ACI 211'!$G$56)","v":"fl oz./CY"}]
[601,{"$f":"IF('Mix Proportions via ACI 211'!$K$72=\"\",\"\",'Mix Proportions via ACI 211'!$K$72)","v":""},{"$f":"IF('Mix Proportions via ACI 211'!$C$6=\"\",\"\",'Mix Proportions via ACI 211'!$C$6)","v":"Mix Proportions based on ACI 211.1-91®"},{"$f":"IF('Mix Proportions via ACI 211'!$B$57=\"\",\"\",'Mix Proportions via ACI 211'!$B$57)","v":"Paste"},{"$f":"IF('Mix Proportions via ACI 211'!$C$72=\"\",\"\",'Mix Proportions via ACI 211'!$C$72)","v":"Water Reducing Retarder"},{"$f":"IF('Mix Proportions via ACI 211'!$K$56=\"\",\"\",'Mix Proportions via ACI 211'!$K$56)","v":"Absolute Vol. (ft3)"}]
[602,{"$f":"IF('Mix Proportions via ACI 211'!$G$73=\"\",\"\",'Mix Proportions via ACI 211'!$G$73)","v":""},{"$f":"IF('Mix Proportions via ACI 211'!$C$6=\"\",\"\",'Mix Proportions via ACI 211'!$C$6)","v":"Mix Proportions based on ACI 211.1-91®"},{"$f":"IF('Mix Proportions via ACI 211'!$B$57=\"\",\"\",'Mix Proportions via ACI 211'!$B$57)","v":"Paste"},{"$f":"IF('Mix Proportions via ACI 211'!$C$73=\"\",\"\",'Mix Proportions via ACI 211'!$C$73)","v":"Hi-Range Water Reducing Retarder"},{"$f":"IF('Mix Proportions via ACI 211'!$G$56=\"\",\"\",'Mix Proportions via ACI 211'!$G$56)","v":"fl oz./CY"}]
[603,{"$f":"IF('Mix Proportions via ACI 211'!$K$73=\"\",\"\",'Mix Proportions via ACI 211'!$K$73)","v":""},{"$f":"IF('Mix Proportions via ACI 211'!$C$6=\"\",\"\",'Mix Proportions via ACI 211'!$C$6)","v":"Mix Proportions based on ACI 211.1-91®"},{"$f":"IF('Mix Proportions via ACI 211'!$B$57=\"\",\"\",'Mix Proportions via ACI 211'!$B$57)","v":"Paste"},{"$f":"IF('Mix Proportions via ACI 211'!$C$73=\"\",\"\",'Mix Proportions via ACI 211'!$C$73)","v":"Hi-Range Water Reducing Retarder"},{"$f":"IF('Mix Proportions via ACI 211'!$K$56=\"\",\"\",'Mix Proportions via ACI 211'!$K$56)","v":"Absolute Vol. (ft3)"}]
[604,{"$f":"IF('Mix Proportions via ACI 211'!$G$74=\"\",\"\",'Mix Proportions via ACI 211'!$G$74)","v":""},{"$f":"IF('Mix Proportions via ACI 211'!$C$6=\"\",\"\",'Mix Proportions via ACI 211'!$C$6)","v":"Mix Proportions based on ACI 211.1-91®"},{"$f":"IF('Mix Proportions via ACI 211'!$B$57=\"\",\"\",'Mix Proportions via ACI 211'!$B$57)","v":"Paste"},{"$f":"IF('Mix Proportions via ACI 211'!$C$74=\"\",\"\",'Mix Proportions via ACI 211'!$C$74)","v":"Lithium Nitrate Admixture"},{"$f":"IF('Mix Proportions via ACI 211'!$G$56=\"\",\"\",'Mix Proportions via ACI 211'!$G$56)","v":"fl oz./CY"}]
[605,{"$f":"IF('Mix Proportions via ACI 211'!$K$74=\"\",\"\",'Mix Proportions via ACI 211'!$K$74)","v":""},{"$f":"IF('Mix Proportions via ACI 211'!$C$6=\"\",\"\",'Mix Proportions via ACI 211'!$C$6)","v":"Mix Proportions based on ACI 211.1-91®"},{"$f":"IF('Mix Proportions via ACI 211'!$B$57=\"\",\"\",'Mix Proportions via ACI 211'!$B$57)","v":"Paste"},{"$f":"IF('Mix Proportions via ACI 211'!$C$74=\"\",\"\",'Mix Proportions via ACI 211'!$C$74)","v":"Lithium Nitrate Admixture"},{"$f":"IF('Mix Proportions via ACI 211'!$K$56=\"\",\"\",'Mix Proportions via ACI 211'!$K$56)","v":"Absolute Vol. (ft3)"}]
[606,{"$f":"IF('Mix Proportions via ACI 211'!$G$75=\"\",\"\",'Mix Proportions via ACI 211'!$G$75)","v":""},{"$f":"IF('Mix Proportions via ACI 211'!$C$6=\"\",\"\",'Mix Proportions via ACI 211'!$C$6)","v":"Mix Proportions based on ACI 211.1-91®"},{"$f":"IF('Mix Proportions via ACI 211'!$B$57=\"\",\"\",'Mix Proportions via ACI 211'!$B$57)","v":"Paste"},{"$f":"IF('Mix Proportions via ACI 211'!$C$75=\"\",\"\",'Mix Proportions via ACI 211'!$C$75)","v":"Corrosion Inhibitor"},{"$f":"IF('Mix Proportions via ACI 211'!$G$56=\"\",\"\",'Mix Proportions via ACI 211'!$G$56)","v":"fl oz./CY"}]
[607,{"$f":"IF('Mix Proportions via ACI 211'!$K$67=\"\",\"\",'Mix Proportions via ACI 211'!$K$67)","v":""},{"$f":"IF('Mix Proportions via ACI 211'!$C$6=\"\",\"\",'Mix Proportions via ACI 211'!$C$6)","v":"Mix Proportions based on ACI 211.1-91®"},{"$f":"IF('Mix Proportions via ACI 211'!$B$57=\"\",\"\",'Mix Proportions via ACI 211'!$B$57)","v":"Paste"},{"$f":"IF('Mix Proportions via ACI 211'!$C$75=\"\",\"\",'Mix Proportions via ACI 211'!$C$75)","v":"Corrosion Inhibitor"},{"$f":"IF('Mix Proportions via ACI 211'!$K$56=\"\",\"\",'Mix Proportions via ACI 211'!$K$56)","v":"Absolute Vol. (ft3)"}]
[608,{"$f":"IF('Mix Proportions via ACI 211'!$K$76=\"\",\"\",'Mix Proportions via ACI 211'!$K$76)","v":""},{"$f":"IF('Mix Proportions via ACI 211'!$C$6=\"\",\"\",'Mix Proportions via ACI 211'!$C$6)","v":"Mix Proportions based on ACI 211.1-91®"},{"$f":"IF('Mix Proportions via ACI 211'!$B$57=\"\",\"\",'Mix Proportions via ACI 211'!$B$57)","v":"Paste"},{"$f":"IF('Mix Proportions via ACI 211'!$C$76=\"\",\"\",'Mix Proportions via ACI 211'!$C$76)","v":"Paste Volume=Total (water + cm)"},{"$f":"IF('Mix Proportions via ACI 211'!$K$56=\"\",\"\",'Mix Proportions via ACI 211'!$K$56)","v":"Absolute Vol. (ft3)"}]
[609,{"$f":"IF('Mix Proportions via ACI 211'!$K$77=\"\",\"\",'Mix Proportions via ACI 211'!$K$77)","v":0},{"$f":"IF('Mix Proportions via ACI 211'!$C$6=\"\",\"\",'Mix Proportions via ACI 211'!$C$6)","v":"Mix Proportions based on ACI 211.1-91®"},{"$f":"IF('Mix Proportions via ACI 211'!$B$77=\"\",\"\",'Mix Proportions via ACI 211'!$B$77)","v":"Air"},{"$f":"IF('Mix Proportions via ACI 211'!$C$77=\"\",\"\",'Mix Proportions via ACI 211'!$C$77)","v":"Approximate Entrapped Air*:"},{"$f":"IF('Mix Proportions via ACI 211'!$K$56=\"\",\"\",'Mix Proportions via ACI 211'!$K$56)","v":"Absolute Vol. (ft3)"}]
[610,{"$f":"IF('Mix Proportions via ACI 211'!$K$78=\"\",\"\",'Mix Proportions via ACI 211'!$K$78)","v":""},{"$f":"IF('Mix Proportions via ACI 211'!$C$6=\"\",\"\",'Mix Proportions via ACI 211'!$C$6)","v":"Mix Proportions based on ACI 211.1-91®"},{"$f":"IF('Mix Proportions via ACI 211'!$B$77=\"\",\"\",'Mix Proportions via ACI 211'!$B$77)","v":"Air"},{"$f":"IF('Mix Proportions via ACI 211'!$C$78=\"\",\"\",'Mix Proportions via ACI 211'!$C$78)","v":"Target Total Air Content**:"},{"$f":"IF('Mix Proportions via ACI 211'!$K$56=\"\",\"\",'Mix Proportions via ACI 211'!$K$56)","v":"Absolute Vol. (ft3)"}]
[611,{"$f":"IF('Mix Proportions via ACI 211'!$K$79=\"\",\"\",'Mix Proportions via ACI 211'!$K$79)","v":0},{"$f":"IF('Mix Proportions via ACI 211'!$C$6=\"\",\"\",'Mix Proportions via ACI 211'!$C$6)","v":"Mix Proportions based on ACI 211.1-91®"},{"$f":"IF('Mix Proportions via ACI 211'!$B$77=\"\",\"\",'Mix Proportions via ACI 211'!$B$77)","v":"Air"},{"$f":"IF('Mix Proportions via ACI 211'!$C$79=\"\",\"\",'Mix Proportions via ACI 211'!$C$79)","v":"Air + Paste Volume:"},{"$f":"IF('Mix Proportions via ACI 211'!$K$56=\"\",\"\",'Mix Proportions via ACI 211'!$K$56)","v":"Absolute Vol. (ft3)"}]
[612,{"$f":"IF('Mix Proportions via ACI 211'!$H$80=\"\",\"\",'Mix Proportions via ACI 211'!$H$80)","v":""},{"$f":"IF('Mix Proportions via ACI 211'!$C$6=\"\",\"\",'Mix Proportions via ACI 211'!$C$6)","v":"Mix Proportions based on ACI 211.1-91®"},{"$f":"IF('Mix Proportions via ACI 211'!$B$80=\"\",\"\",'Mix Proportions via ACI 211'!$B$80)","v":"Other"},{"$f":"IF('Mix Proportions via ACI 211'!$C$80=\"\",\"\",'Mix Proportions via ACI 211'!$C$80)","v":"Fibers:"},{"$f":"IF('Mix Proportions via ACI 211'!$H$56=\"\",\"\",'Mix Proportions via ACI 211'!$H$56)","v":"Specific Gravity"}]
[613,{"$f":"IF('Mix Proportions via ACI 211'!$K$80=\"\",\"\",'Mix Proportions via ACI 211'!$K$80)","v":""},{"$f":"IF('Mix Proportions via ACI 211'!$C$6=\"\",\"\",'Mix Proportions via ACI 211'!$C$6)","v":"Mix Proportions based on ACI 211.1-91®"},{"$f":"IF('Mix Proportions via ACI 211'!$B$80=\"\",\"\",'Mix Proportions via ACI 211'!$B$80)","v":"Other"},{"$f":"IF('Mix Proportions via ACI 211'!$C$80=\"\",\"\",'Mix Proportions via ACI 211'!$C$80)","v":"Fibers:"},{"$f":"IF('Mix Proportions via ACI 211'!$K$56=\"\",\"\",'Mix Proportions via ACI 211'!$K$56)","v":"Absolute Vol. (ft3)"}]
[614,{"$f":"IF('Mix Proportions via ACI 211'!$L$80=\"\",\"\",'Mix Proportions via ACI 211'!$L$80)","v":""},{"$f":"IF('Mix Proportions via ACI 211'!$C$6=\"\",\"\",'Mix Proportions via ACI 211'!$C$6)","v":"Mix Proportions based on ACI 211.1-91®"},{"$f":"IF('Mix Proportions via ACI 211'!$B$80=\"\",\"\",'Mix Proportions via ACI 211'!$B$80)","v":"Other"},{"$f":"IF('Mix Proportions via ACI 211'!$C$80=\"\",\"\",'Mix Proportions via ACI 211'!$C$80)","v":"Fibers:"},{"$f":"IF('Mix Proportions via ACI 211'!$L$56=\"\",\"\",'Mix Proportions via ACI 211'!$L$56)","v":"Weight (lbs/CY)"}]
[615,{"$f":"IF('Mix Proportions via ACI 211'!$H$81=\"\",\"\",'Mix Proportions via ACI 211'!$H$81)","v":""},{"$f":"IF('Mix Proportions via ACI 211'!$C$6=\"\",\"\",'Mix Proportions via ACI 211'!$C$6)","v":"Mix Proportions based on ACI 211.1-91®"},{"$f":"IF('Mix Proportions via ACI 211'!$B$80=\"\",\"\",'Mix Proportions via ACI 211'!$B$80)","v":"Other"},{"$f":"IF('Mix Proportions via ACI 211'!$C$81=\"\",\"\",'Mix Proportions via ACI 211'!$C$81)","v":""},{"$f":"IF('Mix Proportions via ACI 211'!$H$56=\"\",\"\",'Mix Proportions via ACI 211'!$H$56)","v":"Specific Gravity"}]
[616,{"$f":"IF('Mix Proportions via ACI 211'!$K$81=\"\",\"\",'Mix Proportions via ACI 211'!$K$81)","v":""},{"$f":"IF('Mix Proportions via ACI 211'!$C$6=\"\",\"\",'Mix Proportions via ACI 211'!$C$6)","v":"Mix Proportions based on ACI 211.1-91®"},{"$f":"IF('Mix Proportions via ACI 211'!$B$80=\"\",\"\",'Mix Proportions via ACI 211'!$B$80)","v":"Other"},{"$f":"IF('Mix Proportions via ACI 211'!$C$81=\"\",\"\",'Mix Proportions via ACI 211'!$C$81)","v":""},{"$f":"IF('Mix Proportions via ACI 211'!$K$56=\"\",\"\",'Mix Proportions via ACI 211'!$K$56)","v":"Absolute Vol. (ft3)"}]
[617,{"$f":"IF('Mix Proportions via ACI 211'!$L$81=\"\",\"\",'Mix Proportions via ACI 211'!$L$81)","v":""},{"$f":"IF('Mix Proportions via ACI 211'!$C$6=\"\",\"\",'Mix Proportions via ACI 211'!$C$6)","v":"Mix Proportions based on ACI 211.1-91®"},{"$f":"IF('Mix Proportions via ACI 211'!$B$80=\"\",\"\",'Mix Proportions via ACI 211'!$B$80)","v":"Other"},{"$f":"IF('Mix Proportions via ACI 211'!$C$81=\"\",\"\",'Mix Proportions via ACI 211'!$C$81)","v":""},{"$f":"IF('Mix Proportions via ACI 211'!$L$56=\"\",\"\",'Mix Proportions via ACI 211'!$L$56)","v":"Weight (lbs/CY)"}]
[618,{"$f":"IF('Mix Proportions via ACI 211'!$H$84=\"\",\"\",'Mix Proportions via ACI 211'!$H$84)","v":""},{"$f":"IF('Mix Proportions via ACI 211'!$C$6=\"\",\"\",'Mix Proportions via ACI 211'!$C$6)","v":"Mix Proportions based on ACI 211.1-91®"},{"$f":"IF('Mix Proportions via ACI 211'!$B$84=\"\",\"\",'Mix Proportions via ACI 211'!$B$84)","v":"Aggregate"},{"$f":"IF('Mix Proportions via ACI 211'!$C$84=\"\",\"\",'Mix Proportions via ACI 211'!$C$84)","v":"Total Aggregate Volume, ft3:"}]
[619,{"$f":"IF('Mix Proportions via ACI 211'!$H$85=\"\",\"\",'Mix Proportions via ACI 211'!$H$85)","v":""},{"$f":"IF('Mix Proportions via ACI 211'!$C$6=\"\",\"\",'Mix Proportions via ACI 211'!$C$6)","v":"Mix Proportions based on ACI 211.1-91®"},{"$f":"IF('Mix Proportions via ACI 211'!$B$84=\"\",\"\",'Mix Proportions via ACI 211'!$B$84)","v":"Aggregate"},{"$f":"IF('Mix Proportions via ACI 211'!$C$85=\"\",\"\",'Mix Proportions via ACI 211'!$C$85)","v":"Coarse Aggregate Factor (CAF): "}]
[620,{"$f":"IF('Mix Proportions via ACI 211'!$F$86=\"\",\"\",'Mix Proportions via ACI 211'!$F$86)","v":""},{"$f":"IF('Mix Proportions via ACI 211'!$C$6=\"\",\"\",'Mix Proportions via ACI 211'!$C$6)","v":"Mix Proportions based on ACI 211.1-91®"},{"$f":"IF('Mix Proportions via ACI 211'!$B$84=\"\",\"\",'Mix Proportions via ACI 211'!$B$84)","v":"Aggregate"},{"$f":"IF('Mix Proportions via ACI 211'!$C$86=\"\",\"\",'Mix Proportions via ACI 211'!$C$86)","v":"Coarse Aggregate 1:"},{"$f":"IF('Mix Proportions via ACI 211'!$F$83=\"\",\"\",'Mix Proportions via ACI 211'!$F$83)","v":"%"}]
[621,{"$f":"IF('Mix Proportions via ACI 211'!$G$86=\"\",\"\",'Mix Proportions via ACI 211'!$G$86)","v":""},{"$f":"IF('Mix Proportions via ACI 211'!$C$6=\"\",\"\",'Mix Proportions via ACI 211'!$C$6)","v":"Mix Proportions based on ACI 211.1-91®"},{"$f":"IF('Mix Proportions via ACI 211'!$B$84=\"\",\"\",'Mix Proportions via ACI 211'!$B$84)","v":"Aggregate"},{"$f":"IF('Mix Proportions via ACI 211'!$C$86=\"\",\"\",'Mix Proportions via ACI 211'!$C$86)","v":"Coarse Aggregate 1:"},{"$f":"IF('Mix Proportions via ACI 211'!$G$83=\"\",\"\",'Mix Proportions via ACI 211'!$G$83)","v":"Sp. Gr. SSD"}]
[622,{"$f":"IF('Mix Proportions via ACI 211'!$H$86=\"\",\"\",'Mix Proportions via ACI 211'!$H$86)","v":" "},{"$f":"IF('Mix Proportions via ACI 211'!$C$6=\"\",\"\",'Mix Proportions via ACI 211'!$C$6)","v":"Mix Proportions based on ACI 211.1-91®"},{"$f":"IF('Mix Proportions via ACI 211'!$B$84=\"\",\"\",'Mix Proportions via ACI 211'!$B$84)","v":"Aggregate"},{"$f":"IF('Mix Proportions via ACI 211'!$C$86=\"\",\"\",'Mix Proportions via ACI 211'!$C$86)","v":"Coarse Aggregate 1:"},{"$f":"IF('Mix Proportions via ACI 211'!$H$83=\"\",\"\",'Mix Proportions via ACI 211'!$H$83)","v":"Unit Weight, SSD, lbs/ft3"}]
[623,{"$f":"IF('Mix Proportions via ACI 211'!$I$86=\"\",\"\",'Mix Proportions via ACI 211'!$I$86)","v":""},{"$f":"IF('Mix Proportions via ACI 211'!$C$6=\"\",\"\",'Mix Proportions via ACI 211'!$C$6)","v":"Mix Proportions based on ACI 211.1-91®"},{"$f":"IF('Mix Proportions via ACI 211'!$B$84=\"\",\"\",'Mix Proportions via ACI 211'!$B$84)","v":"Aggregate"},{"$f":"IF('Mix Proportions via ACI 211'!$C$86=\"\",\"\",'Mix Proportions via ACI 211'!$C$86)","v":"Coarse Aggregate 1:"},{"$f":"IF('Mix Proportions via ACI 211'!$I$83=\"\",\"\",'Mix Proportions via ACI 211'!$I$83)","v":"Bulk Vol. = CAF x 27, ft3"}]
[624,{"$f":"IF('Mix Proportions via ACI 211'!$K$86=\"\",\"\",'Mix Proportions via ACI 211'!$K$86)","v":""},{"$f":"IF('Mix Proportions via ACI 211'!$C$6=\"\",\"\",'Mix Proportions via ACI 211'!$C$6)","v":"Mix Proportions based on ACI 211.1-91®"},{"$f":"IF('Mix Proportions via ACI 211'!$B$84=\"\",\"\",'Mix Proportions via ACI 211'!$B$84)","v":"Aggregate"},{"$f":"IF('Mix Proportions via ACI 211'!$C$86=\"\",\"\",'Mix Proportions via ACI 211'!$C$86)","v":"Coarse Aggregate 1:"},{"$f":"IF('Mix Proportions via ACI 211'!$K$83=\"\",\"\",'Mix Proportions via ACI 211'!$K$83)","v":"Absolute Vol. (ft3)"}]
[625,{"$f":"IF('Mix Proportions via ACI 211'!$L$86=\"\",\"\",'Mix Proportions via ACI 211'!$L$86)","v":""},{"$f":"IF('Mix Proportions via ACI 211'!$C$6=\"\",\"\",'Mix Proportions via ACI 211'!$C$6)","v":"Mix Proportions based on ACI 211.1-91®"},{"$f":"IF('Mix Proportions via ACI 211'!$B$84=\"\",\"\",'Mix Proportions via ACI 211'!$B$84)","v":"Aggregate"},{"$f":"IF('Mix Proportions via ACI 211'!$C$86=\"\",\"\",'Mix Proportions via ACI 211'!$C$86)","v":"Coarse Aggregate 1:"},{"$f":"IF('Mix Proportions via ACI 211'!$L$83=\"\",\"\",'Mix Proportions via ACI 211'!$L$83)","v":"SSD Weight (lbs/CY)"}]
[626,{"$f":"IF('Mix Proportions via ACI 211'!$F$87=\"\",\"\",'Mix Proportions via ACI 211'!$F$87)","v":""},{"$f":"IF('Mix Proportions via ACI 211'!$C$6=\"\",\"\",'Mix Proportions via ACI 211'!$C$6)","v":"Mix Proportions based on ACI 211.1-91®"},{"$f":"IF('Mix Proportions via ACI 211'!$B$84=\"\",\"\",'Mix Proportions via ACI 211'!$B$84)","v":"Aggregate"},{"$f":"IF('Mix Proportions via ACI 211'!$C$87=\"\",\"\",'Mix Proportions via ACI 211'!$C$87)","v":"Coarse Aggregate 2:"},{"$f":"IF('Mix Proportions via ACI 211'!$F$83=\"\",\"\",'Mix Proportions via ACI 211'!$F$83)","v":"%"}]
[627,{"$f":"IF('Mix Proportions via ACI 211'!$G$87=\"\",\"\",'Mix Proportions via ACI 211'!$G$87)","v":""},{"$f":"IF('Mix Proportions via ACI 211'!$C$6=\"\",\"\",'Mix Proportions via ACI 211'!$C$6)","v":"Mix Proportions based on ACI 211.1-91®"},{"$f":"IF('Mix Proportions via ACI 211'!$B$84=\"\",\"\",'Mix Proportions via ACI 211'!$B$84)","v":"Aggregate"},{"$f":"IF('Mix Proportions via ACI 211'!$C$87=\"\",\"\",'Mix Proportions via ACI 211'!$C$87)","v":"Coarse Aggregate 2:"},{"$f":"IF('Mix Proportions via ACI 211'!$G$83=\"\",\"\",'Mix Proportions via ACI 211'!$G$83)","v":"Sp. Gr. SSD"}]
[628,{"$f":"IF('Mix Proportions via ACI 211'!$H$87=\"\",\"\",'Mix Proportions via ACI 211'!$H$87)","v":" "},{"$f":"IF('Mix Proportions via ACI 211'!$C$6=\"\",\"\",'Mix Proportions via ACI 211'!$C$6)","v":"Mix Proportions based on ACI 211.1-91®"},{"$f":"IF('Mix Proportions via ACI 211'!$B$84=\"\",\"\",'Mix Proportions via ACI 211'!$B$84)","v":"Aggregate"},{"$f":"IF('Mix Proportions via ACI 211'!$C$87=\"\",\"\",'Mix Proportions via ACI 211'!$C$87)","v":"Coarse Aggregate 2:"},{"$f":"IF('Mix Proportions via ACI 211'!$H$83=\"\",\"\",'Mix Proportions via ACI 211'!$H$83)","v":"Unit Weight, SSD, lbs/ft3"}]
[629,{"$f":"IF('Mix Proportions via ACI 211'!$I$87=\"\",\"\",'Mix Proportions via ACI 211'!$I$87)","v":""},{"$f":"IF('Mix Proportions via ACI 211'!$C$6=\"\",\"\",'Mix Proportions via ACI 211'!$C$6)","v":"Mix Proportions based on ACI 211.1-91®"},{"$f":"IF('Mix Proportions via ACI 211'!$B$84=\"\",\"\",'Mix Proportions via ACI 211'!$B$84)","v":"Aggregate"},{"$f":"IF('Mix Proportions via ACI 211'!$C$87=\"\",\"\",'Mix Proportions via ACI 211'!$C$87)","v":"Coarse Aggregate 2:"},{"$f":"IF('Mix Proportions via ACI 211'!$I$83=\"\",\"\",'Mix Proportions via ACI 211'!$I$83)","v":"Bulk Vol. = CAF x 27, ft3"}]
[630,{"$f":"IF('Mix Proportions via ACI 211'!$K$87=\"\",\"\",'Mix Proportions via ACI 211'!$K$87)","v":""},{"$f":"IF('Mix Proportions via ACI 211'!$C$6=\"\",\"\",'Mix Proportions via ACI 211'!$C$6)","v":"Mix Proportions based on ACI 211.1-91®"},{"$f":"IF('Mix Proportions via ACI 211'!$B$84=\"\",\"\",'Mix Proportions via ACI 211'!$B$84)","v":"Aggregate"},{"$f":"IF('Mix Proportions via ACI 211'!$C$87=\"\",\"\",'Mix Proportions via ACI 211'!$C$87)","v":"Coarse Aggregate 2:"},{"$f":"IF('Mix Proportions via ACI 211'!$K$83=\"\",\"\",'Mix Proportions via ACI 211'!$K$83)","v":"Absolute Vol. (ft3)"}]
[631,{"$f":"IF('Mix Proportions via ACI 211'!$L$87=\"\",\"\",'Mix Proportions via ACI 211'!$L$87)","v":""},{"$f":"IF('Mix Proportions via ACI 211'!$C$6=\"\",\"\",'Mix Proportions via ACI 211'!$C$6)","v":"Mix Proportions based on ACI 211.1-91®"},{"$f":"IF('Mix Proportions via ACI 211'!$B$84=\"\",\"\",'Mix Proportions via ACI 211'!$B$84)","v":"Aggregate"},{"$f":"IF('Mix Proportions via ACI 211'!$C$87=\"\",\"\",'Mix Proportions via ACI 211'!$C$87)","v":"Coarse Aggregate 2:"},{"$f":"IF('Mix Proportions via ACI 211'!$L$83=\"\",\"\",'Mix Proportions via ACI 211'!$L$83)","v":"SSD Weight (lbs/CY)"}]
[632,{"$f":"IF('Mix Proportions via ACI 211'!$F$88=\"\",\"\",'Mix Proportions via ACI 211'!$F$88)","v":""},{"$f":"IF('Mix Proportions via ACI 211'!$C$6=\"\",\"\",'Mix Proportions via ACI 211'!$C$6)","v":"Mix Proportions based on ACI 211.1-91®"},{"$f":"IF('Mix Proportions via ACI 211'!$B$84=\"\",\"\",'Mix Proportions via ACI 211'!$B$84)","v":"Aggregate"},{"$f":"IF('Mix Proportions via ACI 211'!$C$88=\"\",\"\",'Mix Proportions via ACI 211'!$C$88)","v":"Intermediate Aggregate 1:"},{"$f":"IF('Mix Proportions via ACI 211'!$F$83=\"\",\"\",'Mix Proportions via ACI 211'!$F$83)","v":"%"}]
[633,{"$f":"IF('Mix Proportions via ACI 211'!$G$88=\"\",\"\",'Mix Proportions via ACI 211'!$G$88)","v":""},{"$f":"IF('Mix Proportions via ACI 211'!$C$6=\"\",\"\",'Mix Proportions via ACI 211'!$C$6)","v":"Mix Proportions based on ACI 211.1-91®"},{"$f":"IF('Mix Proportions via ACI 211'!$B$84=\"\",\"\",'Mix Proportions via ACI 211'!$B$84)","v":"Aggregate"},{"$f":"IF('Mix Proportions via ACI 211'!$C$88=\"\",\"\",'Mix Proportions via ACI 211'!$C$88)","v":"Intermediate Aggregate 1:"},{"$f":"IF('Mix Proportions via ACI 211'!$G$83=\"\",\"\",'Mix Proportions via ACI 211'!$G$83)","v":"Sp. Gr. SSD"}]
[634,{"$f":"IF('Mix Proportions via ACI 211'!$H$88=\"\",\"\",'Mix Proportions via ACI 211'!$H$88)","v":" "},{"$f":"IF('Mix Proportions via ACI 211'!$C$6=\"\",\"\",'Mix Proportions via ACI 211'!$C$6)","v":"Mix Proportions based on ACI 211.1-91®"},{"$f":"IF('Mix Proportions via ACI 211'!$B$84=\"\",\"\",'Mix Proportions via ACI 211'!$B$84)","v":"Aggregate"},{"$f":"IF('Mix Proportions via ACI 211'!$C$88=\"\",\"\",'Mix Proportions via ACI 211'!$C$88)","v":"Intermediate Aggregate 1:"},{"$f":"IF('Mix Proportions via ACI 211'!$H$83=\"\",\"\",'Mix Proportions via ACI 211'!$H$83)","v":"Unit Weight, SSD, lbs/ft3"}]
[635,{"$f":"IF('Mix Proportions via ACI 211'!$I$88=\"\",\"\",'Mix Proportions via ACI 211'!$I$88)","v":""},{"$f":"IF('Mix Proportions via ACI 211'!$C$6=\"\",\"\",'Mix Proportions via ACI 211'!$C$6)","v":"Mix Proportions based on ACI 211.1-91®"},{"$f":"IF('Mix Proportions via ACI 211'!$B$84=\"\",\"\",'Mix Proportions via ACI 211'!$B$84)","v":"Aggregate"},{"$f":"IF('Mix Proportions via ACI 211'!$C$88=\"\",\"\",'Mix Proportions via ACI 211'!$C$88)","v":"Intermediate Aggregate 1:"},{"$f":"IF('Mix Proportions via ACI 211'!$I$83=\"\",\"\",'Mix Proportions via ACI 211'!$I$83)","v":"Bulk Vol. = CAF x 27, ft3"}]
[636,{"$f":"IF('Mix Proportions via ACI 211'!$K$88=\"\",\"\",'Mix Proportions via ACI 211'!$K$88)","v":""},{"$f":"IF('Mix Proportions via ACI 211'!$C$6=\"\",\"\",'Mix Proportions via ACI 211'!$C$6)","v":"Mix Proportions based on ACI 211.1-91®"},{"$f":"IF('Mix Proportions via ACI 211'!$B$84=\"\",\"\",'Mix Proportions via ACI 211'!$B$84)","v":"Aggregate"},{"$f":"IF('Mix Proportions via ACI 211'!$C$88=\"\",\"\",'Mix Proportions via ACI 211'!$C$88)","v":"Intermediate Aggregate 1:"},{"$f":"IF('Mix Proportions via ACI 211'!$K$83=\"\",\"\",'Mix Proportions via ACI 211'!$K$83)","v":"Absolute Vol. (ft3)"}]
[637,{"$f":"IF('Mix Proportions via ACI 211'!$L$88=\"\",\"\",'Mix Proportions via ACI 211'!$L$88)","v":""},{"$f":"IF('Mix Proportions via ACI 211'!$C$6=\"\",\"\",'Mix Proportions via ACI 211'!$C$6)","v":"Mix Proportions based on ACI 211.1-91®"},{"$f":"IF('Mix Proportions via ACI 211'!$B$84=\"\",\"\",'Mix Proportions via ACI 211'!$B$84)","v":"Aggregate"},{"$f":"IF('Mix Proportions via ACI 211'!$C$88=\"\",\"\",'Mix Proportions via ACI 211'!$C$88)","v":"Intermediate Aggregate 1:"},{"$f":"IF('Mix Proportions via ACI 211'!$L$83=\"\",\"\",'Mix Proportions via ACI 211'!$L$83)","v":"SSD Weight (lbs/CY)"}]
[638,{"$f":"IF('Mix Proportions via ACI 211'!$F$89=\"\",\"\",'Mix Proportions via ACI 211'!$F$89)","v":""},{"$f":"IF('Mix Proportions via ACI 211'!$C$6=\"\",\"\",'Mix Proportions via ACI 211'!$C$6)","v":"Mix Proportions based on ACI 211.1-91®"},{"$f":"IF('Mix Proportions via ACI 211'!$B$84=\"\",\"\",'Mix Proportions via ACI 211'!$B$84)","v":"Aggregate"},{"$f":"IF('Mix Proportions via ACI 211'!$C$89=\"\",\"\",'Mix Proportions via ACI 211'!$C$89)","v":"Intermediate Aggregate 2:"},{"$f":"IF('Mix Proportions via ACI 211'!$F$83=\"\",\"\",'Mix Proportions via ACI 211'!$F$83)","v":"%"}]
[639,{"$f":"IF('Mix Proportions via ACI 211'!$G$89=\"\",\"\",'Mix Proportions via ACI 211'!$G$89)","v":""},{"$f":"IF('Mix Proportions via ACI 211'!$C$6=\"\",\"\",'Mix Proportions via ACI 211'!$C$6)","v":"Mix Proportions based on ACI 211.1-91®"},{"$f":"IF('Mix Proportions via ACI 211'!$B$84=\"\",\"\",'Mix Proportions via ACI 211'!$B$84)","v":"Aggregate"},{"$f":"IF('Mix Proportions via ACI 211'!$C$89=\"\",\"\",'Mix Proportions via ACI 211'!$C$89)","v":"Intermediate Aggregate 2:"},{"$f":"IF('Mix Proportions via ACI 211'!$G$83=\"\",\"\",'Mix Proportions via ACI 211'!$G$83)","v":"Sp. Gr. SSD"}]
[640,{"$f":"IF('Mix Proportions via ACI 211'!$H$89=\"\",\"\",'Mix Proportions via ACI 211'!$H$89)","v":" "},{"$f":"IF('Mix Proportions via ACI 211'!$C$6=\"\",\"\",'Mix Proportions via ACI 211'!$C$6)","v":"Mix Proportions based on ACI 211.1-91®"},{"$f":"IF('Mix Proportions via ACI 211'!$B$84=\"\",\"\",'Mix Proportions via ACI 211'!$B$84)","v":"Aggregate"},{"$f":"IF('Mix Proportions via ACI 211'!$C$89=\"\",\"\",'Mix Proportions via ACI 211'!$C$89)","v":"Intermediate Aggregate 2:"},{"$f":"IF('Mix Proportions via ACI 211'!$H$83=\"\",\"\",'Mix Proportions via ACI 211'!$H$83)","v":"Unit Weight, SSD, lbs/ft3"}]
[641,{"$f":"IF('Mix Proportions via ACI 211'!$I$89=\"\",\"\",'Mix Proportions via ACI 211'!$I$89)","v":""},{"$f":"IF('Mix Proportions via ACI 211'!$C$6=\"\",\"\",'Mix Proportions via ACI 211'!$C$6)","v":"Mix Proportions based on ACI 211.1-91®"},{"$f":"IF('Mix Proportions via ACI 211'!$B$84=\"\",\"\",'Mix Proportions via ACI 211'!$B$84)","v":"Aggregate"},{"$f":"IF('Mix Proportions via ACI 211'!$C$89=\"\",\"\",'Mix Proportions via ACI 211'!$C$89)","v":"Intermediate Aggregate 2:"},{"$f":"IF('Mix Proportions via ACI 211'!$I$83=\"\",\"\",'Mix Proportions via ACI 211'!$I$83)","v":"Bulk Vol. = CAF x 27, ft3"}]
[642,{"$f":"IF('Mix Proportions via ACI 211'!$K$89=\"\",\"\",'Mix Proportions via ACI 211'!$K$89)","v":""},{"$f":"IF('Mix Proportions via ACI 211'!$C$6=\"\",\"\",'Mix Proportions via ACI 211'!$C$6)","v":"Mix Proportions based on ACI 211.1-91®"},{"$f":"IF('Mix Proportions via ACI 211'!$B$84=\"\",\"\",'Mix Proportions via ACI 211'!$B$84)","v":"Aggregate"},{"$f":"IF('Mix Proportions via ACI 211'!$C$89=\"\",\"\",'Mix Proportions via ACI 211'!$C$89)","v":"Intermediate Aggregate 2:"},{"$f":"IF('Mix Proportions via ACI 211'!$K$83=\"\",\"\",'Mix Proportions via ACI 211'!$K$83)","v":"Absolute Vol. (ft3)"}]
[643,{"$f":"IF('Mix Proportions via ACI 211'!$L$89=\"\",\"\",'Mix Proportions via ACI 211'!$L$89)","v":""},{"$f":"IF('Mix Proportions via ACI 211'!$C$6=\"\",\"\",'Mix Proportions via ACI 211'!$C$6)","v":"Mix Proportions based on ACI 211.1-91®"},{"$f":"IF('Mix Proportions via ACI 211'!$B$84=\"\",\"\",'Mix Proportions via ACI 211'!$B$84)","v":"Aggregate"},{"$f":"IF('Mix Proportions via ACI 211'!$C$89=\"\",\"\",'Mix Proportions via ACI 211'!$C$89)","v":"Intermediate Aggregate 2:"},{"$f":"IF('Mix Proportions via ACI 211'!$L$83=\"\",\"\",'Mix Proportions via ACI 211'!$L$83)","v":"SSD Weight (lbs/CY)"}]
[644,{"$f":"IF('Mix Proportions via ACI 211'!$K$91=\"\",\"\",'Mix Proportions via ACI 211'!$K$91)","v":0},{"$f":"IF('Mix Proportions via ACI 211'!$C$6=\"\",\"\",'Mix Proportions via ACI 211'!$C$6)","v":"Mix Proportions based on ACI 211.1-91®"},{"$f":"IF('Mix Proportions via ACI 211'!$B$84=\"\",\"\",'Mix Proportions via ACI 211'!$B$84)","v":"Aggregate"},{"$f":"IF('Mix Proportions via ACI 211'!$C$91=\"\",\"\",'Mix Proportions via ACI 211'!$C$91)","v":"Mix vol. subtotal:"},{"$f":"IF('Mix Proportions via ACI 211'!$K$83=\"\",\"\",'Mix Proportions via ACI 211'!$K$83)","v":"Absolute Vol. (ft3)"}]
[645,{"$f":"IF('Mix Proportions via ACI 211'!$E$92=\"\",\"\",'Mix Proportions via ACI 211'!$E$92)","v":""},{"$f":"IF('Mix Proportions via ACI 211'!$C$6=\"\",\"\",'Mix Proportions via ACI 211'!$C$6)","v":"Mix Proportions based on ACI 211.1-91®"},{"$f":"IF('Mix Proportions via ACI 211'!$B$84=\"\",\"\",'Mix Proportions via ACI 211'!$B$84)","v":"Aggregate"},{"$f":"IF('Mix Proportions via ACI 211'!$C$92=\"\",\"\",'Mix Proportions via ACI 211'!$C$92)","v":"Weighted Average FM:"}]
[646,{"$f":"IF('Mix Proportions via ACI 211'!$F$93=\"\",\"\",'Mix Proportions via ACI 211'!$F$93)","v":""},{"$f":"IF('Mix Proportions via ACI 211'!$C$6=\"\",\"\",'Mix Proportions via ACI 211'!$C$6)","v":"Mix Proportions based on ACI 211.1-91®"},{"$f":"IF('Mix Proportions via ACI 211'!$B$84=\"\",\"\",'Mix Proportions via ACI 211'!$B$84)","v":"Aggregate"},{"$f":"IF('Mix Proportions via ACI 211'!$C$93=\"\",\"\",'Mix Proportions via ACI 211'!$C$93)","v":"Fine Aggregate 1"},{"$f":"IF('Mix Proportions via ACI 211'!$F$83=\"\",\"\",'Mix Proportions via ACI 211'!$F$83)","v":"%"}]
[647,{"$f":"IF('Mix Proportions via ACI 211'!$G$93=\"\",\"\",'Mix Proportions via ACI 211'!$G$93)","v":""},{"$f":"IF('Mix Proportions via ACI 211'!$C$6=\"\",\"\",'Mix Proportions via ACI 211'!$C$6)","v":"Mix Proportions based on ACI 211.1-91®"},{"$f":"IF('Mix Proportions via ACI 211'!$B$84=\"\",\"\",'Mix Proportions via ACI 211'!$B$84)","v":"Aggregate"},{"$f":"IF('Mix Proportions via ACI 211'!$C$93=\"\",\"\",'Mix Proportions via ACI 211'!$C$93)","v":"Fine Aggregate 1"},{"$f":"IF('Mix Proportions via ACI 211'!$G$83=\"\",\"\",'Mix Proportions via ACI 211'!$G$83)","v":"Sp. Gr. SSD"}]
[648,{"$f":"IF('Mix Proportions via ACI 211'!$K$93=\"\",\"\",'Mix Proportions via ACI 211'!$K$93)","v":""},{"$f":"IF('Mix Proportions via ACI 211'!$C$6=\"\",\"\",'Mix Proportions via ACI 211'!$C$6)","v":"Mix Proportions based on ACI 211.1-91®"},{"$f":"IF('Mix Proportions via ACI 211'!$B$84=\"\",\"\",'Mix Proportions via ACI 211'!$B$84)","v":"Aggregate"},{"$f":"IF('Mix Proportions via ACI 211'!$C$93=\"\",\"\",'Mix Proportions via ACI 211'!$C$93)","v":"Fine Aggregate 1"},{"$f":"IF('Mix Proportions via ACI 211'!$K$83=\"\",\"\",'Mix Proportions via ACI 211'!$K$83)","v":"Absolute Vol. (ft3)"}]
[649,{"$f":"IF('Mix Proportions via ACI 211'!$L$93=\"\",\"\",'Mix Proportions via ACI 211'!$L$93)","v":""},{"$f":"IF('Mix Proportions via ACI 211'!$C$6=\"\",\"\",'Mix Proportions via ACI 211'!$C$6)","v":"Mix Proportions based on ACI 211.1-91®"},{"$f":"IF('Mix Proportions via ACI 211'!$B$84=\"\",\"\",'Mix Proportions via ACI 211'!$B$84)","v":"Aggregate"},{"$f":"IF('Mix Proportions via ACI 211'!$C$93=\"\",\"\",'Mix Proportions via ACI 211'!$C$93)","v":"Fine Aggregate 1"},{"$f":"IF('Mix Proportions via ACI 211'!$L$83=\"\",\"\",'Mix Proportions via ACI 211'!$L$83)","v":"SSD Weight (lbs/CY)"}]
[650,{"$f":"IF('Mix Proportions via ACI 211'!$F$94=\"\",\"\",'Mix Proportions via ACI 211'!$F$94)","v":""},{"$f":"IF('Mix Proportions via ACI 211'!$C$6=\"\",\"\",'Mix Proportions via ACI 211'!$C$6)","v":"Mix Proportions based on ACI 211.1-91®"},{"$f":"IF('Mix Proportions via ACI 211'!$B$84=\"\",\"\",'Mix Proportions via ACI 211'!$B$84)","v":"Aggregate"},{"$f":"IF('Mix Proportions via ACI 211'!$C$94=\"\",\"\",'Mix Proportions via ACI 211'!$C$94)","v":"Fine Aggregate 2"},{"$f":"IF('Mix Proportions via ACI 211'!$F$83=\"\",\"\",'Mix Proportions via ACI 211'!$F$83)","v":"%"}]
[651,{"$f":"IF('Mix Proportions via ACI 211'!$G$94=\"\",\"\",'Mix Proportions via ACI 211'!$G$94)","v":""},{"$f":"IF('Mix Proportions via ACI 211'!$C$6=\"\",\"\",'Mix Proportions via ACI 211'!$C$6)","v":"Mix Proportions based on ACI 211.1-91®"},{"$f":"IF('Mix Proportions via ACI 211'!$B$84=\"\",\"\",'Mix Proportions via ACI 211'!$B$84)","v":"Aggregate"},{"$f":"IF('Mix Proportions via ACI 211'!$C$94=\"\",\"\",'Mix Proportions via ACI 211'!$C$94)","v":"Fine Aggregate 2"},{"$f":"IF('Mix Proportions via ACI 211'!$G$83=\"\",\"\",'Mix Proportions via ACI 211'!$G$83)","v":"Sp. Gr. SSD"}]
[652,{"$f":"IF('Mix Proportions via ACI 211'!$K$94=\"\",\"\",'Mix Proportions via ACI 211'!$K$94)","v":""},{"$f":"IF('Mix Proportions via ACI 211'!$C$6=\"\",\"\",'Mix Proportions via ACI 211'!$C$6)","v":"Mix Proportions based on ACI 211.1-91®"},{"$f":"IF('Mix Proportions via ACI 211'!$B$84=\"\",\"\",'Mix Proportions via ACI 211'!$B$84)","v":"Aggregate"},{"$f":"IF('Mix Proportions via ACI 211'!$C$94=\"\",\"\",'Mix Proportions via ACI 211'!$C$94)","v":"Fine Aggregate 2"},{"$f":"IF('Mix Proportions via ACI 211'!$K$83=\"\",\"\",'Mix Proportions via ACI 211'!$K$83)","v":"Absolute Vol. (ft3)"}]
[653,{"$f":"IF('Mix Proportions via ACI 211'!$L$94=\"\",\"\",'Mix Proportions via ACI 211'!$L$94)","v":""},{"$f":"IF('Mix Proportions via ACI 211'!$C$6=\"\",\"\",'Mix Proportions via ACI 211'!$C$6)","v":"Mix Proportions based on ACI 211.1-91®"},{"$f":"IF('Mix Proportions via ACI 211'!$B$84=\"\",\"\",'Mix Proportions via ACI 211'!$B$84)","v":"Aggregate"},{"$f":"IF('Mix Proportions via ACI 211'!$C$94=\"\",\"\",'Mix Proportions via ACI 211'!$C$94)","v":"Fine Aggregate 2"},{"$f":"IF('Mix Proportions via ACI 211'!$L$83=\"\",\"\",'Mix Proportions via ACI 211'!$L$83)","v":"SSD Weight (lbs/CY)"}]
[654,{"$f":"IF('Mix Proportions via ACI 211'!$K$99=\"\",\"\",'Mix Proportions via ACI 211'!$K$99)","v":0},{"$f":"IF('Mix Proportions via ACI 211'!$C$6=\"\",\"\",'Mix Proportions via ACI 211'!$C$6)","v":"Mix Proportions based on ACI 211.1-91®"},{"$f":"IF('Mix Proportions via ACI 211'!$C$99=\"\",\"\",'Mix Proportions via ACI 211'!$C$99)","v":"Total Weight:"},{"$f":"IF('Mix Proportions via ACI 211'!$K$98=\"\",\"\",'Mix Proportions via ACI 211'!$K$98)","v":"SSD Weight (lbs/CY)"}]
[655,{"$f":"IF('Mix Proportions via ACI 211'!$I$100=\"\",\"\",'Mix Proportions via ACI 211'!$I$100)","v":""},{"$f":"IF('Mix Proportions via ACI 211'!$C$6=\"\",\"\",'Mix Proportions via ACI 211'!$C$6)","v":"Mix Proportions based on ACI 211.1-91®"},{"$f":"IF('Mix Proportions via ACI 211'!$C$100=\"\",\"\",'Mix Proportions via ACI 211'!$C$100)","v":"Size of Truck, CY:"},{"$f":"IF('Mix Proportions via ACI 211'!$I$98=\"\",\"\",'Mix Proportions via ACI 211'!$I$98)","v":"CY"}]
[656,{"$f":"IF('Mix Proportions via ACI 211'!$I$101=\"\",\"\",'Mix Proportions via ACI 211'!$I$101)","v":""},{"$f":"IF('Mix Proportions via ACI 211'!$C$6=\"\",\"\",'Mix Proportions via ACI 211'!$C$6)","v":"Mix Proportions based on ACI 211.1-91®"},{"$f":"IF('Mix Proportions via ACI 211'!$C$101=\"\",\"\",'Mix Proportions via ACI 211'!$C$101)","v":"Est. Total Weight / Truck  :"},{"$f":"IF('Mix Proportions via ACI 211'!$K$98=\"\",\"\",'Mix Proportions via ACI 211'!$K$98)","v":"SSD Weight (lbs/CY)"}]
[657,{"$f":"IF('Mix Proportions via ACI 211'!$J$102=\"\",\"\",'Mix Proportions via ACI 211'!$J$102)","v":0},{"$f":"IF('Mix Proportions via ACI 211'!$C$6=\"\",\"\",'Mix Proportions via ACI 211'!$C$6)","v":"Mix Proportions based on ACI 211.1-91®"},{"$f":"IF('Mix Proportions via ACI 211'!$C$102=\"\",\"\",'Mix Proportions via ACI 211'!$C$102)","v":"Total Absolute Volume:"},{"$f":"IF('Mix Proportions via ACI 211'!$J$98=\"\",\"\",'Mix Proportions via ACI 211'!$J$98)","v":"Absolute Vol. (ft3)"}]
[658,{"$f":"IF('Mix Proportions via ACI 211'!$L$103=\"\",\"\",'Mix Proportions via ACI 211'!$L$103)","v":""},{"$f":"IF('Mix Proportions via ACI 211'!$C$6=\"\",\"\",'Mix Proportions via ACI 211'!$C$6)","v":"Mix Proportions based on ACI 211.1-91®"},{"$f":"IF('Mix Proportions via ACI 211'!$C$103=\"\",\"\",'Mix Proportions via ACI 211'!$C$103)","v":"Theoretical Weight of Concrete Computed on an Air-Free Basis (see Tex-417-A):"},{"$f":"IF('Mix Proportions via ACI 211'!$L$98=\"\",\"\",'Mix Proportions via ACI 211'!$L$98)","v":"lbs/ft3"}]
[659,{"$f":"IF('Mix Proportions via ACI 211'!$L$104=\"\",\"\",'Mix Proportions via ACI 211'!$L$104)","v":0},{"$f":"IF('Mix Proportions via ACI 211'!$C$6=\"\",\"\",'Mix Proportions via ACI 211'!$C$6)","v":"Mix Proportions based on ACI 211.1-91®"},{"$f":"IF('Mix Proportions via ACI 211'!$C$104=\"\",\"\",'Mix Proportions via ACI 211'!$C$104)","v":"Design Yield (Unit Weight):"},{"$f":"IF('Mix Proportions via ACI 211'!$L$98=\"\",\"\",'Mix Proportions via ACI 211'!$L$98)","v":"lbs/ft3"}]
[660,{"$f":"IF('Non-Vol. Mixers Tolerances'!$D$21=\"\",\"\",'Non-Vol. Mixers Tolerances'!$D$21)","v":""},{"$f":"IF('Non-Vol. Mixers Tolerances'!$B$6=\"\",\"\",'Non-Vol. Mixers Tolerances'!$B$6)","v":"Non-Vol. Mixers Tolerances"},{"$f":"IF('Non-Vol. Mixers Tolerances'!$C$21=\"\",\"\",'Non-Vol. Mixers Tolerances'!$C$21)","v":"Batch Size, CY:"}]
[661,{"$f":"IF('Non-Vol. Mixers Tolerances'!$G$21=\"\",\"\",'Non-Vol. Mixers Tolerances'!$G$21)","v":""},{"$f":"IF('Non-Vol. Mixers Tolerances'!$B$6=\"\",\"\",'Non-Vol. Mixers Tolerances'!$B$6)","v":"Non-Vol. Mixers Tolerances"},{"$f":"IF('Non-Vol. Mixers Tolerances'!$F$21=\"\",\"\",'Non-Vol. Mixers Tolerances'!$F$21)","v":"Amount of Ice, Lbs.:"}]
[662,{"$f":"IF('Non-Vol. Mixers Tolerances'!$E$24=\"\",\"\",'Non-Vol. Mixers Tolerances'!$E$24)","v":""},{"$f":"IF('Non-Vol. Mixers Tolerances'!$B$6=\"\",\"\",'Non-Vol. Mixers Tolerances'!$B$6)","v":"Non-Vol. Mixers Tolerances"},{"$f":"IF('Non-Vol. Mixers Tolerances'!$B$24=\"\",\"\",'Non-Vol. Mixers Tolerances'!$B$24)","v":"Free Moisture ( + ) or Absorption ( - ) (%)"},{"$f":"IF('Non-Vol. Mixers Tolerances'!$E$23=\"\",\"\",'Non-Vol. Mixers Tolerances'!$E$23)","v":"CA 1"}]
[663,{"$f":"IF('Non-Vol. Mixers Tolerances'!$F$24=\"\",\"\",'Non-Vol. Mixers Tolerances'!$F$24)","v":""},{"$f":"IF('Non-Vol. Mixers Tolerances'!$B$6=\"\",\"\",'Non-Vol. Mixers Tolerances'!$B$6)","v":"Non-Vol. Mixers Tolerances"},{"$f":"IF('Non-Vol. Mixers Tolerances'!$B$24=\"\",\"\",'Non-Vol. Mixers Tolerances'!$B$24)","v":"Free Moisture ( + ) or Absorption ( - ) (%)"},{"$f":"IF('Non-Vol. Mixers Tolerances'!$F$23=\"\",\"\",'Non-Vol. Mixers Tolerances'!$F$23)","v":"CA 2"}]
[664,{"$f":"IF('Non-Vol. Mixers Tolerances'!$G$24=\"\",\"\",'Non-Vol. Mixers Tolerances'!$G$24)","v":""},{"$f":"IF('Non-Vol. Mixers Tolerances'!$B$6=\"\",\"\",'Non-Vol. Mixers Tolerances'!$B$6)","v":"Non-Vol. Mixers Tolerances"},{"$f":"IF('Non-Vol. Mixers Tolerances'!$B$24=\"\",\"\",'Non-Vol. Mixers Tolerances'!$B$24)","v":"Free Moisture ( + ) or Absorption ( - ) (%)"},{"$f":"IF('Non-Vol. Mixers Tolerances'!$G$23=\"\",\"\",'Non-Vol. Mixers Tolerances'!$G$23)","v":"IA 1"}]
[665,{"$f":"IF('Non-Vol. Mixers Tolerances'!$H$24=\"\",\"\",'Non-Vol. Mixers Tolerances'!$H$24)","v":""},{"$f":"IF('Non-Vol. Mixers Tolerances'!$B$6=\"\",\"\",'Non-Vol. Mixers Tolerances'!$B$6)","v":"Non-Vol. Mixers Tolerances"},{"$f":"IF('Non-Vol. Mixers Tolerances'!$B$24=\"\",\"\",'Non-Vol. Mixers Tolerances'!$B$24)","v":"Free Moisture ( + ) or Absorption ( - ) (%)"},{"$f":"IF('Non-Vol. Mixers Tolerances'!$H$23=\"\",\"\",'Non-Vol. Mixers Tolerances'!$H$23)","v":"IA 2"}]
[666,{"$f":"IF('Non-Vol. Mixers Tolerances'!$I$24=\"\",\"\",'Non-Vol. Mixers Tolerances'!$I$24)","v":""},{"$f":"IF('Non-Vol. Mixers Tolerances'!$B$6=\"\",\"\",'Non-Vol. Mixers Tolerances'!$B$6)","v":"Non-Vol. Mixers Tolerances"},{"$f":"IF('Non-Vol. Mixers Tolerances'!$B$24=\"\",\"\",'Non-Vol. Mixers Tolerances'!$B$24)","v":"Free Moisture ( + ) or Absorption ( - ) (%)"},{"$f":"IF('Non-Vol. Mixers Tolerances'!$I$23=\"\",\"\",'Non-Vol. Mixers Tolerances'!$I$23)","v":"FA 1"}]
[667,{"$f":"IF('Non-Vol. Mixers Tolerances'!$J$24=\"\",\"\",'Non-Vol. Mixers Tolerances'!$J$24)","v":""},{"$f":"IF('Non-Vol. Mixers Tolerances'!$B$6=\"\",\"\",'Non-Vol. Mixers Tolerances'!$B$6)","v":"Non-Vol. Mixers Tolerances"},{"$f":"IF('Non-Vol. Mixers Tolerances'!$B$24=\"\",\"\",'Non-Vol. Mixers Tolerances'!$B$24)","v":"Free Moisture ( + ) or Absorption ( - ) (%)"},{"$f":"IF('Non-Vol. Mixers Tolerances'!$J$23=\"\",\"\",'Non-Vol. Mixers Tolerances'!$J$23)","v":"FA 2"}]
[668,{"$f":"IF('Non-Vol. Mixers Tolerances'!$F$29=\"\",\"\",'Non-Vol. Mixers Tolerances'!$F$29)","v":0},{"$f":"IF('Non-Vol. Mixers Tolerances'!$B$6=\"\",\"\",'Non-Vol. Mixers Tolerances'!$B$6)","v":"Non-Vol. Mixers Tolerances"},{"$f":"IF('Non-Vol. Mixers Tolerances'!$B$26=\"\",\"\",'Non-Vol. Mixers Tolerances'!$B$26)","v":"MEASUREMENT TOLERANCES -- Non-Volumetric Mixers"},{"$f":"IF('Non-Vol. Mixers Tolerances'!$B$29=\"\",\"\",'Non-Vol. Mixers Tolerances'!$B$29)","v":"Cement, wt."},{"$f":"IF('Non-Vol. Mixers Tolerances'!$F$27=\"\",\"\",'Non-Vol. Mixers Tolerances'!$F$27)","v":"Batch Weight (lbs/ CY)"}]
[669,{"$f":"IF('Non-Vol. Mixers Tolerances'!$G$29=\"\",\"\",'Non-Vol. Mixers Tolerances'!$G$29)","v":0},{"$f":"IF('Non-Vol. Mixers Tolerances'!$B$6=\"\",\"\",'Non-Vol. Mixers Tolerances'!$B$6)","v":"Non-Vol. Mixers Tolerances"},{"$f":"IF('Non-Vol. Mixers Tolerances'!$B$26=\"\",\"\",'Non-Vol. Mixers Tolerances'!$B$26)","v":"MEASUREMENT TOLERANCES -- Non-Volumetric Mixers"},{"$f":"IF('Non-Vol. Mixers Tolerances'!$B$29=\"\",\"\",'Non-Vol. Mixers Tolerances'!$B$29)","v":"Cement, wt."},{"$f":"IF('Non-Vol. Mixers Tolerances'!$G$27=\"\",\"\",'Non-Vol. Mixers Tolerances'!$G$27)","v":"Batch Volume (per CY)"}]
[670,{"$f":"IF('Non-Vol. Mixers Tolerances'!$H$29=\"\",\"\",'Non-Vol. Mixers Tolerances'!$H$29)","v":"0 - 0"},{"$f":"IF('Non-Vol. Mixers Tolerances'!$B$6=\"\",\"\",'Non-Vol. Mixers Tolerances'!$B$6)","v":"Non-Vol. Mixers Tolerances"},{"$f":"IF('Non-Vol. Mixers Tolerances'!$B$26=\"\",\"\",'Non-Vol. Mixers Tolerances'!$B$26)","v":"MEASUREMENT TOLERANCES -- Non-Volumetric Mixers"},{"$f":"IF('Non-Vol. Mixers Tolerances'!$B$29=\"\",\"\",'Non-Vol. Mixers Tolerances'!$B$29)","v":"Cement, wt."},{"$f":"IF('Non-Vol. Mixers Tolerances'!$H$27=\"\",\"\",'Non-Vol. Mixers Tolerances'!$H$27)","v":"Allowable Batching Weight Range (lbs/ CY)"}]
[671,{"$f":"IF('Non-Vol. Mixers Tolerances'!$F$30=\"\",\"\",'Non-Vol. Mixers Tolerances'!$F$30)","v":0},{"$f":"IF('Non-Vol. Mixers Tolerances'!$B$6=\"\",\"\",'Non-Vol. Mixers Tolerances'!$B$6)","v":"Non-Vol. Mixers Tolerances"},{"$f":"IF('Non-Vol. Mixers Tolerances'!$B$26=\"\",\"\",'Non-Vol. Mixers Tolerances'!$B$26)","v":"MEASUREMENT TOLERANCES -- Non-Volumetric Mixers"},{"$f":"IF('Non-Vol. Mixers Tolerances'!$B$30=\"\",\"\",'Non-Vol. Mixers Tolerances'!$B$30)","v":"Flyash, wt."},{"$f":"IF('Non-Vol. Mixers Tolerances'!$F$27=\"\",\"\",'Non-Vol. Mixers Tolerances'!$F$27)","v":"Batch Weight (lbs/ CY)"}]
[672,{"$f":"IF('Non-Vol. Mixers Tolerances'!$G$30=\"\",\"\",'Non-Vol. Mixers Tolerances'!$G$30)","v":0},{"$f":"IF('Non-Vol. Mixers Tolerances'!$B$6=\"\",\"\",'Non-Vol. Mixers Tolerances'!$B$6)","v":"Non-Vol. Mixers Tolerances"},{"$f":"IF('Non-Vol. Mixers Tolerances'!$B$26=\"\",\"\",'Non-Vol. Mixers Tolerances'!$B$26)","v":"MEASUREMENT TOLERANCES -- Non-Volumetric Mixers"},{"$f":"IF('Non-Vol. Mixers Tolerances'!$B$30=\"\",\"\",'Non-Vol. Mixers Tolerances'!$B$30)","v":"Flyash, wt."},{"$f":"IF('Non-Vol. Mixers Tolerances'!$G$27=\"\",\"\",'Non-Vol. Mixers Tolerances'!$G$27)","v":"Batch Volume (per CY)"}]
[673,{"$f":"IF('Non-Vol. Mixers Tolerances'!$H$30=\"\",\"\",'Non-Vol. Mixers Tolerances'!$H$30)","v":"0 - 0"},{"$f":"IF('Non-Vol. Mixers Tolerances'!$B$6=\"\",\"\",'Non-Vol. Mixers Tolerances'!$B$6)","v":"Non-Vol. Mixers Tolerances"},{"$f":"IF('Non-Vol. Mixers Tolerances'!$B$26=\"\",\"\",'Non-Vol. Mixers Tolerances'!$B$26)","v":"MEASUREMENT TOLERANCES -- Non-Volumetric Mixers"},{"$f":"IF('Non-Vol. Mixers Tolerances'!$B$30=\"\",\"\",'Non-Vol. Mixers Tolerances'!$B$30)","v":"Flyash, wt."},{"$f":"IF('Non-Vol. Mixers Tolerances'!$H$27=\"\",\"\",'Non-Vol. Mixers Tolerances'!$H$27)","v":"Allowable Batching Weight Range (lbs/ CY)"}]
[674,{"$f":"IF('Non-Vol. Mixers Tolerances'!$F$31=\"\",\"\",'Non-Vol. Mixers Tolerances'!$F$31)","v":0},{"$f":"IF('Non-Vol. Mixers Tolerances'!$B$6=\"\",\"\",'Non-Vol. Mixers Tolerances'!$B$6)","v":"Non-Vol. Mixers Tolerances"},{"$f":"IF('Non-Vol. Mixers Tolerances'!$B$26=\"\",\"\",'Non-Vol. Mixers Tolerances'!$B$26)","v":"MEASUREMENT TOLERANCES -- Non-Volumetric Mixers"},{"$f":"IF('Non-Vol. Mixers Tolerances'!$B$31=\"\",\"\",'Non-Vol. Mixers Tolerances'!$B$31)","v":"GGBF slag, wt."},{"$f":"IF('Non-Vol. Mixers Tolerances'!$F$27=\"\",\"\",'Non-Vol. Mixers Tolerances'!$F$27)","v":"Batch Weight (lbs/ CY)"}]
[675,{"$f":"IF('Non-Vol. Mixers Tolerances'!$G$31=\"\",\"\",'Non-Vol. Mixers Tolerances'!$G$31)","v":0},{"$f":"IF('Non-Vol. Mixers Tolerances'!$B$6=\"\",\"\",'Non-Vol. Mixers Tolerances'!$B$6)","v":"Non-Vol. Mixers Tolerances"},{"$f":"IF('Non-Vol. Mixers Tolerances'!$B$26=\"\",\"\",'Non-Vol. Mixers Tolerances'!$B$26)","v":"MEASUREMENT TOLERANCES -- Non-Volumetric Mixers"},{"$f":"IF('Non-Vol. Mixers Tolerances'!$B$31=\"\",\"\",'Non-Vol. Mixers Tolerances'!$B$31)","v":"GGBF slag, wt."},{"$f":"IF('Non-Vol. Mixers Tolerances'!$G$27=\"\",\"\",'Non-Vol. Mixers Tolerances'!$G$27)","v":"Batch Volume (per CY)"}]
[676,{"$f":"IF('Non-Vol. Mixers Tolerances'!$H$31=\"\",\"\",'Non-Vol. Mixers Tolerances'!$H$31)","v":"0 - 0"},{"$f":"IF('Non-Vol. Mixers Tolerances'!$B$6=\"\",\"\",'Non-Vol. Mixers Tolerances'!$B$6)","v":"Non-Vol. Mixers Tolerances"},{"$f":"IF('Non-Vol. Mixers Tolerances'!$B$26=\"\",\"\",'Non-Vol. Mixers Tolerances'!$B$26)","v":"MEASUREMENT TOLERANCES -- Non-Volumetric Mixers"},{"$f":"IF('Non-Vol. Mixers Tolerances'!$B$31=\"\",\"\",'Non-Vol. Mixers Tolerances'!$B$31)","v":"GGBF slag, wt."},{"$f":"IF('Non-Vol. Mixers Tolerances'!$H$27=\"\",\"\",'Non-Vol. Mixers Tolerances'!$H$27)","v":"Allowable Batching Weight Range (lbs/ CY)"}]
[677,{"$f":"IF('Non-Vol. Mixers Tolerances'!$F$32=\"\",\"\",'Non-Vol. Mixers Tolerances'!$F$32)","v":0},{"$f":"IF('Non-Vol. Mixers Tolerances'!$B$6=\"\",\"\",'Non-Vol. Mixers Tolerances'!$B$6)","v":"Non-Vol. Mixers Tolerances"},{"$f":"IF('Non-Vol. Mixers Tolerances'!$B$26=\"\",\"\",'Non-Vol. Mixers Tolerances'!$B$26)","v":"MEASUREMENT TOLERANCES -- Non-Volumetric Mixers"},{"$f":"IF('Non-Vol. Mixers Tolerances'!$B$32=\"\",\"\",'Non-Vol. Mixers Tolerances'!$B$32)","v":"Silica fume, wt."},{"$f":"IF('Non-Vol. Mixers Tolerances'!$F$27=\"\",\"\",'Non-Vol. Mixers Tolerances'!$F$27)","v":"Batch Weight (lbs/ CY)"}]
[678,{"$f":"IF('Non-Vol. Mixers Tolerances'!$G$32=\"\",\"\",'Non-Vol. Mixers Tolerances'!$G$32)","v":0},{"$f":"IF('Non-Vol. Mixers Tolerances'!$B$6=\"\",\"\",'Non-Vol. Mixers Tolerances'!$B$6)","v":"Non-Vol. Mixers Tolerances"},{"$f":"IF('Non-Vol. Mixers Tolerances'!$B$26=\"\",\"\",'Non-Vol. Mixers Tolerances'!$B$26)","v":"MEASUREMENT TOLERANCES -- Non-Volumetric Mixers"},{"$f":"IF('Non-Vol. Mixers Tolerances'!$B$32=\"\",\"\",'Non-Vol. Mixers Tolerances'!$B$32)","v":"Silica fume, wt."},{"$f":"IF('Non-Vol. Mixers Tolerances'!$G$27=\"\",\"\",'Non-Vol. Mixers Tolerances'!$G$27)","v":"Batch Volume (per CY)"}]
[679,{"$f":"IF('Non-Vol. Mixers Tolerances'!$H$32=\"\",\"\",'Non-Vol. Mixers Tolerances'!$H$32)","v":"0 - 0"},{"$f":"IF('Non-Vol. Mixers Tolerances'!$B$6=\"\",\"\",'Non-Vol. Mixers Tolerances'!$B$6)","v":"Non-Vol. Mixers Tolerances"},{"$f":"IF('Non-Vol. Mixers Tolerances'!$B$26=\"\",\"\",'Non-Vol. Mixers Tolerances'!$B$26)","v":"MEASUREMENT TOLERANCES -- Non-Volumetric Mixers"},{"$f":"IF('Non-Vol. Mixers Tolerances'!$B$32=\"\",\"\",'Non-Vol. Mixers Tolerances'!$B$32)","v":"Silica fume, wt."},{"$f":"IF('Non-Vol. Mixers Tolerances'!$H$27=\"\",\"\",'Non-Vol. Mixers Tolerances'!$H$27)","v":"Allowable Batching Weight Range (lbs/ CY)"}]
[680,{"$f":"IF('Non-Vol. Mixers Tolerances'!$F$33=\"\",\"\",'Non-Vol. Mixers Tolerances'!$F$33)","v":0},{"$f":"IF('Non-Vol. Mixers Tolerances'!$B$6=\"\",\"\",'Non-Vol. Mixers Tolerances'!$B$6)","v":"Non-Vol. Mixers Tolerances"},{"$f":"IF('Non-Vol. Mixers Tolerances'!$B$26=\"\",\"\",'Non-Vol. Mixers Tolerances'!$B$26)","v":"MEASUREMENT TOLERANCES -- Non-Volumetric Mixers"},{"$f":"IF('Non-Vol. Mixers Tolerances'!$B$33=\"\",\"\",'Non-Vol. Mixers Tolerances'!$B$33)","v":"UFFA, wt."},{"$f":"IF('Non-Vol. Mixers Tolerances'!$F$27=\"\",\"\",'Non-Vol. Mixers Tolerances'!$F$27)","v":"Batch Weight (lbs/ CY)"}]
[681,{"$f":"IF('Non-Vol. Mixers Tolerances'!$G$33=\"\",\"\",'Non-Vol. Mixers Tolerances'!$G$33)","v":0},{"$f":"IF('Non-Vol. Mixers Tolerances'!$B$6=\"\",\"\",'Non-Vol. Mixers Tolerances'!$B$6)","v":"Non-Vol. Mixers Tolerances"},{"$f":"IF('Non-Vol. Mixers Tolerances'!$B$26=\"\",\"\",'Non-Vol. Mixers Tolerances'!$B$26)","v":"MEASUREMENT TOLERANCES -- Non-Volumetric Mixers"},{"$f":"IF('Non-Vol. Mixers Tolerances'!$B$33=\"\",\"\",'Non-Vol. Mixers Tolerances'!$B$33)","v":"UFFA, wt."},{"$f":"IF('Non-Vol. Mixers Tolerances'!$G$27=\"\",\"\",'Non-Vol. Mixers Tolerances'!$G$27)","v":"Batch Volume (per CY)"}]
[682,{"$f":"IF('Non-Vol. Mixers Tolerances'!$H$33=\"\",\"\",'Non-Vol. Mixers Tolerances'!$H$33)","v":"0 - 0"},{"$f":"IF('Non-Vol. Mixers Tolerances'!$B$6=\"\",\"\",'Non-Vol. Mixers Tolerances'!$B$6)","v":"Non-Vol. Mixers Tolerances"},{"$f":"IF('Non-Vol. Mixers Tolerances'!$B$26=\"\",\"\",'Non-Vol. Mixers Tolerances'!$B$26)","v":"MEASUREMENT TOLERANCES -- Non-Volumetric Mixers"},{"$f":"IF('Non-Vol. Mixers Tolerances'!$B$33=\"\",\"\",'Non-Vol. Mixers Tolerances'!$B$33)","v":"UFFA, wt."},{"$f":"IF('Non-Vol. Mixers Tolerances'!$H$27=\"\",\"\",'Non-Vol. Mixers Tolerances'!$H$27)","v":"Allowable Batching Weight Range (lbs/ CY)"}]
[683,{"$f":"IF('Non-Vol. Mixers Tolerances'!$F$34=\"\",\"\",'Non-Vol. Mixers Tolerances'!$F$34)","v":0},{"$f":"IF('Non-Vol. Mixers Tolerances'!$B$6=\"\",\"\",'Non-Vol. Mixers Tolerances'!$B$6)","v":"Non-Vol. Mixers Tolerances"},{"$f":"IF('Non-Vol. Mixers Tolerances'!$B$26=\"\",\"\",'Non-Vol. Mixers Tolerances'!$B$26)","v":"MEASUREMENT TOLERANCES -- Non-Volumetric Mixers"},{"$f":"IF('Non-Vol. Mixers Tolerances'!$B$34=\"\",\"\",'Non-Vol. Mixers Tolerances'!$B$34)","v":"MFFA, wt."},{"$f":"IF('Non-Vol. Mixers Tolerances'!$F$27=\"\",\"\",'Non-Vol. Mixers Tolerances'!$F$27)","v":"Batch Weight (lbs/ CY)"}]
[684,{"$f":"IF('Non-Vol. Mixers Tolerances'!$G$34=\"\",\"\",'Non-Vol. Mixers Tolerances'!$G$34)","v":0},{"$f":"IF('Non-Vol. Mixers Tolerances'!$B$6=\"\",\"\",'Non-Vol. Mixers Tolerances'!$B$6)","v":"Non-Vol. Mixers Tolerances"},{"$f":"IF('Non-Vol. Mixers Tolerances'!$B$26=\"\",\"\",'Non-Vol. Mixers Tolerances'!$B$26)","v":"MEASUREMENT TOLERANCES -- Non-Volumetric Mixers"},{"$f":"IF('Non-Vol. Mixers Tolerances'!$B$34=\"\",\"\",'Non-Vol. Mixers Tolerances'!$B$34)","v":"MFFA, wt."},{"$f":"IF('Non-Vol. Mixers Tolerances'!$G$27=\"\",\"\",'Non-Vol. Mixers Tolerances'!$G$27)","v":"Batch Volume (per CY)"}]
[685,{"$f":"IF('Non-Vol. Mixers Tolerances'!$H$34=\"\",\"\",'Non-Vol. Mixers Tolerances'!$H$34)","v":"0 - 0"},{"$f":"IF('Non-Vol. Mixers Tolerances'!$B$6=\"\",\"\",'Non-Vol. Mixers Tolerances'!$B$6)","v":"Non-Vol. Mixers Tolerances"},{"$f":"IF('Non-Vol. Mixers Tolerances'!$B$26=\"\",\"\",'Non-Vol. Mixers Tolerances'!$B$26)","v":"MEASUREMENT TOLERANCES -- Non-Volumetric Mixers"},{"$f":"IF('Non-Vol. Mixers Tolerances'!$B$34=\"\",\"\",'Non-Vol. Mixers Tolerances'!$B$34)","v":"MFFA, wt."},{"$f":"IF('Non-Vol. Mixers Tolerances'!$H$27=\"\",\"\",'Non-Vol. Mixers Tolerances'!$H$27)","v":"Allowable Batching Weight Range (lbs/ CY)"}]
[686,{"$f":"IF('Non-Vol. Mixers Tolerances'!$F$35=\"\",\"\",'Non-Vol. Mixers Tolerances'!$F$35)","v":0},{"$f":"IF('Non-Vol. Mixers Tolerances'!$B$6=\"\",\"\",'Non-Vol. Mixers Tolerances'!$B$6)","v":"Non-Vol. Mixers Tolerances"},{"$f":"IF('Non-Vol. Mixers Tolerances'!$B$26=\"\",\"\",'Non-Vol. Mixers Tolerances'!$B$26)","v":"MEASUREMENT TOLERANCES -- Non-Volumetric Mixers"},{"$f":"IF('Non-Vol. Mixers Tolerances'!$B$35=\"\",\"\",'Non-Vol. Mixers Tolerances'!$B$35)","v":"Metakaolin, wt."},{"$f":"IF('Non-Vol. Mixers Tolerances'!$F$27=\"\",\"\",'Non-Vol. Mixers Tolerances'!$F$27)","v":"Batch Weight (lbs/ CY)"}]
[687,{"$f":"IF('Non-Vol. Mixers Tolerances'!$G$35=\"\",\"\",'Non-Vol. Mixers Tolerances'!$G$35)","v":0},{"$f":"IF('Non-Vol. Mixers Tolerances'!$B$6=\"\",\"\",'Non-Vol. Mixers Tolerances'!$B$6)","v":"Non-Vol. Mixers Tolerances"},{"$f":"IF('Non-Vol. Mixers Tolerances'!$B$26=\"\",\"\",'Non-Vol. Mixers Tolerances'!$B$26)","v":"MEASUREMENT TOLERANCES -- Non-Volumetric Mixers"},{"$f":"IF('Non-Vol. Mixers Tolerances'!$B$35=\"\",\"\",'Non-Vol. Mixers Tolerances'!$B$35)","v":"Metakaolin, wt."},{"$f":"IF('Non-Vol. Mixers Tolerances'!$G$27=\"\",\"\",'Non-Vol. Mixers Tolerances'!$G$27)","v":"Batch Volume (per CY)"}]
[688,{"$f":"IF('Non-Vol. Mixers Tolerances'!$H$35=\"\",\"\",'Non-Vol. Mixers Tolerances'!$H$35)","v":"0 - 0"},{"$f":"IF('Non-Vol. Mixers Tolerances'!$B$6=\"\",\"\",'Non-Vol. Mixers Tolerances'!$B$6)","v":"Non-Vol. Mixers Tolerances"},{"$f":"IF('Non-Vol. Mixers Tolerances'!$B$26=\"\",\"\",'Non-Vol. Mixers Tolerances'!$B$26)","v":"MEASUREMENT TOLERANCES -- Non-Volumetric Mixers"},{"$f":"IF('Non-Vol. Mixers Tolerances'!$B$35=\"\",\"\",'Non-Vol. Mixers Tolerances'!$B$35)","v":"Metakaolin, wt."},{"$f":"IF('Non-Vol. Mixers Tolerances'!$H$27=\"\",\"\",'Non-Vol. Mixers Tolerances'!$H$27)","v":"Allowable Batching Weight Range (lbs/ CY)"}]
[689,{"$f":"IF('Non-Vol. Mixers Tolerances'!$F$36=\"\",\"\",'Non-Vol. Mixers Tolerances'!$F$36)","v":0},{"$f":"IF('Non-Vol. Mixers Tolerances'!$B$6=\"\",\"\",'Non-Vol. Mixers Tolerances'!$B$6)","v":"Non-Vol. Mixers Tolerances"},{"$f":"IF('Non-Vol. Mixers Tolerances'!$B$26=\"\",\"\",'Non-Vol. Mixers Tolerances'!$B$26)","v":"MEASUREMENT TOLERANCES -- Non-Volumetric Mixers"},{"$f":"IF('Non-Vol. Mixers Tolerances'!$B$36=\"\",\"\",'Non-Vol. Mixers Tolerances'!$B$36)","v":"Other pozzolan, wt."},{"$f":"IF('Non-Vol. Mixers Tolerances'!$F$27=\"\",\"\",'Non-Vol. Mixers Tolerances'!$F$27)","v":"Batch Weight (lbs/ CY)"}]
[690,{"$f":"IF('Non-Vol. Mixers Tolerances'!$G$36=\"\",\"\",'Non-Vol. Mixers Tolerances'!$G$36)","v":0},{"$f":"IF('Non-Vol. Mixers Tolerances'!$B$6=\"\",\"\",'Non-Vol. Mixers Tolerances'!$B$6)","v":"Non-Vol. Mixers Tolerances"},{"$f":"IF('Non-Vol. Mixers Tolerances'!$B$26=\"\",\"\",'Non-Vol. Mixers Tolerances'!$B$26)","v":"MEASUREMENT TOLERANCES -- Non-Volumetric Mixers"},{"$f":"IF('Non-Vol. Mixers Tolerances'!$B$36=\"\",\"\",'Non-Vol. Mixers Tolerances'!$B$36)","v":"Other pozzolan, wt."},{"$f":"IF('Non-Vol. Mixers Tolerances'!$G$27=\"\",\"\",'Non-Vol. Mixers Tolerances'!$G$27)","v":"Batch Volume (per CY)"}]
[691,{"$f":"IF('Non-Vol. Mixers Tolerances'!$H$36=\"\",\"\",'Non-Vol. Mixers Tolerances'!$H$36)","v":"0 - 0"},{"$f":"IF('Non-Vol. Mixers Tolerances'!$B$6=\"\",\"\",'Non-Vol. Mixers Tolerances'!$B$6)","v":"Non-Vol. Mixers Tolerances"},{"$f":"IF('Non-Vol. Mixers Tolerances'!$B$26=\"\",\"\",'Non-Vol. Mixers Tolerances'!$B$26)","v":"MEASUREMENT TOLERANCES -- Non-Volumetric Mixers"},{"$f":"IF('Non-Vol. Mixers Tolerances'!$B$36=\"\",\"\",'Non-Vol. Mixers Tolerances'!$B$36)","v":"Other pozzolan, wt."},{"$f":"IF('Non-Vol. Mixers Tolerances'!$H$27=\"\",\"\",'Non-Vol. Mixers Tolerances'!$H$27)","v":"Allowable Batching Weight Range (lbs/ CY)"}]
[692,{"$f":"IF('Non-Vol. Mixers Tolerances'!$F$37=\"\",\"\",'Non-Vol. Mixers Tolerances'!$F$37)","v":0},{"$f":"IF('Non-Vol. Mixers Tolerances'!$B$6=\"\",\"\",'Non-Vol. Mixers Tolerances'!$B$6)","v":"Non-Vol. Mixers Tolerances"},{"$f":"IF('Non-Vol. Mixers Tolerances'!$B$26=\"\",\"\",'Non-Vol. Mixers Tolerances'!$B$26)","v":"MEASUREMENT TOLERANCES -- Non-Volumetric Mixers"},{"$f":"IF('Non-Vol. Mixers Tolerances'!$B$37=\"\",\"\",'Non-Vol. Mixers Tolerances'!$B$37)","v":"Water, wt. or volume"},{"$f":"IF('Non-Vol. Mixers Tolerances'!$F$27=\"\",\"\",'Non-Vol. Mixers Tolerances'!$F$27)","v":"Batch Weight (lbs/ CY)"}]
[693,{"$f":"IF('Non-Vol. Mixers Tolerances'!$G$37=\"\",\"\",'Non-Vol. Mixers Tolerances'!$G$37)","v":"0 (gal.)"},{"$f":"IF('Non-Vol. Mixers Tolerances'!$B$6=\"\",\"\",'Non-Vol. Mixers Tolerances'!$B$6)","v":"Non-Vol. Mixers Tolerances"},{"$f":"IF('Non-Vol. Mixers Tolerances'!$B$26=\"\",\"\",'Non-Vol. Mixers Tolerances'!$B$26)","v":"MEASUREMENT TOLERANCES -- Non-Volumetric Mixers"},{"$f":"IF('Non-Vol. Mixers Tolerances'!$B$37=\"\",\"\",'Non-Vol. Mixers Tolerances'!$B$37)","v":"Water, wt. or volume"},{"$f":"IF('Non-Vol. Mixers Tolerances'!$G$27=\"\",\"\",'Non-Vol. Mixers Tolerances'!$G$27)","v":"Batch Volume (per CY)"}]
[694,{"$f":"IF('Non-Vol. Mixers Tolerances'!$H$37=\"\",\"\",'Non-Vol. Mixers Tolerances'!$H$37)","v":"0 - 0"},{"$f":"IF('Non-Vol. Mixers Tolerances'!$B$6=\"\",\"\",'Non-Vol. Mixers Tolerances'!$B$6)","v":"Non-Vol. Mixers Tolerances"},{"$f":"IF('Non-Vol. Mixers Tolerances'!$B$26=\"\",\"\",'Non-Vol. Mixers Tolerances'!$B$26)","v":"MEASUREMENT TOLERANCES -- Non-Volumetric Mixers"},{"$f":"IF('Non-Vol. Mixers Tolerances'!$B$37=\"\",\"\",'Non-Vol. Mixers Tolerances'!$B$37)","v":"Water, wt. or volume"},{"$f":"IF('Non-Vol. Mixers Tolerances'!$H$27=\"\",\"\",'Non-Vol. Mixers Tolerances'!$H$27)","v":"Allowable Batching Weight Range (lbs/ CY)"}]
[695,{"$f":"IF('Non-Vol. Mixers Tolerances'!$J$37=\"\",\"\",'Non-Vol. Mixers Tolerances'!$J$37)","v":"0 - 0 (gal.)"},{"$f":"IF('Non-Vol. Mixers Tolerances'!$B$6=\"\",\"\",'Non-Vol. Mixers Tolerances'!$B$6)","v":"Non-Vol. Mixers Tolerances"},{"$f":"IF('Non-Vol. Mixers Tolerances'!$B$26=\"\",\"\",'Non-Vol. Mixers Tolerances'!$B$26)","v":"MEASUREMENT TOLERANCES -- Non-Volumetric Mixers"},{"$f":"IF('Non-Vol. Mixers Tolerances'!$B$37=\"\",\"\",'Non-Vol. Mixers Tolerances'!$B$37)","v":"Water, wt. or volume"},{"$f":"IF('Non-Vol. Mixers Tolerances'!$J$27=\"\",\"\",'Non-Vol. Mixers Tolerances'!$J$27)","v":"Allowable Batching Volume Range (per CY)"}]
[696,{"$f":"IF('Non-Vol. Mixers Tolerances'!$F$38=\"\",\"\",'Non-Vol. Mixers Tolerances'!$F$38)","v":0},{"$f":"IF('Non-Vol. Mixers Tolerances'!$B$6=\"\",\"\",'Non-Vol. Mixers Tolerances'!$B$6)","v":"Non-Vol. Mixers Tolerances"},{"$f":"IF('Non-Vol. Mixers Tolerances'!$B$26=\"\",\"\",'Non-Vol. Mixers Tolerances'!$B$26)","v":"MEASUREMENT TOLERANCES -- Non-Volumetric Mixers"},{"$f":"IF('Non-Vol. Mixers Tolerances'!$B$38=\"\",\"\",'Non-Vol. Mixers Tolerances'!$B$38)","v":"Fine aggregate 1, wt."},{"$f":"IF('Non-Vol. Mixers Tolerances'!$F$27=\"\",\"\",'Non-Vol. Mixers Tolerances'!$F$27)","v":"Batch Weight (lbs/ CY)"}]
[697,{"$f":"IF('Non-Vol. Mixers Tolerances'!$G$38=\"\",\"\",'Non-Vol. Mixers Tolerances'!$G$38)","v":0},{"$f":"IF('Non-Vol. Mixers Tolerances'!$B$6=\"\",\"\",'Non-Vol. Mixers Tolerances'!$B$6)","v":"Non-Vol. Mixers Tolerances"},{"$f":"IF('Non-Vol. Mixers Tolerances'!$B$26=\"\",\"\",'Non-Vol. Mixers Tolerances'!$B$26)","v":"MEASUREMENT TOLERANCES -- Non-Volumetric Mixers"},{"$f":"IF('Non-Vol. Mixers Tolerances'!$B$38=\"\",\"\",'Non-Vol. Mixers Tolerances'!$B$38)","v":"Fine aggregate 1, wt."},{"$f":"IF('Non-Vol. Mixers Tolerances'!$G$27=\"\",\"\",'Non-Vol. Mixers Tolerances'!$G$27)","v":"Batch Volume (per CY)"}]
[698,{"$f":"IF('Non-Vol. Mixers Tolerances'!$H$38=\"\",\"\",'Non-Vol. Mixers Tolerances'!$H$38)","v":"0 - 0"},{"$f":"IF('Non-Vol. Mixers Tolerances'!$B$6=\"\",\"\",'Non-Vol. Mixers Tolerances'!$B$6)","v":"Non-Vol. Mixers Tolerances"},{"$f":"IF('Non-Vol. Mixers Tolerances'!$B$26=\"\",\"\",'Non-Vol. Mixers Tolerances'!$B$26)","v":"MEASUREMENT TOLERANCES -- Non-Volumetric Mixers"},{"$f":"IF('Non-Vol. Mixers Tolerances'!$B$38=\"\",\"\",'Non-Vol. Mixers Tolerances'!$B$38)","v":"Fine aggregate 1, wt."},{"$f":"IF('Non-Vol. Mixers Tolerances'!$H$27=\"\",\"\",'Non-Vol. Mixers Tolerances'!$H$27)","v":"Allowable Batching Weight Range (lbs/ CY)"}]
[699,{"$f":"IF('Non-Vol. Mixers Tolerances'!$F$39=\"\",\"\",'Non-Vol. Mixers Tolerances'!$F$39)","v":0},{"$f":"IF('Non-Vol. Mixers Tolerances'!$B$6=\"\",\"\",'Non-Vol. Mixers Tolerances'!$B$6)","v":"Non-Vol. Mixers Tolerances"},{"$f":"IF('Non-Vol. Mixers Tolerances'!$B$26=\"\",\"\",'Non-Vol. Mixers Tolerances'!$B$26)","v":"MEASUREMENT TOLERANCES -- Non-Volumetric Mixers"},{"$f":"IF('Non-Vol. Mixers Tolerances'!$B$39=\"\",\"\",'Non-Vol. Mixers Tolerances'!$B$39)","v":"Fine aggregate 2, wt."},{"$f":"IF('Non-Vol. Mixers Tolerances'!$F$27=\"\",\"\",'Non-Vol. Mixers Tolerances'!$F$27)","v":"Batch Weight (lbs/ CY)"}]
[700,{"$f":"IF('Non-Vol. Mixers Tolerances'!$G$39=\"\",\"\",'Non-Vol. Mixers Tolerances'!$G$39)","v":0},{"$f":"IF('Non-Vol. Mixers Tolerances'!$B$6=\"\",\"\",'Non-Vol. Mixers Tolerances'!$B$6)","v":"Non-Vol. Mixers Tolerances"},{"$f":"IF('Non-Vol. Mixers Tolerances'!$B$26=\"\",\"\",'Non-Vol. Mixers Tolerances'!$B$26)","v":"MEASUREMENT TOLERANCES -- Non-Volumetric Mixers"},{"$f":"IF('Non-Vol. Mixers Tolerances'!$B$39=\"\",\"\",'Non-Vol. Mixers Tolerances'!$B$39)","v":"Fine aggregate 2, wt."},{"$f":"IF('Non-Vol. Mixers Tolerances'!$G$27=\"\",\"\",'Non-Vol. Mixers Tolerances'!$G$27)","v":"Batch Volume (per CY)"}]
[701,{"$f":"IF('Non-Vol. Mixers Tolerances'!$H$39=\"\",\"\",'Non-Vol. Mixers Tolerances'!$H$39)","v":"0 - 0"},{"$f":"IF('Non-Vol. Mixers Tolerances'!$B$6=\"\",\"\",'Non-Vol. Mixers Tolerances'!$B$6)","v":"Non-Vol. Mixers Tolerances"},{"$f":"IF('Non-Vol. Mixers Tolerances'!$B$26=\"\",\"\",'Non-Vol. Mixers Tolerances'!$B$26)","v":"MEASUREMENT TOLERANCES -- Non-Volumetric Mixers"},{"$f":"IF('Non-Vol. Mixers Tolerances'!$B$39=\"\",\"\",'Non-Vol. Mixers Tolerances'!$B$39)","v":"Fine aggregate 2, wt."},{"$f":"IF('Non-Vol. Mixers Tolerances'!$H$27=\"\",\"\",'Non-Vol. Mixers Tolerances'!$H$27)","v":"Allowable Batching Weight Range (lbs/ CY)"}]
[702,{"$f":"IF('Non-Vol. Mixers Tolerances'!$F$40=\"\",\"\",'Non-Vol. Mixers Tolerances'!$F$40)","v":0},{"$f":"IF('Non-Vol. Mixers Tolerances'!$B$6=\"\",\"\",'Non-Vol. Mixers Tolerances'!$B$6)","v":"Non-Vol. Mixers Tolerances"},{"$f":"IF('Non-Vol. Mixers Tolerances'!$B$26=\"\",\"\",'Non-Vol. Mixers Tolerances'!$B$26)","v":"MEASUREMENT TOLERANCES -- Non-Volumetric Mixers"},{"$f":"IF('Non-Vol. Mixers Tolerances'!$B$40=\"\",\"\",'Non-Vol. Mixers Tolerances'!$B$40)","v":"Coarse aggregate 1, wt."},{"$f":"IF('Non-Vol. Mixers Tolerances'!$F$27=\"\",\"\",'Non-Vol. Mixers Tolerances'!$F$27)","v":"Batch Weight (lbs/ CY)"}]
[703,{"$f":"IF('Non-Vol. Mixers Tolerances'!$G$40=\"\",\"\",'Non-Vol. Mixers Tolerances'!$G$40)","v":0},{"$f":"IF('Non-Vol. Mixers Tolerances'!$B$6=\"\",\"\",'Non-Vol. Mixers Tolerances'!$B$6)","v":"Non-Vol. Mixers Tolerances"},{"$f":"IF('Non-Vol. Mixers Tolerances'!$B$26=\"\",\"\",'Non-Vol. Mixers Tolerances'!$B$26)","v":"MEASUREMENT TOLERANCES -- Non-Volumetric Mixers"},{"$f":"IF('Non-Vol. Mixers Tolerances'!$B$40=\"\",\"\",'Non-Vol. Mixers Tolerances'!$B$40)","v":"Coarse aggregate 1, wt."},{"$f":"IF('Non-Vol. Mixers Tolerances'!$G$27=\"\",\"\",'Non-Vol. Mixers Tolerances'!$G$27)","v":"Batch Volume (per CY)"}]
[704,{"$f":"IF('Non-Vol. Mixers Tolerances'!$H$40=\"\",\"\",'Non-Vol. Mixers Tolerances'!$H$40)","v":"0 - 0"},{"$f":"IF('Non-Vol. Mixers Tolerances'!$B$6=\"\",\"\",'Non-Vol. Mixers Tolerances'!$B$6)","v":"Non-Vol. Mixers Tolerances"},{"$f":"IF('Non-Vol. Mixers Tolerances'!$B$26=\"\",\"\",'Non-Vol. Mixers Tolerances'!$B$26)","v":"MEASUREMENT TOLERANCES -- Non-Volumetric Mixers"},{"$f":"IF('Non-Vol. Mixers Tolerances'!$B$40=\"\",\"\",'Non-Vol. Mixers Tolerances'!$B$40)","v":"Coarse aggregate 1, wt."},{"$f":"IF('Non-Vol. Mixers Tolerances'!$H$27=\"\",\"\",'Non-Vol. Mixers Tolerances'!$H$27)","v":"Allowable Batching Weight Range (lbs/ CY)"}]
[705,{"$f":"IF('Non-Vol. Mixers Tolerances'!$F$41=\"\",\"\",'Non-Vol. Mixers Tolerances'!$F$41)","v":0},{"$f":"IF('Non-Vol. Mixers Tolerances'!$B$6=\"\",\"\",'Non-Vol. Mixers Tolerances'!$B$6)","v":"Non-Vol. Mixers Tolerances"},{"$f":"IF('Non-Vol. Mixers Tolerances'!$B$26=\"\",\"\",'Non-Vol. Mixers Tolerances'!$B$26)","v":"MEASUREMENT TOLERANCES -- Non-Volumetric Mixers"},{"$f":"IF('Non-Vol. Mixers Tolerances'!$B$41=\"\",\"\",'Non-Vol. Mixers Tolerances'!$B$41)","v":"Coarse aggregate 2, wt."},{"$f":"IF('Non-Vol. Mixers Tolerances'!$F$27=\"\",\"\",'Non-Vol. Mixers Tolerances'!$F$27)","v":"Batch Weight (lbs/ CY)"}]
[706,{"$f":"IF('Non-Vol. Mixers Tolerances'!$G$41=\"\",\"\",'Non-Vol. Mixers Tolerances'!$G$41)","v":0},{"$f":"IF('Non-Vol. Mixers Tolerances'!$B$6=\"\",\"\",'Non-Vol. Mixers Tolerances'!$B$6)","v":"Non-Vol. Mixers Tolerances"},{"$f":"IF('Non-Vol. Mixers Tolerances'!$B$26=\"\",\"\",'Non-Vol. Mixers Tolerances'!$B$26)","v":"MEASUREMENT TOLERANCES -- Non-Volumetric Mixers"},{"$f":"IF('Non-Vol. Mixers Tolerances'!$B$41=\"\",\"\",'Non-Vol. Mixers Tolerances'!$B$41)","v":"Coarse aggregate 2, wt."},{"$f":"IF('Non-Vol. Mixers Tolerances'!$G$27=\"\",\"\",'Non-Vol. Mixers Tolerances'!$G$27)","v":"Batch Volume (per CY)"}]
[707,{"$f":"IF('Non-Vol. Mixers Tolerances'!$H$41=\"\",\"\",'Non-Vol. Mixers Tolerances'!$H$41)","v":"0 - 0"},{"$f":"IF('Non-Vol. Mixers Tolerances'!$B$6=\"\",\"\",'Non-Vol. Mixers Tolerances'!$B$6)","v":"Non-Vol. Mixers Tolerances"},{"$f":"IF('Non-Vol. Mixers Tolerances'!$B$26=\"\",\"\",'Non-Vol. Mixers Tolerances'!$B$26)","v":"MEASUREMENT TOLERANCES -- Non-Volumetric Mixers"},{"$f":"IF('Non-Vol. Mixers Tolerances'!$B$41=\"\",\"\",'Non-Vol. Mixers Tolerances'!$B$41)","v":"Coarse aggregate 2, wt."},{"$f":"IF('Non-Vol. Mixers Tolerances'!$H$27=\"\",\"\",'Non-Vol. Mixers Tolerances'!$H$27)","v":"Allowable Batching Weight Range (lbs/ CY)"}]
[708,{"$f":"IF('Non-Vol. Mixers Tolerances'!$F$42=\"\",\"\",'Non-Vol. Mixers Tolerances'!$F$42)","v":0},{"$f":"IF('Non-Vol. Mixers Tolerances'!$B$6=\"\",\"\",'Non-Vol. Mixers Tolerances'!$B$6)","v":"Non-Vol. Mixers Tolerances"},{"$f":"IF('Non-Vol. Mixers Tolerances'!$B$26=\"\",\"\",'Non-Vol. Mixers Tolerances'!$B$26)","v":"MEASUREMENT TOLERANCES -- Non-Volumetric Mixers"},{"$f":"IF('Non-Vol. Mixers Tolerances'!$B$42=\"\",\"\",'Non-Vol. Mixers Tolerances'!$B$42)","v":"Intermediate aggregate 1, wt."},{"$f":"IF('Non-Vol. Mixers Tolerances'!$F$27=\"\",\"\",'Non-Vol. Mixers Tolerances'!$F$27)","v":"Batch Weight (lbs/ CY)"}]
[709,{"$f":"IF('Non-Vol. Mixers Tolerances'!$G$42=\"\",\"\",'Non-Vol. Mixers Tolerances'!$G$42)","v":0},{"$f":"IF('Non-Vol. Mixers Tolerances'!$B$6=\"\",\"\",'Non-Vol. Mixers Tolerances'!$B$6)","v":"Non-Vol. Mixers Tolerances"},{"$f":"IF('Non-Vol. Mixers Tolerances'!$B$26=\"\",\"\",'Non-Vol. Mixers Tolerances'!$B$26)","v":"MEASUREMENT TOLERANCES -- Non-Volumetric Mixers"},{"$f":"IF('Non-Vol. Mixers Tolerances'!$B$42=\"\",\"\",'Non-Vol. Mixers Tolerances'!$B$42)","v":"Intermediate aggregate 1, wt."},{"$f":"IF('Non-Vol. Mixers Tolerances'!$G$27=\"\",\"\",'Non-Vol. Mixers Tolerances'!$G$27)","v":"Batch Volume (per CY)"}]
[710,{"$f":"IF('Non-Vol. Mixers Tolerances'!$H$42=\"\",\"\",'Non-Vol. Mixers Tolerances'!$H$42)","v":"0 - 0"},{"$f":"IF('Non-Vol. Mixers Tolerances'!$B$6=\"\",\"\",'Non-Vol. Mixers Tolerances'!$B$6)","v":"Non-Vol. Mixers Tolerances"},{"$f":"IF('Non-Vol. Mixers Tolerances'!$B$26=\"\",\"\",'Non-Vol. Mixers Tolerances'!$B$26)","v":"MEASUREMENT TOLERANCES -- Non-Volumetric Mixers"},{"$f":"IF('Non-Vol. Mixers Tolerances'!$B$42=\"\",\"\",'Non-Vol. Mixers Tolerances'!$B$42)","v":"Intermediate aggregate 1, wt."},{"$f":"IF('Non-Vol. Mixers Tolerances'!$H$27=\"\",\"\",'Non-Vol. Mixers Tolerances'!$H$27)","v":"Allowable Batching Weight Range (lbs/ CY)"}]
[711,{"$f":"IF('Non-Vol. Mixers Tolerances'!$F$43=\"\",\"\",'Non-Vol. Mixers Tolerances'!$F$43)","v":0},{"$f":"IF('Non-Vol. Mixers Tolerances'!$B$6=\"\",\"\",'Non-Vol. Mixers Tolerances'!$B$6)","v":"Non-Vol. Mixers Tolerances"},{"$f":"IF('Non-Vol. Mixers Tolerances'!$B$26=\"\",\"\",'Non-Vol. Mixers Tolerances'!$B$26)","v":"MEASUREMENT TOLERANCES -- Non-Volumetric Mixers"},{"$f":"IF('Non-Vol. Mixers Tolerances'!$B$43=\"\",\"\",'Non-Vol. Mixers Tolerances'!$B$43)","v":"Intermediate aggregate 2, wt."},{"$f":"IF('Non-Vol. Mixers Tolerances'!$F$27=\"\",\"\",'Non-Vol. Mixers Tolerances'!$F$27)","v":"Batch Weight (lbs/ CY)"}]
[712,{"$f":"IF('Non-Vol. Mixers Tolerances'!$G$43=\"\",\"\",'Non-Vol. Mixers Tolerances'!$G$43)","v":0},{"$f":"IF('Non-Vol. Mixers Tolerances'!$B$6=\"\",\"\",'Non-Vol. Mixers Tolerances'!$B$6)","v":"Non-Vol. Mixers Tolerances"},{"$f":"IF('Non-Vol. Mixers Tolerances'!$B$26=\"\",\"\",'Non-Vol. Mixers Tolerances'!$B$26)","v":"MEASUREMENT TOLERANCES -- Non-Volumetric Mixers"},{"$f":"IF('Non-Vol. Mixers Tolerances'!$B$43=\"\",\"\",'Non-Vol. Mixers Tolerances'!$B$43)","v":"Intermediate aggregate 2, wt."},{"$f":"IF('Non-Vol. Mixers Tolerances'!$G$27=\"\",\"\",'Non-Vol. Mixers Tolerances'!$G$27)","v":"Batch Volume (per CY)"}]
[713,{"$f":"IF('Non-Vol. Mixers Tolerances'!$H$43=\"\",\"\",'Non-Vol. Mixers Tolerances'!$H$43)","v":"0 - 0"},{"$f":"IF('Non-Vol. Mixers Tolerances'!$B$6=\"\",\"\",'Non-Vol. Mixers Tolerances'!$B$6)","v":"Non-Vol. Mixers Tolerances"},{"$f":"IF('Non-Vol. Mixers Tolerances'!$B$26=\"\",\"\",'Non-Vol. Mixers Tolerances'!$B$26)","v":"MEASUREMENT TOLERANCES -- Non-Volumetric Mixers"},{"$f":"IF('Non-Vol. Mixers Tolerances'!$B$43=\"\",\"\",'Non-Vol. Mixers Tolerances'!$B$43)","v":"Intermediate aggregate 2, wt."},{"$f":"IF('Non-Vol. Mixers Tolerances'!$H$27=\"\",\"\",'Non-Vol. Mixers Tolerances'!$H$27)","v":"Allowable Batching Weight Range (lbs/ CY)"}]
[714,{"$f":"IF('Non-Vol. Mixers Tolerances'!$G$44=\"\",\"\",'Non-Vol. Mixers Tolerances'!$G$44)","v":""},{"$f":"IF('Non-Vol. Mixers Tolerances'!$B$6=\"\",\"\",'Non-Vol. Mixers Tolerances'!$B$6)","v":"Non-Vol. Mixers Tolerances"},{"$f":"IF('Non-Vol. Mixers Tolerances'!$B$26=\"\",\"\",'Non-Vol. Mixers Tolerances'!$B$26)","v":"MEASUREMENT TOLERANCES -- Non-Volumetric Mixers"},{"$f":"IF('Non-Vol. Mixers Tolerances'!$B$44=\"\",\"\",'Non-Vol. Mixers Tolerances'!$B$44)","v":"Air entraining admixture, volume"},{"$f":"IF('Non-Vol. Mixers Tolerances'!$G$27=\"\",\"\",'Non-Vol. Mixers Tolerances'!$G$27)","v":"Batch Volume (per CY)"}]
[715,{"$f":"IF('Non-Vol. Mixers Tolerances'!$J$44=\"\",\"\",'Non-Vol. Mixers Tolerances'!$J$44)","v":""},{"$f":"IF('Non-Vol. Mixers Tolerances'!$B$6=\"\",\"\",'Non-Vol. Mixers Tolerances'!$B$6)","v":"Non-Vol. Mixers Tolerances"},{"$f":"IF('Non-Vol. Mixers Tolerances'!$B$26=\"\",\"\",'Non-Vol. Mixers Tolerances'!$B$26)","v":"MEASUREMENT TOLERANCES -- Non-Volumetric Mixers"},{"$f":"IF('Non-Vol. Mixers Tolerances'!$B$44=\"\",\"\",'Non-Vol. Mixers Tolerances'!$B$44)","v":"Air entraining admixture, volume"},{"$f":"IF('Non-Vol. Mixers Tolerances'!$J$27=\"\",\"\",'Non-Vol. Mixers Tolerances'!$J$27)","v":"Allowable Batching Volume Range (per CY)"}]
[716,{"$f":"IF('Non-Vol. Mixers Tolerances'!$G$45=\"\",\"\",'Non-Vol. Mixers Tolerances'!$G$45)","v":""},{"$f":"IF('Non-Vol. Mixers Tolerances'!$B$6=\"\",\"\",'Non-Vol. Mixers Tolerances'!$B$6)","v":"Non-Vol. Mixers Tolerances"},{"$f":"IF('Non-Vol. Mixers Tolerances'!$B$26=\"\",\"\",'Non-Vol. Mixers Tolerances'!$B$26)","v":"MEASUREMENT TOLERANCES -- Non-Volumetric Mixers"},{"$f":"IF('Non-Vol. Mixers Tolerances'!$B$45=\"\",\"\",'Non-Vol. Mixers Tolerances'!$B$45)","v":"Set retarder, volume"},{"$f":"IF('Non-Vol. Mixers Tolerances'!$G$27=\"\",\"\",'Non-Vol. Mixers Tolerances'!$G$27)","v":"Batch Volume (per CY)"}]
[717,{"$f":"IF('Non-Vol. Mixers Tolerances'!$J$45=\"\",\"\",'Non-Vol. Mixers Tolerances'!$J$45)","v":""},{"$f":"IF('Non-Vol. Mixers Tolerances'!$B$6=\"\",\"\",'Non-Vol. Mixers Tolerances'!$B$6)","v":"Non-Vol. Mixers Tolerances"},{"$f":"IF('Non-Vol. Mixers Tolerances'!$B$26=\"\",\"\",'Non-Vol. Mixers Tolerances'!$B$26)","v":"MEASUREMENT TOLERANCES -- Non-Volumetric Mixers"},{"$f":"IF('Non-Vol. Mixers Tolerances'!$B$45=\"\",\"\",'Non-Vol. Mixers Tolerances'!$B$45)","v":"Set retarder, volume"},{"$f":"IF('Non-Vol. Mixers Tolerances'!$J$27=\"\",\"\",'Non-Vol. Mixers Tolerances'!$J$27)","v":"Allowable Batching Volume Range (per CY)"}]
[718,{"$f":"IF('Non-Vol. Mixers Tolerances'!$G$46=\"\",\"\",'Non-Vol. Mixers Tolerances'!$G$46)","v":""},{"$f":"IF('Non-Vol. Mixers Tolerances'!$B$6=\"\",\"\",'Non-Vol. Mixers Tolerances'!$B$6)","v":"Non-Vol. Mixers Tolerances"},{"$f":"IF('Non-Vol. Mixers Tolerances'!$B$26=\"\",\"\",'Non-Vol. Mixers Tolerances'!$B$26)","v":"MEASUREMENT TOLERANCES -- Non-Volumetric Mixers"},{"$f":"IF('Non-Vol. Mixers Tolerances'!$B$46=\"\",\"\",'Non-Vol. Mixers Tolerances'!$B$46)","v":"Accelerator, volume"},{"$f":"IF('Non-Vol. Mixers Tolerances'!$G$27=\"\",\"\",'Non-Vol. Mixers Tolerances'!$G$27)","v":"Batch Volume (per CY)"}]
[719,{"$f":"IF('Non-Vol. Mixers Tolerances'!$J$46=\"\",\"\",'Non-Vol. Mixers Tolerances'!$J$46)","v":""},{"$f":"IF('Non-Vol. Mixers Tolerances'!$B$6=\"\",\"\",'Non-Vol. Mixers Tolerances'!$B$6)","v":"Non-Vol. Mixers Tolerances"},{"$f":"IF('Non-Vol. Mixers Tolerances'!$B$26=\"\",\"\",'Non-Vol. Mixers Tolerances'!$B$26)","v":"MEASUREMENT TOLERANCES -- Non-Volumetric Mixers"},{"$f":"IF('Non-Vol. Mixers Tolerances'!$B$46=\"\",\"\",'Non-Vol. Mixers Tolerances'!$B$46)","v":"Accelerator, volume"},{"$f":"IF('Non-Vol. Mixers Tolerances'!$J$27=\"\",\"\",'Non-Vol. Mixers Tolerances'!$J$27)","v":"Allowable Batching Volume Range (per CY)"}]
[720,{"$f":"IF('Non-Vol. Mixers Tolerances'!$G$47=\"\",\"\",'Non-Vol. Mixers Tolerances'!$G$47)","v":""},{"$f":"IF('Non-Vol. Mixers Tolerances'!$B$6=\"\",\"\",'Non-Vol. Mixers Tolerances'!$B$6)","v":"Non-Vol. Mixers Tolerances"},{"$f":"IF('Non-Vol. Mixers Tolerances'!$B$26=\"\",\"\",'Non-Vol. Mixers Tolerances'!$B$26)","v":"MEASUREMENT TOLERANCES -- Non-Volumetric Mixers"},{"$f":"IF('Non-Vol. Mixers Tolerances'!$B$47=\"\",\"\",'Non-Vol. Mixers Tolerances'!$B$47)","v":"Water reducer, volume"},{"$f":"IF('Non-Vol. Mixers Tolerances'!$G$27=\"\",\"\",'Non-Vol. Mixers Tolerances'!$G$27)","v":"Batch Volume (per CY)"}]
[721,{"$f":"IF('Non-Vol. Mixers Tolerances'!$J$47=\"\",\"\",'Non-Vol. Mixers Tolerances'!$J$47)","v":""},{"$f":"IF('Non-Vol. Mixers Tolerances'!$B$6=\"\",\"\",'Non-Vol. Mixers Tolerances'!$B$6)","v":"Non-Vol. Mixers Tolerances"},{"$f":"IF('Non-Vol. Mixers Tolerances'!$B$26=\"\",\"\",'Non-Vol. Mixers Tolerances'!$B$26)","v":"MEASUREMENT TOLERANCES -- Non-Volumetric Mixers"},{"$f":"IF('Non-Vol. Mixers Tolerances'!$B$47=\"\",\"\",'Non-Vol. Mixers Tolerances'!$B$47)","v":"Water reducer, volume"},{"$f":"IF('Non-Vol. Mixers Tolerances'!$J$27=\"\",\"\",'Non-Vol. Mixers Tolerances'!$J$27)","v":"Allowable Batching Volume Range (per CY)"}]
[722,{"$f":"IF('Non-Vol. Mixers Tolerances'!$G$48=\"\",\"\",'Non-Vol. Mixers Tolerances'!$G$48)","v":""},{"$f":"IF('Non-Vol. Mixers Tolerances'!$B$6=\"\",\"\",'Non-Vol. Mixers Tolerances'!$B$6)","v":"Non-Vol. Mixers Tolerances"},{"$f":"IF('Non-Vol. Mixers Tolerances'!$B$26=\"\",\"\",'Non-Vol. Mixers Tolerances'!$B$26)","v":"MEASUREMENT TOLERANCES -- Non-Volumetric Mixers"},{"$f":"IF('Non-Vol. Mixers Tolerances'!$B$48=\"\",\"\",'Non-Vol. Mixers Tolerances'!$B$48)","v":"High-range water reducer, volume"},{"$f":"IF('Non-Vol. Mixers Tolerances'!$G$27=\"\",\"\",'Non-Vol. Mixers Tolerances'!$G$27)","v":"Batch Volume (per CY)"}]
[723,{"$f":"IF('Non-Vol. Mixers Tolerances'!$J$48=\"\",\"\",'Non-Vol. Mixers Tolerances'!$J$48)","v":""},{"$f":"IF('Non-Vol. Mixers Tolerances'!$B$6=\"\",\"\",'Non-Vol. Mixers Tolerances'!$B$6)","v":"Non-Vol. Mixers Tolerances"},{"$f":"IF('Non-Vol. Mixers Tolerances'!$B$26=\"\",\"\",'Non-Vol. Mixers Tolerances'!$B$26)","v":"MEASUREMENT TOLERANCES -- Non-Volumetric Mixers"},{"$f":"IF('Non-Vol. Mixers Tolerances'!$B$48=\"\",\"\",'Non-Vol. Mixers Tolerances'!$B$48)","v":"High-range water reducer, volume"},{"$f":"IF('Non-Vol. Mixers Tolerances'!$J$27=\"\",\"\",'Non-Vol. Mixers Tolerances'!$J$27)","v":"Allowable Batching Volume Range (per CY)"}]
[724,{"$f":"IF('Non-Vol. Mixers Tolerances'!$G$49=\"\",\"\",'Non-Vol. Mixers Tolerances'!$G$49)","v":""},{"$f":"IF('Non-Vol. Mixers Tolerances'!$B$6=\"\",\"\",'Non-Vol. Mixers Tolerances'!$B$6)","v":"Non-Vol. Mixers Tolerances"},{"$f":"IF('Non-Vol. Mixers Tolerances'!$B$26=\"\",\"\",'Non-Vol. Mixers Tolerances'!$B$26)","v":"MEASUREMENT TOLERANCES -- Non-Volumetric Mixers"},{"$f":"IF('Non-Vol. Mixers Tolerances'!$B$49=\"\",\"\",'Non-Vol. Mixers Tolerances'!$B$49)","v":"Water reducing retarder, volume"},{"$f":"IF('Non-Vol. Mixers Tolerances'!$G$27=\"\",\"\",'Non-Vol. Mixers Tolerances'!$G$27)","v":"Batch Volume (per CY)"}]
[725,{"$f":"IF('Non-Vol. Mixers Tolerances'!$J$49=\"\",\"\",'Non-Vol. Mixers Tolerances'!$J$49)","v":""},{"$f":"IF('Non-Vol. Mixers Tolerances'!$B$6=\"\",\"\",'Non-Vol. Mixers Tolerances'!$B$6)","v":"Non-Vol. Mixers Tolerances"},{"$f":"IF('Non-Vol. Mixers Tolerances'!$B$26=\"\",\"\",'Non-Vol. Mixers Tolerances'!$B$26)","v":"MEASUREMENT TOLERANCES -- Non-Volumetric Mixers"},{"$f":"IF('Non-Vol. Mixers Tolerances'!$B$49=\"\",\"\",'Non-Vol. Mixers Tolerances'!$B$49)","v":"Water reducing retarder, volume"},{"$f":"IF('Non-Vol. Mixers Tolerances'!$J$27=\"\",\"\",'Non-Vol. Mixers Tolerances'!$J$27)","v":"Allowable Batching Volume Range (per CY)"}]
[726,{"$f":"IF('Non-Vol. Mixers Tolerances'!$G$50=\"\",\"\",'Non-Vol. Mixers Tolerances'!$G$50)","v":""},{"$f":"IF('Non-Vol. Mixers Tolerances'!$B$6=\"\",\"\",'Non-Vol. Mixers Tolerances'!$B$6)","v":"Non-Vol. Mixers Tolerances"},{"$f":"IF('Non-Vol. Mixers Tolerances'!$B$26=\"\",\"\",'Non-Vol. Mixers Tolerances'!$B$26)","v":"MEASUREMENT TOLERANCES -- Non-Volumetric Mixers"},{"$f":"IF('Non-Vol. Mixers Tolerances'!$B$50=\"\",\"\",'Non-Vol. Mixers Tolerances'!$B$50)","v":"High-range water reducing retarder, volume"},{"$f":"IF('Non-Vol. Mixers Tolerances'!$G$27=\"\",\"\",'Non-Vol. Mixers Tolerances'!$G$27)","v":"Batch Volume (per CY)"}]
[727,{"$f":"IF('Non-Vol. Mixers Tolerances'!$J$50=\"\",\"\",'Non-Vol. Mixers Tolerances'!$J$50)","v":""},{"$f":"IF('Non-Vol. Mixers Tolerances'!$B$6=\"\",\"\",'Non-Vol. Mixers Tolerances'!$B$6)","v":"Non-Vol. Mixers Tolerances"},{"$f":"IF('Non-Vol. Mixers Tolerances'!$B$26=\"\",\"\",'Non-Vol. Mixers Tolerances'!$B$26)","v":"MEASUREMENT TOLERANCES -- Non-Volumetric Mixers"},{"$f":"IF('Non-Vol. Mixers Tolerances'!$B$50=\"\",\"\",'Non-Vol. Mixers Tolerances'!$B$50)","v":"High-range water reducing retarder, volume"},{"$f":"IF('Non-Vol. Mixers Tolerances'!$J$27=\"\",\"\",'Non-Vol. Mixers Tolerances'!$J$27)","v":"Allowable Batching Volume Range (per CY)"}]
[728,{"$f":"IF('Non-Vol. Mixers Tolerances'!$G$51=\"\",\"\",'Non-Vol. Mixers Tolerances'!$G$51)","v":""},{"$f":"IF('Non-Vol. Mixers Tolerances'!$B$6=\"\",\"\",'Non-Vol. Mixers Tolerances'!$B$6)","v":"Non-Vol. Mixers Tolerances"},{"$f":"IF('Non-Vol. Mixers Tolerances'!$B$26=\"\",\"\",'Non-Vol. Mixers Tolerances'!$B$26)","v":"MEASUREMENT TOLERANCES -- Non-Volumetric Mixers"},{"$f":"IF('Non-Vol. Mixers Tolerances'!$B$51=\"\",\"\",'Non-Vol. Mixers Tolerances'!$B$51)","v":"Lithium nitrate admixture, volume"},{"$f":"IF('Non-Vol. Mixers Tolerances'!$G$27=\"\",\"\",'Non-Vol. Mixers Tolerances'!$G$27)","v":"Batch Volume (per CY)"}]
[729,{"$f":"IF('Non-Vol. Mixers Tolerances'!$J$51=\"\",\"\",'Non-Vol. Mixers Tolerances'!$J$51)","v":""},{"$f":"IF('Non-Vol. Mixers Tolerances'!$B$6=\"\",\"\",'Non-Vol. Mixers Tolerances'!$B$6)","v":"Non-Vol. Mixers Tolerances"},{"$f":"IF('Non-Vol. Mixers Tolerances'!$B$26=\"\",\"\",'Non-Vol. Mixers Tolerances'!$B$26)","v":"MEASUREMENT TOLERANCES -- Non-Volumetric Mixers"},{"$f":"IF('Non-Vol. Mixers Tolerances'!$B$51=\"\",\"\",'Non-Vol. Mixers Tolerances'!$B$51)","v":"Lithium nitrate admixture, volume"},{"$f":"IF('Non-Vol. Mixers Tolerances'!$J$27=\"\",\"\",'Non-Vol. Mixers Tolerances'!$J$27)","v":"Allowable Batching Volume Range (per CY)"}]
[730,{"$f":"IF('Non-Vol. Mixers Tolerances'!$G$52=\"\",\"\",'Non-Vol. Mixers Tolerances'!$G$52)","v":""},{"$f":"IF('Non-Vol. Mixers Tolerances'!$B$6=\"\",\"\",'Non-Vol. Mixers Tolerances'!$B$6)","v":"Non-Vol. Mixers Tolerances"},{"$f":"IF('Non-Vol. Mixers Tolerances'!$B$26=\"\",\"\",'Non-Vol. Mixers Tolerances'!$B$26)","v":"MEASUREMENT TOLERANCES -- Non-Volumetric Mixers"},{"$f":"IF('Non-Vol. Mixers Tolerances'!$B$52=\"\",\"\",'Non-Vol. Mixers Tolerances'!$B$52)","v":"Corrosion inhibitor, volume"},{"$f":"IF('Non-Vol. Mixers Tolerances'!$G$27=\"\",\"\",'Non-Vol. Mixers Tolerances'!$G$27)","v":"Batch Volume (per CY)"}]
[731,{"$f":"IF('Non-Vol. Mixers Tolerances'!$J$44=\"\",\"\",'Non-Vol. Mixers Tolerances'!$J$44)","v":""},{"$f":"IF('Non-Vol. Mixers Tolerances'!$B$6=\"\",\"\",'Non-Vol. Mixers Tolerances'!$B$6)","v":"Non-Vol. Mixers Tolerances"},{"$f":"IF('Non-Vol. Mixers Tolerances'!$B$26=\"\",\"\",'Non-Vol. Mixers Tolerances'!$B$26)","v":"MEASUREMENT TOLERANCES -- Non-Volumetric Mixers"},{"$f":"IF('Non-Vol. Mixers Tolerances'!$B$52=\"\",\"\",'Non-Vol. Mixers Tolerances'!$B$52)","v":"Corrosion inhibitor, volume"},{"$f":"IF('Non-Vol. Mixers Tolerances'!$J$27=\"\",\"\",'Non-Vol. Mixers Tolerances'!$J$27)","v":"Allowable Batching Volume Range (per CY)"}]
[732,{"$f":"IF('Non-Vol. Mixers Tolerances'!$F$59=\"\",\"\",'Non-Vol. Mixers Tolerances'!$F$59)","v":0},{"$f":"IF('Non-Vol. Mixers Tolerances'!$B$6=\"\",\"\",'Non-Vol. Mixers Tolerances'!$B$6)","v":"Non-Vol. Mixers Tolerances"},{"$f":"IF('Non-Vol. Mixers Tolerances'!$B$56=\"\",\"\",'Non-Vol. Mixers Tolerances'!$B$56)","v":"MEASUREMENT TOLERANCES (CUMULATIVE WEIGHING) -- Non-Volumetric Mixers "},{"$f":"IF('Non-Vol. Mixers Tolerances'!$B$59=\"\",\"\",'Non-Vol. Mixers Tolerances'!$B$59)","v":"Cement, wt."},{"$f":"IF('Non-Vol. Mixers Tolerances'!$F$57=\"\",\"\",'Non-Vol. Mixers Tolerances'!$F$57)","v":"Batch Weight (lbs/ CY)"}]
[733,{"$f":"IF('Non-Vol. Mixers Tolerances'!$G$59=\"\",\"\",'Non-Vol. Mixers Tolerances'!$G$59)","v":0},{"$f":"IF('Non-Vol. Mixers Tolerances'!$B$6=\"\",\"\",'Non-Vol. Mixers Tolerances'!$B$6)","v":"Non-Vol. Mixers Tolerances"},{"$f":"IF('Non-Vol. Mixers Tolerances'!$B$56=\"\",\"\",'Non-Vol. Mixers Tolerances'!$B$56)","v":"MEASUREMENT TOLERANCES (CUMULATIVE WEIGHING) -- Non-Volumetric Mixers "},{"$f":"IF('Non-Vol. Mixers Tolerances'!$B$59=\"\",\"\",'Non-Vol. Mixers Tolerances'!$B$59)","v":"Cement, wt."},{"$f":"IF('Non-Vol. Mixers Tolerances'!$G$57=\"\",\"\",'Non-Vol. Mixers Tolerances'!$G$57)","v":"Batch Volume (per CY)"}]
[734,{"$f":"IF('Non-Vol. Mixers Tolerances'!$H$59=\"\",\"\",'Non-Vol. Mixers Tolerances'!$H$59)","v":"0 - 0"},{"$f":"IF('Non-Vol. Mixers Tolerances'!$B$6=\"\",\"\",'Non-Vol. Mixers Tolerances'!$B$6)","v":"Non-Vol. Mixers Tolerances"},{"$f":"IF('Non-Vol. Mixers Tolerances'!$B$56=\"\",\"\",'Non-Vol. Mixers Tolerances'!$B$56)","v":"MEASUREMENT TOLERANCES (CUMULATIVE WEIGHING) -- Non-Volumetric Mixers "},{"$f":"IF('Non-Vol. Mixers Tolerances'!$B$59=\"\",\"\",'Non-Vol. Mixers Tolerances'!$B$59)","v":"Cement, wt."},{"$f":"IF('Non-Vol. Mixers Tolerances'!$H$57=\"\",\"\",'Non-Vol. Mixers Tolerances'!$H$57)","v":"Allowable Batching Weight Range (lbs/ CY)"}]
[735,{"$f":"IF('Non-Vol. Mixers Tolerances'!$F$60=\"\",\"\",'Non-Vol. Mixers Tolerances'!$F$60)","v":0},{"$f":"IF('Non-Vol. Mixers Tolerances'!$B$6=\"\",\"\",'Non-Vol. Mixers Tolerances'!$B$6)","v":"Non-Vol. Mixers Tolerances"},{"$f":"IF('Non-Vol. Mixers Tolerances'!$B$56=\"\",\"\",'Non-Vol. Mixers Tolerances'!$B$56)","v":"MEASUREMENT TOLERANCES (CUMULATIVE WEIGHING) -- Non-Volumetric Mixers "},{"$f":"IF('Non-Vol. Mixers Tolerances'!$B$60=\"\",\"\",'Non-Vol. Mixers Tolerances'!$B$60)","v":"Flyash, wt."},{"$f":"IF('Non-Vol. Mixers Tolerances'!$F$57=\"\",\"\",'Non-Vol. Mixers Tolerances'!$F$57)","v":"Batch Weight (lbs/ CY)"}]
[736,{"$f":"IF('Non-Vol. Mixers Tolerances'!$G$60=\"\",\"\",'Non-Vol. Mixers Tolerances'!$G$60)","v":0},{"$f":"IF('Non-Vol. Mixers Tolerances'!$B$6=\"\",\"\",'Non-Vol. Mixers Tolerances'!$B$6)","v":"Non-Vol. Mixers Tolerances"},{"$f":"IF('Non-Vol. Mixers Tolerances'!$B$56=\"\",\"\",'Non-Vol. Mixers Tolerances'!$B$56)","v":"MEASUREMENT TOLERANCES (CUMULATIVE WEIGHING) -- Non-Volumetric Mixers "},{"$f":"IF('Non-Vol. Mixers Tolerances'!$B$60=\"\",\"\",'Non-Vol. Mixers Tolerances'!$B$60)","v":"Flyash, wt."},{"$f":"IF('Non-Vol. Mixers Tolerances'!$G$57=\"\",\"\",'Non-Vol. Mixers Tolerances'!$G$57)","v":"Batch Volume (per CY)"}]
[737,{"$f":"IF('Non-Vol. Mixers Tolerances'!$H$60=\"\",\"\",'Non-Vol. Mixers Tolerances'!$H$60)","v":"0 - 0"},{"$f":"IF('Non-Vol. Mixers Tolerances'!$B$6=\"\",\"\",'Non-Vol. Mixers Tolerances'!$B$6)","v":"Non-Vol. Mixers Tolerances"},{"$f":"IF('Non-Vol. Mixers Tolerances'!$B$56=\"\",\"\",'Non-Vol. Mixers Tolerances'!$B$56)","v":"MEASUREMENT TOLERANCES (CUMULATIVE WEIGHING) -- Non-Volumetric Mixers "},{"$f":"IF('Non-Vol. Mixers Tolerances'!$B$60=\"\",\"\",'Non-Vol. Mixers Tolerances'!$B$60)","v":"Flyash, wt."},{"$f":"IF('Non-Vol. Mixers Tolerances'!$H$57=\"\",\"\",'Non-Vol. Mixers Tolerances'!$H$57)","v":"Allowable Batching Weight Range (lbs/ CY)"}]
[738,{"$f":"IF('Non-Vol. Mixers Tolerances'!$F$61=\"\",\"\",'Non-Vol. Mixers Tolerances'!$F$61)","v":0},{"$f":"IF('Non-Vol. Mixers Tolerances'!$B$6=\"\",\"\",'Non-Vol. Mixers Tolerances'!$B$6)","v":"Non-Vol. Mixers Tolerances"},{"$f":"IF('Non-Vol. Mixers Tolerances'!$B$56=\"\",\"\",'Non-Vol. Mixers Tolerances'!$B$56)","v":"MEASUREMENT TOLERANCES (CUMULATIVE WEIGHING) -- Non-Volumetric Mixers "},{"$f":"IF('Non-Vol. Mixers Tolerances'!$B$61=\"\",\"\",'Non-Vol. Mixers Tolerances'!$B$61)","v":"GGBF slag, wt."},{"$f":"IF('Non-Vol. Mixers Tolerances'!$F$57=\"\",\"\",'Non-Vol. Mixers Tolerances'!$F$57)","v":"Batch Weight (lbs/ CY)"}]
[739,{"$f":"IF('Non-Vol. Mixers Tolerances'!$G$61=\"\",\"\",'Non-Vol. Mixers Tolerances'!$G$61)","v":0},{"$f":"IF('Non-Vol. Mixers Tolerances'!$B$6=\"\",\"\",'Non-Vol. Mixers Tolerances'!$B$6)","v":"Non-Vol. Mixers Tolerances"},{"$f":"IF('Non-Vol. Mixers Tolerances'!$B$56=\"\",\"\",'Non-Vol. Mixers Tolerances'!$B$56)","v":"MEASUREMENT TOLERANCES (CUMULATIVE WEIGHING) -- Non-Volumetric Mixers "},{"$f":"IF('Non-Vol. Mixers Tolerances'!$B$61=\"\",\"\",'Non-Vol. Mixers Tolerances'!$B$61)","v":"GGBF slag, wt."},{"$f":"IF('Non-Vol. Mixers Tolerances'!$G$57=\"\",\"\",'Non-Vol. Mixers Tolerances'!$G$57)","v":"Batch Volume (per CY)"}]
[740,{"$f":"IF('Non-Vol. Mixers Tolerances'!$H$61=\"\",\"\",'Non-Vol. Mixers Tolerances'!$H$61)","v":"0 - 0"},{"$f":"IF('Non-Vol. Mixers Tolerances'!$B$6=\"\",\"\",'Non-Vol. Mixers Tolerances'!$B$6)","v":"Non-Vol. Mixers Tolerances"},{"$f":"IF('Non-Vol. Mixers Tolerances'!$B$56=\"\",\"\",'Non-Vol. Mixers Tolerances'!$B$56)","v":"MEASUREMENT TOLERANCES (CUMULATIVE WEIGHING) -- Non-Volumetric Mixers "},{"$f":"IF('Non-Vol. Mixers Tolerances'!$B$61=\"\",\"\",'Non-Vol. Mixers Tolerances'!$B$61)","v":"GGBF slag, wt."},{"$f":"IF('Non-Vol. Mixers Tolerances'!$H$57=\"\",\"\",'Non-Vol. Mixers Tolerances'!$H$57)","v":"Allowable Batching Weight Range (lbs/ CY)"}]
[741,{"$f":"IF('Non-Vol. Mixers Tolerances'!$F$62=\"\",\"\",'Non-Vol. Mixers Tolerances'!$F$62)","v":0},{"$f":"IF('Non-Vol. Mixers Tolerances'!$B$6=\"\",\"\",'Non-Vol. Mixers Tolerances'!$B$6)","v":"Non-Vol. Mixers Tolerances"},{"$f":"IF('Non-Vol. Mixers Tolerances'!$B$56=\"\",\"\",'Non-Vol. Mixers Tolerances'!$B$56)","v":"MEASUREMENT TOLERANCES (CUMULATIVE WEIGHING) -- Non-Volumetric Mixers "},{"$f":"IF('Non-Vol. Mixers Tolerances'!$B$62=\"\",\"\",'Non-Vol. Mixers Tolerances'!$B$62)","v":"Silica fume, wt."},{"$f":"IF('Non-Vol. Mixers Tolerances'!$F$57=\"\",\"\",'Non-Vol. Mixers Tolerances'!$F$57)","v":"Batch Weight (lbs/ CY)"}]
[742,{"$f":"IF('Non-Vol. Mixers Tolerances'!$G$62=\"\",\"\",'Non-Vol. Mixers Tolerances'!$G$62)","v":0},{"$f":"IF('Non-Vol. Mixers Tolerances'!$B$6=\"\",\"\",'Non-Vol. Mixers Tolerances'!$B$6)","v":"Non-Vol. Mixers Tolerances"},{"$f":"IF('Non-Vol. Mixers Tolerances'!$B$56=\"\",\"\",'Non-Vol. Mixers Tolerances'!$B$56)","v":"MEASUREMENT TOLERANCES (CUMULATIVE WEIGHING) -- Non-Volumetric Mixers "},{"$f":"IF('Non-Vol. Mixers Tolerances'!$B$62=\"\",\"\",'Non-Vol. Mixers Tolerances'!$B$62)","v":"Silica fume, wt."},{"$f":"IF('Non-Vol. Mixers Tolerances'!$G$57=\"\",\"\",'Non-Vol. Mixers Tolerances'!$G$57)","v":"Batch Volume (per CY)"}]
[743,{"$f":"IF('Non-Vol. Mixers Tolerances'!$H$62=\"\",\"\",'Non-Vol. Mixers Tolerances'!$H$62)","v":"0 - 0"},{"$f":"IF('Non-Vol. Mixers Tolerances'!$B$6=\"\",\"\",'Non-Vol. Mixers Tolerances'!$B$6)","v":"Non-Vol. Mixers Tolerances"},{"$f":"IF('Non-Vol. Mixers Tolerances'!$B$56=\"\",\"\",'Non-Vol. Mixers Tolerances'!$B$56)","v":"MEASUREMENT TOLERANCES (CUMULATIVE WEIGHING) -- Non-Volumetric Mixers "},{"$f":"IF('Non-Vol. Mixers Tolerances'!$B$62=\"\",\"\",'Non-Vol. Mixers Tolerances'!$B$62)","v":"Silica fume, wt."},{"$f":"IF('Non-Vol. Mixers Tolerances'!$H$57=\"\",\"\",'Non-Vol. Mixers Tolerances'!$H$57)","v":"Allowable Batching Weight Range (lbs/ CY)"}]
[744,{"$f":"IF('Non-Vol. Mixers Tolerances'!$F$63=\"\",\"\",'Non-Vol. Mixers Tolerances'!$F$63)","v":0},{"$f":"IF('Non-Vol. Mixers Tolerances'!$B$6=\"\",\"\",'Non-Vol. Mixers Tolerances'!$B$6)","v":"Non-Vol. Mixers Tolerances"},{"$f":"IF('Non-Vol. Mixers Tolerances'!$B$56=\"\",\"\",'Non-Vol. Mixers Tolerances'!$B$56)","v":"MEASUREMENT TOLERANCES (CUMULATIVE WEIGHING) -- Non-Volumetric Mixers "},{"$f":"IF('Non-Vol. Mixers Tolerances'!$B$63=\"\",\"\",'Non-Vol. Mixers Tolerances'!$B$63)","v":"UFFA, wt."},{"$f":"IF('Non-Vol. Mixers Tolerances'!$F$57=\"\",\"\",'Non-Vol. Mixers Tolerances'!$F$57)","v":"Batch Weight (lbs/ CY)"}]
[745,{"$f":"IF('Non-Vol. Mixers Tolerances'!$G$63=\"\",\"\",'Non-Vol. Mixers Tolerances'!$G$63)","v":0},{"$f":"IF('Non-Vol. Mixers Tolerances'!$B$6=\"\",\"\",'Non-Vol. Mixers Tolerances'!$B$6)","v":"Non-Vol. Mixers Tolerances"},{"$f":"IF('Non-Vol. Mixers Tolerances'!$B$56=\"\",\"\",'Non-Vol. Mixers Tolerances'!$B$56)","v":"MEASUREMENT TOLERANCES (CUMULATIVE WEIGHING) -- Non-Volumetric Mixers "},{"$f":"IF('Non-Vol. Mixers Tolerances'!$B$63=\"\",\"\",'Non-Vol. Mixers Tolerances'!$B$63)","v":"UFFA, wt."},{"$f":"IF('Non-Vol. Mixers Tolerances'!$G$57=\"\",\"\",'Non-Vol. Mixers Tolerances'!$G$57)","v":"Batch Volume (per CY)"}]
[746,{"$f":"IF('Non-Vol. Mixers Tolerances'!$H$63=\"\",\"\",'Non-Vol. Mixers Tolerances'!$H$63)","v":"0 - 0"},{"$f":"IF('Non-Vol. Mixers Tolerances'!$B$6=\"\",\"\",'Non-Vol. Mixers Tolerances'!$B$6)","v":"Non-Vol. Mixers Tolerances"},{"$f":"IF('Non-Vol. Mixers Tolerances'!$B$56=\"\",\"\",'Non-Vol. Mixers Tolerances'!$B$56)","v":"MEASUREMENT TOLERANCES (CUMULATIVE WEIGHING) -- Non-Volumetric Mixers "},{"$f":"IF('Non-Vol. Mixers Tolerances'!$B$63=\"\",\"\",'Non-Vol. Mixers Tolerances'!$B$63)","v":"UFFA, wt."},{"$f":"IF('Non-Vol. Mixers Tolerances'!$H$57=\"\",\"\",'Non-Vol. Mixers Tolerances'!$H$57)","v":"Allowable Batching Weight Range (lbs/ CY)"}]
[747,{"$f":"IF('Non-Vol. Mixers Tolerances'!$F$64=\"\",\"\",'Non-Vol. Mixers Tolerances'!$F$64)","v":0},{"$f":"IF('Non-Vol. Mixers Tolerances'!$B$6=\"\",\"\",'Non-Vol. Mixers Tolerances'!$B$6)","v":"Non-Vol. Mixers Tolerances"},{"$f":"IF('Non-Vol. Mixers Tolerances'!$B$56=\"\",\"\",'Non-Vol. Mixers Tolerances'!$B$56)","v":"MEASUREMENT TOLERANCES (CUMULATIVE WEIGHING) -- Non-Volumetric Mixers "},{"$f":"IF('Non-Vol. Mixers Tolerances'!$B$64=\"\",\"\",'Non-Vol. Mixers Tolerances'!$B$64)","v":"MFFA, wt."},{"$f":"IF('Non-Vol. Mixers Tolerances'!$F$57=\"\",\"\",'Non-Vol. Mixers Tolerances'!$F$57)","v":"Batch Weight (lbs/ CY)"}]
[748,{"$f":"IF('Non-Vol. Mixers Tolerances'!$G$64=\"\",\"\",'Non-Vol. Mixers Tolerances'!$G$64)","v":0},{"$f":"IF('Non-Vol. Mixers Tolerances'!$B$6=\"\",\"\",'Non-Vol. Mixers Tolerances'!$B$6)","v":"Non-Vol. Mixers Tolerances"},{"$f":"IF('Non-Vol. Mixers Tolerances'!$B$56=\"\",\"\",'Non-Vol. Mixers Tolerances'!$B$56)","v":"MEASUREMENT TOLERANCES (CUMULATIVE WEIGHING) -- Non-Volumetric Mixers "},{"$f":"IF('Non-Vol. Mixers Tolerances'!$B$64=\"\",\"\",'Non-Vol. Mixers Tolerances'!$B$64)","v":"MFFA, wt."},{"$f":"IF('Non-Vol. Mixers Tolerances'!$G$57=\"\",\"\",'Non-Vol. Mixers Tolerances'!$G$57)","v":"Batch Volume (per CY)"}]
[749,{"$f":"IF('Non-Vol. Mixers Tolerances'!$H$64=\"\",\"\",'Non-Vol. Mixers Tolerances'!$H$64)","v":"0 - 0"},{"$f":"IF('Non-Vol. Mixers Tolerances'!$B$6=\"\",\"\",'Non-Vol. Mixers Tolerances'!$B$6)","v":"Non-Vol. Mixers Tolerances"},{"$f":"IF('Non-Vol. Mixers Tolerances'!$B$56=\"\",\"\",'Non-Vol. Mixers Tolerances'!$B$56)","v":"MEASUREMENT TOLERANCES (CUMULATIVE WEIGHING) -- Non-Volumetric Mixers "},{"$f":"IF('Non-Vol. Mixers Tolerances'!$B$64=\"\",\"\",'Non-Vol. Mixers Tolerances'!$B$64)","v":"MFFA, wt."},{"$f":"IF('Non-Vol. Mixers Tolerances'!$H$57=\"\",\"\",'Non-Vol. Mixers Tolerances'!$H$57)","v":"Allowable Batching Weight Range (lbs/ CY)"}]
[750,{"$f":"IF('Non-Vol. Mixers Tolerances'!$F$65=\"\",\"\",'Non-Vol. Mixers Tolerances'!$F$65)","v":0},{"$f":"IF('Non-Vol. Mixers Tolerances'!$B$6=\"\",\"\",'Non-Vol. Mixers Tolerances'!$B$6)","v":"Non-Vol. Mixers Tolerances"},{"$f":"IF('Non-Vol. Mixers Tolerances'!$B$56=\"\",\"\",'Non-Vol. Mixers Tolerances'!$B$56)","v":"MEASUREMENT TOLERANCES (CUMULATIVE WEIGHING) -- Non-Volumetric Mixers "},{"$f":"IF('Non-Vol. Mixers Tolerances'!$B$65=\"\",\"\",'Non-Vol. Mixers Tolerances'!$B$65)","v":"Metakaolin, wt."},{"$f":"IF('Non-Vol. Mixers Tolerances'!$F$57=\"\",\"\",'Non-Vol. Mixers Tolerances'!$F$57)","v":"Batch Weight (lbs/ CY)"}]
[751,{"$f":"IF('Non-Vol. Mixers Tolerances'!$G$65=\"\",\"\",'Non-Vol. Mixers Tolerances'!$G$65)","v":0},{"$f":"IF('Non-Vol. Mixers Tolerances'!$B$6=\"\",\"\",'Non-Vol. Mixers Tolerances'!$B$6)","v":"Non-Vol. Mixers Tolerances"},{"$f":"IF('Non-Vol. Mixers Tolerances'!$B$56=\"\",\"\",'Non-Vol. Mixers Tolerances'!$B$56)","v":"MEASUREMENT TOLERANCES (CUMULATIVE WEIGHING) -- Non-Volumetric Mixers "},{"$f":"IF('Non-Vol. Mixers Tolerances'!$B$65=\"\",\"\",'Non-Vol. Mixers Tolerances'!$B$65)","v":"Metakaolin, wt."},{"$f":"IF('Non-Vol. Mixers Tolerances'!$G$57=\"\",\"\",'Non-Vol. Mixers Tolerances'!$G$57)","v":"Batch Volume (per CY)"}]
[752,{"$f":"IF('Non-Vol. Mixers Tolerances'!$H$65=\"\",\"\",'Non-Vol. Mixers Tolerances'!$H$65)","v":"0 - 0"},{"$f":"IF('Non-Vol. Mixers Tolerances'!$B$6=\"\",\"\",'Non-Vol. Mixers Tolerances'!$B$6)","v":"Non-Vol. Mixers Tolerances"},{"$f":"IF('Non-Vol. Mixers Tolerances'!$B$56=\"\",\"\",'Non-Vol. Mixers Tolerances'!$B$56)","v":"MEASUREMENT TOLERANCES (CUMULATIVE WEIGHING) -- Non-Volumetric Mixers "},{"$f":"IF('Non-Vol. Mixers Tolerances'!$B$65=\"\",\"\",'Non-Vol. Mixers Tolerances'!$B$65)","v":"Metakaolin, wt."},{"$f":"IF('Non-Vol. Mixers Tolerances'!$H$57=\"\",\"\",'Non-Vol. Mixers Tolerances'!$H$57)","v":"Allowable Batching Weight Range (lbs/ CY)"}]
[753,{"$f":"IF('Non-Vol. Mixers Tolerances'!$F$66=\"\",\"\",'Non-Vol. Mixers Tolerances'!$F$66)","v":0},{"$f":"IF('Non-Vol. Mixers Tolerances'!$B$6=\"\",\"\",'Non-Vol. Mixers Tolerances'!$B$6)","v":"Non-Vol. Mixers Tolerances"},{"$f":"IF('Non-Vol. Mixers Tolerances'!$B$56=\"\",\"\",'Non-Vol. Mixers Tolerances'!$B$56)","v":"MEASUREMENT TOLERANCES (CUMULATIVE WEIGHING) -- Non-Volumetric Mixers "},{"$f":"IF('Non-Vol. Mixers Tolerances'!$B$66=\"\",\"\",'Non-Vol. Mixers Tolerances'!$B$66)","v":"Other pozzolan, wt."},{"$f":"IF('Non-Vol. Mixers Tolerances'!$F$57=\"\",\"\",'Non-Vol. Mixers Tolerances'!$F$57)","v":"Batch Weight (lbs/ CY)"}]
[754,{"$f":"IF('Non-Vol. Mixers Tolerances'!$G$66=\"\",\"\",'Non-Vol. Mixers Tolerances'!$G$66)","v":0},{"$f":"IF('Non-Vol. Mixers Tolerances'!$B$6=\"\",\"\",'Non-Vol. Mixers Tolerances'!$B$6)","v":"Non-Vol. Mixers Tolerances"},{"$f":"IF('Non-Vol. Mixers Tolerances'!$B$56=\"\",\"\",'Non-Vol. Mixers Tolerances'!$B$56)","v":"MEASUREMENT TOLERANCES (CUMULATIVE WEIGHING) -- Non-Volumetric Mixers "},{"$f":"IF('Non-Vol. Mixers Tolerances'!$B$66=\"\",\"\",'Non-Vol. Mixers Tolerances'!$B$66)","v":"Other pozzolan, wt."},{"$f":"IF('Non-Vol. Mixers Tolerances'!$G$57=\"\",\"\",'Non-Vol. Mixers Tolerances'!$G$57)","v":"Batch Volume (per CY)"}]
[755,{"$f":"IF('Non-Vol. Mixers Tolerances'!$H$66=\"\",\"\",'Non-Vol. Mixers Tolerances'!$H$66)","v":"0 - 0"},{"$f":"IF('Non-Vol. Mixers Tolerances'!$B$6=\"\",\"\",'Non-Vol. Mixers Tolerances'!$B$6)","v":"Non-Vol. Mixers Tolerances"},{"$f":"IF('Non-Vol. Mixers Tolerances'!$B$56=\"\",\"\",'Non-Vol. Mixers Tolerances'!$B$56)","v":"MEASUREMENT TOLERANCES (CUMULATIVE WEIGHING) -- Non-Volumetric Mixers "},{"$f":"IF('Non-Vol. Mixers Tolerances'!$B$66=\"\",\"\",'Non-Vol. Mixers Tolerances'!$B$66)","v":"Other pozzolan, wt."},{"$f":"IF('Non-Vol. Mixers Tolerances'!$H$57=\"\",\"\",'Non-Vol. Mixers Tolerances'!$H$57)","v":"Allowable Batching Weight Range (lbs/ CY)"}]
[756,{"$f":"IF('Non-Vol. Mixers Tolerances'!$F$67=\"\",\"\",'Non-Vol. Mixers Tolerances'!$F$67)","v":0},{"$f":"IF('Non-Vol. Mixers Tolerances'!$B$6=\"\",\"\",'Non-Vol. Mixers Tolerances'!$B$6)","v":"Non-Vol. Mixers Tolerances"},{"$f":"IF('Non-Vol. Mixers Tolerances'!$B$56=\"\",\"\",'Non-Vol. Mixers Tolerances'!$B$56)","v":"MEASUREMENT TOLERANCES (CUMULATIVE WEIGHING) -- Non-Volumetric Mixers "},{"$f":"IF('Non-Vol. Mixers Tolerances'!$B$67=\"\",\"\",'Non-Vol. Mixers Tolerances'!$B$67)","v":"Water, wt. or volume"},{"$f":"IF('Non-Vol. Mixers Tolerances'!$F$57=\"\",\"\",'Non-Vol. Mixers Tolerances'!$F$57)","v":"Batch Weight (lbs/ CY)"}]
[757,{"$f":"IF('Non-Vol. Mixers Tolerances'!$G$67=\"\",\"\",'Non-Vol. Mixers Tolerances'!$G$67)","v":"0 (gal.)"},{"$f":"IF('Non-Vol. Mixers Tolerances'!$B$6=\"\",\"\",'Non-Vol. Mixers Tolerances'!$B$6)","v":"Non-Vol. Mixers Tolerances"},{"$f":"IF('Non-Vol. Mixers Tolerances'!$B$56=\"\",\"\",'Non-Vol. Mixers Tolerances'!$B$56)","v":"MEASUREMENT TOLERANCES (CUMULATIVE WEIGHING) -- Non-Volumetric Mixers "},{"$f":"IF('Non-Vol. Mixers Tolerances'!$B$67=\"\",\"\",'Non-Vol. Mixers Tolerances'!$B$67)","v":"Water, wt. or volume"},{"$f":"IF('Non-Vol. Mixers Tolerances'!$G$57=\"\",\"\",'Non-Vol. Mixers Tolerances'!$G$57)","v":"Batch Volume (per CY)"}]
[758,{"$f":"IF('Non-Vol. Mixers Tolerances'!$H$67=\"\",\"\",'Non-Vol. Mixers Tolerances'!$H$67)","v":"0 - 0"},{"$f":"IF('Non-Vol. Mixers Tolerances'!$B$6=\"\",\"\",'Non-Vol. Mixers Tolerances'!$B$6)","v":"Non-Vol. Mixers Tolerances"},{"$f":"IF('Non-Vol. Mixers Tolerances'!$B$56=\"\",\"\",'Non-Vol. Mixers Tolerances'!$B$56)","v":"MEASUREMENT TOLERANCES (CUMULATIVE WEIGHING) -- Non-Volumetric Mixers "},{"$f":"IF('Non-Vol. Mixers Tolerances'!$B$67=\"\",\"\",'Non-Vol. Mixers Tolerances'!$B$67)","v":"Water, wt. or volume"},{"$f":"IF('Non-Vol. Mixers Tolerances'!$H$57=\"\",\"\",'Non-Vol. Mixers Tolerances'!$H$57)","v":"Allowable Batching Weight Range (lbs/ CY)"}]
[759,{"$f":"IF('Non-Vol. Mixers Tolerances'!$J$67=\"\",\"\",'Non-Vol. Mixers Tolerances'!$J$67)","v":"0 - 0 (gal.)"},{"$f":"IF('Non-Vol. Mixers Tolerances'!$B$6=\"\",\"\",'Non-Vol. Mixers Tolerances'!$B$6)","v":"Non-Vol. Mixers Tolerances"},{"$f":"IF('Non-Vol. Mixers Tolerances'!$B$56=\"\",\"\",'Non-Vol. Mixers Tolerances'!$B$56)","v":"MEASUREMENT TOLERANCES (CUMULATIVE WEIGHING) -- Non-Volumetric Mixers "},{"$f":"IF('Non-Vol. Mixers Tolerances'!$B$67=\"\",\"\",'Non-Vol. Mixers Tolerances'!$B$67)","v":"Water, wt. or volume"},{"$f":"IF('Non-Vol. Mixers Tolerances'!$J$57=\"\",\"\",'Non-Vol. Mixers Tolerances'!$J$57)","v":"Allowable Batching Volume Range (per CY)"}]
[760,{"$f":"IF('Non-Vol. Mixers Tolerances'!$F$68=\"\",\"\",'Non-Vol. Mixers Tolerances'!$F$68)","v":0},{"$f":"IF('Non-Vol. Mixers Tolerances'!$B$6=\"\",\"\",'Non-Vol. Mixers Tolerances'!$B$6)","v":"Non-Vol. Mixers Tolerances"},{"$f":"IF('Non-Vol. Mixers Tolerances'!$B$56=\"\",\"\",'Non-Vol. Mixers Tolerances'!$B$56)","v":"MEASUREMENT TOLERANCES (CUMULATIVE WEIGHING) -- Non-Volumetric Mixers "},{"$f":"IF('Non-Vol. Mixers Tolerances'!$B$68=\"\",\"\",'Non-Vol. Mixers Tolerances'!$B$68)","v":"Fine aggregate 1, wt."},{"$f":"IF('Non-Vol. Mixers Tolerances'!$F$57=\"\",\"\",'Non-Vol. Mixers Tolerances'!$F$57)","v":"Batch Weight (lbs/ CY)"}]
[761,{"$f":"IF('Non-Vol. Mixers Tolerances'!$G$68=\"\",\"\",'Non-Vol. Mixers Tolerances'!$G$68)","v":0},{"$f":"IF('Non-Vol. Mixers Tolerances'!$B$6=\"\",\"\",'Non-Vol. Mixers Tolerances'!$B$6)","v":"Non-Vol. Mixers Tolerances"},{"$f":"IF('Non-Vol. Mixers Tolerances'!$B$56=\"\",\"\",'Non-Vol. Mixers Tolerances'!$B$56)","v":"MEASUREMENT TOLERANCES (CUMULATIVE WEIGHING) -- Non-Volumetric Mixers "},{"$f":"IF('Non-Vol. Mixers Tolerances'!$B$68=\"\",\"\",'Non-Vol. Mixers Tolerances'!$B$68)","v":"Fine aggregate 1, wt."},{"$f":"IF('Non-Vol. Mixers Tolerances'!$G$57=\"\",\"\",'Non-Vol. Mixers Tolerances'!$G$57)","v":"Batch Volume (per CY)"}]
[762,{"$f":"IF('Non-Vol. Mixers Tolerances'!$H$68=\"\",\"\",'Non-Vol. Mixers Tolerances'!$H$68)","v":"0 - 0"},{"$f":"IF('Non-Vol. Mixers Tolerances'!$B$6=\"\",\"\",'Non-Vol. Mixers Tolerances'!$B$6)","v":"Non-Vol. Mixers Tolerances"},{"$f":"IF('Non-Vol. Mixers Tolerances'!$B$56=\"\",\"\",'Non-Vol. Mixers Tolerances'!$B$56)","v":"MEASUREMENT TOLERANCES (CUMULATIVE WEIGHING) -- Non-Volumetric Mixers "},{"$f":"IF('Non-Vol. Mixers Tolerances'!$B$68=\"\",\"\",'Non-Vol. Mixers Tolerances'!$B$68)","v":"Fine aggregate 1, wt."},{"$f":"IF('Non-Vol. Mixers Tolerances'!$H$57=\"\",\"\",'Non-Vol. Mixers Tolerances'!$H$57)","v":"Allowable Batching Weight Range (lbs/ CY)"}]
[763,{"$f":"IF('Non-Vol. Mixers Tolerances'!$F$69=\"\",\"\",'Non-Vol. Mixers Tolerances'!$F$69)","v":0},{"$f":"IF('Non-Vol. Mixers Tolerances'!$B$6=\"\",\"\",'Non-Vol. Mixers Tolerances'!$B$6)","v":"Non-Vol. Mixers Tolerances"},{"$f":"IF('Non-Vol. Mixers Tolerances'!$B$56=\"\",\"\",'Non-Vol. Mixers Tolerances'!$B$56)","v":"MEASUREMENT TOLERANCES (CUMULATIVE WEIGHING) -- Non-Volumetric Mixers "},{"$f":"IF('Non-Vol. Mixers Tolerances'!$B$69=\"\",\"\",'Non-Vol. Mixers Tolerances'!$B$69)","v":"Fine aggregate 2, wt."},{"$f":"IF('Non-Vol. Mixers Tolerances'!$F$57=\"\",\"\",'Non-Vol. Mixers Tolerances'!$F$57)","v":"Batch Weight (lbs/ CY)"}]
[764,{"$f":"IF('Non-Vol. Mixers Tolerances'!$G$69=\"\",\"\",'Non-Vol. Mixers Tolerances'!$G$69)","v":0},{"$f":"IF('Non-Vol. Mixers Tolerances'!$B$6=\"\",\"\",'Non-Vol. Mixers Tolerances'!$B$6)","v":"Non-Vol. Mixers Tolerances"},{"$f":"IF('Non-Vol. Mixers Tolerances'!$B$56=\"\",\"\",'Non-Vol. Mixers Tolerances'!$B$56)","v":"MEASUREMENT TOLERANCES (CUMULATIVE WEIGHING) -- Non-Volumetric Mixers "},{"$f":"IF('Non-Vol. Mixers Tolerances'!$B$69=\"\",\"\",'Non-Vol. Mixers Tolerances'!$B$69)","v":"Fine aggregate 2, wt."},{"$f":"IF('Non-Vol. Mixers Tolerances'!$G$57=\"\",\"\",'Non-Vol. Mixers Tolerances'!$G$57)","v":"Batch Volume (per CY)"}]
[765,{"$f":"IF('Non-Vol. Mixers Tolerances'!$H$69=\"\",\"\",'Non-Vol. Mixers Tolerances'!$H$69)","v":"0 - 0"},{"$f":"IF('Non-Vol. Mixers Tolerances'!$B$6=\"\",\"\",'Non-Vol. Mixers Tolerances'!$B$6)","v":"Non-Vol. Mixers Tolerances"},{"$f":"IF('Non-Vol. Mixers Tolerances'!$B$56=\"\",\"\",'Non-Vol. Mixers Tolerances'!$B$56)","v":"MEASUREMENT TOLERANCES (CUMULATIVE WEIGHING) -- Non-Volumetric Mixers "},{"$f":"IF('Non-Vol. Mixers Tolerances'!$B$69=\"\",\"\",'Non-Vol. Mixers Tolerances'!$B$69)","v":"Fine aggregate 2, wt."},{"$f":"IF('Non-Vol. Mixers Tolerances'!$H$57=\"\",\"\",'Non-Vol. Mixers Tolerances'!$H$57)","v":"Allowable Batching Weight Range (lbs/ CY)"}]
[766,{"$f":"IF('Non-Vol. Mixers Tolerances'!$F$70=\"\",\"\",'Non-Vol. Mixers Tolerances'!$F$70)","v":0},{"$f":"IF('Non-Vol. Mixers Tolerances'!$B$6=\"\",\"\",'Non-Vol. Mixers Tolerances'!$B$6)","v":"Non-Vol. Mixers Tolerances"},{"$f":"IF('Non-Vol. Mixers Tolerances'!$B$56=\"\",\"\",'Non-Vol. Mixers Tolerances'!$B$56)","v":"MEASUREMENT TOLERANCES (CUMULATIVE WEIGHING) -- Non-Volumetric Mixers "},{"$f":"IF('Non-Vol. Mixers Tolerances'!$B$70=\"\",\"\",'Non-Vol. Mixers Tolerances'!$B$70)","v":"Coarse aggregate 1, wt."},{"$f":"IF('Non-Vol. Mixers Tolerances'!$F$57=\"\",\"\",'Non-Vol. Mixers Tolerances'!$F$57)","v":"Batch Weight (lbs/ CY)"}]
[767,{"$f":"IF('Non-Vol. Mixers Tolerances'!$G$70=\"\",\"\",'Non-Vol. Mixers Tolerances'!$G$70)","v":0},{"$f":"IF('Non-Vol. Mixers Tolerances'!$B$6=\"\",\"\",'Non-Vol. Mixers Tolerances'!$B$6)","v":"Non-Vol. Mixers Tolerances"},{"$f":"IF('Non-Vol. Mixers Tolerances'!$B$56=\"\",\"\",'Non-Vol. Mixers Tolerances'!$B$56)","v":"MEASUREMENT TOLERANCES (CUMULATIVE WEIGHING) -- Non-Volumetric Mixers "},{"$f":"IF('Non-Vol. Mixers Tolerances'!$B$70=\"\",\"\",'Non-Vol. Mixers Tolerances'!$B$70)","v":"Coarse aggregate 1, wt."},{"$f":"IF('Non-Vol. Mixers Tolerances'!$G$57=\"\",\"\",'Non-Vol. Mixers Tolerances'!$G$57)","v":"Batch Volume (per CY)"}]
[768,{"$f":"IF('Non-Vol. Mixers Tolerances'!$H$70=\"\",\"\",'Non-Vol. Mixers Tolerances'!$H$70)","v":"0 - 0"},{"$f":"IF('Non-Vol. Mixers Tolerances'!$B$6=\"\",\"\",'Non-Vol. Mixers Tolerances'!$B$6)","v":"Non-Vol. Mixers Tolerances"},{"$f":"IF('Non-Vol. Mixers Tolerances'!$B$56=\"\",\"\",'Non-Vol. Mixers Tolerances'!$B$56)","v":"MEASUREMENT TOLERANCES (CUMULATIVE WEIGHING) -- Non-Volumetric Mixers "},{"$f":"IF('Non-Vol. Mixers Tolerances'!$B$70=\"\",\"\",'Non-Vol. Mixers Tolerances'!$B$70)","v":"Coarse aggregate 1, wt."},{"$f":"IF('Non-Vol. Mixers Tolerances'!$H$57=\"\",\"\",'Non-Vol. Mixers Tolerances'!$H$57)","v":"Allowable Batching Weight Range (lbs/ CY)"}]
[769,{"$f":"IF('Non-Vol. Mixers Tolerances'!$F$71=\"\",\"\",'Non-Vol. Mixers Tolerances'!$F$71)","v":0},{"$f":"IF('Non-Vol. Mixers Tolerances'!$B$6=\"\",\"\",'Non-Vol. Mixers Tolerances'!$B$6)","v":"Non-Vol. Mixers Tolerances"},{"$f":"IF('Non-Vol. Mixers Tolerances'!$B$56=\"\",\"\",'Non-Vol. Mixers Tolerances'!$B$56)","v":"MEASUREMENT TOLERANCES (CUMULATIVE WEIGHING) -- Non-Volumetric Mixers "},{"$f":"IF('Non-Vol. Mixers Tolerances'!$B$71=\"\",\"\",'Non-Vol. Mixers Tolerances'!$B$71)","v":"Coarse aggregate 2, wt."},{"$f":"IF('Non-Vol. Mixers Tolerances'!$F$57=\"\",\"\",'Non-Vol. Mixers Tolerances'!$F$57)","v":"Batch Weight (lbs/ CY)"}]
[770,{"$f":"IF('Non-Vol. Mixers Tolerances'!$G$71=\"\",\"\",'Non-Vol. Mixers Tolerances'!$G$71)","v":0},{"$f":"IF('Non-Vol. Mixers Tolerances'!$B$6=\"\",\"\",'Non-Vol. Mixers Tolerances'!$B$6)","v":"Non-Vol. Mixers Tolerances"},{"$f":"IF('Non-Vol. Mixers Tolerances'!$B$56=\"\",\"\",'Non-Vol. Mixers Tolerances'!$B$56)","v":"MEASUREMENT TOLERANCES (CUMULATIVE WEIGHING) -- Non-Volumetric Mixers "},{"$f":"IF('Non-Vol. Mixers Tolerances'!$B$71=\"\",\"\",'Non-Vol. Mixers Tolerances'!$B$71)","v":"Coarse aggregate 2, wt."},{"$f":"IF('Non-Vol. Mixers Tolerances'!$G$57=\"\",\"\",'Non-Vol. Mixers Tolerances'!$G$57)","v":"Batch Volume (per CY)"}]
[771,{"$f":"IF('Non-Vol. Mixers Tolerances'!$H$71=\"\",\"\",'Non-Vol. Mixers Tolerances'!$H$71)","v":"0 - 0"},{"$f":"IF('Non-Vol. Mixers Tolerances'!$B$6=\"\",\"\",'Non-Vol. Mixers Tolerances'!$B$6)","v":"Non-Vol. Mixers Tolerances"},{"$f":"IF('Non-Vol. Mixers Tolerances'!$B$56=\"\",\"\",'Non-Vol. Mixers Tolerances'!$B$56)","v":"MEASUREMENT TOLERANCES (CUMULATIVE WEIGHING) -- Non-Volumetric Mixers "},{"$f":"IF('Non-Vol. Mixers Tolerances'!$B$71=\"\",\"\",'Non-Vol. Mixers Tolerances'!$B$71)","v":"Coarse aggregate 2, wt."},{"$f":"IF('Non-Vol. Mixers Tolerances'!$H$57=\"\",\"\",'Non-Vol. Mixers Tolerances'!$H$57)","v":"Allowable Batching Weight Range (lbs/ CY)"}]
[772,{"$f":"IF('Non-Vol. Mixers Tolerances'!$F$72=\"\",\"\",'Non-Vol. Mixers Tolerances'!$F$72)","v":0},{"$f":"IF('Non-Vol. Mixers Tolerances'!$B$6=\"\",\"\",'Non-Vol. Mixers Tolerances'!$B$6)","v":"Non-Vol. Mixers Tolerances"},{"$f":"IF('Non-Vol. Mixers Tolerances'!$B$56=\"\",\"\",'Non-Vol. Mixers Tolerances'!$B$56)","v":"MEASUREMENT TOLERANCES (CUMULATIVE WEIGHING) -- Non-Volumetric Mixers "},{"$f":"IF('Non-Vol. Mixers Tolerances'!$B$72=\"\",\"\",'Non-Vol. Mixers Tolerances'!$B$72)","v":"Intermediate aggregate 1, wt."},{"$f":"IF('Non-Vol. Mixers Tolerances'!$F$57=\"\",\"\",'Non-Vol. Mixers Tolerances'!$F$57)","v":"Batch Weight (lbs/ CY)"}]
[773,{"$f":"IF('Non-Vol. Mixers Tolerances'!$G$72=\"\",\"\",'Non-Vol. Mixers Tolerances'!$G$72)","v":0},{"$f":"IF('Non-Vol. Mixers Tolerances'!$B$6=\"\",\"\",'Non-Vol. Mixers Tolerances'!$B$6)","v":"Non-Vol. Mixers Tolerances"},{"$f":"IF('Non-Vol. Mixers Tolerances'!$B$56=\"\",\"\",'Non-Vol. Mixers Tolerances'!$B$56)","v":"MEASUREMENT TOLERANCES (CUMULATIVE WEIGHING) -- Non-Volumetric Mixers "},{"$f":"IF('Non-Vol. Mixers Tolerances'!$B$72=\"\",\"\",'Non-Vol. Mixers Tolerances'!$B$72)","v":"Intermediate aggregate 1, wt."},{"$f":"IF('Non-Vol. Mixers Tolerances'!$G$57=\"\",\"\",'Non-Vol. Mixers Tolerances'!$G$57)","v":"Batch Volume (per CY)"}]
[774,{"$f":"IF('Non-Vol. Mixers Tolerances'!$H$72=\"\",\"\",'Non-Vol. Mixers Tolerances'!$H$72)","v":"0 - 0"},{"$f":"IF('Non-Vol. Mixers Tolerances'!$B$6=\"\",\"\",'Non-Vol. Mixers Tolerances'!$B$6)","v":"Non-Vol. Mixers Tolerances"},{"$f":"IF('Non-Vol. Mixers Tolerances'!$B$56=\"\",\"\",'Non-Vol. Mixers Tolerances'!$B$56)","v":"MEASUREMENT TOLERANCES (CUMULATIVE WEIGHING) -- Non-Volumetric Mixers "},{"$f":"IF('Non-Vol. Mixers Tolerances'!$B$72=\"\",\"\",'Non-Vol. Mixers Tolerances'!$B$72)","v":"Intermediate aggregate 1, wt."},{"$f":"IF('Non-Vol. Mixers Tolerances'!$H$57=\"\",\"\",'Non-Vol. Mixers Tolerances'!$H$57)","v":"Allowable Batching Weight Range (lbs/ CY)"}]
[775,{"$f":"IF('Non-Vol. Mixers Tolerances'!$F$73=\"\",\"\",'Non-Vol. Mixers Tolerances'!$F$73)","v":0},{"$f":"IF('Non-Vol. Mixers Tolerances'!$B$6=\"\",\"\",'Non-Vol. Mixers Tolerances'!$B$6)","v":"Non-Vol. Mixers Tolerances"},{"$f":"IF('Non-Vol. Mixers Tolerances'!$B$56=\"\",\"\",'Non-Vol. Mixers Tolerances'!$B$56)","v":"MEASUREMENT TOLERANCES (CUMULATIVE WEIGHING) -- Non-Volumetric Mixers "},{"$f":"IF('Non-Vol. Mixers Tolerances'!$B$73=\"\",\"\",'Non-Vol. Mixers Tolerances'!$B$73)","v":"Intermediate aggregate 2, wt."},{"$f":"IF('Non-Vol. Mixers Tolerances'!$F$57=\"\",\"\",'Non-Vol. Mixers Tolerances'!$F$57)","v":"Batch Weight (lbs/ CY)"}]
[776,{"$f":"IF('Non-Vol. Mixers Tolerances'!$G$73=\"\",\"\",'Non-Vol. Mixers Tolerances'!$G$73)","v":0},{"$f":"IF('Non-Vol. Mixers Tolerances'!$B$6=\"\",\"\",'Non-Vol. Mixers Tolerances'!$B$6)","v":"Non-Vol. Mixers Tolerances"},{"$f":"IF('Non-Vol. Mixers Tolerances'!$B$56=\"\",\"\",'Non-Vol. Mixers Tolerances'!$B$56)","v":"MEASUREMENT TOLERANCES (CUMULATIVE WEIGHING) -- Non-Volumetric Mixers "},{"$f":"IF('Non-Vol. Mixers Tolerances'!$B$73=\"\",\"\",'Non-Vol. Mixers Tolerances'!$B$73)","v":"Intermediate aggregate 2, wt."},{"$f":"IF('Non-Vol. Mixers Tolerances'!$G$57=\"\",\"\",'Non-Vol. Mixers Tolerances'!$G$57)","v":"Batch Volume (per CY)"}]
[777,{"$f":"IF('Non-Vol. Mixers Tolerances'!$H$73=\"\",\"\",'Non-Vol. Mixers Tolerances'!$H$73)","v":"0 - 0"},{"$f":"IF('Non-Vol. Mixers Tolerances'!$B$6=\"\",\"\",'Non-Vol. Mixers Tolerances'!$B$6)","v":"Non-Vol. Mixers Tolerances"},{"$f":"IF('Non-Vol. Mixers Tolerances'!$B$56=\"\",\"\",'Non-Vol. Mixers Tolerances'!$B$56)","v":"MEASUREMENT TOLERANCES (CUMULATIVE WEIGHING) -- Non-Volumetric Mixers "},{"$f":"IF('Non-Vol. Mixers Tolerances'!$B$73=\"\",\"\",'Non-Vol. Mixers Tolerances'!$B$73)","v":"Intermediate aggregate 2, wt."},{"$f":"IF('Non-Vol. Mixers Tolerances'!$H$57=\"\",\"\",'Non-Vol. Mixers Tolerances'!$H$57)","v":"Allowable Batching Weight Range (lbs/ CY)"}]
[778,{"$f":"IF('Non-Vol. Mixers Tolerances'!$G$74=\"\",\"\",'Non-Vol. Mixers Tolerances'!$G$74)","v":""},{"$f":"IF('Non-Vol. Mixers Tolerances'!$B$6=\"\",\"\",'Non-Vol. Mixers Tolerances'!$B$6)","v":"Non-Vol. Mixers Tolerances"},{"$f":"IF('Non-Vol. Mixers Tolerances'!$B$56=\"\",\"\",'Non-Vol. Mixers Tolerances'!$B$56)","v":"MEASUREMENT TOLERANCES (CUMULATIVE WEIGHING) -- Non-Volumetric Mixers "},{"$f":"IF('Non-Vol. Mixers Tolerances'!$B$74=\"\",\"\",'Non-Vol. Mixers Tolerances'!$B$74)","v":"Air entraining admixture, volume"},{"$f":"IF('Non-Vol. Mixers Tolerances'!$G$57=\"\",\"\",'Non-Vol. Mixers Tolerances'!$G$57)","v":"Batch Volume (per CY)"}]
[779,{"$f":"IF('Non-Vol. Mixers Tolerances'!$J$74=\"\",\"\",'Non-Vol. Mixers Tolerances'!$J$74)","v":""},{"$f":"IF('Non-Vol. Mixers Tolerances'!$B$6=\"\",\"\",'Non-Vol. Mixers Tolerances'!$B$6)","v":"Non-Vol. Mixers Tolerances"},{"$f":"IF('Non-Vol. Mixers Tolerances'!$B$56=\"\",\"\",'Non-Vol. Mixers Tolerances'!$B$56)","v":"MEASUREMENT TOLERANCES (CUMULATIVE WEIGHING) -- Non-Volumetric Mixers "},{"$f":"IF('Non-Vol. Mixers Tolerances'!$B$74=\"\",\"\",'Non-Vol. Mixers Tolerances'!$B$74)","v":"Air entraining admixture, volume"},{"$f":"IF('Non-Vol. Mixers Tolerances'!$J$57=\"\",\"\",'Non-Vol. Mixers Tolerances'!$J$57)","v":"Allowable Batching Volume Range (per CY)"}]
[780,{"$f":"IF('Non-Vol. Mixers Tolerances'!$G$75=\"\",\"\",'Non-Vol. Mixers Tolerances'!$G$75)","v":""},{"$f":"IF('Non-Vol. Mixers Tolerances'!$B$6=\"\",\"\",'Non-Vol. Mixers Tolerances'!$B$6)","v":"Non-Vol. Mixers Tolerances"},{"$f":"IF('Non-Vol. Mixers Tolerances'!$B$56=\"\",\"\",'Non-Vol. Mixers Tolerances'!$B$56)","v":"MEASUREMENT TOLERANCES (CUMULATIVE WEIGHING) -- Non-Volumetric Mixers "},{"$f":"IF('Non-Vol. Mixers Tolerances'!$B$75=\"\",\"\",'Non-Vol. Mixers Tolerances'!$B$75)","v":"Set retarder, volume"},{"$f":"IF('Non-Vol. Mixers Tolerances'!$G$57=\"\",\"\",'Non-Vol. Mixers Tolerances'!$G$57)","v":"Batch Volume (per CY)"}]
[781,{"$f":"IF('Non-Vol. Mixers Tolerances'!$J$75=\"\",\"\",'Non-Vol. Mixers Tolerances'!$J$75)","v":""},{"$f":"IF('Non-Vol. Mixers Tolerances'!$B$6=\"\",\"\",'Non-Vol. Mixers Tolerances'!$B$6)","v":"Non-Vol. Mixers Tolerances"},{"$f":"IF('Non-Vol. Mixers Tolerances'!$B$56=\"\",\"\",'Non-Vol. Mixers Tolerances'!$B$56)","v":"MEASUREMENT TOLERANCES (CUMULATIVE WEIGHING) -- Non-Volumetric Mixers "},{"$f":"IF('Non-Vol. Mixers Tolerances'!$B$75=\"\",\"\",'Non-Vol. Mixers Tolerances'!$B$75)","v":"Set retarder, volume"},{"$f":"IF('Non-Vol. Mixers Tolerances'!$J$57=\"\",\"\",'Non-Vol. Mixers Tolerances'!$J$57)","v":"Allowable Batching Volume Range (per CY)"}]
[782,{"$f":"IF('Non-Vol. Mixers Tolerances'!$G$76=\"\",\"\",'Non-Vol. Mixers Tolerances'!$G$76)","v":""},{"$f":"IF('Non-Vol. Mixers Tolerances'!$B$6=\"\",\"\",'Non-Vol. Mixers Tolerances'!$B$6)","v":"Non-Vol. Mixers Tolerances"},{"$f":"IF('Non-Vol. Mixers Tolerances'!$B$56=\"\",\"\",'Non-Vol. Mixers Tolerances'!$B$56)","v":"MEASUREMENT TOLERANCES (CUMULATIVE WEIGHING) -- Non-Volumetric Mixers "},{"$f":"IF('Non-Vol. Mixers Tolerances'!$B$76=\"\",\"\",'Non-Vol. Mixers Tolerances'!$B$76)","v":"Accelerator, volume"},{"$f":"IF('Non-Vol. Mixers Tolerances'!$G$57=\"\",\"\",'Non-Vol. Mixers Tolerances'!$G$57)","v":"Batch Volume (per CY)"}]
[783,{"$f":"IF('Non-Vol. Mixers Tolerances'!$J$76=\"\",\"\",'Non-Vol. Mixers Tolerances'!$J$76)","v":""},{"$f":"IF('Non-Vol. Mixers Tolerances'!$B$6=\"\",\"\",'Non-Vol. Mixers Tolerances'!$B$6)","v":"Non-Vol. Mixers Tolerances"},{"$f":"IF('Non-Vol. Mixers Tolerances'!$B$56=\"\",\"\",'Non-Vol. Mixers Tolerances'!$B$56)","v":"MEASUREMENT TOLERANCES (CUMULATIVE WEIGHING) -- Non-Volumetric Mixers "},{"$f":"IF('Non-Vol. Mixers Tolerances'!$B$76=\"\",\"\",'Non-Vol. Mixers Tolerances'!$B$76)","v":"Accelerator, volume"},{"$f":"IF('Non-Vol. Mixers Tolerances'!$J$57=\"\",\"\",'Non-Vol. Mixers Tolerances'!$J$57)","v":"Allowable Batching Volume Range (per CY)"}]
[784,{"$f":"IF('Non-Vol. Mixers Tolerances'!$G$77=\"\",\"\",'Non-Vol. Mixers Tolerances'!$G$77)","v":""},{"$f":"IF('Non-Vol. Mixers Tolerances'!$B$6=\"\",\"\",'Non-Vol. Mixers Tolerances'!$B$6)","v":"Non-Vol. Mixers Tolerances"},{"$f":"IF('Non-Vol. Mixers Tolerances'!$B$56=\"\",\"\",'Non-Vol. Mixers Tolerances'!$B$56)","v":"MEASUREMENT TOLERANCES (CUMULATIVE WEIGHING) -- Non-Volumetric Mixers "},{"$f":"IF('Non-Vol. Mixers Tolerances'!$B$77=\"\",\"\",'Non-Vol. Mixers Tolerances'!$B$77)","v":"Water reducer, volume"},{"$f":"IF('Non-Vol. Mixers Tolerances'!$G$57=\"\",\"\",'Non-Vol. Mixers Tolerances'!$G$57)","v":"Batch Volume (per CY)"}]
[785,{"$f":"IF('Non-Vol. Mixers Tolerances'!$J$77=\"\",\"\",'Non-Vol. Mixers Tolerances'!$J$77)","v":""},{"$f":"IF('Non-Vol. Mixers Tolerances'!$B$6=\"\",\"\",'Non-Vol. Mixers Tolerances'!$B$6)","v":"Non-Vol. Mixers Tolerances"},{"$f":"IF('Non-Vol. Mixers Tolerances'!$B$56=\"\",\"\",'Non-Vol. Mixers Tolerances'!$B$56)","v":"MEASUREMENT TOLERANCES (CUMULATIVE WEIGHING) -- Non-Volumetric Mixers "},{"$f":"IF('Non-Vol. Mixers Tolerances'!$B$77=\"\",\"\",'Non-Vol. Mixers Tolerances'!$B$77)","v":"Water reducer, volume"},{"$f":"IF('Non-Vol. Mixers Tolerances'!$J$57=\"\",\"\",'Non-Vol. Mixers Tolerances'!$J$57)","v":"Allowable Batching Volume Range (per CY)"}]
[786,{"$f":"IF('Non-Vol. Mixers Tolerances'!$G$78=\"\",\"\",'Non-Vol. Mixers Tolerances'!$G$78)","v":""},{"$f":"IF('Non-Vol. Mixers Tolerances'!$B$6=\"\",\"\",'Non-Vol. Mixers Tolerances'!$B$6)","v":"Non-Vol. Mixers Tolerances"},{"$f":"IF('Non-Vol. Mixers Tolerances'!$B$56=\"\",\"\",'Non-Vol. Mixers Tolerances'!$B$56)","v":"MEASUREMENT TOLERANCES (CUMULATIVE WEIGHING) -- Non-Volumetric Mixers "},{"$f":"IF('Non-Vol. Mixers Tolerances'!$B$78=\"\",\"\",'Non-Vol. Mixers Tolerances'!$B$78)","v":"High-range water reducer, volume"},{"$f":"IF('Non-Vol. Mixers Tolerances'!$G$57=\"\",\"\",'Non-Vol. Mixers Tolerances'!$G$57)","v":"Batch Volume (per CY)"}]
[787,{"$f":"IF('Non-Vol. Mixers Tolerances'!$J$78=\"\",\"\",'Non-Vol. Mixers Tolerances'!$J$78)","v":""},{"$f":"IF('Non-Vol. Mixers Tolerances'!$B$6=\"\",\"\",'Non-Vol. Mixers Tolerances'!$B$6)","v":"Non-Vol. Mixers Tolerances"},{"$f":"IF('Non-Vol. Mixers Tolerances'!$B$56=\"\",\"\",'Non-Vol. Mixers Tolerances'!$B$56)","v":"MEASUREMENT TOLERANCES (CUMULATIVE WEIGHING) -- Non-Volumetric Mixers "},{"$f":"IF('Non-Vol. Mixers Tolerances'!$B$78=\"\",\"\",'Non-Vol. Mixers Tolerances'!$B$78)","v":"High-range water reducer, volume"},{"$f":"IF('Non-Vol. Mixers Tolerances'!$J$57=\"\",\"\",'Non-Vol. Mixers Tolerances'!$J$57)","v":"Allowable Batching Volume Range (per CY)"}]
[788,{"$f":"IF('Non-Vol. Mixers Tolerances'!$G$79=\"\",\"\",'Non-Vol. Mixers Tolerances'!$G$79)","v":""},{"$f":"IF('Non-Vol. Mixers Tolerances'!$B$6=\"\",\"\",'Non-Vol. Mixers Tolerances'!$B$6)","v":"Non-Vol. Mixers Tolerances"},{"$f":"IF('Non-Vol. Mixers Tolerances'!$B$56=\"\",\"\",'Non-Vol. Mixers Tolerances'!$B$56)","v":"MEASUREMENT TOLERANCES (CUMULATIVE WEIGHING) -- Non-Volumetric Mixers "},{"$f":"IF('Non-Vol. Mixers Tolerances'!$B$79=\"\",\"\",'Non-Vol. Mixers Tolerances'!$B$79)","v":"Water reducing retarder, volume"},{"$f":"IF('Non-Vol. Mixers Tolerances'!$G$57=\"\",\"\",'Non-Vol. Mixers Tolerances'!$G$57)","v":"Batch Volume (per CY)"}]
[789,{"$f":"IF('Non-Vol. Mixers Tolerances'!$J$79=\"\",\"\",'Non-Vol. Mixers Tolerances'!$J$79)","v":""},{"$f":"IF('Non-Vol. Mixers Tolerances'!$B$6=\"\",\"\",'Non-Vol. Mixers Tolerances'!$B$6)","v":"Non-Vol. Mixers Tolerances"},{"$f":"IF('Non-Vol. Mixers Tolerances'!$B$56=\"\",\"\",'Non-Vol. Mixers Tolerances'!$B$56)","v":"MEASUREMENT TOLERANCES (CUMULATIVE WEIGHING) -- Non-Volumetric Mixers "},{"$f":"IF('Non-Vol. Mixers Tolerances'!$B$79=\"\",\"\",'Non-Vol. Mixers Tolerances'!$B$79)","v":"Water reducing retarder, volume"},{"$f":"IF('Non-Vol. Mixers Tolerances'!$J$57=\"\",\"\",'Non-Vol. Mixers Tolerances'!$J$57)","v":"Allowable Batching Volume Range (per CY)"}]
[790,{"$f":"IF('Non-Vol. Mixers Tolerances'!$G$80=\"\",\"\",'Non-Vol. Mixers Tolerances'!$G$80)","v":""},{"$f":"IF('Non-Vol. Mixers Tolerances'!$B$6=\"\",\"\",'Non-Vol. Mixers Tolerances'!$B$6)","v":"Non-Vol. Mixers Tolerances"},{"$f":"IF('Non-Vol. Mixers Tolerances'!$B$56=\"\",\"\",'Non-Vol. Mixers Tolerances'!$B$56)","v":"MEASUREMENT TOLERANCES (CUMULATIVE WEIGHING) -- Non-Volumetric Mixers "},{"$f":"IF('Non-Vol. Mixers Tolerances'!$B$80=\"\",\"\",'Non-Vol. Mixers Tolerances'!$B$80)","v":"High-range water reducing retarder, volume"},{"$f":"IF('Non-Vol. Mixers Tolerances'!$G$57=\"\",\"\",'Non-Vol. Mixers Tolerances'!$G$57)","v":"Batch Volume (per CY)"}]
[791,{"$f":"IF('Non-Vol. Mixers Tolerances'!$J$80=\"\",\"\",'Non-Vol. Mixers Tolerances'!$J$80)","v":""},{"$f":"IF('Non-Vol. Mixers Tolerances'!$B$6=\"\",\"\",'Non-Vol. Mixers Tolerances'!$B$6)","v":"Non-Vol. Mixers Tolerances"},{"$f":"IF('Non-Vol. Mixers Tolerances'!$B$56=\"\",\"\",'Non-Vol. Mixers Tolerances'!$B$56)","v":"MEASUREMENT TOLERANCES (CUMULATIVE WEIGHING) -- Non-Volumetric Mixers "},{"$f":"IF('Non-Vol. Mixers Tolerances'!$B$80=\"\",\"\",'Non-Vol. Mixers Tolerances'!$B$80)","v":"High-range water reducing retarder, volume"},{"$f":"IF('Non-Vol. Mixers Tolerances'!$J$57=\"\",\"\",'Non-Vol. Mixers Tolerances'!$J$57)","v":"Allowable Batching Volume Range (per CY)"}]
[792,{"$f":"IF('Non-Vol. Mixers Tolerances'!$G$81=\"\",\"\",'Non-Vol. Mixers Tolerances'!$G$81)","v":""},{"$f":"IF('Non-Vol. Mixers Tolerances'!$B$6=\"\",\"\",'Non-Vol. Mixers Tolerances'!$B$6)","v":"Non-Vol. Mixers Tolerances"},{"$f":"IF('Non-Vol. Mixers Tolerances'!$B$56=\"\",\"\",'Non-Vol. Mixers Tolerances'!$B$56)","v":"MEASUREMENT TOLERANCES (CUMULATIVE WEIGHING) -- Non-Volumetric Mixers "},{"$f":"IF('Non-Vol. Mixers Tolerances'!$B$81=\"\",\"\",'Non-Vol. Mixers Tolerances'!$B$81)","v":"Lithium nitrate admixture, volume"},{"$f":"IF('Non-Vol. Mixers Tolerances'!$G$57=\"\",\"\",'Non-Vol. Mixers Tolerances'!$G$57)","v":"Batch Volume (per CY)"}]
[793,{"$f":"IF('Non-Vol. Mixers Tolerances'!$J$81=\"\",\"\",'Non-Vol. Mixers Tolerances'!$J$81)","v":""},{"$f":"IF('Non-Vol. Mixers Tolerances'!$B$6=\"\",\"\",'Non-Vol. Mixers Tolerances'!$B$6)","v":"Non-Vol. Mixers Tolerances"},{"$f":"IF('Non-Vol. Mixers Tolerances'!$B$56=\"\",\"\",'Non-Vol. Mixers Tolerances'!$B$56)","v":"MEASUREMENT TOLERANCES (CUMULATIVE WEIGHING) -- Non-Volumetric Mixers "},{"$f":"IF('Non-Vol. Mixers Tolerances'!$B$81=\"\",\"\",'Non-Vol. Mixers Tolerances'!$B$81)","v":"Lithium nitrate admixture, volume"},{"$f":"IF('Non-Vol. Mixers Tolerances'!$J$57=\"\",\"\",'Non-Vol. Mixers Tolerances'!$J$57)","v":"Allowable Batching Volume Range (per CY)"}]
[794,{"$f":"IF('Non-Vol. Mixers Tolerances'!$G$82=\"\",\"\",'Non-Vol. Mixers Tolerances'!$G$82)","v":""},{"$f":"IF('Non-Vol. Mixers Tolerances'!$B$6=\"\",\"\",'Non-Vol. Mixers Tolerances'!$B$6)","v":"Non-Vol. Mixers Tolerances"},{"$f":"IF('Non-Vol. Mixers Tolerances'!$B$56=\"\",\"\",'Non-Vol. Mixers Tolerances'!$B$56)","v":"MEASUREMENT TOLERANCES (CUMULATIVE WEIGHING) -- Non-Volumetric Mixers "},{"$f":"IF('Non-Vol. Mixers Tolerances'!$B$82=\"\",\"\",'Non-Vol. Mixers Tolerances'!$B$82)","v":"Corrosion inhibitor, volume"},{"$f":"IF('Non-Vol. Mixers Tolerances'!$G$57=\"\",\"\",'Non-Vol. Mixers Tolerances'!$G$57)","v":"Batch Volume (per CY)"}]
[795,{"$f":"IF('Non-Vol. Mixers Tolerances'!$J$82=\"\",\"\",'Non-Vol. Mixers Tolerances'!$J$82)","v":""},{"$f":"IF('Non-Vol. Mixers Tolerances'!$B$6=\"\",\"\",'Non-Vol. Mixers Tolerances'!$B$6)","v":"Non-Vol. Mixers Tolerances"},{"$f":"IF('Non-Vol. Mixers Tolerances'!$B$56=\"\",\"\",'Non-Vol. Mixers Tolerances'!$B$56)","v":"MEASUREMENT TOLERANCES (CUMULATIVE WEIGHING) -- Non-Volumetric Mixers "},{"$f":"IF('Non-Vol. Mixers Tolerances'!$B$82=\"\",\"\",'Non-Vol. Mixers Tolerances'!$B$82)","v":"Corrosion inhibitor, volume"},{"$f":"IF('Non-Vol. Mixers Tolerances'!$J$57=\"\",\"\",'Non-Vol. Mixers Tolerances'!$J$57)","v":"Allowable Batching Volume Range (per CY)"}]
[796,{"$f":"IF('Vol. Mixers Tolerances'!$D$21=\"\",\"\",'Vol. Mixers Tolerances'!$D$21)","v":""},{"$f":"IF('Vol. Mixers Tolerances'!$B$6=\"\",\"\",'Vol. Mixers Tolerances'!$B$6)","v":"Vol. Mixers Tolerances"},{"$f":"IF('Vol. Mixers Tolerances'!$C$21=\"\",\"\",'Vol. Mixers Tolerances'!$C$21)","v":"Batch Size, CY:"}]
[797,{"$f":"IF('Vol. Mixers Tolerances'!$G$21=\"\",\"\",'Vol. Mixers Tolerances'!$G$21)","v":""},{"$f":"IF('Vol. Mixers Tolerances'!$B$6=\"\",\"\",'Vol. Mixers Tolerances'!$B$6)","v":"Vol. Mixers Tolerances"},{"$f":"IF('Vol. Mixers Tolerances'!$F$21=\"\",\"\",'Vol. Mixers Tolerances'!$F$21)","v":"Amount of Ice, lbs:"}]
[798,{"$f":"IF('Vol. Mixers Tolerances'!$E$24=\"\",\"\",'Vol. Mixers Tolerances'!$E$24)","v":""},{"$f":"IF('Vol. Mixers Tolerances'!$B$6=\"\",\"\",'Vol. Mixers Tolerances'!$B$6)","v":"Vol. Mixers Tolerances"},{"$f":"IF('Vol. Mixers Tolerances'!$B$24=\"\",\"\",'Vol. Mixers Tolerances'!$B$24)","v":"Free Moisture ( + ) or Absorption ( - ) (%)"},{"$f":"IF('Vol. Mixers Tolerances'!$E$23=\"\",\"\",'Vol. Mixers Tolerances'!$E$23)","v":"CA 1"}]
[799,{"$f":"IF('Vol. Mixers Tolerances'!$F$24=\"\",\"\",'Vol. Mixers Tolerances'!$F$24)","v":""},{"$f":"IF('Vol. Mixers Tolerances'!$B$6=\"\",\"\",'Vol. Mixers Tolerances'!$B$6)","v":"Vol. Mixers Tolerances"},{"$f":"IF('Vol. Mixers Tolerances'!$B$24=\"\",\"\",'Vol. Mixers Tolerances'!$B$24)","v":"Free Moisture ( + ) or Absorption ( - ) (%)"},{"$f":"IF('Vol. Mixers Tolerances'!$F$23=\"\",\"\",'Vol. Mixers Tolerances'!$F$23)","v":"CA 2"}]
[800,{"$f":"IF('Vol. Mixers Tolerances'!$G$24=\"\",\"\",'Vol. Mixers Tolerances'!$G$24)","v":""},{"$f":"IF('Vol. Mixers Tolerances'!$B$6=\"\",\"\",'Vol. Mixers Tolerances'!$B$6)","v":"Vol. Mixers Tolerances"},{"$f":"IF('Vol. Mixers Tolerances'!$B$24=\"\",\"\",'Vol. Mixers Tolerances'!$B$24)","v":"Free Moisture ( + ) or Absorption ( - ) (%)"},{"$f":"IF('Vol. Mixers Tolerances'!$G$23=\"\",\"\",'Vol. Mixers Tolerances'!$G$23)","v":"IA 1"}]
[801,{"$f":"IF('Vol. Mixers Tolerances'!$H$24=\"\",\"\",'Vol. Mixers Tolerances'!$H$24)","v":""},{"$f":"IF('Vol. Mixers Tolerances'!$B$6=\"\",\"\",'Vol. Mixers Tolerances'!$B$6)","v":"Vol. Mixers Tolerances"},{"$f":"IF('Vol. Mixers Tolerances'!$B$24=\"\",\"\",'Vol. Mixers Tolerances'!$B$24)","v":"Free Moisture ( + ) or Absorption ( - ) (%)"},{"$f":"IF('Vol. Mixers Tolerances'!$H$23=\"\",\"\",'Vol. Mixers Tolerances'!$H$23)","v":"IA 2"}]
[802,{"$f":"IF('Vol. Mixers Tolerances'!$I$24=\"\",\"\",'Vol. Mixers Tolerances'!$I$24)","v":""},{"$f":"IF('Vol. Mixers Tolerances'!$B$6=\"\",\"\",'Vol. Mixers Tolerances'!$B$6)","v":"Vol. Mixers Tolerances"},{"$f":"IF('Vol. Mixers Tolerances'!$B$24=\"\",\"\",'Vol. Mixers Tolerances'!$B$24)","v":"Free Moisture ( + ) or Absorption ( - ) (%)"},{"$f":"IF('Vol. Mixers Tolerances'!$I$23=\"\",\"\",'Vol. Mixers Tolerances'!$I$23)","v":"FA 1"}]
[803,{"$f":"IF('Vol. Mixers Tolerances'!$J$24=\"\",\"\",'Vol. Mixers Tolerances'!$J$24)","v":""},{"$f":"IF('Vol. Mixers Tolerances'!$B$6=\"\",\"\",'Vol. Mixers Tolerances'!$B$6)","v":"Vol. Mixers Tolerances"},{"$f":"IF('Vol. Mixers Tolerances'!$B$24=\"\",\"\",'Vol. Mixers Tolerances'!$B$24)","v":"Free Moisture ( + ) or Absorption ( - ) (%)"},{"$f":"IF('Vol. Mixers Tolerances'!$J$23=\"\",\"\",'Vol. Mixers Tolerances'!$J$23)","v":"FA 2"}]
[804,{"$f":"IF('Vol. Mixers Tolerances'!$F$29=\"\",\"\",'Vol. Mixers Tolerances'!$F$29)","v":0},{"$f":"IF('Vol. Mixers Tolerances'!$B$6=\"\",\"\",'Vol. Mixers Tolerances'!$B$6)","v":"Vol. Mixers Tolerances"},{"$f":"IF('Vol. Mixers Tolerances'!$B$26=\"\",\"\",'Vol. Mixers Tolerances'!$B$26)","v":"MEASUREMENT TOLERANCES -- Volumetric Mixers"},{"$f":"IF('Vol. Mixers Tolerances'!$B$29=\"\",\"\",'Vol. Mixers Tolerances'!$B$29)","v":"Cement, wt."},{"$f":"IF('Vol. Mixers Tolerances'!$F$27=\"\",\"\",'Vol. Mixers Tolerances'!$F$27)","v":"Batch Weight (lbs/ CY)"}]
[805,{"$f":"IF('Vol. Mixers Tolerances'!$G$29=\"\",\"\",'Vol. Mixers Tolerances'!$G$29)","v":0},{"$f":"IF('Vol. Mixers Tolerances'!$B$6=\"\",\"\",'Vol. Mixers Tolerances'!$B$6)","v":"Vol. Mixers Tolerances"},{"$f":"IF('Vol. Mixers Tolerances'!$B$26=\"\",\"\",'Vol. Mixers Tolerances'!$B$26)","v":"MEASUREMENT TOLERANCES -- Volumetric Mixers"},{"$f":"IF('Vol. Mixers Tolerances'!$B$29=\"\",\"\",'Vol. Mixers Tolerances'!$B$29)","v":"Cement, wt."},{"$f":"IF('Vol. Mixers Tolerances'!$G$27=\"\",\"\",'Vol. Mixers Tolerances'!$G$27)","v":"Batch Volume (per CY)"}]
[806,{"$f":"IF('Vol. Mixers Tolerances'!$H$29=\"\",\"\",'Vol. Mixers Tolerances'!$H$29)","v":"0 - 0"},{"$f":"IF('Vol. Mixers Tolerances'!$B$6=\"\",\"\",'Vol. Mixers Tolerances'!$B$6)","v":"Vol. Mixers Tolerances"},{"$f":"IF('Vol. Mixers Tolerances'!$B$26=\"\",\"\",'Vol. Mixers Tolerances'!$B$26)","v":"MEASUREMENT TOLERANCES -- Volumetric Mixers"},{"$f":"IF('Vol. Mixers Tolerances'!$B$29=\"\",\"\",'Vol. Mixers Tolerances'!$B$29)","v":"Cement, wt."},{"$f":"IF('Vol. Mixers Tolerances'!$H$27=\"\",\"\",'Vol. Mixers Tolerances'!$H$27)","v":"Allowable Batching Weight Range (lbs/ CY)"}]
[807,{"$f":"IF('Vol. Mixers Tolerances'!$F$30=\"\",\"\",'Vol. Mixers Tolerances'!$F$30)","v":0},{"$f":"IF('Vol. Mixers Tolerances'!$B$6=\"\",\"\",'Vol. Mixers Tolerances'!$B$6)","v":"Vol. Mixers Tolerances"},{"$f":"IF('Vol. Mixers Tolerances'!$B$26=\"\",\"\",'Vol. Mixers Tolerances'!$B$26)","v":"MEASUREMENT TOLERANCES -- Volumetric Mixers"},{"$f":"IF('Vol. Mixers Tolerances'!$B$30=\"\",\"\",'Vol. Mixers Tolerances'!$B$30)","v":"Flyash, wt."},{"$f":"IF('Vol. Mixers Tolerances'!$F$27=\"\",\"\",'Vol. Mixers Tolerances'!$F$27)","v":"Batch Weight (lbs/ CY)"}]
[808,{"$f":"IF('Vol. Mixers Tolerances'!$G$30=\"\",\"\",'Vol. Mixers Tolerances'!$G$30)","v":0},{"$f":"IF('Vol. Mixers Tolerances'!$B$6=\"\",\"\",'Vol. Mixers Tolerances'!$B$6)","v":"Vol. Mixers Tolerances"},{"$f":"IF('Vol. Mixers Tolerances'!$B$26=\"\",\"\",'Vol. Mixers Tolerances'!$B$26)","v":"MEASUREMENT TOLERANCES -- Volumetric Mixers"},{"$f":"IF('Vol. Mixers Tolerances'!$B$30=\"\",\"\",'Vol. Mixers Tolerances'!$B$30)","v":"Flyash, wt."},{"$f":"IF('Vol. Mixers Tolerances'!$G$27=\"\",\"\",'Vol. Mixers Tolerances'!$G$27)","v":"Batch Volume (per CY)"}]
[809,{"$f":"IF('Vol. Mixers Tolerances'!$H$30=\"\",\"\",'Vol. Mixers Tolerances'!$H$30)","v":"0 - 0"},{"$f":"IF('Vol. Mixers Tolerances'!$B$6=\"\",\"\",'Vol. Mixers Tolerances'!$B$6)","v":"Vol. Mixers Tolerances"},{"$f":"IF('Vol. Mixers Tolerances'!$B$26=\"\",\"\",'Vol. Mixers Tolerances'!$B$26)","v":"MEASUREMENT TOLERANCES -- Volumetric Mixers"},{"$f":"IF('Vol. Mixers Tolerances'!$B$30=\"\",\"\",'Vol. Mixers Tolerances'!$B$30)","v":"Flyash, wt."},{"$f":"IF('Vol. Mixers Tolerances'!$H$27=\"\",\"\",'Vol. Mixers Tolerances'!$H$27)","v":"Allowable Batching Weight Range (lbs/ CY)"}]
[810,{"$f":"IF('Vol. Mixers Tolerances'!$F$31=\"\",\"\",'Vol. Mixers Tolerances'!$F$31)","v":0},{"$f":"IF('Vol. Mixers Tolerances'!$B$6=\"\",\"\",'Vol. Mixers Tolerances'!$B$6)","v":"Vol. Mixers Tolerances"},{"$f":"IF('Vol. Mixers Tolerances'!$B$26=\"\",\"\",'Vol. Mixers Tolerances'!$B$26)","v":"MEASUREMENT TOLERANCES -- Volumetric Mixers"},{"$f":"IF('Vol. Mixers Tolerances'!$B$31=\"\",\"\",'Vol. Mixers Tolerances'!$B$31)","v":"GGBF slag, wt."},{"$f":"IF('Vol. Mixers Tolerances'!$F$27=\"\",\"\",'Vol. Mixers Tolerances'!$F$27)","v":"Batch Weight (lbs/ CY)"}]
[811,{"$f":"IF('Vol. Mixers Tolerances'!$G$31=\"\",\"\",'Vol. Mixers Tolerances'!$G$31)","v":0},{"$f":"IF('Vol. Mixers Tolerances'!$B$6=\"\",\"\",'Vol. Mixers Tolerances'!$B$6)","v":"Vol. Mixers Tolerances"},{"$f":"IF('Vol. Mixers Tolerances'!$B$26=\"\",\"\",'Vol. Mixers Tolerances'!$B$26)","v":"MEASUREMENT TOLERANCES -- Volumetric Mixers"},{"$f":"IF('Vol. Mixers Tolerances'!$B$31=\"\",\"\",'Vol. Mixers Tolerances'!$B$31)","v":"GGBF slag, wt."},{"$f":"IF('Vol. Mixers Tolerances'!$G$27=\"\",\"\",'Vol. Mixers Tolerances'!$G$27)","v":"Batch Volume (per CY)"}]
[812,{"$f":"IF('Vol. Mixers Tolerances'!$H$31=\"\",\"\",'Vol. Mixers Tolerances'!$H$31)","v":"0 - 0"},{"$f":"IF('Vol. Mixers Tolerances'!$B$6=\"\",\"\",'Vol. Mixers Tolerances'!$B$6)","v":"Vol. Mixers Tolerances"},{"$f":"IF('Vol. Mixers Tolerances'!$B$26=\"\",\"\",'Vol. Mixers Tolerances'!$B$26)","v":"MEASUREMENT TOLERANCES -- Volumetric Mixers"},{"$f":"IF('Vol. Mixers Tolerances'!$B$31=\"\",\"\",'Vol. Mixers Tolerances'!$B$31)","v":"GGBF slag, wt."},{"$f":"IF('Vol. Mixers Tolerances'!$H$27=\"\",\"\",'Vol. Mixers Tolerances'!$H$27)","v":"Allowable Batching Weight Range (lbs/ CY)"}]
[813,{"$f":"IF('Vol. Mixers Tolerances'!$F$32=\"\",\"\",'Vol. Mixers Tolerances'!$F$32)","v":0},{"$f":"IF('Vol. Mixers Tolerances'!$B$6=\"\",\"\",'Vol. Mixers Tolerances'!$B$6)","v":"Vol. Mixers Tolerances"},{"$f":"IF('Vol. Mixers Tolerances'!$B$26=\"\",\"\",'Vol. Mixers Tolerances'!$B$26)","v":"MEASUREMENT TOLERANCES -- Volumetric Mixers"},{"$f":"IF('Vol. Mixers Tolerances'!$B$32=\"\",\"\",'Vol. Mixers Tolerances'!$B$32)","v":"Silica fume, wt."},{"$f":"IF('Vol. Mixers Tolerances'!$F$27=\"\",\"\",'Vol. Mixers Tolerances'!$F$27)","v":"Batch Weight (lbs/ CY)"}]
[814,{"$f":"IF('Vol. Mixers Tolerances'!$G$32=\"\",\"\",'Vol. Mixers Tolerances'!$G$32)","v":0},{"$f":"IF('Vol. Mixers Tolerances'!$B$6=\"\",\"\",'Vol. Mixers Tolerances'!$B$6)","v":"Vol. Mixers Tolerances"},{"$f":"IF('Vol. Mixers Tolerances'!$B$26=\"\",\"\",'Vol. Mixers Tolerances'!$B$26)","v":"MEASUREMENT TOLERANCES -- Volumetric Mixers"},{"$f":"IF('Vol. Mixers Tolerances'!$B$32=\"\",\"\",'Vol. Mixers Tolerances'!$B$32)","v":"Silica fume, wt."},{"$f":"IF('Vol. Mixers Tolerances'!$G$27=\"\",\"\",'Vol. Mixers Tolerances'!$G$27)","v":"Batch Volume (per CY)"}]
[815,{"$f":"IF('Vol. Mixers Tolerances'!$H$32=\"\",\"\",'Vol. Mixers Tolerances'!$H$32)","v":"0 - 0"},{"$f":"IF('Vol. Mixers Tolerances'!$B$6=\"\",\"\",'Vol. Mixers Tolerances'!$B$6)","v":"Vol. Mixers Tolerances"},{"$f":"IF('Vol. Mixers Tolerances'!$B$26=\"\",\"\",'Vol. Mixers Tolerances'!$B$26)","v":"MEASUREMENT TOLERANCES -- Volumetric Mixers"},{"$f":"IF('Vol. Mixers Tolerances'!$B$32=\"\",\"\",'Vol. Mixers Tolerances'!$B$32)","v":"Silica fume, wt."},{"$f":"IF('Vol. Mixers Tolerances'!$H$27=\"\",\"\",'Vol. Mixers Tolerances'!$H$27)","v":"Allowable Batching Weight Range (lbs/ CY)"}]
[816,{"$f":"IF('Vol. Mixers Tolerances'!$F$33=\"\",\"\",'Vol. Mixers Tolerances'!$F$33)","v":0},{"$f":"IF('Vol. Mixers Tolerances'!$B$6=\"\",\"\",'Vol. Mixers Tolerances'!$B$6)","v":"Vol. Mixers Tolerances"},{"$f":"IF('Vol. Mixers Tolerances'!$B$26=\"\",\"\",'Vol. Mixers Tolerances'!$B$26)","v":"MEASUREMENT TOLERANCES -- Volumetric Mixers"},{"$f":"IF('Vol. Mixers Tolerances'!$B$33=\"\",\"\",'Vol. Mixers Tolerances'!$B$33)","v":"UFFA, wt."},{"$f":"IF('Vol. Mixers Tolerances'!$F$27=\"\",\"\",'Vol. Mixers Tolerances'!$F$27)","v":"Batch Weight (lbs/ CY)"}]
[817,{"$f":"IF('Vol. Mixers Tolerances'!$G$33=\"\",\"\",'Vol. Mixers Tolerances'!$G$33)","v":0},{"$f":"IF('Vol. Mixers Tolerances'!$B$6=\"\",\"\",'Vol. Mixers Tolerances'!$B$6)","v":"Vol. Mixers Tolerances"},{"$f":"IF('Vol. Mixers Tolerances'!$B$26=\"\",\"\",'Vol. Mixers Tolerances'!$B$26)","v":"MEASUREMENT TOLERANCES -- Volumetric Mixers"},{"$f":"IF('Vol. Mixers Tolerances'!$B$33=\"\",\"\",'Vol. Mixers Tolerances'!$B$33)","v":"UFFA, wt."},{"$f":"IF('Vol. Mixers Tolerances'!$G$27=\"\",\"\",'Vol. Mixers Tolerances'!$G$27)","v":"Batch Volume (per CY)"}]
[818,{"$f":"IF('Vol. Mixers Tolerances'!$H$33=\"\",\"\",'Vol. Mixers Tolerances'!$H$33)","v":"0 - 0"},{"$f":"IF('Vol. Mixers Tolerances'!$B$6=\"\",\"\",'Vol. Mixers Tolerances'!$B$6)","v":"Vol. Mixers Tolerances"},{"$f":"IF('Vol. Mixers Tolerances'!$B$26=\"\",\"\",'Vol. Mixers Tolerances'!$B$26)","v":"MEASUREMENT TOLERANCES -- Volumetric Mixers"},{"$f":"IF('Vol. Mixers Tolerances'!$B$33=\"\",\"\",'Vol. Mixers Tolerances'!$B$33)","v":"UFFA, wt."},{"$f":"IF('Vol. Mixers Tolerances'!$H$27=\"\",\"\",'Vol. Mixers Tolerances'!$H$27)","v":"Allowable Batching Weight Range (lbs/ CY)"}]
[819,{"$f":"IF('Vol. Mixers Tolerances'!$F$34=\"\",\"\",'Vol. Mixers Tolerances'!$F$34)","v":0},{"$f":"IF('Vol. Mixers Tolerances'!$B$6=\"\",\"\",'Vol. Mixers Tolerances'!$B$6)","v":"Vol. Mixers Tolerances"},{"$f":"IF('Vol. Mixers Tolerances'!$B$26=\"\",\"\",'Vol. Mixers Tolerances'!$B$26)","v":"MEASUREMENT TOLERANCES -- Volumetric Mixers"},{"$f":"IF('Vol. Mixers Tolerances'!$B$34=\"\",\"\",'Vol. Mixers Tolerances'!$B$34)","v":"MFFA, wt."},{"$f":"IF('Vol. Mixers Tolerances'!$F$27=\"\",\"\",'Vol. Mixers Tolerances'!$F$27)","v":"Batch Weight (lbs/ CY)"}]
[820,{"$f":"IF('Vol. Mixers Tolerances'!$G$34=\"\",\"\",'Vol. Mixers Tolerances'!$G$34)","v":0},{"$f":"IF('Vol. Mixers Tolerances'!$B$6=\"\",\"\",'Vol. Mixers Tolerances'!$B$6)","v":"Vol. Mixers Tolerances"},{"$f":"IF('Vol. Mixers Tolerances'!$B$26=\"\",\"\",'Vol. Mixers Tolerances'!$B$26)","v":"MEASUREMENT TOLERANCES -- Volumetric Mixers"},{"$f":"IF('Vol. Mixers Tolerances'!$B$34=\"\",\"\",'Vol. Mixers Tolerances'!$B$34)","v":"MFFA, wt."},{"$f":"IF('Vol. Mixers Tolerances'!$G$27=\"\",\"\",'Vol. Mixers Tolerances'!$G$27)","v":"Batch Volume (per CY)"}]
[821,{"$f":"IF('Vol. Mixers Tolerances'!$H$34=\"\",\"\",'Vol. Mixers Tolerances'!$H$34)","v":"0 - 0"},{"$f":"IF('Vol. Mixers Tolerances'!$B$6=\"\",\"\",'Vol. Mixers Tolerances'!$B$6)","v":"Vol. Mixers Tolerances"},{"$f":"IF('Vol. Mixers Tolerances'!$B$26=\"\",\"\",'Vol. Mixers Tolerances'!$B$26)","v":"MEASUREMENT TOLERANCES -- Volumetric Mixers"},{"$f":"IF('Vol. Mixers Tolerances'!$B$34=\"\",\"\",'Vol. Mixers Tolerances'!$B$34)","v":"MFFA, wt."},{"$f":"IF('Vol. Mixers Tolerances'!$H$27=\"\",\"\",'Vol. Mixers Tolerances'!$H$27)","v":"Allowable Batching Weight Range (lbs/ CY)"}]
[822,{"$f":"IF('Vol. Mixers Tolerances'!$F$35=\"\",\"\",'Vol. Mixers Tolerances'!$F$35)","v":0},{"$f":"IF('Vol. Mixers Tolerances'!$B$6=\"\",\"\",'Vol. Mixers Tolerances'!$B$6)","v":"Vol. Mixers Tolerances"},{"$f":"IF('Vol. Mixers Tolerances'!$B$26=\"\",\"\",'Vol. Mixers Tolerances'!$B$26)","v":"MEASUREMENT TOLERANCES -- Volumetric Mixers"},{"$f":"IF('Vol. Mixers Tolerances'!$B$35=\"\",\"\",'Vol. Mixers Tolerances'!$B$35)","v":"Metakaolin, wt."},{"$f":"IF('Vol. Mixers Tolerances'!$F$27=\"\",\"\",'Vol. Mixers Tolerances'!$F$27)","v":"Batch Weight (lbs/ CY)"}]
[823,{"$f":"IF('Vol. Mixers Tolerances'!$G$35=\"\",\"\",'Vol. Mixers Tolerances'!$G$35)","v":0},{"$f":"IF('Vol. Mixers Tolerances'!$B$6=\"\",\"\",'Vol. Mixers Tolerances'!$B$6)","v":"Vol. Mixers Tolerances"},{"$f":"IF('Vol. Mixers Tolerances'!$B$26=\"\",\"\",'Vol. Mixers Tolerances'!$B$26)","v":"MEASUREMENT TOLERANCES -- Volumetric Mixers"},{"$f":"IF('Vol. Mixers Tolerances'!$B$35=\"\",\"\",'Vol. Mixers Tolerances'!$B$35)","v":"Metakaolin, wt."},{"$f":"IF('Vol. Mixers Tolerances'!$G$27=\"\",\"\",'Vol. Mixers Tolerances'!$G$27)","v":"Batch Volume (per CY)"}]
[824,{"$f":"IF('Vol. Mixers Tolerances'!$H$35=\"\",\"\",'Vol. Mixers Tolerances'!$H$35)","v":"0 - 0"},{"$f":"IF('Vol. Mixers Tolerances'!$B$6=\"\",\"\",'Vol. Mixers Tolerances'!$B$6)","v":"Vol. Mixers Tolerances"},{"$f":"IF('Vol. Mixers Tolerances'!$B$26=\"\",\"\",'Vol. Mixers Tolerances'!$B$26)","v":"MEASUREMENT TOLERANCES -- Volumetric Mixers"},{"$f":"IF('Vol. Mixers Tolerances'!$B$35=\"\",\"\",'Vol. Mixers Tolerances'!$B$35)","v":"Metakaolin, wt."},{"$f":"IF('Vol. Mixers Tolerances'!$H$27=\"\",\"\",'Vol. Mixers Tolerances'!$H$27)","v":"Allowable Batching Weight Range (lbs/ CY)"}]
[825,{"$f":"IF('Vol. Mixers Tolerances'!$F$36=\"\",\"\",'Vol. Mixers Tolerances'!$F$36)","v":0},{"$f":"IF('Vol. Mixers Tolerances'!$B$6=\"\",\"\",'Vol. Mixers Tolerances'!$B$6)","v":"Vol. Mixers Tolerances"},{"$f":"IF('Vol. Mixers Tolerances'!$B$26=\"\",\"\",'Vol. Mixers Tolerances'!$B$26)","v":"MEASUREMENT TOLERANCES -- Volumetric Mixers"},{"$f":"IF('Vol. Mixers Tolerances'!$B$36=\"\",\"\",'Vol. Mixers Tolerances'!$B$36)","v":"Other pozzolan, wt."},{"$f":"IF('Vol. Mixers Tolerances'!$F$27=\"\",\"\",'Vol. Mixers Tolerances'!$F$27)","v":"Batch Weight (lbs/ CY)"}]
[826,{"$f":"IF('Vol. Mixers Tolerances'!$G$36=\"\",\"\",'Vol. Mixers Tolerances'!$G$36)","v":0},{"$f":"IF('Vol. Mixers Tolerances'!$B$6=\"\",\"\",'Vol. Mixers Tolerances'!$B$6)","v":"Vol. Mixers Tolerances"},{"$f":"IF('Vol. Mixers Tolerances'!$B$26=\"\",\"\",'Vol. Mixers Tolerances'!$B$26)","v":"MEASUREMENT TOLERANCES -- Volumetric Mixers"},{"$f":"IF('Vol. Mixers Tolerances'!$B$36=\"\",\"\",'Vol. Mixers Tolerances'!$B$36)","v":"Other pozzolan, wt."},{"$f":"IF('Vol. Mixers Tolerances'!$G$27=\"\",\"\",'Vol. Mixers Tolerances'!$G$27)","v":"Batch Volume (per CY)"}]
[827,{"$f":"IF('Vol. Mixers Tolerances'!$H$36=\"\",\"\",'Vol. Mixers Tolerances'!$H$36)","v":"0 - 0"},{"$f":"IF('Vol. Mixers Tolerances'!$B$6=\"\",\"\",'Vol. Mixers Tolerances'!$B$6)","v":"Vol. Mixers Tolerances"},{"$f":"IF('Vol. Mixers Tolerances'!$B$26=\"\",\"\",'Vol. Mixers Tolerances'!$B$26)","v":"MEASUREMENT TOLERANCES -- Volumetric Mixers"},{"$f":"IF('Vol. Mixers Tolerances'!$B$36=\"\",\"\",'Vol. Mixers Tolerances'!$B$36)","v":"Other pozzolan, wt."},{"$f":"IF('Vol. Mixers Tolerances'!$H$27=\"\",\"\",'Vol. Mixers Tolerances'!$H$27)","v":"Allowable Batching Weight Range (lbs/ CY)"}]
[828,{"$f":"IF('Vol. Mixers Tolerances'!$F$37=\"\",\"\",'Vol. Mixers Tolerances'!$F$37)","v":0},{"$f":"IF('Vol. Mixers Tolerances'!$B$6=\"\",\"\",'Vol. Mixers Tolerances'!$B$6)","v":"Vol. Mixers Tolerances"},{"$f":"IF('Vol. Mixers Tolerances'!$B$26=\"\",\"\",'Vol. Mixers Tolerances'!$B$26)","v":"MEASUREMENT TOLERANCES -- Volumetric Mixers"},{"$f":"IF('Vol. Mixers Tolerances'!$B$37=\"\",\"\",'Vol. Mixers Tolerances'!$B$37)","v":"Water, wt. or volume"},{"$f":"IF('Vol. Mixers Tolerances'!$F$27=\"\",\"\",'Vol. Mixers Tolerances'!$F$27)","v":"Batch Weight (lbs/ CY)"}]
[829,{"$f":"IF('Vol. Mixers Tolerances'!$G$37=\"\",\"\",'Vol. Mixers Tolerances'!$G$37)","v":"0 (gal.)"},{"$f":"IF('Vol. Mixers Tolerances'!$B$6=\"\",\"\",'Vol. Mixers Tolerances'!$B$6)","v":"Vol. Mixers Tolerances"},{"$f":"IF('Vol. Mixers Tolerances'!$B$26=\"\",\"\",'Vol. Mixers Tolerances'!$B$26)","v":"MEASUREMENT TOLERANCES -- Volumetric Mixers"},{"$f":"IF('Vol. Mixers Tolerances'!$B$37=\"\",\"\",'Vol. Mixers Tolerances'!$B$37)","v":"Water, wt. or volume"},{"$f":"IF('Vol. Mixers Tolerances'!$G$27=\"\",\"\",'Vol. Mixers Tolerances'!$G$27)","v":"Batch Volume (per CY)"}]
[830,{"$f":"IF('Vol. Mixers Tolerances'!$H$37=\"\",\"\",'Vol. Mixers Tolerances'!$H$37)","v":"0 - 0"},{"$f":"IF('Vol. Mixers Tolerances'!$B$6=\"\",\"\",'Vol. Mixers Tolerances'!$B$6)","v":"Vol. Mixers Tolerances"},{"$f":"IF('Vol. Mixers Tolerances'!$B$26=\"\",\"\",'Vol. Mixers Tolerances'!$B$26)","v":"MEASUREMENT TOLERANCES -- Volumetric Mixers"},{"$f":"IF('Vol. Mixers Tolerances'!$B$37=\"\",\"\",'Vol. Mixers Tolerances'!$B$37)","v":"Water, wt. or volume"},{"$f":"IF('Vol. Mixers Tolerances'!$H$27=\"\",\"\",'Vol. Mixers Tolerances'!$H$27)","v":"Allowable Batching Weight Range (lbs/ CY)"}]
[831,{"$f":"IF('Vol. Mixers Tolerances'!$J$37=\"\",\"\",'Vol. Mixers Tolerances'!$J$37)","v":"0 - 0 (gal.)"},{"$f":"IF('Vol. Mixers Tolerances'!$B$6=\"\",\"\",'Vol. Mixers Tolerances'!$B$6)","v":"Vol. Mixers Tolerances"},{"$f":"IF('Vol. Mixers Tolerances'!$B$26=\"\",\"\",'Vol. Mixers Tolerances'!$B$26)","v":"MEASUREMENT TOLERANCES -- Volumetric Mixers"},{"$f":"IF('Vol. Mixers Tolerances'!$B$37=\"\",\"\",'Vol. Mixers Tolerances'!$B$37)","v":"Water, wt. or volume"},{"$f":"IF('Vol. Mixers Tolerances'!$J$27=\"\",\"\",'Vol. Mixers Tolerances'!$J$27)","v":"Allowable Batching Volume Range (per CY)"}]
[832,{"$f":"IF('Vol. Mixers Tolerances'!$F$38=\"\",\"\",'Vol. Mixers Tolerances'!$F$38)","v":0},{"$f":"IF('Vol. Mixers Tolerances'!$B$6=\"\",\"\",'Vol. Mixers Tolerances'!$B$6)","v":"Vol. Mixers Tolerances"},{"$f":"IF('Vol. Mixers Tolerances'!$B$26=\"\",\"\",'Vol. Mixers Tolerances'!$B$26)","v":"MEASUREMENT TOLERANCES -- Volumetric Mixers"},{"$f":"IF('Vol. Mixers Tolerances'!$B$38=\"\",\"\",'Vol. Mixers Tolerances'!$B$38)","v":"Fine aggregate 1, wt."},{"$f":"IF('Vol. Mixers Tolerances'!$F$27=\"\",\"\",'Vol. Mixers Tolerances'!$F$27)","v":"Batch Weight (lbs/ CY)"}]
[833,{"$f":"IF('Vol. Mixers Tolerances'!$G$38=\"\",\"\",'Vol. Mixers Tolerances'!$G$38)","v":0},{"$f":"IF('Vol. Mixers Tolerances'!$B$6=\"\",\"\",'Vol. Mixers Tolerances'!$B$6)","v":"Vol. Mixers Tolerances"},{"$f":"IF('Vol. Mixers Tolerances'!$B$26=\"\",\"\",'Vol. Mixers Tolerances'!$B$26)","v":"MEASUREMENT TOLERANCES -- Volumetric Mixers"},{"$f":"IF('Vol. Mixers Tolerances'!$B$38=\"\",\"\",'Vol. Mixers Tolerances'!$B$38)","v":"Fine aggregate 1, wt."},{"$f":"IF('Vol. Mixers Tolerances'!$G$27=\"\",\"\",'Vol. Mixers Tolerances'!$G$27)","v":"Batch Volume (per CY)"}]
[834,{"$f":"IF('Vol. Mixers Tolerances'!$H$38=\"\",\"\",'Vol. Mixers Tolerances'!$H$38)","v":"0 - 0"},{"$f":"IF('Vol. Mixers Tolerances'!$B$6=\"\",\"\",'Vol. Mixers Tolerances'!$B$6)","v":"Vol. Mixers Tolerances"},{"$f":"IF('Vol. Mixers Tolerances'!$B$26=\"\",\"\",'Vol. Mixers Tolerances'!$B$26)","v":"MEASUREMENT TOLERANCES -- Volumetric Mixers"},{"$f":"IF('Vol. Mixers Tolerances'!$B$38=\"\",\"\",'Vol. Mixers Tolerances'!$B$38)","v":"Fine aggregate 1, wt."},{"$f":"IF('Vol. Mixers Tolerances'!$H$27=\"\",\"\",'Vol. Mixers Tolerances'!$H$27)","v":"Allowable Batching Weight Range (lbs/ CY)"}]
[835,{"$f":"IF('Vol. Mixers Tolerances'!$F$39=\"\",\"\",'Vol. Mixers Tolerances'!$F$39)","v":0},{"$f":"IF('Vol. Mixers Tolerances'!$B$6=\"\",\"\",'Vol. Mixers Tolerances'!$B$6)","v":"Vol. Mixers Tolerances"},{"$f":"IF('Vol. Mixers Tolerances'!$B$26=\"\",\"\",'Vol. Mixers Tolerances'!$B$26)","v":"MEASUREMENT TOLERANCES -- Volumetric Mixers"},{"$f":"IF('Vol. Mixers Tolerances'!$B$39=\"\",\"\",'Vol. Mixers Tolerances'!$B$39)","v":"Fine aggregate 2, wt."},{"$f":"IF('Vol. Mixers Tolerances'!$F$27=\"\",\"\",'Vol. Mixers Tolerances'!$F$27)","v":"Batch Weight (lbs/ CY)"}]
[836,{"$f":"IF('Vol. Mixers Tolerances'!$G$39=\"\",\"\",'Vol. Mixers Tolerances'!$G$39)","v":0},{"$f":"IF('Vol. Mixers Tolerances'!$B$6=\"\",\"\",'Vol. Mixers Tolerances'!$B$6)","v":"Vol. Mixers Tolerances"},{"$f":"IF('Vol. Mixers Tolerances'!$B$26=\"\",\"\",'Vol. Mixers Tolerances'!$B$26)","v":"MEASUREMENT TOLERANCES -- Volumetric Mixers"},{"$f":"IF('Vol. Mixers Tolerances'!$B$39=\"\",\"\",'Vol. Mixers Tolerances'!$B$39)","v":"Fine aggregate 2, wt."},{"$f":"IF('Vol. Mixers Tolerances'!$G$27=\"\",\"\",'Vol. Mixers Tolerances'!$G$27)","v":"Batch Volume (per CY)"}]
[837,{"$f":"IF('Vol. Mixers Tolerances'!$H$39=\"\",\"\",'Vol. Mixers Tolerances'!$H$39)","v":"0 - 0"},{"$f":"IF('Vol. Mixers Tolerances'!$B$6=\"\",\"\",'Vol. Mixers Tolerances'!$B$6)","v":"Vol. Mixers Tolerances"},{"$f":"IF('Vol. Mixers Tolerances'!$B$26=\"\",\"\",'Vol. Mixers Tolerances'!$B$26)","v":"MEASUREMENT TOLERANCES -- Volumetric Mixers"},{"$f":"IF('Vol. Mixers Tolerances'!$B$39=\"\",\"\",'Vol. Mixers Tolerances'!$B$39)","v":"Fine aggregate 2, wt."},{"$f":"IF('Vol. Mixers Tolerances'!$H$27=\"\",\"\",'Vol. Mixers Tolerances'!$H$27)","v":"Allowable Batching Weight Range (lbs/ CY)"}]
[838,{"$f":"IF('Vol. Mixers Tolerances'!$F$40=\"\",\"\",'Vol. Mixers Tolerances'!$F$40)","v":0},{"$f":"IF('Vol. Mixers Tolerances'!$B$6=\"\",\"\",'Vol. Mixers Tolerances'!$B$6)","v":"Vol. Mixers Tolerances"},{"$f":"IF('Vol. Mixers Tolerances'!$B$26=\"\",\"\",'Vol. Mixers Tolerances'!$B$26)","v":"MEASUREMENT TOLERANCES -- Volumetric Mixers"},{"$f":"IF('Vol. Mixers Tolerances'!$B$40=\"\",\"\",'Vol. Mixers Tolerances'!$B$40)","v":"Coarse aggregate 1, wt."},{"$f":"IF('Vol. Mixers Tolerances'!$F$27=\"\",\"\",'Vol. Mixers Tolerances'!$F$27)","v":"Batch Weight (lbs/ CY)"}]
[839,{"$f":"IF('Vol. Mixers Tolerances'!$G$40=\"\",\"\",'Vol. Mixers Tolerances'!$G$40)","v":0},{"$f":"IF('Vol. Mixers Tolerances'!$B$6=\"\",\"\",'Vol. Mixers Tolerances'!$B$6)","v":"Vol. Mixers Tolerances"},{"$f":"IF('Vol. Mixers Tolerances'!$B$26=\"\",\"\",'Vol. Mixers Tolerances'!$B$26)","v":"MEASUREMENT TOLERANCES -- Volumetric Mixers"},{"$f":"IF('Vol. Mixers Tolerances'!$B$40=\"\",\"\",'Vol. Mixers Tolerances'!$B$40)","v":"Coarse aggregate 1, wt."},{"$f":"IF('Vol. Mixers Tolerances'!$G$27=\"\",\"\",'Vol. Mixers Tolerances'!$G$27)","v":"Batch Volume (per CY)"}]
[840,{"$f":"IF('Vol. Mixers Tolerances'!$H$40=\"\",\"\",'Vol. Mixers Tolerances'!$H$40)","v":"0 - 0"},{"$f":"IF('Vol. Mixers Tolerances'!$B$6=\"\",\"\",'Vol. Mixers Tolerances'!$B$6)","v":"Vol. Mixers Tolerances"},{"$f":"IF('Vol. Mixers Tolerances'!$B$26=\"\",\"\",'Vol. Mixers Tolerances'!$B$26)","v":"MEASUREMENT TOLERANCES -- Volumetric Mixers"},{"$f":"IF('Vol. Mixers Tolerances'!$B$40=\"\",\"\",'Vol. Mixers Tolerances'!$B$40)","v":"Coarse aggregate 1, wt."},{"$f":"IF('Vol. Mixers Tolerances'!$H$27=\"\",\"\",'Vol. Mixers Tolerances'!$H$27)","v":"Allowable Batching Weight Range (lbs/ CY)"}]
[841,{"$f":"IF('Vol. Mixers Tolerances'!$F$41=\"\",\"\",'Vol. Mixers Tolerances'!$F$41)","v":0},{"$f":"IF('Vol. Mixers Tolerances'!$B$6=\"\",\"\",'Vol. Mixers Tolerances'!$B$6)","v":"Vol. Mixers Tolerances"},{"$f":"IF('Vol. Mixers Tolerances'!$B$26=\"\",\"\",'Vol. Mixers Tolerances'!$B$26)","v":"MEASUREMENT TOLERANCES -- Volumetric Mixers"},{"$f":"IF('Vol. Mixers Tolerances'!$B$41=\"\",\"\",'Vol. Mixers Tolerances'!$B$41)","v":"Coarse aggregate 2, wt."},{"$f":"IF('Vol. Mixers Tolerances'!$F$27=\"\",\"\",'Vol. Mixers Tolerances'!$F$27)","v":"Batch Weight (lbs/ CY)"}]
[842,{"$f":"IF('Vol. Mixers Tolerances'!$G$41=\"\",\"\",'Vol. Mixers Tolerances'!$G$41)","v":0},{"$f":"IF('Vol. Mixers Tolerances'!$B$6=\"\",\"\",'Vol. Mixers Tolerances'!$B$6)","v":"Vol. Mixers Tolerances"},{"$f":"IF('Vol. Mixers Tolerances'!$B$26=\"\",\"\",'Vol. Mixers Tolerances'!$B$26)","v":"MEASUREMENT TOLERANCES -- Volumetric Mixers"},{"$f":"IF('Vol. Mixers Tolerances'!$B$41=\"\",\"\",'Vol. Mixers Tolerances'!$B$41)","v":"Coarse aggregate 2, wt."},{"$f":"IF('Vol. Mixers Tolerances'!$G$27=\"\",\"\",'Vol. Mixers Tolerances'!$G$27)","v":"Batch Volume (per CY)"}]
[843,{"$f":"IF('Vol. Mixers Tolerances'!$H$41=\"\",\"\",'Vol. Mixers Tolerances'!$H$41)","v":"0 - 0"},{"$f":"IF('Vol. Mixers Tolerances'!$B$6=\"\",\"\",'Vol. Mixers Tolerances'!$B$6)","v":"Vol. Mixers Tolerances"},{"$f":"IF('Vol. Mixers Tolerances'!$B$26=\"\",\"\",'Vol. Mixers Tolerances'!$B$26)","v":"MEASUREMENT TOLERANCES -- Volumetric Mixers"},{"$f":"IF('Vol. Mixers Tolerances'!$B$41=\"\",\"\",'Vol. Mixers Tolerances'!$B$41)","v":"Coarse aggregate 2, wt."},{"$f":"IF('Vol. Mixers Tolerances'!$H$27=\"\",\"\",'Vol. Mixers Tolerances'!$H$27)","v":"Allowable Batching Weight Range (lbs/ CY)"}]
[844,{"$f":"IF('Vol. Mixers Tolerances'!$F$42=\"\",\"\",'Vol. Mixers Tolerances'!$F$42)","v":0},{"$f":"IF('Vol. Mixers Tolerances'!$B$6=\"\",\"\",'Vol. Mixers Tolerances'!$B$6)","v":"Vol. Mixers Tolerances"},{"$f":"IF('Vol. Mixers Tolerances'!$B$26=\"\",\"\",'Vol. Mixers Tolerances'!$B$26)","v":"MEASUREMENT TOLERANCES -- Volumetric Mixers"},{"$f":"IF('Vol. Mixers Tolerances'!$B$42=\"\",\"\",'Vol. Mixers Tolerances'!$B$42)","v":"Intermediate aggregate 1, wt."},{"$f":"IF('Vol. Mixers Tolerances'!$F$27=\"\",\"\",'Vol. Mixers Tolerances'!$F$27)","v":"Batch Weight (lbs/ CY)"}]
[845,{"$f":"IF('Vol. Mixers Tolerances'!$G$42=\"\",\"\",'Vol. Mixers Tolerances'!$G$42)","v":0},{"$f":"IF('Vol. Mixers Tolerances'!$B$6=\"\",\"\",'Vol. Mixers Tolerances'!$B$6)","v":"Vol. Mixers Tolerances"},{"$f":"IF('Vol. Mixers Tolerances'!$B$26=\"\",\"\",'Vol. Mixers Tolerances'!$B$26)","v":"MEASUREMENT TOLERANCES -- Volumetric Mixers"},{"$f":"IF('Vol. Mixers Tolerances'!$B$42=\"\",\"\",'Vol. Mixers Tolerances'!$B$42)","v":"Intermediate aggregate 1, wt."},{"$f":"IF('Vol. Mixers Tolerances'!$G$27=\"\",\"\",'Vol. Mixers Tolerances'!$G$27)","v":"Batch Volume (per CY)"}]
[846,{"$f":"IF('Vol. Mixers Tolerances'!$H$42=\"\",\"\",'Vol. Mixers Tolerances'!$H$42)","v":"0 - 0"},{"$f":"IF('Vol. Mixers Tolerances'!$B$6=\"\",\"\",'Vol. Mixers Tolerances'!$B$6)","v":"Vol. Mixers Tolerances"},{"$f":"IF('Vol. Mixers Tolerances'!$B$26=\"\",\"\",'Vol. Mixers Tolerances'!$B$26)","v":"MEASUREMENT TOLERANCES -- Volumetric Mixers"},{"$f":"IF('Vol. Mixers Tolerances'!$B$42=\"\",\"\",'Vol. Mixers Tolerances'!$B$42)","v":"Intermediate aggregate 1, wt."},{"$f":"IF('Vol. Mixers Tolerances'!$H$27=\"\",\"\",'Vol. Mixers Tolerances'!$H$27)","v":"Allowable Batching Weight Range (lbs/ CY)"}]
[847,{"$f":"IF('Vol. Mixers Tolerances'!$F$43=\"\",\"\",'Vol. Mixers Tolerances'!$F$43)","v":0},{"$f":"IF('Vol. Mixers Tolerances'!$B$6=\"\",\"\",'Vol. Mixers Tolerances'!$B$6)","v":"Vol. Mixers Tolerances"},{"$f":"IF('Vol. Mixers Tolerances'!$B$26=\"\",\"\",'Vol. Mixers Tolerances'!$B$26)","v":"MEASUREMENT TOLERANCES -- Volumetric Mixers"},{"$f":"IF('Vol. Mixers Tolerances'!$B$43=\"\",\"\",'Vol. Mixers Tolerances'!$B$43)","v":"Intermediate aggregate 2, wt."},{"$f":"IF('Vol. Mixers Tolerances'!$F$27=\"\",\"\",'Vol. Mixers Tolerances'!$F$27)","v":"Batch Weight (lbs/ CY)"}]
[848,{"$f":"IF('Vol. Mixers Tolerances'!$G$43=\"\",\"\",'Vol. Mixers Tolerances'!$G$43)","v":0},{"$f":"IF('Vol. Mixers Tolerances'!$B$6=\"\",\"\",'Vol. Mixers Tolerances'!$B$6)","v":"Vol. Mixers Tolerances"},{"$f":"IF('Vol. Mixers Tolerances'!$B$26=\"\",\"\",'Vol. Mixers Tolerances'!$B$26)","v":"MEASUREMENT TOLERANCES -- Volumetric Mixers"},{"$f":"IF('Vol. Mixers Tolerances'!$B$43=\"\",\"\",'Vol. Mixers Tolerances'!$B$43)","v":"Intermediate aggregate 2, wt."},{"$f":"IF('Vol. Mixers Tolerances'!$G$27=\"\",\"\",'Vol. Mixers Tolerances'!$G$27)","v":"Batch Volume (per CY)"}]
[849,{"$f":"IF('Vol. Mixers Tolerances'!$H$43=\"\",\"\",'Vol. Mixers Tolerances'!$H$43)","v":"0 - 0"},{"$f":"IF('Vol. Mixers Tolerances'!$B$6=\"\",\"\",'Vol. Mixers Tolerances'!$B$6)","v":"Vol. Mixers Tolerances"},{"$f":"IF('Vol. Mixers Tolerances'!$B$26=\"\",\"\",'Vol. Mixers Tolerances'!$B$26)","v":"MEASUREMENT TOLERANCES -- Volumetric Mixers"},{"$f":"IF('Vol. Mixers Tolerances'!$B$43=\"\",\"\",'Vol. Mixers Tolerances'!$B$43)","v":"Intermediate aggregate 2, wt."},{"$f":"IF('Vol. Mixers Tolerances'!$H$27=\"\",\"\",'Vol. Mixers Tolerances'!$H$27)","v":"Allowable Batching Weight Range (lbs/ CY)"}]
[850,{"$f":"IF('Vol. Mixers Tolerances'!$G$44=\"\",\"\",'Vol. Mixers Tolerances'!$G$44)","v":""},{"$f":"IF('Vol. Mixers Tolerances'!$B$6=\"\",\"\",'Vol. Mixers Tolerances'!$B$6)","v":"Vol. Mixers Tolerances"},{"$f":"IF('Vol. Mixers Tolerances'!$B$26=\"\",\"\",'Vol. Mixers Tolerances'!$B$26)","v":"MEASUREMENT TOLERANCES -- Volumetric Mixers"},{"$f":"IF('Vol. Mixers Tolerances'!$B$44=\"\",\"\",'Vol. Mixers Tolerances'!$B$44)","v":"Air entraining admixture, volume"},{"$f":"IF('Vol. Mixers Tolerances'!$G$27=\"\",\"\",'Vol. Mixers Tolerances'!$G$27)","v":"Batch Volume (per CY)"}]
[851,{"$f":"IF('Vol. Mixers Tolerances'!$J$44=\"\",\"\",'Vol. Mixers Tolerances'!$J$44)","v":""},{"$f":"IF('Vol. Mixers Tolerances'!$B$6=\"\",\"\",'Vol. Mixers Tolerances'!$B$6)","v":"Vol. Mixers Tolerances"},{"$f":"IF('Vol. Mixers Tolerances'!$B$26=\"\",\"\",'Vol. Mixers Tolerances'!$B$26)","v":"MEASUREMENT TOLERANCES -- Volumetric Mixers"},{"$f":"IF('Vol. Mixers Tolerances'!$B$44=\"\",\"\",'Vol. Mixers Tolerances'!$B$44)","v":"Air entraining admixture, volume"},{"$f":"IF('Vol. Mixers Tolerances'!$J$27=\"\",\"\",'Vol. Mixers Tolerances'!$J$27)","v":"Allowable Batching Volume Range (per CY)"}]
[852,{"$f":"IF('Vol. Mixers Tolerances'!$G$45=\"\",\"\",'Vol. Mixers Tolerances'!$G$45)","v":""},{"$f":"IF('Vol. Mixers Tolerances'!$B$6=\"\",\"\",'Vol. Mixers Tolerances'!$B$6)","v":"Vol. Mixers Tolerances"},{"$f":"IF('Vol. Mixers Tolerances'!$B$26=\"\",\"\",'Vol. Mixers Tolerances'!$B$26)","v":"MEASUREMENT TOLERANCES -- Volumetric Mixers"},{"$f":"IF('Vol. Mixers Tolerances'!$B$45=\"\",\"\",'Vol. Mixers Tolerances'!$B$45)","v":"Set retarder, volume"},{"$f":"IF('Vol. Mixers Tolerances'!$G$27=\"\",\"\",'Vol. Mixers Tolerances'!$G$27)","v":"Batch Volume (per CY)"}]
[853,{"$f":"IF('Vol. Mixers Tolerances'!$J$45=\"\",\"\",'Vol. Mixers Tolerances'!$J$45)","v":""},{"$f":"IF('Vol. Mixers Tolerances'!$B$6=\"\",\"\",'Vol. Mixers Tolerances'!$B$6)","v":"Vol. Mixers Tolerances"},{"$f":"IF('Vol. Mixers Tolerances'!$B$26=\"\",\"\",'Vol. Mixers Tolerances'!$B$26)","v":"MEASUREMENT TOLERANCES -- Volumetric Mixers"},{"$f":"IF('Vol. Mixers Tolerances'!$B$45=\"\",\"\",'Vol. Mixers Tolerances'!$B$45)","v":"Set retarder, volume"},{"$f":"IF('Vol. Mixers Tolerances'!$J$27=\"\",\"\",'Vol. Mixers Tolerances'!$J$27)","v":"Allowable Batching Volume Range (per CY)"}]
[854,{"$f":"IF('Vol. Mixers Tolerances'!$G$46=\"\",\"\",'Vol. Mixers Tolerances'!$G$46)","v":""},{"$f":"IF('Vol. Mixers Tolerances'!$B$6=\"\",\"\",'Vol. Mixers Tolerances'!$B$6)","v":"Vol. Mixers Tolerances"},{"$f":"IF('Vol. Mixers Tolerances'!$B$26=\"\",\"\",'Vol. Mixers Tolerances'!$B$26)","v":"MEASUREMENT TOLERANCES -- Volumetric Mixers"},{"$f":"IF('Vol. Mixers Tolerances'!$B$46=\"\",\"\",'Vol. Mixers Tolerances'!$B$46)","v":"Accelerator, volume"},{"$f":"IF('Vol. Mixers Tolerances'!$G$27=\"\",\"\",'Vol. Mixers Tolerances'!$G$27)","v":"Batch Volume (per CY)"}]
[855,{"$f":"IF('Vol. Mixers Tolerances'!$J$46=\"\",\"\",'Vol. Mixers Tolerances'!$J$46)","v":""},{"$f":"IF('Vol. Mixers Tolerances'!$B$6=\"\",\"\",'Vol. Mixers Tolerances'!$B$6)","v":"Vol. Mixers Tolerances"},{"$f":"IF('Vol. Mixers Tolerances'!$B$26=\"\",\"\",'Vol. Mixers Tolerances'!$B$26)","v":"MEASUREMENT TOLERANCES -- Volumetric Mixers"},{"$f":"IF('Vol. Mixers Tolerances'!$B$46=\"\",\"\",'Vol. Mixers Tolerances'!$B$46)","v":"Accelerator, volume"},{"$f":"IF('Vol. Mixers Tolerances'!$J$27=\"\",\"\",'Vol. Mixers Tolerances'!$J$27)","v":"Allowable Batching Volume Range (per CY)"}]
[856,{"$f":"IF('Vol. Mixers Tolerances'!$G$47=\"\",\"\",'Vol. Mixers Tolerances'!$G$47)","v":""},{"$f":"IF('Vol. Mixers Tolerances'!$B$6=\"\",\"\",'Vol. Mixers Tolerances'!$B$6)","v":"Vol. Mixers Tolerances"},{"$f":"IF('Vol. Mixers Tolerances'!$B$26=\"\",\"\",'Vol. Mixers Tolerances'!$B$26)","v":"MEASUREMENT TOLERANCES -- Volumetric Mixers"},{"$f":"IF('Vol. Mixers Tolerances'!$B$47=\"\",\"\",'Vol. Mixers Tolerances'!$B$47)","v":"Water reducer, volume"},{"$f":"IF('Vol. Mixers Tolerances'!$G$27=\"\",\"\",'Vol. Mixers Tolerances'!$G$27)","v":"Batch Volume (per CY)"}]
[857,{"$f":"IF('Vol. Mixers Tolerances'!$J$47=\"\",\"\",'Vol. Mixers Tolerances'!$J$47)","v":""},{"$f":"IF('Vol. Mixers Tolerances'!$B$6=\"\",\"\",'Vol. Mixers Tolerances'!$B$6)","v":"Vol. Mixers Tolerances"},{"$f":"IF('Vol. Mixers Tolerances'!$B$26=\"\",\"\",'Vol. Mixers Tolerances'!$B$26)","v":"MEASUREMENT TOLERANCES -- Volumetric Mixers"},{"$f":"IF('Vol. Mixers Tolerances'!$B$47=\"\",\"\",'Vol. Mixers Tolerances'!$B$47)","v":"Water reducer, volume"},{"$f":"IF('Vol. Mixers Tolerances'!$J$27=\"\",\"\",'Vol. Mixers Tolerances'!$J$27)","v":"Allowable Batching Volume Range (per CY)"}]
[858,{"$f":"IF('Vol. Mixers Tolerances'!$G$48=\"\",\"\",'Vol. Mixers Tolerances'!$G$48)","v":""},{"$f":"IF('Vol. Mixers Tolerances'!$B$6=\"\",\"\",'Vol. Mixers Tolerances'!$B$6)","v":"Vol. Mixers Tolerances"},{"$f":"IF('Vol. Mixers Tolerances'!$B$26=\"\",\"\",'Vol. Mixers Tolerances'!$B$26)","v":"MEASUREMENT TOLERANCES -- Volumetric Mixers"},{"$f":"IF('Vol. Mixers Tolerances'!$B$48=\"\",\"\",'Vol. Mixers Tolerances'!$B$48)","v":"High-range water reducer, volume"},{"$f":"IF('Vol. Mixers Tolerances'!$G$27=\"\",\"\",'Vol. Mixers Tolerances'!$G$27)","v":"Batch Volume (per CY)"}]
[859,{"$f":"IF('Vol. Mixers Tolerances'!$J$48=\"\",\"\",'Vol. Mixers Tolerances'!$J$48)","v":""},{"$f":"IF('Vol. Mixers Tolerances'!$B$6=\"\",\"\",'Vol. Mixers Tolerances'!$B$6)","v":"Vol. Mixers Tolerances"},{"$f":"IF('Vol. Mixers Tolerances'!$B$26=\"\",\"\",'Vol. Mixers Tolerances'!$B$26)","v":"MEASUREMENT TOLERANCES -- Volumetric Mixers"},{"$f":"IF('Vol. Mixers Tolerances'!$B$48=\"\",\"\",'Vol. Mixers Tolerances'!$B$48)","v":"High-range water reducer, volume"},{"$f":"IF('Vol. Mixers Tolerances'!$J$27=\"\",\"\",'Vol. Mixers Tolerances'!$J$27)","v":"Allowable Batching Volume Range (per CY)"}]
[860,{"$f":"IF('Vol. Mixers Tolerances'!$G$49=\"\",\"\",'Vol. Mixers Tolerances'!$G$49)","v":""},{"$f":"IF('Vol. Mixers Tolerances'!$B$6=\"\",\"\",'Vol. Mixers Tolerances'!$B$6)","v":"Vol. Mixers Tolerances"},{"$f":"IF('Vol. Mixers Tolerances'!$B$26=\"\",\"\",'Vol. Mixers Tolerances'!$B$26)","v":"MEASUREMENT TOLERANCES -- Volumetric Mixers"},{"$f":"IF('Vol. Mixers Tolerances'!$B$49=\"\",\"\",'Vol. Mixers Tolerances'!$B$49)","v":"Water reducing retarder, volume"},{"$f":"IF('Vol. Mixers Tolerances'!$G$27=\"\",\"\",'Vol. Mixers Tolerances'!$G$27)","v":"Batch Volume (per CY)"}]
[861,{"$f":"IF('Vol. Mixers Tolerances'!$J$49=\"\",\"\",'Vol. Mixers Tolerances'!$J$49)","v":""},{"$f":"IF('Vol. Mixers Tolerances'!$B$6=\"\",\"\",'Vol. Mixers Tolerances'!$B$6)","v":"Vol. Mixers Tolerances"},{"$f":"IF('Vol. Mixers Tolerances'!$B$26=\"\",\"\",'Vol. Mixers Tolerances'!$B$26)","v":"MEASUREMENT TOLERANCES -- Volumetric Mixers"},{"$f":"IF('Vol. Mixers Tolerances'!$B$49=\"\",\"\",'Vol. Mixers Tolerances'!$B$49)","v":"Water reducing retarder, volume"},{"$f":"IF('Vol. Mixers Tolerances'!$J$27=\"\",\"\",'Vol. Mixers Tolerances'!$J$27)","v":"Allowable Batching Volume Range (per CY)"}]
[862,{"$f":"IF('Vol. Mixers Tolerances'!$G$50=\"\",\"\",'Vol. Mixers Tolerances'!$G$50)","v":""},{"$f":"IF('Vol. Mixers Tolerances'!$B$6=\"\",\"\",'Vol. Mixers Tolerances'!$B$6)","v":"Vol. Mixers Tolerances"},{"$f":"IF('Vol. Mixers Tolerances'!$B$26=\"\",\"\",'Vol. Mixers Tolerances'!$B$26)","v":"MEASUREMENT TOLERANCES -- Volumetric Mixers"},{"$f":"IF('Vol. Mixers Tolerances'!$B$50=\"\",\"\",'Vol. Mixers Tolerances'!$B$50)","v":"High-range water reducing retarder, volume"},{"$f":"IF('Vol. Mixers Tolerances'!$G$27=\"\",\"\",'Vol. Mixers Tolerances'!$G$27)","v":"Batch Volume (per CY)"}]
[863,{"$f":"IF('Vol. Mixers Tolerances'!$J$50=\"\",\"\",'Vol. Mixers Tolerances'!$J$50)","v":""},{"$f":"IF('Vol. Mixers Tolerances'!$B$6=\"\",\"\",'Vol. Mixers Tolerances'!$B$6)","v":"Vol. Mixers Tolerances"},{"$f":"IF('Vol. Mixers Tolerances'!$B$26=\"\",\"\",'Vol. Mixers Tolerances'!$B$26)","v":"MEASUREMENT TOLERANCES -- Volumetric Mixers"},{"$f":"IF('Vol. Mixers Tolerances'!$B$50=\"\",\"\",'Vol. Mixers Tolerances'!$B$50)","v":"High-range water reducing retarder, volume"},{"$f":"IF('Vol. Mixers Tolerances'!$J$27=\"\",\"\",'Vol. Mixers Tolerances'!$J$27)","v":"Allowable Batching Volume Range (per CY)"}]
[864,{"$f":"IF('Vol. Mixers Tolerances'!$G$51=\"\",\"\",'Vol. Mixers Tolerances'!$G$51)","v":""},{"$f":"IF('Vol. Mixers Tolerances'!$B$6=\"\",\"\",'Vol. Mixers Tolerances'!$B$6)","v":"Vol. Mixers Tolerances"},{"$f":"IF('Vol. Mixers Tolerances'!$B$26=\"\",\"\",'Vol. Mixers Tolerances'!$B$26)","v":"MEASUREMENT TOLERANCES -- Volumetric Mixers"},{"$f":"IF('Vol. Mixers Tolerances'!$B$51=\"\",\"\",'Vol. Mixers Tolerances'!$B$51)","v":"Lithium nitrate admixture, volume"},{"$f":"IF('Vol. Mixers Tolerances'!$G$27=\"\",\"\",'Vol. Mixers Tolerances'!$G$27)","v":"Batch Volume (per CY)"}]
[865,{"$f":"IF('Vol. Mixers Tolerances'!$J$51=\"\",\"\",'Vol. Mixers Tolerances'!$J$51)","v":""},{"$f":"IF('Vol. Mixers Tolerances'!$B$6=\"\",\"\",'Vol. Mixers Tolerances'!$B$6)","v":"Vol. Mixers Tolerances"},{"$f":"IF('Vol. Mixers Tolerances'!$B$26=\"\",\"\",'Vol. Mixers Tolerances'!$B$26)","v":"MEASUREMENT TOLERANCES -- Volumetric Mixers"},{"$f":"IF('Vol. Mixers Tolerances'!$B$51=\"\",\"\",'Vol. Mixers Tolerances'!$B$51)","v":"Lithium nitrate admixture, volume"},{"$f":"IF('Vol. Mixers Tolerances'!$J$27=\"\",\"\",'Vol. Mixers Tolerances'!$J$27)","v":"Allowable Batching Volume Range (per CY)"}]
[866,{"$f":"IF('Vol. Mixers Tolerances'!$G$52=\"\",\"\",'Vol. Mixers Tolerances'!$G$52)","v":""},{"$f":"IF('Vol. Mixers Tolerances'!$B$6=\"\",\"\",'Vol. Mixers Tolerances'!$B$6)","v":"Vol. Mixers Tolerances"},{"$f":"IF('Vol. Mixers Tolerances'!$B$26=\"\",\"\",'Vol. Mixers Tolerances'!$B$26)","v":"MEASUREMENT TOLERANCES -- Volumetric Mixers"},{"$f":"IF('Vol. Mixers Tolerances'!$B$52=\"\",\"\",'Vol. Mixers Tolerances'!$B$52)","v":"Corrosion inhibitor, volume"},{"$f":"IF('Vol. Mixers Tolerances'!$G$27=\"\",\"\",'Vol. Mixers Tolerances'!$G$27)","v":"Batch Volume (per CY)"}]
[867,{"$f":"IF('Vol. Mixers Tolerances'!$J$44=\"\",\"\",'Vol. Mixers Tolerances'!$J$44)","v":""},{"$f":"IF('Vol. Mixers Tolerances'!$B$6=\"\",\"\",'Vol. Mixers Tolerances'!$B$6)","v":"Vol. Mixers Tolerances"},{"$f":"IF('Vol. Mixers Tolerances'!$B$26=\"\",\"\",'Vol. Mixers Tolerances'!$B$26)","v":"MEASUREMENT TOLERANCES -- Volumetric Mixers"},{"$f":"IF('Vol. Mixers Tolerances'!$B$52=\"\",\"\",'Vol. Mixers Tolerances'!$B$52)","v":"Corrosion inhibitor, volume"},{"$f":"IF('Vol. Mixers Tolerances'!$J$27=\"\",\"\",'Vol. Mixers Tolerances'!$J$27)","v":"Allowable Batching Volume Range (per CY)"}]
[868,{"$f":"IF('Producer Data'!$C$25=\"\",\"\",'Producer Data'!$C$25)","v":""},{"$f":"IF('Producer Data'!$C$6=\"\",\"\",'Producer Data'!$C$6)","v":"Producer Data"},{"$f":"IF('Producer Data'!$C$23=\"\",\"\",'Producer Data'!$C$23)","v":"Date"},{"$f":"IF('Producer Data'!$C$22=\"\",\"\",'Producer Data'!$C$22)","v":"A"},{"$f":"IF('Producer Data'!$B$25=\"\",\"\",'Producer Data'!$B$25)","v":1}]
[869,{"$f":"IF('Producer Data'!$D$25=\"\",\"\",'Producer Data'!$D$25)","v":""},{"$f":"IF('Producer Data'!$C$6=\"\",\"\",'Producer Data'!$C$6)","v":"Producer Data"},{"$f":"IF('Producer Data'!$D$23=\"\",\"\",'Producer Data'!$D$23)","v":"Compressive Strength, (psi)"},{"$f":"IF('Producer Data'!$C$22=\"\",\"\",'Producer Data'!$C$22)","v":"A"},{"$f":"IF('Producer Data'!$B$25=\"\",\"\",'Producer Data'!$B$25)","v":1}]
[870,{"$f":"IF('Producer Data'!$C$26=\"\",\"\",'Producer Data'!$C$26)","v":""},{"$f":"IF('Producer Data'!$C$6=\"\",\"\",'Producer Data'!$C$6)","v":"Producer Data"},{"$f":"IF('Producer Data'!$C$23=\"\",\"\",'Producer Data'!$C$23)","v":"Date"},{"$f":"IF('Producer Data'!$C$22=\"\",\"\",'Producer Data'!$C$22)","v":"A"},{"$f":"IF('Producer Data'!$B$26=\"\",\"\",'Producer Data'!$B$26)","v":2}]
[871,{"$f":"IF('Producer Data'!$D$26=\"\",\"\",'Producer Data'!$D$26)","v":""},{"$f":"IF('Producer Data'!$C$6=\"\",\"\",'Producer Data'!$C$6)","v":"Producer Data"},{"$f":"IF('Producer Data'!$D$23=\"\",\"\",'Producer Data'!$D$23)","v":"Compressive Strength, (psi)"},{"$f":"IF('Producer Data'!$C$22=\"\",\"\",'Producer Data'!$C$22)","v":"A"},{"$f":"IF('Producer Data'!$B$26=\"\",\"\",'Producer Data'!$B$26)","v":2}]
[872,{"$f":"IF('Producer Data'!$C$27=\"\",\"\",'Producer Data'!$C$27)","v":""},{"$f":"IF('Producer Data'!$C$6=\"\",\"\",'Producer Data'!$C$6)","v":"Producer Data"},{"$f":"IF('Producer Data'!$C$23=\"\",\"\",'Producer Data'!$C$23)","v":"Date"},{"$f":"IF('Producer Data'!$C$22=\"\",\"\",'Producer Data'!$C$22)","v":"A"},{"$f":"IF('Producer Data'!$B$27=\"\",\"\",'Producer Data'!$B$27)","v":3}]
[873,{"$f":"IF('Producer Data'!$D$27=\"\",\"\",'Producer Data'!$D$27)","v":""},{"$f":"IF('Producer Data'!$C$6=\"\",\"\",'Producer Data'!$C$6)","v":"Producer Data"},{"$f":"IF('Producer Data'!$D$23=\"\",\"\",'Producer Data'!$D$23)","v":"Compressive Strength, (psi)"},{"$f":"IF('Producer Data'!$C$22=\"\",\"\",'Producer Data'!$C$22)","v":"A"},{"$f":"IF('Producer Data'!$B$27=\"\",\"\",'Producer Data'!$B$27)","v":3}]
[874,{"$f":"IF('Producer Data'!$C$28=\"\",\"\",'Producer Data'!$C$28)","v":""},{"$f":"IF('Producer Data'!$C$6=\"\",\"\",'Producer Data'!$C$6)","v":"Producer Data"},{"$f":"IF('Producer Data'!$C$23=\"\",\"\",'Producer Data'!$C$23)","v":"Date"},{"$f":"IF('Producer Data'!$C$22=\"\",\"\",'Producer Data'!$C$22)","v":"A"},{"$f":"IF('Producer Data'!$B$28=\"\",\"\",'Producer Data'!$B$28)","v":4}]
[875,{"$f":"IF('Producer Data'!$D$28=\"\",\"\",'Producer Data'!$D$28)","v":""},{"$f":"IF('Producer Data'!$C$6=\"\",\"\",'Producer Data'!$C$6)","v":"Producer Data"},{"$f":"IF('Producer Data'!$D$23=\"\",\"\",'Producer Data'!$D$23)","v":"Compressive Strength, (psi)"},{"$f":"IF('Producer Data'!$C$22=\"\",\"\",'Producer Data'!$C$22)","v":"A"},{"$f":"IF('Producer Data'!$B$28=\"\",\"\",'Producer Data'!$B$28)","v":4}]
[876,{"$f":"IF('Producer Data'!$C$29=\"\",\"\",'Producer Data'!$C$29)","v":""},{"$f":"IF('Producer Data'!$C$6=\"\",\"\",'Producer Data'!$C$6)","v":"Producer Data"},{"$f":"IF('Producer Data'!$C$23=\"\",\"\",'Producer Data'!$C$23)","v":"Date"},{"$f":"IF('Producer Data'!$C$22=\"\",\"\",'Producer Data'!$C$22)","v":"A"},{"$f":"IF('Producer Data'!$B$29=\"\",\"\",'Producer Data'!$B$29)","v":5}]
[877,{"$f":"IF('Producer Data'!$D$29=\"\",\"\",'Producer Data'!$D$29)","v":""},{"$f":"IF('Producer Data'!$C$6=\"\",\"\",'Producer Data'!$C$6)","v":"Producer Data"},{"$f":"IF('Producer Data'!$D$23=\"\",\"\",'Producer Data'!$D$23)","v":"Compressive Strength, (psi)"},{"$f":"IF('Producer Data'!$C$22=\"\",\"\",'Producer Data'!$C$22)","v":"A"},{"$f":"IF('Producer Data'!$B$29=\"\",\"\",'Producer Data'!$B$29)","v":5}]
[878,{"$f":"IF('Producer Data'!$C$30=\"\",\"\",'Producer Data'!$C$30)","v":""},{"$f":"IF('Producer Data'!$C$6=\"\",\"\",'Producer Data'!$C$6)","v":"Producer Data"},{"$f":"IF('Producer Data'!$C$23=\"\",\"\",'Producer Data'!$C$23)","v":"Date"},{"$f":"IF('Producer Data'!$C$22=\"\",\"\",'Producer Data'!$C$22)","v":"A"},{"$f":"IF('Producer Data'!$B$30=\"\",\"\",'Producer Data'!$B$30)","v":6}]
[879,{"$f":"IF('Producer Data'!$D$30=\"\",\"\",'Producer Data'!$D$30)","v":""},{"$f":"IF('Producer Data'!$C$6=\"\",\"\",'Producer Data'!$C$6)","v":"Producer Data"},{"$f":"IF('Producer Data'!$D$23=\"\",\"\",'Producer Data'!$D$23)","v":"Compressive Strength, (psi)"},{"$f":"IF('Producer Data'!$C$22=\"\",\"\",'Producer Data'!$C$22)","v":"A"},{"$f":"IF('Producer Data'!$B$30=\"\",\"\",'Producer Data'!$B$30)","v":6}]
[880,{"$f":"IF('Producer Data'!$C$31=\"\",\"\",'Producer Data'!$C$31)","v":""},{"$f":"IF('Producer Data'!$C$6=\"\",\"\",'Producer Data'!$C$6)","v":"Producer Data"},{"$f":"IF('Producer Data'!$C$23=\"\",\"\",'Producer Data'!$C$23)","v":"Date"},{"$f":"IF('Producer Data'!$C$22=\"\",\"\",'Producer Data'!$C$22)","v":"A"},{"$f":"IF('Producer Data'!$B$31=\"\",\"\",'Producer Data'!$B$31)","v":7}]
[881,{"$f":"IF('Producer Data'!$D$31=\"\",\"\",'Producer Data'!$D$31)","v":""},{"$f":"IF('Producer Data'!$C$6=\"\",\"\",'Producer Data'!$C$6)","v":"Producer Data"},{"$f":"IF('Producer Data'!$D$23=\"\",\"\",'Producer Data'!$D$23)","v":"Compressive Strength, (psi)"},{"$f":"IF('Producer Data'!$C$22=\"\",\"\",'Producer Data'!$C$22)","v":"A"},{"$f":"IF('Producer Data'!$B$31=\"\",\"\",'Producer Data'!$B$31)","v":7}]
[882,{"$f":"IF('Producer Data'!$C$32=\"\",\"\",'Producer Data'!$C$32)","v":""},{"$f":"IF('Producer Data'!$C$6=\"\",\"\",'Producer Data'!$C$6)","v":"Producer Data"},{"$f":"IF('Producer Data'!$C$23=\"\",\"\",'Producer Data'!$C$23)","v":"Date"},{"$f":"IF('Producer Data'!$C$22=\"\",\"\",'Producer Data'!$C$22)","v":"A"},{"$f":"IF('Producer Data'!$B$32=\"\",\"\",'Producer Data'!$B$32)","v":8}]
[883,{"$f":"IF('Producer Data'!$D$32=\"\",\"\",'Producer Data'!$D$32)","v":""},{"$f":"IF('Producer Data'!$C$6=\"\",\"\",'Producer Data'!$C$6)","v":"Producer Data"},{"$f":"IF('Producer Data'!$D$23=\"\",\"\",'Producer Data'!$D$23)","v":"Compressive Strength, (psi)"},{"$f":"IF('Producer Data'!$C$22=\"\",\"\",'Producer Data'!$C$22)","v":"A"},{"$f":"IF('Producer Data'!$B$32=\"\",\"\",'Producer Data'!$B$32)","v":8}]
[884,{"$f":"IF('Producer Data'!$C$33=\"\",\"\",'Producer Data'!$C$33)","v":""},{"$f":"IF('Producer Data'!$C$6=\"\",\"\",'Producer Data'!$C$6)","v":"Producer Data"},{"$f":"IF('Producer Data'!$C$23=\"\",\"\",'Producer Data'!$C$23)","v":"Date"},{"$f":"IF('Producer Data'!$C$22=\"\",\"\",'Producer Data'!$C$22)","v":"A"},{"$f":"IF('Producer Data'!$B$33=\"\",\"\",'Producer Data'!$B$33)","v":9}]
[885,{"$f":"IF('Producer Data'!$D$33=\"\",\"\",'Producer Data'!$D$33)","v":""},{"$f":"IF('Producer Data'!$C$6=\"\",\"\",'Producer Data'!$C$6)","v":"Producer Data"},{"$f":"IF('Producer Data'!$D$23=\"\",\"\",'Producer Data'!$D$23)","v":"Compressive Strength, (psi)"},{"$f":"IF('Producer Data'!$C$22=\"\",\"\",'Producer Data'!$C$22)","v":"A"},{"$f":"IF('Producer Data'!$B$33=\"\",\"\",'Producer Data'!$B$33)","v":9}]
[886,{"$f":"IF('Producer Data'!$C$34=\"\",\"\",'Producer Data'!$C$34)","v":""},{"$f":"IF('Producer Data'!$C$6=\"\",\"\",'Producer Data'!$C$6)","v":"Producer Data"},{"$f":"IF('Producer Data'!$C$23=\"\",\"\",'Producer Data'!$C$23)","v":"Date"},{"$f":"IF('Producer Data'!$C$22=\"\",\"\",'Producer Data'!$C$22)","v":"A"},{"$f":"IF('Producer Data'!$B$34=\"\",\"\",'Producer Data'!$B$34)","v":10}]
[887,{"$f":"IF('Producer Data'!$D$34=\"\",\"\",'Producer Data'!$D$34)","v":""},{"$f":"IF('Producer Data'!$C$6=\"\",\"\",'Producer Data'!$C$6)","v":"Producer Data"},{"$f":"IF('Producer Data'!$D$23=\"\",\"\",'Producer Data'!$D$23)","v":"Compressive Strength, (psi)"},{"$f":"IF('Producer Data'!$C$22=\"\",\"\",'Producer Data'!$C$22)","v":"A"},{"$f":"IF('Producer Data'!$B$34=\"\",\"\",'Producer Data'!$B$34)","v":10}]
[888,{"$f":"IF('Producer Data'!$C$35=\"\",\"\",'Producer Data'!$C$35)","v":""},{"$f":"IF('Producer Data'!$C$6=\"\",\"\",'Producer Data'!$C$6)","v":"Producer Data"},{"$f":"IF('Producer Data'!$C$23=\"\",\"\",'Producer Data'!$C$23)","v":"Date"},{"$f":"IF('Producer Data'!$C$22=\"\",\"\",'Producer Data'!$C$22)","v":"A"},{"$f":"IF('Producer Data'!$B$35=\"\",\"\",'Producer Data'!$B$35)","v":11}]
[889,{"$f":"IF('Producer Data'!$D$35=\"\",\"\",'Producer Data'!$D$35)","v":""},{"$f":"IF('Producer Data'!$C$6=\"\",\"\",'Producer Data'!$C$6)","v":"Producer Data"},{"$f":"IF('Producer Data'!$D$23=\"\",\"\",'Producer Data'!$D$23)","v":"Compressive Strength, (psi)"},{"$f":"IF('Producer Data'!$C$22=\"\",\"\",'Producer Data'!$C$22)","v":"A"},{"$f":"IF('Producer Data'!$B$35=\"\",\"\",'Producer Data'!$B$35)","v":11}]
[890,{"$f":"IF('Producer Data'!$C$36=\"\",\"\",'Producer Data'!$C$36)","v":""},{"$f":"IF('Producer Data'!$C$6=\"\",\"\",'Producer Data'!$C$6)","v":"Producer Data"},{"$f":"IF('Producer Data'!$C$23=\"\",\"\",'Producer Data'!$C$23)","v":"Date"},{"$f":"IF('Producer Data'!$C$22=\"\",\"\",'Producer Data'!$C$22)","v":"A"},{"$f":"IF('Producer Data'!$B$36=\"\",\"\",'Producer Data'!$B$36)","v":12}]
[891,{"$f":"IF('Producer Data'!$D$36=\"\",\"\",'Producer Data'!$D$36)","v":""},{"$f":"IF('Producer Data'!$C$6=\"\",\"\",'Producer Data'!$C$6)","v":"Producer Data"},{"$f":"IF('Producer Data'!$D$23=\"\",\"\",'Producer Data'!$D$23)","v":"Compressive Strength, (psi)"},{"$f":"IF('Producer Data'!$C$22=\"\",\"\",'Producer Data'!$C$22)","v":"A"},{"$f":"IF('Producer Data'!$B$36=\"\",\"\",'Producer Data'!$B$36)","v":12}]
[892,{"$f":"IF('Producer Data'!$C$37=\"\",\"\",'Producer Data'!$C$37)","v":""},{"$f":"IF('Producer Data'!$C$6=\"\",\"\",'Producer Data'!$C$6)","v":"Producer Data"},{"$f":"IF('Producer Data'!$C$23=\"\",\"\",'Producer Data'!$C$23)","v":"Date"},{"$f":"IF('Producer Data'!$C$22=\"\",\"\",'Producer Data'!$C$22)","v":"A"},{"$f":"IF('Producer Data'!$B$37=\"\",\"\",'Producer Data'!$B$37)","v":13}]
[893,{"$f":"IF('Producer Data'!$D$37=\"\",\"\",'Producer Data'!$D$37)","v":""},{"$f":"IF('Producer Data'!$C$6=\"\",\"\",'Producer Data'!$C$6)","v":"Producer Data"},{"$f":"IF('Producer Data'!$D$23=\"\",\"\",'Producer Data'!$D$23)","v":"Compressive Strength, (psi)"},{"$f":"IF('Producer Data'!$C$22=\"\",\"\",'Producer Data'!$C$22)","v":"A"},{"$f":"IF('Producer Data'!$B$37=\"\",\"\",'Producer Data'!$B$37)","v":13}]
[894,{"$f":"IF('Producer Data'!$C$38=\"\",\"\",'Producer Data'!$C$38)","v":""},{"$f":"IF('Producer Data'!$C$6=\"\",\"\",'Producer Data'!$C$6)","v":"Producer Data"},{"$f":"IF('Producer Data'!$C$23=\"\",\"\",'Producer Data'!$C$23)","v":"Date"},{"$f":"IF('Producer Data'!$C$22=\"\",\"\",'Producer Data'!$C$22)","v":"A"},{"$f":"IF('Producer Data'!$B$38=\"\",\"\",'Producer Data'!$B$38)","v":14}]
[895,{"$f":"IF('Producer Data'!$D$38=\"\",\"\",'Producer Data'!$D$38)","v":""},{"$f":"IF('Producer Data'!$C$6=\"\",\"\",'Producer Data'!$C$6)","v":"Producer Data"},{"$f":"IF('Producer Data'!$D$23=\"\",\"\",'Producer Data'!$D$23)","v":"Compressive Strength, (psi)"},{"$f":"IF('Producer Data'!$C$22=\"\",\"\",'Producer Data'!$C$22)","v":"A"},{"$f":"IF('Producer Data'!$B$38=\"\",\"\",'Producer Data'!$B$38)","v":14}]
[896,{"$f":"IF('Producer Data'!$C$39=\"\",\"\",'Producer Data'!$C$39)","v":""},{"$f":"IF('Producer Data'!$C$6=\"\",\"\",'Producer Data'!$C$6)","v":"Producer Data"},{"$f":"IF('Producer Data'!$C$23=\"\",\"\",'Producer Data'!$C$23)","v":"Date"},{"$f":"IF('Producer Data'!$C$22=\"\",\"\",'Producer Data'!$C$22)","v":"A"},{"$f":"IF('Producer Data'!$B$39=\"\",\"\",'Producer Data'!$B$39)","v":15}]
[897,{"$f":"IF('Producer Data'!$D$39=\"\",\"\",'Producer Data'!$D$39)","v":""},{"$f":"IF('Producer Data'!$C$6=\"\",\"\",'Producer Data'!$C$6)","v":"Producer Data"},{"$f":"IF('Producer Data'!$D$23=\"\",\"\",'Producer Data'!$D$23)","v":"Compressive Strength, (psi)"},{"$f":"IF('Producer Data'!$C$22=\"\",\"\",'Producer Data'!$C$22)","v":"A"},{"$f":"IF('Producer Data'!$B$39=\"\",\"\",'Producer Data'!$B$39)","v":15}]
[898,{"$f":"IF('Producer Data'!$C$40=\"\",\"\",'Producer Data'!$C$40)","v":""},{"$f":"IF('Producer Data'!$C$6=\"\",\"\",'Producer Data'!$C$6)","v":"Producer Data"},{"$f":"IF('Producer Data'!$C$23=\"\",\"\",'Producer Data'!$C$23)","v":"Date"},{"$f":"IF('Producer Data'!$C$22=\"\",\"\",'Producer Data'!$C$22)","v":"A"},{"$f":"IF('Producer Data'!$B$40=\"\",\"\",'Producer Data'!$B$40)","v":16}]
[899,{"$f":"IF('Producer Data'!$D$40=\"\",\"\",'Producer Data'!$D$40)","v":""},{"$f":"IF('Producer Data'!$C$6=\"\",\"\",'Producer Data'!$C$6)","v":"Producer Data"},{"$f":"IF('Producer Data'!$D$23=\"\",\"\",'Producer Data'!$D$23)","v":"Compressive Strength, (psi)"},{"$f":"IF('Producer Data'!$C$22=\"\",\"\",'Producer Data'!$C$22)","v":"A"},{"$f":"IF('Producer Data'!$B$40=\"\",\"\",'Producer Data'!$B$40)","v":16}]
[900,{"$f":"IF('Producer Data'!$C$41=\"\",\"\",'Producer Data'!$C$41)","v":""},{"$f":"IF('Producer Data'!$C$6=\"\",\"\",'Producer Data'!$C$6)","v":"Producer Data"},{"$f":"IF('Producer Data'!$C$23=\"\",\"\",'Producer Data'!$C$23)","v":"Date"},{"$f":"IF('Producer Data'!$C$22=\"\",\"\",'Producer Data'!$C$22)","v":"A"},{"$f":"IF('Producer Data'!$B$41=\"\",\"\",'Producer Data'!$B$41)","v":17}]
[901,{"$f":"IF('Producer Data'!$D$41=\"\",\"\",'Producer Data'!$D$41)","v":""},{"$f":"IF('Producer Data'!$C$6=\"\",\"\",'Producer Data'!$C$6)","v":"Producer Data"},{"$f":"IF('Producer Data'!$D$23=\"\",\"\",'Producer Data'!$D$23)","v":"Compressive Strength, (psi)"},{"$f":"IF('Producer Data'!$C$22=\"\",\"\",'Producer Data'!$C$22)","v":"A"},{"$f":"IF('Producer Data'!$B$41=\"\",\"\",'Producer Data'!$B$41)","v":17}]
[902,{"$f":"IF('Producer Data'!$C$42=\"\",\"\",'Producer Data'!$C$42)","v":""},{"$f":"IF('Producer Data'!$C$6=\"\",\"\",'Producer Data'!$C$6)","v":"Producer Data"},{"$f":"IF('Producer Data'!$C$23=\"\",\"\",'Producer Data'!$C$23)","v":"Date"},{"$f":"IF('Producer Data'!$C$22=\"\",\"\",'Producer Data'!$C$22)","v":"A"},{"$f":"IF('Producer Data'!$B$42=\"\",\"\",'Producer Data'!$B$42)","v":18}]
[903,{"$f":"IF('Producer Data'!$D$42=\"\",\"\",'Producer Data'!$D$42)","v":""},{"$f":"IF('Producer Data'!$C$6=\"\",\"\",'Producer Data'!$C$6)","v":"Producer Data"},{"$f":"IF('Producer Data'!$D$23=\"\",\"\",'Producer Data'!$D$23)","v":"Compressive Strength, (psi)"},{"$f":"IF('Producer Data'!$C$22=\"\",\"\",'Producer Data'!$C$22)","v":"A"},{"$f":"IF('Producer Data'!$B$42=\"\",\"\",'Producer Data'!$B$42)","v":18}]
[904,{"$f":"IF('Producer Data'!$C$43=\"\",\"\",'Producer Data'!$C$43)","v":""},{"$f":"IF('Producer Data'!$C$6=\"\",\"\",'Producer Data'!$C$6)","v":"Producer Data"},{"$f":"IF('Producer Data'!$C$23=\"\",\"\",'Producer Data'!$C$23)","v":"Date"},{"$f":"IF('Producer Data'!$C$22=\"\",\"\",'Producer Data'!$C$22)","v":"A"},{"$f":"IF('Producer Data'!$B$43=\"\",\"\",'Producer Data'!$B$43)","v":19}]
[905,{"$f":"IF('Producer Data'!$D$43=\"\",\"\",'Producer Data'!$D$43)","v":""},{"$f":"IF('Producer Data'!$C$6=\"\",\"\",'Producer Data'!$C$6)","v":"Producer Data"},{"$f":"IF('Producer Data'!$D$23=\"\",\"\",'Producer Data'!$D$23)","v":"Compressive Strength, (psi)"},{"$f":"IF('Producer Data'!$C$22=\"\",\"\",'Producer Data'!$C$22)","v":"A"},{"$f":"IF('Producer Data'!$B$43=\"\",\"\",'Producer Data'!$B$43)","v":19}]
[906,{"$f":"IF('Producer Data'!$C$44=\"\",\"\",'Producer Data'!$C$44)","v":""},{"$f":"IF('Producer Data'!$C$6=\"\",\"\",'Producer Data'!$C$6)","v":"Producer Data"},{"$f":"IF('Producer Data'!$C$23=\"\",\"\",'Producer Data'!$C$23)","v":"Date"},{"$f":"IF('Producer Data'!$C$22=\"\",\"\",'Producer Data'!$C$22)","v":"A"},{"$f":"IF('Producer Data'!$B$44=\"\",\"\",'Producer Data'!$B$44)","v":20}]
[907,{"$f":"IF('Producer Data'!$D$44=\"\",\"\",'Producer Data'!$D$44)","v":""},{"$f":"IF('Producer Data'!$C$6=\"\",\"\",'Producer Data'!$C$6)","v":"Producer Data"},{"$f":"IF('Producer Data'!$D$23=\"\",\"\",'Producer Data'!$D$23)","v":"Compressive Strength, (psi)"},{"$f":"IF('Producer Data'!$C$22=\"\",\"\",'Producer Data'!$C$22)","v":"A"},{"$f":"IF('Producer Data'!$B$44=\"\",\"\",'Producer Data'!$B$44)","v":20}]
[908,{"$f":"IF('Producer Data'!$C$45=\"\",\"\",'Producer Data'!$C$45)","v":""},{"$f":"IF('Producer Data'!$C$6=\"\",\"\",'Producer Data'!$C$6)","v":"Producer Data"},{"$f":"IF('Producer Data'!$C$23=\"\",\"\",'Producer Data'!$C$23)","v":"Date"},{"$f":"IF('Producer Data'!$C$22=\"\",\"\",'Producer Data'!$C$22)","v":"A"},{"$f":"IF('Producer Data'!$B$45=\"\",\"\",'Producer Data'!$B$45)","v":21}]
[909,{"$f":"IF('Producer Data'!$D$45=\"\",\"\",'Producer Data'!$D$45)","v":""},{"$f":"IF('Producer Data'!$C$6=\"\",\"\",'Producer Data'!$C$6)","v":"Producer Data"},{"$f":"IF('Producer Data'!$D$23=\"\",\"\",'Producer Data'!$D$23)","v":"Compressive Strength, (psi)"},{"$f":"IF('Producer Data'!$C$22=\"\",\"\",'Producer Data'!$C$22)","v":"A"},{"$f":"IF('Producer Data'!$B$45=\"\",\"\",'Producer Data'!$B$45)","v":21}]
[910,{"$f":"IF('Producer Data'!$C$46=\"\",\"\",'Producer Data'!$C$46)","v":""},{"$f":"IF('Producer Data'!$C$6=\"\",\"\",'Producer Data'!$C$6)","v":"Producer Data"},{"$f":"IF('Producer Data'!$C$23=\"\",\"\",'Producer Data'!$C$23)","v":"Date"},{"$f":"IF('Producer Data'!$C$22=\"\",\"\",'Producer Data'!$C$22)","v":"A"},{"$f":"IF('Producer Data'!$B$46=\"\",\"\",'Producer Data'!$B$46)","v":22}]
[911,{"$f":"IF('Producer Data'!$D$46=\"\",\"\",'Producer Data'!$D$46)","v":""},{"$f":"IF('Producer Data'!$C$6=\"\",\"\",'Producer Data'!$C$6)","v":"Producer Data"},{"$f":"IF('Producer Data'!$D$23=\"\",\"\",'Producer Data'!$D$23)","v":"Compressive Strength, (psi)"},{"$f":"IF('Producer Data'!$C$22=\"\",\"\",'Producer Data'!$C$22)","v":"A"},{"$f":"IF('Producer Data'!$B$46=\"\",\"\",'Producer Data'!$B$46)","v":22}]
[912,{"$f":"IF('Producer Data'!$C$47=\"\",\"\",'Producer Data'!$C$47)","v":""},{"$f":"IF('Producer Data'!$C$6=\"\",\"\",'Producer Data'!$C$6)","v":"Producer Data"},{"$f":"IF('Producer Data'!$C$23=\"\",\"\",'Producer Data'!$C$23)","v":"Date"},{"$f":"IF('Producer Data'!$C$22=\"\",\"\",'Producer Data'!$C$22)","v":"A"},{"$f":"IF('Producer Data'!$B$47=\"\",\"\",'Producer Data'!$B$47)","v":23}]
[913,{"$f":"IF('Producer Data'!$D$47=\"\",\"\",'Producer Data'!$D$47)","v":""},{"$f":"IF('Producer Data'!$C$6=\"\",\"\",'Producer Data'!$C$6)","v":"Producer Data"},{"$f":"IF('Producer Data'!$D$23=\"\",\"\",'Producer Data'!$D$23)","v":"Compressive Strength, (psi)"},{"$f":"IF('Producer Data'!$C$22=\"\",\"\",'Producer Data'!$C$22)","v":"A"},{"$f":"IF('Producer Data'!$B$47=\"\",\"\",'Producer Data'!$B$47)","v":23}]
[914,{"$f":"IF('Producer Data'!$C$48=\"\",\"\",'Producer Data'!$C$48)","v":""},{"$f":"IF('Producer Data'!$C$6=\"\",\"\",'Producer Data'!$C$6)","v":"Producer Data"},{"$f":"IF('Producer Data'!$C$23=\"\",\"\",'Producer Data'!$C$23)","v":"Date"},{"$f":"IF('Producer Data'!$C$22=\"\",\"\",'Producer Data'!$C$22)","v":"A"},{"$f":"IF('Producer Data'!$B$48=\"\",\"\",'Producer Data'!$B$48)","v":24}]
[915,{"$f":"IF('Producer Data'!$D$48=\"\",\"\",'Producer Data'!$D$48)","v":""},{"$f":"IF('Producer Data'!$C$6=\"\",\"\",'Producer Data'!$C$6)","v":"Producer Data"},{"$f":"IF('Producer Data'!$D$23=\"\",\"\",'Producer Data'!$D$23)","v":"Compressive Strength, (psi)"},{"$f":"IF('Producer Data'!$C$22=\"\",\"\",'Producer Data'!$C$22)","v":"A"},{"$f":"IF('Producer Data'!$B$48=\"\",\"\",'Producer Data'!$B$48)","v":24}]
[916,{"$f":"IF('Producer Data'!$C$49=\"\",\"\",'Producer Data'!$C$49)","v":""},{"$f":"IF('Producer Data'!$C$6=\"\",\"\",'Producer Data'!$C$6)","v":"Producer Data"},{"$f":"IF('Producer Data'!$C$23=\"\",\"\",'Producer Data'!$C$23)","v":"Date"},{"$f":"IF('Producer Data'!$C$22=\"\",\"\",'Producer Data'!$C$22)","v":"A"},{"$f":"IF('Producer Data'!$B$49=\"\",\"\",'Producer Data'!$B$49)","v":25}]
[917,{"$f":"IF('Producer Data'!$D$49=\"\",\"\",'Producer Data'!$D$49)","v":""},{"$f":"IF('Producer Data'!$C$6=\"\",\"\",'Producer Data'!$C$6)","v":"Producer Data"},{"$f":"IF('Producer Data'!$D$23=\"\",\"\",'Producer Data'!$D$23)","v":"Compressive Strength, (psi)"},{"$f":"IF('Producer Data'!$C$22=\"\",\"\",'Producer Data'!$C$22)","v":"A"},{"$f":"IF('Producer Data'!$B$49=\"\",\"\",'Producer Data'!$B$49)","v":25}]
[918,{"$f":"IF('Producer Data'!$E$25=\"\",\"\",'Producer Data'!$E$25)","v":""},{"$f":"IF('Producer Data'!$C$6=\"\",\"\",'Producer Data'!$C$6)","v":"Producer Data"},{"$f":"IF('Producer Data'!$C$23=\"\",\"\",'Producer Data'!$C$23)","v":"Date"},{"$f":"IF('Producer Data'!$E$22=\"\",\"\",'Producer Data'!$E$22)","v":"B"},{"$f":"IF('Producer Data'!$B$25=\"\",\"\",'Producer Data'!$B$25)","v":1}]
[919,{"$f":"IF('Producer Data'!$F$25=\"\",\"\",'Producer Data'!$F$25)","v":""},{"$f":"IF('Producer Data'!$C$6=\"\",\"\",'Producer Data'!$C$6)","v":"Producer Data"},{"$f":"IF('Producer Data'!$D$23=\"\",\"\",'Producer Data'!$D$23)","v":"Compressive Strength, (psi)"},{"$f":"IF('Producer Data'!$E$22=\"\",\"\",'Producer Data'!$E$22)","v":"B"},{"$f":"IF('Producer Data'!$B$25=\"\",\"\",'Producer Data'!$B$25)","v":1}]
[920,{"$f":"IF('Producer Data'!$E$26=\"\",\"\",'Producer Data'!$E$26)","v":""},{"$f":"IF('Producer Data'!$C$6=\"\",\"\",'Producer Data'!$C$6)","v":"Producer Data"},{"$f":"IF('Producer Data'!$C$23=\"\",\"\",'Producer Data'!$C$23)","v":"Date"},{"$f":"IF('Producer Data'!$E$22=\"\",\"\",'Producer Data'!$E$22)","v":"B"},{"$f":"IF('Producer Data'!$B$26=\"\",\"\",'Producer Data'!$B$26)","v":2}]
[921,{"$f":"IF('Producer Data'!$F$26=\"\",\"\",'Producer Data'!$F$26)","v":""},{"$f":"IF('Producer Data'!$C$6=\"\",\"\",'Producer Data'!$C$6)","v":"Producer Data"},{"$f":"IF('Producer Data'!$D$23=\"\",\"\",'Producer Data'!$D$23)","v":"Compressive Strength, (psi)"},{"$f":"IF('Producer Data'!$E$22=\"\",\"\",'Producer Data'!$E$22)","v":"B"},{"$f":"IF('Producer Data'!$B$26=\"\",\"\",'Producer Data'!$B$26)","v":2}]
[922,{"$f":"IF('Producer Data'!$E$27=\"\",\"\",'Producer Data'!$E$27)","v":""},{"$f":"IF('Producer Data'!$C$6=\"\",\"\",'Producer Data'!$C$6)","v":"Producer Data"},{"$f":"IF('Producer Data'!$C$23=\"\",\"\",'Producer Data'!$C$23)","v":"Date"},{"$f":"IF('Producer Data'!$E$22=\"\",\"\",'Producer Data'!$E$22)","v":"B"},{"$f":"IF('Producer Data'!$B$27=\"\",\"\",'Producer Data'!$B$27)","v":3}]
[923,{"$f":"IF('Producer Data'!$F$27=\"\",\"\",'Producer Data'!$F$27)","v":""},{"$f":"IF('Producer Data'!$C$6=\"\",\"\",'Producer Data'!$C$6)","v":"Producer Data"},{"$f":"IF('Producer Data'!$D$23=\"\",\"\",'Producer Data'!$D$23)","v":"Compressive Strength, (psi)"},{"$f":"IF('Producer Data'!$E$22=\"\",\"\",'Producer Data'!$E$22)","v":"B"},{"$f":"IF('Producer Data'!$B$27=\"\",\"\",'Producer Data'!$B$27)","v":3}]
[924,{"$f":"IF('Producer Data'!$E$28=\"\",\"\",'Producer Data'!$E$28)","v":""},{"$f":"IF('Producer Data'!$C$6=\"\",\"\",'Producer Data'!$C$6)","v":"Producer Data"},{"$f":"IF('Producer Data'!$C$23=\"\",\"\",'Producer Data'!$C$23)","v":"Date"},{"$f":"IF('Producer Data'!$E$22=\"\",\"\",'Producer Data'!$E$22)","v":"B"},{"$f":"IF('Producer Data'!$B$28=\"\",\"\",'Producer Data'!$B$28)","v":4}]
[925,{"$f":"IF('Producer Data'!$F$28=\"\",\"\",'Producer Data'!$F$28)","v":""},{"$f":"IF('Producer Data'!$C$6=\"\",\"\",'Producer Data'!$C$6)","v":"Producer Data"},{"$f":"IF('Producer Data'!$D$23=\"\",\"\",'Producer Data'!$D$23)","v":"Compressive Strength, (psi)"},{"$f":"IF('Producer Data'!$E$22=\"\",\"\",'Producer Data'!$E$22)","v":"B"},{"$f":"IF('Producer Data'!$B$28=\"\",\"\",'Producer Data'!$B$28)","v":4}]
[926,{"$f":"IF('Producer Data'!$E$29=\"\",\"\",'Producer Data'!$E$29)","v":""},{"$f":"IF('Producer Data'!$C$6=\"\",\"\",'Producer Data'!$C$6)","v":"Producer Data"},{"$f":"IF('Producer Data'!$C$23=\"\",\"\",'Producer Data'!$C$23)","v":"Date"},{"$f":"IF('Producer Data'!$E$22=\"\",\"\",'Producer Data'!$E$22)","v":"B"},{"$f":"IF('Producer Data'!$B$29=\"\",\"\",'Producer Data'!$B$29)","v":5}]
[927,{"$f":"IF('Producer Data'!$F$29=\"\",\"\",'Producer Data'!$F$29)","v":""},{"$f":"IF('Producer Data'!$C$6=\"\",\"\",'Producer Data'!$C$6)","v":"Producer Data"},{"$f":"IF('Producer Data'!$D$23=\"\",\"\",'Producer Data'!$D$23)","v":"Compressive Strength, (psi)"},{"$f":"IF('Producer Data'!$E$22=\"\",\"\",'Producer Data'!$E$22)","v":"B"},{"$f":"IF('Producer Data'!$B$29=\"\",\"\",'Producer Data'!$B$29)","v":5}]
[928,{"$f":"IF('Producer Data'!$E$30=\"\",\"\",'Producer Data'!$E$30)","v":""},{"$f":"IF('Producer Data'!$C$6=\"\",\"\",'Producer Data'!$C$6)","v":"Producer Data"},{"$f":"IF('Producer Data'!$C$23=\"\",\"\",'Producer Data'!$C$23)","v":"Date"},{"$f":"IF('Producer Data'!$E$22=\"\",\"\",'Producer Data'!$E$22)","v":"B"},{"$f":"IF('Producer Data'!$B$30=\"\",\"\",'Producer Data'!$B$30)","v":6}]
[929,{"$f":"IF('Producer Data'!$F$30=\"\",\"\",'Producer Data'!$F$30)","v":""},{"$f":"IF('Producer Data'!$C$6=\"\",\"\",'Producer Data'!$C$6)","v":"Producer Data"},{"$f":"IF('Producer Data'!$D$23=\"\",\"\",'Producer Data'!$D$23)","v":"Compressive Strength, (psi)"},{"$f":"IF('Producer Data'!$E$22=\"\",\"\",'Producer Data'!$E$22)","v":"B"},{"$f":"IF('Producer Data'!$B$30=\"\",\"\",'Producer Data'!$B$30)","v":6}]
[930,{"$f":"IF('Producer Data'!$E$31=\"\",\"\",'Producer Data'!$E$31)","v":""},{"$f":"IF('Producer Data'!$C$6=\"\",\"\",'Producer Data'!$C$6)","v":"Producer Data"},{"$f":"IF('Producer Data'!$C$23=\"\",\"\",'Producer Data'!$C$23)","v":"Date"},{"$f":"IF('Producer Data'!$E$22=\"\",\"\",'Producer Data'!$E$22)","v":"B"},{"$f":"IF('Producer Data'!$B$31=\"\",\"\",'Producer Data'!$B$31)","v":7}]
[931,{"$f":"IF('Producer Data'!$F$31=\"\",\"\",'Producer Data'!$F$31)","v":""},{"$f":"IF('Producer Data'!$C$6=\"\",\"\",'Producer Data'!$C$6)","v":"Producer Data"},{"$f":"IF('Producer Data'!$D$23=\"\",\"\",'Producer Data'!$D$23)","v":"Compressive Strength, (psi)"},{"$f":"IF('Producer Data'!$E$22=\"\",\"\",'Producer Data'!$E$22)","v":"B"},{"$f":"IF('Producer Data'!$B$31=\"\",\"\",'Producer Data'!$B$31)","v":7}]
[932,{"$f":"IF('Producer Data'!$E$32=\"\",\"\",'Producer Data'!$E$32)","v":""},{"$f":"IF('Producer Data'!$C$6=\"\",\"\",'Producer Data'!$C$6)","v":"Producer Data"},{"$f":"IF('Producer Data'!$C$23=\"\",\"\",'Producer Data'!$C$23)","v":"Date"},{"$f":"IF('Producer Data'!$E$22=\"\",\"\",'Producer Data'!$E$22)","v":"B"},{"$f":"IF('Producer Data'!$B$32=\"\",\"\",'Producer Data'!$B$32)","v":8}]
[933,{"$f":"IF('Producer Data'!$F$32=\"\",\"\",'Producer Data'!$F$32)","v":""},{"$f":"IF('Producer Data'!$C$6=\"\",\"\",'Producer Data'!$C$6)","v":"Producer Data"},{"$f":"IF('Producer Data'!$D$23=\"\",\"\",'Producer Data'!$D$23)","v":"Compressive Strength, (psi)"},{"$f":"IF('Producer Data'!$E$22=\"\",\"\",'Producer Data'!$E$22)","v":"B"},{"$f":"IF('Producer Data'!$B$32=\"\",\"\",'Producer Data'!$B$32)","v":8}]
[934,{"$f":"IF('Producer Data'!$E$33=\"\",\"\",'Producer Data'!$E$33)","v":""},{"$f":"IF('Producer Data'!$C$6=\"\",\"\",'Producer Data'!$C$6)","v":"Producer Data"},{"$f":"IF('Producer Data'!$C$23=\"\",\"\",'Producer Data'!$C$23)","v":"Date"},{"$f":"IF('Producer Data'!$E$22=\"\",\"\",'Producer Data'!$E$22)","v":"B"},{"$f":"IF('Producer Data'!$B$33=\"\",\"\",'Producer Data'!$B$33)","v":9}]
[935,{"$f":"IF('Producer Data'!$F$33=\"\",\"\",'Producer Data'!$F$33)","v":""},{"$f":"IF('Producer Data'!$C$6=\"\",\"\",'Producer Data'!$C$6)","v":"Producer Data"},{"$f":"IF('Producer Data'!$D$23=\"\",\"\",'Producer Data'!$D$23)","v":"Compressive Strength, (psi)"},{"$f":"IF('Producer Data'!$E$22=\"\",\"\",'Producer Data'!$E$22)","v":"B"},{"$f":"IF('Producer Data'!$B$33=\"\",\"\",'Producer Data'!$B$33)","v":9}]
[936,{"$f":"IF('Producer Data'!$E$34=\"\",\"\",'Producer Data'!$E$34)","v":""},{"$f":"IF('Producer Data'!$C$6=\"\",\"\",'Producer Data'!$C$6)","v":"Producer Data"},{"$f":"IF('Producer Data'!$C$23=\"\",\"\",'Producer Data'!$C$23)","v":"Date"},{"$f":"IF('Producer Data'!$E$22=\"\",\"\",'Producer Data'!$E$22)","v":"B"},{"$f":"IF('Producer Data'!$B$34=\"\",\"\",'Producer Data'!$B$34)","v":10}]
[937,{"$f":"IF('Producer Data'!$F$34=\"\",\"\",'Producer Data'!$F$34)","v":""},{"$f":"IF('Producer Data'!$C$6=\"\",\"\",'Producer Data'!$C$6)","v":"Producer Data"},{"$f":"IF('Producer Data'!$D$23=\"\",\"\",'Producer Data'!$D$23)","v":"Compressive Strength, (psi)"},{"$f":"IF('Producer Data'!$E$22=\"\",\"\",'Producer Data'!$E$22)","v":"B"},{"$f":"IF('Producer Data'!$B$34=\"\",\"\",'Producer Data'!$B$34)","v":10}]
[938,{"$f":"IF('Producer Data'!$E$35=\"\",\"\",'Producer Data'!$E$35)","v":""},{"$f":"IF('Producer Data'!$C$6=\"\",\"\",'Producer Data'!$C$6)","v":"Producer Data"},{"$f":"IF('Producer Data'!$C$23=\"\",\"\",'Producer Data'!$C$23)","v":"Date"},{"$f":"IF('Producer Data'!$E$22=\"\",\"\",'Producer Data'!$E$22)","v":"B"},{"$f":"IF('Producer Data'!$B$35=\"\",\"\",'Producer Data'!$B$35)","v":11}]
[939,{"$f":"IF('Producer Data'!$F$35=\"\",\"\",'Producer Data'!$F$35)","v":""},{"$f":"IF('Producer Data'!$C$6=\"\",\"\",'Producer Data'!$C$6)","v":"Producer Data"},{"$f":"IF('Producer Data'!$D$23=\"\",\"\",'Producer Data'!$D$23)","v":"Compressive Strength, (psi)"},{"$f":"IF('Producer Data'!$E$22=\"\",\"\",'Producer Data'!$E$22)","v":"B"},{"$f":"IF('Producer Data'!$B$35=\"\",\"\",'Producer Data'!$B$35)","v":11}]
[940,{"$f":"IF('Producer Data'!$E$36=\"\",\"\",'Producer Data'!$E$36)","v":""},{"$f":"IF('Producer Data'!$C$6=\"\",\"\",'Producer Data'!$C$6)","v":"Producer Data"},{"$f":"IF('Producer Data'!$C$23=\"\",\"\",'Producer Data'!$C$23)","v":"Date"},{"$f":"IF('Producer Data'!$E$22=\"\",\"\",'Producer Data'!$E$22)","v":"B"},{"$f":"IF('Producer Data'!$B$36=\"\",\"\",'Producer Data'!$B$36)","v":12}]
[941,{"$f":"IF('Producer Data'!$F$36=\"\",\"\",'Producer Data'!$F$36)","v":""},{"$f":"IF('Producer Data'!$C$6=\"\",\"\",'Producer Data'!$C$6)","v":"Producer Data"},{"$f":"IF('Producer Data'!$D$23=\"\",\"\",'Producer Data'!$D$23)","v":"Compressive Strength, (psi)"},{"$f":"IF('Producer Data'!$E$22=\"\",\"\",'Producer Data'!$E$22)","v":"B"},{"$f":"IF('Producer Data'!$B$36=\"\",\"\",'Producer Data'!$B$36)","v":12}]
[942,{"$f":"IF('Producer Data'!$E$37=\"\",\"\",'Producer Data'!$E$37)","v":""},{"$f":"IF('Producer Data'!$C$6=\"\",\"\",'Producer Data'!$C$6)","v":"Producer Data"},{"$f":"IF('Producer Data'!$C$23=\"\",\"\",'Producer Data'!$C$23)","v":"Date"},{"$f":"IF('Producer Data'!$E$22=\"\",\"\",'Producer Data'!$E$22)","v":"B"},{"$f":"IF('Producer Data'!$B$37=\"\",\"\",'Producer Data'!$B$37)","v":13}]
[943,{"$f":"IF('Producer Data'!$F$37=\"\",\"\",'Producer Data'!$F$37)","v":""},{"$f":"IF('Producer Data'!$C$6=\"\",\"\",'Producer Data'!$C$6)","v":"Producer Data"},{"$f":"IF('Producer Data'!$D$23=\"\",\"\",'Producer Data'!$D$23)","v":"Compressive Strength, (psi)"},{"$f":"IF('Producer Data'!$E$22=\"\",\"\",'Producer Data'!$E$22)","v":"B"},{"$f":"IF('Producer Data'!$B$37=\"\",\"\",'Producer Data'!$B$37)","v":13}]
[944,{"$f":"IF('Producer Data'!$E$38=\"\",\"\",'Producer Data'!$C$38)","v":""},{"$f":"IF('Producer Data'!$C$6=\"\",\"\",'Producer Data'!$C$6)","v":"Producer Data"},{"$f":"IF('Producer Data'!$C$23=\"\",\"\",'Producer Data'!$C$23)","v":"Date"},{"$f":"IF('Producer Data'!$E$22=\"\",\"\",'Producer Data'!$E$22)","v":"B"},{"$f":"IF('Producer Data'!$B$38=\"\",\"\",'Producer Data'!$B$38)","v":14}]
[945,{"$f":"IF('Producer Data'!$F$38=\"\",\"\",'Producer Data'!$F$38)","v":""},{"$f":"IF('Producer Data'!$C$6=\"\",\"\",'Producer Data'!$C$6)","v":"Producer Data"},{"$f":"IF('Producer Data'!$D$23=\"\",\"\",'Producer Data'!$D$23)","v":"Compressive Strength, (psi)"},{"$f":"IF('Producer Data'!$E$22=\"\",\"\",'Producer Data'!$E$22)","v":"B"},{"$f":"IF('Producer Data'!$B$38=\"\",\"\",'Producer Data'!$B$38)","v":14}]
[946,{"$f":"IF('Producer Data'!$E$39=\"\",\"\",'Producer Data'!$E$39)","v":""},{"$f":"IF('Producer Data'!$C$6=\"\",\"\",'Producer Data'!$C$6)","v":"Producer Data"},{"$f":"IF('Producer Data'!$C$23=\"\",\"\",'Producer Data'!$C$23)","v":"Date"},{"$f":"IF('Producer Data'!$E$22=\"\",\"\",'Producer Data'!$E$22)","v":"B"},{"$f":"IF('Producer Data'!$B$39=\"\",\"\",'Producer Data'!$B$39)","v":15}]
[947,{"$f":"IF('Producer Data'!$F$39=\"\",\"\",'Producer Data'!$F$39)","v":""},{"$f":"IF('Producer Data'!$C$6=\"\",\"\",'Producer Data'!$C$6)","v":"Producer Data"},{"$f":"IF('Producer Data'!$D$23=\"\",\"\",'Producer Data'!$D$23)","v":"Compressive Strength, (psi)"},{"$f":"IF('Producer Data'!$E$22=\"\",\"\",'Producer Data'!$E$22)","v":"B"},{"$f":"IF('Producer Data'!$B$39=\"\",\"\",'Producer Data'!$B$39)","v":15}]
[948,{"$f":"IF('Producer Data'!$E$40=\"\",\"\",'Producer Data'!$E$40)","v":""},{"$f":"IF('Producer Data'!$C$6=\"\",\"\",'Producer Data'!$C$6)","v":"Producer Data"},{"$f":"IF('Producer Data'!$C$23=\"\",\"\",'Producer Data'!$C$23)","v":"Date"},{"$f":"IF('Producer Data'!$E$22=\"\",\"\",'Producer Data'!$E$22)","v":"B"},{"$f":"IF('Producer Data'!$B$40=\"\",\"\",'Producer Data'!$B$40)","v":16}]
[949,{"$f":"IF('Producer Data'!$F$40=\"\",\"\",'Producer Data'!$F$40)","v":""},{"$f":"IF('Producer Data'!$C$6=\"\",\"\",'Producer Data'!$C$6)","v":"Producer Data"},{"$f":"IF('Producer Data'!$D$23=\"\",\"\",'Producer Data'!$D$23)","v":"Compressive Strength, (psi)"},{"$f":"IF('Producer Data'!$E$22=\"\",\"\",'Producer Data'!$E$22)","v":"B"},{"$f":"IF('Producer Data'!$B$40=\"\",\"\",'Producer Data'!$B$40)","v":16}]
[950,{"$f":"IF('Producer Data'!$E$41=\"\",\"\",'Producer Data'!$E$41)","v":""},{"$f":"IF('Producer Data'!$C$6=\"\",\"\",'Producer Data'!$C$6)","v":"Producer Data"},{"$f":"IF('Producer Data'!$C$23=\"\",\"\",'Producer Data'!$C$23)","v":"Date"},{"$f":"IF('Producer Data'!$E$22=\"\",\"\",'Producer Data'!$E$22)","v":"B"},{"$f":"IF('Producer Data'!$B$41=\"\",\"\",'Producer Data'!$B$41)","v":17}]
[951,{"$f":"IF('Producer Data'!$F$41=\"\",\"\",'Producer Data'!$F$41)","v":""},{"$f":"IF('Producer Data'!$C$6=\"\",\"\",'Producer Data'!$C$6)","v":"Producer Data"},{"$f":"IF('Producer Data'!$D$23=\"\",\"\",'Producer Data'!$D$23)","v":"Compressive Strength, (psi)"},{"$f":"IF('Producer Data'!$E$22=\"\",\"\",'Producer Data'!$E$22)","v":"B"},{"$f":"IF('Producer Data'!$B$41=\"\",\"\",'Producer Data'!$B$41)","v":17}]
[952,{"$f":"IF('Producer Data'!$E$42=\"\",\"\",'Producer Data'!$E$42)","v":""},{"$f":"IF('Producer Data'!$C$6=\"\",\"\",'Producer Data'!$C$6)","v":"Producer Data"},{"$f":"IF('Producer Data'!$C$23=\"\",\"\",'Producer Data'!$C$23)","v":"Date"},{"$f":"IF('Producer Data'!$E$22=\"\",\"\",'Producer Data'!$E$22)","v":"B"},{"$f":"IF('Producer Data'!$B$42=\"\",\"\",'Producer Data'!$B$42)","v":18}]
[953,{"$f":"IF('Producer Data'!$F$42=\"\",\"\",'Producer Data'!$F$42)","v":""},{"$f":"IF('Producer Data'!$C$6=\"\",\"\",'Producer Data'!$C$6)","v":"Producer Data"},{"$f":"IF('Producer Data'!$D$23=\"\",\"\",'Producer Data'!$D$23)","v":"Compressive Strength, (psi)"},{"$f":"IF('Producer Data'!$E$22=\"\",\"\",'Producer Data'!$E$22)","v":"B"},{"$f":"IF('Producer Data'!$B$42=\"\",\"\",'Producer Data'!$B$42)","v":18}]
[954,{"$f":"IF('Producer Data'!$E$43=\"\",\"\",'Producer Data'!$E$43)","v":""},{"$f":"IF('Producer Data'!$C$6=\"\",\"\",'Producer Data'!$C$6)","v":"Producer Data"},{"$f":"IF('Producer Data'!$C$23=\"\",\"\",'Producer Data'!$C$23)","v":"Date"},{"$f":"IF('Producer Data'!$E$22=\"\",\"\",'Producer Data'!$E$22)","v":"B"},{"$f":"IF('Producer Data'!$B$43=\"\",\"\",'Producer Data'!$B$43)","v":19}]
[955,{"$f":"IF('Producer Data'!$F$43=\"\",\"\",'Producer Data'!$F$43)","v":""},{"$f":"IF('Producer Data'!$C$6=\"\",\"\",'Producer Data'!$C$6)","v":"Producer Data"},{"$f":"IF('Producer Data'!$D$23=\"\",\"\",'Producer Data'!$D$23)","v":"Compressive Strength, (psi)"},{"$f":"IF('Producer Data'!$E$22=\"\",\"\",'Producer Data'!$E$22)","v":"B"},{"$f":"IF('Producer Data'!$B$43=\"\",\"\",'Producer Data'!$B$43)","v":19}]
[956,{"$f":"IF('Producer Data'!$E$44=\"\",\"\",'Producer Data'!$E$44)","v":""},{"$f":"IF('Producer Data'!$C$6=\"\",\"\",'Producer Data'!$C$6)","v":"Producer Data"},{"$f":"IF('Producer Data'!$C$23=\"\",\"\",'Producer Data'!$C$23)","v":"Date"},{"$f":"IF('Producer Data'!$E$22=\"\",\"\",'Producer Data'!$E$22)","v":"B"},{"$f":"IF('Producer Data'!$B$44=\"\",\"\",'Producer Data'!$B$44)","v":20}]
[957,{"$f":"IF('Producer Data'!$F$44=\"\",\"\",'Producer Data'!$F$44)","v":""},{"$f":"IF('Producer Data'!$C$6=\"\",\"\",'Producer Data'!$C$6)","v":"Producer Data"},{"$f":"IF('Producer Data'!$D$23=\"\",\"\",'Producer Data'!$D$23)","v":"Compressive Strength, (psi)"},{"$f":"IF('Producer Data'!$E$22=\"\",\"\",'Producer Data'!$E$22)","v":"B"},{"$f":"IF('Producer Data'!$B$44=\"\",\"\",'Producer Data'!$B$44)","v":20}]
[958,{"$f":"IF('Producer Data'!$E$45=\"\",\"\",'Producer Data'!$E$45)","v":""},{"$f":"IF('Producer Data'!$C$6=\"\",\"\",'Producer Data'!$C$6)","v":"Producer Data"},{"$f":"IF('Producer Data'!$C$23=\"\",\"\",'Producer Data'!$C$23)","v":"Date"},{"$f":"IF('Producer Data'!$E$22=\"\",\"\",'Producer Data'!$E$22)","v":"B"},{"$f":"IF('Producer Data'!$B$45=\"\",\"\",'Producer Data'!$B$45)","v":21}]
[959,{"$f":"IF('Producer Data'!$F$45=\"\",\"\",'Producer Data'!$F$45)","v":""},{"$f":"IF('Producer Data'!$C$6=\"\",\"\",'Producer Data'!$C$6)","v":"Producer Data"},{"$f":"IF('Producer Data'!$D$23=\"\",\"\",'Producer Data'!$D$23)","v":"Compressive Strength, (psi)"},{"$f":"IF('Producer Data'!$E$22=\"\",\"\",'Producer Data'!$E$22)","v":"B"},{"$f":"IF('Producer Data'!$B$45=\"\",\"\",'Producer Data'!$B$45)","v":21}]
[960,{"$f":"IF('Producer Data'!$E$46=\"\",\"\",'Producer Data'!$E$46)","v":""},{"$f":"IF('Producer Data'!$C$6=\"\",\"\",'Producer Data'!$C$6)","v":"Producer Data"},{"$f":"IF('Producer Data'!$C$23=\"\",\"\",'Producer Data'!$C$23)","v":"Date"},{"$f":"IF('Producer Data'!$E$22=\"\",\"\",'Producer Data'!$E$22)","v":"B"},{"$f":"IF('Producer Data'!$B$46=\"\",\"\",'Producer Data'!$B$46)","v":22}]
[961,{"$f":"IF('Producer Data'!$F$46=\"\",\"\",'Producer Data'!$F$46)","v":""},{"$f":"IF('Producer Data'!$C$6=\"\",\"\",'Producer Data'!$C$6)","v":"Producer Data"},{"$f":"IF('Producer Data'!$D$23=\"\",\"\",'Producer Data'!$D$23)","v":"Compressive Strength, (psi)"},{"$f":"IF('Producer Data'!$E$22=\"\",\"\",'Producer Data'!$E$22)","v":"B"},{"$f":"IF('Producer Data'!$B$46=\"\",\"\",'Producer Data'!$B$46)","v":22}]
[962,{"$f":"IF('Producer Data'!$E$47=\"\",\"\",'Producer Data'!$E$47)","v":""},{"$f":"IF('Producer Data'!$C$6=\"\",\"\",'Producer Data'!$C$6)","v":"Producer Data"},{"$f":"IF('Producer Data'!$C$23=\"\",\"\",'Producer Data'!$C$23)","v":"Date"},{"$f":"IF('Producer Data'!$E$22=\"\",\"\",'Producer Data'!$E$22)","v":"B"},{"$f":"IF('Producer Data'!$B$47=\"\",\"\",'Producer Data'!$B$47)","v":23}]
[963,{"$f":"IF('Producer Data'!$F$47=\"\",\"\",'Producer Data'!$F$47)","v":""},{"$f":"IF('Producer Data'!$C$6=\"\",\"\",'Producer Data'!$C$6)","v":"Producer Data"},{"$f":"IF('Producer Data'!$D$23=\"\",\"\",'Producer Data'!$D$23)","v":"Compressive Strength, (psi)"},{"$f":"IF('Producer Data'!$E$22=\"\",\"\",'Producer Data'!$E$22)","v":"B"},{"$f":"IF('Producer Data'!$B$47=\"\",\"\",'Producer Data'!$B$47)","v":23}]
[964,{"$f":"IF('Producer Data'!$E$48=\"\",\"\",'Producer Data'!$E$48)","v":""},{"$f":"IF('Producer Data'!$C$6=\"\",\"\",'Producer Data'!$C$6)","v":"Producer Data"},{"$f":"IF('Producer Data'!$C$23=\"\",\"\",'Producer Data'!$C$23)","v":"Date"},{"$f":"IF('Producer Data'!$E$22=\"\",\"\",'Producer Data'!$E$22)","v":"B"},{"$f":"IF('Producer Data'!$B$48=\"\",\"\",'Producer Data'!$B$48)","v":24}]
[965,{"$f":"IF('Producer Data'!$F$48=\"\",\"\",'Producer Data'!$F$48)","v":""},{"$f":"IF('Producer Data'!$C$6=\"\",\"\",'Producer Data'!$C$6)","v":"Producer Data"},{"$f":"IF('Producer Data'!$D$23=\"\",\"\",'Producer Data'!$D$23)","v":"Compressive Strength, (psi)"},{"$f":"IF('Producer Data'!$E$22=\"\",\"\",'Producer Data'!$E$22)","v":"B"},{"$f":"IF('Producer Data'!$B$48=\"\",\"\",'Producer Data'!$B$48)","v":24}]
[966,{"$f":"IF('Producer Data'!$E$49=\"\",\"\",'Producer Data'!$E$49)","v":""},{"$f":"IF('Producer Data'!$C$6=\"\",\"\",'Producer Data'!$C$6)","v":"Producer Data"},{"$f":"IF('Producer Data'!$C$23=\"\",\"\",'Producer Data'!$C$23)","v":"Date"},{"$f":"IF('Producer Data'!$E$22=\"\",\"\",'Producer Data'!$E$22)","v":"B"},{"$f":"IF('Producer Data'!$B$49=\"\",\"\",'Producer Data'!$B$49)","v":25}]
[967,{"$f":"IF('Producer Data'!$F$49=\"\",\"\",'Producer Data'!$F$49)","v":""},{"$f":"IF('Producer Data'!$C$6=\"\",\"\",'Producer Data'!$C$6)","v":"Producer Data"},{"$f":"IF('Producer Data'!$D$23=\"\",\"\",'Producer Data'!$D$23)","v":"Compressive Strength, (psi)"},{"$f":"IF('Producer Data'!$E$22=\"\",\"\",'Producer Data'!$E$22)","v":"B"},{"$f":"IF('Producer Data'!$B$49=\"\",\"\",'Producer Data'!$B$49)","v":25}]
[968,{"$f":"IF('Producer Data'!$G$25=\"\",\"\",'Producer Data'!$G$25)","v":""},{"$f":"IF('Producer Data'!$C$6=\"\",\"\",'Producer Data'!$C$6)","v":"Producer Data"},{"$f":"IF('Producer Data'!$C$23=\"\",\"\",'Producer Data'!$C$23)","v":"Date"},{"$f":"IF('Producer Data'!$G$22=\"\",\"\",'Producer Data'!$G$22)","v":"C"},{"$f":"IF('Producer Data'!$B$25=\"\",\"\",'Producer Data'!$B$25)","v":1}]
[969,{"$f":"IF('Producer Data'!$H$25=\"\",\"\",'Producer Data'!$H$25)","v":""},{"$f":"IF('Producer Data'!$C$6=\"\",\"\",'Producer Data'!$C$6)","v":"Producer Data"},{"$f":"IF('Producer Data'!$D$23=\"\",\"\",'Producer Data'!$D$23)","v":"Compressive Strength, (psi)"},{"$f":"IF('Producer Data'!$G$22=\"\",\"\",'Producer Data'!$G$22)","v":"C"},{"$f":"IF('Producer Data'!$B$25=\"\",\"\",'Producer Data'!$B$25)","v":1}]
[970,{"$f":"IF('Producer Data'!$G$26=\"\",\"\",'Producer Data'!$G$26)","v":""},{"$f":"IF('Producer Data'!$C$6=\"\",\"\",'Producer Data'!$C$6)","v":"Producer Data"},{"$f":"IF('Producer Data'!$C$23=\"\",\"\",'Producer Data'!$C$23)","v":"Date"},{"$f":"IF('Producer Data'!$G$22=\"\",\"\",'Producer Data'!$G$22)","v":"C"},{"$f":"IF('Producer Data'!$B$26=\"\",\"\",'Producer Data'!$B$26)","v":2}]
[971,{"$f":"IF('Producer Data'!$H$26=\"\",\"\",'Producer Data'!$H$26)","v":""},{"$f":"IF('Producer Data'!$C$6=\"\",\"\",'Producer Data'!$C$6)","v":"Producer Data"},{"$f":"IF('Producer Data'!$D$23=\"\",\"\",'Producer Data'!$D$23)","v":"Compressive Strength, (psi)"},{"$f":"IF('Producer Data'!$G$22=\"\",\"\",'Producer Data'!$G$22)","v":"C"},{"$f":"IF('Producer Data'!$B$26=\"\",\"\",'Producer Data'!$B$26)","v":2}]
[972,{"$f":"IF('Producer Data'!$G$27=\"\",\"\",'Producer Data'!$G$27)","v":""},{"$f":"IF('Producer Data'!$C$6=\"\",\"\",'Producer Data'!$C$6)","v":"Producer Data"},{"$f":"IF('Producer Data'!$C$23=\"\",\"\",'Producer Data'!$C$23)","v":"Date"},{"$f":"IF('Producer Data'!$G$22=\"\",\"\",'Producer Data'!$G$22)","v":"C"},{"$f":"IF('Producer Data'!$B$27=\"\",\"\",'Producer Data'!$B$27)","v":3}]
[973,{"$f":"IF('Producer Data'!$H$27=\"\",\"\",'Producer Data'!$H$27)","v":""},{"$f":"IF('Producer Data'!$C$6=\"\",\"\",'Producer Data'!$C$6)","v":"Producer Data"},{"$f":"IF('Producer Data'!$D$23=\"\",\"\",'Producer Data'!$D$23)","v":"Compressive Strength, (psi)"},{"$f":"IF('Producer Data'!$G$22=\"\",\"\",'Producer Data'!$G$22)","v":"C"},{"$f":"IF('Producer Data'!$B$27=\"\",\"\",'Producer Data'!$B$27)","v":3}]
[974,{"$f":"IF('Producer Data'!$G$28=\"\",\"\",'Producer Data'!$G$28)","v":""},{"$f":"IF('Producer Data'!$C$6=\"\",\"\",'Producer Data'!$C$6)","v":"Producer Data"},{"$f":"IF('Producer Data'!$C$23=\"\",\"\",'Producer Data'!$C$23)","v":"Date"},{"$f":"IF('Producer Data'!$G$22=\"\",\"\",'Producer Data'!$G$22)","v":"C"},{"$f":"IF('Producer Data'!$B$28=\"\",\"\",'Producer Data'!$B$28)","v":4}]
[975,{"$f":"IF('Producer Data'!$H$28=\"\",\"\",'Producer Data'!$H$28)","v":""},{"$f":"IF('Producer Data'!$C$6=\"\",\"\",'Producer Data'!$C$6)","v":"Producer Data"},{"$f":"IF('Producer Data'!$D$23=\"\",\"\",'Producer Data'!$D$23)","v":"Compressive Strength, (psi)"},{"$f":"IF('Producer Data'!$G$22=\"\",\"\",'Producer Data'!$G$22)","v":"C"},{"$f":"IF('Producer Data'!$B$28=\"\",\"\",'Producer Data'!$B$28)","v":4}]
[976,{"$f":"IF('Producer Data'!$G$29=\"\",\"\",'Producer Data'!$G$29)","v":""},{"$f":"IF('Producer Data'!$C$6=\"\",\"\",'Producer Data'!$C$6)","v":"Producer Data"},{"$f":"IF('Producer Data'!$C$23=\"\",\"\",'Producer Data'!$C$23)","v":"Date"},{"$f":"IF('Producer Data'!$G$22=\"\",\"\",'Producer Data'!$G$22)","v":"C"},{"$f":"IF('Producer Data'!$B$29=\"\",\"\",'Producer Data'!$B$29)","v":5}]
[977,{"$f":"IF('Producer Data'!$H$29=\"\",\"\",'Producer Data'!$H$29)","v":""},{"$f":"IF('Producer Data'!$C$6=\"\",\"\",'Producer Data'!$C$6)","v":"Producer Data"},{"$f":"IF('Producer Data'!$D$23=\"\",\"\",'Producer Data'!$D$23)","v":"Compressive Strength, (psi)"},{"$f":"IF('Producer Data'!$G$22=\"\",\"\",'Producer Data'!$G$22)","v":"C"},{"$f":"IF('Producer Data'!$B$29=\"\",\"\",'Producer Data'!$B$29)","v":5}]
[978,{"$f":"IF('Producer Data'!$G$30=\"\",\"\",'Producer Data'!$G$30)","v":""},{"$f":"IF('Producer Data'!$C$6=\"\",\"\",'Producer Data'!$C$6)","v":"Producer Data"},{"$f":"IF('Producer Data'!$C$23=\"\",\"\",'Producer Data'!$C$23)","v":"Date"},{"$f":"IF('Producer Data'!$G$22=\"\",\"\",'Producer Data'!$G$22)","v":"C"},{"$f":"IF('Producer Data'!$B$30=\"\",\"\",'Producer Data'!$B$30)","v":6}]
[979,{"$f":"IF('Producer Data'!$H$30=\"\",\"\",'Producer Data'!$H$30)","v":""},{"$f":"IF('Producer Data'!$C$6=\"\",\"\",'Producer Data'!$C$6)","v":"Producer Data"},{"$f":"IF('Producer Data'!$D$23=\"\",\"\",'Producer Data'!$D$23)","v":"Compressive Strength, (psi)"},{"$f":"IF('Producer Data'!$G$22=\"\",\"\",'Producer Data'!$G$22)","v":"C"},{"$f":"IF('Producer Data'!$B$30=\"\",\"\",'Producer Data'!$B$30)","v":6}]
[980,{"$f":"IF('Producer Data'!$G$31=\"\",\"\",'Producer Data'!$G$31)","v":""},{"$f":"IF('Producer Data'!$C$6=\"\",\"\",'Producer Data'!$C$6)","v":"Producer Data"},{"$f":"IF('Producer Data'!$C$23=\"\",\"\",'Producer Data'!$C$23)","v":"Date"},{"$f":"IF('Producer Data'!$G$22=\"\",\"\",'Producer Data'!$G$22)","v":"C"},{"$f":"IF('Producer Data'!$B$31=\"\",\"\",'Producer Data'!$B$31)","v":7}]
[981,{"$f":"IF('Producer Data'!$H$31=\"\",\"\",'Producer Data'!$H$31)","v":""},{"$f":"IF('Producer Data'!$C$6=\"\",\"\",'Producer Data'!$C$6)","v":"Producer Data"},{"$f":"IF('Producer Data'!$D$23=\"\",\"\",'Producer Data'!$D$23)","v":"Compressive Strength, (psi)"},{"$f":"IF('Producer Data'!$G$22=\"\",\"\",'Producer Data'!$G$22)","v":"C"},{"$f":"IF('Producer Data'!$B$31=\"\",\"\",'Producer Data'!$B$31)","v":7}]
[982,{"$f":"IF('Producer Data'!$G$32=\"\",\"\",'Producer Data'!$G$32)","v":""},{"$f":"IF('Producer Data'!$C$6=\"\",\"\",'Producer Data'!$C$6)","v":"Producer Data"},{"$f":"IF('Producer Data'!$C$23=\"\",\"\",'Producer Data'!$C$23)","v":"Date"},{"$f":"IF('Producer Data'!$G$22=\"\",\"\",'Producer Data'!$G$22)","v":"C"},{"$f":"IF('Producer Data'!$B$32=\"\",\"\",'Producer Data'!$B$32)","v":8}]
[983,{"$f":"IF('Producer Data'!$H$32=\"\",\"\",'Producer Data'!$H$32)","v":""},{"$f":"IF('Producer Data'!$C$6=\"\",\"\",'Producer Data'!$C$6)","v":"Producer Data"},{"$f":"IF('Producer Data'!$D$23=\"\",\"\",'Producer Data'!$D$23)","v":"Compressive Strength, (psi)"},{"$f":"IF('Producer Data'!$G$22=\"\",\"\",'Producer Data'!$G$22)","v":"C"},{"$f":"IF('Producer Data'!$B$32=\"\",\"\",'Producer Data'!$B$32)","v":8}]
[984,{"$f":"IF('Producer Data'!$G$33=\"\",\"\",'Producer Data'!$G$33)","v":""},{"$f":"IF('Producer Data'!$C$6=\"\",\"\",'Producer Data'!$C$6)","v":"Producer Data"},{"$f":"IF('Producer Data'!$C$23=\"\",\"\",'Producer Data'!$C$23)","v":"Date"},{"$f":"IF('Producer Data'!$G$22=\"\",\"\",'Producer Data'!$G$22)","v":"C"},{"$f":"IF('Producer Data'!$B$33=\"\",\"\",'Producer Data'!$B$33)","v":9}]
[985,{"$f":"IF('Producer Data'!$H$33=\"\",\"\",'Producer Data'!$H$33)","v":""},{"$f":"IF('Producer Data'!$C$6=\"\",\"\",'Producer Data'!$C$6)","v":"Producer Data"},{"$f":"IF('Producer Data'!$D$23=\"\",\"\",'Producer Data'!$D$23)","v":"Compressive Strength, (psi)"},{"$f":"IF('Producer Data'!$G$22=\"\",\"\",'Producer Data'!$G$22)","v":"C"},{"$f":"IF('Producer Data'!$B$33=\"\",\"\",'Producer Data'!$B$33)","v":9}]
[986,{"$f":"IF('Producer Data'!$G$34=\"\",\"\",'Producer Data'!$G$34)","v":""},{"$f":"IF('Producer Data'!$C$6=\"\",\"\",'Producer Data'!$C$6)","v":"Producer Data"},{"$f":"IF('Producer Data'!$C$23=\"\",\"\",'Producer Data'!$C$23)","v":"Date"},{"$f":"IF('Producer Data'!$G$22=\"\",\"\",'Producer Data'!$G$22)","v":"C"},{"$f":"IF('Producer Data'!$B$34=\"\",\"\",'Producer Data'!$B$34)","v":10}]
[987,{"$f":"IF('Producer Data'!$H$34=\"\",\"\",'Producer Data'!$H$34)","v":""},{"$f":"IF('Producer Data'!$C$6=\"\",\"\",'Producer Data'!$C$6)","v":"Producer Data"},{"$f":"IF('Producer Data'!$D$23=\"\",\"\",'Producer Data'!$D$23)","v":"Compressive Strength, (psi)"},{"$f":"IF('Producer Data'!$G$22=\"\",\"\",'Producer Data'!$G$22)","v":"C"},{"$f":"IF('Producer Data'!$B$34=\"\",\"\",'Producer Data'!$B$34)","v":10}]
[988,{"$f":"IF('Producer Data'!$G$35=\"\",\"\",'Producer Data'!$G$35)","v":""},{"$f":"IF('Producer Data'!$C$6=\"\",\"\",'Producer Data'!$C$6)","v":"Producer Data"},{"$f":"IF('Producer Data'!$C$23=\"\",\"\",'Producer Data'!$C$23)","v":"Date"},{"$f":"IF('Producer Data'!$G$22=\"\",\"\",'Producer Data'!$G$22)","v":"C"},{"$f":"IF('Producer Data'!$B$35=\"\",\"\",'Producer Data'!$B$35)","v":11}]
[989,{"$f":"IF('Producer Data'!$H$35=\"\",\"\",'Producer Data'!$H$35)","v":""},{"$f":"IF('Producer Data'!$C$6=\"\",\"\",'Producer Data'!$C$6)","v":"Producer Data"},{"$f":"IF('Producer Data'!$D$23=\"\",\"\",'Producer Data'!$D$23)","v":"Compressive Strength, (psi)"},{"$f":"IF('Producer Data'!$G$22=\"\",\"\",'Producer Data'!$G$22)","v":"C"},{"$f":"IF('Producer Data'!$B$35=\"\",\"\",'Producer Data'!$B$35)","v":11}]
[990,{"$f":"IF('Producer Data'!$G$36=\"\",\"\",'Producer Data'!$G$36)","v":""},{"$f":"IF('Producer Data'!$C$6=\"\",\"\",'Producer Data'!$C$6)","v":"Producer Data"},{"$f":"IF('Producer Data'!$C$23=\"\",\"\",'Producer Data'!$C$23)","v":"Date"},{"$f":"IF('Producer Data'!$G$22=\"\",\"\",'Producer Data'!$G$22)","v":"C"},{"$f":"IF('Producer Data'!$B$36=\"\",\"\",'Producer Data'!$B$36)","v":12}]
[991,{"$f":"IF('Producer Data'!$H$36=\"\",\"\",'Producer Data'!$H$36)","v":""},{"$f":"IF('Producer Data'!$C$6=\"\",\"\",'Producer Data'!$C$6)","v":"Producer Data"},{"$f":"IF('Producer Data'!$D$23=\"\",\"\",'Producer Data'!$D$23)","v":"Compressive Strength, (psi)"},{"$f":"IF('Producer Data'!$G$22=\"\",\"\",'Producer Data'!$G$22)","v":"C"},{"$f":"IF('Producer Data'!$B$36=\"\",\"\",'Producer Data'!$B$36)","v":12}]
[992,{"$f":"IF('Producer Data'!$G$37=\"\",\"\",'Producer Data'!$G$37)","v":""},{"$f":"IF('Producer Data'!$C$6=\"\",\"\",'Producer Data'!$C$6)","v":"Producer Data"},{"$f":"IF('Producer Data'!$C$23=\"\",\"\",'Producer Data'!$C$23)","v":"Date"},{"$f":"IF('Producer Data'!$G$22=\"\",\"\",'Producer Data'!$G$22)","v":"C"},{"$f":"IF('Producer Data'!$B$37=\"\",\"\",'Producer Data'!$B$37)","v":13}]
[993,{"$f":"IF('Producer Data'!$H$37=\"\",\"\",'Producer Data'!$H$37)","v":""},{"$f":"IF('Producer Data'!$C$6=\"\",\"\",'Producer Data'!$C$6)","v":"Producer Data"},{"$f":"IF('Producer Data'!$D$23=\"\",\"\",'Producer Data'!$D$23)","v":"Compressive Strength, (psi)"},{"$f":"IF('Producer Data'!$G$22=\"\",\"\",'Producer Data'!$G$22)","v":"C"},{"$f":"IF('Producer Data'!$B$37=\"\",\"\",'Producer Data'!$B$37)","v":13}]
[994,{"$f":"IF('Producer Data'!$G$38=\"\",\"\",'Producer Data'!$C$38)","v":""},{"$f":"IF('Producer Data'!$C$6=\"\",\"\",'Producer Data'!$C$6)","v":"Producer Data"},{"$f":"IF('Producer Data'!$C$23=\"\",\"\",'Producer Data'!$C$23)","v":"Date"},{"$f":"IF('Producer Data'!$G$22=\"\",\"\",'Producer Data'!$G$22)","v":"C"},{"$f":"IF('Producer Data'!$B$38=\"\",\"\",'Producer Data'!$B$38)","v":14}]
[995,{"$f":"IF('Producer Data'!$H$38=\"\",\"\",'Producer Data'!$H$38)","v":""},{"$f":"IF('Producer Data'!$C$6=\"\",\"\",'Producer Data'!$C$6)","v":"Producer Data"},{"$f":"IF('Producer Data'!$D$23=\"\",\"\",'Producer Data'!$D$23)","v":"Compressive Strength, (psi)"},{"$f":"IF('Producer Data'!$G$22=\"\",\"\",'Producer Data'!$G$22)","v":"C"},{"$f":"IF('Producer Data'!$B$38=\"\",\"\",'Producer Data'!$B$38)","v":14}]
[996,{"$f":"IF('Producer Data'!$G$39=\"\",\"\",'Producer Data'!$G$39)","v":""},{"$f":"IF('Producer Data'!$C$6=\"\",\"\",'Producer Data'!$C$6)","v":"Producer Data"},{"$f":"IF('Producer Data'!$C$23=\"\",\"\",'Producer Data'!$C$23)","v":"Date"},{"$f":"IF('Producer Data'!$G$22=\"\",\"\",'Producer Data'!$G$22)","v":"C"},{"$f":"IF('Producer Data'!$B$39=\"\",\"\",'Producer Data'!$B$39)","v":15}]
[997,{"$f":"IF('Producer Data'!$H$39=\"\",\"\",'Producer Data'!$H$39)","v":""},{"$f":"IF('Producer Data'!$C$6=\"\",\"\",'Producer Data'!$C$6)","v":"Producer Data"},{"$f":"IF('Producer Data'!$D$23=\"\",\"\",'Producer Data'!$D$23)","v":"Compressive Strength, (psi)"},{"$f":"IF('Producer Data'!$G$22=\"\",\"\",'Producer Data'!$G$22)","v":"C"},{"$f":"IF('Producer Data'!$B$39=\"\",\"\",'Producer Data'!$B$39)","v":15}]
[998,{"$f":"IF('Producer Data'!$G$40=\"\",\"\",'Producer Data'!$G$40)","v":""},{"$f":"IF('Producer Data'!$C$6=\"\",\"\",'Producer Data'!$C$6)","v":"Producer Data"},{"$f":"IF('Producer Data'!$C$23=\"\",\"\",'Producer Data'!$C$23)","v":"Date"},{"$f":"IF('Producer Data'!$G$22=\"\",\"\",'Producer Data'!$G$22)","v":"C"},{"$f":"IF('Producer Data'!$B$40=\"\",\"\",'Producer Data'!$B$40)","v":16}]
[999,{"$f":"IF('Producer Data'!$H$40=\"\",\"\",'Producer Data'!$H$40)","v":""},{"$f":"IF('Producer Data'!$C$6=\"\",\"\",'Producer Data'!$C$6)","v":"Producer Data"},{"$f":"IF('Producer Data'!$D$23=\"\",\"\",'Producer Data'!$D$23)","v":"Compressive Strength, (psi)"},{"$f":"IF('Producer Data'!$G$22=\"\",\"\",'Producer Data'!$G$22)","v":"C"},{"$f":"IF('Producer Data'!$B$40=\"\",\"\",'Producer Data'!$B$40)","v":16}]
[1000,{"$f":"IF('Producer Data'!$G$41=\"\",\"\",'Producer Data'!$G$41)","v":""},{"$f":"IF('Producer Data'!$C$6=\"\",\"\",'Producer Data'!$C$6)","v":"Producer Data"},{"$f":"IF('Producer Data'!$C$23=\"\",\"\",'Producer Data'!$C$23)","v":"Date"},{"$f":"IF('Producer Data'!$G$22=\"\",\"\",'Producer Data'!$G$22)","v":"C"},{"$f":"IF('Producer Data'!$B$41=\"\",\"\",'Producer Data'!$B$41)","v":17}]
[1001,{"$f":"IF('Producer Data'!$H$41=\"\",\"\",'Producer Data'!$H$41)","v":""},{"$f":"IF('Producer Data'!$C$6=\"\",\"\",'Producer Data'!$C$6)","v":"Producer Data"},{"$f":"IF('Producer Data'!$D$23=\"\",\"\",'Producer Data'!$D$23)","v":"Compressive Strength, (psi)"},{"$f":"IF('Producer Data'!$G$22=\"\",\"\",'Producer Data'!$G$22)","v":"C"},{"$f":"IF('Producer Data'!$B$41=\"\",\"\",'Producer Data'!$B$41)","v":17}]
[1002,{"$f":"IF('Producer Data'!$G$42=\"\",\"\",'Producer Data'!$G$42)","v":""},{"$f":"IF('Producer Data'!$C$6=\"\",\"\",'Producer Data'!$C$6)","v":"Producer Data"},{"$f":"IF('Producer Data'!$C$23=\"\",\"\",'Producer Data'!$C$23)","v":"Date"},{"$f":"IF('Producer Data'!$G$22=\"\",\"\",'Producer Data'!$G$22)","v":"C"},{"$f":"IF('Producer Data'!$B$42=\"\",\"\",'Producer Data'!$B$42)","v":18}]
[1003,{"$f":"IF('Producer Data'!$H$42=\"\",\"\",'Producer Data'!$H$42)","v":""},{"$f":"IF('Producer Data'!$C$6=\"\",\"\",'Producer Data'!$C$6)","v":"Producer Data"},{"$f":"IF('Producer Data'!$D$23=\"\",\"\",'Producer Data'!$D$23)","v":"Compressive Strength, (psi)"},{"$f":"IF('Producer Data'!$G$22=\"\",\"\",'Producer Data'!$G$22)","v":"C"},{"$f":"IF('Producer Data'!$B$42=\"\",\"\",'Producer Data'!$B$42)","v":18}]
[1004,{"$f":"IF('Producer Data'!$G$43=\"\",\"\",'Producer Data'!$G$43)","v":""},{"$f":"IF('Producer Data'!$C$6=\"\",\"\",'Producer Data'!$C$6)","v":"Producer Data"},{"$f":"IF('Producer Data'!$C$23=\"\",\"\",'Producer Data'!$C$23)","v":"Date"},{"$f":"IF('Producer Data'!$G$22=\"\",\"\",'Producer Data'!$G$22)","v":"C"},{"$f":"IF('Producer Data'!$B$43=\"\",\"\",'Producer Data'!$B$43)","v":19}]
[1005,{"$f":"IF('Producer Data'!$H$43=\"\",\"\",'Producer Data'!$H$43)","v":""},{"$f":"IF('Producer Data'!$C$6=\"\",\"\",'Producer Data'!$C$6)","v":"Producer Data"},{"$f":"IF('Producer Data'!$D$23=\"\",\"\",'Producer Data'!$D$23)","v":"Compressive Strength, (psi)"},{"$f":"IF('Producer Data'!$G$22=\"\",\"\",'Producer Data'!$G$22)","v":"C"},{"$f":"IF('Producer Data'!$B$43=\"\",\"\",'Producer Data'!$B$43)","v":19}]
[1006,{"$f":"IF('Producer Data'!$G$44=\"\",\"\",'Producer Data'!$G$44)","v":""},{"$f":"IF('Producer Data'!$C$6=\"\",\"\",'Producer Data'!$C$6)","v":"Producer Data"},{"$f":"IF('Producer Data'!$C$23=\"\",\"\",'Producer Data'!$C$23)","v":"Date"},{"$f":"IF('Producer Data'!$G$22=\"\",\"\",'Producer Data'!$G$22)","v":"C"},{"$f":"IF('Producer Data'!$B$44=\"\",\"\",'Producer Data'!$B$44)","v":20}]
[1007,{"$f":"IF('Producer Data'!$H$44=\"\",\"\",'Producer Data'!$H$44)","v":""},{"$f":"IF('Producer Data'!$C$6=\"\",\"\",'Producer Data'!$C$6)","v":"Producer Data"},{"$f":"IF('Producer Data'!$D$23=\"\",\"\",'Producer Data'!$D$23)","v":"Compressive Strength, (psi)"},{"$f":"IF('Producer Data'!$G$22=\"\",\"\",'Producer Data'!$G$22)","v":"C"},{"$f":"IF('Producer Data'!$B$44=\"\",\"\",'Producer Data'!$B$44)","v":20}]
[1008,{"$f":"IF('Producer Data'!$G$45=\"\",\"\",'Producer Data'!$G$45)","v":""},{"$f":"IF('Producer Data'!$C$6=\"\",\"\",'Producer Data'!$C$6)","v":"Producer Data"},{"$f":"IF('Producer Data'!$C$23=\"\",\"\",'Producer Data'!$C$23)","v":"Date"},{"$f":"IF('Producer Data'!$G$22=\"\",\"\",'Producer Data'!$G$22)","v":"C"},{"$f":"IF('Producer Data'!$B$45=\"\",\"\",'Producer Data'!$B$45)","v":21}]
[1009,{"$f":"IF('Producer Data'!$H$45=\"\",\"\",'Producer Data'!$H$45)","v":""},{"$f":"IF('Producer Data'!$C$6=\"\",\"\",'Producer Data'!$C$6)","v":"Producer Data"},{"$f":"IF('Producer Data'!$D$23=\"\",\"\",'Producer Data'!$D$23)","v":"Compressive Strength, (psi)"},{"$f":"IF('Producer Data'!$G$22=\"\",\"\",'Producer Data'!$G$22)","v":"C"},{"$f":"IF('Producer Data'!$B$45=\"\",\"\",'Producer Data'!$B$45)","v":21}]
[1010,{"$f":"IF('Producer Data'!$G$46=\"\",\"\",'Producer Data'!$G$46)","v":""},{"$f":"IF('Producer Data'!$C$6=\"\",\"\",'Producer Data'!$C$6)","v":"Producer Data"},{"$f":"IF('Producer Data'!$C$23=\"\",\"\",'Producer Data'!$C$23)","v":"Date"},{"$f":"IF('Producer Data'!$G$22=\"\",\"\",'Producer Data'!$G$22)","v":"C"},{"$f":"IF('Producer Data'!$B$46=\"\",\"\",'Producer Data'!$B$46)","v":22}]
[1011,{"$f":"IF('Producer Data'!$H$46=\"\",\"\",'Producer Data'!$H$46)","v":""},{"$f":"IF('Producer Data'!$C$6=\"\",\"\",'Producer Data'!$C$6)","v":"Producer Data"},{"$f":"IF('Producer Data'!$D$23=\"\",\"\",'Producer Data'!$D$23)","v":"Compressive Strength, (psi)"},{"$f":"IF('Producer Data'!$G$22=\"\",\"\",'Producer Data'!$G$22)","v":"C"},{"$f":"IF('Producer Data'!$B$46=\"\",\"\",'Producer Data'!$B$46)","v":22}]
[1012,{"$f":"IF('Producer Data'!$G$47=\"\",\"\",'Producer Data'!$G$47)","v":""},{"$f":"IF('Producer Data'!$C$6=\"\",\"\",'Producer Data'!$C$6)","v":"Producer Data"},{"$f":"IF('Producer Data'!$C$23=\"\",\"\",'Producer Data'!$C$23)","v":"Date"},{"$f":"IF('Producer Data'!$G$22=\"\",\"\",'Producer Data'!$G$22)","v":"C"},{"$f":"IF('Producer Data'!$B$47=\"\",\"\",'Producer Data'!$B$47)","v":23}]
[1013,{"$f":"IF('Producer Data'!$H$47=\"\",\"\",'Producer Data'!$H$47)","v":""},{"$f":"IF('Producer Data'!$C$6=\"\",\"\",'Producer Data'!$C$6)","v":"Producer Data"},{"$f":"IF('Producer Data'!$D$23=\"\",\"\",'Producer Data'!$D$23)","v":"Compressive Strength, (psi)"},{"$f":"IF('Producer Data'!$G$22=\"\",\"\",'Producer Data'!$G$22)","v":"C"},{"$f":"IF('Producer Data'!$B$47=\"\",\"\",'Producer Data'!$B$47)","v":23}]
[1014,{"$f":"IF('Producer Data'!$G$48=\"\",\"\",'Producer Data'!$G$48)","v":""},{"$f":"IF('Producer Data'!$C$6=\"\",\"\",'Producer Data'!$C$6)","v":"Producer Data"},{"$f":"IF('Producer Data'!$C$23=\"\",\"\",'Producer Data'!$C$23)","v":"Date"},{"$f":"IF('Producer Data'!$G$22=\"\",\"\",'Producer Data'!$G$22)","v":"C"},{"$f":"IF('Producer Data'!$B$48=\"\",\"\",'Producer Data'!$B$48)","v":24}]
[1015,{"$f":"IF('Producer Data'!$H$48=\"\",\"\",'Producer Data'!$H$48)","v":""},{"$f":"IF('Producer Data'!$C$6=\"\",\"\",'Producer Data'!$C$6)","v":"Producer Data"},{"$f":"IF('Producer Data'!$D$23=\"\",\"\",'Producer Data'!$D$23)","v":"Compressive Strength, (psi)"},{"$f":"IF('Producer Data'!$G$22=\"\",\"\",'Producer Data'!$G$22)","v":"C"},{"$f":"IF('Producer Data'!$B$48=\"\",\"\",'Producer Data'!$B$48)","v":24}]
[1016,{"$f":"IF('Producer Data'!$G$49=\"\",\"\",'Producer Data'!$G$49)","v":""},{"$f":"IF('Producer Data'!$C$6=\"\",\"\",'Producer Data'!$C$6)","v":"Producer Data"},{"$f":"IF('Producer Data'!$C$23=\"\",\"\",'Producer Data'!$C$23)","v":"Date"},{"$f":"IF('Producer Data'!$G$22=\"\",\"\",'Producer Data'!$G$22)","v":"C"},{"$f":"IF('Producer Data'!$B$49=\"\",\"\",'Producer Data'!$B$49)","v":25}]
[1017,{"$f":"IF('Producer Data'!$F$49=\"\",\"\",'Producer Data'!$F$49)","v":""},{"$f":"IF('Producer Data'!$C$6=\"\",\"\",'Producer Data'!$C$6)","v":"Producer Data"},{"$f":"IF('Producer Data'!$D$23=\"\",\"\",'Producer Data'!$D$23)","v":"Compressive Strength, (psi)"},{"$f":"IF('Producer Data'!$G$22=\"\",\"\",'Producer Data'!$G$22)","v":"C"},{"$f":"IF('Producer Data'!$B$49=\"\",\"\",'Producer Data'!$B$49)","v":25}]
[1018,{"$f":"IF('Producer Data'!$I$25=\"\",\"\",'Producer Data'!$I$25)","v":""},{"$f":"IF('Producer Data'!$C$6=\"\",\"\",'Producer Data'!$C$6)","v":"Producer Data"},{"$f":"IF('Producer Data'!$C$23=\"\",\"\",'Producer Data'!$C$23)","v":"Date"},{"$f":"IF('Producer Data'!$I$22=\"\",\"\",'Producer Data'!$I$22)","v":"D"},{"$f":"IF('Producer Data'!$B$25=\"\",\"\",'Producer Data'!$B$25)","v":1}]
[1019,{"$f":"IF('Producer Data'!$J$25=\"\",\"\",'Producer Data'!$J$25)","v":""},{"$f":"IF('Producer Data'!$C$6=\"\",\"\",'Producer Data'!$C$6)","v":"Producer Data"},{"$f":"IF('Producer Data'!$D$23=\"\",\"\",'Producer Data'!$D$23)","v":"Compressive Strength, (psi)"},{"$f":"IF('Producer Data'!$I$22=\"\",\"\",'Producer Data'!$I$22)","v":"D"},{"$f":"IF('Producer Data'!$B$25=\"\",\"\",'Producer Data'!$B$25)","v":1}]
[1020,{"$f":"IF('Producer Data'!$I$26=\"\",\"\",'Producer Data'!$I$26)","v":""},{"$f":"IF('Producer Data'!$C$6=\"\",\"\",'Producer Data'!$C$6)","v":"Producer Data"},{"$f":"IF('Producer Data'!$C$23=\"\",\"\",'Producer Data'!$C$23)","v":"Date"},{"$f":"IF('Producer Data'!$I$22=\"\",\"\",'Producer Data'!$I$22)","v":"D"},{"$f":"IF('Producer Data'!$B$26=\"\",\"\",'Producer Data'!$B$26)","v":2}]
[1021,{"$f":"IF('Producer Data'!$J$26=\"\",\"\",'Producer Data'!$J$26)","v":""},{"$f":"IF('Producer Data'!$C$6=\"\",\"\",'Producer Data'!$C$6)","v":"Producer Data"},{"$f":"IF('Producer Data'!$D$23=\"\",\"\",'Producer Data'!$D$23)","v":"Compressive Strength, (psi)"},{"$f":"IF('Producer Data'!$I$22=\"\",\"\",'Producer Data'!$I$22)","v":"D"},{"$f":"IF('Producer Data'!$B$26=\"\",\"\",'Producer Data'!$B$26)","v":2}]
[1022,{"$f":"IF('Producer Data'!$I$27=\"\",\"\",'Producer Data'!$I$27)","v":""},{"$f":"IF('Producer Data'!$C$6=\"\",\"\",'Producer Data'!$C$6)","v":"Producer Data"},{"$f":"IF('Producer Data'!$C$23=\"\",\"\",'Producer Data'!$C$23)","v":"Date"},{"$f":"IF('Producer Data'!$I$22=\"\",\"\",'Producer Data'!$I$22)","v":"D"},{"$f":"IF('Producer Data'!$B$27=\"\",\"\",'Producer Data'!$B$27)","v":3}]
[1023,{"$f":"IF('Producer Data'!$J$27=\"\",\"\",'Producer Data'!$J$27)","v":""},{"$f":"IF('Producer Data'!$C$6=\"\",\"\",'Producer Data'!$C$6)","v":"Producer Data"},{"$f":"IF('Producer Data'!$D$23=\"\",\"\",'Producer Data'!$D$23)","v":"Compressive Strength, (psi)"},{"$f":"IF('Producer Data'!$I$22=\"\",\"\",'Producer Data'!$I$22)","v":"D"},{"$f":"IF('Producer Data'!$B$27=\"\",\"\",'Producer Data'!$B$27)","v":3}]
[1024,{"$f":"IF('Producer Data'!$I$28=\"\",\"\",'Producer Data'!$I$28)","v":""},{"$f":"IF('Producer Data'!$C$6=\"\",\"\",'Producer Data'!$C$6)","v":"Producer Data"},{"$f":"IF('Producer Data'!$C$23=\"\",\"\",'Producer Data'!$C$23)","v":"Date"},{"$f":"IF('Producer Data'!$I$22=\"\",\"\",'Producer Data'!$I$22)","v":"D"},{"$f":"IF('Producer Data'!$B$28=\"\",\"\",'Producer Data'!$B$28)","v":4}]
[1025,{"$f":"IF('Producer Data'!$J$28=\"\",\"\",'Producer Data'!$J$28)","v":""},{"$f":"IF('Producer Data'!$C$6=\"\",\"\",'Producer Data'!$C$6)","v":"Producer Data"},{"$f":"IF('Producer Data'!$D$23=\"\",\"\",'Producer Data'!$D$23)","v":"Compressive Strength, (psi)"},{"$f":"IF('Producer Data'!$I$22=\"\",\"\",'Producer Data'!$I$22)","v":"D"},{"$f":"IF('Producer Data'!$B$28=\"\",\"\",'Producer Data'!$B$28)","v":4}]
[1026,{"$f":"IF('Producer Data'!$I$29=\"\",\"\",'Producer Data'!$I$29)","v":""},{"$f":"IF('Producer Data'!$C$6=\"\",\"\",'Producer Data'!$C$6)","v":"Producer Data"},{"$f":"IF('Producer Data'!$C$23=\"\",\"\",'Producer Data'!$C$23)","v":"Date"},{"$f":"IF('Producer Data'!$I$22=\"\",\"\",'Producer Data'!$I$22)","v":"D"},{"$f":"IF('Producer Data'!$B$29=\"\",\"\",'Producer Data'!$B$29)","v":5}]
[1027,{"$f":"IF('Producer Data'!$J$29=\"\",\"\",'Producer Data'!$J$29)","v":""},{"$f":"IF('Producer Data'!$C$6=\"\",\"\",'Producer Data'!$C$6)","v":"Producer Data"},{"$f":"IF('Producer Data'!$D$23=\"\",\"\",'Producer Data'!$D$23)","v":"Compressive Strength, (psi)"},{"$f":"IF('Producer Data'!$I$22=\"\",\"\",'Producer Data'!$I$22)","v":"D"},{"$f":"IF('Producer Data'!$B$29=\"\",\"\",'Producer Data'!$B$29)","v":5}]
[1028,{"$f":"IF('Producer Data'!$I$30=\"\",\"\",'Producer Data'!$I$30)","v":""},{"$f":"IF('Producer Data'!$C$6=\"\",\"\",'Producer Data'!$C$6)","v":"Producer Data"},{"$f":"IF('Producer Data'!$C$23=\"\",\"\",'Producer Data'!$C$23)","v":"Date"},{"$f":"IF('Producer Data'!$I$22=\"\",\"\",'Producer Data'!$I$22)","v":"D"},{"$f":"IF('Producer Data'!$B$30=\"\",\"\",'Producer Data'!$B$30)","v":6}]
[1029,{"$f":"IF('Producer Data'!$J$30=\"\",\"\",'Producer Data'!$J$30)","v":""},{"$f":"IF('Producer Data'!$C$6=\"\",\"\",'Producer Data'!$C$6)","v":"Producer Data"},{"$f":"IF('Producer Data'!$D$23=\"\",\"\",'Producer Data'!$D$23)","v":"Compressive Strength, (psi)"},{"$f":"IF('Producer Data'!$I$22=\"\",\"\",'Producer Data'!$I$22)","v":"D"},{"$f":"IF('Producer Data'!$B$30=\"\",\"\",'Producer Data'!$B$30)","v":6}]
[1030,{"$f":"IF('Producer Data'!$I$31=\"\",\"\",'Producer Data'!$I$31)","v":""},{"$f":"IF('Producer Data'!$C$6=\"\",\"\",'Producer Data'!$C$6)","v":"Producer Data"},{"$f":"IF('Producer Data'!$C$23=\"\",\"\",'Producer Data'!$C$23)","v":"Date"},{"$f":"IF('Producer Data'!$I$22=\"\",\"\",'Producer Data'!$I$22)","v":"D"},{"$f":"IF('Producer Data'!$B$31=\"\",\"\",'Producer Data'!$B$31)","v":7}]
[1031,{"$f":"IF('Producer Data'!$J$31=\"\",\"\",'Producer Data'!$J$31)","v":""},{"$f":"IF('Producer Data'!$C$6=\"\",\"\",'Producer Data'!$C$6)","v":"Producer Data"},{"$f":"IF('Producer Data'!$D$23=\"\",\"\",'Producer Data'!$D$23)","v":"Compressive Strength, (psi)"},{"$f":"IF('Producer Data'!$I$22=\"\",\"\",'Producer Data'!$I$22)","v":"D"},{"$f":"IF('Producer Data'!$B$31=\"\",\"\",'Producer Data'!$B$31)","v":7}]
[1032,{"$f":"IF('Producer Data'!$I$32=\"\",\"\",'Producer Data'!$I$32)","v":""},{"$f":"IF('Producer Data'!$C$6=\"\",\"\",'Producer Data'!$C$6)","v":"Producer Data"},{"$f":"IF('Producer Data'!$C$23=\"\",\"\",'Producer Data'!$C$23)","v":"Date"},{"$f":"IF('Producer Data'!$I$22=\"\",\"\",'Producer Data'!$I$22)","v":"D"},{"$f":"IF('Producer Data'!$B$32=\"\",\"\",'Producer Data'!$B$32)","v":8}]
[1033,{"$f":"IF('Producer Data'!$J$32=\"\",\"\",'Producer Data'!$J$32)","v":""},{"$f":"IF('Producer Data'!$C$6=\"\",\"\",'Producer Data'!$C$6)","v":"Producer Data"},{"$f":"IF('Producer Data'!$D$23=\"\",\"\",'Producer Data'!$D$23)","v":"Compressive Strength, (psi)"},{"$f":"IF('Producer Data'!$I$22=\"\",\"\",'Producer Data'!$I$22)","v":"D"},{"$f":"IF('Producer Data'!$B$32=\"\",\"\",'Producer Data'!$B$32)","v":8}]
[1034,{"$f":"IF('Producer Data'!$I$33=\"\",\"\",'Producer Data'!$I$33)","v":""},{"$f":"IF('Producer Data'!$C$6=\"\",\"\",'Producer Data'!$C$6)","v":"Producer Data"},{"$f":"IF('Producer Data'!$C$23=\"\",\"\",'Producer Data'!$C$23)","v":"Date"},{"$f":"IF('Producer Data'!$I$22=\"\",\"\",'Producer Data'!$I$22)","v":"D"},{"$f":"IF('Producer Data'!$B$33=\"\",\"\",'Producer Data'!$B$33)","v":9}]
[1035,{"$f":"IF('Producer Data'!$J$33=\"\",\"\",'Producer Data'!$J$33)","v":""},{"$f":"IF('Producer Data'!$C$6=\"\",\"\",'Producer Data'!$C$6)","v":"Producer Data"},{"$f":"IF('Producer Data'!$D$23=\"\",\"\",'Producer Data'!$D$23)","v":"Compressive Strength, (psi)"},{"$f":"IF('Producer Data'!$I$22=\"\",\"\",'Producer Data'!$I$22)","v":"D"},{"$f":"IF('Producer Data'!$B$33=\"\",\"\",'Producer Data'!$B$33)","v":9}]
[1036,{"$f":"IF('Producer Data'!$I$34=\"\",\"\",'Producer Data'!$I$34)","v":""},{"$f":"IF('Producer Data'!$C$6=\"\",\"\",'Producer Data'!$C$6)","v":"Producer Data"},{"$f":"IF('Producer Data'!$C$23=\"\",\"\",'Producer Data'!$C$23)","v":"Date"},{"$f":"IF('Producer Data'!$I$22=\"\",\"\",'Producer Data'!$I$22)","v":"D"},{"$f":"IF('Producer Data'!$B$34=\"\",\"\",'Producer Data'!$B$34)","v":10}]
[1037,{"$f":"IF('Producer Data'!$J$34=\"\",\"\",'Producer Data'!$J$34)","v":""},{"$f":"IF('Producer Data'!$C$6=\"\",\"\",'Producer Data'!$C$6)","v":"Producer Data"},{"$f":"IF('Producer Data'!$D$23=\"\",\"\",'Producer Data'!$D$23)","v":"Compressive Strength, (psi)"},{"$f":"IF('Producer Data'!$I$22=\"\",\"\",'Producer Data'!$I$22)","v":"D"},{"$f":"IF('Producer Data'!$B$34=\"\",\"\",'Producer Data'!$B$34)","v":10}]
[1038,{"$f":"IF('Producer Data'!$I$35=\"\",\"\",'Producer Data'!$I$35)","v":""},{"$f":"IF('Producer Data'!$C$6=\"\",\"\",'Producer Data'!$C$6)","v":"Producer Data"},{"$f":"IF('Producer Data'!$C$23=\"\",\"\",'Producer Data'!$C$23)","v":"Date"},{"$f":"IF('Producer Data'!$I$22=\"\",\"\",'Producer Data'!$I$22)","v":"D"},{"$f":"IF('Producer Data'!$B$35=\"\",\"\",'Producer Data'!$B$35)","v":11}]
[1039,{"$f":"IF('Producer Data'!$J$35=\"\",\"\",'Producer Data'!$J$35)","v":""},{"$f":"IF('Producer Data'!$C$6=\"\",\"\",'Producer Data'!$C$6)","v":"Producer Data"},{"$f":"IF('Producer Data'!$D$23=\"\",\"\",'Producer Data'!$D$23)","v":"Compressive Strength, (psi)"},{"$f":"IF('Producer Data'!$I$22=\"\",\"\",'Producer Data'!$I$22)","v":"D"},{"$f":"IF('Producer Data'!$B$35=\"\",\"\",'Producer Data'!$B$35)","v":11}]
[1040,{"$f":"IF('Producer Data'!$I$36=\"\",\"\",'Producer Data'!$I$36)","v":""},{"$f":"IF('Producer Data'!$C$6=\"\",\"\",'Producer Data'!$C$6)","v":"Producer Data"},{"$f":"IF('Producer Data'!$C$23=\"\",\"\",'Producer Data'!$C$23)","v":"Date"},{"$f":"IF('Producer Data'!$I$22=\"\",\"\",'Producer Data'!$I$22)","v":"D"},{"$f":"IF('Producer Data'!$B$36=\"\",\"\",'Producer Data'!$B$36)","v":12}]
[1041,{"$f":"IF('Producer Data'!$J$36=\"\",\"\",'Producer Data'!$J$36)","v":""},{"$f":"IF('Producer Data'!$C$6=\"\",\"\",'Producer Data'!$C$6)","v":"Producer Data"},{"$f":"IF('Producer Data'!$D$23=\"\",\"\",'Producer Data'!$D$23)","v":"Compressive Strength, (psi)"},{"$f":"IF('Producer Data'!$I$22=\"\",\"\",'Producer Data'!$I$22)","v":"D"},{"$f":"IF('Producer Data'!$B$36=\"\",\"\",'Producer Data'!$B$36)","v":12}]
[1042,{"$f":"IF('Producer Data'!$I$37=\"\",\"\",'Producer Data'!$I$37)","v":""},{"$f":"IF('Producer Data'!$C$6=\"\",\"\",'Producer Data'!$C$6)","v":"Producer Data"},{"$f":"IF('Producer Data'!$C$23=\"\",\"\",'Producer Data'!$C$23)","v":"Date"},{"$f":"IF('Producer Data'!$I$22=\"\",\"\",'Producer Data'!$I$22)","v":"D"},{"$f":"IF('Producer Data'!$B$37=\"\",\"\",'Producer Data'!$B$37)","v":13}]
[1043,{"$f":"IF('Producer Data'!$J$37=\"\",\"\",'Producer Data'!$J$37)","v":""},{"$f":"IF('Producer Data'!$C$6=\"\",\"\",'Producer Data'!$C$6)","v":"Producer Data"},{"$f":"IF('Producer Data'!$D$23=\"\",\"\",'Producer Data'!$D$23)","v":"Compressive Strength, (psi)"},{"$f":"IF('Producer Data'!$I$22=\"\",\"\",'Producer Data'!$I$22)","v":"D"},{"$f":"IF('Producer Data'!$B$37=\"\",\"\",'Producer Data'!$B$37)","v":13}]
[1044,{"$f":"IF('Producer Data'!$I$38=\"\",\"\",'Producer Data'!$C$38)","v":""},{"$f":"IF('Producer Data'!$C$6=\"\",\"\",'Producer Data'!$C$6)","v":"Producer Data"},{"$f":"IF('Producer Data'!$C$23=\"\",\"\",'Producer Data'!$C$23)","v":"Date"},{"$f":"IF('Producer Data'!$I$22=\"\",\"\",'Producer Data'!$I$22)","v":"D"},{"$f":"IF('Producer Data'!$B$38=\"\",\"\",'Producer Data'!$B$38)","v":14}]
[1045,{"$f":"IF('Producer Data'!$J$38=\"\",\"\",'Producer Data'!$J$38)","v":""},{"$f":"IF('Producer Data'!$C$6=\"\",\"\",'Producer Data'!$C$6)","v":"Producer Data"},{"$f":"IF('Producer Data'!$D$23=\"\",\"\",'Producer Data'!$D$23)","v":"Compressive Strength, (psi)"},{"$f":"IF('Producer Data'!$I$22=\"\",\"\",'Producer Data'!$I$22)","v":"D"},{"$f":"IF('Producer Data'!$B$38=\"\",\"\",'Producer Data'!$B$38)","v":14}]
[1046,{"$f":"IF('Producer Data'!$I$39=\"\",\"\",'Producer Data'!$I$39)","v":""},{"$f":"IF('Producer Data'!$C$6=\"\",\"\",'Producer Data'!$C$6)","v":"Producer Data"},{"$f":"IF('Producer Data'!$C$23=\"\",\"\",'Producer Data'!$C$23)","v":"Date"},{"$f":"IF('Producer Data'!$I$22=\"\",\"\",'Producer Data'!$I$22)","v":"D"},{"$f":"IF('Producer Data'!$B$39=\"\",\"\",'Producer Data'!$B$39)","v":15}]
[1047,{"$f":"IF('Producer Data'!$J$39=\"\",\"\",'Producer Data'!$J$39)","v":""},{"$f":"IF('Producer Data'!$C$6=\"\",\"\",'Producer Data'!$C$6)","v":"Producer Data"},{"$f":"IF('Producer Data'!$D$23=\"\",\"\",'Producer Data'!$D$23)","v":"Compressive Strength, (psi)"},{"$f":"IF('Producer Data'!$I$22=\"\",\"\",'Producer Data'!$I$22)","v":"D"},{"$f":"IF('Producer Data'!$B$39=\"\",\"\",'Producer Data'!$B$39)","v":15}]
[1048,{"$f":"IF('Producer Data'!$I$40=\"\",\"\",'Producer Data'!$I$40)","v":""},{"$f":"IF('Producer Data'!$C$6=\"\",\"\",'Producer Data'!$C$6)","v":"Producer Data"},{"$f":"IF('Producer Data'!$C$23=\"\",\"\",'Producer Data'!$C$23)","v":"Date"},{"$f":"IF('Producer Data'!$I$22=\"\",\"\",'Producer Data'!$I$22)","v":"D"},{"$f":"IF('Producer Data'!$B$40=\"\",\"\",'Producer Data'!$B$40)","v":16}]
[1049,{"$f":"IF('Producer Data'!$J$40=\"\",\"\",'Producer Data'!$J$40)","v":""},{"$f":"IF('Producer Data'!$C$6=\"\",\"\",'Producer Data'!$C$6)","v":"Producer Data"},{"$f":"IF('Producer Data'!$D$23=\"\",\"\",'Producer Data'!$D$23)","v":"Compressive Strength, (psi)"},{"$f":"IF('Producer Data'!$I$22=\"\",\"\",'Producer Data'!$I$22)","v":"D"},{"$f":"IF('Producer Data'!$B$40=\"\",\"\",'Producer Data'!$B$40)","v":16}]
[1050,{"$f":"IF('Producer Data'!$I$41=\"\",\"\",'Producer Data'!$I$41)","v":""},{"$f":"IF('Producer Data'!$C$6=\"\",\"\",'Producer Data'!$C$6)","v":"Producer Data"},{"$f":"IF('Producer Data'!$C$23=\"\",\"\",'Producer Data'!$C$23)","v":"Date"},{"$f":"IF('Producer Data'!$I$22=\"\",\"\",'Producer Data'!$I$22)","v":"D"},{"$f":"IF('Producer Data'!$B$41=\"\",\"\",'Producer Data'!$B$41)","v":17}]
[1051,{"$f":"IF('Producer Data'!$J$41=\"\",\"\",'Producer Data'!$J$41)","v":""},{"$f":"IF('Producer Data'!$C$6=\"\",\"\",'Producer Data'!$C$6)","v":"Producer Data"},{"$f":"IF('Producer Data'!$D$23=\"\",\"\",'Producer Data'!$D$23)","v":"Compressive Strength, (psi)"},{"$f":"IF('Producer Data'!$I$22=\"\",\"\",'Producer Data'!$I$22)","v":"D"},{"$f":"IF('Producer Data'!$B$41=\"\",\"\",'Producer Data'!$B$41)","v":17}]
[1052,{"$f":"IF('Producer Data'!$I$42=\"\",\"\",'Producer Data'!$I$42)","v":""},{"$f":"IF('Producer Data'!$C$6=\"\",\"\",'Producer Data'!$C$6)","v":"Producer Data"},{"$f":"IF('Producer Data'!$C$23=\"\",\"\",'Producer Data'!$C$23)","v":"Date"},{"$f":"IF('Producer Data'!$I$22=\"\",\"\",'Producer Data'!$I$22)","v":"D"},{"$f":"IF('Producer Data'!$B$42=\"\",\"\",'Producer Data'!$B$42)","v":18}]
[1053,{"$f":"IF('Producer Data'!$J$42=\"\",\"\",'Producer Data'!$J$42)","v":""},{"$f":"IF('Producer Data'!$C$6=\"\",\"\",'Producer Data'!$C$6)","v":"Producer Data"},{"$f":"IF('Producer Data'!$D$23=\"\",\"\",'Producer Data'!$D$23)","v":"Compressive Strength, (psi)"},{"$f":"IF('Producer Data'!$I$22=\"\",\"\",'Producer Data'!$I$22)","v":"D"},{"$f":"IF('Producer Data'!$B$42=\"\",\"\",'Producer Data'!$B$42)","v":18}]
[1054,{"$f":"IF('Producer Data'!$I$43=\"\",\"\",'Producer Data'!$I$43)","v":""},{"$f":"IF('Producer Data'!$C$6=\"\",\"\",'Producer Data'!$C$6)","v":"Producer Data"},{"$f":"IF('Producer Data'!$C$23=\"\",\"\",'Producer Data'!$C$23)","v":"Date"},{"$f":"IF('Producer Data'!$I$22=\"\",\"\",'Producer Data'!$I$22)","v":"D"},{"$f":"IF('Producer Data'!$B$43=\"\",\"\",'Producer Data'!$B$43)","v":19}]
[1055,{"$f":"IF('Producer Data'!$J$43=\"\",\"\",'Producer Data'!$J$43)","v":""},{"$f":"IF('Producer Data'!$C$6=\"\",\"\",'Producer Data'!$C$6)","v":"Producer Data"},{"$f":"IF('Producer Data'!$D$23=\"\",\"\",'Producer Data'!$D$23)","v":"Compressive Strength, (psi)"},{"$f":"IF('Producer Data'!$I$22=\"\",\"\",'Producer Data'!$I$22)","v":"D"},{"$f":"IF('Producer Data'!$B$43=\"\",\"\",'Producer Data'!$B$43)","v":19}]
[1056,{"$f":"IF('Producer Data'!$I$44=\"\",\"\",'Producer Data'!$I$44)","v":""},{"$f":"IF('Producer Data'!$C$6=\"\",\"\",'Producer Data'!$C$6)","v":"Producer Data"},{"$f":"IF('Producer Data'!$C$23=\"\",\"\",'Producer Data'!$C$23)","v":"Date"},{"$f":"IF('Producer Data'!$I$22=\"\",\"\",'Producer Data'!$I$22)","v":"D"},{"$f":"IF('Producer Data'!$B$44=\"\",\"\",'Producer Data'!$B$44)","v":20}]
[1057,{"$f":"IF('Producer Data'!$J$44=\"\",\"\",'Producer Data'!$J$44)","v":""},{"$f":"IF('Producer Data'!$C$6=\"\",\"\",'Producer Data'!$C$6)","v":"Producer Data"},{"$f":"IF('Producer Data'!$D$23=\"\",\"\",'Producer Data'!$D$23)","v":"Compressive Strength, (psi)"},{"$f":"IF('Producer Data'!$I$22=\"\",\"\",'Producer Data'!$I$22)","v":"D"},{"$f":"IF('Producer Data'!$B$44=\"\",\"\",'Producer Data'!$B$44)","v":20}]
[1058,{"$f":"IF('Producer Data'!$I$45=\"\",\"\",'Producer Data'!$I$45)","v":""},{"$f":"IF('Producer Data'!$C$6=\"\",\"\",'Producer Data'!$C$6)","v":"Producer Data"},{"$f":"IF('Producer Data'!$C$23=\"\",\"\",'Producer Data'!$C$23)","v":"Date"},{"$f":"IF('Producer Data'!$I$22=\"\",\"\",'Producer Data'!$I$22)","v":"D"},{"$f":"IF('Producer Data'!$B$45=\"\",\"\",'Producer Data'!$B$45)","v":21}]
[1059,{"$f":"IF('Producer Data'!$J$45=\"\",\"\",'Producer Data'!$J$45)","v":""},{"$f":"IF('Producer Data'!$C$6=\"\",\"\",'Producer Data'!$C$6)","v":"Producer Data"},{"$f":"IF('Producer Data'!$D$23=\"\",\"\",'Producer Data'!$D$23)","v":"Compressive Strength, (psi)"},{"$f":"IF('Producer Data'!$I$22=\"\",\"\",'Producer Data'!$I$22)","v":"D"},{"$f":"IF('Producer Data'!$B$45=\"\",\"\",'Producer Data'!$B$45)","v":21}]
[1060,{"$f":"IF('Producer Data'!$I$46=\"\",\"\",'Producer Data'!$I$46)","v":""},{"$f":"IF('Producer Data'!$C$6=\"\",\"\",'Producer Data'!$C$6)","v":"Producer Data"},{"$f":"IF('Producer Data'!$C$23=\"\",\"\",'Producer Data'!$C$23)","v":"Date"},{"$f":"IF('Producer Data'!$I$22=\"\",\"\",'Producer Data'!$I$22)","v":"D"},{"$f":"IF('Producer Data'!$B$46=\"\",\"\",'Producer Data'!$B$46)","v":22}]
[1061,{"$f":"IF('Producer Data'!$J$46=\"\",\"\",'Producer Data'!$J$46)","v":""},{"$f":"IF('Producer Data'!$C$6=\"\",\"\",'Producer Data'!$C$6)","v":"Producer Data"},{"$f":"IF('Producer Data'!$D$23=\"\",\"\",'Producer Data'!$D$23)","v":"Compressive Strength, (psi)"},{"$f":"IF('Producer Data'!$I$22=\"\",\"\",'Producer Data'!$I$22)","v":"D"},{"$f":"IF('Producer Data'!$B$46=\"\",\"\",'Producer Data'!$B$46)","v":22}]
[1062,{"$f":"IF('Producer Data'!$I$47=\"\",\"\",'Producer Data'!$I$47)","v":""},{"$f":"IF('Producer Data'!$C$6=\"\",\"\",'Producer Data'!$C$6)","v":"Producer Data"},{"$f":"IF('Producer Data'!$C$23=\"\",\"\",'Producer Data'!$C$23)","v":"Date"},{"$f":"IF('Producer Data'!$I$22=\"\",\"\",'Producer Data'!$I$22)","v":"D"},{"$f":"IF('Producer Data'!$B$47=\"\",\"\",'Producer Data'!$B$47)","v":23}]
[1063,{"$f":"IF('Producer Data'!$J$47=\"\",\"\",'Producer Data'!$J$47)","v":""},{"$f":"IF('Producer Data'!$C$6=\"\",\"\",'Producer Data'!$C$6)","v":"Producer Data"},{"$f":"IF('Producer Data'!$D$23=\"\",\"\",'Producer Data'!$D$23)","v":"Compressive Strength, (psi)"},{"$f":"IF('Producer Data'!$I$22=\"\",\"\",'Producer Data'!$I$22)","v":"D"},{"$f":"IF('Producer Data'!$B$47=\"\",\"\",'Producer Data'!$B$47)","v":23}]
[1064,{"$f":"IF('Producer Data'!$I$48=\"\",\"\",'Producer Data'!$I$48)","v":""},{"$f":"IF('Producer Data'!$C$6=\"\",\"\",'Producer Data'!$C$6)","v":"Producer Data"},{"$f":"IF('Producer Data'!$C$23=\"\",\"\",'Producer Data'!$C$23)","v":"Date"},{"$f":"IF('Producer Data'!$I$22=\"\",\"\",'Producer Data'!$I$22)","v":"D"},{"$f":"IF('Producer Data'!$B$48=\"\",\"\",'Producer Data'!$B$48)","v":24}]
[1065,{"$f":"IF('Producer Data'!$J$48=\"\",\"\",'Producer Data'!$J$48)","v":""},{"$f":"IF('Producer Data'!$C$6=\"\",\"\",'Producer Data'!$C$6)","v":"Producer Data"},{"$f":"IF('Producer Data'!$D$23=\"\",\"\",'Producer Data'!$D$23)","v":"Compressive Strength, (psi)"},{"$f":"IF('Producer Data'!$I$22=\"\",\"\",'Producer Data'!$I$22)","v":"D"},{"$f":"IF('Producer Data'!$B$48=\"\",\"\",'Producer Data'!$B$48)","v":24}]
[1066,{"$f":"IF('Producer Data'!$G$49=\"\",\"\",'Producer Data'!$G$49)","v":""},{"$f":"IF('Producer Data'!$C$6=\"\",\"\",'Producer Data'!$C$6)","v":"Producer Data"},{"$f":"IF('Producer Data'!$C$23=\"\",\"\",'Producer Data'!$C$23)","v":"Date"},{"$f":"IF('Producer Data'!$I$22=\"\",\"\",'Producer Data'!$I$22)","v":"D"},{"$f":"IF('Producer Data'!$B$49=\"\",\"\",'Producer Data'!$B$49)","v":25}]
[1067,{"$f":"IF('Producer Data'!$F$49=\"\",\"\",'Producer Data'!$F$49)","v":""},{"$f":"IF('Producer Data'!$C$6=\"\",\"\",'Producer Data'!$C$6)","v":"Producer Data"},{"$f":"IF('Producer Data'!$D$23=\"\",\"\",'Producer Data'!$D$23)","v":"Compressive Strength, (psi)"},{"$f":"IF('Producer Data'!$I$22=\"\",\"\",'Producer Data'!$I$22)","v":"D"},{"$f":"IF('Producer Data'!$B$49=\"\",\"\",'Producer Data'!$B$49)","v":25}]
[1068,{"$f":"IF('Non-Vol. Mixers Tolerances'!$F$53=\"\",\"\",'Non-Vol. Mixers Tolerances'!$F$53)","v":0},{"$f":"IF('Non-Vol. Mixers Tolerances'!$B$6=\"\",\"\",'Non-Vol. Mixers Tolerances'!$B$6)","v":"Non-Vol. Mixers Tolerances"},{"$f":"IF('Non-Vol. Mixers Tolerances'!$B$26=\"\",\"\",'Non-Vol. Mixers Tolerances'!$B$26)","v":"MEASUREMENT TOLERANCES -- Non-Volumetric Mixers"},{"$f":"IF('Non-Vol. Mixers Tolerances'!$B$53=\"\",\"\",'Non-Vol. Mixers Tolerances'!$B$53)","v":"Fibers, wt"},{"$f":"IF('Non-Vol. Mixers Tolerances'!$F$27=\"\",\"\",'Non-Vol. Mixers Tolerances'!$F$27)","v":"Batch Weight (lbs/ CY)"}]
[1069,{"$f":"IF('Non-Vol. Mixers Tolerances'!$H$53=\"\",\"\",'Non-Vol. Mixers Tolerances'!$H$53)","v":"0 - 0"},{"$f":"IF('Non-Vol. Mixers Tolerances'!$B$6=\"\",\"\",'Non-Vol. Mixers Tolerances'!$B$6)","v":"Non-Vol. Mixers Tolerances"},{"$f":"IF('Non-Vol. Mixers Tolerances'!$B$26=\"\",\"\",'Non-Vol. Mixers Tolerances'!$B$26)","v":"MEASUREMENT TOLERANCES -- Non-Volumetric Mixers"},{"$f":"IF('Non-Vol. Mixers Tolerances'!$B$53=\"\",\"\",'Non-Vol. Mixers Tolerances'!$B$53)","v":"Fibers, wt"},{"$f":"IF('Non-Vol. Mixers Tolerances'!$H$27=\"\",\"\",'Non-Vol. Mixers Tolerances'!$H$27)","v":"Allowable Batching Weight Range (lbs/ CY)"}]
[1070,{"$f":"IF('Non-Vol. Mixers Tolerances'!$F$54=\"\",\"\",'Non-Vol. Mixers Tolerances'!$F$54)","v":0},{"$f":"IF('Non-Vol. Mixers Tolerances'!$B$6=\"\",\"\",'Non-Vol. Mixers Tolerances'!$B$6)","v":"Non-Vol. Mixers Tolerances"},{"$f":"IF('Non-Vol. Mixers Tolerances'!$B$26=\"\",\"\",'Non-Vol. Mixers Tolerances'!$B$26)","v":"MEASUREMENT TOLERANCES -- Non-Volumetric Mixers"},{"$f":"IF('Non-Vol. Mixers Tolerances'!$B$54=\"\",\"\",'Non-Vol. Mixers Tolerances'!$B$54)","v":"Other, wt"},{"$f":"IF('Non-Vol. Mixers Tolerances'!$F$27=\"\",\"\",'Non-Vol. Mixers Tolerances'!$F$27)","v":"Batch Weight (lbs/ CY)"}]
[1071,{"$f":"IF('Non-Vol. Mixers Tolerances'!$H$54=\"\",\"\",'Non-Vol. Mixers Tolerances'!$H$54)","v":"0 - 0"},{"$f":"IF('Non-Vol. Mixers Tolerances'!$B$6=\"\",\"\",'Non-Vol. Mixers Tolerances'!$B$6)","v":"Non-Vol. Mixers Tolerances"},{"$f":"IF('Non-Vol. Mixers Tolerances'!$B$26=\"\",\"\",'Non-Vol. Mixers Tolerances'!$B$26)","v":"MEASUREMENT TOLERANCES -- Non-Volumetric Mixers"},{"$f":"IF('Non-Vol. Mixers Tolerances'!$B$54=\"\",\"\",'Non-Vol. Mixers Tolerances'!$B$54)","v":"Other, wt"},{"$f":"IF('Non-Vol. Mixers Tolerances'!$H$27=\"\",\"\",'Non-Vol. Mixers Tolerances'!$H$27)","v":"Allowable Batching Weight Range (lbs/ CY)"}]
[1072,{"$f":"IF('Non-Vol. Mixers Tolerances'!$F$83=\"\",\"\",'Non-Vol. Mixers Tolerances'!$F$83)","v":0},{"$f":"IF('Non-Vol. Mixers Tolerances'!$B$6=\"\",\"\",'Non-Vol. Mixers Tolerances'!$B$6)","v":"Non-Vol. Mixers Tolerances"},{"$f":"IF('Non-Vol. Mixers Tolerances'!$B$56=\"\",\"\",'Non-Vol. Mixers Tolerances'!$B$56)","v":"MEASUREMENT TOLERANCES (CUMULATIVE WEIGHING) -- Non-Volumetric Mixers "},{"$f":"IF('Non-Vol. Mixers Tolerances'!$B$83=\"\",\"\",'Non-Vol. Mixers Tolerances'!$B$83)","v":"Fibers, wt"},{"$f":"IF('Non-Vol. Mixers Tolerances'!$F$57=\"\",\"\",'Non-Vol. Mixers Tolerances'!$F$57)","v":"Batch Weight (lbs/ CY)"}]
[1073,{"$f":"IF('Non-Vol. Mixers Tolerances'!$H$83=\"\",\"\",'Non-Vol. Mixers Tolerances'!$H$83)","v":"0 - 0"},{"$f":"IF('Non-Vol. Mixers Tolerances'!$B$6=\"\",\"\",'Non-Vol. Mixers Tolerances'!$B$6)","v":"Non-Vol. Mixers Tolerances"},{"$f":"IF('Non-Vol. Mixers Tolerances'!$B$56=\"\",\"\",'Non-Vol. Mixers Tolerances'!$B$56)","v":"MEASUREMENT TOLERANCES (CUMULATIVE WEIGHING) -- Non-Volumetric Mixers "},{"$f":"IF('Non-Vol. Mixers Tolerances'!$B$83=\"\",\"\",'Non-Vol. Mixers Tolerances'!$B$83)","v":"Fibers, wt"},{"$f":"IF('Non-Vol. Mixers Tolerances'!$H$57=\"\",\"\",'Non-Vol. Mixers Tolerances'!$H$57)","v":"Allowable Batching Weight Range (lbs/ CY)"}]
[1074,{"$f":"IF('Non-Vol. Mixers Tolerances'!$F$84=\"\",\"\",'Non-Vol. Mixers Tolerances'!$F$84)","v":0},{"$f":"IF('Non-Vol. Mixers Tolerances'!$B$6=\"\",\"\",'Non-Vol. Mixers Tolerances'!$B$6)","v":"Non-Vol. Mixers Tolerances"},{"$f":"IF('Non-Vol. Mixers Tolerances'!$B$56=\"\",\"\",'Non-Vol. Mixers Tolerances'!$B$56)","v":"MEASUREMENT TOLERANCES (CUMULATIVE WEIGHING) -- Non-Volumetric Mixers "},{"$f":"IF('Non-Vol. Mixers Tolerances'!$B$84=\"\",\"\",'Non-Vol. Mixers Tolerances'!$B$84)","v":"Other, wt"},{"$f":"IF('Non-Vol. Mixers Tolerances'!$F$57=\"\",\"\",'Non-Vol. Mixers Tolerances'!$F$57)","v":"Batch Weight (lbs/ CY)"}]
[1075,{"$f":"IF('Non-Vol. Mixers Tolerances'!$H$84=\"\",\"\",'Non-Vol. Mixers Tolerances'!$H$84)","v":"0 - 0"},{"$f":"IF('Non-Vol. Mixers Tolerances'!$B$6=\"\",\"\",'Non-Vol. Mixers Tolerances'!$B$6)","v":"Non-Vol. Mixers Tolerances"},{"$f":"IF('Non-Vol. Mixers Tolerances'!$B$56=\"\",\"\",'Non-Vol. Mixers Tolerances'!$B$56)","v":"MEASUREMENT TOLERANCES (CUMULATIVE WEIGHING) -- Non-Volumetric Mixers "},{"$f":"IF('Non-Vol. Mixers Tolerances'!$B$84=\"\",\"\",'Non-Vol. Mixers Tolerances'!$B$84)","v":"Other, wt"},{"$f":"IF('Non-Vol. Mixers Tolerances'!$H$57=\"\",\"\",'Non-Vol. Mixers Tolerances'!$H$57)","v":"Allowable Batching Weight Range (lbs/ CY)"}]
[1076,{"$f":"IF('Vol. Mixers Tolerances'!$F$53=\"\",\"\",'Vol. Mixers Tolerances'!$F$53)","v":0},{"$f":"IF('Vol. Mixers Tolerances'!$B$6=\"\",\"\",'Vol. Mixers Tolerances'!$B$6)","v":"Vol. Mixers Tolerances"},{"$f":"IF('Vol. Mixers Tolerances'!$B$26=\"\",\"\",'Vol. Mixers Tolerances'!$B$26)","v":"MEASUREMENT TOLERANCES -- Volumetric Mixers"},{"$f":"IF('Vol. Mixers Tolerances'!$B$53=\"\",\"\",'Vol. Mixers Tolerances'!$B$53)","v":"Fibers, wt"},{"$f":"IF('Vol. Mixers Tolerances'!$F$27=\"\",\"\",'Vol. Mixers Tolerances'!$F$27)","v":"Batch Weight (lbs/ CY)"}]
[1077,{"$f":"IF('Vol. Mixers Tolerances'!$H$53=\"\",\"\",'Vol. Mixers Tolerances'!$H$53)","v":"0 - 0"},{"$f":"IF('Vol. Mixers Tolerances'!$B$6=\"\",\"\",'Vol. Mixers Tolerances'!$B$6)","v":"Vol. Mixers Tolerances"},{"$f":"IF('Vol. Mixers Tolerances'!$B$26=\"\",\"\",'Vol. Mixers Tolerances'!$B$26)","v":"MEASUREMENT TOLERANCES -- Volumetric Mixers"},{"$f":"IF('Vol. Mixers Tolerances'!$B$53=\"\",\"\",'Vol. Mixers Tolerances'!$B$53)","v":"Fibers, wt"},{"$f":"IF('Vol. Mixers Tolerances'!$H$27=\"\",\"\",'Vol. Mixers Tolerances'!$H$27)","v":"Allowable Batching Weight Range (lbs/ CY)"}]
[1078,{"$f":"IF('Vol. Mixers Tolerances'!$F$54=\"\",\"\",'Vol. Mixers Tolerances'!$F$54)","v":0},{"$f":"IF('Vol. Mixers Tolerances'!$B$6=\"\",\"\",'Vol. Mixers Tolerances'!$B$6)","v":"Vol. Mixers Tolerances"},{"$f":"IF('Vol. Mixers Tolerances'!$B$26=\"\",\"\",'Vol. Mixers Tolerances'!$B$26)","v":"MEASUREMENT TOLERANCES -- Volumetric Mixers"},{"$f":"IF('Vol. Mixers Tolerances'!$B$54=\"\",\"\",'Vol. Mixers Tolerances'!$B$54)","v":"Other, wt"},{"$f":"IF('Vol. Mixers Tolerances'!$F$27=\"\",\"\",'Vol. Mixers Tolerances'!$F$27)","v":"Batch Weight (lbs/ CY)"}]
[1079,{"$f":"IF('Vol. Mixers Tolerances'!$H$54=\"\",\"\",'Vol. Mixers Tolerances'!$H$54)","v":"0 - 0"},{"$f":"IF('Vol. Mixers Tolerances'!$B$6=\"\",\"\",'Vol. Mixers Tolerances'!$B$6)","v":"Vol. Mixers Tolerances"},{"$f":"IF('Vol. Mixers Tolerances'!$B$26=\"\",\"\",'Vol. Mixers Tolerances'!$B$26)","v":"MEASUREMENT TOLERANCES -- Volumetric Mixers"},{"$f":"IF('Vol. Mixers Tolerances'!$B$54=\"\",\"\",'Vol. Mixers Tolerances'!$B$54)","v":"Other, wt"},{"$f":"IF('Vol. Mixers Tolerances'!$H$27=\"\",\"\",'Vol. Mixers Tolerances'!$H$27)","v":"Allowable Batching Weight Range (lbs/ CY)"}]
[1080,{"$f":"IF('Matl Properties'!$H$24=\"\",\"\",'Matl Properties'!$H$24)","v":" "},{"$f":"IF('Matl Properties'!$B$6=\"\",\"\",'Matl Properties'!$B$6)","v":"Material Properties"},{"$f":"IF('Matl Properties'!$B$21=\"\",\"\",'Matl Properties'!$B$21)","v":"AGGREGATE PROPERTIES (FROM LABORATORY TESTING)"},{"$f":"IF('Matl Properties'!$B$24=\"\",\"\",'Matl Properties'!$B$24)","v":"Coarse Aggregate 1:"},{"$f":"IF('Matl Properties'!$H$22=\"\",\"\",'Matl Properties'!$H$22)","v":"Unit Weight (SSD)"}]
[1081,{"$f":"IF('Matl Properties'!$H$25=\"\",\"\",'Matl Properties'!$H$25)","v":" "},{"$f":"IF('Matl Properties'!$B$6=\"\",\"\",'Matl Properties'!$B$6)","v":"Material Properties"},{"$f":"IF('Matl Properties'!$B$21=\"\",\"\",'Matl Properties'!$B$21)","v":"AGGREGATE PROPERTIES (FROM LABORATORY TESTING)"},{"$f":"IF('Matl Properties'!$B$25=\"\",\"\",'Matl Properties'!$B$25)","v":"Coarse Aggregate 2:"},{"$f":"IF('Matl Properties'!$H$22=\"\",\"\",'Matl Properties'!$H$22)","v":"Unit Weight (SSD)"}]
[1082,{"$f":"IF('Matl Properties'!$H$26=\"\",\"\",'Matl Properties'!$H$26)","v":" "},{"$f":"IF('Matl Properties'!$B$6=\"\",\"\",'Matl Properties'!$B$6)","v":"Material Properties"},{"$f":"IF('Matl Properties'!$B$21=\"\",\"\",'Matl Properties'!$B$21)","v":"AGGREGATE PROPERTIES (FROM LABORATORY TESTING)"},{"$f":"IF('Matl Properties'!$B$26=\"\",\"\",'Matl Properties'!$B$26)","v":"Intermediate Aggregate 1:"},{"$f":"IF('Matl Properties'!$H$22=\"\",\"\",'Matl Properties'!$H$22)","v":"Unit Weight (SSD)"}]
[1083,{"$f":"IF('Matl Properties'!$H$27=\"\",\"\",'Matl Properties'!$H$27)","v":" "},{"$f":"IF('Matl Properties'!$B$6=\"\",\"\",'Matl Properties'!$B$6)","v":"Material Properties"},{"$f":"IF('Matl Properties'!$B$21=\"\",\"\",'Matl Properties'!$B$21)","v":"AGGREGATE PROPERTIES (FROM LABORATORY TESTING)"},{"$f":"IF('Matl Properties'!$B$27=\"\",\"\",'Matl Properties'!$B$27)","v":"Intermediate Aggregate 2:"},{"$f":"IF('Matl Properties'!$H$22=\"\",\"\",'Matl Properties'!$H$22)","v":"Unit Weight (SSD)"}]
[1084,{"$f":"IF('Mix Design'!$E$89=\"\",\"\",'Mix Design'!$E$89)","v":""},{"$f":"IF('Mix Design'!$B$6=\"\",\"\",'Mix Design'!$B$6)","v":"Mix Design"},{"$f":"IF('Mix Design'!$B$84=\"\",\"\",'Mix Design'!$B$84)","v":"Optimized Aggregates"},{"$f":"IF('Mix Design'!$C$89=\"\",\"\",'Mix Design'!$C$89)","v":"Fine Aggregate 1:"},{"$f":"IF('Mix Design'!$E$51=\"\",\"\",'Mix Design'!$E$51)","v":"Type/Class/\nGrade"}]
[1085,{"$f":"IF('Mix Design'!$E$90=\"\",\"\",'Mix Design'!$E$90)","v":""},{"$f":"IF('Mix Design'!$B$6=\"\",\"\",'Mix Design'!$B$6)","v":"Mix Design"},{"$f":"IF('Mix Design'!$B$84=\"\",\"\",'Mix Design'!$B$84)","v":"Optimized Aggregates"},{"$f":"IF('Mix Design'!$C$90=\"\",\"\",'Mix Design'!$C$90)","v":"Fine Aggregate 2:"},{"$f":"IF('Mix Design'!$E$51=\"\",\"\",'Mix Design'!$E$51)","v":"Type/Class/\nGrade"}]
[1086,{"$f":"IF('Mix Design'!$E$82=\"\",\"\",'Mix Design'!$E$82)","v":""},{"$f":"IF('Mix Design'!$B$6=\"\",\"\",'Mix Design'!$B$6)","v":"Mix Design"},{"$f":"IF('Mix Design'!$B$77=\"\",\"\",'Mix Design'!$B$77)","v":"Non Optimized Aggregates"},{"$f":"IF('Mix Design'!$C$82=\"\",\"\",'Mix Design'!$C$82)","v":"Fine Aggregate 1:"},{"$f":"IF('Mix Design'!$E$51=\"\",\"\",'Mix Design'!$E$51)","v":"Type/Class/\nGrade"}]
[1087,{"$f":"IF('Mix Design'!$H$82=\"\",\"\",'Mix Design'!$H$82)","v":""},{"$f":"IF('Mix Design'!$B$6=\"\",\"\",'Mix Design'!$B$6)","v":"Mix Design"},{"$f":"IF('Mix Design'!$B$77=\"\",\"\",'Mix Design'!$B$77)","v":"Non Optimized Aggregates"},{"$f":"IF('Mix Design'!$C$82=\"\",\"\",'Mix Design'!$C$82)","v":"Fine Aggregate 1:"},{"$f":"IF('Mix Design'!$H$51=\"\",\"\",'Mix Design'!$H$51)","v":"% or Dosage*"}]
[1088,{"$f":"IF('Mix Design'!$E$83=\"\",\"\",'Mix Design'!$E$83)","v":""},{"$f":"IF('Mix Design'!$B$6=\"\",\"\",'Mix Design'!$B$6)","v":"Mix Design"},{"$f":"IF('Mix Design'!$B$77=\"\",\"\",'Mix Design'!$B$77)","v":"Non Optimized Aggregates"},{"$f":"IF('Mix Design'!$C$83=\"\",\"\",'Mix Design'!$C$83)","v":"Fine Aggregate 2:"},{"$f":"IF('Mix Design'!$E$51=\"\",\"\",'Mix Design'!$E$51)","v":"Type/Class/\nGrade"}]
[1089,{"$f":"IF('Mix Design'!$H$83=\"\",\"\",'Mix Design'!$H$83)","v":""},{"$f":"IF('Mix Design'!$B$6=\"\",\"\",'Mix Design'!$B$6)","v":"Mix Design"},{"$f":"IF('Mix Design'!$B$77=\"\",\"\",'Mix Design'!$B$77)","v":"Non Optimized Aggregates"},{"$f":"IF('Mix Design'!$C$83=\"\",\"\",'Mix Design'!$C$83)","v":"Fine Aggregate 2:"},{"$f":"IF('Mix Design'!$H$51=\"\",\"\",'Mix Design'!$H$51)","v":"% or Dosage*"}]
[1090,{"$f":"IF(TestPerson1=\"\",\"\",TestPerson1)","v":""},"Tested By","TX415"]
[1091,{"$f":"IF(TestPerson2=\"\",\"\",TestPerson2)","v":""},"Tested By","TX422"]
[1092,{"$f":"IF(TestPerson3=\"\",\"\",TestPerson3)","v":""},"Tested By","TX414"]
[1093,{"$f":"IF(TestPerson4=\"\",\"\",TestPerson4)","v":""},"Tested By","TX416"]
[1094,{"$f":"IF(TestPerson5=\"\",\"\",TestPerson5)","v":""},"Tested By","TX417"]
[1095,{"$f":"IF(TestPerson6=\"\",\"\",TestPerson6)","v":""},"Tested By","TX418"]
[1096,{"$f":"IF(TestPerson7=\"\",\"\",TestPerson7)","v":""},"Tested By","TX448"]
[1097,{"$f":"IF(TestDate1=\"\",\"\",TestDate1)","v":""},"Tested Date","TX415"]
[1098,{"$f":"IF(TestDate2=\"\",\"\",TestDate2)","v":""},"Tested Date","TX422"]
[1099,{"$f":"IF(TestDate3=\"\",\"\",TestDate3)","v":""},"Tested Date","TX414"]
[1100,{"$f":"IF(TestDate4=\"\",\"\",TestDate4)","v":""},"Tested Date","TX416"]
[1101,{"$f":"IF(TestDate5=\"\",\"\",TestDate5)","v":""},"Tested Date","TX417"]
[1102,{"$f":"IF(TestDate6=\"\",\"\",TestDate6)","v":""},"Tested Date","TX418"]
[1103,{"$f":"IF(TestPerson7=\"\",\"\",TestPerson7)","v":""},"Tested Date","TX448"]

{"sheet":"Revisions","index":12,"n_rows":165,"n_cols":7,"rows_kept":165,"cut":false,"hidden":true,"merged":[]}
["Date","Changes","By"]
["2010-05-01",null,"HUA CHEN"]
[]
[null,"Revisions for HCCMXDES2.XLS WORKSHEET"]
[]
[null,"1. Added references for titles cells for seven tabs using Mix Design Tab input"]
[]
[null,"2. Mix Design Tab"]
[]
[null,"Cell I77"]
[null,"=IF(I74=\"\",\"\",27-I75-I76-I74)"]
[null,"Instead of 27 - cement -water Changd to sum of input volumes for aggregates"]
[null,"=IF(ISBLANK(I78),\"\",SUM(I78:I83))"]
[]
[null,"Cell H41"]
[null,"=IF(COUNTBLANK(H34:H40)=7,\"\",IF(ConcreteClass=\"P\",0,IF(N(H40)<15,IF(N(H36)<3000,1000,IF(AND(N(H36)>=3000,N(H36)<=5000),1200,1400)),IF(AND(N(H40)>=15,N(H40)<20),O38,IF(AND(N(H40)>=20,N(H40)<30),O39,O40)))))"]
[null,"Class P still have over design"]
[null,"Changed to"]
[null,"=IF(COUNTBLANK(H34:H40)=7,\"\",IF(ConcreteClass=\"CLASS P\",0,IF(N(H40)<15,IF(N(H36)<3000,1000,IF(AND(N(H36)>=3000,N(H36)<=5000),1200,1400)),IF(AND(N(H40)>=15,N(H40)<20),O38,IF(AND(N(H40)>=20,N(H40)<30),O39,O40)))))"]
[]
[null,"Cell L97"]
[]
[null,"=IF(ISERROR(N(K93)/(N(I96)-N(I72)-N(I73))),\"\",(ROUND((N(K93)/(N(I96)-N(I72)-N(I73))),1)))"]
[null,"Changed to"]
[null,"Subtract total Air Content"]
[]
[null,"=IF(ISERROR(N(K93)/(N(I96)-N(I72)-N(I73))),\"\",(ROUND((N(K93)/(N(I96)-N(I72)-N(I73))),1)))"]
[]
[null,"Cell B50 added text"]
[null,"For Non-ACI 211 Mix Proptions, input below cells. For ACI 211 Design go to Matl Propterties Tab and Mix Proportions via ACI 211 Tab"]
[null,"So, these input cells will not used as input for ACI 211 Tab, only for Non-ACI 211 design."]
[]
[null,"Account the water contributions from Lithium Nitrate Admixture and Corrosion Inhibitor."]
[null,"Cell L70 added"]
[null,"=IF(ISBLANK(H70),\"\", \"Input at Left - Water Contribution (lbs/CY) \")"]
[null,"Cell 69 added"]
[null,"=IF(ISBLANK(H69),\"\", \"Input at Left - Water Contribution (lbs/CY) \")"]
[null,"Cell F53"]
[null,"=IF(K53=\"\",\"\",IF((N(K52)+N(K69)+N(K70))/N(K53)=<N(H47),\"\",CONCATENATE(\"Exceeds Controlling W/Cm! \")))"]
[null,"So use the total water (sum of Basic water + water from Lithium+ water from Corrosion) for W/Cm ratio"]
[]
[]
[null,"3. Materials Properties TAB"]
[null,"Cells: H24 to H27"]
[null,"Added Unit Weight (SSD) for coarse and intermediate aggregates"]
[]
[null,"4.Mix Proportions via ACI 211 Tab"]
[null,"Cell D57 changed label to Specified Water"]
[null,"Cell E57  changed equations to input water, user has the option to specify the water"]
[null,"Cell E58 changed equations to input Cement weight"]
[null,"Cell G58 added"]
[null,"=IF(E58=\"\",\"\",IF((N(L57)+N(L74)+N(L75))/N(E58)<=N(H53),\"\",CONCATENATE(\"Exceeds Controlling W/Cm! \")))"]
[]
[null,"Cell I 58 added"]
[null,"=IF(E58=\"\",\"\",IF((E58)<='Mix Design'!H48,\"\",CONCATENATE(\"Cementitious content exceeds max! \")))"]
[]
[]
[null,"G56 changed from fl oz. to fl oz./CY"]
[]
[]
[null,"Cells  K80 and K81"]
[]
[null,"=IF(H81=\"\",\"\",ROUND((L81/H81),2))"]
[null,"Added 62.4*"]
[null," =IF(H81=\"\",\"\",ROUND((L81/(62.4*H81)),2))"]
[]
[null,"Cells H86 to H89"]
[null,"=IF('Matl Properties'!D27=\"\",\"\",'Matl Properties'!D27)"]
[null,"Changed D24-27 to H24 to H27 using SSD unit weight for CA SSD weight"]
[null,"=IF('Matl Properties'!H27=\"\",\"\",'Matl Properties'!H27)"]
[]
[null,"Cell H62"]
[null,"=IF('Matl Properties'!$C36=\"\",\"\",'Matl Properties'!$C36)"]
[null,"Changed to"]
[null,"=IF('Matl Properties'!$C37=\"\",\"\",'Matl Properties'!$C37)"]
[]
[]
[null,"Cell H63"]
[null,"=IF('Matl Properties'!$C37=\"\",\"\",'Matl Properties'!$C37)"]
[null,"Changed to"]
[null,"=IF('Matl Properties'!$C38=\"\",\"\",'Matl Properties'!$C38)"]
[]
[null,"Cell H64"]
[null,"=IF('Matl Properties'!$C38=\"\",\"\",'Matl Properties'!$C38)"]
[null,"Changed to"]
[null,"=IF('Matl Properties'!$C39=\"\",\"\",'Matl Properties'!$C39)"]
[]
[null,"Cell H65"]
[null,"=IF('Matl Properties'!$C39=\"\",\"\",'Matl Properties'!$C39)"]
[null,"Changed to"]
[null,"=IF('Matl Properties'!$C40=\"\",\"\",'Matl Properties'!$C40)"]
[]
[null,"Cell H66"]
[null,"=IF('Matl Properties'!$C40=\"\",\"\",'Matl Properties'!$C40)"]
[null,"Changed to"]
[null,"=IF('Matl Properties'!$C41=\"\",\"\",'Matl Properties'!$C41)"]
[]
[null,"Cells G67 TO G75 "]
[null,"Changed as inputs, not from Mix Design Tab"]
[]
[null,"Cells H80 and H81"]
[null,"=IF('Matl Properties'!ED45=\"\",\"\",'Matl Properties'!ED45)"]
[null,"Changed Column ED to Column D"]
[null,"=IF('Matl Properties'!D45=\"\",\"\",'Matl Properties'!D45)"]
[]
[null,"L74, L75 added equations for water from Lithium and Corrosion inhibitor"]
[null,"=IF(ISBLANK(G75),\"\",K75*62.4*(1-'Matl Properties'!H41/100))"]
[]
[null,"Cells L80 and L81"]
[null,"Changed as inputs, not from Mix Design Tab"]
[]
[null,"Cell J102"]
[null,"=IF(ISERROR(K76+K78+SUM(K86:K89)+SUM(K93:K94)),\"\",K76+K78+SUM(K86:K89)+SUM(K93:K94))"]
[null,"Added Specified Entapped Air K79=K76+K77+K78"]
[null,"=IF(ISERROR(K79+SUM(K86:K89)+SUM(K93:K94)),\"\",K79+SUM(K86:K89)+SUM(K93:K94))"]
[]
[null,"5. Non-Vol.Mixesr Tolerances Tab"]
[]
[null,"Cell B24"]
[null,"Free (Surface) Moisture (%) "]
[null,"Changed to Free Moisture ( + ) or Absorption ( - ) (%)"]
[]
[null,"Cell L37 "]
[]
[null,"=ROUND((((N('Mix Proportions via ACI 211'!$L$57)-N('Mix Proportions via ACI 211'!$L$86)*E25-N('Mix Proportions via ACI 211'!$L$87)*F25-N('Mix Proportions via ACI 211'!$L$88)*G25-N('Mix Proportions via ACI 211'!$L$89)*H25-N('Mix Proportions via ACI 211'!$L$93)*I25-N('Mix Proportions via ACI 211'!$L$94)*J25-N('Mix Proportions via ACI 211'!O76))*$D$21)-G21),0)"]
[]
[null,"Changed to"]
[]
[null,"=ROUND((((N('Mix Proportions via ACI 211'!$L$57)-N('Mix Proportions via ACI 211'!$L$86)*E24/100-N('Mix Proportions via ACI 211'!$L$87)*F24/100-N('Mix Proportions via ACI 211'!$L$88)*G24/100-N('Mix Proportions via ACI 211'!$L$89)*H24/100-N('Mix Proportions via ACI 211'!$L$93)*I24/100-N('Mix Proportions via ACI 211'!$L$94)*J24/100-N('Mix Proportions via ACI 211'!O76))*$D$21)-G21),0)"]
[null,"Frees water from CA, IA, FA  from ACI 211 tab"]
[]
[null,"Cell M37"]
[]
[null,"=ROUND((((N('Mix Design'!$K$52)-N('Mix Design'!$K$78)*E25-N('Mix Design'!$K$79)*F25-N('Mix Design'!$K$80)*G25-N('Mix Design'!$K$81)*H25-N('Mix Design'!$K$82)*I25-N('Mix Design'!$K$83)*J25-N('Mix Proportions via ACI 211'!O76))*$D$21)-G21),0)"]
[]
[null,"Changed to"]
[null,"=ROUND((((N('Mix Design'!$K$52)-N('Mix Design'!$K$78)*E24/100-N('Mix Design'!$K$79)*F24/100-N('Mix Design'!$K$80)*G24/100-N('Mix Design'!$K$81)*H24/100-N('Mix Design'!$K$82)*I24/100-N('Mix Design'!$K$83)*J24/100-N('Mix Proportions via ACI 211'!O76))*$D$21)-G21),0)"]
[null,"Frees water from CA, IA, FA  from Mix Design Tab"]
[]
[null,"Row 53, Row 54, Row 83, Row 84 added Fibers"]
[null,"Fibers, wt","±2"," "," ","0 - 0","NA"]
[null,"Other, wt","±2"," "," ","0 - 0","NA"]
[]
[]
[null,"6. Vol.Mixesr Tolerances Tab"]
[]
[null,"Same changes for Cell B24, Cell L37 and Cell M37 as Non-Vol.Mixesr Tolerances Tab"]
[null,"Added Row 53 and Row 54 for Fibers"]
[]
[null,"7. Trial Batch Tab -"]
[]
[null,"Cell J28"]
[]
[null,"=IF('Mix Proportions via ACI 211'!L104=0,CONCATENATE('Mix Design'!L98,\" lb/ft³\"),CONCATENATE('Mix Proportions via ACI 211'!L104,\" lb/ft³\"))"]
[]
[null,"Changed to get unit weight from Mix Design Tab first, then from ACI 211 tab"]
[]
[null,"=IF('Mix Design'!L98=0,CONCATENATE('Mix Proportions via ACI 211'!L104,\" lb/ft³\"),CONCATENATE(' Mix Design'!L98,\" lb/ft³\"))"]
[]
["2011-01-11","Unlocked fields for Fine Aggregate on MIX DESIGN sheet. Rows 82 & 83 Column H & F. Also added to UPLC","SHD"]
[]
["2011-01-11","1. Delete text at Cell B50 at MIX DESIGN sheet","Hua Chen"]
[null,"2. Add ROUND(*****,2) for Cell F53 at MIX DESIGN sheet, and Cell G58 at Mix Proportion ACI211 sheet\nWhen w/c = 0.454, will not have warning for exceed w/c=0.45"]
[null,"3.Corrected Cell O39 MIX Design sheet in accordance with Table 6. (470 to 430, 620 to 580, 850 to 760, 1120 to 1010, 1390 to 1260)"]
[null,"4.Add IF(G25=\"\",\"\",G25) at Cell H34 MIX DESIGN sheet.So, for Class SS concrete, when no input for strength, will not have over design."]

{"sheet":"Hidden Tables","index":13,"n_rows":113,"n_cols":14,"rows_kept":113,"cut":false,"hidden":true,"merged":[[30,0,30,2],[30,3,31,3],[29,0,29,3],[8,10,9,10]]}
["2004 Concrete Classes"]
["Class","Strength","W/C","Max. Nominal Aggregate","Min. Nominal Aggregate",null,null,"Length to Diameter Ratio","Correction Factor",null,null,null,null,"Select Water Adjustment Percentage"]
["CLASS A",{"$f":"IF(ISNUMBER('2004, Item 421 Info'!$B$8),'2004, Item 421 Info'!$B$8,\"Input at right\")","v":3000},{"$f":"IF(ISNUMBER('2004, Item 421 Info'!$C$8),'2004, Item 421 Info'!$C$8,\"Input at right\")","v":0.6},2,0.375,null,null,1,0.87,null,null,null,null,-30]
["CLASS B",{"$f":"IF(ISNUMBER('2004, Item 421 Info'!$B$9),'2004, Item 421 Info'!$B$9,\"Input at right\")","v":2000},{"$f":"IF(ISNUMBER('2004, Item 421 Info'!$C$9),'2004, Item 421 Info'!$C$9,\"Input at right\")","v":0.6},1.5,0.375,null,null,1.01,0.87239999999999995,null,null,null,null,-29]
["CLASS C",{"$f":"IF(ISNUMBER('2004, Item 421 Info'!$B$10),'2004, Item 421 Info'!$B$10,\"Input at right\")","v":3600},{"$f":"IF(ISNUMBER('2004, Item 421 Info'!$C$10),'2004, Item 421 Info'!$C$10,\"Input at right\")","v":0.45},2,0.5,null,null,1.02,0.87480000000000002,null,null,null,null,-28]
["CLASS C(HPC)",{"$f":"IF(ISNUMBER('2004, Item 421 Info'!$B$10),'2004, Item 421 Info'!$B$10,\"Input at right\")","v":3600},{"$f":"IF(ISNUMBER('2004, Item 421 Info'!$C$10),'2004, Item 421 Info'!$C$10,\"Input at right\")","v":0.45},2,0.5,null,null,1.03,0.87719999999999998,null,null,null,null,-27]
["CLASS CO",{"$f":"IF(ISNUMBER('2004, Item 421 Info'!$B$22),'2004, Item 421 Info'!$B$22,\"Input at right\")","v":4600},{"$f":"IF(ISNUMBER('2004, Item 421 Info'!$C$22),'2004, Item 421 Info'!$C$22,\"Input at right\")","v":0.4},0.5,0.5,null,null,1.04,8.9599999999999999E-2,null,null,null,null,-26]
["CLASS D",{"$f":"IF(ISNUMBER('2004, Item 421 Info'!$B$12),'2004, Item 421 Info'!$B$12,\"Input at right\")","v":1500},{"$f":"IF(ISNUMBER('2004, Item 421 Info'!$C$12),'2004, Item 421 Info'!$C$12,\"Input at right\")","v":0.6},1.5,0.375,null,null,1.05,0.88200000000000001,null,null,null,null,-25]
["CLASS DC",{"$f":"IF(ISNUMBER('2004, Item 421 Info'!$B$21),'2004, Item 421 Info'!$B$21,\"Input at right\")","v":5500},{"$f":"IF(ISNUMBER('2004, Item 421 Info'!$C$21),'2004, Item 421 Info'!$C$21,\"Input at right\")","v":0.4},0.5,0.5,null,null,1.06,0.88439999999999996,null,"Failure Types",null,null,-24]
["CLASS E",{"$f":"IF(ISNUMBER('2004, Item 421 Info'!$B$13),'2004, Item 421 Info'!$B$13,\"Input at right\")","v":3000},{"$f":"IF(ISNUMBER('2004, Item 421 Info'!$C$13),'2004, Item 421 Info'!$C$13,\"Input at right\")","v":0.5},1.5,0.75,null,null,1.07,0.88680000000000003,null,null,null,null,-23]
["CLASS F",{"$f":"IF(ISNUMBER('2004, Item 421 Info'!$B$14),'2004, Item 421 Info'!$B$14,\"Input at right\")","v":"Input at right"},{"$f":"IF(ISNUMBER('2004, Item 421 Info'!$C$14),'2004, Item 421 Info'!$C$14,\"Input at right\")","v":0.45},1.5,0.75,null,null,1.08,0.88919999999999999,null,"Type 1",null,null,-22]
["CLASS F(HPC)",{"$f":"IF(ISNUMBER('2004, Item 421 Info'!$B$14),'2004, Item 421 Info'!$B$14,\"Input at right\")","v":"Input at right"},{"$f":"IF(ISNUMBER('2004, Item 421 Info'!$C$14),'2004, Item 421 Info'!$C$14,\"Input at right\")","v":0.45},1.5,0.75,null,null,1.0900000000000001,0.89159999999999995,null,"Type 2",null,null,-21]
["CLASS H",{"$f":"IF(ISNUMBER('2004, Item 421 Info'!$B$16),'2004, Item 421 Info'!$B$16,\"Input at right\")","v":"Input at right"},{"$f":"IF(ISNUMBER('2004, Item 421 Info'!$C$16),'2004, Item 421 Info'!$C$16,\"Input at right\")","v":0.45},1.5,0.5,null,null,1.1000000000000001,0.89400000000000002,null,"Type 3",null,null,-20]
["CLASS H(HPC)",{"$f":"IF(ISNUMBER('2004, Item 421 Info'!$B$16),'2004, Item 421 Info'!$B$16,\"Input at right\")","v":"Input at right"},{"$f":"IF(ISNUMBER('2004, Item 421 Info'!$C$16),'2004, Item 421 Info'!$C$16,\"Input at right\")","v":0.45},1.5,0.5,null,null,1.1100000000000001,0.89639999999999997,null,"Type 4",null,null,-19]
["CLASS HES",{"$f":"IF(ISNUMBER('2004, Item 421 Info'!$B$26),'2004, Item 421 Info'!$B$26,\"Input at right\")","v":"Input at right"},{"$f":"IF(ISNUMBER('2004, Item 421 Info'!$C$26),'2004, Item 421 Info'!$C$26,\"Input at right\")","v":0.45},"Input at right","Input at right",null,null,1.1200000000000001,0.89880000000000004,null,"Type 5",null,null,-18]
["CLASS K",{"$f":"IF(ISNUMBER('2004, Item 421 Info'!$B$25),'2004, Item 421 Info'!$B$25,\"Input at right\")","v":"Input at right"},{"$f":"IF(ISNUMBER('2004, Item 421 Info'!$C$25),'2004, Item 421 Info'!$C$25,\"Input at right\")","v":0.45},"Input at right","Input at right",null,null,1.1299999999999999,0.9012,null,"Type 6",null,null,-17]
["CLASS LMC",{"$f":"IF(ISNUMBER('2004, Item 421 Info'!$B$23),'2004, Item 421 Info'!$B$23,\"Input at right\")","v":4000},{"$f":"IF(ISNUMBER('2004, Item 421 Info'!$C$23),'2004, Item 421 Info'!$C$23,\"Input at right\")","v":0.4},0.5,0.375,null,null,1.1399999999999999,0.90359999999999996,null,null,null,null,-16]
["CLASS P",{"$f":"IF(ISNUMBER('2004, Item 421 Info'!$B$20),'2004, Item 421 Info'!$B$20,\"Input at right\")","v":"Input at right"},{"$f":"IF(ISNUMBER('2004, Item 421 Info'!$C20),'2004, Item 421 Info'!$C$20,\"Input at right\")","v":0.45},1.5,0.5,null,null,1.1499999999999999,0.90600000000000003,null,null,null,null,-15]
["CLASS S",{"$f":"IF(ISNUMBER('2004, Item 421 Info'!$B$18),'2004, Item 421 Info'!$B$18,\"Input at right\")","v":4000},{"$f":"IF(ISNUMBER('2004, Item 421 Info'!$C$18),'2004, Item 421 Info'!$C$18,\"Input at right\")","v":0.45},1.5,0.75,null,null,1.1599999999999999,0.90839999999999999,null,null,null,null,-14]
["CLASS S(HPC)",{"$f":"IF(ISNUMBER('2004, Item 421 Info'!$B$18),'2004, Item 421 Info'!$B$18,\"Input at right\")","v":4000},{"$f":"IF(ISNUMBER('2004, Item 421 Info'!$C$18),'2004, Item 421 Info'!$C$18,\"Input at right\")","v":0.45},1.5,0.75,null,null,1.17,0.91080000000000005,null,null,null,null,-13]
["CLASS SS",{"$f":"IF(ISNUMBER('2004, Item 421 Info'!$B$24),'2004, Item 421 Info'!$B$24,\"Input at right\")","v":"Input at right"},{"$f":"IF(ISNUMBER('2004, Item 421 Info'!$C$24),'2004, Item 421 Info'!$C$24,\"Input at right\")","v":0.45},1,0.5,null,null,1.18,0.91320000000000001,null,null,null,null,-12]
["OTHER",{"$f":"IF(ISNUMBER('2004, Item 421 Info'!$B$24),'2004, Item 421 Info'!$B$24,\"Input at right\")","v":"Input at right"},{"$f":"IF(ISNUMBER('2004, Item 421 Info'!$B$24),'2004, Item 421 Info'!$B$24,\"Input at right\")","v":"Input at right"},"Input at right","Input at right",null,null,1.19,0.91559999999999997,null,null,null,null,-11]
[null,null,null,null,null,null,null,1.2,0.91800000000000004,null,null,null,null,-10]
[null,null,null,null,null,null,null,1.21,0.9204,null,null,null,null,-9]
[null,null,null,null,null,null,null,1.22,0.92279999999999995,null,null,null,null,-8]
[null,null,null,null,null,null,null,1.23,0.92520000000000002,null,null,null,null,-7]
[null,null,null,null,null,null,null,1.24,0.92759999999999998,null,null,null,null,-6]
[null,null,null,null,null,null,null,1.25,0.93,null,null,null,null,-5]
[null,null,null,null,null,null,null,1.26,0.93120000000000003,null,null,null,null,-4]
["Tex-414-A Correction Factor Table",null,null,null,null,null,null,1.27,0.93240000000000001,null,null,null,null,-3]
["70% Isopropyl Alcohol Used",null,null,"Correction Factor",null,null,null,1.28,0.93359999999999999,null,null,null,null,-2]
["Pints","Ounces","Liters",null,null,null,null,1.29,0.93479999999999996,null,null,null,null,-1]
[1,16,0.5,0,null,null,null,1.3,0.93600000000000005,null,null,null,null,0]
[2,32,0.9,0,null,null,null,1.31,0.93720000000000003,null,null,null,null,1]
[3,48,1.4,0.25,null,null,null,1.32,0.93840000000000001,null,null,null,null,2]
[4,64,1.9,0.5,null,null,null,1.33,0.93959999999999999,null,null,null,null,3]
[5,80,2.4,0.75,null,null,null,1.34,0.94079999999999997,null,null,null,null,4]
[null,null,null,null,null,null,null,1.35,0.94199999999999995,null,null,null,null,5]
[null,null,null,null,null,null,null,1.36,0.94320000000000004,null,null,null,null,6]
[null,null,null,null,null,null,null,1.37,0.94440000000000002,null,null,null,null,7]
[null,null,null,null,null,null,null,1.38,0.9456,null,null,null,null,8]
[null,null,null,null,null,null,null,1.39,0.94679999999999997,null,null,null,null,9]
[null,null,null,null,null,null,null,1.4,0.94799999999999995,null,null,null,null,10]
[null,null,null,null,null,null,null,1.41,0.94920000000000004,null,null,null,null,11]
[null,null,null,null,null,null,null,1.42,0.95040000000000002,null,null,null,null,12]
[null,null,null,null,null,null,null,1.43,0.9516,null,null,null,null,13]
[null,null,null,null,null,null,null,1.44,0.95279999999999998,null,null,null,null,14]
[null,null,null,null,null,null,null,1.45,0.95399999999999996,null,null,null,null,15]
[null,null,null,null,null,null,null,1.46,0.95520000000000005]
[null,null,null,null,null,null,null,1.47,0.95640000000000003]
[null,null,null,null,null,null,null,1.48,0.95760000000000001]
[null,null,null,null,null,null,null,1.49,0.95879999999999999]
[null,null,null,null,null,null,null,1.5,0.96]
[null,null,null,null,null,null,null,1.51,0.96079999999999999]
[null,null,null,null,null,null,null,1.52,0.96160000000000001]
[null,null,null,null,null,null,null,1.53,0.96240000000000003]
[null,null,null,null,null,null,null,1.54,0.96319999999999995]
[null,null,null,null,null,null,null,1.55,0.96399999999999997]
[null,null,null,null,null,null,null,1.56,0.96479999999999999]
[null,null,null,null,null,null,null,1.57,0.96560000000000001]
[null,null,null,null,null,null,null,1.58,0.96640000000000004]
[null,null,null,null,null,null,null,1.59,0.96719999999999995]
[null,null,null,null,null,null,null,1.6,0.96799999999999997]
[null,null,null,null,null,null,null,1.61,0.96879999999999999]
[null,null,null,null,null,null,null,1.62,0.96960000000000002]
[null,null,null,null,null,null,null,1.63,0.97040000000000004]
[null,null,null,null,null,null,null,1.64,0.97119999999999995]
[null,null,null,null,null,null,null,1.65,0.97199999999999998]
[null,null,null,null,null,null,null,1.66,0.9728]
[null,null,null,null,null,null,null,1.67,0.97360000000000002]
[null,null,null,null,null,null,null,1.68,0.97440000000000004]
[null,null,null,null,null,null,null,1.69,0.97519999999999996]
[null,null,null,null,null,null,null,1.7,0.97599999999999998]
[null,null,null,null,null,null,null,1.71,0.9768]
[null,null,null,null,null,null,null,1.72,0.97760000000000002]
[null,null,null,null,null,null,null,1.73,0.97840000000000005]
[null,null,null,null,null,null,null,1.74,0.97919999999999996]
[null,null,null,null,null,null,null,1.75,0.98]
[null,null,null,null,null,null,null,1.76,1]
[null,null,null,null,null,null,null,1.77,1]
[null,null,null,null,null,null,null,1.78,1]
[null,null,null,null,null,null,null,1.79,1]
[null,null,null,null,null,null,null,1.8,1]
[null,null,null,null,null,null,null,1.81,1]
[null,null,null,null,null,null,null,1.82,1]
[null,null,null,null,null,null,null,1.83,1]
[null,null,null,null,null,null,null,1.84,1]
[null,null,null,null,null,null,null,1.85,1]
[null,null,null,null,null,null,null,1.86,1]
[null,null,null,null,null,null,null,1.87,1]
[null,null,null,null,null,null,null,1.88,1]
[null,null,null,null,null,null,null,1.89,1]
[null,null,null,null,null,null,null,1.9,1]
[null,null,null,null,null,null,null,1.91,1]
[null,null,null,null,null,null,null,1.92,1]
[null,null,null,null,null,null,null,1.93,1]
[null,null,null,null,null,null,null,1.94,1]
[null,null,null,null,null,null,null,1.95,1]
[null,null,null,null,null,null,null,1.96,1]
[null,null,null,null,null,null,null,1.97,1]
[null,null,null,null,null,null,null,1.98,1]
[null,null,null,null,null,null,null,1.99,1]
[null,null,null,null,null,null,null,2,1]
[null,null,null,null,null,null,null,2.0099999999999998,1]
[null,null,null,null,null,null,null,2.02,1]
[null,null,null,null,null,null,null,2.0299999999999998,1]
[null,null,null,null,null,null,null,2.04,1]
[null,null,null,null,null,null,null,2.0499999999999998,1]
[null,null,null,null,null,null,null,2.06,1]
[null,null,null,null,null,null,null,2.0699999999999998,1]
[null,null,null,null,null,null,null,2.08,1]
[null,null,null,null,null,null,null,2.09,1]
[null,null,null,null,null,null,null,2.1,1]