{"text_format":"1","workbook":"xlsx","n_sheets":22,"sheets":["Worksheet","Strength Review","Moist-Strength","1","2","3","4","5","6","7","8","9","SCA-Data","Summary","Classification","Log","Tex-113,4-E","RX","Classification Chart","Mohr Analysis","Reference","Mohr Circles"],"not_rendered":{"charts":8,"images":1,"macros":1,"external_links":0,"defined_names":977,"comments":2,"pivot_tables":0},"unopened":[{"sheet":"Moist-Strength","index":2,"reason":"not_a_worksheet"},{"sheet":"Classification Chart","index":18,"reason":"not_a_worksheet"},{"sheet":"Mohr Circles","index":21,"reason":"not_a_worksheet"}],"bounds":{"document_bytes":16777216,"sheet_cells":100000,"rows_first":2000,"rows_last":500,"rows_between":2000,"halvings":0,"cell_chars":16384,"cell_head_chars":4096},"cells_cut":0,"cells_raw":0,"read":"whole","date_system":"1900"}

{"sheet":"Worksheet","index":0,"n_rows":147,"n_cols":11319,"rows_kept":15,"cut":true,"hidden":false,"merged":[[137,2,137,4],[139,2,139,4],[0,0,0,1],[75,1,75,2],[27,1,27,2],[43,1,43,2],[61,1,61,2],[47,1,47,2],[35,1,35,2],[69,1,69,2],[66,1,66,2],[56,1,56,2],[36,1,36,2],[67,1,67,2],[71,1,71,2],[65,1,65,2],[68,1,68,2],[73,1,73,2],[62,1,62,2],[57,1,57,2],[63,1,63,2],[29,1,29,11],[21,1,21,3],[23,1,23,3],[13,3,13,4],[52,1,52,2],[146,1,146,3],[124,1,125,8],[77,1,77,2],[142,6,142,8],[81,1,81,2],[97,1,97,2],[106,1,106,2],[107,1,107,2],[116,1,116,2],[117,1,117,2],[142,1,142,3],[82,1,82,2],[95,1,95,2],[135,2,135,4],[108,1,108,2],[109,1,109,2],[110,1,110,2],[90,1,90,2],[96,1,96,2],[101,1,101,2],[105,1,105,2],[100,1,100,2],[88,1,88,2],[87,1,87,2],[134,2,134,4],[126,1,126,8],[127,1,127,8],[84,1,84,2],[83,1,83,2],[91,1,91,2],[89,1,89,2],[92,1,92,2],[93,1,93,2],[86,1,86,11],[111,1,111,2],[119,1,119,2],[120,1,120,2],[113,1,113,2],[114,1,114,2],[115,1,115,2],[129,2,129,4],[130,2,130,4],[132,2,132,4],[7,3,7,4],[12,7,12,8],[12,3,12,4],[11,7,11,8],[10,7,10,8],[10,3,10,4],[11,3,11,4],[27,3,27,4],[16,3,16,4],[21,6,21,9],[22,6,22,9],[7,7,7,8],[9,3,9,4],[9,7,9,8],[8,3,8,4],[8,7,8,8],[13,7,13,8],[22,1,22,3],[14,3,14,8],[15,3,15,8],[16,7,16,8],[23,6,23,9],[24,6,24,9],[25,6,25,9],[31,1,31,11],[40,1,40,2],[41,1,41,2],[74,1,74,2],[118,1,118,2],[102,1,102,2],[112,1,112,2],[46,1,46,2],[38,1,38,2],[45,1,45,2],[98,1,98,2],[99,1,99,2],[94,1,94,2],[82,7,82,8],[64,1,64,2],[84,5,84,11],[70,1,70,2],[37,1,37,2],[79,6,79,8],[79,3,79,5],[79,9,79,11],[50,1,50,11],[51,1,51,2],[58,1,58,2],[32,1,32,2],[33,1,33,2],[34,1,34,2],[39,1,39,2],[48,1,48,2],[42,1,42,2],[44,1,44,2],[76,1,76,2],[53,1,53,2],[54,1,54,2],[55,1,55,2],[72,1,72,2]],"bounds":{"rows_first":7,"rows_last":1,"rows_between":7,"halvings":8}}
["TxDOT Manuals >",null,null,"Tex-117-E",null,null,null,null,null,null,null,null,null,null,null,null,null,null,null,null,null,null,null,null,null,null,null,null,null,null,null,null,null,null,null,null,null,null,null,null,null,null,null,null,null,null,null,null,null,null,null,null,null,null,null,null,null,null,null,null,null,null,null,null,null,null,null,null,null,null,null,null,null,null,null,null,null,null,null,null,null,null,null,null,null,null,null,null,null,null,null,null,null,null,null,null,null,null,null,null,null,null,null,null,null,null,null,null,null,null,null,null,null,null,null,null,null,null,null,null,null,null,null,null,null,null,null,null,null,null,null,null,null,null,null,null,null,null,null,null,null,null,null,null,null,null,null,null,null,null,null,null,null,null,null,null,null,null,null,null,null,null,null,null,null,null,null,null,null,null,null,null,null,null,null,null,null,null,null,null,null,null,null,null,null,null,null,null,null,null,null,null,null,null,null,null,null,null,null,null,null,null,null,null,null,null,null,null,null,null,null,null,null,null,null,null,null,null,null,null,null,null,null,null,null,null,null,null,null,null,null,null,null,null,null,null,null,null,null,null,null,null,null,null,null,null,null,null,null,null,null,null,null,null,null,null,null,null,null,null,null,null,null,null,null,null,null,null,null,null,null,null,null,null,null,null,null,null,null,null,null,null,null,null,null,null,null,null,null,null,null,null,null,null,null,null,null,null,null,null,null,null,null,null,null,null,null,null,null,null,null,null,null,null,null,null,null,null,null,null,null,null,null,null,null,null,null,null,null,null,null,null,null,null,null,null,null,null,null,null,null,null,null,null,null,null,null,null,null,null,null,null,null,null,null,null,null,null,null,null,null,null,null,null,null,null,null,null,null,null,null,null,null,null,null,null,null,null,null,null,null,null,null,null,null,null,null,null,null,null,null,null,null,null,null,null,null,null,null,null,null,null,null,null,null,null,null,null,null,null,null,null,null,null,null,null,null,null,null,null,null,null,null,null,null,null,null,null,null,null,null,null,null,null,null,null,null,null,null,null,null,null,null,null,null,null,null,null,null,null,null,null,null,null,null,null,null,null,null,null,null,null,null,null,null,null,null,null,null,null,null,null,null,null,null,null,null,null,null,null,null,null,null,null,null,null,null,null,null,null,null,null,null,null,null,null,null,null,null,null,null,null,null,null,null,null,null,null,null,null,null,null,null,null,null,null,null,null,null,null,null,null,null,null,null,null,null,null,null,null,null,null,null,null,null,null,null,null,null,null,null,null,null,null,null,null,null,null,null,null,null,null,null,null,null,null,null,null,null,null,null,null,null,null,null,null,null,null,null,null,null,null,null,null,null,null,null,null,null,null,null,null,null,null,null,null,null,null,null,null,null,null,null,null,null,null,null,null,null,null,null,null,null,null,null,null,null,null,null,null,null,null,null,null,null,null,null,null,null,null,null,null,null,null,null,null,null,null,null,null,null,null,null,null,null,null,null,null,null,null,null,null,null,null,null,null,null,null,null,null,null,null,null,null,null,null,null,null,null,null,null,null,null,null,null,null,null,null,null,null,null,null,null,null,null,null,null,null,null,null,null,null,null,null,null,null,null,null,null,null,null,null,null,null,null,null,null,null,null,null,null,null,null,null,null,null,null,null,null,null,null,null,null,null,null,null,null,null,null,null,null,null,null,null,null,null,null,null,null,null,null,null,null,null,null,null,null,null,null,null,null,null,null,null,null,null,null,null,null,null,null,null,null,null,null,null,null,null,null,null,null,null,null,null,null,null,null,null,null,null,null,null,null,null,null,null,null,null,null,null,null,null,null,null,null,null,null,null,null,null,null,null,null,null,null,null,null,null,null,null,null,null,null,null,null,null,null,null,null,null,null,null,null,null,null,null,null,null,null,null,null,null,null,null,null,null,null,null,null,null,null,null,null,null,null,null,null,null,null,null,null,null,null,null,null,null,null,null,null,null,null,null,null,null,null,null,null,null,null,null,null,null,null,null,null,null,null,null,null,null,null,null,null,null,null,null,null,null,null,null,null,null,null,null,null,null,null,null,null,null,null,null,null,null,null,null,null,null,null,null,null,null,null,null,null,null,null,null,null,null,null,null,null,null,null,null,null,null,null,null,null,null,null,null,null,null,null,null,null,null,null,null,null,null,null,null,null,null,null,null,null,null,null,null,null,null,null,null,null,null,null,null,null,null,null,null,null,null,null,null,null,null,null,null,null,null,null,null,null,null,null,null,null,null,null,null,null,null,null,null,null,null,null,null,null,null,null,null,null,null,null,null,null,null,null,null,null,null,null,null,null,null,null,null,null,null,null,null,null,null,null,null,null,null,null,null,null,null,null,null,null,null,null,null,null,null,null,null,null,null,null,null,null,null,null,null,null,null,null,null,null,null,null,null,null,null,null,null,null,null,null,null,null,null,null,null,null,null,null,null,null,null,null,null,null,null,null,null,null,null,null,null,null,null,null,null,null,null,null,null,null,null,null,null,null,null,null,null,null,null,null,null,null,null,null,null,null,null,null,null,null,null,null,null,null,null,null,null,null,null,null,null,null,null,null,null,null,null,null,null,null,null,null,null,null,null,null,null,null,null,null,null,null,null,null,null,null,null,null,null,null,null,null,null,null,null,null,null,null,null,null,null,null,null,null,null,null,null,null,null,null,null,null,null,null,null,null,null,null,null,null,null,null,null,null,null,null,null,null,null,null,null,null,null,null,null,null,null,null,null,null,null,null,null,null,null,null,null,null,null,null,null,null,null,null,null,null,null,null,null,null,null,null,null,null,null,null,null,null,null,null,null,null,null,null,null,null,null,null,null,null,null,null,null,null,null,null,null,null,null,null,null,null,null,null,null,null,null,null,null,null,null,null,null,null,null,null,null,null,null,null,null,null,null,null,null,null,null,null,null,null,null,null,null,null,null,null,null,null,null,null,null,null,null,null,null,null,null,null,null,null,null,null,null,null,null,null,null,null,null,null,null,null,null,null,null,null,null,null,null,null,null,null,null,null,null,null,null,null,null,null,null,null,null,null,null,null,null,null,null,null,null,null,null,null,null,null,null,null,null,null,null,null,null,null,null,null,null,null,null,null,null,null,null,null,null,null,null,null,null,null,null,null,null,null,null,null,null,null,null,null,null,null,null,null,null,null,null,null,null,null,null,null,null,null,null,null,null,null,null,null,null,null,null,null,null,null,null,null,null,null,null,null,null,null,null,null,null,null,null,null,null,null,null,null,null,null,null,null,null,null,null,null,null,null,null,null,null,null,null,null,null,null,null,null,null,null,null,null,null,null,null,null,null,null,null,null,null,null,null,null,null,null,null,null,null,null,null,null,null,null,null,null,null,null,null,null,null,null,null,null,null,null,null,null,null,null,null,null,null,null,null,null,null,null,null,null,null,null,null,null,null,null,null,null,null,null,null,null,null,null,null,null,null,null,null,null,null,null,null,null,null,null,null,null,null,null,null,null,null,null,null,null,null,null,null,null,null,null,null,null,null,null,null,null,null,null,null,null,null,null,null,null,null,null,null,null,null,null,null,null,null,null,null,null,null,null,null,null,null,null,null,null,null,null,null,null,null,null,null,null,null,null,null,null,null,null,null,null,null,null,null,null,null,null,null,null,null,null,null,null,null,null,null,null,null,null,null,null,null,null,null,null,null,null,null,null,null,null,null,null,null,null,null,null,null,null,null,null,null,null,null,null,null,null,null,null,null,null,null,null,null,null,null,null,null,null,null,null,null,null,null,null,null,null,null,null,null,null,null,null,null,null,null,null,null,null,null,null,null,null,null,null,null,null,null,null,null,null,null,null,null,null,null,null,null,null,null,null,null,null,null,null,null,null,null,null,null,null,null,null,null,null,null,null,null,null,null,null,null,null,null,null,null,null,null,null,null,null,null,null,null,null,null,null,null,null,null,null,null,null,null,null,null,null,null,null,null,null,null,null,null,null,null,null,null,null,null,null,null,null,null,null,null,null,null,null,null,null,null,null,null,null,null,null,null,null,null,null,null,null,null,null,null,null,null,null,null,null,null,null,null,null,null,null,null,null,null,null,null,null,null,null,null,null,null,null,null,null,null,null,null,null,null,null,null,null,null,null,null,null,null,null,null,null,null,null,null,null,null,null,null,null,null,null,null,null,null,null,null,null,null,null,null,null,null,null,null,null,null,null,null,null,null,null,null,null,null,null,null,null,null,null,null,null,null,null,null,null,null,null,null,null,null,null,null,null,null,null,null,null,null,null,null,null,null,null,null,null,null,null,null,null,null,null,null,null,null,null,null,null,null,null,null,null,null,null,null,null,null,null,null,null,null,null,null,null,null,null,null,null,null,null,null,null,null,null,null,null,null,null,null,null,null,null,null,null,null,null,null,null,null,null,null,null,null,null,null,null,null,null,null,null,null,null,null,null,null,null,null,null,null,null,null,null,null,null,null,null,null,null,null,null,null,null,null,null,null,null,null,null,null,null,null,null,null,null,null,null,null,null,null,null,null,null,null,null,null,null,null,null,null,null,null,null,null,null,null,null,null,null,null,null,null,null,null,null,null,null,null,null,null,null,null,null,null,null,null,null,null,null,null,null,null,null,null,null,null,null,null,null,null,null,null,null,null,null,null,null,null,null,null,null,null,null,null,null,null,null,null,null,null,null,null,null,null,null,null,null,null,null,null,null,null,null,null,null,null,null,null,null,null,null,null,null,null,null,null,null,null,null,null,null,null,null,null,null,null,null,null,null,null,null,null,null,null,null,null,null,null,null,null,null,null,null,null,null,null,null,null,null,null,null,null,null,null,null,null,null,null,null,null,null,null,null,null,null,null,null,null,null,null,null,null,null,null,null,null,null,null,null,null,null,null,null,null,null,null,null,null,null,null,null,null,null,null,null,null,null,null,null,null,null,null,null,null,null,null,null,null,null,null,null,null,null,null,null,null,null,null,null,null,null,null,null,null,null,null,null,null,null,null,null,null,null,null,null,null,null,null,null,null,null,null,null,null,null,null,null,null,null,null,null,null,null,null,null,null,null,null,null,null,null,null,null,null,null,null,null,null,null,null,null,null,null,null,null,null,null,null,null,null,null,null,null,null,null,null,null,null,null,null,null,null,null,null,null,null,null,null,null,null,null,null,null,null,null,null,null,null,null,null,null,null,null,null,null,null,null,null,null,null,null,null,null,null,null,null,null,null,null,null,null,null,null,null,null,null,null,null,null,null,null,null,null,null,null,null,null,null,null,null,null,null,null,null,null,null,null,null,null,null,null,null,null,null,null,null,null,null,null,null,null,null,null,null,null,null,null,null,null,null,null,null,null,null,null,null,null,null,null,null,null,null,null,null,null,null,null,null,null,null,null,null,null,null,null,null,null,null,null,null,null,null,null,null,null,null,null,null,null,null,null,null,null,null,null,null,null,null,null,null,null,null,null,null,null,null,null,null,null,null,null,null,null,null,null,null,null,null,null,null,null,null,null,null,null,null,null,null,null,null,null,null,null,null,null,null,null,null,null,null,null,null,null,null,null,null,null,null,null,null,null,null,null,null,null,null,null,null,null,null,null,null,null,null,null,null,null,null,null,null,null,null,null,null,null,null,null,null,null,null,null,null,null,null,null,null,null,null,null,null,null,null,null,null,null,null,null,null,null,null,null,null,null,null,null,null,null,null,null,null,null,null,null,null,null,null,null,null,null,null,null,null,null,null,null,null,null,null,null,null,null,null,null,null,null,null,null,null,null,null,null,null,null,null,null,null,null,null,null,null,null,null,null,null,null,null,null,null,null,null,null,null,null,null,null,null,null,null,null,null,null,null,null,null,null,null,null,null,null,null,null,null,null,null,null,null,null,null,null,null,null,null,null,null,null,null,null,null,null,null,null,null,null,null,null,null,null,null,null,null,null,null,null,null,null,null,null,null,null,null,null,null,null,null,null,null,null,null,null,null,null,null,null,null,null,null,null,null,null,null,null,null,null,null,null,null,null,null,null,null,null,null,null,null,null,null,null,null,null,null,null,null,null,null,null,null,null,null,null,null,null,null,null,null,null,null,null,null,null,null,null,null,null,null,null,null,null,null,null,null,null,null,null,null,null,null,null,null,null,null,null,null,null,null,null,null,null,null,null,null,null,null,null,null,null,null,null,null,null,null,null,null,null,null,null,null,null,null,null,null,null,null,null,null,null,null,null,null,null,null,null,null,null,null,null,null,null,null,null,null,null,null,null,null,null,null,null,null,null,null,null,null,null,null,null,null,null,null,null,null,null,null,null,null,null,null,null,null,null,null,null,null,null,null,null,null,null,null,null,null,null,null,null,null,null,null,null,null,null,null,null,null,null,null,null,null,null,null,null,null,null,null,null,null,null,null,null,null,null,null,null,null,null,null,null,null,null,null,null,null,null,null,null,null,null,null,null,null,null,null,null,null,null,null,null,null,null,null,null,null,null,null,null,null,null,null,null,null,null,null,null,null,null,null,null,null,null,null,null,null,null,null,null,null,null,null,null,null,null,null,null,null,null,null,null,null,null,null,null,null,null,null,null,null,null,null,null,null,null,null,null,null,null,null,null,null,null,null,null,null,null,null,null,null,null,null,null,null,null,null,null,null,null,null,null,null,null,null,null,null,null,null,null,null,null,null,null,null,null,null,null,null,null,null,null,null,null,null,null,null,null,null,null,null,null,null,null,null,null,null,null,null,null,null,null,null,null,null,null,null,null,null,null,null,null,null,null,null,null,null,null,null,null,null,null,null,null,null,null,null,null,null,null,null,null,null,null,null,null,null,null,null,null,null,null,null,null,null,null,null,null,null,null,null,null,null,null,null,null,null,null,null,null,null,null,null,null,null,null,null,null,null,null,null,null,null,null,null,null,null,null,null,null,null,null,null,null,null,null,null,null,null,null,null,null,null,null,null,null,null,null,null,null,null,null,null,null,null,null,null,null,null,null,null,null,null,null,null,null,null,null,null,null,null,null,null,null,null,null,null,null,null,null,null,null,null,null,null,null,null,null,null,null,null,null,null,null,null,null,null,null,null,null,null,null,null,null,null,null,null,null,null,null,null,null,null,null,null,null,null,null,null,null,null,null,null,null,null,null,null,null,null,null,null,null,null,null,null,null,null,null,null,null,null,null,null,null,null,null,null,null,null,null,null,null,null,null,null,null,null,null,null,null,null,null,null,null,null,null,null,null,null,null,null,null,null,null,null,null,null,null,null,null,null,null,null,null,null,null,null,null,null,null,null,null,null,null,null,null,null,null,null,null,null,null,null,null,null,null,null,null,null,null,null,null,null,null,null,null,null,null,null,null,null,null,null,null,null,null,null,null,null,null,null,null,null,null,null,null,null,null,null,null,null,null,null,null,null,null,null,null,null,null,null,null,null,null,null,null,null,null,null,null,null,null,null,null,null,null,null,null,null,null,null,null,null,null,null,null,null,null,null,null,null,null,null,null,null,null,null,null,null,null,null,null,null,null,null,null,null,null,null,null,null,null,null,null,null,null,null,null,null,null,null,null,null,null,null,null,null,null,null,null,null,null,null,null,null,null,null,null,null,null,null,null,null,null,null,null,null,null,null,null,null,null,null,null,null,null,null,null,null,null,null,null,null,null,null,null,null,null,null,null,null,null,null,null,null,null,null,null,null,null,null,null,null,null,null,null,null,null,null,null,null,null,null,null,null,null,null,null,null,null,null,null,null,null,null,null,null,null,null,null,null,null,null,null,null,null,null,null,null,null,null,null,null,null,null,null,null,null,null,null,null,null,null,null,null,null,null,null,null,null,null,null,null,null,null,null,null,null,null,null,null,null,null,null,null,null,null,null,null,null,null,null,null,null,null,null,null,null,null,null,null,null,null,null,null,null,null,null,null,null,null,null,null,null,null,null,null,null,null,null,null,null,null,null,null,null,null,null,null,null,null,null,null,null,null,null,null,null,null,null,null,null,null,null,null,null,null,null,null,null,null,null,null,null,null,null,null,null,null,null,null,null,null,null,null,null,null,null,null,null,null,null,null,null,null,null,null,null,null,null,null,null,null,null,null,null,null,null,null,null,null,null,null,null,null,null,null,null,null,null,null,null,null,null,null,null,null,null,null,null,null,null,null,null,null,null,null,null,null,null,null,null,null,null,null,null,null,null,null,null,null,null,null,null,null,null,null,null,null,null,null,null,null,null,null,null,null,null,null,null,null,null,null,null,null,null,null,null,null,null,null,null,null,null,null,null,null,null,null,null,null,null,null,null,null,null,null,null,null,null,null,null,null,null,null,null,null,null,null,null,null,null,null,null,null,null,null,null,null,null,null,null,null,null,null,null,null,null,null,null,null,null,null,null,null,null,null,null,null,null,null,null,null,null,null,null,null,null,null,null,null,null,null,null,null,null,null,null,null,null,null,null,null,null,null,null,null,null,null,null,null,null,null,null,null,null,null,null,null,null,null,null,null,null,null,null,null,null,null,null,null,null,null,null,null,null,null,null,null,null,null,null,null,null,null,null,null,null,null,null,null,null,null,null,null,null,null,null,null,null,null,null,null,null,null,null,null,null,null,null,null,null,null,null,null,null,null,null,null,null,null,null,null,null,null,null,null,null,null,null,null,null,null,null,null,null,null,null,null,null,null,null,null,null,null,null,null,null,null,null,null,null,null,null,null,null,null,null,null,null,null,null,null,null,null,null,null,null,null,null,null,null,null,null,null,null,null,null,null,null,null,null,null,null,null,null,null,null,null,null,null,null,null,null,null,null,null,null,null,null,null,null,null,null,null,null,null,null,null,null,null,null,null,null,null,null,null,null,null,null,null,null,null,null,null,null,null,null,null,null,null,null,null,null,null,null,null,null,null,null,null,null,null,null,null,null,null,null,null,null,null,null,null,null,null,null,null,null,null,null,null,null,null,null,null,null,null,null,null,null,null,null,null,null,null,null,null,null,null,null,null,null,null,null,null,null,null,null,null,null,null,null,null,null,null,null,null,null,null,null,null,null,null,null,null,null,null,null,null,null,null,null,null,null,null,null,null,null,null,null,null,null,null,null,null,null,null,null,null,null,null,null,null,null,null,null,null,null,null,null,null,null,null,null,null,null,null,null,null,null,null,null,null,null,null,null,null,null,null,null,null,null,null,null,null,null,null,null,null,null,null,null,null,null,null,null,null,null,null,null,null,null,null,null,null,null,null,null,null,null,null,null,null,null,null,null,null,null,null,null,null,null,null,null,null,null,null,null,null,null,null,null,null,null,null,null,null,null,null,null,null,null,null,null,null,null,null,null,null,null,null,null,null,null,null,null,null,null,null,null,null,null,null,null,null,null,null,null,null,null,null,null,null,null,null,null,null,null,null,null,null,null,null,null,null,null,null,null,null,null,null,null,null,null,null,null,null,null,null,null,null,null,null,null,null,null,null,null,null,null,null,null,null,null,null,null,null,null,null,null,null,null,null,null,null,null,null,null,null,null,null,null,null,null,null,null,null,null,null,null,null,null,null,null,null,null,null,null,null,null,null,null,null,null,null,null,null,null,null,null,null,null,null,null,null,null,null,null,null,null,null,null,null,null,null,null,null,null,null,null,null,null,null,null,null,null,null,null,null,null,null,null,null,null,null,null,null,null,null,null,null,null,null,null,null,null,null,null,null,null,null,null,null,null,null,null,null,null,null,null,null,null,null,null,null,null,null,null,null,null,null,null,null,null,null,null,null,null,null,null,null,null,null,null,null,null,null,null,null,null,null,null,null,null,null,null,null,null,null,null,null,null,null,null,null,null,null,null,null,null,null,null,null,null,null,null,null,null,null,null,null,null,null,null,null,null,null,null,null,null,null,null,null,null,null,null,null,null,null,null,null,null,null,null,null,null,null,null,null,null,null,null,null,null,null,null,null,null,null,null,null,null,null,null,null,null,null,null,null,null,null,null,null,null,null,null,null,null,null,null,null,null,null,null,null,null,null,null,null,null,null,null,null,null,null,null,null,null,null,null,null,null,null,null,null,null,null,null,null,null,null,null,null,null,null,null,null,null,null,null,null,null,null,null,null,null,null,null,null,null,null,null,null,null,null,null,null,null,null,null,null,null,null,null,null,null,null,null,null,null,null,null,null,null,null,null,null,null,null,null,null,null,null,null,null,null,null,null,null,null,null,null,null,null,null,null,null,null,null,null,null,null,null,null,null,null,null,null,null,null,null,null,null,null,null,null,null,null,null,null,null,null,null,null,null,null,null,null,null,null,null,null,null,null,null,null,null,null,null,null,null,null,null,null,null,null,null,null,null,null,null,null,null,null,null,null,null,null,null,null,null,null,null,null,null,null,null,null,null,null,null,null,null,null,null,null,null,null,null,null,null,null,null,null,null,null,null,null,null,null,null,null,null,null,null,null,null,null,null,null,null,null,null,null,null,null,null,null,null,null,null,null,null,null,null,null,null,null,null,null,null,null,null,null,null,null,null,null,null,null,null,null,null,null,null,null,null,null,null,null,null,null,null,null,null,null,null,null,null,null,null,null,null,null,null,null,null,null,null,null,null,null,null,null,null,null,null,null,null,null,null,null,null,null,null,null,null,null,null,null,null,null,null,null,null,null,null,null,null,null,null,null,null,null,null,null,null,null,null,null,null,null,null,null,null,null,null,null,null,null,null,null,null,null,null,null,null,null,null,null,null,null,null,null,null,null,null,null,null,null,null,null,null,null,null,null,null,null,null,null,null,null,null,null,null,null,null,null,null,null,null,null,null,null,null,null,null,null,null,null,null,null,null,null,null,null,null,null,null,null,null,null,null,null,null,null,null,null,null,null,null,null,null,null,null,null,null,null,null,null,null,null,null,null,null,null,null,null,null,null,null,null,null,null,null,null,null,null,null,null,null,null,null,null,null,null,null,null,null,null,null,null,null,null,null,null,null,null,null,null,null,null,null,null,null,null,null,null,null,null,null,null,null,null,null,null,null,null,null,null,null,null,null,null,null,null,null,null,null,null,null,null,null,null,null,null,null,null,null,null,null,null,null,null,null,null,null,null,null,null,null,null,null,null,null,null,null,null,null,null,null,null,null,null,null,null,null,null,null,null,null,null,null,null,null,null,null,null,null,null,null,null,null,null,null,null,null,null,null,null,null,null,null,null,null,null,null,null,null,null,null,null,null,null,null,null,null,null,null,null,null,null,null,null,null,null,null,null,null,null,null,null,null,null,null,null,null,null,null,null,null,null,null,null,null,null,null,null,null,null,null,null,null,null,null,null,null,null,null,null,null,null,null,null,null,null,null,null,null,null,null,null,null,null,null,null,null,null,null,null,null,null,null,null,null,null,null,null,null,null,null,null,null,null,null,null,null,null,null,null,null,null,null,null,null,null,null,null,null,null,null,null,null,null,null,null,null,null,null,null,null,null,null,null,null,null,null,null,null,null,null,null,null,null,null,null,null,null,null,null,null,null,null,null,null,null,null,null,null,null,null,null,null,null,null,null,null,null,null,null,null,null,null,null,null,null,null,null,null,null,null,null,null,null,null,null,null,null,null,null,null,null,null,null,null,null,null,null,null,null,null,null,null,null,null,null,null,null,null,null,null,null,null,null,null,null,null,null,null,null,null,null,null,null,null,null,null,null,null,null,null,null,null,null,null,null,null,null,null,null,null,null,null,null,null,null,null,null,null,null,null,null,null,null,null,null,null,null,null,null,null,null,null,null,null,null,null,null,null,null,null,null,null,null,null,null,null,null,null,null,null,null,null,null,null,null,null,null,null,null,null,null,null,null,null,null,null,null,null,null,null,null,null,null,null,null,null,null,null,null,null,null,null,null,null,null,null,null,null,null,null,null,null,null,null,null,null,null,null,null,null,null,null,null,null,null,null,null,null,null,null,null,null,null,null,null,null,null,null,null,null,null,null,null,null,null,null,null,null,null,null,null,null,null,null,null,null,null,null,null,null,null,null,null,null,null,null,null,null,null,null,null,null,null,null,null,null,null,null,null,null,null,null,null,null,null,null,null,null,null,null,null,null,null,null,null,null,null,null,null,null,null,null,null,null,null,null,null,null,null,null,null,null,null,null,null,null,null,null,null,null,null,null,null,null,null,null,null,null,null,null,null,null,null,null,null,null,null,null,null,null,null,null,null,null,null,null,null,null,null,null,null,null,null,null,null,null,null,null,null,null,null,null,null,null,null,null,null,null,null,null,null,null,null,null,null,null,null,null,null,null,null,null,null,null,null,null,null,null,null,null,null,null,null,null,null,null,null,null,null,null,null,null,null,null,null,null,null,null,null,null,null,null,null,null,null,null,null,null,null,null,null,null,null,null,null,null,null,null,null,null,null,null,null,null,null,null,null,null,null,null,null,null,null,null,null,null,null,null,null,null,null,null,null,null,null,null,null,null,null,null,null,null,null,null,null,null,null,null,null,null,null,null,null,null,null,null,null,null,null,null,null,null,null,null,null,null,null,null,null,null,null,null,null,null,null,null,null,null,null,null,null,null,null,null,null,null,null,null,null,null,null,null,null,null,null,null,null,null,null,null,null,null,null,null,null,null,null,null,null,null,null,null,null,null,null,null,null,null,null,null,null,null,null,null,null,null,null,null,null,null,null,null,null,null,null,null,null,null,null,null,null,null,null,null,null,null,null,null,null,null,null,null,null,null,null,null,null,null,null,null,null,null,null,null,null,null,null,null,null,null,null,null,null,null,null,null,null,null,null,null,null,null,null,null,null,null,null,null,null,null,null,null,null,null,null,null,null,null,null,null,null,null,null,null,null,null,null,null,null,null,null,null,null,null,null,null,null,null,null,null,null,null,null,null,null,null,null,null,null,null,null,null,null,null,null,null,null,null,null,null,null,null,null,null,null,null,null,null,null,null,null,null,null,null,null,null,null,null,null,null,null,null,null,null,null,null,null,null,null,null,null,null,null,null,null,null,null,null,null,null,null,null,null,null,null,null,null,null,null,null,null,null,null,null,null,null,null,null,null,null,null,null,null,null,null,null,null,null,null,null,null,null,null,null,null,null,null,null,null,null,null,null,null,null,null,null,null,null,null,null,null,null,null,null,null,null,null,null,null,null,null,null,null,null,null,null,null,null,null,null,null,null,null,null,null,null,null,null,null,null,null,null,null,null,null,null,null,null,null,null,null,null,null,null,null,null,null,null,null,null,null,null,null,null,null,null,null,null,null,null,null,null,null,null,null,null,null,null,null,null,null,null,null,null,null,null,null,null,null,null,null,null,null,null,null,null,null,null,null,null,null,null,null,null,null,null,null,null,null,null,null,null,null,null,null,null,null,null,null,null,null,null,null,null,null,null,null,null,null,null,null,null,null,null,null,null,null,null,null,null,null,null,null,null,null,null,null,null,null,null,null,null,null,null,null,null,null,null,null,null,null,null,null,null,null,null,null,null,null,null,null,null,null,null,null,null,null,null,null,null,null,null,null,null,null,null,null,null,null,null,null,null,null,null,null,null,null,null,null,null,null,null,null,null,null,null,null,null,null,null,null,null,null,null,null,null,null,null,null,null,null,null,null,null,null,null,null,null,null,null,null,null,null,null,null,null,null,null,null,null,null,null,null,null,null,null,null,null,null,null,null,null,null,null,null,null,null,null,null,null,null,null,null,null,null,null,null,null,null,null,null,null,null,null,null,null,null,null,null,null,null,null,null,null,null,null,null,null,null,null,null,null,null,null,null,null,null,null,null,null,null,null,null,null,null,null,null,null,null,null,null,null,null,null,null,null,null,null,null,null,null,null,null,null,null,null,null,null,null,null,null,null,null,null,null,null,null,null,null,null,null,null,null,null,null,null,null,null,null,null,null,null,null,null,null,null,null,null,null,null,null,null,null,null,null,null,null,null,null,null,null,null,null,null,null,null,null,null,null,null,null,null,null,null,null,null,null,null,null,null,null,null,null,null,null,null,null,null,null,null,null,null,null,null,null,null,null,null,null,null,null,null,null,null,null,null,null,null,null,null,null,null,null,null,null,null,null,null,null,null,null,null,null,null,null,null,null,null,null,null,null,null,null,null,null,null,null,null,null,null,null,null,null,null,null,null,null,null,null,null,null,null,null,null,null,null,null,null,null,null,null,null,null,null,null,null,null,null,null,null,null,null,null,null,null,null,null,null,null,null,null,null,null,null,null,null,null,null,null,null,null,null,null,null,null,null,null,null,null,null,null,null,null,null,null,null,null,null,null,null,null,null,null,null,null,null,null,null,null,null,null,null,null,null,null,null,null,null,null,null,null,null,null,null,null,null,null,null,null,null,null,null,null,null,null,null,null,null,null,null,null,null,null,null,null,null,null,null,null,null,null,null,null,null,null,null,null,null,null,null,null,null,null,null,null,null,null,null,null,null,null,null,null,null,null,null,null,null,null,null,null,null,null,null,null,null,null,null,null,null,null,null,null,null,null,null,null,null,null,null,null,null,null,null,null,null,null,null,null,null,null,null,null,null,null,null,null,null,null,null,null,null,null,null,null,null,null,null,null,null,null,null,null,null,null,null,null,null,null,null,null,null,null,null,null,null,null,null,null,null,null,null,null,null,null,null,null,null,null,null,null,null,null,null,null,null,null,null,null,null,null,null,null,null,null,null,null,null,null,null,null,null,null,null,null,null,null,null,null,null,null,null,null,null,null,null,null,null,null,null,null,null,null,null,null,null,null,null,null,null,null,null,null,null,null,null,null,null,null,null,null,null,null,null,null,null,null,null,null,null,null,null,null,null,null,null,null,null,null,null,null,null,null,null,null,null,null,null,null,null,null,null,null,null,null,null,null,null,null,null,null,null,null,null,null,null,null,null,null,null,null,null,null,null,null,null,null,null,null,null,null,null,null,null,null,null,null,null,null,null,null,null,null,null,null,null,null,null,null,null,null,null,null,null,null,null,null,null,null,null,null,null,null,null,null,null,null,null,null,null,null,null,null,null,null,null,null,null,null,null,null,null,null,null,null,null,null,null,null,null,null,null,null,null,null,null,null,null,null,null,null,null,null,null,null,null,null,null,null,null,null,null,null,null,null,null,null,null,null,null,null,null,null,null,null,null,null,null,null,null,null,null,null,null,null,null,null,null,null,null,null,null,null,null,null,null,null,null,null,null,null,null,null,null,null,null,null,null,null,null,null,null,null,null,null,null,null,null,null,null,null,null,null,null,null,null,null,null,null,null,null,null,null,null,null,null,null,null,null,null,null,null,null,null,null,null,null,null,null,null,null,null,null,null,null,null,null,null,null,null,null,null,null,null,null,null,null,null,null,null,null,null,null,null,null,null,null,null,null,null,null,null,null,null,null,null,null,null,null,null,null,null,null,null,null,null,null,null,null,null,null,null,null,null,null,null,null,null,null,null,null,null,null,null,null,null,null,null,null,null,null,null,null,null,null,null,null,null,null,null,null,null,null,null,null,null,null,null,null,null,null,null,null,null,null,null,null,null,null,null,null,null,null,null,null,null,null,null,null,null,null,null,null,null,null,null,null,null,null,null,null,null,null,null,null,null,null,null,null,null,null,null,null,null,null,null,null,null,null,null,null,null,null,null,null,null,null,null,null,null,null,null,null,null,null,null,null,null,null,null,null,null,null,null,null,null,null,null,null,null,null,null,null,null,null,null,null,null,null,null,null,null,null,null,null,null,null,null,null,null,null,null,null,null,null,null,null,null,null,null,null,null,null,null,null,null,null,null,null,null,null,null,null,null,null,null,null,null,null,null,null,null,null,null,null,null,null,null,null,null,null,null,null,null,null,null,null,null,null,null,null,null,null,null,null,null,null,null,null,null,null,null,null,null,null,null,null,null,null,null,null,null,null,null,null,null,null,null,null,null,null,null,null,null,null,null,null,null,null,null,null,null,null,null,null,null,null,null,null,null,null,null,null,null,null,null,null,null,null,null,null,null,null,null,null,null,null,null,null,null,null,null,null,null,null,null,null,null,null,null,null,null,null,null,null,null,null,null,null,null,null,null,null,null,null,null,null,null,null,null,null,null,null,null,null,null,null,null,null,null,null,null,null,null,null,null,null,null,null,null,null,null,null,null,null,null,null,null,null,null,null,null,null,null,null,null,null,null,null,null,null,null,null,null,null,null,null,null,null,null,null,null,null,null,null,null,null,null,null,null,null,null,null,null,null,null,null,null,null,null,null,null,null,null,null,null,null,null,null,null,null,null,null,null,null,null,null,null,null,null,null,null,null,null,null,null,null,null,null,null,null,null,null,null,null,null,null,null,null,null,null,null,null,null,null,null,null,null,null,null,null,null,null,null,null,null,null,null,null,null,null,null,null,null,null,null,null,null,null,null,null,null,null,null,null,null,null,null,null,null,null,null,null,null,null,null,null,null,null,null,null,null,null,null,null,null,null,null,null,null,null,null,null,null,null,null,null,null,null,null,null,null,null,null,null,null,null,null,null,null,null,null,null,null,null,null,null,null,null,null,null,null,null,null,null,null,null,null,null,null,null,null,null,null,null,null,null,null,null,null,null,null,null,null,null,null,null,null,null,null,null,null,null,null,null,null,null,null,null,null,null,null,null,null,null,null,null,null,null,null,null,null,null,null,null,null,null,null,null,null,null,null,null,null,null,null,null,null,null,null,null,null,null,null,null,null,null,null,null,null,null,null,null,null,null,null,null,null,null,null,null,null,null,null,null,null,null,null,null,null,null,null,null,null,null,null,null,null,null,null,null,null,null,null,null,null,null,null,null,null,null,null,null,null,null,null,null,null,null,null,null,null,null,null,null,null,null,null,null,null,null,null,null,null,null,null,null,null,null,null,null,null,null,null,null,null,null,null,null,null,null,null,null,null,null,null,null,null,null,null,null,null,null,null,null,null,null,null,null,null,null,null,null,null,null,null,null,null,null,null,null,null,null,null,null,null,null,null,null,null,null,null,null,null,null,null,null,null,null,null,null,null,null,null,null,null,null,null,null,null,null,null,null,null,null,null,null,null,null,null,null,null,null,null,null,null,null,null,null,null,null,null,null,null,null,null,null,null,null,null,null,null,null,null,null,null,null,null,null,null,null,null,null,null,null,null,null,null,null,null,null,null,null,null,null,null,null,null,null,null,null,null,null,null,null,null,null,null,null,null,null,null,null,null,null,null,null,null,null,null,null,null,null,null,null,null,null,null,null,null,null,null,null,null,null,null,null,null,null,null,null,null,null,null,null,null,null,null,null,null,null,null,null,null,null,null,null,null,null,null,null,null,null,null,null,null,null,null,null,null,null,null,null,null,null,null,null,null,null,null,null,null,null,null,null,null,null,null,null,null,null,null,null,null,null,null,null,null,null,null,null,null,null,null,null,null,null,null,null,null,null,null,null,null,null,null,null,null,null,null,null,null,null,null,null,null,null,null,null,null,null,null,null,null,null,null,null,null,null,null,null,null,null,null,null,null,null,null,null,null,null,null,null,null,null,null,null,null,null,null,null,null,null,null,null,null,null,null,null,null,null,null,null,null,null,null,null,null,null,null,null,null,null,null,null,null,null,null,null,null,null,null,null,null,null,null,null,null,null,null,null,null,null,null,null,null,null,null,null,null,null,null,null,null,null,null,null,null,null,null,null,null,null,null,null,null,null,null,null,null,null,null,null,null,null,null,null,null,null,null,null,null,null,null,null,null,null,null,null,null,null,null,null,null,null,null,null,null,null,null,null,null,null,null,null,null,null,null,null,null,null,null,null,null,null,null,null,null,null,null,null,null,null,null,null,null,null,null,null,null,null,null,null,null,null,null,null,null,null,null,null,null,null,null,null,null,null,null,null,null,null,null,null,null,null,null,null,null,null,null,null,null,null,null,null,null,null,null,null,null,null,null,null,null,null,null,null,null,null,null,null,null,null,null,null,null,null,null,null,null,null,null,null,null,null,null,null,null,null,null,null,null,null,null,null,null,null,null,null,null,null,null,null,null,null,null,null,null,null,null,null,null,null,null,null,null,null,null,null,null,null,null,null,null,null,null,null,null,null,null,null,null,null,null,null,null,null,null,null,null,null,null,null,null,null,null,null,null,null,null,null,null,null,null,null,null,null,null,null,null,null,null,null,null,null,null,null,null,null,null,null,null,null,null,null,null,null,null,null,null,null,null,null,null,null,null,null,null,null,null,null,null,null,null,null,null,null,null,null,null,null,null,null,null,null,null,null,null,null,null,null,null,null,null,null,null,null,null,null,null,null,null,null,null,null,null,null,null,null,null,null,null,null,null,null,null,null,null,null,null,null,null,null,null,null,null,null,null,null,null,null,null,null,null,null,null,null,null,null,null,null,null,null,null,null,null,null,null,null,null,null,null,null,null,null,null,null,null,null,null,null,null,null,null,null,null,null,null,null,null,null,null,null,null,null,null,null,null,null,null,null,null,null,null,null,null,null,null,null,null,null,null,null,null,null,null,null,null,null,null,null,null,null,null,null,null,null,null,null,null,null,null,null,null,null,null,null,null,null,null,null,null,null,null,null,null,null,null,null,null,null,null,null,null,null,null,null,null,null,null,null,null,null,null,null,null,null,null,null,null,null,null,null,null,null,null,null,null,null,null,null,null,null,null,null,null,null,null,null,null,null,null,null,null,null,null,null,null,null,null,null,null,null,null,null,null,null,null,null,null,null,null,null,null,null,null,null,null,null,null,null,null,null,null,null,null,null,null,null,null,null,null,null,null,null,null,null,null,null,null,null,null,null,null,null,null,null,null,null,null,null,null,null,null,null,null,null,null,null,null,null,null,null,null,null,null,null,null,null,null,null,null,null,null,null,null,null,null,null,null,null,null,null,null,null,null,null,null,null,null,null,null,null,null,null,null,null,null,null,null,null,null,null,null,null,null,null,null,null,null,null,null,null,null,null,null,null,null,null,null,null,null,null,null,null,null,null,null,null,null,null,null,null,null,null,null,null,null,null,null,null,null,null,null,null,null,null,null,null,null,null,null,null,null,null,null,null,null,null,null,null,null,null,null,null,null,null,null,null,null,null,null,null,null,null,null,null,null,null,null,null,null,null,null,null,null,null,null,null,null,null,null,null,null,null,null,null,null,null,null,null,null,null,null,null,null,null,null,null,null,null,null,null,null,null,null,null,null,null,null,null,null,null,null,null,null,null,null,null,null,null,null,null,null,null,null,null,null,null,null,null,null,null,null,null,null,null,null,null,null,null,null,null,null,null,null,null,null,null,null,null,null,null,null,null,null,null,null,null,null,null,null,null,null,null,null,null,null,null,null,null,null,null,null,null,null,null,null,null,null,null,null,null,null,null,null,null,null,null,null,null,null,null,null,null,null,null,null,null,null,null,null,null,null,null,null,null,null,null,null,null,null,null,null,null,null,null,null,null,null,null,null,null,null,null,null,null,null,null,null,null,null,null,null,null,null,null,null,null,null,null,null,null,null,null,null,null,null,null,null,null,null,null,null,null,null,null,null,null,null,null,null,null,null,null,null,null,null,null,null,null,null,null,null,null,null,null,null,null,null,null,null,null,null,null,null,null,null,null,null,null,null,null,null,null,null,null,null,null,null,null,null,null,null,null,null,null,null,null,null,null,null,null,null,null,null,null,null,null,null,null,null,null,null,null,null,null,null,null,null,null,null,null,null,null,null,null,null,null,null,null,null,null,null,null,null,null,null,null,null,null,null,null,null,null,null,null,null,null,null,null,null,null,null,null,null,null,null,null,null,null,null,null,null,null,null,null,null,null,null,null,null,null,null,null,null,null,null,null,null,null,null,null,null,null,null,null,null,null,null,null,null,null,null,null,null,null,null,null,null,null,null,null,null,null,null,null,null,null,null,null,null,null,null,null,null,null,null,null,null,null,null,null,null,null,null,null,null,null,null,null,null,null,null,null,null,null,null,null,null,null,null,null,null,null,null,null,null,null,null,null,null,null,null,null,null,null,null,null,null,null,null,null,null,null,null,null,null,null,null,null,null,null,null,null,null,null,null,null,null,null,null,null,null,null,null,null,null,null,null,null,null,null,null,null,null,null,null,null,null,null,null,null,null,null,null,null,null,null,null,null,null,null,null,null,null,null,null,null,null,null,null,null,null,null,null,null,null,null,null,null,null,null,null,null,null,null,null,null,null,null,null,null,null,null,null,null,null,null,null,null,null,null,null,null,null,null,null,null,null,null,null,null,null,null,null,null,null,null,null,null,null,null,null,null,null,null,null,null,null,null,null,null,null,null,null,null,null,null,null,null,null,null,null,null,null,null,null,null,null,null,null,null,null,null,null,null,null,null,null,null,null,null,null,null,null,null,null,null,null,null,null,null,null,null,null,null,null,null,null,null,null,null,null,null,null,null,null,null,null,null,null,null,null,null,null,null,null,null,null,null,null,null,null,null,null,null,null,null,null,null,null,null,null,null,null,null,null,null,null,null,null,null,null,null,null,null,null,null,null,null,null,null,null,null,null,null,null,null,null,null,null,null,null,null,null,null,null,null,null,null,null,null,null,null,null,null,null,null,null,null,null,null,null,null,null,null,null,null,null,null,null,null,null,null,null,null,null,null,null,null,null,null,null,null,null,null,null,null,null,null,null,null,null,null,null,null,null,null,null,null,null,null,null,null,null,null,null,null,null,null,null,null,null,null,null,null,null,null,null,null,null,null,null,null,null,null,null,null,null,null,null,null,null,null,null,null,null,null,null,null,null,null,null,null,null,null,null,null,null,null,null,null,null,null,null,null,null,null,null,null,null,null,null,null,null,null,null,null,null,null,null,null,null,null,null,null,null,null,null,null,null,null,null,null,null,null,null,null,null,null,null,null,null,null,null,null,null,null,null,null,null,null,null,null,null,null,null,null,null,null,null,null,null,null,null,null,null,null,null,null,null,null,null,null,null,null,null,null,null,null,null,null,null,null,null,null,null,null,null,null,null,null,null,null,null,null,null,null,null,null,null,null,null,null,null,null,null,null,null,null,null,null,null,null,null,null,null,null,null,null,null,null,null,null,null,null,null,null,null,null,null,null,null,null,null,null,null,null,null,null,null,null,null,null,null,null,null,null,null,null,null,null,null,null,null,null,null,null,null,null,null,null,null,null,null,null,null,null,null,null,null,null,null,null,null,null,null,null,null,null,null,null,null,null,null,null,null,null,null,null,null,null,null,null,null,null,null,null,null,null,null,null,null,null,null,null,null,null,null,null,null,null,null,null,null,null,null,null,null,null,null,null,null,null,null,null,null,null,null,null,null,null,null,null,null,null,null,null,null,null,null,null,null,null,null,null,null,null,null,null,null,null,null,null,null,null,null,null,null,null,null,null,null,null,null,null,null,null,null,null,null,null,null,null,null,null,null,null,null,null,null,null,null,null,null,null,null,null,null,null,null,null,null,null,null,null,null,null,null,null,null,null,null,null,null,null,null,null,null,null,null,null,null,null,null,null,null,null,null,null,null,null,null,null,null,null,null,null,null,null,null,null,null,null,null,null,null,null,null,null,null,null,null,null,null,null,null,null,null,null,null,null,null,null,null,null,null,null,null,null,null,null,null,null,null,null,null,null,null,null,null,null,null,null,null,null,null,null,null,null,null,null,null,null,null,null,null,null,null,null,null,null,null,null,null,null,null,null,null,null,null,null,null,null,null,null,null,null,null,null,null,null,null,null,null,null,null,null,null,null,null,null,null,null,null,null,null,null,null,null,null,null,null,null,null,null,null,null,null,null,null,null,null,null,null,null,null,null,null,null,null,null,null,null,null,null,null,null,null,null,null,null,null,null,null,null,null,null,null,null,null,null,null,null,null,null,null,null,null,null,null,null,null,null,null,null,null,null,null,null,null,null,null,null,null,null,null,null,null,null,null,null,null,null,null,null,null,null,null,null,null,null,null,null,null,null,null,null,null,null,null,null,null,null,null,null,null,null,null,null,null,null,null,null,null,null,null,null,null,null,null,null,null,null,null,null,null,null,null,null,null,null,null,null,null,null,null,null,null,null,null,null,null,null,null,null,null,null,null,null,null,null,null,null,null,null,null,null,null,null,null,null,null,null,null,null,null,null,null,null,null,null,null,null,null,null,null,null,null,null,null,null,null,null,null,null,null,null,null,null,null,null,null,null,null,null,null,null,null,null,null,null,null,null,null,null,null,null,null,null,null,null,null,null,null,null,null,null,null,null,null,null,null,null,null,null,null,null,null,null,null,null,null,null,null,null,null,null,null,null,null,null,null,null,null,null,null,null,null,null,null,null,null,null,null,null,null,null,null,null,null,null,null,null,null,null,null,null,null,null,null,null,null,null,null,null,null,null,null,null,null,null,null,null,null,null,null,null,null,null,null,null,null,null,null,null,null,null,null,null,null,null,null,null,null,null,null,null,null,null,null,null,null,null,null,null,null,null,null,null,null,null,null,null,null,null,null,null,null,null,null,null,null,null,null,null,null,null,null,null,null,null,null,null,null,null,null,null,null,null,null,null,null,null,null,null,null,null,null,null,null,null,null,null,null,null,null,null,null,null,null,null,null,null,null,null,null,null,null,null,null,null,null,null,null,null,null,null,null,null,null,null,null,null,null,null,null,null,null,null,null,null,null,null,null,null,null,null,null,null,null,null,null,null,null,null,null,null,null,null,null,null,null,null,null,null,null,null,null,null,null,null,null,null,null,null,null,null,null,null,null,null,null,null,null,null,null,null,null,null,null,null,null,null,null,null,null,null,null,null,null,null,null,null,null,null,null,null,null,null,null,null,null,null,null,null,null,null,null,null,null,null,null,null,null,null,null,null,null,null,null,null,null,null,null,null,null,null,null,null,null,null,null,null,null,null,null,null,null,null,null,null,null,null,null,null,null,null,null,null,null,null,null,null,null,null,null,null,null,null,null,null,null,null,null,null,null,null,null,null,null,null,null,null,null,null,null,null,null,null,null,null,null,null,null,null,null,null,null,null,null,null,null,null,null,null,null,null,null,null,null,null,null,null,null,null,null,null,null,null,null,null,null,null,null,null,null,null,null,null,null,null,null,null,null,null,null,null,null,null,null,null,null,null,null,null,null,null,null,null,null,null,null,null,null,null,null,null,null,null,null,null,null,null,null,null,null,null,null,null,null,null,null,null,null,null,null,null,null,null,null,null,null,null,null,null,null,null,null,null,null,null,null,null,null,null,null,null,null,null,null,null,null,null,null,null,null,null,null,null,null,null,null,null,null,null,null,null,null,null,null,null,null,null,null,null,null,null,null,null,null,null,null,null,null,null,null,null,null,null,null,null,null,null,null,null,null,null,null,null,null,null,null,null,null,null,null,null,null,null,null,null,null,null,null,null,null,null,null,null,null,null,null,null,null,null,null,null,null,null,null,null,null,null,null,null,null,null,null,null,null,null,null,null,null,null,null,null,null,null,null,null,null,null,null,null,null,null,null,null,null,null,null,null,null,null,null,null,null,null,null,null,null,null,null,null,null,null,null,null,null,null,null,null,null,null,null,null,null,null,null,null,null,null,null,null,null,null,null,null,null,null,null,null,null,null,null,null,null,null,null,null,null,null,null,null,null,null,null,null,null,null,null,null,null,null,null,null,null,null,null,null,null,null,null,null,null,null,null,null,null,null,null,null,null,null,null,null,null,null,null,null,null,null,null,null,null,null,null,null,null,null,null,null,null,null,null,null,null,null,null,null,null,null,null,null,null,null,null,null,null,null,null,null,null,null,null,null,null,null,null,null,null,null,null,null,null,null,null,null,null,null,null,null,null,null,null,null,null,null,null,null,null,null,null,null,null,null,null,null,null,null,null,null,null,null,null,null,null,null,null,null,null,null,null,null,null,null,null,null,null,null,null,null,null,null,null,null,null,null,null,null,null,null,null,null,null,null,null,null,null,null,null,null,null,null,null,null,null,null,null,null,null,null,null,null,null,null,null,null,null,null,null,null,null,null,null,null,null,null,null,null,null,null,null,null,null,null,null,null,null,null,null,null,null,null,null,null,null,null,null,null,null,null,null,null,null,null,null,null,null,null,null,null,null,null,null,null,null,null,null,null,null,null,null,null,null,null,null,null,null,null,null,null,null,null,null,null,null,null,null,null,null,null,null,null,null,null,null,null,null,null,null,null,null,null,null,null,null,null,null,null,null,null,null,null,null,null,null,null,null,null,null,null,null,null,null,null,null,null,null,null,null,null,null,null,null,null,null,null,null,null,null,null,null,null,null,null,null,null,null,null,null,null,null,null,null,null,null,null,null,null,null,null,null,null,null,null,null,null,null,null,null,null,null,null,null,null,null,null,null,null,null,null,null,null,null,null,null,null,null,null,null,null,null,null,null,null,null,null,null,null,null,null,null,null,null,null,null,null,null,null,null,null,null,null,null,null,null,null,null,null,null,null,null,null,null,null,null,null,null,null,null,null,null,null,null,null,null,null,null,null,null,null,null,null,null,null,null,null,null,null,null,null,null,null,null,null,null,null,null,null,null,null,null,null,null,null,null,null,null,null,null,null,null,null,null,null,null,null,null,null,null,null,null,null,null,null,null,null,null,null,null,null,null,null,null,null,null,null,null,null,null,null,null,null,null,null,null,null,null,null,null,null,null,null,null,null,null,null,null,null,null,null,null,null,null,null,null,null,null,null,null,null,null,null,null,null,null,null,null,null,null,null,null,null,null,null,null,null,null,null,null,null,null,null,null,null,null,null,null,null,null,null,null,null,null,null,null,null,null,null,null,null,null,null,null,null,null,null,null,null,null,null,null,null,null,null,null,null,null,null,null,null,null,null,null,null,null,null,null,null,null,null,null,null,null,null,null,null,null,null,null,null,null,null,null,null,null,null,null,null,null,null,null,null,null,null,null,null,null,null,null,null,null,null,null,null,null,null,null,null,null,null,null,null,null,null,null,null,null,null,null,null,null,null,null,null,null,null,null,null,null,null,null,null,null,null,null,null,null,null,null,null,null,null,null,null,null,null,null,null,null,null,null,null,null,null,null,null,null,null,null,null,null,null,null,null,null,null,null,null,null,null,null,null,null,null,null,null,null,null,null,null,null,null,null,null,null,null,null,null,null,null,null,null,null,null,null,null,null,null,null,null,null,null,null,null,null,null,null,null,null,null,null,null,null,null,null,null,null,null,null,null,null,null,null,null,null,null,null,null,null,null,null,null,null,null,null,null,null,null,null,null,null,null,null,null,null,null,null,null,null,null,null,null,null,null,null,null,null,null,null,null,null,null,null,null,null,null,null,null,null,null,null,null,null,null,null,null,null,null,null,null,null,null,null,null,null,null,null,null,null,null,null,null,null,null,null,null,null,null,null,null,null,null,null,null,null,null,null,null,null,null,null,null,null,null,null,null,null,null,null,null,null,null,null,null,null,null,null,null,null,null,null,null,null,null,null,null,null,null,null,null,null,null,null,null,null,null,null,null,null,null,null,null,null,null,null,null,null,null,null,null,null,null,null,null,null,null,null,null,null,null,null,null,null,null,null,null,null,null,null,null,null,null,null,null,null,null,null,null,null,null,null,null,null,null,null,null,null,null,null,null,null,null,null,null,null,null,null,null,null,null,null,null,null,null,null,null,null,null,null,null,null,null,null,null,null,null,null,null,null,null,null,null,null,null,null,null,null,null,null,null,null,null,null,null,null,null,null,null,null,null,null,null,null,null,null,null,null,null,null,null,null,null,null,null,null,null,null,null,null,null,null,null,null,null,null,null,null,0]
[null,"TEXAS DEPARTMENT OF TRANSPORTATION",null,null,null,null,null,null,null,"UPLC-",796,null,null,null,null,null,null,null,null,null,null,null,null,null,null,null,null,null,null,null,null,null,null,null,null,null,null,null,null,null,null,null,null,null,null,null,null,null,null,null,null,null,null,null,null,null,null,null,null,null,null,null,null,null,null,null,null,null,null,null,null,null,null,null,null,null,null,null,null,null,null,null,null,null,null,null,null,null,null,null,null,null,null,null,null,null,null,null,null,null,null,null,null,null,null,null,null,null,null,null,null,null,null,null,null,null,null,null,null,null,null,null,null,null,null,null,null,null,null,null,null,null,null,null,null,null,null,null,null,null,null,null,null,null,null,null,null,null,null,null,null,null,null,null,null,null,null,null,null,null,null,null,null,null,null,null,null,null,null,null,null,null,null,null,null,null,null,null,null,null,null,null,null,null,null,null,null,null,null,null,null,null,null,null,null,null,null,null,null,null,null,null,null,null,null,null,null,null,null,null,null,null,null,null,null,null,null,null,null,null,null,null,null,null,null,null,null,null,null,null,null,null,null,null,null,null,null,null,null,null,null,null,null,null,null,null,null,null,null,null,null,null,null,null,null,null,null,null,null,null,null,null,null,null,null,null,null,null,null,null,null,null,null,null,null,null,null,null,null,null,null,null,null,null,null,null,null,null,null,null,null,null,null,null,null,null,null,null,null,null,null,null,null,null,null,null,null,null,null,null,null,null,null,null,null,null,null,null,null,null,null,null,null,null,null,null,null,null,null,null,null,null,null,null,null,null,null,null,null,null,null,null,null,null,null,null,null,null,null,null,null,null,null,null,null,null,null,null,null,null,null,null,null,null,null,null,null,null,null,null,null,null,null,null,null,null,null,null,null,null,null,null,null,null,null,null,null,null,null,null,null,null,null,null,null,null,null,null,null,null,null,null,null,null,null,null,null,null,null,null,null,null,null,null,null,null,null,null,null,null,null,null,null,null,null,null,null,null,null,null,null,null,null,null,null,null,null,null,null,null,null,null,null,null,null,null,null,null,null,null,null,null,null,null,null,null,null,null,null,null,null,null,null,null,null,null,null,null,null,null,null,null,null,null,null,null,null,null,null,null,null,null,null,null,null,null,null,null,null,null,null,null,null,null,null,null,null,null,null,null,null,null,null,null,null,null,null,null,null,null,null,null,null,null,null,null,null,null,null,null,null,null,null,null,null,null,null,null,null,null,null,null,null,null,null,null,null,null,null,null,null,null,null,null,null,null,null,null,null,null,null,null,null,null,null,null,null,null,null,null,null,null,null,null,null,null,null,null,null,null,null,null,null,null,null,null,null,null,null,null,null,null,null,null,null,null,null,null,null,null,null,null,null,null,null,null,null,null,null,null,null,null,null,null,null,null,null,null,null,null,null,null,null,null,null,null,null,null,null,null,null,null,null,null,null,null,null,null,null,null,null,null,null,null,null,null,null,null,null,null,null,null,null,null,null,null,null,null,null,null,null,null,null,null,null,null,null,null,null,null,null,null,null,null,null,null,null,null,null,null,null,null,null,null,null,null,null,null,null,null,null,null,null,null,null,null,null,null,null,null,null,null,null,null,null,null,null,null,null,null,null,null,null,null,null,null,null,null,null,null,null,null,null,null,null,null,null,null,null,null,null,null,null,null,null,null,null,null,null,null,null,null,null,null,null,null,null,null,null,null,null,null,null,null,null,null,null,null,null,null,null,null,null,null,null,null,null,null,null,null,null,null,null,null,null,null,null,null,null,null,null,null,null,null,null,null,null,null,null,null,null,null,null,null,null,null,null,null,null,null,null,null,null,null,null,null,null,null,null,null,null,null,null,null,null,null,null,null,null,null,null,null,null,null,null,null,null,null,null,null,null,null,null,null,null,null,null,null,null,null,null,null,null,null,null,null,null,null,null,null,null,null,null,null,null,null,null,null,null,null,null,null,null,null,null,null,null,null,null,null,null,null,null,null,null,null,null,null,null,null,null,null,null,null,null,null,null,null,null,null,null,null,null,null,null,null,null,null,null,null,null,null,null,null,null,null,null,null,null,null,null,null,null,null,null,null,null,null,null,null,null,null,null,null,null,null,null,null,null,null,null,null,null,null,null,null,null,null,null,null,null,null,null,null,null,null,null,null,null,null,null,null,null,null,null,null,null,null,null,null,null,null,null,null,null,null,null,null,null,null,null,null,null,null,null,null,null,null,null,null,null,null,null,null,null,null,null,null,null,null,null,null,null,null,null,null,null,null,null,null,null,null,null,null,null,null,null,null,null,null,null,null,null,null,null,null,null,null,null,null,null,null,null,null,null,null,null,null,null,null,null,null,null,null,null,null,null,null,null,null,null,null,null,null,null,null,null,null,null,null,null,null,null,null,null,null,null,null,null,null,null,null,null,null,null,null,null,null,null,null,null,null,null,null,null,null,null,null,null,null,null,null,null,null,null,null,null,null,null,null,null,null,null,null,null,null,null,null,null,null,null,null,null,null,null,null,null,null,null,null,null,null,null,null,null,null,null,null,null,null,null,null,null,null,null,null,null,null,null,null,null,null,null,null,null,null,null,null,null,null,null,null,null,null,null,null,null,null,null,null,null,null,null,null,null,null,null,null,null,null,null,null,null,null,null,null,null,null,null,null,null,null,null,null,null,null,null,null,null,null,null,null,null,null,null,null,null,null,null,null,null,null,null,null,null,null,null,null,null,null,null,null,null,null,null,null,null,null,null,null,null,null,null,null,null,null,null,null,null,null,null,null,null,null,null,null,null,null,null,null,null,null,null,null,null,null,null,null,null,null,null,null,null,null,null,null,null,null,null,null,null,null,null,null,null,null,null,null,null,null,null,null,null,null,null,null,null,null,null,null,null,null,null,null,null,null,null,null,null,null,null,null,null,null,null,null,null,null,null,null,null,null,null,null,null,null,null,null,null,null,null,null,null,null,null,null,null,null,null,null,null,null,null,null,null,null,null,null,null,null,null,null,null,null,null,null,null,null,null,null,null,null,null,null,null,null,null,null,null,null,null,null,null,null,null,null,null,null,null,null,null,null,null,null,null,null,null,null,null,null,null,null,null,null,null,null,null,null,null,null,null,null,null,null,null,null,null,null,null,null,null,null,null,null,null,null,null,null,null,null,null,null,null,null,null,null,null,null,null,null,null,null,null,null,null,null,null,null,null,null,null,null,null,null,null,null,null,null,null,null,null,null,null,null,null,null,null,null,null,null,null,null,null,null,null,null,null,null,null,null,null,null,null,null,null,null,null,null,null,null,null,null,null,null,null,null,null,null,null,null,null,null,null,null,null,null,null,null,null,null,null,null,null,null,null,null,null,null,null,null,null,null,null,null,null,null,null,null,null,null,null,null,null,null,null,null,null,null,null,null,null,null,null,null,null,null,null,null,null,null,null,null,null,null,null,null,null,null,null,null,null,null,null,null,null,null,null,null,null,null,null,null,null,null,null,null,null,null,null,null,null,null,null,null,null,null,null,null,null,null,null,null,null,null,null,null,null,null,null,null,null,null,null,null,null,null,null,null,null,null,null,null,null,null,null,null,null,null,null,null,null,null,null,null,null,null,null,null,null,null,null,null,null,null,null,null,null,null,null,null,null,null,null,null,null,null,null,null,null,null,null,null,null,null,null,null,null,null,null,null,null,null,null,null,null,null,null,null,null,null,null,null,null,null,null,null,null,null,null,null,null,null,null,null,null,null,null,null,null,null,null,null,null,null,null,null,null,null,null,null,null,null,null,null,null,null,null,null,null,null,null,null,null,null,null,null,null,null,null,null,null,null,null,null,null,null,null,null,null,null,null,null,null,null,null,null,null,null,null,null,null,null,null,null,null,null,null,null,null,null,null,null,null,null,null,null,null,null,null,null,null,null,null,null,null,null,null,null,null,null,null,null,null,null,null,null,null,null,null,null,null,null,null,null,null,null,null,null,null,null,null,null,null,null,null,null,null,null,null,null,null,null,null,null,null,null,null,null,null,null,null,null,null,null,null,null,null,null,null,null,null,null,null,null,null,null,null,null,null,null,null,null,null,null,null,null,null,null,null,null,null,null,null,null,null,null,null,null,null,null,null,null,null,null,null,null,null,null,null,null,null,null,null,null,null,null,null,null,null,null,null,null,null,null,null,null,null,null,null,null,null,null,null,null,null,null,null,null,null,null,null,null,null,null,null,null,null,null,null,null,null,null,null,null,null,null,null,null,null,null,null,null,null,null,null,null,null,null,null,null,null,null,null,null,null,null,null,null,null,null,null,null,null,null,null,null,null,null,null,null,null,null,null,null,null,null,null,null,null,null,null,null,null,null,null,null,null,null,null,null,null,null,null,null,null,null,null,null,null,null,null,null,null,null,null,null,null,null,null,null,null,null,null,null,null,null,null,null,null,null,null,null,null,null,null,null,null,null,null,null,null,null,null,null,null,null,null,null,null,null,null,null,null,null,null,null,null,null,null,null,null,null,null,null,null,null,null,null,null,null,null,null,null,null,null,null,null,null,null,null,null,null,null,null,null,null,null,null,null,null,null,null,null,null,null,null,null,null,null,null,null,null,null,null,null,null,null,null,null,null,null,null,null,null,null,null,null,null,null,null,null,null,null,null,null,null,null,null,null,null,null,null,null,null,null,null,null,null,null,null,null,null,null,null,null,null,null,null,null,null,null,null,null,null,null,null,null,null,null,null,null,null,null,null,null,null,null,null,null,null,null,null,null,null,null,null,null,null,null,null,null,null,null,null,null,null,null,null,null,null,null,null,null,null,null,null,null,null,null,null,null,null,null,null,null,null,null,null,null,null,null,null,null,null,null,null,null,null,null,null,null,null,null,null,null,null,null,null,null,null,null,null,null,null,null,null,null,null,null,null,null,null,null,null,null,null,null,null,null,null,null,null,null,null,null,null,null,null,null,null,null,null,null,null,null,null,null,null,null,null,null,null,null,null,null,null,null,null,null,null,null,null,null,null,null,null,null,null,null,null,null,null,null,null,null,null,null,null,null,null,null,null,null,null,null,null,null,null,null,null,null,null,null,null,null,null,null,null,null,null,null,null,null,null,null,null,null,null,null,null,null,null,null,null,null,null,null,null,null,null,null,null,null,null,null,null,null,null,null,null,null,null,null,null,null,null,null,null,null,null,null,null,null,null,null,null,null,null,null,null,null,null,null,null,null,null,null,null,null,null,null,null,null,null,null,null,null,null,null,null,null,null,null,null,null,null,null,null,null,null,null,null,null,null,null,null,null,null,null,null,null,null,null,null,null,null,null,null,null,null,null,null,null,null,null,null,null,null,null,null,null,null,null,null,null,null,null,null,null,null,null,null,null,null,null,null,null,null,null,null,null,null,null,null,null,null,null,null,null,null,null,null,null,null,null,null,null,null,null,null,null,null,null,null,null,null,null,null,null,null,null,null,null,null,null,null,null,null,null,null,null,null,null,null,null,null,null,null,null,null,null,null,null,null,null,null,null,null,null,null,null,null,null,null,null,null,null,null,null,null,null,null,null,null,null,null,null,null,null,null,null,null,null,null,null,null,null,null,null,null,null,null,null,null,null,null,null,null,null,null,null,null,null,null,null,null,null,null,null,null,null,null,null,null,null,null,null,null,null,null,null,null,null,null,null,null,null,null,null,null,null,null,null,null,null,null,null,null,null,null,null,null,null,null,null,null,null,null,null,null,null,null,null,null,null,null,null,null,null,null,null,null,null,null,null,null,null,null,null,null,null,null,null,null,null,null,null,null,null,null,null,null,null,null,null,null,null,null,null,null,null,null,null,null,null,null,null,null,null,null,null,null,null,null,null,null,null,null,null,null,null,null,null,null,null,null,null,null,null,null,null,null,null,null,null,null,null,null,null,null,null,null,null,null,null,null,null,null,null,null,null,null,null,null,null,null,null,null,null,null,null,null,null,null,null,null,null,null,null,null,null,null,null,null,null,null,null,null,null,null,null,null,null,null,null,null,null,null,null,null,null,null,null,null,null,null,null,null,null,null,null,null,null,null,null,null,null,null,null,null,null,null,null,null,null,null,null,null,null,null,null,null,null,null,null,null,null,null,null,null,null,null,null,null,null,null,null,null,null,null,null,null,null,null,null,null,null,null,null,null,null,null,null,null,null,null,null,null,null,null,null,null,null,null,null,null,null,null,null,null,null,null,null,null,null,null,null,null,null,null,null,null,null,null,null,null,null,null,null,null,null,null,null,null,null,null,null,null,null,null,null,null,null,null,null,null,null,null,null,null,null,null,null,null,null,null,null,null,null,null,null,null,null,null,null,null,null,null,null,null,null,null,null,null,null,null,null,null,null,null,null,null,null,null,null,null,null,null,null,null,null,null,null,null,null,null,null,null,null,null,null,null,null,null,null,null,null,null,null,null,null,null,null,null,null,null,null,null,null,null,null,null,null,null,null,null,null,null,null,null,null,null,null,null,null,null,null,null,null,null,null,null,null,null,null,null,null,null,null,null,null,null,null,null,null,null,null,null,null,null,null,null,null,null,null,null,null,null,null,null,null,null,null,null,null,null,null,null,null,null,null,null,null,null,null,null,null,null,null,null,null,null,null,null,null,null,null,null,null,null,null,null,null,null,null,null,null,null,null,null,null,null,null,null,null,null,null,null,null,null,null,null,null,null,null,null,null,null,null,null,null,null,null,null,null,null,null,null,null,null,null,null,null,null,null,null,null,null,null,null,null,null,null,null,null,null,null,null,null,null,null,null,null,null,null,null,null,null,null,null,null,null,null,null,null,null,null,null,null,null,null,null,null,null,null,null,null,null,null,null,null,null,null,null,null,null,null,null,null,null,null,null,null,null,null,null,null,null,null,null,null,null,null,null,null,null,null,null,null,null,null,null,null,null,null,null,null,null,null,null,null,null,null,null,null,null,null,null,null,null,null,null,null,null,null,null,null,null,null,null,null,null,null,null,null,null,null,null,null,null,null,null,null,null,null,null,null,null,null,null,null,null,null,null,null,null,null,null,null,null,null,null,null,null,null,null,null,null,null,null,null,null,null,null,null,null,null,null,null,null,null,null,null,null,null,null,null,null,null,null,null,null,null,null,null,null,null,null,null,null,null,null,null,null,null,null,null,null,null,null,null,null,null,null,null,null,null,null,null,null,null,null,null,null,null,null,null,null,null,null,null,null,null,null,null,null,null,null,null,null,null,null,null,null,null,null,null,null,null,null,null,null,null,null,null,null,null,null,null,null,null,null,null,null,null,null,null,null,null,null,null,null,null,null,null,null,null,null,null,null,null,null,null,null,null,null,null,null,null,null,null,null,null,null,null,null,null,null,null,null,null,null,null,null,null,null,null,null,null,null,null,null,null,null,null,null,null,null,null,null,null,null,null,null,null,null,null,null,null,null,null,null,null,null,null,null,null,null,null,null,null,null,null,null,null,null,null,null,null,null,null,null,null,null,null,null,null,null,null,null,null,null,null,null,null,null,null,null,null,null,null,null,null,null,null,null,null,null,null,null,null,null,null,null,null,null,null,null,null,null,null,null,null,null,null,null,null,null,null,null,null,null,null,null,null,null,null,null,null,null,null,null,null,null,null,null,null,null,null,null,null,null,null,null,null,null,null,null,null,null,null,null,null,null,null,null,null,null,null,null,null,null,null,null,null,null,null,null,null,null,null,null,null,null,null,null,null,null,null,null,null,null,null,null,null,null,null,null,null,null,null,null,null,null,null,null,null,null,null,null,null,null,null,null,null,null,null,null,null,null,null,null,null,null,null,null,null,null,null,null,null,null,null,null,null,null,null,null,null,null,null,null,null,null,null,null,null,null,null,null,null,null,null,null,null,null,null,null,null,null,null,null,null,null,null,null,null,null,null,null,null,null,null,null,null,null,null,null,null,null,null,null,null,null,null,null,null,null,null,null,null,null,null,null,null,null,null,null,null,null,null,null,null,null,null,null,null,null,null,null,null,null,null,null,null,null,null,null,null,null,null,null,null,null,null,null,null,null,null,null,null,null,null,null,null,null,null,null,null,null,null,null,null,null,null,null,null,null,null,null,null,null,null,null,null,null,null,null,null,null,null,null,null,null,null,null,null,null,null,null,null,null,null,null,null,null,null,null,null,null,null,null,null,null,null,null,null,null,null,null,null,null,null,null,null,null,null,null,null,null,null,null,null,null,null,null,null,null,null,null,null,null,null,null,null,null,null,null,null,null,null,null,null,null,null,null,null,null,null,null,null,null,null,null,null,null,null,null,null,null,null,null,null,null,null,null,null,null,null,null,null,null,null,null,null,null,null,null,null,null,null,null,null,null,null,null,null,null,null,null,null,null,null,null,null,null,null,null,null,null,null,null,null,null,null,null,null,null,null,null,null,null,null,null,null,null,null,null,null,null,null,null,null,null,null,null,null,null,null,null,null,null,null,null,null,null,null,null,null,null,null,null,null,null,null,null,null,null,null,null,null,null,null,null,null,null,null,null,null,null,null,null,null,null,null,null,null,null,null,null,null,null,null,null,null,null,null,null,null,null,null,null,null,null,null,null,null,null,null,null,null,null,null,null,null,null,null,null,null,null,null,null,null,null,null,null,null,null,null,null,null,null,null,null,null,null,null,null,null,null,null,null,null,null,null,null,null,null,null,null,null,null,null,null,null,null,null,null,null,null,null,null,null,null,null,null,null,null,null,null,null,null,null,null,null,null,null,null,null,null,null,null,null,null,null,null,null,null,null,null,null,null,null,null,null,null,null,null,null,null,null,null,null,null,null,null,null,null,null,null,null,null,null,null,null,null,null,null,null,null,null,null,null,null,null,null,null,null,null,null,null,null,null,null,null,null,null,null,null,null,null,null,null,null,null,null,null,null,null,null,null,null,null,null,null,null,null,null,null,null,null,null,null,null,null,null,null,null,null,null,null,null,null,null,null,null,null,null,null,null,null,null,null,null,null,null,null,null,null,null,null,null,null,null,null,null,null,null,null,null,null,null,null,null,null,null,null,null,null,null,null,null,null,null,null,null,null,null,null,null,null,null,null,null,null,null,null,null,null,null,null,null,null,null,null,null,null,null,null,null,null,null,null,null,null,null,null,null,null,null,null,null,null,null,null,null,null,null,null,null,null,null,null,null,null,null,null,null,null,null,null,null,null,null,null,null,null,null,null,null,null,null,null,null,null,null,null,null,null,null,null,null,null,null,null,null,null,null,null,null,null,null,null,null,null,null,null,null,null,null,null,null,null,null,null,null,null,null,null,null,null,null,null,null,null,null,null,null,null,null,null,null,null,null,null,null,null,null,null,null,null,null,null,null,null,null,null,null,null,null,null,null,null,null,null,null,null,null,null,null,null,null,null,null,null,null,null,null,null,null,null,null,null,null,null,null,null,null,null,null,null,null,null,null,null,null,null,null,null,null,null,null,null,null,null,null,null,null,null,null,null,null,null,null,null,null,null,null,null,null,null,null,null,null,null,null,null,null,null,null,null,null,null,null,null,null,null,null,null,null,null,null,null,null,null,null,null,null,null,null,null,null,null,null,null,null,null,null,null,null,null,null,null,null,null,null,null,null,null,null,null,null,null,null,null,null,null,null,null,null,null,null,null,null,null,null,null,null,null,null,null,null,null,null,null,null,null,null,null,null,null,null,null,null,null,null,null,null,null,null,null,null,null,null,null,null,null,null,null,null,null,null,null,null,null,null,null,null,null,null,null,null,null,null,null,null,null,null,null,null,null,null,null,null,null,null,null,null,null,null,null,null,null,null,null,null,null,null,null,null,null,null,null,null,null,null,null,null,null,null,null,null,null,null,null,null,null,null,null,null,null,null,null,null,null,null,null,null,null,null,null,null,null,null,null,null,null,null,null,null,null,null,null,null,null,null,null,null,null,null,null,null,null,null,null,null,null,null,null,null,null,null,null,null,null,null,null,null,null,null,null,null,null,null,null,null,null,null,null,null,null,null,null,null,null,null,null,null,null,null,null,null,null,null,null,null,null,null,null,null,null,null,null,null,null,null,null,null,null,null,null,null,null,null,null,null,null,null,null,null,null,null,null,null,null,null,null,null,null,null,null,null,null,null,null,null,null,null,null,null,null,null,null,null,null,null,null,null,null,null,null,null,null,null,null,null,null,null,null,null,null,null,null,null,null,null,null,null,null,null,null,null,null,null,null,null,null,null,null,null,null,null,null,null,null,null,null,null,null,null,null,null,null,null,null,null,null,null,null,null,null,null,null,null,null,null,null,null,null,null,null,null,null,null,null,null,null,null,null,null,null,null,null,null,null,null,null,null,null,null,null,null,null,null,null,null,null,null,null,null,null,null,null,null,null,null,null,null,null,null,null,null,null,null,null,null,null,null,null,null,null,null,null,null,null,null,null,null,null,null,null,null,null,null,null,null,null,null,null,null,null,null,null,null,null,null,null,null,null,null,null,null,null,null,null,null,null,null,null,null,null,null,null,null,null,null,null,null,null,null,null,null,null,null,null,null,null,null,null,null,null,null,null,null,null,null,null,null,null,null,null,null,null,null,null,null,null,null,null,null,null,null,null,null,null,null,null,null,null,null,null,null,null,null,null,null,null,null,null,null,null,null,null,null,null,null,null,null,null,null,null,null,null,null,null,null,null,null,null,null,null,null,null,null,null,null,null,null,null,null,null,null,null,null,null,null,null,null,null,null,null,null,null,null,null,null,null,null,null,null,null,null,null,null,null,null,null,null,null,null,null,null,null,null,null,null,null,null,null,null,null,null,null,null,null,null,null,null,null,null,null,null,null,null,null,null,null,null,null,null,null,null,null,null,null,null,null,null,null,null,null,null,null,null,null,null,null,null,null,null,null,null,null,null,null,null,null,null,null,null,null,null,null,null,null,null,null,null,null,null,null,null,null,null,null,null,null,null,null,null,null,null,null,null,null,null,null,null,null,null,null,null,null,null,null,null,null,null,null,null,null,null,null,null,null,null,null,null,null,null,null,null,null,null,null,null,null,null,null,null,null,null,null,null,null,null,null,null,null,null,null,null,null,null,null,null,null,null,null,null,null,null,null,null,null,null,null,null,null,null,null,null,null,null,null,null,null,null,null,null,null,null,null,null,null,null,null,null,null,null,null,null,null,null,null,null,null,null,null,null,null,null,null,null,null,null,null,null,null,null,null,null,null,null,null,null,null,null,null,null,null,null,null,null,null,null,null,null,null,null,null,null,null,null,null,null,null,null,null,null,null,null,null,null,null,null,null,null,null,null,null,null,null,null,null,null,null,null,null,null,null,null,null,null,null,null,null,null,null,null,null,null,null,null,null,null,null,null,null,null,null,null,null,null,null,null,null,null,null,null,null,null,null,null,null,null,null,null,null,null,null,null,null,null,null,null,null,null,null,null,null,null,null,null,null,null,null,null,null,null,null,null,null,null,null,null,null,null,null,null,null,null,null,null,null,null,null,null,null,null,null,null,null,null,null,null,null,null,null,null,null,null,null,null,null,null,null,null,null,null,null,null,null,null,null,null,null,null,null,null,null,null,null,null,null,null,null,null,null,null,null,null,null,null,null,null,null,null,null,null,null,null,null,null,null,null,null,null,null,null,null,null,null,null,null,null,null,null,null,null,null,null,null,null,null,null,null,null,null,null,null,null,null,null,null,null,null,null,null,null,null,null,null,null,null,null,null,null,null,null,null,null,null,null,null,null,null,null,null,null,null,null,null,null,null,null,null,null,null,null,null,null,null,null,null,null,null,null,null,null,null,null,null,null,null,null,null,null,null,null,null,null,null,null,null,null,null,null,null,null,null,null,null,null,null,null,null,null,null,null,null,null,null,null,null,null,null,null,null,null,null,null,null,null,null,null,null,null,null,null,null,null,null,null,null,null,null,null,null,null,null,null,null,null,null,null,null,null,null,null,null,null,null,null,null,null,null,null,null,null,null,null,null,null,null,null,null,null,null,null,null,null,null,null,null,null,null,null,null,null,null,null,null,null,null,null,null,null,null,null,null,null,null,null,null,null,null,null,null,null,null,null,null,null,null,null,null,null,null,null,null,null,null,null,null,null,null,null,null,null,null,null,null,null,null,null,null,null,null,null,null,null,null,null,null,null,null,null,null,null,null,null,null,null,null,null,null,null,null,null,null,null,null,null,null,null,null,null,null,null,null,null,null,null,null,null,null,null,null,null,null,null,null,null,null,null,null,null,null,null,null,null,null,null,null,null,null,null,null,null,null,null,null,null,null,null,null,null,null,null,null,null,null,null,null,null,null,null,null,null,null,null,null,null,null,null,null,null,null,null,null,null,null,null,null,null,null,null,null,null,null,null,null,null,null,null,null,null,null,null,null,null,null,null,null,null,null,null,null,null,null,null,null,null,null,null,null,null,null,null,null,null,null,null,null,null,null,null,null,null,null,null,null,null,null,null,null,null,null,null,null,null,null,null,null,null,null,null,null,null,null,null,null,null,null,null,null,null,null,null,null,null,null,null,null,null,null,null,null,null,null,null,null,null,null,null,null,null,null,null,null,null,null,null,null,null,null,null,null,null,null,null,null,null,null,null,null,null,null,null,null,null,null,null,null,null,null,null,null,null,null,null,null,null,null,null,null,null,null,null,null,null,null,null,null,null,null,null,null,null,null,null,null,null,null,null,null,null,null,null,null,null,null,null,null,null,null,null,null,null,null,null,null,null,null,null,null,null,null,null,null,null,null,null,null,null,null,null,null,null,null,null,null,null,null,null,null,null,null,null,null,null,null,null,null,null,null,null,null,null,null,null,null,null,null,null,null,null,null,null,null,null,null,null,null,null,null,null,null,null,null,null,null,null,null,null,null,null,null,null,null,null,null,null,null,null,null,null,null,null,null,null,null,null,null,null,null,null,null,null,null,null,null,null,null,null,null,null,null,null,null,null,null,null,null,null,null,null,null,null,null,null,null,null,null,null,null,null,null,null,null,null,null,null,null,null,null,null,null,null,null,null,null,null,null,null,null,null,null,null,null,null,null,null,null,null,null,null,null,null,null,null,null,null,null,null,null,null,null,null,null,null,null,null,null,null,null,null,null,null,null,null,null,null,null,null,null,null,null,null,null,null,null,null,null,null,null,null,null,null,null,null,null,null,null,null,null,null,null,null,null,null,null,null,null,null,null,null,null,null,null,null,null,null,null,null,null,null,null,null,null,null,null,null,null,null,null,null,null,null,null,null,null,null,null,null,null,null,null,null,null,null,null,null,null,null,null,null,null,null,null,null,null,null,null,null,null,null,null,null,null,null,null,null,null,null,null,null,null,null,null,null,null,null,null,null,null,null,null,null,null,null,null,null,null,null,null,null,null,null,null,null,null,null,null,null,null,null,null,null,null,null,null,null,null,null,null,null,null,null,null,null,null,null,null,null,null,null,null,null,null,null,null,null,null,null,null,null,null,null,null,null,null,null,null,null,null,null,null,null,null,null,null,null,null,null,null,null,null,null,null,null,null,null,null,null,null,null,null,null,null,null,null,null,null,null,null,null,null,null,null,null,null,null,null,null,null,null,null,null,null,null,null,null,null,null,null,null,null,null,null,null,null,null,null,null,null,null,null,null,null,null,null,null,null,null,null,null,null,null,null,null,null,null,null,null,null,null,null,null,null,null,null,null,null,null,null,null,null,null,null,null,null,null,null,null,null,null,null,null,null,null,null,null,null,null,null,null,null,null,null,null,null,null,null,null,null,null,null,null,null,null,null,null,null,null,null,null,null,null,null,null,null,null,null,null,null,null,null,null,null,null,null,null,null,null,null,null,null,null,null,null,null,null,null,null,null,null,null,null,null,null,null,null,null,null,null,null,null,null,null,null,null,null,null,null,null,null,null,null,null,null,null,null,null,null,null,null,null,null,null,null,null,null,null,null,null,null,null,null,null,null,null,null,null,null,null,null,null,null,null,null,null,null,null,null,null,null,null,null,null,null,null,null,null,null,null,null,null,null,null,null,null,null,null,null,null,null,null,null,null,null,null,null,null,null,null,null,null,null,null,null,null,null,null,null,null,null,null,null,null,null,null,null,null,null,null,null,null,null,null,null,null,null,null,null,null,null,null,null,null,null,null,null,null,null,null,null,null,null,null,null,null,null,null,null,null,null,null,null,null,null,null,null,null,null,null,null,null,null,null,null,null,null,null,null,null,null,null,null,null,null,null,null,null,null,null,null,null,null,null,null,null,null,null,null,null,null,null,null,null,null,null,null,null,null,null,null,null,null,null,null,null,null,null,null,null,null,null,null,null,null,null,null,null,null,null,null,null,null,null,null,null,null,null,null,null,null,null,null,null,null,null,null,null,null,null,null,null,null,null,null,null,null,null,null,null,null,null,null,null,null,null,null,null,null,null,null,null,null,null,null,null,null,null,null,null,null,null,null,null,null,null,null,null,null,null,null,null,null,null,null,null,null,null,null,null,null,null,null,null,null,null,null,null,null,null,null,null,null,null,null,null,null,null,null,null,null,null,null,null,null,null,null,null,null,null,null,null,null,null,null,null,null,null,null,null,null,null,null,null,null,null,null,null,null,null,null,null,null,null,null,null,null,null,null,null,null,null,null,null,null,null,null,null,null,null,null,null,null,null,null,null,null,null,null,null,null,null,null,null,null,null,null,null,null,null,null,null,null,null,null,null,null,null,null,null,null,null,null,null,null,null,null,null,null,null,null,null,null,null,null,null,null,null,null,null,null,null,null,null,null,null,null,null,null,null,null,null,null,null,null,null,null,null,null,null,null,null,null,null,null,null,null,null,null,null,null,null,null,null,null,null,null,null,null,null,null,null,null,null,null,null,null,null,null,null,null,null,null,null,null,null,null,null,null,null,null,null,null,null,null,null,null,null,null,null,null,null,null,null,null,null,null,null,null,null,null,null,null,null,null,null,null,null,null,null,null,null,null,null,null,null,null,null,null,null,null,null,null,null,null,null,null,null,null,null,null,null,null,null,null,null,null,null,null,null,null,null,null,null,null,null,null,null,null,null,null,null,null,null,null,null,null,null,null,null,null,null,null,null,null,null,null,null,null,null,null,null,null,null,null,null,null,null,null,null,null,null,null,null,null,null,null,null,null,null,null,null,null,null,null,null,null,null,null,null,null,null,null,null,null,null,null,null,null,null,null,null,null,null,null,null,null,null,null,null,null,null,null,null,null,null,null,null,null,null,null,null,null,null,null,null,null,null,null,null,null,null,null,null,null,null,null,null,null,null,null,null,null,null,null,null,null,null,null,null,null,null,null,null,null,null,null,null,null,null,null,null,null,null,null,null,null,null,null,null,null,null,null,null,null,null,null,null,null,null,null,null,null,null,null,null,null,null,null,null,null,null,null,null,null,null,null,null,null,null,null,null,null,null,null,null,null,null,null,null,null,null,null,null,null,null,null,null,null,null,null,null,null,null,null,null,null,null,null,null,null,null,null,null,null,null,null,null,null,null,null,null,null,null,null,null,null,null,null,null,null,null,null,null,null,null,null,null,null,null,null,null,null,null,null,null,null,null,null,null,null,null,null,null,null,null,null,null,null,null,null,null,null,null,null,null,null,null,null,null,null,null,null,null,null,null,null,null,null,null,null,null,null,null,null,null,null,null,null,null,null,null,null,null,null,null,null,null,null,null,null,null,null,null,null,null,null,null,null,null,null,null,null,null,null,null,null,null,null,null,null,null,null,null,null,null,null,null,null,null,null,null,null,null,null,null,null,null,null,null,null,null,null,null,null,null,null,null,null,null,null,null,null,null,null,null,null,null,null,null,null,null,null,null,null,null,null,null,null,null,null,null,null,null,null,null,null,null,null,null,null,null,null,null,null,null,null,null,null,null,null,null,null,null,null,null,null,null,null,null,null,null,null,null,null,null,null,null,null,null,null,null,null,null,null,null,null,null,null,null,null,null,null,null,null,null,null,null,null,null,null,null,null,null,null,null,null,null,null,null,null,null,null,null,null,null,null,null,null,null,null,null,null,null,null,null,null,null,null,null,null,null,null,null,null,null,null,null,null,null,null,null,null,null,null,null,null,null,null,null,null,null,null,null,null,null,null,null,null,null,null,null,null,null,null,null,null,null,null,null,null,null,null,null,null,null,null,null,null,null,null,null,null,null,null,null,null,null,null,null,null,null,null,null,null,null,null,null,null,null,null,null,null,null,null,null,null,null,null,null,null,null,null,null,null,null,null,null,null,null,null,null,null,null,null,null,null,null,null,null,null,null,null,null,null,null,null,null,null,null,null,null,null,null,null,null,null,null,null,null,null,null,null,null,null,null,null,null,null,null,null,null,null,null,null,null,null,null,null,null,null,null,null,null,null,null,null,null,null,null,null,null,null,null,null,null,null,null,null,null,null,null,null,null,null,null,null,null,null,null,null,null,null,null,null,null,null,null,null,null,null,null,null,null,null,null,null,null,null,null,null,null,null,null,null,null,null,null,null,null,null,null,null,null,null,null,null,null,null,null,null,null,null,null,null,null,null,null,null,null,null,null,null,null,null,null,null,null,null,null,null,null,null,null,null,null,null,null,null,null,null,null,null,null,null,null,null,null,null,null,null,null,null,null,null,null,null,null,null,null,null,null,null,null,null,null,null,null,null,null,null,null,null,null,null,null,null,null,null,null,null,null,null,null,null,null,null,null,null,null,null,null,null,null,null,null,null,null,null,null,null,null,null,null,null,null,null,null,null,null,null,null,null,null,null,null,null,null,null,null,null,null,null,null,null,null,null,null,null,null,null,null,null,null,null,null,null,null,null,null,null,null,null,null,null,null,null,null,null,null,null,null,null,null,null,null,null,null,null,null,null,null,null,null,null,null,null,null,null,null,null,null,null,null,null,null,null,null,null,null,null,null,null,null,null,null,null,null,null,null,null,null,null,null,null,null,null,null,null,null,null,null,null,null,null,null,null,null,null,null,null,null,null,null,null,null,null,null,null,null,null,null,null,null,null,null,null,null,null,null,null,null,null,null,null,null,null,null,null,null,null,null,null,null,null,null,null,null,null,null,null,null,null,null,null,null,null,null,null,null,null,null,null,null,null,null,null,null,null,null,null,null,null,null,null,null,null,null,null,null,null,null,null,null,null,null,null,null,null,null,null,null,null,null,null,null,null,null,null,null,null,null,null,null,null,null,null,null,null,null,null,null,null,null,null,null,null,null,null,null,null,null,null,null,null,null,null,null,null,null,null,null,null,null,null,null,null,null,null,null,null,null,null,null,null,null,null,null,null,null,null,null,null,null,null,null,null,null,null,null,null,null,null,null,null,null,null,null,null,null,null,null,null,null,null,null,null,null,null,null,null,null,null,null,null,null,null,null,null,null,null,null,null,null,null,null,null,null,null,null,null,null,null,null,null,null,null,null,null,null,null,null,null,null,null,null,null,null,null,null,null,null,null,null,null,null,null,null,null,null,null,null,null,null,null,null,null,null,null,null,null,null,null,null,null,null,null,null,null,null,null,null,null,null,null,null,null,null,null,null,null,null,null,null,null,null,null,null,null,null,null,null,null,null,null,null,null,null,null,null,null,null,null,null,null,null,null,null,null,null,null,null,null,null,null,null,null,null,null,null,null,null,null,null,null,null,null,null,null,null,null,null,null,null,null,null,null,null,null,null,null,null,null,null,null,null,null,null,null,null,null,null,null,null,null,null,null,null,null,null,null,null,null,null,null,null,null,null,null,null,null,null,null,null,null,null,null,null,null,null,null,null,null,null,null,null,null,null,null,null,null,null,null,null,null,null,null,null,null,null,null,null,null,null,null,null,null,null,null,null,null,null,null,null,null,null,null,null,null,null,null,null,null,null,null,null,null,null,null,null,null,null,null,null,null,null,null,null,null,null,null,null,null,null,null,null,null,null,null,null,null,null,null,null,null,null,null,null,null,null,null,null,null,null,null,null,null,null,null,null,null,null,null,null,null,null,null,null,null,null,null,null,null,null,null,null,null,null,null,null,null,null,null,null,null,null,null,null,null,null,null,null,null,null,null,null,null,null,null,null,null,null,null,null,null,null,null,null,null,null,null,null,null,null,null,null,null,null,null,null,null,null,null,null,null,null,null,null,null,null,null,null,null,null,null,null,null,null,null,null,null,null,null,null,null,null,null,null,null,null,null,null,null,null,null,null,null,null,null,null,null,null,null,null,null,null,null,null,null,null,null,null,null,null,null,null,null,null,null,null,null,null,null,null,null,null,null,null,null,null,null,null,null,null,null,null,null,null,null,null,null,null,null,null,null,null,null,null,null,null,null,null,null,null,null,null,null,null,null,null,null,null,null,null,null,null,null,null,null,null,null,null,null,null,null,null,null,null,null,null,null,null,null,null,null,null,null,null,null,null,null,null,null,null,null,null,null,null,null,null,null,null,null,null,null,null,null,null,null,null,null,null,null,null,null,null,null,null,null,null,null,null,null,null,null,null,null,null,null,null,null,null,null,null,null,null,null,null,null,null,null,null,null,null,null,null,null,null,null,null,null,null,null,null,null,null,null,null,null,null,null,null,null,null,null,null,null,null,null,null,null,null,null,null,null,null,null,null,null,null,null,null,null,null,null,null,null,null,null,null,null,null,null,null,null,null,null,null,null,null,null,null,null,null,null,null,null,null,null,null,null,null,null,null,null,null,null,null,null,null,null,null,null,null,null,null,null,null,null,null,null,null,null,null,null,null,null,null,null,null,null,null,null,null,null,null,null,null,null,null,null,null,null,null,null,null,null,null,null,null,null,null,null,null,null,null,null,null,null,null,null,null,null,null,null,null,null,null,null,null,null,null,null,null,null,null,null,null,null,null,null,null,null,null,null,null,null,null,null,null,null,null,null,null,null,null,null,null,null,null,null,null,null,null,null,null,null,null,null,null,null,null,null,null,null,null,null,null,null,null,null,null,null,null,null,null,null,null,null,null,null,null,null,null,null,null,null,null,null,null,null,null,null,null,null,null,null,null,null,null,null,null,null,null,null,null,null,null,null,null,null,null,null,null,null,null,null,null,null,null,null,null,null,null,null,null,null,null,null,null,null,null,null,null,null,null,null,null,null,null,null,null,null,null,null,null,null,null,null,null,null,null,null,null,null,null,null,null,null,null,null,null,null,null,null,null,null,null,null,null,null,null,null,null,null,null,null,null,null,null,null,null,null,null,null,null,null,null,null,null,null,null,null,null,null,null,null,null,null,null,null,null,null,null,null,null,null,null,null,null,null,null,null,null,null,null,null,null,null,null,null,null,null,null,null,null,null,null,null,null,null,null,null,null,null,null,null,null,null,null,null,null,null,null,null,null,null,null,null,null,null,null,null,null,null,null,null,null,null,null,null,null,null,null,null,null,null,null,null,null,null,null,null,null,null,null,null,null,null,null,null,null,null,null,null,null,null,null,null,null,null,null,null,null,null,null,null,null,null,null,null,null,null,null,null,null,null,null,null,null,null,null,null,null,null,null,null,null,null,null,null,null,null,null,null,null,null,null,null,null,null,null,null,null,null,null,null,null,null,null,null,null,null,null,null,null,null,null,null,null,null,null,null,null,null,null,null,null,null,null,null,null,null,null,null,null,null,null,null,null,null,null,null,null,null,null,null,null,null,null,null,null,null,null,null,null,null,null,null,null,null,null,null,null,null,null,null,null,null,null,null,null,null,null,null,null,null,null,null,null,null,null,null,null,null,null,null,null,null,null,null,null,null,null,null,null,null,null,null,null,null,null,null,null,null,null,null,null,null,null,null,null,null,null,null,null,null,null,null,null,null,null,null,null,null,null,null,null,null,null,null,null,null,null,null,null,null,null,null,null,null,null,null,null,null,null,null,null,null,null,null,null,null,null,null,null,null,null,null,null,null,null,null,null,null,null,null,null,null,null,null,null,null,null,null,null,null,null,null,null,null,null,null,null,null,null,null,null,null,null,null,null,null,null,null,null,null,null,null,null,null,null,null,null,null,null,null,null,null,null,null,null,null,null,null,null,null,null,null,null,null,null,null,null,null,null,null,null,null,null,null,null,null,null,null,null,null,null,null,null,null,null,null,null,null,null,null,null,null,null,null,null,null,null,null,null,null,null,null,null,null,null,null,null,null,null,null,null,null,null,null,null,null,null,null,null,null,null,null,null,null,null,null,null,null,null,null,null,null,null,null,null,null,null,null,null,null,null,null,null,null,null,null,null,null,null,null,null,null,null,null,null,null,null,null,null,null,null,null,null,null,null,null,null,null,null,null,null,null,null,null,null,null,null,null,null,null,null,null,null,null,null,null,null,null,null,null,null,null,null,null,null,null,null,null,null,null,null,null,null,null,null,null,null,null,null,null,null,null,null,null,null,null,null,null,null,null,null,null,null,null,null,null,null,null,null,null,null,null,null,null,null,null,null,null,null,null,null,null,null,null,null,null,null,null,null,null,null,null,null,null,null,null,null,null,null,null,null,null,null,null,null,null,null,null,null,null,null,null,null,null,null,null,null,null,null,null,null,null,null,null,null,null,null,null,null,null,null,null,null,null,null,null,null,null,null,null,null,null,null,null,null,null,null,null,null,null,null,null,null,null,null,null,null,null,null,null,null,null,null,null,null,null,null,null,null,null,null,null,null,null,null,null,null,null,null,null,null,null,null,null,null,null,null,null,null,null,null,null,null,null,null,null,null,null,null,null,null,null,null,null,null,null,null,null,null,null,null,null,null,null,null,null,null,null,null,null,null,null,null,null,null,null,null,null,null,null,null,null,null,null,null,null,null,null,null,null,null,null,null,null,null,null,null,null,null,null,null,null,null,null,null,null,null,null,null,null,null,null,null,null,null,null,null,null,null,null,null,null,null,null,null,null,null,null,null,null,null,null,null,null,null,null,null,null,null,null,null,null,null,null,null,null,null,null,null,null,null,null,null,null,null,null,null,null,null,null,null,null,null,null,null,null,null,null,null,null,null,null,null,null,null,null,null,null,null,null,null,null,null,null,null,null,null,null,null,null,null,null,null,null,null,null,null,null,null,null,null,null,null,null,null,null,null,null,null,null,null,null,null,null,null,null,null,null,null,null,null,null,null,null,null,null,null,null,null,null,null,null,null,null,null,null,null,null,null,null,null,null,null,null,null,null,null,null,null,null,null,null,null,null,null,null,null,null,null,null,null,null,null,null,null,null,null,null,null,null,null,null,null,null,null,null,null,null,null,null,null,null,null,null,null,null,null,null,null,null,null,null,null,null,null,null,null,null,null,null,null,null,null,null,null,null,null,null,null,null,null,null,null,null,null,null,null,null,null,null,null,null,null,null,null,null,null,null,null,null,null,null,null,null,null,null,null,null,null,null,null,null,null,null,null,null,null,null,null,null,null,null,null,null,null,null,null,null,null,null,null,null,null,null,null,null,null,null,null,null,null,null,null,null,null,null,null,null,null,null,null,null,null,null,null,null,null,null,null,null,null,null,null,null,null,null,null,null,null,null,null,null,null,null,null,null,null,null,null,null,null,null,null,null,null,null,null,null,null,null,null,null,null,null,null,null,null,null,null,null,null,null,null,null,null,null,null,null,null,null,null,null,null,null,null,null,null,null,null,null,null,null,null,null,null,null,null,null,null,null,null,null,null,null,null,null,null,null,null,null,null,null,null,null,null,null,null,null,null,null,null,null,null,null,null,null,null,null,null,null,null,null,null,null,null,null,null,null,null,null,null,null,null,null,null,null,null,null,null,null,null,null,null,null,null,null,null,null,null,null,null,null,null,null,null,null,null,null,null,null,null,null,null,null,null,null,null,null,null,null,null,null,null,null,null,null,null,null,null,null,null,null,null,null,null,null,null,null,null,null,null,null,null,null,null,null,null,null,null,null,null,null,null,null,null,null,null,null,null,null,null,null,null,null,null,null,null,null,null,null,null,null,null,null,null,null,null,null,null,null,null,null,null,null,null,null,null,null,null,null,null,null,null,null,null,null,null,null,null,null,null,null,null,null,null,null,null,null,null,null,null,null,null,null,null,null,null,null,null,null,null,null,null,null,null,null,null,null,null,null,null,null,null,null,null,null,null,null,null,null,null,null,null,null,null,null,null,null,null,null,null,null,null,null,null,null,null,null,null,null,null,null,null,null,null,null,null,null,null,null,null,null,null,null,null,null,null,null,null,null,null,null,null,null,null,null,null,null,null,null,null,null,null,null,null,null,null,null,null,null,null,null,null,null,null,null,null,null,null,null,null,null,null,null,null,null,null,null,null,null,null,null,null,null,null,null,null,null,null,null,null,null,null,null,null,null,null,null,null,null,null,null,null,null,null,null,null,null,null,null,null,null,null,null,null,null,null,null,null,null,null,null,null,null,null,null,null,null,null,null,null,null,null,null,null,null,null,null,null,null,null,null,null,null,null,null,null,null,null,null,null,null,null,null,null,null,null,null,null,null,null,null,null,null,null,null,null,null,null,null,null,null,null,null,null,null,null,null,null,null,null,null,null,null,null,null,null,null,null,null,null,null,null,null,null,null,null,null,null,null,null,null,null,null,null,null,null,null,null,null,null,null,null,null,null,null,null,null,null,null,null,null,null,null,null,null,null,null,null,null,null,null,null,null,null,null,null,null,null,null,null,null,null,null,null,null,null,null,null,null,null,null,null,null,null,null,null,null,null,null,null,null,null,null,null,null,null,null,null,null,null,null,null,null,null,null,null,null,null,null,null,null,null,null,null,null,null,null,null,null,null,null,null,null,null,null,null,null,null,null,null,null,null,null,null,null,null,null,null,null,null,null,null,null,null,null,null,null,null,null,null,null,null,null,null,null,null,null,null,null,null,null,null,null,null,null,null,null,null,null,null,null,null,null,null,null,null,null,null,null,null,null,null,null,null,null,null,null,null,null,null,null,null,null,null,null,null,null,null,null,null,null,null,null,null,null,null,null,null,null,null,null,null,null,null,null,null,null,null,null,null,null,null,null,null,null,null,null,null,null,null,null,null,null,null,null,null,null,null,null,null,null,null,null,null,null,null,null,null,null,null,null,null,null,null,null,null,null,null,null,null,null,null,null,null,null,null,null,null,null,null,null,null,null,null,null,null,null,null,null,null,null,null,null,null,null,null,null,null,null,null,null,null,null,null,null,null,null,null,null,null,null,null,null,null,null,null,null,null,null,null,null,null,null,null,null,null,null,null,null,null,null,null,null,null,null,null,null,null,null,null,null,null,null,null,null,null,null,null,null,null,null,null,null,null,null,null,null,null,null,null,null,null,null,null,null,null,null,null,null,null,null,null,null,null,null,null,null,null,null,null,null,null,null,null,null,null,null,null,null,null,null,null,null,null,null,null,null,null,null,null,null,null,null,null,null,null,null,null,null,null,null,null,null,null,null,null,null,null,null,null,null,null,null,null,null,null,null,null,null,null,null,null,null,null,null,null,null,null,null,null,null,null,null,null,null,null,null,null,null,null,null,null,null,null,null,null,null,null,null,null,null,null,null,null,null,null,null,null,null,null,null,null,null,null,null,null,null,null,null,null,null,null,null,null,null,null,null,null,null,null,null,null,null,null,null,null,null,null,null,null,null,null,null,null,null,null,null,null,null,null,null,null,null,null,null,null,null,null,null,null,null,null,null,null,null,null,null,null,null,null,null,null,null,null,null,null,null,null,null,null,null,null,null,null,null,null,null,null,null,null,null,null,null,null,null,null,null,null,null,null,null,null,null,null,null,null,null,null,null,null,null,null,null,null,null,null,null,null,null,null,null,null,null,null,null,null,null,null,null,null,null,null,null,null,null,null,null,null,null,null,null,null,null,null,null,null,null,null,null,null,null,null,null,null,null,null,null,null,null,null,null,null,null,null,null,null,null,null,null,null,null,null,null,null,null,null,null,null,null,null,null,null,null,null,null,null,null,null,null,null,null,null,null,null,null,null,null,null,null,null,null,null,null,null,null,null,null,null,null,null,null,null,null,null,null,null,null,null,null,null,null,null,null,null,null,null,null,null,null,null,null,null,null,null,null,null,null,null,null,null,null,null,null,null,null,null,null,null,null,null,null,null,null,null,null,null,null,null,null,null,null,null,null,null,null,null,null,null,null,null,null,null,null,null,null,null,null,null,null,null,null,null,null,null,null,null,null,null,null,null,null,null,null,null,null,null,null,null,null,null,null,null,null,null,null,null,null,null,null,null,null,null,null,null,null,null,null,null,null,null,null,null,null,null,null,null,null,null,null,null,null,null,null,null,null,null,null,null,null,null,null,null,null,null,null,null,null,null,null,null,null,null,null,null,null,null,null,null,null,null,null,null,null,null,null,null,null,null,null,null,null,null,null,null,null,null,null,null,null,null,null,null,null,null,null,null,null,null,null,null,null,null,null,null,null,null,null,null,null,null,null,null,null,null,null,null,null,null,null,null,null,null,null,null,null,null,null,null,null,null,null,null,null,null,null,null,null,null,null,null,null,null,null,null,null,null,null,null,null,null,null,null,null,null,null,null,null,null,null,null,null,null,null,null,null,null,null,null,null,null,null,null,null,null,null,null,null,null,null,null,null,null,null,null,null,null,null,null,null,null,null,null,null,null,null,null,null,null,null,null,null,null,null,null,null,null,null,null,null,null,null,null,null,null,null,null,null,null,null,null,null,null,null,null,null,null,null,null,null,null,null,null,null,null,null,null,null,null,null,null,null,null,null,null,null,null,null,null,null,null,null,null,null,null,null,null,null,null,null,null,null,null,null,null,null,null,null,null,null,null,null,null,null,null,null,null,null,null,null,null,null,null,null,null,null,null,null,null,null,null,null,null,null,null,null,null,null,null,null,null,null,null,null,null,null,null,null,null,null,null,null,null,null,null,null,null,null,null,null,null,null,null,null,null,null,null,null,null,null,null,null,null,null,null,null,null,null,null,null,null,null,null,null,null,null,null,null,null,null,null,null,null,null,null,null,null,null,null,null,null,null,null,null,null,null,null,null,null,null,null,null,null,null,null,null,null,null,null,null,null,null,null,null,null,null,null,null,null,null,null,null,null,null,null,null,null,null,null,null,null,null,null,null,null,null,null,null,null,null,null,null,null,null,null,null,null,null,null,null,null,null,null,null,null,null,null,null,null,null,null,null,null,null,null,null,null,null,null,null,null,null,null,null,null,null,null,null,null,null,null,null,null,null,null,null,null,null,null,null,null,null,null,null,null,null,null,null,null,null,null,null,null,null,null,null,null,null,null,null,null,null,null,null,null,null,null,null,null,null,null,null,null,null,null,null,null,null,null,null,null,null,null,null,null,null,null,null,null,null,null,null,null,null,null,null,null,null,null,null,null,null,null,null,null,null,null,null,null,null,null,null,null,null,null,null,null,null,null,null,null,null,null,null,null,null,null,null,null,null,null,null,null,null,null,null,null,null,null,null,null,null,null,null,null,null,null,null,null,null,null,null,null,null,null,null,null,null,null,null,null,null,null,null,null,null,null,null,null,null,null,null,null,null,null,null,null,null,null,null,null,null,null,null,null,null,null,null,null,null,null,null,null,null,null,null,null,null,null,null,null,null,null,null,null,null,null,null,null,null,null,null,null,null,null,null,null,null,null,null,null,null,null,null,null,null,null,null,null,null,null,null,null,null,null,null,null,null,null,null,null,null,null,null,null,null,null,null,null,null,null,null,null,null,null,null,null,null,null,null,null,null,null,null,0]
[null,null,null,null,null,null,null,null,null,"DLT-",7,null,null,null,null,null,null,null,null,null,null,null,null,null,null,null,null,null,null,null,null,null,null,null,null,null,null,null,null,null,null,null,null,null,null,null,null,null,null,null,null,null,null,null,null,null,null,null,null,null,null,null,null,null,null,null,null,null,null,null,null,null,null,null,null,null,null,null,null,null,null,null,null,null,null,null,null,null,null,null,null,null,null,null,null,null,null,null,null,null,null,null,null,null,null,null,null,null,null,null,null,null,null,null,null,null,null,null,null,null,null,null,null,null,null,null,null,null,null,null,null,null,null,null,null,null,null,null,null,null,null,null,null,null,null,null,null,null,null,null,null,null,null,null,null,null,null,null,null,null,null,null,null,null,null,null,null,null,null,null,null,null,null,null,null,null,null,null,null,null,null,null,null,null,null,null,null,null,null,null,null,null,null,null,null,null,null,null,null,null,null,null,null,null,null,null,null,null,null,null,null,null,null,null,null,null,null,null,null,null,null,null,null,null,null,null,null,null,null,null,null,null,null,null,null,null,null,null,null,null,null,null,null,null,null,null,null,null,null,null,null,null,null,null,null,null,null,null,null,null,null,null,null,null,null,null,null,null,null,null,null,null,null,null,null,null,null,null,null,null,null,null,null,null,null,null,null,null,null,null,null,null,null,null,null,null,null,null,null,null,null,null,null,null,null,null,null,null,null,null,null,null,null,null,null,null,null,null,null,null,null,null,null,null,null,null,null,null,null,null,null,null,null,null,null,null,null,null,null,null,null,null,null,null,null,null,null,null,null,null,null,null,null,null,null,null,null,null,null,null,null,null,null,null,null,null,null,null,null,null,null,null,null,null,null,null,null,null,null,null,null,null,null,null,null,null,null,null,null,null,null,null,null,null,null,null,null,null,null,null,null,null,null,null,null,null,null,null,null,null,null,null,null,null,null,null,null,null,null,null,null,null,null,null,null,null,null,null,null,null,null,null,null,null,null,null,null,null,null,null,null,null,null,null,null,null,null,null,null,null,null,null,null,null,null,null,null,null,null,null,null,null,null,null,null,null,null,null,null,null,null,null,null,null,null,null,null,null,null,null,null,null,null,null,null,null,null,null,null,null,null,null,null,null,null,null,null,null,null,null,null,null,null,null,null,null,null,null,null,null,null,null,null,null,null,null,null,null,null,null,null,null,null,null,null,null,null,null,null,null,null,null,null,null,null,null,null,null,null,null,null,null,null,null,null,null,null,null,null,null,null,null,null,null,null,null,null,null,null,null,null,null,null,null,null,null,null,null,null,null,null,null,null,null,null,null,null,null,null,null,null,null,null,null,null,null,null,null,null,null,null,null,null,null,null,null,null,null,null,null,null,null,null,null,null,null,null,null,null,null,null,null,null,null,null,null,null,null,null,null,null,null,null,null,null,null,null,null,null,null,null,null,null,null,null,null,null,null,null,null,null,null,null,null,null,null,null,null,null,null,null,null,null,null,null,null,null,null,null,null,null,null,null,null,null,null,null,null,null,null,null,null,null,null,null,null,null,null,null,null,null,null,null,null,null,null,null,null,null,null,null,null,null,null,null,null,null,null,null,null,null,null,null,null,null,null,null,null,null,null,null,null,null,null,null,null,null,null,null,null,null,null,null,null,null,null,null,null,null,null,null,null,null,null,null,null,null,null,null,null,null,null,null,null,null,null,null,null,null,null,null,null,null,null,null,null,null,null,null,null,null,null,null,null,null,null,null,null,null,null,null,null,null,null,null,null,null,null,null,null,null,null,null,null,null,null,null,null,null,null,null,null,null,null,null,null,null,null,null,null,null,null,null,null,null,null,null,null,null,null,null,null,null,null,null,null,null,null,null,null,null,null,null,null,null,null,null,null,null,null,null,null,null,null,null,null,null,null,null,null,null,null,null,null,null,null,null,null,null,null,null,null,null,null,null,null,null,null,null,null,null,null,null,null,null,null,null,null,null,null,null,null,null,null,null,null,null,null,null,null,null,null,null,null,null,null,null,null,null,null,null,null,null,null,null,null,null,null,null,null,null,null,null,null,null,null,null,null,null,null,null,null,null,null,null,null,null,null,null,null,null,null,null,null,null,null,null,null,null,null,null,null,null,null,null,null,null,null,null,null,null,null,null,null,null,null,null,null,null,null,null,null,null,null,null,null,null,null,null,null,null,null,null,null,null,null,null,null,null,null,null,null,null,null,null,null,null,null,null,null,null,null,null,null,null,null,null,null,null,null,null,null,null,null,null,null,null,null,null,null,null,null,null,null,null,null,null,null,null,null,null,null,null,null,null,null,null,null,null,null,null,null,null,null,null,null,null,null,null,null,null,null,null,null,null,null,null,null,null,null,null,null,null,null,null,null,null,null,null,null,null,null,null,null,null,null,null,null,null,null,null,null,null,null,null,null,null,null,null,null,null,null,null,null,null,null,null,null,null,null,null,null,null,null,null,null,null,null,null,null,null,null,null,null,null,null,null,null,null,null,null,null,null,null,null,null,null,null,null,null,null,null,null,null,null,null,null,null,null,null,null,null,null,null,null,null,null,null,null,null,null,null,null,null,null,null,null,null,null,null,null,null,null,null,null,null,null,null,null,null,null,null,null,null,null,null,null,null,null,null,null,null,null,null,null,null,null,null,null,null,null,null,null,null,null,null,null,null,null,null,null,null,null,null,null,null,null,null,null,null,null,null,null,null,null,null,null,null,null,null,null,null,null,null,null,null,null,null,null,null,null,null,null,null,null,null,null,null,null,null,null,null,null,null,null,null,null,null,null,null,null,null,null,null,null,null,null,null,null,null,null,null,null,null,null,null,null,null,null,null,null,null,null,null,null,null,null,null,null,null,null,null,null,null,null,null,null,null,null,null,null,null,null,null,null,null,null,null,null,null,null,null,null,null,null,null,null,null,null,null,null,null,null,null,null,null,null,null,null,null,null,null,null,null,null,null,null,null,null,null,null,null,null,null,null,null,null,null,null,null,null,null,null,null,null,null,null,null,null,null,null,null,null,null,null,null,null,null,null,null,null,null,null,null,null,null,null,null,null,null,null,null,null,null,null,null,null,null,null,null,null,null,null,null,null,null,null,null,null,null,null,null,null,null,null,null,null,null,null,null,null,null,null,null,null,null,null,null,null,null,null,null,null,null,null,null,null,null,null,null,null,null,null,null,null,null,null,null,null,null,null,null,null,null,null,null,null,null,null,null,null,null,null,null,null,null,null,null,null,null,null,null,null,null,null,null,null,null,null,null,null,null,null,null,null,null,null,null,null,null,null,null,null,null,null,null,null,null,null,null,null,null,null,null,null,null,null,null,null,null,null,null,null,null,null,null,null,null,null,null,null,null,null,null,null,null,null,null,null,null,null,null,null,null,null,null,null,null,null,null,null,null,null,null,null,null,null,null,null,null,null,null,null,null,null,null,null,null,null,null,null,null,null,null,null,null,null,null,null,null,null,null,null,null,null,null,null,null,null,null,null,null,null,null,null,null,null,null,null,null,null,null,null,null,null,null,null,null,null,null,null,null,null,null,null,null,null,null,null,null,null,null,null,null,null,null,null,null,null,null,null,null,null,null,null,null,null,null,null,null,null,null,null,null,null,null,null,null,null,null,null,null,null,null,null,null,null,null,null,null,null,null,null,null,null,null,null,null,null,null,null,null,null,null,null,null,null,null,null,null,null,null,null,null,null,null,null,null,null,null,null,null,null,null,null,null,null,null,null,null,null,null,null,null,null,null,null,null,null,null,null,null,null,null,null,null,null,null,null,null,null,null,null,null,null,null,null,null,null,null,null,null,null,null,null,null,null,null,null,null,null,null,null,null,null,null,null,null,null,null,null,null,null,null,null,null,null,null,null,null,null,null,null,null,null,null,null,null,null,null,null,null,null,null,null,null,null,null,null,null,null,null,null,null,null,null,null,null,null,null,null,null,null,null,null,null,null,null,null,null,null,null,null,null,null,null,null,null,null,null,null,null,null,null,null,null,null,null,null,null,null,null,null,null,null,null,null,null,null,null,null,null,null,null,null,null,null,null,null,null,null,null,null,null,null,null,null,null,null,null,null,null,null,null,null,null,null,null,null,null,null,null,null,null,null,null,null,null,null,null,null,null,null,null,null,null,null,null,null,null,null,null,null,null,null,null,null,null,null,null,null,null,null,null,null,null,null,null,null,null,null,null,null,null,null,null,null,null,null,null,null,null,null,null,null,null,null,null,null,null,null,null,null,null,null,null,null,null,null,null,null,null,null,null,null,null,null,null,null,null,null,null,null,null,null,null,null,null,null,null,null,null,null,null,null,null,null,null,null,null,null,null,null,null,null,null,null,null,null,null,null,null,null,null,null,null,null,null,null,null,null,null,null,null,null,null,null,null,null,null,null,null,null,null,null,null,null,null,null,null,null,null,null,null,null,null,null,null,null,null,null,null,null,null,null,null,null,null,null,null,null,null,null,null,null,null,null,null,null,null,null,null,null,null,null,null,null,null,null,null,null,null,null,null,null,null,null,null,null,null,null,null,null,null,null,null,null,null,null,null,null,null,null,null,null,null,null,null,null,null,null,null,null,null,null,null,null,null,null,null,null,null,null,null,null,null,null,null,null,null,null,null,null,null,null,null,null,null,null,null,null,null,null,null,null,null,null,null,null,null,null,null,null,null,null,null,null,null,null,null,null,null,null,null,null,null,null,null,null,null,null,null,null,null,null,null,null,null,null,null,null,null,null,null,null,null,null,null,null,null,null,null,null,null,null,null,null,null,null,null,null,null,null,null,null,null,null,null,null,null,null,null,null,null,null,null,null,null,null,null,null,null,null,null,null,null,null,null,null,null,null,null,null,null,null,null,null,null,null,null,null,null,null,null,null,null,null,null,null,null,null,null,null,null,null,null,null,null,null,null,null,null,null,null,null,null,null,null,null,null,null,null,null,null,null,null,null,null,null,null,null,null,null,null,null,null,null,null,null,null,null,null,null,null,null,null,null,null,null,null,null,null,null,null,null,null,null,null,null,null,null,null,null,null,null,null,null,null,null,null,null,null,null,null,null,null,null,null,null,null,null,null,null,null,null,null,null,null,null,null,null,null,null,null,null,null,null,null,null,null,null,null,null,null,null,null,null,null,null,null,null,null,null,null,null,null,null,null,null,null,null,null,null,null,null,null,null,null,null,null,null,null,null,null,null,null,null,null,null,null,null,null,null,null,null,null,null,null,null,null,null,null,null,null,null,null,null,null,null,null,null,null,null,null,null,null,null,null,null,null,null,null,null,null,null,null,null,null,null,null,null,null,null,null,null,null,null,null,null,null,null,null,null,null,null,null,null,null,null,null,null,null,null,null,null,null,null,null,null,null,null,null,null,null,null,null,null,null,null,null,null,null,null,null,null,null,null,null,null,null,null,null,null,null,null,null,null,null,null,null,null,null,null,null,null,null,null,null,null,null,null,null,null,null,null,null,null,null,null,null,null,null,null,null,null,null,null,null,null,null,null,null,null,null,null,null,null,null,null,null,null,null,null,null,null,null,null,null,null,null,null,null,null,null,null,null,null,null,null,null,null,null,null,null,null,null,null,null,null,null,null,null,null,null,null,null,null,null,null,null,null,null,null,null,null,null,null,null,null,null,null,null,null,null,null,null,null,null,null,null,null,null,null,null,null,null,null,null,null,null,null,null,null,null,null,null,null,null,null,null,null,null,null,null,null,null,null,null,null,null,null,null,null,null,null,null,null,null,null,null,null,null,null,null,null,null,null,null,null,null,null,null,null,null,null,null,null,null,null,null,null,null,null,null,null,null,null,null,null,null,null,null,null,null,null,null,null,null,null,null,null,null,null,null,null,null,null,null,null,null,null,null,null,null,null,null,null,null,null,null,null,null,null,null,null,null,null,null,null,null,null,null,null,null,null,null,null,null,null,null,null,null,null,null,null,null,null,null,null,null,null,null,null,null,null,null,null,null,null,null,null,null,null,null,null,null,null,null,null,null,null,null,null,null,null,null,null,null,null,null,null,null,null,null,null,null,null,null,null,null,null,null,null,null,null,null,null,null,null,null,null,null,null,null,null,null,null,null,null,null,null,null,null,null,null,null,null,null,null,null,null,null,null,null,null,null,null,null,null,null,null,null,null,null,null,null,null,null,null,null,null,null,null,null,null,null,null,null,null,null,null,null,null,null,null,null,null,null,null,null,null,null,null,null,null,null,null,null,null,null,null,null,null,null,null,null,null,null,null,null,null,null,null,null,null,null,null,null,null,null,null,null,null,null,null,null,null,null,null,null,null,null,null,null,null,null,null,null,null,null,null,null,null,null,null,null,null,null,null,null,null,null,null,null,null,null,null,null,null,null,null,null,null,null,null,null,null,null,null,null,null,null,null,null,null,null,null,null,null,null,null,null,null,null,null,null,null,null,null,null,null,null,null,null,null,null,null,null,null,null,null,null,null,null,null,null,null,null,null,null,null,null,null,null,null,null,null,null,null,null,null,null,null,null,null,null,null,null,null,null,null,null,null,null,null,null,null,null,null,null,null,null,null,null,null,null,null,null,null,null,null,null,null,null,null,null,null,null,null,null,null,null,null,null,null,null,null,null,null,null,null,null,null,null,null,null,null,null,null,null,null,null,null,null,null,null,null,null,null,null,null,null,null,null,null,null,null,null,null,null,null,null,null,null,null,null,null,null,null,null,null,null,null,null,null,null,null,null,null,null,null,null,null,null,null,null,null,null,null,null,null,null,null,null,null,null,null,null,null,null,null,null,null,null,null,null,null,null,null,null,null,null,null,null,null,null,null,null,null,null,null,null,null,null,null,null,null,null,null,null,null,null,null,null,null,null,null,null,null,null,null,null,null,null,null,null,null,null,null,null,null,null,null,null,null,null,null,null,null,null,null,null,null,null,null,null,null,null,null,null,null,null,null,null,null,null,null,null,null,null,null,null,null,null,null,null,null,null,null,null,null,null,null,null,null,null,null,null,null,null,null,null,null,null,null,null,null,null,null,null,null,null,null,null,null,null,null,null,null,null,null,null,null,null,null,null,null,null,null,null,null,null,null,null,null,null,null,null,null,null,null,null,null,null,null,null,null,null,null,null,null,null,null,null,null,null,null,null,null,null,null,null,null,null,null,null,null,null,null,null,null,null,null,null,null,null,null,null,null,null,null,null,null,null,null,null,null,null,null,null,null,null,null,null,null,null,null,null,null,null,null,null,null,null,null,null,null,null,null,null,null,null,null,null,null,null,null,null,null,null,null,null,null,null,null,null,null,null,null,null,null,null,null,null,null,null,null,null,null,null,null,null,null,null,null,null,null,null,null,null,null,null,null,null,null,null,null,null,null,null,null,null,null,null,null,null,null,null,null,null,null,null,null,null,null,null,null,null,null,null,null,null,null,null,null,null,null,null,null,null,null,null,null,null,null,null,null,null,null,null,null,null,null,null,null,null,null,null,null,null,null,null,null,null,null,null,null,null,null,null,null,null,null,null,null,null,null,null,null,null,null,null,null,null,null,null,null,null,null,null,null,null,null,null,null,null,null,null,null,null,null,null,null,null,null,null,null,null,null,null,null,null,null,null,null,null,null,null,null,null,null,null,null,null,null,null,null,null,null,null,null,null,null,null,null,null,null,null,null,null,null,null,null,null,null,null,null,null,null,null,null,null,null,null,null,null,null,null,null,null,null,null,null,null,null,null,null,null,null,null,null,null,null,null,null,null,null,null,null,null,null,null,null,null,null,null,null,null,null,null,null,null,null,null,null,null,null,null,null,null,null,null,null,null,null,null,null,null,null,null,null,null,null,null,null,null,null,null,null,null,null,null,null,null,null,null,null,null,null,null,null,null,null,null,null,null,null,null,null,null,null,null,null,null,null,null,null,null,null,null,null,null,null,null,null,null,null,null,null,null,null,null,null,null,null,null,null,null,null,null,null,null,null,null,null,null,null,null,null,null,null,null,null,null,null,null,null,null,null,null,null,null,null,null,null,null,null,null,null,null,null,null,null,null,null,null,null,null,null,null,null,null,null,null,null,null,null,null,null,null,null,null,null,null,null,null,null,null,null,null,null,null,null,null,null,null,null,null,null,null,null,null,null,null,null,null,null,null,null,null,null,null,null,null,null,null,null,null,null,null,null,null,null,null,null,null,null,null,null,null,null,null,null,null,null,null,null,null,null,null,null,null,null,null,null,null,null,null,null,null,null,null,null,null,null,null,null,null,null,null,null,null,null,null,null,null,null,null,null,null,null,null,null,null,null,null,null,null,null,null,null,null,null,null,null,null,null,null,null,null,null,null,null,null,null,null,null,null,null,null,null,null,null,null,null,null,null,null,null,null,null,null,null,null,null,null,null,null,null,null,null,null,null,null,null,null,null,null,null,null,null,null,null,null,null,null,null,null,null,null,null,null,null,null,null,null,null,null,null,null,null,null,null,null,null,null,null,null,null,null,null,null,null,null,null,null,null,null,null,null,null,null,null,null,null,null,null,null,null,null,null,null,null,null,null,null,null,null,null,null,null,null,null,null,null,null,null,null,null,null,null,null,null,null,null,null,null,null,null,null,null,null,null,null,null,null,null,null,null,null,null,null,null,null,null,null,null,null,null,null,null,null,null,null,null,null,null,null,null,null,null,null,null,null,null,null,null,null,null,null,null,null,null,null,null,null,null,null,null,null,null,null,null,null,null,null,null,null,null,null,null,null,null,null,null,null,null,null,null,null,null,null,null,null,null,null,null,null,null,null,null,null,null,null,null,null,null,null,null,null,null,null,null,null,null,null,null,null,null,null,null,null,null,null,null,null,null,null,null,null,null,null,null,null,null,null,null,null,null,null,null,null,null,null,null,null,null,null,null,null,null,null,null,null,null,null,null,null,null,null,null,null,null,null,null,null,null,null,null,null,null,null,null,null,null,null,null,null,null,null,null,null,null,null,null,null,null,null,null,null,null,null,null,null,null,null,null,null,null,null,null,null,null,null,null,null,null,null,null,null,null,null,null,null,null,null,null,null,null,null,null,null,null,null,null,null,null,null,null,null,null,null,null,null,null,null,null,null,null,null,null,null,null,null,null,null,null,null,null,null,null,null,null,null,null,null,null,null,null,null,null,null,null,null,null,null,null,null,null,null,null,null,null,null,null,null,null,null,null,null,null,null,null,null,null,null,null,null,null,null,null,null,null,null,null,null,null,null,null,null,null,null,null,null,null,null,null,null,null,null,null,null,null,null,null,null,null,null,null,null,null,null,null,null,null,null,null,null,null,null,null,null,null,null,null,null,null,null,null,null,null,null,null,null,null,null,null,null,null,null,null,null,null,null,null,null,null,null,null,null,null,null,null,null,null,null,null,null,null,null,null,null,null,null,null,null,null,null,null,null,null,null,null,null,null,null,null,null,null,null,null,null,null,null,null,null,null,null,null,null,null,null,null,null,null,null,null,null,null,null,null,null,null,null,null,null,null,null,null,null,null,null,null,null,null,null,null,null,null,null,null,null,null,null,null,null,null,null,null,null,null,null,null,null,null,null,null,null,null,null,null,null,null,null,null,null,null,null,null,null,null,null,null,null,null,null,null,null,null,null,null,null,null,null,null,null,null,null,null,null,null,null,null,null,null,null,null,null,null,null,null,null,null,null,null,null,null,null,null,null,null,null,null,null,null,null,null,null,null,null,null,null,null,null,null,null,null,null,null,null,null,null,null,null,null,null,null,null,null,null,null,null,null,null,null,null,null,null,null,null,null,null,null,null,null,null,null,null,null,null,null,null,null,null,null,null,null,null,null,null,null,null,null,null,null,null,null,null,null,null,null,null,null,null,null,null,null,null,null,null,null,null,null,null,null,null,null,null,null,null,null,null,null,null,null,null,null,null,null,null,null,null,null,null,null,null,null,null,null,null,null,null,null,null,null,null,null,null,null,null,null,null,null,null,null,null,null,null,null,null,null,null,null,null,null,null,null,null,null,null,null,null,null,null,null,null,null,null,null,null,null,null,null,null,null,null,null,null,null,null,null,null,null,null,null,null,null,null,null,null,null,null,null,null,null,null,null,null,null,null,null,null,null,null,null,null,null,null,null,null,null,null,null,null,null,null,null,null,null,null,null,null,null,null,null,null,null,null,null,null,null,null,null,null,null,null,null,null,null,null,null,null,null,null,null,null,null,null,null,null,null,null,null,null,null,null,null,null,null,null,null,null,null,null,null,null,null,null,null,null,null,null,null,null,null,null,null,null,null,null,null,null,null,null,null,null,null,null,null,null,null,null,null,null,null,null,null,null,null,null,null,null,null,null,null,null,null,null,null,null,null,null,null,null,null,null,null,null,null,null,null,null,null,null,null,null,null,null,null,null,null,null,null,null,null,null,null,null,null,null,null,null,null,null,null,null,null,null,null,null,null,null,null,null,null,null,null,null,null,null,null,null,null,null,null,null,null,null,null,null,null,null,null,null,null,null,null,null,null,null,null,null,null,null,null,null,null,null,null,null,null,null,null,null,null,null,null,null,null,null,null,null,null,null,null,null,null,null,null,null,null,null,null,null,null,null,null,null,null,null,null,null,null,null,null,null,null,null,null,null,null,null,null,null,null,null,null,null,null,null,null,null,null,null,null,null,null,null,null,null,null,null,null,null,null,null,null,null,null,null,null,null,null,null,null,null,null,null,null,null,null,null,null,null,null,null,null,null,null,null,null,null,null,null,null,null,null,null,null,null,null,null,null,null,null,null,null,null,null,null,null,null,null,null,null,null,null,null,null,null,null,null,null,null,null,null,null,null,null,null,null,null,null,null,null,null,null,null,null,null,null,null,null,null,null,null,null,null,null,null,null,null,null,null,null,null,null,null,null,null,null,null,null,null,null,null,null,null,null,null,null,null,null,null,null,null,null,null,null,null,null,null,null,null,null,null,null,null,null,null,null,null,null,null,null,null,null,null,null,null,null,null,null,null,null,null,null,null,null,null,null,null,null,null,null,null,null,null,null,null,null,null,null,null,null,null,null,null,null,null,null,null,null,null,null,null,null,null,null,null,null,null,null,null,null,null,null,null,null,null,null,null,null,null,null,null,null,null,null,null,null,null,null,null,null,null,null,null,null,null,null,null,null,null,null,null,null,null,null,null,null,null,null,null,null,null,null,null,null,null,null,null,null,null,null,null,null,null,null,null,null,null,null,null,null,null,null,null,null,null,null,null,null,null,null,null,null,null,null,null,null,null,null,null,null,null,null,null,null,null,null,null,null,null,null,null,null,null,null,null,null,null,null,null,null,null,null,null,null,null,null,null,null,null,null,null,null,null,null,null,null,null,null,null,null,null,null,null,null,null,null,null,null,null,null,null,null,null,null,null,null,null,null,null,null,null,null,null,null,null,null,null,null,null,null,null,null,null,null,null,null,null,null,null,null,null,null,null,null,null,null,null,null,null,null,null,null,null,null,null,null,null,null,null,null,null,null,null,null,null,null,null,null,null,null,null,null,null,null,null,null,null,null,null,null,null,null,null,null,null,null,null,null,null,null,null,null,null,null,null,null,null,null,null,null,null,null,null,null,null,null,null,null,null,null,null,null,null,null,null,null,null,null,null,null,null,null,null,null,null,null,null,null,null,null,null,null,null,null,null,null,null,null,null,null,null,null,null,null,null,null,null,null,null,null,null,null,null,null,null,null,null,null,null,null,null,null,null,null,null,null,null,null,null,null,null,null,null,null,null,null,null,null,null,null,null,null,null,null,null,null,null,null,null,null,null,null,null,null,null,null,null,null,null,null,null,null,null,null,null,null,null,null,null,null,null,null,null,null,null,null,null,null,null,null,null,null,null,null,null,null,null,null,null,null,null,null,null,null,null,null,null,null,null,null,null,null,null,null,null,null,null,null,null,null,null,null,null,null,null,null,null,null,null,null,null,null,null,null,null,null,null,null,null,null,null,null,null,null,null,null,null,null,null,null,null,null,null,null,null,null,null,null,null,null,null,null,null,null,null,null,null,null,null,null,null,null,null,null,null,null,null,null,null,null,null,null,null,null,null,null,null,null,null,null,null,null,null,null,null,null,null,null,null,null,null,null,null,null,null,null,null,null,null,null,null,null,null,null,null,null,null,null,null,null,null,null,null,null,null,null,null,null,null,null,null,null,null,null,null,null,null,null,null,null,null,null,null,null,null,null,null,null,null,null,null,null,null,null,null,null,null,null,null,null,null,null,null,null,null,null,null,null,null,null,null,null,null,null,null,null,null,null,null,null,null,null,null,null,null,null,null,null,null,null,null,null,null,null,null,null,null,null,null,null,null,null,null,null,null,null,null,null,null,null,null,null,null,null,null,null,null,null,null,null,null,null,null,null,null,null,null,null,null,null,null,null,null,null,null,null,null,null,null,null,null,null,null,null,null,null,null,null,null,null,null,null,null,null,null,null,null,null,null,null,null,null,null,null,null,null,null,null,null,null,null,null,null,null,null,null,null,null,null,null,null,null,null,null,null,null,null,null,null,null,null,null,null,null,null,null,null,null,null,null,null,null,null,null,null,null,null,null,null,null,null,null,null,null,null,null,null,null,null,null,null,null,null,null,null,null,null,null,null,null,null,null,null,null,null,null,null,null,null,null,null,null,null,null,null,null,null,null,null,null,null,null,null,null,null,null,null,null,null,null,null,null,null,null,null,null,null,null,null,null,null,null,null,null,null,null,null,null,null,null,null,null,null,null,null,null,null,null,null,null,null,null,null,null,null,null,null,null,null,null,null,null,null,null,null,null,null,null,null,null,null,null,null,null,null,null,null,null,null,null,null,null,null,null,null,null,null,null,null,null,null,null,null,null,null,null,null,null,null,null,null,null,null,null,null,null,null,null,null,null,null,null,null,null,null,null,null,null,null,null,null,null,null,null,null,null,null,null,null,null,null,null,null,null,null,null,null,null,null,null,null,null,null,null,null,null,null,null,null,null,null,null,null,null,null,null,null,null,null,null,null,null,null,null,null,null,null,null,null,null,null,null,null,null,null,null,null,null,null,null,null,null,null,null,null,null,null,null,null,null,null,null,null,null,null,null,null,null,null,null,null,null,null,null,null,null,null,null,null,null,null,null,null,null,null,null,null,null,null,null,null,null,null,null,null,null,null,null,null,null,null,null,null,null,null,null,null,null,null,null,null,null,null,null,null,null,null,null,null,null,null,null,null,null,null,null,null,null,null,null,null,null,null,null,null,null,null,null,null,null,null,null,null,null,null,null,null,null,null,null,null,null,null,null,null,null,null,null,null,null,null,null,null,null,null,null,null,null,null,null,null,null,null,null,null,null,null,null,null,null,null,null,null,null,null,null,null,null,null,null,null,null,null,null,null,null,null,null,null,null,null,null,null,null,null,null,null,null,null,null,null,null,null,null,null,null,null,null,null,null,null,null,null,null,null,null,null,null,null,null,null,null,null,null,null,null,null,null,null,null,null,null,null,null,null,null,null,null,null,null,null,null,null,null,null,null,null,null,null,null,null,null,null,null,null,null,null,null,null,null,null,null,null,null,null,null,null,null,null,null,null,null,null,null,null,null,null,null,null,null,null,null,null,null,null,null,null,null,null,null,null,null,null,null,null,null,null,null,null,null,null,null,null,null,null,null,null,null,null,null,null,null,null,null,null,null,null,null,null,null,null,null,null,null,null,null,null,null,null,null,null,null,null,null,null,null,null,null,null,null,null,null,null,null,null,null,null,null,null,null,null,null,null,null,null,null,null,null,null,null,null,null,null,null,null,null,null,null,null,null,null,null,null,null,null,null,null,null,null,null,null,null,null,null,null,null,null,null,null,null,null,null,null,null,null,null,null,null,null,null,null,null,null,null,null,null,null,null,null,null,null,null,null,null,null,null,null,null,null,null,null,null,null,null,null,null,null,null,null,null,null,null,null,null,null,null,null,null,null,null,null,null,null,null,null,null,null,null,null,null,null,null,null,null,null,null,null,null,null,null,null,null,null,null,null,null,null,null,null,null,null,null,null,null,null,null,null,null,null,null,null,null,null,null,null,null,null,null,null,null,null,null,null,null,null,null,null,null,null,null,null,null,null,null,null,null,null,null,null,null,null,null,null,null,null,null,null,null,null,null,null,null,null,null,null,null,null,null,null,null,null,null,null,null,null,null,null,null,null,null,null,null,null,null,null,null,null,null,null,null,null,null,null,null,null,null,null,null,null,null,null,null,null,null,null,null,null,null,null,null,null,null,null,null,null,null,null,null,null,null,null,null,null,null,null,null,null,null,null,null,null,null,null,null,null,null,null,null,null,null,null,null,null,null,null,null,null,null,null,null,null,null,null,null,null,null,null,null,null,null,null,null,null,null,null,null,null,null,null,null,null,null,null,null,null,null,null,null,null,null,null,null,null,null,null,null,null,null,null,null,null,null,null,null,null,null,null,null,null,null,null,null,null,null,null,null,null,null,null,null,null,null,null,null,null,null,null,null,null,null,null,null,null,null,null,null,null,null,null,null,null,null,null,null,null,null,null,null,null,null,null,null,null,null,null,null,null,null,null,null,null,null,null,null,null,null,null,null,null,null,null,null,null,null,null,null,null,null,null,null,null,null,null,null,null,null,null,null,null,null,null,null,null,null,null,null,null,null,null,null,null,null,null,null,null,null,null,null,null,null,null,null,null,null,null,null,null,null,null,null,null,null,null,null,null,null,null,null,null,null,null,null,null,null,null,null,null,null,null,null,null,null,null,null,null,null,null,null,null,null,null,null,null,null,null,null,null,null,null,null,null,null,null,null,null,null,null,null,null,null,null,null,null,null,null,null,null,null,null,null,null,null,null,null,null,null,null,null,null,null,null,null,null,null,null,null,null,null,null,null,null,null,null,null,null,null,null,null,null,null,null,null,null,null,null,null,null,null,null,null,null,null,null,null,null,null,null,null,null,null,null,null,null,null,null,null,null,null,null,null,null,null,null,null,null,null,null,null,null,null,null,null,null,null,null,null,null,null,null,null,null,null,null,null,null,null,null,null,null,null,null,null,null,null,null,null,null,null,null,null,null,null,null,null,null,null,null,null,null,null,null,null,null,null,null,null,null,null,null,null,null,null,null,null,null,null,null,null,null,null,null,null,null,null,null,null,null,null,null,null,null,null,null,null,null,null,null,null,null,null,null,null,null,null,null,null,null,null,null,null,null,null,null,null,null,null,null,null,null,null,null,null,null,null,null,null,null,null,null,null,null,null,null,null,null,null,null,null,null,null,null,null,null,null,null,null,null,null,null,null,null,null,null,null,null,null,null,null,null,null,null,null,null,null,null,null,null,null,null,null,null,null,null,null,null,null,null,null,null,null,null,null,null,null,null,null,null,null,null,null,null,null,null,null,null,null,null,null,null,null,null,null,null,null,null,null,null,null,null,null,null,null,null,null,null,null,null,null,null,null,null,null,null,null,null,null,null,null,null,null,null,null,null,null,null,null,null,null,null,null,null,null,null,null,null,null,null,null,null,null,null,null,null,null,null,null,null,null,null,null,null,null,null,null,null,null,null,null,null,null,null,null,null,null,null,null,null,null,null,null,null,null,null,null,null,null,null,null,null,null,null,null,null,null,null,null,null,null,null,null,null,null,null,null,null,null,null,null,null,null,null,null,null,null,null,null,null,null,null,null,null,null,null,null,null,null,null,null,null,null,null,null,null,null,null,null,null,null,null,null,null,null,null,null,null,null,null,null,null,null,null,null,null,null,null,null,null,null,null,null,null,null,null,null,null,null,null,null,null,null,null,null,null,null,null,null,null,null,null,null,null,null,null,null,null,null,null,null,null,null,null,null,null,null,null,null,null,null,null,null,null,null,null,null,null,null,null,null,null,null,null,null,null,null,null,null,null,null,null,null,null,null,null,null,null,null,null,null,null,null,null,null,null,null,null,null,null,null,null,null,null,null,null,null,null,null,null,null,null,null,null,null,null,null,null,null,null,null,null,null,null,null,null,null,null,null,null,null,null,null,null,null,null,null,null,null,null,null,null,null,null,null,null,null,null,null,null,null,null,null,null,null,null,null,null,null,null,null,null,null,null,null,null,null,null,null,null,null,null,null,null,null,null,null,null,null,null,null,null,null,null,null,null,null,null,null,null,null,null,null,null,null,null,null,null,null,null,null,null,null,null,null,null,null,null,null,null,null,null,null,null,null,null,null,null,null,null,null,null,null,null,null,null,null,null,null,null,null,null,null,null,null,null,null,null,null,null,null,null,null,null,null,null,null,null,null,null,null,null,null,null,null,null,null,null,null,null,null,null,null,null,null,null,null,null,null,null,null,null,null,null,null,null,null,null,null,null,null,null,null,null,null,null,null,null,null,null,null,null,null,null,null,null,null,null,null,null,null,null,null,null,null,null,null,null,null,null,null,null,null,null,null,null,null,null,null,null,null,null,null,null,null,null,null,null,null,null,null,null,null,null,null,null,null,null,null,null,null,null,null,null,null,null,null,null,null,null,null,null,null,null,null,null,null,null,null,null,null,null,null,null,null,null,null,null,null,null,null,null,null,null,null,null,null,null,null,null,null,null,null,null,null,null,null,null,null,null,null,null,null,null,null,null,null,null,null,null,null,null,null,null,null,null,null,null,null,null,null,null,null,null,null,null,null,null,null,null,null,null,null,null,null,null,null,null,null,null,null,null,null,null,null,null,null,null,null,null,null,null,null,null,null,null,null,null,null,null,null,null,null,null,null,null,null,null,null,null,null,null,null,null,null,null,null,null,null,null,null,null,null,null,null,null,null,null,null,null,null,null,null,null,null,null,null,null,null,null,null,null,null,null,null,null,null,null,null,null,null,null,null,null,null,null,null,null,null,null,null,null,null,null,null,null,null,null,null,null,null,null,null,null,null,null,null,null,null,null,null,null,null,null,null,null,null,null,null,null,null,null,null,null,null,null,null,null,null,null,null,null,null,null,null,null,null,null,null,null,null,null,null,null,null,null,null,null,null,null,null,null,null,null,null,null,null,null,null,null,null,null,null,null,null,null,null,null,null,null,null,null,null,null,null,null,null,null,null,null,null,null,null,null,null,null,null,null,null,null,null,null,null,null,null,null,null,null,null,null,null,null,null,null,null,null,null,null,null,null,null,null,null,null,null,null,null,null,null,null,null,null,null,null,null,null,null,null,null,null,null,null,null,null,null,null,null,null,null,null,null,null,null,null,null,null,null,null,null,null,null,null,null,null,null,null,null,null,null,null,null,null,null,null,null,null,null,null,null,null,null,null,null,null,null,null,null,null,null,null,null,null,null,null,null,null,null,null,null,null,null,null,null,null,null,null,null,null,null,null,null,null,null,null,null,null,null,null,null,null,null,null,null,null,null,null,null,null,null,null,null,null,null,null,null,null,null,null,null,null,null,null,null,null,null,null,null,null,null,null,null,null,null,null,null,null,null,null,null,null,null,null,null,null,null,null,null,null,null,null,null,null,null,null,null,null,null,null,null,null,null,null,null,null,null,null,null,null,null,null,null,null,null,null,null,null,null,null,null,null,null,null,null,null,null,null,null,null,null,null,null,null,null,null,null,null,null,null,null,null,null,null,null,null,null,null,null,null,null,null,null,null,null,null,null,null,null,null,null,null,null,null,null,null,null,null,null,null,null,null,null,null,null,null,null,null,null,null,null,null,null,null,null,null,null,null,null,null,null,null,null,null,null,null,null,null,null,null,null,null,null,null,null,null,null,null,null,null,null,null,null,null,null,null,null,null,null,null,null,null,null,null,null,null,null,null,null,null,null,null,null,null,null,null,null,null,null,null,null,null,null,null,null,null,null,null,null,null,null,null,null,null,null,null,null,null,null,null,null,null,null,null,null,null,null,null,null,null,null,null,null,null,null,null,null,null,null,null,null,null,null,null,null,null,null,null,null,null,null,null,null,null,null,null,null,null,null,null,null,null,null,null,null,null,null,null,null,null,null,null,null,null,null,null,null,null,null,null,null,null,null,null,null,null,null,null,null,null,null,null,null,null,null,null,null,null,null,null,null,null,null,null,null,null,null,null,null,null,null,null,null,null,null,null,null,null,null,null,null,null,null,null,null,null,null,null,null,null,null,null,null,null,null,null,null,null,null,null,null,null,null,null,null,null,null,null,null,null,null,null,null,null,null,null,null,null,null,null,null,null,null,null,null,null,null,null,null,null,null,null,null,null,null,null,null,null,null,null,null,null,null,null,null,null,null,null,null,null,null,null,null,null,null,null,null,null,null,null,null,null,null,null,null,null,null,null,null,null,null,null,null,null,null,null,null,null,null,null,null,null,null,null,null,null,null,null,null,null,null,null,null,null,null,null,null,null,null,null,null,null,null,null,null,null,null,null,null,null,null,null,null,null,null,null,null,null,null,null,null,null,null,null,null,null,null,null,null,null,null,null,null,null,null,null,null,null,null,null,null,null,null,null,null,null,null,null,null,null,null,null,null,null,null,null,null,null,null,null,null,null,null,null,null,null,null,null,null,null,null,null,null,null,null,null,null,null,null,null,null,null,null,null,null,null,null,null,null,null,null,null,null,null,null,null,null,null,null,null,null,null,null,null,null,null,null,null,null,null,null,null,null,null,null,null,null,null,null,null,null,null,null,null,null,null,null,null,null,null,null,null,null,null,null,null,null,null,null,null,null,null,null,null,null,null,null,null,null,null,null,null,null,null,null,null,null,null,null,null,null,null,null,null,null,null,null,null,null,null,null,null,null,null,null,null,null,null,null,null,null,null,null,null,null,null,null,null,null,null,null,null,null,null,null,null,null,null,null,null,null,null,null,null,null,null,null,null,null,null,null,null,null,null,null,null,null,null,null,null,null,null,null,null,null,null,null,null,null,null,null,null,null,null,null,null,null,null,null,null,null,null,null,null,null,null,null,null,null,null,null,null,null,null,null,null,null,null,null,null,null,null,null,null,null,null,null,null,null,null,null,null,null,null,null,null,null,null,null,null,null,null,null,null,null,null,null,null,null,null,null,null,null,null,null,null,null,null,null,null,null,null,null,null,null,null,null,null,null,null,null,null,null,null,null,null,null,null,null,null,null,null,null,null,null,null,null,null,null,null,null,null,null,null,null,null,null,null,null,null,null,null,null,null,null,null,null,null,null,null,null,null,null,null,null,null,null,null,null,null,null,null,null,null,null,null,null,null,null,null,null,null,null,null,null,null,null,null,null,null,null,null,null,null,null,null,null,null,null,null,null,null,null,null,null,null,null,null,null,null,null,null,null,null,null,null,null,null,null,null,null,null,null,null,null,null,null,null,null,null,null,null,null,null,null,null,null,null,null,null,null,null,null,null,null,null,null,null,null,null,null,null,null,null,null,null,null,null,null,null,null,null,null,null,null,null,null,null,null,null,null,null,null,null,null,null,null,null,null,null,null,null,null,null,null,null,null,null,null,null,null,null,null,null,null,null,null,null,null,null,null,null,null,null,null,null,null,null,null,null,null,null,null,null,null,null,null,null,null,null,null,null,null,null,null,null,null,null,null,null,null,null,null,null,null,null,null,null,null,null,null,null,null,null,null,null,null,null,null,null,null,null,null,null,null,null,null,null,null,null,null,null,null,null,null,null,null,null,null,null,null,null,null,null,null,null,null,null,null,null,null,null,null,null,null,null,null,null,null,null,null,null,null,null,null,null,null,null,null,null,null,null,null,null,null,null,null,null,null,null,null,null,null,null,null,null,null,null,null,null,null,null,null,null,null,null,null,null,null,null,null,null,null,null,null,null,null,null,null,null,null,null,null,null,null,null,null,null,null,null,null,null,null,null,null,null,null,null,null,null,null,null,null,null,null,null,null,null,null,null,null,null,null,null,null,null,null,null,null,null,null,null,null,null,null,null,null,null,null,null,null,null,null,null,null,null,null,null,null,null,null,null,null,null,null,null,null,null,null,null,null,null,null,null,null,null,null,null,null,null,null,null,null,null,null,null,null,null,null,null,null,null,null,null,null,null,null,null,null,null,null,null,null,null,null,null,null,null,null,null,null,null,null,null,null,null,null,null,null,null,null,null,null,null,null,null,null,null,null,null,null,null,null,null,null,null,null,null,null,null,null,null,null,null,null,null,null,null,null,null,null,null,null,null,null,null,null,null,null,null,null,null,null,null,null,null,null,null,null,null,null,null,null,null,null,null,null,null,null,null,null,null,null,null,null,null,null,null,null,null,null,null,null,null,null,null,null,null,null,null,null,null,null,null,null,null,null,null,null,null,null,null,null,null,null,null,null,null,null,null,null,null,null,null,null,null,null,null,null,null,null,null,null,null,null,null,null,null,null,null,null,null,null,null,null,null,null,null,null,null,null,null,null,null,null,null,null,null,null,null,null,null,null,null,null,null,null,null,null,null,null,null,null,null,null,null,null,null,null,null,null,null,null,null,null,null,null,null,null,null,null,null,null,null,null,null,null,null,null,null,null,null,null,null,null,null,null,null,null,null,null,null,null,null,null,null,null,null,null,null,null,null,null,null,null,null,null,null,null,null,null,null,null,null,null,null,null,null,null,null,null,null,null,null,null,null,null,null,null,null,null,null,null,null,null,null,null,null,null,null,null,null,null,null,null,null,null,null,null,null,null,null,null,null,null,null,null,null,null,null,null,null,null,null,null,null,null,null,null,null,null,null,null,null,null,null,null,null,null,null,null,null,null,null,null,null,null,null,null,null,null,null,null,null,null,null,null,null,null,null,null,null,null,null,null,null,null,null,null,null,null,null,null,null,null,null,null,null,null,null,null,null,null,null,null,null,null,null,null,null,null,null,null,null,null,null,null,null,null,null,null,null,null,null,null,null,null,null,null,null,null,null,null,null,null,null,null,null,null,null,null,null,null,null,null,null,null,null,null,null,null,null,null,null,null,null,null,null,null,null,null,null,null,null,null,null,null,null,null,null,null,null,null,null,null,null,null,null,null,null,null,null,null,null,null,null,null,null,null,null,null,null,null,null,null,null,null,null,null,null,null,null,null,null,null,null,null,null,null,null,null,null,null,null,null,null,null,null,null,null,null,null,null,null,null,null,null,null,null,null,null,null,null,null,null,null,null,null,null,null,null,null,null,null,null,null,null,null,null,null,null,null,null,null,null,null,null,null,null,null,null,null,null,null,null,null,null,null,null,null,null,null,null,null,null,null,null,null,null,null,null,null,null,null,null,null,null,null,null,null,null,null,null,null,null,null,null,null,null,null,null,null,null,null,null,null,null,null,null,null,null,null,null,null,null,null,null,null,null,null,null,null,null,null,null,null,null,null,null,null,null,null,null,null,null,null,null,null,null,null,null,null,null,null,null,null,null,null,null,null,null,null,null,null,null,null,null,null,null,null,null,null,null,null,null,null,null,null,null,null,null,null,null,null,null,null,null,null,null,null,null,null,null,null,null,null,null,null,null,null,null,null,null,null,null,null,null,null,null,null,null,null,null,null,null,null,null,null,null,null,null,null,null,null,null,null,null,null,null,null,null,null,null,null,null,null,null,null,null,null,null,null,null,null,null,null,null,null,null,null,null,null,null,null,null,null,null,null,null,null,null,null,null,null,null,null,null,null,null,null,null,null,null,null,null,null,null,null,null,null,null,null,null,null,null,null,null,null,null,null,null,null,null,null,null,null,null,null,null,null,null,null,null,null,null,null,null,null,null,null,null,null,null,null,null,null,null,null,null,null,null,null,null,null,null,null,null,null,null,null,null,null,null,null,null,null,null,null,null,null,null,null,null,null,null,null,null,null,null,null,null,null,null,null,null,null,null,null,null,null,null,null,null,null,null,null,null,null,null,null,null,null,null,null,null,null,null,null,null,null,null,null,null,null,null,null,null,null,null,null,null,null,null,null,null,null,null,null,null,null,null,null,null,null,null,null,null,null,null,null,null,null,null,null,null,null,null,null,null,null,null,null,null,null,null,null,null,null,null,null,null,null,null,null,null,null,null,null,null,null,null,null,null,null,null,null,null,null,null,null,null,null,null,null,null,null,null,null,null,null,null,null,null,null,null,null,null,null,null,null,null,null,null,null,null,null,null,null,null,null,null,null,null,null,null,null,null,null,null,null,null,null,null,null,null,null,null,null,null,null,null,null,null,null,null,null,null,null,null,null,null,null,null,null,null,null,null,null,null,null,null,null,null,null,null,null,null,null,null,null,null,null,null,null,null,null,null,null,null,null,null,null,null,null,null,null,null,null,null,null,null,null,null,null,null,null,null,null,null,null,null,null,null,null,null,null,null,null,null,null,null,null,null,null,null,null,null,null,null,null,null,null,null,null,null,null,null,null,null,null,null,null,null,null,null,null,null,null,null,null,null,null,null,null,null,null,null,null,null,null,null,null,null,null,null,null,null,null,null,null,null,null,null,null,null,null,null,null,null,null,null,null,null,null,null,null,null,null,null,null,null,null,null,null,null,null,null,null,null,null,null,null,null,null,null,null,null,null,null,null,null,null,null,null,null,null,null,null,null,null,null,null,null,null,null,null,null,null,null,null,null,null,null,null,null,null,null,null,null,null,null,null,null,null,null,null,null,null,null,null,null,null,null,null,null,null,null,null,null,null,null,null,null,null,null,null,null,null,null,null,null,null,null,null,null,null,null,null,null,null,null,null,null,null,null,null,null,null,null,null,null,null,null,null,null,null,null,null,null,null,null,null,null,null,null,null,null,null,null,null,null,null,null,null,null,null,null,null,null,null,null,null,null,null,null,null,null,null,null,null,null,null,null,null,null,null,null,null,null,null,null,null,null,null,null,null,null,null,null,null,null,null,null,null,null,null,null,null,null,null,null,null,null,null,null,null,null,null,null,null,null,null,null,null,null,null,null,null,null,null,null,null,null,null,null,null,null,null,null,null,null,null,null,null,null,null,null,null,null,null,null,null,null,null,null,null,null,null,null,null,null,null,null,null,null,null,null,null,null,null,null,null,null,null,null,null,null,null,null,null,null,null,null,null,null,null,null,null,null,null,null,null,null,null,null,null,null,null,null,null,null,null,null,null,null,null,null,null,null,null,null,null,null,null,null,null,null,null,null,null,null,null,null,null,null,null,null,null,null,null,null,null,null,null,null,null,null,null,null,null,null,null,null,null,null,null,null,null,null,null,null,null,null,null,null,null,null,null,null,null,null,null,null,null,null,null,null,null,null,null,null,null,null,null,null,null,null,null,null,null,null,null,null,null,null,null,null,null,null,null,null,null,null,null,null,null,null,null,null,null,null,null,null,null,null,null,null,null,null,null,null,null,null,null,null,null,null,null,null,null,null,null,null,null,null,null,null,null,null,null,null,null,null,null,null,null,null,null,null,null,null,null,null,null,null,null,null,null,null,null,null,null,null,null,null,null,null,null,null,null,null,null,null,null,null,null,null,null,null,null,null,null,null,null,null,null,null,null,null,null,null,null,null,null,null,null,null,null,null,null,null,null,null,null,null,null,null,null,null,null,null,null,null,null,null,null,null,null,null,null,null,null,null,null,null,null,null,null,null,null,null,null,null,null,null,null,null,null,null,null,null,null,null,null,null,null,null,null,null,null,null,null,null,null,null,null,null,null,null,null,null,null,null,null,null,null,null,null,null,null,null,null,null,null,null,null,null,null,null,null,null,null,null,null,null,null,null,null,null,null,null,null,null,null,null,null,null,null,null,null,null,null,null,null,null,null,null,null,null,null,null,null,null,null,null,null,null,null,null,null,null,null,null,null,null,null,null,null,null,null,null,null,null,null,null,null,null,null,null,null,null,null,null,null,null,null,null,null,null,null,null,null,null,null,null,null,null,null,null,null,null,null,null,null,null,null,null,null,null,null,null,null,null,null,null,null,null,null,null,null,null,null,null,null,null,null,null,null,null,null,null,null,null,null,null,null,null,null,null,null,null,null,null,null,null,null,null,null,null,null,null,null,null,null,null,null,null,null,null,null,null,null,null,null,null,null,null,null,null,null,null,null,null,null,null,null,null,null,null,null,null,null,null,null,null,null,null,null,null,null,null,null,null,null,null,null,null,null,null,null,null,null,null,null,null,null,null,null,null,null,null,null,null,null,null,null,null,null,null,null,null,null,null,null,null,null,null,null,null,null,null,null,null,null,null,null,null,null,null,null,null,null,null,null,null,null,null,null,null,null,null,null,null,null,null,null,null,null,null,null,null,null,null,null,null,null,null,null,null,null,null,null,null,null,null,null,null,null,null,null,null,null,null,null,null,null,null,null,null,null,null,null,null,null,null,null,null,null,null,null,null,null,null,null,null,null,null,null,null,null,null,null,null,null,null,null,null,null,null,null,null,null,null,null,null,null,null,null,null,null,null,null,null,null,null,null,null,null,null,null,null,null,null,null,null,null,null,null,null,null,null,null,null,null,null,null,null,null,null,null,null,null,null,null,null,null,null,null,null,null,null,null,null,null,null,null,null,null,null,null,null,null,null,null,null,null,null,null,null,null,null,null,null,null,null,null,null,null,null,null,null,null,null,null,null,null,null,null,null,null,null,null,null,null,null,null,null,null,null,null,null,null,null,null,null,null,null,null,null,null,null,null,null,null,null,null,null,null,null,null,null,null,null,null,null,null,null,null,null,null,null,null,null,null,null,null,null,null,null,null,null,null,null,null,null,null,null,null,null,null,null,null,null,null,null,null,null,null,null,null,null,null,null,null,null,null,null,null,null,null,null,null,null,null,null,null,null,null,null,null,null,null,null,null,null,null,null,null,null,null,null,null,null,null,null,null,null,null,null,null,null,null,null,null,null,null,null,null,null,null,null,null,null,null,null,null,null,null,null,null,null,null,null,null,null,null,null,null,null,null,null,null,null,null,null,null,null,null,null,null,null,null,null,null,null,null,null,null,null,null,null,null,null,null,null,null,null,null,null,null,null,null,null,null,null,null,null,null,null,null,null,null,null,null,null,null,null,null,null,null,null,null,null,null,null,null,null,null,null,null,null,null,null,null,null,null,null,null,null,null,null,null,null,null,null,null,null,null,null,null,null,null,null,null,null,null,null,null,null,null,null,null,null,null,null,null,null,null,null,null,null,null,null,null,null,null,null,null,null,null,null,null,null,null,null,null,null,null,null,null,null,null,null,null,null,null,null,null,null,null,null,null,null,null,null,null,null,null,null,null,null,null,null,null,null,null,null,null,null,null,null,null,null,null,null,null,null,null,null,null,null,null,null,null,null,null,null,null,null,null,null,null,null,null,null,null,null,null,null,null,null,null,null,null,null,null,null,null,null,null,null,null,null,null,null,null,null,null,null,null,null,null,null,null,null,null,null,null,null,null,null,null,null,null,null,null,null,null,null,null,null,null,null,null,null,null,null,null,null,null,null,null,null,null,null,null,null,null,null,null,null,null,null,null,null,null,null,null,null,null,null,null,null,null,null,null,null,null,null,null,null,null,null,null,null,null,null,null,null,null,null,null,null,null,null,null,null,null,null,null,null,null,null,null,null,null,null,null,null,null,null,null,null,null,null,null,null,null,null,null,null,null,null,null,null,null,null,null,null,null,null,null,null,null,null,null,null,null,null,null,null,null,null,null,null,null,null,null,null,null,null,null,null,null,null,null,null,null,null,null,null,null,null,null,null,null,null,null,null,null,null,null,null,null,null,null,null,null,0]
[null,null,null,null,null,null,null,null,null,null,"tx117.xlsm::45462.713032",null,null,null,null,null,null,null,null,null,null,null,null,null,null,null,null,null,null,null,null,null,null,null,null,null,null,null,null,null,null,null,null,null,null,null,null,null,null,null,null,null,null,null,null,null,null,null,null,null,null,null,null,null,null,null,null,null,null,null,null,null,null,null,null,null,null,null,null,null,null,null,null,null,null,null,null,null,null,null,null,null,null,null,null,null,null,null,null,null,null,null,null,null,null,null,null,null,null,null,null,null,null,null,null,null,null,null,null,null,null,null,null,null,null,null,null,null,null,null,null,null,null,null,null,null,null,null,null,null,null,null,null,null,null,null,null,null,null,null,null,null,null,null,null,null,null,null,null,null,null,null,null,null,null,null,null,null,null,null,null,null,null,null,null,null,null,null,null,null,null,null,null,null,null,null,null,null,null,null,null,null,null,null,null,null,null,null,null,null,null,null,null,null,null,null,null,null,null,null,null,null,null,null,null,null,null,null,null,null,null,null,null,null,null,null,null,null,null,null,null,null,null,null,null,null,null,null,null,null,null,null,null,null,null,null,null,null,null,null,null,null,null,null,null,null,null,null,null,null,null,null,null,null,null,null,null,null,null,null,null,null,null,null,null,null,null,null,null,null,null,null,null,null,null,null,null,null,null,null,null,null,null,null,null,null,null,null,null,null,null,null,null,null,null,null,null,null,null,null,null,null,null,null,null,null,null,null,null,null,null,null,null,null,null,null,null,null,null,null,null,null,null,null,null,null,null,null,null,null,null,null,null,null,null,null,null,null,null,null,null,null,null,null,null,null,null,null,null,null,null,null,null,null,null,null,null,null,null,null,null,null,null,null,null,null,null,null,null,null,null,null,null,null,null,null,null,null,null,null,null,null,null,null,null,null,null,null,null,null,null,null,null,null,null,null,null,null,null,null,null,null,null,null,null,null,null,null,null,null,null,null,null,null,null,null,null,null,null,null,null,null,null,null,null,null,null,null,null,null,null,null,null,null,null,null,null,null,null,null,null,null,null,null,null,null,null,null,null,null,null,null,null,null,null,null,null,null,null,null,null,null,null,null,null,null,null,null,null,null,null,null,null,null,null,null,null,null,null,null,null,null,null,null,null,null,null,null,null,null,null,null,null,null,null,null,null,null,null,null,null,null,null,null,null,null,null,null,null,null,null,null,null,null,null,null,null,null,null,null,null,null,null,null,null,null,null,null,null,null,null,null,null,null,null,null,null,null,null,null,null,null,null,null,null,null,null,null,null,null,null,null,null,null,null,null,null,null,null,null,null,null,null,null,null,null,null,null,null,null,null,null,null,null,null,null,null,null,null,null,null,null,null,null,null,null,null,null,null,null,null,null,null,null,null,null,null,null,null,null,null,null,null,null,null,null,null,null,null,null,null,null,null,null,null,null,null,null,null,null,null,null,null,null,null,null,null,null,null,null,null,null,null,null,null,null,null,null,null,null,null,null,null,null,null,null,null,null,null,null,null,null,null,null,null,null,null,null,null,null,null,null,null,null,null,null,null,null,null,null,null,null,null,null,null,null,null,null,null,null,null,null,null,null,null,null,null,null,null,null,null,null,null,null,null,null,null,null,null,null,null,null,null,null,null,null,null,null,null,null,null,null,null,null,null,null,null,null,null,null,null,null,null,null,null,null,null,null,null,null,null,null,null,null,null,null,null,null,null,null,null,null,null,null,null,null,null,null,null,null,null,null,null,null,null,null,null,null,null,null,null,null,null,null,null,null,null,null,null,null,null,null,null,null,null,null,null,null,null,null,null,null,null,null,null,null,null,null,null,null,null,null,null,null,null,null,null,null,null,null,null,null,null,null,null,null,null,null,null,null,null,null,null,null,null,null,null,null,null,null,null,null,null,null,null,null,null,null,null,null,null,null,null,null,null,null,null,null,null,null,null,null,null,null,null,null,null,null,null,null,null,null,null,null,null,null,null,null,null,null,null,null,null,null,null,null,null,null,null,null,null,null,null,null,null,null,null,null,null,null,null,null,null,null,null,null,null,null,null,null,null,null,null,null,null,null,null,null,null,null,null,null,null,null,null,null,null,null,null,null,null,null,null,null,null,null,null,null,null,null,null,null,null,null,null,null,null,null,null,null,null,null,null,null,null,null,null,null,null,null,null,null,null,null,null,null,null,null,null,null,null,null,null,null,null,null,null,null,null,null,null,null,null,null,null,null,null,null,null,null,null,null,null,null,null,null,null,null,null,null,null,null,null,null,null,null,null,null,null,null,null,null,null,null,null,null,null,null,null,null,null,null,null,null,null,null,null,null,null,null,null,null,null,null,null,null,null,null,null,null,null,null,null,null,null,null,null,null,null,null,null,null,null,null,null,null,null,null,null,null,null,null,null,null,null,null,null,null,null,null,null,null,null,null,null,null,null,null,null,null,null,null,null,null,null,null,null,null,null,null,null,null,null,null,null,null,null,null,null,null,null,null,null,null,null,null,null,null,null,null,null,null,null,null,null,null,null,null,null,null,null,null,null,null,null,null,null,null,null,null,null,null,null,null,null,null,null,null,null,null,null,null,null,null,null,null,null,null,null,null,null,null,null,null,null,null,null,null,null,null,null,null,null,null,null,null,null,null,null,null,null,null,null,null,null,null,null,null,null,null,null,null,null,null,null,null,null,null,null,null,null,null,null,null,null,null,null,null,null,null,null,null,null,null,null,null,null,null,null,null,null,null,null,null,null,null,null,null,null,null,null,null,null,null,null,null,null,null,null,null,null,null,null,null,null,null,null,null,null,null,null,null,null,null,null,null,null,null,null,null,null,null,null,null,null,null,null,null,null,null,null,null,null,null,null,null,null,null,null,null,null,null,null,null,null,null,null,null,null,null,null,null,null,null,null,null,null,null,null,null,null,null,null,null,null,null,null,null,null,null,null,null,null,null,null,null,null,null,null,null,null,null,null,null,null,null,null,null,null,null,null,null,null,null,null,null,null,null,null,null,null,null,null,null,null,null,null,null,null,null,null,null,null,null,null,null,null,null,null,null,null,null,null,null,null,null,null,null,null,null,null,null,null,null,null,null,null,null,null,null,null,null,null,null,null,null,null,null,null,null,null,null,null,null,null,null,null,null,null,null,null,null,null,null,null,null,null,null,null,null,null,null,null,null,null,null,null,null,null,null,null,null,null,null,null,null,null,null,null,null,null,null,null,null,null,null,null,null,null,null,null,null,null,null,null,null,null,null,null,null,null,null,null,null,null,null,null,null,null,null,null,null,null,null,null,null,null,null,null,null,null,null,null,null,null,null,null,null,null,null,null,null,null,null,null,null,null,null,null,null,null,null,null,null,null,null,null,null,null,null,null,null,null,null,null,null,null,null,null,null,null,null,null,null,null,null,null,null,null,null,null,null,null,null,null,null,null,null,null,null,null,null,null,null,null,null,null,null,null,null,null,null,null,null,null,null,null,null,null,null,null,null,null,null,null,null,null,null,null,null,null,null,null,null,null,null,null,null,null,null,null,null,null,null,null,null,null,null,null,null,null,null,null,null,null,null,null,null,null,null,null,null,null,null,null,null,null,null,null,null,null,null,null,null,null,null,null,null,null,null,null,null,null,null,null,null,null,null,null,null,null,null,null,null,null,null,null,null,null,null,null,null,null,null,null,null,null,null,null,null,null,null,null,null,null,null,null,null,null,null,null,null,null,null,null,null,null,null,null,null,null,null,null,null,null,null,null,null,null,null,null,null,null,null,null,null,null,null,null,null,null,null,null,null,null,null,null,null,null,null,null,null,null,null,null,null,null,null,null,null,null,null,null,null,null,null,null,null,null,null,null,null,null,null,null,null,null,null,null,null,null,null,null,null,null,null,null,null,null,null,null,null,null,null,null,null,null,null,null,null,null,null,null,null,null,null,null,null,null,null,null,null,null,null,null,null,null,null,null,null,null,null,null,null,null,null,null,null,null,null,null,null,null,null,null,null,null,null,null,null,null,null,null,null,null,null,null,null,null,null,null,null,null,null,null,null,null,null,null,null,null,null,null,null,null,null,null,null,null,null,null,null,null,null,null,null,null,null,null,null,null,null,null,null,null,null,null,null,null,null,null,null,null,null,null,null,null,null,null,null,null,null,null,null,null,null,null,null,null,null,null,null,null,null,null,null,null,null,null,null,null,null,null,null,null,null,null,null,null,null,null,null,null,null,null,null,null,null,null,null,null,null,null,null,null,null,null,null,null,null,null,null,null,null,null,null,null,null,null,null,null,null,null,null,null,null,null,null,null,null,null,null,null,null,null,null,null,null,null,null,null,null,null,null,null,null,null,null,null,null,null,null,null,null,null,null,null,null,null,null,null,null,null,null,null,null,null,null,null,null,null,null,null,null,null,null,null,null,null,null,null,null,null,null,null,null,null,null,null,null,null,null,null,null,null,null,null,null,null,null,null,null,null,null,null,null,null,null,null,null,null,null,null,null,null,null,null,null,null,null,null,null,null,null,null,null,null,null,null,null,null,null,null,null,null,null,null,null,null,null,null,null,null,null,null,null,null,null,null,null,null,null,null,null,null,null,null,null,null,null,null,null,null,null,null,null,null,null,null,null,null,null,null,null,null,null,null,null,null,null,null,null,null,null,null,null,null,null,null,null,null,null,null,null,null,null,null,null,null,null,null,null,null,null,null,null,null,null,null,null,null,null,null,null,null,null,null,null,null,null,null,null,null,null,null,null,null,null,null,null,null,null,null,null,null,null,null,null,null,null,null,null,null,null,null,null,null,null,null,null,null,null,null,null,null,null,null,null,null,null,null,null,null,null,null,null,null,null,null,null,null,null,null,null,null,null,null,null,null,null,null,null,null,null,null,null,null,null,null,null,null,null,null,null,null,null,null,null,null,null,null,null,null,null,null,null,null,null,null,null,null,null,null,null,null,null,null,null,null,null,null,null,null,null,null,null,null,null,null,null,null,null,null,null,null,null,null,null,null,null,null,null,null,null,null,null,null,null,null,null,null,null,null,null,null,null,null,null,null,null,null,null,null,null,null,null,null,null,null,null,null,null,null,null,null,null,null,null,null,null,null,null,null,null,null,null,null,null,null,null,null,null,null,null,null,null,null,null,null,null,null,null,null,null,null,null,null,null,null,null,null,null,null,null,null,null,null,null,null,null,null,null,null,null,null,null,null,null,null,null,null,null,null,null,null,null,null,null,null,null,null,null,null,null,null,null,null,null,null,null,null,null,null,null,null,null,null,null,null,null,null,null,null,null,null,null,null,null,null,null,null,null,null,null,null,null,null,null,null,null,null,null,null,null,null,null,null,null,null,null,null,null,null,null,null,null,null,null,null,null,null,null,null,null,null,null,null,null,null,null,null,null,null,null,null,null,null,null,null,null,null,null,null,null,null,null,null,null,null,null,null,null,null,null,null,null,null,null,null,null,null,null,null,null,null,null,null,null,null,null,null,null,null,null,null,null,null,null,null,null,null,null,null,null,null,null,null,null,null,null,null,null,null,null,null,null,null,null,null,null,null,null,null,null,null,null,null,null,null,null,null,null,null,null,null,null,null,null,null,null,null,null,null,null,null,null,null,null,null,null,null,null,null,null,null,null,null,null,null,null,null,null,null,null,null,null,null,null,null,null,null,null,null,null,null,null,null,null,null,null,null,null,null,null,null,null,null,null,null,null,null,null,null,null,null,null,null,null,null,null,null,null,null,null,null,null,null,null,null,null,null,null,null,null,null,null,null,null,null,null,null,null,null,null,null,null,null,null,null,null,null,null,null,null,null,null,null,null,null,null,null,null,null,null,null,null,null,null,null,null,null,null,null,null,null,null,null,null,null,null,null,null,null,null,null,null,null,null,null,null,null,null,null,null,null,null,null,null,null,null,null,null,null,null,null,null,null,null,null,null,null,null,null,null,null,null,null,null,null,null,null,null,null,null,null,null,null,null,null,null,null,null,null,null,null,null,null,null,null,null,null,null,null,null,null,null,null,null,null,null,null,null,null,null,null,null,null,null,null,null,null,null,null,null,null,null,null,null,null,null,null,null,null,null,null,null,null,null,null,null,null,null,null,null,null,null,null,null,null,null,null,null,null,null,null,null,null,null,null,null,null,null,null,null,null,null,null,null,null,null,null,null,null,null,null,null,null,null,null,null,null,null,null,null,null,null,null,null,null,null,null,null,null,null,null,null,null,null,null,null,null,null,null,null,null,null,null,null,null,null,null,null,null,null,null,null,null,null,null,null,null,null,null,null,null,null,null,null,null,null,null,null,null,null,null,null,null,null,null,null,null,null,null,null,null,null,null,null,null,null,null,null,null,null,null,null,null,null,null,null,null,null,null,null,null,null,null,null,null,null,null,null,null,null,null,null,null,null,null,null,null,null,null,null,null,null,null,null,null,null,null,null,null,null,null,null,null,null,null,null,null,null,null,null,null,null,null,null,null,null,null,null,null,null,null,null,null,null,null,null,null,null,null,null,null,null,null,null,null,null,null,null,null,null,null,null,null,null,null,null,null,null,null,null,null,null,null,null,null,null,null,null,null,null,null,null,null,null,null,null,null,null,null,null,null,null,null,null,null,null,null,null,null,null,null,null,null,null,null,null,null,null,null,null,null,null,null,null,null,null,null,null,null,null,null,null,null,null,null,null,null,null,null,null,null,null,null,null,null,null,null,null,null,null,null,null,null,null,null,null,null,null,null,null,null,null,null,null,null,null,null,null,null,null,null,null,null,null,null,null,null,null,null,null,null,null,null,null,null,null,null,null,null,null,null,null,null,null,null,null,null,null,null,null,null,null,null,null,null,null,null,null,null,null,null,null,null,null,null,null,null,null,null,null,null,null,null,null,null,null,null,null,null,null,null,null,null,null,null,null,null,null,null,null,null,null,null,null,null,null,null,null,null,null,null,null,null,null,null,null,null,null,null,null,null,null,null,null,null,null,null,null,null,null,null,null,null,null,null,null,null,null,null,null,null,null,null,null,null,null,null,null,null,null,null,null,null,null,null,null,null,null,null,null,null,null,null,null,null,null,null,null,null,null,null,null,null,null,null,null,null,null,null,null,null,null,null,null,null,null,null,null,null,null,null,null,null,null,null,null,null,null,null,null,null,null,null,null,null,null,null,null,null,null,null,null,null,null,null,null,null,null,null,null,null,null,null,null,null,null,null,null,null,null,null,null,null,null,null,null,null,null,null,null,null,null,null,null,null,null,null,null,null,null,null,null,null,null,null,null,null,null,null,null,null,null,null,null,null,null,null,null,null,null,null,null,null,null,null,null,null,null,null,null,null,null,null,null,null,null,null,null,null,null,null,null,null,null,null,null,null,null,null,null,null,null,null,null,null,null,null,null,null,null,null,null,null,null,null,null,null,null,null,null,null,null,null,null,null,null,null,null,null,null,null,null,null,null,null,null,null,null,null,null,null,null,null,null,null,null,null,null,null,null,null,null,null,null,null,null,null,null,null,null,null,null,null,null,null,null,null,null,null,null,null,null,null,null,null,null,null,null,null,null,null,null,null,null,null,null,null,null,null,null,null,null,null,null,null,null,null,null,null,null,null,null,null,null,null,null,null,null,null,null,null,null,null,null,null,null,null,null,null,null,null,null,null,null,null,null,null,null,null,null,null,null,null,null,null,null,null,null,null,null,null,null,null,null,null,null,null,null,null,null,null,null,null,null,null,null,null,null,null,null,null,null,null,null,null,null,null,null,null,null,null,null,null,null,null,null,null,null,null,null,null,null,null,null,null,null,null,null,null,null,null,null,null,null,null,null,null,null,null,null,null,null,null,null,null,null,null,null,null,null,null,null,null,null,null,null,null,null,null,null,null,null,null,null,null,null,null,null,null,null,null,null,null,null,null,null,null,null,null,null,null,null,null,null,null,null,null,null,null,null,null,null,null,null,null,null,null,null,null,null,null,null,null,null,null,null,null,null,null,null,null,null,null,null,null,null,null,null,null,null,null,null,null,null,null,null,null,null,null,null,null,null,null,null,null,null,null,null,null,null,null,null,null,null,null,null,null,null,null,null,null,null,null,null,null,null,null,null,null,null,null,null,null,null,null,null,null,null,null,null,null,null,null,null,null,null,null,null,null,null,null,null,null,null,null,null,null,null,null,null,null,null,null,null,null,null,null,null,null,null,null,null,null,null,null,null,null,null,null,null,null,null,null,null,null,null,null,null,null,null,null,null,null,null,null,null,null,null,null,null,null,null,null,null,null,null,null,null,null,null,null,null,null,null,null,null,null,null,null,null,null,null,null,null,null,null,null,null,null,null,null,null,null,null,null,null,null,null,null,null,null,null,null,null,null,null,null,null,null,null,null,null,null,null,null,null,null,null,null,null,null,null,null,null,null,null,null,null,null,null,null,null,null,null,null,null,null,null,null,null,null,null,null,null,null,null,null,null,null,null,null,null,null,null,null,null,null,null,null,null,null,null,null,null,null,null,null,null,null,null,null,null,null,null,null,null,null,null,null,null,null,null,null,null,null,null,null,null,null,null,null,null,null,null,null,null,null,null,null,null,null,null,null,null,null,null,null,null,null,null,null,null,null,null,null,null,null,null,null,null,null,null,null,null,null,null,null,null,null,null,null,null,null,null,null,null,null,null,null,null,null,null,null,null,null,null,null,null,null,null,null,null,null,null,null,null,null,null,null,null,null,null,null,null,null,null,null,null,null,null,null,null,null,null,null,null,null,null,null,null,null,null,null,null,null,null,null,null,null,null,null,null,null,null,null,null,null,null,null,null,null,null,null,null,null,null,null,null,null,null,null,null,null,null,null,null,null,null,null,null,null,null,null,null,null,null,null,null,null,null,null,null,null,null,null,null,null,null,null,null,null,null,null,null,null,null,null,null,null,null,null,null,null,null,null,null,null,null,null,null,null,null,null,null,null,null,null,null,null,null,null,null,null,null,null,null,null,null,null,null,null,null,null,null,null,null,null,null,null,null,null,null,null,null,null,null,null,null,null,null,null,null,null,null,null,null,null,null,null,null,null,null,null,null,null,null,null,null,null,null,null,null,null,null,null,null,null,null,null,null,null,null,null,null,null,null,null,null,null,null,null,null,null,null,null,null,null,null,null,null,null,null,null,null,null,null,null,null,null,null,null,null,null,null,null,null,null,null,null,null,null,null,null,null,null,null,null,null,null,null,null,null,null,null,null,null,null,null,null,null,null,null,null,null,null,null,null,null,null,null,null,null,null,null,null,null,null,null,null,null,null,null,null,null,null,null,null,null,null,null,null,null,null,null,null,null,null,null,null,null,null,null,null,null,null,null,null,null,null,null,null,null,null,null,null,null,null,null,null,null,null,null,null,null,null,null,null,null,null,null,null,null,null,null,null,null,null,null,null,null,null,null,null,null,null,null,null,null,null,null,null,null,null,null,null,null,null,null,null,null,null,null,null,null,null,null,null,null,null,null,null,null,null,null,null,null,null,null,null,null,null,null,null,null,null,null,null,null,null,null,null,null,null,null,null,null,null,null,null,null,null,null,null,null,null,null,null,null,null,null,null,null,null,null,null,null,null,null,null,null,null,null,null,null,null,null,null,null,null,null,null,null,null,null,null,null,null,null,null,null,null,null,null,null,null,null,null,null,null,null,null,null,null,null,null,null,null,null,null,null,null,null,null,null,null,null,null,null,null,null,null,null,null,null,null,null,null,null,null,null,null,null,null,null,null,null,null,null,null,null,null,null,null,null,null,null,null,null,null,null,null,null,null,null,null,null,null,null,null,null,null,null,null,null,null,null,null,null,null,null,null,null,null,null,null,null,null,null,null,null,null,null,null,null,null,null,null,null,null,null,null,null,null,null,null,null,null,null,null,null,null,null,null,null,null,null,null,null,null,null,null,null,null,null,null,null,null,null,null,null,null,null,null,null,null,null,null,null,null,null,null,null,null,null,null,null,null,null,null,null,null,null,null,null,null,null,null,null,null,null,null,null,null,null,null,null,null,null,null,null,null,null,null,null,null,null,null,null,null,null,null,null,null,null,null,null,null,null,null,null,null,null,null,null,null,null,null,null,null,null,null,null,null,null,null,null,null,null,null,null,null,null,null,null,null,null,null,null,null,null,null,null,null,null,null,null,null,null,null,null,null,null,null,null,null,null,null,null,null,null,null,null,null,null,null,null,null,null,null,null,null,null,null,null,null,null,null,null,null,null,null,null,null,null,null,null,null,null,null,null,null,null,null,null,null,null,null,null,null,null,null,null,null,null,null,null,null,null,null,null,null,null,null,null,null,null,null,null,null,null,null,null,null,null,null,null,null,null,null,null,null,null,null,null,null,null,null,null,null,null,null,null,null,null,null,null,null,null,null,null,null,null,null,null,null,null,null,null,null,null,null,null,null,null,null,null,null,null,null,null,null,null,null,null,null,null,null,null,null,null,null,null,null,null,null,null,null,null,null,null,null,null,null,null,null,null,null,null,null,null,null,null,null,null,null,null,null,null,null,null,null,null,null,null,null,null,null,null,null,null,null,null,null,null,null,null,null,null,null,null,null,null,null,null,null,null,null,null,null,null,null,null,null,null,null,null,null,null,null,null,null,null,null,null,null,null,null,null,null,null,null,null,null,null,null,null,null,null,null,null,null,null,null,null,null,null,null,null,null,null,null,null,null,null,null,null,null,null,null,null,null,null,null,null,null,null,null,null,null,null,null,null,null,null,null,null,null,null,null,null,null,null,null,null,null,null,null,null,null,null,null,null,null,null,null,null,null,null,null,null,null,null,null,null,null,null,null,null,null,null,null,null,null,null,null,null,null,null,null,null,null,null,null,null,null,null,null,null,null,null,null,null,null,null,null,null,null,null,null,null,null,null,null,null,null,null,null,null,null,null,null,null,null,null,null,null,null,null,null,null,null,null,null,null,null,null,null,null,null,null,null,null,null,null,null,null,null,null,null,null,null,null,null,null,null,null,null,null,null,null,null,null,null,null,null,null,null,null,null,null,null,null,null,null,null,null,null,null,null,null,null,null,null,null,null,null,null,null,null,null,null,null,null,null,null,null,null,null,null,null,null,null,null,null,null,null,null,null,null,null,null,null,null,null,null,null,null,null,null,null,null,null,null,null,null,null,null,null,null,null,null,null,null,null,null,null,null,null,null,null,null,null,null,null,null,null,null,null,null,null,null,null,null,null,null,null,null,null,null,null,null,null,null,null,null,null,null,null,null,null,null,null,null,null,null,null,null,null,null,null,null,null,null,null,null,null,null,null,null,null,null,null,null,null,null,null,null,null,null,null,null,null,null,null,null,null,null,null,null,null,null,null,null,null,null,null,null,null,null,null,null,null,null,null,null,null,null,null,null,null,null,null,null,null,null,null,null,null,null,null,null,null,null,null,null,null,null,null,null,null,null,null,null,null,null,null,null,null,null,null,null,null,null,null,null,null,null,null,null,null,null,null,null,null,null,null,null,null,null,null,null,null,null,null,null,null,null,null,null,null,null,null,null,null,null,null,null,null,null,null,null,null,null,null,null,null,null,null,null,null,null,null,null,null,null,null,null,null,null,null,null,null,null,null,null,null,null,null,null,null,null,null,null,null,null,null,null,null,null,null,null,null,null,null,null,null,null,null,null,null,null,null,null,null,null,null,null,null,null,null,null,null,null,null,null,null,null,null,null,null,null,null,null,null,null,null,null,null,null,null,null,null,null,null,null,null,null,null,null,null,null,null,null,null,null,null,null,null,null,null,null,null,null,null,null,null,null,null,null,null,null,null,null,null,null,null,null,null,null,null,null,null,null,null,null,null,null,null,null,null,null,null,null,null,null,null,null,null,null,null,null,null,null,null,null,null,null,null,null,null,null,null,null,null,null,null,null,null,null,null,null,null,null,null,null,null,null,null,null,null,null,null,null,null,null,null,null,null,null,null,null,null,null,null,null,null,null,null,null,null,null,null,null,null,null,null,null,null,null,null,null,null,null,null,null,null,null,null,null,null,null,null,null,null,null,null,null,null,null,null,null,null,null,null,null,null,null,null,null,null,null,null,null,null,null,null,null,null,null,null,null,null,null,null,null,null,null,null,null,null,null,null,null,null,null,null,null,null,null,null,null,null,null,null,null,null,null,null,null,null,null,null,null,null,null,null,null,null,null,null,null,null,null,null,null,null,null,null,null,null,null,null,null,null,null,null,null,null,null,null,null,null,null,null,null,null,null,null,null,null,null,null,null,null,null,null,null,null,null,null,null,null,null,null,null,null,null,null,null,null,null,null,null,null,null,null,null,null,null,null,null,null,null,null,null,null,null,null,null,null,null,null,null,null,null,null,null,null,null,null,null,null,null,null,null,null,null,null,null,null,null,null,null,null,null,null,null,null,null,null,null,null,null,null,null,null,null,null,null,null,null,null,null,null,null,null,null,null,null,null,null,null,null,null,null,null,null,null,null,null,null,null,null,null,null,null,null,null,null,null,null,null,null,null,null,null,null,null,null,null,null,null,null,null,null,null,null,null,null,null,null,null,null,null,null,null,null,null,null,null,null,null,null,null,null,null,null,null,null,null,null,null,null,null,null,null,null,null,null,null,null,null,null,null,null,null,null,null,null,null,null,null,null,null,null,null,null,null,null,null,null,null,null,null,null,null,null,null,null,null,null,null,null,null,null,null,null,null,null,null,null,null,null,null,null,null,null,null,null,null,null,null,null,null,null,null,null,null,null,null,null,null,null,null,null,null,null,null,null,null,null,null,null,null,null,null,null,null,null,null,null,null,null,null,null,null,null,null,null,null,null,null,null,null,null,null,null,null,null,null,null,null,null,null,null,null,null,null,null,null,null,null,null,null,null,null,null,null,null,null,null,null,null,null,null,null,null,null,null,null,null,null,null,null,null,null,null,null,null,null,null,null,null,null,null,null,null,null,null,null,null,null,null,null,null,null,null,null,null,null,null,null,null,null,null,null,null,null,null,null,null,null,null,null,null,null,null,null,null,null,null,null,null,null,null,null,null,null,null,null,null,null,null,null,null,null,null,null,null,null,null,null,null,null,null,null,null,null,null,null,null,null,null,null,null,null,null,null,null,null,null,null,null,null,null,null,null,null,null,null,null,null,null,null,null,null,null,null,null,null,null,null,null,null,null,null,null,null,null,null,null,null,null,null,null,null,null,null,null,null,null,null,null,null,null,null,null,null,null,null,null,null,null,null,null,null,null,null,null,null,null,null,null,null,null,null,null,null,null,null,null,null,null,null,null,null,null,null,null,null,null,null,null,null,null,null,null,null,null,null,null,null,null,null,null,null,null,null,null,null,null,null,null,null,null,null,null,null,null,null,null,null,null,null,null,null,null,null,null,null,null,null,null,null,null,null,null,null,null,null,null,null,null,null,null,null,null,null,null,null,null,null,null,null,null,null,null,null,null,null,null,null,null,null,null,null,null,null,null,null,null,null,null,null,null,null,null,null,null,null,null,null,null,null,null,null,null,null,null,null,null,null,null,null,null,null,null,null,null,null,null,null,null,null,null,null,null,null,null,null,null,null,null,null,null,null,null,null,null,null,null,null,null,null,null,null,null,null,null,null,null,null,null,null,null,null,null,null,null,null,null,null,null,null,null,null,null,null,null,null,null,null,null,null,null,null,null,null,null,null,null,null,null,null,null,null,null,null,null,null,null,null,null,null,null,null,null,null,null,null,null,null,null,null,null,null,null,null,null,null,null,null,null,null,null,null,null,null,null,null,null,null,null,null,null,null,null,null,null,null,null,null,null,null,null,null,null,null,null,null,null,null,null,null,null,null,null,null,null,null,null,null,null,null,null,null,null,null,null,null,null,null,null,null,null,null,null,null,null,null,null,null,null,null,null,null,null,null,null,null,null,null,null,null,null,null,null,null,null,null,null,null,null,null,null,null,null,null,null,null,null,null,null,null,null,null,null,null,null,null,null,null,null,null,null,null,null,null,null,null,null,null,null,null,null,null,null,null,null,null,null,null,null,null,null,null,null,null,null,null,null,null,null,null,null,null,null,null,null,null,null,null,null,null,null,null,null,null,null,null,null,null,null,null,null,null,null,null,null,null,null,null,null,null,null,null,null,null,null,null,null,null,null,null,null,null,null,null,null,null,null,null,null,null,null,null,null,null,null,null,null,null,null,null,null,null,null,null,null,null,null,null,null,null,null,null,null,null,null,null,null,null,null,null,null,null,null,null,null,null,null,null,null,null,null,null,null,null,null,null,null,null,null,null,null,null,null,null,null,null,null,null,null,null,null,null,null,null,null,null,null,null,null,null,null,null,null,null,null,null,null,null,null,null,null,null,null,null,null,null,null,null,null,null,null,null,null,null,null,null,null,null,null,null,null,null,null,null,null,null,null,null,null,null,null,null,null,null,null,null,null,null,null,null,null,null,null,null,null,null,null,null,null,null,null,null,null,null,null,null,null,null,null,null,null,null,null,null,null,null,null,null,null,null,null,null,null,null,null,null,null,null,null,null,null,null,null,null,null,null,null,null,null,null,null,null,null,null,null,null,null,null,null,null,null,null,null,null,null,null,null,null,null,null,null,null,null,null,null,null,null,null,null,null,null,null,null,null,null,null,null,null,null,null,null,null,null,null,null,null,null,null,null,null,null,null,null,null,null,null,null,null,null,null,null,null,null,null,null,null,null,null,null,null,null,null,null,null,null,null,null,null,null,null,null,null,null,null,null,null,null,null,null,null,null,null,null,null,null,null,null,null,null,null,null,null,null,null,null,null,null,null,null,null,null,null,null,null,null,null,null,null,null,null,null,null,null,null,null,null,null,null,null,null,null,null,null,null,null,null,null,null,null,null,null,null,null,null,null,null,null,null,null,null,null,null,null,null,null,null,null,null,null,null,null,null,null,null,null,null,null,null,null,null,null,null,null,null,null,null,null,null,null,null,null,null,null,null,null,null,null,null,null,null,null,null,null,null,null,null,null,null,null,null,null,null,null,null,null,null,null,null,null,null,null,null,null,null,null,null,null,null,null,null,null,null,null,null,null,null,null,null,null,null,null,null,null,null,null,null,null,null,null,null,null,null,null,null,null,null,null,null,null,null,null,null,null,null,null,null,null,null,null,null,null,null,null,null,null,null,null,null,null,null,null,null,null,null,null,null,null,null,null,null,null,null,null,null,null,null,null,null,null,null,null,null,null,null,null,null,null,null,null,null,null,null,null,null,null,null,null,null,null,null,null,null,null,null,null,null,null,null,null,null,null,null,null,null,null,null,null,null,null,null,null,null,null,null,null,null,null,null,null,null,null,null,null,null,null,null,null,null,null,null,null,null,null,null,null,null,null,null,null,null,null,null,null,null,null,null,null,null,null,null,null,null,null,null,null,null,null,null,null,null,null,null,null,null,null,null,null,null,null,null,null,null,null,null,null,null,null,null,null,null,null,null,null,null,null,null,null,null,null,null,null,null,null,null,null,null,null,null,null,null,null,null,null,null,null,null,null,null,null,null,null,null,null,null,null,null,null,null,null,null,null,null,null,null,null,null,null,null,null,null,null,null,null,null,null,null,null,null,null,null,null,null,null,null,null,null,null,null,null,null,null,null,null,null,null,null,null,null,null,null,null,null,null,null,null,null,null,null,null,null,null,null,null,null,null,null,null,null,null,null,null,null,null,null,null,null,null,null,null,null,null,null,null,null,null,null,null,null,null,null,null,null,null,null,null,null,null,null,null,null,null,null,null,null,null,null,null,null,null,null,null,null,null,null,null,null,null,null,null,null,null,null,null,null,null,null,null,null,null,null,null,null,null,null,null,null,null,null,null,null,null,null,null,null,null,null,null,null,null,null,null,null,null,null,null,null,null,null,null,null,null,null,null,null,null,null,null,null,null,null,null,null,null,null,null,null,null,null,null,null,null,null,null,null,null,null,null,null,null,null,null,null,null,null,null,null,null,null,null,null,null,null,null,null,null,null,null,null,null,null,null,null,null,null,null,null,null,null,null,null,null,null,null,null,null,null,null,null,null,null,null,null,null,null,null,null,null,null,null,null,null,null,null,null,null,null,null,null,null,null,null,null,null,null,null,null,null,null,null,null,null,null,null,null,null,null,null,null,null,null,null,null,null,null,null,null,null,null,null,null,null,null,null,null,null,null,null,null,null,null,null,null,null,null,null,null,null,null,null,null,null,null,null,null,null,null,null,null,null,null,null,null,null,null,null,null,null,null,null,null,null,null,null,null,null,null,null,null,null,null,null,null,null,null,null,null,null,null,null,null,null,null,null,null,null,null,null,null,null,null,null,null,null,null,null,null,null,null,null,null,null,null,null,null,null,null,null,null,null,null,null,null,null,null,null,null,null,null,null,null,null,null,null,null,null,null,null,null,null,null,null,null,null,null,null,null,null,null,null,null,null,null,null,null,null,null,null,null,null,null,null,null,null,null,null,null,null,null,null,null,null,null,null,null,null,null,null,null,null,null,null,null,null,null,null,null,null,null,null,null,null,null,null,null,null,null,null,null,null,null,null,null,null,null,null,null,null,null,null,null,null,null,null,null,null,null,null,null,null,null,null,null,null,null,null,null,null,null,null,null,null,null,null,null,null,null,null,null,null,null,null,null,null,null,null,null,null,null,null,null,null,null,null,null,null,null,null,null,null,null,null,null,null,null,null,null,null,null,null,null,null,null,null,null,null,null,null,null,null,null,null,null,null,null,null,null,null,null,null,null,null,null,null,null,null,null,null,null,null,null,null,null,null,null,null,null,null,null,null,null,null,null,null,null,null,null,null,null,null,null,null,null,null,null,null,null,null,null,null,null,null,null,null,null,null,null,null,null,null,null,null,null,null,null,null,null,null,null,null,null,null,null,null,null,null,null,null,null,null,null,null,null,null,null,null,null,null,null,null,null,null,null,null,null,null,null,null,null,null,null,null,null,null,null,null,null,null,null,null,null,null,null,null,null,null,null,null,null,null,null,null,null,null,null,null,null,null,null,null,null,null,null,null,null,null,null,null,null,null,null,null,null,null,null,null,null,null,null,null,null,null,null,null,null,null,null,null,null,null,null,null,null,null,null,null,null,null,null,null,null,null,null,null,null,null,null,null,null,null,null,null,null,null,null,null,null,null,null,null,null,null,null,null,null,null,null,null,null,null,null,null,null,null,null,null,null,null,null,null,null,null,null,null,null,null,null,null,null,null,null,null,null,null,null,null,null,null,null,null,null,null,null,null,null,null,null,null,null,null,null,null,null,null,null,null,null,null,null,null,null,null,null,null,null,null,null,null,null,null,null,null,null,null,null,null,null,null,null,null,null,null,null,null,null,null,null,null,null,null,null,null,null,null,null,null,null,null,null,null,null,null,null,null,null,null,null,null,null,null,null,null,null,null,null,null,null,null,null,null,null,null,null,null,null,null,null,null,null,null,null,null,null,null,null,null,null,null,null,null,null,null,null,null,null,null,null,null,null,null,null,null,null,null,null,null,null,null,null,null,null,null,null,null,null,null,null,null,null,null,null,null,null,null,null,null,null,null,null,null,null,null,null,null,null,null,null,null,null,null,null,null,null,null,null,null,null,null,null,null,null,null,null,null,null,null,null,null,null,null,null,null,null,null,null,null,null,null,null,null,null,null,null,null,null,null,null,null,null,null,null,null,null,null,null,null,null,null,null,null,null,null,null,null,null,null,null,null,null,null,null,null,null,null,null,null,null,null,null,null,null,null,null,null,null,null,null,null,null,null,null,null,null,null,null,null,null,null,null,null,null,null,null,null,null,null,null,null,null,null,null,null,null,null,null,null,null,null,null,null,null,null,null,null,null,null,null,null,null,null,null,null,null,null,null,null,null,null,null,null,null,null,null,null,null,null,null,null,null,null,null,null,null,null,null,null,null,null,null,null,null,null,null,null,null,null,null,null,null,null,null,null,null,null,null,null,null,null,null,null,null,null,null,null,null,null,null,null,null,null,null,null,null,null,null,null,null,null,null,null,null,null,null,null,null,null,null,null,null,null,null,null,null,null,null,null,null,null,null,null,null,null,null,null,null,null,null,null,null,null,null,null,null,null,null,null,null,null,null,null,null,null,null,null,null,null,null,null,null,null,null,null,null,null,null,null,null,null,null,null,null,null,null,null,null,null,null,null,null,null,null,null,null,null,null,null,null,null,null,null,null,null,null,null,null,null,null,null,null,null,null,null,null,null,null,null,null,null,null,null,null,null,null,null,null,null,null,null,null,null,null,null,null,null,null,null,null,null,null,null,null,null,null,null,null,null,null,null,null,null,null,null,null,null,null,null,null,null,null,null,null,null,null,null,null,null,null,null,null,null,null,null,null,null,null,null,null,null,null,null,null,null,null,null,null,null,null,null,null,null,null,null,null,null,null,null,null,null,null,null,null,null,null,null,null,null,null,null,null,null,null,null,null,null,null,null,null,null,null,null,null,null,null,null,null,null,null,null,null,null,null,null,null,null,null,null,null,null,null,null,null,null,null,null,null,null,null,null,null,null,null,null,null,null,null,null,null,null,null,null,null,null,null,null,null,null,null,null,null,null,null,null,null,null,null,null,null,null,null,null,null,null,null,null,null,null,null,null,null,null,null,null,null,null,null,null,null,null,null,null,null,null,null,null,null,null,null,null,null,null,null,null,null,null,null,null,null,null,null,null,null,null,null,null,null,null,null,null,null,null,null,null,null,null,null,null,null,null,null,null,null,null,null,null,null,null,null,null,null,null,null,null,null,null,null,null,null,null,null,null,null,null,null,null,null,null,null,null,null,null,null,null,null,null,null,null,null,null,null,null,null,null,null,null,null,null,null,null,null,null,null,null,null,null,null,null,null,null,null,null,null,null,null,null,null,null,null,null,null,null,null,null,null,null,null,null,null,null,null,null,null,null,null,null,null,null,null,null,null,null,null,null,null,null,null,null,null,null,null,null,null,null,null,null,null,null,null,null,null,null,null,null,null,null,null,null,null,null,null,null,null,null,null,null,null,null,null,null,null,null,null,null,null,null,null,null,null,null,null,null,null,null,null,null,null,null,null,null,null,null,null,null,null,null,null,null,null,null,null,null,null,null,null,null,null,null,null,null,null,null,null,null,null,null,null,null,null,null,null,null,null,null,null,null,null,null,null,null,null,null,null,null,null,null,null,null,null,null,null,null,null,null,null,null,null,null,null,null,null,null,null,null,null,null,null,null,null,null,null,null,null,null,null,null,null,null,null,null,null,null,null,null,null,null,null,null,null,null,null,null,null,null,null,null,null,null,null,null,null,null,null,null,null,null,null,null,null,null,null,null,null,null,null,null,null,null,null,null,null,null,null,null,null,null,null,null,null,null,null,null,null,null,null,null,null,null,null,null,null,null,null,null,null,null,null,null,null,null,null,null,null,null,null,null,null,null,null,null,null,null,null,null,null,null,null,null,null,null,null,null,null,null,null,null,null,null,null,null,null,null,null,null,null,null,null,null,null,null,null,null,null,null,null,null,null,null,null,null,null,null,null,null,null,null,null,null,null,null,null,null,null,null,null,null,null,null,null,null,null,null,null,null,null,null,null,null,null,null,null,null,null,null,null,null,null,null,null,null,null,null,null,null,null,null,null,null,null,null,null,null,null,null,null,null,null,null,null,null,null,null,null,null,null,null,null,null,null,null,null,null,null,null,null,null,null,null,null,null,null,null,null,null,null,null,null,null,null,null,null,null,null,null,null,null,null,null,null,null,null,null,null,null,null,null,null,null,null,null,null,null,null,null,null,null,null,null,null,null,null,null,null,null,null,null,null,null,null,null,null,null,null,null,null,null,null,null,null,null,null,null,null,null,null,null,null,null,null,null,null,null,null,null,null,null,null,null,null,null,null,null,null,null,null,null,null,null,null,null,null,null,null,null,null,null,null,null,null,null,null,null,null,null,null,null,null,null,null,null,null,null,null,null,null,null,null,null,null,null,null,null,null,null,null,null,null,null,null,null,null,null,null,null,null,null,null,null,null,null,null,null,null,null,null,null,null,null,null,null,null,null,null,null,null,null,null,null,null,null,null,null,null,null,null,null,null,null,null,null,null,null,null,null,null,null,null,null,null,null,null,null,null,null,null,null,null,null,null,null,null,null,null,null,null,null,null,null,null,null,null,null,null,null,null,null,null,null,null,null,null,null,null,null,null,null,null,null,null,null,null,null,null,null,null,null,null,null,null,null,null,null,null,null,null,null,null,null,null,null,null,null,null,null,null,null,null,null,null,null,null,null,null,null,null,null,null,null,null,null,null,null,null,null,null,null,null,null,null,null,null,null,null,null,null,null,null,null,null,null,null,null,null,null,null,null,null,null,null,null,null,null,null,null,null,null,null,null,null,null,null,null,null,null,null,null,null,null,null,null,null,null,null,null,null,null,null,null,null,null,null,null,null,null,null,null,null,null,null,null,null,null,null,null,null,null,null,null,null,null,null,null,null,null,null,null,null,null,null,null,null,null,null,null,null,null,null,null,null,null,null,null,null,null,null,null,null,null,null,null,null,null,null,null,null,null,null,null,null,null,null,null,null,null,null,null,null,null,null,null,null,null,null,null,null,null,null,null,null,null,null,null,null,null,null,null,null,null,null,null,null,null,null,null,null,null,null,null,null,null,null,null,null,null,null,null,null,null,null,null,null,null,null,null,null,null,null,null,null,null,null,null,null,null,null,null,null,null,null,null,null,null,null,null,null,null,null,null,null,null,null,null,null,null,null,null,null,null,null,null,null,null,null,null,null,null,null,null,null,null,null,null,null,null,null,null,null,null,null,null,null,null,null,null,null,null,null,null,null,null,null,null,null,null,null,null,null,null,null,null,null,null,null,null,null,null,null,null,null,null,null,null,null,null,null,null,null,null,null,null,null,null,null,null,null,null,null,null,null,null,null,null,null,null,null,null,null,null,null,null,null,null,null,null,null,null,null,null,null,null,null,null,null,null,null,null,null,null,null,null,null,null,null,null,null,null,null,null,null,null,null,null,null,null,null,null,null,null,null,null,null,null,null,null,null,null,null,null,null,null,null,null,null,null,null,null,null,null,null,null,null,null,null,null,null,null,null,null,null,null,null,null,null,null,null,null,null,null,null,null,null,null,null,null,null,null,null,null,null,null,null,null,null,null,null,null,null,null,null,null,null,null,null,null,null,null,null,null,null,null,null,null,null,null,null,null,null,null,null,null,null,null,null,null,null,null,null,null,null,null,null,null,null,null,null,null,null,null,null,null,null,null,null,null,null,null,null,null,null,null,null,null,null,null,null,null,null,null,null,null,null,null,null,null,null,null,null,null,null,null,null,null,null,null,null,null,null,null,null,null,null,null,null,null,null,null,null,null,null,null,null,null,null,null,null,null,null,null,null,null,null,null,null,null,null,null,null,null,null,null,null,null,null,null,null,null,null,null,null,null,null,null,null,null,null,null,null,null,null,null,null,null,null,null,null,null,null,null,null,null,null,null,null,null,null,null,null,null,null,null,null,null,null,null,null,null,null,null,null,null,null,null,null,null,null,null,null,null,null,null,null,null,null,null,null,null,null,null,null,null,null,null,null,null,null,null,null,null,null,null,null,null,null,null,null,null,null,null,null,null,null,null,null,null,null,null,null,null,null,null,null,null,null,null,null,null,null,null,null,null,null,null,null,null,null,null,null,null,null,null,null,null,null,null,null,null,null,null,null,null,null,null,null,null,null,null,null,null,null,null,null,null,null,null,null,null,null,null,null,null,null,null,null,null,null,null,null,null,null,null,null,null,null,null,null,null,null,null,null,null,null,null,null,null,null,null,null,null,null,null,null,null,null,null,null,null,null,null,null,null,null,null,null,null,null,null,null,null,null,null,null,null,null,null,null,null,null,null,null,null,null,null,null,null,null,null,null,null,null,null,null,null,null,null,null,null,null,null,null,null,null,null,null,null,null,null,null,null,null,null,null,null,null,null,null,null,null,null,null,null,null,null,null,null,null,null,null,null,null,null,null,null,null,null,null,null,null,null,null,null,null,null,null,null,null,null,null,null,null,null,null,null,null,null,null,null,null,null,null,null,null,null,null,null,null,null,null,null,null,null,null,null,null,null,null,null,null,null,null,null,null,null,null,null,null,null,null,null,null,null,null,null,null,null,null,null,null,null,null,null,null,null,null,null,null,null,null,null,null,null,null,null,null,null,null,null,null,null,null,null,null,null,null,null,null,null,null,null,null,null,null,null,null,null,null,null,null,null,null,null,null,null,null,null,null,null,null,null,null,null,null,null,null,null,null,null,null,null,null,null,null,null,null,null,null,null,null,null,null,null,null,null,null,null,null,null,null,null,null,null,null,null,null,null,null,null,null,null,null,null,null,null,null,null,null,null,null,null,null,null,null,null,null,null,null,null,null,null,null,null,null,null,null,null,null,null,null,null,null,null,null,null,null,null,null,null,null,null,null,null,null,null,null,null,null,null,null,null,null,null,null,null,null,null,null,null,null,null,null,null,null,null,null,null,null,null,null,null,null,null,null,null,null,null,null,null,null,null,null,null,null,null,null,null,null,null,null,null,null,null,null,null,null,null,null,null,null,null,null,null,null,null,null,null,null,null,null,null,null,null,null,null,null,null,null,null,null,null,null,null,null,null,null,null,null,null,null,null,null,null,null,null,null,null,null,null,null,null,null,null,null,null,null,null,null,null,null,null,null,null,null,null,null,null,null,null,null,null,null,null,null,null,null,null,null,null,null,null,null,null,null,null,null,null,null,null,null,null,null,null,null,null,null,null,null,null,null,null,null,null,null,null,null,null,null,null,null,null,null,null,null,null,null,null,null,null,null,null,null,null,null,null,null,null,null,null,null,null,null,null,null,null,null,null,null,null,null,null,null,null,null,null,null,null,null,null,null,null,null,null,null,null,null,null,null,null,null,null,null,null,null,null,null,null,null,null,null,null,null,null,null,null,null,null,null,null,null,null,null,null,null,null,null,null,null,null,null,null,null,null,null,null,null,null,null,null,null,null,null,null,null,null,null,null,null,null,null,null,null,null,null,null,null,null,null,null,null,null,null,null,null,null,null,null,null,null,null,null,null,null,null,null,null,null,null,null,null,null,null,null,null,null,null,null,null,null,null,null,null,null,null,null,null,null,null,null,null,null,null,null,null,null,null,null,null,null,null,null,null,null,null,null,null,null,null,null,null,null,null,null,null,null,null,null,null,null,null,null,null,null,null,null,null,null,null,null,null,null,null,null,null,null,null,null,null,null,null,null,null,null,null,null,null,null,null,null,null,null,null,null,null,null,null,null,null,null,null,null,null,null,null,null,null,null,null,null,null,null,null,null,null,null,null,null,null,null,null,null,null,null,null,null,null,null,null,null,null,null,null,null,null,null,null,null,null,null,null,null,null,null,null,null,null,null,null,null,null,null,null,null,null,null,null,null,null,null,null,null,null,null,null,null,null,null,null,null,null,null,null,null,null,null,null,null,null,null,null,null,null,null,null,null,null,null,null,null,null,null,null,null,null,null,null,null,null,null,null,null,null,null,null,null,null,null,null,null,null,null,null,null,null,null,null,null,null,null,null,null,null,null,null,null,null,null,null,null,null,null,null,null,null,null,null,null,null,null,null,null,null,null,null,null,null,null,null,null,null,null,null,null,null,null,null,null,null,null,null,null,null,null,null,null,null,null,null,null,null,null,null,null,null,null,null,null,null,null,null,null,null,null,null,null,null,null,null,null,null,null,null,null,null,null,null,null,null,null,null,null,null,null,null,null,null,null,null,null,null,null,null,null,null,null,null,null,null,null,null,null,null,null,null,null,null,null,null,null,null,null,null,null,null,null,null,null,null,null,null,null,null,null,null,null,null,null,null,null,null,null,null,null,null,null,null,null,null,null,null,null,null,null,null,null,null,null,null,null,null,null,null,null,null,null,null,null,null,null,null,null,null,null,null,null,null,null,null,null,null,null,null,null,null,null,null,null,null,null,null,null,null,null,null,null,null,null,null,null,null,null,null,null,null,null,null,null,null,null,null,null,null,null,null,null,null,null,null,null,null,null,null,null,null,null,null,null,null,null,null,null,null,null,null,null,null,null,null,null,null,null,null,null,null,null,null,null,null,null,null,null,null,null,null,null,null,null,null,null,null,null,null,null,null,null,null,null,null,null,null,null,null,null,null,null,null,null,null,null,null,null,null,null,null,null,null,null,null,null,null,null,null,null,null,null,null,null,null,null,null,null,null,null,null,null,null,null,null,null,null,null,null,null,null,null,null,null,null,null,null,null,null,null,null,null,null,null,null,null,null,null,null,null,null,null,null,null,null,null,null,null,null,null,null,null,null,null,null,null,null,null,null,null,null,null,null,null,null,null,null,null,null,null,null,null,null,null,null,null,null,null,null,null,null,null,null,null,null,null,null,null,null,null,null,null,null,null,null,null,null,null,null,null,null,null,null,null,null,null,null,null,null,null,null,null,null,null,null,null,null,null,null,null,null,null,null,null,null,null,null,null,null,null,null,null,null,null,null,null,null,null,null,null,null,null,null,null,null,null,null,null,null,null,null,null,null,null,null,null,null,null,null,null,null,null,null,null,null,null,null,null,null,null,null,null,null,null,null,null,null,null,null,null,null,null,null,null,null,null,null,null,null,null,null,null,null,null,null,null,null,null,null,null,null,null,null,null,null,null,null,null,null,null,null,null,null,null,null,null,null,null,null,null,null,null,null,null,null,null,null,null,null,null,null,null,null,null,null,null,null,null,null,null,null,null,null,null,null,null,null,null,null,null,null,null,null,null,null,null,null,null,null,null,null,null,null,null,null,null,null,null,null,null,null,null,null,null,null,null,null,null,null,null,null,null,null,null,null,null,null,null,null,null,null,null,null,null,null,null,null,null,null,null,null,null,null,null,null,null,null,null,null,null,null,null,null,null,null,null,null,null,null,null,null,null,null,null,null,null,null,null,null,null,null,null,null,null,null,null,null,null,null,null,null,null,null,null,null,null,null,null,null,null,null,null,null,null,null,null,null,null,null,null,null,null,null,null,null,null,null,null,null,null,null,null,null,null,null,null,null,null,null,null,null,null,null,null,null,null,null,null,null,null,null,null,null,null,null,null,null,null,null,null,null,null,null,null,null,null,null,null,null,null,null,null,null,null,null,null,null,null,null,null,null,null,null,null,null,null,null,null,null,null,null,null,null,null,null,null,null,null,null,null,null,null,null,null,null,null,null,null,null,null,null,null,null,null,null,null,null,null,null,null,null,null,null,null,null,null,null,null,null,null,null,null,null,null,null,null,null,null,null,null,null,null,null,null,null,null,null,null,null,null,null,null,null,null,null,null,null,null,null,null,null,null,null,null,null,null,null,null,null,null,null,null,null,null,null,null,null,null,null,null,null,null,null,null,null,null,null,null,null,null,null,null,null,null,null,null,null,null,null,null,null,null,null,null,null,null,null,null,null,null,null,null,null,null,null,null,null,null,null,null,null,null,null,null,null,null,null,null,null,null,null,null,null,null,null,null,null,null,null,null,null,null,null,null,null,null,null,null,null,null,null,null,null,null,null,null,null,null,null,null,null,null,null,null,null,null,null,null,null,null,null,null,null,null,null,null,null,null,null,null,null,null,null,null,null,null,null,null,null,null,null,null,null,3]
[null,"TRIAXIAL COMPRESSION TESTS",null,null,null,null,null,null,null,null,null,null,null,null,null,null,null,null,null,null,null,null,null,null,null,null,null,null,null,null,null,null,null,null,null,null,null,null,null,null,null,null,null,null,null,null,null,null,null,null,null,null,null,null,null,null,null,null,null,null,null,null,null,null,null,null,null,null,null,null,null,null,null,null,null,null,null,null,null,null,null,null,null,null,null,null,null,null,null,null,null,null,null,null,null,null,null,null,null,null,null,null,null,null,null,null,null,null,null,null,null,null,null,null,null,null,null,null,null,null,null,null,null,null,null,null,null,null,null,null,null,null,null,null,null,null,null,null,null,null,null,null,null,null,null,null,null,null,null,null,null,null,null,null,null,null,null,null,null,null,null,null,null,null,null,null,null,null,null,null,null,null,null,null,null,null,null,null,null,null,null,null,null,null,null,null,null,null,null,null,null,null,null,null,null,null,null,null,null,null,null,null,null,null,null,null,null,null,null,null,null,null,null,null,null,null,null,null,null,null,null,null,null,null,null,null,null,null,null,null,null,null,null,null,null,null,null,null,null,null,null,null,null,null,null,null,null,null,null,null,null,null,null,null,null,null,null,null,null,null,null,null,null,null,null,null,null,null,null,null,null,null,null,null,null,null,null,null,null,null,null,null,null,null,null,null,null,null,null,null,null,null,null,null,null,null,null,null,null,null,null,null,null,null,null,null,null,null,null,null,null,null,null,null,null,null,null,null,null,null,null,null,null,null,null,null,null,null,null,null,null,null,null,null,null,null,null,null,null,null,null,null,null,null,null,null,null,null,null,null,null,null,null,null,null,null,null,null,null,null,null,null,null,null,null,null,null,null,null,null,null,null,null,null,null,null,null,null,null,null,null,null,null,null,null,null,null,null,null,null,null,null,null,null,null,null,null,null,null,null,null,null,null,null,null,null,null,null,null,null,null,null,null,null,null,null,null,null,null,null,null,null,null,null,null,null,null,null,null,null,null,null,null,null,null,null,null,null,null,null,null,null,null,null,null,null,null,null,null,null,null,null,null,null,null,null,null,null,null,null,null,null,null,null,null,null,null,null,null,null,null,null,null,null,null,null,null,null,null,null,null,null,null,null,null,null,null,null,null,null,null,null,null,null,null,null,null,null,null,null,null,null,null,null,null,null,null,null,null,null,null,null,null,null,null,null,null,null,null,null,null,null,null,null,null,null,null,null,null,null,null,null,null,null,null,null,null,null,null,null,null,null,null,null,null,null,null,null,null,null,null,null,null,null,null,null,null,null,null,null,null,null,null,null,null,null,null,null,null,null,null,null,null,null,null,null,null,null,null,null,null,null,null,null,null,null,null,null,null,null,null,null,null,null,null,null,null,null,null,null,null,null,null,null,null,null,null,null,null,null,null,null,null,null,null,null,null,null,null,null,null,null,null,null,null,null,null,null,null,null,null,null,null,null,null,null,null,null,null,null,null,null,null,null,null,null,null,null,null,null,null,null,null,null,null,null,null,null,null,null,null,null,null,null,null,null,null,null,null,null,null,null,null,null,null,null,null,null,null,null,null,null,null,null,null,null,null,null,null,null,null,null,null,null,null,null,null,null,null,null,null,null,null,null,null,null,null,null,null,null,null,null,null,null,null,null,null,null,null,null,null,null,null,null,null,null,null,null,null,null,null,null,null,null,null,null,null,null,null,null,null,null,null,null,null,null,null,null,null,null,null,null,null,null,null,null,null,null,null,null,null,null,null,null,null,null,null,null,null,null,null,null,null,null,null,null,null,null,null,null,null,null,null,null,null,null,null,null,null,null,null,null,null,null,null,null,null,null,null,null,null,null,null,null,null,null,null,null,null,null,null,null,null,null,null,null,null,null,null,null,null,null,null,null,null,null,null,null,null,null,null,null,null,null,null,null,null,null,null,null,null,null,null,null,null,null,null,null,null,null,null,null,null,null,null,null,null,null,null,null,null,null,null,null,null,null,null,null,null,null,null,null,null,null,null,null,null,null,null,null,null,null,null,null,null,null,null,null,null,null,null,null,null,null,null,null,null,null,null,null,null,null,null,null,null,null,null,null,null,null,null,null,null,null,null,null,null,null,null,null,null,null,null,null,null,null,null,null,null,null,null,null,null,null,null,null,null,null,null,null,null,null,null,null,null,null,null,null,null,null,null,null,null,null,null,null,null,null,null,null,null,null,null,null,null,null,null,null,null,null,null,null,null,null,null,null,null,null,null,null,null,null,null,null,null,null,null,null,null,null,null,null,null,null,null,null,null,null,null,null,null,null,null,null,null,null,null,null,null,null,null,null,null,null,null,null,null,null,null,null,null,null,null,null,null,null,null,null,null,null,null,null,null,null,null,null,null,null,null,null,null,null,null,null,null,null,null,null,null,null,null,null,null,null,null,null,null,null,null,null,null,null,null,null,null,null,null,null,null,null,null,null,null,null,null,null,null,null,null,null,null,null,null,null,null,null,null,null,null,null,null,null,null,null,null,null,null,null,null,null,null,null,null,null,null,null,null,null,null,null,null,null,null,null,null,null,null,null,null,null,null,null,null,null,null,null,null,null,null,null,null,null,null,null,null,null,null,null,null,null,null,null,null,null,null,null,null,null,null,null,null,null,null,null,null,null,null,null,null,null,null,null,null,null,null,null,null,null,null,null,null,null,null,null,null,null,null,null,null,null,null,null,null,null,null,null,null,null,null,null,null,null,null,null,null,null,null,null,null,null,null,null,null,null,null,null,null,null,null,null,null,null,null,null,null,null,null,null,null,null,null,null,null,null,null,null,null,null,null,null,null,null,null,null,null,null,null,null,null,null,null,null,null,null,null,null,null,null,null,null,null,null,null,null,null,null,null,null,null,null,null,null,null,null,null,null,null,null,null,null,null,null,null,null,null,null,null,null,null,null,null,null,null,null,null,null,null,null,null,null,null,null,null,null,null,null,null,null,null,null,null,null,null,null,null,null,null,null,null,null,null,null,null,null,null,null,null,null,null,null,null,null,null,null,null,null,null,null,null,null,null,null,null,null,null,null,null,null,null,null,null,null,null,null,null,null,null,null,null,null,null,null,null,null,null,null,null,null,null,null,null,null,null,null,null,null,null,null,null,null,null,null,null,null,null,null,null,null,null,null,null,null,null,null,null,null,null,null,null,null,null,null,null,null,null,null,null,null,null,null,null,null,null,null,null,null,null,null,null,null,null,null,null,null,null,null,null,null,null,null,null,null,null,null,null,null,null,null,null,null,null,null,null,null,null,null,null,null,null,null,null,null,null,null,null,null,null,null,null,null,null,null,null,null,null,null,null,null,null,null,null,null,null,null,null,null,null,null,null,null,null,null,null,null,null,null,null,null,null,null,null,null,null,null,null,null,null,null,null,null,null,null,null,null,null,null,null,null,null,null,null,null,null,null,null,null,null,null,null,null,null,null,null,null,null,null,null,null,null,null,null,null,null,null,null,null,null,null,null,null,null,null,null,null,null,null,null,null,null,null,null,null,null,null,null,null,null,null,null,null,null,null,null,null,null,null,null,null,null,null,null,null,null,null,null,null,null,null,null,null,null,null,null,null,null,null,null,null,null,null,null,null,null,null,null,null,null,null,null,null,null,null,null,null,null,null,null,null,null,null,null,null,null,null,null,null,null,null,null,null,null,null,null,null,null,null,null,null,null,null,null,null,null,null,null,null,null,null,null,null,null,null,null,null,null,null,null,null,null,null,null,null,null,null,null,null,null,null,null,null,null,null,null,null,null,null,null,null,null,null,null,null,null,null,null,null,null,null,null,null,null,null,null,null,null,null,null,null,null,null,null,null,null,null,null,null,null,null,null,null,null,null,null,null,null,null,null,null,null,null,null,null,null,null,null,null,null,null,null,null,null,null,null,null,null,null,null,null,null,null,null,null,null,null,null,null,null,null,null,null,null,null,null,null,null,null,null,null,null,null,null,null,null,null,null,null,null,null,null,null,null,null,null,null,null,null,null,null,null,null,null,null,null,null,null,null,null,null,null,null,null,null,null,null,null,null,null,null,null,null,null,null,null,null,null,null,null,null,null,null,null,null,null,null,null,null,null,null,null,null,null,null,null,null,null,null,null,null,null,null,null,null,null,null,null,null,null,null,null,null,null,null,null,null,null,null,null,null,null,null,null,null,null,null,null,null,null,null,null,null,null,null,null,null,null,null,null,null,null,null,null,null,null,null,null,null,null,null,null,null,null,null,null,null,null,null,null,null,null,null,null,null,null,null,null,null,null,null,null,null,null,null,null,null,null,null,null,null,null,null,null,null,null,null,null,null,null,null,null,null,null,null,null,null,null,null,null,null,null,null,null,null,null,null,null,null,null,null,null,null,null,null,null,null,null,null,null,null,null,null,null,null,null,null,null,null,null,null,null,null,null,null,null,null,null,null,null,null,null,null,null,null,null,null,null,null,null,null,null,null,null,null,null,null,null,null,null,null,null,null,null,null,null,null,null,null,null,null,null,null,null,null,null,null,null,null,null,null,null,null,null,null,null,null,null,null,null,null,null,null,null,null,null,null,null,null,null,null,null,null,null,null,null,null,null,null,null,null,null,null,null,null,null,null,null,null,null,null,null,null,null,null,null,null,null,null,null,null,null,null,null,null,null,null,null,null,null,null,null,null,null,null,null,null,null,null,null,null,null,null,null,null,null,null,null,null,null,null,null,null,null,null,null,null,null,null,null,null,null,null,null,null,null,null,null,null,null,null,null,null,null,null,null,null,null,null,null,null,null,null,null,null,null,null,null,null,null,null,null,null,null,null,null,null,null,null,null,null,null,null,null,null,null,null,null,null,null,null,null,null,null,null,null,null,null,null,null,null,null,null,null,null,null,null,null,null,null,null,null,null,null,null,null,null,null,null,null,null,null,null,null,null,null,null,null,null,null,null,null,null,null,null,null,null,null,null,null,null,null,null,null,null,null,null,null,null,null,null,null,null,null,null,null,null,null,null,null,null,null,null,null,null,null,null,null,null,null,null,null,null,null,null,null,null,null,null,null,null,null,null,null,null,null,null,null,null,null,null,null,null,null,null,null,null,null,null,null,null,null,null,null,null,null,null,null,null,null,null,null,null,null,null,null,null,null,null,null,null,null,null,null,null,null,null,null,null,null,null,null,null,null,null,null,null,null,null,null,null,null,null,null,null,null,null,null,null,null,null,null,null,null,null,null,null,null,null,null,null,null,null,null,null,null,null,null,null,null,null,null,null,null,null,null,null,null,null,null,null,null,null,null,null,null,null,null,null,null,null,null,null,null,null,null,null,null,null,null,null,null,null,null,null,null,null,null,null,null,null,null,null,null,null,null,null,null,null,null,null,null,null,null,null,null,null,null,null,null,null,null,null,null,null,null,null,null,null,null,null,null,null,null,null,null,null,null,null,null,null,null,null,null,null,null,null,null,null,null,null,null,null,null,null,null,null,null,null,null,null,null,null,null,null,null,null,null,null,null,null,null,null,null,null,null,null,null,null,null,null,null,null,null,null,null,null,null,null,null,null,null,null,null,null,null,null,null,null,null,null,null,null,null,null,null,null,null,null,null,null,null,null,null,null,null,null,null,null,null,null,null,null,null,null,null,null,null,null,null,null,null,null,null,null,null,null,null,null,null,null,null,null,null,null,null,null,null,null,null,null,null,null,null,null,null,null,null,null,null,null,null,null,null,null,null,null,null,null,null,null,null,null,null,null,null,null,null,null,null,null,null,null,null,null,null,null,null,null,null,null,null,null,null,null,null,null,null,null,null,null,null,null,null,null,null,null,null,null,null,null,null,null,null,null,null,null,null,null,null,null,null,null,null,null,null,null,null,null,null,null,null,null,null,null,null,null,null,null,null,null,null,null,null,null,null,null,null,null,null,null,null,null,null,null,null,null,null,null,null,null,null,null,null,null,null,null,null,null,null,null,null,null,null,null,null,null,null,null,null,null,null,null,null,null,null,null,null,null,null,null,null,null,null,null,null,null,null,null,null,null,null,null,null,null,null,null,null,null,null,null,null,null,null,null,null,null,null,null,null,null,null,null,null,null,null,null,null,null,null,null,null,null,null,null,null,null,null,null,null,null,null,null,null,null,null,null,null,null,null,null,null,null,null,null,null,null,null,null,null,null,null,null,null,null,null,null,null,null,null,null,null,null,null,null,null,null,null,null,null,null,null,null,null,null,null,null,null,null,null,null,null,null,null,null,null,null,null,null,null,null,null,null,null,null,null,null,null,null,null,null,null,null,null,null,null,null,null,null,null,null,null,null,null,null,null,null,null,null,null,null,null,null,null,null,null,null,null,null,null,null,null,null,null,null,null,null,null,null,null,null,null,null,null,null,null,null,null,null,null,null,null,null,null,null,null,null,null,null,null,null,null,null,null,null,null,null,null,null,null,null,null,null,null,null,null,null,null,null,null,null,null,null,null,null,null,null,null,null,null,null,null,null,null,null,null,null,null,null,null,null,null,null,null,null,null,null,null,null,null,null,null,null,null,null,null,null,null,null,null,null,null,null,null,null,null,null,null,null,null,null,null,null,null,null,null,null,null,null,null,null,null,null,null,null,null,null,null,null,null,null,null,null,null,null,null,null,null,null,null,null,null,null,null,null,null,null,null,null,null,null,null,null,null,null,null,null,null,null,null,null,null,null,null,null,null,null,null,null,null,null,null,null,null,null,null,null,null,null,null,null,null,null,null,null,null,null,null,null,null,null,null,null,null,null,null,null,null,null,null,null,null,null,null,null,null,null,null,null,null,null,null,null,null,null,null,null,null,null,null,null,null,null,null,null,null,null,null,null,null,null,null,null,null,null,null,null,null,null,null,null,null,null,null,null,null,null,null,null,null,null,null,null,null,null,null,null,null,null,null,null,null,null,null,null,null,null,null,null,null,null,null,null,null,null,null,null,null,null,null,null,null,null,null,null,null,null,null,null,null,null,null,null,null,null,null,null,null,null,null,null,null,null,null,null,null,null,null,null,null,null,null,null,null,null,null,null,null,null,null,null,null,null,null,null,null,null,null,null,null,null,null,null,null,null,null,null,null,null,null,null,null,null,null,null,null,null,null,null,null,null,null,null,null,null,null,null,null,null,null,null,null,null,null,null,null,null,null,null,null,null,null,null,null,null,null,null,null,null,null,null,null,null,null,null,null,null,null,null,null,null,null,null,null,null,null,null,null,null,null,null,null,null,null,null,null,null,null,null,null,null,null,null,null,null,null,null,null,null,null,null,null,null,null,null,null,null,null,null,null,null,null,null,null,null,null,null,null,null,null,null,null,null,null,null,null,null,null,null,null,null,null,null,null,null,null,null,null,null,null,null,null,null,null,null,null,null,null,null,null,null,null,null,null,null,null,null,null,null,null,null,null,null,null,null,null,null,null,null,null,null,null,null,null,null,null,null,null,null,null,null,null,null,null,null,null,null,null,null,null,null,null,null,null,null,null,null,null,null,null,null,null,null,null,null,null,null,null,null,null,null,null,null,null,null,null,null,null,null,null,null,null,null,null,null,null,null,null,null,null,null,null,null,null,null,null,null,null,null,null,null,null,null,null,null,null,null,null,null,null,null,null,null,null,null,null,null,null,null,null,null,null,null,null,null,null,null,null,null,null,null,null,null,null,null,null,null,null,null,null,null,null,null,null,null,null,null,null,null,null,null,null,null,null,null,null,null,null,null,null,null,null,null,null,null,null,null,null,null,null,null,null,null,null,null,null,null,null,null,null,null,null,null,null,null,null,null,null,null,null,null,null,null,null,null,null,null,null,null,null,null,null,null,null,null,null,null,null,null,null,null,null,null,null,null,null,null,null,null,null,null,null,null,null,null,null,null,null,null,null,null,null,null,null,null,null,null,null,null,null,null,null,null,null,null,null,null,null,null,null,null,null,null,null,null,null,null,null,null,null,null,null,null,null,null,null,null,null,null,null,null,null,null,null,null,null,null,null,null,null,null,null,null,null,null,null,null,null,null,null,null,null,null,null,null,null,null,null,null,null,null,null,null,null,null,null,null,null,null,null,null,null,null,null,null,null,null,null,null,null,null,null,null,null,null,null,null,null,null,null,null,null,null,null,null,null,null,null,null,null,null,null,null,null,null,null,null,null,null,null,null,null,null,null,null,null,null,null,null,null,null,null,null,null,null,null,null,null,null,null,null,null,null,null,null,null,null,null,null,null,null,null,null,null,null,null,null,null,null,null,null,null,null,null,null,null,null,null,null,null,null,null,null,null,null,null,null,null,null,null,null,null,null,null,null,null,null,null,null,null,null,null,null,null,null,null,null,null,null,null,null,null,null,null,null,null,null,null,null,null,null,null,null,null,null,null,null,null,null,null,null,null,null,null,null,null,null,null,null,null,null,null,null,null,null,null,null,null,null,null,null,null,null,null,null,null,null,null,null,null,null,null,null,null,null,null,null,null,null,null,null,null,null,null,null,null,null,null,null,null,null,null,null,null,null,null,null,null,null,null,null,null,null,null,null,null,null,null,null,null,null,null,null,null,null,null,null,null,null,null,null,null,null,null,null,null,null,null,null,null,null,null,null,null,null,null,null,null,null,null,null,null,null,null,null,null,null,null,null,null,null,null,null,null,null,null,null,null,null,null,null,null,null,null,null,null,null,null,null,null,null,null,null,null,null,null,null,null,null,null,null,null,null,null,null,null,null,null,null,null,null,null,null,null,null,null,null,null,null,null,null,null,null,null,null,null,null,null,null,null,null,null,null,null,null,null,null,null,null,null,null,null,null,null,null,null,null,null,null,null,null,null,null,null,null,null,null,null,null,null,null,null,null,null,null,null,null,null,null,null,null,null,null,null,null,null,null,null,null,null,null,null,null,null,null,null,null,null,null,null,null,null,null,null,null,null,null,null,null,null,null,null,null,null,null,null,null,null,null,null,null,null,null,null,null,null,null,null,null,null,null,null,null,null,null,null,null,null,null,null,null,null,null,null,null,null,null,null,null,null,null,null,null,null,null,null,null,null,null,null,null,null,null,null,null,null,null,null,null,null,null,null,null,null,null,null,null,null,null,null,null,null,null,null,null,null,null,null,null,null,null,null,null,null,null,null,null,null,null,null,null,null,null,null,null,null,null,null,null,null,null,null,null,null,null,null,null,null,null,null,null,null,null,null,null,null,null,null,null,null,null,null,null,null,null,null,null,null,null,null,null,null,null,null,null,null,null,null,null,null,null,null,null,null,null,null,null,null,null,null,null,null,null,null,null,null,null,null,null,null,null,null,null,null,null,null,null,null,null,null,null,null,null,null,null,null,null,null,null,null,null,null,null,null,null,null,null,null,null,null,null,null,null,null,null,null,null,null,null,null,null,null,null,null,null,null,null,null,null,null,null,null,null,null,null,null,null,null,null,null,null,null,null,null,null,null,null,null,null,null,null,null,null,null,null,null,null,null,null,null,null,null,null,null,null,null,null,null,null,null,null,null,null,null,null,null,null,null,null,null,null,null,null,null,null,null,null,null,null,null,null,null,null,null,null,null,null,null,null,null,null,null,null,null,null,null,null,null,null,null,null,null,null,null,null,null,null,null,null,null,null,null,null,null,null,null,null,null,null,null,null,null,null,null,null,null,null,null,null,null,null,null,null,null,null,null,null,null,null,null,null,null,null,null,null,null,null,null,null,null,null,null,null,null,null,null,null,null,null,null,null,null,null,null,null,null,null,null,null,null,null,null,null,null,null,null,null,null,null,null,null,null,null,null,null,null,null,null,null,null,null,null,null,null,null,null,null,null,null,null,null,null,null,null,null,null,null,null,null,null,null,null,null,null,null,null,null,null,null,null,null,null,null,null,null,null,null,null,null,null,null,null,null,null,null,null,null,null,null,null,null,null,null,null,null,null,null,null,null,null,null,null,null,null,null,null,null,null,null,null,null,null,null,null,null,null,null,null,null,null,null,null,null,null,null,null,null,null,null,null,null,null,null,null,null,null,null,null,null,null,null,null,null,null,null,null,null,null,null,null,null,null,null,null,null,null,null,null,null,null,null,null,null,null,null,null,null,null,null,null,null,null,null,null,null,null,null,null,null,null,null,null,null,null,null,null,null,null,null,null,null,null,null,null,null,null,null,null,null,null,null,null,null,null,null,null,null,null,null,null,null,null,null,null,null,null,null,null,null,null,null,null,null,null,null,null,null,null,null,null,null,null,null,null,null,null,null,null,null,null,null,null,null,null,null,null,null,null,null,null,null,null,null,null,null,null,null,null,null,null,null,null,null,null,null,null,null,null,null,null,null,null,null,null,null,null,null,null,null,null,null,null,null,null,null,null,null,null,null,null,null,null,null,null,null,null,null,null,null,null,null,null,null,null,null,null,null,null,null,null,null,null,null,null,null,null,null,null,null,null,null,null,null,null,null,null,null,null,null,null,null,null,null,null,null,null,null,null,null,null,null,null,null,null,null,null,null,null,null,null,null,null,null,null,null,null,null,null,null,null,null,null,null,null,null,null,null,null,null,null,null,null,null,null,null,null,null,null,null,null,null,null,null,null,null,null,null,null,null,null,null,null,null,null,null,null,null,null,null,null,null,null,null,null,null,null,null,null,null,null,null,null,null,null,null,null,null,null,null,null,null,null,null,null,null,null,null,null,null,null,null,null,null,null,null,null,null,null,null,null,null,null,null,null,null,null,null,null,null,null,null,null,null,null,null,null,null,null,null,null,null,null,null,null,null,null,null,null,null,null,null,null,null,null,null,null,null,null,null,null,null,null,null,null,null,null,null,null,null,null,null,null,null,null,null,null,null,null,null,null,null,null,null,null,null,null,null,null,null,null,null,null,null,null,null,null,null,null,null,null,null,null,null,null,null,null,null,null,null,null,null,null,null,null,null,null,null,null,null,null,null,null,null,null,null,null,null,null,null,null,null,null,null,null,null,null,null,null,null,null,null,null,null,null,null,null,null,null,null,null,null,null,null,null,null,null,null,null,null,null,null,null,null,null,null,null,null,null,null,null,null,null,null,null,null,null,null,null,null,null,null,null,null,null,null,null,null,null,null,null,null,null,null,null,null,null,null,null,null,null,null,null,null,null,null,null,null,null,null,null,null,null,null,null,null,null,null,null,null,null,null,null,null,null,null,null,null,null,null,null,null,null,null,null,null,null,null,null,null,null,null,null,null,null,null,null,null,null,null,null,null,null,null,null,null,null,null,null,null,null,null,null,null,null,null,null,null,null,null,null,null,null,null,null,null,null,null,null,null,null,null,null,null,null,null,null,null,null,null,null,null,null,null,null,null,null,null,null,null,null,null,null,null,null,null,null,null,null,null,null,null,null,null,null,null,null,null,null,null,null,null,null,null,null,null,null,null,null,null,null,null,null,null,null,null,null,null,null,null,null,null,null,null,null,null,null,null,null,null,null,null,null,null,null,null,null,null,null,null,null,null,null,null,null,null,null,null,null,null,null,null,null,null,null,null,null,null,null,null,null,null,null,null,null,null,null,null,null,null,null,null,null,null,null,null,null,null,null,null,null,null,null,null,null,null,null,null,null,null,null,null,null,null,null,null,null,null,null,null,null,null,null,null,null,null,null,null,null,null,null,null,null,null,null,null,null,null,null,null,null,null,null,null,null,null,null,null,null,null,null,null,null,null,null,null,null,null,null,null,null,null,null,null,null,null,null,null,null,null,null,null,null,null,null,null,null,null,null,null,null,null,null,null,null,null,null,null,null,null,null,null,null,null,null,null,null,null,null,null,null,null,null,null,null,null,null,null,null,null,null,null,null,null,null,null,null,null,null,null,null,null,null,null,null,null,null,null,null,null,null,null,null,null,null,null,null,null,null,null,null,null,null,null,null,null,null,null,null,null,null,null,null,null,null,null,null,null,null,null,null,null,null,null,null,null,null,null,null,null,null,null,null,null,null,null,null,null,null,null,null,null,null,null,null,null,null,null,null,null,null,null,null,null,null,null,null,null,null,null,null,null,null,null,null,null,null,null,null,null,null,null,null,null,null,null,null,null,null,null,null,null,null,null,null,null,null,null,null,null,null,null,null,null,null,null,null,null,null,null,null,null,null,null,null,null,null,null,null,null,null,null,null,null,null,null,null,null,null,null,null,null,null,null,null,null,null,null,null,null,null,null,null,null,null,null,null,null,null,null,null,null,null,null,null,null,null,null,null,null,null,null,null,null,null,null,null,null,null,null,null,null,null,null,null,null,null,null,null,null,null,null,null,null,null,null,null,null,null,null,null,null,null,null,null,null,null,null,null,null,null,null,null,null,null,null,null,null,null,null,null,null,null,null,null,null,null,null,null,null,null,null,null,null,null,null,null,null,null,null,null,null,null,null,null,null,null,null,null,null,null,null,null,null,null,null,null,null,null,null,null,null,null,null,null,null,null,null,null,null,null,null,null,null,null,null,null,null,null,null,null,null,null,null,null,null,null,null,null,null,null,null,null,null,null,null,null,null,null,null,null,null,null,null,null,null,null,null,null,null,null,null,null,null,null,null,null,null,null,null,null,null,null,null,null,null,null,null,null,null,null,null,null,null,null,null,null,null,null,null,null,null,null,null,null,null,null,null,null,null,null,null,null,null,null,null,null,null,null,null,null,null,null,null,null,null,null,null,null,null,null,null,null,null,null,null,null,null,null,null,null,null,null,null,null,null,null,null,null,null,null,null,null,null,null,null,null,null,null,null,null,null,null,null,null,null,null,null,null,null,null,null,null,null,null,null,null,null,null,null,null,null,null,null,null,null,null,null,null,null,null,null,null,null,null,null,null,null,null,null,null,null,null,null,null,null,null,null,null,null,null,null,null,null,null,null,null,null,null,null,null,null,null,null,null,null,null,null,null,null,null,null,null,null,null,null,null,null,null,null,null,null,null,null,null,null,null,null,null,null,null,null,null,null,null,null,null,null,null,null,null,null,null,null,null,null,null,null,null,null,null,null,null,null,null,null,null,null,null,null,null,null,null,null,null,null,null,null,null,null,null,null,null,null,null,null,null,null,null,null,null,null,null,null,null,null,null,null,null,null,null,null,null,null,null,null,null,null,null,null,null,null,null,null,null,null,null,null,null,null,null,null,null,null,null,null,null,null,null,null,null,null,null,null,null,null,null,null,null,null,null,null,null,null,null,null,null,null,null,null,null,null,null,null,null,null,null,null,null,null,null,null,null,null,null,null,null,null,null,null,null,null,null,null,null,null,null,null,null,null,null,null,null,null,null,null,null,null,null,null,null,null,null,null,null,null,null,null,null,null,null,null,null,null,null,null,null,null,null,null,null,null,null,null,null,null,null,null,null,null,null,null,null,null,null,null,null,null,null,null,null,null,null,null,null,null,null,null,null,null,null,null,null,null,null,null,null,null,null,null,null,null,null,null,null,null,null,null,null,null,null,null,null,null,null,null,null,null,null,null,null,null,null,null,null,null,null,null,null,null,null,null,null,null,null,null,null,null,null,null,null,null,null,null,null,null,null,null,null,null,null,null,null,null,null,null,null,null,null,null,null,null,null,null,null,null,null,null,null,null,null,null,null,null,null,null,null,null,null,null,null,null,null,null,null,null,null,null,null,null,null,null,null,null,null,null,null,null,null,null,null,null,null,null,null,null,null,null,null,null,null,null,null,null,null,null,null,null,null,null,null,null,null,null,null,null,null,null,null,null,null,null,null,null,null,null,null,null,null,null,null,null,null,null,null,null,null,null,null,null,null,null,null,null,null,null,null,null,null,null,null,null,null,null,null,null,null,null,null,null,null,null,null,null,null,null,null,null,null,null,null,null,null,null,null,null,null,null,null,null,null,null,null,null,null,null,null,null,null,null,null,null,null,null,null,null,null,null,null,null,null,null,null,null,null,null,null,null,null,null,null,null,null,null,null,null,null,null,null,null,null,null,null,null,null,null,null,null,null,null,null,null,null,null,null,null,null,null,null,null,null,null,null,null,null,null,null,null,null,null,null,null,null,null,null,null,null,null,null,null,null,null,null,null,null,null,null,null,null,null,null,null,null,null,null,null,null,null,null,null,null,null,null,null,null,null,null,null,null,null,null,null,null,null,null,null,null,null,null,null,null,null,null,null,null,null,null,null,null,null,null,null,null,null,null,null,null,null,null,null,null,null,null,null,null,null,null,null,null,null,null,null,null,null,null,null,null,null,null,null,null,null,null,null,null,null,null,null,null,null,null,null,null,null,null,null,null,null,null,null,null,null,null,null,null,null,null,null,null,null,null,null,null,null,null,null,null,null,null,null,null,null,null,null,null,null,null,null,null,null,null,null,null,null,null,null,null,null,null,null,null,null,null,null,null,null,null,null,null,null,null,null,null,null,null,null,null,null,null,null,null,null,null,null,null,null,null,null,null,null,null,null,null,null,null,null,null,null,null,null,null,null,null,null,null,null,null,null,null,null,null,null,null,null,null,null,null,null,null,null,null,null,null,null,null,null,null,null,null,null,null,null,null,null,null,null,null,null,null,null,null,null,null,null,null,null,null,null,null,null,null,null,null,null,null,null,null,null,null,null,null,null,null,null,null,null,null,null,null,null,null,null,null,null,null,null,null,null,null,null,null,null,null,null,null,null,null,null,null,null,null,null,null,null,null,null,null,null,null,null,null,null,null,null,null,null,null,null,null,null,null,null,null,null,null,null,null,null,null,null,null,null,null,null,null,null,null,null,null,null,null,null,null,null,null,null,null,null,null,null,null,null,null,null,null,null,null,null,null,null,null,null,null,null,null,null,null,null,null,null,null,null,null,null,null,null,null,null,null,null,null,null,null,null,null,null,null,null,null,null,null,null,null,null,null,null,null,null,null,null,null,null,null,null,null,null,null,null,null,null,null,null,null,null,null,null,null,null,null,null,null,null,null,null,null,null,null,null,null,null,null,null,null,null,null,null,null,null,null,null,null,null,null,null,null,null,null,null,null,null,null,null,null,null,null,null,null,null,null,null,null,null,null,null,null,null,null,null,null,null,null,null,null,null,null,null,null,null,null,null,null,null,null,null,null,null,null,null,null,null,null,null,null,null,null,null,null,null,null,null,null,null,null,null,null,null,null,null,null,null,null,null,null,null,null,null,null,null,null,null,null,null,null,null,null,null,null,null,null,null,null,null,null,null,null,null,null,null,null,null,null,null,null,null,null,null,null,null,null,null,null,null,null,null,null,null,null,null,null,null,null,null,null,null,null,null,null,null,null,null,null,null,null,null,null,null,null,null,null,null,null,null,null,null,null,null,null,null,null,null,null,null,null,null,null,null,null,null,null,null,null,null,null,null,null,null,null,null,null,null,null,null,null,null,null,null,null,null,null,null,null,null,null,null,null,null,null,null,null,null,null,null,null,null,null,null,null,null,null,null,null,null,null,null,null,null,null,null,null,null,null,null,null,null,null,null,null,null,null,null,null,null,null,null,null,null,null,null,null,null,null,null,null,null,null,null,null,null,null,null,null,null,null,null,null,null,null,null,null,null,null,null,null,null,null,null,null,null,null,null,null,null,null,null,null,null,null,null,null,null,null,null,null,null,null,null,null,null,null,null,null,null,null,null,null,null,null,null,null,null,null,null,null,null,null,null,null,null,null,null,null,null,null,null,null,null,null,null,null,null,null,null,null,null,null,null,null,null,null,null,null,null,null,null,null,null,null,null,null,null,null,null,null,null,null,null,null,null,null,null,null,null,null,null,null,null,null,null,null,null,null,null,null,null,null,null,null,null,null,null,null,null,null,null,null,null,null,null,null,null,null,null,null,null,null,null,null,null,null,null,null,null,null,null,null,null,null,null,null,null,null,null,null,null,null,null,null,null,null,null,null,null,null,null,null,null,null,null,null,null,null,null,null,null,null,null,null,null,null,null,null,null,null,null,null,null,null,null,null,null,null,null,null,null,null,null,null,null,null,null,null,null,null,null,null,null,null,null,null,null,null,null,null,null,null,null,null,null,null,null,null,null,null,null,null,null,null,null,null,null,null,null,null,null,null,null,null,null,null,null,null,null,null,null,null,null,null,null,null,null,null,null,null,null,null,null,null,null,null,null,null,null,null,null,null,null,null,null,null,null,null,null,null,null,null,null,null,null,null,null,null,null,null,null,null,null,null,null,null,null,null,null,null,null,null,null,null,null,null,null,null,null,null,null,null,null,null,null,null,null,null,null,null,null,null,null,null,null,null,null,null,null,null,null,null,null,null,null,null,null,null,null,null,null,null,null,null,null,null,null,null,null,null,null,null,null,null,null,null,null,null,null,null,null,null,null,null,null,null,null,null,null,null,null,null,null,null,null,null,null,null,null,null,null,null,null,null,null,null,null,null,null,null,null,null,null,null,null,null,null,null,null,null,null,null,null,null,null,null,null,null,null,null,null,null,null,null,null,null,null,null,null,null,null,null,null,null,null,null,null,null,null,null,null,null,null,null,null,null,null,null,null,null,null,null,null,null,null,null,null,null,null,null,null,null,null,null,null,null,null,null,null,null,null,null,null,null,null,null,null,null,null,null,null,null,null,null,null,null,null,null,null,null,null,null,null,null,null,null,null,null,null,null,null,null,null,null,null,null,null,null,null,null,null,null,null,null,null,null,null,null,null,null,null,null,null,null,null,null,null,null,null,null,null,null,null,null,null,null,null,null,null,null,null,null,null,null,null,null,null,null,null,null,null,null,null,null,null,null,null,null,null,null,null,null,null,null,null,null,null,null,null,null,null,null,null,null,null,null,null,null,null,null,null,null,null,null,null,null,null,null,null,null,null,null,null,null,null,null,null,null,null,null,null,null,null,null,null,null,null,null,null,null,null,null,null,null,null,null,null,null,null,null,null,null,null,null,null,null,null,null,null,null,null,null,null,null,null,null,null,null,null,null,null,null,null,null,null,null,null,null,null,null,null,null,null,null,null,null,null,null,null,null,null,null,null,null,null,null,null,null,null,null,null,null,null,null,null,null,null,null,null,null,null,null,null,null,null,null,null,null,null,null,null,null,null,null,null,null,null,null,null,null,null,null,null,null,null,null,null,null,null,null,null,null,null,null,null,null,null,null,null,null,null,null,null,null,null,null,null,null,null,null,null,null,null,null,null,null,null,null,null,null,null,null,null,null,null,null,null,null,null,null,null,null,null,null,null,null,null,null,null,null,null,null,null,null,null,null,null,null,null,null,null,null,null,null,null,null,null,null,null,null,null,null,null,null,null,null,null,null,null,null,null,null,null,null,null,null,null,null,null,null,null,null,null,null,null,null,null,null,null,null,null,null,null,null,null,null,null,null,null,null,null,null,null,null,null,null,null,null,null,null,null,null,null,null,null,null,null,null,null,null,null,null,null,null,null,null,null,null,null,null,null,null,null,null,null,null,null,null,null,null,null,null,null,null,null,null,null,null,null,null,null,null,null,null,null,null,null,null,null,null,null,null,null,null,null,null,null,null,null,null,null,null,null,null,null,null,null,null,null,null,null,null,null,null,null,null,null,null,null,null,null,null,null,null,null,null,null,null,null,null,null,null,null,null,null,null,null,null,null,null,null,null,null,null,null,null,null,null,null,null,null,null,null,null,null,null,null,null,null,null,null,null,null,null,null,null,null,null,null,null,null,null,null,null,null,null,null,null,null,null,null,null,null,null,null,null,null,null,null,null,null,null,null,null,null,null,null,null,null,null,null,null,null,null,null,null,null,null,null,null,null,null,null,null,null,null,null,null,null,null,null,null,null,null,null,null,null,null,null,null,null,null,null,null,null,null,null,null,null,null,null,null,null,null,null,null,null,null,null,null,null,null,null,null,null,null,null,null,null,null,null,null,null,null,null,null,null,null,null,null,null,null,null,null,null,null,null,null,null,null,null,null,null,null,null,null,null,null,null,null,null,null,null,null,null,null,null,null,null,null,null,null,null,null,null,null,null,null,null,null,null,null,null,null,null,null,null,null,null,null,null,null,null,null,null,null,null,null,null,null,null,null,null,null,null,null,null,null,null,null,null,null,null,null,null,null,null,null,null,null,null,null,null,null,null,null,null,null,null,null,null,null,null,null,null,null,null,null,null,null,null,null,null,null,null,null,null,null,null,null,null,null,null,null,null,null,null,null,null,null,null,null,null,null,null,null,null,null,null,null,null,null,null,null,null,null,null,null,null,null,null,null,null,null,null,null,null,null,null,null,null,null,null,null,null,null,null,null,null,null,null,null,null,null,null,null,null,null,null,null,null,null,null,null,null,null,null,null,null,null,null,null,null,null,null,null,null,null,null,null,null,null,null,null,null,null,null,null,null,null,null,null,null,null,null,null,null,null,null,null,null,null,null,null,null,null,null,null,null,null,null,null,null,null,null,null,null,null,null,null,null,null,null,null,null,null,null,null,null,null,null,null,null,null,null,null,null,null,null,null,null,null,null,null,null,null,null,null,null,null,null,null,null,null,null,null,null,null,null,null,null,null,null,null,null,null,null,null,null,null,null,null,null,null,null,null,null,null,null,null,null,null,null,null,null,null,null,null,null,null,null,null,null,null,null,null,null,null,null,null,null,null,null,null,null,null,null,null,null,null,null,null,null,null,null,null,null,null,null,null,null,null,null,null,null,null,null,null,null,null,null,null,null,null,null,null,null,null,null,null,null,null,null,null,null,null,null,null,null,null,null,null,null,null,null,null,null,null,null,null,null,null,null,null,null,null,null,null,null,null,null,null,null,null,null,null,null,null,null,null,null,null,null,null,null,null,null,null,null,null,null,null,null,null,null,null,null,null,null,null,null,null,null,null,null,null,null,null,null,null,null,null,null,null,null,null,null,null,null,null,null,null,null,null,null,null,null,null,null,null,null,null,null,null,null,null,null,null,null,null,null,null,null,null,null,null,null,null,null,null,null,null,null,null,null,null,null,null,null,null,null,null,null,null,null,null,null,null,null,null,null,null,null,null,null,null,null,null,null,null,null,null,null,null,null,null,null,null,null,null,null,null,null,null,null,null,null,null,null,null,null,null,null,null,null,null,null,null,null,null,null,null,null,null,null,null,null,null,null,null,null,null,null,null,null,null,null,null,null,null,null,null,null,null,null,null,null,null,null,null,null,null,null,null,null,null,null,null,null,null,null,null,null,null,null,null,null,null,null,null,null,null,null,null,null,null,null,null,null,null,null,null,null,null,null,null,null,null,null,null,null,null,null,null,null,null,null,null,null,null,null,null,null,null,null,null,null,null,null,null,null,null,null,null,null,null,null,null,null,null,null,null,null,null,null,null,null,null,null,null,null,null,null,null,null,null,null,null,null,null,null,null,null,null,null,null,null,null,null,null,null,null,null,null,null,null,null,null,null,null,null,null,null,null,null,null,null,null,null,null,null,null,null,null,null,null,null,null,null,null,null,null,null,null,null,null,null,null,null,null,null,null,null,null,null,null,null,null,null,null,null,null,null,null,null,null,null,null,null,null,null,null,null,null,null,null,null,null,null,null,null,null,null,null,null,null,null,null,null,null,null,null,null,null,null,null,null,null,null,null,null,null,null,null,null,null,null,null,null,null,null,null,null,null,null,null,null,null,null,null,null,null,null,null,null,null,null,null,null,null,null,null,null,null,null,null,null,null,null,null,null,null,null,null,null,null,null,null,null,null,null,null,null,null,null,null,null,null,null,null,null,null,null,null,null,null,null,null,null,null,null,null,null,null,null,null,null,null,null,null,null,null,null,null,null,null,null,null,null,null,null,null,null,null,null,null,null,null,null,null,null,null,null,null,null,null,null,null,null,null,null,null,null,null,null,null,null,null,null,null,null,null,null,null,null,null,null,null,null,null,null,null,null,null,null,null,null,null,null,null,null,null,null,null,null,null,null,null,null,null,null,null,null,null,null,null,null,null,null,null,null,null,null,null,null,null,null,null,null,null,null,null,null,null,null,null,null,null,null,null,null,null,null,null,null,null,null,null,null,null,null,null,null,null,null,null,null,null,null,null,null,null,null,null,null,null,null,null,null,null,null,null,null,null,null,null,null,null,null,null,null,null,null,null,null,null,null,null,null,null,null,null,null,null,null,null,null,null,null,null,null,null,null,null,null,null,null,null,null,null,null,null,null,null,null,null,null,null,null,null,null,null,null,null,null,null,null,null,null,null,null,null,null,null,null,null,null,null,null,null,null,null,null,null,null,null,null,null,null,null,null,null,null,null,null,null,null,null,null,null,null,null,null,null,null,null,null,null,null,null,null,null,null,null,null,null,null,null,null,null,null,null,null,null,null,null,null,null,null,null,null,null,null,null,null,null,null,null,null,null,null,null,null,null,null,null,null,null,null,null,null,null,null,null,null,null,null,null,null,null,null,null,null,null,null,null,null,null,null,null,null,null,null,null,null,null,null,null,null,null,null,null,null,null,null,null,null,null,null,null,null,null,null,null,null,null,null,null,null,null,null,null,null,null,null,null,null,null,null,null,null,null,null,null,null,null,null,null,null,null,null,null,null,null,null,null,null,null,null,null,null,null,null,null,null,null,null,null,null,null,null,null,null,null,null,null,null,null,null,null,null,null,null,null,null,null,null,null,null,null,null,null,null,null,null,null,null,null,null,null,null,null,null,null,null,null,null,null,null,null,null,null,null,null,null,null,null,null,null,null,null,null,null,null,null,null,null,null,null,null,null,null,null,null,null,null,null,null,null,null,null,null,null,null,null,null,null,null,null,null,null,null,null,null,null,null,null,null,null,null,null,null,null,null,null,null,null,null,null,null,null,null,null,null,null,null,null,null,null,null,null,null,null,null,null,null,null,null,null,null,null,null,null,null,null,null,null,null,null,null,null,null,null,null,null,null,null,null,null,null,null,null,null,null,null,null,null,null,null,null,null,null,null,null,null,null,null,null,null,null,null,null,null,null,null,null,null,null,null,null,null,null,null,null,null,null,null,null,null,null,null,null,null,null,null,null,null,null,null,null,null,null,null,null,null,null,null,null,null,null,null,null,null,null,null,null,null,null,null,null,null,null,null,null,null,null,null,null,null,null,null,null,null,null,null,null,null,null,null,null,null,null,null,null,null,null,null,null,null,null,null,null,null,null,null,null,null,null,null,null,null,null,null,null,null,null,null,null,null,null,null,null,null,null,null,null,null,null,null,null,null,null,null,null,null,null,null,null,null,null,null,null,null,null,null,null,null,null,null,null,null,null,null,null,null,null,null,null,null,null,null,null,null,null,null,null,null,null,null,null,null,null,null,null,null,null,null,null,null,null,null,null,null,null,null,null,null,null,null,null,null,null,null,null,null,null,null,null,null,null,null,null,null,null,null,null,null,null,null,null,null,null,null,null,null,null,null,null,null,null,null,null,null,null,null,null,null,null,null,null,null,null,null,null,null,null,null,null,null,null,null,null,null,null,null,null,null,null,null,null,null,null,null,null,null,null,null,null,null,null,null,null,null,null,null,null,null,null,null,null,null,null,null,null,null,null,null,null,null,null,null,null,null,null,null,null,null,null,null,null,null,null,null,null,null,null,null,null,null,null,null,null,null,null,null,null,null,null,null,null,null,null,null,null,null,null,null,null,null,null,null,null,null,null,null,null,null,null,null,null,null,null,null,null,null,null,null,null,null,null,null,null,null,null,null,null,null,null,null,null,null,null,null,null,null,null,null,null,null,null,null,null,null,null,null,null,null,null,null,null,null,null,null,null,null,null,null,null,null,null,null,null,null,null,null,null,null,null,null,null,null,null,null,null,null,null,null,null,null,null,null,null,null,null,null,null,null,null,null,null,null,null,null,null,null,null,null,null,null,null,null,null,null,null,null,null,null,null,null,null,null,null,null,null,null,null,null,null,null,null,null,null,null,null,null,null,null,null,null,null,null,null,null,null,null,null,null,null,null,null,null,null,null,null,null,null,null,null,null,null,null,null,null,null,null,null,null,null,null,null,null,null,null,null,null,null,null,null,null,null,null,null,null,null,null,null,null,null,null,null,null,null,null,null,null,null,null,null,null,null,null,null,null,null,null,null,null,null,null,null,null,null,null,null,null,null,null,null,null,null,null,null,null,null,null,null,null,null,null,null,null,null,null,null,null,null,null,null,null,null,null,null,null,null,null,null,null,null,null,null,null,null,null,null,null,null,null,null,null,null,null,null,null,null,null,null,null,null,null,null,null,null,null,null,null,null,null,null,null,null,null,null,null,null,null,null,null,null,null,null,null,null,null,null,null,null,null,null,null,null,null,null,null,null,null,null,null,null,null,null,null,null,null,null,null,null,null,null,null,null,null,null,null,null,null,null,null,null,null,null,null,null,null,null,null,null,null,null,null,null,null,null,null,null,null,null,null,null,null,null,null,null,null,null,null,null,null,null,null,null,null,null,null,null,null,null,null,null,null,null,null,null,null,null,null,null,null,null,null,null,null,null,null,null,null,null,null,null,null,null,null,null,null,null,null,null,null,null,null,null,null,null,null,null,null,null,null,null,null,null,null,null,null,null,null,null,null,null,null,null,null,null,null,null,null,null,null,null,null,null,null,null,null,null,null,null,null,null,null,null,null,null,null,null,null,null,null,null,null,null,null,null,null,null,null,null,null,null,null,null,null,null,null,null,null,null,null,null,null,null,null,null,null,null,null,null,null,null,null,null,null,null,null,null,null,null,null,null,null,null,null,null,null,null,null,null,null,null,null,null,null,null,null,null,null,null,null,null,null,null,null,null,null,null,null,null,null,null,null,null,null,null,null,null,null,null,null,null,null,null,null,null,null,null,null,null,null,null,null,null,null,null,null,null,null,null,null,null,null,null,null,null,null,null,null,null,null,null,null,null,null,null,null,null,null,null,null,null,null,null,null,null,null,null,null,null,null,null,null,null,null,null,null,null,null,null,null,null,null,null,null,null,null,null,null,null,null,null,null,null,null,null,null,null,null,null,null,null,null,null,null,null,null,null,null,null,null,null,null,null,null,null,null,null,null,null,null,null,null,null,null,null,null,null,null,null,null,null,null,null,null,null,null,null,null,null,null,null,null,null,null,null,null,null,null,null,null,null,null,null,null,null,null,null,null,null,null,null,null,null,null,null,null,null,null,null,null,null,null,null,null,null,null,null,null,null,null,null,null,null,null,null,null,null,null,null,null,null,null,null,null,null,null,null,null,null,null,null,null,null,null,null,null,null,null,null,null,null,null,null,null,null,null,null,null,null,null,null,null,null,null,null,null,null,null,null,null,null,null,null,null,null,null,null,null,null,null,null,null,null,null,null,null,null,null,null,null,null,null,null,null,null,null,null,null,null,null,null,null,null,null,null,null,null,null,null,null,null,null,null,null,null,null,null,null,null,null,null,null,null,null,null,null,null,null,null,null,null,null,null,null,null,null,null,null,null,null,null,null,null,null,null,null,null,null,null,null,null,null,null,null,null,null,null,null,null,null,null,null,null,null,null,null,null,null,null,null,null,null,null,null,null,null,null,null,null,null,null,null,null,null,null,null,null,null,null,null,null,null,null,null,null,null,null,null,null,null,null,null,null,null,null,null,null,null,null,null,null,null,null,null,null,null,null,null,null,null,null,null,null,null,null,null,null,null,null,null,null,null,null,null,null,null,null,null,null,null,null,null,null,null,null,null,null,null,null,null,null,null,null,null,null,null,null,null,null,null,null,null,null,null,null,null,null,null,null,null,null,null,null,null,null,null,null,null,null,null,null,null,null,null,null,null,null,null,null,null,null,null,null,null,null,null,null,null,null,null,null,null,null,null,null,null,null,null,null,null,null,null,null,null,null,null,null,null,null,null,null,null,null,null,null,null,null,null,null,null,null,null,null,null,null,null,null,null,null,null,null,null,null,null,null,null,null,null,null,null,null,null,null,null,null,null,null,null,null,null,null,null,null,null,null,null,null,null,null,null,null,null,null,null,null,null,null,null,null,null,null,null,null,null,null,null,null,null,null,null,null,null,null,null,null,null,null,null,null,null,null,null,null,null,null,null,null,null,null,null,null,null,null,null,null,null,null,null,null,null,null,null,null,null,null,null,null,null,null,null,null,null,null,null,null,null,null,null,null,null,null,null,null,null,null,null,null,null,null,null,null,null,null,null,null,null,null,null,null,null,null,null,null,null,null,null,null,null,null,null,null,null,null,null,null,null,null,null,null,null,null,null,null,null,null,null,null,null,null,null,null,null,null,null,null,null,null,null,null,null,null,null,null,null,null,null,null,null,null,null,null,null,null,null,null,null,null,null,null,null,null,null,null,null,null,null,null,null,null,null,null,null,null,null,null,null,null,null,null,null,null,null,null,null,null,null,null,null,null,null,null,null,null,null,null,null,null,null,null,null,null,null,null,null,null,null,null,null,null,null,null,null,null,null,null,null,null,null,null,null,null,null,null,null,null,null,null,null,null,null,null,null,null,null,null,null,null,null,null,null,null,null,null,null,null,null,null,null,null,null,null,null,null,null,null,null,null,null,null,null,null,null,null,null,null,null,null,null,null,null,null,null,null,null,null,null,null,null,null,null,null,null,null,null,null,null,null,null,null,null,null,null,null,null,null,null,null,null,null,null,null,null,null,null,null,null,null,null,null,null,null,null,null,null,null,null,null,null,null,null,null,null,null,null,null,null,null,null,null,null,null,null,null,null,null,null,null,null,null,null,null,null,null,null,null,null,null,null,null,null,null,null,null,null,null,null,null,null,null,null,null,null,null,null,null,null,null,null,null,null,null,null,null,null,null,null,null,null,null,null,null,null,null,null,null,null,null,null,null,null,null,null,null,null,null,null,null,null,null,null,null,null,null,null,null,null,null,null,null,null,null,null,null,null,null,null,null,null,null,null,null,null,null,null,null,null,null,null,null,null,null,null,null,null,null,null,null,null,null,null,null,null,null,null,null,null,null,null,null,null,null,null,null,null,null,null,null,null,null,null,null,null,null,null,null,null,null,null,null,null,null,null,null,null,null,null,null,null,null,null,null,null,null,null,null,null,null,null,null,null,null,null,null,null,null,null,null,null,null,null,null,null,null,null,null,null,null,null,null,null,null,null,null,null,null,null,null,null,null,null,null,null,null,null,null,null,null,null,null,null,null,null,null,null,null,null,null,null,null,null,null,null,null,null,null,null,null,null,null,null,null,null,null,null,null,null,null,null,null,null,null,null,null,null,null,null,null,null,null,null,null,null,null,null,null,null,null,null,null,null,null,null,null,null,null,null,null,null,null,null,null,null,null,null,null,null,null,null,null,null,null,null,null,null,null,null,null,null,null,null,null,null,null,null,null,null,null,null,null,null,null,null,null,null,null,null,null,null,null,null,null,null,null,null,null,null,null,null,null,null,null,null,null,null,null,null,null,null,null,null,null,null,null,null,null,null,null,null,null,null,null,null,null,null,null,null,null,null,null,null,null,null,null,null,null,null,null,null,null,null,null,null,null,null,null,null,null,null,null,null,null,null,null,null,null,null,null,null,null,null,null,null,null,null,null,null,null,null,null,null,null,null,null,null,null,null,null,null,null,null,null,null,null,null,null,null,null,null,null,null,null,null,null,null,null,null,null,null,null,null,null,null,null,null,null,null,null,null,null,null,null,null,null,null,null,null,null,null,null,null,null,null,null,null,null,null,null,null,null,null,null,null,null,null,null,null,null,null,null,null,null,null,null,null,null,null,null,null,null,null,null,null,3]
[null,"Tex-117-E",null,null,null,null,null,null,null,null,null,null,null,null,null,null,null,null,null,null,null,null,null,null,null,null,null,null,null,null,null,null,null,null,null,null,null,null,null,null,null,null,null,null,null,null,null,null,null,null,null,null,null,null,null,null,null,null,null,null,null,null,null,null,null,null,null,null,null,null,null,null,null,null,null,null,null,null,null,null,null,null,null,null,null,null,null,null,null,null,null,null,null,null,null,null,null,null,null,null,null,null,null,null,null,null,null,null,null,null,null,null,null,null,null,null,null,null,null,null,null,null,null,null,null,null,null,null,null,null,null,null,null,null,null,null,null,null,null,null,null,null,null,null,null,null,null,null,null,null,null,null,null,null,null,null,null,null,null,null,null,null,null,null,null,null,null,null,null,null,null,null,null,null,null,null,null,null,null,null,null,null,null,null,null,null,null,null,null,null,null,null,null,null,null,null,null,null,null,null,null,null,null,null,null,null,null,null,null,null,null,null,null,null,null,null,null,null,null,null,null,null,null,null,null,null,null,null,null,null,null,null,null,null,null,null,null,null,null,null,null,null,null,null,null,null,null,null,null,null,null,null,null,null,null,null,null,null,null,null,null,null,null,null,null,null,null,null,null,null,null,null,null,null,null,null,null,null,null,null,null,null,null,null,null,null,null,null,null,null,null,null,null,null,null,null,null,null,null,null,null,null,null,null,null,null,null,null,null,null,null,null,null,null,null,null,null,null,null,null,null,null,null,null,null,null,null,null,null,null,null,null,null,null,null,null,null,null,null,null,null,null,null,null,null,null,null,null,null,null,null,null,null,null,null,null,null,null,null,null,null,null,null,null,null,null,null,null,null,null,null,null,null,null,null,null,null,null,null,null,null,null,null,null,null,null,null,null,null,null,null,null,null,null,null,null,null,null,null,null,null,null,null,null,null,null,null,null,null,null,null,null,null,null,null,null,null,null,null,null,null,null,null,null,null,null,null,null,null,null,null,null,null,null,null,null,null,null,null,null,null,null,null,null,null,null,null,null,null,null,null,null,null,null,null,null,null,null,null,null,null,null,null,null,null,null,null,null,null,null,null,null,null,null,null,null,null,null,null,null,null,null,null,null,null,null,null,null,null,null,null,null,null,null,null,null,null,null,null,null,null,null,null,null,null,null,null,null,null,null,null,null,null,null,null,null,null,null,null,null,null,null,null,null,null,null,null,null,null,null,null,null,null,null,null,null,null,null,null,null,null,null,null,null,null,null,null,null,null,null,null,null,null,null,null,null,null,null,null,null,null,null,null,null,null,null,null,null,null,null,null,null,null,null,null,null,null,null,null,null,null,null,null,null,null,null,null,null,null,null,null,null,null,null,null,null,null,null,null,null,null,null,null,null,null,null,null,null,null,null,null,null,null,null,null,null,null,null,null,null,null,null,null,null,null,null,null,null,null,null,null,null,null,null,null,null,null,null,null,null,null,null,null,null,null,null,null,null,null,null,null,null,null,null,null,null,null,null,null,null,null,null,null,null,null,null,null,null,null,null,null,null,null,null,null,null,null,null,null,null,null,null,null,null,null,null,null,null,null,null,null,null,null,null,null,null,null,null,null,null,null,null,null,null,null,null,null,null,null,null,null,null,null,null,null,null,null,null,null,null,null,null,null,null,null,null,null,null,null,null,null,null,null,null,null,null,null,null,null,null,null,null,null,null,null,null,null,null,null,null,null,null,null,null,null,null,null,null,null,null,null,null,null,null,null,null,null,null,null,null,null,null,null,null,null,null,null,null,null,null,null,null,null,null,null,null,null,null,null,null,null,null,null,null,null,null,null,null,null,null,null,null,null,null,null,null,null,null,null,null,null,null,null,null,null,null,null,null,null,null,null,null,null,null,null,null,null,null,null,null,null,null,null,null,null,null,null,null,null,null,null,null,null,null,null,null,null,null,null,null,null,null,null,null,null,null,null,null,null,null,null,null,null,null,null,null,null,null,null,null,null,null,null,null,null,null,null,null,null,null,null,null,null,null,null,null,null,null,null,null,null,null,null,null,null,null,null,null,null,null,null,null,null,null,null,null,null,null,null,null,null,null,null,null,null,null,null,null,null,null,null,null,null,null,null,null,null,null,null,null,null,null,null,null,null,null,null,null,null,null,null,null,null,null,null,null,null,null,null,null,null,null,null,null,null,null,null,null,null,null,null,null,null,null,null,null,null,null,null,null,null,null,null,null,null,null,null,null,null,null,null,null,null,null,null,null,null,null,null,null,null,null,null,null,null,null,null,null,null,null,null,null,null,null,null,null,null,null,null,null,null,null,null,null,null,null,null,null,null,null,null,null,null,null,null,null,null,null,null,null,null,null,null,null,null,null,null,null,null,null,null,null,null,null,null,null,null,null,null,null,null,null,null,null,null,null,null,null,null,null,null,null,null,null,null,null,null,null,null,null,null,null,null,null,null,null,null,null,null,null,null,null,null,null,null,null,null,null,null,null,null,null,null,null,null,null,null,null,null,null,null,null,null,null,null,null,null,null,null,null,null,null,null,null,null,null,null,null,null,null,null,null,null,null,null,null,null,null,null,null,null,null,null,null,null,null,null,null,null,null,null,null,null,null,null,null,null,null,null,null,null,null,null,null,null,null,null,null,null,null,null,null,null,null,null,null,null,null,null,null,null,null,null,null,null,null,null,null,null,null,null,null,null,null,null,null,null,null,null,null,null,null,null,null,null,null,null,null,null,null,null,null,null,null,null,null,null,null,null,null,null,null,null,null,null,null,null,null,null,null,null,null,null,null,null,null,null,null,null,null,null,null,null,null,null,null,null,null,null,null,null,null,null,null,null,null,null,null,null,null,null,null,null,null,null,null,null,null,null,null,null,null,null,null,null,null,null,null,null,null,null,null,null,null,null,null,null,null,null,null,null,null,null,null,null,null,null,null,null,null,null,null,null,null,null,null,null,null,null,null,null,null,null,null,null,null,null,null,null,null,null,null,null,null,null,null,null,null,null,null,null,null,null,null,null,null,null,null,null,null,null,null,null,null,null,null,null,null,null,null,null,null,null,null,null,null,null,null,null,null,null,null,null,null,null,null,null,null,null,null,null,null,null,null,null,null,null,null,null,null,null,null,null,null,null,null,null,null,null,null,null,null,null,null,null,null,null,null,null,null,null,null,null,null,null,null,null,null,null,null,null,null,null,null,null,null,null,null,null,null,null,null,null,null,null,null,null,null,null,null,null,null,null,null,null,null,null,null,null,null,null,null,null,null,null,null,null,null,null,null,null,null,null,null,null,null,null,null,null,null,null,null,null,null,null,null,null,null,null,null,null,null,null,null,null,null,null,null,null,null,null,null,null,null,null,null,null,null,null,null,null,null,null,null,null,null,null,null,null,null,null,null,null,null,null,null,null,null,null,null,null,null,null,null,null,null,null,null,null,null,null,null,null,null,null,null,null,null,null,null,null,null,null,null,null,null,null,null,null,null,null,null,null,null,null,null,null,null,null,null,null,null,null,null,null,null,null,null,null,null,null,null,null,null,null,null,null,null,null,null,null,null,null,null,null,null,null,null,null,null,null,null,null,null,null,null,null,null,null,null,null,null,null,null,null,null,null,null,null,null,null,null,null,null,null,null,null,null,null,null,null,null,null,null,null,null,null,null,null,null,null,null,null,null,null,null,null,null,null,null,null,null,null,null,null,null,null,null,null,null,null,null,null,null,null,null,null,null,null,null,null,null,null,null,null,null,null,null,null,null,null,null,null,null,null,null,null,null,null,null,null,null,null,null,null,null,null,null,null,null,null,null,null,null,null,null,null,null,null,null,null,null,null,null,null,null,null,null,null,null,null,null,null,null,null,null,null,null,null,null,null,null,null,null,null,null,null,null,null,null,null,null,null,null,null,null,null,null,null,null,null,null,null,null,null,null,null,null,null,null,null,null,null,null,null,null,null,null,null,null,null,null,null,null,null,null,null,null,null,null,null,null,null,null,null,null,null,null,null,null,null,null,null,null,null,null,null,null,null,null,null,null,null,null,null,null,null,null,null,null,null,null,null,null,null,null,null,null,null,null,null,null,null,null,null,null,null,null,null,null,null,null,null,null,null,null,null,null,null,null,null,null,null,null,null,null,null,null,null,null,null,null,null,null,null,null,null,null,null,null,null,null,null,null,null,null,null,null,null,null,null,null,null,null,null,null,null,null,null,null,null,null,null,null,null,null,null,null,null,null,null,null,null,null,null,null,null,null,null,null,null,null,null,null,null,null,null,null,null,null,null,null,null,null,null,null,null,null,null,null,null,null,null,null,null,null,null,null,null,null,null,null,null,null,null,null,null,null,null,null,null,null,null,null,null,null,null,null,null,null,null,null,null,null,null,null,null,null,null,null,null,null,null,null,null,null,null,null,null,null,null,null,null,null,null,null,null,null,null,null,null,null,null,null,null,null,null,null,null,null,null,null,null,null,null,null,null,null,null,null,null,null,null,null,null,null,null,null,null,null,null,null,null,null,null,null,null,null,null,null,null,null,null,null,null,null,null,null,null,null,null,null,null,null,null,null,null,null,null,null,null,null,null,null,null,null,null,null,null,null,null,null,null,null,null,null,null,null,null,null,null,null,null,null,null,null,null,null,null,null,null,null,null,null,null,null,null,null,null,null,null,null,null,null,null,null,null,null,null,null,null,null,null,null,null,null,null,null,null,null,null,null,null,null,null,null,null,null,null,null,null,null,null,null,null,null,null,null,null,null,null,null,null,null,null,null,null,null,null,null,null,null,null,null,null,null,null,null,null,null,null,null,null,null,null,null,null,null,null,null,null,null,null,null,null,null,null,null,null,null,null,null,null,null,null,null,null,null,null,null,null,null,null,null,null,null,null,null,null,null,null,null,null,null,null,null,null,null,null,null,null,null,null,null,null,null,null,null,null,null,null,null,null,null,null,null,null,null,null,null,null,null,null,null,null,null,null,null,null,null,null,null,null,null,null,null,null,null,null,null,null,null,null,null,null,null,null,null,null,null,null,null,null,null,null,null,null,null,null,null,null,null,null,null,null,null,null,null,null,null,null,null,null,null,null,null,null,null,null,null,null,null,null,null,null,null,null,null,null,null,null,null,null,null,null,null,null,null,null,null,null,null,null,null,null,null,null,null,null,null,null,null,null,null,null,null,null,null,null,null,null,null,null,null,null,null,null,null,null,null,null,null,null,null,null,null,null,null,null,null,null,null,null,null,null,null,null,null,null,null,null,null,null,null,null,null,null,null,null,null,null,null,null,null,null,null,null,null,null,null,null,null,null,null,null,null,null,null,null,null,null,null,null,null,null,null,null,null,null,null,null,null,null,null,null,null,null,null,null,null,null,null,null,null,null,null,null,null,null,null,null,null,null,null,null,null,null,null,null,null,null,null,null,null,null,null,null,null,null,null,null,null,null,null,null,null,null,null,null,null,null,null,null,null,null,null,null,null,null,null,null,null,null,null,null,null,null,null,null,null,null,null,null,null,null,null,null,null,null,null,null,null,null,null,null,null,null,null,null,null,null,null,null,null,null,null,null,null,null,null,null,null,null,null,null,null,null,null,null,null,null,null,null,null,null,null,null,null,null,null,null,null,null,null,null,null,null,null,null,null,null,null,null,null,null,null,null,null,null,null,null,null,null,null,null,null,null,null,null,null,null,null,null,null,null,null,null,null,null,null,null,null,null,null,null,null,null,null,null,null,null,null,null,null,null,null,null,null,null,null,null,null,null,null,null,null,null,null,null,null,null,null,null,null,null,null,null,null,null,null,null,null,null,null,null,null,null,null,null,null,null,null,null,null,null,null,null,null,null,null,null,null,null,null,null,null,null,null,null,null,null,null,null,null,null,null,null,null,null,null,null,null,null,null,null,null,null,null,null,null,null,null,null,null,null,null,null,null,null,null,null,null,null,null,null,null,null,null,null,null,null,null,null,null,null,null,null,null,null,null,null,null,null,null,null,null,null,null,null,null,null,null,null,null,null,null,null,null,null,null,null,null,null,null,null,null,null,null,null,null,null,null,null,null,null,null,null,null,null,null,null,null,null,null,null,null,null,null,null,null,null,null,null,null,null,null,null,null,null,null,null,null,null,null,null,null,null,null,null,null,null,null,null,null,null,null,null,null,null,null,null,null,null,null,null,null,null,null,null,null,null,null,null,null,null,null,null,null,null,null,null,null,null,null,null,null,null,null,null,null,null,null,null,null,null,null,null,null,null,null,null,null,null,null,null,null,null,null,null,null,null,null,null,null,null,null,null,null,null,null,null,null,null,null,null,null,null,null,null,null,null,null,null,null,null,null,null,null,null,null,null,null,null,null,null,null,null,null,null,null,null,null,null,null,null,null,null,null,null,null,null,null,null,null,null,null,null,null,null,null,null,null,null,null,null,null,null,null,null,null,null,null,null,null,null,null,null,null,null,null,null,null,null,null,null,null,null,null,null,null,null,null,null,null,null,null,null,null,null,null,null,null,null,null,null,null,null,null,null,null,null,null,null,null,null,null,null,null,null,null,null,null,null,null,null,null,null,null,null,null,null,null,null,null,null,null,null,null,null,null,null,null,null,null,null,null,null,null,null,null,null,null,null,null,null,null,null,null,null,null,null,null,null,null,null,null,null,null,null,null,null,null,null,null,null,null,null,null,null,null,null,null,null,null,null,null,null,null,null,null,null,null,null,null,null,null,null,null,null,null,null,null,null,null,null,null,null,null,null,null,null,null,null,null,null,null,null,null,null,null,null,null,null,null,null,null,null,null,null,null,null,null,null,null,null,null,null,null,null,null,null,null,null,null,null,null,null,null,null,null,null,null,null,null,null,null,null,null,null,null,null,null,null,null,null,null,null,null,null,null,null,null,null,null,null,null,null,null,null,null,null,null,null,null,null,null,null,null,null,null,null,null,null,null,null,null,null,null,null,null,null,null,null,null,null,null,null,null,null,null,null,null,null,null,null,null,null,null,null,null,null,null,null,null,null,null,null,null,null,null,null,null,null,null,null,null,null,null,null,null,null,null,null,null,null,null,null,null,null,null,null,null,null,null,null,null,null,null,null,null,null,null,null,null,null,null,null,null,null,null,null,null,null,null,null,null,null,null,null,null,null,null,null,null,null,null,null,null,null,null,null,null,null,null,null,null,null,null,null,null,null,null,null,null,null,null,null,null,null,null,null,null,null,null,null,null,null,null,null,null,null,null,null,null,null,null,null,null,null,null,null,null,null,null,null,null,null,null,null,null,null,null,null,null,null,null,null,null,null,null,null,null,null,null,null,null,null,null,null,null,null,null,null,null,null,null,null,null,null,null,null,null,null,null,null,null,null,null,null,null,null,null,null,null,null,null,null,null,null,null,null,null,null,null,null,null,null,null,null,null,null,null,null,null,null,null,null,null,null,null,null,null,null,null,null,null,null,null,null,null,null,null,null,null,null,null,null,null,null,null,null,null,null,null,null,null,null,null,null,null,null,null,null,null,null,null,null,null,null,null,null,null,null,null,null,null,null,null,null,null,null,null,null,null,null,null,null,null,null,null,null,null,null,null,null,null,null,null,null,null,null,null,null,null,null,null,null,null,null,null,null,null,null,null,null,null,null,null,null,null,null,null,null,null,null,null,null,null,null,null,null,null,null,null,null,null,null,null,null,null,null,null,null,null,null,null,null,null,null,null,null,null,null,null,null,null,null,null,null,null,null,null,null,null,null,null,null,null,null,null,null,null,null,null,null,null,null,null,null,null,null,null,null,null,null,null,null,null,null,null,null,null,null,null,null,null,null,null,null,null,null,null,null,null,null,null,null,null,null,null,null,null,null,null,null,null,null,null,null,null,null,null,null,null,null,null,null,null,null,null,null,null,null,null,null,null,null,null,null,null,null,null,null,null,null,null,null,null,null,null,null,null,null,null,null,null,null,null,null,null,null,null,null,null,null,null,null,null,null,null,null,null,null,null,null,null,null,null,null,null,null,null,null,null,null,null,null,null,null,null,null,null,null,null,null,null,null,null,null,null,null,null,null,null,null,null,null,null,null,null,null,null,null,null,null,null,null,null,null,null,null,null,null,null,null,null,null,null,null,null,null,null,null,null,null,null,null,null,null,null,null,null,null,null,null,null,null,null,null,null,null,null,null,null,null,null,null,null,null,null,null,null,null,null,null,null,null,null,null,null,null,null,null,null,null,null,null,null,null,null,null,null,null,null,null,null,null,null,null,null,null,null,null,null,null,null,null,null,null,null,null,null,null,null,null,null,null,null,null,null,null,null,null,null,null,null,null,null,null,null,null,null,null,null,null,null,null,null,null,null,null,null,null,null,null,null,null,null,null,null,null,null,null,null,null,null,null,null,null,null,null,null,null,null,null,null,null,null,null,null,null,null,null,null,null,null,null,null,null,null,null,null,null,null,null,null,null,null,null,null,null,null,null,null,null,null,null,null,null,null,null,null,null,null,null,null,null,null,null,null,null,null,null,null,null,null,null,null,null,null,null,null,null,null,null,null,null,null,null,null,null,null,null,null,null,null,null,null,null,null,null,null,null,null,null,null,null,null,null,null,null,null,null,null,null,null,null,null,null,null,null,null,null,null,null,null,null,null,null,null,null,null,null,null,null,null,null,null,null,null,null,null,null,null,null,null,null,null,null,null,null,null,null,null,null,null,null,null,null,null,null,null,null,null,null,null,null,null,null,null,null,null,null,null,null,null,null,null,null,null,null,null,null,null,null,null,null,null,null,null,null,null,null,null,null,null,null,null,null,null,null,null,null,null,null,null,null,null,null,null,null,null,null,null,null,null,null,null,null,null,null,null,null,null,null,null,null,null,null,null,null,null,null,null,null,null,null,null,null,null,null,null,null,null,null,null,null,null,null,null,null,null,null,null,null,null,null,null,null,null,null,null,null,null,null,null,null,null,null,null,null,null,null,null,null,null,null,null,null,null,null,null,null,null,null,null,null,null,null,null,null,null,null,null,null,null,null,null,null,null,null,null,null,null,null,null,null,null,null,null,null,null,null,null,null,null,null,null,null,null,null,null,null,null,null,null,null,null,null,null,null,null,null,null,null,null,null,null,null,null,null,null,null,null,null,null,null,null,null,null,null,null,null,null,null,null,null,null,null,null,null,null,null,null,null,null,null,null,null,null,null,null,null,null,null,null,null,null,null,null,null,null,null,null,null,null,null,null,null,null,null,null,null,null,null,null,null,null,null,null,null,null,null,null,null,null,null,null,null,null,null,null,null,null,null,null,null,null,null,null,null,null,null,null,null,null,null,null,null,null,null,null,null,null,null,null,null,null,null,null,null,null,null,null,null,null,null,null,null,null,null,null,null,null,null,null,null,null,null,null,null,null,null,null,null,null,null,null,null,null,null,null,null,null,null,null,null,null,null,null,null,null,null,null,null,null,null,null,null,null,null,null,null,null,null,null,null,null,null,null,null,null,null,null,null,null,null,null,null,null,null,null,null,null,null,null,null,null,null,null,null,null,null,null,null,null,null,null,null,null,null,null,null,null,null,null,null,null,null,null,null,null,null,null,null,null,null,null,null,null,null,null,null,null,null,null,null,null,null,null,null,null,null,null,null,null,null,null,null,null,null,null,null,null,null,null,null,null,null,null,null,null,null,null,null,null,null,null,null,null,null,null,null,null,null,null,null,null,null,null,null,null,null,null,null,null,null,null,null,null,null,null,null,null,null,null,null,null,null,null,null,null,null,null,null,null,null,null,null,null,null,null,null,null,null,null,null,null,null,null,null,null,null,null,null,null,null,null,null,null,null,null,null,null,null,null,null,null,null,null,null,null,null,null,null,null,null,null,null,null,null,null,null,null,null,null,null,null,null,null,null,null,null,null,null,null,null,null,null,null,null,null,null,null,null,null,null,null,null,null,null,null,null,null,null,null,null,null,null,null,null,null,null,null,null,null,null,null,null,null,null,null,null,null,null,null,null,null,null,null,null,null,null,null,null,null,null,null,null,null,null,null,null,null,null,null,null,null,null,null,null,null,null,null,null,null,null,null,null,null,null,null,null,null,null,null,null,null,null,null,null,null,null,null,null,null,null,null,null,null,null,null,null,null,null,null,null,null,null,null,null,null,null,null,null,null,null,null,null,null,null,null,null,null,null,null,null,null,null,null,null,null,null,null,null,null,null,null,null,null,null,null,null,null,null,null,null,null,null,null,null,null,null,null,null,null,null,null,null,null,null,null,null,null,null,null,null,null,null,null,null,null,null,null,null,null,null,null,null,null,null,null,null,null,null,null,null,null,null,null,null,null,null,null,null,null,null,null,null,null,null,null,null,null,null,null,null,null,null,null,null,null,null,null,null,null,null,null,null,null,null,null,null,null,null,null,null,null,null,null,null,null,null,null,null,null,null,null,null,null,null,null,null,null,null,null,null,null,null,null,null,null,null,null,null,null,null,null,null,null,null,null,null,null,null,null,null,null,null,null,null,null,null,null,null,null,null,null,null,null,null,null,null,null,null,null,null,null,null,null,null,null,null,null,null,null,null,null,null,null,null,null,null,null,null,null,null,null,null,null,null,null,null,null,null,null,null,null,null,null,null,null,null,null,null,null,null,null,null,null,null,null,null,null,null,null,null,null,null,null,null,null,null,null,null,null,null,null,null,null,null,null,null,null,null,null,null,null,null,null,null,null,null,null,null,null,null,null,null,null,null,null,null,null,null,null,null,null,null,null,null,null,null,null,null,null,null,null,null,null,null,null,null,null,null,null,null,null,null,null,null,null,null,null,null,null,null,null,null,null,null,null,null,null,null,null,null,null,null,null,null,null,null,null,null,null,null,null,null,null,null,null,null,null,null,null,null,null,null,null,null,null,null,null,null,null,null,null,null,null,null,null,null,null,null,null,null,null,null,null,null,null,null,null,null,null,null,null,null,null,null,null,null,null,null,null,null,null,null,null,null,null,null,null,null,null,null,null,null,null,null,null,null,null,null,null,null,null,null,null,null,null,null,null,null,null,null,null,null,null,null,null,null,null,null,null,null,null,null,null,null,null,null,null,null,null,null,null,null,null,null,null,null,null,null,null,null,null,null,null,null,null,null,null,null,null,null,null,null,null,null,null,null,null,null,null,null,null,null,null,null,null,null,null,null,null,null,null,null,null,null,null,null,null,null,null,null,null,null,null,null,null,null,null,null,null,null,null,null,null,null,null,null,null,null,null,null,null,null,null,null,null,null,null,null,null,null,null,null,null,null,null,null,null,null,null,null,null,null,null,null,null,null,null,null,null,null,null,null,null,null,null,null,null,null,null,null,null,null,null,null,null,null,null,null,null,null,null,null,null,null,null,null,null,null,null,null,null,null,null,null,null,null,null,null,null,null,null,null,null,null,null,null,null,null,null,null,null,null,null,null,null,null,null,null,null,null,null,null,null,null,null,null,null,null,null,null,null,null,null,null,null,null,null,null,null,null,null,null,null,null,null,null,null,null,null,null,null,null,null,null,null,null,null,null,null,null,null,null,null,null,null,null,null,null,null,null,null,null,null,null,null,null,null,null,null,null,null,null,null,null,null,null,null,null,null,null,null,null,null,null,null,null,null,null,null,null,null,null,null,null,null,null,null,null,null,null,null,null,null,null,null,null,null,null,null,null,null,null,null,null,null,null,null,null,null,null,null,null,null,null,null,null,null,null,null,null,null,null,null,null,null,null,null,null,null,null,null,null,null,null,null,null,null,null,null,null,null,null,null,null,null,null,null,null,null,null,null,null,null,null,null,null,null,null,null,null,null,null,null,null,null,null,null,null,null,null,null,null,null,null,null,null,null,null,null,null,null,null,null,null,null,null,null,null,null,null,null,null,null,null,null,null,null,null,null,null,null,null,null,null,null,null,null,null,null,null,null,null,null,null,null,null,null,null,null,null,null,null,null,null,null,null,null,null,null,null,null,null,null,null,null,null,null,null,null,null,null,null,null,null,null,null,null,null,null,null,null,null,null,null,null,null,null,null,null,null,null,null,null,null,null,null,null,null,null,null,null,null,null,null,null,null,null,null,null,null,null,null,null,null,null,null,null,null,null,null,null,null,null,null,null,null,null,null,null,null,null,null,null,null,null,null,null,null,null,null,null,null,null,null,null,null,null,null,null,null,null,null,null,null,null,null,null,null,null,null,null,null,null,null,null,null,null,null,null,null,null,null,null,null,null,null,null,null,null,null,null,null,null,null,null,null,null,null,null,null,null,null,null,null,null,null,null,null,null,null,null,null,null,null,null,null,null,null,null,null,null,null,null,null,null,null,null,null,null,null,null,null,null,null,null,null,null,null,null,null,null,null,null,null,null,null,null,null,null,null,null,null,null,null,null,null,null,null,null,null,null,null,null,null,null,null,null,null,null,null,null,null,null,null,null,null,null,null,null,null,null,null,null,null,null,null,null,null,null,null,null,null,null,null,null,null,null,null,null,null,null,null,null,null,null,null,null,null,null,null,null,null,null,null,null,null,null,null,null,null,null,null,null,null,null,null,null,null,null,null,null,null,null,null,null,null,null,null,null,null,null,null,null,null,null,null,null,null,null,null,null,null,null,null,null,null,null,null,null,null,null,null,null,null,null,null,null,null,null,null,null,null,null,null,null,null,null,null,null,null,null,null,null,null,null,null,null,null,null,null,null,null,null,null,null,null,null,null,null,null,null,null,null,null,null,null,null,null,null,null,null,null,null,null,null,null,null,null,null,null,null,null,null,null,null,null,null,null,null,null,null,null,null,null,null,null,null,null,null,null,null,null,null,null,null,null,null,null,null,null,null,null,null,null,null,null,null,null,null,null,null,null,null,null,null,null,null,null,null,null,null,null,null,null,null,null,null,null,null,null,null,null,null,null,null,null,null,null,null,null,null,null,null,null,null,null,null,null,null,null,null,null,null,null,null,null,null,null,null,null,null,null,null,null,null,null,null,null,null,null,null,null,null,null,null,null,null,null,null,null,null,null,null,null,null,null,null,null,null,null,null,null,null,null,null,null,null,null,null,null,null,null,null,null,null,null,null,null,null,null,null,null,null,null,null,null,null,null,null,null,null,null,null,null,null,null,null,null,null,null,null,null,null,null,null,null,null,null,null,null,null,null,null,null,null,null,null,null,null,null,null,null,null,null,null,null,null,null,null,null,null,null,null,null,null,null,null,null,null,null,null,null,null,null,null,null,null,null,null,null,null,null,null,null,null,null,null,null,null,null,null,null,null,null,null,null,null,null,null,null,null,null,null,null,null,null,null,null,null,null,null,null,null,null,null,null,null,null,null,null,null,null,null,null,null,null,null,null,null,null,null,null,null,null,null,null,null,null,null,null,null,null,null,null,null,null,null,null,null,null,null,null,null,null,null,null,null,null,null,null,null,null,null,null,null,null,null,null,null,null,null,null,null,null,null,null,null,null,null,null,null,null,null,null,null,null,null,null,null,null,null,null,null,null,null,null,null,null,null,null,null,null,null,null,null,null,null,null,null,null,null,null,null,null,null,null,null,null,null,null,null,null,null,null,null,null,null,null,null,null,null,null,null,null,null,null,null,null,null,null,null,null,null,null,null,null,null,null,null,null,null,null,null,null,null,null,null,null,null,null,null,null,null,null,null,null,null,null,null,null,null,null,null,null,null,null,null,null,null,null,null,null,null,null,null,null,null,null,null,null,null,null,null,null,null,null,null,null,null,null,null,null,null,null,null,null,null,null,null,null,null,null,null,null,null,null,null,null,null,null,null,null,null,null,null,null,null,null,null,null,null,null,null,null,null,null,null,null,null,null,null,null,null,null,null,null,null,null,null,null,null,null,null,null,null,null,null,null,null,null,null,null,null,null,null,null,null,null,null,null,null,null,null,null,null,null,null,null,null,null,null,null,null,null,null,null,null,null,null,null,null,null,null,null,null,null,null,null,null,null,null,null,null,null,null,null,null,null,null,null,null,null,null,null,null,null,null,null,null,null,null,null,null,null,null,null,null,null,null,null,null,null,null,null,null,null,null,null,null,null,null,null,null,null,null,null,null,null,null,null,null,null,null,null,null,null,null,null,null,null,null,null,null,null,null,null,null,null,null,null,null,null,null,null,null,null,null,null,null,null,null,null,null,null,null,null,null,null,null,null,null,null,null,null,null,null,null,null,null,null,null,null,null,null,null,null,null,null,null,null,null,null,null,null,null,null,null,null,null,null,null,null,null,null,null,null,null,null,null,null,null,null,null,null,null,null,null,null,null,null,null,null,null,null,null,null,null,null,null,null,null,null,null,null,null,null,null,null,null,null,null,null,null,null,null,null,null,null,null,null,null,null,null,null,null,null,null,null,null,null,null,null,null,null,null,null,null,null,null,null,null,null,null,null,null,null,null,null,null,null,null,null,null,null,null,null,null,null,null,null,null,null,null,null,null,null,null,null,null,null,null,null,null,null,null,null,null,null,null,null,null,null,null,null,null,null,null,null,null,null,null,null,null,null,null,null,null,null,null,null,null,null,null,null,null,null,null,null,null,null,null,null,null,null,null,null,null,null,null,null,null,null,null,null,null,null,null,null,null,null,null,null,null,null,null,null,null,null,null,null,null,null,null,null,null,null,null,null,null,null,null,null,null,null,null,null,null,null,null,null,null,null,null,null,null,null,null,null,null,null,null,null,null,null,null,null,null,null,null,null,null,null,null,null,null,null,null,null,null,null,null,null,null,null,null,null,null,null,null,null,null,null,null,null,null,null,null,null,null,null,null,null,null,null,null,null,null,null,null,null,null,null,null,null,null,null,null,null,null,null,null,null,null,null,null,null,null,null,null,null,null,null,null,null,null,null,null,null,null,null,null,null,null,null,null,null,null,null,null,null,null,null,null,null,null,null,null,null,null,null,null,null,null,null,null,null,null,null,null,null,null,null,null,null,null,null,null,null,null,null,null,null,null,null,null,null,null,null,null,null,null,null,null,null,null,null,null,null,null,null,null,null,null,null,null,null,null,null,null,null,null,null,null,null,null,null,null,null,null,null,null,null,null,null,null,null,null,null,null,null,null,null,null,null,null,null,null,null,null,null,null,null,null,null,null,null,null,null,null,null,null,null,null,null,null,null,null,null,null,null,null,null,null,null,null,null,null,null,null,null,null,null,null,null,null,null,null,null,null,null,null,null,null,null,null,null,null,null,null,null,null,null,null,null,null,null,null,null,null,null,null,null,null,null,null,null,null,null,null,null,null,null,null,null,null,null,null,null,null,null,null,null,null,null,null,null,null,null,null,null,null,null,null,null,null,null,null,null,null,null,null,null,null,null,null,null,null,null,null,null,null,null,null,null,null,null,null,null,null,null,null,null,null,null,null,null,null,null,null,null,null,null,null,null,null,null,null,null,null,null,null,null,null,null,null,null,null,null,null,null,null,null,null,null,null,null,null,null,null,null,null,null,null,null,null,null,null,null,null,null,null,null,null,null,null,null,null,null,null,null,null,null,null,null,null,null,null,null,null,null,null,null,null,null,null,null,null,null,null,null,null,null,null,null,null,null,null,null,null,null,null,null,null,null,null,null,null,null,null,null,null,null,null,null,null,null,null,null,null,null,null,null,null,null,null,null,null,null,null,null,null,null,null,null,null,null,null,null,null,null,null,null,null,null,null,null,null,null,null,null,null,null,null,null,null,null,null,null,null,null,null,null,null,null,null,null,null,null,null,null,null,null,null,null,null,null,null,null,null,null,null,null,null,null,null,null,null,null,null,null,null,null,null,null,null,null,null,null,null,null,null,null,null,null,null,null,null,null,null,null,null,null,null,null,null,null,null,null,null,null,null,null,null,null,null,null,null,null,null,null,null,null,null,null,null,null,null,null,null,null,null,null,null,null,null,null,null,null,null,null,null,null,null,null,null,null,null,null,null,null,null,null,null,null,null,null,null,null,null,null,null,null,null,null,null,null,null,null,null,null,null,null,null,null,null,null,null,null,null,null,null,null,null,null,null,null,null,null,null,null,null,null,null,null,null,null,null,null,null,null,null,null,null,null,null,null,null,null,null,null,null,null,null,null,null,null,null,null,null,null,null,null,null,null,null,null,null,null,null,null,null,null,null,null,null,null,null,null,null,null,null,null,null,null,null,null,null,null,null,null,null,null,null,null,null,null,null,null,null,null,null,null,null,null,null,null,null,null,null,null,null,null,null,null,null,null,null,null,null,null,null,null,null,null,null,null,null,null,null,null,null,null,null,null,null,null,null,null,null,null,null,null,null,null,null,null,null,null,null,null,null,null,null,null,null,null,null,null,null,null,null,null,null,null,null,null,null,null,null,null,null,null,null,null,null,null,null,null,null,null,null,null,null,null,null,null,null,null,null,null,null,null,null,null,null,null,null,null,null,null,null,null,null,null,null,null,null,null,null,null,null,null,null,null,null,null,null,null,null,null,null,null,null,null,null,null,null,null,null,null,null,null,null,null,null,null,null,null,null,null,null,null,null,null,null,null,null,null,null,null,null,null,null,null,null,null,null,null,null,null,null,null,null,null,null,null,null,null,null,null,null,null,null,null,null,null,null,null,null,null,null,null,null,null,null,null,null,null,null,null,null,null,null,null,null,null,null,null,null,null,null,null,null,null,null,null,null,null,null,null,null,null,null,null,null,null,null,null,null,null,null,null,null,null,null,null,null,null,null,null,null,null,null,null,null,null,null,null,null,null,null,null,null,null,null,null,null,null,null,null,null,null,null,null,null,null,null,null,null,null,null,null,null,null,null,null,null,null,null,null,null,null,null,null,null,null,null,null,null,null,null,null,null,null,null,null,null,null,null,null,null,null,null,null,null,null,null,null,null,null,null,null,null,null,null,null,null,null,null,null,null,null,null,null,null,null,null,null,null,null,null,null,null,null,null,null,null,null,null,null,null,null,null,null,null,null,null,null,null,null,null,null,null,null,null,null,null,null,null,null,null,null,null,null,null,null,null,null,null,null,null,null,null,null,null,null,null,null,null,null,null,null,null,null,null,null,null,null,null,null,null,null,null,null,null,null,null,null,null,null,null,null,null,null,null,null,null,null,null,null,null,null,null,null,null,null,null,null,null,null,null,null,null,null,null,null,null,null,null,null,null,null,null,null,null,null,null,null,null,null,null,null,null,null,null,null,null,null,null,null,null,null,null,null,null,null,null,null,null,null,null,null,null,null,null,null,null,null,null,null,null,null,null,null,null,null,null,null,null,null,null,null,null,null,null,null,null,null,null,null,null,null,null,null,null,null,null,null,null,null,null,null,null,null,null,null,null,null,null,null,null,null,null,null,null,null,null,null,null,null,null,null,null,null,null,null,null,null,null,null,null,null,null,null,null,null,null,null,null,null,null,null,null,null,null,null,null,null,null,null,null,null,null,null,null,null,null,null,null,null,null,null,null,null,null,null,null,null,null,null,null,null,null,null,null,null,null,null,null,null,null,null,null,null,null,null,null,null,null,null,null,null,null,null,null,null,null,null,null,null,null,null,null,null,null,null,null,null,null,null,null,null,null,null,null,null,null,null,null,null,null,null,null,null,null,null,null,null,null,null,null,null,null,null,null,null,null,null,null,null,null,null,null,null,null,null,null,null,null,null,null,null,null,null,null,null,null,null,null,null,null,null,null,null,null,null,null,null,null,null,null,null,null,null,null,null,null,null,null,null,null,null,null,null,null,null,null,null,null,null,null,null,null,null,null,null,null,null,null,null,null,null,null,null,null,null,null,null,null,null,null,null,null,null,null,null,null,null,null,null,null,null,null,null,null,null,null,null,null,null,null,null,null,null,null,null,null,null,null,null,null,null,null,null,null,null,null,null,null,null,null,null,null,null,null,null,null,null,null,null,null,null,null,null,null,null,null,null,null,null,null,null,null,null,null,null,null,null,null,null,null,null,null,null,null,null,null,null,null,null,null,null,null,null,null,null,null,null,null,null,null,null,null,null,null,null,null,null,null,null,null,null,null,null,null,null,null,null,null,null,null,null,null,null,null,null,null,null,null,null,null,null,null,null,null,null,null,null,null,null,null,null,null,null,null,null,null,null,null,null,null,null,null,null,null,null,null,null,null,null,null,null,null,null,null,null,null,null,null,null,null,null,null,null,null,null,null,null,null,null,null,null,null,null,null,null,null,null,null,null,null,null,null,null,null,null,null,null,null,null,null,null,null,null,null,null,null,null,null,null,null,null,null,null,null,null,null,null,null,null,null,null,null,null,null,null,null,null,null,null,null,null,null,null,null,null,null,null,null,null,null,null,null,null,null,null,null,null,null,null,null,null,null,null,null,null,null,null,null,null,null,null,null,null,null,null,null,null,null,null,null,null,null,null,null,null,null,null,null,null,null,null,null,null,null,null,null,null,null,null,null,null,null,null,null,null,null,null,null,null,null,null,null,null,null,null,null,null,null,null,null,null,null,null,null,null,null,null,null,null,null,null,null,null,null,null,null,null,null,null,null,null,null,null,null,null,null,null,null,null,null,null,null,null,null,null,null,null,null,null,null,null,null,null,null,null,null,null,null,null,null,null,null,null,null,null,null,null,null,null,null,null,null,null,null,null,null,null,null,null,null,null,null,null,null,null,null,null,null,null,null,null,null,null,null,null,null,null,null,null,null,null,null,null,null,null,null,null,null,null,null,null,null,null,null,null,null,null,null,null,null,null,null,null,null,null,null,null,null,null,null,null,null,null,null,null,null,null,null,null,null,null,null,null,null,null,null,null,null,null,null,null,null,null,null,null,null,null,null,null,null,null,null,null,null,null,null,null,null,null,null,null,null,null,null,null,null,null,null,null,null,null,null,null,null,null,null,null,null,null,null,null,null,null,null,null,null,null,null,null,null,null,null,null,null,null,null,null,null,null,null,null,null,null,null,null,null,null,null,null,null,null,null,null,null,null,null,null,null,null,null,null,null,null,null,null,null,null,null,null,null,null,null,null,null,null,null,null,null,null,null,null,null,null,null,null,null,null,null,null,null,null,null,null,null,null,null,null,null,null,null,null,null,null,null,null,null,null,null,null,null,null,null,null,null,null,null,null,null,null,null,null,null,null,null,null,null,null,null,null,null,null,null,null,null,null,null,null,null,null,null,null,null,null,null,null,null,null,null,null,null,null,null,null,null,null,null,null,null,null,null,null,null,null,null,null,null,null,null,null,null,null,null,null,null,null,null,null,null,null,null,null,null,null,null,null,null,null,null,null,null,null,null,null,null,null,null,null,null,null,null,null,null,null,null,null,null,null,null,null,null,null,null,null,null,null,null,null,null,null,null,null,null,null,null,null,null,null,null,null,null,null,null,null,null,null,null,null,null,null,null,null,null,null,null,null,null,null,null,null,null,null,null,null,null,null,null,null,null,null,null,null,null,null,null,null,null,null,null,null,null,null,null,null,null,null,null,null,null,null,null,null,null,null,null,null,null,null,null,null,null,null,null,null,null,null,null,null,null,null,null,null,null,null,null,null,null,null,null,null,null,null,null,null,null,null,null,null,null,null,null,null,null,null,null,null,null,null,null,null,null,null,null,null,null,null,null,null,null,null,null,null,null,null,null,null,null,null,null,null,null,null,null,null,null,null,null,null,null,null,null,null,null,null,null,null,null,null,null,null,null,null,null,null,null,null,null,null,null,null,null,null,null,null,null,null,null,null,null,null,null,null,null,null,null,null,null,null,null,null,null,null,null,null,null,null,null,null,null,null,null,null,null,null,null,null,null,null,null,null,null,null,null,null,null,null,null,null,null,null,null,null,null,null,null,null,null,null,null,null,null,null,null,null,null,null,null,null,null,null,null,null,null,null,null,null,null,null,null,null,null,null,null,null,null,null,null,null,null,null,null,null,null,null,null,null,null,null,null,null,null,null,null,null,null,null,null,null,null,null,null,null,null,null,null,null,null,null,null,null,null,null,null,null,null,null,null,null,null,null,null,null,null,null,null,null,null,null,null,null,null,null,null,null,null,null,null,null,null,null,null,null,null,null,null,null,null,null,null,null,null,null,null,null,null,null,null,null,null,null,null,null,null,null,null,null,null,null,null,null,null,null,null,null,null,null,null,null,null,null,null,null,null,null,null,null,null,null,null,null,null,null,null,null,null,null,null,null,null,null,null,null,null,null,null,null,null,null,null,null,null,null,null,null,null,null,null,null,null,null,null,null,null,null,null,null,null,null,null,null,null,null,null,null,null,null,null,null,null,null,null,null,null,null,null,null,null,null,null,null,null,null,null,null,null,null,null,null,null,null,null,null,null,null,null,null,null,null,null,null,null,null,null,null,null,null,null,null,null,null,null,null,null,null,null,null,null,null,null,null,null,null,null,null,null,null,null,null,null,null,null,null,null,null,null,null,null,null,null,null,null,null,null,null,null,null,null,null,null,null,null,null,null,null,null,null,null,null,null,null,null,null,null,null,null,null,null,null,null,null,null,null,null,null,null,null,null,null,null,null,null,null,null,null,null,null,null,null,null,null,null,null,null,null,null,null,null,null,null,null,null,null,null,null,null,null,null,null,null,null,null,null,null,null,null,null,null,null,null,null,null,null,null,null,null,null,null,null,null,null,null,null,null,null,null,null,null,null,null,null,null,null,null,null,null,null,null,null,null,null,null,null,null,null,null,null,null,null,null,null,null,null,null,null,null,null,null,null,null,null,null,null,null,null,null,null,null,null,null,null,null,null,null,null,null,null,null,null,null,null,null,null,null,null,null,null,null,null,null,null,null,null,null,null,null,null,null,null,null,null,null,null,null,null,null,null,null,null,null,null,null,null,null,null,null,null,null,null,null,null,null,null,null,null,null,null,null,null,null,null,null,null,null,null,null,null,null,null,null,null,null,null,null,null,null,null,null,null,null,null,null,null,null,null,null,null,null,null,null,null,null,null,null,null,null,null,null,null,null,null,null,null,null,null,null,null,null,null,null,null,null,null,null,null,null,null,null,null,null,null,null,null,null,null,null,null,null,null,null,null,null,null,null,null,null,null,null,null,null,null,null,null,null,null,null,null,null,null,null,null,null,null,null,null,null,null,null,null,null,null,null,null,null,null,null,null,null,null,null,null,null,null,null,null,null,null,null,null,null,null,null,null,null,null,null,null,null,null,null,null,null,null,null,null,null,null,null,null,null,null,null,null,null,null,null,null,null,null,null,null,null,null,null,null,null,null,null,null,null,null,null,null,null,null,null,null,null,null,null,null,null,null,null,null,null,null,null,null,null,null,null,null,null,null,null,null,null,null,null,null,null,null,null,null,null,null,null,null,null,null,null,null,null,null,null,null,null,null,null,null,null,null,null,null,null,null,null,null,null,null,null,null,null,null,null,null,null,null,null,null,null,null,null,null,null,null,null,null,null,null,null,null,null,null,null,null,null,null,null,null,null,null,null,null,null,null,null,null,null,null,null,null,null,null,null,null,null,null,null,null,null,null,null,null,null,null,null,null,null,null,null,null,null,null,null,null,null,null,null,null,null,null,null,null,null,null,null,null,null,null,null,null,null,null,null,null,null,null,null,null,null,null,null,null,null,null,null,null,null,null,null,null,null,null,null,null,null,null,null,null,null,null,null,null,null,null,null,null,null,null,null,null,null,null,null,null,null,null,null,null,null,null,null,null,null,null,null,null,null,null,null,null,null,null,null,null,null,null,null,null,null,null,null,null,null,null,null,null,null,null,null,null,null,null,null,null,null,null,null,null,null,null,null,null,null,null,null,null,null,null,null,null,null,null,null,null,null,null,null,null,null,null,null,null,null,null,null,null,null,null,null,null,null,null,null,null,null,null,null,null,null,null,null,null,null,null,null,null,null,null,null,null,null,null,null,null,null,null,null,null,null,null,null,null,null,null,null,null,null,null,null,null,null,null,null,null,null,null,null,null,null,null,null,null,null,null,null,null,null,null,null,null,null,null,null,null,null,null,null,null,null,null,null,null,null,null,null,null,null,null,null,null,null,null,null,null,null,null,null,null,null,null,null,null,null,null,null,null,null,null,null,null,null,null,null,null,null,null,null,null,null,null,null,null,null,null,null,null,null,null,null,null,null,null,null,null,null,null,null,null,null,null,null,null,null,null,null,null,null,null,null,null,null,null,null,null,null,null,null,null,null,null,null,null,null,null,null,null,null,null,null,null,null,null,null,null,null,null,null,null,null,null,null,null,null,null,null,null,null,null,null,null,null,null,null,null,null,null,null,null,null,null,null,null,null,null,null,null,null,null,null,null,null,null,null,null,null,null,null,null,null,null,null,null,null,null,null,null,null,null,null,null,null,null,null,null,null,null,null,null,null,null,null,null,null,null,null,null,null,null,null,null,null,null,null,null,null,null,null,null,null,null,null,null,null,null,null,null,null,null,null,null,null,null,null,null,null,null,null,null,null,null,null,null,null,null,null,null,null,null,null,null,null,null,null,null,null,null,null,null,null,null,null,null,null,null,null,null,null,null,null,null,null,null,null,null,null,null,null,null,null,null,null,null,null,null,null,null,null,null,null,null,null,null,null,null,null,null,null,null,null,null,null,null,null,null,null,null,null,null,null,null,null,null,null,null,null,null,null,null,null,null,null,null,null,null,null,null,null,null,null,null,null,null,null,null,null,null,null,null,null,null,null,null,null,null,null,null,null,null,null,null,null,null,null,null,null,null,null,null,null,null,null,null,null,null,null,null,null,null,null,null,null,null,null,null,null,null,null,null,null,null,null,null,null,null,null,null,null,null,null,null,null,null,null,null,null,null,null,null,null,null,null,null,null,null,null,null,null,null,null,null,null,null,null,null,null,null,null,null,null,null,null,null,null,null,null,null,null,null,null,null,null,null,null,null,null,null,null,null,null,null,null,null,null,null,null,null,null,null,null,null,null,null,null,null,null,null,null,null,null,null,null,null,null,null,null,null,null,null,null,null,null,null,null,null,null,null,null,null,null,null,null,null,null,null,null,null,null,null,null,null,null,null,null,null,null,null,null,null,null,null,null,null,null,null,null,null,null,null,null,null,null,null,null,null,null,null,null,null,null,null,null,null,null,null,null,null,null,null,null,null,null,null,null,null,null,null,null,null,null,null,null,null,null,null,null,null,null,null,null,null,null,null,null,null,null,null,null,null,null,null,null,null,null,null,null,null,null,null,null,null,null,null,null,null,null,null,null,null,null,null,null,null,null,null,null,null,null,null,null,null,null,null,null,null,null,null,null,null,null,null,null,null,null,null,null,null,null,null,null,null,null,null,null,null,null,null,null,null,null,null,null,null,null,null,null,null,null,null,null,null,null,null,null,null,null,null,null,null,null,null,null,null,null,null,null,null,null,null,null,null,null,null,null,null,null,null,null,null,null,null,null,null,null,null,null,null,null,null,null,null,null,null,null,null,null,null,null,null,null,null,null,null,null,null,null,null,null,null,null,null,null,null,null,null,null,null,null,null,null,null,null,null,null,null,null,null,null,null,null,null,null,null,null,null,null,null,null,null,null,null,null,null,null,null,null,null,null,null,null,null,null,null,null,null,null,null,null,null,null,null,null,null,null,null,null,null,null,null,null,null,null,null,null,null,null,null,null,null,null,null,null,null,null,null,null,null,null,null,null,null,null,null,null,null,null,null,null,null,null,null,null,null,null,null,null,null,null,null,null,null,null,null,null,null,null,null,null,null,null,null,null,null,null,null,null,null,null,null,null,null,null,null,null,null,null,null,null,null,null,null,null,null,null,null,null,null,null,null,null,null,null,null,null,null,null,null,null,null,null,null,null,null,null,null,null,null,null,null,null,null,null,null,null,null,null,null,null,null,null,null,null,null,null,null,null,null,null,null,null,null,null,null,null,null,null,null,null,null,null,null,null,null,null,null,null,null,null,null,null,null,null,null,null,null,null,null,null,null,null,null,null,null,null,null,null,null,null,null,null,null,null,null,null,null,null,null,null,null,null,null,null,null,null,null,null,null,null,null,null,null,null,null,null,null,null,null,null,null,null,null,null,null,null,null,null,null,null,null,null,null,null,null,null,null,null,null,null,null,null,null,null,null,null,null,null,null,null,null,null,null,null,null,null,null,null,null,null,null,null,null,null,null,null,null,null,null,null,null,null,null,null,null,null,null,null,null,null,null,null,null,null,null,null,null,null,null,null,null,null,null,null,null,null,null,null,null,null,null,null,null,null,null,null,null,null,null,null,null,null,null,null,null,null,null,null,null,null,null,null,null,null,null,null,null,null,null,null,null,null,null,null,null,null,null,null,null,null,null,null,null,null,null,null,null,null,null,null,null,null,null,null,null,null,null,null,null,null,null,null,null,null,null,null,null,null,null,null,null,null,null,null,null,null,null,null,null,null,null,null,null,null,null,null,null,null,null,null,null,null,null,null,null,null,null,null,null,null,null,null,null,null,null,null,null,null,null,null,null,null,null,null,null,null,null,null,null,null,null,null,null,null,null,null,null,null,null,null,null,null,null,null,null,null,null,null,null,null,null,null,null,null,null,null,null,null,null,null,null,null,null,null,null,null,null,null,null,null,null,null,null,null,null,null,null,null,null,null,null,null,null,null,null,null,null,null,null,null,null,null,null,null,null,null,null,null,null,null,null,null,null,null,null,null,null,null,null,null,null,null,null,null,null,null,null,null,null,null,null,null,null,null,null,null,null,null,null,null,null,null,null,null,null,null,null,null,null,null,null,null,null,null,null,null,null,null,null,null,null,null,null,null,null,null,null,null,null,null,null,null,null,null,null,null,null,null,null,null,null,null,null,null,null,null,null,null,null,null,null,null,null,null,null,null,null,null,null,null,null,null,null,null,null,null,null,null,null,null,null,null,null,null,null,null,null,null,null,null,null,null,null,null,null,null,null,null,null,null,null,null,null,null,null,null,null,null,null,null,null,null,null,null,null,null,null,null,null,null,null,null,null,null,null,null,null,null,null,null,null,null,null,null,null,null,null,null,null,null,null,null,null,null,null,null,null,null,null,null,null,null,null,null,null,null,null,null,null,null,null,null,null,null,null,null,null,null,null,null,null,null,null,null,null,null,null,null,null,null,null,null,null,null,null,null,null,null,null,null,null,null,null,null,null,null,null,null,null,null,null,null,null,null,null,null,null,null,null,null,null,null,null,null,null,null,null,null,null,null,null,null,null,null,null,null,null,null,null,null,null,null,null,null,null,null,null,null,null,null,null,null,null,null,null,null,null,null,null,null,null,null,null,null,null,null,null,null,null,null,null,null,null,null,null,null,null,null,null,null,null,null,null,null,null,null,null,null,null,null,null,null,null,null,null,null,null,null,null,null,null,null,null,null,null,null,null,null,null,null,null,null,null,null,null,null,null,null,null,null,null,null,null,null,null,null,null,null,null,null,null,null,null,null,null,null,null,null,null,null,null,null,null,null,null,null,null,null,null,null,null,null,null,null,null,null,null,null,null,null,null,null,null,null,null,null,null,null,null,null,null,null,null,null,null,null,null,null,null,null,null,null,null,null,null,null,null,null,null,null,null,null,null,null,null,null,null,null,null,null,null,null,null,null,null,null,null,null,null,null,null,null,null,null,null,null,null,null,null,null,null,null,null,null,null,null,null,null,null,null,null,null,null,null,null,null,null,null,null,null,null,null,null,null,null,null,null,null,null,null,null,null,null,null,null,null,null,null,null,null,null,null,3]
[null,null,null,null,null,null,null,null,{"$f":"\"TX117 - File Version: \" & TEXT(MID(sn,SEARCH(\"::\",sn,1)+2,20),\"mm/dd/yy hh:mm:ss\")","v":"TX117 - File Version: 06/19/24 17:06:46"},null,null,null,null,null,null,null,null,null,null,null,null,null,null,null,null,null,null,null,null,null,null,null,null,null,null,null,null,null,null,null,null,null,null,null,null,null,null,null,null,null,null,null,null,null,null,null,null,null,null,null,null,null,null,null,null,null,null,null,null,null,null,null,null,null,null,null,null,null,null,null,null,null,null,null,null,null,null,null,null,null,null,null,null,null,null,null,null,null,null,null,null,null,null,null,null,null,null,null,null,null,null,null,null,null,null,null,null,null,null,null,null,null,null,null,null,null,null,null,null,null,null,null,null,null,null,null,null,null,null,null,null,null,null,null,null,null,null,null,null,null,null,null,null,null,null,null,null,null,null,null,null,null,null,null,null,null,null,null,null,null,null,null,null,null,null,null,null,null,null,null,null,null,null,null,null,null,null,null,null,null,null,null,null,null,null,null,null,null,null,null,null,null,null,null,null,null,null,null,null,null,null,null,null,null,null,null,null,null,null,null,null,null,null,null,null,null,null,null,null,null,null,null,null,null,null,null,null,null,null,null,null,null,null,null,null,null,null,null,null,null,null,null,null,null,null,null,null,null,null,null,null,null,null,null,null,null,null,null,null,null,null,null,null,null,null,null,null,null,null,null,null,null,null,null,null,null,null,null,null,null,null,null,null,null,null,null,null,null,null,null,null,null,null,null,null,null,null,null,null,null,null,null,null,null,null,null,null,null,null,null,null,null,null,null,null,null,null,null,null,null,null,null,null,null,null,null,null,null,null,null,null,null,null,null,null,null,null,null,null,null,null,null,null,null,null,null,null,null,null,null,null,null,null,null,null,null,null,null,null,null,null,null,null,null,null,null,null,null,null,null,null,null,null,null,null,null,null,null,null,null,null,null,null,null,null,null,null,null,null,null,null,null,null,null,null,null,null,null,null,null,null,null,null,null,null,null,null,null,null,null,null,null,null,null,null,null,null,null,null,null,null,null,null,null,null,null,null,null,null,null,null,null,null,null,null,null,null,null,null,null,null,null,null,null,null,null,null,null,null,null,null,null,null,null,null,null,null,null,null,null,null,null,null,null,null,null,null,null,null,null,null,null,null,null,null,null,null,null,null,null,null,null,null,null,null,null,null,null,null,null,null,null,null,null,null,null,null,null,null,null,null,null,null,null,null,null,null,null,null,null,null,null,null,null,null,null,null,null,null,null,null,null,null,null,null,null,null,null,null,null,null,null,null,null,null,null,null,null,null,null,null,null,null,null,null,null,null,null,null,null,null,null,null,null,null,null,null,null,null,null,null,null,null,null,null,null,null,null,null,null,null,null,null,null,null,null,null,null,null,null,null,null,null,null,null,null,null,null,null,null,null,null,null,null,null,null,null,null,null,null,null,null,null,null,null,null,null,null,null,null,null,null,null,null,null,null,null,null,null,null,null,null,null,null,null,null,null,null,null,null,null,null,null,null,null,null,null,null,null,null,null,null,null,null,null,null,null,null,null,null,null,null,null,null,null,null,null,null,null,null,null,null,null,null,null,null,null,null,null,null,null,null,null,null,null,null,null,null,null,null,null,null,null,null,null,null,null,null,null,null,null,null,null,null,null,null,null,null,null,null,null,null,null,null,null,null,null,null,null,null,null,null,null,null,null,null,null,null,null,null,null,null,null,null,null,null,null,null,null,null,null,null,null,null,null,null,null,null,null,null,null,null,null,null,null,null,null,null,null,null,null,null,null,null,null,null,null,null,null,null,null,null,null,null,null,null,null,null,null,null,null,null,null,null,null,null,null,null,null,null,null,null,null,null,null,null,null,null,null,null,null,null,null,null,null,null,null,null,null,null,null,null,null,null,null,null,null,null,null,null,null,null,null,null,null,null,null,null,null,null,null,null,null,null,null,null,null,null,null,null,null,null,null,null,null,null,null,null,null,null,null,null,null,null,null,null,null,null,null,null,null,null,null,null,null,null,null,null,null,null,null,null,null,null,null,null,null,null,null,null,null,null,null,null,null,null,null,null,null,null,null,null,null,null,null,null,null,null,null,null,null,null,null,null,null,null,null,null,null,null,null,null,null,null,null,null,null,null,null,null,null,null,null,null,null,null,null,null,null,null,null,null,null,null,null,null,null,null,null,null,null,null,null,null,null,null,null,null,null,null,null,null,null,null,null,null,null,null,null,null,null,null,null,null,null,null,null,null,null,null,null,null,null,null,null,null,null,null,null,null,null,null,null,null,null,null,null,null,null,null,null,null,null,null,null,null,null,null,null,null,null,null,null,null,null,null,null,null,null,null,null,null,null,null,null,null,null,null,null,null,null,null,null,null,null,null,null,null,null,null,null,null,null,null,null,null,null,null,null,null,null,null,null,null,null,null,null,null,null,null,null,null,null,null,null,null,null,null,null,null,null,null,null,null,null,null,null,null,null,null,null,null,null,null,null,null,null,null,null,null,null,null,null,null,null,null,null,null,null,null,null,null,null,null,null,null,null,null,null,null,null,null,null,null,null,null,null,null,null,null,null,null,null,null,null,null,null,null,null,null,null,null,null,null,null,null,null,null,null,null,null,null,null,null,null,null,null,null,null,null,null,null,null,null,null,null,null,null,null,null,null,null,null,null,null,null,null,null,null,null,null,null,null,null,null,null,null,null,null,null,null,null,null,null,null,null,null,null,null,null,null,null,null,null,null,null,null,null,null,null,null,null,null,null,null,null,null,null,null,null,null,null,null,null,null,null,null,null,null,null,null,null,null,null,null,null,null,null,null,null,null,null,null,null,null,null,null,null,null,null,null,null,null,null,null,null,null,null,null,null,null,null,null,null,null,null,null,null,null,null,null,null,null,null,null,null,null,null,null,null,null,null,null,null,null,null,null,null,null,null,null,null,null,null,null,null,null,null,null,null,null,null,null,null,null,null,null,null,null,null,null,null,null,null,null,null,null,null,null,null,null,null,null,null,null,null,null,null,null,null,null,null,null,null,null,null,null,null,null,null,null,null,null,null,null,null,null,null,null,null,null,null,null,null,null,null,null,null,null,null,null,null,null,null,null,null,null,null,null,null,null,null,null,null,null,null,null,null,null,null,null,null,null,null,null,null,null,null,null,null,null,null,null,null,null,null,null,null,null,null,null,null,null,null,null,null,null,null,null,null,null,null,null,null,null,null,null,null,null,null,null,null,null,null,null,null,null,null,null,null,null,null,null,null,null,null,null,null,null,null,null,null,null,null,null,null,null,null,null,null,null,null,null,null,null,null,null,null,null,null,null,null,null,null,null,null,null,null,null,null,null,null,null,null,null,null,null,null,null,null,null,null,null,null,null,null,null,null,null,null,null,null,null,null,null,null,null,null,null,null,null,null,null,null,null,null,null,null,null,null,null,null,null,null,null,null,null,null,null,null,null,null,null,null,null,null,null,null,null,null,null,null,null,null,null,null,null,null,null,null,null,null,null,null,null,null,null,null,null,null,null,null,null,null,null,null,null,null,null,null,null,null,null,null,null,null,null,null,null,null,null,null,null,null,null,null,null,null,null,null,null,null,null,null,null,null,null,null,null,null,null,null,null,null,null,null,null,null,null,null,null,null,null,null,null,null,null,null,null,null,null,null,null,null,null,null,null,null,null,null,null,null,null,null,null,null,null,null,null,null,null,null,null,null,null,null,null,null,null,null,null,null,null,null,null,null,null,null,null,null,null,null,null,null,null,null,null,null,null,null,null,null,null,null,null,null,null,null,null,null,null,null,null,null,null,null,null,null,null,null,null,null,null,null,null,null,null,null,null,null,null,null,null,null,null,null,null,null,null,null,null,null,null,null,null,null,null,null,null,null,null,null,null,null,null,null,null,null,null,null,null,null,null,null,null,null,null,null,null,null,null,null,null,null,null,null,null,null,null,null,null,null,null,null,null,null,null,null,null,null,null,null,null,null,null,null,null,null,null,null,null,null,null,null,null,null,null,null,null,null,null,null,null,null,null,null,null,null,null,null,null,null,null,null,null,null,null,null,null,null,null,null,null,null,null,null,null,null,null,null,null,null,null,null,null,null,null,null,null,null,null,null,null,null,null,null,null,null,null,null,null,null,null,null,null,null,null,null,null,null,null,null,null,null,null,null,null,null,null,null,null,null,null,null,null,null,null,null,null,null,null,null,null,null,null,null,null,null,null,null,null,null,null,null,null,null,null,null,null,null,null,null,null,null,null,null,null,null,null,null,null,null,null,null,null,null,null,null,null,null,null,null,null,null,null,null,null,null,null,null,null,null,null,null,null,null,null,null,null,null,null,null,null,null,null,null,null,null,null,null,null,null,null,null,null,null,null,null,null,null,null,null,null,null,null,null,null,null,null,null,null,null,null,null,null,null,null,null,null,null,null,null,null,null,null,null,null,null,null,null,null,null,null,null,null,null,null,null,null,null,null,null,null,null,null,null,null,null,null,null,null,null,null,null,null,null,null,null,null,null,null,null,null,null,null,null,null,null,null,null,null,null,null,null,null,null,null,null,null,null,null,null,null,null,null,null,null,null,null,null,null,null,null,null,null,null,null,null,null,null,null,null,null,null,null,null,null,null,null,null,null,null,null,null,null,null,null,null,null,null,null,null,null,null,null,null,null,null,null,null,null,null,null,null,null,null,null,null,null,null,null,null,null,null,null,null,null,null,null,null,null,null,null,null,null,null,null,null,null,null,null,null,null,null,null,null,null,null,null,null,null,null,null,null,null,null,null,null,null,null,null,null,null,null,null,null,null,null,null,null,null,null,null,null,null,null,null,null,null,null,null,null,null,null,null,null,null,null,null,null,null,null,null,null,null,null,null,null,null,null,null,null,null,null,null,null,null,null,null,null,null,null,null,null,null,null,null,null,null,null,null,null,null,null,null,null,null,null,null,null,null,null,null,null,null,null,null,null,null,null,null,null,null,null,null,null,null,null,null,null,null,null,null,null,null,null,null,null,null,null,null,null,null,null,null,null,null,null,null,null,null,null,null,null,null,null,null,null,null,null,null,null,null,null,null,null,null,null,null,null,null,null,null,null,null,null,null,null,null,null,null,null,null,null,null,null,null,null,null,null,null,null,null,null,null,null,null,null,null,null,null,null,null,null,null,null,null,null,null,null,null,null,null,null,null,null,null,null,null,null,null,null,null,null,null,null,null,null,null,null,null,null,null,null,null,null,null,null,null,null,null,null,null,null,null,null,null,null,null,null,null,null,null,null,null,null,null,null,null,null,null,null,null,null,null,null,null,null,null,null,null,null,null,null,null,null,null,null,null,null,null,null,null,null,null,null,null,null,null,null,null,null,null,null,null,null,null,null,null,null,null,null,null,null,null,null,null,null,null,null,null,null,null,null,null,null,null,null,null,null,null,null,null,null,null,null,null,null,null,null,null,null,null,null,null,null,null,null,null,null,null,null,null,null,null,null,null,null,null,null,null,null,null,null,null,null,null,null,null,null,null,null,null,null,null,null,null,null,null,null,null,null,null,null,null,null,null,null,null,null,null,null,null,null,null,null,null,null,null,null,null,null,null,null,null,null,null,null,null,null,null,null,null,null,null,null,null,null,null,null,null,null,null,null,null,null,null,null,null,null,null,null,null,null,null,null,null,null,null,null,null,null,null,null,null,null,null,null,null,null,null,null,null,null,null,null,null,null,null,null,null,null,null,null,null,null,null,null,null,null,null,null,null,null,null,null,null,null,null,null,null,null,null,null,null,null,null,null,null,null,null,null,null,null,null,null,null,null,null,null,null,null,null,null,null,null,null,null,null,null,null,null,null,null,null,null,null,null,null,null,null,null,null,null,null,null,null,null,null,null,null,null,null,null,null,null,null,null,null,null,null,null,null,null,null,null,null,null,null,null,null,null,null,null,null,null,null,null,null,null,null,null,null,null,null,null,null,null,null,null,null,null,null,null,null,null,null,null,null,null,null,null,null,null,null,null,null,null,null,null,null,null,null,null,null,null,null,null,null,null,null,null,null,null,null,null,null,null,null,null,null,null,null,null,null,null,null,null,null,null,null,null,null,null,null,null,null,null,null,null,null,null,null,null,null,null,null,null,null,null,null,null,null,null,null,null,null,null,null,null,null,null,null,null,null,null,null,null,null,null,null,null,null,null,null,null,null,null,null,null,null,null,null,null,null,null,null,null,null,null,null,null,null,null,null,null,null,null,null,null,null,null,null,null,null,null,null,null,null,null,null,null,null,null,null,null,null,null,null,null,null,null,null,null,null,null,null,null,null,null,null,null,null,null,null,null,null,null,null,null,null,null,null,null,null,null,null,null,null,null,null,null,null,null,null,null,null,null,null,null,null,null,null,null,null,null,null,null,null,null,null,null,null,null,null,null,null,null,null,null,null,null,null,null,null,null,null,null,null,null,null,null,null,null,null,null,null,null,null,null,null,null,null,null,null,null,null,null,null,null,null,null,null,null,null,null,null,null,null,null,null,null,null,null,null,null,null,null,null,null,null,null,null,null,null,null,null,null,null,null,null,null,null,null,null,null,null,null,null,null,null,null,null,null,null,null,null,null,null,null,null,null,null,null,null,null,null,null,null,null,null,null,null,null,null,null,null,null,null,null,null,null,null,null,null,null,null,null,null,null,null,null,null,null,null,null,null,null,null,null,null,null,null,null,null,null,null,null,null,null,null,null,null,null,null,null,null,null,null,null,null,null,null,null,null,null,null,null,null,null,null,null,null,null,null,null,null,null,null,null,null,null,null,null,null,null,null,null,null,null,null,null,null,null,null,null,null,null,null,null,null,null,null,null,null,null,null,null,null,null,null,null,null,null,null,null,null,null,null,null,null,null,null,null,null,null,null,null,null,null,null,null,null,null,null,null,null,null,null,null,null,null,null,null,null,null,null,null,null,null,null,null,null,null,null,null,null,null,null,null,null,null,null,null,null,null,null,null,null,null,null,null,null,null,null,null,null,null,null,null,null,null,null,null,null,null,null,null,null,null,null,null,null,null,null,null,null,null,null,null,null,null,null,null,null,null,null,null,null,null,null,null,null,null,null,null,null,null,null,null,null,null,null,null,null,null,null,null,null,null,null,null,null,null,null,null,null,null,null,null,null,null,null,null,null,null,null,null,null,null,null,null,null,null,null,null,null,null,null,null,null,null,null,null,null,null,null,null,null,null,null,null,null,null,null,null,null,null,null,null,null,null,null,null,null,null,null,null,null,null,null,null,null,null,null,null,null,null,null,null,null,null,null,null,null,null,null,null,null,null,null,null,null,null,null,null,null,null,null,null,null,null,null,null,null,null,null,null,null,null,null,null,null,null,null,null,null,null,null,null,null,null,null,null,null,null,null,null,null,null,null,null,null,null,null,null,null,null,null,null,null,null,null,null,null,null,null,null,null,null,null,null,null,null,null,null,null,null,null,null,null,null,null,null,null,null,null,null,null,null,null,null,null,null,null,null,null,null,null,null,null,null,null,null,null,null,null,null,null,null,null,null,null,null,null,null,null,null,null,null,null,null,null,null,null,null,null,null,null,null,null,null,null,null,null,null,null,null,null,null,null,null,null,null,null,null,null,null,null,null,null,null,null,null,null,null,null,null,null,null,null,null,null,null,null,null,null,null,null,null,null,null,null,null,null,null,null,null,null,null,null,null,null,null,null,null,null,null,null,null,null,null,null,null,null,null,null,null,null,null,null,null,null,null,null,null,null,null,null,null,null,null,null,null,null,null,null,null,null,null,null,null,null,null,null,null,null,null,null,null,null,null,null,null,null,null,null,null,null,null,null,null,null,null,null,null,null,null,null,null,null,null,null,null,null,null,null,null,null,null,null,null,null,null,null,null,null,null,null,null,null,null,null,null,null,null,null,null,null,null,null,null,null,null,null,null,null,null,null,null,null,null,null,null,null,null,null,null,null,null,null,null,null,null,null,null,null,null,null,null,null,null,null,null,null,null,null,null,null,null,null,null,null,null,null,null,null,null,null,null,null,null,null,null,null,null,null,null,null,null,null,null,null,null,null,null,null,null,null,null,null,null,null,null,null,null,null,null,null,null,null,null,null,null,null,null,null,null,null,null,null,null,null,null,null,null,null,null,null,null,null,null,null,null,null,null,null,null,null,null,null,null,null,null,null,null,null,null,null,null,null,null,null,null,null,null,null,null,null,null,null,null,null,null,null,null,null,null,null,null,null,null,null,null,null,null,null,null,null,null,null,null,null,null,null,null,null,null,null,null,null,null,null,null,null,null,null,null,null,null,null,null,null,null,null,null,null,null,null,null,null,null,null,null,null,null,null,null,null,null,null,null,null,null,null,null,null,null,null,null,null,null,null,null,null,null,null,null,null,null,null,null,null,null,null,null,null,null,null,null,null,null,null,null,null,null,null,null,null,null,null,null,null,null,null,null,null,null,null,null,null,null,null,null,null,null,null,null,null,null,null,null,null,null,null,null,null,null,null,null,null,null,null,null,null,null,null,null,null,null,null,null,null,null,null,null,null,null,null,null,null,null,null,null,null,null,null,null,null,null,null,null,null,null,null,null,null,null,null,null,null,null,null,null,null,null,null,null,null,null,null,null,null,null,null,null,null,null,null,null,null,null,null,null,null,null,null,null,null,null,null,null,null,null,null,null,null,null,null,null,null,null,null,null,null,null,null,null,null,null,null,null,null,null,null,null,null,null,null,null,null,null,null,null,null,null,null,null,null,null,null,null,null,null,null,null,null,null,null,null,null,null,null,null,null,null,null,null,null,null,null,null,null,null,null,null,null,null,null,null,null,null,null,null,null,null,null,null,null,null,null,null,null,null,null,null,null,null,null,null,null,null,null,null,null,null,null,null,null,null,null,null,null,null,null,null,null,null,null,null,null,null,null,null,null,null,null,null,null,null,null,null,null,null,null,null,null,null,null,null,null,null,null,null,null,null,null,null,null,null,null,null,null,null,null,null,null,null,null,null,null,null,null,null,null,null,null,null,null,null,null,null,null,null,null,null,null,null,null,null,null,null,null,null,null,null,null,null,null,null,null,null,null,null,null,null,null,null,null,null,null,null,null,null,null,null,null,null,null,null,null,null,null,null,null,null,null,null,null,null,null,null,null,null,null,null,null,null,null,null,null,null,null,null,null,null,null,null,null,null,null,null,null,null,null,null,null,null,null,null,null,null,null,null,null,null,null,null,null,null,null,null,null,null,null,null,null,null,null,null,null,null,null,null,null,null,null,null,null,null,null,null,null,null,null,null,null,null,null,null,null,null,null,null,null,null,null,null,null,null,null,null,null,null,null,null,null,null,null,null,null,null,null,null,null,null,null,null,null,null,null,null,null,null,null,null,null,null,null,null,null,null,null,null,null,null,null,null,null,null,null,null,null,null,null,null,null,null,null,null,null,null,null,null,null,null,null,null,null,null,null,null,null,null,null,null,null,null,null,null,null,null,null,null,null,null,null,null,null,null,null,null,null,null,null,null,null,null,null,null,null,null,null,null,null,null,null,null,null,null,null,null,null,null,null,null,null,null,null,null,null,null,null,null,null,null,null,null,null,null,null,null,null,null,null,null,null,null,null,null,null,null,null,null,null,null,null,null,null,null,null,null,null,null,null,null,null,null,null,null,null,null,null,null,null,null,null,null,null,null,null,null,null,null,null,null,null,null,null,null,null,null,null,null,null,null,null,null,null,null,null,null,null,null,null,null,null,null,null,null,null,null,null,null,null,null,null,null,null,null,null,null,null,null,null,null,null,null,null,null,null,null,null,null,null,null,null,null,null,null,null,null,null,null,null,null,null,null,null,null,null,null,null,null,null,null,null,null,null,null,null,null,null,null,null,null,null,null,null,null,null,null,null,null,null,null,null,null,null,null,null,null,null,null,null,null,null,null,null,null,null,null,null,null,null,null,null,null,null,null,null,null,null,null,null,null,null,null,null,null,null,null,null,null,null,null,null,null,null,null,null,null,null,null,null,null,null,null,null,null,null,null,null,null,null,null,null,null,null,null,null,null,null,null,null,null,null,null,null,null,null,null,null,null,null,null,null,null,null,null,null,null,null,null,null,null,null,null,null,null,null,null,null,null,null,null,null,null,null,null,null,null,null,null,null,null,null,null,null,null,null,null,null,null,null,null,null,null,null,null,null,null,null,null,null,null,null,null,null,null,null,null,null,null,null,null,null,null,null,null,null,null,null,null,null,null,null,null,null,null,null,null,null,null,null,null,null,null,null,null,null,null,null,null,null,null,null,null,null,null,null,null,null,null,null,null,null,null,null,null,null,null,null,null,null,null,null,null,null,null,null,null,null,null,null,null,null,null,null,null,null,null,null,null,null,null,null,null,null,null,null,null,null,null,null,null,null,null,null,null,null,null,null,null,null,null,null,null,null,null,null,null,null,null,null,null,null,null,null,null,null,null,null,null,null,null,null,null,null,null,null,null,null,null,null,null,null,null,null,null,null,null,null,null,null,null,null,null,null,null,null,null,null,null,null,null,null,null,null,null,null,null,null,null,null,null,null,null,null,null,null,null,null,null,null,null,null,null,null,null,null,null,null,null,null,null,null,null,null,null,null,null,null,null,null,null,null,null,null,null,null,null,null,null,null,null,null,null,null,null,null,null,null,null,null,null,null,null,null,null,null,null,null,null,null,null,null,null,null,null,null,null,null,null,null,null,null,null,null,null,null,null,null,null,null,null,null,null,null,null,null,null,null,null,null,null,null,null,null,null,null,null,null,null,null,null,null,null,null,null,null,null,null,null,null,null,null,null,null,null,null,null,null,null,null,null,null,null,null,null,null,null,null,null,null,null,null,null,null,null,null,null,null,null,null,null,null,null,null,null,null,null,null,null,null,null,null,null,null,null,null,null,null,null,null,null,null,null,null,null,null,null,null,null,null,null,null,null,null,null,null,null,null,null,null,null,null,null,null,null,null,null,null,null,null,null,null,null,null,null,null,null,null,null,null,null,null,null,null,null,null,null,null,null,null,null,null,null,null,null,null,null,null,null,null,null,null,null,null,null,null,null,null,null,null,null,null,null,null,null,null,null,null,null,null,null,null,null,null,null,null,null,null,null,null,null,null,null,null,null,null,null,null,null,null,null,null,null,null,null,null,null,null,null,null,null,null,null,null,null,null,null,null,null,null,null,null,null,null,null,null,null,null,null,null,null,null,null,null,null,null,null,null,null,null,null,null,null,null,null,null,null,null,null,null,null,null,null,null,null,null,null,null,null,null,null,null,null,null,null,null,null,null,null,null,null,null,null,null,null,null,null,null,null,null,null,null,null,null,null,null,null,null,null,null,null,null,null,null,null,null,null,null,null,null,null,null,null,null,null,null,null,null,null,null,null,null,null,null,null,null,null,null,null,null,null,null,null,null,null,null,null,null,null,null,null,null,null,null,null,null,null,null,null,null,null,null,null,null,null,null,null,null,null,null,null,null,null,null,null,null,null,null,null,null,null,null,null,null,null,null,null,null,null,null,null,null,null,null,null,null,null,null,null,null,null,null,null,null,null,null,null,null,null,null,null,null,null,null,null,null,null,null,null,null,null,null,null,null,null,null,null,null,null,null,null,null,null,null,null,null,null,null,null,null,null,null,null,null,null,null,null,null,null,null,null,null,null,null,null,null,null,null,null,null,null,null,null,null,null,null,null,null,null,null,null,null,null,null,null,null,null,null,null,null,null,null,null,null,null,null,null,null,null,null,null,null,null,null,null,null,null,null,null,null,null,null,null,null,null,null,null,null,null,null,null,null,null,null,null,null,null,null,null,null,null,null,null,null,null,null,null,null,null,null,null,null,null,null,null,null,null,null,null,null,null,null,null,null,null,null,null,null,null,null,null,null,null,null,null,null,null,null,null,null,null,null,null,null,null,null,null,null,null,null,null,null,null,null,null,null,null,null,null,null,null,null,null,null,null,null,null,null,null,null,null,null,null,null,null,null,null,null,null,null,null,null,null,null,null,null,null,null,null,null,null,null,null,null,null,null,null,null,null,null,null,null,null,null,null,null,null,null,null,null,null,null,null,null,null,null,null,null,null,null,null,null,null,null,null,null,null,null,null,null,null,null,null,null,null,null,null,null,null,null,null,null,null,null,null,null,null,null,null,null,null,null,null,null,null,null,null,null,null,null,null,null,null,null,null,null,null,null,null,null,null,null,null,null,null,null,null,null,null,null,null,null,null,null,null,null,null,null,null,null,null,null,null,null,null,null,null,null,null,null,null,null,null,null,null,null,null,null,null,null,null,null,null,null,null,null,null,null,null,null,null,null,null,null,null,null,null,null,null,null,null,null,null,null,null,null,null,null,null,null,null,null,null,null,null,null,null,null,null,null,null,null,null,null,null,null,null,null,null,null,null,null,null,null,null,null,null,null,null,null,null,null,null,null,null,null,null,null,null,null,null,null,null,null,null,null,null,null,null,null,null,null,null,null,null,null,null,null,null,null,null,null,null,null,null,null,null,null,null,null,null,null,null,null,null,null,null,null,null,null,null,null,null,null,null,null,null,null,null,null,null,null,null,null,null,null,null,null,null,null,null,null,null,null,null,null,null,null,null,null,null,null,null,null,null,null,null,null,null,null,null,null,null,null,null,null,null,null,null,null,null,null,null,null,null,null,null,null,null,null,null,null,null,null,null,null,null,null,null,null,null,null,null,null,null,null,null,null,null,null,null,null,null,null,null,null,null,null,null,null,null,null,null,null,null,null,null,null,null,null,null,null,null,null,null,null,null,null,null,null,null,null,null,null,null,null,null,null,null,null,null,null,null,null,null,null,null,null,null,null,null,null,null,null,null,null,null,null,null,null,null,null,null,null,null,null,null,null,null,null,null,null,null,null,null,null,null,null,null,null,null,null,null,null,null,null,null,null,null,null,null,null,null,null,null,null,null,null,null,null,null,null,null,null,null,null,null,null,null,null,null,null,null,null,null,null,null,null,null,null,null,null,null,null,null,null,null,null,null,null,null,null,null,null,null,null,null,null,null,null,null,null,null,null,null,null,null,null,null,null,null,null,null,null,null,null,null,null,null,null,null,null,null,null,null,null,null,null,null,null,null,null,null,null,null,null,null,null,null,null,null,null,null,null,null,null,null,null,null,null,null,null,null,null,null,null,null,null,null,null,null,null,null,null,null,null,null,null,null,null,null,null,null,null,null,null,null,null,null,null,null,null,null,null,null,null,null,null,null,null,null,null,null,null,null,null,null,null,null,null,null,null,null,null,null,null,null,null,null,null,null,null,null,null,null,null,null,null,null,null,null,null,null,null,null,null,null,null,null,null,null,null,null,null,null,null,null,null,null,null,null,null,null,null,null,null,null,null,null,null,null,null,null,null,null,null,null,null,null,null,null,null,null,null,null,null,null,null,null,null,null,null,null,null,null,null,null,null,null,null,null,null,null,null,null,null,null,null,null,null,null,null,null,null,null,null,null,null,null,null,null,null,null,null,null,null,null,null,null,null,null,null,null,null,null,null,null,null,null,null,null,null,null,null,null,null,null,null,null,null,null,null,null,null,null,null,null,null,null,null,null,null,null,null,null,null,null,null,null,null,null,null,null,null,null,null,null,null,null,null,null,null,null,null,null,null,null,null,null,null,null,null,null,null,null,null,null,null,null,null,null,null,null,null,null,null,null,null,null,null,null,null,null,null,null,null,null,null,null,null,null,null,null,null,null,null,null,null,null,null,null,null,null,null,null,null,null,null,null,null,null,null,null,null,null,null,null,null,null,null,null,null,null,null,null,null,null,null,null,null,null,null,null,null,null,null,null,null,null,null,null,null,null,null,null,null,null,null,null,null,null,null,null,null,null,null,null,null,null,null,null,null,null,null,null,null,null,null,null,null,null,null,null,null,null,null,null,null,null,null,null,null,null,null,null,null,null,null,null,null,null,null,null,null,null,null,null,null,null,null,null,null,null,null,null,null,null,null,null,null,null,null,null,null,null,null,null,null,null,null,null,null,null,null,null,null,null,null,null,null,null,null,null,null,null,null,null,null,null,null,null,null,null,null,null,null,null,null,null,null,null,null,null,null,null,null,null,null,null,null,null,null,null,null,null,null,null,null,null,null,null,null,null,null,null,null,null,null,null,null,null,null,null,null,null,null,null,null,null,null,null,null,null,null,null,null,null,null,null,null,null,null,null,null,null,null,null,null,null,null,null,null,null,null,null,null,null,null,null,null,null,null,null,null,null,null,null,null,null,null,null,null,null,null,null,null,null,null,null,null,null,null,null,null,null,null,null,null,null,null,null,null,null,null,null,null,null,null,null,null,null,null,null,null,null,null,null,null,null,null,null,null,null,null,null,null,null,null,null,null,null,null,null,null,null,null,null,null,null,null,null,null,null,null,null,null,null,null,null,null,null,null,null,null,null,null,null,null,null,null,null,null,null,null,null,null,null,null,null,null,null,null,null,null,null,null,null,null,null,null,null,null,null,null,null,null,null,null,null,null,null,null,null,null,null,null,null,null,null,null,null,null,null,null,null,null,null,null,null,null,null,null,null,null,null,null,null,null,null,null,null,null,null,null,null,null,null,null,null,null,null,null,null,null,null,null,null,null,null,null,null,null,null,null,null,null,null,null,null,null,null,null,null,null,null,null,null,null,null,null,null,null,null,null,null,null,null,null,null,null,null,null,null,null,null,null,null,null,null,null,null,null,null,null,null,null,null,null,null,null,null,null,null,null,null,null,null,null,null,null,null,null,null,null,null,null,null,null,null,null,null,null,null,null,null,null,null,null,null,null,null,null,null,null,null,null,null,null,null,null,null,null,null,null,null,null,null,null,null,null,null,null,null,null,null,null,null,null,null,null,null,null,null,null,null,null,null,null,null,null,null,null,null,null,null,null,null,null,null,null,null,null,null,null,null,null,null,null,null,null,null,null,null,null,null,null,null,null,null,null,null,null,null,null,null,null,null,null,null,null,null,null,null,null,null,null,null,null,null,null,null,null,null,null,null,null,null,null,null,null,null,null,null,null,null,null,null,null,null,null,null,null,null,null,null,null,null,null,null,null,null,null,null,null,null,null,null,null,null,null,null,null,null,null,null,null,null,null,null,null,null,null,null,null,null,null,null,null,null,null,null,null,null,null,null,null,null,null,null,null,null,null,null,null,null,null,null,null,null,null,null,null,null,null,null,null,null,null,null,null,null,null,null,null,null,null,null,null,null,null,null,null,null,null,null,null,null,null,null,null,null,null,null,null,null,null,null,null,null,null,null,null,null,null,null,null,null,null,null,null,null,null,null,null,null,null,null,null,null,null,null,null,null,null,null,null,null,null,null,null,null,null,null,null,null,null,null,null,null,null,null,null,null,null,null,null,null,null,null,null,null,null,null,null,null,null,null,null,null,null,null,null,null,null,null,null,null,null,null,null,null,null,null,null,null,null,null,null,null,null,null,null,null,null,null,null,null,null,null,null,null,null,null,null,null,null,null,null,null,null,null,null,null,null,null,null,null,null,null,null,null,null,null,null,null,null,null,null,null,null,null,null,null,null,null,null,null,null,null,null,null,null,null,null,null,null,null,null,null,null,null,null,null,null,null,null,null,null,null,null,null,null,null,null,null,null,null,null,null,null,null,null,null,null,null,null,null,null,null,null,null,null,null,null,null,null,null,null,null,null,null,null,null,null,null,null,null,null,null,null,null,null,null,null,null,null,null,null,null,null,null,null,null,null,null,null,null,null,null,null,null,null,null,null,null,null,null,null,null,null,null,null,null,null,null,null,null,null,null,null,null,null,null,null,null,null,null,null,null,null,null,null,null,null,null,null,null,null,null,null,null,null,null,null,null,null,null,null,null,null,null,null,null,null,null,null,null,null,null,null,null,null,null,null,null,null,null,null,null,null,null,null,null,null,null,null,null,null,null,null,null,null,null,null,null,null,null,null,null,null,null,null,null,null,null,null,null,null,null,null,null,null,null,null,null,null,null,null,null,null,null,null,null,null,null,null,null,null,null,null,null,null,null,null,null,null,null,null,null,null,null,null,null,null,null,null,null,null,null,null,null,null,null,null,null,null,null,null,null,null,null,null,null,null,null,null,null,null,null,null,null,null,null,null,null,null,null,null,null,null,null,null,null,null,null,null,null,null,null,null,null,null,null,null,null,null,null,null,null,null,null,null,null,null,null,null,null,null,null,null,null,null,null,null,null,null,null,null,null,null,null,null,null,null,null,null,null,null,null,null,null,null,null,null,null,null,null,null,null,null,null,null,null,null,null,null,null,null,null,null,null,null,null,null,null,null,null,null,null,null,null,null,null,null,null,null,null,null,null,null,null,null,null,null,null,null,null,null,null,null,null,null,null,null,null,null,null,null,null,null,null,null,null,null,null,null,null,null,null,null,null,null,null,null,null,null,null,null,null,null,null,null,null,null,null,null,null,null,null,null,null,null,null,null,null,null,null,null,null,null,null,null,null,null,null,null,null,null,null,null,null,null,null,null,null,null,null,null,null,null,null,null,null,null,null,null,null,null,null,null,null,null,null,null,null,null,null,null,null,null,null,null,null,null,null,null,null,null,null,null,null,null,null,null,null,null,null,null,null,null,null,null,null,null,null,null,null,null,null,null,null,null,null,null,null,null,null,null,null,null,null,null,null,null,null,null,null,null,null,null,null,null,null,null,null,null,null,null,null,null,null,null,null,null,null,null,null,null,null,null,null,null,null,null,null,null,null,null,null,null,null,null,null,null,null,null,null,null,null,null,null,null,null,null,null,null,null,null,null,null,null,null,null,null,null,null,null,null,null,null,null,null,null,null,null,null,null,null,null,null,null,null,null,null,null,null,null,null,null,null,null,null,null,null,null,null,null,null,null,null,null,null,null,null,null,null,null,null,null,null,null,null,null,null,null,null,null,null,null,null,null,null,null,null,null,null,null,null,null,null,null,null,null,null,null,null,null,null,null,null,null,null,null,null,null,null,null,null,null,null,null,null,null,null,null,null,null,null,null,null,null,null,null,null,null,null,null,null,null,null,null,null,null,null,null,null,null,null,null,null,null,null,null,null,null,null,null,null,null,null,null,null,null,null,null,null,null,null,null,null,null,null,null,null,null,null,null,null,null,null,null,null,null,null,null,null,null,null,null,null,null,null,null,null,null,null,null,null,null,null,null,null,null,null,null,null,null,null,null,null,null,null,null,null,null,null,null,null,null,null,null,null,null,null,null,null,null,null,null,null,null,null,null,null,null,null,null,null,null,null,null,null,null,null,null,null,null,null,null,null,null,null,null,null,null,null,null,null,null,null,null,null,null,null,null,null,null,null,null,null,null,null,null,null,null,null,null,null,null,null,null,null,null,null,null,null,null,null,null,null,null,null,null,null,null,null,null,null,null,null,null,null,null,null,null,null,null,null,null,null,null,null,null,null,null,null,null,null,null,null,null,null,null,null,null,null,null,null,null,null,null,null,null,null,null,null,null,null,null,null,null,null,null,null,null,null,null,null,null,null,null,null,null,null,null,null,null,null,null,null,null,null,null,null,null,null,null,null,null,null,null,null,null,null,null,null,null,null,null,null,null,null,null,null,null,null,null,null,null,null,null,null,null,null,null,null,null,null,null,null,null,null,null,null,null,null,null,null,null,null,null,null,null,null,null,null,null,null,null,null,null,null,null,null,null,null,null,null,null,null,null,null,null,null,null,null,null,null,null,null,null,null,null,null,null,null,null,null,null,null,null,null,null,null,null,null,null,null,null,null,null,null,null,null,null,null,null,null,null,null,null,null,null,null,null,null,null,null,null,null,null,null,null,null,null,null,null,null,null,null,null,null,null,null,null,null,null,null,null,null,null,null,null,null,null,null,null,null,null,null,null,null,null,null,null,null,null,null,null,null,null,null,null,null,null,null,null,null,null,null,null,null,null,null,null,null,null,null,null,null,null,null,null,null,null,null,null,null,null,null,null,null,null,null,null,null,null,null,null,null,null,null,null,null,null,null,null,null,null,null,null,null,null,null,null,null,null,null,null,null,null,null,null,null,null,null,null,null,null,null,null,null,null,null,null,null,null,null,null,null,null,null,null,null,null,null,null,null,null,null,null,null,null,null,null,null,null,null,null,null,null,null,null,null,null,null,null,null,null,null,null,null,null,null,null,null,null,null,null,null,null,null,null,null,null,null,null,null,null,null,null,null,null,null,null,null,null,null,null,null,null,null,null,null,null,null,null,null,null,null,null,null,null,null,null,null,null,null,null,null,null,null,null,null,null,null,null,null,null,null,null,null,null,null,null,null,null,null,null,null,null,null,null,null,null,null,null,null,null,null,null,null,null,null,null,null,null,null,null,null,null,null,null,null,null,null,null,null,null,null,null,null,null,null,null,null,null,null,null,null,null,null,null,null,null,null,null,null,null,null,null,null,null,null,null,null,null,null,null,null,null,null,null,null,null,null,null,null,null,null,null,null,null,null,null,null,null,null,null,null,null,null,null,null,null,null,null,null,null,null,null,null,null,null,null,null,null,null,null,null,null,null,null,null,null,null,null,null,null,null,null,null,null,null,null,null,null,null,null,null,null,null,null,null,null,null,null,null,null,null,null,null,null,null,null,null,null,null,null,null,null,null,null,null,null,null,null,null,null,null,null,null,null,null,null,null,null,null,null,null,null,null,null,null,null,null,null,null,null,null,null,null,null,null,null,null,null,null,null,null,null,null,null,null,null,null,null,null,null,null,null,null,null,null,null,null,null,null,null,null,null,null,null,null,null,null,null,null,null,null,null,null,null,null,null,null,null,null,null,null,null,null,null,null,null,null,null,null,null,null,null,null,null,null,null,null,null,null,null,null,null,null,null,null,null,null,null,null,null,null,null,null,null,null,null,null,null,null,null,null,null,null,null,null,null,null,null,null,null,null,null,null,null,null,null,null,null,null,null,null,null,null,null,null,null,null,null,null,null,null,null,null,null,null,null,null,null,null,null,null,null,null,null,null,null,null,null,null,null,null,null,null,null,null,null,null,null,null,null,null,null,null,null,null,null,null,null,null,null,null,null,null,null,null,null,null,null,null,null,null,null,null,null,null,null,null,null,null,null,null,null,null,null,null,null,null,null,null,null,null,null,null,null,null,null,null,null,null,null,null,null,null,null,null,null,null,null,null,null,null,null,null,null,null,null,null,null,null,null,null,null,null,null,null,null,null,null,null,null,null,null,null,null,null,null,null,null,null,null,null,null,null,null,null,null,null,null,null,null,null,null,null,null,null,null,null,null,null,null,null,null,null,null,null,null,null,null,null,null,null,null,null,null,null,null,null,null,null,null,null,null,null,null,null,null,null,null,null,null,null,null,null,null,null,null,null,null,null,null,null,null,null,null,null,null,null,null,null,null,null,null,null,null,null,null,null,null,null,null,null,null,null,null,null,null,null,null,null,null,null,null,null,null,null,null,null,null,null,null,null,null,null,null,null,null,null,null,null,null,null,null,null,null,null,null,null,null,null,null,null,null,null,null,null,null,null,null,null,null,null,null,null,null,null,null,null,null,null,null,null,null,null,null,null,null,null,null,null,null,null,null,null,null,null,null,null,null,null,null,null,null,null,null,null,null,null,null,null,null,null,null,null,null,null,null,null,null,null,null,null,null,null,null,null,null,null,null,null,null,null,null,null,null,null,null,null,null,null,null,null,null,null,null,null,null,null,null,null,null,null,null,null,null,null,null,null,null,null,null,null,null,null,null,null,null,null,null,null,null,null,null,null,null,null,null,null,null,null,null,null,null,null,null,null,null,null,null,null,null,null,null,null,null,null,null,null,null,null,null,null,null,null,null,null,null,null,null,null,null,null,null,null,null,null,null,null,null,null,null,null,null,null,null,null,null,null,null,null,null,null,null,null,null,null,null,null,null,null,null,null,null,null,null,null,null,null,null,null,null,null,null,null,null,null,null,null,null,null,null,null,null,null,null,null,null,null,null,null,null,null,null,null,null,null,null,null,null,null,null,null,null,null,null,null,null,null,null,null,null,null,null,null,null,null,null,null,null,null,null,null,null,null,null,null,null,null,null,null,null,null,null,null,null,null,null,null,null,null,null,null,null,null,null,null,null,null,null,null,null,null,null,null,null,null,null,null,null,null,null,null,null,null,null,null,null,null,null,null,null,null,null,null,null,null,null,null,null,null,null,null,null,null,null,null,null,null,null,null,null,null,null,null,null,null,null,null,null,null,null,null,null,null,null,null,null,null,null,null,null,null,null,null,null,null,null,null,null,null,null,null,null,null,null,null,null,null,null,null,null,null,null,null,null,null,null,null,null,null,null,null,null,null,null,null,null,null,null,null,null,null,null,null,null,null,null,null,null,null,null,null,null,null,null,null,null,null,null,null,null,null,null,null,null,null,null,null,null,null,null,null,null,null,null,null,null,null,null,null,null,null,null,null,null,null,null,null,null,null,null,null,null,null,null,null,null,null,null,null,null,null,null,null,null,null,null,null,null,null,null,null,null,null,null,null,null,null,null,null,null,null,null,null,null,null,null,null,null,null,null,null,null,null,null,null,null,null,null,null,null,null,null,null,null,null,null,null,null,null,null,null,null,null,null,null,null,null,null,null,null,null,null,null,null,null,null,null,null,null,null,null,null,null,null,null,null,null,null,null,null,null,null,null,null,null,null,null,null,null,null,null,null,null,null,null,null,null,null,null,null,null,null,null,null,null,null,null,null,null,null,null,null,null,null,null,null,null,null,null,null,null,null,null,null,null,null,null,null,null,null,null,null,null,null,null,null,null,null,null,null,null,null,null,null,null,null,null,null,null,null,null,null,null,null,null,null,null,null,null,null,null,null,null,null,null,null,null,null,null,null,null,null,null,null,null,null,null,null,null,null,null,null,null,null,null,null,null,null,null,null,null,null,null,null,null,null,null,null,null,null,null,null,null,null,null,null,null,null,null,null,null,null,null,null,null,null,null,null,null,null,null,null,null,null,null,null,null,null,null,null,null,null,null,null,null,null,null,null,null,null,null,null,null,null,null,null,null,null,null,null,null,null,null,null,null,null,null,null,null,null,null,null,null,null,null,null,null,null,null,null,null,null,null,null,null,null,null,null,null,null,null,null,null,null,null,null,null,null,null,null,null,null,null,null,null,null,null,null,null,null,null,null,null,null,null,null,null,null,null,null,null,null,null,null,null,null,null,null,null,null,null,null,null,null,null,null,null,null,null,null,null,null,null,null,null,null,null,null,null,null,null,null,null,null,null,null,null,null,null,null,null,null,null,null,null,null,null,null,null,null,null,null,null,null,null,null,null,null,null,null,null,null,null,null,null,null,null,null,null,null,null,null,null,null,null,null,null,null,null,null,null,null,null,null,null,null,null,null,null,null,null,null,null,null,null,null,null,null,null,null,null,null,null,null,null,null,null,null,null,null,null,null,null,null,null,null,null,null,null,null,null,null,null,null,null,null,null,null,null,null,null,null,null,null,null,null,null,null,null,null,null,null,null,null,null,null,null,null,null,null,null,null,null,null,null,null,null,null,null,null,null,null,null,null,null,null,null,null,null,null,null,null,null,null,null,null,null,null,null,null,null,null,null,null,null,null,null,null,null,null,null,null,null,null,null,null,null,null,null,null,null,null,null,null,null,null,null,null,null,null,null,null,null,null,null,null,null,null,null,null,null,null,null,null,null,null,null,null,null,null,null,null,null,null,null,null,null,null,null,null,null,null,null,null,null,null,null,null,null,null,null,null,null,null,null,null,null,null,null,null,null,null,null,null,null,null,null,null,null,null,null,null,null,null,null,null,null,null,null,null,null,null,null,null,null,null,null,null,null,null,null,null,null,null,null,null,null,null,null,null,null,null,null,null,null,null,null,null,null,null,null,null,null,null,null,null,null,null,null,null,null,null,null,null,null,null,null,null,null,null,null,null,null,null,null,null,null,null,null,null,null,null,null,null,null,null,null,null,null,null,null,null,null,null,null,null,null,null,null,null,null,null,null,null,null,null,null,null,null,null,null,null,null,null,null,null,null,null,null,null,null,null,null,null,null,null,null,null,null,null,null,null,null,null,null,null,null,null,null,null,null,null,null,null,null,null,null,null,null,null,null,null,null,null,null,null,null,null,null,null,null,null,null,null,null,null,null,null,null,null,null,null,null,null,null,null,null,null,null,null,null,null,null,null,null,null,null,null,null,null,null,null,null,null,null,null,null,null,null,null,null,null,null,null,null,null,null,null,null,null,null,null,null,null,null,null,null,null,null,null,null,null,null,null,null,null,null,null,null,null,null,null,null,null,null,null,null,null,null,null,null,null,null,null,null,null,null,null,null,null,null,null,null,null,null,null,null,null,null,null,null,null,null,null,null,null,null,null,null,null,null,null,null,null,null,null,null,null,null,null,null,null,null,null,null,null,null,null,null,null,null,null,null,null,null,null,null,null,null,null,null,null,null,null,null,null,null,null,null,null,null,null,null,null,null,null,null,null,null,null,null,null,null,null,null,null,null,null,null,null,null,null,null,null,null,null,null,null,null,null,null,null,null,null,null,null,null,null,null,null,null,null,null,null,null,null,null,null,null,null,null,null,null,null,null,null,null,null,null,null,null,null,null,null,null,null,null,null,null,null,null,null,null,null,null,null,null,null,null,null,null,null,null,null,null,null,null,null,null,null,null,null,null,null,null,null,null,null,null,null,null,null,null,null,null,null,null,null,null,null,null,null,null,null,null,null,null,null,null,null,null,null,null,null,null,null,null,null,null,null,null,null,null,null,null,null,null,null,null,null,null,null,null,null,null,null,null,null,null,null,null,null,null,null,null,null,null,null,null,null,null,null,null,null,null,null,null,null,null,null,null,null,null,null,null,null,null,null,null,null,null,null,null,null,null,null,null,null,null,null,null,null,null,null,null,null,null,null,null,null,null,null,null,null,null,null,null,null,null,null,null,null,null,null,null,null,null,null,null,null,null,null,null,null,null,null,null,null,null,null,null,null,null,null,null,null,null,null,null,null,null,null,null,null,null,null,null,null,null,null,null,null,null,null,null,null,null,null,null,null,null,null,null,null,null,null,null,null,null,null,null,null,null,null,null,null,null,null,null,null,null,null,null,null,null,null,null,null,null,null,null,null,null,null,null,null,null,null,null,null,null,null,null,null,null,null,null,null,null,null,null,null,null,null,null,null,null,null,null,null,null,null,null,null,null,null,null,null,null,null,null,null,null,null,null,null,null,null,null,null,null,null,null,null,null,null,null,null,null,null,null,null,null,null,null,null,null,null,null,null,null,null,null,null,null,null,null,null,null,null,null,null,null,null,null,null,null,null,null,null,null,null,null,null,null,null,null,null,null,null,null,null,null,null,null,null,null,null,null,null,null,null,null,null,null,null,null,null,null,null,null,null,null,null,null,null,null,null,null,null,null,null,null,null,null,null,null,null,null,null,null,null,null,null,null,null,null,null,null,null,null,null,null,null,null,null,null,null,null,null,null,null,null,null,null,null,null,null,null,null,null,null,null,null,null,null,null,null,null,null,null,null,null,null,null,null,null,null,null,null,null,null,null,null,null,null,null,null,null,null,null,null,null,null,null,null,null,null,null,null,null,null,null,null,null,null,null,null,null,null,null,null,null,null,null,null,null,null,null,null,null,null,null,null,null,null,null,null,null,null,null,null,null,null,null,null,null,null,null,null,null,null,null,null,null,null,null,null,null,null,null,null,null,null,null,null,null,null,null,null,null,null,null,null,null,null,null,null,null,null,null,null,null,null,null,null,null,null,null,null,null,null,null,null,null,null,null,null,null,null,null,null,null,null,null,null,null,null,null,null,null,null,null,null,null,null,null,null,null,null,null,null,null,null,null,null,null,null,null,null,null,null,null,null,null,null,null,null,null,null,null,null,null,null,null,null,null,null,null,null,null,null,null,null,null,null,null,null,null,null,null,null,null,null,null,null,null,null,null,null,null,null,null,null,null,null,null,null,null,null,null,null,null,null,null,null,null,null,null,null,null,null,null,null,null,null,null,null,null,null,null,null,null,null,null,null,null,null,null,null,null,null,null,null,null,null,null,null,null,null,null,null,null,null,null,null,null,null,null,null,null,null,null,null,null,null,null,null,null,null,null,null,null,null,null,null,null,null,null,null,null,null,null,null,null,null,null,null,null,null,null,null,null,null,null,null,null,null,null,null,null,null,null,null,null,null,null,null,null,null,null,null,null,null,null,null,null,null,null,null,null,null,null,null,null,null,null,null,null,null,null,null,null,null,null,null,null,null,null,null,null,null,null,null,null,null,null,null,null,null,null,null,null,null,null,null,null,null,null,null,null,null,null,null,null,null,null,null,null,null,null,null,null,null,null,null,null,null,null,null,null,null,null,null,null,null,null,null,null,null,null,null,null,null,null,null,null,null,null,null,null,null,null,null,null,null,null,null,null,null,null,null,null,null,null,null,null,null,null,null,null,null,null,null,null,null,null,null,null,null,null,null,null,null,null,null,null,null,null,null,null,null,null,null,null,null,null,null,null,null,null,null,null,null,null,null,null,null,null,null,null,null,null,null,null,null,null,null,null,null,null,null,null,null,null,null,null,null,null,null,null,null,null,null,null,null,null,null,null,null,null,null,null,null,null,null,null,null,null,null,null,null,null,null,null,null,null,null,null,null,null,null,null,null,null,null,null,null,null,null,null,null,null,null,null,null,null,null,null,null,null,null,null,null,null,null,null,null,null,null,null,null,null,null,null,null,null,null,null,null,null,null,null,null,null,null,null,null,null,null,null,null,null,null,null,null,null,null,null,null,null,null,null,null,null,null,null,null,null,null,null,null,null,null,null,null,null,null,null,null,null,null,null,null,null,null,null,null,null,null,null,null,null,null,null,null,null,null,null,null,null,null,null,null,null,null,null,null,null,null,null,null,null,null,null,null,null,null,null,null,null,null,null,null,null,null,null,null,null,null,null,null,null,null,null,null,null,null,null,null,null,null,null,null,null,null,null,null,null,null,null,null,null,null,null,null,null,null,null,null,null,null,null,null,null,null,null,null,null,null,null,null,null,null,null,null,null,null,null,null,null,null,null,null,null,null,null,null,null,null,null,null,null,null,null,null,null,null,null,null,null,null,null,null,null,null,null,null,null,null,null,null,null,null,null,null,null,null,null,null,null,null,null,null,null,null,null,null,null,null,null,null,null,null,null,null,null,null,null,null,null,null,null,null,null,null,null,null,null,null,null,null,null,null,null,null,null,null,null,null,null,null,null,null,null,null,null,null,null,null,null,null,null,null,null,null,null,null,null,null,null,null,null,null,null,null,null,null,null,null,null,null,null,null,null,null,null,null,null,null,null,null,null,null,null,null,null,null,null,null,null,null,null,null,null,null,null,null,null,null,null,null,null,null,null,null,null,null,null,null,null,null,null,null,null,null,null,null,null,null,null,null,null,null,null,null,null,null,null,null,null,null,null,null,null,null,null,null,null,null,null,null,null,null,null,null,null,null,null,null,null,null,null,null,null,null,null,null,null,null,null,null,null,null,null,null,null,null,null,null,null,null,null,null,null,null,null,null,null,null,null,null,null,null,null,null,null,null,null,null,null,null,null,null,null,null,null,null,null,null,null,null,null,null,null,null,null,null,null,null,null,null,null,null,null,null,null,null,null,null,null,null,null,null,15]
[null,"Maximum Dry Density (pcf):",null,null,null,null,"Mass of Mold (universal), (lb):"]
[null,"Specimen Number:",null,1,2,3,4,5,6,7,8,9]
[null,"Wet Density, (pcf).:",null,{"$f":"IF(ISERROR(IF(OR(Field8=\"\",D$38=\"\"),IF(D$44=\"\",\"\",(D$40/(D$44*D$38))),D$40/(Field8*D$38))),\"\",IF(OR(Field8=\"\",D$38=\"\"),IF(D$44=\"\",\"\",(D$40/(D$44*D$38))),D$40/(Field8*D$38)))","v":""},{"$f":"IF(ISERROR(IF(OR(Field9=\"\",E$38=\"\"),IF(E$44=\"\",\"\",(E$40/(E$44*E$38))),E$40/(Field9*E$38))),\"\",IF(OR(Field9=\"\",E$38=\"\"),IF(E$44=\"\",\"\",(E$40/(E$44*E$38))),E$40/(Field9*E$38)))","v":""},{"$f":"IF(ISERROR(IF(OR(Field10=\"\",F$38=\"\"),IF(F$44=\"\",\"\",(F$40/(F$44*F$38))),F$40/(Field10*F$38))),\"\",IF(OR(Field10=\"\",F$38=\"\"),IF(F$44=\"\",\"\",(F$40/(F$44*F$38))),F$40/(Field10*F$38)))","v":""},{"$f":"IF(ISERROR(IF(OR(Field11=\"\",G$38=\"\"),IF(G$44=\"\",\"\",(G$40/(G$44*G$38))),G$40/(Field11*G$38))),\"\",IF(OR(Field11=\"\",G$38=\"\"),IF(G$44=\"\",\"\",(G$40/(G$44*G$38))),G$40/(Field11*G$38)))","v":""},{"$f":"IF(ISERROR(IF(OR(Field12=\"\",H$38=\"\"),IF(H$44=\"\",\"\",(H$40/(H$44*H$38))),H$40/(Field12*H$38))),\"\",IF(OR(Field12=\"\",H$38=\"\"),IF(H$44=\"\",\"\",(H$40/(H$44*H$38))),H$40/(Field12*H$38)))","v":""},{"$f":"IF(ISERROR(IF(OR(Field13=\"\",I$38=\"\"),IF(I$44=\"\",\"\",(I$40/(I$44*I$38))),I$40/(Field13*I$38))),\"\",IF(OR(Field13=\"\",I$38=\"\"),IF(I$44=\"\",\"\",(I$40/(I$44*I$38))),I$40/(Field13*I$38)))","v":""},{"$f":"IF(ISERROR(IF(OR(Field14=\"\",J$38=\"\"),IF(J$44=\"\",\"\",(J$40/(J$44*J$38))),J$40/(Field14*J$38))),\"\",IF(OR(Field14=\"\",J$38=\"\"),IF(J$44=\"\",\"\",(J$40/(J$44*J$38))),J$40/(Field14*J$38)))","v":""},{"$f":"IF(ISERROR(IF(OR(Field15=\"\",K$38=\"\"),IF(K$44=\"\",\"\",(K$40/(K$44*K$38))),K$40/(Field15*K$38))),\"\",IF(OR(Field15=\"\",K$38=\"\"),IF(K$44=\"\",\"\",(K$40/(K$44*K$38))),K$40/(Field15*K$38)))","v":""},{"$f":"IF(ISERROR(IF(OR(Field331=\"\",L$38=\"\"),IF(L$44=\"\",\"\",(L$40/(L$44*L$38))),L$40/(Field331*L$38))),\"\",IF(OR(Field331=\"\",L$38=\"\"),IF(L$44=\"\",\"\",(L$40/(L$44*L$38))),L$40/(Field331*L$38)))","v":""}]
[]
[]
[null,"Total Energy (lb-ft) Lift 4:",null,{"$f":"IF(OR('SCA-Data'!F33=\"\",'SCA-Data'!F33=0),\"\",'SCA-Data'!F33)","v":""},{"$f":"IF(OR('SCA-Data'!G33=\"\",'SCA-Data'!G33=0),\"\",'SCA-Data'!G33)","v":""},{"$f":"IF(OR('SCA-Data'!H33=\"\",'SCA-Data'!H33=0),\"\",'SCA-Data'!H33)","v":""},{"$f":"IF(OR('SCA-Data'!I33=\"\",'SCA-Data'!I33=0),\"\",'SCA-Data'!I33)","v":""},{"$f":"IF(OR('SCA-Data'!J33=\"\",'SCA-Data'!J33=0),\"\",'SCA-Data'!J33)","v":""},{"$f":"IF(OR('SCA-Data'!K33=\"\",'SCA-Data'!K33=0),\"\",'SCA-Data'!K33)","v":""},{"$f":"IF(OR('SCA-Data'!L33=\"\",'SCA-Data'!L33=0),\"\",'SCA-Data'!L33)","v":""},{"$f":"IF(OR('SCA-Data'!M33=\"\",'SCA-Data'!M33=0),\"\",'SCA-Data'!M33)","v":""},{"$f":"IF(OR('SCA-Data'!N33=\"\",'SCA-Data'!N33=0),\"\",'SCA-Data'!N33)","v":""},{"$f":"IF(ISERROR(IF(SUM(IF(ABS(D109:L109-750)>15,1,0))>0,IF(NOT(ISERROR(FIND(\"Strength\",AutoMan,1))),\"Out of Tolerance\",\"\"),\"\")),\"\",IF(SUM(IF(ABS(D109:L109-750)>15,1,0))>0,IF(NOT(ISERROR(FIND(\"Strength\",AutoMan,1))),\"Out of Tolerance\",\"\"),\"\"))","v":""}]
[null,"Sample Method:","Sampled By:",null,null,"Sampled Date:"]
[null,null,null,null,null,{"$f":"IF(OR(AuthorizedDate>=41466,AuthorizedDate=\"\"),\"5\",IF(AND(AuthorizedDate<41466,AuthorizedDate>=41261),\"4\",IF(AND(AuthorizedDate<41275,AuthorizedDate>=40255),\"3\",IF(AND(AuthorizedDate<40255,AuthorizedDate>=38257),\"2\",\"1\"))))","v":"5"}]

{"sheet":"Strength Review","index":1,"n_rows":43,"n_cols":38,"rows_kept":43,"cut":false,"hidden":false,"merged":[[34,30,34,32],[36,6,36,9],[36,10,36,12],[36,13,36,15],[36,16,36,19],[36,20,36,22],[36,23,36,25],[36,26,36,29],[34,10,34,12],[34,13,34,15],[34,16,34,19],[33,26,33,29],[34,20,34,22],[31,26,31,29],[34,23,34,25],[31,13,31,15],[31,20,31,22],[32,23,32,25],[31,23,31,25],[17,16,17,19],[34,26,34,29],[25,29,25,30],[27,17,28,18],[27,27,28,28],[29,17,29,18],[29,27,29,28],[32,26,32,29],[33,30,33,32],[31,16,31,19],[31,30,31,32],[33,23,33,25],[33,13,33,15],[33,16,33,19],[33,20,33,22],[32,16,32,19],[29,1,29,2],[29,7,29,8],[36,1,36,2],[36,3,36,5],[31,1,34,1],[34,3,34,5],[34,6,34,9],[32,3,32,5],[32,6,32,9],[33,6,33,9],[14,26,14,29],[12,16,12,19],[13,16,13,19],[14,16,14,19],[5,20,5,22],[13,26,13,29],[26,1,28,2],[22,1,24,2],[19,15,20,16],[21,15,21,16],[23,19,24,20],[25,19,25,20],[25,1,25,2],[25,9,25,10],[27,7,28,8],[21,1,21,2],[18,1,20,2],[23,9,24,10],[17,20,17,22],[16,20,16,22],[19,25,20,26],[16,26,16,29],[17,26,17,29],[16,1,16,2],[32,10,32,12],[31,3,31,5],[16,6,16,9],[31,6,31,9],[31,10,31,12],[21,5,21,6],[32,13,32,15],[5,16,5,19],[6,16,6,19],[7,16,7,19],[8,16,8,19],[9,16,9,19],[16,3,16,5],[12,3,12,5],[14,30,14,32],[16,23,16,25],[16,16,16,19],[16,30,16,32],[15,16,15,19],[17,13,17,15],[1,8,1,10],[14,20,14,22],[14,23,14,25],[5,13,5,15],[8,10,8,12],[7,10,7,12],[6,10,6,12],[10,16,10,19],[11,16,11,19],[14,10,14,12],[13,20,13,22],[13,23,13,25],[7,13,7,15],[6,13,6,15],[8,20,8,22],[9,20,9,22],[10,13,10,15],[9,13,9,15],[17,30,17,32],[17,23,17,25],[17,3,17,5],[17,6,17,9],[17,10,17,12],[19,5,20,6],[17,1,17,2],[5,3,5,5],[6,3,6,5],[7,3,7,5],[8,3,8,5],[10,1,10,2],[7,1,7,2],[9,3,9,5],[10,3,10,5],[12,1,12,2],[5,1,5,2],[9,1,9,2],[6,1,6,2],[8,1,8,2],[14,1,14,2],[14,3,14,5],[13,1,13,2],[13,3,13,5],[10,20,10,22],[1,1,1,4],[1,5,1,7],[3,5,3,7],[3,8,3,10],[10,10,10,12],[9,10,9,12],[10,6,10,9],[9,6,9,9],[2,3,2,4],[3,3,3,4],[2,1,2,2],[3,1,3,2],[2,5,2,7],[2,8,2,10],[5,10,5,12],[8,6,8,9],[7,6,7,9],[6,6,6,9],[5,6,5,9],[6,20,6,22],[7,20,7,22],[8,13,8,15],[5,23,5,25],[6,23,6,25],[7,23,7,25],[8,23,8,25],[9,23,9,25],[10,23,10,25],[5,26,5,29],[5,30,5,32],[6,26,6,29],[6,30,6,32],[7,26,7,29],[7,30,7,32],[8,26,8,29],[8,30,8,32],[9,26,9,29],[9,30,9,32],[10,26,10,29],[10,30,10,32],[12,23,12,25],[12,13,12,15],[23,29,24,30],[21,25,21,26],[32,30,32,32],[33,3,33,5],[37,3,37,12],[37,13,37,22],[37,23,37,32],[32,20,32,22],[12,26,12,29],[33,10,33,12],[14,6,14,9],[12,30,12,32],[13,6,13,9],[13,10,13,12],[16,10,16,12],[12,6,12,9],[12,10,12,12],[12,20,12,22],[16,13,16,15],[14,13,14,15],[13,13,13,15],[13,30,13,32],[36,35,36,36],[36,37,36,38],[37,35,37,36],[38,35,38,36],[39,35,39,36],[37,37,37,38],[38,37,38,38],[39,37,39,38],[42,1,42,2],[40,3,40,12],[40,13,40,22],[40,23,40,32],[37,1,37,2],[39,1,39,2],[41,1,41,2],[39,3,39,12],[39,13,39,22],[39,23,39,32],[40,1,40,2],[36,30,36,32]]}
[]
[null,"Moisture-Density Data",null,null,null,"Minimum",null,null,"Maximum"]
[null,"Maximum Dry Density (pcf):",null,{"$f":"IF(OR(ISERROR(Worksheet!E22),Worksheet!E22=\"\"),\"\",ROUND(Worksheet!E22,1))","v":""},null,{"$f":"IF(OR(ISERROR(ROUND(D3-1,1)),D3=\"\"),\"\",ROUND(D3-1,1))","v":""},null,null,{"$f":"IF(OR(ISERROR(ROUND(D3+1,1)),D3=\"\"),\"\",ROUND(D3+1,1))","v":""}]
[null,"Optimum Moisture Content (%):",null,{"$f":"IF(OR(ISERROR(Worksheet!E23),Worksheet!E23=\"\"),\"\",ROUND(Worksheet!E23,1))","v":""},null,{"$f":"IF(OR(ISERROR(ROUND(D4-0.3,1)),D4=\"\"),\"\",ROUND(D4-0.3,1))","v":""},null,null,{"$f":"IF(OR(ISERROR(ROUND(D4+0.3,1)),D4=\"\"),\"\",ROUND(D4+0.3,1))","v":""}]
[]
[null,"Specimen Number:",null,{"$f":"Worksheet!D33","v":1},null,null,{"$f":"Worksheet!E33","v":2},null,null,null,{"$f":"Worksheet!F33","v":3},null,null,{"$f":"Worksheet!G33","v":4},null,null,{"$f":"Worksheet!H33","v":5},null,null,null,{"$f":"Worksheet!I33","v":6},null,null,{"$f":"Worksheet!J33","v":7},null,null,{"$f":"Worksheet!K33","v":8},null,null,null,{"$f":"Worksheet!L33","v":9}]
[null,"Cell No.:",null,{"$f":"IF(OR(ISERROR(ROUND(Worksheet!D34,1)),Worksheet!D34=\"\"),\"\",ROUND(Worksheet!D34,1))","v":""},null,null,{"$f":"IF(OR(ISERROR(ROUND(Worksheet!E34,1)),Worksheet!E34=\"\"),\"\",ROUND(Worksheet!E34,1))","v":""},null,null,null,{"$f":"IF(OR(ISERROR(ROUND(Worksheet!F34,1)),Worksheet!F34=\"\"),\"\",ROUND(Worksheet!F34,1))","v":""},null,null,{"$f":"IF(OR(ISERROR(ROUND(Worksheet!G34,1)),Worksheet!G34=\"\"),\"\",ROUND(Worksheet!G34,1))","v":""},null,null,{"$f":"IF(OR(ISERROR(ROUND(Worksheet!H34,1)),Worksheet!H34=\"\"),\"\",ROUND(Worksheet!H34,1))","v":""},null,null,null,{"$f":"IF(OR(ISERROR(ROUND(Worksheet!I34,1)),Worksheet!I34=\"\"),\"\",ROUND(Worksheet!I34,1))","v":""},null,null,{"$f":"IF(OR(ISERROR(ROUND(Worksheet!J34,1)),Worksheet!J34=\"\"),\"\",ROUND(Worksheet!J34,1))","v":""},null,null,{"$f":"IF(OR(ISERROR(ROUND(Worksheet!K34,1)),Worksheet!K34=\"\"),\"\",ROUND(Worksheet!K34,1))","v":""},null,null,null,{"$f":"IF(OR(ISERROR(ROUND(Worksheet!L34,1)),Worksheet!L34=\"\"),\"\",ROUND(Worksheet!L34,1))","v":""}]
[null,"Lateral Pressure, psi.:",null,{"$f":"IF(OR(ISERROR(ROUND(Worksheet!D62,1)),Worksheet!D62=\"\"),\"\",ROUND(Worksheet!D62,1))","v":""},null,null,{"$f":"IF(OR(ISERROR(ROUND(Worksheet!E62,1)),Worksheet!E62=\"\"),\"\",ROUND(Worksheet!E62,1))","v":""},null,null,null,{"$f":"IF(OR(ISERROR(ROUND(Worksheet!F62,1)),Worksheet!F62=\"\"),\"\",ROUND(Worksheet!F62,1))","v":""},null,null,{"$f":"IF(OR(ISERROR(ROUND(Worksheet!G62,1)),Worksheet!G62=\"\"),\"\",ROUND(Worksheet!G62,1))","v":""},null,null,{"$f":"IF(OR(ISERROR(ROUND(Worksheet!H62,1)),Worksheet!H62=\"\"),\"\",ROUND(Worksheet!H62,1))","v":""},null,null,null,{"$f":"IF(OR(ISERROR(ROUND(Worksheet!I62,1)),Worksheet!I62=\"\"),\"\",ROUND(Worksheet!I62,1))","v":""},null,null,{"$f":"IF(OR(ISERROR(ROUND(Worksheet!J62,1)),Worksheet!J62=\"\"),\"\",ROUND(Worksheet!J62,1))","v":""},null,null,{"$f":"IF(OR(ISERROR(ROUND(Worksheet!K62,1)),Worksheet!K62=\"\"),\"\",ROUND(Worksheet!K62,1))","v":""},null,null,null,{"$f":"IF(OR(ISERROR(ROUND(Worksheet!L62,1)),Worksheet!L62=\"\"),\"\",ROUND(Worksheet!L62,1))","v":""}]
[null,"Moisture Content,  (%):",null,{"$f":"IF(OR(ISERROR(ROUND(Worksheet!D57,1)),Worksheet!D57=\"\"),\"\",ROUND(Worksheet!D57,1))","v":""},null,null,{"$f":"IF(OR(ISERROR(ROUND(Worksheet!E57,1)),Worksheet!E57=\"\"),\"\",ROUND(Worksheet!E57,1))","v":""},null,null,null,{"$f":"IF(OR(ISERROR(ROUND(Worksheet!F57,1)),Worksheet!F57=\"\"),\"\",ROUND(Worksheet!F57,1))","v":""},null,null,{"$f":"IF(OR(ISERROR(ROUND(Worksheet!G57,1)),Worksheet!G57=\"\"),\"\",ROUND(Worksheet!G57,1))","v":""},null,null,{"$f":"IF(OR(ISERROR(ROUND(Worksheet!H57,1)),Worksheet!H57=\"\"),\"\",ROUND(Worksheet!H57,1))","v":""},null,null,null,{"$f":"IF(OR(ISERROR(ROUND(Worksheet!I57,1)),Worksheet!I57=\"\"),\"\",ROUND(Worksheet!I57,1))","v":""},null,null,{"$f":"IF(OR(ISERROR(ROUND(Worksheet!J57,1)),Worksheet!J57=\"\"),\"\",ROUND(Worksheet!J57,1))","v":""},null,null,{"$f":"IF(OR(ISERROR(ROUND(Worksheet!K57,1)),Worksheet!K57=\"\"),\"\",ROUND(Worksheet!K57,1))","v":""},null,null,null,{"$f":"IF(OR(ISERROR(ROUND(Worksheet!L57,1)),Worksheet!L57=\"\"),\"\",ROUND(Worksheet!L57,1))","v":""}]
[null,"Moisture Requirement Evaluation:",null,{"$f":"IF(OR($D$4=\"\",D$9=\"\"),\"\",IF(AND(D$9>=$F$4,D$9<=$I$4),\"PASS\",\"FAIL\"))","v":""},null,null,{"$f":"IF(OR($D$4=\"\",G$9=\"\"),\"\",IF(AND(G$9>=$F$4,G$9<=$I$4),\"PASS\",\"FAIL\"))","v":""},null,null,null,{"$f":"IF(OR($D$4=\"\",K$9=\"\"),\"\",IF(AND(K$9>=$F$4,K$9<=$I$4),\"PASS\",\"FAIL\"))","v":""},null,null,{"$f":"IF(OR($D$4=\"\",N$9=\"\"),\"\",IF(AND(N$9>=$F$4,N$9<=$I$4),\"PASS\",\"FAIL\"))","v":""},null,null,{"$f":"IF(OR($D$4=\"\",Q$9=\"\"),\"\",IF(AND(Q$9>=$F$4,Q$9<=$I$4),\"PASS\",\"FAIL\"))","v":""},null,null,null,{"$f":"IF(OR($D$4=\"\",U$9=\"\"),\"\",IF(AND(U$9>=$F$4,U$9<=$I$4),\"PASS\",\"FAIL\"))","v":""},null,null,{"$f":"IF(OR($D$4=\"\",X$9=\"\"),\"\",IF(AND(X$9>=$F$4,X$9<=$I$4),\"PASS\",\"FAIL\"))","v":""},null,null,{"$f":"IF(OR($D$4=\"\",AA$9=\"\"),\"\",IF(AND(AA$9>=$F$4,AA$9<=$I$4),\"PASS\",\"FAIL\"))","v":""},null,null,null,{"$f":"IF(OR($D$4=\"\",AE$9=\"\"),\"\",IF(AND(AE$9>=$F$4,AE$9<=$I$4),\"PASS\",\"FAIL\"))","v":""}]
[null,"Moisture Evaluation Variance:",null,{"$f":"IF(D$10=\"Pass\",\"\",IF(D$9<$F$4,\"LOW\",IF(D$9>$I$4,\"HIGH\",\"\")))","v":""},null,null,{"$f":"IF(G$10=\"Pass\",\"\",IF(G$9<$F$4,\"LOW\",IF(G$9>$I$4,\"HIGH\",\"\")))","v":""},null,null,null,{"$f":"IF(K$10=\"Pass\",\"\",IF(K$9<$F$4,\"LOW\",IF(K$9>$I$4,\"HIGH\",\"\")))","v":""},null,null,{"$f":"IF(N$10=\"Pass\",\"\",IF(N$9<$F$4,\"LOW\",IF(N$9>$I$4,\"HIGH\",\"\")))","v":""},null,null,{"$f":"IF(Q$10=\"Pass\",\"\",IF(Q$9<$F$4,\"LOW\",IF(Q$9>$I$4,\"HIGH\",\"\")))","v":""},null,null,null,{"$f":"IF(U$10=\"Pass\",\"\",IF(U$9<$F$4,\"LOW\",IF(U$9>$I$4,\"HIGH\",\"\")))","v":""},null,null,{"$f":"IF(X$10=\"Pass\",\"\",IF(X$9<$F$4,\"LOW\",IF(X$9>$I$4,\"HIGH\",\"\")))","v":""},null,null,{"$f":"IF(AA$10=\"Pass\",\"\",IF(AA$9<$F$4,\"LOW\",IF(AA$9>$I$4,\"HIGH\",\"\")))","v":""},null,null,null,{"$f":"IF(AE$10=\"Pass\",\"\",IF(AE$9<$F$4,\"LOW\",IF(AE$9>$I$4,\"HIGH\",\"\")))","v":""}]
[]
[null,"Dry Density, (pcf):",null,{"$f":"IF(OR(ISERROR(ROUND(Worksheet!D59,1)),Worksheet!D59=\"\"),\"\",ROUND(Worksheet!D59,1))","v":""},null,null,{"$f":"IF(OR(ISERROR(ROUND(Worksheet!E59,1)),Worksheet!E59=\"\"),\"\",ROUND(Worksheet!E59,1))","v":""},null,null,null,{"$f":"IF(OR(ISERROR(ROUND(Worksheet!F59,1)),Worksheet!F59=\"\"),\"\",ROUND(Worksheet!F59,1))","v":""},null,null,{"$f":"IF(OR(ISERROR(ROUND(Worksheet!G59,1)),Worksheet!G59=\"\"),\"\",ROUND(Worksheet!G59,1))","v":""},null,null,{"$f":"IF(OR(ISERROR(ROUND(Worksheet!H59,1)),Worksheet!H59=\"\"),\"\",ROUND(Worksheet!H59,1))","v":""},null,null,null,{"$f":"IF(OR(ISERROR(ROUND(Worksheet!I59,1)),Worksheet!I59=\"\"),\"\",ROUND(Worksheet!I59,1))","v":""},null,null,{"$f":"IF(OR(ISERROR(ROUND(Worksheet!J59,1)),Worksheet!J59=\"\"),\"\",ROUND(Worksheet!J59,1))","v":""},null,null,{"$f":"IF(OR(ISERROR(ROUND(Worksheet!K59,1)),Worksheet!K59=\"\"),\"\",ROUND(Worksheet!K59,1))","v":""},null,null,null,{"$f":"IF(OR(ISERROR(ROUND(Worksheet!L59,1)),Worksheet!L59=\"\"),\"\",ROUND(Worksheet!L59,1))","v":""}]
[null,"Density Requirement Evaluation:",null,{"$f":"IF(OR($D$3=\"\",D$13=\"\"),\"\",IF(AND(D$13>=$F$3,D$13<=$I$3),\"PASS\",\"FAIL\"))","v":""},null,null,{"$f":"IF(OR($D$3=\"\",G$13=\"\"),\"\",IF(AND(G$13>=$F$3,G$13<=$I$3),\"PASS\",\"FAIL\"))","v":""},null,null,null,{"$f":"IF(OR($D$3=\"\",K$13=\"\"),\"\",IF(AND(K$13>=$F$3,K$13<=$I$3),\"PASS\",\"FAIL\"))","v":""},null,null,{"$f":"IF(OR($D$3=\"\",N$13=\"\"),\"\",IF(AND(N$13>=$F$3,N$13<=$I$3),\"PASS\",\"FAIL\"))","v":""},null,null,{"$f":"IF(OR($D$3=\"\",Q$13=\"\"),\"\",IF(AND(Q$13>=$F$3,Q$13<=$I$3),\"PASS\",\"FAIL\"))","v":""},null,null,null,{"$f":"IF(OR($D$3=\"\",U$13=\"\"),\"\",IF(AND(U$13>=$F$3,U$13<=$I$3),\"PASS\",\"FAIL\"))","v":""},null,null,{"$f":"IF(OR($D$3=\"\",X$13=\"\"),\"\",IF(AND(X$13>=$F$3,X$13<=$I$3),\"PASS\",\"FAIL\"))","v":""},null,null,{"$f":"IF(OR($D$3=\"\",AA$13=\"\"),\"\",IF(AND(AA$13>=$F$3,AA$13<=$I$3),\"PASS\",\"FAIL\"))","v":""},null,null,null,{"$f":"IF(OR($D$3=\"\",AE$13=\"\"),\"\",IF(AND(AE$13>=$F$3,AE$13<=$I$3),\"PASS\",\"FAIL\"))","v":""}]
[null,"Density Evaluation Variance:",null,{"$f":"IF(D$14=\"Pass\",\"\",IF(D$13<$F$3,\"LOW\",IF(D$13>$I$3,\"HIGH\",\"\")))","v":""},null,null,{"$f":"IF(G$14=\"Pass\",\"\",IF(G$13<$F$3,\"LOW\",IF(G$13>$I$3,\"HIGH\",\"\")))","v":""},null,null,null,{"$f":"IF(K$14=\"Pass\",\"\",IF(K$13<$F$3,\"LOW\",IF(K$13>$I$3,\"HIGH\",\"\")))","v":""},null,null,{"$f":"IF(N$14=\"Pass\",\"\",IF(N$13<$F$3,\"LOW\",IF(N$13>$I$3,\"HIGH\",\"\")))","v":""},null,null,{"$f":"IF(Q$14=\"Pass\",\"\",IF(Q$13<$F$3,\"LOW\",IF(Q$13>$I$3,\"HIGH\",\"\")))","v":""},null,null,null,{"$f":"IF(U$14=\"Pass\",\"\",IF(U$13<$F$3,\"LOW\",IF(U$13>$I$3,\"HIGH\",\"\")))","v":""},null,null,{"$f":"IF(X$14=\"Pass\",\"\",IF(X$13<$F$3,\"LOW\",IF(X$13>$I$3,\"HIGH\",\"\")))","v":""},null,null,{"$f":"IF(AA$14=\"Pass\",\"\",IF(AA$13<$F$3,\"LOW\",IF(AA$13>$I$3,\"HIGH\",\"\")))","v":""},null,null,null,{"$f":"IF(AE$14=\"Pass\",\"\",IF(AE$13<$F$3,\"LOW\",IF(AE$13>$I$3,\"HIGH\",\"\")))","v":""}]
[]
[null,"Strength Requirement:",null,{"$f":"IF(OR(D10=\"\",D14=\"\"),\"\",IF(OR(D10=\"FAIL\",D14=\"FAIL\"),\"VERIFY\",\"PASS\"))","v":""},null,null,{"$f":"IF(OR(G10=\"\",G14=\"\"),\"\",IF(OR(G10=\"FAIL\",G14=\"FAIL\"),\"VERIFY\",\"PASS\"))","v":""},null,null,null,{"$f":"IF(OR(K10=\"\",K14=\"\"),\"\",IF(OR(K10=\"FAIL\",K14=\"FAIL\"),\"VERIFY\",\"PASS\"))","v":""},null,null,{"$f":"IF(OR(N10=\"\",N14=\"\"),\"\",IF(OR(N10=\"FAIL\",N14=\"FAIL\"),\"VERIFY\",\"PASS\"))","v":""},null,null,{"$f":"IF(OR(Q10=\"\",Q14=\"\"),\"\",IF(OR(Q10=\"FAIL\",Q14=\"FAIL\"),\"VERIFY\",\"PASS\"))","v":""},null,null,null,{"$f":"IF(OR(U10=\"\",U14=\"\"),\"\",IF(OR(U10=\"FAIL\",U14=\"FAIL\"),\"VERIFY\",\"PASS\"))","v":""},null,null,{"$f":"IF(OR(X10=\"\",X14=\"\"),\"\",IF(OR(X10=\"FAIL\",X14=\"FAIL\"),\"VERIFY\",\"PASS\"))","v":""},null,null,{"$f":"IF(OR(AA10=\"\",AA14=\"\"),\"\",IF(OR(AA10=\"FAIL\",AA14=\"FAIL\"),\"VERIFY\",\"PASS\"))","v":""},null,null,null,{"$f":"IF(OR(AE10=\"\",AE14=\"\"),\"\",IF(OR(AE10=\"FAIL\",AE14=\"FAIL\"),\"VERIFY\",\"PASS\"))","v":""}]
[null,"Corrected Stress, psi.:",null,{"$f":"IF(OR(ISERROR(ROUND(Worksheet!D78,1)),Worksheet!D78=\"\"),\"\",ROUND(Worksheet!D78,1))","v":""},null,null,{"$f":"IF(OR(ISERROR(ROUND(Worksheet!E78,1)),Worksheet!E78=\"\"),\"\",ROUND(Worksheet!E78,1))","v":""},null,null,null,{"$f":"IF(OR(ISERROR(ROUND(Worksheet!F78,1)),Worksheet!F78=\"\"),\"\",ROUND(Worksheet!F78,1))","v":""},null,null,{"$f":"IF(OR(ISERROR(ROUND(Worksheet!G78,1)),Worksheet!G78=\"\"),\"\",ROUND(Worksheet!G78,1))","v":""},null,null,{"$f":"IF(OR(ISERROR(ROUND(Worksheet!H78,1)),Worksheet!H78=\"\"),\"\",ROUND(Worksheet!H78,1))","v":""},null,null,null,{"$f":"IF(OR(ISERROR(ROUND(Worksheet!I78,1)),Worksheet!I78=\"\"),\"\",ROUND(Worksheet!I78,1))","v":""},null,null,{"$f":"IF(OR(ISERROR(ROUND(Worksheet!J78,1)),Worksheet!J78=\"\"),\"\",ROUND(Worksheet!J78,1))","v":""},null,null,{"$f":"IF(OR(ISERROR(ROUND(Worksheet!K78,1)),Worksheet!K78=\"\"),\"\",ROUND(Worksheet!K78,1))","v":""},null,null,null,{"$f":"IF(OR(ISERROR(ROUND(Worksheet!L78,1)),Worksheet!L78=\"\"),\"\",ROUND(Worksheet!L78,1))","v":""}]
[null,"Spec 1 - Spec 2:"]
[null,null,null,null,null,{"$f":"IF(ISERROR(ROUND(ABS(D18-G18),1)),\"\",ROUND(ABS(D18-G18),1))","v":""},null,null,null,null,null,null,null,null,null,{"$f":"IF(ISERROR(ROUND(ABS(N18-Q18),1)),\"\",ROUND(ABS(N18-Q18),1))","v":""},null,null,null,null,null,null,null,null,null,{"$f":"IF(ISERROR(ROUND(ABS(X18-AA18),1)),\"\",ROUND(ABS(X18-AA18),1))","v":""}]
[]
[null,"<10 psi ?:",null,null,null,{"$f":"IF(F20=\"\",\"\",IF(F20<=10,\"PASS\",\"FAIL\"))","v":""},null,null,null,null,null,null,null,null,null,{"$f":"IF(P20=\"\",\"\",IF(P20<=10,\"PASS\",\"FAIL\"))","v":""},null,null,null,null,null,null,null,null,null,{"$f":"IF(Z20=\"\",\"\",IF(Z20<=10,\"PASS\",\"FAIL\"))","v":""}]
[null,"Spec 2 - Spec 3:"]
[null,null,null,null,null,null,null,null,null,{"$f":"IF(ISERROR(ROUND(ABS(G18-K18),1)),\"\",ROUND(ABS(G18-K18),1))","v":""},null,null,null,null,null,null,null,null,null,{"$f":"IF(ISERROR(ROUND(ABS(Q18-U18),1)),\"\",ROUND(ABS(Q18-U18),1))","v":""},null,null,null,null,null,null,null,null,null,{"$f":"IF(ISERROR(ROUND(ABS(AA18-AE18),1)),\"\",ROUND(ABS(AA18-AE18),1))","v":""}]
[]
[null,"<10 psi ?:",null,null,null,null,null,null,null,{"$f":"IF(J24=\"\",\"\",IF(J24<=10,\"PASS\",\"FAIL\"))","v":""},null,null,null,null,null,null,null,null,null,{"$f":"IF(T24=\"\",\"\",IF(T24<=10,\"PASS\",\"FAIL\"))","v":""},null,null,null,null,null,null,null,null,null,{"$f":"IF(AD24=\"\",\"\",IF(AD24<=10,\"PASS\",\"FAIL\"))","v":""}]
[null,"Spec 1 - Spec 3:"]
[null,null,null,null,null,null,null,{"$f":"IF(ISERROR(ROUND(ABS(D18-K18),1)),\"\",ROUND(ABS(D18-K18),1))","v":""},null,null,null,null,null,null,null,null,null,{"$f":"IF(ISERROR(ROUND(ABS(N18-U18),1)),\"\",ROUND(ABS(N18-U18),1))","v":""},null,null,null,null,null,null,null,null,null,{"$f":"IF(ISERROR(ROUND(ABS(X18-AE18),1)),\"\",ROUND(ABS(X18-AE18),1))","v":""}]
[]
[null,"<10 psi ?:",null,null,null,null,null,{"$f":"IF(H28=\"\",\"\",IF(H28<=10,\"PASS\",\"FAIL\"))","v":""},null,null,null,null,null,null,null,null,null,{"$f":"IF(R28=\"\",\"\",IF(R28<=10,\"PASS\",\"FAIL\"))","v":""},null,null,null,null,null,null,null,null,null,{"$f":"IF(AB28=\"\",\"\",IF(AB28<=10,\"PASS\",\"FAIL\"))","v":""}]
[]
[null,"Validation:","Moisture:",{"$f":"D10","v":""},null,null,{"$f":"G10","v":""},null,null,null,{"$f":"K10","v":""},null,null,{"$f":"N10","v":""},null,null,{"$f":"Q10","v":""},null,null,null,{"$f":"U10","v":""},null,null,{"$f":"X10","v":""},null,null,{"$f":"AA10","v":""},null,null,null,{"$f":"AE10","v":""}]
[null,null,"Denisty:",{"$f":"D14","v":""},null,null,{"$f":"G14","v":""},null,null,null,{"$f":"K14","v":""},null,null,{"$f":"N14","v":""},null,null,{"$f":"Q14","v":""},null,null,null,{"$f":"U14","v":""},null,null,{"$f":"X14","v":""},null,null,{"$f":"AA14","v":""},null,null,null,{"$f":"AE14","v":""}]
[null,null,"Strength:",{"$f":"IF(AND(D32=\"\",D33=\"\"),\"\",IF(OR(D32=\"FAIL\",D33=\"FAIL\"),IF(version<=\"4\",IF(OR(F22=\"FAIL\",H30=\"FAIL\"),\"FAIL\",\"PASS\"),IF(AND(F20<=10,H28<=10),\"PASS\",\"FAIL\")),\"PASS\"))","v":""},null,null,{"$f":"IF(AND(G32=\"\",G33=\"\"),\"\",IF(OR(G32=\"FAIL\",G33=\"FAIL\"),IF(version<=\"4\",IF(OR(F22=\"FAIL\",J26=\"FAIL\"),\"FAIL\",\"PASS\"),IF(AND(F20<=10,J24<=10),\"PASS\",\"FAIL\")),\"PASS\"))","v":""},null,null,null,{"$f":"IF(AND(K32=\"\",K33=\"\"),\"\",IF(OR(K32=\"FAIL\",K33=\"FAIL\"),IF(version<=\"4\",IF(OR(H30=\"FAIL\",J26=\"FAIL\"),\"FAIL\",\"PASS\"),IF(AND(J24<=10,H28<=10),\"PASS\",\"FAIL\")),\"PASS\"))","v":""},null,null,{"$f":"IF(AND(N32=\"\",N33=\"\"),\"\",IF(OR(N32=\"FAIL\",N33=\"FAIL\"),IF(version<=\"4\",IF(OR(P22=\"FAIL\",R30=\"FAIL\"),\"FAIL\",\"PASS\"),IF(AND(P20<=10,R28<=10),\"PASS\",\"FAIL\")),\"PASS\"))","v":""},null,null,{"$f":"IF(AND(Q32=\"\",Q33=\"\"),\"\",IF(OR(Q32=\"FAIL\",Q33=\"FAIL\"),IF(version<=\"4\",IF(OR(P22=\"FAIL\",T26=\"FAIL\"),\"FAIL\",\"PASS\"),IF(AND(P20<=10,T24<=10),\"PASS\",\"FAIL\")),\"PASS\"))","v":""},null,null,null,{"$f":"IF(AND(U32=\"\",U33=\"\"),\"\",IF(OR(U32=\"FAIL\",U33=\"FAIL\"),IF(version<=\"4\",IF(OR(R30=\"FAIL\",T26=\"FAIL\"),\"FAIL\",\"PASS\"),IF(AND(T24<=10,R28<=10),\"PASS\",\"FAIL\")),\"PASS\"))","v":""},null,null,{"$f":"IF(AND(X32=\"\",X33=\"\"),\"\",IF(OR(X32=\"FAIL\",X33=\"FAIL\"),IF(version<=\"4\",IF(OR(Z22=\"FAIL\",AB30=\"FAIL\"),\"FAIL\",\"PASS\"),IF(AND(Z20<=10,AB28<=10),\"PASS\",\"FAIL\")),\"PASS\"))","v":""},null,null,{"$f":"IF(AND(AA32=\"\",AA33=\"\"),\"\",IF(OR(AA32=\"FAIL\",AA33=\"FAIL\"),IF(version<=\"4\",IF(OR(Z22=\"FAIL\",AD26=\"FAIL\"),\"FAIL\",\"PASS\"),IF(AND(Z20<=10,AD24<=10),\"PASS\",\"FAIL\")),\"PASS\"))","v":""},null,null,null,{"$f":"IF(AND(AE32=\"\",AE33=\"\"),\"\",IF(OR(AE32=\"FAIL\",AE33=\"FAIL\"),IF(version<=\"4\",IF(OR(AB30=\"FAIL\",AD26=\"FAIL\"),\"FAIL\",\"PASS\"),IF(AND(AD24<=10,AB28<=10),\"PASS\",\"FAIL\")),\"PASS\"))","v":""}]
[null,null,"Inclusive:",{"$f":"IF(AND(D32=\"\",D33=\"\",D34=\"\"),\"\",IF(OR(AND(D32=\"PASS\",D33=\"PASS\",D34=\"PASS\"),(AND(D32=\"FAIL\",D33=\"PASS\",D34=\"PASS\")),(AND(D32=\"PASS\",D33=\"FAIL\",D34=\"PASS\")),(AND(D32=\"FAIL\",D33=\"FAIL\",D34=\"PASS\"))),\"PASS\",\"FAIL\"))","v":""},null,null,{"$f":"IF(AND(G32=\"\",G33=\"\",G34=\"\"),\"\",IF(OR(AND(G32=\"PASS\",G33=\"PASS\",G34=\"PASS\"),(AND(G32=\"FAIL\",G33=\"PASS\",G34=\"PASS\")),(AND(G32=\"PASS\",G33=\"FAIL\",G34=\"PASS\")),(AND(G32=\"FAIL\",G33=\"FAIL\",G34=\"PASS\"))),\"PASS\",\"FAIL\"))","v":""},null,null,null,{"$f":"IF(AND(K32=\"\",K33=\"\",K34=\"\"),\"\",IF(OR(AND(K32=\"PASS\",K33=\"PASS\",K34=\"PASS\"),(AND(K32=\"FAIL\",K33=\"PASS\",K34=\"PASS\")),(AND(K32=\"PASS\",K33=\"FAIL\",K34=\"PASS\")),(AND(K32=\"FAIL\",K33=\"FAIL\",K34=\"PASS\"))),\"PASS\",\"FAIL\"))","v":""},null,null,{"$f":"IF(AND(N32=\"\",N33=\"\",N34=\"\"),\"\",IF(OR(AND(N32=\"PASS\",N33=\"PASS\",N34=\"PASS\"),(AND(N32=\"FAIL\",N33=\"PASS\",N34=\"PASS\")),(AND(N32=\"PASS\",N33=\"FAIL\",N34=\"PASS\")),(AND(N32=\"FAIL\",N33=\"FAIL\",N34=\"PASS\"))),\"PASS\",\"FAIL\"))","v":""},null,null,{"$f":"IF(AND(Q32=\"\",Q33=\"\",Q34=\"\"),\"\",IF(OR(AND(Q32=\"PASS\",Q33=\"PASS\",Q34=\"PASS\"),(AND(Q32=\"FAIL\",Q33=\"PASS\",Q34=\"PASS\")),(AND(Q32=\"PASS\",Q33=\"FAIL\",Q34=\"PASS\")),(AND(Q32=\"FAIL\",Q33=\"FAIL\",Q34=\"PASS\"))),\"PASS\",\"FAIL\"))","v":""},null,null,null,{"$f":"IF(AND(U32=\"\",U33=\"\",U34=\"\"),\"\",IF(OR(AND(U32=\"PASS\",U33=\"PASS\",U34=\"PASS\"),(AND(U32=\"FAIL\",U33=\"PASS\",U34=\"PASS\")),(AND(U32=\"PASS\",U33=\"FAIL\",U34=\"PASS\")),(AND(U32=\"FAIL\",U33=\"FAIL\",U34=\"PASS\"))),\"PASS\",\"FAIL\"))","v":""},null,null,{"$f":"IF(AND(X32=\"\",X33=\"\",X34=\"\"),\"\",IF(OR(AND(X32=\"PASS\",X33=\"PASS\",X34=\"PASS\"),(AND(X32=\"FAIL\",X33=\"PASS\",X34=\"PASS\")),(AND(X32=\"PASS\",X33=\"FAIL\",X34=\"PASS\")),(AND(X32=\"FAIL\",X33=\"FAIL\",X34=\"PASS\"))),\"PASS\",\"FAIL\"))","v":""},null,null,{"$f":"IF(AND(AA32=\"\",AA33=\"\",AA34=\"\"),\"\",IF(OR(AND(AA32=\"PASS\",AA33=\"PASS\",AA34=\"PASS\"),(AND(AA32=\"FAIL\",AA33=\"PASS\",AA34=\"PASS\")),(AND(AA32=\"PASS\",AA33=\"FAIL\",AA34=\"PASS\")),(AND(AA32=\"FAIL\",AA33=\"FAIL\",AA34=\"PASS\"))),\"PASS\",\"FAIL\"))","v":""},null,null,null,{"$f":"IF(AND(AE32=\"\",AE33=\"\",AE34=\"\"),\"\",IF(OR(AND(AE32=\"PASS\",AE33=\"PASS\",AE34=\"PASS\"),(AND(AE32=\"FAIL\",AE33=\"PASS\",AE34=\"PASS\")),(AND(AE32=\"PASS\",AE33=\"FAIL\",AE34=\"PASS\")),(AND(AE32=\"FAIL\",AE33=\"FAIL\",AE34=\"PASS\"))),\"PASS\",\"FAIL\"))","v":""}]
[]
[null,"Pressure Labels:",null,{"$f":"IF(D35=\"FAIL\",D8&\"-Void\",D8)","v":""},null,null,{"$f":"IF(G35=\"FAIL\",G8&\"-Void\",G8)","v":""},null,null,null,{"$f":"IF(K35=\"FAIL\",K8&\"-Void\",K8)","v":""},null,null,{"$f":"IF(N35=\"FAIL\",N8&\"-Void\",N8)","v":""},null,null,{"$f":"IF(Q35=\"FAIL\",Q8&\"-Void\",Q8)","v":""},null,null,null,{"$f":"IF(U35=\"FAIL\",U8&\"-Void\",U8)","v":""},null,null,{"$f":"IF(X35=\"FAIL\",X8&\"-Void\",X8)","v":""},null,null,{"$f":"IF(AA35=\"FAIL\",AA8&\"-Void\",AA8)","v":""},null,null,null,{"$f":"IF(AE35=\"FAIL\",AE8&\"-Void\",AE8)","v":""},null,null,null,null,"Lateral Pressure",null,"Valid Specimens"]
[null,"Valid Specimens:",null,{"$f":"COUNTIF(D35:M35,\"PASS\")","v":0},null,null,null,null,null,null,null,null,null,{"$f":"COUNTIF(N35:W35,\"PASS\")","v":0},null,null,null,null,null,null,null,null,null,{"$f":"COUNTIF(X35:AG35,\"PASS\")","v":0},null,null,null,null,null,null,null,null,null,null,null,0,null,{"$f":"IF(ISERROR(HLOOKUP(AJ38,$D$40:$AG$41,2,FALSE)),\"\",HLOOKUP(AJ38,$D$40:$AG$41,2,FALSE))","v":""}]
[null,null,null,null,null,null,null,null,null,null,null,null,null,null,null,null,null,null,null,null,null,null,null,null,null,null,null,null,null,null,null,null,null,null,null,3,null,{"$f":"IF(ISERROR(HLOOKUP(AJ39,$D$40:$AG$41,2,FALSE)),\"\",HLOOKUP(AJ39,$D$40:$AG$41,2,FALSE))","v":""}]
[null,"Lateral Pressure (psi):",null,{"$f":"IF(ISERROR(AVERAGE(D37:M37)),\"\",AVERAGE(D37:M37))","v":""},null,null,null,null,null,null,null,null,null,{"$f":"IF(ISERROR(AVERAGE(N37:W37)),\"\",AVERAGE(N37:W37))","v":""},null,null,null,null,null,null,null,null,null,{"$f":"IF(ISERROR(AVERAGE(X37:AG37)),\"\",AVERAGE(X37:AG37))","v":""},null,null,null,null,null,null,null,null,null,null,null,15,null,{"$f":"IF(ISERROR(HLOOKUP(AJ40,$D$40:$AG$41,2,FALSE)),\"\",HLOOKUP(AJ40,$D$40:$AG$41,2,FALSE))","v":""}]
[null,"Valid Specimens:",null,{"$f":"D38","v":0},null,null,null,null,null,null,null,null,null,{"$f":"N38","v":0},null,null,null,null,null,null,null,null,null,{"$f":"X38","v":0}]
[null,"Specimen Strength (psi):"]
[null,"Reportable Average Strength (psi):"]

{"sheet":"1","index":3,"n_rows":23,"n_cols":4,"rows_kept":23,"cut":false,"hidden":false,"merged":[[0,4,0,9]]}
["[HEADER]",null,null,"File Name:"]
["Created by Sigma-1 UU Version 4.1.3; Copyright 2005, GEOTAC"]
["Project:","E17620019","Load Frame Name:","117-E Load Frame"]
["Date:","2017-02-18","Time:","16:24:25"]
["Boring:","SAN ANTONIO","Sample:","Sample1"]
["Diameter (inch):",null,"Height (inch):"]
["Piston Correction (lbs):"]
["Comments:","0 PSI-A"]
[]
["[SENSORS]"]
["Name","External Load Cell","Cell Pressure","Load Frame Encoder"]
["ID","ID54384","ID2","N/A"]
["Module","Load Frame ADIO","Load Frame ADIO","N/A"]
["Channel",1,4,"N/A"]
["Unit","lbs","psi","inch"]
["Cal. Factor",null,30291.836378]
["Excitation",null,10,"N/A"]
["Zero",null,1.0108363628387399E-3,"N/A"]
["Min. Reading",-10000,-25,0]
["Max. Reading",10000,25,3.5]
[]
["[SHEAR]"]
["Time          ","External Load Cell","Cell Pressure","Platen Position"]

{"sheet":"2","index":4,"n_rows":23,"n_cols":4,"rows_kept":23,"cut":false,"hidden":false,"merged":[[0,4,0,9]]}
["[HEADER]",null,null,"File Name:"]
["Created by Sigma-1 UU Version 4.1.3; Copyright 2005, GEOTAC"]
["Project:","E17620019","Load Frame Name:","117-E Load Frame"]
["Date:","2017-02-18","Time:","16:32:30"]
["Boring:","SAN ANTONIO","Sample:","Sample 2"]
["Diameter (inch):",null,"Height (inch):"]
["Piston Correction (lbs):"]
["Comments:","0 PSI-B"]
[]
["[SENSORS]"]
["Name","External Load Cell","Cell Pressure","Load Frame Encoder"]
["ID","ID54384","ID2","N/A"]
["Module","Load Frame ADIO","Load Frame ADIO","N/A"]
["Channel",1,4,"N/A"]
["Unit","lbs","psi","inch"]
["Cal. Factor",null,30291.836378]
["Excitation",null,10,"N/A"]
["Zero",null,1.0108363628387399E-3,"N/A"]
["Min. Reading",-10000,-25,0]
["Max. Reading",10000,25,3.5]
[]
["[SHEAR]"]
["Time          ","External Load Cell","Cell Pressure","Platen Position"]

{"sheet":"3","index":5,"n_rows":23,"n_cols":4,"rows_kept":23,"cut":false,"hidden":false,"merged":[[0,4,0,9]]}
["[HEADER]",null,null,"File Name:"]
["Created by Sigma-1 UU Version 4.1.3; Copyright 2005, GEOTAC"]
["Project:","E17620019","Load Frame Name:","117-E Load Frame"]
["Date:","2017-02-18","Time:","16:40:08"]
["Boring:","SAN ANTONIO","Sample:","Sample 3"]
["Diameter (inch):",null,"Height (inch):"]
["Piston Correction (lbs):"]
["Comments:","0 PSI-C"]
[]
["[SENSORS]"]
["Name","External Load Cell","Cell Pressure","Load Frame Encoder"]
["ID","ID54384","ID2","N/A"]
["Module","Load Frame ADIO","Load Frame ADIO","N/A"]
["Channel",1,4,"N/A"]
["Unit","lbs","psi","inch"]
["Cal. Factor",null,30291.836378]
["Excitation",null,10,"N/A"]
["Zero",null,1.0108363628387399E-3,"N/A"]
["Min. Reading",-10000,-25,0]
["Max. Reading",10000,25,3.5]
[]
["[SHEAR]"]
["Time          ","External Load Cell","Cell Pressure","Platen Position"]

{"sheet":"4","index":6,"n_rows":23,"n_cols":4,"rows_kept":23,"cut":false,"hidden":false,"merged":[[0,4,0,9]]}
["[HEADER]",null,null,"File Name:"]
["Created by Sigma-1 UU Version 4.1.3; Copyright 2005, GEOTAC"]
["Project:","E17620019","Load Frame Name:","117-E Load Frame"]
["Date:","2017-02-18","Time:","16:51:08"]
["Boring:","SAN ANTONIO","Sample:","Sample 4"]
["Diameter (inch):",null,"Height (inch):"]
["Piston Correction (lbs):"]
["Comments:","3 PSI-A"]
[]
["[SENSORS]"]
["Name","External Load Cell","Cell Pressure","Load Frame Encoder"]
["ID","ID54384","ID2","N/A"]
["Module","Load Frame ADIO","Load Frame ADIO","N/A"]
["Channel",1,4,"N/A"]
["Unit","lbs","psi","inch"]
["Cal. Factor",null,30291.836378]
["Excitation",null,10,"N/A"]
["Zero",null,8.3113193511962901E-4,"N/A"]
["Min. Reading",-10000,-25,0]
["Max. Reading",10000,25,3.5]
[]
["[SHEAR]"]
["Time          ","External Load Cell","Cell Pressure","Platen Position"]

{"sheet":"5","index":7,"n_rows":23,"n_cols":4,"rows_kept":23,"cut":false,"hidden":false,"merged":[[0,4,0,9]]}
["[HEADER]",null,null,"File Name:"]
["Created by Sigma-1 UU Version 4.1.3; Copyright 2005, GEOTAC"]
["Project:","E17620019","Load Frame Name:","117-E Load Frame"]
["Date:","2017-02-18","Time:","17:04:08"]
["Boring:","SAN ANTONIO","Sample:","Sample 5"]
["Diameter (inch):",null,"Height (inch):"]
["Piston Correction (lbs):"]
["Comments:","3 PSI-B"]
[]
["[SENSORS]"]
["Name","External Load Cell","Cell Pressure","Load Frame Encoder"]
["ID","ID54384","ID2","N/A"]
["Module","Load Frame ADIO","Load Frame ADIO","N/A"]
["Channel",1,4,"N/A"]
["Unit","lbs","psi","inch"]
["Cal. Factor",null,30291.836378]
["Excitation",null,10,"N/A"]
["Zero",null,8.2401394844055197E-4,"N/A"]
["Min. Reading",-10000,-25,0]
["Max. Reading",10000,25,3.5]
[]
["[SHEAR]"]
["Time          ","External Load Cell","Cell Pressure","Platen Position"]

{"sheet":"6","index":8,"n_rows":23,"n_cols":4,"rows_kept":23,"cut":false,"hidden":false,"merged":[[0,4,0,9]]}
["[HEADER]",null,null,"File Name:"]
["Created by Sigma-1 UU Version 4.1.3; Copyright 2005, GEOTAC"]
["Project:","E17620019","Load Frame Name:","117-E Load Frame"]
["Date:","2017-02-18","Time:","17:14:50"]
["Boring:","SAN ANTONIO","Sample:","Sample 6"]
["Diameter (inch):",null,"Height (inch):"]
["Piston Correction (lbs):"]
["Comments:","3 PSI-C"]
[]
["[SENSORS]"]
["Name","External Load Cell","Cell Pressure","Load Frame Encoder"]
["ID","ID54384","ID2","N/A"]
["Module","Load Frame ADIO","Load Frame ADIO","N/A"]
["Channel",1,4,"N/A"]
["Unit","lbs","psi","inch"]
["Cal. Factor",null,30291.836378]
["Excitation",null,10,"N/A"]
["Zero",null,7.9588174819946302E-4,"N/A"]
["Min. Reading",-10000,-25,0]
["Max. Reading",10000,25,3.5]
[]
["[SHEAR]"]
["Time          ","External Load Cell","Cell Pressure","Platen Position"]

{"sheet":"7","index":9,"n_rows":23,"n_cols":4,"rows_kept":23,"cut":false,"hidden":false,"merged":[[0,4,0,9]]}
["[HEADER]",null,null,"File Name:"]
["Created by Sigma-1 UU Version 4.1.3; Copyright 2005, GEOTAC"]
["Project:","E17620019","Load Frame Name:","117-E Load Frame"]
["Date:","2017-02-18","Time:","17:28:44"]
["Boring:","SAN ANTONIO","Sample:","Sample 7"]
["Diameter (inch):",null,"Height (inch):"]
["Piston Correction (lbs):"]
["Comments:","15 PSI-A"]
[]
["[SENSORS]"]
["Name","External Load Cell","Cell Pressure","Load Frame Encoder"]
["ID","ID54384","ID2","N/A"]
["Module","Load Frame ADIO","Load Frame ADIO","N/A"]
["Channel",1,4,"N/A"]
["Unit","lbs","psi","inch"]
["Cal. Factor",null,30291.836378]
["Excitation",null,10,"N/A"]
["Zero",null,7.9973459243774401E-4,"N/A"]
["Min. Reading",-10000,-25,0]
["Max. Reading",10000,25,3.5]
[]
["[SHEAR]"]
["Time          ","External Load Cell","Cell Pressure","Platen Position"]

{"sheet":"8","index":10,"n_rows":23,"n_cols":4,"rows_kept":23,"cut":false,"hidden":false,"merged":[[0,4,0,9]]}
["[HEADER]",null,null,"File Name:"]
["Created by Sigma-1 UU Version 4.1.3; Copyright 2005, GEOTAC"]
["Project:","E17620019","Load Frame Name:","117-E Load Frame"]
["Date:","2017-02-18","Time:","17:55:06"]
["Boring:","SAN ANTONIO","Sample:","Sample 9"]
["Diameter (inch):",null,"Height (inch):"]
["Piston Correction (lbs):"]
["Comments:","15 PSI-C"]
[]
["[SENSORS]"]
["Name","External Load Cell","Cell Pressure","Load Frame Encoder"]
["ID","ID54384","ID2","N/A"]
["Module","Load Frame ADIO","Load Frame ADIO","N/A"]
["Channel",1,4,"N/A"]
["Unit","lbs","psi","inch"]
["Cal. Factor",null,30291.836378]
["Excitation",null,10,"N/A"]
["Zero",null,7.8936815261840796E-4,"N/A"]
["Min. Reading",-10000,-25,0]
["Max. Reading",10000,25,3.5]
[]
["[SHEAR]"]
["Time          ","External Load Cell","Cell Pressure","Platen Position"]

{"sheet":"9","index":11,"n_rows":23,"n_cols":4,"rows_kept":23,"cut":false,"hidden":false,"merged":[[0,4,0,9]]}
["[HEADER]",null,null,"File Name:"]
["Created by Sigma-1 UU Version 4.1.3; Copyright 2005, GEOTAC"]
["Project:","E17620019","Load Frame Name:","117-E Load Frame"]
["Date:","2017-02-18","Time:","17:43:22"]
["Boring:","SAN ANTONIO","Sample:","Sample 8"]
["Diameter (inch):",null,"Height (inch):"]
["Piston Correction (lbs):"]
["Comments:","15 PSI-B"]
[]
["[SENSORS]"]
["Name","External Load Cell","Cell Pressure","Load Frame Encoder"]
["ID","ID54384","ID2","N/A"]
["Module","Load Frame ADIO","Load Frame ADIO","N/A"]
["Channel",1,4,"N/A"]
["Unit","lbs","psi","inch"]
["Cal. Factor",null,30291.836378]
["Excitation",null,10,"N/A"]
["Zero",null,7.8936815261840796E-4,"N/A"]
["Min. Reading",-10000,-25,0]
["Max. Reading",10000,25,3.5]
[]
["[SHEAR]"]
["Time          ","External Load Cell","Cell Pressure","Platen Position"]

{"sheet":"SCA-Data","index":12,"n_rows":51,"n_cols":39,"rows_kept":51,"cut":false,"hidden":false,"merged":[[7,27,7,30],[7,31,7,34],[7,35,7,38],[7,3,7,6],[7,7,7,10],[7,11,7,14],[7,15,7,18],[7,19,7,22],[7,23,7,26],[46,3,46,4],[50,3,50,4],[28,3,28,4],[43,3,43,4],[44,3,44,4],[47,3,47,4],[48,3,48,4],[49,3,49,4],[16,3,16,6],[36,3,36,4],[37,3,37,4],[38,3,38,4],[41,3,41,4],[42,3,42,4],[29,3,29,4],[30,3,30,4],[31,3,31,4],[32,3,32,4],[35,3,35,4],[34,3,34,4],[40,3,40,4],[10,1,10,2],[11,1,11,2],[12,1,12,2],[13,1,13,2],[14,1,14,2],[15,1,15,2],[8,1,8,2],[9,1,9,2],[17,3,17,6],[8,3,8,6],[9,3,9,6],[10,3,10,6],[11,3,11,6],[12,3,12,6],[13,3,13,6],[17,1,23,1],[16,1,16,2],[14,3,14,6],[15,3,15,6],[17,7,17,10],[8,11,8,14],[9,11,9,14],[10,11,10,14],[11,11,11,14],[12,11,12,14],[13,11,13,14],[14,11,14,14],[15,11,15,14],[16,11,16,14],[17,11,17,14],[8,7,8,10],[9,7,9,10],[10,7,10,10],[11,7,11,10],[12,7,12,10],[13,7,13,10],[14,7,14,10],[15,7,15,10],[16,7,16,10],[17,15,17,18],[8,19,8,22],[9,19,9,22],[10,19,10,22],[11,19,11,22],[12,19,12,22],[13,19,13,22],[14,19,14,22],[15,19,15,22],[16,19,16,22],[17,19,17,22],[8,15,8,18],[9,15,9,18],[10,15,10,18],[11,15,11,18],[12,15,12,18],[13,15,13,18],[14,15,14,18],[15,15,15,18],[16,15,16,18],[17,23,17,26],[8,27,8,30],[9,27,9,30],[10,27,10,30],[11,27,11,30],[12,27,12,30],[13,27,13,30],[14,27,14,30],[15,27,15,30],[16,27,16,30],[17,27,17,30],[8,23,8,26],[9,23,9,26],[10,23,10,26],[11,23,11,26],[12,23,12,26],[13,23,13,26],[14,23,14,26],[15,23,15,26],[16,23,16,26],[17,31,17,34],[8,35,8,38],[9,35,9,38],[10,35,10,38],[11,35,11,38],[12,35,12,38],[13,35,13,38],[14,35,14,38],[15,35,15,38],[16,35,16,38],[17,35,17,38],[8,31,8,34],[9,31,9,34],[10,31,10,34],[11,31,11,34],[12,31,12,34],[13,31,13,34],[14,31,14,34],[15,31,15,34],[16,31,16,34]]}
[]
[]
[]
[null,"Drop Ht (in)"]
[]
[]
[]
[null,null,null,1,null,null,null,2,null,null,null,3,null,null,null,4,null,null,null,5,null,null,null,6,null,null,null,7,null,null,null,8,null,null,null,9]
[null,"Specimen",null,{"$f":"Worksheet!D57","v":""},null,null,null,{"$f":"Worksheet!E57","v":""},null,null,null,{"$f":"Worksheet!F57","v":""},null,null,null,{"$f":"Worksheet!G57","v":""},null,null,null,{"$f":"Worksheet!H57","v":""},null,null,null,{"$f":"Worksheet!I57","v":""},null,null,null,{"$f":"Worksheet!J57","v":""},null,null,null,{"$f":"Worksheet!K57","v":""},null,null,null,{"$f":"Worksheet!L57","v":""}]
[null,"Cell Number",null,{"$f":"Field313","v":0},null,null,null,{"$f":"Field314","v":0},null,null,null,{"$f":"Field315","v":0},null,null,null,{"$f":"Field316","v":0},null,null,null,{"$f":"Field317","v":0},null,null,null,{"$f":"Field318","v":0},null,null,null,{"$f":"Field319","v":0},null,null,null,{"$f":"Field320","v":0},null,null,null,{"$f":"Field321","v":0}]
[null,"Time Stamp"]
[null,"Sample ID"]
[null,"Specimen Name"]
[null,"Operator"]
[null,"Hammer Mass"]
[null,"Scalar"]
[]
[null,"Lift Summary","???"]
[null,null,"Lift #",1,2,3,4,1,2,3,4,1,2,3,4,1,2,3,4,1,2,3,4,1,2,3,4,1,2,3,4,1,2,3,4,1,2,3,4]
[null,null,"Drops"]
[null,null,"Total Energy (ft-lb)"]
[null,null,"Ave Energy / Drop (ft-lb)"]
[null,null,"Ave Lift Ht (in)"]
[null,null,"Ave Drop Ht (in)"]
[]
[]
[]
[]
[null,null,null,"Specimen",null,1,2,3,4,5,6,7,8,9]
[null,null,null,"Total Energy (lb-ft) Lift 1:",null,{"$f":"D21","v":0},{"$f":"H21","v":0},{"$f":"L21","v":0},{"$f":"P21","v":0},{"$f":"T21","v":0},{"$f":"X21","v":0},{"$f":"AB21","v":0},{"$f":"AF21","v":0},{"$f":"AJ21","v":0}]
[null,null,null,"Total Energy (lb-ft) Lift 2:",null,{"$f":"E21","v":0},{"$f":"I21","v":0},{"$f":"M21","v":0},{"$f":"Q21","v":0},{"$f":"U21","v":0},{"$f":"Y21","v":0},{"$f":"AC21","v":0},{"$f":"AG21","v":0},{"$f":"AK21","v":0}]
[null,null,null,"Total Energy (lb-ft) Lift 3:",null,{"$f":"F21","v":0},{"$f":"J21","v":0},{"$f":"N21","v":0},{"$f":"R21","v":0},{"$f":"V21","v":0},{"$f":"Z21","v":0},{"$f":"AD21","v":0},{"$f":"AH21","v":0},{"$f":"AL21","v":0}]
[null,null,null,"Total Energy (lb-ft) Lift 4:",null,{"$f":"G21","v":0},{"$f":"K21","v":0},{"$f":"O21","v":0},{"$f":"S21","v":0},{"$f":"W21","v":0},{"$f":"AA21","v":0},{"$f":"AE21","v":0},{"$f":"AI21","v":0},{"$f":"AM21","v":0}]
[]
[null,null,null,"Specimen",null,1,2,3,4,5,6,7,8,9]
[null,null,null,"Energy/Lift (lb-ft) Lift 1:",null,{"$f":"D22","v":0},{"$f":"H22","v":0},{"$f":"L22","v":0},{"$f":"P22","v":0},{"$f":"T22","v":0},{"$f":"X22","v":0},{"$f":"AB22","v":0},{"$f":"AF22","v":0},{"$f":"AJ22","v":0}]
[null,null,null,"Energy/Lift (lb-ft) Lift 2:",null,{"$f":"E22","v":0},{"$f":"I22","v":0},{"$f":"M22","v":0},{"$f":"Q22","v":0},{"$f":"U22","v":0},{"$f":"Y22","v":0},{"$f":"AC22","v":0},{"$f":"AG22","v":0},{"$f":"AK22","v":0}]
[null,null,null,"Energy/Lift (lb-ft) Lift 3:",null,{"$f":"F22","v":0},{"$f":"J22","v":0},{"$f":"N22","v":0},{"$f":"R22","v":0},{"$f":"V22","v":0},{"$f":"Z22","v":0},{"$f":"AD22","v":0},{"$f":"AH22","v":0},{"$f":"AL22","v":0}]
[null,null,null,"Energy/Lift (lb-ft) Lift 4:",null,{"$f":"G22","v":0},{"$f":"K22","v":0},{"$f":"O22","v":0},{"$f":"S22","v":0},{"$f":"W22","v":0},{"$f":"AA22","v":0},{"$f":"AE22","v":0},{"$f":"AI22","v":0},{"$f":"AM22","v":0}]
[]
[null,null,null,"Specimen",null,1,2,3,4,5,6,7,8,9]
[null,null,null,"Avg. Drop Ht. (lb-ft) Lift 1:",null,{"$f":"D24","v":0},{"$f":"H24","v":0},{"$f":"L24","v":0},{"$f":"P24","v":0},{"$f":"T24","v":0},{"$f":"X24","v":0},{"$f":"AB24","v":0},{"$f":"AF24","v":0},{"$f":"AJ24","v":0}]
[null,null,null,"Avg. Drop Ht. (lb-ft) Lift 2:",null,{"$f":"E24","v":0},{"$f":"I24","v":0},{"$f":"M24","v":0},{"$f":"Q24","v":0},{"$f":"U24","v":0},{"$f":"Y24","v":0},{"$f":"AC24","v":0},{"$f":"AG24","v":0},{"$f":"AK24","v":0}]
[null,null,null,"Avg. Drop Ht. (lb-ft) Lift 3:",null,{"$f":"F24","v":0},{"$f":"J24","v":0},{"$f":"N24","v":0},{"$f":"R24","v":0},{"$f":"V24","v":0},{"$f":"Z24","v":0},{"$f":"AD24","v":0},{"$f":"AH24","v":0},{"$f":"AL24","v":0}]
[null,null,null,"Avg. Drop Ht. (lb-ft) Lift 4:",null,{"$f":"G24","v":0},{"$f":"K24","v":0},{"$f":"O24","v":0},{"$f":"S24","v":0},{"$f":"W24","v":0},{"$f":"AA24","v":0},{"$f":"AE24","v":0},{"$f":"AI24","v":0},{"$f":"AM24","v":0}]
[]
[null,null,null,"Specimen",null,1,2,3,4,5,6,7,8,9]
[null,null,null,"No. of Blows (lb-ft) Lift 1:",null,{"$f":"'SCA-Data'!D20","v":0},{"$f":"'SCA-Data'!H20","v":0},{"$f":"'SCA-Data'!L20","v":0},{"$f":"'SCA-Data'!P20","v":0},{"$f":"'SCA-Data'!T20","v":0},{"$f":"'SCA-Data'!X20","v":0},{"$f":"'SCA-Data'!AB20","v":0},{"$f":"'SCA-Data'!AF20","v":0},{"$f":"'SCA-Data'!AJ20","v":0}]
[null,null,null,"No. of Blows (lb-ft) Lift 2:",null,{"$f":"E20","v":0},{"$f":"I20","v":0},{"$f":"M20","v":0},{"$f":"Q20","v":0},{"$f":"U20","v":0},{"$f":"Y20","v":0},{"$f":"AC20","v":0},{"$f":"AG20","v":0},{"$f":"AK20","v":0}]
[null,null,null,"No. of Blows (lb-ft) Lift 3:",null,{"$f":"F20","v":0},{"$f":"J20","v":0},{"$f":"N20","v":0},{"$f":"R20","v":0},{"$f":"V20","v":0},{"$f":"Z20","v":0},{"$f":"AD20","v":0},{"$f":"AH20","v":0},{"$f":"AL20","v":0}]
[null,null,null,"No. of Blows (lb-ft) Lift 4:",null,{"$f":"G20","v":0},{"$f":"K20","v":0},{"$f":"O20","v":0},{"$f":"S20","v":0},{"$f":"W20","v":0},{"$f":"AA20","v":0},{"$f":"AE20","v":0},{"$f":"AI20","v":0},{"$f":"AM20","v":0}]

{"sheet":"Summary","index":13,"n_rows":42,"n_cols":14,"rows_kept":42,"cut":false,"hidden":false,"merged":[[39,10,39,11],[40,10,40,11],[38,8,38,9],[33,6,33,7],[34,6,34,7],[36,8,36,9],[37,8,37,9],[41,10,41,11],[32,6,32,11],[40,8,40,9],[41,8,41,9],[33,10,33,11],[34,10,34,11],[35,10,35,11],[36,10,36,11],[37,10,37,11],[38,10,38,11],[39,8,39,9],[35,6,35,7],[36,6,36,7],[33,8,33,9],[34,8,34,9],[35,8,35,9],[41,6,41,7],[32,1,32,3],[33,1,33,3],[34,1,34,3],[37,6,37,7],[39,6,39,7],[40,6,40,7],[38,6,38,7]]}
[null,null,null,null,null,null,null,null,null,null,null,null,null,{"$f":"AutoMan","v":0}]
[]
[]
[]
[]
[]
[]
[]
[]
[]
[]
[]
[]
[]
[]
[]
[]
[]
[]
[]
[]
[]
[]
[]
[]
[]
[]
[]
[]
[]
[]
[]
[null,"Classification",null,null,{"$f":"Worksheet!D82","v":""},null,"Failure Stresses"]
[null,"Internal Angle of Friction",null,null,{"$f":"Worksheet!D83","v":""},null,"Lateral Stress (psi)",null,"Normal Stress (psi)",null,"Shear Stress (psi)"]
[null,"Cohesion (psi)",null,null,{"$f":"Worksheet!D84","v":""},null,{"$f":"IF(OR('Mohr Analysis'!B5=\"\",'Mohr Analysis'!B5=0),\"\",'Mohr Analysis'!B5)","v":""},null,{"$f":"IF(OR('Mohr Analysis'!G5=\"\",'Mohr Analysis'!G5=0),\"\",'Mohr Analysis'!G5)","v":""},null,{"$f":"(IF(OR('Mohr Analysis'!H5=\"\",'Mohr Analysis'!H5=0),\"\",'Mohr Analysis'!H5))","v":""}]
[null,null,null,null,null,null,{"$f":"IF(OR('Mohr Analysis'!B6=\"\",'Mohr Analysis'!B6=0),\"\",'Mohr Analysis'!B6)","v":""},null,{"$f":"IF(OR('Mohr Analysis'!G6=\"\",'Mohr Analysis'!G6=0),\"\",'Mohr Analysis'!G6)","v":""},null,{"$f":"(IF(OR('Mohr Analysis'!H6=\"\",'Mohr Analysis'!H6=0),\"\",'Mohr Analysis'!H6))","v":""}]
[null,null,null,null,null,null,{"$f":"IF(OR('Mohr Analysis'!B7=\"\",'Mohr Analysis'!B7=0),\"\",'Mohr Analysis'!B7)","v":""},null,{"$f":"IF(OR('Mohr Analysis'!G7=\"\",'Mohr Analysis'!G7=0),\"\",'Mohr Analysis'!G7)","v":""},null,{"$f":"(IF(OR('Mohr Analysis'!H7=\"\",'Mohr Analysis'!H7=0),\"\",'Mohr Analysis'!H7))","v":""}]
[null,null,null,null,null,null,{"$f":"IF(OR('Mohr Analysis'!B8=\"\",'Mohr Analysis'!B8=0),\"\",'Mohr Analysis'!B8)","v":""},null,{"$f":"IF(OR('Mohr Analysis'!G8=\"\",'Mohr Analysis'!G8=0),\"\",'Mohr Analysis'!G8)","v":""},null,{"$f":"(IF(OR('Mohr Analysis'!H8=\"\",'Mohr Analysis'!H8=0),\"\",'Mohr Analysis'!H8))","v":""}]
[null,null,null,null,null,null,{"$f":"IF(OR('Mohr Analysis'!B9=\"\",'Mohr Analysis'!B9=0),\"\",'Mohr Analysis'!B9)","v":""},null,{"$f":"IF(OR('Mohr Analysis'!G9=\"\",'Mohr Analysis'!G9=0),\"\",'Mohr Analysis'!G9)","v":""},null,{"$f":"(IF(OR('Mohr Analysis'!H9=\"\",'Mohr Analysis'!H9=0),\"\",'Mohr Analysis'!H9))","v":""}]
[null,null,null,null,null,null,{"$f":"IF(OR('Mohr Analysis'!B10=\"\",'Mohr Analysis'!B10=0),\"\",'Mohr Analysis'!B10)","v":""},null,{"$f":"IF(OR('Mohr Analysis'!G10=\"\",'Mohr Analysis'!G10=0),\"\",'Mohr Analysis'!G10)","v":""},null,{"$f":"(IF(OR('Mohr Analysis'!H10=\"\",'Mohr Analysis'!H10=0),\"\",'Mohr Analysis'!H10))","v":""}]
[null,null,null,null,null,null,{"$f":"IF(OR('Mohr Analysis'!B11=\"\",'Mohr Analysis'!B11=0),\"\",'Mohr Analysis'!B11)","v":""},null,{"$f":"IF(OR('Mohr Analysis'!G11=\"\",'Mohr Analysis'!G11=0),\"\",'Mohr Analysis'!G11)","v":""},null,{"$f":"(IF(OR('Mohr Analysis'!H11=\"\",'Mohr Analysis'!H11=0),\"\",'Mohr Analysis'!H11))","v":""}]
[null,null,null,null,null,null,{"$f":"IF(OR('Mohr Analysis'!B12=\"\",'Mohr Analysis'!B12=0),\"\",'Mohr Analysis'!B12)","v":""},null,{"$f":"IF(OR('Mohr Analysis'!G12=\"\",'Mohr Analysis'!G12=0),\"\",'Mohr Analysis'!G12)","v":""},null,{"$f":"(IF(OR('Mohr Analysis'!H12=\"\",'Mohr Analysis'!H12=0),\"\",'Mohr Analysis'!H12))","v":""}]

{"sheet":"Classification","index":14,"n_rows":163,"n_cols":9,"rows_kept":163,"cut":false,"hidden":false,"merged":[]}
[null,"        Classification Analysis"]
[]
["Regression for Triaxial Classification Curve"]
[]
[null,"Y","X","X^2",null,6,7,8]
[1,{"$f":"'Mohr Analysis'!H5","v":0},{"$f":"'Mohr Analysis'!G5","v":0},{"$f":"C6^2","v":0},"A0",{"$f":"IF(AND(B11>0,B12=0),INDEX(LINEST(B6:B11,C6:D11),3),0)","v":0},{"$f":"IF(AND(B12>0,B13=0),INDEX(LINEST(B6:B12,C6:D12),3),0)","v":0},{"$f":"IF(B13>0,INDEX(LINEST(B6:B13,C6:D13),3),0)","v":0},{"$f":"IF(SUM(F6:H6)=0,\"\",SUM(F6:H6))","v":""}]
[2,{"$f":"'Mohr Analysis'!H6","v":0},{"$f":"'Mohr Analysis'!G6","v":0},{"$f":"C7^2","v":0}]
[3,{"$f":"'Mohr Analysis'!H7","v":0},{"$f":"'Mohr Analysis'!G7","v":0},0,"A1",{"$f":"IF(AND(B11>0,B12=0),INDEX(LINEST(B6:B11,C6:D11),2),0)","v":0},{"$f":"IF(AND(B12>0,B13=0),INDEX(LINEST(B6:B12,C6:D12),2),0)","v":0},{"$f":"IF(B13>0,INDEX(LINEST(B6:B13,C6:D13),2),0)","v":0},{"$f":"IF(SUM(F8:H8)=0,\"\",SUM(F8:H8))","v":""}]
[4,{"$f":"'Mohr Analysis'!H8","v":0},{"$f":"'Mohr Analysis'!G8","v":0},0]
[5,{"$f":"'Mohr Analysis'!H9","v":0},{"$f":"'Mohr Analysis'!G9","v":0},0,"A2",{"$f":"IF(AND(B11>0,B12=0),INDEX(LINEST(B6:B11,C6:D11),1),0)","v":0},{"$f":"IF(AND(B12>0,B13=0),INDEX(LINEST(B6:B12,C6:D12),1),0)","v":0},{"$f":"IF(B13>0,INDEX(LINEST(B6:B13,C6:D13),1),0)","v":0},{"$f":"IF(SUM(F10:H10)=0,\"\",SUM(F10:H10))","v":""}]
[6,{"$f":"'Mohr Analysis'!H10","v":0},{"$f":"'Mohr Analysis'!G10","v":0},0]
[7,{"$f":"'Mohr Analysis'!H11","v":0},{"$f":"'Mohr Analysis'!G11","v":0},0]
[8,{"$f":"'Mohr Analysis'!H12","v":0},{"$f":"'Mohr Analysis'!G12","v":0},0]
[]
["Lat. Pressure",0,3,5,10,15,20,25]
["<2",{"$f":"IF(ISERROR(IF(AND($B$27>$C$27,$B$37>$C$37,$B$62>$C$62,$B$87>$C$87),1,0)),\"\",IF(AND($B$27>$C$27,$B$37>$C$37,$B$62>$C$62,$B$87>$C$87),1,0))","v":""},{"$f":"IF($B$22=1,1,0)","v":0},0,0,0,0,0]
["2-3",{"$f":"IF(ISERROR(IF(OR(AND($C$27>=$B$27,$B$27>=$D$27),AND($C$62>=$B$62,$B$62>=$D$62),AND($C$87>=$B$87,$B$87>=$D$87)),2,0)),\"\",IF(OR(AND($C$27>=$B$27,$B$27>=$D$27),AND($C$62>=$B$62,$B$62>=$D$62),AND($C$87>=$B$87,$B$87>=$D$87)),2,0))","v":""},{"$f":"IF($B$22=2,((($B27-$C27)/($D27-$C27))*(($B$17+1)-$B$17)+$B$17),0)","v":0},{"$f":"IF($B$22=2,((($B37-$C37)/($D37-$C37))*(($B$17+1)-$B$17)+$B$17),0)","v":0},{"$f":"IF($B$22=2,((($B62-$C62)/($D62-$C62))*(($B$17+1)-$B$17)+$B$17),0)","v":0},{"$f":"IF($B$22=2,((($B87-$C87)/($D87-$C87))*(($B$17+1)-$B$17)+$B$17),0)","v":0},{"$f":"IF($B$22=2,((($B112-$C112)/($D112-$C112))*(($B$17+1)-$B$17)+$B$17),0)","v":0},{"$f":"IF($B$22=2,((($B137-$C137)/($D137-$C137))*(($B$17+1)-$B$17)+$B$17),0)","v":0}]
["3-4",{"$f":"IF(ISERROR(IF(OR(AND($D$62>=$B$62,$B$62>$E$62),AND($D$27>=$B$27,$B$27>=$E$27),AND($D$87>=$B$87,$B$87>=$E$87)),3,0)),\"\",IF(OR(AND($D$62>=$B$62,$B$62>$E$62),AND($D$27>=$B$27,$B$27>=$E$27),AND($D$87>=$B$87,$B$87>=$E$87)),3,0))","v":""},{"$f":"IF($B$22=3,((($B27-$D27)/($E27-$D27))*(($B$18+1)-$B$18)+$B$18),0)","v":0},{"$f":"IF($B$22=3,((($B37-$D37)/($E37-$D37))*(($B$18+1)-$B$18)+$B$18),0)","v":0},{"$f":"IF($B$22=3,((($B62-$D62)/($E62-$D62))*(($B$18+1)-$B$18)+$B$18),0)","v":0},{"$f":"IF($B$22=3,((($B87-$D87)/($E87-$D87))*(($B$18+1)-$B$18)+$B$18),0)","v":0},{"$f":"IF($B$22=3,((($B112-$D112)/($E112-$D112))*(($B$18+1)-$B$18)+$B$18),0)","v":0},{"$f":"IF($B$22=3,((($B137-$D137)/($E137-$D137))*(($B$18+1)-$B$18)+$B$18),0)","v":0}]
["4-5",{"$f":"IF(ISERROR(IF(OR(AND($E$62>=$B$62,$B$62>$F$62),AND($E$87>=$B$87,$B$87>=$F$87),AND($E$27>=$B$27,$B$27>=$F$27)),4,0)),\"\",IF(OR(AND($E$62>=$B$62,$B$62>$F$62),AND($E$87>=$B$87,$B$87>=$F$87),AND($E$27>=$B$27,$B$27>=$F$27)),4,0))","v":""},{"$f":"IF($B$22=4,((($B27-$E27)/($F27-$E27))*(($B19+1)-$B19)+$B19),0)","v":0},{"$f":"IF($B$22=4,((($B37-$E37)/($F37-$E37))*(($B19+1)-$B19)+$B19),0)","v":0},{"$f":"IF($B$22=4,((($B62-$E62)/($F62-$E62))*(($B19+1)-$B19)+$B19),0)","v":0},{"$f":"IF($B$22=4,((($B87-$E87)/($F87-$E87))*(($B19+1)-$B19)+$B19),0)","v":0},{"$f":"IF($B$22=4,((($B112-$E112)/($F112-$E112))*(($B19+1)-$B19)+$B19),0)","v":0},{"$f":"IF($B$22=4,((($B137-$E137)/($F137-$E137))*(($B19+1)-$B19)+$B19),0)","v":0}]
["5-6",{"$f":"IF(ISERROR(IF(OR(AND($F$62>=$B$62,$B$62>$G$62),AND($F$37>=$B$37,$B$37>=$G$37),AND($F$87>=$B$87,$B$87>$G$87)),5,0)),\"\",IF(OR(AND($F$62>=$B$62,$B$62>$G$62),AND($F$37>=$B$37,$B$37>=$G$37),AND($F$87>=$B$87,$B$87>$G$87)),5,0))","v":""},{"$f":"IF($B$22=5,((($B27-$F27)/($G27-$F27))*(($B20+1)-$B20)+$B20),0)","v":0},{"$f":"IF($B22=5,((($B37-$F37)/($G37-$F37))*(($B20+1)-$B20)+$B20),0)","v":0},{"$f":"IF($B22=5,((($B62-$F62)/($G62-$F62))*(($B20+1)-$B20)+$B20),0)","v":0},{"$f":"IF($B$22=5,((($B87-$F87)/($G87-$F87))*(($B20+1)-$B20)+$B20),0)","v":0},{"$f":"IF($B$22=5,((($B112-$F112)/($G112-$F112))*(($B20+1)-$B20)+$B20),0)","v":0},{"$f":"IF($B$22=5,((($B137-$F137)/($G137-$F137))*(($B20+1)-$B20)+$B20),0)","v":0}]
[">6",{"$f":"IF(ISERROR(IF(AND($G$87>=$B$87,$G$112>=$B$112,$G$62>=$B$62),6,0)),\"\",IF(AND($G$87>=$B$87,$G$112>=$B$112,$G$62>=$B$62),6,0))","v":""},{"$f":"IF($B$22=6,6,0)","v":0},0,0,0,0,0]
[null,{"$f":"MAX(B16:B21)","v":0},{"$f":"MAX(C16:C21)","v":0},{"$f":"SUM(D16:D21)","v":0},{"$f":"SUM(E16:E21)","v":0},{"$f":"SUM(F16:F21)","v":0},{"$f":"SUM(G16:G21)","v":0},{"$f":"SUM(H16:H21)","v":0}]
[]
["Classification",{"$f":"IF(MAX(C22:H22)=0,\"\",IF(MAX(C22:H22)<2,1,MAX(C22:H22)))","v":""}]
[]
["Normal Stress","Sample","Class 1","Class 2","Class 3","Class 4","Class 5"]
[3,{"$f":"$I$6+A27*$I$8+A27^2*$I$10","v":{"$error":"#VALUE!"}},{"$f":"0.001022*A27^3-0.06666*A27^2+2.497027*A27+4.076607","v":10.995342000000001},{"$f":"0.001247*A27^3-0.07441*A27^2+2.164692*A27+2.330839","v":8.1888940000000012},{"$f":"-0.000024*A27^3-0.01974*A27^2+1.317306*A27+0.119072","v":3.8926820000000002},{"$f":"0.001212*A27^3-0.06968*A27^2+1.485888*A27-2.817","v":1.046268}]
[{"$f":"A27+0.2","v":3.2},{"$f":"$I$6+A28*$I$8+A28^2*$I$10","v":{"$error":"#VALUE!"}},11.417983896000001,{"$f":"0.001247*A28^3-0.07441*A28^2+2.164692*A28+2.330839","v":8.5367566960000012},{"$f":"-0.000024*A28^3-0.01974*A28^2+1.317306*A28+0.119072","v":4.1315271679999999},{"$f":"0.001212*A28^3-0.06968*A28^2+1.485888*A28-2.817","v":1.2640332160000005}]
[{"$f":"A28+0.2","v":3.4000000000000004},{"$error":"#VALUE!"},11.836077888000002,8.8796242880000023,4.3687747040000007,1.4771548480000005]
[3.6000000000000005,{"$error":"#VALUE!"},12.249673032,9.2175566320000009,4.604423456000001,1.6856910720000009]
[3.8000000000000007,{"$error":"#VALUE!"},12.658818384,9.5506135840000024,4.8384722720000015,1.8897000640000012]
[4.0000000000000009,{"$error":"#VALUE!"},13.063563000000002,9.8788550000000015,5.070920000000001,2.0892400000000002]
[4.2000000000000011,{"$error":"#VALUE!"},13.463955936000001,10.202340736000004,5.3017654880000018,2.284369056000001]
[4.4000000000000012,{"$error":"#VALUE!"},13.860046248000003,10.521130648000003,5.5310075840000019,2.4751454080000013]
[4.6000000000000014,{"$error":"#VALUE!"},{"$f":"0.001022*A35^3-0.06666*A35^2+2.497027*A35+4.076607","v":14.251882992000002},10.835284592000004,5.7586451360000019,2.6616272320000007]
[4.8000000000000016,{"$error":"#VALUE!"},14.639515224000004,11.144862424000003,5.9846769920000025,2.8438727040000016]
[5.0000000000000018,{"$error":"#VALUE!"},15.022992000000002,11.449924000000003,6.2091020000000023,3.0219400000000016]
[5.200000000000002,{"$error":"#VALUE!"},15.402362376000003,11.750529176000001,6.431919008000003,3.1958872960000022]
[5.4000000000000021,{"$error":"#VALUE!"},15.777675408000004,12.046737808000003,6.6531268640000034,3.3657727680000029]
[5.6000000000000023,{"$error":"#VALUE!"},16.148980152000004,12.338609752000004,6.8727244160000032,3.5316545920000015]
[5.8000000000000025,{"$error":"#VALUE!"},16.516325664000007,12.626204864000005,7.0907105120000029,3.6935909440000021]
[6.0000000000000027,{"$error":"#VALUE!"},16.879761000000006,12.909583000000005,7.3070840000000032,3.8516400000000015]
[6.2000000000000028,{"$error":"#VALUE!"},17.239335216000008,13.188804016000002,7.521843728000003,4.0058599360000029,{"$f":"0.000933*A43^3-0.05443*A43^2+1.1017456*A43-2.71421","v":2.2466835440000028}]
[6.400000000000003,{"$error":"#VALUE!"},17.595097368000008,13.463927768000005,7.7349885440000028,4.1563089280000023,{"$f":"0.000933*A44^3-0.05443*A44^2+1.1017456*A44-2.71421","v":2.3520893920000021}]
[6.6000000000000032,{"$error":"#VALUE!"},17.947096512000005,13.735014112000005,7.946517296000005,4.3030451520000028,2.4545739280000025]
[6.8000000000000034,{"$error":"#VALUE!"},18.295381704000004,14.002122904000004,8.1564288320000031,4.4461267840000023,2.5541819360000022]
[7.0000000000000036,{"$error":"#VALUE!"},18.640002000000006,14.265314000000007,8.364722000000004,4.585612000000002,2.650958200000002]
[7.2000000000000037,{"$error":"#VALUE!"},18.981006456000006,14.524647256000005,8.5713956480000029,4.7215589760000025,2.744947504000002]
[7.4000000000000039,{"$error":"#VALUE!"},19.318444128000007,14.780182528000005,8.7764486240000039,4.8540258880000025,2.8361946320000029]
[7.6000000000000041,{"$error":"#VALUE!"},19.652364072000008,15.031979672000006,8.9798797760000042,4.9830709120000032,2.924744368000002]
[7.8000000000000043,{"$error":"#VALUE!"},19.982815344000009,15.280098544000005,9.1816879520000043,5.1087522240000025,3.010641496000003]
[8.0000000000000036,{"$error":"#VALUE!"},20.309847000000005,15.524599000000006,9.3818720000000049,5.2311280000000018,3.0939308000000021]
[8.2000000000000028,{"$error":"#VALUE!"},20.633508096000003,15.765540896000001,9.5804307680000029,5.3502564160000023,3.174657064000002]
[8.4000000000000021,{"$error":"#VALUE!"},20.953847688000003,16.002984088000005,9.7773631040000026,5.4661956480000011,3.2528650720000027]
[8.6000000000000014,{"$error":"#VALUE!"},21.270914832000006,16.236988432000004,9.9726678560000011,5.5790038720000013,3.3285996080000015]
[8.8000000000000007,{"$error":"#VALUE!"},21.584758584000003,16.467613784000001,10.166343872000001,5.6887392640000005,3.401905456000001]
[9,{"$error":"#VALUE!"},21.895427999999999,16.69492,10.35839,5.7954599999999985,3.4728274000000012]
[9.1999999999999993,{"$error":"#VALUE!"},22.202972136,16.918966936,10.548805087999998,5.8992242560000001,3.5414102240000012]
[9.3999999999999986,{"$error":"#VALUE!"},22.507440047999999,17.139814447999999,10.737587983999999,6.0000902079999996,3.6076987120000008]
[9.5999999999999979,{"$error":"#VALUE!"},22.808880791999997,17.357522392,10.924737535999999,6.0981160320000001,3.6717376480000001]
[9.7999999999999972,{"$error":"#VALUE!"},23.107343423999996,17.572150623999995,11.110252591999998,6.1933599039999976,3.733571816]
[9.9999999999999964,{"$error":"#VALUE!"},23.402876999999993,17.783759,11.294131999999996,6.2858799999999988,3.7932460000000003]
[10.199999999999996,{"$error":"#VALUE!"},23.695530575999992,17.992407375999996,11.476374607999997,6.3757344959999998,3.8508049839999994]
[10.399999999999995,{"$error":"#VALUE!"},23.985353207999996,18.198155607999997,11.656979263999995,6.4629815679999965,3.9062935519999997]
[10.599999999999994,{"$error":"#VALUE!"},24.272393951999991,18.401063551999993,11.835944815999994,6.5476793919999974,3.9597564880000005]
[10.799999999999994,{"$error":"#VALUE!"},24.55670186399999,18.601191063999998,12.013270111999994,6.6298861439999968,4.0112385759999984]
[10.999999999999993,{"$error":"#VALUE!"},24.838325999999991,18.798597999999995,12.188953999999994,6.7096599999999977,4.0607845999999999]
[11.199999999999992,{"$error":"#VALUE!"},25.11731541599999,18.993344215999993,12.362995327999993,6.7870591359999963,4.1084393439999989]
[11.399999999999991,{"$error":"#VALUE!"},25.393719167999986,19.185489567999991,12.535392943999993,6.8621417279999939,4.154247591999999]
[11.599999999999991,{"$error":"#VALUE!"},25.667586311999987,19.375093911999993,12.706145695999993,6.9349659519999971,4.1982541280000003]
[11.79999999999999,{"$error":"#VALUE!"},25.938965903999989,19.562217103999995,12.875252431999993,7.0055899839999967,4.2405037360000009]
[11.999999999999989,{"$error":"#VALUE!"},26.207906999999988,19.746918999999991,13.042711999999993,7.0740719999999992,4.2810411999999989]
[12.199999999999989,{"$error":"#VALUE!"},26.474458655999985,19.92925945599999,13.208523247999992,7.1404701759999973,4.3199113039999997]
[12.399999999999988,{"$error":"#VALUE!"},26.738669927999982,20.109298327999991,13.372685023999992,7.2048426879999958,4.3571588319999996]
[12.599999999999987,{"$error":"#VALUE!"},27.000589871999985,20.28709547199999,13.535196175999991,7.2672477119999961,4.3928285679999988]
[12.799999999999986,{"$error":"#VALUE!"},27.260267543999984,20.462710743999988,13.696055551999988,7.3277434239999959,4.4269652959999988]
[12.999999999999986,{"$error":"#VALUE!"},27.517751999999984,20.636203999999989,13.855261999999987,7.3863879999999966,4.4596137999999996]
[13.199999999999985,{"$error":"#VALUE!"},27.773092295999984,20.807635095999988,14.01281436799999,7.4432396159999961,4.4908188639999995]
[13.399999999999984,{"$error":"#VALUE!"},28.026337487999978,20.977063887999989,14.168711503999988,7.4983564479999956,4.5206252720000002]
[13.599999999999984,{"$error":"#VALUE!"},28.277536631999979,21.14455023199999,14.322952255999986,7.5517966719999947,4.5490778079999998]
[13.799999999999983,{"$error":"#VALUE!"},28.526738783999981,21.310153983999985,14.475535471999986,7.6036184639999966,4.5762212559999984]
[13.999999999999982,{"$error":"#VALUE!"},28.773992999999987,21.473934999999987,14.626459999999989,7.6538799999999956,4.6021003999999994]
[14.199999999999982,{"$error":"#VALUE!"},29.019348335999975,21.635953135999987,14.775724687999986,7.7026394559999947,4.6267600240000011]
[14.399999999999981,{"$error":"#VALUE!"},29.262853847999981,21.796268247999986,14.923328383999987,7.749955007999997,4.6502449119999998]
[14.59999999999998,{"$error":"#VALUE!"},29.504558591999977,21.954940191999984,15.069269935999985,7.7958848319999952,4.6725998480000008]
[14.799999999999979,{"$error":"#VALUE!"},29.744511623999973,22.112028823999989,15.213548191999983,7.8404871039999939,4.6938696159999989]
[14.999999999999979,{"$error":"#VALUE!"},29.982761999999976,22.267593999999985,15.356161999999987,7.8838199999999947,4.7140990000000027]
[15.199999999999978,{"$error":"#VALUE!"},30.219358775999979,22.421695575999983,15.497110207999985,7.9259416959999953,4.7333327839999999]
[15.399999999999977,{"$error":"#VALUE!"},30.454351007999975,22.574393407999985,15.636391663999984,7.9669103679999971,4.7516157520000011]
[15.599999999999977,{"$error":"#VALUE!"},30.687787751999974,22.725747351999981,15.774005215999983,8.0067841919999942,4.7689926880000009]
[15.799999999999976,{"$error":"#VALUE!"},30.919718063999976,22.875817263999981,15.909949711999985,8.0456213439999935,4.785508376000001]
[15.999999999999975,{"$f":"$I$6+A92*$I$8+A92^2*$I$10","v":{"$error":"#VALUE!"}},{"$f":"0.001022*A92^3-0.06666*A92^2+2.497027*A92+4.076607","v":31.150190999999971},{"$f":"0.001247*A92^3-0.07441*A92^2+2.164692*A92+2.330839","v":23.024662999999979},{"$f":"-0.000024*A92^3-0.01974*A92^2+1.317306*A92+0.119072","v":16.044223999999986},{"$f":"0.001212*A92^3-0.06968*A92^2+1.485888*A92-2.817","v":8.083479999999998},4.8012075999999997]
[{"$f":"A92+0.2","v":16.199999999999974},{"$error":"#VALUE!"},31.379255615999973,23.172344415999987,16.176826927999983,8.1204183359999949,4.8161351440000022]
[16.399999999999974,{"$error":"#VALUE!"},31.606960967999974,23.318921367999984,16.307757343999985,8.1564945279999925,4.8303357920000014]
[16.599999999999973,{"$error":"#VALUE!"},31.833356111999972,23.464453711999983,16.437014095999981,8.1917667519999959,4.8438543280000008]
[16.799999999999972,{"$error":"#VALUE!"},32.058490103999972,23.609001303999985,16.564596031999987,8.2262931839999958,4.856735536000004]
[16.999999999999972,{"$error":"#VALUE!"},32.282411999999972,23.75262399999998,16.690501999999984,8.2601319999999934,4.8690242000000001]
[17.199999999999971,{"$error":"#VALUE!"},32.505170855999971,23.89538165599998,16.814730847999982,8.2933413759999954,4.8807651039999982]
[17.39999999999997,{"$error":"#VALUE!"},32.72681572799997,24.037334127999976,16.93728142399998,8.3259794879999944,4.8920030320000034]
[17.599999999999969,{"$error":"#VALUE!"},32.947395671999971,24.178541271999979,17.058152575999983,8.3581045119999935,4.9027827680000033]
[17.799999999999969,{"$error":"#VALUE!"},33.166959743999968,24.319062943999985,17.177343151999981,8.389774623999994,4.9131490959999997]
[17.999999999999968,{"$error":"#VALUE!"},33.38555699999997,24.458958999999982,17.294851999999981,8.4210479999999954,4.9231468000000032]
[18.199999999999967,{"$error":"#VALUE!"},33.603236495999973,24.598289295999979,17.41067796799998,8.4519828159999904,4.932820664000003]
[18.399999999999967,{"$error":"#VALUE!"},33.820047287999962,24.73711368799998,17.52481990399998,8.4826372479999961,4.9422154720000009]
[18.599999999999966,{"$error":"#VALUE!"},34.03603843199997,24.875492031999979,17.637276655999983,8.5130694719999944,4.9513760080000022]
[18.799999999999965,{"$error":"#VALUE!"},34.251258983999968,25.013484183999974,17.748047071999981,8.5433376639999956,4.9603470560000016]
[18.999999999999964,{"$error":"#VALUE!"},34.465757999999965,25.151149999999976,17.85712999999998,8.5734999999999921,4.9691734000000007]
[19.199999999999964,{"$error":"#VALUE!"},34.679584535999965,25.288549335999971,17.964524287999978,8.6036146559999942,{"$f":"0.000933*A108^3-0.05443*A108^2+1.1017456*A108-2.71421","v":4.9778998240000032}]
[19.399999999999963,{"$error":"#VALUE!"},34.892787647999967,25.425742047999972,18.070228783999983,8.6337398079999943,4.9865711119999983]
[19.599999999999962,{"$error":"#VALUE!"},35.10541639199996,25.562787991999979,18.174242335999981,8.663933631999992,4.9952320480000001]
[19.799999999999962,{"$error":"#VALUE!"},35.317519823999959,25.699747023999979,18.27656379199998,8.6942543039999904,5.0039274160000016]
[19.999999999999961,{"$error":"#VALUE!"},35.529146999999966,25.836678999999979,18.377191999999983,8.7247599999999998,5.0127020000000027]
[20.19999999999996,{"$error":"#VALUE!"},35.740346975999955,25.973643775999978,18.476125807999981,8.7555088959999914,5.0216005839999998]
[20.399999999999959,{"$error":"#VALUE!"},35.951168807999963,26.110701207999977,18.573364063999986,8.786559167999993,5.030667952000007]
[20.599999999999959,{"$error":"#VALUE!"},36.161661551999963,26.247911151999968,18.668905615999979,8.8179689919999937,5.0399488879999996]
[20.799999999999958,{"$error":"#VALUE!"},36.371874263999956,26.38533346399997,18.762749311999979,8.849796543999993,5.0494881760000005]
[20.999999999999957,{"$error":"#VALUE!"},36.581855999999959,26.523027999999972,18.85489399999998,8.8820999999999941,5.0593306000000027]
[21.199999999999957,{"$error":"#VALUE!"},36.791655815999967,26.661054615999976,18.945338527999983,8.9149375359999929,5.0695209440000006]
[21.399999999999956,{"$error":"#VALUE!"},37.001322767999959,26.79947316799997,19.03408174399998,8.9483673279999927,5.0801039920000015]
[21.599999999999955,{"$error":"#VALUE!"},37.210905911999959,26.938343511999971,19.12112249599998,8.9824475519999929,5.0911245280000035]
[21.799999999999955,{"$error":"#VALUE!"},37.420454303999961,27.077725503999968,19.20645963199998,9.0172363839999896,5.102627336000003]
[21.999999999999954,{"$error":"#VALUE!"},37.63001699999996,27.217678999999965,19.29009199999998,9.0527919999999895,5.1146572000000017]
[22.199999999999953,{"$error":"#VALUE!"},37.83964305599995,27.358263855999969,19.372018447999981,9.0891725759999886,5.1272589040000032]
[22.399999999999952,{"$error":"#VALUE!"},38.049381527999955,27.499539927999958,19.452237823999983,9.1264362879999865,5.1404772320000003]
[22.599999999999952,{"$error":"#VALUE!"},38.259281471999955,27.641567071999962,19.53074897599998,9.1646413119999899,5.1543569680000001]
[22.799999999999951,{"$error":"#VALUE!"},38.469391943999952,27.784405143999969,19.60755075199998,9.2038458239999912,5.1689428959999955]
[22.99999999999995,{"$error":"#VALUE!"},38.679761999999961,27.928113999999969,19.682641999999984,9.24410799999999,5.1842798000000005]
[23.19999999999995,{"$error":"#VALUE!"},38.890440695999956,28.072753495999965,19.756021567999984,9.2854860159999895,5.2004124640000011]
[23.399999999999949,{"$error":"#VALUE!"},39.101477087999953,28.218383487999969,19.827688303999981,9.328038047999982,5.2173856719999971]
[23.599999999999948,{"$error":"#VALUE!"},39.312920231999946,28.365063831999965,19.89764105599998,9.3718222719999922,5.2352442079999992]
[23.799999999999947,{"$error":"#VALUE!"},39.524819183999952,28.512854383999958,19.965878671999985,9.416896863999991,5.2540328559999967]
[23.999999999999947,{"$error":"#VALUE!"},39.737222999999943,28.661814999999958,20.032399999999985,9.4633199999999817,5.2737963999999931]
[24.199999999999946,{"$error":"#VALUE!"},39.950180735999943,28.812005535999958,20.097203887999985,9.5111498559999887,5.2945796239999989]
[24.399999999999945,{"$error":"#VALUE!"},40.163741447999953,28.963485847999966,20.160289183999989,9.5604446079999867,5.3164273120000036]
[24.599999999999945,{"$error":"#VALUE!"},40.37795419199994,29.116315791999963,20.221654735999984,9.6112624319999789,5.3393842479999964]
[24.799999999999944,{"$error":"#VALUE!"},40.592868023999941,29.27055522399996,20.281299391999983,9.663661503999986,5.3634952159999987]
[24.999999999999943,{"$error":"#VALUE!"},40.808531999999943,29.426263999999961,20.339221999999982,9.7176999999999829,5.3888049999999925]
[25.199999999999942,{"$error":"#VALUE!"},41.02499517599994,29.583501975999958,20.395421407999986,9.7734360959999833,5.4153583839999921]
[25.399999999999942,{"$error":"#VALUE!"},41.242306607999943,29.742329007999956,20.449896463999988,9.8309279679999761,5.4432001520000011]
[25.599999999999941,{"$error":"#VALUE!"},41.460515351999945,29.902804951999954,20.502646015999986,9.8902337919999823,5.4723750879999944]
[25.79999999999994,{"$error":"#VALUE!"},41.679670463999948,30.064989663999953,20.553668911999988,9.9514117439999801,5.5029279759999969]
[25.99999999999994,{"$error":"#VALUE!"},41.899820999999953,30.228942999999948,20.602963999999982,10.01451999999998,5.5349035999999945]
[26.199999999999939,{"$error":"#VALUE!"},42.121016015999935,30.394724815999954,20.650530127999989,10.079616735999981,5.5683467439999905]
[26.399999999999938,{"$error":"#VALUE!"},42.343304567999937,30.562394967999953,20.696366143999988,10.146760127999979,5.6033021919999957]
[26.599999999999937,{"$error":"#VALUE!"},42.566735711999932,30.732013311999946,20.740470895999987,10.216008351999974,5.6398147279999957]
[26.799999999999937,{"$error":"#VALUE!"},42.791358503999938,30.90363970399995,20.782843231999987,10.287419583999974,5.6779291359999942]
[26.999999999999936,{"$error":"#VALUE!"},43.017221999999933,31.077333999999944,20.823481999999988,10.361051999999976,5.7176901999999838]
[]
["Classification Labels"]
[]
[null,"X","Y"]
["CLASS 1",27,45]
[null,4,15]
["CLASS 2",27,35]
[null,4,11.5]
["CLASS 3",27,25]
[null,4,7.75]
["CLASS 4",27,15]
[null,4,3.5]
["CLASS 5",27,7]
[null,7,3.75]
["CLASS 6",27,2.5]
[null,7,1.25]

{"sheet":"Log","index":15,"n_rows":25,"n_cols":6,"rows_kept":25,"cut":false,"hidden":true,"merged":[]}
["*** Add Range Name \"version\"     Cell  F64 =IF(AuthorizedDate<38257,\"1\",\"2\")  "]
[]
["*** Old   =IF(D27=0,0,IF(LEFT(AutoMan,4)=\"Auto\",(D41+D38)/D32,(((D43*D37)+D38)/D31)))"]
["*** New  =IF(D27=0,0,IF(LEFT(AutoMan,4)=\"Auto\",(D41+D38)/IF(version=\"1\",D32,D31),(((D43*D37)+D38)/D31)))  --- Row 45 From Column D to K"]
[]
["*** Old    =IF(D40=0,\"\",('1'!$D$26-'1'!$D$24)/'1'!$D$16)"]
["*** New   =IF(D40=0,\"\",(IF(version=\"1\",'1'!$D$26,'1'!$D$25)-'1'!$D$24)/'1'!$D$16)  ---  Row 42 from Column D to K  Change sheet name accordingly 1 => 8"]
[]
[]
["*** Datevalue()  Function   => ",null,null,{"$f":"DATEVALUE(\"09/27/04\")","v":38257},null,"Date take effect     9/27/2004"]
[]
["*** Updated to be in line with new test procedure (1/5/2009)"]
[null,"Inserted Moisture Density Data in Rows 21-25"]
[null,"Reconfigured Data into three groups: Specimen Data, Dry-Back Data, and Strength Data"]
[null,null,"Inserted rows for \"Cell No.\", \"Wet Mass Spec. & Mold\", \"Wet Mass Specimen\" under Specimen Data heading."]
[null,null,"Rows 46-54, Dry-Back Data were all added."]
[null,"Under Strength Data updated the following:"]
[null,null,"Row 42 moved to Row 60 and formula updated to read from repsective spreadhseets (1-9)"]
[null,null,null,"OLD","=IF(D41=\"\",\"\",(((D$41-D$37)*D$35)/D$36)+D$40)"]
[null,null,null,"New","=IF(Field96=\"\",\"\",(((Field96-Field90)*Field87)/Field89)+Field86)"]
[null,null,"Row 43 moved to Row 61 and formula updated to read from repsective spreadhseets (1-9)"]
[null,null,null,"Old","=IF(D41=\"\",\"\",(IF(version=\"1\",'1'!$D$26,'1'!$D$25)-'1'!$D$24)/'1'!$D$16)"]
[null,null,null,"New","=IF(Field96=\"\",\"\",(IF(version=\"1\",Field102,Field98)-Field94)/Field88)"]
[null,"Romoved all formatting for cell H53:K54"]
[null,"Inserted Column of data for 1 additional specimen in addition to a 9th spreadsheet for imported data."]

{"sheet":"Tex-113,4-E","index":16,"n_rows":60,"n_cols":10,"rows_kept":60,"cut":false,"hidden":true,"merged":[[7,3,7,4],[7,7,7,8],[8,3,8,4],[8,7,8,8],[11,3,11,4],[11,7,11,8],[12,3,12,4],[12,7,12,8],[9,3,9,4],[9,7,9,8],[10,3,10,4],[10,7,10,8],[13,7,13,8],[15,3,15,8],[16,3,16,4],[16,7,16,8],[14,3,14,8],[48,1,48,3],[41,1,41,3],[42,1,42,3],[37,1,37,3],[38,1,38,3],[39,1,39,3],[40,1,40,3],[43,1,43,3],[44,1,44,3],[0,0,0,1],[45,1,45,3],[46,1,46,3],[47,1,47,3],[26,1,26,3],[29,1,29,3],[31,1,31,3],[32,1,32,3],[34,1,34,3],[35,1,35,3],[36,1,36,3],[21,1,21,3],[22,1,22,3],[23,1,23,3],[24,1,24,3],[13,3,13,4],[59,2,59,4],[56,2,56,4],[57,2,57,4],[49,1,49,3],[50,1,50,3],[51,1,51,3],[54,1,55,8]]}
["TxDOT Manuals >",null,null,"Tex-113-E"]
[null,"TEXAS DEPARTMENT OF TRANSPORTATION"]
[null,{"$f":"IF(Location=\"\",\"\",Location)","v":""}]
[null,null,null,null,null,null,null,null,null,"Tx113,4.xls::37484.679688"]
[null,"Moisture-Density Relations of Base Material & Sand or Subgrade & Embankment Soils",null,null,null,null,null,null,null,45]
[null,"TEX-113-E or Tex-114-E"]
[null,null,null,null,null,null,null,null,{"$f":"\"Tx113,4 File Version: \" & TEXT(MID(_sn113,SEARCH(\"::\",_sn113,1)+2,20),\"mm/dd/yy hh:mm:ss\")","v":"Tx113,4 File Version: 08/16/02 16:18:45"}]
[null,null,"SAMPLE ID:",{"$f":"IF(SampleId=\"\",\"\",SampleId)","v":""},{"$f":"IF(Location=\"\",\"\",Location)","v":""},null,"SAMPLED DATE:",{"$f":"IF(SampledDate=\"\",\"\",SampledDate)","v":""},{"$f":"IF(Location=\"\",\"\",Location)","v":""}]
[null,null,"TEST NUMBER:",{"$f":"IF(TestNumber=\"\",\"\",TestNumber)","v":""},"",null,"LETTING DATE:",{"$f":"IF(LettingDate=\"\",\"\",LettingDate)","v":""},""]
[null,null,"SAMPLE STATUS:",{"$f":"IF(Status=\"\",\"\",Status)","v":""},"",null,"CONTROLLING CSJ:",{"$f":"IF(CCSJ=\"\",\"\",CCSJ)","v":""},""]
[null,null,"COUNTY:",{"$f":"IF(County=\"\",\"\",County)","v":""},"",null,"SPEC YEAR:",{"$f":"IF(SpecYear=\"\",\"\",SpecYear)","v":""},""]
[null,null,"SAMPLED BY:",{"$f":"IF(SampledBy=\"\",\"\",SampledBy)","v":""},"",null,"SPEC ITEM:",{"$f":"IF(SpecItem=\"\",\"\",SpecItem)","v":""},""]
[null,null,"SAMPLE LOCATION:",{"$f":"IF(SampleLocation=\"\",\"\",SampleLocation)","v":""},"",null,"SPECIAL PROVISION:",{"$f":"IF(SpecialProvision=\"\",\"\",SpecialProvision)","v":""},""]
[null,null,"MATERIAL CODE:",{"$f":"IF(Material=\"\",\"\",Material)","v":""},"",null,"GRADE:",{"$f":"IF(Grade=\"\",\"\",Grade)","v":""},""]
[null,null,"MATERIAL NAME:",{"$f":"IF(matl_nm=\"\",\"\",matl_nm)","v":""}]
[null,null,"PRODUCER:",{"$f":"IF(Producer=\"\",\"\",Producer)","v":""},"",{"$f":"IF(Location=\"\",\"\",Location)","v":""},{"$f":"IF(Location=\"\",\"\",Location)","v":""},"",""]
[null,null,"AREA ENGINEER:",{"$f":"IF(AreaEngineer=\"\",\"\",AreaEngineer)","v":""},"",null,"PROJECT MANAGER:",{"$f":"IF(ProjectManager=\"\",\"\",ProjectManager)","v":""},""]
[]
[null,null,"COURSE\\LIFT:",{"$f":"IF(CourseLift=\"\",\"\",CourseLift)","v":""},"STATION:",{"$f":"IF(Station=\"\",\"\",Station)","v":""},null,"DIST. FROM CL:",{"$f":"IF(DistFromCL=\"\",\"\",DistFromCL)","v":""}]
[null,"Moisture-Density Work Sheet"]
[]
[null,"Oven Dry Weight, (g):"]
[null,"Weight of Pycnometer & Water, (g):"]
[null,"Weight of Aggr., Pycn.& Water, (g):"]
[null,"Specific Gravity (Apparent):",null,null,{"$f":"IF(ISERROR(E22/(E22+E23-E24)),\"\",E22/(E22+E23-E24))","v":""}]
[]
[null,"Hygroscopic Moisture, (%):"]
[]
[null,null,null,null,1,2,3,4]
[null,"Percent Water Content, (%):"]
[]
[null,"Mass Material, (lb):"]
[null,"Mass Water Added, (lb):",null,null,{"$f":"IF(COUNTBLANK(E30:E32)=3,\"\",(E30/100)*E32)","v":""},{"$f":"IF(COUNTBLANK(F30:F32)=3,\"\",(F30/100)*F32)","v":""},{"$f":"IF(COUNTBLANK(G30:G32)=3,\"\",(G30/100)*G32)","v":""},{"$f":"IF(COUNTBLANK(H30:H32)=3,\"\",(H30/100)*H32)","v":""}]
[]
[null,"Wet Mass Specimen & Mold, (lb):"]
[null,"Tare Mass Mold, (lb):"]
[null,"Wet Mass Specimen, (lb):",null,null,{"$f":"IF(COUNTBLANK(E35:E36)=2,\"\",E35-E36)","v":""},{"$f":"IF(COUNTBLANK(F35:F36)=2,\"\",F35-F36)","v":""},{"$f":"IF(COUNTBLANK(G35:G36)=2,\"\",G35-G36)","v":""},{"$f":"IF(COUNTBLANK(H35:H36)=2,\"\",H35-H36)","v":""}]
[null,"Height of Specimen, (in.):"]
[null,"Volume per Linear mm., (in.):"]
[null,"Volume of Specimen, (ft^3):",null,null,{"$f":"IF(COUNTBLANK(E38:E39)=2,\"\",E39*E38)","v":""},{"$f":"IF(COUNTBLANK(F38:F39)=2,\"\",F39*F38)","v":""},{"$f":"IF(COUNTBLANK(G38:G39)=2,\"\",G39*G38)","v":""},{"$f":"IF(COUNTBLANK(H38:H39)=2,\"\",H39*H38)","v":""}]
[null,"Wet Density of Specimen, (lb):",null,null,{"$f":"IF(ISERROR(E37/E40),\"\",E37/E40)","v":""},{"$f":"IF(ISERROR(F37/F40),\"\",F37/F40)","v":""},{"$f":"IF(ISERROR(G37/G40),\"\",G37/G40)","v":""},{"$f":"IF(ISERROR(H37/H40),\"\",H37/H40)","v":""}]
[null,"Wet Mass of Pan & Specimen, (lb):"]
[null,"Dry Mass Pan & Specimen, (lb):"]
[null,"Tare Mass Pan, (lb):"]
[null,"Dry Mass Material , (lb):",null,null,{"$f":"IF(COUNTBLANK(E43:E44)=2,\"\",E43-E44)","v":""},{"$f":"IF(COUNTBLANK(F43:F44)=2,\"\",F43-F44)","v":""},{"$f":"IF(COUNTBLANK(G43:G44)=2,\"\",G43-G44)","v":""},{"$f":"IF(COUNTBLANK(H43:H44)=2,\"\",H43-H44)","v":""}]
[null,"Mass Water, (lb):",null,null,{"$f":"IF(COUNTBLANK(E42:E43)=2,\"\",E42-E43)","v":""},{"$f":"IF(COUNTBLANK(F42:F43)=2,\"\",F42-F43)","v":""},{"$f":"IF(COUNTBLANK(G42:G43)=2,\"\",G42-G43)","v":""},{"$f":"IF(COUNTBLANK(H42:H43)=2,\"\",H42-H43)","v":""}]
[null,"Percent Water on Total , (%):",null,null,{"$f":"IF(ISERROR((E46/E45)*100),\"\",(E46/E45)*100)","v":""},{"$f":"IF(ISERROR((F46/F45)*100),\"\",(F46/F45)*100)","v":""},{"$f":"IF(ISERROR((G46/G45)*100),\"\",(G46/G45)*100)","v":""},{"$f":"IF(ISERROR((H46/H45)*100),\"\",(H46/H45)*100)","v":""}]
[null,"Dry Density, (pcf):",null,null,{"$f":"IF(ISERROR(E41/(1+(E47/100))),\"\",E41/(1+(E47/100)))","v":""},{"$f":"IF(ISERROR(F41/(1+(F47/100))),\"\",F41/(1+(F47/100)))","v":""},{"$f":"IF(ISERROR(G41/(1+(G47/100))),\"\",G41/(1+(G47/100)))","v":""},{"$f":"IF(ISERROR(H41/(1+(H47/100))),\"\",H41/(1+(H47/100)))","v":""}]
[null,"Estimated Dry Density, (pcf):",null,null,{"$f":"IF(ISERROR(E41/(1+(E30/100))),\"\",E41/(1+(E30/100)))","v":""},{"$f":"IF(ISERROR(F41/(1+(F30/100))),\"\",F41/(1+(F30/100)))","v":""},{"$f":"IF(ISERROR(G41/(1+(G30/100))),\"\",G41/(1+(G30/100)))","v":""},{"$f":"IF(ISERROR(H41/(1+(H30/100))),\"\",H41/(1+(H30/100)))","v":""}]
[null,"Max Density, (pcf):",null,null,{"$f":"IF(ISERROR(IF(AND(E23>0,E24>0),Reference!B22,IF(H46>0,Reference!B22,\"Need SG\"))),\"\",IF(AND(E23>0,E24>0),Reference!B22,IF(H46>0,Reference!B22,\"Need SG\")))","v":""}]
[null,"Max Density, (kg/m3):",null,null,{"$f":"IF(ISERROR(E50*(0.4536/0.02832)),\"\",E50*(0.4536/0.02832))","v":""}]
[null,"Optimum Moisture, (%):",null,null,{"$f":"IF(ISERROR(Reference!B23),\"\",Reference!B23)","v":""}]
[]
[null,"Remarks:",{"$f":"NOW()","v":"2024-06-19T17:06:46.300"}]
[]
[]
[null,"Test Method:","Tested By:",null,null,"Date:"]
[null,"TX113"]
[]
[null,"Tx114"]

{"sheet":"RX","index":17,"n_rows":762,"n_cols":9,"rows_kept":762,"cut":false,"hidden":true,"merged":[]}
[{"$f":"COUNTA(A3:A1004)","v":760},null,{"$f":"SampleId","v":0},{"$f":"+TestNumber","v":0}]
["Fld_nbr","Value","Desc_1","Desc_2","Desc_3","Desc_4","Desc_5","Desc_6","Desc_7"]
[1,{"$f":"IF(Worksheet!$B$125=\"\",\"\",Worksheet!$B$125)","v":""},{"$f":"Worksheet!$B$124","v":"Remarks:"}]
[2,{"$f":"IF(Worksheet!$D$19=\"\",\"\",Worksheet!$D$19)","v":""},{"$f":"IF(Worksheet!$C$19=\"\",\"\",Worksheet!$C$19)","v":"COURSE\\LIFT:"}]
[3,{"$f":"IF(Worksheet!$C$136=\"\",\"\",Worksheet!$C$136)","v":""},"Tested By ",{"$f":"IF(Worksheet!$B$136=\"\",\"\",Worksheet!$B$136)","v":"TX117"}]
[4,{"$f":"IF(Worksheet!$G$136=\"\",\"\",Worksheet!$G$136)","v":""},"Tested Date ",{"$f":"IF(Worksheet!$B$136=\"\",\"\",Worksheet!$B$136)","v":"TX117"}]
[5,{"$f":"IF('Tex-113,4-E'!$C$58=\"\",\"\",'Tex-113,4-E'!$C$58)","v":""},"Tested By ",{"$f":"IF('Tex-113,4-E'!$B$58=\"\",\"\",'Tex-113,4-E'!$B$58)","v":"TX113"}]
[6,{"$f":"IF('Tex-113,4-E'!$F$58=\"\",\"\",'Tex-113,4-E'!$F$58)","v":""},"Tested Date ",{"$f":"IF('Tex-113,4-E'!$B$58=\"\",\"\",'Tex-113,4-E'!$B$58)","v":"TX113"}]
[7,{"$f":"IF(Worksheet!$D$28=\"\",\"\",Worksheet!$D$28)","v":""},{"$f":"IF(Worksheet!$B$6=\"\",\"\",Worksheet!$B$6)","v":"Tex-117-E"},{"$f":"IF(Worksheet!$B$28=\"\",\"\",Worksheet!$B$28)","v":"Performed By Tex-117-E:"}]
[8,{"$f":"IF(Worksheet!$D$41=\"\",\"\",Worksheet!$D$41)","v":""},{"$f":"IF(Worksheet!$B$6=\"\",\"\",Worksheet!$B$6)","v":"Tex-117-E"},{"$f":"IF(Worksheet!$B$41=\"\",\"\",Worksheet!$B$41)","v":"Initial Height of Specimen, in.:"},{"$f":"IF(Worksheet!$D$33=\"\",\"\",Worksheet!$D$33)","v":1}]
[9,{"$f":"IF(Worksheet!$E$41=\"\",\"\",Worksheet!$E$41)","v":""},{"$f":"IF(Worksheet!$B$6=\"\",\"\",Worksheet!$B$6)","v":"Tex-117-E"},{"$f":"IF(Worksheet!$B$41=\"\",\"\",Worksheet!$B$41)","v":"Initial Height of Specimen, in.:"},{"$f":"IF(Worksheet!$E$33=\"\",\"\",Worksheet!$E$33)","v":2}]
[10,{"$f":"IF(Worksheet!$F$41=\"\",\"\",Worksheet!$F$41)","v":""},{"$f":"IF(Worksheet!$B$6=\"\",\"\",Worksheet!$B$6)","v":"Tex-117-E"},{"$f":"IF(Worksheet!$B$41=\"\",\"\",Worksheet!$B$41)","v":"Initial Height of Specimen, in.:"},{"$f":"IF(Worksheet!$F$33=\"\",\"\",Worksheet!$F$33)","v":3}]
[11,{"$f":"IF(Worksheet!$G$41=\"\",\"\",Worksheet!$G$41)","v":""},{"$f":"IF(Worksheet!$B$6=\"\",\"\",Worksheet!$B$6)","v":"Tex-117-E"},{"$f":"IF(Worksheet!$B$41=\"\",\"\",Worksheet!$B$41)","v":"Initial Height of Specimen, in.:"},{"$f":"IF(Worksheet!$G$33=\"\",\"\",Worksheet!$G$33)","v":4}]
[12,{"$f":"IF(Worksheet!$H$41=\"\",\"\",Worksheet!$H$41)","v":""},{"$f":"IF(Worksheet!$B$6=\"\",\"\",Worksheet!$B$6)","v":"Tex-117-E"},{"$f":"IF(Worksheet!$B$41=\"\",\"\",Worksheet!$B$41)","v":"Initial Height of Specimen, in.:"},{"$f":"IF(Worksheet!$H$33=\"\",\"\",Worksheet!$H$33)","v":5}]
[13,{"$f":"IF(Worksheet!$I$41=\"\",\"\",Worksheet!$I$41)","v":""},{"$f":"IF(Worksheet!$B$6=\"\",\"\",Worksheet!$B$6)","v":"Tex-117-E"},{"$f":"IF(Worksheet!$B$41=\"\",\"\",Worksheet!$B$41)","v":"Initial Height of Specimen, in.:"},{"$f":"IF(Worksheet!$I$33=\"\",\"\",Worksheet!$I$33)","v":6}]
[14,{"$f":"IF(Worksheet!$J$41=\"\",\"\",Worksheet!$J$41)","v":""},{"$f":"IF(Worksheet!$B$6=\"\",\"\",Worksheet!$B$6)","v":"Tex-117-E"},{"$f":"IF(Worksheet!$B$41=\"\",\"\",Worksheet!$B$41)","v":"Initial Height of Specimen, in.:"},{"$f":"IF(Worksheet!$J$33=\"\",\"\",Worksheet!$J$33)","v":7}]
[15,{"$f":"IF(Worksheet!$K$41=\"\",\"\",Worksheet!$K$41)","v":""},{"$f":"IF(Worksheet!$B$6=\"\",\"\",Worksheet!$B$6)","v":"Tex-117-E"},{"$f":"IF(Worksheet!$B$41=\"\",\"\",Worksheet!$B$41)","v":"Initial Height of Specimen, in.:"},{"$f":"IF(Worksheet!$K$33=\"\",\"\",Worksheet!$K$33)","v":8}]
[16,{"$f":"IF(Worksheet!$D$42=\"\",\"\",Worksheet!$D$42)","v":""},{"$f":"IF(Worksheet!$B$6=\"\",\"\",Worksheet!$B$6)","v":"Tex-117-E"},{"$f":"IF(Worksheet!$B$42=\"\",\"\",Worksheet!$B$42)","v":"Height of Stone 1, in."},{"$f":"IF(Worksheet!$D$33=\"\",\"\",Worksheet!$D$33)","v":1}]
[17,{"$f":"IF(Worksheet!$E$42=\"\",\"\",Worksheet!$E$42)","v":""},{"$f":"IF(Worksheet!$B$6=\"\",\"\",Worksheet!$B$6)","v":"Tex-117-E"},{"$f":"IF(Worksheet!$B$42=\"\",\"\",Worksheet!$B$42)","v":"Height of Stone 1, in."},{"$f":"IF(Worksheet!$E$33=\"\",\"\",Worksheet!$E$33)","v":2}]
[18,{"$f":"IF(Worksheet!$F$42=\"\",\"\",Worksheet!$F$42)","v":""},{"$f":"IF(Worksheet!$B$6=\"\",\"\",Worksheet!$B$6)","v":"Tex-117-E"},{"$f":"IF(Worksheet!$B$42=\"\",\"\",Worksheet!$B$42)","v":"Height of Stone 1, in."},{"$f":"IF(Worksheet!$F$33=\"\",\"\",Worksheet!$F$33)","v":3}]
[19,{"$f":"IF(Worksheet!$G$42=\"\",\"\",Worksheet!$G$42)","v":""},{"$f":"IF(Worksheet!$B$6=\"\",\"\",Worksheet!$B$6)","v":"Tex-117-E"},{"$f":"IF(Worksheet!$B$42=\"\",\"\",Worksheet!$B$42)","v":"Height of Stone 1, in."},{"$f":"IF(Worksheet!$G$33=\"\",\"\",Worksheet!$G$33)","v":4}]
[20,{"$f":"IF(Worksheet!$H$42=\"\",\"\",Worksheet!$H$42)","v":""},{"$f":"IF(Worksheet!$B$6=\"\",\"\",Worksheet!$B$6)","v":"Tex-117-E"},{"$f":"IF(Worksheet!$B$42=\"\",\"\",Worksheet!$B$42)","v":"Height of Stone 1, in."},{"$f":"IF(Worksheet!$H$33=\"\",\"\",Worksheet!$H$33)","v":5}]
[21,{"$f":"IF(Worksheet!$I$42=\"\",\"\",Worksheet!$I$42)","v":""},{"$f":"IF(Worksheet!$B$6=\"\",\"\",Worksheet!$B$6)","v":"Tex-117-E"},{"$f":"IF(Worksheet!$B$42=\"\",\"\",Worksheet!$B$42)","v":"Height of Stone 1, in."},{"$f":"IF(Worksheet!$I$33=\"\",\"\",Worksheet!$I$33)","v":6}]
[22,{"$f":"IF(Worksheet!$J$42=\"\",\"\",Worksheet!$J$42)","v":""},{"$f":"IF(Worksheet!$B$6=\"\",\"\",Worksheet!$B$6)","v":"Tex-117-E"},{"$f":"IF(Worksheet!$B$42=\"\",\"\",Worksheet!$B$42)","v":"Height of Stone 1, in."},{"$f":"IF(Worksheet!$J$33=\"\",\"\",Worksheet!$J$33)","v":7}]
[23,{"$f":"IF(Worksheet!$K$42=\"\",\"\",Worksheet!$K$42)","v":""},{"$f":"IF(Worksheet!$B$6=\"\",\"\",Worksheet!$B$6)","v":"Tex-117-E"},{"$f":"IF(Worksheet!$B$42=\"\",\"\",Worksheet!$B$42)","v":"Height of Stone 1, in."},{"$f":"IF(Worksheet!$K$33=\"\",\"\",Worksheet!$K$33)","v":8}]
[24,{"$f":"IF(Worksheet!$D$43=\"\",\"\",Worksheet!$D$43)","v":""},{"$f":"IF(Worksheet!$B$6=\"\",\"\",Worksheet!$B$6)","v":"Tex-117-E"},{"$f":"IF(Worksheet!$B$43=\"\",\"\",Worksheet!$B$43)","v":"Height of Stone 2, in."},{"$f":"IF(Worksheet!$D$33=\"\",\"\",Worksheet!$D$33)","v":1}]
[25,{"$f":"IF(Worksheet!$E$43=\"\",\"\",Worksheet!$E$43)","v":""},{"$f":"IF(Worksheet!$B$6=\"\",\"\",Worksheet!$B$6)","v":"Tex-117-E"},{"$f":"IF(Worksheet!$B$43=\"\",\"\",Worksheet!$B$43)","v":"Height of Stone 2, in."},{"$f":"IF(Worksheet!$E$33=\"\",\"\",Worksheet!$E$33)","v":2}]
[26,{"$f":"IF(Worksheet!$F$43=\"\",\"\",Worksheet!$F$43)","v":""},{"$f":"IF(Worksheet!$B$6=\"\",\"\",Worksheet!$B$6)","v":"Tex-117-E"},{"$f":"IF(Worksheet!$B$43=\"\",\"\",Worksheet!$B$43)","v":"Height of Stone 2, in."},{"$f":"IF(Worksheet!$F$33=\"\",\"\",Worksheet!$F$33)","v":3}]
[27,{"$f":"IF(Worksheet!$G$43=\"\",\"\",Worksheet!$G$43)","v":""},{"$f":"IF(Worksheet!$B$6=\"\",\"\",Worksheet!$B$6)","v":"Tex-117-E"},{"$f":"IF(Worksheet!$B$43=\"\",\"\",Worksheet!$B$43)","v":"Height of Stone 2, in."},{"$f":"IF(Worksheet!$G$33=\"\",\"\",Worksheet!$G$33)","v":4}]
[28,{"$f":"IF(Worksheet!$H$43=\"\",\"\",Worksheet!$H$43)","v":""},{"$f":"IF(Worksheet!$B$6=\"\",\"\",Worksheet!$B$6)","v":"Tex-117-E"},{"$f":"IF(Worksheet!$B$43=\"\",\"\",Worksheet!$B$43)","v":"Height of Stone 2, in."},{"$f":"IF(Worksheet!$H$33=\"\",\"\",Worksheet!$H$33)","v":5}]
[29,{"$f":"IF(Worksheet!$I$43=\"\",\"\",Worksheet!$I$43)","v":""},{"$f":"IF(Worksheet!$B$6=\"\",\"\",Worksheet!$B$6)","v":"Tex-117-E"},{"$f":"IF(Worksheet!$B$43=\"\",\"\",Worksheet!$B$43)","v":"Height of Stone 2, in."},{"$f":"IF(Worksheet!$I$33=\"\",\"\",Worksheet!$I$33)","v":6}]
[30,{"$f":"IF(Worksheet!$J$43=\"\",\"\",Worksheet!$J$43)","v":""},{"$f":"IF(Worksheet!$B$6=\"\",\"\",Worksheet!$B$6)","v":"Tex-117-E"},{"$f":"IF(Worksheet!$B$43=\"\",\"\",Worksheet!$B$43)","v":"Height of Stone 2, in."},{"$f":"IF(Worksheet!$J$33=\"\",\"\",Worksheet!$J$33)","v":7}]
[31,{"$f":"IF(Worksheet!$K$43=\"\",\"\",Worksheet!$K$43)","v":""},{"$f":"IF(Worksheet!$B$6=\"\",\"\",Worksheet!$B$6)","v":"Tex-117-E"},{"$f":"IF(Worksheet!$B$43=\"\",\"\",Worksheet!$B$43)","v":"Height of Stone 2, in."},{"$f":"IF(Worksheet!$K$33=\"\",\"\",Worksheet!$K$33)","v":8}]
[32,{"$f":"IF(Worksheet!$D$44=\"\",\"\",Worksheet!$D$44)","v":""},{"$f":"IF(Worksheet!$B$6=\"\",\"\",Worksheet!$B$6)","v":"Tex-117-E"},{"$f":"IF(Worksheet!$B$44=\"\",\"\",Worksheet!$B$44)","v":"New Height of Specimen, in.:"},{"$f":"IF(Worksheet!$D$33=\"\",\"\",Worksheet!$D$33)","v":1}]
[33,{"$f":"IF(Worksheet!$E$44=\"\",\"\",Worksheet!$E$44)","v":""},{"$f":"IF(Worksheet!$B$6=\"\",\"\",Worksheet!$B$6)","v":"Tex-117-E"},{"$f":"IF(Worksheet!$B$44=\"\",\"\",Worksheet!$B$44)","v":"New Height of Specimen, in.:"},{"$f":"IF(Worksheet!$E$33=\"\",\"\",Worksheet!$E$33)","v":2}]
[34,{"$f":"IF(Worksheet!$F$44=\"\",\"\",Worksheet!$F$44)","v":""},{"$f":"IF(Worksheet!$B$6=\"\",\"\",Worksheet!$B$6)","v":"Tex-117-E"},{"$f":"IF(Worksheet!$B$44=\"\",\"\",Worksheet!$B$44)","v":"New Height of Specimen, in.:"},{"$f":"IF(Worksheet!$F$33=\"\",\"\",Worksheet!$F$33)","v":3}]
[35,{"$f":"IF(Worksheet!$G$44=\"\",\"\",Worksheet!$G$44)","v":""},{"$f":"IF(Worksheet!$B$6=\"\",\"\",Worksheet!$B$6)","v":"Tex-117-E"},{"$f":"IF(Worksheet!$B$44=\"\",\"\",Worksheet!$B$44)","v":"New Height of Specimen, in.:"},{"$f":"IF(Worksheet!$G$33=\"\",\"\",Worksheet!$G$33)","v":4}]
[36,{"$f":"IF(Worksheet!$H$44=\"\",\"\",Worksheet!$H$44)","v":""},{"$f":"IF(Worksheet!$B$6=\"\",\"\",Worksheet!$B$6)","v":"Tex-117-E"},{"$f":"IF(Worksheet!$B$44=\"\",\"\",Worksheet!$B$44)","v":"New Height of Specimen, in.:"},{"$f":"IF(Worksheet!$H$33=\"\",\"\",Worksheet!$H$33)","v":5}]
[37,{"$f":"IF(Worksheet!$I$44=\"\",\"\",Worksheet!$I$44)","v":""},{"$f":"IF(Worksheet!$B$6=\"\",\"\",Worksheet!$B$6)","v":"Tex-117-E"},{"$f":"IF(Worksheet!$B$44=\"\",\"\",Worksheet!$B$44)","v":"New Height of Specimen, in.:"},{"$f":"IF(Worksheet!$I$33=\"\",\"\",Worksheet!$I$33)","v":6}]
[38,{"$f":"IF(Worksheet!$J$44=\"\",\"\",Worksheet!$J$44)","v":""},{"$f":"IF(Worksheet!$B$6=\"\",\"\",Worksheet!$B$6)","v":"Tex-117-E"},{"$f":"IF(Worksheet!$B$44=\"\",\"\",Worksheet!$B$44)","v":"New Height of Specimen, in.:"},{"$f":"IF(Worksheet!$J$33=\"\",\"\",Worksheet!$J$33)","v":7}]
[39,{"$f":"IF(Worksheet!$K$44=\"\",\"\",Worksheet!$K$44)","v":""},{"$f":"IF(Worksheet!$B$6=\"\",\"\",Worksheet!$B$6)","v":"Tex-117-E"},{"$f":"IF(Worksheet!$B$44=\"\",\"\",Worksheet!$B$44)","v":"New Height of Specimen, in.:"},{"$f":"IF(Worksheet!$K$33=\"\",\"\",Worksheet!$K$33)","v":8}]
[40,{"$f":"IF(Worksheet!$D$45=\"\",\"\",Worksheet!$D$45)","v":""},{"$f":"IF(Worksheet!$B$6=\"\",\"\",Worksheet!$B$6)","v":"Tex-117-E"},{"$f":"IF(Worksheet!$B$45=\"\",\"\",Worksheet!$B$45)","v":"Average Diameter, in.:"},{"$f":"IF(Worksheet!$D$33=\"\",\"\",Worksheet!$D$33)","v":1}]
[41,{"$f":"IF(Worksheet!$E$45=\"\",\"\",Worksheet!$E$45)","v":""},{"$f":"IF(Worksheet!$B$6=\"\",\"\",Worksheet!$B$6)","v":"Tex-117-E"},{"$f":"IF(Worksheet!$B$45=\"\",\"\",Worksheet!$B$45)","v":"Average Diameter, in.:"},{"$f":"IF(Worksheet!$E$33=\"\",\"\",Worksheet!$E$33)","v":2}]
[42,{"$f":"IF(Worksheet!$F$45=\"\",\"\",Worksheet!$F$45)","v":""},{"$f":"IF(Worksheet!$B$6=\"\",\"\",Worksheet!$B$6)","v":"Tex-117-E"},{"$f":"IF(Worksheet!$B$45=\"\",\"\",Worksheet!$B$45)","v":"Average Diameter, in.:"},{"$f":"IF(Worksheet!$F$33=\"\",\"\",Worksheet!$F$33)","v":3}]
[43,{"$f":"IF(Worksheet!$G$45=\"\",\"\",Worksheet!$G$45)","v":""},{"$f":"IF(Worksheet!$B$6=\"\",\"\",Worksheet!$B$6)","v":"Tex-117-E"},{"$f":"IF(Worksheet!$B$45=\"\",\"\",Worksheet!$B$45)","v":"Average Diameter, in.:"},{"$f":"IF(Worksheet!$G$33=\"\",\"\",Worksheet!$G$33)","v":4}]
[44,{"$f":"IF(Worksheet!$H$45=\"\",\"\",Worksheet!$H$45)","v":""},{"$f":"IF(Worksheet!$B$6=\"\",\"\",Worksheet!$B$6)","v":"Tex-117-E"},{"$f":"IF(Worksheet!$B$45=\"\",\"\",Worksheet!$B$45)","v":"Average Diameter, in.:"},{"$f":"IF(Worksheet!$H$33=\"\",\"\",Worksheet!$H$33)","v":5}]
[45,{"$f":"IF(Worksheet!$I$45=\"\",\"\",Worksheet!$I$45)","v":""},{"$f":"IF(Worksheet!$B$6=\"\",\"\",Worksheet!$B$6)","v":"Tex-117-E"},{"$f":"IF(Worksheet!$B$45=\"\",\"\",Worksheet!$B$45)","v":"Average Diameter, in.:"},{"$f":"IF(Worksheet!$I$33=\"\",\"\",Worksheet!$I$33)","v":6}]
[46,{"$f":"IF(Worksheet!$J$45=\"\",\"\",Worksheet!$J$45)","v":""},{"$f":"IF(Worksheet!$B$6=\"\",\"\",Worksheet!$B$6)","v":"Tex-117-E"},{"$f":"IF(Worksheet!$B$45=\"\",\"\",Worksheet!$B$45)","v":"Average Diameter, in.:"},{"$f":"IF(Worksheet!$J$33=\"\",\"\",Worksheet!$J$33)","v":7}]
[47,{"$f":"IF(Worksheet!$K$45=\"\",\"\",Worksheet!$K$45)","v":""},{"$f":"IF(Worksheet!$B$6=\"\",\"\",Worksheet!$B$6)","v":"Tex-117-E"},{"$f":"IF(Worksheet!$B$45=\"\",\"\",Worksheet!$B$45)","v":"Average Diameter, in.:"},{"$f":"IF(Worksheet!$K$33=\"\",\"\",Worksheet!$K$33)","v":8}]
[48,{"$f":"IF(Worksheet!$D$46=\"\",\"\",Worksheet!$D$46)","v":""},{"$f":"IF(Worksheet!$B$6=\"\",\"\",Worksheet!$B$6)","v":"Tex-117-E"},{"$f":"IF(Worksheet!$B$46=\"\",\"\",Worksheet!$B$46)","v":"Circumference, in. (manual):"},{"$f":"IF(Worksheet!$D$33=\"\",\"\",Worksheet!$D$33)","v":1}]
[49,{"$f":"IF(Worksheet!$E$46=\"\",\"\",Worksheet!$E$46)","v":""},{"$f":"IF(Worksheet!$B$6=\"\",\"\",Worksheet!$B$6)","v":"Tex-117-E"},{"$f":"IF(Worksheet!$B$46=\"\",\"\",Worksheet!$B$46)","v":"Circumference, in. (manual):"},{"$f":"IF(Worksheet!$E$33=\"\",\"\",Worksheet!$E$33)","v":2}]
[50,{"$f":"IF(Worksheet!$F$46=\"\",\"\",Worksheet!$F$46)","v":""},{"$f":"IF(Worksheet!$B$6=\"\",\"\",Worksheet!$B$6)","v":"Tex-117-E"},{"$f":"IF(Worksheet!$B$46=\"\",\"\",Worksheet!$B$46)","v":"Circumference, in. (manual):"},{"$f":"IF(Worksheet!$F$33=\"\",\"\",Worksheet!$F$33)","v":3}]
[51,{"$f":"IF(Worksheet!$G$46=\"\",\"\",Worksheet!$G$46)","v":""},{"$f":"IF(Worksheet!$B$6=\"\",\"\",Worksheet!$B$6)","v":"Tex-117-E"},{"$f":"IF(Worksheet!$B$46=\"\",\"\",Worksheet!$B$46)","v":"Circumference, in. (manual):"},{"$f":"IF(Worksheet!$G$33=\"\",\"\",Worksheet!$G$33)","v":4}]
[52,{"$f":"IF(Worksheet!$H$46=\"\",\"\",Worksheet!$H$46)","v":""},{"$f":"IF(Worksheet!$B$6=\"\",\"\",Worksheet!$B$6)","v":"Tex-117-E"},{"$f":"IF(Worksheet!$B$46=\"\",\"\",Worksheet!$B$46)","v":"Circumference, in. (manual):"},{"$f":"IF(Worksheet!$H$33=\"\",\"\",Worksheet!$H$33)","v":5}]
[53,{"$f":"IF(Worksheet!$I$46=\"\",\"\",Worksheet!$I$46)","v":""},{"$f":"IF(Worksheet!$B$6=\"\",\"\",Worksheet!$B$6)","v":"Tex-117-E"},{"$f":"IF(Worksheet!$B$46=\"\",\"\",Worksheet!$B$46)","v":"Circumference, in. (manual):"},{"$f":"IF(Worksheet!$I$33=\"\",\"\",Worksheet!$I$33)","v":6}]
[54,{"$f":"IF(Worksheet!$J$46=\"\",\"\",Worksheet!$J$46)","v":""},{"$f":"IF(Worksheet!$B$6=\"\",\"\",Worksheet!$B$6)","v":"Tex-117-E"},{"$f":"IF(Worksheet!$B$46=\"\",\"\",Worksheet!$B$46)","v":"Circumference, in. (manual):"},{"$f":"IF(Worksheet!$J$33=\"\",\"\",Worksheet!$J$33)","v":7}]
[55,{"$f":"IF(Worksheet!$K$46=\"\",\"\",Worksheet!$K$46)","v":""},{"$f":"IF(Worksheet!$B$6=\"\",\"\",Worksheet!$B$6)","v":"Tex-117-E"},{"$f":"IF(Worksheet!$B$46=\"\",\"\",Worksheet!$B$46)","v":"Circumference, in. (manual):"},{"$f":"IF(Worksheet!$K$33=\"\",\"\",Worksheet!$K$33)","v":8}]
[56,{"$f":"IF(Worksheet!$D$47=\"\",\"\",Worksheet!$D$47)","v":""},{"$f":"IF(Worksheet!$B$6=\"\",\"\",Worksheet!$B$6)","v":"Tex-117-E"},{"$f":"IF(Worksheet!$B$47=\"\",\"\",Worksheet!$B$47)","v":"Circumference, in. (auto):"},{"$f":"IF(Worksheet!$D$33=\"\",\"\",Worksheet!$D$33)","v":1}]
[57,{"$f":"IF(Worksheet!$E$47=\"\",\"\",Worksheet!$E$47)","v":""},{"$f":"IF(Worksheet!$B$6=\"\",\"\",Worksheet!$B$6)","v":"Tex-117-E"},{"$f":"IF(Worksheet!$B$47=\"\",\"\",Worksheet!$B$47)","v":"Circumference, in. (auto):"},{"$f":"IF(Worksheet!$E$33=\"\",\"\",Worksheet!$E$33)","v":2}]
[58,{"$f":"IF(Worksheet!$F$47=\"\",\"\",Worksheet!$F$47)","v":""},{"$f":"IF(Worksheet!$B$6=\"\",\"\",Worksheet!$B$6)","v":"Tex-117-E"},{"$f":"IF(Worksheet!$B$47=\"\",\"\",Worksheet!$B$47)","v":"Circumference, in. (auto):"},{"$f":"IF(Worksheet!$F$33=\"\",\"\",Worksheet!$F$33)","v":3}]
[59,{"$f":"IF(Worksheet!$G$47=\"\",\"\",Worksheet!$G$47)","v":""},{"$f":"IF(Worksheet!$B$6=\"\",\"\",Worksheet!$B$6)","v":"Tex-117-E"},{"$f":"IF(Worksheet!$B$47=\"\",\"\",Worksheet!$B$47)","v":"Circumference, in. (auto):"},{"$f":"IF(Worksheet!$G$33=\"\",\"\",Worksheet!$G$33)","v":4}]
[60,{"$f":"IF(Worksheet!$H$47=\"\",\"\",Worksheet!$H$47)","v":""},{"$f":"IF(Worksheet!$B$6=\"\",\"\",Worksheet!$B$6)","v":"Tex-117-E"},{"$f":"IF(Worksheet!$B$47=\"\",\"\",Worksheet!$B$47)","v":"Circumference, in. (auto):"},{"$f":"IF(Worksheet!$H$33=\"\",\"\",Worksheet!$H$33)","v":5}]
[61,{"$f":"IF(Worksheet!$I$47=\"\",\"\",Worksheet!$I$47)","v":""},{"$f":"IF(Worksheet!$B$6=\"\",\"\",Worksheet!$B$6)","v":"Tex-117-E"},{"$f":"IF(Worksheet!$B$47=\"\",\"\",Worksheet!$B$47)","v":"Circumference, in. (auto):"},{"$f":"IF(Worksheet!$I$33=\"\",\"\",Worksheet!$I$33)","v":6}]
[62,{"$f":"IF(Worksheet!$J$47=\"\",\"\",Worksheet!$J$47)","v":""},{"$f":"IF(Worksheet!$B$6=\"\",\"\",Worksheet!$B$6)","v":"Tex-117-E"},{"$f":"IF(Worksheet!$B$47=\"\",\"\",Worksheet!$B$47)","v":"Circumference, in. (auto):"},{"$f":"IF(Worksheet!$J$33=\"\",\"\",Worksheet!$J$33)","v":7}]
[63,{"$f":"IF(Worksheet!$K$47=\"\",\"\",Worksheet!$K$47)","v":""},{"$f":"IF(Worksheet!$B$6=\"\",\"\",Worksheet!$B$6)","v":"Tex-117-E"},{"$f":"IF(Worksheet!$B$47=\"\",\"\",Worksheet!$B$47)","v":"Circumference, in. (auto):"},{"$f":"IF(Worksheet!$K$33=\"\",\"\",Worksheet!$K$33)","v":8}]
[64,{"$f":"IF(Worksheet!$D$48=\"\",\"\",Worksheet!$D$48)","v":""},{"$f":"IF(Worksheet!$B$6=\"\",\"\",Worksheet!$B$6)","v":"Tex-117-E"},{"$f":"IF(Worksheet!$B$48=\"\",\"\",Worksheet!$B$48)","v":"Area, in.^2:"},{"$f":"IF(Worksheet!$D$33=\"\",\"\",Worksheet!$D$33)","v":1}]
[65,{"$f":"IF(Worksheet!$E$48=\"\",\"\",Worksheet!$E$48)","v":""},{"$f":"IF(Worksheet!$B$6=\"\",\"\",Worksheet!$B$6)","v":"Tex-117-E"},{"$f":"IF(Worksheet!$B$48=\"\",\"\",Worksheet!$B$48)","v":"Area, in.^2:"},{"$f":"IF(Worksheet!$E$33=\"\",\"\",Worksheet!$E$33)","v":2}]
[66,{"$f":"IF(Worksheet!$F$48=\"\",\"\",Worksheet!$F$48)","v":""},{"$f":"IF(Worksheet!$B$6=\"\",\"\",Worksheet!$B$6)","v":"Tex-117-E"},{"$f":"IF(Worksheet!$B$48=\"\",\"\",Worksheet!$B$48)","v":"Area, in.^2:"},{"$f":"IF(Worksheet!$F$33=\"\",\"\",Worksheet!$F$33)","v":3}]
[67,{"$f":"IF(Worksheet!$G$48=\"\",\"\",Worksheet!$G$48)","v":""},{"$f":"IF(Worksheet!$B$6=\"\",\"\",Worksheet!$B$6)","v":"Tex-117-E"},{"$f":"IF(Worksheet!$B$48=\"\",\"\",Worksheet!$B$48)","v":"Area, in.^2:"},{"$f":"IF(Worksheet!$G$33=\"\",\"\",Worksheet!$G$33)","v":4}]
[68,{"$f":"IF(Worksheet!$H$48=\"\",\"\",Worksheet!$H$48)","v":""},{"$f":"IF(Worksheet!$B$6=\"\",\"\",Worksheet!$B$6)","v":"Tex-117-E"},{"$f":"IF(Worksheet!$B$48=\"\",\"\",Worksheet!$B$48)","v":"Area, in.^2:"},{"$f":"IF(Worksheet!$H$33=\"\",\"\",Worksheet!$H$33)","v":5}]
[69,{"$f":"IF(Worksheet!$I$48=\"\",\"\",Worksheet!$I$48)","v":""},{"$f":"IF(Worksheet!$B$6=\"\",\"\",Worksheet!$B$6)","v":"Tex-117-E"},{"$f":"IF(Worksheet!$B$48=\"\",\"\",Worksheet!$B$48)","v":"Area, in.^2:"},{"$f":"IF(Worksheet!$I$33=\"\",\"\",Worksheet!$I$33)","v":6}]
[70,{"$f":"IF(Worksheet!$J$48=\"\",\"\",Worksheet!$J$48)","v":""},{"$f":"IF(Worksheet!$B$6=\"\",\"\",Worksheet!$B$6)","v":"Tex-117-E"},{"$f":"IF(Worksheet!$B$48=\"\",\"\",Worksheet!$B$48)","v":"Area, in.^2:"},{"$f":"IF(Worksheet!$J$33=\"\",\"\",Worksheet!$J$33)","v":7}]
[71,{"$f":"IF(Worksheet!$K$48=\"\",\"\",Worksheet!$K$48)","v":""},{"$f":"IF(Worksheet!$B$6=\"\",\"\",Worksheet!$B$6)","v":"Tex-117-E"},{"$f":"IF(Worksheet!$B$48=\"\",\"\",Worksheet!$B$48)","v":"Area, in.^2:"},{"$f":"IF(Worksheet!$K$33=\"\",\"\",Worksheet!$K$33)","v":8}]
[72,{"$f":"IF(Worksheet!$D$49=\"\",\"\",Worksheet!$D$49)","v":""},{"$f":"IF(Worksheet!$B$6=\"\",\"\",Worksheet!$B$6)","v":"Tex-117-E"},{"$f":"IF(Worksheet!$B$49=\"\",\"\",Worksheet!$B$49)","v":"Avg. Cross Sectional Area, in^2:"},{"$f":"IF(Worksheet!$D$33=\"\",\"\",Worksheet!$D$33)","v":1}]
[73,{"$f":"IF(Worksheet!$E$49=\"\",\"\",Worksheet!$E$49)","v":""},{"$f":"IF(Worksheet!$B$6=\"\",\"\",Worksheet!$B$6)","v":"Tex-117-E"},{"$f":"IF(Worksheet!$B$49=\"\",\"\",Worksheet!$B$49)","v":"Avg. Cross Sectional Area, in^2:"},{"$f":"IF(Worksheet!$E$33=\"\",\"\",Worksheet!$E$33)","v":2}]
[74,{"$f":"IF(Worksheet!$F$49=\"\",\"\",Worksheet!$F$49)","v":""},{"$f":"IF(Worksheet!$B$6=\"\",\"\",Worksheet!$B$6)","v":"Tex-117-E"},{"$f":"IF(Worksheet!$B$49=\"\",\"\",Worksheet!$B$49)","v":"Avg. Cross Sectional Area, in^2:"},{"$f":"IF(Worksheet!$F$33=\"\",\"\",Worksheet!$F$33)","v":3}]
[75,{"$f":"IF(Worksheet!$G$49=\"\",\"\",Worksheet!$G$49)","v":""},{"$f":"IF(Worksheet!$B$6=\"\",\"\",Worksheet!$B$6)","v":"Tex-117-E"},{"$f":"IF(Worksheet!$B$49=\"\",\"\",Worksheet!$B$49)","v":"Avg. Cross Sectional Area, in^2:"},{"$f":"IF(Worksheet!$G$33=\"\",\"\",Worksheet!$G$33)","v":4}]
[76,{"$f":"IF(Worksheet!$H$49=\"\",\"\",Worksheet!$H$49)","v":""},{"$f":"IF(Worksheet!$B$6=\"\",\"\",Worksheet!$B$6)","v":"Tex-117-E"},{"$f":"IF(Worksheet!$B$49=\"\",\"\",Worksheet!$B$49)","v":"Avg. Cross Sectional Area, in^2:"},{"$f":"IF(Worksheet!$H$33=\"\",\"\",Worksheet!$H$33)","v":5}]
[77,{"$f":"IF(Worksheet!$I$49=\"\",\"\",Worksheet!$I$49)","v":""},{"$f":"IF(Worksheet!$B$6=\"\",\"\",Worksheet!$B$6)","v":"Tex-117-E"},{"$f":"IF(Worksheet!$B$49=\"\",\"\",Worksheet!$B$49)","v":"Avg. Cross Sectional Area, in^2:"},{"$f":"IF(Worksheet!$I$33=\"\",\"\",Worksheet!$I$33)","v":6}]
[78,{"$f":"IF(Worksheet!$J$49=\"\",\"\",Worksheet!$J$49)","v":""},{"$f":"IF(Worksheet!$B$6=\"\",\"\",Worksheet!$B$6)","v":"Tex-117-E"},{"$f":"IF(Worksheet!$B$49=\"\",\"\",Worksheet!$B$49)","v":"Avg. Cross Sectional Area, in^2:"},{"$f":"IF(Worksheet!$J$33=\"\",\"\",Worksheet!$J$33)","v":7}]
[79,{"$f":"IF(Worksheet!$K$49=\"\",\"\",Worksheet!$K$49)","v":""},{"$f":"IF(Worksheet!$B$6=\"\",\"\",Worksheet!$B$6)","v":"Tex-117-E"},{"$f":"IF(Worksheet!$B$49=\"\",\"\",Worksheet!$B$49)","v":"Avg. Cross Sectional Area, in^2:"},{"$f":"IF(Worksheet!$K$33=\"\",\"\",Worksheet!$K$33)","v":8}]
[80,{"$f":"IF(Worksheet!$D$62=\"\",\"\",Worksheet!$D$62)","v":""},{"$f":"IF(Worksheet!$B$6=\"\",\"\",Worksheet!$B$6)","v":"Tex-117-E"},{"$f":"IF(Worksheet!$B$62=\"\",\"\",Worksheet!$B$62)","v":"Lateral Pressure, psi.:"},{"$f":"IF(Worksheet!$D$33=\"\",\"\",Worksheet!$D$33)","v":1}]
[81,{"$f":"IF(Worksheet!$E$62=\"\",\"\",Worksheet!$E$62)","v":""},{"$f":"IF(Worksheet!$B$6=\"\",\"\",Worksheet!$B$6)","v":"Tex-117-E"},{"$f":"IF(Worksheet!$B$62=\"\",\"\",Worksheet!$B$62)","v":"Lateral Pressure, psi.:"},{"$f":"IF(Worksheet!$E$33=\"\",\"\",Worksheet!$E$33)","v":2}]
[82,{"$f":"IF(Worksheet!$F$62=\"\",\"\",Worksheet!$F$62)","v":""},{"$f":"IF(Worksheet!$B$6=\"\",\"\",Worksheet!$B$6)","v":"Tex-117-E"},{"$f":"IF(Worksheet!$B$62=\"\",\"\",Worksheet!$B$62)","v":"Lateral Pressure, psi.:"},{"$f":"IF(Worksheet!$F$33=\"\",\"\",Worksheet!$F$33)","v":3}]
[83,{"$f":"IF(Worksheet!$G$62=\"\",\"\",Worksheet!$G$62)","v":""},{"$f":"IF(Worksheet!$B$6=\"\",\"\",Worksheet!$B$6)","v":"Tex-117-E"},{"$f":"IF(Worksheet!$B$62=\"\",\"\",Worksheet!$B$62)","v":"Lateral Pressure, psi.:"},{"$f":"IF(Worksheet!$G$33=\"\",\"\",Worksheet!$G$33)","v":4}]
[84,{"$f":"IF(Worksheet!$H$62=\"\",\"\",Worksheet!$H$62)","v":""},{"$f":"IF(Worksheet!$B$6=\"\",\"\",Worksheet!$B$6)","v":"Tex-117-E"},{"$f":"IF(Worksheet!$B$62=\"\",\"\",Worksheet!$B$62)","v":"Lateral Pressure, psi.:"},{"$f":"IF(Worksheet!$H$33=\"\",\"\",Worksheet!$H$33)","v":5}]
[85,{"$f":"IF(Worksheet!$I$62=\"\",\"\",Worksheet!$I$62)","v":""},{"$f":"IF(Worksheet!$B$6=\"\",\"\",Worksheet!$B$6)","v":"Tex-117-E"},{"$f":"IF(Worksheet!$B$62=\"\",\"\",Worksheet!$B$62)","v":"Lateral Pressure, psi.:"},{"$f":"IF(Worksheet!$I$33=\"\",\"\",Worksheet!$I$33)","v":6}]
[86,{"$f":"IF(Worksheet!$J$62=\"\",\"\",Worksheet!$J$62)","v":""},{"$f":"IF(Worksheet!$B$6=\"\",\"\",Worksheet!$B$6)","v":"Tex-117-E"},{"$f":"IF(Worksheet!$B$62=\"\",\"\",Worksheet!$B$62)","v":"Lateral Pressure, psi.:"},{"$f":"IF(Worksheet!$J$33=\"\",\"\",Worksheet!$J$33)","v":7}]
[87,{"$f":"IF(Worksheet!$K$62=\"\",\"\",Worksheet!$K$62)","v":""},{"$f":"IF(Worksheet!$B$6=\"\",\"\",Worksheet!$B$6)","v":"Tex-117-E"},{"$f":"IF(Worksheet!$B$62=\"\",\"\",Worksheet!$B$62)","v":"Lateral Pressure, psi.:"},{"$f":"IF(Worksheet!$K$33=\"\",\"\",Worksheet!$K$33)","v":8}]
[88,{"$f":"IF(Worksheet!$D$64=\"\",\"\",Worksheet!$D$64)","v":""},{"$f":"IF(Worksheet!$B$6=\"\",\"\",Worksheet!$B$6)","v":"Tex-117-E"},{"$f":"IF(Worksheet!$B$64=\"\",\"\",Worksheet!$B$64)","v":"Calibration Factor:"},{"$f":"IF(Worksheet!$D$33=\"\",\"\",Worksheet!$D$33)","v":1}]
[89,{"$f":"IF(Worksheet!$E$64=\"\",\"\",Worksheet!$E$64)","v":""},{"$f":"IF(Worksheet!$B$6=\"\",\"\",Worksheet!$B$6)","v":"Tex-117-E"},{"$f":"IF(Worksheet!$B$64=\"\",\"\",Worksheet!$B$64)","v":"Calibration Factor:"},{"$f":"IF(Worksheet!$E$33=\"\",\"\",Worksheet!$E$33)","v":2}]
[90,{"$f":"IF(Worksheet!$F$64=\"\",\"\",Worksheet!$F$64)","v":""},{"$f":"IF(Worksheet!$B$6=\"\",\"\",Worksheet!$B$6)","v":"Tex-117-E"},{"$f":"IF(Worksheet!$B$64=\"\",\"\",Worksheet!$B$64)","v":"Calibration Factor:"},{"$f":"IF(Worksheet!$F$33=\"\",\"\",Worksheet!$F$33)","v":3}]
[91,{"$f":"IF(Worksheet!$G$64=\"\",\"\",Worksheet!$G$64)","v":""},{"$f":"IF(Worksheet!$B$6=\"\",\"\",Worksheet!$B$6)","v":"Tex-117-E"},{"$f":"IF(Worksheet!$B$64=\"\",\"\",Worksheet!$B$64)","v":"Calibration Factor:"},{"$f":"IF(Worksheet!$G$33=\"\",\"\",Worksheet!$G$33)","v":4}]
[92,{"$f":"IF(Worksheet!$H$64=\"\",\"\",Worksheet!$H$64)","v":""},{"$f":"IF(Worksheet!$B$6=\"\",\"\",Worksheet!$B$6)","v":"Tex-117-E"},{"$f":"IF(Worksheet!$B$64=\"\",\"\",Worksheet!$B$64)","v":"Calibration Factor:"},{"$f":"IF(Worksheet!$H$33=\"\",\"\",Worksheet!$H$33)","v":5}]
[93,{"$f":"IF(Worksheet!$I$64=\"\",\"\",Worksheet!$I$64)","v":""},{"$f":"IF(Worksheet!$B$6=\"\",\"\",Worksheet!$B$6)","v":"Tex-117-E"},{"$f":"IF(Worksheet!$B$64=\"\",\"\",Worksheet!$B$64)","v":"Calibration Factor:"},{"$f":"IF(Worksheet!$I$33=\"\",\"\",Worksheet!$I$33)","v":6}]
[94,{"$f":"IF(Worksheet!$J$64=\"\",\"\",Worksheet!$J$64)","v":""},{"$f":"IF(Worksheet!$B$6=\"\",\"\",Worksheet!$B$6)","v":"Tex-117-E"},{"$f":"IF(Worksheet!$B$64=\"\",\"\",Worksheet!$B$64)","v":"Calibration Factor:"},{"$f":"IF(Worksheet!$J$33=\"\",\"\",Worksheet!$J$33)","v":7}]
[95,{"$f":"IF(Worksheet!$K$64=\"\",\"\",Worksheet!$K$64)","v":""},{"$f":"IF(Worksheet!$B$6=\"\",\"\",Worksheet!$B$6)","v":"Tex-117-E"},{"$f":"IF(Worksheet!$B$64=\"\",\"\",Worksheet!$B$64)","v":"Calibration Factor:"},{"$f":"IF(Worksheet!$K$33=\"\",\"\",Worksheet!$K$33)","v":8}]
[96,{"$f":"IF(Worksheet!$D$65=\"\",\"\",Worksheet!$D$65)","v":""},{"$f":"IF(Worksheet!$B$6=\"\",\"\",Worksheet!$B$6)","v":"Tex-117-E"},{"$f":"IF(Worksheet!$B$65=\"\",\"\",Worksheet!$B$65)","v":"Excitation:"},{"$f":"IF(Worksheet!$D$33=\"\",\"\",Worksheet!$D$33)","v":1}]
[97,{"$f":"IF(Worksheet!$E$65=\"\",\"\",Worksheet!$E$65)","v":""},{"$f":"IF(Worksheet!$B$6=\"\",\"\",Worksheet!$B$6)","v":"Tex-117-E"},{"$f":"IF(Worksheet!$B$65=\"\",\"\",Worksheet!$B$65)","v":"Excitation:"},{"$f":"IF(Worksheet!$E$33=\"\",\"\",Worksheet!$E$33)","v":2}]
[98,{"$f":"IF(Worksheet!$F$65=\"\",\"\",Worksheet!$F$65)","v":""},{"$f":"IF(Worksheet!$B$6=\"\",\"\",Worksheet!$B$6)","v":"Tex-117-E"},{"$f":"IF(Worksheet!$B$65=\"\",\"\",Worksheet!$B$65)","v":"Excitation:"},{"$f":"IF(Worksheet!$F$33=\"\",\"\",Worksheet!$F$33)","v":3}]
[99,{"$f":"IF(Worksheet!$G$65=\"\",\"\",Worksheet!$G$65)","v":""},{"$f":"IF(Worksheet!$B$6=\"\",\"\",Worksheet!$B$6)","v":"Tex-117-E"},{"$f":"IF(Worksheet!$B$65=\"\",\"\",Worksheet!$B$65)","v":"Excitation:"},{"$f":"IF(Worksheet!$G$33=\"\",\"\",Worksheet!$G$33)","v":4}]
[100,{"$f":"IF(Worksheet!$H$65=\"\",\"\",Worksheet!$H$65)","v":""},{"$f":"IF(Worksheet!$B$6=\"\",\"\",Worksheet!$B$6)","v":"Tex-117-E"},{"$f":"IF(Worksheet!$B$65=\"\",\"\",Worksheet!$B$65)","v":"Excitation:"},{"$f":"IF(Worksheet!$H$33=\"\",\"\",Worksheet!$H$33)","v":5}]
[101,{"$f":"IF(Worksheet!$I$65=\"\",\"\",Worksheet!$I$65)","v":""},{"$f":"IF(Worksheet!$B$6=\"\",\"\",Worksheet!$B$6)","v":"Tex-117-E"},{"$f":"IF(Worksheet!$B$65=\"\",\"\",Worksheet!$B$65)","v":"Excitation:"},{"$f":"IF(Worksheet!$I$33=\"\",\"\",Worksheet!$I$33)","v":6}]
[102,{"$f":"IF(Worksheet!$J$65=\"\",\"\",Worksheet!$J$65)","v":""},{"$f":"IF(Worksheet!$B$6=\"\",\"\",Worksheet!$B$6)","v":"Tex-117-E"},{"$f":"IF(Worksheet!$B$65=\"\",\"\",Worksheet!$B$65)","v":"Excitation:"},{"$f":"IF(Worksheet!$J$33=\"\",\"\",Worksheet!$J$33)","v":7}]
[103,{"$f":"IF(Worksheet!$K$65=\"\",\"\",Worksheet!$K$65)","v":""},{"$f":"IF(Worksheet!$B$6=\"\",\"\",Worksheet!$B$6)","v":"Tex-117-E"},{"$f":"IF(Worksheet!$B$65=\"\",\"\",Worksheet!$B$65)","v":"Excitation:"},{"$f":"IF(Worksheet!$K$33=\"\",\"\",Worksheet!$K$33)","v":8}]
[104,{"$f":"IF(Worksheet!$D$66=\"\",\"\",Worksheet!$D$66)","v":""},{"$f":"IF(Worksheet!$B$6=\"\",\"\",Worksheet!$B$6)","v":"Tex-117-E"},{"$f":"IF(Worksheet!$B$66=\"\",\"\",Worksheet!$B$66)","v":"Zero:"},{"$f":"IF(Worksheet!$D$33=\"\",\"\",Worksheet!$D$33)","v":1}]
[105,{"$f":"IF(Worksheet!$E$66=\"\",\"\",Worksheet!$E$66)","v":""},{"$f":"IF(Worksheet!$B$6=\"\",\"\",Worksheet!$B$6)","v":"Tex-117-E"},{"$f":"IF(Worksheet!$B$66=\"\",\"\",Worksheet!$B$66)","v":"Zero:"},{"$f":"IF(Worksheet!$E$33=\"\",\"\",Worksheet!$E$33)","v":2}]
[106,{"$f":"IF(Worksheet!$F$66=\"\",\"\",Worksheet!$F$66)","v":""},{"$f":"IF(Worksheet!$B$6=\"\",\"\",Worksheet!$B$6)","v":"Tex-117-E"},{"$f":"IF(Worksheet!$B$66=\"\",\"\",Worksheet!$B$66)","v":"Zero:"},{"$f":"IF(Worksheet!$F$33=\"\",\"\",Worksheet!$F$33)","v":3}]
[107,{"$f":"IF(Worksheet!$G$66=\"\",\"\",Worksheet!$G$66)","v":""},{"$f":"IF(Worksheet!$B$6=\"\",\"\",Worksheet!$B$6)","v":"Tex-117-E"},{"$f":"IF(Worksheet!$B$66=\"\",\"\",Worksheet!$B$66)","v":"Zero:"},{"$f":"IF(Worksheet!$G$33=\"\",\"\",Worksheet!$G$33)","v":4}]
[108,{"$f":"IF(Worksheet!$H$66=\"\",\"\",Worksheet!$H$66)","v":""},{"$f":"IF(Worksheet!$B$6=\"\",\"\",Worksheet!$B$6)","v":"Tex-117-E"},{"$f":"IF(Worksheet!$B$66=\"\",\"\",Worksheet!$B$66)","v":"Zero:"},{"$f":"IF(Worksheet!$H$33=\"\",\"\",Worksheet!$H$33)","v":5}]
[109,{"$f":"IF(Worksheet!$I$66=\"\",\"\",Worksheet!$I$66)","v":""},{"$f":"IF(Worksheet!$B$6=\"\",\"\",Worksheet!$B$6)","v":"Tex-117-E"},{"$f":"IF(Worksheet!$B$66=\"\",\"\",Worksheet!$B$66)","v":"Zero:"},{"$f":"IF(Worksheet!$I$33=\"\",\"\",Worksheet!$I$33)","v":6}]
[110,{"$f":"IF(Worksheet!$J$66=\"\",\"\",Worksheet!$J$66)","v":""},{"$f":"IF(Worksheet!$B$6=\"\",\"\",Worksheet!$B$6)","v":"Tex-117-E"},{"$f":"IF(Worksheet!$B$66=\"\",\"\",Worksheet!$B$66)","v":"Zero:"},{"$f":"IF(Worksheet!$J$33=\"\",\"\",Worksheet!$J$33)","v":7}]
[111,{"$f":"IF(Worksheet!$K$66=\"\",\"\",Worksheet!$K$66)","v":""},{"$f":"IF(Worksheet!$B$6=\"\",\"\",Worksheet!$B$6)","v":"Tex-117-E"},{"$f":"IF(Worksheet!$B$66=\"\",\"\",Worksheet!$B$66)","v":"Zero:"},{"$f":"IF(Worksheet!$K$33=\"\",\"\",Worksheet!$K$33)","v":8}]
[112,{"$f":"IF(Worksheet!$D$67=\"\",\"\",Worksheet!$D$67)","v":""},{"$f":"IF(Worksheet!$B$6=\"\",\"\",Worksheet!$B$6)","v":"Tex-117-E"},{"$f":"IF(Worksheet!$B$67=\"\",\"\",Worksheet!$B$67)","v":"Ring Factor, lbs./div"},{"$f":"IF(Worksheet!$D$33=\"\",\"\",Worksheet!$D$33)","v":1}]
[113,{"$f":"IF(Worksheet!$E$67=\"\",\"\",Worksheet!$E$67)","v":""},{"$f":"IF(Worksheet!$B$6=\"\",\"\",Worksheet!$B$6)","v":"Tex-117-E"},{"$f":"IF(Worksheet!$B$67=\"\",\"\",Worksheet!$B$67)","v":"Ring Factor, lbs./div"},{"$f":"IF(Worksheet!$E$33=\"\",\"\",Worksheet!$E$33)","v":2}]
[114,{"$f":"IF(Worksheet!$F$67=\"\",\"\",Worksheet!$F$67)","v":""},{"$f":"IF(Worksheet!$B$6=\"\",\"\",Worksheet!$B$6)","v":"Tex-117-E"},{"$f":"IF(Worksheet!$B$67=\"\",\"\",Worksheet!$B$67)","v":"Ring Factor, lbs./div"},{"$f":"IF(Worksheet!$F$33=\"\",\"\",Worksheet!$F$33)","v":3}]
[115,{"$f":"IF(Worksheet!$G$67=\"\",\"\",Worksheet!$G$67)","v":""},{"$f":"IF(Worksheet!$B$6=\"\",\"\",Worksheet!$B$6)","v":"Tex-117-E"},{"$f":"IF(Worksheet!$B$67=\"\",\"\",Worksheet!$B$67)","v":"Ring Factor, lbs./div"},{"$f":"IF(Worksheet!$G$33=\"\",\"\",Worksheet!$G$33)","v":4}]
[116,{"$f":"IF(Worksheet!$H$67=\"\",\"\",Worksheet!$H$67)","v":""},{"$f":"IF(Worksheet!$B$6=\"\",\"\",Worksheet!$B$6)","v":"Tex-117-E"},{"$f":"IF(Worksheet!$B$67=\"\",\"\",Worksheet!$B$67)","v":"Ring Factor, lbs./div"},{"$f":"IF(Worksheet!$H$33=\"\",\"\",Worksheet!$H$33)","v":5}]
[117,{"$f":"IF(Worksheet!$I$67=\"\",\"\",Worksheet!$I$67)","v":""},{"$f":"IF(Worksheet!$B$6=\"\",\"\",Worksheet!$B$6)","v":"Tex-117-E"},{"$f":"IF(Worksheet!$B$67=\"\",\"\",Worksheet!$B$67)","v":"Ring Factor, lbs./div"},{"$f":"IF(Worksheet!$I$33=\"\",\"\",Worksheet!$I$33)","v":6}]
[118,{"$f":"IF(Worksheet!$J$67=\"\",\"\",Worksheet!$J$67)","v":""},{"$f":"IF(Worksheet!$B$6=\"\",\"\",Worksheet!$B$6)","v":"Tex-117-E"},{"$f":"IF(Worksheet!$B$67=\"\",\"\",Worksheet!$B$67)","v":"Ring Factor, lbs./div"},{"$f":"IF(Worksheet!$J$33=\"\",\"\",Worksheet!$J$33)","v":7}]
[119,{"$f":"IF(Worksheet!$K$67=\"\",\"\",Worksheet!$K$67)","v":""},{"$f":"IF(Worksheet!$B$6=\"\",\"\",Worksheet!$B$6)","v":"Tex-117-E"},{"$f":"IF(Worksheet!$B$67=\"\",\"\",Worksheet!$B$67)","v":"Ring Factor, lbs./div"},{"$f":"IF(Worksheet!$K$33=\"\",\"\",Worksheet!$K$33)","v":8}]
[120,{"$f":"IF(Worksheet!$D$68=\"\",\"\",Worksheet!$D$68)","v":""},{"$f":"IF(Worksheet!$B$6=\"\",\"\",Worksheet!$B$6)","v":"Tex-117-E"},{"$f":"IF(Worksheet!$B$68=\"\",\"\",Worksheet!$B$68)","v":"Dead Load, lbs.:"},{"$f":"IF(Worksheet!$D$33=\"\",\"\",Worksheet!$D$33)","v":1}]
[121,{"$f":"IF(Worksheet!$E$68=\"\",\"\",Worksheet!$E$68)","v":""},{"$f":"IF(Worksheet!$B$6=\"\",\"\",Worksheet!$B$6)","v":"Tex-117-E"},{"$f":"IF(Worksheet!$B$68=\"\",\"\",Worksheet!$B$68)","v":"Dead Load, lbs.:"},{"$f":"IF(Worksheet!$E$33=\"\",\"\",Worksheet!$E$33)","v":2}]
[122,{"$f":"IF(Worksheet!$F$68=\"\",\"\",Worksheet!$F$68)","v":""},{"$f":"IF(Worksheet!$B$6=\"\",\"\",Worksheet!$B$6)","v":"Tex-117-E"},{"$f":"IF(Worksheet!$B$68=\"\",\"\",Worksheet!$B$68)","v":"Dead Load, lbs.:"},{"$f":"IF(Worksheet!$F$33=\"\",\"\",Worksheet!$F$33)","v":3}]
[123,{"$f":"IF(Worksheet!$G$68=\"\",\"\",Worksheet!$G$68)","v":""},{"$f":"IF(Worksheet!$B$6=\"\",\"\",Worksheet!$B$6)","v":"Tex-117-E"},{"$f":"IF(Worksheet!$B$68=\"\",\"\",Worksheet!$B$68)","v":"Dead Load, lbs.:"},{"$f":"IF(Worksheet!$G$33=\"\",\"\",Worksheet!$G$33)","v":4}]
[124,{"$f":"IF(Worksheet!$H$68=\"\",\"\",Worksheet!$H$68)","v":""},{"$f":"IF(Worksheet!$B$6=\"\",\"\",Worksheet!$B$6)","v":"Tex-117-E"},{"$f":"IF(Worksheet!$B$68=\"\",\"\",Worksheet!$B$68)","v":"Dead Load, lbs.:"},{"$f":"IF(Worksheet!$H$33=\"\",\"\",Worksheet!$H$33)","v":5}]
[125,{"$f":"IF(Worksheet!$I$68=\"\",\"\",Worksheet!$I$68)","v":""},{"$f":"IF(Worksheet!$B$6=\"\",\"\",Worksheet!$B$6)","v":"Tex-117-E"},{"$f":"IF(Worksheet!$B$68=\"\",\"\",Worksheet!$B$68)","v":"Dead Load, lbs.:"},{"$f":"IF(Worksheet!$I$33=\"\",\"\",Worksheet!$I$33)","v":6}]
[126,{"$f":"IF(Worksheet!$J$68=\"\",\"\",Worksheet!$J$68)","v":""},{"$f":"IF(Worksheet!$B$6=\"\",\"\",Worksheet!$B$6)","v":"Tex-117-E"},{"$f":"IF(Worksheet!$B$68=\"\",\"\",Worksheet!$B$68)","v":"Dead Load, lbs.:"},{"$f":"IF(Worksheet!$J$33=\"\",\"\",Worksheet!$J$33)","v":7}]
[127,{"$f":"IF(Worksheet!$K$68=\"\",\"\",Worksheet!$K$68)","v":""},{"$f":"IF(Worksheet!$B$6=\"\",\"\",Worksheet!$B$6)","v":"Tex-117-E"},{"$f":"IF(Worksheet!$B$68=\"\",\"\",Worksheet!$B$68)","v":"Dead Load, lbs.:"},{"$f":"IF(Worksheet!$K$33=\"\",\"\",Worksheet!$K$33)","v":8}]
[128,{"$f":"IF(Worksheet!$D$69=\"\",\"\",Worksheet!$D$69)","v":""},{"$f":"IF(Worksheet!$B$6=\"\",\"\",Worksheet!$B$6)","v":"Tex-117-E"},{"$f":"IF(Worksheet!$B$69=\"\",\"\",Worksheet!$B$69)","v":"Piston Correction, lbs.:"},{"$f":"IF(Worksheet!$D$33=\"\",\"\",Worksheet!$D$33)","v":1}]
[129,{"$f":"IF(Worksheet!$E$69=\"\",\"\",Worksheet!$E$69)","v":""},{"$f":"IF(Worksheet!$B$6=\"\",\"\",Worksheet!$B$6)","v":"Tex-117-E"},{"$f":"IF(Worksheet!$B$69=\"\",\"\",Worksheet!$B$69)","v":"Piston Correction, lbs.:"},{"$f":"IF(Worksheet!$E$33=\"\",\"\",Worksheet!$E$33)","v":2}]
[130,{"$f":"IF(Worksheet!$F$69=\"\",\"\",Worksheet!$F$69)","v":""},{"$f":"IF(Worksheet!$B$6=\"\",\"\",Worksheet!$B$6)","v":"Tex-117-E"},{"$f":"IF(Worksheet!$B$69=\"\",\"\",Worksheet!$B$69)","v":"Piston Correction, lbs.:"},{"$f":"IF(Worksheet!$F$33=\"\",\"\",Worksheet!$F$33)","v":3}]
[131,{"$f":"IF(Worksheet!$G$69=\"\",\"\",Worksheet!$G$69)","v":""},{"$f":"IF(Worksheet!$B$6=\"\",\"\",Worksheet!$B$6)","v":"Tex-117-E"},{"$f":"IF(Worksheet!$B$69=\"\",\"\",Worksheet!$B$69)","v":"Piston Correction, lbs.:"},{"$f":"IF(Worksheet!$G$33=\"\",\"\",Worksheet!$G$33)","v":4}]
[132,{"$f":"IF(Worksheet!$H$69=\"\",\"\",Worksheet!$H$69)","v":""},{"$f":"IF(Worksheet!$B$6=\"\",\"\",Worksheet!$B$6)","v":"Tex-117-E"},{"$f":"IF(Worksheet!$B$69=\"\",\"\",Worksheet!$B$69)","v":"Piston Correction, lbs.:"},{"$f":"IF(Worksheet!$H$33=\"\",\"\",Worksheet!$H$33)","v":5}]
[133,{"$f":"IF(Worksheet!$I$69=\"\",\"\",Worksheet!$I$69)","v":""},{"$f":"IF(Worksheet!$B$6=\"\",\"\",Worksheet!$B$6)","v":"Tex-117-E"},{"$f":"IF(Worksheet!$B$69=\"\",\"\",Worksheet!$B$69)","v":"Piston Correction, lbs.:"},{"$f":"IF(Worksheet!$I$33=\"\",\"\",Worksheet!$I$33)","v":6}]
[134,{"$f":"IF(Worksheet!$J$69=\"\",\"\",Worksheet!$J$69)","v":""},{"$f":"IF(Worksheet!$B$6=\"\",\"\",Worksheet!$B$6)","v":"Tex-117-E"},{"$f":"IF(Worksheet!$B$69=\"\",\"\",Worksheet!$B$69)","v":"Piston Correction, lbs.:"},{"$f":"IF(Worksheet!$J$33=\"\",\"\",Worksheet!$J$33)","v":7}]
[135,{"$f":"IF(Worksheet!$K$69=\"\",\"\",Worksheet!$K$69)","v":""},{"$f":"IF(Worksheet!$B$6=\"\",\"\",Worksheet!$B$6)","v":"Tex-117-E"},{"$f":"IF(Worksheet!$B$69=\"\",\"\",Worksheet!$B$69)","v":"Piston Correction, lbs.:"},{"$f":"IF(Worksheet!$K$33=\"\",\"\",Worksheet!$K$33)","v":8}]
[136,{"$f":"IF(Worksheet!$D$70=\"\",\"\",Worksheet!$D$70)","v":""},{"$f":"IF(Worksheet!$B$6=\"\",\"\",Worksheet!$B$6)","v":"Tex-117-E"},{"$f":"IF(Worksheet!$B$70=\"\",\"\",Worksheet!$B$70)","v":"Max. Load Reading, div.:"},{"$f":"IF(Worksheet!$D$33=\"\",\"\",Worksheet!$D$33)","v":1}]
[137,{"$f":"IF(Worksheet!$E$70=\"\",\"\",Worksheet!$E$70)","v":""},{"$f":"IF(Worksheet!$B$6=\"\",\"\",Worksheet!$B$6)","v":"Tex-117-E"},{"$f":"IF(Worksheet!$B$70=\"\",\"\",Worksheet!$B$70)","v":"Max. Load Reading, div.:"},{"$f":"IF(Worksheet!$E$33=\"\",\"\",Worksheet!$E$33)","v":2}]
[138,{"$f":"IF(Worksheet!$F$70=\"\",\"\",Worksheet!$F$70)","v":""},{"$f":"IF(Worksheet!$B$6=\"\",\"\",Worksheet!$B$6)","v":"Tex-117-E"},{"$f":"IF(Worksheet!$B$70=\"\",\"\",Worksheet!$B$70)","v":"Max. Load Reading, div.:"},{"$f":"IF(Worksheet!$F$33=\"\",\"\",Worksheet!$F$33)","v":3}]
[139,{"$f":"IF(Worksheet!$G$70=\"\",\"\",Worksheet!$G$70)","v":""},{"$f":"IF(Worksheet!$B$6=\"\",\"\",Worksheet!$B$6)","v":"Tex-117-E"},{"$f":"IF(Worksheet!$B$70=\"\",\"\",Worksheet!$B$70)","v":"Max. Load Reading, div.:"},{"$f":"IF(Worksheet!$G$33=\"\",\"\",Worksheet!$G$33)","v":4}]
[140,{"$f":"IF(Worksheet!$H$70=\"\",\"\",Worksheet!$H$70)","v":""},{"$f":"IF(Worksheet!$B$6=\"\",\"\",Worksheet!$B$6)","v":"Tex-117-E"},{"$f":"IF(Worksheet!$B$70=\"\",\"\",Worksheet!$B$70)","v":"Max. Load Reading, div.:"},{"$f":"IF(Worksheet!$H$33=\"\",\"\",Worksheet!$H$33)","v":5}]
[141,{"$f":"IF(Worksheet!$I$70=\"\",\"\",Worksheet!$I$70)","v":""},{"$f":"IF(Worksheet!$B$6=\"\",\"\",Worksheet!$B$6)","v":"Tex-117-E"},{"$f":"IF(Worksheet!$B$70=\"\",\"\",Worksheet!$B$70)","v":"Max. Load Reading, div.:"},{"$f":"IF(Worksheet!$I$33=\"\",\"\",Worksheet!$I$33)","v":6}]
[142,{"$f":"IF(Worksheet!$J$70=\"\",\"\",Worksheet!$J$70)","v":""},{"$f":"IF(Worksheet!$B$6=\"\",\"\",Worksheet!$B$6)","v":"Tex-117-E"},{"$f":"IF(Worksheet!$B$70=\"\",\"\",Worksheet!$B$70)","v":"Max. Load Reading, div.:"},{"$f":"IF(Worksheet!$J$33=\"\",\"\",Worksheet!$J$33)","v":7}]
[143,{"$f":"IF(Worksheet!$K$70=\"\",\"\",Worksheet!$K$70)","v":""},{"$f":"IF(Worksheet!$B$6=\"\",\"\",Worksheet!$B$6)","v":"Tex-117-E"},{"$f":"IF(Worksheet!$B$70=\"\",\"\",Worksheet!$B$70)","v":"Max. Load Reading, div.:"},{"$f":"IF(Worksheet!$K$33=\"\",\"\",Worksheet!$K$33)","v":8}]
[144,{"$f":"IF(Worksheet!$D$71=\"\",\"\",Worksheet!$D$71)","v":""},{"$f":"IF(Worksheet!$B$6=\"\",\"\",Worksheet!$B$6)","v":"Tex-117-E"},{"$f":"IF(Worksheet!$B$71=\"\",\"\",Worksheet!$B$71)","v":"Max Load, lbs.:"},{"$f":"IF(Worksheet!$D$33=\"\",\"\",Worksheet!$D$33)","v":1}]
[145,{"$f":"IF(Worksheet!$E$71=\"\",\"\",Worksheet!$E$71)","v":""},{"$f":"IF(Worksheet!$B$6=\"\",\"\",Worksheet!$B$6)","v":"Tex-117-E"},{"$f":"IF(Worksheet!$B$71=\"\",\"\",Worksheet!$B$71)","v":"Max Load, lbs.:"},{"$f":"IF(Worksheet!$E$33=\"\",\"\",Worksheet!$E$33)","v":2}]
[146,{"$f":"IF(Worksheet!$F$71=\"\",\"\",Worksheet!$F$71)","v":""},{"$f":"IF(Worksheet!$B$6=\"\",\"\",Worksheet!$B$6)","v":"Tex-117-E"},{"$f":"IF(Worksheet!$B$71=\"\",\"\",Worksheet!$B$71)","v":"Max Load, lbs.:"},{"$f":"IF(Worksheet!$F$33=\"\",\"\",Worksheet!$F$33)","v":3}]
[147,{"$f":"IF(Worksheet!$G$71=\"\",\"\",Worksheet!$G$71)","v":""},{"$f":"IF(Worksheet!$B$6=\"\",\"\",Worksheet!$B$6)","v":"Tex-117-E"},{"$f":"IF(Worksheet!$B$71=\"\",\"\",Worksheet!$B$71)","v":"Max Load, lbs.:"},{"$f":"IF(Worksheet!$G$33=\"\",\"\",Worksheet!$G$33)","v":4}]
[148,{"$f":"IF(Worksheet!$H$71=\"\",\"\",Worksheet!$H$71)","v":""},{"$f":"IF(Worksheet!$B$6=\"\",\"\",Worksheet!$B$6)","v":"Tex-117-E"},{"$f":"IF(Worksheet!$B$71=\"\",\"\",Worksheet!$B$71)","v":"Max Load, lbs.:"},{"$f":"IF(Worksheet!$H$33=\"\",\"\",Worksheet!$H$33)","v":5}]
[149,{"$f":"IF(Worksheet!$I$71=\"\",\"\",Worksheet!$I$71)","v":""},{"$f":"IF(Worksheet!$B$6=\"\",\"\",Worksheet!$B$6)","v":"Tex-117-E"},{"$f":"IF(Worksheet!$B$71=\"\",\"\",Worksheet!$B$71)","v":"Max Load, lbs.:"},{"$f":"IF(Worksheet!$I$33=\"\",\"\",Worksheet!$I$33)","v":6}]
[150,{"$f":"IF(Worksheet!$J$71=\"\",\"\",Worksheet!$J$71)","v":""},{"$f":"IF(Worksheet!$B$6=\"\",\"\",Worksheet!$B$6)","v":"Tex-117-E"},{"$f":"IF(Worksheet!$B$71=\"\",\"\",Worksheet!$B$71)","v":"Max Load, lbs.:"},{"$f":"IF(Worksheet!$J$33=\"\",\"\",Worksheet!$J$33)","v":7}]
[151,{"$f":"IF(Worksheet!$K$71=\"\",\"\",Worksheet!$K$71)","v":""},{"$f":"IF(Worksheet!$B$6=\"\",\"\",Worksheet!$B$6)","v":"Tex-117-E"},{"$f":"IF(Worksheet!$B$71=\"\",\"\",Worksheet!$B$71)","v":"Max Load, lbs.:"},{"$f":"IF(Worksheet!$K$33=\"\",\"\",Worksheet!$K$33)","v":8}]
[152,{"$f":"IF(Worksheet!$D$72=\"\",\"\",Worksheet!$D$72)","v":""},{"$f":"IF(Worksheet!$B$6=\"\",\"\",Worksheet!$B$6)","v":"Tex-117-E"},{"$f":"IF(Worksheet!$B$72=\"\",\"\",Worksheet!$B$72)","v":"Deformation at Max Load, in.:"},{"$f":"IF(Worksheet!$D$33=\"\",\"\",Worksheet!$D$33)","v":1}]
[153,{"$f":"IF(Worksheet!$E$72=\"\",\"\",Worksheet!$E$72)","v":""},{"$f":"IF(Worksheet!$B$6=\"\",\"\",Worksheet!$B$6)","v":"Tex-117-E"},{"$f":"IF(Worksheet!$B$72=\"\",\"\",Worksheet!$B$72)","v":"Deformation at Max Load, in.:"},{"$f":"IF(Worksheet!$E$33=\"\",\"\",Worksheet!$E$33)","v":2}]
[154,{"$f":"IF(Worksheet!$F$72=\"\",\"\",Worksheet!$F$72)","v":""},{"$f":"IF(Worksheet!$B$6=\"\",\"\",Worksheet!$B$6)","v":"Tex-117-E"},{"$f":"IF(Worksheet!$B$72=\"\",\"\",Worksheet!$B$72)","v":"Deformation at Max Load, in.:"},{"$f":"IF(Worksheet!$F$33=\"\",\"\",Worksheet!$F$33)","v":3}]
[155,{"$f":"IF(Worksheet!$G$72=\"\",\"\",Worksheet!$G$72)","v":""},{"$f":"IF(Worksheet!$B$6=\"\",\"\",Worksheet!$B$6)","v":"Tex-117-E"},{"$f":"IF(Worksheet!$B$72=\"\",\"\",Worksheet!$B$72)","v":"Deformation at Max Load, in.:"},{"$f":"IF(Worksheet!$G$33=\"\",\"\",Worksheet!$G$33)","v":4}]
[156,{"$f":"IF(Worksheet!$H$72=\"\",\"\",Worksheet!$H$72)","v":""},{"$f":"IF(Worksheet!$B$6=\"\",\"\",Worksheet!$B$6)","v":"Tex-117-E"},{"$f":"IF(Worksheet!$B$72=\"\",\"\",Worksheet!$B$72)","v":"Deformation at Max Load, in.:"},{"$f":"IF(Worksheet!$H$33=\"\",\"\",Worksheet!$H$33)","v":5}]
[157,{"$f":"IF(Worksheet!$I$72=\"\",\"\",Worksheet!$I$72)","v":""},{"$f":"IF(Worksheet!$B$6=\"\",\"\",Worksheet!$B$6)","v":"Tex-117-E"},{"$f":"IF(Worksheet!$B$72=\"\",\"\",Worksheet!$B$72)","v":"Deformation at Max Load, in.:"},{"$f":"IF(Worksheet!$I$33=\"\",\"\",Worksheet!$I$33)","v":6}]
[158,{"$f":"IF(Worksheet!$J$72=\"\",\"\",Worksheet!$J$72)","v":""},{"$f":"IF(Worksheet!$B$6=\"\",\"\",Worksheet!$B$6)","v":"Tex-117-E"},{"$f":"IF(Worksheet!$B$72=\"\",\"\",Worksheet!$B$72)","v":"Deformation at Max Load, in.:"},{"$f":"IF(Worksheet!$J$33=\"\",\"\",Worksheet!$J$33)","v":7}]
[159,{"$f":"IF(Worksheet!$K$72=\"\",\"\",Worksheet!$K$72)","v":""},{"$f":"IF(Worksheet!$B$6=\"\",\"\",Worksheet!$B$6)","v":"Tex-117-E"},{"$f":"IF(Worksheet!$B$72=\"\",\"\",Worksheet!$B$72)","v":"Deformation at Max Load, in.:"},{"$f":"IF(Worksheet!$K$33=\"\",\"\",Worksheet!$K$33)","v":8}]
[160,{"$f":"IF(Worksheet!$D$73=\"\",\"\",Worksheet!$D$73)","v":""},{"$f":"IF(Worksheet!$B$6=\"\",\"\",Worksheet!$B$6)","v":"Tex-117-E"},{"$f":"IF(Worksheet!$B$73=\"\",\"\",Worksheet!$B$73)","v":"Max. Load Reading, div."},{"$f":"IF(Worksheet!$D$33=\"\",\"\",Worksheet!$D$33)","v":1}]
[161,{"$f":"IF(Worksheet!$E$73=\"\",\"\",Worksheet!$E$73)","v":""},{"$f":"IF(Worksheet!$B$6=\"\",\"\",Worksheet!$B$6)","v":"Tex-117-E"},{"$f":"IF(Worksheet!$B$73=\"\",\"\",Worksheet!$B$73)","v":"Max. Load Reading, div."},{"$f":"IF(Worksheet!$E$33=\"\",\"\",Worksheet!$E$33)","v":2}]
[162,{"$f":"IF(Worksheet!$F$73=\"\",\"\",Worksheet!$F$73)","v":""},{"$f":"IF(Worksheet!$B$6=\"\",\"\",Worksheet!$B$6)","v":"Tex-117-E"},{"$f":"IF(Worksheet!$B$73=\"\",\"\",Worksheet!$B$73)","v":"Max. Load Reading, div."},{"$f":"IF(Worksheet!$F$33=\"\",\"\",Worksheet!$F$33)","v":3}]
[163,{"$f":"IF(Worksheet!$G$73=\"\",\"\",Worksheet!$G$73)","v":""},{"$f":"IF(Worksheet!$B$6=\"\",\"\",Worksheet!$B$6)","v":"Tex-117-E"},{"$f":"IF(Worksheet!$B$73=\"\",\"\",Worksheet!$B$73)","v":"Max. Load Reading, div."},{"$f":"IF(Worksheet!$G$33=\"\",\"\",Worksheet!$G$33)","v":4}]
[164,{"$f":"IF(Worksheet!$H$73=\"\",\"\",Worksheet!$H$73)","v":""},{"$f":"IF(Worksheet!$B$6=\"\",\"\",Worksheet!$B$6)","v":"Tex-117-E"},{"$f":"IF(Worksheet!$B$73=\"\",\"\",Worksheet!$B$73)","v":"Max. Load Reading, div."},{"$f":"IF(Worksheet!$H$33=\"\",\"\",Worksheet!$H$33)","v":5}]
[165,{"$f":"IF(Worksheet!$I$73=\"\",\"\",Worksheet!$I$73)","v":""},{"$f":"IF(Worksheet!$B$6=\"\",\"\",Worksheet!$B$6)","v":"Tex-117-E"},{"$f":"IF(Worksheet!$B$73=\"\",\"\",Worksheet!$B$73)","v":"Max. Load Reading, div."},{"$f":"IF(Worksheet!$I$33=\"\",\"\",Worksheet!$I$33)","v":6}]
[166,{"$f":"IF(Worksheet!$J$73=\"\",\"\",Worksheet!$J$73)","v":""},{"$f":"IF(Worksheet!$B$6=\"\",\"\",Worksheet!$B$6)","v":"Tex-117-E"},{"$f":"IF(Worksheet!$B$73=\"\",\"\",Worksheet!$B$73)","v":"Max. Load Reading, div."},{"$f":"IF(Worksheet!$J$33=\"\",\"\",Worksheet!$J$33)","v":7}]
[167,{"$f":"IF(Worksheet!$K$73=\"\",\"\",Worksheet!$K$73)","v":""},{"$f":"IF(Worksheet!$B$6=\"\",\"\",Worksheet!$B$6)","v":"Tex-117-E"},{"$f":"IF(Worksheet!$B$73=\"\",\"\",Worksheet!$B$73)","v":"Max. Load Reading, div."},{"$f":"IF(Worksheet!$K$33=\"\",\"\",Worksheet!$K$33)","v":8}]
[168,{"$f":"IF(Worksheet!$D$74=\"\",\"\",Worksheet!$D$74)","v":""},{"$f":"IF(Worksheet!$B$6=\"\",\"\",Worksheet!$B$6)","v":"Tex-117-E"},{"$f":"IF(Worksheet!$B$74=\"\",\"\",Worksheet!$B$74)","v":"Deformation at Max Load, in."},{"$f":"IF(Worksheet!$D$33=\"\",\"\",Worksheet!$D$33)","v":1}]
[169,{"$f":"IF(Worksheet!$E$74=\"\",\"\",Worksheet!$E$74)","v":""},{"$f":"IF(Worksheet!$B$6=\"\",\"\",Worksheet!$B$6)","v":"Tex-117-E"},{"$f":"IF(Worksheet!$B$74=\"\",\"\",Worksheet!$B$74)","v":"Deformation at Max Load, in."},{"$f":"IF(Worksheet!$E$33=\"\",\"\",Worksheet!$E$33)","v":2}]
[170,{"$f":"IF(Worksheet!$F$74=\"\",\"\",Worksheet!$F$74)","v":""},{"$f":"IF(Worksheet!$B$6=\"\",\"\",Worksheet!$B$6)","v":"Tex-117-E"},{"$f":"IF(Worksheet!$B$74=\"\",\"\",Worksheet!$B$74)","v":"Deformation at Max Load, in."},{"$f":"IF(Worksheet!$F$33=\"\",\"\",Worksheet!$F$33)","v":3}]
[171,{"$f":"IF(Worksheet!$G$74=\"\",\"\",Worksheet!$G$74)","v":""},{"$f":"IF(Worksheet!$B$6=\"\",\"\",Worksheet!$B$6)","v":"Tex-117-E"},{"$f":"IF(Worksheet!$B$74=\"\",\"\",Worksheet!$B$74)","v":"Deformation at Max Load, in."},{"$f":"IF(Worksheet!$G$33=\"\",\"\",Worksheet!$G$33)","v":4}]
[172,{"$f":"IF(Worksheet!$H$74=\"\",\"\",Worksheet!$H$74)","v":""},{"$f":"IF(Worksheet!$B$6=\"\",\"\",Worksheet!$B$6)","v":"Tex-117-E"},{"$f":"IF(Worksheet!$B$74=\"\",\"\",Worksheet!$B$74)","v":"Deformation at Max Load, in."},{"$f":"IF(Worksheet!$H$33=\"\",\"\",Worksheet!$H$33)","v":5}]
[173,{"$f":"IF(Worksheet!$I$74=\"\",\"\",Worksheet!$I$74)","v":""},{"$f":"IF(Worksheet!$B$6=\"\",\"\",Worksheet!$B$6)","v":"Tex-117-E"},{"$f":"IF(Worksheet!$B$74=\"\",\"\",Worksheet!$B$74)","v":"Deformation at Max Load, in."},{"$f":"IF(Worksheet!$I$33=\"\",\"\",Worksheet!$I$33)","v":6}]
[174,{"$f":"IF(Worksheet!$J$74=\"\",\"\",Worksheet!$J$74)","v":""},{"$f":"IF(Worksheet!$B$6=\"\",\"\",Worksheet!$B$6)","v":"Tex-117-E"},{"$f":"IF(Worksheet!$B$74=\"\",\"\",Worksheet!$B$74)","v":"Deformation at Max Load, in."},{"$f":"IF(Worksheet!$J$33=\"\",\"\",Worksheet!$J$33)","v":7}]
[175,{"$f":"IF(Worksheet!$K$74=\"\",\"\",Worksheet!$K$74)","v":""},{"$f":"IF(Worksheet!$B$6=\"\",\"\",Worksheet!$B$6)","v":"Tex-117-E"},{"$f":"IF(Worksheet!$B$74=\"\",\"\",Worksheet!$B$74)","v":"Deformation at Max Load, in."},{"$f":"IF(Worksheet!$K$33=\"\",\"\",Worksheet!$K$33)","v":8}]
[176,{"$f":"IF(Worksheet!$D$75=\"\",\"\",Worksheet!$D$75)","v":""},{"$f":"IF(Worksheet!$B$6=\"\",\"\",Worksheet!$B$6)","v":"Tex-117-E"},{"$f":"IF(Worksheet!$B$75=\"\",\"\",Worksheet!$B$75)","v":"Uncorrected Stress, psi.:"},{"$f":"IF(Worksheet!$D$33=\"\",\"\",Worksheet!$D$33)","v":1}]
[177,{"$f":"IF(Worksheet!$E$75=\"\",\"\",Worksheet!$E$75)","v":""},{"$f":"IF(Worksheet!$B$6=\"\",\"\",Worksheet!$B$6)","v":"Tex-117-E"},{"$f":"IF(Worksheet!$B$75=\"\",\"\",Worksheet!$B$75)","v":"Uncorrected Stress, psi.:"},{"$f":"IF(Worksheet!$E$33=\"\",\"\",Worksheet!$E$33)","v":2}]
[178,{"$f":"IF(Worksheet!$F$75=\"\",\"\",Worksheet!$F$75)","v":""},{"$f":"IF(Worksheet!$B$6=\"\",\"\",Worksheet!$B$6)","v":"Tex-117-E"},{"$f":"IF(Worksheet!$B$75=\"\",\"\",Worksheet!$B$75)","v":"Uncorrected Stress, psi.:"},{"$f":"IF(Worksheet!$F$33=\"\",\"\",Worksheet!$F$33)","v":3}]
[179,{"$f":"IF(Worksheet!$G$75=\"\",\"\",Worksheet!$G$75)","v":""},{"$f":"IF(Worksheet!$B$6=\"\",\"\",Worksheet!$B$6)","v":"Tex-117-E"},{"$f":"IF(Worksheet!$B$75=\"\",\"\",Worksheet!$B$75)","v":"Uncorrected Stress, psi.:"},{"$f":"IF(Worksheet!$G$33=\"\",\"\",Worksheet!$G$33)","v":4}]
[180,{"$f":"IF(Worksheet!$H$75=\"\",\"\",Worksheet!$H$75)","v":""},{"$f":"IF(Worksheet!$B$6=\"\",\"\",Worksheet!$B$6)","v":"Tex-117-E"},{"$f":"IF(Worksheet!$B$75=\"\",\"\",Worksheet!$B$75)","v":"Uncorrected Stress, psi.:"},{"$f":"IF(Worksheet!$H$33=\"\",\"\",Worksheet!$H$33)","v":5}]
[181,{"$f":"IF(Worksheet!$I$75=\"\",\"\",Worksheet!$I$75)","v":""},{"$f":"IF(Worksheet!$B$6=\"\",\"\",Worksheet!$B$6)","v":"Tex-117-E"},{"$f":"IF(Worksheet!$B$75=\"\",\"\",Worksheet!$B$75)","v":"Uncorrected Stress, psi.:"},{"$f":"IF(Worksheet!$I$33=\"\",\"\",Worksheet!$I$33)","v":6}]
[182,{"$f":"IF(Worksheet!$J$75=\"\",\"\",Worksheet!$J$75)","v":""},{"$f":"IF(Worksheet!$B$6=\"\",\"\",Worksheet!$B$6)","v":"Tex-117-E"},{"$f":"IF(Worksheet!$B$75=\"\",\"\",Worksheet!$B$75)","v":"Uncorrected Stress, psi.:"},{"$f":"IF(Worksheet!$J$33=\"\",\"\",Worksheet!$J$33)","v":7}]
[183,{"$f":"IF(Worksheet!$K$75=\"\",\"\",Worksheet!$K$75)","v":""},{"$f":"IF(Worksheet!$B$6=\"\",\"\",Worksheet!$B$6)","v":"Tex-117-E"},{"$f":"IF(Worksheet!$B$75=\"\",\"\",Worksheet!$B$75)","v":"Uncorrected Stress, psi.:"},{"$f":"IF(Worksheet!$K$33=\"\",\"\",Worksheet!$K$33)","v":8}]
[184,{"$f":"IF(Worksheet!$D$76=\"\",\"\",Worksheet!$D$76)","v":""},{"$f":"IF(Worksheet!$B$6=\"\",\"\",Worksheet!$B$6)","v":"Tex-117-E"},{"$f":"IF(Worksheet!$B$76=\"\",\"\",Worksheet!$B$76)","v":"% Strain , in./in.:"},{"$f":"IF(Worksheet!$D$33=\"\",\"\",Worksheet!$D$33)","v":1}]
[185,{"$f":"IF(Worksheet!$E$76=\"\",\"\",Worksheet!$E$76)","v":""},{"$f":"IF(Worksheet!$B$6=\"\",\"\",Worksheet!$B$6)","v":"Tex-117-E"},{"$f":"IF(Worksheet!$B$76=\"\",\"\",Worksheet!$B$76)","v":"% Strain , in./in.:"},{"$f":"IF(Worksheet!$E$33=\"\",\"\",Worksheet!$E$33)","v":2}]
[186,{"$f":"IF(Worksheet!$F$76=\"\",\"\",Worksheet!$F$76)","v":""},{"$f":"IF(Worksheet!$B$6=\"\",\"\",Worksheet!$B$6)","v":"Tex-117-E"},{"$f":"IF(Worksheet!$B$76=\"\",\"\",Worksheet!$B$76)","v":"% Strain , in./in.:"},{"$f":"IF(Worksheet!$F$33=\"\",\"\",Worksheet!$F$33)","v":3}]
[187,{"$f":"IF(Worksheet!$G$76=\"\",\"\",Worksheet!$G$76)","v":""},{"$f":"IF(Worksheet!$B$6=\"\",\"\",Worksheet!$B$6)","v":"Tex-117-E"},{"$f":"IF(Worksheet!$B$76=\"\",\"\",Worksheet!$B$76)","v":"% Strain , in./in.:"},{"$f":"IF(Worksheet!$G$33=\"\",\"\",Worksheet!$G$33)","v":4}]
[188,{"$f":"IF(Worksheet!$H$76=\"\",\"\",Worksheet!$H$76)","v":""},{"$f":"IF(Worksheet!$B$6=\"\",\"\",Worksheet!$B$6)","v":"Tex-117-E"},{"$f":"IF(Worksheet!$B$76=\"\",\"\",Worksheet!$B$76)","v":"% Strain , in./in.:"},{"$f":"IF(Worksheet!$H$33=\"\",\"\",Worksheet!$H$33)","v":5}]
[189,{"$f":"IF(Worksheet!$I$76=\"\",\"\",Worksheet!$I$76)","v":""},{"$f":"IF(Worksheet!$B$6=\"\",\"\",Worksheet!$B$6)","v":"Tex-117-E"},{"$f":"IF(Worksheet!$B$76=\"\",\"\",Worksheet!$B$76)","v":"% Strain , in./in.:"},{"$f":"IF(Worksheet!$I$33=\"\",\"\",Worksheet!$I$33)","v":6}]
[190,{"$f":"IF(Worksheet!$J$76=\"\",\"\",Worksheet!$J$76)","v":""},{"$f":"IF(Worksheet!$B$6=\"\",\"\",Worksheet!$B$6)","v":"Tex-117-E"},{"$f":"IF(Worksheet!$B$76=\"\",\"\",Worksheet!$B$76)","v":"% Strain , in./in.:"},{"$f":"IF(Worksheet!$J$33=\"\",\"\",Worksheet!$J$33)","v":7}]
[191,{"$f":"IF(Worksheet!$K$76=\"\",\"\",Worksheet!$K$76)","v":""},{"$f":"IF(Worksheet!$B$6=\"\",\"\",Worksheet!$B$6)","v":"Tex-117-E"},{"$f":"IF(Worksheet!$B$76=\"\",\"\",Worksheet!$B$76)","v":"% Strain , in./in.:"},{"$f":"IF(Worksheet!$K$33=\"\",\"\",Worksheet!$K$33)","v":8}]
[192,{"$f":"IF(Worksheet!$D$77=\"\",\"\",Worksheet!$D$77)","v":""},{"$f":"IF(Worksheet!$B$6=\"\",\"\",Worksheet!$B$6)","v":"Tex-117-E"},{"$f":"IF(Worksheet!$B$77=\"\",\"\",Worksheet!$B$77)","v":"I-Strain, in./in.:"},{"$f":"IF(Worksheet!$D$33=\"\",\"\",Worksheet!$D$33)","v":1}]
[193,{"$f":"IF(Worksheet!$E$77=\"\",\"\",Worksheet!$E$77)","v":""},{"$f":"IF(Worksheet!$B$6=\"\",\"\",Worksheet!$B$6)","v":"Tex-117-E"},{"$f":"IF(Worksheet!$B$77=\"\",\"\",Worksheet!$B$77)","v":"I-Strain, in./in.:"},{"$f":"IF(Worksheet!$E$33=\"\",\"\",Worksheet!$E$33)","v":2}]
[194,{"$f":"IF(Worksheet!$F$77=\"\",\"\",Worksheet!$F$77)","v":""},{"$f":"IF(Worksheet!$B$6=\"\",\"\",Worksheet!$B$6)","v":"Tex-117-E"},{"$f":"IF(Worksheet!$B$77=\"\",\"\",Worksheet!$B$77)","v":"I-Strain, in./in.:"},{"$f":"IF(Worksheet!$F$33=\"\",\"\",Worksheet!$F$33)","v":3}]
[195,{"$f":"IF(Worksheet!$G$77=\"\",\"\",Worksheet!$G$77)","v":""},{"$f":"IF(Worksheet!$B$6=\"\",\"\",Worksheet!$B$6)","v":"Tex-117-E"},{"$f":"IF(Worksheet!$B$77=\"\",\"\",Worksheet!$B$77)","v":"I-Strain, in./in.:"},{"$f":"IF(Worksheet!$G$33=\"\",\"\",Worksheet!$G$33)","v":4}]
[196,{"$f":"IF(Worksheet!$H$77=\"\",\"\",Worksheet!$H$77)","v":""},{"$f":"IF(Worksheet!$B$6=\"\",\"\",Worksheet!$B$6)","v":"Tex-117-E"},{"$f":"IF(Worksheet!$B$77=\"\",\"\",Worksheet!$B$77)","v":"I-Strain, in./in.:"},{"$f":"IF(Worksheet!$H$33=\"\",\"\",Worksheet!$H$33)","v":5}]
[197,{"$f":"IF(Worksheet!$I$77=\"\",\"\",Worksheet!$I$77)","v":""},{"$f":"IF(Worksheet!$B$6=\"\",\"\",Worksheet!$B$6)","v":"Tex-117-E"},{"$f":"IF(Worksheet!$B$77=\"\",\"\",Worksheet!$B$77)","v":"I-Strain, in./in.:"},{"$f":"IF(Worksheet!$I$33=\"\",\"\",Worksheet!$I$33)","v":6}]
[198,{"$f":"IF(Worksheet!$J$77=\"\",\"\",Worksheet!$J$77)","v":""},{"$f":"IF(Worksheet!$B$6=\"\",\"\",Worksheet!$B$6)","v":"Tex-117-E"},{"$f":"IF(Worksheet!$B$77=\"\",\"\",Worksheet!$B$77)","v":"I-Strain, in./in.:"},{"$f":"IF(Worksheet!$J$33=\"\",\"\",Worksheet!$J$33)","v":7}]
[199,{"$f":"IF(Worksheet!$K$77=\"\",\"\",Worksheet!$K$77)","v":""},{"$f":"IF(Worksheet!$B$6=\"\",\"\",Worksheet!$B$6)","v":"Tex-117-E"},{"$f":"IF(Worksheet!$B$77=\"\",\"\",Worksheet!$B$77)","v":"I-Strain, in./in.:"},{"$f":"IF(Worksheet!$K$33=\"\",\"\",Worksheet!$K$33)","v":8}]
[200,{"$f":"IF(Worksheet!$D$78=\"\",\"\",Worksheet!$D$78)","v":""},{"$f":"IF(Worksheet!$B$6=\"\",\"\",Worksheet!$B$6)","v":"Tex-117-E"},{"$f":"IF(Worksheet!$B$78=\"\",\"\",Worksheet!$B$78)","v":"Corrected Stress, psi.:"},{"$f":"IF(Worksheet!$D$33=\"\",\"\",Worksheet!$D$33)","v":1}]
[201,{"$f":"IF(Worksheet!$E$78=\"\",\"\",Worksheet!$E$78)","v":""},{"$f":"IF(Worksheet!$B$6=\"\",\"\",Worksheet!$B$6)","v":"Tex-117-E"},{"$f":"IF(Worksheet!$B$78=\"\",\"\",Worksheet!$B$78)","v":"Corrected Stress, psi.:"},{"$f":"IF(Worksheet!$E$33=\"\",\"\",Worksheet!$E$33)","v":2}]
[202,{"$f":"IF(Worksheet!$F$78=\"\",\"\",Worksheet!$F$78)","v":""},{"$f":"IF(Worksheet!$B$6=\"\",\"\",Worksheet!$B$6)","v":"Tex-117-E"},{"$f":"IF(Worksheet!$B$78=\"\",\"\",Worksheet!$B$78)","v":"Corrected Stress, psi.:"},{"$f":"IF(Worksheet!$F$33=\"\",\"\",Worksheet!$F$33)","v":3}]
[203,{"$f":"IF(Worksheet!$G$78=\"\",\"\",Worksheet!$G$78)","v":""},{"$f":"IF(Worksheet!$B$6=\"\",\"\",Worksheet!$B$6)","v":"Tex-117-E"},{"$f":"IF(Worksheet!$B$78=\"\",\"\",Worksheet!$B$78)","v":"Corrected Stress, psi.:"},{"$f":"IF(Worksheet!$G$33=\"\",\"\",Worksheet!$G$33)","v":4}]
[204,{"$f":"IF(Worksheet!$H$78=\"\",\"\",Worksheet!$H$78)","v":""},{"$f":"IF(Worksheet!$B$6=\"\",\"\",Worksheet!$B$6)","v":"Tex-117-E"},{"$f":"IF(Worksheet!$B$78=\"\",\"\",Worksheet!$B$78)","v":"Corrected Stress, psi.:"},{"$f":"IF(Worksheet!$H$33=\"\",\"\",Worksheet!$H$33)","v":5}]
[205,{"$f":"IF(Worksheet!$I$78=\"\",\"\",Worksheet!$I$78)","v":""},{"$f":"IF(Worksheet!$B$6=\"\",\"\",Worksheet!$B$6)","v":"Tex-117-E"},{"$f":"IF(Worksheet!$B$78=\"\",\"\",Worksheet!$B$78)","v":"Corrected Stress, psi.:"},{"$f":"IF(Worksheet!$I$33=\"\",\"\",Worksheet!$I$33)","v":6}]
[206,{"$f":"IF(Worksheet!$J$78=\"\",\"\",Worksheet!$J$78)","v":""},{"$f":"IF(Worksheet!$B$6=\"\",\"\",Worksheet!$B$6)","v":"Tex-117-E"},{"$f":"IF(Worksheet!$B$78=\"\",\"\",Worksheet!$B$78)","v":"Corrected Stress, psi.:"},{"$f":"IF(Worksheet!$J$33=\"\",\"\",Worksheet!$J$33)","v":7}]
[207,{"$f":"IF(Worksheet!$K$78=\"\",\"\",Worksheet!$K$78)","v":""},{"$f":"IF(Worksheet!$B$6=\"\",\"\",Worksheet!$B$6)","v":"Tex-117-E"},{"$f":"IF(Worksheet!$B$78=\"\",\"\",Worksheet!$B$78)","v":"Corrected Stress, psi.:"},{"$f":"IF(Worksheet!$K$33=\"\",\"\",Worksheet!$K$33)","v":8}]
[208,{"$f":"IF(Worksheet!$D$82=\"\",\"\",Worksheet!$D$82)","v":""},{"$f":"IF(Worksheet!$B$6=\"\",\"\",Worksheet!$B$6)","v":"Tex-117-E"},{"$f":"IF(Worksheet!$B$82=\"\",\"\",Worksheet!$B$82)","v":"Classification:"}]
[209,{"$f":"IF(Worksheet!$D$83=\"\",\"\",Worksheet!$D$83)","v":""},{"$f":"IF(Worksheet!$B$6=\"\",\"\",Worksheet!$B$6)","v":"Tex-117-E"},{"$f":"IF(Worksheet!$B$83=\"\",\"\",Worksheet!$B$83)","v":"Internal Angle of Friction:"}]
[210,{"$f":"IF(Worksheet!$D$84=\"\",\"\",Worksheet!$D$84)","v":""},{"$f":"IF(Worksheet!$B$6=\"\",\"\",Worksheet!$B$6)","v":"Tex-117-E"},{"$f":"IF(Worksheet!$B$84=\"\",\"\",Worksheet!$B$84)","v":"Cohesion, psi:"}]
[211,{"$f":"IF(Worksheet!$D$85=\"\",\"\",Worksheet!$D$85)","v":""},{"$f":"IF(Worksheet!$B$6=\"\",\"\",Worksheet!$B$6)","v":"Tex-117-E"},{"$f":"IF(Worksheet!$B$85=\"\",\"\",Worksheet!$B$85)","v":"Correlation Factor:"}]
[212,{"$f":"IF(Worksheet!J83=\"\",\"\",Worksheet!J83)","v":""},{"$f":"IF(Worksheet!$B$6=\"\",\"\",Worksheet!$B$6)","v":"Tex-117-E"},{"$f":"IF(Worksheet!$H$83=\"\",\"\",Worksheet!$H$83)","v":"Average Corrected Strength (psi):"},{"$f":"IF(Worksheet!$J$82=\"\",\"\",Worksheet!$J$82)","v":"00 psi"}]
[213,{"$f":"IF(Worksheet!L83=\"\",\"\",Worksheet!L83)","v":""},{"$f":"IF(Worksheet!$B$6=\"\",\"\",Worksheet!$B$6)","v":"Tex-117-E"},{"$f":"IF(Worksheet!$H$83=\"\",\"\",Worksheet!$H$83)","v":"Average Corrected Strength (psi):"},{"$f":"IF(Worksheet!$L$82=\"\",\"\",Worksheet!$L$82)","v":"15 psi"}]
[214,{"$f":"IF('Tex-113,4-E'!$E$22=\"\",\"\",'Tex-113,4-E'!$E$22)","v":""},{"$f":"IF('Tex-113,4-E'!$B$6=\"\",\"\",'Tex-113,4-E'!$B$6)","v":"TEX-113-E or Tex-114-E"},{"$f":"IF('Tex-113,4-E'!$B$22=\"\",\"\",'Tex-113,4-E'!$B$22)","v":"Oven Dry Weight, (g):"}]
[215,{"$f":"IF('Tex-113,4-E'!$E$23=\"\",\"\",'Tex-113,4-E'!$E$23)","v":""},{"$f":"IF('Tex-113,4-E'!$B$6=\"\",\"\",'Tex-113,4-E'!$B$6)","v":"TEX-113-E or Tex-114-E"},{"$f":"IF('Tex-113,4-E'!$B$23=\"\",\"\",'Tex-113,4-E'!$B$23)","v":"Weight of Pycnometer & Water, (g):"}]
[216,{"$f":"IF('Tex-113,4-E'!$E$24=\"\",\"\",'Tex-113,4-E'!$E$24)","v":""},{"$f":"IF('Tex-113,4-E'!$B$6=\"\",\"\",'Tex-113,4-E'!$B$6)","v":"TEX-113-E or Tex-114-E"},{"$f":"IF('Tex-113,4-E'!$B$24=\"\",\"\",'Tex-113,4-E'!$B$24)","v":"Weight of Aggr., Pycn.& Water, (g):"}]
[217,{"$f":"IF('Tex-113,4-E'!$E$25=\"\",\"\",'Tex-113,4-E'!$E$25)","v":""},{"$f":"IF('Tex-113,4-E'!$B$6=\"\",\"\",'Tex-113,4-E'!$B$6)","v":"TEX-113-E or Tex-114-E"},{"$f":"IF('Tex-113,4-E'!$B$25=\"\",\"\",'Tex-113,4-E'!$B$25)","v":"Specific Gravity (Apparent):"}]
[218,{"$f":"IF('Tex-113,4-E'!$E$27=\"\",\"\",'Tex-113,4-E'!$E$27)","v":""},{"$f":"IF('Tex-113,4-E'!$B$6=\"\",\"\",'Tex-113,4-E'!$B$6)","v":"TEX-113-E or Tex-114-E"},{"$f":"IF('Tex-113,4-E'!$B$27=\"\",\"\",'Tex-113,4-E'!$B$27)","v":"Hygroscopic Moisture, (%):"}]
[219,{"$f":"IF('Tex-113,4-E'!$E$30=\"\",\"\",'Tex-113,4-E'!$E$30)","v":""},{"$f":"IF('Tex-113,4-E'!$B$6=\"\",\"\",'Tex-113,4-E'!$B$6)","v":"TEX-113-E or Tex-114-E"},{"$f":"IF('Tex-113,4-E'!$B$30=\"\",\"\",'Tex-113,4-E'!$B$30)","v":"Percent Water Content, (%):"},{"$f":"IF('Tex-113,4-E'!$E$29=\"\",\"\",'Tex-113,4-E'!$E$29)","v":1}]
[220,{"$f":"IF('Tex-113,4-E'!$F$30=\"\",\"\",'Tex-113,4-E'!$F$30)","v":""},{"$f":"IF('Tex-113,4-E'!$B$6=\"\",\"\",'Tex-113,4-E'!$B$6)","v":"TEX-113-E or Tex-114-E"},{"$f":"IF('Tex-113,4-E'!$B$30=\"\",\"\",'Tex-113,4-E'!$B$30)","v":"Percent Water Content, (%):"},{"$f":"IF('Tex-113,4-E'!$F$29=\"\",\"\",'Tex-113,4-E'!$F$29)","v":2}]
[221,{"$f":"IF('Tex-113,4-E'!$G$30=\"\",\"\",'Tex-113,4-E'!$G$30)","v":""},{"$f":"IF('Tex-113,4-E'!$B$6=\"\",\"\",'Tex-113,4-E'!$B$6)","v":"TEX-113-E or Tex-114-E"},{"$f":"IF('Tex-113,4-E'!$B$30=\"\",\"\",'Tex-113,4-E'!$B$30)","v":"Percent Water Content, (%):"},{"$f":"IF('Tex-113,4-E'!$G$29=\"\",\"\",'Tex-113,4-E'!$G$29)","v":3}]
[222,{"$f":"IF('Tex-113,4-E'!$H$30=\"\",\"\",'Tex-113,4-E'!$H$30)","v":""},{"$f":"IF('Tex-113,4-E'!$B$6=\"\",\"\",'Tex-113,4-E'!$B$6)","v":"TEX-113-E or Tex-114-E"},{"$f":"IF('Tex-113,4-E'!$B$30=\"\",\"\",'Tex-113,4-E'!$B$30)","v":"Percent Water Content, (%):"},{"$f":"IF('Tex-113,4-E'!$H$29=\"\",\"\",'Tex-113,4-E'!$H$29)","v":4}]
[223,{"$f":"IF('Tex-113,4-E'!$E$32=\"\",\"\",'Tex-113,4-E'!$E$32)","v":""},{"$f":"IF('Tex-113,4-E'!$B$6=\"\",\"\",'Tex-113,4-E'!$B$6)","v":"TEX-113-E or Tex-114-E"},{"$f":"IF('Tex-113,4-E'!$B$32=\"\",\"\",'Tex-113,4-E'!$B$32)","v":"Mass Material, (lb):"},{"$f":"IF('Tex-113,4-E'!$E$29=\"\",\"\",'Tex-113,4-E'!$E$29)","v":1}]
[224,{"$f":"IF('Tex-113,4-E'!$F$32=\"\",\"\",'Tex-113,4-E'!$F$32)","v":""},{"$f":"IF('Tex-113,4-E'!$B$6=\"\",\"\",'Tex-113,4-E'!$B$6)","v":"TEX-113-E or Tex-114-E"},{"$f":"IF('Tex-113,4-E'!$B$32=\"\",\"\",'Tex-113,4-E'!$B$32)","v":"Mass Material, (lb):"},{"$f":"IF('Tex-113,4-E'!$F$29=\"\",\"\",'Tex-113,4-E'!$F$29)","v":2}]
[225,{"$f":"IF('Tex-113,4-E'!$G$32=\"\",\"\",'Tex-113,4-E'!$G$32)","v":""},{"$f":"IF('Tex-113,4-E'!$B$6=\"\",\"\",'Tex-113,4-E'!$B$6)","v":"TEX-113-E or Tex-114-E"},{"$f":"IF('Tex-113,4-E'!$B$32=\"\",\"\",'Tex-113,4-E'!$B$32)","v":"Mass Material, (lb):"},{"$f":"IF('Tex-113,4-E'!$G$29=\"\",\"\",'Tex-113,4-E'!$G$29)","v":3}]
[226,{"$f":"IF('Tex-113,4-E'!$H$32=\"\",\"\",'Tex-113,4-E'!$H$32)","v":""},{"$f":"IF('Tex-113,4-E'!$B$6=\"\",\"\",'Tex-113,4-E'!$B$6)","v":"TEX-113-E or Tex-114-E"},{"$f":"IF('Tex-113,4-E'!$B$32=\"\",\"\",'Tex-113,4-E'!$B$32)","v":"Mass Material, (lb):"},{"$f":"IF('Tex-113,4-E'!$H$29=\"\",\"\",'Tex-113,4-E'!$H$29)","v":4}]
[227,{"$f":"IF('Tex-113,4-E'!$E$33=\"\",\"\",'Tex-113,4-E'!$E$33)","v":""},{"$f":"IF('Tex-113,4-E'!$B$6=\"\",\"\",'Tex-113,4-E'!$B$6)","v":"TEX-113-E or Tex-114-E"},{"$f":"IF('Tex-113,4-E'!$B$33=\"\",\"\",'Tex-113,4-E'!$B$33)","v":"Mass Water Added, (lb):"},{"$f":"IF('Tex-113,4-E'!$E$29=\"\",\"\",'Tex-113,4-E'!$E$29)","v":1}]
[228,{"$f":"IF('Tex-113,4-E'!$F$33=\"\",\"\",'Tex-113,4-E'!$F$33)","v":""},{"$f":"IF('Tex-113,4-E'!$B$6=\"\",\"\",'Tex-113,4-E'!$B$6)","v":"TEX-113-E or Tex-114-E"},{"$f":"IF('Tex-113,4-E'!$B$33=\"\",\"\",'Tex-113,4-E'!$B$33)","v":"Mass Water Added, (lb):"},{"$f":"IF('Tex-113,4-E'!$F$29=\"\",\"\",'Tex-113,4-E'!$F$29)","v":2}]
[229,{"$f":"IF('Tex-113,4-E'!$G$33=\"\",\"\",'Tex-113,4-E'!$G$33)","v":""},{"$f":"IF('Tex-113,4-E'!$B$6=\"\",\"\",'Tex-113,4-E'!$B$6)","v":"TEX-113-E or Tex-114-E"},{"$f":"IF('Tex-113,4-E'!$B$33=\"\",\"\",'Tex-113,4-E'!$B$33)","v":"Mass Water Added, (lb):"},{"$f":"IF('Tex-113,4-E'!$G$29=\"\",\"\",'Tex-113,4-E'!$G$29)","v":3}]
[230,{"$f":"IF('Tex-113,4-E'!$H$33=\"\",\"\",'Tex-113,4-E'!$H$33)","v":""},{"$f":"IF('Tex-113,4-E'!$B$6=\"\",\"\",'Tex-113,4-E'!$B$6)","v":"TEX-113-E or Tex-114-E"},{"$f":"IF('Tex-113,4-E'!$B$33=\"\",\"\",'Tex-113,4-E'!$B$33)","v":"Mass Water Added, (lb):"},{"$f":"IF('Tex-113,4-E'!$H$29=\"\",\"\",'Tex-113,4-E'!$H$29)","v":4}]
[231,{"$f":"IF('Tex-113,4-E'!$E$35=\"\",\"\",'Tex-113,4-E'!$E$35)","v":""},{"$f":"IF('Tex-113,4-E'!$B$6=\"\",\"\",'Tex-113,4-E'!$B$6)","v":"TEX-113-E or Tex-114-E"},{"$f":"IF('Tex-113,4-E'!$B$35=\"\",\"\",'Tex-113,4-E'!$B$35)","v":"Wet Mass Specimen & Mold, (lb):"},{"$f":"IF('Tex-113,4-E'!$E$29=\"\",\"\",'Tex-113,4-E'!$E$29)","v":1}]
[232,{"$f":"IF('Tex-113,4-E'!$F$35=\"\",\"\",'Tex-113,4-E'!$F$35)","v":""},{"$f":"IF('Tex-113,4-E'!$B$6=\"\",\"\",'Tex-113,4-E'!$B$6)","v":"TEX-113-E or Tex-114-E"},{"$f":"IF('Tex-113,4-E'!$B$35=\"\",\"\",'Tex-113,4-E'!$B$35)","v":"Wet Mass Specimen & Mold, (lb):"},{"$f":"IF('Tex-113,4-E'!$F$29=\"\",\"\",'Tex-113,4-E'!$F$29)","v":2}]
[233,{"$f":"IF('Tex-113,4-E'!$G$35=\"\",\"\",'Tex-113,4-E'!$G$35)","v":""},{"$f":"IF('Tex-113,4-E'!$B$6=\"\",\"\",'Tex-113,4-E'!$B$6)","v":"TEX-113-E or Tex-114-E"},{"$f":"IF('Tex-113,4-E'!$B$35=\"\",\"\",'Tex-113,4-E'!$B$35)","v":"Wet Mass Specimen & Mold, (lb):"},{"$f":"IF('Tex-113,4-E'!$G$29=\"\",\"\",'Tex-113,4-E'!$G$29)","v":3}]
[234,{"$f":"IF('Tex-113,4-E'!$H$35=\"\",\"\",'Tex-113,4-E'!$H$35)","v":""},{"$f":"IF('Tex-113,4-E'!$B$6=\"\",\"\",'Tex-113,4-E'!$B$6)","v":"TEX-113-E or Tex-114-E"},{"$f":"IF('Tex-113,4-E'!$B$35=\"\",\"\",'Tex-113,4-E'!$B$35)","v":"Wet Mass Specimen & Mold, (lb):"},{"$f":"IF('Tex-113,4-E'!$H$29=\"\",\"\",'Tex-113,4-E'!$H$29)","v":4}]
[235,{"$f":"IF('Tex-113,4-E'!$E$36=\"\",\"\",'Tex-113,4-E'!$E$36)","v":""},{"$f":"IF('Tex-113,4-E'!$B$6=\"\",\"\",'Tex-113,4-E'!$B$6)","v":"TEX-113-E or Tex-114-E"},{"$f":"IF('Tex-113,4-E'!$B$36=\"\",\"\",'Tex-113,4-E'!$B$36)","v":"Tare Mass Mold, (lb):"},{"$f":"IF('Tex-113,4-E'!$E$29=\"\",\"\",'Tex-113,4-E'!$E$29)","v":1}]
[236,{"$f":"IF('Tex-113,4-E'!$F$36=\"\",\"\",'Tex-113,4-E'!$F$36)","v":""},{"$f":"IF('Tex-113,4-E'!$B$6=\"\",\"\",'Tex-113,4-E'!$B$6)","v":"TEX-113-E or Tex-114-E"},{"$f":"IF('Tex-113,4-E'!$B$36=\"\",\"\",'Tex-113,4-E'!$B$36)","v":"Tare Mass Mold, (lb):"},{"$f":"IF('Tex-113,4-E'!$F$29=\"\",\"\",'Tex-113,4-E'!$F$29)","v":2}]
[237,{"$f":"IF('Tex-113,4-E'!$G$36=\"\",\"\",'Tex-113,4-E'!$G$36)","v":""},{"$f":"IF('Tex-113,4-E'!$B$6=\"\",\"\",'Tex-113,4-E'!$B$6)","v":"TEX-113-E or Tex-114-E"},{"$f":"IF('Tex-113,4-E'!$B$36=\"\",\"\",'Tex-113,4-E'!$B$36)","v":"Tare Mass Mold, (lb):"},{"$f":"IF('Tex-113,4-E'!$G$29=\"\",\"\",'Tex-113,4-E'!$G$29)","v":3}]
[238,{"$f":"IF('Tex-113,4-E'!$H$36=\"\",\"\",'Tex-113,4-E'!$H$36)","v":""},{"$f":"IF('Tex-113,4-E'!$B$6=\"\",\"\",'Tex-113,4-E'!$B$6)","v":"TEX-113-E or Tex-114-E"},{"$f":"IF('Tex-113,4-E'!$B$36=\"\",\"\",'Tex-113,4-E'!$B$36)","v":"Tare Mass Mold, (lb):"},{"$f":"IF('Tex-113,4-E'!$H$29=\"\",\"\",'Tex-113,4-E'!$H$29)","v":4}]
[239,{"$f":"IF('Tex-113,4-E'!$E$37=\"\",\"\",'Tex-113,4-E'!$E$37)","v":""},{"$f":"IF('Tex-113,4-E'!$B$6=\"\",\"\",'Tex-113,4-E'!$B$6)","v":"TEX-113-E or Tex-114-E"},{"$f":"IF('Tex-113,4-E'!$B$37=\"\",\"\",'Tex-113,4-E'!$B$37)","v":"Wet Mass Specimen, (lb):"},{"$f":"IF('Tex-113,4-E'!$E$29=\"\",\"\",'Tex-113,4-E'!$E$29)","v":1}]
[240,{"$f":"IF('Tex-113,4-E'!$F$37=\"\",\"\",'Tex-113,4-E'!$F$37)","v":""},{"$f":"IF('Tex-113,4-E'!$B$6=\"\",\"\",'Tex-113,4-E'!$B$6)","v":"TEX-113-E or Tex-114-E"},{"$f":"IF('Tex-113,4-E'!$B$37=\"\",\"\",'Tex-113,4-E'!$B$37)","v":"Wet Mass Specimen, (lb):"},{"$f":"IF('Tex-113,4-E'!$F$29=\"\",\"\",'Tex-113,4-E'!$F$29)","v":2}]
[241,{"$f":"IF('Tex-113,4-E'!$G$37=\"\",\"\",'Tex-113,4-E'!$G$37)","v":""},{"$f":"IF('Tex-113,4-E'!$B$6=\"\",\"\",'Tex-113,4-E'!$B$6)","v":"TEX-113-E or Tex-114-E"},{"$f":"IF('Tex-113,4-E'!$B$37=\"\",\"\",'Tex-113,4-E'!$B$37)","v":"Wet Mass Specimen, (lb):"},{"$f":"IF('Tex-113,4-E'!$G$29=\"\",\"\",'Tex-113,4-E'!$G$29)","v":3}]
[242,{"$f":"IF('Tex-113,4-E'!$H$37=\"\",\"\",'Tex-113,4-E'!$H$37)","v":""},{"$f":"IF('Tex-113,4-E'!$B$6=\"\",\"\",'Tex-113,4-E'!$B$6)","v":"TEX-113-E or Tex-114-E"},{"$f":"IF('Tex-113,4-E'!$B$37=\"\",\"\",'Tex-113,4-E'!$B$37)","v":"Wet Mass Specimen, (lb):"},{"$f":"IF('Tex-113,4-E'!$H$29=\"\",\"\",'Tex-113,4-E'!$H$29)","v":4}]
[243,{"$f":"IF('Tex-113,4-E'!$E$38=\"\",\"\",'Tex-113,4-E'!$E$38)","v":""},{"$f":"IF('Tex-113,4-E'!$B$6=\"\",\"\",'Tex-113,4-E'!$B$6)","v":"TEX-113-E or Tex-114-E"},{"$f":"IF('Tex-113,4-E'!$B$38=\"\",\"\",'Tex-113,4-E'!$B$38)","v":"Height of Specimen, (in.):"},{"$f":"IF('Tex-113,4-E'!$E$29=\"\",\"\",'Tex-113,4-E'!$E$29)","v":1}]
[244,{"$f":"IF('Tex-113,4-E'!$F$38=\"\",\"\",'Tex-113,4-E'!$F$38)","v":""},{"$f":"IF('Tex-113,4-E'!$B$6=\"\",\"\",'Tex-113,4-E'!$B$6)","v":"TEX-113-E or Tex-114-E"},{"$f":"IF('Tex-113,4-E'!$B$38=\"\",\"\",'Tex-113,4-E'!$B$38)","v":"Height of Specimen, (in.):"},{"$f":"IF('Tex-113,4-E'!$F$29=\"\",\"\",'Tex-113,4-E'!$F$29)","v":2}]
[245,{"$f":"IF('Tex-113,4-E'!$G$38=\"\",\"\",'Tex-113,4-E'!$G$38)","v":""},{"$f":"IF('Tex-113,4-E'!$B$6=\"\",\"\",'Tex-113,4-E'!$B$6)","v":"TEX-113-E or Tex-114-E"},{"$f":"IF('Tex-113,4-E'!$B$38=\"\",\"\",'Tex-113,4-E'!$B$38)","v":"Height of Specimen, (in.):"},{"$f":"IF('Tex-113,4-E'!$G$29=\"\",\"\",'Tex-113,4-E'!$G$29)","v":3}]
[246,{"$f":"IF('Tex-113,4-E'!$H$38=\"\",\"\",'Tex-113,4-E'!$H$38)","v":""},{"$f":"IF('Tex-113,4-E'!$B$6=\"\",\"\",'Tex-113,4-E'!$B$6)","v":"TEX-113-E or Tex-114-E"},{"$f":"IF('Tex-113,4-E'!$B$38=\"\",\"\",'Tex-113,4-E'!$B$38)","v":"Height of Specimen, (in.):"},{"$f":"IF('Tex-113,4-E'!$H$29=\"\",\"\",'Tex-113,4-E'!$H$29)","v":4}]
[247,{"$f":"IF('Tex-113,4-E'!$E$39=\"\",\"\",'Tex-113,4-E'!$E$39)","v":""},{"$f":"IF('Tex-113,4-E'!$B$6=\"\",\"\",'Tex-113,4-E'!$B$6)","v":"TEX-113-E or Tex-114-E"},{"$f":"IF('Tex-113,4-E'!$B$39=\"\",\"\",'Tex-113,4-E'!$B$39)","v":"Volume per Linear mm., (in.):"},{"$f":"IF('Tex-113,4-E'!$E$29=\"\",\"\",'Tex-113,4-E'!$E$29)","v":1}]
[248,{"$f":"IF('Tex-113,4-E'!$F$39=\"\",\"\",'Tex-113,4-E'!$F$39)","v":""},{"$f":"IF('Tex-113,4-E'!$B$6=\"\",\"\",'Tex-113,4-E'!$B$6)","v":"TEX-113-E or Tex-114-E"},{"$f":"IF('Tex-113,4-E'!$B$39=\"\",\"\",'Tex-113,4-E'!$B$39)","v":"Volume per Linear mm., (in.):"},{"$f":"IF('Tex-113,4-E'!$F$29=\"\",\"\",'Tex-113,4-E'!$F$29)","v":2}]
[249,{"$f":"IF('Tex-113,4-E'!$G$39=\"\",\"\",'Tex-113,4-E'!$G$39)","v":""},{"$f":"IF('Tex-113,4-E'!$B$6=\"\",\"\",'Tex-113,4-E'!$B$6)","v":"TEX-113-E or Tex-114-E"},{"$f":"IF('Tex-113,4-E'!$B$39=\"\",\"\",'Tex-113,4-E'!$B$39)","v":"Volume per Linear mm., (in.):"},{"$f":"IF('Tex-113,4-E'!$G$29=\"\",\"\",'Tex-113,4-E'!$G$29)","v":3}]
[250,{"$f":"IF('Tex-113,4-E'!$H$39=\"\",\"\",'Tex-113,4-E'!$H$39)","v":""},{"$f":"IF('Tex-113,4-E'!$B$6=\"\",\"\",'Tex-113,4-E'!$B$6)","v":"TEX-113-E or Tex-114-E"},{"$f":"IF('Tex-113,4-E'!$B$39=\"\",\"\",'Tex-113,4-E'!$B$39)","v":"Volume per Linear mm., (in.):"},{"$f":"IF('Tex-113,4-E'!$H$29=\"\",\"\",'Tex-113,4-E'!$H$29)","v":4}]
[251,{"$f":"IF('Tex-113,4-E'!$E$40=\"\",\"\",'Tex-113,4-E'!$E$40)","v":""},{"$f":"IF('Tex-113,4-E'!$B$6=\"\",\"\",'Tex-113,4-E'!$B$6)","v":"TEX-113-E or Tex-114-E"},{"$f":"IF('Tex-113,4-E'!$B$40=\"\",\"\",'Tex-113,4-E'!$B$40)","v":"Volume of Specimen, (ft^3):"},{"$f":"IF('Tex-113,4-E'!$E$29=\"\",\"\",'Tex-113,4-E'!$E$29)","v":1}]
[252,{"$f":"IF('Tex-113,4-E'!$F$40=\"\",\"\",'Tex-113,4-E'!$F$40)","v":""},{"$f":"IF('Tex-113,4-E'!$B$6=\"\",\"\",'Tex-113,4-E'!$B$6)","v":"TEX-113-E or Tex-114-E"},{"$f":"IF('Tex-113,4-E'!$B$40=\"\",\"\",'Tex-113,4-E'!$B$40)","v":"Volume of Specimen, (ft^3):"},{"$f":"IF('Tex-113,4-E'!$F$29=\"\",\"\",'Tex-113,4-E'!$F$29)","v":2}]
[253,{"$f":"IF('Tex-113,4-E'!$G$40=\"\",\"\",'Tex-113,4-E'!$G$40)","v":""},{"$f":"IF('Tex-113,4-E'!$B$6=\"\",\"\",'Tex-113,4-E'!$B$6)","v":"TEX-113-E or Tex-114-E"},{"$f":"IF('Tex-113,4-E'!$B$40=\"\",\"\",'Tex-113,4-E'!$B$40)","v":"Volume of Specimen, (ft^3):"},{"$f":"IF('Tex-113,4-E'!$G$29=\"\",\"\",'Tex-113,4-E'!$G$29)","v":3}]
[254,{"$f":"IF('Tex-113,4-E'!$H$40=\"\",\"\",'Tex-113,4-E'!$H$40)","v":""},{"$f":"IF('Tex-113,4-E'!$B$6=\"\",\"\",'Tex-113,4-E'!$B$6)","v":"TEX-113-E or Tex-114-E"},{"$f":"IF('Tex-113,4-E'!$B$40=\"\",\"\",'Tex-113,4-E'!$B$40)","v":"Volume of Specimen, (ft^3):"},{"$f":"IF('Tex-113,4-E'!$H$29=\"\",\"\",'Tex-113,4-E'!$H$29)","v":4}]
[255,{"$f":"IF('Tex-113,4-E'!$E$41=\"\",\"\",'Tex-113,4-E'!$E$41)","v":""},{"$f":"IF('Tex-113,4-E'!$B$6=\"\",\"\",'Tex-113,4-E'!$B$6)","v":"TEX-113-E or Tex-114-E"},{"$f":"IF('Tex-113,4-E'!$B$41=\"\",\"\",'Tex-113,4-E'!$B$41)","v":"Wet Density of Specimen, (lb):"},{"$f":"IF('Tex-113,4-E'!$E$29=\"\",\"\",'Tex-113,4-E'!$E$29)","v":1}]
[256,{"$f":"IF('Tex-113,4-E'!$F$41=\"\",\"\",'Tex-113,4-E'!$F$41)","v":""},{"$f":"IF('Tex-113,4-E'!$B$6=\"\",\"\",'Tex-113,4-E'!$B$6)","v":"TEX-113-E or Tex-114-E"},{"$f":"IF('Tex-113,4-E'!$B$41=\"\",\"\",'Tex-113,4-E'!$B$41)","v":"Wet Density of Specimen, (lb):"},{"$f":"IF('Tex-113,4-E'!$F$29=\"\",\"\",'Tex-113,4-E'!$F$29)","v":2}]
[257,{"$f":"IF('Tex-113,4-E'!$G$41=\"\",\"\",'Tex-113,4-E'!$G$41)","v":""},{"$f":"IF('Tex-113,4-E'!$B$6=\"\",\"\",'Tex-113,4-E'!$B$6)","v":"TEX-113-E or Tex-114-E"},{"$f":"IF('Tex-113,4-E'!$B$41=\"\",\"\",'Tex-113,4-E'!$B$41)","v":"Wet Density of Specimen, (lb):"},{"$f":"IF('Tex-113,4-E'!$G$29=\"\",\"\",'Tex-113,4-E'!$G$29)","v":3}]
[258,{"$f":"IF('Tex-113,4-E'!$H$41=\"\",\"\",'Tex-113,4-E'!$H$41)","v":""},{"$f":"IF('Tex-113,4-E'!$B$6=\"\",\"\",'Tex-113,4-E'!$B$6)","v":"TEX-113-E or Tex-114-E"},{"$f":"IF('Tex-113,4-E'!$B$41=\"\",\"\",'Tex-113,4-E'!$B$41)","v":"Wet Density of Specimen, (lb):"},{"$f":"IF('Tex-113,4-E'!$H$29=\"\",\"\",'Tex-113,4-E'!$H$29)","v":4}]
[259,{"$f":"IF('Tex-113,4-E'!$E$42=\"\",\"\",'Tex-113,4-E'!$E$42)","v":""},{"$f":"IF('Tex-113,4-E'!$B$6=\"\",\"\",'Tex-113,4-E'!$B$6)","v":"TEX-113-E or Tex-114-E"},{"$f":"IF('Tex-113,4-E'!$B$42=\"\",\"\",'Tex-113,4-E'!$B$42)","v":"Wet Mass of Pan & Specimen, (lb):"},{"$f":"IF('Tex-113,4-E'!$E$29=\"\",\"\",'Tex-113,4-E'!$E$29)","v":1}]
[260,{"$f":"IF('Tex-113,4-E'!$F$42=\"\",\"\",'Tex-113,4-E'!$F$42)","v":""},{"$f":"IF('Tex-113,4-E'!$B$6=\"\",\"\",'Tex-113,4-E'!$B$6)","v":"TEX-113-E or Tex-114-E"},{"$f":"IF('Tex-113,4-E'!$B$42=\"\",\"\",'Tex-113,4-E'!$B$42)","v":"Wet Mass of Pan & Specimen, (lb):"},{"$f":"IF('Tex-113,4-E'!$F$29=\"\",\"\",'Tex-113,4-E'!$F$29)","v":2}]
[261,{"$f":"IF('Tex-113,4-E'!$G$42=\"\",\"\",'Tex-113,4-E'!$G$42)","v":""},{"$f":"IF('Tex-113,4-E'!$B$6=\"\",\"\",'Tex-113,4-E'!$B$6)","v":"TEX-113-E or Tex-114-E"},{"$f":"IF('Tex-113,4-E'!$B$42=\"\",\"\",'Tex-113,4-E'!$B$42)","v":"Wet Mass of Pan & Specimen, (lb):"},{"$f":"IF('Tex-113,4-E'!$G$29=\"\",\"\",'Tex-113,4-E'!$G$29)","v":3}]
[262,{"$f":"IF('Tex-113,4-E'!$H$42=\"\",\"\",'Tex-113,4-E'!$H$42)","v":""},{"$f":"IF('Tex-113,4-E'!$B$6=\"\",\"\",'Tex-113,4-E'!$B$6)","v":"TEX-113-E or Tex-114-E"},{"$f":"IF('Tex-113,4-E'!$B$42=\"\",\"\",'Tex-113,4-E'!$B$42)","v":"Wet Mass of Pan & Specimen, (lb):"},{"$f":"IF('Tex-113,4-E'!$H$29=\"\",\"\",'Tex-113,4-E'!$H$29)","v":4}]
[263,{"$f":"IF('Tex-113,4-E'!$E$43=\"\",\"\",'Tex-113,4-E'!$E$43)","v":""},{"$f":"IF('Tex-113,4-E'!$B$6=\"\",\"\",'Tex-113,4-E'!$B$6)","v":"TEX-113-E or Tex-114-E"},{"$f":"IF('Tex-113,4-E'!$B$43=\"\",\"\",'Tex-113,4-E'!$B$43)","v":"Dry Mass Pan & Specimen, (lb):"},{"$f":"IF('Tex-113,4-E'!$E$29=\"\",\"\",'Tex-113,4-E'!$E$29)","v":1}]
[264,{"$f":"IF('Tex-113,4-E'!$F$43=\"\",\"\",'Tex-113,4-E'!$F$43)","v":""},{"$f":"IF('Tex-113,4-E'!$B$6=\"\",\"\",'Tex-113,4-E'!$B$6)","v":"TEX-113-E or Tex-114-E"},{"$f":"IF('Tex-113,4-E'!$B$43=\"\",\"\",'Tex-113,4-E'!$B$43)","v":"Dry Mass Pan & Specimen, (lb):"},{"$f":"IF('Tex-113,4-E'!$F$29=\"\",\"\",'Tex-113,4-E'!$F$29)","v":2}]
[265,{"$f":"IF('Tex-113,4-E'!$G$43=\"\",\"\",'Tex-113,4-E'!$G$43)","v":""},{"$f":"IF('Tex-113,4-E'!$B$6=\"\",\"\",'Tex-113,4-E'!$B$6)","v":"TEX-113-E or Tex-114-E"},{"$f":"IF('Tex-113,4-E'!$B$43=\"\",\"\",'Tex-113,4-E'!$B$43)","v":"Dry Mass Pan & Specimen, (lb):"},{"$f":"IF('Tex-113,4-E'!$G$29=\"\",\"\",'Tex-113,4-E'!$G$29)","v":3}]
[266,{"$f":"IF('Tex-113,4-E'!$H$43=\"\",\"\",'Tex-113,4-E'!$H$43)","v":""},{"$f":"IF('Tex-113,4-E'!$B$6=\"\",\"\",'Tex-113,4-E'!$B$6)","v":"TEX-113-E or Tex-114-E"},{"$f":"IF('Tex-113,4-E'!$B$43=\"\",\"\",'Tex-113,4-E'!$B$43)","v":"Dry Mass Pan & Specimen, (lb):"},{"$f":"IF('Tex-113,4-E'!$H$29=\"\",\"\",'Tex-113,4-E'!$H$29)","v":4}]
[267,{"$f":"IF('Tex-113,4-E'!$E$44=\"\",\"\",'Tex-113,4-E'!$E$44)","v":""},{"$f":"IF('Tex-113,4-E'!$B$6=\"\",\"\",'Tex-113,4-E'!$B$6)","v":"TEX-113-E or Tex-114-E"},{"$f":"IF('Tex-113,4-E'!$B$44=\"\",\"\",'Tex-113,4-E'!$B$44)","v":"Tare Mass Pan, (lb):"},{"$f":"IF('Tex-113,4-E'!$E$29=\"\",\"\",'Tex-113,4-E'!$E$29)","v":1}]
[268,{"$f":"IF('Tex-113,4-E'!$F$44=\"\",\"\",'Tex-113,4-E'!$F$44)","v":""},{"$f":"IF('Tex-113,4-E'!$B$6=\"\",\"\",'Tex-113,4-E'!$B$6)","v":"TEX-113-E or Tex-114-E"},{"$f":"IF('Tex-113,4-E'!$B$44=\"\",\"\",'Tex-113,4-E'!$B$44)","v":"Tare Mass Pan, (lb):"},{"$f":"IF('Tex-113,4-E'!$F$29=\"\",\"\",'Tex-113,4-E'!$F$29)","v":2}]
[269,{"$f":"IF('Tex-113,4-E'!$G$44=\"\",\"\",'Tex-113,4-E'!$G$44)","v":""},{"$f":"IF('Tex-113,4-E'!$B$6=\"\",\"\",'Tex-113,4-E'!$B$6)","v":"TEX-113-E or Tex-114-E"},{"$f":"IF('Tex-113,4-E'!$B$44=\"\",\"\",'Tex-113,4-E'!$B$44)","v":"Tare Mass Pan, (lb):"},{"$f":"IF('Tex-113,4-E'!$G$29=\"\",\"\",'Tex-113,4-E'!$G$29)","v":3}]
[270,{"$f":"IF('Tex-113,4-E'!$H$44=\"\",\"\",'Tex-113,4-E'!$H$44)","v":""},{"$f":"IF('Tex-113,4-E'!$B$6=\"\",\"\",'Tex-113,4-E'!$B$6)","v":"TEX-113-E or Tex-114-E"},{"$f":"IF('Tex-113,4-E'!$B$44=\"\",\"\",'Tex-113,4-E'!$B$44)","v":"Tare Mass Pan, (lb):"},{"$f":"IF('Tex-113,4-E'!$H$29=\"\",\"\",'Tex-113,4-E'!$H$29)","v":4}]
[271,{"$f":"IF('Tex-113,4-E'!$E$45=\"\",\"\",'Tex-113,4-E'!$E$45)","v":""},{"$f":"IF('Tex-113,4-E'!$B$6=\"\",\"\",'Tex-113,4-E'!$B$6)","v":"TEX-113-E or Tex-114-E"},{"$f":"IF('Tex-113,4-E'!$B$45=\"\",\"\",'Tex-113,4-E'!$B$45)","v":"Dry Mass Material , (lb):"},{"$f":"IF('Tex-113,4-E'!$E$29=\"\",\"\",'Tex-113,4-E'!$E$29)","v":1}]
[272,{"$f":"IF('Tex-113,4-E'!$F$45=\"\",\"\",'Tex-113,4-E'!$F$45)","v":""},{"$f":"IF('Tex-113,4-E'!$B$6=\"\",\"\",'Tex-113,4-E'!$B$6)","v":"TEX-113-E or Tex-114-E"},{"$f":"IF('Tex-113,4-E'!$B$45=\"\",\"\",'Tex-113,4-E'!$B$45)","v":"Dry Mass Material , (lb):"},{"$f":"IF('Tex-113,4-E'!$F$29=\"\",\"\",'Tex-113,4-E'!$F$29)","v":2}]
[273,{"$f":"IF('Tex-113,4-E'!$G$45=\"\",\"\",'Tex-113,4-E'!$G$45)","v":""},{"$f":"IF('Tex-113,4-E'!$B$6=\"\",\"\",'Tex-113,4-E'!$B$6)","v":"TEX-113-E or Tex-114-E"},{"$f":"IF('Tex-113,4-E'!$B$45=\"\",\"\",'Tex-113,4-E'!$B$45)","v":"Dry Mass Material , (lb):"},{"$f":"IF('Tex-113,4-E'!$G$29=\"\",\"\",'Tex-113,4-E'!$G$29)","v":3}]
[274,{"$f":"IF('Tex-113,4-E'!$H$45=\"\",\"\",'Tex-113,4-E'!$H$45)","v":""},{"$f":"IF('Tex-113,4-E'!$B$6=\"\",\"\",'Tex-113,4-E'!$B$6)","v":"TEX-113-E or Tex-114-E"},{"$f":"IF('Tex-113,4-E'!$B$45=\"\",\"\",'Tex-113,4-E'!$B$45)","v":"Dry Mass Material , (lb):"},{"$f":"IF('Tex-113,4-E'!$H$29=\"\",\"\",'Tex-113,4-E'!$H$29)","v":4}]
[275,{"$f":"IF('Tex-113,4-E'!$E$46=\"\",\"\",'Tex-113,4-E'!$E$46)","v":""},{"$f":"IF('Tex-113,4-E'!$B$6=\"\",\"\",'Tex-113,4-E'!$B$6)","v":"TEX-113-E or Tex-114-E"},{"$f":"IF('Tex-113,4-E'!$B$46=\"\",\"\",'Tex-113,4-E'!$B$46)","v":"Mass Water, (lb):"},{"$f":"IF('Tex-113,4-E'!$E$29=\"\",\"\",'Tex-113,4-E'!$E$29)","v":1}]
[276,{"$f":"IF('Tex-113,4-E'!$F$46=\"\",\"\",'Tex-113,4-E'!$F$46)","v":""},{"$f":"IF('Tex-113,4-E'!$B$6=\"\",\"\",'Tex-113,4-E'!$B$6)","v":"TEX-113-E or Tex-114-E"},{"$f":"IF('Tex-113,4-E'!$B$46=\"\",\"\",'Tex-113,4-E'!$B$46)","v":"Mass Water, (lb):"},{"$f":"IF('Tex-113,4-E'!$F$29=\"\",\"\",'Tex-113,4-E'!$F$29)","v":2}]
[277,{"$f":"IF('Tex-113,4-E'!$G$46=\"\",\"\",'Tex-113,4-E'!$G$46)","v":""},{"$f":"IF('Tex-113,4-E'!$B$6=\"\",\"\",'Tex-113,4-E'!$B$6)","v":"TEX-113-E or Tex-114-E"},{"$f":"IF('Tex-113,4-E'!$B$46=\"\",\"\",'Tex-113,4-E'!$B$46)","v":"Mass Water, (lb):"},{"$f":"IF('Tex-113,4-E'!$G$29=\"\",\"\",'Tex-113,4-E'!$G$29)","v":3}]
[278,{"$f":"IF('Tex-113,4-E'!$H$46=\"\",\"\",'Tex-113,4-E'!$H$46)","v":""},{"$f":"IF('Tex-113,4-E'!$B$6=\"\",\"\",'Tex-113,4-E'!$B$6)","v":"TEX-113-E or Tex-114-E"},{"$f":"IF('Tex-113,4-E'!$B$46=\"\",\"\",'Tex-113,4-E'!$B$46)","v":"Mass Water, (lb):"},{"$f":"IF('Tex-113,4-E'!$H$29=\"\",\"\",'Tex-113,4-E'!$H$29)","v":4}]
[279,{"$f":"IF('Tex-113,4-E'!$E$47=\"\",\"\",'Tex-113,4-E'!$E$47)","v":""},{"$f":"IF('Tex-113,4-E'!$B$6=\"\",\"\",'Tex-113,4-E'!$B$6)","v":"TEX-113-E or Tex-114-E"},{"$f":"IF('Tex-113,4-E'!$B$47=\"\",\"\",'Tex-113,4-E'!$B$47)","v":"Percent Water on Total , (%):"},{"$f":"IF('Tex-113,4-E'!$E$29=\"\",\"\",'Tex-113,4-E'!$E$29)","v":1}]
[280,{"$f":"IF('Tex-113,4-E'!$F$47=\"\",\"\",'Tex-113,4-E'!$F$47)","v":""},{"$f":"IF('Tex-113,4-E'!$B$6=\"\",\"\",'Tex-113,4-E'!$B$6)","v":"TEX-113-E or Tex-114-E"},{"$f":"IF('Tex-113,4-E'!$B$47=\"\",\"\",'Tex-113,4-E'!$B$47)","v":"Percent Water on Total , (%):"},{"$f":"IF('Tex-113,4-E'!$F$29=\"\",\"\",'Tex-113,4-E'!$F$29)","v":2}]
[281,{"$f":"IF('Tex-113,4-E'!$G$47=\"\",\"\",'Tex-113,4-E'!$G$47)","v":""},{"$f":"IF('Tex-113,4-E'!$B$6=\"\",\"\",'Tex-113,4-E'!$B$6)","v":"TEX-113-E or Tex-114-E"},{"$f":"IF('Tex-113,4-E'!$B$47=\"\",\"\",'Tex-113,4-E'!$B$47)","v":"Percent Water on Total , (%):"},{"$f":"IF('Tex-113,4-E'!$G$29=\"\",\"\",'Tex-113,4-E'!$G$29)","v":3}]
[282,{"$f":"IF('Tex-113,4-E'!$H$47=\"\",\"\",'Tex-113,4-E'!$H$47)","v":""},{"$f":"IF('Tex-113,4-E'!$B$6=\"\",\"\",'Tex-113,4-E'!$B$6)","v":"TEX-113-E or Tex-114-E"},{"$f":"IF('Tex-113,4-E'!$B$47=\"\",\"\",'Tex-113,4-E'!$B$47)","v":"Percent Water on Total , (%):"},{"$f":"IF('Tex-113,4-E'!$H$29=\"\",\"\",'Tex-113,4-E'!$H$29)","v":4}]
[283,{"$f":"IF('Tex-113,4-E'!$E$48=\"\",\"\",'Tex-113,4-E'!$E$48)","v":""},{"$f":"IF('Tex-113,4-E'!$B$6=\"\",\"\",'Tex-113,4-E'!$B$6)","v":"TEX-113-E or Tex-114-E"},{"$f":"IF('Tex-113,4-E'!$B$48=\"\",\"\",'Tex-113,4-E'!$B$48)","v":"Dry Density, (pcf):"},{"$f":"IF('Tex-113,4-E'!$E$29=\"\",\"\",'Tex-113,4-E'!$E$29)","v":1}]
[284,{"$f":"IF('Tex-113,4-E'!$F$48=\"\",\"\",'Tex-113,4-E'!$F$48)","v":""},{"$f":"IF('Tex-113,4-E'!$B$6=\"\",\"\",'Tex-113,4-E'!$B$6)","v":"TEX-113-E or Tex-114-E"},{"$f":"IF('Tex-113,4-E'!$B$48=\"\",\"\",'Tex-113,4-E'!$B$48)","v":"Dry Density, (pcf):"},{"$f":"IF('Tex-113,4-E'!$F$29=\"\",\"\",'Tex-113,4-E'!$F$29)","v":2}]
[285,{"$f":"IF('Tex-113,4-E'!$G$48=\"\",\"\",'Tex-113,4-E'!$G$48)","v":""},{"$f":"IF('Tex-113,4-E'!$B$6=\"\",\"\",'Tex-113,4-E'!$B$6)","v":"TEX-113-E or Tex-114-E"},{"$f":"IF('Tex-113,4-E'!$B$48=\"\",\"\",'Tex-113,4-E'!$B$48)","v":"Dry Density, (pcf):"},{"$f":"IF('Tex-113,4-E'!$G$29=\"\",\"\",'Tex-113,4-E'!$G$29)","v":3}]
[286,{"$f":"IF('Tex-113,4-E'!$H$48=\"\",\"\",'Tex-113,4-E'!$H$48)","v":""},{"$f":"IF('Tex-113,4-E'!$B$6=\"\",\"\",'Tex-113,4-E'!$B$6)","v":"TEX-113-E or Tex-114-E"},{"$f":"IF('Tex-113,4-E'!$B$48=\"\",\"\",'Tex-113,4-E'!$B$48)","v":"Dry Density, (pcf):"},{"$f":"IF('Tex-113,4-E'!$H$29=\"\",\"\",'Tex-113,4-E'!$H$29)","v":4}]
[287,{"$f":"IF('Tex-113,4-E'!$E$49=\"\",\"\",'Tex-113,4-E'!$E$49)","v":""},{"$f":"IF('Tex-113,4-E'!$B$6=\"\",\"\",'Tex-113,4-E'!$B$6)","v":"TEX-113-E or Tex-114-E"},{"$f":"IF('Tex-113,4-E'!$B$49=\"\",\"\",'Tex-113,4-E'!$B$49)","v":"Estimated Dry Density, (pcf):"},{"$f":"IF('Tex-113,4-E'!$E$29=\"\",\"\",'Tex-113,4-E'!$E$29)","v":1}]
[288,{"$f":"IF('Tex-113,4-E'!$F$49=\"\",\"\",'Tex-113,4-E'!$F$49)","v":""},{"$f":"IF('Tex-113,4-E'!$B$6=\"\",\"\",'Tex-113,4-E'!$B$6)","v":"TEX-113-E or Tex-114-E"},{"$f":"IF('Tex-113,4-E'!$B$49=\"\",\"\",'Tex-113,4-E'!$B$49)","v":"Estimated Dry Density, (pcf):"},{"$f":"IF('Tex-113,4-E'!$F$29=\"\",\"\",'Tex-113,4-E'!$F$29)","v":2}]
[289,{"$f":"IF('Tex-113,4-E'!$G$49=\"\",\"\",'Tex-113,4-E'!$G$49)","v":""},{"$f":"IF('Tex-113,4-E'!$B$6=\"\",\"\",'Tex-113,4-E'!$B$6)","v":"TEX-113-E or Tex-114-E"},{"$f":"IF('Tex-113,4-E'!$B$49=\"\",\"\",'Tex-113,4-E'!$B$49)","v":"Estimated Dry Density, (pcf):"},{"$f":"IF('Tex-113,4-E'!$G$29=\"\",\"\",'Tex-113,4-E'!$G$29)","v":3}]
[290,{"$f":"IF('Tex-113,4-E'!$H$49=\"\",\"\",'Tex-113,4-E'!$H$49)","v":""},{"$f":"IF('Tex-113,4-E'!$B$6=\"\",\"\",'Tex-113,4-E'!$B$6)","v":"TEX-113-E or Tex-114-E"},{"$f":"IF('Tex-113,4-E'!$B$49=\"\",\"\",'Tex-113,4-E'!$B$49)","v":"Estimated Dry Density, (pcf):"},{"$f":"IF('Tex-113,4-E'!$H$29=\"\",\"\",'Tex-113,4-E'!$H$29)","v":4}]
[291,{"$f":"IF('Tex-113,4-E'!$E$50=\"\",\"\",'Tex-113,4-E'!$E$50)","v":""},{"$f":"IF('Tex-113,4-E'!$B$6=\"\",\"\",'Tex-113,4-E'!$B$6)","v":"TEX-113-E or Tex-114-E"},{"$f":"IF('Tex-113,4-E'!$B$50=\"\",\"\",'Tex-113,4-E'!$B$50)","v":"Max Density, (pcf):"}]
[292,{"$f":"IF('Tex-113,4-E'!$E$51=\"\",\"\",'Tex-113,4-E'!$E$51)","v":""},{"$f":"IF('Tex-113,4-E'!$B$6=\"\",\"\",'Tex-113,4-E'!$B$6)","v":"TEX-113-E or Tex-114-E"},{"$f":"IF('Tex-113,4-E'!$B$51=\"\",\"\",'Tex-113,4-E'!$B$51)","v":"Max Density, (kg/m3):"}]
[293,{"$f":"IF('Tex-113,4-E'!$E$52=\"\",\"\",'Tex-113,4-E'!$E$52)","v":""},{"$f":"IF('Tex-113,4-E'!$B$6=\"\",\"\",'Tex-113,4-E'!$B$6)","v":"TEX-113-E or Tex-114-E"},{"$f":"IF('Tex-113,4-E'!$B$52=\"\",\"\",'Tex-113,4-E'!$B$52)","v":"Optimum Moisture, (%):"}]
[294,{"$f":"IF('Tex-113,4-E'!$B$55=\"\",\"\",'Tex-113,4-E'!$B$55)","v":""},{"$f":"IF('Tex-113,4-E'!$B$6=\"\",\"\",'Tex-113,4-E'!$B$6)","v":"TEX-113-E or Tex-114-E"},{"$f":"IF('Tex-113,4-E'!$B$54=\"\",\"\",'Tex-113,4-E'!$B$54)","v":"Remarks:"}]
[295,{"$f":"IF(Worksheet!$L$41=\"\",\"\",Worksheet!$L$41)","v":""},{"$f":"IF(Worksheet!$B$6=\"\",\"\",Worksheet!$B$6)","v":"Tex-117-E"},{"$f":"IF(Worksheet!$B$41=\"\",\"\",Worksheet!$B$41)","v":"Initial Height of Specimen, in.:"},{"$f":"IF(Worksheet!$L$33=\"\",\"\",Worksheet!$L$33)","v":9}]
[296,{"$f":"IF(Worksheet!$L$42=\"\",\"\",Worksheet!$L$42)","v":""},{"$f":"IF(Worksheet!$B$6=\"\",\"\",Worksheet!$B$6)","v":"Tex-117-E"},{"$f":"IF(Worksheet!$B$42=\"\",\"\",Worksheet!$B$42)","v":"Height of Stone 1, in."},{"$f":"IF(Worksheet!$L$33=\"\",\"\",Worksheet!$L$33)","v":9}]
[297,{"$f":"IF(Worksheet!$L$43=\"\",\"\",Worksheet!$L$43)","v":""},{"$f":"IF(Worksheet!$B$6=\"\",\"\",Worksheet!$B$6)","v":"Tex-117-E"},{"$f":"IF(Worksheet!$B$43=\"\",\"\",Worksheet!$B$43)","v":"Height of Stone 2, in."},{"$f":"IF(Worksheet!$L$33=\"\",\"\",Worksheet!$L$33)","v":9}]
[298,{"$f":"IF(Worksheet!$L$44=\"\",\"\",Worksheet!$L$44)","v":""},{"$f":"IF(Worksheet!$B$6=\"\",\"\",Worksheet!$B$6)","v":"Tex-117-E"},{"$f":"IF(Worksheet!$B$44=\"\",\"\",Worksheet!$B$44)","v":"New Height of Specimen, in.:"},{"$f":"IF(Worksheet!$L$33=\"\",\"\",Worksheet!$L$33)","v":9}]
[299,{"$f":"IF(Worksheet!$L$45=\"\",\"\",Worksheet!$L$45)","v":""},{"$f":"IF(Worksheet!$B$6=\"\",\"\",Worksheet!$B$6)","v":"Tex-117-E"},{"$f":"IF(Worksheet!$B$45=\"\",\"\",Worksheet!$B$45)","v":"Average Diameter, in.:"},{"$f":"IF(Worksheet!$L$33=\"\",\"\",Worksheet!$L$33)","v":9}]
[300,{"$f":"IF(Worksheet!$L$46=\"\",\"\",Worksheet!$L$46)","v":""},{"$f":"IF(Worksheet!$B$6=\"\",\"\",Worksheet!$B$6)","v":"Tex-117-E"},{"$f":"IF(Worksheet!$B$46=\"\",\"\",Worksheet!$B$46)","v":"Circumference, in. (manual):"},{"$f":"IF(Worksheet!$L$33=\"\",\"\",Worksheet!$L$33)","v":9}]
[301,{"$f":"IF(Worksheet!$L$47=\"\",\"\",Worksheet!$L$47)","v":""},{"$f":"IF(Worksheet!$B$6=\"\",\"\",Worksheet!$B$6)","v":"Tex-117-E"},{"$f":"IF(Worksheet!$B$47=\"\",\"\",Worksheet!$B$47)","v":"Circumference, in. (auto):"},{"$f":"IF(Worksheet!$L$33=\"\",\"\",Worksheet!$L$33)","v":9}]
[302,{"$f":"IF(Worksheet!$L$48=\"\",\"\",Worksheet!$L$48)","v":""},{"$f":"IF(Worksheet!$B$6=\"\",\"\",Worksheet!$B$6)","v":"Tex-117-E"},{"$f":"IF(Worksheet!$B$48=\"\",\"\",Worksheet!$B$48)","v":"Area, in.^2:"},{"$f":"IF(Worksheet!$L$33=\"\",\"\",Worksheet!$L$33)","v":9}]
[303,{"$f":"IF(Worksheet!$L$49=\"\",\"\",Worksheet!$L$49)","v":""},{"$f":"IF(Worksheet!$B$6=\"\",\"\",Worksheet!$B$6)","v":"Tex-117-E"},{"$f":"IF(Worksheet!$B$49=\"\",\"\",Worksheet!$B$49)","v":"Avg. Cross Sectional Area, in^2:"},{"$f":"IF(Worksheet!$L$33=\"\",\"\",Worksheet!$L$33)","v":9}]
[304,{"$f":"IF(Worksheet!$L$62=\"\",\"\",Worksheet!$L$62)","v":""},{"$f":"IF(Worksheet!$B$6=\"\",\"\",Worksheet!$B$6)","v":"Tex-117-E"},{"$f":"IF(Worksheet!$B$62=\"\",\"\",Worksheet!$B$62)","v":"Lateral Pressure, psi.:"},{"$f":"IF(Worksheet!$L$33=\"\",\"\",Worksheet!$L$33)","v":9}]
[305,{"$f":"IF(Worksheet!$L$64=\"\",\"\",Worksheet!$L$64)","v":""},{"$f":"IF(Worksheet!$B$6=\"\",\"\",Worksheet!$B$6)","v":"Tex-117-E"},{"$f":"IF(Worksheet!$B$64=\"\",\"\",Worksheet!$B$64)","v":"Calibration Factor:"},{"$f":"IF(Worksheet!$L$33=\"\",\"\",Worksheet!$L$33)","v":9}]
[306,{"$f":"IF(Worksheet!$L$65=\"\",\"\",Worksheet!$L$65)","v":""},{"$f":"IF(Worksheet!$B$6=\"\",\"\",Worksheet!$B$6)","v":"Tex-117-E"},{"$f":"IF(Worksheet!$B$65=\"\",\"\",Worksheet!$B$65)","v":"Excitation:"},{"$f":"IF(Worksheet!$L$33=\"\",\"\",Worksheet!$L$33)","v":9}]
[307,{"$f":"IF(Worksheet!$L$66=\"\",\"\",Worksheet!$L$66)","v":""},{"$f":"IF(Worksheet!$B$6=\"\",\"\",Worksheet!$B$6)","v":"Tex-117-E"},{"$f":"IF(Worksheet!$B$66=\"\",\"\",Worksheet!$B$66)","v":"Zero:"},{"$f":"IF(Worksheet!$L$33=\"\",\"\",Worksheet!$L$33)","v":9}]
[308,{"$f":"IF(Worksheet!$L$67=\"\",\"\",Worksheet!$L$67)","v":""},{"$f":"IF(Worksheet!$B$6=\"\",\"\",Worksheet!$B$6)","v":"Tex-117-E"},{"$f":"IF(Worksheet!$B$67=\"\",\"\",Worksheet!$B$67)","v":"Ring Factor, lbs./div"},{"$f":"IF(Worksheet!$L$33=\"\",\"\",Worksheet!$L$33)","v":9}]
[309,{"$f":"IF(Worksheet!$L$68=\"\",\"\",Worksheet!$L$68)","v":""},{"$f":"IF(Worksheet!$B$6=\"\",\"\",Worksheet!$B$6)","v":"Tex-117-E"},{"$f":"IF(Worksheet!$B$68=\"\",\"\",Worksheet!$B$68)","v":"Dead Load, lbs.:"},{"$f":"IF(Worksheet!$L$33=\"\",\"\",Worksheet!$L$33)","v":9}]
[310,{"$f":"IF(Worksheet!$L$69=\"\",\"\",Worksheet!$L$69)","v":""},{"$f":"IF(Worksheet!$B$6=\"\",\"\",Worksheet!$B$6)","v":"Tex-117-E"},{"$f":"IF(Worksheet!$B$69=\"\",\"\",Worksheet!$B$69)","v":"Piston Correction, lbs.:"},{"$f":"IF(Worksheet!$L$33=\"\",\"\",Worksheet!$L$33)","v":9}]
[311,{"$f":"IF(Worksheet!$L$70=\"\",\"\",Worksheet!$L$70)","v":""},{"$f":"IF(Worksheet!$B$6=\"\",\"\",Worksheet!$B$6)","v":"Tex-117-E"},{"$f":"IF(Worksheet!$B$70=\"\",\"\",Worksheet!$B$70)","v":"Max. Load Reading, div.:"},{"$f":"IF(Worksheet!$L$33=\"\",\"\",Worksheet!$L$33)","v":9}]
[312,{"$f":"IF(Worksheet!$L$71=\"\",\"\",Worksheet!$L$71)","v":""},{"$f":"IF(Worksheet!$B$6=\"\",\"\",Worksheet!$B$6)","v":"Tex-117-E"},{"$f":"IF(Worksheet!$B$71=\"\",\"\",Worksheet!$B$71)","v":"Max Load, lbs.:"},{"$f":"IF(Worksheet!$L$33=\"\",\"\",Worksheet!$L$33)","v":9}]
[313,{"$f":"IF(Worksheet!$L$72=\"\",\"\",Worksheet!$L$72)","v":""},{"$f":"IF(Worksheet!$B$6=\"\",\"\",Worksheet!$B$6)","v":"Tex-117-E"},{"$f":"IF(Worksheet!$B$72=\"\",\"\",Worksheet!$B$72)","v":"Deformation at Max Load, in.:"},{"$f":"IF(Worksheet!$L$33=\"\",\"\",Worksheet!$L$33)","v":9}]
[314,{"$f":"IF(Worksheet!$L$73=\"\",\"\",Worksheet!$L$73)","v":""},{"$f":"IF(Worksheet!$B$6=\"\",\"\",Worksheet!$B$6)","v":"Tex-117-E"},{"$f":"IF(Worksheet!$B$73=\"\",\"\",Worksheet!$B$73)","v":"Max. Load Reading, div."},{"$f":"IF(Worksheet!$L$33=\"\",\"\",Worksheet!$L$33)","v":9}]
[315,{"$f":"IF(Worksheet!$L$74=\"\",\"\",Worksheet!$L$74)","v":""},{"$f":"IF(Worksheet!$B$6=\"\",\"\",Worksheet!$B$6)","v":"Tex-117-E"},{"$f":"IF(Worksheet!$B$74=\"\",\"\",Worksheet!$B$74)","v":"Deformation at Max Load, in."},{"$f":"IF(Worksheet!$L$33=\"\",\"\",Worksheet!$L$33)","v":9}]
[316,{"$f":"IF(Worksheet!$L$75=\"\",\"\",Worksheet!$L$75)","v":""},{"$f":"IF(Worksheet!$B$6=\"\",\"\",Worksheet!$B$6)","v":"Tex-117-E"},{"$f":"IF(Worksheet!$B$75=\"\",\"\",Worksheet!$B$75)","v":"Uncorrected Stress, psi.:"},{"$f":"IF(Worksheet!$L$33=\"\",\"\",Worksheet!$L$33)","v":9}]
[317,{"$f":"IF(Worksheet!$L$76=\"\",\"\",Worksheet!$L$76)","v":""},{"$f":"IF(Worksheet!$B$6=\"\",\"\",Worksheet!$B$6)","v":"Tex-117-E"},{"$f":"IF(Worksheet!$B$76=\"\",\"\",Worksheet!$B$76)","v":"% Strain , in./in.:"},{"$f":"IF(Worksheet!$L$33=\"\",\"\",Worksheet!$L$33)","v":9}]
[318,{"$f":"IF(Worksheet!$L$77=\"\",\"\",Worksheet!$L$77)","v":""},{"$f":"IF(Worksheet!$B$6=\"\",\"\",Worksheet!$B$6)","v":"Tex-117-E"},{"$f":"IF(Worksheet!$B$77=\"\",\"\",Worksheet!$B$77)","v":"I-Strain, in./in.:"},{"$f":"IF(Worksheet!$L$33=\"\",\"\",Worksheet!$L$33)","v":9}]
[319,{"$f":"IF(Worksheet!$L$78=\"\",\"\",Worksheet!$L$78)","v":""},{"$f":"IF(Worksheet!$B$6=\"\",\"\",Worksheet!$B$6)","v":"Tex-117-E"},{"$f":"IF(Worksheet!$B$78=\"\",\"\",Worksheet!$B$78)","v":"Corrected Stress, psi.:"},{"$f":"IF(Worksheet!$L$33=\"\",\"\",Worksheet!$L$33)","v":9}]
[320,{"$f":"IF(Worksheet!D88=\"\",\"\",Worksheet!D88)","v":""},{"$f":"IF(Worksheet!$B$6=\"\",\"\",Worksheet!$B$6)","v":"Tex-117-E"},{"$f":"Worksheet!B88","v":"Total Energy (lb-ft) Lift 1:"},{"$f":"IF(Worksheet!$D$33=\"\",\"\",Worksheet!$D$33)","v":1}]
[321,{"$f":"IF(Worksheet!E88=\"\",\"\",Worksheet!E88)","v":""},{"$f":"IF(Worksheet!$B$6=\"\",\"\",Worksheet!$B$6)","v":"Tex-117-E"},{"$f":"Worksheet!B88","v":"Total Energy (lb-ft) Lift 1:"},{"$f":"IF(Worksheet!$E$33=\"\",\"\",Worksheet!$E$33)","v":2}]
[322,{"$f":"IF(Worksheet!F88=\"\",\"\",Worksheet!F88)","v":""},{"$f":"IF(Worksheet!$B$6=\"\",\"\",Worksheet!$B$6)","v":"Tex-117-E"},{"$f":"Worksheet!B88","v":"Total Energy (lb-ft) Lift 1:"},{"$f":"IF(Worksheet!$F$33=\"\",\"\",Worksheet!$F$33)","v":3}]
[323,{"$f":"IF(Worksheet!G88=\"\",\"\",Worksheet!G88)","v":""},{"$f":"IF(Worksheet!$B$6=\"\",\"\",Worksheet!$B$6)","v":"Tex-117-E"},{"$f":"Worksheet!B88","v":"Total Energy (lb-ft) Lift 1:"},{"$f":"IF(Worksheet!$G$33=\"\",\"\",Worksheet!$G$33)","v":4}]
[324,{"$f":"IF(Worksheet!H88=\"\",\"\",Worksheet!H88)","v":""},{"$f":"IF(Worksheet!$B$6=\"\",\"\",Worksheet!$B$6)","v":"Tex-117-E"},{"$f":"Worksheet!B88","v":"Total Energy (lb-ft) Lift 1:"},{"$f":"IF(Worksheet!$H$33=\"\",\"\",Worksheet!$H$33)","v":5}]
[325,{"$f":"IF(Worksheet!I88=\"\",\"\",Worksheet!I88)","v":""},{"$f":"IF(Worksheet!$B$6=\"\",\"\",Worksheet!$B$6)","v":"Tex-117-E"},{"$f":"Worksheet!B88","v":"Total Energy (lb-ft) Lift 1:"},{"$f":"IF(Worksheet!$I$33=\"\",\"\",Worksheet!$I$33)","v":6}]
[326,{"$f":"IF(Worksheet!J88=\"\",\"\",Worksheet!J88)","v":""},{"$f":"IF(Worksheet!$B$6=\"\",\"\",Worksheet!$B$6)","v":"Tex-117-E"},{"$f":"Worksheet!B88","v":"Total Energy (lb-ft) Lift 1:"},{"$f":"IF(Worksheet!$J$33=\"\",\"\",Worksheet!$J$33)","v":7}]
[327,{"$f":"IF(Worksheet!K88=\"\",\"\",Worksheet!K88)","v":""},{"$f":"IF(Worksheet!$B$6=\"\",\"\",Worksheet!$B$6)","v":"Tex-117-E"},{"$f":"Worksheet!B88","v":"Total Energy (lb-ft) Lift 1:"},{"$f":"IF(Worksheet!$K$33=\"\",\"\",Worksheet!$K$33)","v":8}]
[328,{"$f":"IF(Worksheet!L88=\"\",\"\",Worksheet!L88)","v":""},{"$f":"IF(Worksheet!$B$6=\"\",\"\",Worksheet!$B$6)","v":"Tex-117-E"},{"$f":"Worksheet!B88","v":"Total Energy (lb-ft) Lift 1:"},{"$f":"IF(Worksheet!$L$33=\"\",\"\",Worksheet!$L$33)","v":9}]
[329,{"$f":"IF(Worksheet!D89=\"\",\"\",Worksheet!D89)","v":""},{"$f":"IF(Worksheet!$B$6=\"\",\"\",Worksheet!$B$6)","v":"Tex-117-E"},{"$f":"Worksheet!B89","v":"Total Energy (lb-ft) Lift 2:"},{"$f":"IF(Worksheet!$D$33=\"\",\"\",Worksheet!$D$33)","v":1}]
[330,{"$f":"IF(Worksheet!E89=\"\",\"\",Worksheet!E89)","v":""},{"$f":"IF(Worksheet!$B$6=\"\",\"\",Worksheet!$B$6)","v":"Tex-117-E"},{"$f":"Worksheet!B89","v":"Total Energy (lb-ft) Lift 2:"},{"$f":"IF(Worksheet!$E$33=\"\",\"\",Worksheet!$E$33)","v":2}]
[331,{"$f":"IF(Worksheet!F89=\"\",\"\",Worksheet!F89)","v":""},{"$f":"IF(Worksheet!$B$6=\"\",\"\",Worksheet!$B$6)","v":"Tex-117-E"},{"$f":"Worksheet!B89","v":"Total Energy (lb-ft) Lift 2:"},{"$f":"IF(Worksheet!$F$33=\"\",\"\",Worksheet!$F$33)","v":3}]
[332,{"$f":"IF(Worksheet!G89=\"\",\"\",Worksheet!G89)","v":""},{"$f":"IF(Worksheet!$B$6=\"\",\"\",Worksheet!$B$6)","v":"Tex-117-E"},{"$f":"Worksheet!B89","v":"Total Energy (lb-ft) Lift 2:"},{"$f":"IF(Worksheet!$G$33=\"\",\"\",Worksheet!$G$33)","v":4}]
[333,{"$f":"IF(Worksheet!H89=\"\",\"\",Worksheet!H89)","v":""},{"$f":"IF(Worksheet!$B$6=\"\",\"\",Worksheet!$B$6)","v":"Tex-117-E"},{"$f":"Worksheet!B89","v":"Total Energy (lb-ft) Lift 2:"},{"$f":"IF(Worksheet!$H$33=\"\",\"\",Worksheet!$H$33)","v":5}]
[334,{"$f":"IF(Worksheet!I89=\"\",\"\",Worksheet!I89)","v":""},{"$f":"IF(Worksheet!$B$6=\"\",\"\",Worksheet!$B$6)","v":"Tex-117-E"},{"$f":"Worksheet!B89","v":"Total Energy (lb-ft) Lift 2:"},{"$f":"IF(Worksheet!$I$33=\"\",\"\",Worksheet!$I$33)","v":6}]
[335,{"$f":"IF(Worksheet!J89=\"\",\"\",Worksheet!J89)","v":""},{"$f":"IF(Worksheet!$B$6=\"\",\"\",Worksheet!$B$6)","v":"Tex-117-E"},{"$f":"Worksheet!B89","v":"Total Energy (lb-ft) Lift 2:"},{"$f":"IF(Worksheet!$J$33=\"\",\"\",Worksheet!$J$33)","v":7}]
[336,{"$f":"IF(Worksheet!K89=\"\",\"\",Worksheet!K89)","v":""},{"$f":"IF(Worksheet!$B$6=\"\",\"\",Worksheet!$B$6)","v":"Tex-117-E"},{"$f":"Worksheet!B89","v":"Total Energy (lb-ft) Lift 2:"},{"$f":"IF(Worksheet!$K$33=\"\",\"\",Worksheet!$K$33)","v":8}]
[337,{"$f":"IF(Worksheet!L89=\"\",\"\",Worksheet!L89)","v":""},{"$f":"IF(Worksheet!$B$6=\"\",\"\",Worksheet!$B$6)","v":"Tex-117-E"},{"$f":"Worksheet!B89","v":"Total Energy (lb-ft) Lift 2:"},{"$f":"IF(Worksheet!$L$33=\"\",\"\",Worksheet!$L$33)","v":9}]
[338,{"$f":"IF(Worksheet!D90=\"\",\"\",Worksheet!D90)","v":""},{"$f":"IF(Worksheet!$B$6=\"\",\"\",Worksheet!$B$6)","v":"Tex-117-E"},{"$f":"Worksheet!B90","v":"Total Energy (lb-ft) Lift 3:"},{"$f":"IF(Worksheet!$D$33=\"\",\"\",Worksheet!$D$33)","v":1}]
[339,{"$f":"IF(Worksheet!E90=\"\",\"\",Worksheet!E90)","v":""},{"$f":"IF(Worksheet!$B$6=\"\",\"\",Worksheet!$B$6)","v":"Tex-117-E"},{"$f":"Worksheet!B90","v":"Total Energy (lb-ft) Lift 3:"},{"$f":"IF(Worksheet!$E$33=\"\",\"\",Worksheet!$E$33)","v":2}]
[340,{"$f":"IF(Worksheet!F90=\"\",\"\",Worksheet!F90)","v":""},{"$f":"IF(Worksheet!$B$6=\"\",\"\",Worksheet!$B$6)","v":"Tex-117-E"},{"$f":"Worksheet!B90","v":"Total Energy (lb-ft) Lift 3:"},{"$f":"IF(Worksheet!$F$33=\"\",\"\",Worksheet!$F$33)","v":3}]
[341,{"$f":"IF(Worksheet!G90=\"\",\"\",Worksheet!G90)","v":""},{"$f":"IF(Worksheet!$B$6=\"\",\"\",Worksheet!$B$6)","v":"Tex-117-E"},{"$f":"Worksheet!B90","v":"Total Energy (lb-ft) Lift 3:"},{"$f":"IF(Worksheet!$G$33=\"\",\"\",Worksheet!$G$33)","v":4}]
[342,{"$f":"IF(Worksheet!H90=\"\",\"\",Worksheet!H90)","v":""},{"$f":"IF(Worksheet!$B$6=\"\",\"\",Worksheet!$B$6)","v":"Tex-117-E"},{"$f":"Worksheet!B90","v":"Total Energy (lb-ft) Lift 3:"},{"$f":"IF(Worksheet!$H$33=\"\",\"\",Worksheet!$H$33)","v":5}]
[343,{"$f":"IF(Worksheet!I90=\"\",\"\",Worksheet!I90)","v":""},{"$f":"IF(Worksheet!$B$6=\"\",\"\",Worksheet!$B$6)","v":"Tex-117-E"},{"$f":"Worksheet!B90","v":"Total Energy (lb-ft) Lift 3:"},{"$f":"IF(Worksheet!$I$33=\"\",\"\",Worksheet!$I$33)","v":6}]
[344,{"$f":"IF(Worksheet!J90=\"\",\"\",Worksheet!J90)","v":""},{"$f":"IF(Worksheet!$B$6=\"\",\"\",Worksheet!$B$6)","v":"Tex-117-E"},{"$f":"Worksheet!B90","v":"Total Energy (lb-ft) Lift 3:"},{"$f":"IF(Worksheet!$J$33=\"\",\"\",Worksheet!$J$33)","v":7}]
[345,{"$f":"IF(Worksheet!K90=\"\",\"\",Worksheet!K90)","v":""},{"$f":"IF(Worksheet!$B$6=\"\",\"\",Worksheet!$B$6)","v":"Tex-117-E"},{"$f":"Worksheet!B90","v":"Total Energy (lb-ft) Lift 3:"},{"$f":"IF(Worksheet!$K$33=\"\",\"\",Worksheet!$K$33)","v":8}]
[346,{"$f":"IF(Worksheet!L90=\"\",\"\",Worksheet!L90)","v":""},{"$f":"IF(Worksheet!$B$6=\"\",\"\",Worksheet!$B$6)","v":"Tex-117-E"},{"$f":"Worksheet!B90","v":"Total Energy (lb-ft) Lift 3:"},{"$f":"IF(Worksheet!$L$33=\"\",\"\",Worksheet!$L$33)","v":9}]
[347,{"$f":"IF(Worksheet!D91=\"\",\"\",Worksheet!D91)","v":""},{"$f":"IF(Worksheet!$B$6=\"\",\"\",Worksheet!$B$6)","v":"Tex-117-E"},{"$f":"Worksheet!B91","v":"Total Energy (lb-ft) Lift 4:"},{"$f":"IF(Worksheet!$D$33=\"\",\"\",Worksheet!$D$33)","v":1}]
[348,{"$f":"IF(Worksheet!E91=\"\",\"\",Worksheet!E91)","v":""},{"$f":"IF(Worksheet!$B$6=\"\",\"\",Worksheet!$B$6)","v":"Tex-117-E"},{"$f":"Worksheet!B91","v":"Total Energy (lb-ft) Lift 4:"},{"$f":"IF(Worksheet!$E$33=\"\",\"\",Worksheet!$E$33)","v":2}]
[349,{"$f":"IF(Worksheet!F91=\"\",\"\",Worksheet!F91)","v":""},{"$f":"IF(Worksheet!$B$6=\"\",\"\",Worksheet!$B$6)","v":"Tex-117-E"},{"$f":"Worksheet!B91","v":"Total Energy (lb-ft) Lift 4:"},{"$f":"IF(Worksheet!$F$33=\"\",\"\",Worksheet!$F$33)","v":3}]
[350,{"$f":"IF(Worksheet!G91=\"\",\"\",Worksheet!G91)","v":""},{"$f":"IF(Worksheet!$B$6=\"\",\"\",Worksheet!$B$6)","v":"Tex-117-E"},{"$f":"Worksheet!B91","v":"Total Energy (lb-ft) Lift 4:"},{"$f":"IF(Worksheet!$G$33=\"\",\"\",Worksheet!$G$33)","v":4}]
[351,{"$f":"IF(Worksheet!H91=\"\",\"\",Worksheet!H91)","v":""},{"$f":"IF(Worksheet!$B$6=\"\",\"\",Worksheet!$B$6)","v":"Tex-117-E"},{"$f":"Worksheet!B91","v":"Total Energy (lb-ft) Lift 4:"},{"$f":"IF(Worksheet!$H$33=\"\",\"\",Worksheet!$H$33)","v":5}]
[352,{"$f":"IF(Worksheet!I91=\"\",\"\",Worksheet!I91)","v":""},{"$f":"IF(Worksheet!$B$6=\"\",\"\",Worksheet!$B$6)","v":"Tex-117-E"},{"$f":"Worksheet!B91","v":"Total Energy (lb-ft) Lift 4:"},{"$f":"IF(Worksheet!$I$33=\"\",\"\",Worksheet!$I$33)","v":6}]
[353,{"$f":"IF(Worksheet!J91=\"\",\"\",Worksheet!J91)","v":""},{"$f":"IF(Worksheet!$B$6=\"\",\"\",Worksheet!$B$6)","v":"Tex-117-E"},{"$f":"Worksheet!B91","v":"Total Energy (lb-ft) Lift 4:"},{"$f":"IF(Worksheet!$J$33=\"\",\"\",Worksheet!$J$33)","v":7}]
[354,{"$f":"IF(Worksheet!K91=\"\",\"\",Worksheet!K91)","v":""},{"$f":"IF(Worksheet!$B$6=\"\",\"\",Worksheet!$B$6)","v":"Tex-117-E"},{"$f":"Worksheet!B91","v":"Total Energy (lb-ft) Lift 4:"},{"$f":"IF(Worksheet!$K$33=\"\",\"\",Worksheet!$K$33)","v":8}]
[355,{"$f":"IF(Worksheet!L91=\"\",\"\",Worksheet!L91)","v":""},{"$f":"IF(Worksheet!$B$6=\"\",\"\",Worksheet!$B$6)","v":"Tex-117-E"},{"$f":"Worksheet!B91","v":"Total Energy (lb-ft) Lift 4:"},{"$f":"IF(Worksheet!$L$33=\"\",\"\",Worksheet!$L$33)","v":9}]
[356,{"$f":"IF(Worksheet!D92=\"\",\"\",Worksheet!D92)","v":""},{"$f":"IF(Worksheet!$B$6=\"\",\"\",Worksheet!$B$6)","v":"Tex-117-E"},{"$f":"Worksheet!B92","v":"Energy/Lift (lb-ft) Lift 1:"},{"$f":"IF(Worksheet!$D$33=\"\",\"\",Worksheet!$D$33)","v":1}]
[357,{"$f":"IF(Worksheet!E92=\"\",\"\",Worksheet!E92)","v":""},{"$f":"IF(Worksheet!$B$6=\"\",\"\",Worksheet!$B$6)","v":"Tex-117-E"},{"$f":"Worksheet!B92","v":"Energy/Lift (lb-ft) Lift 1:"},{"$f":"IF(Worksheet!$E$33=\"\",\"\",Worksheet!$E$33)","v":2}]
[358,{"$f":"IF(Worksheet!F92=\"\",\"\",Worksheet!F92)","v":""},{"$f":"IF(Worksheet!$B$6=\"\",\"\",Worksheet!$B$6)","v":"Tex-117-E"},{"$f":"Worksheet!B92","v":"Energy/Lift (lb-ft) Lift 1:"},{"$f":"IF(Worksheet!$F$33=\"\",\"\",Worksheet!$F$33)","v":3}]
[359,{"$f":"IF(Worksheet!G92=\"\",\"\",Worksheet!G92)","v":""},{"$f":"IF(Worksheet!$B$6=\"\",\"\",Worksheet!$B$6)","v":"Tex-117-E"},{"$f":"Worksheet!B92","v":"Energy/Lift (lb-ft) Lift 1:"},{"$f":"IF(Worksheet!$G$33=\"\",\"\",Worksheet!$G$33)","v":4}]
[360,{"$f":"IF(Worksheet!H92=\"\",\"\",Worksheet!H92)","v":""},{"$f":"IF(Worksheet!$B$6=\"\",\"\",Worksheet!$B$6)","v":"Tex-117-E"},{"$f":"Worksheet!B92","v":"Energy/Lift (lb-ft) Lift 1:"},{"$f":"IF(Worksheet!$H$33=\"\",\"\",Worksheet!$H$33)","v":5}]
[361,{"$f":"IF(Worksheet!I92=\"\",\"\",Worksheet!I92)","v":""},{"$f":"IF(Worksheet!$B$6=\"\",\"\",Worksheet!$B$6)","v":"Tex-117-E"},{"$f":"Worksheet!B92","v":"Energy/Lift (lb-ft) Lift 1:"},{"$f":"IF(Worksheet!$I$33=\"\",\"\",Worksheet!$I$33)","v":6}]
[362,{"$f":"IF(Worksheet!J92=\"\",\"\",Worksheet!J92)","v":""},{"$f":"IF(Worksheet!$B$6=\"\",\"\",Worksheet!$B$6)","v":"Tex-117-E"},{"$f":"Worksheet!B92","v":"Energy/Lift (lb-ft) Lift 1:"},{"$f":"IF(Worksheet!$J$33=\"\",\"\",Worksheet!$J$33)","v":7}]
[363,{"$f":"IF(Worksheet!K92=\"\",\"\",Worksheet!K92)","v":""},{"$f":"IF(Worksheet!$B$6=\"\",\"\",Worksheet!$B$6)","v":"Tex-117-E"},{"$f":"Worksheet!B92","v":"Energy/Lift (lb-ft) Lift 1:"},{"$f":"IF(Worksheet!$K$33=\"\",\"\",Worksheet!$K$33)","v":8}]
[364,{"$f":"IF(Worksheet!L92=\"\",\"\",Worksheet!L92)","v":""},{"$f":"IF(Worksheet!$B$6=\"\",\"\",Worksheet!$B$6)","v":"Tex-117-E"},{"$f":"Worksheet!B92","v":"Energy/Lift (lb-ft) Lift 1:"},{"$f":"IF(Worksheet!$L$33=\"\",\"\",Worksheet!$L$33)","v":9}]
[365,{"$f":"IF(Worksheet!D93=\"\",\"\",Worksheet!D93)","v":""},{"$f":"IF(Worksheet!$B$6=\"\",\"\",Worksheet!$B$6)","v":"Tex-117-E"},{"$f":"Worksheet!B93","v":"Energy/Lift (lb-ft) Lift 2:"},{"$f":"IF(Worksheet!$D$33=\"\",\"\",Worksheet!$D$33)","v":1}]
[366,{"$f":"IF(Worksheet!E93=\"\",\"\",Worksheet!E93)","v":""},{"$f":"IF(Worksheet!$B$6=\"\",\"\",Worksheet!$B$6)","v":"Tex-117-E"},{"$f":"Worksheet!B93","v":"Energy/Lift (lb-ft) Lift 2:"},{"$f":"IF(Worksheet!$E$33=\"\",\"\",Worksheet!$E$33)","v":2}]
[367,{"$f":"IF(Worksheet!F93=\"\",\"\",Worksheet!F93)","v":""},{"$f":"IF(Worksheet!$B$6=\"\",\"\",Worksheet!$B$6)","v":"Tex-117-E"},{"$f":"Worksheet!B93","v":"Energy/Lift (lb-ft) Lift 2:"},{"$f":"IF(Worksheet!$F$33=\"\",\"\",Worksheet!$F$33)","v":3}]
[368,{"$f":"IF(Worksheet!G93=\"\",\"\",Worksheet!G93)","v":""},{"$f":"IF(Worksheet!$B$6=\"\",\"\",Worksheet!$B$6)","v":"Tex-117-E"},{"$f":"Worksheet!B93","v":"Energy/Lift (lb-ft) Lift 2:"},{"$f":"IF(Worksheet!$G$33=\"\",\"\",Worksheet!$G$33)","v":4}]
[369,{"$f":"IF(Worksheet!H93=\"\",\"\",Worksheet!H93)","v":""},{"$f":"IF(Worksheet!$B$6=\"\",\"\",Worksheet!$B$6)","v":"Tex-117-E"},{"$f":"Worksheet!B93","v":"Energy/Lift (lb-ft) Lift 2:"},{"$f":"IF(Worksheet!$H$33=\"\",\"\",Worksheet!$H$33)","v":5}]
[370,{"$f":"IF(Worksheet!I93=\"\",\"\",Worksheet!I93)","v":""},{"$f":"IF(Worksheet!$B$6=\"\",\"\",Worksheet!$B$6)","v":"Tex-117-E"},{"$f":"Worksheet!B93","v":"Energy/Lift (lb-ft) Lift 2:"},{"$f":"IF(Worksheet!$I$33=\"\",\"\",Worksheet!$I$33)","v":6}]
[371,{"$f":"IF(Worksheet!J93=\"\",\"\",Worksheet!J93)","v":""},{"$f":"IF(Worksheet!$B$6=\"\",\"\",Worksheet!$B$6)","v":"Tex-117-E"},{"$f":"Worksheet!B93","v":"Energy/Lift (lb-ft) Lift 2:"},{"$f":"IF(Worksheet!$J$33=\"\",\"\",Worksheet!$J$33)","v":7}]
[372,{"$f":"IF(Worksheet!K93=\"\",\"\",Worksheet!K93)","v":""},{"$f":"IF(Worksheet!$B$6=\"\",\"\",Worksheet!$B$6)","v":"Tex-117-E"},{"$f":"Worksheet!B93","v":"Energy/Lift (lb-ft) Lift 2:"},{"$f":"IF(Worksheet!$K$33=\"\",\"\",Worksheet!$K$33)","v":8}]
[373,{"$f":"IF(Worksheet!L93=\"\",\"\",Worksheet!L93)","v":""},{"$f":"IF(Worksheet!$B$6=\"\",\"\",Worksheet!$B$6)","v":"Tex-117-E"},{"$f":"Worksheet!B93","v":"Energy/Lift (lb-ft) Lift 2:"},{"$f":"IF(Worksheet!$L$33=\"\",\"\",Worksheet!$L$33)","v":9}]
[374,{"$f":"IF(Worksheet!D94=\"\",\"\",Worksheet!D94)","v":""},{"$f":"IF(Worksheet!$B$6=\"\",\"\",Worksheet!$B$6)","v":"Tex-117-E"},{"$f":"Worksheet!B94","v":"Energy/Lift (lb-ft) Lift 3:"},{"$f":"IF(Worksheet!$D$33=\"\",\"\",Worksheet!$D$33)","v":1}]
[375,{"$f":"IF(Worksheet!E94=\"\",\"\",Worksheet!E94)","v":""},{"$f":"IF(Worksheet!$B$6=\"\",\"\",Worksheet!$B$6)","v":"Tex-117-E"},{"$f":"Worksheet!B94","v":"Energy/Lift (lb-ft) Lift 3:"},{"$f":"IF(Worksheet!$E$33=\"\",\"\",Worksheet!$E$33)","v":2}]
[376,{"$f":"IF(Worksheet!F94=\"\",\"\",Worksheet!F94)","v":""},{"$f":"IF(Worksheet!$B$6=\"\",\"\",Worksheet!$B$6)","v":"Tex-117-E"},{"$f":"Worksheet!B94","v":"Energy/Lift (lb-ft) Lift 3:"},{"$f":"IF(Worksheet!$F$33=\"\",\"\",Worksheet!$F$33)","v":3}]
[377,{"$f":"IF(Worksheet!G94=\"\",\"\",Worksheet!G94)","v":""},{"$f":"IF(Worksheet!$B$6=\"\",\"\",Worksheet!$B$6)","v":"Tex-117-E"},{"$f":"Worksheet!B94","v":"Energy/Lift (lb-ft) Lift 3:"},{"$f":"IF(Worksheet!$G$33=\"\",\"\",Worksheet!$G$33)","v":4}]
[378,{"$f":"IF(Worksheet!H94=\"\",\"\",Worksheet!H94)","v":""},{"$f":"IF(Worksheet!$B$6=\"\",\"\",Worksheet!$B$6)","v":"Tex-117-E"},{"$f":"Worksheet!B94","v":"Energy/Lift (lb-ft) Lift 3:"},{"$f":"IF(Worksheet!$H$33=\"\",\"\",Worksheet!$H$33)","v":5}]
[379,{"$f":"IF(Worksheet!I94=\"\",\"\",Worksheet!I94)","v":""},{"$f":"IF(Worksheet!$B$6=\"\",\"\",Worksheet!$B$6)","v":"Tex-117-E"},{"$f":"Worksheet!B94","v":"Energy/Lift (lb-ft) Lift 3:"},{"$f":"IF(Worksheet!$I$33=\"\",\"\",Worksheet!$I$33)","v":6}]
[380,{"$f":"IF(Worksheet!J94=\"\",\"\",Worksheet!J94)","v":""},{"$f":"IF(Worksheet!$B$6=\"\",\"\",Worksheet!$B$6)","v":"Tex-117-E"},{"$f":"Worksheet!B94","v":"Energy/Lift (lb-ft) Lift 3:"},{"$f":"IF(Worksheet!$J$33=\"\",\"\",Worksheet!$J$33)","v":7}]
[381,{"$f":"IF(Worksheet!K94=\"\",\"\",Worksheet!K94)","v":""},{"$f":"IF(Worksheet!$B$6=\"\",\"\",Worksheet!$B$6)","v":"Tex-117-E"},{"$f":"Worksheet!B94","v":"Energy/Lift (lb-ft) Lift 3:"},{"$f":"IF(Worksheet!$K$33=\"\",\"\",Worksheet!$K$33)","v":8}]
[382,{"$f":"IF(Worksheet!L94=\"\",\"\",Worksheet!L94)","v":""},{"$f":"IF(Worksheet!$B$6=\"\",\"\",Worksheet!$B$6)","v":"Tex-117-E"},{"$f":"Worksheet!B94","v":"Energy/Lift (lb-ft) Lift 3:"},{"$f":"IF(Worksheet!$L$33=\"\",\"\",Worksheet!$L$33)","v":9}]
[383,{"$f":"IF(Worksheet!D95=\"\",\"\",Worksheet!D95)","v":""},{"$f":"IF(Worksheet!$B$6=\"\",\"\",Worksheet!$B$6)","v":"Tex-117-E"},{"$f":"Worksheet!B95","v":"Energy/Lift (lb-ft) Lift 4:"},{"$f":"IF(Worksheet!$D$33=\"\",\"\",Worksheet!$D$33)","v":1}]
[384,{"$f":"IF(Worksheet!E95=\"\",\"\",Worksheet!E95)","v":""},{"$f":"IF(Worksheet!$B$6=\"\",\"\",Worksheet!$B$6)","v":"Tex-117-E"},{"$f":"Worksheet!B95","v":"Energy/Lift (lb-ft) Lift 4:"},{"$f":"IF(Worksheet!$E$33=\"\",\"\",Worksheet!$E$33)","v":2}]
[385,{"$f":"IF(Worksheet!F95=\"\",\"\",Worksheet!F95)","v":""},{"$f":"IF(Worksheet!$B$6=\"\",\"\",Worksheet!$B$6)","v":"Tex-117-E"},{"$f":"Worksheet!B95","v":"Energy/Lift (lb-ft) Lift 4:"},{"$f":"IF(Worksheet!$F$33=\"\",\"\",Worksheet!$F$33)","v":3}]
[386,{"$f":"IF(Worksheet!G95=\"\",\"\",Worksheet!G95)","v":""},{"$f":"IF(Worksheet!$B$6=\"\",\"\",Worksheet!$B$6)","v":"Tex-117-E"},{"$f":"Worksheet!B95","v":"Energy/Lift (lb-ft) Lift 4:"},{"$f":"IF(Worksheet!$G$33=\"\",\"\",Worksheet!$G$33)","v":4}]
[387,{"$f":"IF(Worksheet!H95=\"\",\"\",Worksheet!H95)","v":""},{"$f":"IF(Worksheet!$B$6=\"\",\"\",Worksheet!$B$6)","v":"Tex-117-E"},{"$f":"Worksheet!B95","v":"Energy/Lift (lb-ft) Lift 4:"},{"$f":"IF(Worksheet!$H$33=\"\",\"\",Worksheet!$H$33)","v":5}]
[388,{"$f":"IF(Worksheet!I95=\"\",\"\",Worksheet!I95)","v":""},{"$f":"IF(Worksheet!$B$6=\"\",\"\",Worksheet!$B$6)","v":"Tex-117-E"},{"$f":"Worksheet!B95","v":"Energy/Lift (lb-ft) Lift 4:"},{"$f":"IF(Worksheet!$I$33=\"\",\"\",Worksheet!$I$33)","v":6}]
[389,{"$f":"IF(Worksheet!J95=\"\",\"\",Worksheet!J95)","v":""},{"$f":"IF(Worksheet!$B$6=\"\",\"\",Worksheet!$B$6)","v":"Tex-117-E"},{"$f":"Worksheet!B95","v":"Energy/Lift (lb-ft) Lift 4:"},{"$f":"IF(Worksheet!$J$33=\"\",\"\",Worksheet!$J$33)","v":7}]
[390,{"$f":"IF(Worksheet!K95=\"\",\"\",Worksheet!K95)","v":""},{"$f":"IF(Worksheet!$B$6=\"\",\"\",Worksheet!$B$6)","v":"Tex-117-E"},{"$f":"Worksheet!B95","v":"Energy/Lift (lb-ft) Lift 4:"},{"$f":"IF(Worksheet!$K$33=\"\",\"\",Worksheet!$K$33)","v":8}]
[391,{"$f":"IF(Worksheet!L95=\"\",\"\",Worksheet!L95)","v":""},{"$f":"IF(Worksheet!$B$6=\"\",\"\",Worksheet!$B$6)","v":"Tex-117-E"},{"$f":"Worksheet!B95","v":"Energy/Lift (lb-ft) Lift 4:"},{"$f":"IF(Worksheet!$L$33=\"\",\"\",Worksheet!$L$33)","v":9}]
[392,{"$f":"IF(Worksheet!D96=\"\",\"\",Worksheet!D96)","v":""},{"$f":"IF(Worksheet!$B$6=\"\",\"\",Worksheet!$B$6)","v":"Tex-117-E"},{"$f":"Worksheet!B96","v":"Avg. Drop Ht. (lb-ft) Lift 1:"},{"$f":"IF(Worksheet!$D$33=\"\",\"\",Worksheet!$D$33)","v":1}]
[393,{"$f":"IF(Worksheet!E96=\"\",\"\",Worksheet!E96)","v":""},{"$f":"IF(Worksheet!$B$6=\"\",\"\",Worksheet!$B$6)","v":"Tex-117-E"},{"$f":"Worksheet!B96","v":"Avg. Drop Ht. (lb-ft) Lift 1:"},{"$f":"IF(Worksheet!$E$33=\"\",\"\",Worksheet!$E$33)","v":2}]
[394,{"$f":"IF(Worksheet!F96=\"\",\"\",Worksheet!F96)","v":""},{"$f":"IF(Worksheet!$B$6=\"\",\"\",Worksheet!$B$6)","v":"Tex-117-E"},{"$f":"Worksheet!B96","v":"Avg. Drop Ht. (lb-ft) Lift 1:"},{"$f":"IF(Worksheet!$F$33=\"\",\"\",Worksheet!$F$33)","v":3}]
[395,{"$f":"IF(Worksheet!G96=\"\",\"\",Worksheet!G96)","v":""},{"$f":"IF(Worksheet!$B$6=\"\",\"\",Worksheet!$B$6)","v":"Tex-117-E"},{"$f":"Worksheet!B96","v":"Avg. Drop Ht. (lb-ft) Lift 1:"},{"$f":"IF(Worksheet!$G$33=\"\",\"\",Worksheet!$G$33)","v":4}]
[396,{"$f":"IF(Worksheet!H96=\"\",\"\",Worksheet!H96)","v":""},{"$f":"IF(Worksheet!$B$6=\"\",\"\",Worksheet!$B$6)","v":"Tex-117-E"},{"$f":"Worksheet!B96","v":"Avg. Drop Ht. (lb-ft) Lift 1:"},{"$f":"IF(Worksheet!$H$33=\"\",\"\",Worksheet!$H$33)","v":5}]
[397,{"$f":"IF(Worksheet!I96=\"\",\"\",Worksheet!I96)","v":""},{"$f":"IF(Worksheet!$B$6=\"\",\"\",Worksheet!$B$6)","v":"Tex-117-E"},{"$f":"Worksheet!B96","v":"Avg. Drop Ht. (lb-ft) Lift 1:"},{"$f":"IF(Worksheet!$I$33=\"\",\"\",Worksheet!$I$33)","v":6}]
[398,{"$f":"IF(Worksheet!J96=\"\",\"\",Worksheet!J96)","v":""},{"$f":"IF(Worksheet!$B$6=\"\",\"\",Worksheet!$B$6)","v":"Tex-117-E"},{"$f":"Worksheet!B96","v":"Avg. Drop Ht. (lb-ft) Lift 1:"},{"$f":"IF(Worksheet!$J$33=\"\",\"\",Worksheet!$J$33)","v":7}]
[399,{"$f":"IF(Worksheet!K96=\"\",\"\",Worksheet!K96)","v":""},{"$f":"IF(Worksheet!$B$6=\"\",\"\",Worksheet!$B$6)","v":"Tex-117-E"},{"$f":"Worksheet!B96","v":"Avg. Drop Ht. (lb-ft) Lift 1:"},{"$f":"IF(Worksheet!$K$33=\"\",\"\",Worksheet!$K$33)","v":8}]
[400,{"$f":"IF(Worksheet!L96=\"\",\"\",Worksheet!L96)","v":""},{"$f":"IF(Worksheet!$B$6=\"\",\"\",Worksheet!$B$6)","v":"Tex-117-E"},{"$f":"Worksheet!B96","v":"Avg. Drop Ht. (lb-ft) Lift 1:"},{"$f":"IF(Worksheet!$L$33=\"\",\"\",Worksheet!$L$33)","v":9}]
[401,{"$f":"IF(Worksheet!D97=\"\",\"\",Worksheet!D97)","v":""},{"$f":"IF(Worksheet!$B$6=\"\",\"\",Worksheet!$B$6)","v":"Tex-117-E"},{"$f":"Worksheet!B97","v":"Avg. Drop Ht. (lb-ft) Lift 2:"},{"$f":"IF(Worksheet!$D$33=\"\",\"\",Worksheet!$D$33)","v":1}]
[402,{"$f":"IF(Worksheet!E97=\"\",\"\",Worksheet!E97)","v":""},{"$f":"IF(Worksheet!$B$6=\"\",\"\",Worksheet!$B$6)","v":"Tex-117-E"},{"$f":"Worksheet!B97","v":"Avg. Drop Ht. (lb-ft) Lift 2:"},{"$f":"IF(Worksheet!$E$33=\"\",\"\",Worksheet!$E$33)","v":2}]
[403,{"$f":"IF(Worksheet!F97=\"\",\"\",Worksheet!F97)","v":""},{"$f":"IF(Worksheet!$B$6=\"\",\"\",Worksheet!$B$6)","v":"Tex-117-E"},{"$f":"Worksheet!B97","v":"Avg. Drop Ht. (lb-ft) Lift 2:"},{"$f":"IF(Worksheet!$F$33=\"\",\"\",Worksheet!$F$33)","v":3}]
[404,{"$f":"IF(Worksheet!G97=\"\",\"\",Worksheet!G97)","v":""},{"$f":"IF(Worksheet!$B$6=\"\",\"\",Worksheet!$B$6)","v":"Tex-117-E"},{"$f":"Worksheet!B97","v":"Avg. Drop Ht. (lb-ft) Lift 2:"},{"$f":"IF(Worksheet!$G$33=\"\",\"\",Worksheet!$G$33)","v":4}]
[405,{"$f":"IF(Worksheet!H97=\"\",\"\",Worksheet!H97)","v":""},{"$f":"IF(Worksheet!$B$6=\"\",\"\",Worksheet!$B$6)","v":"Tex-117-E"},{"$f":"Worksheet!B97","v":"Avg. Drop Ht. (lb-ft) Lift 2:"},{"$f":"IF(Worksheet!$H$33=\"\",\"\",Worksheet!$H$33)","v":5}]
[406,{"$f":"IF(Worksheet!I97=\"\",\"\",Worksheet!I97)","v":""},{"$f":"IF(Worksheet!$B$6=\"\",\"\",Worksheet!$B$6)","v":"Tex-117-E"},{"$f":"Worksheet!B97","v":"Avg. Drop Ht. (lb-ft) Lift 2:"},{"$f":"IF(Worksheet!$I$33=\"\",\"\",Worksheet!$I$33)","v":6}]
[407,{"$f":"IF(Worksheet!J97=\"\",\"\",Worksheet!J97)","v":""},{"$f":"IF(Worksheet!$B$6=\"\",\"\",Worksheet!$B$6)","v":"Tex-117-E"},{"$f":"Worksheet!B97","v":"Avg. Drop Ht. (lb-ft) Lift 2:"},{"$f":"IF(Worksheet!$J$33=\"\",\"\",Worksheet!$J$33)","v":7}]
[408,{"$f":"IF(Worksheet!K97=\"\",\"\",Worksheet!K97)","v":""},{"$f":"IF(Worksheet!$B$6=\"\",\"\",Worksheet!$B$6)","v":"Tex-117-E"},{"$f":"Worksheet!B97","v":"Avg. Drop Ht. (lb-ft) Lift 2:"},{"$f":"IF(Worksheet!$K$33=\"\",\"\",Worksheet!$K$33)","v":8}]
[409,{"$f":"IF(Worksheet!L97=\"\",\"\",Worksheet!L97)","v":""},{"$f":"IF(Worksheet!$B$6=\"\",\"\",Worksheet!$B$6)","v":"Tex-117-E"},{"$f":"Worksheet!B97","v":"Avg. Drop Ht. (lb-ft) Lift 2:"},{"$f":"IF(Worksheet!$L$33=\"\",\"\",Worksheet!$L$33)","v":9}]
[410,{"$f":"IF(Worksheet!D98=\"\",\"\",Worksheet!D98)","v":""},{"$f":"IF(Worksheet!$B$6=\"\",\"\",Worksheet!$B$6)","v":"Tex-117-E"},{"$f":"Worksheet!B98","v":"Avg. Drop Ht. (lb-ft) Lift 3:"},{"$f":"IF(Worksheet!$D$33=\"\",\"\",Worksheet!$D$33)","v":1}]
[411,{"$f":"IF(Worksheet!E98=\"\",\"\",Worksheet!E98)","v":""},{"$f":"IF(Worksheet!$B$6=\"\",\"\",Worksheet!$B$6)","v":"Tex-117-E"},{"$f":"Worksheet!B98","v":"Avg. Drop Ht. (lb-ft) Lift 3:"},{"$f":"IF(Worksheet!$E$33=\"\",\"\",Worksheet!$E$33)","v":2}]
[412,{"$f":"IF(Worksheet!F98=\"\",\"\",Worksheet!F98)","v":""},{"$f":"IF(Worksheet!$B$6=\"\",\"\",Worksheet!$B$6)","v":"Tex-117-E"},{"$f":"Worksheet!B98","v":"Avg. Drop Ht. (lb-ft) Lift 3:"},{"$f":"IF(Worksheet!$F$33=\"\",\"\",Worksheet!$F$33)","v":3}]
[413,{"$f":"IF(Worksheet!G98=\"\",\"\",Worksheet!G98)","v":""},{"$f":"IF(Worksheet!$B$6=\"\",\"\",Worksheet!$B$6)","v":"Tex-117-E"},{"$f":"Worksheet!B98","v":"Avg. Drop Ht. (lb-ft) Lift 3:"},{"$f":"IF(Worksheet!$G$33=\"\",\"\",Worksheet!$G$33)","v":4}]
[414,{"$f":"IF(Worksheet!H98=\"\",\"\",Worksheet!H98)","v":""},{"$f":"IF(Worksheet!$B$6=\"\",\"\",Worksheet!$B$6)","v":"Tex-117-E"},{"$f":"Worksheet!B98","v":"Avg. Drop Ht. (lb-ft) Lift 3:"},{"$f":"IF(Worksheet!$H$33=\"\",\"\",Worksheet!$H$33)","v":5}]
[415,{"$f":"IF(Worksheet!I98=\"\",\"\",Worksheet!I98)","v":""},{"$f":"IF(Worksheet!$B$6=\"\",\"\",Worksheet!$B$6)","v":"Tex-117-E"},{"$f":"Worksheet!B98","v":"Avg. Drop Ht. (lb-ft) Lift 3:"},{"$f":"IF(Worksheet!$I$33=\"\",\"\",Worksheet!$I$33)","v":6}]
[416,{"$f":"IF(Worksheet!J98=\"\",\"\",Worksheet!J98)","v":""},{"$f":"IF(Worksheet!$B$6=\"\",\"\",Worksheet!$B$6)","v":"Tex-117-E"},{"$f":"Worksheet!B98","v":"Avg. Drop Ht. (lb-ft) Lift 3:"},{"$f":"IF(Worksheet!$J$33=\"\",\"\",Worksheet!$J$33)","v":7}]
[417,{"$f":"IF(Worksheet!K98=\"\",\"\",Worksheet!K98)","v":""},{"$f":"IF(Worksheet!$B$6=\"\",\"\",Worksheet!$B$6)","v":"Tex-117-E"},{"$f":"Worksheet!B98","v":"Avg. Drop Ht. (lb-ft) Lift 3:"},{"$f":"IF(Worksheet!$K$33=\"\",\"\",Worksheet!$K$33)","v":8}]
[418,{"$f":"IF(Worksheet!L98=\"\",\"\",Worksheet!L98)","v":""},{"$f":"IF(Worksheet!$B$6=\"\",\"\",Worksheet!$B$6)","v":"Tex-117-E"},{"$f":"Worksheet!B98","v":"Avg. Drop Ht. (lb-ft) Lift 3:"},{"$f":"IF(Worksheet!$L$33=\"\",\"\",Worksheet!$L$33)","v":9}]
[419,{"$f":"IF(Worksheet!D99=\"\",\"\",Worksheet!D99)","v":""},{"$f":"IF(Worksheet!$B$6=\"\",\"\",Worksheet!$B$6)","v":"Tex-117-E"},{"$f":"Worksheet!B99","v":"Avg. Drop Ht. (lb-ft) Lift 4:"},{"$f":"IF(Worksheet!$D$33=\"\",\"\",Worksheet!$D$33)","v":1}]
[420,{"$f":"IF(Worksheet!E99=\"\",\"\",Worksheet!E99)","v":""},{"$f":"IF(Worksheet!$B$6=\"\",\"\",Worksheet!$B$6)","v":"Tex-117-E"},{"$f":"Worksheet!B99","v":"Avg. Drop Ht. (lb-ft) Lift 4:"},{"$f":"IF(Worksheet!$E$33=\"\",\"\",Worksheet!$E$33)","v":2}]
[421,{"$f":"IF(Worksheet!F99=\"\",\"\",Worksheet!F99)","v":""},{"$f":"IF(Worksheet!$B$6=\"\",\"\",Worksheet!$B$6)","v":"Tex-117-E"},{"$f":"Worksheet!B99","v":"Avg. Drop Ht. (lb-ft) Lift 4:"},{"$f":"IF(Worksheet!$F$33=\"\",\"\",Worksheet!$F$33)","v":3}]
[422,{"$f":"IF(Worksheet!G99=\"\",\"\",Worksheet!G99)","v":""},{"$f":"IF(Worksheet!$B$6=\"\",\"\",Worksheet!$B$6)","v":"Tex-117-E"},{"$f":"Worksheet!B99","v":"Avg. Drop Ht. (lb-ft) Lift 4:"},{"$f":"IF(Worksheet!$G$33=\"\",\"\",Worksheet!$G$33)","v":4}]
[423,{"$f":"IF(Worksheet!H99=\"\",\"\",Worksheet!H99)","v":""},{"$f":"IF(Worksheet!$B$6=\"\",\"\",Worksheet!$B$6)","v":"Tex-117-E"},{"$f":"Worksheet!B99","v":"Avg. Drop Ht. (lb-ft) Lift 4:"},{"$f":"IF(Worksheet!$H$33=\"\",\"\",Worksheet!$H$33)","v":5}]
[424,{"$f":"IF(Worksheet!I99=\"\",\"\",Worksheet!I99)","v":""},{"$f":"IF(Worksheet!$B$6=\"\",\"\",Worksheet!$B$6)","v":"Tex-117-E"},{"$f":"Worksheet!B99","v":"Avg. Drop Ht. (lb-ft) Lift 4:"},{"$f":"IF(Worksheet!$I$33=\"\",\"\",Worksheet!$I$33)","v":6}]
[425,{"$f":"IF(Worksheet!J99=\"\",\"\",Worksheet!J99)","v":""},{"$f":"IF(Worksheet!$B$6=\"\",\"\",Worksheet!$B$6)","v":"Tex-117-E"},{"$f":"Worksheet!B99","v":"Avg. Drop Ht. (lb-ft) Lift 4:"},{"$f":"IF(Worksheet!$J$33=\"\",\"\",Worksheet!$J$33)","v":7}]
[426,{"$f":"IF(Worksheet!K99=\"\",\"\",Worksheet!K99)","v":""},{"$f":"IF(Worksheet!$B$6=\"\",\"\",Worksheet!$B$6)","v":"Tex-117-E"},{"$f":"Worksheet!B99","v":"Avg. Drop Ht. (lb-ft) Lift 4:"},{"$f":"IF(Worksheet!$K$33=\"\",\"\",Worksheet!$K$33)","v":8}]
[427,{"$f":"IF(Worksheet!L99=\"\",\"\",Worksheet!L99)","v":""},{"$f":"IF(Worksheet!$B$6=\"\",\"\",Worksheet!$B$6)","v":"Tex-117-E"},{"$f":"Worksheet!B99","v":"Avg. Drop Ht. (lb-ft) Lift 4:"},{"$f":"IF(Worksheet!$L$33=\"\",\"\",Worksheet!$L$33)","v":9}]
[428,{"$f":"IF(Worksheet!D100=\"\",\"\",Worksheet!D100)","v":""},{"$f":"IF(Worksheet!$B$6=\"\",\"\",Worksheet!$B$6)","v":"Tex-117-E"},{"$f":"Worksheet!B100","v":"No. of Blows (lb-ft) Lift 1:"},{"$f":"IF(Worksheet!$D$33=\"\",\"\",Worksheet!$D$33)","v":1}]
[429,{"$f":"IF(Worksheet!E100=\"\",\"\",Worksheet!E100)","v":""},{"$f":"IF(Worksheet!$B$6=\"\",\"\",Worksheet!$B$6)","v":"Tex-117-E"},{"$f":"Worksheet!B100","v":"No. of Blows (lb-ft) Lift 1:"},{"$f":"IF(Worksheet!$E$33=\"\",\"\",Worksheet!$E$33)","v":2}]
[430,{"$f":"IF(Worksheet!F100=\"\",\"\",Worksheet!F100)","v":""},{"$f":"IF(Worksheet!$B$6=\"\",\"\",Worksheet!$B$6)","v":"Tex-117-E"},{"$f":"Worksheet!B100","v":"No. of Blows (lb-ft) Lift 1:"},{"$f":"IF(Worksheet!$F$33=\"\",\"\",Worksheet!$F$33)","v":3}]
[431,{"$f":"IF(Worksheet!G100=\"\",\"\",Worksheet!G100)","v":""},{"$f":"IF(Worksheet!$B$6=\"\",\"\",Worksheet!$B$6)","v":"Tex-117-E"},{"$f":"Worksheet!B100","v":"No. of Blows (lb-ft) Lift 1:"},{"$f":"IF(Worksheet!$G$33=\"\",\"\",Worksheet!$G$33)","v":4}]
[432,{"$f":"IF(Worksheet!H100=\"\",\"\",Worksheet!H100)","v":""},{"$f":"IF(Worksheet!$B$6=\"\",\"\",Worksheet!$B$6)","v":"Tex-117-E"},{"$f":"Worksheet!B100","v":"No. of Blows (lb-ft) Lift 1:"},{"$f":"IF(Worksheet!$H$33=\"\",\"\",Worksheet!$H$33)","v":5}]
[433,{"$f":"IF(Worksheet!I100=\"\",\"\",Worksheet!I100)","v":""},{"$f":"IF(Worksheet!$B$6=\"\",\"\",Worksheet!$B$6)","v":"Tex-117-E"},{"$f":"Worksheet!B100","v":"No. of Blows (lb-ft) Lift 1:"},{"$f":"IF(Worksheet!$I$33=\"\",\"\",Worksheet!$I$33)","v":6}]
[434,{"$f":"IF(Worksheet!J100=\"\",\"\",Worksheet!J100)","v":""},{"$f":"IF(Worksheet!$B$6=\"\",\"\",Worksheet!$B$6)","v":"Tex-117-E"},{"$f":"Worksheet!B100","v":"No. of Blows (lb-ft) Lift 1:"},{"$f":"IF(Worksheet!$J$33=\"\",\"\",Worksheet!$J$33)","v":7}]
[435,{"$f":"IF(Worksheet!K100=\"\",\"\",Worksheet!K100)","v":""},{"$f":"IF(Worksheet!$B$6=\"\",\"\",Worksheet!$B$6)","v":"Tex-117-E"},{"$f":"Worksheet!B100","v":"No. of Blows (lb-ft) Lift 1:"},{"$f":"IF(Worksheet!$K$33=\"\",\"\",Worksheet!$K$33)","v":8}]
[436,{"$f":"IF(Worksheet!L100=\"\",\"\",Worksheet!L100)","v":""},{"$f":"IF(Worksheet!$B$6=\"\",\"\",Worksheet!$B$6)","v":"Tex-117-E"},{"$f":"Worksheet!B100","v":"No. of Blows (lb-ft) Lift 1:"},{"$f":"IF(Worksheet!$L$33=\"\",\"\",Worksheet!$L$33)","v":9}]
[437,{"$f":"IF(Worksheet!D101=\"\",\"\",Worksheet!D101)","v":""},{"$f":"IF(Worksheet!$B$6=\"\",\"\",Worksheet!$B$6)","v":"Tex-117-E"},{"$f":"Worksheet!B101","v":"No. of Blows (lb-ft) Lift 2:"},{"$f":"IF(Worksheet!$D$33=\"\",\"\",Worksheet!$D$33)","v":1}]
[438,{"$f":"IF(Worksheet!E101=\"\",\"\",Worksheet!E101)","v":""},{"$f":"IF(Worksheet!$B$6=\"\",\"\",Worksheet!$B$6)","v":"Tex-117-E"},{"$f":"Worksheet!B101","v":"No. of Blows (lb-ft) Lift 2:"},{"$f":"IF(Worksheet!$E$33=\"\",\"\",Worksheet!$E$33)","v":2}]
[439,{"$f":"IF(Worksheet!F101=\"\",\"\",Worksheet!F101)","v":""},{"$f":"IF(Worksheet!$B$6=\"\",\"\",Worksheet!$B$6)","v":"Tex-117-E"},{"$f":"Worksheet!B101","v":"No. of Blows (lb-ft) Lift 2:"},{"$f":"IF(Worksheet!$F$33=\"\",\"\",Worksheet!$F$33)","v":3}]
[440,{"$f":"IF(Worksheet!G101=\"\",\"\",Worksheet!G101)","v":""},{"$f":"IF(Worksheet!$B$6=\"\",\"\",Worksheet!$B$6)","v":"Tex-117-E"},{"$f":"Worksheet!B101","v":"No. of Blows (lb-ft) Lift 2:"},{"$f":"IF(Worksheet!$G$33=\"\",\"\",Worksheet!$G$33)","v":4}]
[441,{"$f":"IF(Worksheet!H101=\"\",\"\",Worksheet!H101)","v":""},{"$f":"IF(Worksheet!$B$6=\"\",\"\",Worksheet!$B$6)","v":"Tex-117-E"},{"$f":"Worksheet!B101","v":"No. of Blows (lb-ft) Lift 2:"},{"$f":"IF(Worksheet!$H$33=\"\",\"\",Worksheet!$H$33)","v":5}]
[442,{"$f":"IF(Worksheet!I101=\"\",\"\",Worksheet!I101)","v":""},{"$f":"IF(Worksheet!$B$6=\"\",\"\",Worksheet!$B$6)","v":"Tex-117-E"},{"$f":"Worksheet!B101","v":"No. of Blows (lb-ft) Lift 2:"},{"$f":"IF(Worksheet!$I$33=\"\",\"\",Worksheet!$I$33)","v":6}]
[443,{"$f":"IF(Worksheet!J101=\"\",\"\",Worksheet!J101)","v":""},{"$f":"IF(Worksheet!$B$6=\"\",\"\",Worksheet!$B$6)","v":"Tex-117-E"},{"$f":"Worksheet!B101","v":"No. of Blows (lb-ft) Lift 2:"},{"$f":"IF(Worksheet!$J$33=\"\",\"\",Worksheet!$J$33)","v":7}]
[444,{"$f":"IF(Worksheet!K101=\"\",\"\",Worksheet!K101)","v":""},{"$f":"IF(Worksheet!$B$6=\"\",\"\",Worksheet!$B$6)","v":"Tex-117-E"},{"$f":"Worksheet!B101","v":"No. of Blows (lb-ft) Lift 2:"},{"$f":"IF(Worksheet!$K$33=\"\",\"\",Worksheet!$K$33)","v":8}]
[445,{"$f":"IF(Worksheet!L101=\"\",\"\",Worksheet!L101)","v":""},{"$f":"IF(Worksheet!$B$6=\"\",\"\",Worksheet!$B$6)","v":"Tex-117-E"},{"$f":"Worksheet!B101","v":"No. of Blows (lb-ft) Lift 2:"},{"$f":"IF(Worksheet!$L$33=\"\",\"\",Worksheet!$L$33)","v":9}]
[446,{"$f":"IF(Worksheet!D102=\"\",\"\",Worksheet!D102)","v":""},{"$f":"IF(Worksheet!$B$6=\"\",\"\",Worksheet!$B$6)","v":"Tex-117-E"},{"$f":"Worksheet!B102","v":"No. of Blows (lb-ft) Lift 3:"},{"$f":"IF(Worksheet!$D$33=\"\",\"\",Worksheet!$D$33)","v":1}]
[447,{"$f":"IF(Worksheet!E102=\"\",\"\",Worksheet!E102)","v":""},{"$f":"IF(Worksheet!$B$6=\"\",\"\",Worksheet!$B$6)","v":"Tex-117-E"},{"$f":"Worksheet!B102","v":"No. of Blows (lb-ft) Lift 3:"},{"$f":"IF(Worksheet!$E$33=\"\",\"\",Worksheet!$E$33)","v":2}]
[448,{"$f":"IF(Worksheet!F102=\"\",\"\",Worksheet!F102)","v":""},{"$f":"IF(Worksheet!$B$6=\"\",\"\",Worksheet!$B$6)","v":"Tex-117-E"},{"$f":"Worksheet!B102","v":"No. of Blows (lb-ft) Lift 3:"},{"$f":"IF(Worksheet!$F$33=\"\",\"\",Worksheet!$F$33)","v":3}]
[449,{"$f":"IF(Worksheet!G102=\"\",\"\",Worksheet!G102)","v":""},{"$f":"IF(Worksheet!$B$6=\"\",\"\",Worksheet!$B$6)","v":"Tex-117-E"},{"$f":"Worksheet!B102","v":"No. of Blows (lb-ft) Lift 3:"},{"$f":"IF(Worksheet!$G$33=\"\",\"\",Worksheet!$G$33)","v":4}]
[450,{"$f":"IF(Worksheet!H102=\"\",\"\",Worksheet!H102)","v":""},{"$f":"IF(Worksheet!$B$6=\"\",\"\",Worksheet!$B$6)","v":"Tex-117-E"},{"$f":"Worksheet!B102","v":"No. of Blows (lb-ft) Lift 3:"},{"$f":"IF(Worksheet!$H$33=\"\",\"\",Worksheet!$H$33)","v":5}]
[451,{"$f":"IF(Worksheet!I102=\"\",\"\",Worksheet!I102)","v":""},{"$f":"IF(Worksheet!$B$6=\"\",\"\",Worksheet!$B$6)","v":"Tex-117-E"},{"$f":"Worksheet!B102","v":"No. of Blows (lb-ft) Lift 3:"},{"$f":"IF(Worksheet!$I$33=\"\",\"\",Worksheet!$I$33)","v":6}]
[452,{"$f":"IF(Worksheet!J102=\"\",\"\",Worksheet!J102)","v":""},{"$f":"IF(Worksheet!$B$6=\"\",\"\",Worksheet!$B$6)","v":"Tex-117-E"},{"$f":"Worksheet!B102","v":"No. of Blows (lb-ft) Lift 3:"},{"$f":"IF(Worksheet!$J$33=\"\",\"\",Worksheet!$J$33)","v":7}]
[453,{"$f":"IF(Worksheet!K102=\"\",\"\",Worksheet!K102)","v":""},{"$f":"IF(Worksheet!$B$6=\"\",\"\",Worksheet!$B$6)","v":"Tex-117-E"},{"$f":"Worksheet!B102","v":"No. of Blows (lb-ft) Lift 3:"},{"$f":"IF(Worksheet!$K$33=\"\",\"\",Worksheet!$K$33)","v":8}]
[454,{"$f":"IF(Worksheet!L102=\"\",\"\",Worksheet!L102)","v":""},{"$f":"IF(Worksheet!$B$6=\"\",\"\",Worksheet!$B$6)","v":"Tex-117-E"},{"$f":"Worksheet!B102","v":"No. of Blows (lb-ft) Lift 3:"},{"$f":"IF(Worksheet!$L$33=\"\",\"\",Worksheet!$L$33)","v":9}]
[455,{"$f":"IF(Worksheet!D103=\"\",\"\",Worksheet!D103)","v":""},{"$f":"IF(Worksheet!$B$6=\"\",\"\",Worksheet!$B$6)","v":"Tex-117-E"},{"$f":"Worksheet!B103","v":"No. of Blows (lb-ft) Lift 4:"},{"$f":"IF(Worksheet!$D$33=\"\",\"\",Worksheet!$D$33)","v":1}]
[456,{"$f":"IF(Worksheet!E103=\"\",\"\",Worksheet!E103)","v":""},{"$f":"IF(Worksheet!$B$6=\"\",\"\",Worksheet!$B$6)","v":"Tex-117-E"},{"$f":"Worksheet!B103","v":"No. of Blows (lb-ft) Lift 4:"},{"$f":"IF(Worksheet!$E$33=\"\",\"\",Worksheet!$E$33)","v":2}]
[457,{"$f":"IF(Worksheet!F103=\"\",\"\",Worksheet!F103)","v":""},{"$f":"IF(Worksheet!$B$6=\"\",\"\",Worksheet!$B$6)","v":"Tex-117-E"},{"$f":"Worksheet!B103","v":"No. of Blows (lb-ft) Lift 4:"},{"$f":"IF(Worksheet!$F$33=\"\",\"\",Worksheet!$F$33)","v":3}]
[458,{"$f":"IF(Worksheet!G103=\"\",\"\",Worksheet!G103)","v":""},{"$f":"IF(Worksheet!$B$6=\"\",\"\",Worksheet!$B$6)","v":"Tex-117-E"},{"$f":"Worksheet!B103","v":"No. of Blows (lb-ft) Lift 4:"},{"$f":"IF(Worksheet!$G$33=\"\",\"\",Worksheet!$G$33)","v":4}]
[459,{"$f":"IF(Worksheet!H103=\"\",\"\",Worksheet!H103)","v":""},{"$f":"IF(Worksheet!$B$6=\"\",\"\",Worksheet!$B$6)","v":"Tex-117-E"},{"$f":"Worksheet!B103","v":"No. of Blows (lb-ft) Lift 4:"},{"$f":"IF(Worksheet!$H$33=\"\",\"\",Worksheet!$H$33)","v":5}]
[460,{"$f":"IF(Worksheet!I103=\"\",\"\",Worksheet!I103)","v":""},{"$f":"IF(Worksheet!$B$6=\"\",\"\",Worksheet!$B$6)","v":"Tex-117-E"},{"$f":"Worksheet!B103","v":"No. of Blows (lb-ft) Lift 4:"},{"$f":"IF(Worksheet!$I$33=\"\",\"\",Worksheet!$I$33)","v":6}]
[461,{"$f":"IF(Worksheet!J103=\"\",\"\",Worksheet!J103)","v":""},{"$f":"IF(Worksheet!$B$6=\"\",\"\",Worksheet!$B$6)","v":"Tex-117-E"},{"$f":"Worksheet!B103","v":"No. of Blows (lb-ft) Lift 4:"},{"$f":"IF(Worksheet!$J$33=\"\",\"\",Worksheet!$J$33)","v":7}]
[462,{"$f":"IF(Worksheet!K103=\"\",\"\",Worksheet!K103)","v":""},{"$f":"IF(Worksheet!$B$6=\"\",\"\",Worksheet!$B$6)","v":"Tex-117-E"},{"$f":"Worksheet!B103","v":"No. of Blows (lb-ft) Lift 4:"},{"$f":"IF(Worksheet!$K$33=\"\",\"\",Worksheet!$K$33)","v":8}]
[463,{"$f":"IF(Worksheet!L103=\"\",\"\",Worksheet!L103)","v":""},{"$f":"IF(Worksheet!$B$6=\"\",\"\",Worksheet!$B$6)","v":"Tex-117-E"},{"$f":"Worksheet!B103","v":"No. of Blows (lb-ft) Lift 4:"},{"$f":"IF(Worksheet!$L$33=\"\",\"\",Worksheet!$L$33)","v":9}]
[464,{"$f":"IF(Worksheet!K83=\"\",\"\",Worksheet!K83)","v":""},{"$f":"IF(Worksheet!$B$6=\"\",\"\",Worksheet!$B$6)","v":"Tex-117-E"},{"$f":"IF(Worksheet!$H$83=\"\",\"\",Worksheet!$H$83)","v":"Average Corrected Strength (psi):"},{"$f":"IF(Worksheet!$K$82=\"\",\"\",Worksheet!$K$82)","v":"03 psi"}]
[465,{"$f":"IF(Worksheet!D106=\"\",\"\",Worksheet!D106)","v":""},{"$f":"IF(Worksheet!$B$6=\"\",\"\",Worksheet!$B$6)","v":"Tex-117-E"},{"$f":"Worksheet!$B$106","v":"Total Energy (lb-ft) Lift 1:"},{"$f":"IF(Worksheet!$D$33=\"\",\"\",Worksheet!$D$33)","v":1}]
[466,{"$f":"IF(Worksheet!E106=\"\",\"\",Worksheet!E106)","v":""},{"$f":"IF(Worksheet!$B$6=\"\",\"\",Worksheet!$B$6)","v":"Tex-117-E"},{"$f":"Worksheet!$B$106","v":"Total Energy (lb-ft) Lift 1:"},{"$f":"IF(Worksheet!$E$33=\"\",\"\",Worksheet!$E$33)","v":2}]
[467,{"$f":"IF(Worksheet!F106=\"\",\"\",Worksheet!F106)","v":""},{"$f":"IF(Worksheet!$B$6=\"\",\"\",Worksheet!$B$6)","v":"Tex-117-E"},{"$f":"Worksheet!$B$106","v":"Total Energy (lb-ft) Lift 1:"},{"$f":"IF(Worksheet!$F$33=\"\",\"\",Worksheet!$F$33)","v":3}]
[468,{"$f":"IF(Worksheet!G106=\"\",\"\",Worksheet!G106)","v":""},{"$f":"IF(Worksheet!$B$6=\"\",\"\",Worksheet!$B$6)","v":"Tex-117-E"},{"$f":"Worksheet!$B$106","v":"Total Energy (lb-ft) Lift 1:"},{"$f":"IF(Worksheet!$G$33=\"\",\"\",Worksheet!$G$33)","v":4}]
[469,{"$f":"IF(Worksheet!H106=\"\",\"\",Worksheet!H106)","v":""},{"$f":"IF(Worksheet!$B$6=\"\",\"\",Worksheet!$B$6)","v":"Tex-117-E"},{"$f":"Worksheet!$B$106","v":"Total Energy (lb-ft) Lift 1:"},{"$f":"IF(Worksheet!$H$33=\"\",\"\",Worksheet!$H$33)","v":5}]
[470,{"$f":"IF(Worksheet!I106=\"\",\"\",Worksheet!I106)","v":""},{"$f":"IF(Worksheet!$B$6=\"\",\"\",Worksheet!$B$6)","v":"Tex-117-E"},{"$f":"Worksheet!$B$106","v":"Total Energy (lb-ft) Lift 1:"},{"$f":"IF(Worksheet!$I$33=\"\",\"\",Worksheet!$I$33)","v":6}]
[471,{"$f":"IF(Worksheet!J106=\"\",\"\",Worksheet!J106)","v":""},{"$f":"IF(Worksheet!$B$6=\"\",\"\",Worksheet!$B$6)","v":"Tex-117-E"},{"$f":"Worksheet!$B$106","v":"Total Energy (lb-ft) Lift 1:"},{"$f":"IF(Worksheet!$J$33=\"\",\"\",Worksheet!$J$33)","v":7}]
[472,{"$f":"IF(Worksheet!K106=\"\",\"\",Worksheet!K106)","v":""},{"$f":"IF(Worksheet!$B$6=\"\",\"\",Worksheet!$B$6)","v":"Tex-117-E"},{"$f":"Worksheet!$B$106","v":"Total Energy (lb-ft) Lift 1:"},{"$f":"IF(Worksheet!$K$33=\"\",\"\",Worksheet!$K$33)","v":8}]
[473,{"$f":"IF(Worksheet!L106=\"\",\"\",Worksheet!L106)","v":""},{"$f":"IF(Worksheet!$B$6=\"\",\"\",Worksheet!$B$6)","v":"Tex-117-E"},{"$f":"Worksheet!$B$106","v":"Total Energy (lb-ft) Lift 1:"},{"$f":"IF(Worksheet!$L$33=\"\",\"\",Worksheet!$L$33)","v":9}]
[474,{"$f":"IF(Worksheet!D107=\"\",\"\",Worksheet!D107)","v":""},{"$f":"IF(Worksheet!$B$6=\"\",\"\",Worksheet!$B$6)","v":"Tex-117-E"},{"$f":"Worksheet!$B$107","v":"Total Energy (lb-ft) Lift 2:"},{"$f":"IF(Worksheet!$D$33=\"\",\"\",Worksheet!$D$33)","v":1}]
[475,{"$f":"IF(Worksheet!E107=\"\",\"\",Worksheet!E107)","v":""},{"$f":"IF(Worksheet!$B$6=\"\",\"\",Worksheet!$B$6)","v":"Tex-117-E"},{"$f":"Worksheet!$B$107","v":"Total Energy (lb-ft) Lift 2:"},{"$f":"IF(Worksheet!$E$33=\"\",\"\",Worksheet!$E$33)","v":2}]
[476,{"$f":"IF(Worksheet!F107=\"\",\"\",Worksheet!F107)","v":""},{"$f":"IF(Worksheet!$B$6=\"\",\"\",Worksheet!$B$6)","v":"Tex-117-E"},{"$f":"Worksheet!$B$107","v":"Total Energy (lb-ft) Lift 2:"},{"$f":"IF(Worksheet!$F$33=\"\",\"\",Worksheet!$F$33)","v":3}]
[477,{"$f":"IF(Worksheet!G107=\"\",\"\",Worksheet!G107)","v":""},{"$f":"IF(Worksheet!$B$6=\"\",\"\",Worksheet!$B$6)","v":"Tex-117-E"},{"$f":"Worksheet!$B$107","v":"Total Energy (lb-ft) Lift 2:"},{"$f":"IF(Worksheet!$G$33=\"\",\"\",Worksheet!$G$33)","v":4}]
[478,{"$f":"IF(Worksheet!H107=\"\",\"\",Worksheet!H107)","v":""},{"$f":"IF(Worksheet!$B$6=\"\",\"\",Worksheet!$B$6)","v":"Tex-117-E"},{"$f":"Worksheet!$B$107","v":"Total Energy (lb-ft) Lift 2:"},{"$f":"IF(Worksheet!$H$33=\"\",\"\",Worksheet!$H$33)","v":5}]
[479,{"$f":"IF(Worksheet!I107=\"\",\"\",Worksheet!I107)","v":""},{"$f":"IF(Worksheet!$B$6=\"\",\"\",Worksheet!$B$6)","v":"Tex-117-E"},{"$f":"Worksheet!$B$107","v":"Total Energy (lb-ft) Lift 2:"},{"$f":"IF(Worksheet!$I$33=\"\",\"\",Worksheet!$I$33)","v":6}]
[480,{"$f":"IF(Worksheet!J107=\"\",\"\",Worksheet!J107)","v":""},{"$f":"IF(Worksheet!$B$6=\"\",\"\",Worksheet!$B$6)","v":"Tex-117-E"},{"$f":"Worksheet!$B$107","v":"Total Energy (lb-ft) Lift 2:"},{"$f":"IF(Worksheet!$J$33=\"\",\"\",Worksheet!$J$33)","v":7}]
[481,{"$f":"IF(Worksheet!K107=\"\",\"\",Worksheet!K107)","v":""},{"$f":"IF(Worksheet!$B$6=\"\",\"\",Worksheet!$B$6)","v":"Tex-117-E"},{"$f":"Worksheet!$B$107","v":"Total Energy (lb-ft) Lift 2:"},{"$f":"IF(Worksheet!$K$33=\"\",\"\",Worksheet!$K$33)","v":8}]
[482,{"$f":"IF(Worksheet!L107=\"\",\"\",Worksheet!L107)","v":""},{"$f":"IF(Worksheet!$B$6=\"\",\"\",Worksheet!$B$6)","v":"Tex-117-E"},{"$f":"Worksheet!$B$107","v":"Total Energy (lb-ft) Lift 2:"},{"$f":"IF(Worksheet!$L$33=\"\",\"\",Worksheet!$L$33)","v":9}]
[483,{"$f":"IF(Worksheet!D108=\"\",\"\",Worksheet!D108)","v":""},{"$f":"IF(Worksheet!$B$6=\"\",\"\",Worksheet!$B$6)","v":"Tex-117-E"},{"$f":"Worksheet!$B$108","v":"Total Energy (lb-ft) Lift 3:"},{"$f":"IF(Worksheet!$D$33=\"\",\"\",Worksheet!$D$33)","v":1}]
[484,{"$f":"IF(Worksheet!E108=\"\",\"\",Worksheet!E108)","v":""},{"$f":"IF(Worksheet!$B$6=\"\",\"\",Worksheet!$B$6)","v":"Tex-117-E"},{"$f":"Worksheet!$B$108","v":"Total Energy (lb-ft) Lift 3:"},{"$f":"IF(Worksheet!$E$33=\"\",\"\",Worksheet!$E$33)","v":2}]
[485,{"$f":"IF(Worksheet!F108=\"\",\"\",Worksheet!F108)","v":""},{"$f":"IF(Worksheet!$B$6=\"\",\"\",Worksheet!$B$6)","v":"Tex-117-E"},{"$f":"Worksheet!$B$108","v":"Total Energy (lb-ft) Lift 3:"},{"$f":"IF(Worksheet!$F$33=\"\",\"\",Worksheet!$F$33)","v":3}]
[486,{"$f":"IF(Worksheet!G108=\"\",\"\",Worksheet!G108)","v":""},{"$f":"IF(Worksheet!$B$6=\"\",\"\",Worksheet!$B$6)","v":"Tex-117-E"},{"$f":"Worksheet!$B$108","v":"Total Energy (lb-ft) Lift 3:"},{"$f":"IF(Worksheet!$G$33=\"\",\"\",Worksheet!$G$33)","v":4}]
[487,{"$f":"IF(Worksheet!H108=\"\",\"\",Worksheet!H108)","v":""},{"$f":"IF(Worksheet!$B$6=\"\",\"\",Worksheet!$B$6)","v":"Tex-117-E"},{"$f":"Worksheet!$B$108","v":"Total Energy (lb-ft) Lift 3:"},{"$f":"IF(Worksheet!$H$33=\"\",\"\",Worksheet!$H$33)","v":5}]
[488,{"$f":"IF(Worksheet!I108=\"\",\"\",Worksheet!I108)","v":""},{"$f":"IF(Worksheet!$B$6=\"\",\"\",Worksheet!$B$6)","v":"Tex-117-E"},{"$f":"Worksheet!$B$108","v":"Total Energy (lb-ft) Lift 3:"},{"$f":"IF(Worksheet!$I$33=\"\",\"\",Worksheet!$I$33)","v":6}]
[489,{"$f":"IF(Worksheet!J108=\"\",\"\",Worksheet!J108)","v":""},{"$f":"IF(Worksheet!$B$6=\"\",\"\",Worksheet!$B$6)","v":"Tex-117-E"},{"$f":"Worksheet!$B$108","v":"Total Energy (lb-ft) Lift 3:"},{"$f":"IF(Worksheet!$J$33=\"\",\"\",Worksheet!$J$33)","v":7}]
[490,{"$f":"IF(Worksheet!K108=\"\",\"\",Worksheet!K108)","v":""},{"$f":"IF(Worksheet!$B$6=\"\",\"\",Worksheet!$B$6)","v":"Tex-117-E"},{"$f":"Worksheet!$B$108","v":"Total Energy (lb-ft) Lift 3:"},{"$f":"IF(Worksheet!$K$33=\"\",\"\",Worksheet!$K$33)","v":8}]
[491,{"$f":"IF(Worksheet!L108=\"\",\"\",Worksheet!L108)","v":""},{"$f":"IF(Worksheet!$B$6=\"\",\"\",Worksheet!$B$6)","v":"Tex-117-E"},{"$f":"Worksheet!$B$108","v":"Total Energy (lb-ft) Lift 3:"},{"$f":"IF(Worksheet!$L$33=\"\",\"\",Worksheet!$L$33)","v":9}]
[492,{"$f":"IF(Worksheet!D109=\"\",\"\",Worksheet!D109)","v":""},{"$f":"IF(Worksheet!$B$6=\"\",\"\",Worksheet!$B$6)","v":"Tex-117-E"},{"$f":"Worksheet!$B$109","v":"Total Energy (lb-ft) Lift 4:"},{"$f":"IF(Worksheet!$D$33=\"\",\"\",Worksheet!$D$33)","v":1}]
[493,{"$f":"IF(Worksheet!E109=\"\",\"\",Worksheet!E109)","v":""},{"$f":"IF(Worksheet!$B$6=\"\",\"\",Worksheet!$B$6)","v":"Tex-117-E"},{"$f":"Worksheet!$B$109","v":"Total Energy (lb-ft) Lift 4:"},{"$f":"IF(Worksheet!$E$33=\"\",\"\",Worksheet!$E$33)","v":2}]
[494,{"$f":"IF(Worksheet!F109=\"\",\"\",Worksheet!F109)","v":""},{"$f":"IF(Worksheet!$B$6=\"\",\"\",Worksheet!$B$6)","v":"Tex-117-E"},{"$f":"Worksheet!$B$109","v":"Total Energy (lb-ft) Lift 4:"},{"$f":"IF(Worksheet!$F$33=\"\",\"\",Worksheet!$F$33)","v":3}]
[495,{"$f":"IF(Worksheet!G109=\"\",\"\",Worksheet!G109)","v":""},{"$f":"IF(Worksheet!$B$6=\"\",\"\",Worksheet!$B$6)","v":"Tex-117-E"},{"$f":"Worksheet!$B$109","v":"Total Energy (lb-ft) Lift 4:"},{"$f":"IF(Worksheet!$G$33=\"\",\"\",Worksheet!$G$33)","v":4}]
[496,{"$f":"IF(Worksheet!H109=\"\",\"\",Worksheet!H109)","v":""},{"$f":"IF(Worksheet!$B$6=\"\",\"\",Worksheet!$B$6)","v":"Tex-117-E"},{"$f":"Worksheet!$B$109","v":"Total Energy (lb-ft) Lift 4:"},{"$f":"IF(Worksheet!$H$33=\"\",\"\",Worksheet!$H$33)","v":5}]
[497,{"$f":"IF(Worksheet!I109=\"\",\"\",Worksheet!I109)","v":""},{"$f":"IF(Worksheet!$B$6=\"\",\"\",Worksheet!$B$6)","v":"Tex-117-E"},{"$f":"Worksheet!$B$109","v":"Total Energy (lb-ft) Lift 4:"},{"$f":"IF(Worksheet!$I$33=\"\",\"\",Worksheet!$I$33)","v":6}]
[498,{"$f":"IF(Worksheet!J109=\"\",\"\",Worksheet!J109)","v":""},{"$f":"IF(Worksheet!$B$6=\"\",\"\",Worksheet!$B$6)","v":"Tex-117-E"},{"$f":"Worksheet!$B$109","v":"Total Energy (lb-ft) Lift 4:"},{"$f":"IF(Worksheet!$J$33=\"\",\"\",Worksheet!$J$33)","v":7}]
[499,{"$f":"IF(Worksheet!K109=\"\",\"\",Worksheet!K109)","v":""},{"$f":"IF(Worksheet!$B$6=\"\",\"\",Worksheet!$B$6)","v":"Tex-117-E"},{"$f":"Worksheet!$B$109","v":"Total Energy (lb-ft) Lift 4:"},{"$f":"IF(Worksheet!$K$33=\"\",\"\",Worksheet!$K$33)","v":8}]
[500,{"$f":"IF(Worksheet!L109=\"\",\"\",Worksheet!L109)","v":""},{"$f":"IF(Worksheet!$B$6=\"\",\"\",Worksheet!$B$6)","v":"Tex-117-E"},{"$f":"Worksheet!$B$109","v":"Total Energy (lb-ft) Lift 4:"},{"$f":"IF(Worksheet!$L$33=\"\",\"\",Worksheet!$L$33)","v":9}]
[501,{"$f":"IF(Worksheet!D110=\"\",\"\",Worksheet!D110)","v":""},{"$f":"IF(Worksheet!$B$6=\"\",\"\",Worksheet!$B$6)","v":"Tex-117-E"},{"$f":"Worksheet!$B$110","v":"Energy/Lift (lb-ft) Lift 1:"},{"$f":"IF(Worksheet!$D$33=\"\",\"\",Worksheet!$D$33)","v":1}]
[502,{"$f":"IF(Worksheet!E110=\"\",\"\",Worksheet!E110)","v":""},{"$f":"IF(Worksheet!$B$6=\"\",\"\",Worksheet!$B$6)","v":"Tex-117-E"},{"$f":"Worksheet!$B$110","v":"Energy/Lift (lb-ft) Lift 1:"},{"$f":"IF(Worksheet!$E$33=\"\",\"\",Worksheet!$E$33)","v":2}]
[503,{"$f":"IF(Worksheet!F110=\"\",\"\",Worksheet!F110)","v":""},{"$f":"IF(Worksheet!$B$6=\"\",\"\",Worksheet!$B$6)","v":"Tex-117-E"},{"$f":"Worksheet!$B$110","v":"Energy/Lift (lb-ft) Lift 1:"},{"$f":"IF(Worksheet!$F$33=\"\",\"\",Worksheet!$F$33)","v":3}]
[504,{"$f":"IF(Worksheet!G110=\"\",\"\",Worksheet!G110)","v":""},{"$f":"IF(Worksheet!$B$6=\"\",\"\",Worksheet!$B$6)","v":"Tex-117-E"},{"$f":"Worksheet!$B$110","v":"Energy/Lift (lb-ft) Lift 1:"},{"$f":"IF(Worksheet!$G$33=\"\",\"\",Worksheet!$G$33)","v":4}]
[505,{"$f":"IF(Worksheet!H110=\"\",\"\",Worksheet!H110)","v":""},{"$f":"IF(Worksheet!$B$6=\"\",\"\",Worksheet!$B$6)","v":"Tex-117-E"},{"$f":"Worksheet!$B$110","v":"Energy/Lift (lb-ft) Lift 1:"},{"$f":"IF(Worksheet!$H$33=\"\",\"\",Worksheet!$H$33)","v":5}]
[506,{"$f":"IF(Worksheet!I110=\"\",\"\",Worksheet!I110)","v":""},{"$f":"IF(Worksheet!$B$6=\"\",\"\",Worksheet!$B$6)","v":"Tex-117-E"},{"$f":"Worksheet!$B$110","v":"Energy/Lift (lb-ft) Lift 1:"},{"$f":"IF(Worksheet!$I$33=\"\",\"\",Worksheet!$I$33)","v":6}]
[507,{"$f":"IF(Worksheet!J110=\"\",\"\",Worksheet!J110)","v":""},{"$f":"IF(Worksheet!$B$6=\"\",\"\",Worksheet!$B$6)","v":"Tex-117-E"},{"$f":"Worksheet!$B$110","v":"Energy/Lift (lb-ft) Lift 1:"},{"$f":"IF(Worksheet!$J$33=\"\",\"\",Worksheet!$J$33)","v":7}]
[508,{"$f":"IF(Worksheet!K110=\"\",\"\",Worksheet!K110)","v":""},{"$f":"IF(Worksheet!$B$6=\"\",\"\",Worksheet!$B$6)","v":"Tex-117-E"},{"$f":"Worksheet!$B$110","v":"Energy/Lift (lb-ft) Lift 1:"},{"$f":"IF(Worksheet!$K$33=\"\",\"\",Worksheet!$K$33)","v":8}]
[509,{"$f":"IF(Worksheet!L110=\"\",\"\",Worksheet!L110)","v":""},{"$f":"IF(Worksheet!$B$6=\"\",\"\",Worksheet!$B$6)","v":"Tex-117-E"},{"$f":"Worksheet!$B$110","v":"Energy/Lift (lb-ft) Lift 1:"},{"$f":"IF(Worksheet!$L$33=\"\",\"\",Worksheet!$L$33)","v":9}]
[510,{"$f":"IF(Worksheet!D111=\"\",\"\",Worksheet!D111)","v":""},{"$f":"IF(Worksheet!$B$6=\"\",\"\",Worksheet!$B$6)","v":"Tex-117-E"},{"$f":"Worksheet!$B$111","v":"Energy/Lift (lb-ft) Lift 2:"},{"$f":"IF(Worksheet!$D$33=\"\",\"\",Worksheet!$D$33)","v":1}]
[511,{"$f":"IF(Worksheet!E111=\"\",\"\",Worksheet!E111)","v":""},{"$f":"IF(Worksheet!$B$6=\"\",\"\",Worksheet!$B$6)","v":"Tex-117-E"},{"$f":"Worksheet!$B$111","v":"Energy/Lift (lb-ft) Lift 2:"},{"$f":"IF(Worksheet!$E$33=\"\",\"\",Worksheet!$E$33)","v":2}]
[512,{"$f":"IF(Worksheet!F111=\"\",\"\",Worksheet!F111)","v":""},{"$f":"IF(Worksheet!$B$6=\"\",\"\",Worksheet!$B$6)","v":"Tex-117-E"},{"$f":"Worksheet!$B$111","v":"Energy/Lift (lb-ft) Lift 2:"},{"$f":"IF(Worksheet!$F$33=\"\",\"\",Worksheet!$F$33)","v":3}]
[513,{"$f":"IF(Worksheet!G111=\"\",\"\",Worksheet!G111)","v":""},{"$f":"IF(Worksheet!$B$6=\"\",\"\",Worksheet!$B$6)","v":"Tex-117-E"},{"$f":"Worksheet!$B$111","v":"Energy/Lift (lb-ft) Lift 2:"},{"$f":"IF(Worksheet!$G$33=\"\",\"\",Worksheet!$G$33)","v":4}]
[514,{"$f":"IF(Worksheet!H111=\"\",\"\",Worksheet!H111)","v":""},{"$f":"IF(Worksheet!$B$6=\"\",\"\",Worksheet!$B$6)","v":"Tex-117-E"},{"$f":"Worksheet!$B$111","v":"Energy/Lift (lb-ft) Lift 2:"},{"$f":"IF(Worksheet!$H$33=\"\",\"\",Worksheet!$H$33)","v":5}]
[515,{"$f":"IF(Worksheet!I111=\"\",\"\",Worksheet!I111)","v":""},{"$f":"IF(Worksheet!$B$6=\"\",\"\",Worksheet!$B$6)","v":"Tex-117-E"},{"$f":"Worksheet!$B$111","v":"Energy/Lift (lb-ft) Lift 2:"},{"$f":"IF(Worksheet!$I$33=\"\",\"\",Worksheet!$I$33)","v":6}]
[516,{"$f":"IF(Worksheet!J111=\"\",\"\",Worksheet!J111)","v":""},{"$f":"IF(Worksheet!$B$6=\"\",\"\",Worksheet!$B$6)","v":"Tex-117-E"},{"$f":"Worksheet!$B$111","v":"Energy/Lift (lb-ft) Lift 2:"},{"$f":"IF(Worksheet!$J$33=\"\",\"\",Worksheet!$J$33)","v":7}]
[517,{"$f":"IF(Worksheet!K111=\"\",\"\",Worksheet!K111)","v":""},{"$f":"IF(Worksheet!$B$6=\"\",\"\",Worksheet!$B$6)","v":"Tex-117-E"},{"$f":"Worksheet!$B$111","v":"Energy/Lift (lb-ft) Lift 2:"},{"$f":"IF(Worksheet!$K$33=\"\",\"\",Worksheet!$K$33)","v":8}]
[518,{"$f":"IF(Worksheet!L111=\"\",\"\",Worksheet!L111)","v":""},{"$f":"IF(Worksheet!$B$6=\"\",\"\",Worksheet!$B$6)","v":"Tex-117-E"},{"$f":"Worksheet!$B$111","v":"Energy/Lift (lb-ft) Lift 2:"},{"$f":"IF(Worksheet!$L$33=\"\",\"\",Worksheet!$L$33)","v":9}]
[519,{"$f":"IF(Worksheet!D112=\"\",\"\",Worksheet!D112)","v":""},{"$f":"IF(Worksheet!$B$6=\"\",\"\",Worksheet!$B$6)","v":"Tex-117-E"},{"$f":"Worksheet!$B$112","v":"Energy/Lift (lb-ft) Lift 3:"},{"$f":"IF(Worksheet!$D$33=\"\",\"\",Worksheet!$D$33)","v":1}]
[520,{"$f":"IF(Worksheet!E112=\"\",\"\",Worksheet!E112)","v":""},{"$f":"IF(Worksheet!$B$6=\"\",\"\",Worksheet!$B$6)","v":"Tex-117-E"},{"$f":"Worksheet!$B$112","v":"Energy/Lift (lb-ft) Lift 3:"},{"$f":"IF(Worksheet!$E$33=\"\",\"\",Worksheet!$E$33)","v":2}]
[521,{"$f":"IF(Worksheet!F112=\"\",\"\",Worksheet!F112)","v":""},{"$f":"IF(Worksheet!$B$6=\"\",\"\",Worksheet!$B$6)","v":"Tex-117-E"},{"$f":"Worksheet!$B$112","v":"Energy/Lift (lb-ft) Lift 3:"},{"$f":"IF(Worksheet!$F$33=\"\",\"\",Worksheet!$F$33)","v":3}]
[522,{"$f":"IF(Worksheet!G112=\"\",\"\",Worksheet!G112)","v":""},{"$f":"IF(Worksheet!$B$6=\"\",\"\",Worksheet!$B$6)","v":"Tex-117-E"},{"$f":"Worksheet!$B$112","v":"Energy/Lift (lb-ft) Lift 3:"},{"$f":"IF(Worksheet!$G$33=\"\",\"\",Worksheet!$G$33)","v":4}]
[523,{"$f":"IF(Worksheet!H112=\"\",\"\",Worksheet!H112)","v":""},{"$f":"IF(Worksheet!$B$6=\"\",\"\",Worksheet!$B$6)","v":"Tex-117-E"},{"$f":"Worksheet!$B$112","v":"Energy/Lift (lb-ft) Lift 3:"},{"$f":"IF(Worksheet!$H$33=\"\",\"\",Worksheet!$H$33)","v":5}]
[524,{"$f":"IF(Worksheet!I112=\"\",\"\",Worksheet!I112)","v":""},{"$f":"IF(Worksheet!$B$6=\"\",\"\",Worksheet!$B$6)","v":"Tex-117-E"},{"$f":"Worksheet!$B$112","v":"Energy/Lift (lb-ft) Lift 3:"},{"$f":"IF(Worksheet!$I$33=\"\",\"\",Worksheet!$I$33)","v":6}]
[525,{"$f":"IF(Worksheet!J112=\"\",\"\",Worksheet!J112)","v":""},{"$f":"IF(Worksheet!$B$6=\"\",\"\",Worksheet!$B$6)","v":"Tex-117-E"},{"$f":"Worksheet!$B$112","v":"Energy/Lift (lb-ft) Lift 3:"},{"$f":"IF(Worksheet!$J$33=\"\",\"\",Worksheet!$J$33)","v":7}]
[526,{"$f":"IF(Worksheet!K112=\"\",\"\",Worksheet!K112)","v":""},{"$f":"IF(Worksheet!$B$6=\"\",\"\",Worksheet!$B$6)","v":"Tex-117-E"},{"$f":"Worksheet!$B$112","v":"Energy/Lift (lb-ft) Lift 3:"},{"$f":"IF(Worksheet!$K$33=\"\",\"\",Worksheet!$K$33)","v":8}]
[527,{"$f":"IF(Worksheet!L112=\"\",\"\",Worksheet!L112)","v":""},{"$f":"IF(Worksheet!$B$6=\"\",\"\",Worksheet!$B$6)","v":"Tex-117-E"},{"$f":"Worksheet!$B$112","v":"Energy/Lift (lb-ft) Lift 3:"},{"$f":"IF(Worksheet!$L$33=\"\",\"\",Worksheet!$L$33)","v":9}]
[528,{"$f":"IF(Worksheet!D113=\"\",\"\",Worksheet!D113)","v":""},{"$f":"IF(Worksheet!$B$6=\"\",\"\",Worksheet!$B$6)","v":"Tex-117-E"},{"$f":"Worksheet!$B$113","v":"Energy/Lift (lb-ft) Lift 4:"},{"$f":"IF(Worksheet!$D$33=\"\",\"\",Worksheet!$D$33)","v":1}]
[529,{"$f":"IF(Worksheet!E113=\"\",\"\",Worksheet!E113)","v":""},{"$f":"IF(Worksheet!$B$6=\"\",\"\",Worksheet!$B$6)","v":"Tex-117-E"},{"$f":"Worksheet!$B$113","v":"Energy/Lift (lb-ft) Lift 4:"},{"$f":"IF(Worksheet!$E$33=\"\",\"\",Worksheet!$E$33)","v":2}]
[530,{"$f":"IF(Worksheet!F113=\"\",\"\",Worksheet!F113)","v":""},{"$f":"IF(Worksheet!$B$6=\"\",\"\",Worksheet!$B$6)","v":"Tex-117-E"},{"$f":"Worksheet!$B$113","v":"Energy/Lift (lb-ft) Lift 4:"},{"$f":"IF(Worksheet!$F$33=\"\",\"\",Worksheet!$F$33)","v":3}]
[531,{"$f":"IF(Worksheet!G113=\"\",\"\",Worksheet!G113)","v":""},{"$f":"IF(Worksheet!$B$6=\"\",\"\",Worksheet!$B$6)","v":"Tex-117-E"},{"$f":"Worksheet!$B$113","v":"Energy/Lift (lb-ft) Lift 4:"},{"$f":"IF(Worksheet!$G$33=\"\",\"\",Worksheet!$G$33)","v":4}]
[532,{"$f":"IF(Worksheet!H113=\"\",\"\",Worksheet!H113)","v":""},{"$f":"IF(Worksheet!$B$6=\"\",\"\",Worksheet!$B$6)","v":"Tex-117-E"},{"$f":"Worksheet!$B$113","v":"Energy/Lift (lb-ft) Lift 4:"},{"$f":"IF(Worksheet!$H$33=\"\",\"\",Worksheet!$H$33)","v":5}]
[533,{"$f":"IF(Worksheet!I113=\"\",\"\",Worksheet!I113)","v":""},{"$f":"IF(Worksheet!$B$6=\"\",\"\",Worksheet!$B$6)","v":"Tex-117-E"},{"$f":"Worksheet!$B$113","v":"Energy/Lift (lb-ft) Lift 4:"},{"$f":"IF(Worksheet!$I$33=\"\",\"\",Worksheet!$I$33)","v":6}]
[534,{"$f":"IF(Worksheet!J113=\"\",\"\",Worksheet!J113)","v":""},{"$f":"IF(Worksheet!$B$6=\"\",\"\",Worksheet!$B$6)","v":"Tex-117-E"},{"$f":"Worksheet!$B$113","v":"Energy/Lift (lb-ft) Lift 4:"},{"$f":"IF(Worksheet!$J$33=\"\",\"\",Worksheet!$J$33)","v":7}]
[535,{"$f":"IF(Worksheet!K113=\"\",\"\",Worksheet!K113)","v":""},{"$f":"IF(Worksheet!$B$6=\"\",\"\",Worksheet!$B$6)","v":"Tex-117-E"},{"$f":"Worksheet!$B$113","v":"Energy/Lift (lb-ft) Lift 4:"},{"$f":"IF(Worksheet!$K$33=\"\",\"\",Worksheet!$K$33)","v":8}]
[536,{"$f":"IF(Worksheet!L113=\"\",\"\",Worksheet!L113)","v":""},{"$f":"IF(Worksheet!$B$6=\"\",\"\",Worksheet!$B$6)","v":"Tex-117-E"},{"$f":"Worksheet!$B$113","v":"Energy/Lift (lb-ft) Lift 4:"},{"$f":"IF(Worksheet!$L$33=\"\",\"\",Worksheet!$L$33)","v":9}]
[537,{"$f":"IF(Worksheet!D114=\"\",\"\",Worksheet!D114)","v":""},{"$f":"IF(Worksheet!$B$6=\"\",\"\",Worksheet!$B$6)","v":"Tex-117-E"},{"$f":"Worksheet!$B$114","v":"Avg. Drop Ht. (lb-ft) Lift 1:"},{"$f":"IF(Worksheet!$D$33=\"\",\"\",Worksheet!$D$33)","v":1}]
[538,{"$f":"IF(Worksheet!E114=\"\",\"\",Worksheet!E114)","v":""},{"$f":"IF(Worksheet!$B$6=\"\",\"\",Worksheet!$B$6)","v":"Tex-117-E"},{"$f":"Worksheet!$B$114","v":"Avg. Drop Ht. (lb-ft) Lift 1:"},{"$f":"IF(Worksheet!$E$33=\"\",\"\",Worksheet!$E$33)","v":2}]
[539,{"$f":"IF(Worksheet!F114=\"\",\"\",Worksheet!F114)","v":""},{"$f":"IF(Worksheet!$B$6=\"\",\"\",Worksheet!$B$6)","v":"Tex-117-E"},{"$f":"Worksheet!$B$114","v":"Avg. Drop Ht. (lb-ft) Lift 1:"},{"$f":"IF(Worksheet!$F$33=\"\",\"\",Worksheet!$F$33)","v":3}]
[540,{"$f":"IF(Worksheet!G114=\"\",\"\",Worksheet!G114)","v":""},{"$f":"IF(Worksheet!$B$6=\"\",\"\",Worksheet!$B$6)","v":"Tex-117-E"},{"$f":"Worksheet!$B$114","v":"Avg. Drop Ht. (lb-ft) Lift 1:"},{"$f":"IF(Worksheet!$G$33=\"\",\"\",Worksheet!$G$33)","v":4}]
[541,{"$f":"IF(Worksheet!H114=\"\",\"\",Worksheet!H114)","v":""},{"$f":"IF(Worksheet!$B$6=\"\",\"\",Worksheet!$B$6)","v":"Tex-117-E"},{"$f":"Worksheet!$B$114","v":"Avg. Drop Ht. (lb-ft) Lift 1:"},{"$f":"IF(Worksheet!$H$33=\"\",\"\",Worksheet!$H$33)","v":5}]
[542,{"$f":"IF(Worksheet!I114=\"\",\"\",Worksheet!I114)","v":""},{"$f":"IF(Worksheet!$B$6=\"\",\"\",Worksheet!$B$6)","v":"Tex-117-E"},{"$f":"Worksheet!$B$114","v":"Avg. Drop Ht. (lb-ft) Lift 1:"},{"$f":"IF(Worksheet!$I$33=\"\",\"\",Worksheet!$I$33)","v":6}]
[543,{"$f":"IF(Worksheet!J114=\"\",\"\",Worksheet!J114)","v":""},{"$f":"IF(Worksheet!$B$6=\"\",\"\",Worksheet!$B$6)","v":"Tex-117-E"},{"$f":"Worksheet!$B$114","v":"Avg. Drop Ht. (lb-ft) Lift 1:"},{"$f":"IF(Worksheet!$J$33=\"\",\"\",Worksheet!$J$33)","v":7}]
[544,{"$f":"IF(Worksheet!K114=\"\",\"\",Worksheet!K114)","v":""},{"$f":"IF(Worksheet!$B$6=\"\",\"\",Worksheet!$B$6)","v":"Tex-117-E"},{"$f":"Worksheet!$B$114","v":"Avg. Drop Ht. (lb-ft) Lift 1:"},{"$f":"IF(Worksheet!$K$33=\"\",\"\",Worksheet!$K$33)","v":8}]
[545,{"$f":"IF(Worksheet!L114=\"\",\"\",Worksheet!L114)","v":""},{"$f":"IF(Worksheet!$B$6=\"\",\"\",Worksheet!$B$6)","v":"Tex-117-E"},{"$f":"Worksheet!$B$114","v":"Avg. Drop Ht. (lb-ft) Lift 1:"},{"$f":"IF(Worksheet!$L$33=\"\",\"\",Worksheet!$L$33)","v":9}]
[546,{"$f":"IF(Worksheet!D115=\"\",\"\",Worksheet!D115)","v":""},{"$f":"IF(Worksheet!$B$6=\"\",\"\",Worksheet!$B$6)","v":"Tex-117-E"},{"$f":"Worksheet!$B$115","v":"Avg. Drop Ht. (lb-ft) Lift 2:"},{"$f":"IF(Worksheet!$D$33=\"\",\"\",Worksheet!$D$33)","v":1}]
[547,{"$f":"IF(Worksheet!E115=\"\",\"\",Worksheet!E115)","v":""},{"$f":"IF(Worksheet!$B$6=\"\",\"\",Worksheet!$B$6)","v":"Tex-117-E"},{"$f":"Worksheet!$B$115","v":"Avg. Drop Ht. (lb-ft) Lift 2:"},{"$f":"IF(Worksheet!$E$33=\"\",\"\",Worksheet!$E$33)","v":2}]
[548,{"$f":"IF(Worksheet!F115=\"\",\"\",Worksheet!F115)","v":""},{"$f":"IF(Worksheet!$B$6=\"\",\"\",Worksheet!$B$6)","v":"Tex-117-E"},{"$f":"Worksheet!$B$115","v":"Avg. Drop Ht. (lb-ft) Lift 2:"},{"$f":"IF(Worksheet!$F$33=\"\",\"\",Worksheet!$F$33)","v":3}]
[549,{"$f":"IF(Worksheet!G115=\"\",\"\",Worksheet!G115)","v":""},{"$f":"IF(Worksheet!$B$6=\"\",\"\",Worksheet!$B$6)","v":"Tex-117-E"},{"$f":"Worksheet!$B$115","v":"Avg. Drop Ht. (lb-ft) Lift 2:"},{"$f":"IF(Worksheet!$G$33=\"\",\"\",Worksheet!$G$33)","v":4}]
[550,{"$f":"IF(Worksheet!H115=\"\",\"\",Worksheet!H115)","v":""},{"$f":"IF(Worksheet!$B$6=\"\",\"\",Worksheet!$B$6)","v":"Tex-117-E"},{"$f":"Worksheet!$B$115","v":"Avg. Drop Ht. (lb-ft) Lift 2:"},{"$f":"IF(Worksheet!$H$33=\"\",\"\",Worksheet!$H$33)","v":5}]
[551,{"$f":"IF(Worksheet!I115=\"\",\"\",Worksheet!I115)","v":""},{"$f":"IF(Worksheet!$B$6=\"\",\"\",Worksheet!$B$6)","v":"Tex-117-E"},{"$f":"Worksheet!$B$115","v":"Avg. Drop Ht. (lb-ft) Lift 2:"},{"$f":"IF(Worksheet!$I$33=\"\",\"\",Worksheet!$I$33)","v":6}]
[552,{"$f":"IF(Worksheet!J115=\"\",\"\",Worksheet!J115)","v":""},{"$f":"IF(Worksheet!$B$6=\"\",\"\",Worksheet!$B$6)","v":"Tex-117-E"},{"$f":"Worksheet!$B$115","v":"Avg. Drop Ht. (lb-ft) Lift 2:"},{"$f":"IF(Worksheet!$J$33=\"\",\"\",Worksheet!$J$33)","v":7}]
[553,{"$f":"IF(Worksheet!K115=\"\",\"\",Worksheet!K115)","v":""},{"$f":"IF(Worksheet!$B$6=\"\",\"\",Worksheet!$B$6)","v":"Tex-117-E"},{"$f":"Worksheet!$B$115","v":"Avg. Drop Ht. (lb-ft) Lift 2:"},{"$f":"IF(Worksheet!$K$33=\"\",\"\",Worksheet!$K$33)","v":8}]
[554,{"$f":"IF(Worksheet!L115=\"\",\"\",Worksheet!L115)","v":""},{"$f":"IF(Worksheet!$B$6=\"\",\"\",Worksheet!$B$6)","v":"Tex-117-E"},{"$f":"Worksheet!$B$115","v":"Avg. Drop Ht. (lb-ft) Lift 2:"},{"$f":"IF(Worksheet!$L$33=\"\",\"\",Worksheet!$L$33)","v":9}]
[555,{"$f":"IF(Worksheet!D116=\"\",\"\",Worksheet!D116)","v":""},{"$f":"IF(Worksheet!$B$6=\"\",\"\",Worksheet!$B$6)","v":"Tex-117-E"},{"$f":"Worksheet!$B$116","v":"Avg. Drop Ht. (lb-ft) Lift 3:"},{"$f":"IF(Worksheet!$D$33=\"\",\"\",Worksheet!$D$33)","v":1}]
[556,{"$f":"IF(Worksheet!E116=\"\",\"\",Worksheet!E116)","v":""},{"$f":"IF(Worksheet!$B$6=\"\",\"\",Worksheet!$B$6)","v":"Tex-117-E"},{"$f":"Worksheet!$B$116","v":"Avg. Drop Ht. (lb-ft) Lift 3:"},{"$f":"IF(Worksheet!$E$33=\"\",\"\",Worksheet!$E$33)","v":2}]
[557,{"$f":"IF(Worksheet!F116=\"\",\"\",Worksheet!F116)","v":""},{"$f":"IF(Worksheet!$B$6=\"\",\"\",Worksheet!$B$6)","v":"Tex-117-E"},{"$f":"Worksheet!$B$116","v":"Avg. Drop Ht. (lb-ft) Lift 3:"},{"$f":"IF(Worksheet!$F$33=\"\",\"\",Worksheet!$F$33)","v":3}]
[558,{"$f":"IF(Worksheet!G116=\"\",\"\",Worksheet!G116)","v":""},{"$f":"IF(Worksheet!$B$6=\"\",\"\",Worksheet!$B$6)","v":"Tex-117-E"},{"$f":"Worksheet!$B$116","v":"Avg. Drop Ht. (lb-ft) Lift 3:"},{"$f":"IF(Worksheet!$G$33=\"\",\"\",Worksheet!$G$33)","v":4}]
[559,{"$f":"IF(Worksheet!H116=\"\",\"\",Worksheet!H116)","v":""},{"$f":"IF(Worksheet!$B$6=\"\",\"\",Worksheet!$B$6)","v":"Tex-117-E"},{"$f":"Worksheet!$B$116","v":"Avg. Drop Ht. (lb-ft) Lift 3:"},{"$f":"IF(Worksheet!$H$33=\"\",\"\",Worksheet!$H$33)","v":5}]
[560,{"$f":"IF(Worksheet!I116=\"\",\"\",Worksheet!I116)","v":""},{"$f":"IF(Worksheet!$B$6=\"\",\"\",Worksheet!$B$6)","v":"Tex-117-E"},{"$f":"Worksheet!$B$116","v":"Avg. Drop Ht. (lb-ft) Lift 3:"},{"$f":"IF(Worksheet!$I$33=\"\",\"\",Worksheet!$I$33)","v":6}]
[561,{"$f":"IF(Worksheet!J116=\"\",\"\",Worksheet!J116)","v":""},{"$f":"IF(Worksheet!$B$6=\"\",\"\",Worksheet!$B$6)","v":"Tex-117-E"},{"$f":"Worksheet!$B$116","v":"Avg. Drop Ht. (lb-ft) Lift 3:"},{"$f":"IF(Worksheet!$J$33=\"\",\"\",Worksheet!$J$33)","v":7}]
[562,{"$f":"IF(Worksheet!K116=\"\",\"\",Worksheet!K116)","v":""},{"$f":"IF(Worksheet!$B$6=\"\",\"\",Worksheet!$B$6)","v":"Tex-117-E"},{"$f":"Worksheet!$B$116","v":"Avg. Drop Ht. (lb-ft) Lift 3:"},{"$f":"IF(Worksheet!$K$33=\"\",\"\",Worksheet!$K$33)","v":8}]
[563,{"$f":"IF(Worksheet!L116=\"\",\"\",Worksheet!L116)","v":""},{"$f":"IF(Worksheet!$B$6=\"\",\"\",Worksheet!$B$6)","v":"Tex-117-E"},{"$f":"Worksheet!$B$116","v":"Avg. Drop Ht. (lb-ft) Lift 3:"},{"$f":"IF(Worksheet!$L$33=\"\",\"\",Worksheet!$L$33)","v":9}]
[564,{"$f":"IF(Worksheet!D117=\"\",\"\",Worksheet!D117)","v":""},{"$f":"IF(Worksheet!$B$6=\"\",\"\",Worksheet!$B$6)","v":"Tex-117-E"},{"$f":"Worksheet!$B$117","v":"Avg. Drop Ht. (lb-ft) Lift 4:"},{"$f":"IF(Worksheet!$D$33=\"\",\"\",Worksheet!$D$33)","v":1}]
[565,{"$f":"IF(Worksheet!E117=\"\",\"\",Worksheet!E117)","v":""},{"$f":"IF(Worksheet!$B$6=\"\",\"\",Worksheet!$B$6)","v":"Tex-117-E"},{"$f":"Worksheet!$B$117","v":"Avg. Drop Ht. (lb-ft) Lift 4:"},{"$f":"IF(Worksheet!$E$33=\"\",\"\",Worksheet!$E$33)","v":2}]
[566,{"$f":"IF(Worksheet!F117=\"\",\"\",Worksheet!F117)","v":""},{"$f":"IF(Worksheet!$B$6=\"\",\"\",Worksheet!$B$6)","v":"Tex-117-E"},{"$f":"Worksheet!$B$117","v":"Avg. Drop Ht. (lb-ft) Lift 4:"},{"$f":"IF(Worksheet!$F$33=\"\",\"\",Worksheet!$F$33)","v":3}]
[567,{"$f":"IF(Worksheet!G117=\"\",\"\",Worksheet!G117)","v":""},{"$f":"IF(Worksheet!$B$6=\"\",\"\",Worksheet!$B$6)","v":"Tex-117-E"},{"$f":"Worksheet!$B$117","v":"Avg. Drop Ht. (lb-ft) Lift 4:"},{"$f":"IF(Worksheet!$G$33=\"\",\"\",Worksheet!$G$33)","v":4}]
[568,{"$f":"IF(Worksheet!H117=\"\",\"\",Worksheet!H117)","v":""},{"$f":"IF(Worksheet!$B$6=\"\",\"\",Worksheet!$B$6)","v":"Tex-117-E"},{"$f":"Worksheet!$B$117","v":"Avg. Drop Ht. (lb-ft) Lift 4:"},{"$f":"IF(Worksheet!$H$33=\"\",\"\",Worksheet!$H$33)","v":5}]
[569,{"$f":"IF(Worksheet!I117=\"\",\"\",Worksheet!I117)","v":""},{"$f":"IF(Worksheet!$B$6=\"\",\"\",Worksheet!$B$6)","v":"Tex-117-E"},{"$f":"Worksheet!$B$117","v":"Avg. Drop Ht. (lb-ft) Lift 4:"},{"$f":"IF(Worksheet!$I$33=\"\",\"\",Worksheet!$I$33)","v":6}]
[570,{"$f":"IF(Worksheet!J117=\"\",\"\",Worksheet!J117)","v":""},{"$f":"IF(Worksheet!$B$6=\"\",\"\",Worksheet!$B$6)","v":"Tex-117-E"},{"$f":"Worksheet!$B$117","v":"Avg. Drop Ht. (lb-ft) Lift 4:"},{"$f":"IF(Worksheet!$J$33=\"\",\"\",Worksheet!$J$33)","v":7}]
[571,{"$f":"IF(Worksheet!K117=\"\",\"\",Worksheet!K117)","v":""},{"$f":"IF(Worksheet!$B$6=\"\",\"\",Worksheet!$B$6)","v":"Tex-117-E"},{"$f":"Worksheet!$B$117","v":"Avg. Drop Ht. (lb-ft) Lift 4:"},{"$f":"IF(Worksheet!$K$33=\"\",\"\",Worksheet!$K$33)","v":8}]
[572,{"$f":"IF(Worksheet!L117=\"\",\"\",Worksheet!L117)","v":""},{"$f":"IF(Worksheet!$B$6=\"\",\"\",Worksheet!$B$6)","v":"Tex-117-E"},{"$f":"Worksheet!$B$117","v":"Avg. Drop Ht. (lb-ft) Lift 4:"},{"$f":"IF(Worksheet!$L$33=\"\",\"\",Worksheet!$L$33)","v":9}]
[573,{"$f":"IF(Worksheet!D118=\"\",\"\",Worksheet!D118)","v":""},{"$f":"IF(Worksheet!$B$6=\"\",\"\",Worksheet!$B$6)","v":"Tex-117-E"},{"$f":"Worksheet!$B$118","v":"No. of Blows (lb-ft) Lift 1:"},{"$f":"IF(Worksheet!$D$33=\"\",\"\",Worksheet!$D$33)","v":1}]
[574,{"$f":"IF(Worksheet!E118=\"\",\"\",Worksheet!E118)","v":""},{"$f":"IF(Worksheet!$B$6=\"\",\"\",Worksheet!$B$6)","v":"Tex-117-E"},{"$f":"Worksheet!$B$118","v":"No. of Blows (lb-ft) Lift 1:"},{"$f":"IF(Worksheet!$E$33=\"\",\"\",Worksheet!$E$33)","v":2}]
[575,{"$f":"IF(Worksheet!F118=\"\",\"\",Worksheet!F118)","v":""},{"$f":"IF(Worksheet!$B$6=\"\",\"\",Worksheet!$B$6)","v":"Tex-117-E"},{"$f":"Worksheet!$B$118","v":"No. of Blows (lb-ft) Lift 1:"},{"$f":"IF(Worksheet!$F$33=\"\",\"\",Worksheet!$F$33)","v":3}]
[576,{"$f":"IF(Worksheet!G118=\"\",\"\",Worksheet!G118)","v":""},{"$f":"IF(Worksheet!$B$6=\"\",\"\",Worksheet!$B$6)","v":"Tex-117-E"},{"$f":"Worksheet!$B$118","v":"No. of Blows (lb-ft) Lift 1:"},{"$f":"IF(Worksheet!$G$33=\"\",\"\",Worksheet!$G$33)","v":4}]
[577,{"$f":"IF(Worksheet!H118=\"\",\"\",Worksheet!H118)","v":""},{"$f":"IF(Worksheet!$B$6=\"\",\"\",Worksheet!$B$6)","v":"Tex-117-E"},{"$f":"Worksheet!$B$118","v":"No. of Blows (lb-ft) Lift 1:"},{"$f":"IF(Worksheet!$H$33=\"\",\"\",Worksheet!$H$33)","v":5}]
[578,{"$f":"IF(Worksheet!I118=\"\",\"\",Worksheet!I118)","v":""},{"$f":"IF(Worksheet!$B$6=\"\",\"\",Worksheet!$B$6)","v":"Tex-117-E"},{"$f":"Worksheet!$B$118","v":"No. of Blows (lb-ft) Lift 1:"},{"$f":"IF(Worksheet!$I$33=\"\",\"\",Worksheet!$I$33)","v":6}]
[579,{"$f":"IF(Worksheet!J118=\"\",\"\",Worksheet!J118)","v":""},{"$f":"IF(Worksheet!$B$6=\"\",\"\",Worksheet!$B$6)","v":"Tex-117-E"},{"$f":"Worksheet!$B$118","v":"No. of Blows (lb-ft) Lift 1:"},{"$f":"IF(Worksheet!$J$33=\"\",\"\",Worksheet!$J$33)","v":7}]
[580,{"$f":"IF(Worksheet!K118=\"\",\"\",Worksheet!K118)","v":""},{"$f":"IF(Worksheet!$B$6=\"\",\"\",Worksheet!$B$6)","v":"Tex-117-E"},{"$f":"Worksheet!$B$118","v":"No. of Blows (lb-ft) Lift 1:"},{"$f":"IF(Worksheet!$K$33=\"\",\"\",Worksheet!$K$33)","v":8}]
[581,{"$f":"IF(Worksheet!L118=\"\",\"\",Worksheet!L118)","v":""},{"$f":"IF(Worksheet!$B$6=\"\",\"\",Worksheet!$B$6)","v":"Tex-117-E"},{"$f":"Worksheet!$B$118","v":"No. of Blows (lb-ft) Lift 1:"},{"$f":"IF(Worksheet!$L$33=\"\",\"\",Worksheet!$L$33)","v":9}]
[582,{"$f":"IF(Worksheet!D119=\"\",\"\",Worksheet!D119)","v":""},{"$f":"IF(Worksheet!$B$6=\"\",\"\",Worksheet!$B$6)","v":"Tex-117-E"},{"$f":"Worksheet!$B$119","v":"No. of Blows (lb-ft) Lift 2:"},{"$f":"IF(Worksheet!$D$33=\"\",\"\",Worksheet!$D$33)","v":1}]
[583,{"$f":"IF(Worksheet!E119=\"\",\"\",Worksheet!E119)","v":""},{"$f":"IF(Worksheet!$B$6=\"\",\"\",Worksheet!$B$6)","v":"Tex-117-E"},{"$f":"Worksheet!$B$119","v":"No. of Blows (lb-ft) Lift 2:"},{"$f":"IF(Worksheet!$E$33=\"\",\"\",Worksheet!$E$33)","v":2}]
[584,{"$f":"IF(Worksheet!F119=\"\",\"\",Worksheet!F119)","v":""},{"$f":"IF(Worksheet!$B$6=\"\",\"\",Worksheet!$B$6)","v":"Tex-117-E"},{"$f":"Worksheet!$B$119","v":"No. of Blows (lb-ft) Lift 2:"},{"$f":"IF(Worksheet!$F$33=\"\",\"\",Worksheet!$F$33)","v":3}]
[585,{"$f":"IF(Worksheet!G119=\"\",\"\",Worksheet!G119)","v":""},{"$f":"IF(Worksheet!$B$6=\"\",\"\",Worksheet!$B$6)","v":"Tex-117-E"},{"$f":"Worksheet!$B$119","v":"No. of Blows (lb-ft) Lift 2:"},{"$f":"IF(Worksheet!$G$33=\"\",\"\",Worksheet!$G$33)","v":4}]
[586,{"$f":"IF(Worksheet!H119=\"\",\"\",Worksheet!H119)","v":""},{"$f":"IF(Worksheet!$B$6=\"\",\"\",Worksheet!$B$6)","v":"Tex-117-E"},{"$f":"Worksheet!$B$119","v":"No. of Blows (lb-ft) Lift 2:"},{"$f":"IF(Worksheet!$H$33=\"\",\"\",Worksheet!$H$33)","v":5}]
[587,{"$f":"IF(Worksheet!I119=\"\",\"\",Worksheet!I119)","v":""},{"$f":"IF(Worksheet!$B$6=\"\",\"\",Worksheet!$B$6)","v":"Tex-117-E"},{"$f":"Worksheet!$B$119","v":"No. of Blows (lb-ft) Lift 2:"},{"$f":"IF(Worksheet!$I$33=\"\",\"\",Worksheet!$I$33)","v":6}]
[588,{"$f":"IF(Worksheet!J119=\"\",\"\",Worksheet!J119)","v":""},{"$f":"IF(Worksheet!$B$6=\"\",\"\",Worksheet!$B$6)","v":"Tex-117-E"},{"$f":"Worksheet!$B$119","v":"No. of Blows (lb-ft) Lift 2:"},{"$f":"IF(Worksheet!$J$33=\"\",\"\",Worksheet!$J$33)","v":7}]
[589,{"$f":"IF(Worksheet!K119=\"\",\"\",Worksheet!K119)","v":""},{"$f":"IF(Worksheet!$B$6=\"\",\"\",Worksheet!$B$6)","v":"Tex-117-E"},{"$f":"Worksheet!$B$119","v":"No. of Blows (lb-ft) Lift 2:"},{"$f":"IF(Worksheet!$K$33=\"\",\"\",Worksheet!$K$33)","v":8}]
[590,{"$f":"IF(Worksheet!L119=\"\",\"\",Worksheet!L119)","v":""},{"$f":"IF(Worksheet!$B$6=\"\",\"\",Worksheet!$B$6)","v":"Tex-117-E"},{"$f":"Worksheet!$B$119","v":"No. of Blows (lb-ft) Lift 2:"},{"$f":"IF(Worksheet!$L$33=\"\",\"\",Worksheet!$L$33)","v":9}]
[591,{"$f":"IF(Worksheet!D120=\"\",\"\",Worksheet!D120)","v":""},{"$f":"IF(Worksheet!$B$6=\"\",\"\",Worksheet!$B$6)","v":"Tex-117-E"},{"$f":"Worksheet!$B$120","v":"No. of Blows (lb-ft) Lift 3:"},{"$f":"IF(Worksheet!$D$33=\"\",\"\",Worksheet!$D$33)","v":1}]
[592,{"$f":"IF(Worksheet!E120=\"\",\"\",Worksheet!E120)","v":""},{"$f":"IF(Worksheet!$B$6=\"\",\"\",Worksheet!$B$6)","v":"Tex-117-E"},{"$f":"Worksheet!$B$120","v":"No. of Blows (lb-ft) Lift 3:"},{"$f":"IF(Worksheet!$E$33=\"\",\"\",Worksheet!$E$33)","v":2}]
[593,{"$f":"IF(Worksheet!F120=\"\",\"\",Worksheet!F120)","v":""},{"$f":"IF(Worksheet!$B$6=\"\",\"\",Worksheet!$B$6)","v":"Tex-117-E"},{"$f":"Worksheet!$B$120","v":"No. of Blows (lb-ft) Lift 3:"},{"$f":"IF(Worksheet!$F$33=\"\",\"\",Worksheet!$F$33)","v":3}]
[594,{"$f":"IF(Worksheet!G120=\"\",\"\",Worksheet!G120)","v":""},{"$f":"IF(Worksheet!$B$6=\"\",\"\",Worksheet!$B$6)","v":"Tex-117-E"},{"$f":"Worksheet!$B$120","v":"No. of Blows (lb-ft) Lift 3:"},{"$f":"IF(Worksheet!$G$33=\"\",\"\",Worksheet!$G$33)","v":4}]
[595,{"$f":"IF(Worksheet!H120=\"\",\"\",Worksheet!H120)","v":""},{"$f":"IF(Worksheet!$B$6=\"\",\"\",Worksheet!$B$6)","v":"Tex-117-E"},{"$f":"Worksheet!$B$120","v":"No. of Blows (lb-ft) Lift 3:"},{"$f":"IF(Worksheet!$H$33=\"\",\"\",Worksheet!$H$33)","v":5}]
[596,{"$f":"IF(Worksheet!I120=\"\",\"\",Worksheet!I120)","v":""},{"$f":"IF(Worksheet!$B$6=\"\",\"\",Worksheet!$B$6)","v":"Tex-117-E"},{"$f":"Worksheet!$B$120","v":"No. of Blows (lb-ft) Lift 3:"},{"$f":"IF(Worksheet!$I$33=\"\",\"\",Worksheet!$I$33)","v":6}]
[597,{"$f":"IF(Worksheet!J120=\"\",\"\",Worksheet!J120)","v":""},{"$f":"IF(Worksheet!$B$6=\"\",\"\",Worksheet!$B$6)","v":"Tex-117-E"},{"$f":"Worksheet!$B$120","v":"No. of Blows (lb-ft) Lift 3:"},{"$f":"IF(Worksheet!$J$33=\"\",\"\",Worksheet!$J$33)","v":7}]
[598,{"$f":"IF(Worksheet!K120=\"\",\"\",Worksheet!K120)","v":""},{"$f":"IF(Worksheet!$B$6=\"\",\"\",Worksheet!$B$6)","v":"Tex-117-E"},{"$f":"Worksheet!$B$120","v":"No. of Blows (lb-ft) Lift 3:"},{"$f":"IF(Worksheet!$K$33=\"\",\"\",Worksheet!$K$33)","v":8}]
[599,{"$f":"IF(Worksheet!L120=\"\",\"\",Worksheet!L120)","v":""},{"$f":"IF(Worksheet!$B$6=\"\",\"\",Worksheet!$B$6)","v":"Tex-117-E"},{"$f":"Worksheet!$B$120","v":"No. of Blows (lb-ft) Lift 3:"},{"$f":"IF(Worksheet!$L$33=\"\",\"\",Worksheet!$L$33)","v":9}]
[600,{"$f":"IF(Worksheet!D121=\"\",\"\",Worksheet!D121)","v":""},{"$f":"IF(Worksheet!$B$6=\"\",\"\",Worksheet!$B$6)","v":"Tex-117-E"},{"$f":"Worksheet!$B$121","v":"No. of Blows (lb-ft) Lift 4:"},{"$f":"IF(Worksheet!$D$33=\"\",\"\",Worksheet!$D$33)","v":1}]
[601,{"$f":"IF(Worksheet!E121=\"\",\"\",Worksheet!E121)","v":""},{"$f":"IF(Worksheet!$B$6=\"\",\"\",Worksheet!$B$6)","v":"Tex-117-E"},{"$f":"Worksheet!$B$121","v":"No. of Blows (lb-ft) Lift 4:"},{"$f":"IF(Worksheet!$E$33=\"\",\"\",Worksheet!$E$33)","v":2}]
[602,{"$f":"IF(Worksheet!F121=\"\",\"\",Worksheet!F121)","v":""},{"$f":"IF(Worksheet!$B$6=\"\",\"\",Worksheet!$B$6)","v":"Tex-117-E"},{"$f":"Worksheet!$B$121","v":"No. of Blows (lb-ft) Lift 4:"},{"$f":"IF(Worksheet!$F$33=\"\",\"\",Worksheet!$F$33)","v":3}]
[603,{"$f":"IF(Worksheet!G121=\"\",\"\",Worksheet!G121)","v":""},{"$f":"IF(Worksheet!$B$6=\"\",\"\",Worksheet!$B$6)","v":"Tex-117-E"},{"$f":"Worksheet!$B$121","v":"No. of Blows (lb-ft) Lift 4:"},{"$f":"IF(Worksheet!$G$33=\"\",\"\",Worksheet!$G$33)","v":4}]
[604,{"$f":"IF(Worksheet!H121=\"\",\"\",Worksheet!H121)","v":""},{"$f":"IF(Worksheet!$B$6=\"\",\"\",Worksheet!$B$6)","v":"Tex-117-E"},{"$f":"Worksheet!$B$121","v":"No. of Blows (lb-ft) Lift 4:"},{"$f":"IF(Worksheet!$H$33=\"\",\"\",Worksheet!$H$33)","v":5}]
[605,{"$f":"IF(Worksheet!I121=\"\",\"\",Worksheet!I121)","v":""},{"$f":"IF(Worksheet!$B$6=\"\",\"\",Worksheet!$B$6)","v":"Tex-117-E"},{"$f":"Worksheet!$B$121","v":"No. of Blows (lb-ft) Lift 4:"},{"$f":"IF(Worksheet!$I$33=\"\",\"\",Worksheet!$I$33)","v":6}]
[606,{"$f":"IF(Worksheet!J121=\"\",\"\",Worksheet!J121)","v":""},{"$f":"IF(Worksheet!$B$6=\"\",\"\",Worksheet!$B$6)","v":"Tex-117-E"},{"$f":"Worksheet!$B$121","v":"No. of Blows (lb-ft) Lift 4:"},{"$f":"IF(Worksheet!$J$33=\"\",\"\",Worksheet!$J$33)","v":7}]
[607,{"$f":"IF(Worksheet!K121=\"\",\"\",Worksheet!K121)","v":""},{"$f":"IF(Worksheet!$B$6=\"\",\"\",Worksheet!$B$6)","v":"Tex-117-E"},{"$f":"Worksheet!$B$121","v":"No. of Blows (lb-ft) Lift 4:"},{"$f":"IF(Worksheet!$K$33=\"\",\"\",Worksheet!$K$33)","v":8}]
[608,{"$f":"IF(Worksheet!L121=\"\",\"\",Worksheet!L121)","v":""},{"$f":"IF(Worksheet!$B$6=\"\",\"\",Worksheet!$B$6)","v":"Tex-117-E"},{"$f":"Worksheet!$B$121","v":"No. of Blows (lb-ft) Lift 4:"},{"$f":"IF(Worksheet!$L$33=\"\",\"\",Worksheet!$L$33)","v":9}]
[609,{"$f":"IF(Worksheet!$D$34=\"\",\"\",Worksheet!$D$34)","v":""},{"$f":"IF( Worksheet!$B$6=\"\",\"\", Worksheet!$B$6)","v":"Tex-117-E"},{"$f":"IF(Worksheet!$B$34=\"\",\"\",Worksheet!$B$34)","v":"Cell No.:"},{"$f":"IF(Worksheet!$D$33=\"\",\"\",Worksheet!$D$33)","v":1}]
[610,{"$f":"IF(Worksheet!$E$34=\"\",\"\",Worksheet!$E$34)","v":""},{"$f":"IF( Worksheet!$B$6=\"\",\"\", Worksheet!$B$6)","v":"Tex-117-E"},{"$f":"IF(Worksheet!$B$34=\"\",\"\",Worksheet!$B$34)","v":"Cell No.:"},{"$f":"IF(Worksheet!$E$33=\"\",\"\",Worksheet!$E$33)","v":2}]
[611,{"$f":"IF(Worksheet!$F$34=\"\",\"\",Worksheet!$F$34)","v":""},{"$f":"IF( Worksheet!$B$6=\"\",\"\", Worksheet!$B$6)","v":"Tex-117-E"},{"$f":"IF(Worksheet!$B$34=\"\",\"\",Worksheet!$B$34)","v":"Cell No.:"},{"$f":"IF(Worksheet!$F$33=\"\",\"\",Worksheet!$F$33)","v":3}]
[612,{"$f":"IF(Worksheet!$G$34=\"\",\"\",Worksheet!$G$34)","v":""},{"$f":"IF( Worksheet!$B$6=\"\",\"\", Worksheet!$B$6)","v":"Tex-117-E"},{"$f":"IF(Worksheet!$B$34=\"\",\"\",Worksheet!$B$34)","v":"Cell No.:"},{"$f":"IF(Worksheet!$G$33=\"\",\"\",Worksheet!$G$33)","v":4}]
[613,{"$f":"IF(Worksheet!$H$34=\"\",\"\",Worksheet!$H$34)","v":""},{"$f":"IF( Worksheet!$B$6=\"\",\"\", Worksheet!$B$6)","v":"Tex-117-E"},{"$f":"IF(Worksheet!$B$34=\"\",\"\",Worksheet!$B$34)","v":"Cell No.:"},{"$f":"IF(Worksheet!$H$33=\"\",\"\",Worksheet!$H$33)","v":5}]
[614,{"$f":"IF(Worksheet!$I$34=\"\",\"\",Worksheet!$I$34)","v":""},{"$f":"IF( Worksheet!$B$6=\"\",\"\", Worksheet!$B$6)","v":"Tex-117-E"},{"$f":"IF(Worksheet!$B$34=\"\",\"\",Worksheet!$B$34)","v":"Cell No.:"},{"$f":"IF(Worksheet!$I$33=\"\",\"\",Worksheet!$I$33)","v":6}]
[615,{"$f":"IF(Worksheet!$J$34=\"\",\"\",Worksheet!$J$34)","v":""},{"$f":"IF( Worksheet!$B$6=\"\",\"\", Worksheet!$B$6)","v":"Tex-117-E"},{"$f":"IF(Worksheet!$B$34=\"\",\"\",Worksheet!$B$34)","v":"Cell No.:"},{"$f":"IF(Worksheet!$J$33=\"\",\"\",Worksheet!$J$33)","v":7}]
[616,{"$f":"IF(Worksheet!$K$34=\"\",\"\",Worksheet!$K$34)","v":""},{"$f":"IF( Worksheet!$B$6=\"\",\"\", Worksheet!$B$6)","v":"Tex-117-E"},{"$f":"IF(Worksheet!$B$34=\"\",\"\",Worksheet!$B$34)","v":"Cell No.:"},{"$f":"IF(Worksheet!$K$33=\"\",\"\",Worksheet!$K$33)","v":8}]
[617,{"$f":"IF(Worksheet!$L$34=\"\",\"\",Worksheet!$L$34)","v":""},{"$f":"IF( Worksheet!$B$6=\"\",\"\", Worksheet!$B$6)","v":"Tex-117-E"},{"$f":"IF(Worksheet!$B$34=\"\",\"\",Worksheet!$B$34)","v":"Cell No.:"},{"$f":"IF(Worksheet!$L$33=\"\",\"\",Worksheet!$L$33)","v":9}]
[618,{"$f":"IF(Worksheet!$D$35=\"\",\"\",Worksheet!$D$35)","v":""},{"$f":"IF( Worksheet!$B$6=\"\",\"\", Worksheet!$B$6)","v":"Tex-117-E"},{"$f":"IF(Worksheet!$B$35=\"\",\"\",Worksheet!$B$35)","v":"Wet Mass Spec. & Mold, (lb):"},{"$f":"IF(Worksheet!$D$33=\"\",\"\",Worksheet!$D$33)","v":1}]
[619,{"$f":"IF(Worksheet!$E$35=\"\",\"\",Worksheet!$E$35)","v":""},{"$f":"IF( Worksheet!$B$6=\"\",\"\", Worksheet!$B$6)","v":"Tex-117-E"},{"$f":"IF(Worksheet!$B$35=\"\",\"\",Worksheet!$B$35)","v":"Wet Mass Spec. & Mold, (lb):"},{"$f":"IF(Worksheet!$E$33=\"\",\"\",Worksheet!$E$33)","v":2}]
[620,{"$f":"IF(Worksheet!$F$35=\"\",\"\",Worksheet!$F$35)","v":""},{"$f":"IF( Worksheet!$B$6=\"\",\"\", Worksheet!$B$6)","v":"Tex-117-E"},{"$f":"IF(Worksheet!$B$35=\"\",\"\",Worksheet!$B$35)","v":"Wet Mass Spec. & Mold, (lb):"},{"$f":"IF(Worksheet!$F$33=\"\",\"\",Worksheet!$F$33)","v":3}]
[621,{"$f":"IF(Worksheet!$G$35=\"\",\"\",Worksheet!$G$35)","v":""},{"$f":"IF( Worksheet!$B$6=\"\",\"\", Worksheet!$B$6)","v":"Tex-117-E"},{"$f":"IF(Worksheet!$B$35=\"\",\"\",Worksheet!$B$35)","v":"Wet Mass Spec. & Mold, (lb):"},{"$f":"IF(Worksheet!$G$33=\"\",\"\",Worksheet!$G$33)","v":4}]
[622,{"$f":"IF(Worksheet!$H$35=\"\",\"\",Worksheet!$H$35)","v":""},{"$f":"IF( Worksheet!$B$6=\"\",\"\", Worksheet!$B$6)","v":"Tex-117-E"},{"$f":"IF(Worksheet!$B$35=\"\",\"\",Worksheet!$B$35)","v":"Wet Mass Spec. & Mold, (lb):"},{"$f":"IF(Worksheet!$H$33=\"\",\"\",Worksheet!$H$33)","v":5}]
[623,{"$f":"IF(Worksheet!$I$35=\"\",\"\",Worksheet!$I$35)","v":""},{"$f":"IF( Worksheet!$B$6=\"\",\"\", Worksheet!$B$6)","v":"Tex-117-E"},{"$f":"IF(Worksheet!$B$35=\"\",\"\",Worksheet!$B$35)","v":"Wet Mass Spec. & Mold, (lb):"},{"$f":"IF(Worksheet!$I$33=\"\",\"\",Worksheet!$I$33)","v":6}]
[624,{"$f":"IF(Worksheet!$J$35=\"\",\"\",Worksheet!$J$35)","v":""},{"$f":"IF( Worksheet!$B$6=\"\",\"\", Worksheet!$B$6)","v":"Tex-117-E"},{"$f":"IF(Worksheet!$B$35=\"\",\"\",Worksheet!$B$35)","v":"Wet Mass Spec. & Mold, (lb):"},{"$f":"IF(Worksheet!$J$33=\"\",\"\",Worksheet!$J$33)","v":7}]
[625,{"$f":"IF(Worksheet!$K$35=\"\",\"\",Worksheet!$K$35)","v":""},{"$f":"IF( Worksheet!$B$6=\"\",\"\", Worksheet!$B$6)","v":"Tex-117-E"},{"$f":"IF(Worksheet!$B$35=\"\",\"\",Worksheet!$B$35)","v":"Wet Mass Spec. & Mold, (lb):"},{"$f":"IF(Worksheet!$K$33=\"\",\"\",Worksheet!$K$33)","v":8}]
[626,{"$f":"IF(Worksheet!$L$35=\"\",\"\",Worksheet!$L$35)","v":""},{"$f":"IF( Worksheet!$B$6=\"\",\"\", Worksheet!$B$6)","v":"Tex-117-E"},{"$f":"IF(Worksheet!$B$35=\"\",\"\",Worksheet!$B$35)","v":"Wet Mass Spec. & Mold, (lb):"},{"$f":"IF(Worksheet!$L$33=\"\",\"\",Worksheet!$L$33)","v":9}]
[627,{"$f":"IF(Worksheet!$D$36=\"\",\"\",Worksheet!$D$36)","v":0},{"$f":"IF( Worksheet!$B$6=\"\",\"\", Worksheet!$B$6)","v":"Tex-117-E"},{"$f":"IF(Worksheet!$B$36=\"\",\"\",Worksheet!$B$36)","v":"Mass of Mold (universal), (lb):"},{"$f":"IF(Worksheet!$D$33=\"\",\"\",Worksheet!$D$33)","v":1}]
[628,{"$f":"IF(Worksheet!$E$36=\"\",\"\",Worksheet!$E$36)","v":0},{"$f":"IF( Worksheet!$B$6=\"\",\"\", Worksheet!$B$6)","v":"Tex-117-E"},{"$f":"IF(Worksheet!$B$36=\"\",\"\",Worksheet!$B$36)","v":"Mass of Mold (universal), (lb):"},{"$f":"IF(Worksheet!$E$33=\"\",\"\",Worksheet!$E$33)","v":2}]
[629,{"$f":"IF(Worksheet!$F$36=\"\",\"\",Worksheet!$F$36)","v":0},{"$f":"IF( Worksheet!$B$6=\"\",\"\", Worksheet!$B$6)","v":"Tex-117-E"},{"$f":"IF(Worksheet!$B$36=\"\",\"\",Worksheet!$B$36)","v":"Mass of Mold (universal), (lb):"},{"$f":"IF(Worksheet!$F$33=\"\",\"\",Worksheet!$F$33)","v":3}]
[630,{"$f":"IF(Worksheet!$G$36=\"\",\"\",Worksheet!$G$36)","v":0},{"$f":"IF( Worksheet!$B$6=\"\",\"\", Worksheet!$B$6)","v":"Tex-117-E"},{"$f":"IF(Worksheet!$B$36=\"\",\"\",Worksheet!$B$36)","v":"Mass of Mold (universal), (lb):"},{"$f":"IF(Worksheet!$G$33=\"\",\"\",Worksheet!$G$33)","v":4}]
[631,{"$f":"IF(Worksheet!$H$36=\"\",\"\",Worksheet!$H$36)","v":0},{"$f":"IF( Worksheet!$B$6=\"\",\"\", Worksheet!$B$6)","v":"Tex-117-E"},{"$f":"IF(Worksheet!$B$36=\"\",\"\",Worksheet!$B$36)","v":"Mass of Mold (universal), (lb):"},{"$f":"IF(Worksheet!$H$33=\"\",\"\",Worksheet!$H$33)","v":5}]
[632,{"$f":"IF(Worksheet!$I$36=\"\",\"\",Worksheet!$I$36)","v":0},{"$f":"IF( Worksheet!$B$6=\"\",\"\", Worksheet!$B$6)","v":"Tex-117-E"},{"$f":"IF(Worksheet!$B$36=\"\",\"\",Worksheet!$B$36)","v":"Mass of Mold (universal), (lb):"},{"$f":"IF(Worksheet!$I$33=\"\",\"\",Worksheet!$I$33)","v":6}]
[633,{"$f":"IF(Worksheet!$J$36=\"\",\"\",Worksheet!$J$36)","v":0},{"$f":"IF( Worksheet!$B$6=\"\",\"\", Worksheet!$B$6)","v":"Tex-117-E"},{"$f":"IF(Worksheet!$B$36=\"\",\"\",Worksheet!$B$36)","v":"Mass of Mold (universal), (lb):"},{"$f":"IF(Worksheet!$J$33=\"\",\"\",Worksheet!$J$33)","v":7}]
[634,{"$f":"IF(Worksheet!$K$36=\"\",\"\",Worksheet!$K$36)","v":0},{"$f":"IF( Worksheet!$B$6=\"\",\"\", Worksheet!$B$6)","v":"Tex-117-E"},{"$f":"IF(Worksheet!$B$36=\"\",\"\",Worksheet!$B$36)","v":"Mass of Mold (universal), (lb):"},{"$f":"IF(Worksheet!$K$33=\"\",\"\",Worksheet!$K$33)","v":8}]
[635,{"$f":"IF(Worksheet!$L$36=\"\",\"\",Worksheet!$L$36)","v":0},{"$f":"IF( Worksheet!$B$6=\"\",\"\", Worksheet!$B$6)","v":"Tex-117-E"},{"$f":"IF(Worksheet!$B$36=\"\",\"\",Worksheet!$B$36)","v":"Mass of Mold (universal), (lb):"},{"$f":"IF(Worksheet!$L$33=\"\",\"\",Worksheet!$L$33)","v":9}]
[636,null,{"$f":"IF( Worksheet!$B$6=\"\",\"\", Worksheet!$B$6)","v":"Tex-117-E"},{"$f":"IF(Worksheet!$B$36=\"\",\"\",Worksheet!$B$36)","v":"Mass of Mold (universal), (lb):"},{"$f":"IF(Worksheet!$D$33=\"\",\"\",Worksheet!$D$33)","v":1}]
[637,{"$f":"IF(Worksheet!$E$37=\"\",\"\",Worksheet!$E$37)","v":""},{"$f":"IF( Worksheet!$B$6=\"\",\"\", Worksheet!$B$6)","v":"Tex-117-E"},{"$f":"IF(Worksheet!$B$36=\"\",\"\",Worksheet!$B$36)","v":"Mass of Mold (universal), (lb):"},{"$f":"IF(Worksheet!$E$33=\"\",\"\",Worksheet!$E$33)","v":2}]
[638,{"$f":"IF(Worksheet!$F$37=\"\",\"\",Worksheet!$F$37)","v":""},{"$f":"IF( Worksheet!$B$6=\"\",\"\", Worksheet!$B$6)","v":"Tex-117-E"},{"$f":"IF(Worksheet!$B$36=\"\",\"\",Worksheet!$B$36)","v":"Mass of Mold (universal), (lb):"},{"$f":"IF(Worksheet!$F$33=\"\",\"\",Worksheet!$F$33)","v":3}]
[639,{"$f":"IF(Worksheet!$G$37=\"\",\"\",Worksheet!$G$37)","v":""},{"$f":"IF( Worksheet!$B$6=\"\",\"\", Worksheet!$B$6)","v":"Tex-117-E"},{"$f":"IF(Worksheet!$B$36=\"\",\"\",Worksheet!$B$36)","v":"Mass of Mold (universal), (lb):"},{"$f":"IF(Worksheet!$G$33=\"\",\"\",Worksheet!$G$33)","v":4}]
[640,{"$f":"IF(Worksheet!$H$37=\"\",\"\",Worksheet!$H$37)","v":""},{"$f":"IF( Worksheet!$B$6=\"\",\"\", Worksheet!$B$6)","v":"Tex-117-E"},{"$f":"IF(Worksheet!$B$36=\"\",\"\",Worksheet!$B$36)","v":"Mass of Mold (universal), (lb):"},{"$f":"IF(Worksheet!$H$33=\"\",\"\",Worksheet!$H$33)","v":5}]
[641,{"$f":"IF(Worksheet!$I$37=\"\",\"\",Worksheet!$I$37)","v":""},{"$f":"IF( Worksheet!$B$6=\"\",\"\", Worksheet!$B$6)","v":"Tex-117-E"},{"$f":"IF(Worksheet!$B$36=\"\",\"\",Worksheet!$B$36)","v":"Mass of Mold (universal), (lb):"},{"$f":"IF(Worksheet!$I$33=\"\",\"\",Worksheet!$I$33)","v":6}]
[642,{"$f":"IF(Worksheet!$J$37=\"\",\"\",Worksheet!$J$37)","v":""},{"$f":"IF( Worksheet!$B$6=\"\",\"\", Worksheet!$B$6)","v":"Tex-117-E"},{"$f":"IF(Worksheet!$B$36=\"\",\"\",Worksheet!$B$36)","v":"Mass of Mold (universal), (lb):"},{"$f":"IF(Worksheet!$J$33=\"\",\"\",Worksheet!$J$33)","v":7}]
[643,{"$f":"IF(Worksheet!$K$37=\"\",\"\",Worksheet!$K$37)","v":""},{"$f":"IF( Worksheet!$B$6=\"\",\"\", Worksheet!$B$6)","v":"Tex-117-E"},{"$f":"IF(Worksheet!$B$36=\"\",\"\",Worksheet!$B$36)","v":"Mass of Mold (universal), (lb):"},{"$f":"IF(Worksheet!$K$33=\"\",\"\",Worksheet!$K$33)","v":8}]
[644,{"$f":"IF(Worksheet!$L$37=\"\",\"\",Worksheet!$L$37)","v":""},{"$f":"IF( Worksheet!$B$6=\"\",\"\", Worksheet!$B$6)","v":"Tex-117-E"},{"$f":"IF(Worksheet!$B$36=\"\",\"\",Worksheet!$B$36)","v":"Mass of Mold (universal), (lb):"},{"$f":"IF(Worksheet!$L$33=\"\",\"\",Worksheet!$L$33)","v":9}]
[645,{"$f":"IF(Worksheet!$D$39=\"\",\"\",Worksheet!$D$39)","v":""},{"$f":"IF( Worksheet!$B$6=\"\",\"\", Worksheet!$B$6)","v":"Tex-117-E"},{"$f":"IF(Worksheet!$B$39=\"\",\"\",Worksheet!$B$39)","v":"Vol. of Mold (indivdual) (in^3/in):"},{"$f":"IF(Worksheet!$D$33=\"\",\"\",Worksheet!$D$33)","v":1}]
[646,{"$f":"IF(Worksheet!$E$39=\"\",\"\",Worksheet!$E$39)","v":""},{"$f":"IF( Worksheet!$B$6=\"\",\"\", Worksheet!$B$6)","v":"Tex-117-E"},{"$f":"IF(Worksheet!$B$39=\"\",\"\",Worksheet!$B$39)","v":"Vol. of Mold (indivdual) (in^3/in):"},{"$f":"IF(Worksheet!$E$33=\"\",\"\",Worksheet!$E$33)","v":2}]
[647,{"$f":"IF(Worksheet!$F$39=\"\",\"\",Worksheet!$F$39)","v":""},{"$f":"IF( Worksheet!$B$6=\"\",\"\", Worksheet!$B$6)","v":"Tex-117-E"},{"$f":"IF(Worksheet!$B$39=\"\",\"\",Worksheet!$B$39)","v":"Vol. of Mold (indivdual) (in^3/in):"},{"$f":"IF(Worksheet!$F$33=\"\",\"\",Worksheet!$F$33)","v":3}]
[648,{"$f":"IF(Worksheet!$G$39=\"\",\"\",Worksheet!$G$39)","v":""},{"$f":"IF( Worksheet!$B$6=\"\",\"\", Worksheet!$B$6)","v":"Tex-117-E"},{"$f":"IF(Worksheet!$B$39=\"\",\"\",Worksheet!$B$39)","v":"Vol. of Mold (indivdual) (in^3/in):"},{"$f":"IF(Worksheet!$G$33=\"\",\"\",Worksheet!$G$33)","v":4}]
[649,{"$f":"IF(Worksheet!$H$39=\"\",\"\",Worksheet!$H$39)","v":""},{"$f":"IF( Worksheet!$B$6=\"\",\"\", Worksheet!$B$6)","v":"Tex-117-E"},{"$f":"IF(Worksheet!$B$39=\"\",\"\",Worksheet!$B$39)","v":"Vol. of Mold (indivdual) (in^3/in):"},{"$f":"IF(Worksheet!$H$33=\"\",\"\",Worksheet!$H$33)","v":5}]
[650,{"$f":"IF(Worksheet!$I$39=\"\",\"\",Worksheet!$I$39)","v":""},{"$f":"IF( Worksheet!$B$6=\"\",\"\", Worksheet!$B$6)","v":"Tex-117-E"},{"$f":"IF(Worksheet!$B$39=\"\",\"\",Worksheet!$B$39)","v":"Vol. of Mold (indivdual) (in^3/in):"},{"$f":"IF(Worksheet!$I$33=\"\",\"\",Worksheet!$I$33)","v":6}]
[651,{"$f":"IF(Worksheet!$J$39=\"\",\"\",Worksheet!$J$39)","v":""},{"$f":"IF( Worksheet!$B$6=\"\",\"\", Worksheet!$B$6)","v":"Tex-117-E"},{"$f":"IF(Worksheet!$B$39=\"\",\"\",Worksheet!$B$39)","v":"Vol. of Mold (indivdual) (in^3/in):"},{"$f":"IF(Worksheet!$J$33=\"\",\"\",Worksheet!$J$33)","v":7}]
[652,{"$f":"IF(Worksheet!$K$39=\"\",\"\",Worksheet!$K$39)","v":""},{"$f":"IF( Worksheet!$B$6=\"\",\"\", Worksheet!$B$6)","v":"Tex-117-E"},{"$f":"IF(Worksheet!$B$39=\"\",\"\",Worksheet!$B$39)","v":"Vol. of Mold (indivdual) (in^3/in):"},{"$f":"IF(Worksheet!$K$33=\"\",\"\",Worksheet!$K$33)","v":8}]
[653,{"$f":"IF(Worksheet!$L$39=\"\",\"\",Worksheet!$L$39)","v":""},{"$f":"IF( Worksheet!$B$6=\"\",\"\", Worksheet!$B$6)","v":"Tex-117-E"},{"$f":"IF(Worksheet!$B$39=\"\",\"\",Worksheet!$B$39)","v":"Vol. of Mold (indivdual) (in^3/in):"},{"$f":"IF(Worksheet!$L$33=\"\",\"\",Worksheet!$L$33)","v":9}]
[654,{"$f":"IF(Worksheet!$D$40=\"\",\"\",Worksheet!$D$40)","v":""},{"$f":"IF( Worksheet!$B$6=\"\",\"\", Worksheet!$B$6)","v":"Tex-117-E"},{"$f":"IF(Worksheet!$B$40=\"\",\"\",Worksheet!$B$40)","v":"Wet Mass Specimen, (lb):"},{"$f":"IF(Worksheet!$D$33=\"\",\"\",Worksheet!$D$33)","v":1}]
[655,{"$f":"IF(Worksheet!$E$40=\"\",\"\",Worksheet!$E$40)","v":""},{"$f":"IF( Worksheet!$B$6=\"\",\"\", Worksheet!$B$6)","v":"Tex-117-E"},{"$f":"IF(Worksheet!$B$40=\"\",\"\",Worksheet!$B$40)","v":"Wet Mass Specimen, (lb):"},{"$f":"IF(Worksheet!$E$33=\"\",\"\",Worksheet!$E$33)","v":2}]
[656,{"$f":"IF(Worksheet!$F$40=\"\",\"\",Worksheet!$F$40)","v":""},{"$f":"IF( Worksheet!$B$6=\"\",\"\", Worksheet!$B$6)","v":"Tex-117-E"},{"$f":"IF(Worksheet!$B$40=\"\",\"\",Worksheet!$B$40)","v":"Wet Mass Specimen, (lb):"},{"$f":"IF(Worksheet!$F$33=\"\",\"\",Worksheet!$F$33)","v":3}]
[657,{"$f":"IF(Worksheet!$G$40=\"\",\"\",Worksheet!$G$40)","v":""},{"$f":"IF( Worksheet!$B$6=\"\",\"\", Worksheet!$B$6)","v":"Tex-117-E"},{"$f":"IF(Worksheet!$B$40=\"\",\"\",Worksheet!$B$40)","v":"Wet Mass Specimen, (lb):"},{"$f":"IF(Worksheet!$G$33=\"\",\"\",Worksheet!$G$33)","v":4}]
[658,{"$f":"IF(Worksheet!$H$40=\"\",\"\",Worksheet!$H$40)","v":""},{"$f":"IF( Worksheet!$B$6=\"\",\"\", Worksheet!$B$6)","v":"Tex-117-E"},{"$f":"IF(Worksheet!$B$40=\"\",\"\",Worksheet!$B$40)","v":"Wet Mass Specimen, (lb):"},{"$f":"IF(Worksheet!$H$33=\"\",\"\",Worksheet!$H$33)","v":5}]
[659,{"$f":"IF(Worksheet!$I$40=\"\",\"\",Worksheet!$I$40)","v":""},{"$f":"IF( Worksheet!$B$6=\"\",\"\", Worksheet!$B$6)","v":"Tex-117-E"},{"$f":"IF(Worksheet!$B$40=\"\",\"\",Worksheet!$B$40)","v":"Wet Mass Specimen, (lb):"},{"$f":"IF(Worksheet!$I$33=\"\",\"\",Worksheet!$I$33)","v":6}]
[660,{"$f":"IF(Worksheet!$J$40=\"\",\"\",Worksheet!$J$40)","v":""},{"$f":"IF( Worksheet!$B$6=\"\",\"\", Worksheet!$B$6)","v":"Tex-117-E"},{"$f":"IF(Worksheet!$B$40=\"\",\"\",Worksheet!$B$40)","v":"Wet Mass Specimen, (lb):"},{"$f":"IF(Worksheet!$J$33=\"\",\"\",Worksheet!$J$33)","v":7}]
[661,{"$f":"IF(Worksheet!$K$40=\"\",\"\",Worksheet!$K$40)","v":""},{"$f":"IF( Worksheet!$B$6=\"\",\"\", Worksheet!$B$6)","v":"Tex-117-E"},{"$f":"IF(Worksheet!$B$40=\"\",\"\",Worksheet!$B$40)","v":"Wet Mass Specimen, (lb):"},{"$f":"IF(Worksheet!$K$33=\"\",\"\",Worksheet!$K$33)","v":8}]
[662,{"$f":"IF(Worksheet!$L$40=\"\",\"\",Worksheet!$L$40)","v":""},{"$f":"IF( Worksheet!$B$6=\"\",\"\", Worksheet!$B$6)","v":"Tex-117-E"},{"$f":"IF(Worksheet!$B$40=\"\",\"\",Worksheet!$B$40)","v":"Wet Mass Specimen, (lb):"},{"$f":"IF(Worksheet!$L$33=\"\",\"\",Worksheet!$L$33)","v":9}]
[663,{"$f":"IF(Worksheet!$D$41=\"\",\"\",Worksheet!$D$41)","v":""},{"$f":"IF( Worksheet!$B$6=\"\",\"\", Worksheet!$B$6)","v":"Tex-117-E"},{"$f":"IF(Worksheet!$B$41=\"\",\"\",Worksheet!$B$41)","v":"Initial Height of Specimen, in.:"},{"$f":"IF(Worksheet!$D$33=\"\",\"\",Worksheet!$D$33)","v":1}]
[664,{"$f":"IF(Worksheet!$E$41=\"\",\"\",Worksheet!$E$41)","v":""},{"$f":"IF( Worksheet!$B$6=\"\",\"\", Worksheet!$B$6)","v":"Tex-117-E"},{"$f":"IF(Worksheet!$B$41=\"\",\"\",Worksheet!$B$41)","v":"Initial Height of Specimen, in.:"},{"$f":"IF(Worksheet!$E$33=\"\",\"\",Worksheet!$E$33)","v":2}]
[665,{"$f":"IF(Worksheet!$F$41=\"\",\"\",Worksheet!$F$41)","v":""},{"$f":"IF( Worksheet!$B$6=\"\",\"\", Worksheet!$B$6)","v":"Tex-117-E"},{"$f":"IF(Worksheet!$B$41=\"\",\"\",Worksheet!$B$41)","v":"Initial Height of Specimen, in.:"},{"$f":"IF(Worksheet!$F$33=\"\",\"\",Worksheet!$F$33)","v":3}]
[666,{"$f":"IF(Worksheet!$G$41=\"\",\"\",Worksheet!$G$41)","v":""},{"$f":"IF( Worksheet!$B$6=\"\",\"\", Worksheet!$B$6)","v":"Tex-117-E"},{"$f":"IF(Worksheet!$B$41=\"\",\"\",Worksheet!$B$41)","v":"Initial Height of Specimen, in.:"},{"$f":"IF(Worksheet!$G$33=\"\",\"\",Worksheet!$G$33)","v":4}]
[667,{"$f":"IF(Worksheet!$H$41=\"\",\"\",Worksheet!$H$41)","v":""},{"$f":"IF( Worksheet!$B$6=\"\",\"\", Worksheet!$B$6)","v":"Tex-117-E"},{"$f":"IF(Worksheet!$B$41=\"\",\"\",Worksheet!$B$41)","v":"Initial Height of Specimen, in.:"},{"$f":"IF(Worksheet!$H$33=\"\",\"\",Worksheet!$H$33)","v":5}]
[668,{"$f":"IF(Worksheet!$I$41=\"\",\"\",Worksheet!$I$41)","v":""},{"$f":"IF( Worksheet!$B$6=\"\",\"\", Worksheet!$B$6)","v":"Tex-117-E"},{"$f":"IF(Worksheet!$B$41=\"\",\"\",Worksheet!$B$41)","v":"Initial Height of Specimen, in.:"},{"$f":"IF(Worksheet!$I$33=\"\",\"\",Worksheet!$I$33)","v":6}]
[669,{"$f":"IF(Worksheet!$J$41=\"\",\"\",Worksheet!$J$41)","v":""},{"$f":"IF( Worksheet!$B$6=\"\",\"\", Worksheet!$B$6)","v":"Tex-117-E"},{"$f":"IF(Worksheet!$B$41=\"\",\"\",Worksheet!$B$41)","v":"Initial Height of Specimen, in.:"},{"$f":"IF(Worksheet!$J$33=\"\",\"\",Worksheet!$J$33)","v":7}]
[670,{"$f":"IF(Worksheet!$K$41=\"\",\"\",Worksheet!$K$41)","v":""},{"$f":"IF( Worksheet!$B$6=\"\",\"\", Worksheet!$B$6)","v":"Tex-117-E"},{"$f":"IF(Worksheet!$B$41=\"\",\"\",Worksheet!$B$41)","v":"Initial Height of Specimen, in.:"},{"$f":"IF(Worksheet!$K$33=\"\",\"\",Worksheet!$K$33)","v":8}]
[671,{"$f":"IF(Worksheet!$L$41=\"\",\"\",Worksheet!$L$41)","v":""},{"$f":"IF( Worksheet!$B$6=\"\",\"\", Worksheet!$B$6)","v":"Tex-117-E"},{"$f":"IF(Worksheet!$B$41=\"\",\"\",Worksheet!$B$41)","v":"Initial Height of Specimen, in.:"},{"$f":"IF(Worksheet!$L$33=\"\",\"\",Worksheet!$L$33)","v":9}]
[672,{"$f":"IF(Worksheet!$D$47=\"\",\"\",Worksheet!$D$47)","v":""},{"$f":"IF( Worksheet!$B$6=\"\",\"\", Worksheet!$B$6)","v":"Tex-117-E"},{"$f":"IF(Worksheet!$B$47=\"\",\"\",Worksheet!$B$47)","v":"Circumference, in. (auto):"},{"$f":"IF(Worksheet!$D$33=\"\",\"\",Worksheet!$D$33)","v":1}]
[673,{"$f":"IF(Worksheet!$E$47=\"\",\"\",Worksheet!$E$47)","v":""},{"$f":"IF( Worksheet!$B$6=\"\",\"\", Worksheet!$B$6)","v":"Tex-117-E"},{"$f":"IF(Worksheet!$B$47=\"\",\"\",Worksheet!$B$47)","v":"Circumference, in. (auto):"},{"$f":"IF(Worksheet!$E$33=\"\",\"\",Worksheet!$E$33)","v":2}]
[674,{"$f":"IF(Worksheet!$F$47=\"\",\"\",Worksheet!$F$47)","v":""},{"$f":"IF( Worksheet!$B$6=\"\",\"\", Worksheet!$B$6)","v":"Tex-117-E"},{"$f":"IF(Worksheet!$B$47=\"\",\"\",Worksheet!$B$47)","v":"Circumference, in. (auto):"},{"$f":"IF(Worksheet!$F$33=\"\",\"\",Worksheet!$F$33)","v":3}]
[675,{"$f":"IF(Worksheet!$G$47=\"\",\"\",Worksheet!$G$47)","v":""},{"$f":"IF( Worksheet!$B$6=\"\",\"\", Worksheet!$B$6)","v":"Tex-117-E"},{"$f":"IF(Worksheet!$B$47=\"\",\"\",Worksheet!$B$47)","v":"Circumference, in. (auto):"},{"$f":"IF(Worksheet!$G$33=\"\",\"\",Worksheet!$G$33)","v":4}]
[676,{"$f":"IF(Worksheet!$H$47=\"\",\"\",Worksheet!$H$47)","v":""},{"$f":"IF( Worksheet!$B$6=\"\",\"\", Worksheet!$B$6)","v":"Tex-117-E"},{"$f":"IF(Worksheet!$B$47=\"\",\"\",Worksheet!$B$47)","v":"Circumference, in. (auto):"},{"$f":"IF(Worksheet!$H$33=\"\",\"\",Worksheet!$H$33)","v":5}]
[677,{"$f":"IF(Worksheet!$I$47=\"\",\"\",Worksheet!$I$47)","v":""},{"$f":"IF( Worksheet!$B$6=\"\",\"\", Worksheet!$B$6)","v":"Tex-117-E"},{"$f":"IF(Worksheet!$B$47=\"\",\"\",Worksheet!$B$47)","v":"Circumference, in. (auto):"},{"$f":"IF(Worksheet!$I$33=\"\",\"\",Worksheet!$I$33)","v":6}]
[678,{"$f":"IF(Worksheet!$J$47=\"\",\"\",Worksheet!$J$47)","v":""},{"$f":"IF( Worksheet!$B$6=\"\",\"\", Worksheet!$B$6)","v":"Tex-117-E"},{"$f":"IF(Worksheet!$B$47=\"\",\"\",Worksheet!$B$47)","v":"Circumference, in. (auto):"},{"$f":"IF(Worksheet!$J$33=\"\",\"\",Worksheet!$J$33)","v":7}]
[679,{"$f":"IF(Worksheet!$K$47=\"\",\"\",Worksheet!$K$47)","v":""},{"$f":"IF( Worksheet!$B$6=\"\",\"\", Worksheet!$B$6)","v":"Tex-117-E"},{"$f":"IF(Worksheet!$B$47=\"\",\"\",Worksheet!$B$47)","v":"Circumference, in. (auto):"},{"$f":"IF(Worksheet!$K$33=\"\",\"\",Worksheet!$K$33)","v":8}]
[680,{"$f":"IF(Worksheet!$L$47=\"\",\"\",Worksheet!$L$47)","v":""},{"$f":"IF( Worksheet!$B$6=\"\",\"\", Worksheet!$B$6)","v":"Tex-117-E"},{"$f":"IF(Worksheet!$B$47=\"\",\"\",Worksheet!$B$47)","v":"Circumference, in. (auto):"},{"$f":"IF(Worksheet!$L$33=\"\",\"\",Worksheet!$L$33)","v":9}]
[681,{"$f":"IF(Worksheet!$D$52=\"\",\"\",Worksheet!$D$52)","v":""},{"$f":"IF( Worksheet!$B$6=\"\",\"\", Worksheet!$B$6)","v":"Tex-117-E"},{"$f":"IF(Worksheet!$B$52=\"\",\"\",Worksheet!$B$52)","v":"Wet Mass of Pan & Specimen, (lb)"},{"$f":"IF(Worksheet!$D$33=\"\",\"\",Worksheet!$D$33)","v":1}]
[682,{"$f":"IF(Worksheet!$E$52=\"\",\"\",Worksheet!$E$52)","v":""},{"$f":"IF( Worksheet!$B$6=\"\",\"\", Worksheet!$B$6)","v":"Tex-117-E"},{"$f":"IF(Worksheet!$B$52=\"\",\"\",Worksheet!$B$52)","v":"Wet Mass of Pan & Specimen, (lb)"},{"$f":"IF(Worksheet!$E$33=\"\",\"\",Worksheet!$E$33)","v":2}]
[683,{"$f":"IF(Worksheet!$F$52=\"\",\"\",Worksheet!$F$52)","v":""},{"$f":"IF( Worksheet!$B$6=\"\",\"\", Worksheet!$B$6)","v":"Tex-117-E"},{"$f":"IF(Worksheet!$B$52=\"\",\"\",Worksheet!$B$52)","v":"Wet Mass of Pan & Specimen, (lb)"},{"$f":"IF(Worksheet!$F$33=\"\",\"\",Worksheet!$F$33)","v":3}]
[684,{"$f":"IF(Worksheet!$G$52=\"\",\"\",Worksheet!$G$52)","v":""},{"$f":"IF( Worksheet!$B$6=\"\",\"\", Worksheet!$B$6)","v":"Tex-117-E"},{"$f":"IF(Worksheet!$B$52=\"\",\"\",Worksheet!$B$52)","v":"Wet Mass of Pan & Specimen, (lb)"},{"$f":"IF(Worksheet!$G$33=\"\",\"\",Worksheet!$G$33)","v":4}]
[685,{"$f":"IF(Worksheet!$H$52=\"\",\"\",Worksheet!$H$52)","v":""},{"$f":"IF( Worksheet!$B$6=\"\",\"\", Worksheet!$B$6)","v":"Tex-117-E"},{"$f":"IF(Worksheet!$B$52=\"\",\"\",Worksheet!$B$52)","v":"Wet Mass of Pan & Specimen, (lb)"},{"$f":"IF(Worksheet!$H$33=\"\",\"\",Worksheet!$H$33)","v":5}]
[686,{"$f":"IF(Worksheet!$I$52=\"\",\"\",Worksheet!$I$52)","v":""},{"$f":"IF( Worksheet!$B$6=\"\",\"\", Worksheet!$B$6)","v":"Tex-117-E"},{"$f":"IF(Worksheet!$B$52=\"\",\"\",Worksheet!$B$52)","v":"Wet Mass of Pan & Specimen, (lb)"},{"$f":"IF(Worksheet!$I$33=\"\",\"\",Worksheet!$I$33)","v":6}]
[687,{"$f":"IF(Worksheet!$J$52=\"\",\"\",Worksheet!$J$52)","v":""},{"$f":"IF( Worksheet!$B$6=\"\",\"\", Worksheet!$B$6)","v":"Tex-117-E"},{"$f":"IF(Worksheet!$B$52=\"\",\"\",Worksheet!$B$52)","v":"Wet Mass of Pan & Specimen, (lb)"},{"$f":"IF(Worksheet!$J$33=\"\",\"\",Worksheet!$J$33)","v":7}]
[688,{"$f":"IF(Worksheet!$K$52=\"\",\"\",Worksheet!$K$52)","v":""},{"$f":"IF( Worksheet!$B$6=\"\",\"\", Worksheet!$B$6)","v":"Tex-117-E"},{"$f":"IF(Worksheet!$B$52=\"\",\"\",Worksheet!$B$52)","v":"Wet Mass of Pan & Specimen, (lb)"},{"$f":"IF(Worksheet!$K$33=\"\",\"\",Worksheet!$K$33)","v":8}]
[689,{"$f":"IF(Worksheet!$L$52=\"\",\"\",Worksheet!$L$52)","v":""},{"$f":"IF( Worksheet!$B$6=\"\",\"\", Worksheet!$B$6)","v":"Tex-117-E"},{"$f":"IF(Worksheet!$B$52=\"\",\"\",Worksheet!$B$52)","v":"Wet Mass of Pan & Specimen, (lb)"},{"$f":"IF(Worksheet!$L$33=\"\",\"\",Worksheet!$L$33)","v":9}]
[690,{"$f":"IF(Worksheet!$D$53=\"\",\"\",Worksheet!$D$53)","v":""},{"$f":"IF( Worksheet!$B$6=\"\",\"\", Worksheet!$B$6)","v":"Tex-117-E"},{"$f":"IF(Worksheet!$B$53=\"\",\"\",Worksheet!$B$53)","v":"Dry Mass of Pan & Specimen, (lb):"},{"$f":"IF(Worksheet!$D$33=\"\",\"\",Worksheet!$D$33)","v":1}]
[691,{"$f":"IF(Worksheet!$E$53=\"\",\"\",Worksheet!$E$53)","v":""},{"$f":"IF( Worksheet!$B$6=\"\",\"\", Worksheet!$B$6)","v":"Tex-117-E"},{"$f":"IF(Worksheet!$B$53=\"\",\"\",Worksheet!$B$53)","v":"Dry Mass of Pan & Specimen, (lb):"},{"$f":"IF(Worksheet!$E$33=\"\",\"\",Worksheet!$E$33)","v":2}]
[692,{"$f":"IF(Worksheet!$F$53=\"\",\"\",Worksheet!$F$53)","v":""},{"$f":"IF( Worksheet!$B$6=\"\",\"\", Worksheet!$B$6)","v":"Tex-117-E"},{"$f":"IF(Worksheet!$B$53=\"\",\"\",Worksheet!$B$53)","v":"Dry Mass of Pan & Specimen, (lb):"},{"$f":"IF(Worksheet!$F$33=\"\",\"\",Worksheet!$F$33)","v":3}]
[693,{"$f":"IF(Worksheet!$G$53=\"\",\"\",Worksheet!$G$53)","v":""},{"$f":"IF( Worksheet!$B$6=\"\",\"\", Worksheet!$B$6)","v":"Tex-117-E"},{"$f":"IF(Worksheet!$B$53=\"\",\"\",Worksheet!$B$53)","v":"Dry Mass of Pan & Specimen, (lb):"},{"$f":"IF(Worksheet!$G$33=\"\",\"\",Worksheet!$G$33)","v":4}]
[694,{"$f":"IF(Worksheet!$H$53=\"\",\"\",Worksheet!$H$53)","v":""},{"$f":"IF( Worksheet!$B$6=\"\",\"\", Worksheet!$B$6)","v":"Tex-117-E"},{"$f":"IF(Worksheet!$B$53=\"\",\"\",Worksheet!$B$53)","v":"Dry Mass of Pan & Specimen, (lb):"},{"$f":"IF(Worksheet!$H$33=\"\",\"\",Worksheet!$H$33)","v":5}]
[695,{"$f":"IF(Worksheet!$I$53=\"\",\"\",Worksheet!$I$53)","v":""},{"$f":"IF( Worksheet!$B$6=\"\",\"\", Worksheet!$B$6)","v":"Tex-117-E"},{"$f":"IF(Worksheet!$B$53=\"\",\"\",Worksheet!$B$53)","v":"Dry Mass of Pan & Specimen, (lb):"},{"$f":"IF(Worksheet!$I$33=\"\",\"\",Worksheet!$I$33)","v":6}]
[696,{"$f":"IF(Worksheet!$J$53=\"\",\"\",Worksheet!$J$53)","v":""},{"$f":"IF( Worksheet!$B$6=\"\",\"\", Worksheet!$B$6)","v":"Tex-117-E"},{"$f":"IF(Worksheet!$B$53=\"\",\"\",Worksheet!$B$53)","v":"Dry Mass of Pan & Specimen, (lb):"},{"$f":"IF(Worksheet!$J$33=\"\",\"\",Worksheet!$J$33)","v":7}]
[697,{"$f":"IF(Worksheet!$K$53=\"\",\"\",Worksheet!$K$53)","v":""},{"$f":"IF( Worksheet!$B$6=\"\",\"\", Worksheet!$B$6)","v":"Tex-117-E"},{"$f":"IF(Worksheet!$B$53=\"\",\"\",Worksheet!$B$53)","v":"Dry Mass of Pan & Specimen, (lb):"},{"$f":"IF(Worksheet!$K$33=\"\",\"\",Worksheet!$K$33)","v":8}]
[698,{"$f":"IF(Worksheet!$L$53=\"\",\"\",Worksheet!$L$53)","v":""},{"$f":"IF( Worksheet!$B$6=\"\",\"\", Worksheet!$B$6)","v":"Tex-117-E"},{"$f":"IF(Worksheet!$B$53=\"\",\"\",Worksheet!$B$53)","v":"Dry Mass of Pan & Specimen, (lb):"},{"$f":"IF(Worksheet!$L$33=\"\",\"\",Worksheet!$L$33)","v":9}]
[699,{"$f":"IF(Worksheet!$D$54=\"\",\"\",Worksheet!$D$54)","v":""},{"$f":"IF( Worksheet!$B$6=\"\",\"\", Worksheet!$B$6)","v":"Tex-117-E"},{"$f":"IF(Worksheet!$B$54=\"\",\"\",Worksheet!$B$54)","v":"Mass of Pan, (lb):"},{"$f":"IF(Worksheet!$D$33=\"\",\"\",Worksheet!$D$33)","v":1}]
[700,{"$f":"IF(Worksheet!$E$54=\"\",\"\",Worksheet!$E$54)","v":""},{"$f":"IF( Worksheet!$B$6=\"\",\"\", Worksheet!$B$6)","v":"Tex-117-E"},{"$f":"IF(Worksheet!$B$54=\"\",\"\",Worksheet!$B$54)","v":"Mass of Pan, (lb):"},{"$f":"IF(Worksheet!$E$33=\"\",\"\",Worksheet!$E$33)","v":2}]
[701,{"$f":"IF(Worksheet!$F$54=\"\",\"\",Worksheet!$F$54)","v":""},{"$f":"IF( Worksheet!$B$6=\"\",\"\", Worksheet!$B$6)","v":"Tex-117-E"},{"$f":"IF(Worksheet!$B$54=\"\",\"\",Worksheet!$B$54)","v":"Mass of Pan, (lb):"},{"$f":"IF(Worksheet!$F$33=\"\",\"\",Worksheet!$F$33)","v":3}]
[702,{"$f":"IF(Worksheet!$G$54=\"\",\"\",Worksheet!$G$54)","v":""},{"$f":"IF( Worksheet!$B$6=\"\",\"\", Worksheet!$B$6)","v":"Tex-117-E"},{"$f":"IF(Worksheet!$B$54=\"\",\"\",Worksheet!$B$54)","v":"Mass of Pan, (lb):"},{"$f":"IF(Worksheet!$G$33=\"\",\"\",Worksheet!$G$33)","v":4}]
[703,{"$f":"IF(Worksheet!$H$54=\"\",\"\",Worksheet!$H$54)","v":""},{"$f":"IF( Worksheet!$B$6=\"\",\"\", Worksheet!$B$6)","v":"Tex-117-E"},{"$f":"IF(Worksheet!$B$54=\"\",\"\",Worksheet!$B$54)","v":"Mass of Pan, (lb):"},{"$f":"IF(Worksheet!$H$33=\"\",\"\",Worksheet!$H$33)","v":5}]
[704,{"$f":"IF(Worksheet!$I$54=\"\",\"\",Worksheet!$I$54)","v":""},{"$f":"IF( Worksheet!$B$6=\"\",\"\", Worksheet!$B$6)","v":"Tex-117-E"},{"$f":"IF(Worksheet!$B$54=\"\",\"\",Worksheet!$B$54)","v":"Mass of Pan, (lb):"},{"$f":"IF(Worksheet!$I$33=\"\",\"\",Worksheet!$I$33)","v":6}]
[705,{"$f":"IF(Worksheet!$J$54=\"\",\"\",Worksheet!$J$54)","v":""},{"$f":"IF( Worksheet!$B$6=\"\",\"\", Worksheet!$B$6)","v":"Tex-117-E"},{"$f":"IF(Worksheet!$B$54=\"\",\"\",Worksheet!$B$54)","v":"Mass of Pan, (lb):"},{"$f":"IF(Worksheet!$J$33=\"\",\"\",Worksheet!$J$33)","v":7}]
[706,{"$f":"IF(Worksheet!$K$54=\"\",\"\",Worksheet!$K$54)","v":""},{"$f":"IF( Worksheet!$B$6=\"\",\"\", Worksheet!$B$6)","v":"Tex-117-E"},{"$f":"IF(Worksheet!$B$54=\"\",\"\",Worksheet!$B$54)","v":"Mass of Pan, (lb):"},{"$f":"IF(Worksheet!$K$33=\"\",\"\",Worksheet!$K$33)","v":8}]
[707,{"$f":"IF(Worksheet!$L$54=\"\",\"\",Worksheet!$L$54)","v":""},{"$f":"IF( Worksheet!$B$6=\"\",\"\", Worksheet!$B$6)","v":"Tex-117-E"},{"$f":"IF(Worksheet!$B$54=\"\",\"\",Worksheet!$B$54)","v":"Mass of Pan, (lb):"},{"$f":"IF(Worksheet!$L$33=\"\",\"\",Worksheet!$L$33)","v":9}]
[708,{"$f":"IF(Worksheet!$D$55=\"\",\"\",Worksheet!$D$55)","v":""},{"$f":"IF( Worksheet!$B$6=\"\",\"\", Worksheet!$B$6)","v":"Tex-117-E"},{"$f":"IF(Worksheet!$B$55=\"\",\"\",Worksheet!$B$55)","v":"Dry Mass of Material, (lb):"},{"$f":"IF(Worksheet!$D$33=\"\",\"\",Worksheet!$D$33)","v":1}]
[709,{"$f":"IF(Worksheet!$E$55=\"\",\"\",Worksheet!$E$55)","v":""},{"$f":"IF( Worksheet!$B$6=\"\",\"\", Worksheet!$B$6)","v":"Tex-117-E"},{"$f":"IF(Worksheet!$B$55=\"\",\"\",Worksheet!$B$55)","v":"Dry Mass of Material, (lb):"},{"$f":"IF(Worksheet!$E$33=\"\",\"\",Worksheet!$E$33)","v":2}]
[710,{"$f":"IF(Worksheet!$F$55=\"\",\"\",Worksheet!$F$55)","v":""},{"$f":"IF( Worksheet!$B$6=\"\",\"\", Worksheet!$B$6)","v":"Tex-117-E"},{"$f":"IF(Worksheet!$B$55=\"\",\"\",Worksheet!$B$55)","v":"Dry Mass of Material, (lb):"},{"$f":"IF(Worksheet!$F$33=\"\",\"\",Worksheet!$F$33)","v":3}]
[711,{"$f":"IF(Worksheet!$G$55=\"\",\"\",Worksheet!$G$55)","v":""},{"$f":"IF( Worksheet!$B$6=\"\",\"\", Worksheet!$B$6)","v":"Tex-117-E"},{"$f":"IF(Worksheet!$B$55=\"\",\"\",Worksheet!$B$55)","v":"Dry Mass of Material, (lb):"},{"$f":"IF(Worksheet!$G$33=\"\",\"\",Worksheet!$G$33)","v":4}]
[712,{"$f":"IF(Worksheet!$H$55=\"\",\"\",Worksheet!$H$55)","v":""},{"$f":"IF( Worksheet!$B$6=\"\",\"\", Worksheet!$B$6)","v":"Tex-117-E"},{"$f":"IF(Worksheet!$B$55=\"\",\"\",Worksheet!$B$55)","v":"Dry Mass of Material, (lb):"},{"$f":"IF(Worksheet!$H$33=\"\",\"\",Worksheet!$H$33)","v":5}]
[713,{"$f":"IF(Worksheet!$I$55=\"\",\"\",Worksheet!$I$55)","v":""},{"$f":"IF( Worksheet!$B$6=\"\",\"\", Worksheet!$B$6)","v":"Tex-117-E"},{"$f":"IF(Worksheet!$B$55=\"\",\"\",Worksheet!$B$55)","v":"Dry Mass of Material, (lb):"},{"$f":"IF(Worksheet!$I$33=\"\",\"\",Worksheet!$I$33)","v":6}]
[714,{"$f":"IF(Worksheet!$J$55=\"\",\"\",Worksheet!$J$55)","v":""},{"$f":"IF( Worksheet!$B$6=\"\",\"\", Worksheet!$B$6)","v":"Tex-117-E"},{"$f":"IF(Worksheet!$B$55=\"\",\"\",Worksheet!$B$55)","v":"Dry Mass of Material, (lb):"},{"$f":"IF(Worksheet!$J$33=\"\",\"\",Worksheet!$J$33)","v":7}]
[715,{"$f":"IF(Worksheet!$K$55=\"\",\"\",Worksheet!$K$55)","v":""},{"$f":"IF( Worksheet!$B$6=\"\",\"\", Worksheet!$B$6)","v":"Tex-117-E"},{"$f":"IF(Worksheet!$B$55=\"\",\"\",Worksheet!$B$55)","v":"Dry Mass of Material, (lb):"},{"$f":"IF(Worksheet!$K$33=\"\",\"\",Worksheet!$K$33)","v":8}]
[716,{"$f":"IF(Worksheet!$L$55=\"\",\"\",Worksheet!$L$55)","v":""},{"$f":"IF( Worksheet!$B$6=\"\",\"\", Worksheet!$B$6)","v":"Tex-117-E"},{"$f":"IF(Worksheet!$B$55=\"\",\"\",Worksheet!$B$55)","v":"Dry Mass of Material, (lb):"},{"$f":"IF(Worksheet!$L$33=\"\",\"\",Worksheet!$L$33)","v":9}]
[717,{"$f":"IF(Worksheet!$D$56=\"\",\"\",Worksheet!$D$56)","v":""},{"$f":"IF( Worksheet!$B$6=\"\",\"\", Worksheet!$B$6)","v":"Tex-117-E"},{"$f":"IF(Worksheet!$B$56=\"\",\"\",Worksheet!$B$56)","v":"Mass of Water, (lb):"},{"$f":"IF(Worksheet!$D$33=\"\",\"\",Worksheet!$D$33)","v":1}]
[718,{"$f":"IF(Worksheet!$E$56=\"\",\"\",Worksheet!$E$56)","v":""},{"$f":"IF( Worksheet!$B$6=\"\",\"\", Worksheet!$B$6)","v":"Tex-117-E"},{"$f":"IF(Worksheet!$B$56=\"\",\"\",Worksheet!$B$56)","v":"Mass of Water, (lb):"},{"$f":"IF(Worksheet!$E$33=\"\",\"\",Worksheet!$E$33)","v":2}]
[719,{"$f":"IF(Worksheet!$F$56=\"\",\"\",Worksheet!$F$56)","v":""},{"$f":"IF( Worksheet!$B$6=\"\",\"\", Worksheet!$B$6)","v":"Tex-117-E"},{"$f":"IF(Worksheet!$B$56=\"\",\"\",Worksheet!$B$56)","v":"Mass of Water, (lb):"},{"$f":"IF(Worksheet!$F$33=\"\",\"\",Worksheet!$F$33)","v":3}]
[720,{"$f":"IF(Worksheet!$G$56=\"\",\"\",Worksheet!$G$56)","v":""},{"$f":"IF( Worksheet!$B$6=\"\",\"\", Worksheet!$B$6)","v":"Tex-117-E"},{"$f":"IF(Worksheet!$B$56=\"\",\"\",Worksheet!$B$56)","v":"Mass of Water, (lb):"},{"$f":"IF(Worksheet!$G$33=\"\",\"\",Worksheet!$G$33)","v":4}]
[721,{"$f":"IF(Worksheet!$H$56=\"\",\"\",Worksheet!$H$56)","v":""},{"$f":"IF( Worksheet!$B$6=\"\",\"\", Worksheet!$B$6)","v":"Tex-117-E"},{"$f":"IF(Worksheet!$B$56=\"\",\"\",Worksheet!$B$56)","v":"Mass of Water, (lb):"},{"$f":"IF(Worksheet!$H$33=\"\",\"\",Worksheet!$H$33)","v":5}]
[722,{"$f":"IF(Worksheet!$I$56=\"\",\"\",Worksheet!$I$56)","v":""},{"$f":"IF( Worksheet!$B$6=\"\",\"\", Worksheet!$B$6)","v":"Tex-117-E"},{"$f":"IF(Worksheet!$B$56=\"\",\"\",Worksheet!$B$56)","v":"Mass of Water, (lb):"},{"$f":"IF(Worksheet!$I$33=\"\",\"\",Worksheet!$I$33)","v":6}]
[723,{"$f":"IF(Worksheet!$J$56=\"\",\"\",Worksheet!$J$56)","v":""},{"$f":"IF( Worksheet!$B$6=\"\",\"\", Worksheet!$B$6)","v":"Tex-117-E"},{"$f":"IF(Worksheet!$B$56=\"\",\"\",Worksheet!$B$56)","v":"Mass of Water, (lb):"},{"$f":"IF(Worksheet!$J$33=\"\",\"\",Worksheet!$J$33)","v":7}]
[724,{"$f":"IF(Worksheet!$K$56=\"\",\"\",Worksheet!$K$56)","v":""},{"$f":"IF( Worksheet!$B$6=\"\",\"\", Worksheet!$B$6)","v":"Tex-117-E"},{"$f":"IF(Worksheet!$B$56=\"\",\"\",Worksheet!$B$56)","v":"Mass of Water, (lb):"},{"$f":"IF(Worksheet!$K$33=\"\",\"\",Worksheet!$K$33)","v":8}]
[725,{"$f":"IF(Worksheet!$L$56=\"\",\"\",Worksheet!$L$56)","v":""},{"$f":"IF( Worksheet!$B$6=\"\",\"\", Worksheet!$B$6)","v":"Tex-117-E"},{"$f":"IF(Worksheet!$B$56=\"\",\"\",Worksheet!$B$56)","v":"Mass of Water, (lb):"},{"$f":"IF(Worksheet!$L$33=\"\",\"\",Worksheet!$L$33)","v":9}]
[726,{"$f":"IF(Worksheet!$D$57=\"\",\"\",Worksheet!$D$57)","v":""},{"$f":"IF( Worksheet!$B$6=\"\",\"\", Worksheet!$B$6)","v":"Tex-117-E"},{"$f":"IF(Worksheet!$B$57=\"\",\"\",Worksheet!$B$57)","v":"Moisture Content,  (%):"},{"$f":"IF(Worksheet!$D$33=\"\",\"\",Worksheet!$D$33)","v":1}]
[727,{"$f":"IF(Worksheet!$E$57=\"\",\"\",Worksheet!$E$57)","v":""},{"$f":"IF( Worksheet!$B$6=\"\",\"\", Worksheet!$B$6)","v":"Tex-117-E"},{"$f":"IF(Worksheet!$B$57=\"\",\"\",Worksheet!$B$57)","v":"Moisture Content,  (%):"},{"$f":"IF(Worksheet!$E$33=\"\",\"\",Worksheet!$E$33)","v":2}]
[728,{"$f":"IF(Worksheet!$F$57=\"\",\"\",Worksheet!$F$57)","v":""},{"$f":"IF( Worksheet!$B$6=\"\",\"\", Worksheet!$B$6)","v":"Tex-117-E"},{"$f":"IF(Worksheet!$B$57=\"\",\"\",Worksheet!$B$57)","v":"Moisture Content,  (%):"},{"$f":"IF(Worksheet!$F$33=\"\",\"\",Worksheet!$F$33)","v":3}]
[729,{"$f":"IF(Worksheet!$G$57=\"\",\"\",Worksheet!$G$57)","v":""},{"$f":"IF( Worksheet!$B$6=\"\",\"\", Worksheet!$B$6)","v":"Tex-117-E"},{"$f":"IF(Worksheet!$B$57=\"\",\"\",Worksheet!$B$57)","v":"Moisture Content,  (%):"},{"$f":"IF(Worksheet!$G$33=\"\",\"\",Worksheet!$G$33)","v":4}]
[730,{"$f":"IF(Worksheet!$H$57=\"\",\"\",Worksheet!$H$57)","v":""},{"$f":"IF( Worksheet!$B$6=\"\",\"\", Worksheet!$B$6)","v":"Tex-117-E"},{"$f":"IF(Worksheet!$B$57=\"\",\"\",Worksheet!$B$57)","v":"Moisture Content,  (%):"},{"$f":"IF(Worksheet!$H$33=\"\",\"\",Worksheet!$H$33)","v":5}]
[731,{"$f":"IF(Worksheet!$I$57=\"\",\"\",Worksheet!$I$57)","v":""},{"$f":"IF( Worksheet!$B$6=\"\",\"\", Worksheet!$B$6)","v":"Tex-117-E"},{"$f":"IF(Worksheet!$B$57=\"\",\"\",Worksheet!$B$57)","v":"Moisture Content,  (%):"},{"$f":"IF(Worksheet!$I$33=\"\",\"\",Worksheet!$I$33)","v":6}]
[732,{"$f":"IF(Worksheet!$J$57=\"\",\"\",Worksheet!$J$57)","v":""},{"$f":"IF( Worksheet!$B$6=\"\",\"\", Worksheet!$B$6)","v":"Tex-117-E"},{"$f":"IF(Worksheet!$B$57=\"\",\"\",Worksheet!$B$57)","v":"Moisture Content,  (%):"},{"$f":"IF(Worksheet!$J$33=\"\",\"\",Worksheet!$J$33)","v":7}]
[733,{"$f":"IF(Worksheet!$K$57=\"\",\"\",Worksheet!$K$57)","v":""},{"$f":"IF( Worksheet!$B$6=\"\",\"\", Worksheet!$B$6)","v":"Tex-117-E"},{"$f":"IF(Worksheet!$B$57=\"\",\"\",Worksheet!$B$57)","v":"Moisture Content,  (%):"},{"$f":"IF(Worksheet!$K$33=\"\",\"\",Worksheet!$K$33)","v":8}]
[734,{"$f":"IF(Worksheet!$L$57=\"\",\"\",Worksheet!$L$57)","v":""},{"$f":"IF( Worksheet!$B$6=\"\",\"\", Worksheet!$B$6)","v":"Tex-117-E"},{"$f":"IF(Worksheet!$B$57=\"\",\"\",Worksheet!$B$57)","v":"Moisture Content,  (%):"},{"$f":"IF(Worksheet!$L$33=\"\",\"\",Worksheet!$L$33)","v":9}]
[735,{"$f":"IF(Worksheet!$D$58=\"\",\"\",Worksheet!$D$58)","v":""},{"$f":"IF( Worksheet!$B$6=\"\",\"\", Worksheet!$B$6)","v":"Tex-117-E"},{"$f":"IF(Worksheet!$B$58=\"\",\"\",Worksheet!$B$58)","v":"Wet Density, (pcf).:"},{"$f":"IF(Worksheet!$D$33=\"\",\"\",Worksheet!$D$33)","v":1}]
[736,{"$f":"IF(Worksheet!$E$58=\"\",\"\",Worksheet!$E$58)","v":""},{"$f":"IF( Worksheet!$B$6=\"\",\"\", Worksheet!$B$6)","v":"Tex-117-E"},{"$f":"IF(Worksheet!$B$58=\"\",\"\",Worksheet!$B$58)","v":"Wet Density, (pcf).:"},{"$f":"IF(Worksheet!$E$33=\"\",\"\",Worksheet!$E$33)","v":2}]
[737,{"$f":"IF(Worksheet!$F$58=\"\",\"\",Worksheet!$F$58)","v":""},{"$f":"IF( Worksheet!$B$6=\"\",\"\", Worksheet!$B$6)","v":"Tex-117-E"},{"$f":"IF(Worksheet!$B$58=\"\",\"\",Worksheet!$B$58)","v":"Wet Density, (pcf).:"},{"$f":"IF(Worksheet!$F$33=\"\",\"\",Worksheet!$F$33)","v":3}]
[738,{"$f":"IF(Worksheet!$G$58=\"\",\"\",Worksheet!$G$58)","v":""},{"$f":"IF( Worksheet!$B$6=\"\",\"\", Worksheet!$B$6)","v":"Tex-117-E"},{"$f":"IF(Worksheet!$B$58=\"\",\"\",Worksheet!$B$58)","v":"Wet Density, (pcf).:"},{"$f":"IF(Worksheet!$G$33=\"\",\"\",Worksheet!$G$33)","v":4}]
[739,{"$f":"IF(Worksheet!$H$58=\"\",\"\",Worksheet!$H$58)","v":""},{"$f":"IF( Worksheet!$B$6=\"\",\"\", Worksheet!$B$6)","v":"Tex-117-E"},{"$f":"IF(Worksheet!$B$58=\"\",\"\",Worksheet!$B$58)","v":"Wet Density, (pcf).:"},{"$f":"IF(Worksheet!$H$33=\"\",\"\",Worksheet!$H$33)","v":5}]
[740,{"$f":"IF(Worksheet!$I$58=\"\",\"\",Worksheet!$I$58)","v":""},{"$f":"IF( Worksheet!$B$6=\"\",\"\", Worksheet!$B$6)","v":"Tex-117-E"},{"$f":"IF(Worksheet!$B$58=\"\",\"\",Worksheet!$B$58)","v":"Wet Density, (pcf).:"},{"$f":"IF(Worksheet!$I$33=\"\",\"\",Worksheet!$I$33)","v":6}]
[741,{"$f":"IF(Worksheet!$J$58=\"\",\"\",Worksheet!$J$58)","v":""},{"$f":"IF( Worksheet!$B$6=\"\",\"\", Worksheet!$B$6)","v":"Tex-117-E"},{"$f":"IF(Worksheet!$B$58=\"\",\"\",Worksheet!$B$58)","v":"Wet Density, (pcf).:"},{"$f":"IF(Worksheet!$J$33=\"\",\"\",Worksheet!$J$33)","v":7}]
[742,{"$f":"IF(Worksheet!$K$58=\"\",\"\",Worksheet!$K$58)","v":""},{"$f":"IF( Worksheet!$B$6=\"\",\"\", Worksheet!$B$6)","v":"Tex-117-E"},{"$f":"IF(Worksheet!$B$58=\"\",\"\",Worksheet!$B$58)","v":"Wet Density, (pcf).:"},{"$f":"IF(Worksheet!$K$33=\"\",\"\",Worksheet!$K$33)","v":8}]
[743,{"$f":"IF(Worksheet!$L$58=\"\",\"\",Worksheet!$L$58)","v":""},{"$f":"IF( Worksheet!$B$6=\"\",\"\", Worksheet!$B$6)","v":"Tex-117-E"},{"$f":"IF(Worksheet!$B$58=\"\",\"\",Worksheet!$B$58)","v":"Wet Density, (pcf).:"},{"$f":"IF(Worksheet!$L$33=\"\",\"\",Worksheet!$L$33)","v":9}]
[744,{"$f":"IF(Worksheet!$D$59=\"\",\"\",Worksheet!$D$59)","v":""},{"$f":"IF( Worksheet!$B$6=\"\",\"\", Worksheet!$B$6)","v":"Tex-117-E"},{"$f":"IF(Worksheet!$B$59=\"\",\"\",Worksheet!$B$59)","v":"Dry Density, (pcf):"},{"$f":"IF(Worksheet!$D$33=\"\",\"\",Worksheet!$D$33)","v":1}]
[745,{"$f":"IF(Worksheet!$E$59=\"\",\"\",Worksheet!$E$59)","v":""},{"$f":"IF( Worksheet!$B$6=\"\",\"\", Worksheet!$B$6)","v":"Tex-117-E"},{"$f":"IF(Worksheet!$B$59=\"\",\"\",Worksheet!$B$59)","v":"Dry Density, (pcf):"},{"$f":"IF(Worksheet!$E$33=\"\",\"\",Worksheet!$E$33)","v":2}]
[746,{"$f":"IF(Worksheet!$F$59=\"\",\"\",Worksheet!$F$59)","v":""},{"$f":"IF( Worksheet!$B$6=\"\",\"\", Worksheet!$B$6)","v":"Tex-117-E"},{"$f":"IF(Worksheet!$B$59=\"\",\"\",Worksheet!$B$59)","v":"Dry Density, (pcf):"},{"$f":"IF(Worksheet!$F$33=\"\",\"\",Worksheet!$F$33)","v":3}]
[747,{"$f":"IF(Worksheet!$G$59=\"\",\"\",Worksheet!$G$59)","v":""},{"$f":"IF( Worksheet!$B$6=\"\",\"\", Worksheet!$B$6)","v":"Tex-117-E"},{"$f":"IF(Worksheet!$B$59=\"\",\"\",Worksheet!$B$59)","v":"Dry Density, (pcf):"},{"$f":"IF(Worksheet!$G$33=\"\",\"\",Worksheet!$G$33)","v":4}]
[748,{"$f":"IF(Worksheet!$H$59=\"\",\"\",Worksheet!$H$59)","v":""},{"$f":"IF( Worksheet!$B$6=\"\",\"\", Worksheet!$B$6)","v":"Tex-117-E"},{"$f":"IF(Worksheet!$B$59=\"\",\"\",Worksheet!$B$59)","v":"Dry Density, (pcf):"},{"$f":"IF(Worksheet!$H$33=\"\",\"\",Worksheet!$H$33)","v":5}]
[749,{"$f":"IF(Worksheet!$I$59=\"\",\"\",Worksheet!$I$59)","v":""},{"$f":"IF( Worksheet!$B$6=\"\",\"\", Worksheet!$B$6)","v":"Tex-117-E"},{"$f":"IF(Worksheet!$B$59=\"\",\"\",Worksheet!$B$59)","v":"Dry Density, (pcf):"},{"$f":"IF(Worksheet!$I$33=\"\",\"\",Worksheet!$I$33)","v":6}]
[750,{"$f":"IF(Worksheet!$J$59=\"\",\"\",Worksheet!$J$59)","v":""},{"$f":"IF( Worksheet!$B$6=\"\",\"\", Worksheet!$B$6)","v":"Tex-117-E"},{"$f":"IF(Worksheet!$B$59=\"\",\"\",Worksheet!$B$59)","v":"Dry Density, (pcf):"},{"$f":"IF(Worksheet!$J$33=\"\",\"\",Worksheet!$J$33)","v":7}]
[751,{"$f":"IF(Worksheet!$K$59=\"\",\"\",Worksheet!$K$59)","v":""},{"$f":"IF( Worksheet!$B$6=\"\",\"\", Worksheet!$B$6)","v":"Tex-117-E"},{"$f":"IF(Worksheet!$B$59=\"\",\"\",Worksheet!$B$59)","v":"Dry Density, (pcf):"},{"$f":"IF(Worksheet!$K$33=\"\",\"\",Worksheet!$K$33)","v":8}]
[752,{"$f":"IF(Worksheet!$L$59=\"\",\"\",Worksheet!$L$59)","v":""},{"$f":"IF( Worksheet!$B$6=\"\",\"\", Worksheet!$B$6)","v":"Tex-117-E"},{"$f":"IF(Worksheet!$B$59=\"\",\"\",Worksheet!$B$59)","v":"Dry Density, (pcf):"},{"$f":"IF(Worksheet!$L$33=\"\",\"\",Worksheet!$L$33)","v":9}]
[753,{"$f":"IF(Worksheet!$C$138=\"\",\"\",Worksheet!$C$138)","v":""},"Tested By ",{"$f":"IF(Worksheet!$B$138=\"\",\"\",Worksheet!$B$138)","v":"TX117PI"}]
[754,{"$f":"IF(Worksheet!$G$138=\"\",\"\",Worksheet!$G$138)","v":""},"Tested Date ",{"$f":"IF(Worksheet!$B$138=\"\",\"\",Worksheet!$B$138)","v":"TX117PI"}]
[755,{"$f":"IF(Worksheet!$C$140=\"\",\"\",Worksheet!$C$140)","v":""},"Tested By ",{"$f":"IF(Worksheet!$B$140=\"\",\"\",Worksheet!$B$140)","v":"TX117PII"}]
[756,{"$f":"IF(Worksheet!$G$140=\"\",\"\",Worksheet!$G$140)","v":""},"Tested Date ",{"$f":"IF(Worksheet!$B$140=\"\",\"\",Worksheet!$B$140)","v":"TX117PII"}]
[757,{"$f":"IF(Worksheet!$C$131=\"\",\"\",Worksheet!$C$131)","v":""},"Sampled By ",{"$f":"IF(Worksheet!$B$131=\"\",\"\",Worksheet!$B$131)","v":"TX100"}]
[758,{"$f":"IF(Worksheet!$F$131=\"\",\"\",Worksheet!$F$131)","v":""},"Sampled Date ",{"$f":"IF(Worksheet!$B$131=\"\",\"\",Worksheet!$B$131)","v":"TX100"}]
[759,{"$f":"IF(Worksheet!$C$133=\"\",\"\",Worksheet!$C$133)","v":""},"Sampled By ",{"$f":"IF(Worksheet!$B$133=\"\",\"\",Worksheet!$B$133)","v":"TX400"}]
[760,{"$f":"IF(Worksheet!$F$133=\"\",\"\",Worksheet!$F$133)","v":""},"Sampled Date ",{"$f":"IF(Worksheet!$B$133=\"\",\"\",Worksheet!$B$133)","v":"TX400"}]

{"sheet":"Mohr Analysis","index":19,"n_rows":2042,"n_cols":13,"rows_kept":2042,"cut":false,"hidden":true,"merged":[[39,2,39,10],[2,6,2,7],[0,0,0,13],[21,3,21,4],[21,7,21,8],[21,5,21,6],[14,6,14,7],[17,6,17,7],[16,6,16,7],[15,6,15,7]]}
["        Mohr's Circle Analysis"]
[]
[null,null,null,null,null,null,"Failure Strengths"]
[null,"σ3","σ1","Max Shear Stress","Center Stress",null,"Normal Stress","Shear Strength"]
[1,{"$f":"N(Worksheet!D62)","v":0},{"$f":"N(Worksheet!D78)","v":0},{"$f":"(C5-B5)/2","v":0},{"$f":"(C5+B5)/2","v":0},null,{"$f":"(IF(ISERROR(D5*COS($B$17)+E5),\"\",D5*COS($B$17)+E5))","v":0},{"$f":"IF(ISERROR(D5*SIN($B$17)),\"\",D5*SIN($B$17))","v":0}]
[2,{"$f":"N(Worksheet!E62)","v":0},{"$f":"N(Worksheet!E78)","v":0},0,0,null,{"$f":"(IF(ISERROR(D6*COS($B$17)+E6),\"\",D6*COS($B$17)+E6))","v":0},{"$f":"IF(ISERROR(D6*SIN($B$17)),\"\",D6*SIN($B$17))","v":0}]
[3,{"$f":"N(Worksheet!F62)","v":0},{"$f":"N(Worksheet!F78)","v":0},0,0,null,0,0]
[4,{"$f":"N(Worksheet!G62)","v":0},{"$f":"N(Worksheet!G78)","v":0},0,0,null,0,0]
[5,{"$f":"N(Worksheet!H62)","v":0},{"$f":"N(Worksheet!H78)","v":0},0,0,null,0,0]
[6,{"$f":"N(Worksheet!I62)","v":0},{"$f":"N(Worksheet!I78)","v":0},0,0,null,0,0]
[7,{"$f":"N(Worksheet!J62)","v":0},{"$f":"N(Worksheet!J78)","v":0},0,0,null,0,0]
[8,{"$f":"N(Worksheet!K62)","v":0},{"$f":"N(Worksheet!K78)","v":0},0,0,null,0,0]
[9,{"$f":"N(Worksheet!L62)","v":0},{"$f":"N(Worksheet!L78)","v":0},{"$f":"(C13-B13)/2","v":0},{"$f":"(C13+B13)/2","v":0},null,0,0]
[]
[null,null,null,5,6,7,"Linear Regression"]
["2a=",{"$f":"IF(ISERROR(I36),\"\",I36)","v":90},"m=",{"$f":"IF(AND(C9>0,C10=0),INDEX(LINEST(H5:H9,G5:G9),1),0)","v":0},{"$f":"IF(AND(C10>0,C11=0),INDEX(LINEST(H5:H10,G5:G10),1),0)","v":0},{"$f":"IF(C11>0,INDEX(LINEST(H5:H11,G5:G11),1),0)","v":0},{"$f":"MAX(D16:F16)","v":0},null,{"$f":"IF(ISERROR(ATAN(G16)*(180/PI())),\"\",ATAN(G16)*(180/PI()))","v":0}]
[null,{"$f":"IF(ISERROR(B16*(PI()/180)),\"\",B16*(PI()/180))","v":1.5707963267948966},"b=",{"$f":"IF(AND(C9>0,C10=0),INDEX(LINEST(H5:H9,G5:G9),2),0)","v":0},{"$f":"IF(AND(C10>0,C11=0),INDEX(LINEST(H5:H10,G5:G10),2),0)","v":0},{"$f":"IF(C11>0,INDEX(LINEST(H5:H11,G5:G11),2),0)","v":0},{"$f":"MAX(D17:F17)","v":0}]
[null,null,"R^2=",{"$f":"IF(AND(C9>0,C10=0),CORREL(G5:G9,H5:H9),0)","v":0},{"$f":"IF(AND(C10>0,C11=0),CORREL(G5:G10,H5:H10),0)","v":0},{"$f":"IF(C11>0,CORREL(G5:G11,H5:H11),0)","v":0},{"$f":"MAX(D18:F18)","v":0}]
[]
[]
["Standard:"]
[null,null,null,"σ3=5",null,"σ3=10",null,"σ3=15"]
[null,"2ai","2ai","tf","t max","tf","t max","tf ","t max",null,null,"s","t"]
["Class 1 ",145,{"$f":"B24*(PI()/180)","v":2.530727415391778},null,null,null,null,null,null,{"$f":"IF(ISERROR(IF(OR(AND(B33>E25,B34>G25,B35>I25)),1,0)),\"\",IF(OR(AND(B33>E25,B34>G25,B35>I25)),1,0))","v":""},{"$f":"IF(OR(ISERROR(IF(J24=1,145,1000)),J24=\"\"),\"\",IF(J24=1,145,1000))","v":""},{"$f":"IF(OR($K$31=0,$K$31=\"\"),\"\",D5*COS($K$31)+E5)","v":""},{"$f":"IF(OR($K$31=\"\",$K$31=0),\"\",D5*SIN($K$31))","v":""}]
["Class 2",140,2.4434609527920612,15,{"$f":"D25/SIN(PI()-C25)","v":23.335857402906182},23.4,{"$f":"F25/SIN(PI()-C25)","v":36.403937548533641},30,{"$f":"H25/SIN(PI()-C25)","v":46.671714805812364},{"$f":"IF(ISERROR(IF(OR(AND(E25>=B33,B33>E26),AND(G25>=B34,B34>G26),AND(I25>=B35,B35>I26)),1,0)),\"\",IF(OR(AND(E25>=B33,B33>E26),AND(G25>=B34,B34>G26),AND(I25>=B35,B35>I26)),1,0))","v":""},"",{"$f":"IF(OR($K$31=0,$K$31=\"\"),\"\",D6*COS($K$31)+E6)","v":""},{"$f":"IF(OR($K$31=\"\",$K$31=0),\"\",D6*SIN($K$31))","v":""}]
["Class 3",135,2.3561944901923448,11.4,{"$f":"D26/SIN(PI()-C26)","v":16.122034611053284},17.8,{"$f":"F26/SIN(PI()-C26)","v":25.173001410241095},22.3,{"$f":"H26/SIN(PI()-C26)","v":31.536962440920025},{"$f":"IF(ISERROR(IF(OR(AND(E26>=B33,B33>E27),AND(G26>=B34,B34>G27),AND(I26>=B35,B35>I27)),1,0)),\"\",)","v":""},"","",""]
["Class 4",125,2.1816615649929121,6.2,{"$f":"D27/SIN(PI()-C27)","v":7.5688024503210292},11.3,{"$f":"F27/SIN(PI()-C27)","v":13.794752853004455},15.4,{"$f":"H27/SIN(PI()-C27)","v":18.799928666926427},{"$f":"IF(ISERROR(IF(OR(AND(E27>=B33),AND(G27>=B34,B34>G28),AND(I27>=B35,B35>I28)),1,0)),\"\",IF(OR(AND(E27>=B33),AND(G27>=B34,B34>G28),AND(I27>=B35,B35>I28)),1,0))","v":""},"","",""]
["Class 5",120,2.0943951023931953,null,null,6.3,{"$f":"F28/SIN(PI()-C28)","v":7.2746133917892841},7.9,{"$f":"H28/SIN(PI()-C28)","v":9.1221342531960872},{"$f":"IF(ISERROR(IF(OR(AND(G28>=B34,B34>G29),AND(I28>=B35,B35>I29)),1,0)),\"\",IF(OR(AND(G28>=B34,B34>G29),AND(I28>=B35,B35>I29)),1,0))","v":""},"","",""]
["Class 6",110,1.9198621771937625,null,null,3.8,{"$f":"F29/SIN(PI()-C29)","v":4.0438755354084659},4.7,{"$f":"H29/SIN(PI()-C29)","v":5.0016355306367872},{"$f":"IF(ISERROR(IF(AND(B34<G29,B35<I29),1,0)),\"\",IF(AND(B34<G29,B35<I29),1,0))","v":""},"","",""]
[null,null,null,null,null,null,null,null,null,"2ai=",{"$f":"MIN(K24:K29)","v":0},"",""]
["Calculation of","2a:",null,null,null,null,null,null,null,null,{"$f":"K30*(PI()/180)","v":0}]
[null,null,null,null,null,5,6,7]
["t max @ 5",{"$f":"VLOOKUP(C33,B5:D12,3,0)","v":{"$error":"#N/A"}},5,null,"m=",{"$f":"IF(AND(M28>0,M29=0),INDEX(LINEST(M24:M28,L24:L28),1),0)","v":0},{"$f":"IF(AND(M29>0,M30=0),INDEX(LINEST(M24:M29,L24:L29),1),0)","v":0},{"$f":"IF(ISERROR(IF(M30>0,INDEX(LINEST(M24:M30,L24:L30),1),0)),\"\",IF(M30>0,INDEX(LINEST(M24:M30,L24:L30),1),0))","v":""},{"$f":"MAX(F33:H33)","v":0}]
["t max @10",{"$f":"VLOOKUP(C34,B5:D12,3,0)","v":{"$error":"#N/A"}},10,null,"b=",{"$f":"IF(AND(L28>0,L29=0),INDEX(LINEST(M24:M28,L24:L28),2),0)","v":0},{"$f":"IF(AND(L29>0,L30=0),INDEX(LINEST(M24:M29,L24:L29),2),0)","v":0},{"$f":"IF(ISERROR(IF(L30>0,INDEX(LINEST(M24:M30,L24:L30),2),0)),\"\",IF(L30>0,INDEX(LINEST(M24:M30,L24:L30),2),0))","v":""},{"$f":"MAX(F34:H34)","v":0}]
["t max @15",{"$f":"VLOOKUP(C35,B5:D12,3,0)","v":{"$error":"#N/A"}},15,null,"F=",{"$f":"ATAN(F33)*(180/PI())","v":0},{"$f":"ATAN(G33)*(180/PI())","v":0},{"$f":"IF(ISERROR(ATAN(H33)*(180/PI())),\"\",ATAN(H33)*(180/PI()))","v":""},{"$f":"MAX(F35:H35)","v":0}]
[null,null,null,null,"2a=",{"$f":"90+F35","v":90},{"$f":"90+G35","v":90},{"$f":"IF(ISERROR(90+H35),\"\",90+H35)","v":""},{"$f":"MAX(F36:H36)","v":90}]
[]
[]
[]
[null,null,"Confining Pressure (15 psi)"]
["Normal Stress","Failure Envelope",{"$f":"IF(Field40=\"\",\"\",Field40 &\" psi\")","v":""},{"$f":"IF(Field41=\"\",\"\",Field41 &\" psi\")","v":""},{"$f":"IF(Field42=\"\",\"\",Field42 &\" psi\")","v":""},{"$f":"IF(Field43=\"\",\"\",Field43 &\" psi\")","v":""},{"$f":"IF(Field44=\"\",\"\",Field44 &\" psi\")","v":""},{"$f":"IF(Field45=\"\",\"\",Field45 &\" psi\")","v":""},{"$f":"IF(Field46=\"\",\"\",Field46 &\" psi\")","v":""},{"$f":"IF(Field47=\"\",\"\",Field47 &\" psi\")","v":""},{"$f":"IF(Field47=\"\",\"\",Field47 &\" psi\")","v":""}]
[0,{"$f":"IF(ISERROR($G$16*A42+$G$17),0,$G$16*A42+$G$17)","v":0},{"$f":"IF(AND($C$5>=A42,A42>=$B$5),($D$5^2-(A42-$E$5)^2)^0.5,0)","v":0},{"$f":"IF(AND($C$6>=A42,A42>=$B$6),($D$6^2-(A42-$E$6)^2)^0.5,0)","v":0},{"$f":"IF(AND($C$7>=A42,A42>$B$7),($D$7^2-(A42-$E$7)^2)^0.5,0)","v":0},{"$f":"IF(AND($C$8>=A42,A42>=$B$8),($D$8^2-(A42-$E$8)^2)^0.5,0)","v":0},{"$f":"IF(AND($C$9>=A42,A42>=$B$9),($D$9^2-(A42-$E$9)^2)^0.5,0)","v":0},{"$f":"IF(AND($C$10>=A42,A42>=$B$10),($D$10^2-(A42-$E$10)^2)^0.5,0)","v":0},{"$f":"IF(AND($C$11>=A42,A42>=$B$11),($D$11^2-(A42-$E$11)^2)^0.5,0)","v":0},{"$f":"IF(AND($C$12>=A42,A42>=$B$12),($D$12^2-(A42-$E$12)^2)^0.5,0)","v":0},{"$f":"IF(AND($C$13>=A42,A42>=$B$13),($D$13^2-(A42-$E$13)^2)^0.5,0)","v":0}]
[{"$f":"A42+0.2","v":0.2},{"$f":"IF(ISERROR($G$16*A43+$G$17),0,$G$16*A43+$G$17)","v":0},0,0,0,0,0,0,0,0,{"$f":"IF(AND($C$13>=A43,A43>=$B$13),($D$13^2-(A43-$E$13)^2)^0.5,0)","v":0}]
[{"$f":"A43+0.2","v":0.4},0,0,0,0,0,0,0,0,0,0]
[0.60000000000000009,0,0,0,0,0,0,0,0,0,0]
[0.8,0,0,0,0,0,0,0,0,0,0]
[1,0,0,0,0,0,0,0,0,0,0]
[1.2,0,0,0,0,0,0,0,0,0,0]
[1.4,0,0,0,0,0,0,0,0,0,0]
[1.5999999999999999,0,0,0,0,0,0,0,0,0,0]
[1.7999999999999998,0,0,0,0,0,0,0,0,0,0]
[1.9999999999999998,0,0,0,0,0,0,0,0,0,0]
[2.1999999999999997,0,0,0,0,0,0,0,0,0,0]
[2.4,0,0,0,0,0,0,0,0,0,0]
[2.6,0,0,0,0,0,0,0,0,0,0]
[2.8000000000000003,0,0,0,0,0,0,0,0,0,0]
[3.0000000000000004,0,0,0,0,0,0,0,0,0,0]
[3.2000000000000006,0,0,0,0,0,0,0,0,0,0]
[3.4000000000000008,0,0,0,0,0,0,0,0,0,0]
[3.600000000000001,0,0,0,0,0,0,0,0,0,0]
[3.8000000000000012,0,0,0,0,0,0,0,0,0,0]
[4.0000000000000009,0,0,0,0,0,0,0,0,0,0]
[4.2000000000000011,0,0,0,0,0,0,0,0,0,0]
[4.4000000000000012,0,0,0,0,0,0,0,0,0,0]
[4.6000000000000014,0,0,0,0,0,0,0,0,0,0]
[4.8000000000000016,0,0,0,0,0,0,0,0,0,0]
[5.0000000000000018,0,0,0,0,0,0,0,0,0,0]
[5.200000000000002,0,0,0,0,0,0,0,0,0,0]
[5.4000000000000021,0,0,0,0,0,0,0,0,0,0]
[5.6000000000000023,0,0,0,0,0,0,0,0,0,0]
[5.8000000000000025,0,0,0,0,0,0,0,0,0,0]
[6.0000000000000027,0,0,0,0,0,0,0,0,0,0]
[6.2000000000000028,0,0,0,0,0,0,0,0,0,0]
[6.400000000000003,0,0,0,0,0,0,0,0,{"$f":"IF(AND($C$12>=A74,A74>=$B$12),($D$12^2-(A74-$E$12)^2)^0.5,0)","v":0},0]
[6.6000000000000032,0,0,0,0,0,0,0,0,0,0]
[6.8000000000000034,0,0,0,0,0,0,0,0,0,0]
[7.0000000000000036,0,0,0,0,0,0,0,0,0,0]
[7.2000000000000037,0,0,0,0,0,0,0,0,0,0]
[7.4000000000000039,0,0,0,0,0,0,0,0,0,0]
[7.6000000000000041,0,0,0,0,0,0,0,0,0,0]
[7.8000000000000043,0,0,0,0,0,0,0,0,0,0]
[8.0000000000000036,0,0,0,0,0,0,0,0,0,0]
[8.2000000000000028,0,0,0,0,0,0,0,0,0,0]
[8.4000000000000021,0,0,0,0,0,0,0,0,0,0]
[8.6000000000000014,0,0,0,0,0,0,0,0,0,0]
[8.8000000000000007,0,0,0,0,0,0,0,0,0,0]
[9,0,0,0,0,0,0,0,0,0,0]
[9.1999999999999993,0,0,0,0,0,0,0,0,0,0]
[9.3999999999999986,0,0,0,0,0,0,0,0,0,0]
[9.5999999999999979,0,0,0,0,0,0,0,0,0,0]
[9.7999999999999972,0,0,0,0,0,0,0,0,0,0]
[9.9999999999999964,0,0,0,0,0,0,0,0,0,0]
[10.199999999999996,0,0,0,0,0,0,0,0,0,0]
[10.399999999999995,0,0,0,0,0,0,0,0,0,0]
[10.599999999999994,0,0,0,0,0,0,0,0,0,0]
[10.799999999999994,0,0,0,0,0,0,0,0,0,0]
[10.999999999999993,0,0,0,0,0,0,0,0,0,0]
[11.199999999999992,0,0,0,0,0,0,0,0,0,0]
[11.399999999999991,0,0,0,0,0,0,0,0,0,0]
[11.599999999999991,0,0,0,0,0,0,0,0,0,0]
[11.79999999999999,0,0,0,0,0,0,0,0,0,0]
[11.999999999999989,0,0,0,0,0,0,0,0,0,0]
[12.199999999999989,0,0,0,0,0,0,0,0,0,0]
[12.399999999999988,0,0,0,0,0,0,0,0,0,0]
[12.599999999999987,0,0,0,0,0,0,0,0,0,0]
[12.799999999999986,{"$f":"IF(ISERROR($G$16*A106+$G$17),0,$G$16*A106+$G$17)","v":0},{"$f":"IF(AND($C$5>=A106,A106>=$B$5),($D$5^2-(A106-$E$5)^2)^0.5,0)","v":0},{"$f":"IF(AND($C$6>=A106,A106>=$B$6),($D$6^2-(A106-$E$6)^2)^0.5,0)","v":0},{"$f":"IF(AND($C$7>=A106,A106>$B$7),($D$7^2-(A106-$E$7)^2)^0.5,0)","v":0},{"$f":"IF(AND($C$8>=A106,A106>=$B$8),($D$8^2-(A106-$E$8)^2)^0.5,0)","v":0},{"$f":"IF(AND($C$9>=A106,A106>=$B$9),($D$9^2-(A106-$E$9)^2)^0.5,0)","v":0},{"$f":"IF(AND($C$10>=A106,A106>=$B$10),($D$10^2-(A106-$E$10)^2)^0.5,0)","v":0},{"$f":"IF(AND($C$11>=A106,A106>=$B$11),($D$11^2-(A106-$E$11)^2)^0.5,0)","v":0},{"$f":"IF(AND($C$12>=A106,A106>=$B$12),($D$12^2-(A106-$E$12)^2)^0.5,0)","v":0},0]
[12.999999999999986,0,0,0,0,0,0,0,0,0,{"$f":"IF(AND($C$13>=A107,A107>=$B$13),($D$13^2-(A107-$E$13)^2)^0.5,0)","v":0}]
[{"$f":"A107+0.2","v":13.199999999999985},0,0,0,0,0,0,0,0,0,0]
[13.399999999999984,0,0,0,0,0,0,0,0,0,0]
[13.599999999999984,0,0,0,0,0,0,0,0,0,0]
[13.799999999999983,0,0,0,0,0,0,0,0,0,0]
[13.999999999999982,0,0,0,0,0,0,0,0,0,0]
[14.199999999999982,0,0,0,0,0,0,0,0,0,0]
[14.399999999999981,0,0,0,0,0,0,0,0,0,0]
[14.59999999999998,0,0,0,0,0,0,0,0,0,0]
[14.799999999999979,0,0,0,0,0,0,0,0,0,0]
[14.999999999999979,0,0,0,0,0,0,0,{"$f":"IF(AND($C$11>=A117,A117>=$B$11),($D$11^2-(A117-$E$11)^2)^0.5,0)","v":0},0,0]
[15.199999999999978,0,0,0,0,0,0,0,0,0,0]
[15.399999999999977,0,0,0,0,0,0,0,0,0,0]
[15.599999999999977,0,0,0,0,0,0,0,0,0,0]
[15.799999999999976,0,0,0,0,0,0,0,0,0,0]
[15.999999999999975,0,0,0,0,0,0,0,0,0,0]
[16.199999999999974,0,0,0,0,0,0,0,0,0,0]
[16.399999999999974,0,0,0,0,0,0,0,0,0,0]
[16.599999999999973,0,0,0,0,0,0,0,0,0,0]
[16.799999999999972,0,0,0,0,0,0,0,0,0,0]
[16.999999999999972,0,0,0,0,0,0,0,0,0,0]
[17.199999999999971,0,0,0,0,0,0,0,0,0,0]
[17.39999999999997,0,0,0,0,0,0,0,0,0,0]
[17.599999999999969,0,0,0,0,0,0,0,0,0,0]
[17.799999999999969,0,0,0,0,0,0,0,0,0,0]
[17.999999999999968,0,0,0,0,0,0,0,0,0,0]
[18.199999999999967,0,0,0,0,0,0,0,0,0,0]
[18.399999999999967,0,0,0,0,0,0,0,0,0,0]
[18.599999999999966,0,0,0,0,0,0,0,0,0,0]
[18.799999999999965,0,0,0,0,0,0,0,0,0,0]
[18.999999999999964,0,0,0,0,0,0,0,0,0,0]
[19.199999999999964,0,0,0,0,0,0,0,0,0,0]
[19.399999999999963,0,0,0,0,0,0,0,0,0,0]
[19.599999999999962,0,0,0,0,0,0,0,0,0,0]
[19.799999999999962,0,0,0,0,0,0,0,0,0,0]
[19.999999999999961,0,0,0,0,0,0,0,0,0,0]
[20.19999999999996,0,0,0,0,0,0,0,0,0,0]
[20.399999999999959,0,0,0,0,0,0,0,0,0,0]
[20.599999999999959,0,0,0,0,0,0,0,0,0,0]
[20.799999999999958,0,0,0,0,0,0,0,0,0,0]
[20.999999999999957,0,0,0,0,0,0,0,0,0,0]
[21.199999999999957,0,0,0,0,0,0,0,0,0,0]
[21.399999999999956,0,0,0,0,0,0,0,0,0,0]
[21.599999999999955,0,0,0,0,0,0,0,0,0,0]
[21.799999999999955,0,0,0,0,0,0,0,0,0,0]
[21.999999999999954,0,0,0,0,0,0,0,0,0,0]
[22.199999999999953,0,0,0,0,0,0,0,0,0,0]
[22.399999999999952,0,0,0,0,0,0,0,0,0,0]
[22.599999999999952,0,0,0,0,0,0,0,0,0,0]
[22.799999999999951,0,0,0,0,0,0,0,0,0,0]
[22.99999999999995,0,0,0,0,0,0,0,0,0,0]
[23.19999999999995,0,0,0,0,0,0,0,0,0,0]
[23.399999999999949,0,0,0,0,0,0,0,0,0,0]
[23.599999999999948,0,0,0,0,0,0,0,0,0,0]
[23.799999999999947,0,0,0,0,0,0,0,0,0,0]
[23.999999999999947,0,0,0,0,0,0,0,0,0,0]
[24.199999999999946,0,0,0,0,0,0,0,0,0,0]
[24.399999999999945,0,0,0,0,0,0,0,0,0,0]
[24.599999999999945,0,0,0,0,0,0,0,0,0,0]
[24.799999999999944,0,0,0,0,0,0,0,0,0,0]
[24.999999999999943,0,0,0,0,0,0,0,0,0,0]
[25.199999999999942,0,0,0,0,0,0,0,0,0,0]
[25.399999999999942,0,0,0,0,0,0,0,0,0,0]
[25.599999999999941,{"$f":"IF(ISERROR($G$16*A170+$G$17),0,$G$16*A170+$G$17)","v":0},{"$f":"IF(AND($C$5>=A170,A170>=$B$5),($D$5^2-(A170-$E$5)^2)^0.5,0)","v":0},{"$f":"IF(AND($C$6>=A170,A170>=$B$6),($D$6^2-(A170-$E$6)^2)^0.5,0)","v":0},{"$f":"IF(AND($C$7>=A170,A170>$B$7),($D$7^2-(A170-$E$7)^2)^0.5,0)","v":0},{"$f":"IF(AND($C$8>=A170,A170>=$B$8),($D$8^2-(A170-$E$8)^2)^0.5,0)","v":0},{"$f":"IF(AND($C$9>=A170,A170>=$B$9),($D$9^2-(A170-$E$9)^2)^0.5,0)","v":0},{"$f":"IF(AND($C$10>=A170,A170>=$B$10),($D$10^2-(A170-$E$10)^2)^0.5,0)","v":0},{"$f":"IF(AND($C$11>=A170,A170>=$B$11),($D$11^2-(A170-$E$11)^2)^0.5,0)","v":0},{"$f":"IF(AND($C$12>=A170,A170>=$B$12),($D$12^2-(A170-$E$12)^2)^0.5,0)","v":0},0]
[25.79999999999994,0,0,0,0,0,0,0,0,0,{"$f":"IF(AND($C$13>=A171,A171>=$B$13),($D$13^2-(A171-$E$13)^2)^0.5,0)","v":0}]
[{"$f":"A171+0.2","v":25.99999999999994},0,0,0,0,0,0,0,0,0,0]
[26.199999999999939,0,0,0,0,0,0,0,0,0,0]
[26.399999999999938,0,0,0,0,0,0,0,0,0,0]
[26.599999999999937,0,0,0,0,0,0,0,0,0,0]
[26.799999999999937,0,0,0,0,0,0,0,0,0,0]
[26.999999999999936,0,0,0,0,0,0,0,0,0,0]
[27.199999999999935,0,0,0,0,0,0,0,0,0,0]
[27.399999999999935,0,0,0,0,0,0,0,0,0,0]
[27.599999999999934,0,0,0,0,0,0,0,0,0,0]
[27.799999999999933,0,0,0,0,0,0,0,0,0,0]
[27.999999999999932,0,0,0,0,0,0,0,0,0,0]
[28.199999999999932,0,0,0,0,0,0,0,0,0,0]
[28.399999999999931,0,0,0,0,0,0,0,0,0,0]
[28.59999999999993,0,0,0,0,0,0,0,0,0,0]
[28.79999999999993,0,0,0,0,0,0,0,0,0,0]
[28.999999999999929,0,0,0,0,0,0,0,0,0,0]
[29.199999999999928,0,0,0,0,0,0,0,0,0,0]
[29.399999999999928,0,0,0,0,0,0,0,0,0,0]
[29.599999999999927,0,0,0,0,0,0,0,0,0,0]
[29.799999999999926,0,0,0,0,0,0,0,0,0,0]
[29.999999999999925,0,0,0,0,0,0,0,0,0,0]
[30.199999999999925,0,0,0,0,0,0,0,0,0,0]
[30.399999999999924,0,0,0,0,0,0,0,0,0,0]
[30.599999999999923,0,0,0,0,0,0,0,0,0,0]
[30.799999999999923,0,0,0,0,0,0,0,0,0,0]
[30.999999999999922,0,0,0,0,0,0,0,0,0,0]
[31.199999999999921,0,0,0,0,0,0,0,0,0,0]
[31.39999999999992,0,0,0,0,0,0,0,0,0,0]
[31.59999999999992,0,0,0,0,0,0,0,0,0,0]
[31.799999999999919,0,0,0,0,0,0,0,0,0,0]
[31.999999999999918,0,0,0,0,0,0,0,0,0,0]
[32.199999999999918,0,0,0,0,0,0,0,0,0,0]
[32.39999999999992,0,0,0,0,0,0,0,0,0,0]
[32.599999999999923,0,0,0,0,0,0,0,0,0,0]
[32.799999999999926,0,0,0,0,0,0,0,0,0,0]
[32.999999999999929,0,0,0,0,0,0,0,0,0,0]
[33.199999999999932,0,0,0,0,0,0,0,0,0,0]
[33.399999999999935,0,0,0,0,0,0,0,0,0,0]
[33.599999999999937,0,0,0,0,0,0,0,0,0,0]
[33.79999999999994,0,0,0,0,0,0,0,0,0,0]
[33.999999999999943,0,0,0,0,0,0,0,0,0,0]
[34.199999999999946,0,0,0,0,0,0,0,0,0,0]
[34.399999999999949,0,0,0,0,0,0,0,0,0,0]
[34.599999999999952,0,0,0,0,0,0,0,0,0,0]
[34.799999999999955,0,0,0,0,0,0,0,0,0,0]
[34.999999999999957,0,0,0,0,0,0,0,0,0,0]
[35.19999999999996,0,0,0,0,0,0,0,0,0,0]
[35.399999999999963,0,0,0,0,0,0,0,0,0,0]
[35.599999999999966,0,0,0,0,0,0,0,0,0,0]
[35.799999999999969,0,0,0,0,0,0,0,0,0,0]
[35.999999999999972,0,0,0,0,0,0,0,0,0,0]
[36.199999999999974,0,0,0,0,0,0,0,0,0,0]
[36.399999999999977,0,0,0,0,0,0,0,0,0,0]
[36.59999999999998,0,0,0,0,0,0,0,0,0,0]
[36.799999999999983,0,0,0,0,0,0,0,0,0,0]
[36.999999999999986,0,0,0,0,0,0,0,0,0,0]
[37.199999999999989,0,0,0,0,0,0,0,0,0,0]
[37.399999999999991,0,0,0,0,0,0,0,0,0,0]
[37.599999999999994,0,0,0,0,0,0,0,0,0,0]
[37.799999999999997,0,0,0,0,0,0,0,0,0,0]
[38,0,0,0,0,0,0,0,0,0,0]
[38.200000000000003,0,0,0,0,0,0,0,0,0,0]
[38.400000000000006,{"$f":"IF(ISERROR($G$16*A234+$G$17),0,$G$16*A234+$G$17)","v":0},{"$f":"IF(AND($C$5>=A234,A234>=$B$5),($D$5^2-(A234-$E$5)^2)^0.5,0)","v":0},{"$f":"IF(AND($C$6>=A234,A234>=$B$6),($D$6^2-(A234-$E$6)^2)^0.5,0)","v":0},{"$f":"IF(AND($C$7>=A234,A234>$B$7),($D$7^2-(A234-$E$7)^2)^0.5,0)","v":0},{"$f":"IF(AND($C$8>=A234,A234>=$B$8),($D$8^2-(A234-$E$8)^2)^0.5,0)","v":0},{"$f":"IF(AND($C$9>=A234,A234>=$B$9),($D$9^2-(A234-$E$9)^2)^0.5,0)","v":0},{"$f":"IF(AND($C$10>=A234,A234>=$B$10),($D$10^2-(A234-$E$10)^2)^0.5,0)","v":0},{"$f":"IF(AND($C$11>=A234,A234>=$B$11),($D$11^2-(A234-$E$11)^2)^0.5,0)","v":0},{"$f":"IF(AND($C$12>=A234,A234>=$B$12),($D$12^2-(A234-$E$12)^2)^0.5,0)","v":0},0]
[38.600000000000009,0,0,0,0,0,0,0,0,0,{"$f":"IF(AND($C$13>=A235,A235>=$B$13),($D$13^2-(A235-$E$13)^2)^0.5,0)","v":0}]
[{"$f":"A235+0.2","v":38.800000000000011},0,0,0,0,0,0,0,0,0,0]
[39.000000000000014,0,0,0,0,0,0,0,0,0,0]
[39.200000000000017,0,0,0,0,0,0,0,0,0,0]
[39.40000000000002,0,0,0,0,0,0,0,0,0,0]
[39.600000000000023,0,0,0,0,0,0,0,0,0,0]
[39.800000000000026,0,0,0,0,0,0,0,0,0,0]
[40.000000000000028,0,0,0,0,0,0,0,0,0,0]
[40.200000000000031,0,0,0,0,0,0,0,0,0,0]
[40.400000000000034,0,0,0,0,0,0,0,0,0,0]
[40.600000000000037,0,0,0,0,0,0,0,0,0,0]
[40.80000000000004,0,0,0,0,0,0,0,0,0,0]
[41.000000000000043,0,0,0,0,0,0,0,0,0,0]
[41.200000000000045,0,0,0,0,0,0,0,0,0,0]
[41.400000000000048,0,0,0,0,0,0,0,0,0,0]
[41.600000000000051,0,0,0,0,0,0,0,0,0,0]
[41.800000000000054,0,0,0,0,0,0,0,0,0,0]
[42.000000000000057,0,0,0,0,0,0,0,0,0,0]
[42.20000000000006,0,0,0,0,0,0,0,0,0,0]
[42.400000000000063,0,0,0,0,0,0,0,0,0,0]
[42.600000000000065,0,0,0,0,0,0,0,0,0,0]
[42.800000000000068,0,0,0,0,0,0,0,0,0,0]
[43.000000000000071,0,0,0,0,0,0,0,0,0,0]
[43.200000000000074,0,0,0,0,0,0,0,0,0,0]
[43.400000000000077,0,0,0,0,0,0,0,0,0,0]
[43.60000000000008,0,0,0,0,0,0,0,0,0,0]
[43.800000000000082,0,0,0,0,0,0,0,0,0,0]
[44.000000000000085,0,0,0,0,0,0,0,0,0,0]
[44.200000000000088,0,0,0,0,0,0,0,0,0,0]
[44.400000000000091,0,0,0,0,0,0,0,0,0,0]
[44.600000000000094,0,0,0,0,0,0,0,0,0,0]
[44.800000000000097,0,0,0,0,0,0,0,0,0,0]
[45.000000000000099,0,0,0,0,0,0,0,0,0,0]
[45.200000000000102,0,0,0,0,0,0,0,0,0,0]
[45.400000000000105,0,0,0,0,0,0,0,0,0,0]
[45.600000000000108,0,0,0,0,0,0,0,0,0,0]
[45.800000000000111,0,0,0,0,0,0,0,0,0,0]
[46.000000000000114,0,0,0,0,0,0,0,0,0,0]
[46.200000000000117,0,0,0,0,0,0,0,0,0,0]
[46.400000000000119,0,0,0,0,0,0,0,0,0,0]
[46.600000000000122,0,0,0,0,0,0,0,0,0,0]
[46.800000000000125,0,0,0,0,0,0,0,0,0,0]
[47.000000000000128,0,0,0,0,0,0,0,0,0,0]
[47.200000000000131,0,0,0,0,0,0,0,0,0,0]
[47.400000000000134,0,0,0,0,0,0,0,0,0,0]
[47.600000000000136,0,0,0,0,0,0,0,0,0,0]
[47.800000000000139,0,0,0,0,0,0,0,0,0,0]
[48.000000000000142,0,0,0,0,0,0,0,0,0,0]
[48.200000000000145,0,0,0,0,0,0,0,0,0,0]
[48.400000000000148,0,0,0,0,0,0,0,0,0,0]
[48.600000000000151,0,0,0,0,0,0,0,0,0,0]
[48.800000000000153,0,0,0,0,0,0,0,0,0,0]
[49.000000000000156,0,0,0,0,0,0,0,0,0,0]
[49.200000000000159,0,0,0,0,0,0,0,0,0,0]
[49.400000000000162,0,0,0,0,0,0,0,0,0,0]
[49.600000000000165,0,0,0,0,0,0,0,0,0,0]
[49.800000000000168,0,0,0,0,0,0,0,0,0,0]
[50.000000000000171,0,0,0,0,0,0,0,0,0,0]
[50.200000000000173,0,0,0,0,0,0,0,0,0,0]
[50.400000000000176,0,0,0,0,0,0,0,0,0,0]
[50.600000000000179,0,0,0,0,0,0,0,0,0,0]
[50.800000000000182,0,0,0,0,0,0,0,0,0,0]
[51.000000000000185,0,0,0,0,0,0,0,0,0,0]
[51.200000000000188,{"$f":"IF(ISERROR($G$16*A298+$G$17),0,$G$16*A298+$G$17)","v":0},{"$f":"IF(AND($C$5>=A298,A298>=$B$5),($D$5^2-(A298-$E$5)^2)^0.5,0)","v":0},{"$f":"IF(AND($C$6>=A298,A298>=$B$6),($D$6^2-(A298-$E$6)^2)^0.5,0)","v":0},{"$f":"IF(AND($C$7>=A298,A298>$B$7),($D$7^2-(A298-$E$7)^2)^0.5,0)","v":0},{"$f":"IF(AND($C$8>=A298,A298>=$B$8),($D$8^2-(A298-$E$8)^2)^0.5,0)","v":0},{"$f":"IF(AND($C$9>=A298,A298>=$B$9),($D$9^2-(A298-$E$9)^2)^0.5,0)","v":0},{"$f":"IF(AND($C$10>=A298,A298>=$B$10),($D$10^2-(A298-$E$10)^2)^0.5,0)","v":0},{"$f":"IF(AND($C$11>=A298,A298>=$B$11),($D$11^2-(A298-$E$11)^2)^0.5,0)","v":0},{"$f":"IF(AND($C$12>=A298,A298>=$B$12),($D$12^2-(A298-$E$12)^2)^0.5,0)","v":0},0]
[51.40000000000019,0,0,0,0,0,0,0,0,0,{"$f":"IF(AND($C$13>=A299,A299>=$B$13),($D$13^2-(A299-$E$13)^2)^0.5,0)","v":0}]
[{"$f":"A299+0.2","v":51.600000000000193},0,0,0,0,0,0,0,0,0,0]
[51.800000000000196,0,0,0,0,0,0,0,0,0,0]
[52.000000000000199,0,0,0,0,0,0,0,0,0,0]
[52.200000000000202,0,0,0,0,0,0,0,0,0,0]
[52.400000000000205,0,0,0,0,0,0,0,0,0,0]
[52.600000000000207,0,0,0,0,0,0,0,0,0,0]
[52.80000000000021,0,0,0,0,0,0,0,0,0,0]
[53.000000000000213,0,0,0,0,0,0,0,0,0,0]
[53.200000000000216,0,0,0,0,0,0,0,0,0,0]
[53.400000000000219,0,0,0,0,0,0,0,0,0,0]
[53.600000000000222,0,0,0,0,0,0,0,0,0,0]
[53.800000000000225,0,0,0,0,0,0,0,0,0,0]
[54.000000000000227,0,0,0,0,0,0,0,0,0,0]
[54.20000000000023,0,0,0,0,0,0,0,0,0,0]
[54.400000000000233,0,0,0,0,0,0,0,0,0,0]
[54.600000000000236,0,0,0,0,0,0,0,0,0,0]
[54.800000000000239,0,0,0,0,0,0,0,0,0,0]
[55.000000000000242,0,0,0,0,0,0,0,0,0,0]
[55.200000000000244,0,0,0,0,0,0,0,0,0,0]
[55.400000000000247,0,0,0,0,0,0,0,0,0,0]
[55.60000000000025,0,0,0,0,0,0,0,0,0,0]
[55.800000000000253,0,0,0,0,0,0,0,0,0,0]
[56.000000000000256,0,0,0,0,0,0,0,0,0,0]
[56.200000000000259,0,0,0,0,0,0,0,0,0,0]
[56.400000000000261,0,0,0,0,0,0,0,0,0,0]
[56.600000000000264,0,0,0,0,0,0,0,0,0,0]
[56.800000000000267,0,0,0,0,0,0,0,0,0,0]
[57.00000000000027,0,0,0,0,0,0,0,0,0,0]
[57.200000000000273,0,0,0,0,0,0,0,0,0,0]
[57.400000000000276,0,0,0,0,0,0,0,0,0,0]
[57.600000000000279,0,0,0,0,0,0,0,0,0,0]
[57.800000000000281,0,0,0,0,0,0,0,0,0,0]
[58.000000000000284,0,0,0,0,0,0,0,0,0,0]
[58.200000000000287,0,0,0,0,0,0,0,0,0,0]
[58.40000000000029,0,0,0,0,0,0,0,0,0,0]
[58.600000000000293,0,0,0,0,0,0,0,0,0,0]
[58.800000000000296,0,0,0,0,0,0,0,0,0,0]
[59.000000000000298,0,0,0,0,0,0,0,0,0,0]
[59.200000000000301,0,0,0,0,0,0,0,0,0,0]
[59.400000000000304,0,0,0,0,0,0,0,0,0,0]
[59.600000000000307,0,0,0,0,0,0,0,0,0,0]
[59.80000000000031,0,0,0,0,0,0,0,0,0,0]
[60.000000000000313,0,0,0,0,0,0,0,0,0,0]
[60.200000000000315,0,0,0,0,0,0,0,0,0,0]
[60.400000000000318,0,0,0,0,0,0,0,0,0,0]
[60.600000000000321,0,0,0,0,0,0,0,0,0,0]
[60.800000000000324,0,0,0,0,0,0,0,0,0,0]
[61.000000000000327,0,0,0,0,0,0,0,0,0,0]
[61.20000000000033,0,0,0,0,0,0,0,0,0,0]
[61.400000000000333,0,0,0,0,0,0,0,0,0,0]
[61.600000000000335,0,0,0,0,0,0,0,0,0,0]
[61.800000000000338,0,0,0,0,0,0,0,0,0,0]
[62.000000000000341,0,0,0,0,0,0,0,0,0,0]
[62.200000000000344,0,0,0,0,0,0,0,0,0,0]
[62.400000000000347,0,0,0,0,0,0,0,0,0,0]
[62.60000000000035,0,0,0,0,0,0,0,0,0,0]
[62.800000000000352,0,0,0,0,0,0,0,0,0,0]
[63.000000000000355,0,0,0,0,0,0,0,0,0,0]
[63.200000000000358,0,0,0,0,0,0,0,0,0,0]
[63.400000000000361,0,0,0,0,0,0,0,0,0,0]
[63.600000000000364,0,0,0,0,0,0,0,0,0,0]
[63.800000000000367,0,0,0,0,0,0,0,0,0,0]
[64.000000000000369,{"$f":"IF(ISERROR($G$16*A362+$G$17),0,$G$16*A362+$G$17)","v":0},{"$f":"IF(AND($C$5>=A362,A362>=$B$5),($D$5^2-(A362-$E$5)^2)^0.5,0)","v":0},{"$f":"IF(AND($C$6>=A362,A362>=$B$6),($D$6^2-(A362-$E$6)^2)^0.5,0)","v":0},{"$f":"IF(AND($C$7>=A362,A362>$B$7),($D$7^2-(A362-$E$7)^2)^0.5,0)","v":0},{"$f":"IF(AND($C$8>=A362,A362>=$B$8),($D$8^2-(A362-$E$8)^2)^0.5,0)","v":0},{"$f":"IF(AND($C$9>=A362,A362>=$B$9),($D$9^2-(A362-$E$9)^2)^0.5,0)","v":0},{"$f":"IF(AND($C$10>=A362,A362>=$B$10),($D$10^2-(A362-$E$10)^2)^0.5,0)","v":0},{"$f":"IF(AND($C$11>=A362,A362>=$B$11),($D$11^2-(A362-$E$11)^2)^0.5,0)","v":0},{"$f":"IF(AND($C$12>=A362,A362>=$B$12),($D$12^2-(A362-$E$12)^2)^0.5,0)","v":0},0]
[64.200000000000372,0,0,0,0,0,0,0,0,0,{"$f":"IF(AND($C$13>=A363,A363>=$B$13),($D$13^2-(A363-$E$13)^2)^0.5,0)","v":0}]
[{"$f":"A363+0.2","v":64.400000000000375},0,0,0,0,0,0,0,0,0,0]
[64.600000000000378,0,0,0,0,0,0,0,0,0,0]
[64.800000000000381,0,0,0,0,0,0,0,0,0,0]
[65.000000000000384,0,0,0,0,0,0,0,0,0,0]
[65.200000000000387,0,0,0,0,0,0,0,0,0,0]
[65.400000000000389,0,0,0,0,0,0,0,0,0,0]
[65.600000000000392,0,0,0,0,0,0,0,0,0,0]
[65.800000000000395,0,0,0,0,0,0,0,0,0,0]
[66.000000000000398,0,0,0,0,0,0,0,0,0,0]
[66.200000000000401,0,0,0,0,0,0,0,0,0,0]
[66.400000000000404,0,0,0,0,0,0,0,0,0,0]
[66.600000000000406,0,0,0,0,0,0,0,0,0,0]
[66.800000000000409,0,0,0,0,0,0,0,0,0,0]
[67.000000000000412,0,0,0,0,0,0,0,0,0,0]
[67.200000000000415,0,0,0,0,0,0,0,0,0,0]
[67.400000000000418,0,0,0,0,0,0,0,0,0,0]
[67.600000000000421,0,0,0,0,0,0,0,0,0,0]
[67.800000000000423,0,0,0,0,0,0,0,0,0,0]
[68.000000000000426,0,0,0,0,0,0,0,0,0,0]
[68.200000000000429,0,0,0,0,0,0,0,0,0,0]
[68.400000000000432,0,0,0,0,0,0,0,0,0,0]
[68.600000000000435,0,0,0,0,0,0,0,0,0,0]
[68.800000000000438,0,0,0,0,0,0,0,0,0,0]
[69.000000000000441,0,0,0,0,0,0,0,0,0,0]
[69.200000000000443,0,0,0,0,0,0,0,0,0,0]
[69.400000000000446,0,0,0,0,0,0,0,0,0,0]
[69.600000000000449,0,0,0,0,0,0,0,0,0,0]
[69.800000000000452,0,0,0,0,0,0,0,0,0,0]
[70.000000000000455,0,0,0,0,0,0,0,0,0,0]
[70.200000000000458,0,0,0,0,0,0,0,0,0,0]
[70.40000000000046,0,0,0,0,0,0,0,0,0,0]
[70.600000000000463,0,0,0,0,0,0,0,0,0,0]
[70.800000000000466,0,0,0,0,0,0,0,0,0,0]
[71.000000000000469,0,0,0,0,0,0,0,0,0,0]
[71.200000000000472,0,0,0,0,0,0,0,0,0,0]
[71.400000000000475,0,0,0,0,0,0,0,0,0,0]
[71.600000000000477,0,0,0,0,0,0,0,0,0,0]
[71.80000000000048,0,0,0,0,0,0,0,0,0,0]
[72.000000000000483,0,0,0,0,0,0,0,0,0,0]
[72.200000000000486,0,0,0,0,0,0,0,0,0,0]
[72.400000000000489,0,0,0,0,0,0,0,0,0,0]
[72.600000000000492,0,0,0,0,0,0,0,0,0,0]
[72.800000000000495,0,0,0,0,0,0,0,0,0,0]
[73.000000000000497,0,0,0,0,0,0,0,0,0,0]
[73.2000000000005,0,0,0,0,0,0,0,0,0,0]
[73.400000000000503,0,0,0,0,0,0,0,0,0,0]
[73.600000000000506,0,0,0,0,0,0,0,0,0,0]
[73.800000000000509,0,0,0,0,0,0,0,0,0,0]
[74.000000000000512,0,0,0,0,0,0,0,0,0,0]
[74.200000000000514,0,0,0,0,0,0,0,0,0,0]
[74.400000000000517,0,0,0,0,0,0,0,0,0,0]
[74.60000000000052,0,0,0,0,0,0,0,0,0,0]
[74.800000000000523,0,0,0,0,0,0,0,0,0,0]
[75.000000000000526,0,0,0,0,0,0,0,0,0,0]
[75.200000000000529,0,0,0,0,0,0,0,0,0,0]
[75.400000000000531,0,0,0,0,0,0,0,0,0,0]
[75.600000000000534,0,0,0,0,0,0,0,0,0,0]
[75.800000000000537,0,0,0,0,0,0,0,0,0,0]
[76.00000000000054,0,0,0,0,0,0,0,0,0,0]
[76.200000000000543,0,0,0,0,0,0,0,0,0,0]
[76.400000000000546,0,0,0,0,0,0,0,0,0,0]
[76.600000000000549,0,0,0,0,0,0,0,0,0,0]
[76.800000000000551,{"$f":"IF(ISERROR($G$16*A426+$G$17),0,$G$16*A426+$G$17)","v":0},{"$f":"IF(AND($C$5>=A426,A426>=$B$5),($D$5^2-(A426-$E$5)^2)^0.5,0)","v":0},{"$f":"IF(AND($C$6>=A426,A426>=$B$6),($D$6^2-(A426-$E$6)^2)^0.5,0)","v":0},{"$f":"IF(AND($C$7>=A426,A426>$B$7),($D$7^2-(A426-$E$7)^2)^0.5,0)","v":0},{"$f":"IF(AND($C$8>=A426,A426>=$B$8),($D$8^2-(A426-$E$8)^2)^0.5,0)","v":0},{"$f":"IF(AND($C$9>=A426,A426>=$B$9),($D$9^2-(A426-$E$9)^2)^0.5,0)","v":0},{"$f":"IF(AND($C$10>=A426,A426>=$B$10),($D$10^2-(A426-$E$10)^2)^0.5,0)","v":0},{"$f":"IF(AND($C$11>=A426,A426>=$B$11),($D$11^2-(A426-$E$11)^2)^0.5,0)","v":0},{"$f":"IF(AND($C$12>=A426,A426>=$B$12),($D$12^2-(A426-$E$12)^2)^0.5,0)","v":0},0]
[77.000000000000554,0,0,0,0,0,0,0,0,0,{"$f":"IF(AND($C$13>=A427,A427>=$B$13),($D$13^2-(A427-$E$13)^2)^0.5,0)","v":0}]
[{"$f":"A427+0.2","v":77.200000000000557},0,0,0,0,0,0,0,0,0,0]
[77.40000000000056,0,0,0,0,0,0,0,0,0,0]
[77.600000000000563,0,0,0,0,0,0,0,0,0,0]
[77.800000000000566,0,0,0,0,0,0,0,0,0,0]
[78.000000000000568,0,0,0,0,0,0,0,0,0,0]
[78.200000000000571,0,0,0,0,0,0,0,0,0,0]
[78.400000000000574,0,0,0,0,0,0,0,0,0,0]
[78.600000000000577,0,0,0,0,0,0,0,0,0,0]
[78.80000000000058,0,0,0,0,0,0,0,0,0,0]
[79.000000000000583,0,0,0,0,0,0,0,0,0,0]
[79.200000000000585,0,0,0,0,0,0,0,0,0,0]
[79.400000000000588,0,0,0,0,0,0,0,0,0,0]
[79.600000000000591,0,0,0,0,0,0,0,0,0,0]
[79.800000000000594,0,0,0,0,0,0,0,0,0,0]
[80.000000000000597,0,0,0,0,0,0,0,0,0,0]
[80.2000000000006,0,0,0,0,0,0,0,0,0,0]
[80.400000000000603,0,0,0,0,0,0,0,0,0,0]
[80.600000000000605,0,0,0,0,0,0,0,0,0,0]
[80.800000000000608,0,0,0,0,0,0,0,0,0,0]
[81.000000000000611,0,0,0,0,0,0,0,0,0,0]
[81.200000000000614,0,0,0,0,0,0,0,0,0,0]
[81.400000000000617,0,0,0,0,0,0,0,0,0,0]
[81.60000000000062,0,0,0,0,0,0,0,0,0,0]
[81.800000000000622,0,0,0,0,0,0,0,0,0,0]
[82.000000000000625,0,0,0,0,0,0,0,0,0,0]
[82.200000000000628,0,0,0,0,0,0,0,0,0,0]
[82.400000000000631,0,0,0,0,0,0,0,0,0,0]
[82.600000000000634,0,0,0,0,0,0,0,0,0,0]
[82.800000000000637,0,0,0,0,0,0,0,0,0,0]
[83.000000000000639,0,0,0,0,0,0,0,0,0,0]
[83.200000000000642,0,0,0,0,0,0,0,0,0,0]
[83.400000000000645,0,0,0,0,0,0,0,0,0,0]
[83.600000000000648,0,0,0,0,0,0,0,0,0,0]
[83.800000000000651,0,0,0,0,0,0,0,0,0,0]
[84.000000000000654,0,0,0,0,0,0,0,0,0,0]
[84.200000000000657,0,0,0,0,0,0,0,0,0,0]
[84.400000000000659,0,0,0,0,0,0,0,0,0,0]
[84.600000000000662,0,0,0,0,0,0,0,0,0,0]
[84.800000000000665,0,0,0,0,0,0,0,0,0,0]
[85.000000000000668,0,0,0,0,0,0,0,0,0,0]
[85.200000000000671,0,0,0,0,0,0,0,0,0,0]
[85.400000000000674,0,0,0,0,0,0,0,0,0,0]
[85.600000000000676,0,0,0,0,0,0,0,0,0,0]
[85.800000000000679,0,0,0,0,0,0,0,0,0,0]
[86.000000000000682,0,0,0,0,0,0,0,0,0,0]
[86.200000000000685,0,0,0,0,0,0,0,0,0,0]
[86.400000000000688,0,0,0,0,0,0,0,0,0,0]
[86.600000000000691,0,0,0,0,0,0,0,0,0,0]
[86.800000000000693,0,0,0,0,0,0,0,0,0,0]
[87.000000000000696,0,0,0,0,0,0,0,0,0,0]
[87.200000000000699,0,0,0,0,0,0,0,0,0,0]
[87.400000000000702,0,0,0,0,0,0,0,0,0,0]
[87.600000000000705,0,0,0,0,0,0,0,0,0,0]
[87.800000000000708,0,0,0,0,0,0,0,0,0,0]
[88.000000000000711,0,0,0,0,0,0,0,0,0,0]
[88.200000000000713,0,0,0,0,0,0,0,0,0,0]
[88.400000000000716,0,0,0,0,0,0,0,0,0,0]
[88.600000000000719,0,0,0,0,0,0,0,0,0,0]
[88.800000000000722,0,0,0,0,0,0,0,0,0,0]
[89.000000000000725,0,0,0,0,0,0,0,0,0,0]
[89.200000000000728,0,0,0,0,0,0,0,0,0,0]
[89.40000000000073,0,0,0,0,0,0,0,0,0,0]
[89.600000000000733,{"$f":"IF(ISERROR($G$16*A490+$G$17),0,$G$16*A490+$G$17)","v":0},{"$f":"IF(AND($C$5>=A490,A490>=$B$5),($D$5^2-(A490-$E$5)^2)^0.5,0)","v":0},{"$f":"IF(AND($C$6>=A490,A490>=$B$6),($D$6^2-(A490-$E$6)^2)^0.5,0)","v":0},{"$f":"IF(AND($C$7>=A490,A490>$B$7),($D$7^2-(A490-$E$7)^2)^0.5,0)","v":0},{"$f":"IF(AND($C$8>=A490,A490>=$B$8),($D$8^2-(A490-$E$8)^2)^0.5,0)","v":0},{"$f":"IF(AND($C$9>=A490,A490>=$B$9),($D$9^2-(A490-$E$9)^2)^0.5,0)","v":0},{"$f":"IF(AND($C$10>=A490,A490>=$B$10),($D$10^2-(A490-$E$10)^2)^0.5,0)","v":0},{"$f":"IF(AND($C$11>=A490,A490>=$B$11),($D$11^2-(A490-$E$11)^2)^0.5,0)","v":0},{"$f":"IF(AND($C$12>=A490,A490>=$B$12),($D$12^2-(A490-$E$12)^2)^0.5,0)","v":0},0]
[89.800000000000736,0,0,0,0,0,0,0,0,0,{"$f":"IF(AND($C$13>=A491,A491>=$B$13),($D$13^2-(A491-$E$13)^2)^0.5,0)","v":0}]
[{"$f":"A491+0.2","v":90.000000000000739},0,0,0,0,0,0,0,0,0,0]
[90.200000000000742,0,0,0,0,0,0,0,0,0,0]
[90.400000000000745,0,0,0,0,0,0,0,0,0,0]
[90.600000000000747,0,0,0,0,0,0,0,0,0,0]
[90.80000000000075,0,0,0,0,0,0,0,0,0,0]
[91.000000000000753,0,0,0,0,0,0,0,0,0,0]
[91.200000000000756,0,0,0,0,0,0,0,0,0,0]
[91.400000000000759,0,0,0,0,0,0,0,0,0,0]
[91.600000000000762,0,0,0,0,0,0,0,0,0,0]
[91.800000000000765,0,0,0,0,0,0,0,0,0,0]
[92.000000000000767,0,0,0,0,0,0,0,0,0,0]
[92.20000000000077,0,0,0,0,0,0,0,0,0,0]
[92.400000000000773,0,0,0,0,0,0,0,0,0,0]
[92.600000000000776,0,0,0,0,0,0,0,0,0,0]
[92.800000000000779,0,0,0,0,0,0,0,0,0,0]
[93.000000000000782,0,0,0,0,0,0,0,0,0,0]
[93.200000000000784,0,0,0,0,0,0,0,0,0,0]
[93.400000000000787,0,0,0,0,0,0,0,0,0,0]
[93.60000000000079,0,0,0,0,0,0,0,0,0,0]
[93.800000000000793,0,0,0,0,0,0,0,0,0,0]
[94.000000000000796,0,0,0,0,0,0,0,0,0,0]
[94.200000000000799,0,0,0,0,0,0,0,0,0,0]
[94.400000000000801,0,0,0,0,0,0,0,0,0,0]
[94.600000000000804,0,0,0,0,0,0,0,0,0,0]
[94.800000000000807,0,0,0,0,0,0,0,0,0,0]
[95.00000000000081,0,0,0,0,0,0,0,0,0,0]
[95.200000000000813,0,0,0,0,0,0,0,0,0,0]
[95.400000000000816,0,0,0,0,0,0,0,0,0,0]
[95.600000000000819,0,0,0,0,0,0,0,0,0,0]
[95.800000000000821,0,0,0,0,0,0,0,0,0,0]
[96.000000000000824,0,0,0,0,0,0,0,0,0,0]
[96.200000000000827,0,0,0,0,0,0,0,0,0,0]
[96.40000000000083,0,0,0,0,0,0,0,0,0,0]
[96.600000000000833,0,0,0,0,0,0,0,0,0,0]
[96.800000000000836,0,0,0,0,0,0,0,0,0,0]
[97.000000000000838,0,0,0,0,0,0,0,0,0,0]
[97.200000000000841,0,0,0,0,0,0,0,0,0,0]
[97.400000000000844,0,0,0,0,0,0,0,0,0,0]
[97.600000000000847,0,0,0,0,0,0,0,0,0,0]
[97.80000000000085,0,0,0,0,0,0,0,0,0,0]
[98.000000000000853,0,0,0,0,0,0,0,0,0,0]
[98.200000000000855,0,0,0,0,0,0,0,0,0,0]
[98.400000000000858,0,0,0,0,0,0,0,0,0,0]
[98.600000000000861,0,0,0,0,0,0,0,0,0,0]
[98.800000000000864,0,0,0,0,0,0,0,0,0,0]
[99.000000000000867,0,0,0,0,0,0,0,0,0,0]
[99.20000000000087,0,0,0,0,0,0,0,0,0,0]
[99.400000000000873,0,0,0,0,0,0,0,0,0,0]
[99.600000000000875,0,0,0,0,0,0,0,0,0,0]
[99.800000000000878,0,0,0,0,0,0,0,0,0,0]
[100.00000000000088,0,0,0,0,0,0,0,0,0,0]
[100.20000000000088,0,0,0,0,0,0,0,0,0,0]
[100.40000000000089,0,0,0,0,0,0,0,0,0,0]
[100.60000000000089,0,0,0,0,0,0,0,0,0,0]
[100.80000000000089,0,0,0,0,0,0,0,0,0,0]
[101.0000000000009,0,0,0,0,0,0,0,0,0,0]
[101.2000000000009,0,0,0,0,0,0,0,0,0,0]
[101.4000000000009,0,0,0,0,0,0,0,0,0,0]
[101.6000000000009,0,0,0,0,0,0,0,0,0,0]
[101.80000000000091,0,0,0,0,0,0,0,0,0,0]
[102.00000000000091,0,0,0,0,0,0,0,0,0,0]
[102.20000000000091,0,0,0,0,0,0,0,0,0,0]
[102.40000000000092,{"$f":"IF(ISERROR($G$16*A554+$G$17),0,$G$16*A554+$G$17)","v":0},{"$f":"IF(AND($C$5>=A554,A554>=$B$5),($D$5^2-(A554-$E$5)^2)^0.5,0)","v":0},{"$f":"IF(AND($C$6>=A554,A554>=$B$6),($D$6^2-(A554-$E$6)^2)^0.5,0)","v":0},{"$f":"IF(AND($C$7>=A554,A554>$B$7),($D$7^2-(A554-$E$7)^2)^0.5,0)","v":0},{"$f":"IF(AND($C$8>=A554,A554>=$B$8),($D$8^2-(A554-$E$8)^2)^0.5,0)","v":0},{"$f":"IF(AND($C$9>=A554,A554>=$B$9),($D$9^2-(A554-$E$9)^2)^0.5,0)","v":0},{"$f":"IF(AND($C$10>=A554,A554>=$B$10),($D$10^2-(A554-$E$10)^2)^0.5,0)","v":0},{"$f":"IF(AND($C$11>=A554,A554>=$B$11),($D$11^2-(A554-$E$11)^2)^0.5,0)","v":0},{"$f":"IF(AND($C$12>=A554,A554>=$B$12),($D$12^2-(A554-$E$12)^2)^0.5,0)","v":0},0]
[102.60000000000092,0,0,0,0,0,0,0,0,0,{"$f":"IF(AND($C$13>=A555,A555>=$B$13),($D$13^2-(A555-$E$13)^2)^0.5,0)","v":0}]
[{"$f":"A555+0.2","v":102.80000000000092},0,0,0,0,0,0,0,0,0,0]
[103.00000000000092,0,0,0,0,0,0,0,0,0,0]
[103.20000000000093,0,0,0,0,0,0,0,0,0,0]
[103.40000000000093,0,0,0,0,0,0,0,0,0,0]
[103.60000000000093,0,0,0,0,0,0,0,0,0,0]
[103.80000000000094,0,0,0,0,0,0,0,0,0,0]
[104.00000000000094,0,0,0,0,0,0,0,0,0,0]
[104.20000000000094,0,0,0,0,0,0,0,0,0,0]
[104.40000000000094,0,0,0,0,0,0,0,0,0,0]
[104.60000000000095,0,0,0,0,0,0,0,0,0,0]
[104.80000000000095,0,0,0,0,0,0,0,0,0,0]
[105.00000000000095,0,0,0,0,0,0,0,0,0,0]
[105.20000000000095,0,0,0,0,0,0,0,0,0,0]
[105.40000000000096,0,0,0,0,0,0,0,0,0,0]
[105.60000000000096,0,0,0,0,0,0,0,0,0,0]
[105.80000000000096,0,0,0,0,0,0,0,0,0,0]
[106.00000000000097,0,0,0,0,0,0,0,0,0,0]
[106.20000000000097,0,0,0,0,0,0,0,0,0,0]
[106.40000000000097,0,0,0,0,0,0,0,0,0,0]
[106.60000000000097,0,0,0,0,0,0,0,0,0,0]
[106.80000000000098,0,0,0,0,0,0,0,0,0,0]
[107.00000000000098,0,0,0,0,0,0,0,0,0,0]
[107.20000000000098,0,0,0,0,0,0,0,0,0,0]
[107.40000000000099,0,0,0,0,0,0,0,0,0,0]
[107.60000000000099,0,0,0,0,0,0,0,0,0,0]
[107.80000000000099,0,0,0,0,0,0,0,0,0,0]
[108.00000000000099,0,0,0,0,0,0,0,0,0,0]
[108.200000000001,0,0,0,0,0,0,0,0,0,0]
[108.400000000001,0,0,0,0,0,0,0,0,0,0]
[108.600000000001,0,0,0,0,0,0,0,0,0,0]
[108.80000000000101,0,0,0,0,0,0,0,0,0,0]
[109.00000000000101,0,0,0,0,0,0,0,0,0,0]
[109.20000000000101,0,0,0,0,0,0,0,0,0,0]
[109.40000000000101,0,0,0,0,0,0,0,0,0,0]
[109.60000000000102,0,0,0,0,0,0,0,0,0,0]
[109.80000000000102,0,0,0,0,0,0,0,0,0,0]
[110.00000000000102,0,0,0,0,0,0,0,0,0,0]
[110.20000000000103,0,0,0,0,0,0,0,0,0,0]
[110.40000000000103,0,0,0,0,0,0,0,0,0,0]
[110.60000000000103,0,0,0,0,0,0,0,0,0,0]
[110.80000000000103,0,0,0,0,0,0,0,0,0,0]
[111.00000000000104,0,0,0,0,0,0,0,0,0,0]
[111.20000000000104,0,0,0,0,0,0,0,0,0,0]
[111.40000000000104,0,0,0,0,0,0,0,0,0,0]
[111.60000000000105,0,0,0,0,0,0,0,0,0,0]
[111.80000000000105,0,0,0,0,0,0,0,0,0,0]
[112.00000000000105,0,0,0,0,0,0,0,0,0,0]
[112.20000000000105,0,0,0,0,0,0,0,0,0,0]
[112.40000000000106,0,0,0,0,0,0,0,0,0,0]
[112.60000000000106,0,0,0,0,0,0,0,0,0,0]
[112.80000000000106,0,0,0,0,0,0,0,0,0,0]
[113.00000000000107,0,0,0,0,0,0,0,0,0,0]
[113.20000000000107,0,0,0,0,0,0,0,0,0,0]
[113.40000000000107,0,0,0,0,0,0,0,0,0,0]
[113.60000000000107,0,0,0,0,0,0,0,0,0,0]
[113.80000000000108,0,0,0,0,0,0,0,0,0,0]
[114.00000000000108,0,0,0,0,0,0,0,0,0,0]
[114.20000000000108,0,0,0,0,0,0,0,0,0,0]
[114.40000000000109,0,0,0,0,0,0,0,0,0,0]
[114.60000000000109,0,0,0,0,0,0,0,0,0,0]
[114.80000000000109,0,0,0,0,0,0,0,0,0,0]
[115.00000000000109,0,0,0,0,0,0,0,0,0,0]
[115.2000000000011,{"$f":"IF(ISERROR($G$16*A618+$G$17),0,$G$16*A618+$G$17)","v":0},{"$f":"IF(AND($C$5>=A618,A618>=$B$5),($D$5^2-(A618-$E$5)^2)^0.5,0)","v":0},{"$f":"IF(AND($C$6>=A618,A618>=$B$6),($D$6^2-(A618-$E$6)^2)^0.5,0)","v":0},{"$f":"IF(AND($C$7>=A618,A618>$B$7),($D$7^2-(A618-$E$7)^2)^0.5,0)","v":0},{"$f":"IF(AND($C$8>=A618,A618>=$B$8),($D$8^2-(A618-$E$8)^2)^0.5,0)","v":0},{"$f":"IF(AND($C$9>=A618,A618>=$B$9),($D$9^2-(A618-$E$9)^2)^0.5,0)","v":0},{"$f":"IF(AND($C$10>=A618,A618>=$B$10),($D$10^2-(A618-$E$10)^2)^0.5,0)","v":0},{"$f":"IF(AND($C$11>=A618,A618>=$B$11),($D$11^2-(A618-$E$11)^2)^0.5,0)","v":0},{"$f":"IF(AND($C$12>=A618,A618>=$B$12),($D$12^2-(A618-$E$12)^2)^0.5,0)","v":0},0]
[115.4000000000011,0,0,0,0,0,0,0,0,0,{"$f":"IF(AND($C$13>=A619,A619>=$B$13),($D$13^2-(A619-$E$13)^2)^0.5,0)","v":0}]
[{"$f":"A619+0.2","v":115.6000000000011},0,0,0,0,0,0,0,0,0,0]
[115.80000000000111,0,0,0,0,0,0,0,0,0,0]
[116.00000000000111,0,0,0,0,0,0,0,0,0,0]
[116.20000000000111,0,0,0,0,0,0,0,0,0,0]
[116.40000000000111,0,0,0,0,0,0,0,0,0,0]
[116.60000000000112,0,0,0,0,0,0,0,0,0,0]
[116.80000000000112,0,0,0,0,0,0,0,0,0,0]
[117.00000000000112,0,0,0,0,0,0,0,0,0,0]
[117.20000000000113,0,0,0,0,0,0,0,0,0,0]
[117.40000000000113,0,0,0,0,0,0,0,0,0,0]
[117.60000000000113,0,0,0,0,0,0,0,0,0,0]
[117.80000000000113,0,0,0,0,0,0,0,0,0,0]
[118.00000000000114,0,0,0,0,0,0,0,0,0,0]
[118.20000000000114,0,0,0,0,0,0,0,0,0,0]
[118.40000000000114,0,0,0,0,0,0,0,0,0,0]
[118.60000000000115,0,0,0,0,0,0,0,0,0,0]
[118.80000000000115,0,0,0,0,0,0,0,0,0,0]
[119.00000000000115,0,0,0,0,0,0,0,0,0,0]
[119.20000000000115,0,0,0,0,0,0,0,0,0,0]
[119.40000000000116,0,0,0,0,0,0,0,0,0,0]
[119.60000000000116,0,0,0,0,0,0,0,0,0,0]
[119.80000000000116,0,0,0,0,0,0,0,0,0,0]
[120.00000000000117,0,0,0,0,0,0,0,0,0,0]
[120.20000000000117,0,0,0,0,0,0,0,0,0,0]
[120.40000000000117,0,0,0,0,0,0,0,0,0,0]
[120.60000000000117,0,0,0,0,0,0,0,0,0,0]
[120.80000000000118,0,0,0,0,0,0,0,0,0,0]
[121.00000000000118,0,0,0,0,0,0,0,0,0,0]
[121.20000000000118,0,0,0,0,0,0,0,0,0,0]
[121.40000000000119,0,0,0,0,0,0,0,0,0,0]
[121.60000000000119,0,0,0,0,0,0,0,0,0,0]
[121.80000000000119,0,0,0,0,0,0,0,0,0,0]
[122.00000000000119,0,0,0,0,0,0,0,0,0,0]
[122.2000000000012,0,0,0,0,0,0,0,0,0,0]
[122.4000000000012,0,0,0,0,0,0,0,0,0,0]
[122.6000000000012,0,0,0,0,0,0,0,0,0,0]
[122.80000000000121,0,0,0,0,0,0,0,0,0,0]
[123.00000000000121,0,0,0,0,0,0,0,0,0,0]
[123.20000000000121,0,0,0,0,0,0,0,0,0,0]
[123.40000000000121,0,0,0,0,0,0,0,0,0,0]
[123.60000000000122,0,0,0,0,0,0,0,0,0,0]
[123.80000000000122,0,0,0,0,0,0,0,0,0,0]
[124.00000000000122,0,0,0,0,0,0,0,0,0,0]
[124.20000000000122,0,0,0,0,0,0,0,0,0,0]
[124.40000000000123,0,0,0,0,0,0,0,0,0,0]
[124.60000000000123,0,0,0,0,0,0,0,0,0,0]
[124.80000000000123,0,0,0,0,0,0,0,0,0,0]
[125.00000000000124,0,0,0,0,0,0,0,0,0,0]
[125.20000000000124,0,0,0,0,0,0,0,0,0,0]
[125.40000000000124,0,0,0,0,0,0,0,0,0,0]
[125.60000000000124,0,0,0,0,0,0,0,0,0,0]
[125.80000000000125,0,0,0,0,0,0,0,0,0,0]
[126.00000000000125,0,0,0,0,0,0,0,0,0,0]
[126.20000000000125,0,0,0,0,0,0,0,0,0,0]
[126.40000000000126,0,0,0,0,0,0,0,0,0,0]
[126.60000000000126,0,0,0,0,0,0,0,0,0,0]
[126.80000000000126,0,0,0,0,0,0,0,0,0,0]
[127.00000000000126,0,0,0,0,0,0,0,0,0,0]
[127.20000000000127,0,0,0,0,0,0,0,0,0,0]
[127.40000000000127,0,0,0,0,0,0,0,0,0,0]
[127.60000000000127,0,0,0,0,0,0,0,0,0,0]
[127.80000000000128,0,0,0,0,0,0,0,0,0,0]
[128.00000000000128,{"$f":"IF(ISERROR($G$16*A682+$G$17),0,$G$16*A682+$G$17)","v":0},{"$f":"IF(AND($C$5>=A682,A682>=$B$5),($D$5^2-(A682-$E$5)^2)^0.5,0)","v":0},{"$f":"IF(AND($C$6>=A682,A682>=$B$6),($D$6^2-(A682-$E$6)^2)^0.5,0)","v":0},{"$f":"IF(AND($C$7>=A682,A682>$B$7),($D$7^2-(A682-$E$7)^2)^0.5,0)","v":0},{"$f":"IF(AND($C$8>=A682,A682>=$B$8),($D$8^2-(A682-$E$8)^2)^0.5,0)","v":0},{"$f":"IF(AND($C$9>=A682,A682>=$B$9),($D$9^2-(A682-$E$9)^2)^0.5,0)","v":0},{"$f":"IF(AND($C$10>=A682,A682>=$B$10),($D$10^2-(A682-$E$10)^2)^0.5,0)","v":0},{"$f":"IF(AND($C$11>=A682,A682>=$B$11),($D$11^2-(A682-$E$11)^2)^0.5,0)","v":0},{"$f":"IF(AND($C$12>=A682,A682>=$B$12),($D$12^2-(A682-$E$12)^2)^0.5,0)","v":0},0]
[128.20000000000127,0,0,0,0,0,0,0,0,0,{"$f":"IF(AND($C$13>=A683,A683>=$B$13),($D$13^2-(A683-$E$13)^2)^0.5,0)","v":0}]
[{"$f":"A683+0.2","v":128.40000000000126},0,0,0,0,0,0,0,0,0,0]
[128.60000000000124,0,0,0,0,0,0,0,0,0,0]
[128.80000000000123,0,0,0,0,0,0,0,0,0,0]
[129.00000000000122,0,0,0,0,0,0,0,0,0,0]
[129.20000000000121,0,0,0,0,0,0,0,0,0,0]
[129.4000000000012,0,0,0,0,0,0,0,0,0,0]
[129.60000000000119,0,0,0,0,0,0,0,0,0,0]
[129.80000000000118,0,0,0,0,0,0,0,0,0,0]
[130.00000000000117,0,0,0,0,0,0,0,0,0,0]
[130.20000000000115,0,0,0,0,0,0,0,0,0,0]
[130.40000000000114,0,0,0,0,0,0,0,0,0,0]
[130.60000000000113,0,0,0,0,0,0,0,0,0,0]
[130.80000000000112,0,0,0,0,0,0,0,0,0,0]
[131.00000000000111,0,0,0,0,0,0,0,0,0,0]
[131.2000000000011,0,0,0,0,0,0,0,0,0,0]
[131.40000000000109,0,0,0,0,0,0,0,0,0,0]
[131.60000000000107,0,0,0,0,0,0,0,0,0,0]
[131.80000000000106,0,0,0,0,0,0,0,0,0,0]
[132.00000000000105,0,0,0,0,0,0,0,0,0,0]
[132.20000000000104,0,0,0,0,0,0,0,0,0,0]
[132.40000000000103,0,0,0,0,0,0,0,0,0,0]
[132.60000000000102,0,0,0,0,0,0,0,0,0,0]
[132.80000000000101,0,0,0,0,0,0,0,0,0,0]
[133.00000000000099,0,0,0,0,0,0,0,0,0,0]
[133.20000000000098,0,0,0,0,0,0,0,0,0,0]
[133.40000000000097,0,0,0,0,0,0,0,0,0,0]
[133.60000000000096,0,0,0,0,0,0,0,0,0,0]
[133.80000000000095,0,0,0,0,0,0,0,0,0,0]
[134.00000000000094,0,0,0,0,0,0,0,0,0,0]
[134.20000000000093,0,0,0,0,0,0,0,0,0,0]
[134.40000000000092,0,0,0,0,0,0,0,0,0,0]
[134.6000000000009,0,0,0,0,0,0,0,0,0,0]
[134.80000000000089,0,0,0,0,0,0,0,0,0,0]
[135.00000000000088,0,0,0,0,0,0,0,0,0,0]
[135.20000000000087,0,0,0,0,0,0,0,0,0,0]
[135.40000000000086,0,0,0,0,0,0,0,0,0,0]
[135.60000000000085,0,0,0,0,0,0,0,0,0,0]
[135.80000000000084,0,0,0,0,0,0,0,0,0,0]
[136.00000000000082,0,0,0,0,0,0,0,0,0,0]
[136.20000000000081,0,0,0,0,0,0,0,0,0,0]
[136.4000000000008,0,0,0,0,0,0,0,0,0,0]
[136.60000000000079,0,0,0,0,0,0,0,0,0,0]
[136.80000000000078,0,0,0,0,0,0,0,0,0,0]
[137.00000000000077,0,0,0,0,0,0,0,0,0,0]
[137.20000000000076,0,0,0,0,0,0,0,0,0,0]
[137.40000000000074,0,0,0,0,0,0,0,0,0,0]
[137.60000000000073,0,0,0,0,0,0,0,0,0,0]
[137.80000000000072,0,0,0,0,0,0,0,0,0,0]
[138.00000000000071,0,0,0,0,0,0,0,0,0,0]
[138.2000000000007,0,0,0,0,0,0,0,0,0,0]
[138.40000000000069,0,0,0,0,0,0,0,0,0,0]
[138.60000000000068,0,0,0,0,0,0,0,0,0,0]
[138.80000000000067,0,0,0,0,0,0,0,0,0,0]
[139.00000000000065,0,0,0,0,0,0,0,0,0,0]
[139.20000000000064,0,0,0,0,0,0,0,0,0,0]
[139.40000000000063,0,0,0,0,0,0,0,0,0,0]
[139.60000000000062,0,0,0,0,0,0,0,0,0,0]
[139.80000000000061,0,0,0,0,0,0,0,0,0,0]
[140.0000000000006,0,0,0,0,0,0,0,0,0,0]
[140.20000000000059,0,0,0,0,0,0,0,0,0,0]
[140.40000000000057,0,0,0,0,0,0,0,0,0,0]
[140.60000000000056,0,0,0,0,0,0,0,0,0,0]
[140.80000000000055,{"$f":"IF(ISERROR($G$16*A746+$G$17),0,$G$16*A746+$G$17)","v":0},{"$f":"IF(AND($C$5>=A746,A746>=$B$5),($D$5^2-(A746-$E$5)^2)^0.5,0)","v":0},{"$f":"IF(AND($C$6>=A746,A746>=$B$6),($D$6^2-(A746-$E$6)^2)^0.5,0)","v":0},{"$f":"IF(AND($C$7>=A746,A746>$B$7),($D$7^2-(A746-$E$7)^2)^0.5,0)","v":0},{"$f":"IF(AND($C$8>=A746,A746>=$B$8),($D$8^2-(A746-$E$8)^2)^0.5,0)","v":0},{"$f":"IF(AND($C$9>=A746,A746>=$B$9),($D$9^2-(A746-$E$9)^2)^0.5,0)","v":0},{"$f":"IF(AND($C$10>=A746,A746>=$B$10),($D$10^2-(A746-$E$10)^2)^0.5,0)","v":0},{"$f":"IF(AND($C$11>=A746,A746>=$B$11),($D$11^2-(A746-$E$11)^2)^0.5,0)","v":0},{"$f":"IF(AND($C$12>=A746,A746>=$B$12),($D$12^2-(A746-$E$12)^2)^0.5,0)","v":0},0]
[141.00000000000054,0,0,0,0,0,0,0,0,0,{"$f":"IF(AND($C$13>=A747,A747>=$B$13),($D$13^2-(A747-$E$13)^2)^0.5,0)","v":0}]
[{"$f":"A747+0.2","v":141.20000000000053},0,0,0,0,0,0,0,0,0,0]
[141.40000000000052,0,0,0,0,0,0,0,0,0,0]
[141.60000000000051,0,0,0,0,0,0,0,0,0,0]
[141.80000000000049,0,0,0,0,0,0,0,0,0,0]
[142.00000000000048,0,0,0,0,0,0,0,0,0,0]
[142.20000000000047,0,0,0,0,0,0,0,0,0,0]
[142.40000000000046,0,0,0,0,0,0,0,0,0,0]
[142.60000000000045,0,0,0,0,0,0,0,0,0,0]
[142.80000000000044,0,0,0,0,0,0,0,0,0,0]
[143.00000000000043,0,0,0,0,0,0,0,0,0,0]
[143.20000000000041,0,0,0,0,0,0,0,0,0,0]
[143.4000000000004,0,0,0,0,0,0,0,0,0,0]
[143.60000000000039,0,0,0,0,0,0,0,0,0,0]
[143.80000000000038,0,0,0,0,0,0,0,0,0,0]
[144.00000000000037,0,0,0,0,0,0,0,0,0,0]
[144.20000000000036,0,0,0,0,0,0,0,0,0,0]
[144.40000000000035,0,0,0,0,0,0,0,0,0,0]
[144.60000000000034,0,0,0,0,0,0,0,0,0,0]
[144.80000000000032,0,0,0,0,0,0,0,0,0,0]
[145.00000000000031,0,0,0,0,0,0,0,0,0,0]
[145.2000000000003,0,0,0,0,0,0,0,0,0,0]
[145.40000000000029,0,0,0,0,0,0,0,0,0,0]
[145.60000000000028,0,0,0,0,0,0,0,0,0,0]
[145.80000000000027,0,0,0,0,0,0,0,0,0,0]
[146.00000000000026,0,0,0,0,0,0,0,0,0,0]
[146.20000000000024,0,0,0,0,0,0,0,0,0,0]
[146.40000000000023,0,0,0,0,0,0,0,0,0,0]
[146.60000000000022,0,0,0,0,0,0,0,0,0,0]
[146.80000000000021,0,0,0,0,0,0,0,0,0,0]
[147.0000000000002,0,0,0,0,0,0,0,0,0,0]
[147.20000000000019,0,0,0,0,0,0,0,0,0,0]
[147.40000000000018,0,0,0,0,0,0,0,0,0,0]
[147.60000000000016,0,0,0,0,0,0,0,0,0,0]
[147.80000000000015,0,0,0,0,0,0,0,0,0,0]
[148.00000000000014,0,0,0,0,0,0,0,0,0,0]
[148.20000000000013,0,0,0,0,0,0,0,0,0,0]
[148.40000000000012,0,0,0,0,0,0,0,0,0,0]
[148.60000000000011,0,0,0,0,0,0,0,0,0,0]
[148.8000000000001,0,0,0,0,0,0,0,0,0,0]
[149.00000000000009,0,0,0,0,0,0,0,0,0,0]
[149.20000000000007,0,0,0,0,0,0,0,0,0,0]
[149.40000000000006,0,0,0,0,0,0,0,0,0,0]
[149.60000000000005,0,0,0,0,0,0,0,0,0,0]
[149.80000000000004,0,0,0,0,0,0,0,0,0,0]
[150.00000000000003,0,0,0,0,0,0,0,0,0,0]
[150.20000000000002,0,0,0,0,0,0,0,0,0,0]
[150.4,0,0,0,0,0,0,0,0,0,0]
[150.6,0,0,0,0,0,0,0,0,0,0]
[150.79999999999998,0,0,0,0,0,0,0,0,0,0]
[150.99999999999997,0,0,0,0,0,0,0,0,0,0]
[151.19999999999996,0,0,0,0,0,0,0,0,0,0]
[151.39999999999995,0,0,0,0,0,0,0,0,0,0]
[151.59999999999994,0,0,0,0,0,0,0,0,0,0]
[151.79999999999993,0,0,0,0,0,0,0,0,0,0]
[151.99999999999991,0,0,0,0,0,0,0,0,0,0]
[152.1999999999999,0,0,0,0,0,0,0,0,0,0]
[152.39999999999989,0,0,0,0,0,0,0,0,0,0]
[152.59999999999988,0,0,0,0,0,0,0,0,0,0]
[152.79999999999987,0,0,0,0,0,0,0,0,0,0]
[152.99999999999986,0,0,0,0,0,0,0,0,0,0]
[153.19999999999985,0,0,0,0,0,0,0,0,0,0]
[153.39999999999984,0,0,0,0,0,0,0,0,0,0]
[153.59999999999982,{"$f":"IF(ISERROR($G$16*A810+$G$17),0,$G$16*A810+$G$17)","v":0},{"$f":"IF(AND($C$5>=A810,A810>=$B$5),($D$5^2-(A810-$E$5)^2)^0.5,0)","v":0},{"$f":"IF(AND($C$6>=A810,A810>=$B$6),($D$6^2-(A810-$E$6)^2)^0.5,0)","v":0},{"$f":"IF(AND($C$7>=A810,A810>$B$7),($D$7^2-(A810-$E$7)^2)^0.5,0)","v":0},{"$f":"IF(AND($C$8>=A810,A810>=$B$8),($D$8^2-(A810-$E$8)^2)^0.5,0)","v":0},{"$f":"IF(AND($C$9>=A810,A810>=$B$9),($D$9^2-(A810-$E$9)^2)^0.5,0)","v":0},{"$f":"IF(AND($C$10>=A810,A810>=$B$10),($D$10^2-(A810-$E$10)^2)^0.5,0)","v":0},{"$f":"IF(AND($C$11>=A810,A810>=$B$11),($D$11^2-(A810-$E$11)^2)^0.5,0)","v":0},{"$f":"IF(AND($C$12>=A810,A810>=$B$12),($D$12^2-(A810-$E$12)^2)^0.5,0)","v":0},0]
[153.79999999999981,0,0,0,0,0,0,0,0,0,{"$f":"IF(AND($C$13>=A811,A811>=$B$13),($D$13^2-(A811-$E$13)^2)^0.5,0)","v":0}]
[{"$f":"A811+0.2","v":153.9999999999998},0,0,0,0,0,0,0,0,0,0]
[154.19999999999979,0,0,0,0,0,0,0,0,0,0]
[154.39999999999978,0,0,0,0,0,0,0,0,0,0]
[154.59999999999977,0,0,0,0,0,0,0,0,0,0]
[154.79999999999976,0,0,0,0,0,0,0,0,0,0]
[154.99999999999974,0,0,0,0,0,0,0,0,0,0]
[155.19999999999973,0,0,0,0,0,0,0,0,0,0]
[155.39999999999972,0,0,0,0,0,0,0,0,0,0]
[155.59999999999971,0,0,0,0,0,0,0,0,0,0]
[155.7999999999997,0,0,0,0,0,0,0,0,0,0]
[155.99999999999969,0,0,0,0,0,0,0,0,0,0]
[156.19999999999968,0,0,0,0,0,0,0,0,0,0]
[156.39999999999966,0,0,0,0,0,0,0,0,0,0]
[156.59999999999965,0,0,0,0,0,0,0,0,0,0]
[156.79999999999964,0,0,0,0,0,0,0,0,0,0]
[156.99999999999963,0,0,0,0,0,0,0,0,0,0]
[157.19999999999962,0,0,0,0,0,0,0,0,0,0]
[157.39999999999961,0,0,0,0,0,0,0,0,0,0]
[157.5999999999996,0,0,0,0,0,0,0,0,0,0]
[157.79999999999959,0,0,0,0,0,0,0,0,0,0]
[157.99999999999957,0,0,0,0,0,0,0,0,0,0]
[158.19999999999956,0,0,0,0,0,0,0,0,0,0]
[158.39999999999955,0,0,0,0,0,0,0,0,0,0]
[158.59999999999954,0,0,0,0,0,0,0,0,0,0]
[158.79999999999953,0,0,0,0,0,0,0,0,0,0]
[158.99999999999952,0,0,0,0,0,0,0,0,0,0]
[159.19999999999951,0,0,0,0,0,0,0,0,0,0]
[159.39999999999949,0,0,0,0,0,0,0,0,0,0]
[159.59999999999948,0,0,0,0,0,0,0,0,0,0]
[159.79999999999947,0,0,0,0,0,0,0,0,0,0]
[159.99999999999946,0,0,0,0,0,0,0,0,0,0]
[160.19999999999945,0,0,0,0,0,0,0,0,0,0]
[160.39999999999944,0,0,0,0,0,0,0,0,0,0]
[160.59999999999943,0,0,0,0,0,0,0,0,0,0]
[160.79999999999941,0,0,0,0,0,0,0,0,0,0]
[160.9999999999994,0,0,0,0,0,0,0,0,0,0]
[161.19999999999939,0,0,0,0,0,0,0,0,0,0]
[161.39999999999938,0,0,0,0,0,0,0,0,0,0]
[161.59999999999937,0,0,0,0,0,0,0,0,0,0]
[161.79999999999936,0,0,0,0,0,0,0,0,0,0]
[161.99999999999935,0,0,0,0,0,0,0,0,0,0]
[162.19999999999933,0,0,0,0,0,0,0,0,0,0]
[162.39999999999932,0,0,0,0,0,0,0,0,0,0]
[162.59999999999931,0,0,0,0,0,0,0,0,0,0]
[162.7999999999993,0,0,0,0,0,0,0,0,0,0]
[162.99999999999929,0,0,0,0,0,0,0,0,0,0]
[163.19999999999928,0,0,0,0,0,0,0,0,0,0]
[163.39999999999927,0,0,0,0,0,0,0,0,0,0]
[163.59999999999926,0,0,0,0,0,0,0,0,0,0]
[163.79999999999924,0,0,0,0,0,0,0,0,0,0]
[163.99999999999923,0,0,0,0,0,0,0,0,0,0]
[164.19999999999922,0,0,0,0,0,0,0,0,0,0]
[164.39999999999921,0,0,0,0,0,0,0,0,0,0]
[164.5999999999992,0,0,0,0,0,0,0,0,0,0]
[164.79999999999919,0,0,0,0,0,0,0,0,0,0]
[164.99999999999918,0,0,0,0,0,0,0,0,0,0]
[165.19999999999916,0,0,0,0,0,0,0,0,0,0]
[165.39999999999915,0,0,0,0,0,0,0,0,0,0]
[165.59999999999914,0,0,0,0,0,0,0,0,0,0]
[165.79999999999913,0,0,0,0,0,0,0,0,0,0]
[165.99999999999912,0,0,0,0,0,0,0,0,0,0]
[166.19999999999911,0,0,0,0,0,0,0,0,0,0]
[166.3999999999991,{"$f":"IF(ISERROR($G$16*A874+$G$17),0,$G$16*A874+$G$17)","v":0},{"$f":"IF(AND($C$5>=A874,A874>=$B$5),($D$5^2-(A874-$E$5)^2)^0.5,0)","v":0},{"$f":"IF(AND($C$6>=A874,A874>=$B$6),($D$6^2-(A874-$E$6)^2)^0.5,0)","v":0},{"$f":"IF(AND($C$7>=A874,A874>$B$7),($D$7^2-(A874-$E$7)^2)^0.5,0)","v":0},{"$f":"IF(AND($C$8>=A874,A874>=$B$8),($D$8^2-(A874-$E$8)^2)^0.5,0)","v":0},{"$f":"IF(AND($C$9>=A874,A874>=$B$9),($D$9^2-(A874-$E$9)^2)^0.5,0)","v":0},{"$f":"IF(AND($C$10>=A874,A874>=$B$10),($D$10^2-(A874-$E$10)^2)^0.5,0)","v":0},{"$f":"IF(AND($C$11>=A874,A874>=$B$11),($D$11^2-(A874-$E$11)^2)^0.5,0)","v":0},{"$f":"IF(AND($C$12>=A874,A874>=$B$12),($D$12^2-(A874-$E$12)^2)^0.5,0)","v":0},0]
[166.59999999999908,0,0,0,0,0,0,0,0,0,{"$f":"IF(AND($C$13>=A875,A875>=$B$13),($D$13^2-(A875-$E$13)^2)^0.5,0)","v":0}]
[{"$f":"A875+0.2","v":166.79999999999907},0,0,0,0,0,0,0,0,0,0]
[166.99999999999906,0,0,0,0,0,0,0,0,0,0]
[167.19999999999905,0,0,0,0,0,0,0,0,0,0]
[167.39999999999904,0,0,0,0,0,0,0,0,0,0]
[167.59999999999903,0,0,0,0,0,0,0,0,0,0]
[167.79999999999902,0,0,0,0,0,0,0,0,0,0]
[167.99999999999901,0,0,0,0,0,0,0,0,0,0]
[168.19999999999899,0,0,0,0,0,0,0,0,0,0]
[168.39999999999898,0,0,0,0,0,0,0,0,0,0]
[168.59999999999897,0,0,0,0,0,0,0,0,0,0]
[168.79999999999896,0,0,0,0,0,0,0,0,0,0]
[168.99999999999895,0,0,0,0,0,0,0,0,0,0]
[169.19999999999894,0,0,0,0,0,0,0,0,0,0]
[169.39999999999893,0,0,0,0,0,0,0,0,0,0]
[169.59999999999891,0,0,0,0,0,0,0,0,0,0]
[169.7999999999989,0,0,0,0,0,0,0,0,0,0]
[169.99999999999889,0,0,0,0,0,0,0,0,0,0]
[170.19999999999888,0,0,0,0,0,0,0,0,0,0]
[170.39999999999887,0,0,0,0,0,0,0,0,0,0]
[170.59999999999886,0,0,0,0,0,0,0,0,0,0]
[170.79999999999885,0,0,0,0,0,0,0,0,0,0]
[170.99999999999883,0,0,0,0,0,0,0,0,0,0]
[171.19999999999882,0,0,0,0,0,0,0,0,0,0]
[171.39999999999881,0,0,0,0,0,0,0,0,0,0]
[171.5999999999988,0,0,0,0,0,0,0,0,0,0]
[171.79999999999879,0,0,0,0,0,0,0,0,0,0]
[171.99999999999878,0,0,0,0,0,0,0,0,0,0]
[172.19999999999877,0,0,0,0,0,0,0,0,0,0]
[172.39999999999876,0,0,0,0,0,0,0,0,0,0]
[172.59999999999874,0,0,0,0,0,0,0,0,0,0]
[172.79999999999873,0,0,0,0,0,0,0,0,0,0]
[172.99999999999872,0,0,0,0,0,0,0,0,0,0]
[173.19999999999871,0,0,0,0,0,0,0,0,0,0]
[173.3999999999987,0,0,0,0,0,0,0,0,0,0]
[173.59999999999869,0,0,0,0,0,0,0,0,0,0]
[173.79999999999868,0,0,0,0,0,0,0,0,0,0]
[173.99999999999866,0,0,0,0,0,0,0,0,0,0]
[174.19999999999865,0,0,0,0,0,0,0,0,0,0]
[174.39999999999864,0,0,0,0,0,0,0,0,0,0]
[174.59999999999863,0,0,0,0,0,0,0,0,0,0]
[174.79999999999862,0,0,0,0,0,0,0,0,0,0]
[174.99999999999861,0,0,0,0,0,0,0,0,0,0]
[175.1999999999986,0,0,0,0,0,0,0,0,0,0]
[175.39999999999858,0,0,0,0,0,0,0,0,0,0]
[175.59999999999857,0,0,0,0,0,0,0,0,0,0]
[175.79999999999856,0,0,0,0,0,0,0,0,0,0]
[175.99999999999855,0,0,0,0,0,0,0,0,0,0]
[176.19999999999854,0,0,0,0,0,0,0,0,0,0]
[176.39999999999853,0,0,0,0,0,0,0,0,0,0]
[176.59999999999852,0,0,0,0,0,0,0,0,0,0]
[176.79999999999851,0,0,0,0,0,0,0,0,0,0]
[176.99999999999849,0,0,0,0,0,0,0,0,0,0]
[177.19999999999848,0,0,0,0,0,0,0,0,0,0]
[177.39999999999847,0,0,0,0,0,0,0,0,0,0]
[177.59999999999846,0,0,0,0,0,0,0,0,0,0]
[177.79999999999845,0,0,0,0,0,0,0,0,0,0]
[177.99999999999844,0,0,0,0,0,0,0,0,0,0]
[178.19999999999843,0,0,0,0,0,0,0,0,0,0]
[178.39999999999841,0,0,0,0,0,0,0,0,0,0]
[178.5999999999984,0,0,0,0,0,0,0,0,0,0]
[178.79999999999839,0,0,0,0,0,0,0,0,0,0]
[178.99999999999838,0,0,0,0,0,0,0,0,0,0]
[179.19999999999837,{"$f":"IF(ISERROR($G$16*A938+$G$17),0,$G$16*A938+$G$17)","v":0},{"$f":"IF(AND($C$5>=A938,A938>=$B$5),($D$5^2-(A938-$E$5)^2)^0.5,0)","v":0},{"$f":"IF(AND($C$6>=A938,A938>=$B$6),($D$6^2-(A938-$E$6)^2)^0.5,0)","v":0},{"$f":"IF(AND($C$7>=A938,A938>$B$7),($D$7^2-(A938-$E$7)^2)^0.5,0)","v":0},{"$f":"IF(AND($C$8>=A938,A938>=$B$8),($D$8^2-(A938-$E$8)^2)^0.5,0)","v":0},{"$f":"IF(AND($C$9>=A938,A938>=$B$9),($D$9^2-(A938-$E$9)^2)^0.5,0)","v":0},{"$f":"IF(AND($C$10>=A938,A938>=$B$10),($D$10^2-(A938-$E$10)^2)^0.5,0)","v":0},{"$f":"IF(AND($C$11>=A938,A938>=$B$11),($D$11^2-(A938-$E$11)^2)^0.5,0)","v":0},{"$f":"IF(AND($C$12>=A938,A938>=$B$12),($D$12^2-(A938-$E$12)^2)^0.5,0)","v":0},0]
[179.39999999999836,0,0,0,0,0,0,0,0,0,{"$f":"IF(AND($C$13>=A939,A939>=$B$13),($D$13^2-(A939-$E$13)^2)^0.5,0)","v":0}]
[{"$f":"A939+0.2","v":179.59999999999835},0,0,0,0,0,0,0,0,0,0]
[179.79999999999833,0,0,0,0,0,0,0,0,0,0]
[179.99999999999832,0,0,0,0,0,0,0,0,0,0]
[180.19999999999831,0,0,0,0,0,0,0,0,0,0]
[180.3999999999983,0,0,0,0,0,0,0,0,0,0]
[180.59999999999829,0,0,0,0,0,0,0,0,0,0]
[180.79999999999828,0,0,0,0,0,0,0,0,0,0]
[180.99999999999827,0,0,0,0,0,0,0,0,0,0]
[181.19999999999825,0,0,0,0,0,0,0,0,0,0]
[181.39999999999824,0,0,0,0,0,0,0,0,0,0]
[181.59999999999823,0,0,0,0,0,0,0,0,0,0]
[181.79999999999822,0,0,0,0,0,0,0,0,0,0]
[181.99999999999821,0,0,0,0,0,0,0,0,0,0]
[182.1999999999982,0,0,0,0,0,0,0,0,0,0]
[182.39999999999819,0,0,0,0,0,0,0,0,0,0]
[182.59999999999818,0,0,0,0,0,0,0,0,0,0]
[182.79999999999816,0,0,0,0,0,0,0,0,0,0]
[182.99999999999815,0,0,0,0,0,0,0,0,0,0]
[183.19999999999814,0,0,0,0,0,0,0,0,0,0]
[183.39999999999813,0,0,0,0,0,0,0,0,0,0]
[183.59999999999812,0,0,0,0,0,0,0,0,0,0]
[183.79999999999811,0,0,0,0,0,0,0,0,0,0]
[183.9999999999981,0,0,0,0,0,0,0,0,0,0]
[184.19999999999808,0,0,0,0,0,0,0,0,0,0]
[184.39999999999807,0,0,0,0,0,0,0,0,0,0]
[184.59999999999806,0,0,0,0,0,0,0,0,0,0]
[184.79999999999805,0,0,0,0,0,0,0,0,0,0]
[184.99999999999804,0,0,0,0,0,0,0,0,0,0]
[185.19999999999803,0,0,0,0,0,0,0,0,0,0]
[185.39999999999802,0,0,0,0,0,0,0,0,0,0]
[185.599999999998,0,0,0,0,0,0,0,0,0,0]
[185.79999999999799,0,0,0,0,0,0,0,0,0,0]
[185.99999999999798,0,0,0,0,0,0,0,0,0,0]
[186.19999999999797,0,0,0,0,0,0,0,0,0,0]
[186.39999999999796,0,0,0,0,0,0,0,0,0,0]
[186.59999999999795,0,0,0,0,0,0,0,0,0,0]
[186.79999999999794,0,0,0,0,0,0,0,0,0,0]
[186.99999999999793,0,0,0,0,0,0,0,0,0,0]
[187.19999999999791,0,0,0,0,0,0,0,0,0,0]
[187.3999999999979,0,0,0,0,0,0,0,0,0,0]
[187.59999999999789,0,0,0,0,0,0,0,0,0,0]
[187.79999999999788,0,0,0,0,0,0,0,0,0,0]
[187.99999999999787,0,0,0,0,0,0,0,0,0,0]
[188.19999999999786,0,0,0,0,0,0,0,0,0,0]
[188.39999999999785,0,0,0,0,0,0,0,0,0,0]
[188.59999999999783,0,0,0,0,0,0,0,0,0,0]
[188.79999999999782,0,0,0,0,0,0,0,0,0,0]
[188.99999999999781,0,0,0,0,0,0,0,0,0,0]
[189.1999999999978,0,0,0,0,0,0,0,0,0,0]
[189.39999999999779,0,0,0,0,0,0,0,0,0,0]
[189.59999999999778,0,0,0,0,0,0,0,0,0,0]
[189.79999999999777,0,0,0,0,0,0,0,0,0,0]
[189.99999999999775,0,0,0,0,0,0,0,0,0,0]
[190.19999999999774,0,0,0,0,0,0,0,0,0,0]
[190.39999999999773,0,0,0,0,0,0,0,0,0,0]
[190.59999999999772,0,0,0,0,0,0,0,0,0,0]
[190.79999999999771,0,0,0,0,0,0,0,0,0,0]
[190.9999999999977,0,0,0,0,0,0,0,0,0,0]
[191.19999999999769,0,0,0,0,0,0,0,0,0,0]
[191.39999999999768,0,0,0,0,0,0,0,0,0,0]
[191.59999999999766,0,0,0,0,0,0,0,0,0,0]
[191.79999999999765,0,0,0,0,0,0,0,0,0,0]
[191.99999999999764,{"$f":"IF(ISERROR($G$16*A1002+$G$17),0,$G$16*A1002+$G$17)","v":0},{"$f":"IF(AND($C$5>=A1002,A1002>=$B$5),($D$5^2-(A1002-$E$5)^2)^0.5,0)","v":0},{"$f":"IF(AND($C$6>=A1002,A1002>=$B$6),($D$6^2-(A1002-$E$6)^2)^0.5,0)","v":0},{"$f":"IF(AND($C$7>=A1002,A1002>$B$7),($D$7^2-(A1002-$E$7)^2)^0.5,0)","v":0},{"$f":"IF(AND($C$8>=A1002,A1002>=$B$8),($D$8^2-(A1002-$E$8)^2)^0.5,0)","v":0},{"$f":"IF(AND($C$9>=A1002,A1002>=$B$9),($D$9^2-(A1002-$E$9)^2)^0.5,0)","v":0},{"$f":"IF(AND($C$10>=A1002,A1002>=$B$10),($D$10^2-(A1002-$E$10)^2)^0.5,0)","v":0},{"$f":"IF(AND($C$11>=A1002,A1002>=$B$11),($D$11^2-(A1002-$E$11)^2)^0.5,0)","v":0},{"$f":"IF(AND($C$12>=A1002,A1002>=$B$12),($D$12^2-(A1002-$E$12)^2)^0.5,0)","v":0},0]
[192.19999999999763,0,0,0,0,0,0,0,0,0,{"$f":"IF(AND($C$13>=A1003,A1003>=$B$13),($D$13^2-(A1003-$E$13)^2)^0.5,0)","v":0}]
[{"$f":"A1003+0.2","v":192.39999999999762},0,0,0,0,0,0,0,0,0,0]
[192.59999999999761,0,0,0,0,0,0,0,0,0,0]
[192.7999999999976,0,0,0,0,0,0,0,0,0,0]
[192.99999999999758,0,0,0,0,0,0,0,0,0,0]
[193.19999999999757,0,0,0,0,0,0,0,0,0,0]
[193.39999999999756,0,0,0,0,0,0,0,0,0,0]
[193.59999999999755,0,0,0,0,0,0,0,0,0,0]
[193.79999999999754,0,0,0,0,0,0,0,0,0,0]
[193.99999999999753,0,0,0,0,0,0,0,0,0,0]
[194.19999999999752,0,0,0,0,0,0,0,0,0,0]
[194.3999999999975,0,0,0,0,0,0,0,0,0,0]
[194.59999999999749,0,0,0,0,0,0,0,0,0,0]
[194.79999999999748,0,0,0,0,0,0,0,0,0,0]
[194.99999999999747,0,0,0,0,0,0,0,0,0,0]
[195.19999999999746,0,0,0,0,0,0,0,0,0,0]
[195.39999999999745,0,0,0,0,0,0,0,0,0,0]
[195.59999999999744,0,0,0,0,0,0,0,0,0,0]
[195.79999999999742,0,0,0,0,0,0,0,0,0,0]
[195.99999999999741,0,0,0,0,0,0,0,0,0,0]
[196.1999999999974,0,0,0,0,0,0,0,0,0,0]
[196.39999999999739,0,0,0,0,0,0,0,0,0,0]
[196.59999999999738,0,0,0,0,0,0,0,0,0,0]
[196.79999999999737,0,0,0,0,0,0,0,0,0,0]
[196.99999999999736,0,0,0,0,0,0,0,0,0,0]
[197.19999999999735,0,0,0,0,0,0,0,0,0,0]
[197.39999999999733,0,0,0,0,0,0,0,0,0,0]
[197.59999999999732,0,0,0,0,0,0,0,0,0,0]
[197.79999999999731,0,0,0,0,0,0,0,0,0,0]
[197.9999999999973,0,0,0,0,0,0,0,0,0,0]
[198.19999999999729,0,0,0,0,0,0,0,0,0,0]
[198.39999999999728,0,0,0,0,0,0,0,0,0,0]
[198.59999999999727,0,0,0,0,0,0,0,0,0,0]
[198.79999999999725,0,0,0,0,0,0,0,0,0,0]
[198.99999999999724,0,0,0,0,0,0,0,0,0,0]
[199.19999999999723,0,0,0,0,0,0,0,0,0,0]
[199.39999999999722,0,0,0,0,0,0,0,0,0,0]
[199.59999999999721,0,0,0,0,0,0,0,0,0,0]
[199.7999999999972,0,0,0,0,0,0,0,0,0,0]
[199.99999999999719,0,0,0,0,0,0,0,0,0,0]
[200.19999999999717,0,0,0,0,0,0,0,0,0,0]
[200.39999999999716,0,0,0,0,0,0,0,0,0,0]
[200.59999999999715,0,0,0,0,0,0,0,0,0,0]
[200.79999999999714,0,0,0,0,0,0,0,0,0,0]
[200.99999999999713,0,0,0,0,0,0,0,0,0,0]
[201.19999999999712,0,0,0,0,0,0,0,0,0,0]
[201.39999999999711,0,0,0,0,0,0,0,0,0,0]
[201.5999999999971,0,0,0,0,0,0,0,0,0,0]
[201.79999999999708,0,0,0,0,0,0,0,0,0,0]
[201.99999999999707,0,0,0,0,0,0,0,0,0,0]
[202.19999999999706,0,0,0,0,0,0,0,0,0,0]
[202.39999999999705,0,0,0,0,0,0,0,0,0,0]
[202.59999999999704,0,0,0,0,0,0,0,0,0,0]
[202.79999999999703,0,0,0,0,0,0,0,0,0,0]
[202.99999999999702,0,0,0,0,0,0,0,0,0,0]
[203.199999999997,0,0,0,0,0,0,0,0,0,0]
[203.39999999999699,0,0,0,0,0,0,0,0,0,0]
[203.59999999999698,0,0,0,0,0,0,0,0,0,0]
[203.79999999999697,0,0,0,0,0,0,0,0,0,0]
[203.99999999999696,0,0,0,0,0,0,0,0,0,0]
[204.19999999999695,0,0,0,0,0,0,0,0,0,0]
[204.39999999999694,0,0,0,0,0,0,0,0,0,0]
[204.59999999999692,0,0,0,0,0,0,0,0,0,0]
[204.79999999999691,{"$f":"IF(ISERROR($G$16*A1066+$G$17),0,$G$16*A1066+$G$17)","v":0},{"$f":"IF(AND($C$5>=A1066,A1066>=$B$5),($D$5^2-(A1066-$E$5)^2)^0.5,0)","v":0},{"$f":"IF(AND($C$6>=A1066,A1066>=$B$6),($D$6^2-(A1066-$E$6)^2)^0.5,0)","v":0},{"$f":"IF(AND($C$7>=A1066,A1066>$B$7),($D$7^2-(A1066-$E$7)^2)^0.5,0)","v":0},{"$f":"IF(AND($C$8>=A1066,A1066>=$B$8),($D$8^2-(A1066-$E$8)^2)^0.5,0)","v":0},{"$f":"IF(AND($C$9>=A1066,A1066>=$B$9),($D$9^2-(A1066-$E$9)^2)^0.5,0)","v":0},{"$f":"IF(AND($C$10>=A1066,A1066>=$B$10),($D$10^2-(A1066-$E$10)^2)^0.5,0)","v":0},{"$f":"IF(AND($C$11>=A1066,A1066>=$B$11),($D$11^2-(A1066-$E$11)^2)^0.5,0)","v":0},{"$f":"IF(AND($C$12>=A1066,A1066>=$B$12),($D$12^2-(A1066-$E$12)^2)^0.5,0)","v":0},0]
[204.9999999999969,0,0,0,0,0,0,0,0,0,{"$f":"IF(AND($C$13>=A1067,A1067>=$B$13),($D$13^2-(A1067-$E$13)^2)^0.5,0)","v":0}]
[{"$f":"A1067+0.2","v":205.19999999999689},0,0,0,0,0,0,0,0,0,0]
[205.39999999999688,0,0,0,0,0,0,0,0,0,0]
[205.59999999999687,0,0,0,0,0,0,0,0,0,0]
[205.79999999999686,0,0,0,0,0,0,0,0,0,0]
[205.99999999999685,0,0,0,0,0,0,0,0,0,0]
[206.19999999999683,0,0,0,0,0,0,0,0,0,0]
[206.39999999999682,0,0,0,0,0,0,0,0,0,0]
[206.59999999999681,0,0,0,0,0,0,0,0,0,0]
[206.7999999999968,0,0,0,0,0,0,0,0,0,0]
[206.99999999999679,0,0,0,0,0,0,0,0,0,0]
[207.19999999999678,0,0,0,0,0,0,0,0,0,0]
[207.39999999999677,0,0,0,0,0,0,0,0,0,0]
[207.59999999999675,0,0,0,0,0,0,0,0,0,0]
[207.79999999999674,0,0,0,0,0,0,0,0,0,0]
[207.99999999999673,0,0,0,0,0,0,0,0,0,0]
[208.19999999999672,0,0,0,0,0,0,0,0,0,0]
[208.39999999999671,0,0,0,0,0,0,0,0,0,0]
[208.5999999999967,0,0,0,0,0,0,0,0,0,0]
[208.79999999999669,0,0,0,0,0,0,0,0,0,0]
[208.99999999999667,0,0,0,0,0,0,0,0,0,0]
[209.19999999999666,0,0,0,0,0,0,0,0,0,0]
[209.39999999999665,0,0,0,0,0,0,0,0,0,0]
[209.59999999999664,0,0,0,0,0,0,0,0,0,0]
[209.79999999999663,0,0,0,0,0,0,0,0,0,0]
[209.99999999999662,0,0,0,0,0,0,0,0,0,0]
[210.19999999999661,0,0,0,0,0,0,0,0,0,0]
[210.3999999999966,0,0,0,0,0,0,0,0,0,0]
[210.59999999999658,0,0,0,0,0,0,0,0,0,0]
[210.79999999999657,0,0,0,0,0,0,0,0,0,0]
[210.99999999999656,0,0,0,0,0,0,0,0,0,0]
[211.19999999999655,0,0,0,0,0,0,0,0,0,0]
[211.39999999999654,0,0,0,0,0,0,0,0,0,0]
[211.59999999999653,0,0,0,0,0,0,0,0,0,0]
[211.79999999999652,0,0,0,0,0,0,0,0,0,0]
[211.9999999999965,0,0,0,0,0,0,0,0,0,0]
[212.19999999999649,0,0,0,0,0,0,0,0,0,0]
[212.39999999999648,0,0,0,0,0,0,0,0,0,0]
[212.59999999999647,0,0,0,0,0,0,0,0,0,0]
[212.79999999999646,0,0,0,0,0,0,0,0,0,0]
[212.99999999999645,0,0,0,0,0,0,0,0,0,0]
[213.19999999999644,0,0,0,0,0,0,0,0,0,0]
[213.39999999999642,0,0,0,0,0,0,0,0,0,0]
[213.59999999999641,0,0,0,0,0,0,0,0,0,0]
[213.7999999999964,0,0,0,0,0,0,0,0,0,0]
[213.99999999999639,0,0,0,0,0,0,0,0,0,0]
[214.19999999999638,0,0,0,0,0,0,0,0,0,0]
[214.39999999999637,0,0,0,0,0,0,0,0,0,0]
[214.59999999999636,0,0,0,0,0,0,0,0,0,0]
[214.79999999999634,0,0,0,0,0,0,0,0,0,0]
[214.99999999999633,0,0,0,0,0,0,0,0,0,0]
[215.19999999999632,0,0,0,0,0,0,0,0,0,0]
[215.39999999999631,0,0,0,0,0,0,0,0,0,0]
[215.5999999999963,0,0,0,0,0,0,0,0,0,0]
[215.79999999999629,0,0,0,0,0,0,0,0,0,0]
[215.99999999999628,0,0,0,0,0,0,0,0,0,0]
[216.19999999999627,0,0,0,0,0,0,0,0,0,0]
[216.39999999999625,0,0,0,0,0,0,0,0,0,0]
[216.59999999999624,0,0,0,0,0,0,0,0,0,0]
[216.79999999999623,0,0,0,0,0,0,0,0,0,0]
[216.99999999999622,0,0,0,0,0,0,0,0,0,0]
[217.19999999999621,0,0,0,0,0,0,0,0,0,0]
[217.3999999999962,0,0,0,0,0,0,0,0,0,0]
[217.59999999999619,{"$f":"IF(ISERROR($G$16*A1130+$G$17),0,$G$16*A1130+$G$17)","v":0},{"$f":"IF(AND($C$5>=A1130,A1130>=$B$5),($D$5^2-(A1130-$E$5)^2)^0.5,0)","v":0},{"$f":"IF(AND($C$6>=A1130,A1130>=$B$6),($D$6^2-(A1130-$E$6)^2)^0.5,0)","v":0},{"$f":"IF(AND($C$7>=A1130,A1130>$B$7),($D$7^2-(A1130-$E$7)^2)^0.5,0)","v":0},{"$f":"IF(AND($C$8>=A1130,A1130>=$B$8),($D$8^2-(A1130-$E$8)^2)^0.5,0)","v":0},{"$f":"IF(AND($C$9>=A1130,A1130>=$B$9),($D$9^2-(A1130-$E$9)^2)^0.5,0)","v":0},{"$f":"IF(AND($C$10>=A1130,A1130>=$B$10),($D$10^2-(A1130-$E$10)^2)^0.5,0)","v":0},{"$f":"IF(AND($C$11>=A1130,A1130>=$B$11),($D$11^2-(A1130-$E$11)^2)^0.5,0)","v":0},{"$f":"IF(AND($C$12>=A1130,A1130>=$B$12),($D$12^2-(A1130-$E$12)^2)^0.5,0)","v":0},0]
[217.79999999999617,0,0,0,0,0,0,0,0,0,{"$f":"IF(AND($C$13>=A1131,A1131>=$B$13),($D$13^2-(A1131-$E$13)^2)^0.5,0)","v":0}]
[{"$f":"A1131+0.2","v":217.99999999999616},0,0,0,0,0,0,0,0,0,0]
[218.19999999999615,0,0,0,0,0,0,0,0,0,0]
[218.39999999999614,0,0,0,0,0,0,0,0,0,0]
[218.59999999999613,0,0,0,0,0,0,0,0,0,0]
[218.79999999999612,0,0,0,0,0,0,0,0,0,0]
[218.99999999999611,0,0,0,0,0,0,0,0,0,0]
[219.19999999999609,0,0,0,0,0,0,0,0,0,0]
[219.39999999999608,0,0,0,0,0,0,0,0,0,0]
[219.59999999999607,0,0,0,0,0,0,0,0,0,0]
[219.79999999999606,0,0,0,0,0,0,0,0,0,0]
[219.99999999999605,0,0,0,0,0,0,0,0,0,0]
[220.19999999999604,0,0,0,0,0,0,0,0,0,0]
[220.39999999999603,0,0,0,0,0,0,0,0,0,0]
[220.59999999999602,0,0,0,0,0,0,0,0,0,0]
[220.799999999996,0,0,0,0,0,0,0,0,0,0]
[220.99999999999599,0,0,0,0,0,0,0,0,0,0]
[221.19999999999598,0,0,0,0,0,0,0,0,0,0]
[221.39999999999597,0,0,0,0,0,0,0,0,0,0]
[221.59999999999596,0,0,0,0,0,0,0,0,0,0]
[221.79999999999595,0,0,0,0,0,0,0,0,0,0]
[221.99999999999594,0,0,0,0,0,0,0,0,0,0]
[222.19999999999592,0,0,0,0,0,0,0,0,0,0]
[222.39999999999591,0,0,0,0,0,0,0,0,0,0]
[222.5999999999959,0,0,0,0,0,0,0,0,0,0]
[222.79999999999589,0,0,0,0,0,0,0,0,0,0]
[222.99999999999588,0,0,0,0,0,0,0,0,0,0]
[223.19999999999587,0,0,0,0,0,0,0,0,0,0]
[223.39999999999586,0,0,0,0,0,0,0,0,0,0]
[223.59999999999584,0,0,0,0,0,0,0,0,0,0]
[223.79999999999583,0,0,0,0,0,0,0,0,0,0]
[223.99999999999582,0,0,0,0,0,0,0,0,0,0]
[224.19999999999581,0,0,0,0,0,0,0,0,0,0]
[224.3999999999958,0,0,0,0,0,0,0,0,0,0]
[224.59999999999579,0,0,0,0,0,0,0,0,0,0]
[224.79999999999578,0,0,0,0,0,0,0,0,0,0]
[224.99999999999577,0,0,0,0,0,0,0,0,0,0]
[225.19999999999575,0,0,0,0,0,0,0,0,0,0]
[225.39999999999574,0,0,0,0,0,0,0,0,0,0]
[225.59999999999573,0,0,0,0,0,0,0,0,0,0]
[225.79999999999572,0,0,0,0,0,0,0,0,0,0]
[225.99999999999571,0,0,0,0,0,0,0,0,0,0]
[226.1999999999957,0,0,0,0,0,0,0,0,0,0]
[226.39999999999569,0,0,0,0,0,0,0,0,0,0]
[226.59999999999567,0,0,0,0,0,0,0,0,0,0]
[226.79999999999566,0,0,0,0,0,0,0,0,0,0]
[226.99999999999565,0,0,0,0,0,0,0,0,0,0]
[227.19999999999564,0,0,0,0,0,0,0,0,0,0]
[227.39999999999563,0,0,0,0,0,0,0,0,0,0]
[227.59999999999562,0,0,0,0,0,0,0,0,0,0]
[227.79999999999561,0,0,0,0,0,0,0,0,0,0]
[227.99999999999559,0,0,0,0,0,0,0,0,0,0]
[228.19999999999558,0,0,0,0,0,0,0,0,0,0]
[228.39999999999557,0,0,0,0,0,0,0,0,0,0]
[228.59999999999556,0,0,0,0,0,0,0,0,0,0]
[228.79999999999555,0,0,0,0,0,0,0,0,0,0]
[228.99999999999554,0,0,0,0,0,0,0,0,0,0]
[229.19999999999553,0,0,0,0,0,0,0,0,0,0]
[229.39999999999552,0,0,0,0,0,0,0,0,0,0]
[229.5999999999955,0,0,0,0,0,0,0,0,0,0]
[229.79999999999549,0,0,0,0,0,0,0,0,0,0]
[229.99999999999548,0,0,0,0,0,0,0,0,0,0]
[230.19999999999547,0,0,0,0,0,0,0,0,0,0]
[230.39999999999546,{"$f":"IF(ISERROR($G$16*A1194+$G$17),0,$G$16*A1194+$G$17)","v":0},{"$f":"IF(AND($C$5>=A1194,A1194>=$B$5),($D$5^2-(A1194-$E$5)^2)^0.5,0)","v":0},{"$f":"IF(AND($C$6>=A1194,A1194>=$B$6),($D$6^2-(A1194-$E$6)^2)^0.5,0)","v":0},{"$f":"IF(AND($C$7>=A1194,A1194>$B$7),($D$7^2-(A1194-$E$7)^2)^0.5,0)","v":0},{"$f":"IF(AND($C$8>=A1194,A1194>=$B$8),($D$8^2-(A1194-$E$8)^2)^0.5,0)","v":0},{"$f":"IF(AND($C$9>=A1194,A1194>=$B$9),($D$9^2-(A1194-$E$9)^2)^0.5,0)","v":0},{"$f":"IF(AND($C$10>=A1194,A1194>=$B$10),($D$10^2-(A1194-$E$10)^2)^0.5,0)","v":0},{"$f":"IF(AND($C$11>=A1194,A1194>=$B$11),($D$11^2-(A1194-$E$11)^2)^0.5,0)","v":0},{"$f":"IF(AND($C$12>=A1194,A1194>=$B$12),($D$12^2-(A1194-$E$12)^2)^0.5,0)","v":0},0]
[230.59999999999545,0,0,0,0,0,0,0,0,0,{"$f":"IF(AND($C$13>=A1195,A1195>=$B$13),($D$13^2-(A1195-$E$13)^2)^0.5,0)","v":0}]
[{"$f":"A1195+0.2","v":230.79999999999544},0,0,0,0,0,0,0,0,0,0]
[230.99999999999542,0,0,0,0,0,0,0,0,0,0]
[231.19999999999541,0,0,0,0,0,0,0,0,0,0]
[231.3999999999954,0,0,0,0,0,0,0,0,0,0]
[231.59999999999539,0,0,0,0,0,0,0,0,0,0]
[231.79999999999538,0,0,0,0,0,0,0,0,0,0]
[231.99999999999537,0,0,0,0,0,0,0,0,0,0]
[232.19999999999536,0,0,0,0,0,0,0,0,0,0]
[232.39999999999534,0,0,0,0,0,0,0,0,0,0]
[232.59999999999533,0,0,0,0,0,0,0,0,0,0]
[232.79999999999532,0,0,0,0,0,0,0,0,0,0]
[232.99999999999531,0,0,0,0,0,0,0,0,0,0]
[233.1999999999953,0,0,0,0,0,0,0,0,0,0]
[233.39999999999529,0,0,0,0,0,0,0,0,0,0]
[233.59999999999528,0,0,0,0,0,0,0,0,0,0]
[233.79999999999526,0,0,0,0,0,0,0,0,0,0]
[233.99999999999525,0,0,0,0,0,0,0,0,0,0]
[234.19999999999524,0,0,0,0,0,0,0,0,0,0]
[234.39999999999523,0,0,0,0,0,0,0,0,0,0]
[234.59999999999522,0,0,0,0,0,0,0,0,0,0]
[234.79999999999521,0,0,0,0,0,0,0,0,0,0]
[234.9999999999952,0,0,0,0,0,0,0,0,0,0]
[235.19999999999519,0,0,0,0,0,0,0,0,0,0]
[235.39999999999517,0,0,0,0,0,0,0,0,0,0]
[235.59999999999516,0,0,0,0,0,0,0,0,0,0]
[235.79999999999515,0,0,0,0,0,0,0,0,0,0]
[235.99999999999514,0,0,0,0,0,0,0,0,0,0]
[236.19999999999513,0,0,0,0,0,0,0,0,0,0]
[236.39999999999512,0,0,0,0,0,0,0,0,0,0]
[236.59999999999511,0,0,0,0,0,0,0,0,0,0]
[236.79999999999509,0,0,0,0,0,0,0,0,0,0]
[236.99999999999508,0,0,0,0,0,0,0,0,0,0]
[237.19999999999507,0,0,0,0,0,0,0,0,0,0]
[237.39999999999506,0,0,0,0,0,0,0,0,0,0]
[237.59999999999505,0,0,0,0,0,0,0,0,0,0]
[237.79999999999504,0,0,0,0,0,0,0,0,0,0]
[237.99999999999503,0,0,0,0,0,0,0,0,0,0]
[238.19999999999501,0,0,0,0,0,0,0,0,0,0]
[238.399999999995,0,0,0,0,0,0,0,0,0,0]
[238.59999999999499,0,0,0,0,0,0,0,0,0,0]
[238.79999999999498,0,0,0,0,0,0,0,0,0,0]
[238.99999999999497,0,0,0,0,0,0,0,0,0,0]
[239.19999999999496,0,0,0,0,0,0,0,0,0,0]
[239.39999999999495,0,0,0,0,0,0,0,0,0,0]
[239.59999999999494,0,0,0,0,0,0,0,0,0,0]
[239.79999999999492,0,0,0,0,0,0,0,0,0,0]
[239.99999999999491,0,0,0,0,0,0,0,0,0,0]
[240.1999999999949,0,0,0,0,0,0,0,0,0,0]
[240.39999999999489,0,0,0,0,0,0,0,0,0,0]
[240.59999999999488,0,0,0,0,0,0,0,0,0,0]
[240.79999999999487,0,0,0,0,0,0,0,0,0,0]
[240.99999999999486,0,0,0,0,0,0,0,0,0,0]
[241.19999999999484,0,0,0,0,0,0,0,0,0,0]
[241.39999999999483,0,0,0,0,0,0,0,0,0,0]
[241.59999999999482,0,0,0,0,0,0,0,0,0,0]
[241.79999999999481,0,0,0,0,0,0,0,0,0,0]
[241.9999999999948,0,0,0,0,0,0,0,0,0,0]
[242.19999999999479,0,0,0,0,0,0,0,0,0,0]
[242.39999999999478,0,0,0,0,0,0,0,0,0,0]
[242.59999999999476,0,0,0,0,0,0,0,0,0,0]
[242.79999999999475,0,0,0,0,0,0,0,0,0,0]
[242.99999999999474,0,0,0,0,0,0,0,0,0,0]
[243.19999999999473,{"$f":"IF(ISERROR($G$16*A1258+$G$17),0,$G$16*A1258+$G$17)","v":0},{"$f":"IF(AND($C$5>=A1258,A1258>=$B$5),($D$5^2-(A1258-$E$5)^2)^0.5,0)","v":0},{"$f":"IF(AND($C$6>=A1258,A1258>=$B$6),($D$6^2-(A1258-$E$6)^2)^0.5,0)","v":0},{"$f":"IF(AND($C$7>=A1258,A1258>$B$7),($D$7^2-(A1258-$E$7)^2)^0.5,0)","v":0},{"$f":"IF(AND($C$8>=A1258,A1258>=$B$8),($D$8^2-(A1258-$E$8)^2)^0.5,0)","v":0},{"$f":"IF(AND($C$9>=A1258,A1258>=$B$9),($D$9^2-(A1258-$E$9)^2)^0.5,0)","v":0},{"$f":"IF(AND($C$10>=A1258,A1258>=$B$10),($D$10^2-(A1258-$E$10)^2)^0.5,0)","v":0},{"$f":"IF(AND($C$11>=A1258,A1258>=$B$11),($D$11^2-(A1258-$E$11)^2)^0.5,0)","v":0},{"$f":"IF(AND($C$12>=A1258,A1258>=$B$12),($D$12^2-(A1258-$E$12)^2)^0.5,0)","v":0},0]
[243.39999999999472,0,0,0,0,0,0,0,0,0,{"$f":"IF(AND($C$13>=A1259,A1259>=$B$13),($D$13^2-(A1259-$E$13)^2)^0.5,0)","v":0}]
[{"$f":"A1259+0.2","v":243.59999999999471},0,0,0,0,0,0,0,0,0,0]
[243.7999999999947,0,0,0,0,0,0,0,0,0,0]
[243.99999999999469,0,0,0,0,0,0,0,0,0,0]
[244.19999999999467,0,0,0,0,0,0,0,0,0,0]
[244.39999999999466,0,0,0,0,0,0,0,0,0,0]
[244.59999999999465,0,0,0,0,0,0,0,0,0,0]
[244.79999999999464,0,0,0,0,0,0,0,0,0,0]
[244.99999999999463,0,0,0,0,0,0,0,0,0,0]
[245.19999999999462,0,0,0,0,0,0,0,0,0,0]
[245.39999999999461,0,0,0,0,0,0,0,0,0,0]
[245.59999999999459,0,0,0,0,0,0,0,0,0,0]
[245.79999999999458,0,0,0,0,0,0,0,0,0,0]
[245.99999999999457,0,0,0,0,0,0,0,0,0,0]
[246.19999999999456,0,0,0,0,0,0,0,0,0,0]
[246.39999999999455,0,0,0,0,0,0,0,0,0,0]
[246.59999999999454,0,0,0,0,0,0,0,0,0,0]
[246.79999999999453,0,0,0,0,0,0,0,0,0,0]
[246.99999999999451,0,0,0,0,0,0,0,0,0,0]
[247.1999999999945,0,0,0,0,0,0,0,0,0,0]
[247.39999999999449,0,0,0,0,0,0,0,0,0,0]
[247.59999999999448,0,0,0,0,0,0,0,0,0,0]
[247.79999999999447,0,0,0,0,0,0,0,0,0,0]
[247.99999999999446,0,0,0,0,0,0,0,0,0,0]
[248.19999999999445,0,0,0,0,0,0,0,0,0,0]
[248.39999999999444,0,0,0,0,0,0,0,0,0,0]
[248.59999999999442,0,0,0,0,0,0,0,0,0,0]
[248.79999999999441,0,0,0,0,0,0,0,0,0,0]
[248.9999999999944,0,0,0,0,0,0,0,0,0,0]
[249.19999999999439,0,0,0,0,0,0,0,0,0,0]
[249.39999999999438,0,0,0,0,0,0,0,0,0,0]
[249.59999999999437,0,0,0,0,0,0,0,0,0,0]
[249.79999999999436,0,0,0,0,0,0,0,0,0,0]
[{"$f":"A1291+0.2","v":249.99999999999434},0,0,0,0,0,0,0,0,0,0]
[{"$f":"A1292+0.2","v":250.19999999999433},{"$f":"IF(ISERROR($G$16*A1293+$G$17),0,$G$16*A1293+$G$17)","v":0},{"$f":"IF(AND($C$5>=A1293,A1293>=$B$5),($D$5^2-(A1293-$E$5)^2)^0.5,0)","v":0},{"$f":"IF(AND($C$6>=A1293,A1293>=$B$6),($D$6^2-(A1293-$E$6)^2)^0.5,0)","v":0},{"$f":"IF(AND($C$7>=A1293,A1293>$B$7),($D$7^2-(A1293-$E$7)^2)^0.5,0)","v":0},{"$f":"IF(AND($C$8>=A1293,A1293>=$B$8),($D$8^2-(A1293-$E$8)^2)^0.5,0)","v":0},{"$f":"IF(AND($C$9>=A1293,A1293>=$B$9),($D$9^2-(A1293-$E$9)^2)^0.5,0)","v":0},{"$f":"IF(AND($C$10>=A1293,A1293>=$B$10),($D$10^2-(A1293-$E$10)^2)^0.5,0)","v":0},{"$f":"IF(AND($C$11>=A1293,A1293>=$B$11),($D$11^2-(A1293-$E$11)^2)^0.5,0)","v":0},{"$f":"IF(AND($C$12>=A1293,A1293>=$B$12),($D$12^2-(A1293-$E$12)^2)^0.5,0)","v":0},{"$f":"IF(AND($C$13>=A1293,A1293>=$B$13),($D$13^2-(A1293-$E$13)^2)^0.5,0)","v":0}]
[{"$f":"A1293+0.2","v":250.39999999999432},0,0,0,0,0,0,0,0,0,0]
[250.59999999999431,0,0,0,0,0,0,0,0,0,0]
[250.7999999999943,0,0,0,0,0,0,0,0,0,0]
[250.99999999999429,0,0,0,0,0,0,0,0,0,0]
[251.19999999999428,0,0,0,0,0,0,0,0,0,0]
[251.39999999999426,0,0,0,0,0,0,0,0,0,0]
[251.59999999999425,0,0,0,0,0,0,0,0,0,0]
[251.79999999999424,0,0,0,0,0,0,0,0,0,0]
[251.99999999999423,0,0,0,0,0,0,0,0,0,0]
[252.19999999999422,0,0,0,0,0,0,0,0,0,0]
[252.39999999999421,0,0,0,0,0,0,0,0,0,0]
[252.5999999999942,0,0,0,0,0,0,0,0,0,0]
[252.79999999999418,0,0,0,0,0,0,0,0,0,0]
[252.99999999999417,0,0,0,0,0,0,0,0,0,0]
[253.19999999999416,0,0,0,0,0,0,0,0,0,0]
[253.39999999999415,0,0,0,0,0,0,0,0,0,0]
[253.59999999999414,0,0,0,0,0,0,0,0,0,0]
[253.79999999999413,0,0,0,0,0,0,0,0,0,0]
[253.99999999999412,0,0,0,0,0,0,0,0,0,0]
[254.19999999999411,0,0,0,0,0,0,0,0,0,0]
[254.39999999999409,0,0,0,0,0,0,0,0,0,0]
[254.59999999999408,0,0,0,0,0,0,0,0,0,0]
[254.79999999999407,0,0,0,0,0,0,0,0,0,0]
[254.99999999999406,0,0,0,0,0,0,0,0,0,0]
[255.19999999999405,0,0,0,0,0,0,0,0,0,0]
[255.39999999999404,0,0,0,0,0,0,0,0,0,0]
[255.59999999999403,0,0,0,0,0,0,0,0,0,0]
[255.79999999999401,0,0,0,0,0,0,0,0,0,0]
[255.999999999994,{"$f":"IF(ISERROR($G$16*A1322+$G$17),0,$G$16*A1322+$G$17)","v":0},{"$f":"IF(AND($C$5>=A1322,A1322>=$B$5),($D$5^2-(A1322-$E$5)^2)^0.5,0)","v":0},{"$f":"IF(AND($C$6>=A1322,A1322>=$B$6),($D$6^2-(A1322-$E$6)^2)^0.5,0)","v":0},{"$f":"IF(AND($C$7>=A1322,A1322>$B$7),($D$7^2-(A1322-$E$7)^2)^0.5,0)","v":0},{"$f":"IF(AND($C$8>=A1322,A1322>=$B$8),($D$8^2-(A1322-$E$8)^2)^0.5,0)","v":0},{"$f":"IF(AND($C$9>=A1322,A1322>=$B$9),($D$9^2-(A1322-$E$9)^2)^0.5,0)","v":0},{"$f":"IF(AND($C$10>=A1322,A1322>=$B$10),($D$10^2-(A1322-$E$10)^2)^0.5,0)","v":0},{"$f":"IF(AND($C$11>=A1322,A1322>=$B$11),($D$11^2-(A1322-$E$11)^2)^0.5,0)","v":0},{"$f":"IF(AND($C$12>=A1322,A1322>=$B$12),($D$12^2-(A1322-$E$12)^2)^0.5,0)","v":0},0]
[256.19999999999402,0,0,0,0,0,0,0,0,0,{"$f":"IF(AND($C$13>=A1323,A1323>=$B$13),($D$13^2-(A1323-$E$13)^2)^0.5,0)","v":0}]
[256.39999999999401,0,0,0,0,0,0,0,0,0,0]
[256.599999999994,0,0,0,0,0,0,0,0,0,0]
[256.79999999999399,0,0,0,0,0,0,0,0,0,0]
[256.99999999999397,0,0,0,0,0,0,0,0,0,0]
[257.19999999999396,0,0,0,0,0,0,0,0,0,0]
[257.39999999999395,0,0,0,0,0,0,0,0,0,0]
[257.59999999999394,0,0,0,0,0,0,0,0,0,0]
[257.79999999999393,0,0,0,0,0,0,0,0,0,0]
[257.99999999999392,0,0,0,0,0,0,0,0,0,0]
[258.19999999999391,0,0,0,0,0,0,0,0,0,0]
[258.3999999999939,0,0,0,0,0,0,0,0,0,0]
[258.59999999999388,0,0,0,0,0,0,0,0,0,0]
[258.79999999999387,0,0,0,0,0,0,0,0,0,0]
[258.99999999999386,0,0,0,0,0,0,0,0,0,0]
[259.19999999999385,0,0,0,0,0,0,0,0,0,0]
[259.39999999999384,0,0,0,0,0,0,0,0,0,0]
[259.59999999999383,0,0,0,0,0,0,0,0,0,0]
[259.79999999999382,0,0,0,0,0,0,0,0,0,0]
[259.9999999999938,0,0,0,0,0,0,0,0,0,0]
[260.19999999999379,0,0,0,0,0,0,0,0,0,0]
[260.39999999999378,0,0,0,0,0,0,0,0,0,0]
[260.59999999999377,0,0,0,0,0,0,0,0,0,0]
[260.79999999999376,0,0,0,0,0,0,0,0,0,0]
[260.99999999999375,0,0,0,0,0,0,0,0,0,0]
[261.19999999999374,0,0,0,0,0,0,0,0,0,0]
[261.39999999999372,0,0,0,0,0,0,0,0,0,0]
[261.59999999999371,0,0,0,0,0,0,0,0,0,0]
[261.7999999999937,0,0,0,0,0,0,0,0,0,0]
[261.99999999999369,0,0,0,0,0,0,0,0,0,0]
[262.19999999999368,0,0,0,0,0,0,0,0,0,0]
[262.39999999999367,0,0,0,0,0,0,0,0,0,0]
[262.59999999999366,0,0,0,0,0,0,0,0,0,0]
[262.79999999999364,0,0,0,0,0,0,0,0,0,0]
[262.99999999999363,0,0,0,0,0,0,0,0,0,0]
[{"$f":"A1357+0.2","v":263.19999999999362},0,0,0,0,0,0,0,0,0,0]
[263.39999999999361,0,0,0,0,0,0,0,0,0,0]
[263.5999999999936,0,0,0,0,0,0,0,0,0,0]
[263.79999999999359,0,0,0,0,0,0,0,0,0,0]
[263.99999999999358,0,0,0,0,0,0,0,0,0,0]
[264.19999999999357,0,0,0,0,0,0,0,0,0,0]
[264.39999999999355,0,0,0,0,0,0,0,0,0,0]
[264.59999999999354,0,0,0,0,0,0,0,0,0,0]
[264.79999999999353,0,0,0,0,0,0,0,0,0,0]
[264.99999999999352,0,0,0,0,0,0,0,0,0,0]
[265.19999999999351,0,0,0,0,0,0,0,0,0,0]
[265.3999999999935,0,0,0,0,0,0,0,0,0,0]
[265.59999999999349,0,0,0,0,0,0,0,0,0,0]
[265.79999999999347,0,0,0,0,0,0,0,0,0,0]
[265.99999999999346,0,0,0,0,0,0,0,0,0,0]
[266.19999999999345,0,0,0,0,0,0,0,0,0,0]
[266.39999999999344,0,0,0,0,0,0,0,0,0,0]
[266.59999999999343,0,0,0,0,0,0,0,0,0,0]
[266.79999999999342,0,0,0,0,0,0,0,0,0,0]
[266.99999999999341,0,0,0,0,0,0,0,0,0,0]
[267.19999999999339,0,0,0,0,0,0,0,0,0,0]
[267.39999999999338,0,0,0,0,0,0,0,0,0,0]
[267.59999999999337,0,0,0,0,0,0,0,0,0,0]
[267.79999999999336,0,0,0,0,0,0,0,0,0,0]
[267.99999999999335,0,0,0,0,0,0,0,0,0,0]
[268.19999999999334,0,0,0,0,0,0,0,0,0,0]
[268.39999999999333,0,0,0,0,0,0,0,0,0,0]
[268.59999999999332,0,0,0,0,0,0,0,0,0,0]
[268.7999999999933,{"$f":"IF(ISERROR($G$16*A1386+$G$17),0,$G$16*A1386+$G$17)","v":0},{"$f":"IF(AND($C$5>=A1386,A1386>=$B$5),($D$5^2-(A1386-$E$5)^2)^0.5,0)","v":0},{"$f":"IF(AND($C$6>=A1386,A1386>=$B$6),($D$6^2-(A1386-$E$6)^2)^0.5,0)","v":0},{"$f":"IF(AND($C$7>=A1386,A1386>$B$7),($D$7^2-(A1386-$E$7)^2)^0.5,0)","v":0},{"$f":"IF(AND($C$8>=A1386,A1386>=$B$8),($D$8^2-(A1386-$E$8)^2)^0.5,0)","v":0},{"$f":"IF(AND($C$9>=A1386,A1386>=$B$9),($D$9^2-(A1386-$E$9)^2)^0.5,0)","v":0},{"$f":"IF(AND($C$10>=A1386,A1386>=$B$10),($D$10^2-(A1386-$E$10)^2)^0.5,0)","v":0},{"$f":"IF(AND($C$11>=A1386,A1386>=$B$11),($D$11^2-(A1386-$E$11)^2)^0.5,0)","v":0},{"$f":"IF(AND($C$12>=A1386,A1386>=$B$12),($D$12^2-(A1386-$E$12)^2)^0.5,0)","v":0},0]
[268.99999999999329,0,0,0,0,0,0,0,0,0,{"$f":"IF(AND($C$13>=A1387,A1387>=$B$13),($D$13^2-(A1387-$E$13)^2)^0.5,0)","v":0}]
[269.19999999999328,0,0,0,0,0,0,0,0,0,0]
[269.39999999999327,0,0,0,0,0,0,0,0,0,0]
[269.59999999999326,0,0,0,0,0,0,0,0,0,0]
[269.79999999999325,0,0,0,0,0,0,0,0,0,0]
[269.99999999999324,0,0,0,0,0,0,0,0,0,0]
[270.19999999999322,0,0,0,0,0,0,0,0,0,0]
[270.39999999999321,0,0,0,0,0,0,0,0,0,0]
[270.5999999999932,0,0,0,0,0,0,0,0,0,0]
[270.79999999999319,0,0,0,0,0,0,0,0,0,0]
[270.99999999999318,0,0,0,0,0,0,0,0,0,0]
[271.19999999999317,0,0,0,0,0,0,0,0,0,0]
[271.39999999999316,0,0,0,0,0,0,0,0,0,0]
[271.59999999999314,0,0,0,0,0,0,0,0,0,0]
[271.79999999999313,0,0,0,0,0,0,0,0,0,0]
[271.99999999999312,0,0,0,0,0,0,0,0,0,0]
[272.19999999999311,0,0,0,0,0,0,0,0,0,0]
[272.3999999999931,0,0,0,0,0,0,0,0,0,0]
[272.59999999999309,0,0,0,0,0,0,0,0,0,0]
[272.79999999999308,0,0,0,0,0,0,0,0,0,0]
[272.99999999999307,0,0,0,0,0,0,0,0,0,0]
[273.19999999999305,0,0,0,0,0,0,0,0,0,0]
[273.39999999999304,0,0,0,0,0,0,0,0,0,0]
[273.59999999999303,0,0,0,0,0,0,0,0,0,0]
[273.79999999999302,0,0,0,0,0,0,0,0,0,0]
[273.99999999999301,0,0,0,0,0,0,0,0,0,0]
[274.199999999993,0,0,0,0,0,0,0,0,0,0]
[274.39999999999299,0,0,0,0,0,0,0,0,0,0]
[274.59999999999297,0,0,0,0,0,0,0,0,0,0]
[274.79999999999296,0,0,0,0,0,0,0,0,0,0]
[274.99999999999295,0,0,0,0,0,0,0,0,0,0]
[275.19999999999294,0,0,0,0,0,0,0,0,0,0]
[275.39999999999293,0,0,0,0,0,0,0,0,0,0]
[275.59999999999292,0,0,0,0,0,0,0,0,0,0]
[275.79999999999291,0,0,0,0,0,0,0,0,0,0]
[{"$f":"A1421+0.2","v":275.99999999999289},0,0,0,0,0,0,0,0,0,0]
[276.19999999999288,0,0,0,0,0,0,0,0,0,0]
[276.39999999999287,0,0,0,0,0,0,0,0,0,0]
[276.59999999999286,0,0,0,0,0,0,0,0,0,0]
[276.79999999999285,0,0,0,0,0,0,0,0,0,0]
[276.99999999999284,0,0,0,0,0,0,0,0,0,0]
[277.19999999999283,0,0,0,0,0,0,0,0,0,0]
[277.39999999999281,0,0,0,0,0,0,0,0,0,0]
[277.5999999999928,0,0,0,0,0,0,0,0,0,0]
[277.79999999999279,0,0,0,0,0,0,0,0,0,0]
[277.99999999999278,0,0,0,0,0,0,0,0,0,0]
[278.19999999999277,0,0,0,0,0,0,0,0,0,0]
[278.39999999999276,0,0,0,0,0,0,0,0,0,0]
[278.59999999999275,0,0,0,0,0,0,0,0,0,0]
[278.79999999999274,0,0,0,0,0,0,0,0,0,0]
[278.99999999999272,0,0,0,0,0,0,0,0,0,0]
[279.19999999999271,0,0,0,0,0,0,0,0,0,0]
[279.3999999999927,0,0,0,0,0,0,0,0,0,0]
[279.59999999999269,0,0,0,0,0,0,0,0,0,0]
[279.79999999999268,0,0,0,0,0,0,0,0,0,0]
[279.99999999999267,0,0,0,0,0,0,0,0,0,0]
[280.19999999999266,0,0,0,0,0,0,0,0,0,0]
[280.39999999999264,0,0,0,0,0,0,0,0,0,0]
[280.59999999999263,0,0,0,0,0,0,0,0,0,0]
[280.79999999999262,0,0,0,0,0,0,0,0,0,0]
[280.99999999999261,0,0,0,0,0,0,0,0,0,0]
[281.1999999999926,0,0,0,0,0,0,0,0,0,0]
[281.39999999999259,0,0,0,0,0,0,0,0,0,0]
[281.59999999999258,{"$f":"IF(ISERROR($G$16*A1450+$G$17),0,$G$16*A1450+$G$17)","v":0},{"$f":"IF(AND($C$5>=A1450,A1450>=$B$5),($D$5^2-(A1450-$E$5)^2)^0.5,0)","v":0},{"$f":"IF(AND($C$6>=A1450,A1450>=$B$6),($D$6^2-(A1450-$E$6)^2)^0.5,0)","v":0},{"$f":"IF(AND($C$7>=A1450,A1450>$B$7),($D$7^2-(A1450-$E$7)^2)^0.5,0)","v":0},{"$f":"IF(AND($C$8>=A1450,A1450>=$B$8),($D$8^2-(A1450-$E$8)^2)^0.5,0)","v":0},{"$f":"IF(AND($C$9>=A1450,A1450>=$B$9),($D$9^2-(A1450-$E$9)^2)^0.5,0)","v":0},{"$f":"IF(AND($C$10>=A1450,A1450>=$B$10),($D$10^2-(A1450-$E$10)^2)^0.5,0)","v":0},{"$f":"IF(AND($C$11>=A1450,A1450>=$B$11),($D$11^2-(A1450-$E$11)^2)^0.5,0)","v":0},{"$f":"IF(AND($C$12>=A1450,A1450>=$B$12),($D$12^2-(A1450-$E$12)^2)^0.5,0)","v":0},0]
[281.79999999999256,0,0,0,0,0,0,0,0,0,{"$f":"IF(AND($C$13>=A1451,A1451>=$B$13),($D$13^2-(A1451-$E$13)^2)^0.5,0)","v":0}]
[281.99999999999255,0,0,0,0,0,0,0,0,0,0]
[282.19999999999254,0,0,0,0,0,0,0,0,0,0]
[282.39999999999253,0,0,0,0,0,0,0,0,0,0]
[282.59999999999252,0,0,0,0,0,0,0,0,0,0]
[282.79999999999251,0,0,0,0,0,0,0,0,0,0]
[282.9999999999925,0,0,0,0,0,0,0,0,0,0]
[283.19999999999249,0,0,0,0,0,0,0,0,0,0]
[283.39999999999247,0,0,0,0,0,0,0,0,0,0]
[283.59999999999246,0,0,0,0,0,0,0,0,0,0]
[283.79999999999245,0,0,0,0,0,0,0,0,0,0]
[283.99999999999244,0,0,0,0,0,0,0,0,0,0]
[284.19999999999243,0,0,0,0,0,0,0,0,0,0]
[284.39999999999242,0,0,0,0,0,0,0,0,0,0]
[284.59999999999241,0,0,0,0,0,0,0,0,0,0]
[284.79999999999239,0,0,0,0,0,0,0,0,0,0]
[284.99999999999238,0,0,0,0,0,0,0,0,0,0]
[285.19999999999237,0,0,0,0,0,0,0,0,0,0]
[285.39999999999236,0,0,0,0,0,0,0,0,0,0]
[285.59999999999235,0,0,0,0,0,0,0,0,0,0]
[285.79999999999234,0,0,0,0,0,0,0,0,0,0]
[285.99999999999233,0,0,0,0,0,0,0,0,0,0]
[286.19999999999231,0,0,0,0,0,0,0,0,0,0]
[286.3999999999923,0,0,0,0,0,0,0,0,0,0]
[286.59999999999229,0,0,0,0,0,0,0,0,0,0]
[286.79999999999228,0,0,0,0,0,0,0,0,0,0]
[286.99999999999227,0,0,0,0,0,0,0,0,0,0]
[287.19999999999226,0,0,0,0,0,0,0,0,0,0]
[287.39999999999225,0,0,0,0,0,0,0,0,0,0]
[287.59999999999224,0,0,0,0,0,0,0,0,0,0]
[287.79999999999222,0,0,0,0,0,0,0,0,0,0]
[287.99999999999221,0,0,0,0,0,0,0,0,0,0]
[288.1999999999922,0,0,0,0,0,0,0,0,0,0]
[288.39999999999219,0,0,0,0,0,0,0,0,0,0]
[288.59999999999218,0,0,0,0,0,0,0,0,0,0]
[{"$f":"A1485+0.2","v":288.79999999999217},0,0,0,0,0,0,0,0,0,0]
[288.99999999999216,0,0,0,0,0,0,0,0,0,0]
[289.19999999999214,0,0,0,0,0,0,0,0,0,0]
[289.39999999999213,0,0,0,0,0,0,0,0,0,0]
[289.59999999999212,0,0,0,0,0,0,0,0,0,0]
[289.79999999999211,0,0,0,0,0,0,0,0,0,0]
[289.9999999999921,0,0,0,0,0,0,0,0,0,0]
[290.19999999999209,0,0,0,0,0,0,0,0,0,0]
[290.39999999999208,0,0,0,0,0,0,0,0,0,0]
[290.59999999999206,0,0,0,0,0,0,0,0,0,0]
[290.79999999999205,0,0,0,0,0,0,0,0,0,0]
[290.99999999999204,0,0,0,0,0,0,0,0,0,0]
[291.19999999999203,0,0,0,0,0,0,0,0,0,0]
[291.39999999999202,0,0,0,0,0,0,0,0,0,0]
[291.59999999999201,0,0,0,0,0,0,0,0,0,0]
[291.799999999992,0,0,0,0,0,0,0,0,0,0]
[291.99999999999199,0,0,0,0,0,0,0,0,0,0]
[292.19999999999197,0,0,0,0,0,0,0,0,0,0]
[292.39999999999196,0,0,0,0,0,0,0,0,0,0]
[292.59999999999195,0,0,0,0,0,0,0,0,0,0]
[292.79999999999194,0,0,0,0,0,0,0,0,0,0]
[292.99999999999193,0,0,0,0,0,0,0,0,0,0]
[293.19999999999192,0,0,0,0,0,0,0,0,0,0]
[293.39999999999191,0,0,0,0,0,0,0,0,0,0]
[293.59999999999189,0,0,0,0,0,0,0,0,0,0]
[293.79999999999188,0,0,0,0,0,0,0,0,0,0]
[293.99999999999187,0,0,0,0,0,0,0,0,0,0]
[294.19999999999186,0,0,0,0,0,0,0,0,0,0]
[294.39999999999185,{"$f":"IF(ISERROR($G$16*A1514+$G$17),0,$G$16*A1514+$G$17)","v":0},{"$f":"IF(AND($C$5>=A1514,A1514>=$B$5),($D$5^2-(A1514-$E$5)^2)^0.5,0)","v":0},{"$f":"IF(AND($C$6>=A1514,A1514>=$B$6),($D$6^2-(A1514-$E$6)^2)^0.5,0)","v":0},{"$f":"IF(AND($C$7>=A1514,A1514>$B$7),($D$7^2-(A1514-$E$7)^2)^0.5,0)","v":0},{"$f":"IF(AND($C$8>=A1514,A1514>=$B$8),($D$8^2-(A1514-$E$8)^2)^0.5,0)","v":0},{"$f":"IF(AND($C$9>=A1514,A1514>=$B$9),($D$9^2-(A1514-$E$9)^2)^0.5,0)","v":0},{"$f":"IF(AND($C$10>=A1514,A1514>=$B$10),($D$10^2-(A1514-$E$10)^2)^0.5,0)","v":0},{"$f":"IF(AND($C$11>=A1514,A1514>=$B$11),($D$11^2-(A1514-$E$11)^2)^0.5,0)","v":0},{"$f":"IF(AND($C$12>=A1514,A1514>=$B$12),($D$12^2-(A1514-$E$12)^2)^0.5,0)","v":0},0]
[294.59999999999184,0,0,0,0,0,0,0,0,0,{"$f":"IF(AND($C$13>=A1515,A1515>=$B$13),($D$13^2-(A1515-$E$13)^2)^0.5,0)","v":0}]
[294.79999999999183,0,0,0,0,0,0,0,0,0,0]
[294.99999999999181,0,0,0,0,0,0,0,0,0,0]
[295.1999999999918,0,0,0,0,0,0,0,0,0,0]
[295.39999999999179,0,0,0,0,0,0,0,0,0,0]
[295.59999999999178,0,0,0,0,0,0,0,0,0,0]
[295.79999999999177,0,0,0,0,0,0,0,0,0,0]
[295.99999999999176,0,0,0,0,0,0,0,0,0,0]
[296.19999999999175,0,0,0,0,0,0,0,0,0,0]
[296.39999999999173,0,0,0,0,0,0,0,0,0,0]
[296.59999999999172,0,0,0,0,0,0,0,0,0,0]
[296.79999999999171,0,0,0,0,0,0,0,0,0,0]
[296.9999999999917,0,0,0,0,0,0,0,0,0,0]
[297.19999999999169,0,0,0,0,0,0,0,0,0,0]
[297.39999999999168,0,0,0,0,0,0,0,0,0,0]
[297.59999999999167,0,0,0,0,0,0,0,0,0,0]
[297.79999999999166,0,0,0,0,0,0,0,0,0,0]
[297.99999999999164,0,0,0,0,0,0,0,0,0,0]
[298.19999999999163,0,0,0,0,0,0,0,0,0,0]
[298.39999999999162,0,0,0,0,0,0,0,0,0,0]
[298.59999999999161,0,0,0,0,0,0,0,0,0,0]
[298.7999999999916,0,0,0,0,0,0,0,0,0,0]
[298.99999999999159,0,0,0,0,0,0,0,0,0,0]
[299.19999999999158,0,0,0,0,0,0,0,0,0,0]
[299.39999999999156,0,0,0,0,0,0,0,0,0,0]
[299.59999999999155,0,0,0,0,0,0,0,0,0,0]
[299.79999999999154,0,0,0,0,0,0,0,0,0,0]
[299.99999999999153,0,0,0,0,0,0,0,0,0,0]
[300.19999999999152,0,0,0,0,0,0,0,0,0,0]
[300.39999999999151,0,0,0,0,0,0,0,0,0,0]
[300.5999999999915,0,0,0,0,0,0,0,0,0,0]
[300.79999999999148,0,0,0,0,0,0,0,0,0,0]
[300.99999999999147,0,0,0,0,0,0,0,0,0,0]
[301.19999999999146,0,0,0,0,0,0,0,0,0,0]
[301.39999999999145,0,0,0,0,0,0,0,0,0,0]
[{"$f":"A1549+0.2","v":301.59999999999144},0,0,0,0,0,0,0,0,0,0]
[301.79999999999143,0,0,0,0,0,0,0,0,0,0]
[301.99999999999142,0,0,0,0,0,0,0,0,0,0]
[302.19999999999141,0,0,0,0,0,0,0,0,0,0]
[302.39999999999139,0,0,0,0,0,0,0,0,0,0]
[302.59999999999138,0,0,0,0,0,0,0,0,0,0]
[302.79999999999137,0,0,0,0,0,0,0,0,0,0]
[302.99999999999136,0,0,0,0,0,0,0,0,0,0]
[303.19999999999135,0,0,0,0,0,0,0,0,0,0]
[303.39999999999134,0,0,0,0,0,0,0,0,0,0]
[303.59999999999133,0,0,0,0,0,0,0,0,0,0]
[303.79999999999131,0,0,0,0,0,0,0,0,0,0]
[303.9999999999913,0,0,0,0,0,0,0,0,0,0]
[304.19999999999129,0,0,0,0,0,0,0,0,0,0]
[304.39999999999128,0,0,0,0,0,0,0,0,0,0]
[304.59999999999127,0,0,0,0,0,0,0,0,0,0]
[304.79999999999126,0,0,0,0,0,0,0,0,0,0]
[304.99999999999125,0,0,0,0,0,0,0,0,0,0]
[305.19999999999123,0,0,0,0,0,0,0,0,0,0]
[305.39999999999122,0,0,0,0,0,0,0,0,0,0]
[305.59999999999121,0,0,0,0,0,0,0,0,0,0]
[305.7999999999912,0,0,0,0,0,0,0,0,0,0]
[305.99999999999119,0,0,0,0,0,0,0,0,0,0]
[306.19999999999118,0,0,0,0,0,0,0,0,0,0]
[306.39999999999117,0,0,0,0,0,0,0,0,0,0]
[306.59999999999116,0,0,0,0,0,0,0,0,0,0]
[306.79999999999114,0,0,0,0,0,0,0,0,0,0]
[306.99999999999113,0,0,0,0,0,0,0,0,0,0]
[307.19999999999112,{"$f":"IF(ISERROR($G$16*A1578+$G$17),0,$G$16*A1578+$G$17)","v":0},{"$f":"IF(AND($C$5>=A1578,A1578>=$B$5),($D$5^2-(A1578-$E$5)^2)^0.5,0)","v":0},{"$f":"IF(AND($C$6>=A1578,A1578>=$B$6),($D$6^2-(A1578-$E$6)^2)^0.5,0)","v":0},{"$f":"IF(AND($C$7>=A1578,A1578>$B$7),($D$7^2-(A1578-$E$7)^2)^0.5,0)","v":0},{"$f":"IF(AND($C$8>=A1578,A1578>=$B$8),($D$8^2-(A1578-$E$8)^2)^0.5,0)","v":0},{"$f":"IF(AND($C$9>=A1578,A1578>=$B$9),($D$9^2-(A1578-$E$9)^2)^0.5,0)","v":0},{"$f":"IF(AND($C$10>=A1578,A1578>=$B$10),($D$10^2-(A1578-$E$10)^2)^0.5,0)","v":0},{"$f":"IF(AND($C$11>=A1578,A1578>=$B$11),($D$11^2-(A1578-$E$11)^2)^0.5,0)","v":0},{"$f":"IF(AND($C$12>=A1578,A1578>=$B$12),($D$12^2-(A1578-$E$12)^2)^0.5,0)","v":0},0]
[307.39999999999111,0,0,0,0,0,0,0,0,0,{"$f":"IF(AND($C$13>=A1579,A1579>=$B$13),($D$13^2-(A1579-$E$13)^2)^0.5,0)","v":0}]
[307.5999999999911,0,0,0,0,0,0,0,0,0,0]
[307.79999999999109,0,0,0,0,0,0,0,0,0,0]
[307.99999999999108,0,0,0,0,0,0,0,0,0,0]
[308.19999999999106,0,0,0,0,0,0,0,0,0,0]
[308.39999999999105,0,0,0,0,0,0,0,0,0,0]
[308.59999999999104,0,0,0,0,0,0,0,0,0,0]
[308.79999999999103,0,0,0,0,0,0,0,0,0,0]
[308.99999999999102,0,0,0,0,0,0,0,0,0,0]
[309.19999999999101,0,0,0,0,0,0,0,0,0,0]
[309.399999999991,0,0,0,0,0,0,0,0,0,0]
[309.59999999999098,0,0,0,0,0,0,0,0,0,0]
[309.79999999999097,0,0,0,0,0,0,0,0,0,0]
[309.99999999999096,0,0,0,0,0,0,0,0,0,0]
[310.19999999999095,0,0,0,0,0,0,0,0,0,0]
[310.39999999999094,0,0,0,0,0,0,0,0,0,0]
[310.59999999999093,0,0,0,0,0,0,0,0,0,0]
[310.79999999999092,0,0,0,0,0,0,0,0,0,0]
[310.99999999999091,0,0,0,0,0,0,0,0,0,0]
[311.19999999999089,0,0,0,0,0,0,0,0,0,0]
[311.39999999999088,0,0,0,0,0,0,0,0,0,0]
[311.59999999999087,0,0,0,0,0,0,0,0,0,0]
[311.79999999999086,0,0,0,0,0,0,0,0,0,0]
[311.99999999999085,0,0,0,0,0,0,0,0,0,0]
[312.19999999999084,0,0,0,0,0,0,0,0,0,0]
[312.39999999999083,0,0,0,0,0,0,0,0,0,0]
[312.59999999999081,0,0,0,0,0,0,0,0,0,0]
[312.7999999999908,0,0,0,0,0,0,0,0,0,0]
[312.99999999999079,0,0,0,0,0,0,0,0,0,0]
[313.19999999999078,0,0,0,0,0,0,0,0,0,0]
[313.39999999999077,0,0,0,0,0,0,0,0,0,0]
[313.59999999999076,0,0,0,0,0,0,0,0,0,0]
[313.79999999999075,0,0,0,0,0,0,0,0,0,0]
[313.99999999999073,0,0,0,0,0,0,0,0,0,0]
[314.19999999999072,0,0,0,0,0,0,0,0,0,0]
[{"$f":"A1613+0.2","v":314.39999999999071},0,0,0,0,0,0,0,0,0,0]
[314.5999999999907,0,0,0,0,0,0,0,0,0,0]
[314.79999999999069,0,0,0,0,0,0,0,0,0,0]
[314.99999999999068,0,0,0,0,0,0,0,0,0,0]
[315.19999999999067,0,0,0,0,0,0,0,0,0,0]
[315.39999999999065,0,0,0,0,0,0,0,0,0,0]
[315.59999999999064,0,0,0,0,0,0,0,0,0,0]
[315.79999999999063,0,0,0,0,0,0,0,0,0,0]
[315.99999999999062,0,0,0,0,0,0,0,0,0,0]
[316.19999999999061,0,0,0,0,0,0,0,0,0,0]
[316.3999999999906,0,0,0,0,0,0,0,0,0,0]
[316.59999999999059,0,0,0,0,0,0,0,0,0,0]
[316.79999999999058,0,0,0,0,0,0,0,0,0,0]
[316.99999999999056,0,0,0,0,0,0,0,0,0,0]
[317.19999999999055,0,0,0,0,0,0,0,0,0,0]
[317.39999999999054,0,0,0,0,0,0,0,0,0,0]
[317.59999999999053,0,0,0,0,0,0,0,0,0,0]
[317.79999999999052,0,0,0,0,0,0,0,0,0,0]
[317.99999999999051,0,0,0,0,0,0,0,0,0,0]
[318.1999999999905,0,0,0,0,0,0,0,0,0,0]
[318.39999999999048,0,0,0,0,0,0,0,0,0,0]
[318.59999999999047,0,0,0,0,0,0,0,0,0,0]
[318.79999999999046,0,0,0,0,0,0,0,0,0,0]
[318.99999999999045,0,0,0,0,0,0,0,0,0,0]
[319.19999999999044,0,0,0,0,0,0,0,0,0,0]
[319.39999999999043,0,0,0,0,0,0,0,0,0,0]
[319.59999999999042,0,0,0,0,0,0,0,0,0,0]
[319.7999999999904,0,0,0,0,0,0,0,0,0,0]
[319.99999999999039,{"$f":"IF(ISERROR($G$16*A1642+$G$17),0,$G$16*A1642+$G$17)","v":0},{"$f":"IF(AND($C$5>=A1642,A1642>=$B$5),($D$5^2-(A1642-$E$5)^2)^0.5,0)","v":0},{"$f":"IF(AND($C$6>=A1642,A1642>=$B$6),($D$6^2-(A1642-$E$6)^2)^0.5,0)","v":0},{"$f":"IF(AND($C$7>=A1642,A1642>$B$7),($D$7^2-(A1642-$E$7)^2)^0.5,0)","v":0},{"$f":"IF(AND($C$8>=A1642,A1642>=$B$8),($D$8^2-(A1642-$E$8)^2)^0.5,0)","v":0},{"$f":"IF(AND($C$9>=A1642,A1642>=$B$9),($D$9^2-(A1642-$E$9)^2)^0.5,0)","v":0},{"$f":"IF(AND($C$10>=A1642,A1642>=$B$10),($D$10^2-(A1642-$E$10)^2)^0.5,0)","v":0},{"$f":"IF(AND($C$11>=A1642,A1642>=$B$11),($D$11^2-(A1642-$E$11)^2)^0.5,0)","v":0},{"$f":"IF(AND($C$12>=A1642,A1642>=$B$12),($D$12^2-(A1642-$E$12)^2)^0.5,0)","v":0},0]
[320.19999999999038,0,0,0,0,0,0,0,0,0,{"$f":"IF(AND($C$13>=A1643,A1643>=$B$13),($D$13^2-(A1643-$E$13)^2)^0.5,0)","v":0}]
[320.39999999999037,0,0,0,0,0,0,0,0,0,0]
[320.59999999999036,0,0,0,0,0,0,0,0,0,0]
[320.79999999999035,0,0,0,0,0,0,0,0,0,0]
[320.99999999999034,0,0,0,0,0,0,0,0,0,0]
[321.19999999999033,0,0,0,0,0,0,0,0,0,0]
[321.39999999999031,0,0,0,0,0,0,0,0,0,0]
[321.5999999999903,0,0,0,0,0,0,0,0,0,0]
[321.79999999999029,0,0,0,0,0,0,0,0,0,0]
[321.99999999999028,0,0,0,0,0,0,0,0,0,0]
[322.19999999999027,0,0,0,0,0,0,0,0,0,0]
[322.39999999999026,0,0,0,0,0,0,0,0,0,0]
[322.59999999999025,0,0,0,0,0,0,0,0,0,0]
[322.79999999999023,0,0,0,0,0,0,0,0,0,0]
[322.99999999999022,0,0,0,0,0,0,0,0,0,0]
[323.19999999999021,0,0,0,0,0,0,0,0,0,0]
[323.3999999999902,0,0,0,0,0,0,0,0,0,0]
[323.59999999999019,0,0,0,0,0,0,0,0,0,0]
[323.79999999999018,0,0,0,0,0,0,0,0,0,0]
[323.99999999999017,0,0,0,0,0,0,0,0,0,0]
[324.19999999999015,0,0,0,0,0,0,0,0,0,0]
[324.39999999999014,0,0,0,0,0,0,0,0,0,0]
[324.59999999999013,0,0,0,0,0,0,0,0,0,0]
[324.79999999999012,0,0,0,0,0,0,0,0,0,0]
[324.99999999999011,0,0,0,0,0,0,0,0,0,0]
[325.1999999999901,0,0,0,0,0,0,0,0,0,0]
[325.39999999999009,0,0,0,0,0,0,0,0,0,0]
[325.59999999999008,0,0,0,0,0,0,0,0,0,0]
[325.79999999999006,0,0,0,0,0,0,0,0,0,0]
[325.99999999999005,0,0,0,0,0,0,0,0,0,0]
[326.19999999999004,0,0,0,0,0,0,0,0,0,0]
[326.39999999999003,0,0,0,0,0,0,0,0,0,0]
[326.59999999999002,0,0,0,0,0,0,0,0,0,0]
[326.79999999999001,0,0,0,0,0,0,0,0,0,0]
[326.99999999999,0,0,0,0,0,0,0,0,0,0]
[{"$f":"A1677+0.2","v":327.19999999998998},0,0,0,0,0,0,0,0,0,0]
[327.39999999998997,0,0,0,0,0,0,0,0,0,0]
[327.59999999998996,0,0,0,0,0,0,0,0,0,0]
[327.79999999998995,0,0,0,0,0,0,0,0,0,0]
[327.99999999998994,0,0,0,0,0,0,0,0,0,0]
[328.19999999998993,0,0,0,0,0,0,0,0,0,0]
[328.39999999998992,0,0,0,0,0,0,0,0,0,0]
[328.5999999999899,0,0,0,0,0,0,0,0,0,0]
[328.79999999998989,0,0,0,0,0,0,0,0,0,0]
[328.99999999998988,0,0,0,0,0,0,0,0,0,0]
[329.19999999998987,0,0,0,0,0,0,0,0,0,0]
[329.39999999998986,0,0,0,0,0,0,0,0,0,0]
[329.59999999998985,0,0,0,0,0,0,0,0,0,0]
[329.79999999998984,0,0,0,0,0,0,0,0,0,0]
[329.99999999998983,0,0,0,0,0,0,0,0,0,0]
[330.19999999998981,0,0,0,0,0,0,0,0,0,0]
[330.3999999999898,0,0,0,0,0,0,0,0,0,0]
[330.59999999998979,0,0,0,0,0,0,0,0,0,0]
[330.79999999998978,0,0,0,0,0,0,0,0,0,0]
[330.99999999998977,0,0,0,0,0,0,0,0,0,0]
[331.19999999998976,0,0,0,0,0,0,0,0,0,0]
[331.39999999998975,0,0,0,0,0,0,0,0,0,0]
[331.59999999998973,0,0,0,0,0,0,0,0,0,0]
[331.79999999998972,0,0,0,0,0,0,0,0,0,0]
[331.99999999998971,0,0,0,0,0,0,0,0,0,0]
[332.1999999999897,0,0,0,0,0,0,0,0,0,0]
[332.39999999998969,0,0,0,0,0,0,0,0,0,0]
[332.59999999998968,0,0,0,0,0,0,0,0,0,0]
[332.79999999998967,{"$f":"IF(ISERROR($G$16*A1706+$G$17),0,$G$16*A1706+$G$17)","v":0},{"$f":"IF(AND($C$5>=A1706,A1706>=$B$5),($D$5^2-(A1706-$E$5)^2)^0.5,0)","v":0},{"$f":"IF(AND($C$6>=A1706,A1706>=$B$6),($D$6^2-(A1706-$E$6)^2)^0.5,0)","v":0},{"$f":"IF(AND($C$7>=A1706,A1706>$B$7),($D$7^2-(A1706-$E$7)^2)^0.5,0)","v":0},{"$f":"IF(AND($C$8>=A1706,A1706>=$B$8),($D$8^2-(A1706-$E$8)^2)^0.5,0)","v":0},{"$f":"IF(AND($C$9>=A1706,A1706>=$B$9),($D$9^2-(A1706-$E$9)^2)^0.5,0)","v":0},{"$f":"IF(AND($C$10>=A1706,A1706>=$B$10),($D$10^2-(A1706-$E$10)^2)^0.5,0)","v":0},{"$f":"IF(AND($C$11>=A1706,A1706>=$B$11),($D$11^2-(A1706-$E$11)^2)^0.5,0)","v":0},{"$f":"IF(AND($C$12>=A1706,A1706>=$B$12),($D$12^2-(A1706-$E$12)^2)^0.5,0)","v":0},0]
[332.99999999998965,0,0,0,0,0,0,0,0,0,{"$f":"IF(AND($C$13>=A1707,A1707>=$B$13),($D$13^2-(A1707-$E$13)^2)^0.5,0)","v":0}]
[333.19999999998964,0,0,0,0,0,0,0,0,0,0]
[333.39999999998963,0,0,0,0,0,0,0,0,0,0]
[333.59999999998962,0,0,0,0,0,0,0,0,0,0]
[333.79999999998961,0,0,0,0,0,0,0,0,0,0]
[333.9999999999896,0,0,0,0,0,0,0,0,0,0]
[334.19999999998959,0,0,0,0,0,0,0,0,0,0]
[334.39999999998957,0,0,0,0,0,0,0,0,0,0]
[334.59999999998956,0,0,0,0,0,0,0,0,0,0]
[334.79999999998955,0,0,0,0,0,0,0,0,0,0]
[334.99999999998954,0,0,0,0,0,0,0,0,0,0]
[335.19999999998953,0,0,0,0,0,0,0,0,0,0]
[335.39999999998952,0,0,0,0,0,0,0,0,0,0]
[335.59999999998951,0,0,0,0,0,0,0,0,0,0]
[335.7999999999895,0,0,0,0,0,0,0,0,0,0]
[335.99999999998948,0,0,0,0,0,0,0,0,0,0]
[336.19999999998947,0,0,0,0,0,0,0,0,0,0]
[336.39999999998946,0,0,0,0,0,0,0,0,0,0]
[336.59999999998945,0,0,0,0,0,0,0,0,0,0]
[336.79999999998944,0,0,0,0,0,0,0,0,0,0]
[336.99999999998943,0,0,0,0,0,0,0,0,0,0]
[337.19999999998942,0,0,0,0,0,0,0,0,0,0]
[337.3999999999894,0,0,0,0,0,0,0,0,0,0]
[337.59999999998939,0,0,0,0,0,0,0,0,0,0]
[337.79999999998938,0,0,0,0,0,0,0,0,0,0]
[337.99999999998937,0,0,0,0,0,0,0,0,0,0]
[338.19999999998936,0,0,0,0,0,0,0,0,0,0]
[338.39999999998935,0,0,0,0,0,0,0,0,0,0]
[338.59999999998934,0,0,0,0,0,0,0,0,0,0]
[338.79999999998932,0,0,0,0,0,0,0,0,0,0]
[338.99999999998931,0,0,0,0,0,0,0,0,0,0]
[339.1999999999893,0,0,0,0,0,0,0,0,0,0]
[339.39999999998929,0,0,0,0,0,0,0,0,0,0]
[339.59999999998928,0,0,0,0,0,0,0,0,0,0]
[339.79999999998927,0,0,0,0,0,0,0,0,0,0]
[{"$f":"A1741+0.2","v":339.99999999998926},0,0,0,0,0,0,0,0,0,0]
[340.19999999998925,0,0,0,0,0,0,0,0,0,0]
[340.39999999998923,0,0,0,0,0,0,0,0,0,0]
[340.59999999998922,0,0,0,0,0,0,0,0,0,0]
[340.79999999998921,0,0,0,0,0,0,0,0,0,0]
[340.9999999999892,0,0,0,0,0,0,0,0,0,0]
[341.19999999998919,0,0,0,0,0,0,0,0,0,0]
[341.39999999998918,0,0,0,0,0,0,0,0,0,0]
[341.59999999998917,0,0,0,0,0,0,0,0,0,0]
[341.79999999998915,0,0,0,0,0,0,0,0,0,0]
[341.99999999998914,0,0,0,0,0,0,0,0,0,0]
[342.19999999998913,0,0,0,0,0,0,0,0,0,0]
[342.39999999998912,0,0,0,0,0,0,0,0,0,0]
[342.59999999998911,0,0,0,0,0,0,0,0,0,0]
[342.7999999999891,0,0,0,0,0,0,0,0,0,0]
[342.99999999998909,0,0,0,0,0,0,0,0,0,0]
[343.19999999998907,0,0,0,0,0,0,0,0,0,0]
[343.39999999998906,0,0,0,0,0,0,0,0,0,0]
[343.59999999998905,0,0,0,0,0,0,0,0,0,0]
[343.79999999998904,0,0,0,0,0,0,0,0,0,0]
[343.99999999998903,0,0,0,0,0,0,0,0,0,0]
[344.19999999998902,0,0,0,0,0,0,0,0,0,0]
[344.39999999998901,0,0,0,0,0,0,0,0,0,0]
[344.599999999989,0,0,0,0,0,0,0,0,0,0]
[344.79999999998898,0,0,0,0,0,0,0,0,0,0]
[344.99999999998897,0,0,0,0,0,0,0,0,0,0]
[345.19999999998896,0,0,0,0,0,0,0,0,0,0]
[345.39999999998895,0,0,0,0,0,0,0,0,0,0]
[345.59999999998894,{"$f":"IF(ISERROR($G$16*A1770+$G$17),0,$G$16*A1770+$G$17)","v":0},{"$f":"IF(AND($C$5>=A1770,A1770>=$B$5),($D$5^2-(A1770-$E$5)^2)^0.5,0)","v":0},{"$f":"IF(AND($C$6>=A1770,A1770>=$B$6),($D$6^2-(A1770-$E$6)^2)^0.5,0)","v":0},{"$f":"IF(AND($C$7>=A1770,A1770>$B$7),($D$7^2-(A1770-$E$7)^2)^0.5,0)","v":0},{"$f":"IF(AND($C$8>=A1770,A1770>=$B$8),($D$8^2-(A1770-$E$8)^2)^0.5,0)","v":0},{"$f":"IF(AND($C$9>=A1770,A1770>=$B$9),($D$9^2-(A1770-$E$9)^2)^0.5,0)","v":0},{"$f":"IF(AND($C$10>=A1770,A1770>=$B$10),($D$10^2-(A1770-$E$10)^2)^0.5,0)","v":0},{"$f":"IF(AND($C$11>=A1770,A1770>=$B$11),($D$11^2-(A1770-$E$11)^2)^0.5,0)","v":0},{"$f":"IF(AND($C$12>=A1770,A1770>=$B$12),($D$12^2-(A1770-$E$12)^2)^0.5,0)","v":0},0]
[345.79999999998893,0,0,0,0,0,0,0,0,0,{"$f":"IF(AND($C$13>=A1771,A1771>=$B$13),($D$13^2-(A1771-$E$13)^2)^0.5,0)","v":0}]
[345.99999999998892,0,0,0,0,0,0,0,0,0,0]
[346.1999999999889,0,0,0,0,0,0,0,0,0,0]
[346.39999999998889,0,0,0,0,0,0,0,0,0,0]
[346.59999999998888,0,0,0,0,0,0,0,0,0,0]
[346.79999999998887,0,0,0,0,0,0,0,0,0,0]
[346.99999999998886,0,0,0,0,0,0,0,0,0,0]
[347.19999999998885,0,0,0,0,0,0,0,0,0,0]
[347.39999999998884,0,0,0,0,0,0,0,0,0,0]
[347.59999999998882,0,0,0,0,0,0,0,0,0,0]
[347.79999999998881,0,0,0,0,0,0,0,0,0,0]
[347.9999999999888,0,0,0,0,0,0,0,0,0,0]
[348.19999999998879,0,0,0,0,0,0,0,0,0,0]
[348.39999999998878,0,0,0,0,0,0,0,0,0,0]
[348.59999999998877,0,0,0,0,0,0,0,0,0,0]
[348.79999999998876,0,0,0,0,0,0,0,0,0,0]
[348.99999999998875,0,0,0,0,0,0,0,0,0,0]
[349.19999999998873,0,0,0,0,0,0,0,0,0,0]
[349.39999999998872,0,0,0,0,0,0,0,0,0,0]
[349.59999999998871,0,0,0,0,0,0,0,0,0,0]
[349.7999999999887,0,0,0,0,0,0,0,0,0,0]
[349.99999999998869,0,0,0,0,0,0,0,0,0,0]
[350.19999999998868,0,{"$f":"IF(AND($C$5>=A1793,A1793>=$B$5),($D$5^2-(A1793-$E$5)^2)^0.5,0)","v":0},{"$f":"IF(AND($C$6>=A1793,A1793>=$B$6),($D$6^2-(A1793-$E$6)^2)^0.5,0)","v":0},{"$f":"IF(AND($C$7>=A1793,A1793>$B$7),($D$7^2-(A1793-$E$7)^2)^0.5,0)","v":0},{"$f":"IF(AND($C$8>=A1793,A1793>=$B$8),($D$8^2-(A1793-$E$8)^2)^0.5,0)","v":0},{"$f":"IF(AND($C$9>=A1793,A1793>=$B$9),($D$9^2-(A1793-$E$9)^2)^0.5,0)","v":0},{"$f":"IF(AND($C$10>=A1793,A1793>=$B$10),($D$10^2-(A1793-$E$10)^2)^0.5,0)","v":0},{"$f":"IF(AND($C$11>=A1793,A1793>=$B$11),($D$11^2-(A1793-$E$11)^2)^0.5,0)","v":0},{"$f":"IF(AND($C$12>=A1793,A1793>=$B$12),($D$12^2-(A1793-$E$12)^2)^0.5,0)","v":0},0]
[350.39999999998867,0,0,0,0,0,0,0,0,0,0]
[350.59999999998865,0,0,0,0,0,0,0,0,0,0]
[350.79999999998864,0,0,0,0,0,0,0,0,0,0]
[350.99999999998863,0,0,0,0,0,0,0,0,0,0]
[351.19999999998862,0,0,0,0,0,0,0,0,0,0]
[351.39999999998861,0,0,0,0,0,0,0,0,0,0]
[351.5999999999886,0,0,0,0,0,0,0,0,0,0]
[351.79999999998859,0,0,0,0,0,0,0,0,0,0]
[351.99999999998857,0,0,0,0,0,0,0,0,0,0]
[352.19999999998856,0,0,0,0,0,0,0,0,0,0]
[352.39999999998855,0,0,0,0,0,0,0,0,0,0]
[352.59999999998854,0,0,0,0,0,0,0,0,0,0]
[{"$f":"A1805+0.2","v":352.79999999998853},0,0,0,0,0,0,0,0,0,0]
[352.99999999998852,0,0,0,0,0,0,0,0,0,0]
[353.19999999998851,0,0,0,0,0,0,0,0,0,0]
[353.39999999998849,0,0,0,0,0,0,0,0,0,0]
[353.59999999998848,0,0,0,0,0,0,0,0,0,0]
[353.79999999998847,0,0,0,0,0,0,0,0,0,0]
[353.99999999998846,0,0,0,0,0,0,0,0,0,0]
[354.19999999998845,0,0,0,0,0,0,0,0,0,0]
[354.39999999998844,0,0,0,0,0,0,0,0,0,0]
[354.59999999998843,0,0,0,0,0,0,0,0,0,0]
[354.79999999998842,0,0,0,0,0,0,0,0,0,0]
[354.9999999999884,0,0,0,0,0,0,0,0,0,0]
[355.19999999998839,0,0,0,0,0,0,0,0,0,0]
[355.39999999998838,0,0,0,0,0,0,0,0,0,0]
[355.59999999998837,0,0,0,0,0,0,0,0,0,0]
[355.79999999998836,0,0,0,0,0,0,0,0,0,0]
[355.99999999998835,0,0,0,0,0,0,0,0,0,0]
[356.19999999998834,0,0,0,0,0,0,0,0,0,0]
[356.39999999998832,0,0,0,0,0,0,0,0,0,0]
[356.59999999998831,0,0,0,0,0,0,0,0,0,0]
[356.7999999999883,0,0,0,0,0,0,0,0,0,0]
[356.99999999998829,0,0,0,0,0,0,0,0,0,0]
[357.19999999998828,0,0,0,0,0,0,0,0,0,0]
[357.39999999998827,0,0,0,0,0,0,0,0,0,0]
[357.59999999998826,0,0,0,0,0,0,0,0,0,0]
[357.79999999998824,0,0,0,0,0,0,0,0,0,0]
[357.99999999998823,0,0,0,0,0,0,0,0,0,0]
[358.19999999998822,0,0,0,0,0,0,0,0,0,0]
[358.39999999998821,{"$f":"IF(ISERROR($G$16*A1834+$G$17),0,$G$16*A1834+$G$17)","v":0},0,0,0,0,0,0,0,0,0]
[358.5999999999882,0,0,0,0,0,0,0,0,0,{"$f":"IF(AND($C$13>=A1835,A1835>=$B$13),($D$13^2-(A1835-$E$13)^2)^0.5,0)","v":0}]
[358.79999999998819,0,0,0,0,0,0,0,0,0,0]
[358.99999999998818,0,0,0,0,0,0,0,0,0,0]
[359.19999999998817,0,0,0,0,0,0,0,0,0,0]
[359.39999999998815,0,0,0,0,0,0,0,0,0,0]
[359.59999999998814,0,0,0,0,0,0,0,0,0,0]
[359.79999999998813,0,0,0,0,0,0,0,0,0,0]
[359.99999999998812,0,0,0,0,0,0,0,0,0,0]
[360.19999999998811,0,0,0,0,0,0,0,0,0,0]
[360.3999999999881,0,0,0,0,0,0,0,0,0,0]
[360.59999999998809,0,0,0,0,0,0,0,0,0,0]
[360.79999999998807,0,0,0,0,0,0,0,0,0,0]
[360.99999999998806,0,0,0,0,0,0,0,0,0,0]
[361.19999999998805,0,0,0,0,0,0,0,0,0,0]
[361.39999999998804,0,0,0,0,0,0,0,0,0,0]
[361.59999999998803,0,0,0,0,0,0,0,0,0,0]
[361.79999999998802,0,0,0,0,0,0,0,0,0,0]
[361.99999999998801,0,0,0,0,0,0,0,0,0,0]
[362.19999999998799,0,0,0,0,0,0,0,0,0,0]
[362.39999999998798,0,0,0,0,0,0,0,0,0,0]
[362.59999999998797,0,0,0,0,0,0,0,0,0,0]
[362.79999999998796,0,0,0,0,0,0,0,0,0,0]
[362.99999999998795,0,{"$f":"IF(AND($C$5>=A1857,A1857>=$B$5),($D$5^2-(A1857-$E$5)^2)^0.5,0)","v":0},{"$f":"IF(AND($C$6>=A1857,A1857>=$B$6),($D$6^2-(A1857-$E$6)^2)^0.5,0)","v":0},{"$f":"IF(AND($C$7>=A1857,A1857>$B$7),($D$7^2-(A1857-$E$7)^2)^0.5,0)","v":0},{"$f":"IF(AND($C$8>=A1857,A1857>=$B$8),($D$8^2-(A1857-$E$8)^2)^0.5,0)","v":0},{"$f":"IF(AND($C$9>=A1857,A1857>=$B$9),($D$9^2-(A1857-$E$9)^2)^0.5,0)","v":0},{"$f":"IF(AND($C$10>=A1857,A1857>=$B$10),($D$10^2-(A1857-$E$10)^2)^0.5,0)","v":0},{"$f":"IF(AND($C$11>=A1857,A1857>=$B$11),($D$11^2-(A1857-$E$11)^2)^0.5,0)","v":0},{"$f":"IF(AND($C$12>=A1857,A1857>=$B$12),($D$12^2-(A1857-$E$12)^2)^0.5,0)","v":0},0]
[363.19999999998794,0,0,0,0,0,0,0,0,0,0]
[363.39999999998793,0,0,0,0,0,0,0,0,0,0]
[363.59999999998792,0,0,0,0,0,0,0,0,0,0]
[363.7999999999879,0,0,0,0,0,0,0,0,0,0]
[363.99999999998789,0,0,0,0,0,0,0,0,0,0]
[364.19999999998788,0,0,0,0,0,0,0,0,0,0]
[364.39999999998787,0,0,0,0,0,0,0,0,0,0]
[364.59999999998786,0,0,0,0,0,0,0,0,0,0]
[364.79999999998785,0,0,0,0,0,0,0,0,0,0]
[364.99999999998784,0,0,0,0,0,0,0,0,0,0]
[365.19999999998782,0,0,0,0,0,0,0,0,0,0]
[365.39999999998781,0,0,0,0,0,0,0,0,0,0]
[{"$f":"A1869+0.2","v":365.5999999999878},0,0,0,0,0,0,0,0,0,0]
[365.79999999998779,0,0,0,0,0,0,0,0,0,0]
[365.99999999998778,0,0,0,0,0,0,0,0,0,0]
[366.19999999998777,0,0,0,0,0,0,0,0,0,0]
[366.39999999998776,0,0,0,0,0,0,0,0,0,0]
[366.59999999998774,0,0,0,0,0,0,0,0,0,0]
[366.79999999998773,0,0,0,0,0,0,0,0,0,0]
[366.99999999998772,0,0,0,0,0,0,0,0,0,0]
[367.19999999998771,0,0,0,0,0,0,0,0,0,0]
[367.3999999999877,0,0,0,0,0,0,0,0,0,0]
[367.59999999998769,0,0,0,0,0,0,0,0,0,0]
[367.79999999998768,0,0,0,0,0,0,0,0,0,0]
[367.99999999998766,0,0,0,0,0,0,0,0,0,0]
[368.19999999998765,0,0,0,0,0,0,0,0,0,0]
[368.39999999998764,0,0,0,0,0,0,0,0,0,0]
[368.59999999998763,0,0,0,0,0,0,0,0,0,0]
[368.79999999998762,0,0,0,0,0,0,0,0,0,0]
[368.99999999998761,0,0,0,0,0,0,0,0,0,0]
[369.1999999999876,0,0,0,0,0,0,0,0,0,0]
[369.39999999998759,0,0,0,0,0,0,0,0,0,0]
[369.59999999998757,0,0,0,0,0,0,0,0,0,0]
[369.79999999998756,0,0,0,0,0,0,0,0,0,0]
[369.99999999998755,0,0,0,0,0,0,0,0,0,0]
[370.19999999998754,0,0,0,0,0,0,0,0,0,0]
[370.39999999998753,0,0,0,0,0,0,0,0,0,0]
[370.59999999998752,0,0,0,0,0,0,0,0,0,0]
[370.79999999998751,0,0,0,0,0,0,0,0,0,0]
[370.99999999998749,0,0,0,0,0,0,0,0,0,0]
[371.19999999998748,{"$f":"IF(ISERROR($G$16*A1898+$G$17),0,$G$16*A1898+$G$17)","v":0},0,0,0,0,0,0,0,0,0]
[371.39999999998747,0,0,0,0,0,0,0,0,0,{"$f":"IF(AND($C$13>=A1899,A1899>=$B$13),($D$13^2-(A1899-$E$13)^2)^0.5,0)","v":0}]
[371.59999999998746,0,0,0,0,0,0,0,0,0,0]
[371.79999999998745,0,0,0,0,0,0,0,0,0,0]
[371.99999999998744,0,0,0,0,0,0,0,0,0,0]
[372.19999999998743,0,0,0,0,0,0,0,0,0,0]
[372.39999999998741,0,0,0,0,0,0,0,0,0,0]
[372.5999999999874,0,0,0,0,0,0,0,0,0,0]
[372.79999999998739,0,0,0,0,0,0,0,0,0,0]
[372.99999999998738,0,0,0,0,0,0,0,0,0,0]
[373.19999999998737,0,0,0,0,0,0,0,0,0,0]
[373.39999999998736,0,0,0,0,0,0,0,0,0,0]
[373.59999999998735,0,0,0,0,0,0,0,0,0,0]
[373.79999999998734,0,0,0,0,0,0,0,0,0,0]
[373.99999999998732,0,0,0,0,0,0,0,0,0,0]
[374.19999999998731,0,0,0,0,0,0,0,0,0,0]
[374.3999999999873,0,0,0,0,0,0,0,0,0,0]
[374.59999999998729,0,0,0,0,0,0,0,0,0,0]
[374.79999999998728,0,0,0,0,0,0,0,0,0,0]
[374.99999999998727,0,0,0,0,0,0,0,0,0,0]
[375.19999999998726,0,0,0,0,0,0,0,0,0,0]
[375.39999999998724,0,0,0,0,0,0,0,0,0,0]
[375.59999999998723,0,0,0,0,0,0,0,0,0,0]
[375.79999999998722,0,{"$f":"IF(AND($C$5>=A1921,A1921>=$B$5),($D$5^2-(A1921-$E$5)^2)^0.5,0)","v":0},{"$f":"IF(AND($C$6>=A1921,A1921>=$B$6),($D$6^2-(A1921-$E$6)^2)^0.5,0)","v":0},{"$f":"IF(AND($C$7>=A1921,A1921>$B$7),($D$7^2-(A1921-$E$7)^2)^0.5,0)","v":0},{"$f":"IF(AND($C$8>=A1921,A1921>=$B$8),($D$8^2-(A1921-$E$8)^2)^0.5,0)","v":0},{"$f":"IF(AND($C$9>=A1921,A1921>=$B$9),($D$9^2-(A1921-$E$9)^2)^0.5,0)","v":0},{"$f":"IF(AND($C$10>=A1921,A1921>=$B$10),($D$10^2-(A1921-$E$10)^2)^0.5,0)","v":0},{"$f":"IF(AND($C$11>=A1921,A1921>=$B$11),($D$11^2-(A1921-$E$11)^2)^0.5,0)","v":0},{"$f":"IF(AND($C$12>=A1921,A1921>=$B$12),($D$12^2-(A1921-$E$12)^2)^0.5,0)","v":0},0]
[375.99999999998721,0,0,0,0,0,0,0,0,0,0]
[376.1999999999872,0,0,0,0,0,0,0,0,0,0]
[376.39999999998719,0,0,0,0,0,0,0,0,0,0]
[376.59999999998718,0,0,0,0,0,0,0,0,0,0]
[376.79999999998716,0,0,0,0,0,0,0,0,0,0]
[376.99999999998715,0,0,0,0,0,0,0,0,0,0]
[377.19999999998714,0,0,0,0,0,0,0,0,0,0]
[377.39999999998713,0,0,0,0,0,0,0,0,0,0]
[377.59999999998712,0,0,0,0,0,0,0,0,0,0]
[377.79999999998711,0,0,0,0,0,0,0,0,0,0]
[377.9999999999871,0,0,0,0,0,0,0,0,0,0]
[378.19999999998709,0,0,0,0,0,0,0,0,0,0]
[{"$f":"A1933+0.2","v":378.39999999998707},0,0,0,0,0,0,0,0,0,0]
[378.59999999998706,0,0,0,0,0,0,0,0,0,0]
[378.79999999998705,0,0,0,0,0,0,0,0,0,0]
[378.99999999998704,0,0,0,0,0,0,0,0,0,0]
[379.19999999998703,0,0,0,0,0,0,0,0,0,0]
[379.39999999998702,0,0,0,0,0,0,0,0,0,0]
[379.59999999998701,0,0,0,0,0,0,0,0,0,0]
[379.79999999998699,0,0,0,0,0,0,0,0,0,0]
[379.99999999998698,0,0,0,0,0,0,0,0,0,0]
[380.19999999998697,0,0,0,0,0,0,0,0,0,0]
[380.39999999998696,0,0,0,0,0,0,0,0,0,0]
[380.59999999998695,0,0,0,0,0,0,0,0,0,0]
[380.79999999998694,0,0,0,0,0,0,0,0,0,0]
[380.99999999998693,0,0,0,0,0,0,0,0,0,0]
[381.19999999998691,0,0,0,0,0,0,0,0,0,0]
[381.3999999999869,0,0,0,0,0,0,0,0,0,0]
[381.59999999998689,0,0,0,0,0,0,0,0,0,0]
[381.79999999998688,0,0,0,0,0,0,0,0,0,0]
[381.99999999998687,0,0,0,0,0,0,0,0,0,0]
[382.19999999998686,0,0,0,0,0,0,0,0,0,0]
[382.39999999998685,0,0,0,0,0,0,0,0,0,0]
[382.59999999998684,0,0,0,0,0,0,0,0,0,0]
[382.79999999998682,0,0,0,0,0,0,0,0,0,0]
[382.99999999998681,0,0,0,0,0,0,0,0,0,0]
[383.1999999999868,0,0,0,0,0,0,0,0,0,0]
[383.39999999998679,0,0,0,0,0,0,0,0,0,0]
[383.59999999998678,0,0,0,0,0,0,0,0,0,0]
[383.79999999998677,0,0,0,0,0,0,0,0,0,0]
[383.99999999998676,{"$f":"IF(ISERROR($G$16*A1962+$G$17),0,$G$16*A1962+$G$17)","v":0},0,0,0,0,0,0,0,0,0]
[384.19999999998674,0,0,0,0,0,0,0,0,0,{"$f":"IF(AND($C$13>=A1963,A1963>=$B$13),($D$13^2-(A1963-$E$13)^2)^0.5,0)","v":0}]
[384.39999999998673,0,0,0,0,0,0,0,0,0,0]
[384.59999999998672,0,0,0,0,0,0,0,0,0,0]
[384.79999999998671,0,0,0,0,0,0,0,0,0,0]
[384.9999999999867,0,0,0,0,0,0,0,0,0,0]
[385.19999999998669,0,0,0,0,0,0,0,0,0,0]
[385.39999999998668,0,0,0,0,0,0,0,0,0,0]
[385.59999999998666,0,0,0,0,0,0,0,0,0,0]
[385.79999999998665,0,0,0,0,0,0,0,0,0,0]
[385.99999999998664,0,0,0,0,0,0,0,0,0,0]
[386.19999999998663,0,0,0,0,0,0,0,0,0,0]
[386.39999999998662,0,0,0,0,0,0,0,0,0,0]
[386.59999999998661,0,0,0,0,0,0,0,0,0,0]
[386.7999999999866,0,0,0,0,0,0,0,0,0,0]
[386.99999999998658,0,0,0,0,0,0,0,0,0,0]
[387.19999999998657,0,0,0,0,0,0,0,0,0,0]
[387.39999999998656,0,0,0,0,0,0,0,0,0,0]
[387.59999999998655,0,0,0,0,0,0,0,0,0,0]
[387.79999999998654,0,0,0,0,0,0,0,0,0,0]
[387.99999999998653,0,0,0,0,0,0,0,0,0,0]
[388.19999999998652,0,0,0,0,0,0,0,0,0,0]
[388.39999999998651,0,0,0,0,0,0,0,0,0,0]
[388.59999999998649,0,{"$f":"IF(AND($C$5>=A1985,A1985>=$B$5),($D$5^2-(A1985-$E$5)^2)^0.5,0)","v":0},{"$f":"IF(AND($C$6>=A1985,A1985>=$B$6),($D$6^2-(A1985-$E$6)^2)^0.5,0)","v":0},{"$f":"IF(AND($C$7>=A1985,A1985>$B$7),($D$7^2-(A1985-$E$7)^2)^0.5,0)","v":0},{"$f":"IF(AND($C$8>=A1985,A1985>=$B$8),($D$8^2-(A1985-$E$8)^2)^0.5,0)","v":0},{"$f":"IF(AND($C$9>=A1985,A1985>=$B$9),($D$9^2-(A1985-$E$9)^2)^0.5,0)","v":0},{"$f":"IF(AND($C$10>=A1985,A1985>=$B$10),($D$10^2-(A1985-$E$10)^2)^0.5,0)","v":0},{"$f":"IF(AND($C$11>=A1985,A1985>=$B$11),($D$11^2-(A1985-$E$11)^2)^0.5,0)","v":0},{"$f":"IF(AND($C$12>=A1985,A1985>=$B$12),($D$12^2-(A1985-$E$12)^2)^0.5,0)","v":0},0]
[388.79999999998648,0,0,0,0,0,0,0,0,0,0]
[388.99999999998647,0,0,0,0,0,0,0,0,0,0]
[389.19999999998646,0,0,0,0,0,0,0,0,0,0]
[389.39999999998645,0,0,0,0,0,0,0,0,0,0]
[389.59999999998644,0,0,0,0,0,0,0,0,0,0]
[389.79999999998643,0,0,0,0,0,0,0,0,0,0]
[389.99999999998641,0,0,0,0,0,0,0,0,0,0]
[390.1999999999864,0,0,0,0,0,0,0,0,0,0]
[390.39999999998639,0,0,0,0,0,0,0,0,0,0]
[390.59999999998638,0,0,0,0,0,0,0,0,0,0]
[390.79999999998637,0,0,0,0,0,0,0,0,0,0]
[390.99999999998636,0,0,0,0,0,0,0,0,0,0]
[{"$f":"A1997+0.2","v":391.19999999998635},0,0,0,0,0,0,0,0,0,0]
[{"$f":"A1998+0.2","v":391.39999999998633},0,0,0,0,0,0,0,0,0,0]
[{"$f":"A1999+0.2","v":391.59999999998632},0,0,0,0,0,0,0,0,0,0]
[{"$f":"A2000+0.2","v":391.79999999998631},0,0,0,0,0,0,0,0,0,0]
[{"$f":"A2001+0.2","v":391.9999999999863},0,{"$f":"IF(AND($C$5>=A2002,A2002>=$B$5),($D$5^2-(A2002-$E$5)^2)^0.5,0)","v":0},{"$f":"IF(AND($C$6>=A2002,A2002>=$B$6),($D$6^2-(A2002-$E$6)^2)^0.5,0)","v":0},{"$f":"IF(AND($C$7>=A2002,A2002>$B$7),($D$7^2-(A2002-$E$7)^2)^0.5,0)","v":0},{"$f":"IF(AND($C$8>=A2002,A2002>=$B$8),($D$8^2-(A2002-$E$8)^2)^0.5,0)","v":0},{"$f":"IF(AND($C$9>=A2002,A2002>=$B$9),($D$9^2-(A2002-$E$9)^2)^0.5,0)","v":0},{"$f":"IF(AND($C$10>=A2002,A2002>=$B$10),($D$10^2-(A2002-$E$10)^2)^0.5,0)","v":0},{"$f":"IF(AND($C$11>=A2002,A2002>=$B$11),($D$11^2-(A2002-$E$11)^2)^0.5,0)","v":0},{"$f":"IF(AND($C$12>=A2002,A2002>=$B$12),($D$12^2-(A2002-$E$12)^2)^0.5,0)","v":0},{"$f":"IF(AND($C$13>=A2002,A2002>=$B$13),($D$13^2-(A2002-$E$13)^2)^0.5,0)","v":0}]
[392.19999999998629,0,0,0,0,0,0,0,0,0,0]
[392.39999999998628,0,0,0,0,0,0,0,0,0,0]
[392.59999999998627,0,0,0,0,0,0,0,0,0,0]
[392.79999999998626,0,0,0,0,0,0,0,0,0,0]
[392.99999999998624,0,0,0,0,0,0,0,0,0,0]
[393.19999999998623,0,0,0,0,0,0,0,0,0,0]
[393.39999999998622,0,0,0,0,0,0,0,0,0,0]
[393.59999999998621,0,0,0,0,0,0,0,0,0,0]
[393.7999999999862,0,0,0,0,0,0,0,0,0,0]
[393.99999999998619,0,0,0,0,0,0,0,0,0,0]
[394.19999999998618,0,0,0,0,0,0,0,0,0,0]
[394.39999999998616,0,0,0,0,0,0,0,0,0,0]
[394.59999999998615,0,0,0,0,0,0,0,0,0,0]
[394.79999999998614,0,0,0,0,0,0,0,0,0,0]
[394.99999999998613,0,0,0,0,0,0,0,0,0,0]
[395.19999999998612,0,0,0,0,0,0,0,0,0,0]
[395.39999999998611,0,0,0,0,0,0,0,0,0,0]
[395.5999999999861,0,0,0,0,0,0,0,0,0,0]
[395.79999999998608,0,0,0,0,0,0,0,0,0,0]
[395.99999999998607,0,0,0,0,0,0,0,0,0,0]
[396.19999999998606,0,0,0,0,0,0,0,0,0,0]
[396.39999999998605,0,0,0,0,0,0,0,0,0,0]
[396.59999999998604,0,0,0,0,0,0,0,0,0,0]
[396.79999999998603,{"$f":"IF(ISERROR($G$16*A2026+$G$17),0,$G$16*A2026+$G$17)","v":0},0,0,0,0,0,0,0,0,0]
[396.99999999998602,0,0,0,0,0,0,0,0,0,0]
[397.19999999998601,0,0,0,0,0,0,0,0,0,0]
[397.39999999998599,0,0,0,0,0,0,0,0,0,0]
[397.59999999998598,0,0,0,0,0,0,0,0,0,0]
[397.79999999998597,0,0,0,0,0,0,0,0,0,0]
[397.99999999998596,0,0,0,0,0,0,0,0,0,0]
[398.19999999998595,0,0,0,0,0,0,0,0,0,0]
[398.39999999998594,0,0,0,0,0,0,0,0,0,0]
[398.59999999998593,0,0,0,0,0,0,0,0,0,0]
[398.79999999998591,0,0,0,0,0,0,0,0,0,0]
[398.9999999999859,0,0,0,0,0,0,0,0,0,0]
[399.19999999998589,0,0,0,0,0,0,0,0,0,0]
[399.39999999998588,0,0,0,0,0,0,0,0,0,0]
[399.59999999998587,0,0,0,0,0,0,0,0,0,0]
[399.79999999998586,0,0,0,0,0,0,0,0,0,0]
[399.99999999998585,0,0,0,0,0,0,0,0,0,0]

{"sheet":"Reference","index":20,"n_rows":201,"n_cols":5,"rows_kept":201,"cut":false,"hidden":true,"merged":[]}
["m1",{"$f":"(B12-B11)/(C12-C11)","v":{"$error":"#VALUE!"}}]
["b1",{"$f":"B11-B1*C11","v":{"$error":"#VALUE!"}},"X-Peak",{"$f":"(B4-B2)/(B1-B3)","v":{"$error":"#VALUE!"}}]
["m2",{"$f":"IF(AND(B13>0,'Tex-113,4-E'!H46=0),B1*-1,(B14-B13)/(C14-C13))","v":{"$error":"#VALUE!"}},"Y-Peak",{"$f":"B1*D2+B2","v":{"$error":"#VALUE!"}}]
["b2",{"$f":"B13-C13*B3","v":{"$error":"#VALUE!"}}]
[]
[]
[]
[]
[]
["N","Y","X","X^2"]
[1,{"$f":"'Tex-113,4-E'!E48","v":""},{"$f":"'Tex-113,4-E'!E47","v":""},{"$f":"C11^2","v":{"$error":"#VALUE!"}}]
[2,{"$f":"'Tex-113,4-E'!F48","v":""},{"$f":"'Tex-113,4-E'!F47","v":""},{"$error":"#VALUE!"}]
[3,{"$f":"'Tex-113,4-E'!G48","v":""},{"$f":"'Tex-113,4-E'!G47","v":""},{"$error":"#VALUE!"}]
[4,{"$f":"IF(AND(B13>0,'Tex-113,4-E'!H46=0),D3,'Tex-113,4-E'!H48)","v":""},{"$f":"IF(AND(C13>0,'Tex-113,4-E'!H46=0),D2,'Tex-113,4-E'!H47)","v":""},{"$error":"#VALUE!"}]
[5,{"$f":"D3","v":{"$error":"#VALUE!"}},{"$f":"$D$2","v":{"$error":"#VALUE!"}},{"$error":"#VALUE!"}]
[6,{"$f":"D3","v":{"$error":"#VALUE!"}},{"$f":"$D$2","v":{"$error":"#VALUE!"}},{"$error":"#VALUE!"}]
[7,{"$f":"D3","v":{"$error":"#VALUE!"}},{"$f":"$D$2","v":{"$error":"#VALUE!"}},{"$error":"#VALUE!"}]
[8,{"$f":"D3","v":{"$error":"#VALUE!"}},{"$f":"D2","v":{"$error":"#VALUE!"}},{"$error":"#VALUE!"}]
["SUM",{"$f":"SUM(B13:B17)","v":{"$error":"#VALUE!"}},{"$f":"SUM(C13:C17)","v":{"$error":"#VALUE!"}},{"$f":"SUM(D11:D17)","v":{"$error":"#VALUE!"}}]
[]
[]
["MAX DEN",{"$f":"B27*B23^2+B26*B23+B25","v":{"$error":"#VALUE!"}}]
["MAX  W",{"$f":"-B26/(2*B27)","v":{"$error":"#VALUE!"}}]
[]
["Ao",{"$f":"INDEX(LINEST($B$11:$B$14,$C$11:$D$14),3)","v":{"$error":"#VALUE!"}}]
["A1",{"$f":"INDEX(LINEST($B$11:$B$14,$C$11:$D$14),2)","v":{"$error":"#VALUE!"}},null,"SG",{"$f":"IF(AND('Tex-113,4-E'!E24>0,'Tex-113,4-E'!E23>0),'Tex-113,4-E'!E25,\"\")","v":""}]
["A2",{"$f":"INDEX(LINEST($B$11:$B$14,$C$11:$D$14),1)","v":{"$error":"#VALUE!"}}]
[]
["W","dry density","zav"]
[{"$f":"IF('Tex-113,4-E'!H30>0,'Tex-113,4-E'!H30+8,'Tex-113,4-E'!G30+8)","v":8},{"$f":"$B$25+$B$26*A30+$B$27*A30^2","v":{"$error":"#VALUE!"}},{"$f":"($E$26*62.4)/(1+(A30/100)*$E$26)","v":{"$error":"#VALUE!"}}]
[{"$f":"A30-0.1","v":7.9},{"$error":"#VALUE!"},{"$error":"#VALUE!"}]
[7.8000000000000007,{"$error":"#VALUE!"},{"$error":"#VALUE!"}]
[7.7000000000000011,{"$error":"#VALUE!"},{"$error":"#VALUE!"}]
[7.6000000000000014,{"$error":"#VALUE!"},{"$error":"#VALUE!"}]
[7.5000000000000018,{"$error":"#VALUE!"},{"$error":"#VALUE!"}]
[7.4000000000000021,{"$error":"#VALUE!"},{"$error":"#VALUE!"}]
[7.3000000000000025,{"$error":"#VALUE!"},{"$error":"#VALUE!"}]
[7.2000000000000028,{"$error":"#VALUE!"},{"$error":"#VALUE!"}]
[7.1000000000000032,{"$error":"#VALUE!"},{"$error":"#VALUE!"}]
[7.0000000000000036,{"$error":"#VALUE!"},{"$error":"#VALUE!"}]
[6.9000000000000039,{"$error":"#VALUE!"},{"$error":"#VALUE!"}]
[6.8000000000000043,{"$error":"#VALUE!"},{"$error":"#VALUE!"}]
[6.7000000000000046,{"$error":"#VALUE!"},{"$error":"#VALUE!"}]
[6.600000000000005,{"$error":"#VALUE!"},{"$error":"#VALUE!"}]
[6.5000000000000053,{"$error":"#VALUE!"},{"$error":"#VALUE!"}]
[6.4000000000000057,{"$error":"#VALUE!"},{"$error":"#VALUE!"}]
[6.300000000000006,{"$error":"#VALUE!"},{"$error":"#VALUE!"}]
[6.2000000000000064,{"$error":"#VALUE!"},{"$error":"#VALUE!"}]
[6.1000000000000068,{"$error":"#VALUE!"},{"$error":"#VALUE!"}]
[6.0000000000000071,{"$error":"#VALUE!"},{"$error":"#VALUE!"}]
[5.9000000000000075,{"$error":"#VALUE!"},{"$error":"#VALUE!"}]
[5.8000000000000078,{"$error":"#VALUE!"},{"$error":"#VALUE!"}]
[5.7000000000000082,{"$error":"#VALUE!"},{"$error":"#VALUE!"}]
[5.6000000000000085,{"$error":"#VALUE!"},{"$error":"#VALUE!"}]
[5.5000000000000089,{"$error":"#VALUE!"},{"$error":"#VALUE!"}]
[5.4000000000000092,{"$error":"#VALUE!"},{"$error":"#VALUE!"}]
[5.3000000000000096,{"$error":"#VALUE!"},{"$error":"#VALUE!"}]
[5.2000000000000099,{"$error":"#VALUE!"},{"$error":"#VALUE!"}]
[5.1000000000000103,{"$error":"#VALUE!"},{"$error":"#VALUE!"}]
[5.0000000000000107,{"$error":"#VALUE!"},{"$error":"#VALUE!"}]
[4.900000000000011,{"$error":"#VALUE!"},{"$error":"#VALUE!"}]
[4.8000000000000114,{"$f":"$B$25+$B$26*A62+$B$27*A62^2","v":{"$error":"#VALUE!"}},{"$f":"($E$26*62.4)/(1+(A62/100)*$E$26)","v":{"$error":"#VALUE!"}}]
[{"$f":"A62-0.1","v":4.7000000000000117},{"$error":"#VALUE!"},{"$error":"#VALUE!"}]
[4.6000000000000121,{"$error":"#VALUE!"},{"$error":"#VALUE!"}]
[4.5000000000000124,{"$error":"#VALUE!"},{"$error":"#VALUE!"}]
[4.4000000000000128,{"$error":"#VALUE!"},{"$error":"#VALUE!"}]
[4.3000000000000131,{"$error":"#VALUE!"},{"$error":"#VALUE!"}]
[4.2000000000000135,{"$error":"#VALUE!"},{"$error":"#VALUE!"}]
[4.1000000000000139,{"$error":"#VALUE!"},{"$error":"#VALUE!"}]
[4.0000000000000142,{"$error":"#VALUE!"},{"$error":"#VALUE!"}]
[3.9000000000000141,{"$error":"#VALUE!"},{"$error":"#VALUE!"}]
[3.800000000000014,{"$error":"#VALUE!"},{"$error":"#VALUE!"}]
[3.7000000000000139,{"$error":"#VALUE!"},{"$error":"#VALUE!"}]
[3.6000000000000139,{"$error":"#VALUE!"},{"$error":"#VALUE!"}]
[3.5000000000000138,{"$error":"#VALUE!"},{"$error":"#VALUE!"}]
[3.4000000000000137,{"$error":"#VALUE!"},{"$error":"#VALUE!"}]
[3.3000000000000136,{"$error":"#VALUE!"},{"$error":"#VALUE!"}]
[3.2000000000000135,{"$error":"#VALUE!"},{"$error":"#VALUE!"}]
[3.1000000000000134,{"$error":"#VALUE!"},{"$error":"#VALUE!"}]
[3.0000000000000133,{"$error":"#VALUE!"},{"$error":"#VALUE!"}]
[2.9000000000000132,{"$error":"#VALUE!"},{"$error":"#VALUE!"}]
[2.8000000000000131,{"$error":"#VALUE!"},{"$error":"#VALUE!"}]
[2.7000000000000131,{"$error":"#VALUE!"},{"$error":"#VALUE!"}]
[2.600000000000013,{"$error":"#VALUE!"},{"$error":"#VALUE!"}]
[2.5000000000000129,{"$error":"#VALUE!"},{"$error":"#VALUE!"}]
[2.4000000000000128,{"$error":"#VALUE!"},{"$error":"#VALUE!"}]
[2.3000000000000127,{"$error":"#VALUE!"},{"$error":"#VALUE!"}]
[2.2000000000000126,{"$error":"#VALUE!"},{"$error":"#VALUE!"}]
[2.1000000000000125,{"$error":"#VALUE!"},{"$error":"#VALUE!"}]
[2.0000000000000124,{"$error":"#VALUE!"},{"$error":"#VALUE!"}]
[1.9000000000000123,{"$error":"#VALUE!"},{"$error":"#VALUE!"}]
[1.8000000000000123,{"$error":"#VALUE!"},{"$error":"#VALUE!"}]
[1.7000000000000122,{"$error":"#VALUE!"},{"$error":"#VALUE!"}]
[1.6000000000000121,{"$f":"$B$25+$B$26*A94+$B$27*A94^2","v":{"$error":"#VALUE!"}},{"$f":"($E$26*62.4)/(1+(A94/100)*$E$26)","v":{"$error":"#VALUE!"}}]
[{"$f":"A94-0.1","v":1.500000000000012},{"$error":"#VALUE!"},{"$error":"#VALUE!"}]
[1.4000000000000119,{"$error":"#VALUE!"},{"$error":"#VALUE!"}]
[1.3000000000000118,{"$error":"#VALUE!"},{"$error":"#VALUE!"}]
[1.2000000000000117,{"$error":"#VALUE!"},{"$error":"#VALUE!"}]
[1.1000000000000116,{"$error":"#VALUE!"},{"$error":"#VALUE!"}]
[1.0000000000000115,{"$error":"#VALUE!"},{"$error":"#VALUE!"}]
[0.90000000000001157,{"$error":"#VALUE!"},{"$error":"#VALUE!"}]
[0.80000000000001159,{"$error":"#VALUE!"},{"$error":"#VALUE!"}]
[0.70000000000001161,{"$error":"#VALUE!"},{"$error":"#VALUE!"}]
[0.60000000000001164,{"$error":"#VALUE!"},{"$error":"#VALUE!"}]
[0.50000000000001166,{"$error":"#VALUE!"},{"$error":"#VALUE!"}]
[0.40000000000001168,{"$error":"#VALUE!"},{"$error":"#VALUE!"}]
[0.3000000000000117,{"$error":"#VALUE!"},{"$error":"#VALUE!"}]
[0.2000000000000117,{"$error":"#VALUE!"},{"$error":"#VALUE!"}]
[0.10000000000001169,{"$error":"#VALUE!"},{"$error":"#VALUE!"}]
[1.1685097334179773E-14,{"$error":"#VALUE!"},{"$error":"#VALUE!"}]
[-9.999999999998832E-2,{"$error":"#VALUE!"},{"$error":"#VALUE!"}]
[-0.19999999999998833,{"$error":"#VALUE!"},{"$error":"#VALUE!"}]
[-0.29999999999998833,{"$error":"#VALUE!"},{"$error":"#VALUE!"}]
[-0.39999999999998836,{"$error":"#VALUE!"},{"$error":"#VALUE!"}]
[-0.49999999999998834,{"$error":"#VALUE!"},{"$error":"#VALUE!"}]
[-0.59999999999998832,{"$error":"#VALUE!"},{"$error":"#VALUE!"}]
[-0.6999999999999883,{"$error":"#VALUE!"},{"$error":"#VALUE!"}]
[-0.79999999999998828,{"$error":"#VALUE!"},{"$error":"#VALUE!"}]
[-0.89999999999998825,{"$error":"#VALUE!"},{"$error":"#VALUE!"}]
[-0.99999999999998823,{"$error":"#VALUE!"},{"$error":"#VALUE!"}]
[-1.0999999999999883,{"$error":"#VALUE!"},{"$error":"#VALUE!"}]
[-1.1999999999999884,{"$error":"#VALUE!"},{"$error":"#VALUE!"}]
[-1.2999999999999885,{"$error":"#VALUE!"},{"$error":"#VALUE!"}]
[-1.3999999999999886,{"$error":"#VALUE!"},{"$error":"#VALUE!"}]
[-1.4999999999999887,{"$error":"#VALUE!"},{"$error":"#VALUE!"}]
[-1.5999999999999888,{"$f":"$B$25+$B$26*A126+$B$27*A126^2","v":{"$error":"#VALUE!"}},{"$f":"($E$26*62.4)/(1+(A126/100)*$E$26)","v":{"$error":"#VALUE!"}}]
[{"$f":"A126-0.1","v":-1.6999999999999889},{"$error":"#VALUE!"},{"$error":"#VALUE!"}]
[-1.7999999999999889,{"$error":"#VALUE!"},{"$error":"#VALUE!"}]
[-1.899999999999989,{"$error":"#VALUE!"},{"$error":"#VALUE!"}]
[-1.9999999999999891,{"$error":"#VALUE!"},{"$error":"#VALUE!"}]
[-2.099999999999989,{"$error":"#VALUE!"},{"$error":"#VALUE!"}]
[-2.1999999999999891,{"$error":"#VALUE!"},{"$error":"#VALUE!"}]
[-2.2999999999999892,{"$error":"#VALUE!"},{"$error":"#VALUE!"}]
[-2.3999999999999893,{"$error":"#VALUE!"},{"$error":"#VALUE!"}]
[-2.4999999999999893,{"$error":"#VALUE!"},{"$error":"#VALUE!"}]
[-2.5999999999999894,{"$error":"#VALUE!"},{"$error":"#VALUE!"}]
[-2.6999999999999895,{"$error":"#VALUE!"},{"$error":"#VALUE!"}]
[-2.7999999999999896,{"$error":"#VALUE!"},{"$error":"#VALUE!"}]
[-2.8999999999999897,{"$error":"#VALUE!"},{"$error":"#VALUE!"}]
[-2.9999999999999898,{"$error":"#VALUE!"},{"$error":"#VALUE!"}]
[-3.0999999999999899,{"$error":"#VALUE!"},{"$error":"#VALUE!"}]
[-3.19999999999999,{"$error":"#VALUE!"},{"$error":"#VALUE!"}]
[-3.2999999999999901,{"$error":"#VALUE!"},{"$error":"#VALUE!"}]
[-3.3999999999999901,{"$error":"#VALUE!"},{"$error":"#VALUE!"}]
[-3.4999999999999902,{"$error":"#VALUE!"},{"$error":"#VALUE!"}]
[-3.5999999999999903,{"$error":"#VALUE!"},{"$error":"#VALUE!"}]
[-3.6999999999999904,{"$error":"#VALUE!"},{"$error":"#VALUE!"}]
[-3.7999999999999905,{"$error":"#VALUE!"},{"$error":"#VALUE!"}]
[-3.8999999999999906,{"$error":"#VALUE!"},{"$error":"#VALUE!"}]
[-3.9999999999999907,{"$error":"#VALUE!"},{"$error":"#VALUE!"}]
[-4.0999999999999908,{"$error":"#VALUE!"},{"$error":"#VALUE!"}]
[-4.1999999999999904,{"$error":"#VALUE!"},{"$error":"#VALUE!"}]
[-4.2999999999999901,{"$error":"#VALUE!"},{"$error":"#VALUE!"}]
[-4.3999999999999897,{"$error":"#VALUE!"},{"$error":"#VALUE!"}]
[-4.4999999999999893,{"$error":"#VALUE!"},{"$error":"#VALUE!"}]
[-4.599999999999989,{"$error":"#VALUE!"},{"$error":"#VALUE!"}]
[-4.6999999999999886,{"$error":"#VALUE!"},{"$error":"#VALUE!"}]
[-4.7999999999999883,{"$f":"$B$25+$B$26*A158+$B$27*A158^2","v":{"$error":"#VALUE!"}},{"$f":"($E$26*62.4)/(1+(A158/100)*$E$26)","v":{"$error":"#VALUE!"}}]
[{"$f":"A158-0.1","v":-4.8999999999999879},{"$error":"#VALUE!"},{"$error":"#VALUE!"}]
[-4.9999999999999876,{"$error":"#VALUE!"},{"$error":"#VALUE!"}]
[-5.0999999999999872,{"$error":"#VALUE!"},{"$error":"#VALUE!"}]
[-5.1999999999999869,{"$error":"#VALUE!"},{"$error":"#VALUE!"}]
[-5.2999999999999865,{"$error":"#VALUE!"},{"$error":"#VALUE!"}]
[-5.3999999999999861,{"$error":"#VALUE!"},{"$error":"#VALUE!"}]
[-5.4999999999999858,{"$error":"#VALUE!"},{"$error":"#VALUE!"}]
[-5.5999999999999854,{"$error":"#VALUE!"},{"$error":"#VALUE!"}]
[-5.6999999999999851,{"$error":"#VALUE!"},{"$error":"#VALUE!"}]
[-5.7999999999999847,{"$error":"#VALUE!"},{"$error":"#VALUE!"}]
[-5.8999999999999844,{"$error":"#VALUE!"},{"$error":"#VALUE!"}]
[-5.999999999999984,{"$error":"#VALUE!"},{"$error":"#VALUE!"}]
[-6.0999999999999837,{"$error":"#VALUE!"},{"$error":"#VALUE!"}]
[-6.1999999999999833,{"$error":"#VALUE!"},{"$error":"#VALUE!"}]
[-6.2999999999999829,{"$error":"#VALUE!"},{"$error":"#VALUE!"}]
[-6.3999999999999826,{"$error":"#VALUE!"},{"$error":"#VALUE!"}]
[-6.4999999999999822,{"$error":"#VALUE!"},{"$error":"#VALUE!"}]
[-6.5999999999999819,{"$error":"#VALUE!"},{"$error":"#VALUE!"}]
[-6.6999999999999815,{"$error":"#VALUE!"},{"$error":"#VALUE!"}]
[-6.7999999999999812,{"$error":"#VALUE!"},{"$error":"#VALUE!"}]
[-6.8999999999999808,{"$error":"#VALUE!"},{"$error":"#VALUE!"}]
[-6.9999999999999805,{"$error":"#VALUE!"},{"$error":"#VALUE!"}]
[-7.0999999999999801,{"$error":"#VALUE!"},{"$error":"#VALUE!"}]
[-7.1999999999999797,{"$error":"#VALUE!"},{"$error":"#VALUE!"}]
[-7.2999999999999794,{"$error":"#VALUE!"},{"$error":"#VALUE!"}]
[-7.399999999999979,{"$error":"#VALUE!"},{"$error":"#VALUE!"}]
[-7.4999999999999787,{"$error":"#VALUE!"},{"$error":"#VALUE!"}]
[-7.5999999999999783,{"$error":"#VALUE!"},{"$error":"#VALUE!"}]
[-7.699999999999978,{"$error":"#VALUE!"},{"$error":"#VALUE!"}]
[-7.7999999999999776,{"$error":"#VALUE!"},{"$error":"#VALUE!"}]
[-7.8999999999999773,{"$error":"#VALUE!"},{"$error":"#VALUE!"}]
[-7.9999999999999769,{"$f":"$B$25+$B$26*A190+$B$27*A190^2","v":{"$error":"#VALUE!"}},{"$f":"($E$26*62.4)/(1+(A190/100)*$E$26)","v":{"$error":"#VALUE!"}}]
[{"$f":"A190-0.1","v":-8.0999999999999766},{"$error":"#VALUE!"},{"$error":"#VALUE!"}]
[-8.1999999999999762,{"$error":"#VALUE!"},{"$error":"#VALUE!"}]
[-8.2999999999999758,{"$error":"#VALUE!"},{"$error":"#VALUE!"}]
[-8.3999999999999755,{"$error":"#VALUE!"},{"$error":"#VALUE!"}]
[-8.4999999999999751,{"$error":"#VALUE!"},{"$error":"#VALUE!"}]
[-8.5999999999999748,{"$error":"#VALUE!"},{"$error":"#VALUE!"}]
[-8.6999999999999744,{"$error":"#VALUE!"},{"$error":"#VALUE!"}]
[-8.7999999999999741,{"$error":"#VALUE!"},{"$error":"#VALUE!"}]
[-8.8999999999999737,{"$error":"#VALUE!"},{"$error":"#VALUE!"}]
[-8.9999999999999734,{"$error":"#VALUE!"},{"$error":"#VALUE!"}]
[-9.099999999999973,{"$error":"#VALUE!"},{"$error":"#VALUE!"}]