{"text_format":"1","workbook":"xlsx","n_sheets":33,"sheets":["Log","Compressive Strength","RX","Tex-113","Tex-113 (1-3)","Reference (1-3)","Tex-113 (4-6)","Reference (4-6)","Tex-113 (7-9)","Reference (7-9)","Tex-113 (10-12)","Tex-121-E Part2","Reference (part 3)","Tex-121-E, Pt3","Reference","Reference (part 2)","Reference (10-12)","Reference (2)","Reference (3)","Reference (4)","Reference (5)","Set 1(a)","Set 1(b)","Set 1(c)","Set 2(a)","Set 2(b)","Set 2(c)","Set 3(a)","Set 3(b)","Set 3(c)","Set 4(a)","Set 4(b)","Set 4(c)"],"not_rendered":{"charts":8,"images":1,"macros":1,"external_links":0,"defined_names":794,"comments":2,"pivot_tables":0},"unopened":[],"bounds":{"document_bytes":16777216,"sheet_cells":100000,"rows_first":2000,"rows_last":500,"rows_between":2000,"halvings":0,"cell_chars":16384,"cell_head_chars":4096},"cells_cut":0,"cells_raw":0,"read":"whole","date_system":"1900"}

{"sheet":"Log","index":0,"n_rows":5,"n_cols":1,"rows_kept":5,"cut":false,"hidden":true,"merged":[]}
["*** Add Range Name \"Version\" Cell K68 =IF(AuthorizedDate<38257,\"1\",\"2\")"]
[]
[]
["*** New  =IF(G25=0,0,IF(AutoMan=\"automated\",(G41+G38)/IF(Version=\"1\",G32,G31),(((G43*G37)+G38)/G31)))"]
["*** Old   =IF(G25=0,0,IF(AutoMan=\"automated\",(G41+G38)/G31,(((G43*G37)+G38)/G31))"]

{"sheet":"Compressive Strength","index":1,"n_rows":85,"n_cols":19,"rows_kept":85,"cut":false,"hidden":false,"merged":[[75,3,75,8],[75,9,75,10],[79,1,79,2],[79,3,79,8],[79,9,79,10],[40,1,40,5],[36,1,36,5],[33,1,33,5],[77,9,77,10],[69,1,69,2],[69,3,69,8],[69,9,69,10],[71,1,71,2],[71,3,71,8],[71,9,71,10],[24,6,24,8],[24,1,24,5],[24,9,24,11],[49,1,49,5],[50,1,50,5],[46,1,46,5],[47,1,47,5],[48,1,48,5],[45,1,45,5],[38,1,38,5],[39,1,39,5],[42,1,42,5],[44,1,44,5],[43,1,43,5],[32,1,32,5],[28,1,28,5],[25,1,25,5],[26,1,26,5],[27,1,27,5],[81,7,81,8],[81,1,81,6],[85,7,85,8],[81,11,81,16],[85,1,85,6],[54,1,54,5],[63,1,64,16],[65,1,65,16],[66,1,66,16],[73,1,73,2],[73,3,73,8],[73,9,73,10],[57,6,57,7],[59,6,59,7],[59,1,59,5],[57,1,57,5],[81,9,81,10],[77,1,77,2],[77,3,77,8],[83,1,83,2],[83,3,83,4],[83,5,83,6],[83,7,83,8],[75,1,75,2],[18,5,18,6],[18,7,18,8],[18,15,18,16],[16,9,16,12],[7,13,7,16],[8,13,8,16],[9,13,9,16],[7,9,7,12],[8,9,8,12],[9,9,9,12],[10,13,10,16],[10,9,10,12],[11,9,11,12],[11,13,11,16],[23,9,23,11],[23,12,23,14],[16,13,16,16],[20,7,20,8],[20,1,20,6],[16,1,16,4],[0,0,0,2],[9,1,9,4],[10,1,10,4],[7,5,7,8],[16,5,16,8],[14,1,14,4],[15,1,15,4],[23,6,23,8],[15,5,15,16],[23,15,23,17],[13,13,13,16],[12,9,12,12],[11,5,11,8],[12,5,12,8],[13,5,13,8],[14,5,14,16],[18,11,18,14],[18,9,18,10],[24,15,24,17],[7,1,7,4],[8,1,8,4],[55,1,55,5],[8,5,8,8],[9,5,9,8],[10,5,10,8],[41,1,41,5],[37,1,37,5],[22,1,22,17],[24,12,24,14],[11,1,11,4],[12,1,12,4],[13,1,13,4],[31,1,31,5],[29,1,29,5],[30,1,30,5],[12,13,12,16],[13,9,13,12],[20,9,20,10],[18,1,18,4],[51,1,51,5],[34,1,34,5],[35,1,35,5]]}
["TxDOT Manuals >",null,null,null,"Tex-120-E"]
[null,"TEXAS DEPARTMENT OF TRANSPORTATION",null,null,null,null,null,null,null,null,null,null,null,null,null,null,null,null,657]
[null,null,null,null,null,null,null,null,null,null,null,null,null,null,null,null,null,null,11]
[null,null,null,null,null,null,null,null,null,null,null,null,null,null,null,null,null,null,"tx120-21.xlsm::45505.679606"]
[null,"SOIL-CEMENT OR LIME TESTING"]
[null,"Tex-120-E : PART (I or II) or Tex-121-E PART (I, II, or III)"]
[null,null,null,null,null,null,null,null,null,null,null,null,null,null,null,null,{"$f":"\"File Version: \" & TEXT(MID(sn,SEARCH(\"::\",sn,1)+2,20),\"mm/dd/yy hh:mm:ss\")","v":"File Version: 08/01/24 16:18:38"}]
[null,"SAMPLE ID:",null,null,null,null,null,null,null,"SAMPLED DATE:"]
[null,"TEST NUMBER:",null,null,null,null,null,null,null,"LETTING DATE:"]
[null,"SAMPLE STATUS:",null,null,null,null,null,null,null,"CONTROLLING CSJ:"]
[null,"COUNTY:",null,null,null,null,null,null,null,"SPEC YEAR:"]
[null,"SAMPLED BY:",null,null,null,null,null,null,null,"SPEC ITEM:"]
[null,"SAMPLE LOCATION:",null,null,null,null,null,null,null,"SPECIAL PROVISION:"]
[null,"MATERIAL CODE:",null,null,null,null,null,null,null,"GRADE:"]
[null,"MATERIAL NAME:"]
[null,"PRODUCER:"]
[null,"AREA ENGINEER:",null,null,null,null,null,null,null,"PROJECT MANAGER:"]
[]
[null,"COURSE\\LIFT:",null,null,null,null,null,"STATION:",null,null,null,"DIST. FROM CL:"]
[]
[null,{"$f":" \"Performed By \"& Field7 & \" \" & AutoMan & \":\"","v":"Performed By  :"},null,null,null,null,null,null,null,null,null," <-- Select method of data collection."]
[]
[null,"Soil-Cement Test Data Sheet"]
[null,null,null,null,null,null,1,null,null,2,null,null,3,null,null,4]
[null,{"$f":"\"Percent \" & IF(meth=\"tex-121-e\",\"Lime\",\"Cement\") &\", (%)\"","v":"Percent Cement, (%)"}]
[null,"Specimen Number:",null,null,null,null,"1-1","1-2","1-3","2-1","2-2","2-3","3-1","3-2","3-3","4-1","4-2","4-3"]
[null,"Initial Height of Specimen, in.:"]
[null,"Height of Stone 1, in."]
[null,"Height of Stone 2, in."]
[null,"New Height of Specimen, in.:",null,null,null,null,{"$f":"IF(AutoMan=\"automated\",IF('Set 1(a)'!$D$6=\"\",\"\",'Set 1(a)'!$D$6),IF(AND(G27=\"\",G28=\"\",G29=\"\"),\"\",G27-G28-G29))","v":""},{"$f":"IF(AutoMan=\"automated\",IF('Set 1(b)'!$D$6=\"\",\"\",'Set 1(b)'!$D$6),IF(AND(H27=\"\",H28=\"\",H29=\"\"),\"\",H27-H28-H29))","v":""},{"$f":"IF(AutoMan=\"automated\",IF('Set 1(c)'!$D$6=\"\",\"\",'Set 1(c)'!$D$6),IF(AND(I27=\"\",I28=\"\",I29=\"\"),\"\",I27-I28-I29))","v":""},{"$f":"IF(AutoMan=\"automated\",IF('Set 2(a)'!$D$6=\"\",\"\",'Set 2(a)'!$D$6),IF(AND(J27=\"\",J28=\"\",J29=\"\"),\"\",J27-J28-J29))","v":""},{"$f":"IF(AutoMan=\"automated\",IF('Set 2(b)'!$D$6=\"\",\"\",'Set 2(b)'!$D$6),IF(AND(K27=\"\",K28=\"\",K29=\"\"),\"\",K27-K28-K29))","v":""},{"$f":"IF(AutoMan=\"automated\",IF('Set 2(c)'!$D$6=\"\",\"\",'Set 2(c)'!$D$6),IF(AND(L27=\"\",L28=\"\",L29=\"\"),\"\",L27-L28-L29))","v":""},{"$f":"IF(AutoMan=\"automated\",IF('Set 3(a)'!$D$6=\"\",\"\",'Set 3(a)'!$D$6),IF(AND(M27=\"\",M28=\"\",M29=\"\"),\"\",M27-M28-M29))","v":""},{"$f":"IF(AutoMan=\"automated\",IF('Set 3(b)'!$D$6=\"\",\"\",'Set 3(b)'!$D$6),IF(AND(N27=\"\",N28=\"\",N29=\"\"),\"\",N27-N28-N29))","v":""},{"$f":"IF(AutoMan=\"automated\",IF('Set 3(c)'!$D$6=\"\",\"\",'Set 3(c)'!$D$6),IF(AND(O27=\"\",O28=\"\",O29=\"\"),\"\",O27-O28-O29))","v":""},{"$f":"IF(AutoMan=\"automated\",IF('Set 4(a)'!$D$6=\"\",\"\",'Set 4(a)'!$D$6),IF(AND(P27=\"\",P28=\"\",P29=\"\"),\"\",P27-P28-P29))","v":""},{"$f":"IF(AutoMan=\"automated\",IF('Set 4(b)'!$D$6=\"\",\"\",'Set 4(b)'!$D$6),IF(AND(Q27=\"\",Q28=\"\",Q29=\"\"),\"\",Q27-Q28-Q29))","v":""},{"$f":"IF(AutoMan=\"automated\",IF('Set 4(c)'!$D$6=\"\",\"\",'Set 4(c)'!$D$6),IF(AND(R27=\"\",R28=\"\",R29=\"\"),\"\",R27-R28-R29))","v":""}]
[null,"Average Diameter, in.:",null,null,null,null,{"$f":"IF(G27=0,\"\",IF(AutoMan=\"automated\",'Set 1(a)'!$B$6,+G32/PI()))","v":""},{"$f":"IF(H27=0,\"\",IF(AutoMan=\"automated\",'Set 1(b)'!$B$6,+H32/PI()))","v":""},{"$f":"IF(I27=0,\"\",IF(AutoMan=\"automated\",'Set 1(c)'!$B$6,+I32/PI()))","v":""},{"$f":"IF(J27=0,\"\",IF(AutoMan=\"automated\",'Set 2(a)'!$B$6,+J32/PI()))","v":""},{"$f":"IF(K27=0,\"\",IF(AutoMan=\"automated\",'Set 2(b)'!$B$6,+K32/PI()))","v":""},{"$f":"IF(L27=0,\"\",IF(AutoMan=\"automated\",'Set 2(c)'!$B$6,+L32/PI()))","v":""},{"$f":"IF(M27=0,\"\",IF(AutoMan=\"automated\",'Set 3(a)'!$B$6,+M32/PI()))","v":""},{"$f":"IF(N27=0,\"\",IF(AutoMan=\"automated\",'Set 3(b)'!$B$6,+N32/PI()))","v":""},{"$f":"IF(O27=0,\"\",IF(AutoMan=\"automated\",'Set 3(c)'!$B$6,+O32/PI()))","v":""},{"$f":"IF(P27=0,\"\",IF(AutoMan=\"automated\",'Set 4(a)'!$B$6,+P32/PI()))","v":""},{"$f":"IF(Q27=0,\"\",IF(AutoMan=\"automated\",'Set 4(b)'!$B$6,+Q32/PI()))","v":""},{"$f":"IF(R27=0,\"\",IF(AutoMan=\"automated\",'Set 4(c)'!$B$6,+R32/PI()))","v":""}]
[null,"Circumference, in.:"]
[null,"Area, in.^2:",null,null,null,null,{"$f":"IF(G27=0,\"\",+G32*(G31/4))","v":""},"","","","","","","","","","",""]
[null,"Avg. Cross Sectional Area, in^2:",null,null,null,null,{"$f":"IF(G27=0,\"\",+G33/G49)","v":""},"","","","","","","","","","",""]
[null,"Lateral Pressure, psi.:"]
[null,"Calibration Factor:",null,null,null,null,{"$f":"IF('Set 1(a)'!$B$16=\"\",\"\",'Set 1(a)'!$B$16)","v":""},{"$f":"IF('Set 1(b)'!$B$16=\"\",\"\",'Set 1(b)'!$B$16)","v":""},{"$f":"IF('Set 1(c)'!$B$16=\"\",\"\",'Set 1(c)'!$B$16)","v":""},{"$f":"IF('Set 2(a)'!$B$16=\"\",\"\",'Set 2(a)'!$B$16)","v":""},{"$f":"IF('Set 2(b)'!$B$16=\"\",\"\",'Set 2(b)'!$B$16)","v":""},{"$f":"IF('Set 2(c)'!$B$16=\"\",\"\",'Set 2(c)'!$B$16)","v":""},{"$f":"IF('Set 3(a)'!$B$16=\"\",\"\",'Set 3(a)'!$B$16)","v":""},{"$f":"IF('Set 3(b)'!$B$16=\"\",\"\",'Set 3(b)'!$B$16)","v":""},{"$f":"IF('Set 3(c)'!$B$16=\"\",\"\",'Set 3(c)'!$B$16)","v":""},{"$f":"IF('Set 4(a)'!$B$16=\"\",\"\",'Set 4(a)'!$B$16)","v":""},{"$f":"IF('Set 4(b)'!$B$16=\"\",\"\",'Set 4(b)'!$B$16)","v":""},{"$f":"IF('Set 4(c)'!$B$16=\"\",\"\",'Set 4(c)'!$B$16)","v":""}]
[null,"Excitation:",null,null,null,null,{"$f":"IF('Set 1(a)'!$B$17=\"\",\"\",'Set 1(a)'!$B$17)","v":""},{"$f":"IF('Set 1(b)'!$B$17=\"\",\"\",'Set 1(b)'!$B$17)","v":""},{"$f":"IF('Set 1(c)'!$B$17=\"\",\"\",'Set 1(c)'!$B$17)","v":""},{"$f":"IF('Set 2(a)'!$B$17=\"\",\"\",'Set 2(a)'!$B$17)","v":""},{"$f":"IF('Set 2(b)'!$B$17=\"\",\"\",'Set 2(b)'!$B$17)","v":""},{"$f":"IF('Set 2(c)'!$B$17=\"\",\"\",'Set 2(c)'!$B$17)","v":""},{"$f":"IF('Set 3(a)'!$B$17=\"\",\"\",'Set 3(a)'!$B$17)","v":""},{"$f":"IF('Set 3(b)'!$B$17=\"\",\"\",'Set 3(b)'!$B$17)","v":""},{"$f":"IF('Set 3(c)'!$B$17=\"\",\"\",'Set 3(c)'!$B$17)","v":""},{"$f":"IF('Set 4(a)'!$B$17=\"\",\"\",'Set 4(a)'!$B$17)","v":""},{"$f":"IF('Set 4(b)'!$B$17=\"\",\"\",'Set 4(b)'!$B$17)","v":""},{"$f":"IF('Set 4(c)'!$B$17=\"\",\"\",'Set 4(c)'!$B$17)","v":""}]
[null,"Zero:",null,null,null,null,{"$f":"IF('Set 1(a)'!$B$18=\"\",\"\",'Set 1(a)'!$B$18)","v":""},{"$f":"IF('Set 1(b)'!$B$18=\"\",\"\",'Set 1(b)'!$B$18)","v":""},{"$f":"IF('Set 1(c)'!$B$18=\"\",\"\",'Set 1(c)'!$B$18)","v":""},{"$f":"IF('Set 2(a)'!$B$18=\"\",\"\",'Set 2(a)'!$B$18)","v":""},{"$f":"IF('Set 2(b)'!$B$18=\"\",\"\",'Set 2(b)'!$B$18)","v":""},{"$f":"IF('Set 2(c)'!$B$18=\"\",\"\",'Set 2(c)'!$B$18)","v":""},{"$f":"IF('Set 3(a)'!$B$18=\"\",\"\",'Set 3(a)'!$B$18)","v":""},{"$f":"IF('Set 3(b)'!$B$18=\"\",\"\",'Set 3(b)'!$B$18)","v":""},{"$f":"IF('Set 3(c)'!$B$18=\"\",\"\",'Set 3(c)'!$B$18)","v":""},{"$f":"IF('Set 4(a)'!$B$18=\"\",\"\",'Set 4(a)'!$B$18)","v":""},{"$f":"IF('Set 4(b)'!$B$18=\"\",\"\",'Set 4(b)'!$B$18)","v":""},{"$f":"IF('Set 4(c)'!$B$18=\"\",\"\",'Set 4(c)'!$B$18)","v":""}]
[null,"Ring Factor, lbs./div"]
[null,"Dead Load, lbs.:"]
[null,"Piston Correction, lbs.:",null,null,null,null,{"$f":"IF('Set 1(a)'!$B$7=\"\",\"\",'Set 1(a)'!$B$7)","v":""},{"$f":"IF('Set 1(b)'!$B$7=\"\",\"\",'Set 1(b)'!$B$7)","v":""},{"$f":"IF('Set 1(c)'!$B$7=\"\",\"\",'Set 1(c)'!$B$7)","v":""},{"$f":"IF('Set 2(a)'!$B$7=\"\",\"\",'Set 2(a)'!$B$7)","v":""},{"$f":"IF('Set 2(b)'!$B$7=\"\",\"\",'Set 2(b)'!$B$7)","v":""},{"$f":"IF('Set 2(c)'!$B$7=\"\",\"\",'Set 2(c)'!$B$7)","v":""},{"$f":"IF('Set 3(a)'!$B$7=\"\",\"\",'Set 3(a)'!$B$7)","v":""},{"$f":"IF('Set 3(b)'!$B$7=\"\",\"\",'Set 3(b)'!$B$7)","v":""},{"$f":"IF('Set 3(c)'!$B$7=\"\",\"\",'Set 3(c)'!$B$7)","v":""},{"$f":"IF('Set 4(a)'!$B$7=\"\",\"\",'Set 4(a)'!$B$7)","v":""},{"$f":"IF('Set 4(b)'!$B$7=\"\",\"\",'Set 4(b)'!$B$7)","v":""},{"$f":"IF('Set 4(c)'!$B$7=\"\",\"\",'Set 4(c)'!$B$7)","v":""}]
[null,"Max. Load Reading, div.:",null,null,null,null,{"$f":"IF('Set 1(a)'!$B$25=\"\",\"\",'Set 1(a)'!$B$25)","v":""},{"$f":"IF('Set 1(b)'!$B$25=\"\",\"\",'Set 1(b)'!$B$25)","v":""},{"$f":"IF('Set 1(c)'!$B$25=\"\",\"\",'Set 1(c)'!$B$25)","v":""},{"$f":"IF('Set 2(a)'!$B$25=\"\",\"\",'Set 2(a)'!$B$25)","v":""},{"$f":"IF('Set 2(b)'!$B$25=\"\",\"\",'Set 2(b)'!$B$25)","v":""},{"$f":"IF('Set 2(c)'!$B$25=\"\",\"\",'Set 2(c)'!$B$25)","v":""},{"$f":"IF('Set 3(a)'!$B$25=\"\",\"\",'Set 3(a)'!$B$25)","v":""},{"$f":"IF('Set 3(b)'!$B$25=\"\",\"\",'Set 3(b)'!$B$25)","v":""},{"$f":"IF('Set 3(c)'!$B$25=\"\",\"\",'Set 3(c)'!$B$25)","v":""},{"$f":"IF('Set 4(a)'!$B$25=\"\",\"\",'Set 4(a)'!$B$25)","v":""},{"$f":"IF('Set 4(b)'!$B$25=\"\",\"\",'Set 4(b)'!$B$25)","v":""},{"$f":"IF('Set 4(c)'!$B$25=\"\",\"\",'Set 4(c)'!$B$25)","v":""}]
[null,"Max Load, lbs.:",null,null,null,null,{"$f":"IF(G42=\"\",\"\",((G$42-G$38)*G$36)/G$37)","v":""},"","","","","","","","","","",""]
[null,"Deformation at Max Load, in.:",null,null,null,null,{"$f":"IF(G42=\"\",\"\",('Set 1(a)'!$D$26-'Set 1(a)'!$D$24)/'Set 1(a)'!$D$16)","v":""},{"$f":"IF(H42=\"\",\"\",('Set 1(b)'!$D$26-'Set 1(b)'!$D$24)/'Set 1(b)'!$D$16)","v":""},{"$f":"IF(I42=\"\",\"\",('Set 1(c)'!$D$26-'Set 1(c)'!$D$24)/'Set 1(c)'!$D$16)","v":""},{"$f":"IF(J42=\"\",\"\",('Set 2(a)'!$D$26-'Set 2(a)'!$D$24)/'Set 2(a)'!$D$16)","v":""},{"$f":"IF(K42=\"\",\"\",('Set 2(b)'!$D$26-'Set 2(b)'!$D$24)/'Set 2(b)'!$D$16)","v":""},{"$f":"IF(L42=\"\",\"\",('Set 2(c)'!$D$26-'Set 2(c)'!$D$24)/'Set 2(c)'!$D$16)","v":""},{"$f":"IF(M42=\"\",\"\",('Set 3(a)'!$D$26-'Set 3(a)'!$D$24)/'Set 3(a)'!$D$16)","v":""},{"$f":"IF(N42=\"\",\"\",('Set 3(b)'!$D$26-'Set 3(b)'!$D$24)/'Set 3(b)'!$D$16)","v":""},{"$f":"IF(O42=\"\",\"\",('Set 3(c)'!$D$26-'Set 3(c)'!$D$24)/'Set 3(c)'!$D$16)","v":""},{"$f":"IF(P42=\"\",\"\",('Set 4(a)'!$D$26-'Set 4(a)'!$D$24)/'Set 4(a)'!$D$16)","v":""},{"$f":"IF(Q42=\"\",\"\",('Set 4(b)'!$D$26-'Set 4(b)'!$D$24)/'Set 4(b)'!$D$16)","v":""},{"$f":"IF(R42=\"\",\"\",('Set 4(c)'!$D$26-'Set 4(c)'!$D$24)/'Set 4(c)'!$D$16)","v":""}]
[null,"Max. Load Reading, div."]
[null,"Deformation at Max Load, in."]
[null,"Uncorr'd Stress, psi.:",null,null,null,null,{"$f":"IF(G27=\"\",\"\",IF(AutoMan=\"automated\",(G43+G40)/G33,(((G45*G39)+G40)/G33)))","v":""},"","","","","","","","","","",""]
[null,"% Strain , in./in.:",null,null,null,null,{"$f":"IF(G27=\"\",\"\",IF(AutoMan=\"automated\",(G44/G30)*100,(G46/G30)*100))","v":""},"","","","","","","","","","",""]
[null,"I-Strain, in./in.:",null,null,null,null,{"$f":"IF(G27=\"\",\"\",IF(AutoMan=\"automated\",1-(G44/G30),1-(G46/G30)))","v":""},"","","","","","","","","","",""]
[null,"Corrected Stress, psi.:",null,null,null,null,{"$f":"IF(G27=0,\"\",IF(AutoMan=\"automated\",(G49*G47),((G39*G45)+G40)/G34))","v":""},{"$f":"IF(H27=0,\"\",IF(AutoMan=\"automated\",(H49*H47),((H39*H45)+H40)/H34))","v":""},{"$f":"IF(I27=0,\"\",IF(AutoMan=\"automated\",(I49*I47),((I39*I45)+I40)/I34))","v":""},{"$f":"IF(J27=\"\",\"\",IF(AutoMan=\"automated\",(J49*J47),((J39*J45)+J40)/J34))","v":""},"","","","","","","",""]
[]
[null,"Avg. Corrected Stress, psi:",null,null,null,null,null,null,{"$f":"IF(ISERROR(AVERAGE(G50:I50)),\"\",AVERAGE(G50:I50))","v":""},null,null,{"$f":"IF(ISERROR(AVERAGE(J50:L50)),\"\",AVERAGE(J50:L50))","v":""},null,null,{"$f":"IF(ISERROR(AVERAGE(M50:O50)),\"\",AVERAGE(M50:O50))","v":""},null,null,{"$f":"IF(ISERROR(AVERAGE(P50:R50)),\"\",AVERAGE(P50:R50))","v":""}]
[]
[null,null,null,null,null,null,1,2,3,4]
[null,"Percent Cement, (%)",null,null,null,null,{"$f":"IF(CSPercentCement1=\"\",\"\",CSPercentCement1)","v":""},{"$f":"IF(CSPercentCement2=\"\",\"\",CSPercentCement2)","v":""},{"$f":"IF(CSPercentCement3=\"\",\"\",CSPercentCement3)","v":""},{"$f":"IF(CSPercentCement4=\"\",\"\",CSPercentCement4)","v":""}]
[null,"Avg. Corrected Stress, psi:",null,null,null,null,{"$f":"IF(AVGCS1=\"\",\"\",AVGCS1)","v":""},{"$f":"IF(AVGCS2=\"\",\"\",AVGCS2)","v":""},{"$f":"IF(AVGCS3=\"\",\"\",AVGCS3)","v":""},{"$f":"IF(AVGCS4=\"\",\"\",AVGCS4)","v":""}]
[]
[null,"Target Stress, psi:"]
[]
[null,"Target Percent Cement, %:",null,null,null,null,{"$f":"IF(TargetStress=\"\",\"\",(G58-INTERCEPT(G56:J56,G55:J55))/LINEST(G56:J56,G55:J55))","v":""}]
[]
[]
[null,"Remarks:",null,{"$f":"NOW()","v":"2024-08-01T16:18:38.300"}]
[]
[]
[]
[]
[]
[null,"Sample Method:",null,"Sampled By:",null,null,null,null,null,"Sampled Date:"]
[null,"TX100"]
[]
[null,"TX400"]
[null,"Test Method:",null,"Tested By:",null,null,null,null,null,"Tested Date:"]
[null,"TX120"]
[]
[null,"TX120PI"]
[]
[null,"TX121"]
[]
[null,"TX121PII"]
[null,"Test Stamp Code:",null,null,null,null,null,"Omit Test:",null,"Completed Date:",null,"Reviewed By:"]
[]
[null,"Locked By:",null,"TxDOT:",null,"District:",null,"Area:"]
[]
[null,"Authorized By:",null,null,null,null,null,"Authorized Date:"]

{"sheet":"RX","index":2,"n_rows":849,"n_cols":9,"rows_kept":849,"cut":false,"hidden":true,"merged":[]}
[839]
["Fld_nbr","Value","Desc_1","Desc_2","Desc_3","Desc_4","Desc_5","Desc_6","Desc_7"]
[1,{"$f":"IF('Compressive Strength'!$B$64=\"\",\"\",'Compressive Strength'!$B$64)","v":""},{"$f":"'Compressive Strength'!$B$63","v":"Remarks:"}]
[2,{"$f":"IF('Compressive Strength'!$F$19=\"\",\"\",'Compressive Strength'!$F$19)","v":""},{"$f":"IF('Compressive Strength'!$B$19=\"\",\"\",'Compressive Strength'!$B$19)","v":"COURSE\\LIFT:"}]
[3,{"$f":"IF('Compressive Strength'!$D$74=\"\",\"\",'Compressive Strength'!$D$74)","v":""},"Tested By ",{"$f":"IF('Compressive Strength'!$B$74=\"\",\"\",'Compressive Strength'!$B$74)","v":"TX120"}]
[4,{"$f":"IF('Compressive Strength'!$J$74=\"\",\"\",'Compressive Strength'!$J$74)","v":""},"Tested Date ",{"$f":"IF('Compressive Strength'!$B$74=\"\",\"\",'Compressive Strength'!$B$74)","v":"TX120"}]
[5,{"$f":"IF('Compressive Strength'!$D$78=\"\",\"\",'Compressive Strength'!$D$78)","v":""},"Tested By ",{"$f":"IF('Compressive Strength'!$B$78=\"\",\"\",'Compressive Strength'!$B$78)","v":"TX121"}]
[6,{"$f":"IF('Compressive Strength'!$J$78=\"\",\"\",'Compressive Strength'!$J$78)","v":""},"Tested Date ",{"$f":"IF('Compressive Strength'!$B$78=\"\",\"\",'Compressive Strength'!$B$78)","v":"TX121"}]
[7,{"$f":"IF('Tex-113'!$D$58=\"\",\"\",'Tex-113'!$D$58)","v":""},"Tested By ",{"$f":"IF('Tex-113'!$B$58=\"\",\"\",'Tex-113'!$B$58)","v":"TX113"}]
[8,{"$f":"IF('Tex-113'!$F$58=\"\",\"\",'Tex-113'!$F$58)","v":""},"Tested Date ",{"$f":"IF('Tex-113'!$B$58=\"\",\"\",'Tex-113'!$B$58)","v":"TX113"}]
[9,{"$f":"IF('Tex-113 (1-3)'!$C$58=\"\",\"\",'Tex-113 (1-3)'!$C$58)","v":""},"Tested By ",{"$f":"IF('Tex-113 (1-3)'!$B$58=\"\",\"\",'Tex-113 (1-3)'!$B$58)","v":"TX113"}]
[10,{"$f":"IF('Tex-113 (1-3)'!$F$58=\"\",\"\",'Tex-113 (1-3)'!$F$58)","v":""},"Tested Date ",{"$f":"IF('Tex-113 (1-3)'!$B$58=\"\",\"\",'Tex-113 (1-3)'!$B$58)","v":"TX113"}]
[11,{"$f":"IF('Tex-113 (4-6)'!$C$58=\"\",\"\",'Tex-113 (4-6)'!$C$58)","v":""},"Tested By ",{"$f":"IF('Tex-113 (4-6)'!$B$58=\"\",\"\",'Tex-113 (4-6)'!$B$58)","v":"TX113"}]
[12,{"$f":"IF('Tex-113 (4-6)'!$F$58=\"\",\"\",'Tex-113 (4-6)'!$F$58)","v":""},"Tested Date ",{"$f":"IF('Tex-113 (4-6)'!$B$58=\"\",\"\",'Tex-113 (4-6)'!$B$58)","v":"TX113"}]
[13,{"$f":"IF('Tex-113 (7-9)'!$C$58=\"\",\"\",'Tex-113 (7-9)'!$C$58)","v":""},"Tested By ",{"$f":"IF('Tex-113 (7-9)'!$B$58=\"\",\"\",'Tex-113 (7-9)'!$B$58)","v":"TX113"}]
[14,{"$f":"IF('Tex-113 (7-9)'!$F$58=\"\",\"\",'Tex-113 (7-9)'!$F$58)","v":""},"Tested Date ",{"$f":"IF('Tex-113 (7-9)'!$B$58=\"\",\"\",'Tex-113 (7-9)'!$B$58)","v":"TX113"}]
[15,{"$f":"IF('Tex-113 (10-12)'!$C$58=\"\",\"\",'Tex-113 (10-12)'!$C$58)","v":""},"Tested By ",{"$f":"IF('Tex-113 (10-12)'!$B$58=\"\",\"\",'Tex-113 (10-12)'!$B$58)","v":"TX113"}]
[16,{"$f":"IF('Tex-113 (10-12)'!$F$58=\"\",\"\",'Tex-113 (10-12)'!$F$58)","v":""},"Tested Date ",{"$f":"IF('Tex-113 (10-12)'!$B$58=\"\",\"\",'Tex-113 (10-12)'!$B$58)","v":"TX113"}]
[17,{"$f":"IF('Tex-121-E Part2'!$C$58=\"\",\"\",'Tex-121-E Part2'!$C$58)","v":""},"Tested By ",{"$f":"IF('Tex-121-E Part2'!$B$58=\"\",\"\",'Tex-121-E Part2'!$B$58)","v":"TX121"}]
[18,{"$f":"IF('Tex-121-E Part2'!$F$58=\"\",\"\",'Tex-121-E Part2'!$F$58)","v":""},"Tested Date ",{"$f":"IF('Tex-121-E Part2'!$B$58=\"\",\"\",'Tex-121-E Part2'!$B$58)","v":"TX121"}]
[19,{"$f":"IF('Tex-121-E, Pt3'!$C$60=\"\",\"\",'Tex-121-E, Pt3'!$C$60)","v":""},"Tested By ",{"$f":"IF('Tex-121-E, Pt3'!$B$60=\"\",\"\",'Tex-121-E, Pt3'!$B$60)","v":"TX121"}]
[20,{"$f":"IF('Tex-121-E, Pt3'!$F$60=\"\",\"\",'Tex-121-E, Pt3'!$F$60)","v":""},"Tested Date ",{"$f":"IF('Tex-121-E, Pt3'!$B$60=\"\",\"\",'Tex-121-E, Pt3'!$B$60)","v":"TX121"}]
[21,{"$f":"IF('Compressive Strength'!$G$25=\"\",\"\",'Compressive Strength'!$G$25)","v":""},{"$f":"IF('Compressive Strength'!$B$6=\"\",\"\",'Compressive Strength'!$B$6)","v":"Tex-120-E : PART (I or II) or Tex-121-E PART (I, II, or III)"},{"$f":"IF( 'Compressive Strength'!$B$21=\"\",\"\", 'Compressive Strength'!$B$21)","v":"Performed By  :"},{"$f":"IF('Compressive Strength'!$B$25=\"\",\"\",'Compressive Strength'!$B$25)","v":"Percent Cement, (%)"},{"$f":"IF('Compressive Strength'!$G$24=\"\",\"\",'Compressive Strength'!$G$24)","v":1}]
[22,{"$f":"IF('Compressive Strength'!$J$25=\"\",\"\",'Compressive Strength'!$J$25)","v":""},{"$f":"IF('Compressive Strength'!$B$6=\"\",\"\",'Compressive Strength'!$B$6)","v":"Tex-120-E : PART (I or II) or Tex-121-E PART (I, II, or III)"},{"$f":"IF( 'Compressive Strength'!$B$21=\"\",\"\", 'Compressive Strength'!$B$21)","v":"Performed By  :"},{"$f":"IF('Compressive Strength'!$B$25=\"\",\"\",'Compressive Strength'!$B$25)","v":"Percent Cement, (%)"},{"$f":"IF('Compressive Strength'!$J$24=\"\",\"\",'Compressive Strength'!$J$24)","v":2}]
[23,{"$f":"IF('Compressive Strength'!$M$25=\"\",\"\",'Compressive Strength'!$M$25)","v":""},{"$f":"IF('Compressive Strength'!$B$6=\"\",\"\",'Compressive Strength'!$B$6)","v":"Tex-120-E : PART (I or II) or Tex-121-E PART (I, II, or III)"},{"$f":"IF( 'Compressive Strength'!$B$21=\"\",\"\", 'Compressive Strength'!$B$21)","v":"Performed By  :"},{"$f":"IF('Compressive Strength'!$B$25=\"\",\"\",'Compressive Strength'!$B$25)","v":"Percent Cement, (%)"},{"$f":"IF('Compressive Strength'!$M$24=\"\",\"\",'Compressive Strength'!$M$24)","v":3}]
[24,{"$f":"IF('Compressive Strength'!$P$25=\"\",\"\",'Compressive Strength'!$P$25)","v":""},{"$f":"IF('Compressive Strength'!$B$6=\"\",\"\",'Compressive Strength'!$B$6)","v":"Tex-120-E : PART (I or II) or Tex-121-E PART (I, II, or III)"},{"$f":"IF( 'Compressive Strength'!$B$21=\"\",\"\", 'Compressive Strength'!$B$21)","v":"Performed By  :"},{"$f":"IF('Compressive Strength'!$B$25=\"\",\"\",'Compressive Strength'!$B$25)","v":"Percent Cement, (%)"},{"$f":"IF('Compressive Strength'!$P$24=\"\",\"\",'Compressive Strength'!$P$24)","v":4}]
[25,{"$f":"IF('Compressive Strength'!$G$27=\"\",\"\",'Compressive Strength'!$G$27)","v":""},{"$f":"IF('Compressive Strength'!$B$6=\"\",\"\",'Compressive Strength'!$B$6)","v":"Tex-120-E : PART (I or II) or Tex-121-E PART (I, II, or III)"},{"$f":"IF( 'Compressive Strength'!$B$21=\"\",\"\", 'Compressive Strength'!$B$21)","v":"Performed By  :"},{"$f":"IF('Compressive Strength'!$B$27=\"\",\"\",'Compressive Strength'!$B$27)","v":"Initial Height of Specimen, in.:"},{"$f":"IF('Compressive Strength'!$G$24=\"\",\"\",'Compressive Strength'!$G$24)","v":1},{"$f":"IF('Compressive Strength'!$G$26=\"\",\"\",'Compressive Strength'!$G$26)","v":"1-1"}]
[26,{"$f":"IF('Compressive Strength'!$H$27=\"\",\"\",'Compressive Strength'!$H$27)","v":""},{"$f":"IF('Compressive Strength'!$B$6=\"\",\"\",'Compressive Strength'!$B$6)","v":"Tex-120-E : PART (I or II) or Tex-121-E PART (I, II, or III)"},{"$f":"IF( 'Compressive Strength'!$B$21=\"\",\"\", 'Compressive Strength'!$B$21)","v":"Performed By  :"},{"$f":"IF('Compressive Strength'!$B$27=\"\",\"\",'Compressive Strength'!$B$27)","v":"Initial Height of Specimen, in.:"},{"$f":"IF('Compressive Strength'!$G$24=\"\",\"\",'Compressive Strength'!$G$24)","v":1},{"$f":"IF('Compressive Strength'!$H$26=\"\",\"\",'Compressive Strength'!$H$26)","v":"1-2"}]
[27,{"$f":"IF('Compressive Strength'!$I$27=\"\",\"\",'Compressive Strength'!$I$27)","v":""},{"$f":"IF('Compressive Strength'!$B$6=\"\",\"\",'Compressive Strength'!$B$6)","v":"Tex-120-E : PART (I or II) or Tex-121-E PART (I, II, or III)"},{"$f":"IF( 'Compressive Strength'!$B$21=\"\",\"\", 'Compressive Strength'!$B$21)","v":"Performed By  :"},{"$f":"IF('Compressive Strength'!$B$27=\"\",\"\",'Compressive Strength'!$B$27)","v":"Initial Height of Specimen, in.:"},{"$f":"IF('Compressive Strength'!$G$24=\"\",\"\",'Compressive Strength'!$G$24)","v":1},{"$f":"IF('Compressive Strength'!$I$26=\"\",\"\",'Compressive Strength'!$I$26)","v":"1-3"}]
[28,{"$f":"IF('Compressive Strength'!$J$27=\"\",\"\",'Compressive Strength'!$J$27)","v":""},{"$f":"IF('Compressive Strength'!$B$6=\"\",\"\",'Compressive Strength'!$B$6)","v":"Tex-120-E : PART (I or II) or Tex-121-E PART (I, II, or III)"},{"$f":"IF( 'Compressive Strength'!$B$21=\"\",\"\", 'Compressive Strength'!$B$21)","v":"Performed By  :"},{"$f":"IF('Compressive Strength'!$B$27=\"\",\"\",'Compressive Strength'!$B$27)","v":"Initial Height of Specimen, in.:"},{"$f":"IF('Compressive Strength'!$J$24=\"\",\"\",'Compressive Strength'!$J$24)","v":2},{"$f":"IF('Compressive Strength'!$J$26=\"\",\"\",'Compressive Strength'!$J$26)","v":"2-1"}]
[29,{"$f":"IF('Compressive Strength'!$K$27=\"\",\"\",'Compressive Strength'!$K$27)","v":""},{"$f":"IF('Compressive Strength'!$B$6=\"\",\"\",'Compressive Strength'!$B$6)","v":"Tex-120-E : PART (I or II) or Tex-121-E PART (I, II, or III)"},{"$f":"IF( 'Compressive Strength'!$B$21=\"\",\"\", 'Compressive Strength'!$B$21)","v":"Performed By  :"},{"$f":"IF('Compressive Strength'!$B$27=\"\",\"\",'Compressive Strength'!$B$27)","v":"Initial Height of Specimen, in.:"},{"$f":"IF('Compressive Strength'!$J$24=\"\",\"\",'Compressive Strength'!$J$24)","v":2},{"$f":"IF('Compressive Strength'!$K$26=\"\",\"\",'Compressive Strength'!$K$26)","v":"2-2"}]
[30,{"$f":"IF('Compressive Strength'!$L$27=\"\",\"\",'Compressive Strength'!$L$27)","v":""},{"$f":"IF('Compressive Strength'!$B$6=\"\",\"\",'Compressive Strength'!$B$6)","v":"Tex-120-E : PART (I or II) or Tex-121-E PART (I, II, or III)"},{"$f":"IF( 'Compressive Strength'!$B$21=\"\",\"\", 'Compressive Strength'!$B$21)","v":"Performed By  :"},{"$f":"IF('Compressive Strength'!$B$27=\"\",\"\",'Compressive Strength'!$B$27)","v":"Initial Height of Specimen, in.:"},{"$f":"IF('Compressive Strength'!$J$24=\"\",\"\",'Compressive Strength'!$J$24)","v":2},{"$f":"IF('Compressive Strength'!$L$26=\"\",\"\",'Compressive Strength'!$L$26)","v":"2-3"}]
[31,{"$f":"IF('Compressive Strength'!$M$27=\"\",\"\",'Compressive Strength'!$M$27)","v":""},{"$f":"IF('Compressive Strength'!$B$6=\"\",\"\",'Compressive Strength'!$B$6)","v":"Tex-120-E : PART (I or II) or Tex-121-E PART (I, II, or III)"},{"$f":"IF( 'Compressive Strength'!$B$21=\"\",\"\", 'Compressive Strength'!$B$21)","v":"Performed By  :"},{"$f":"IF('Compressive Strength'!$B$27=\"\",\"\",'Compressive Strength'!$B$27)","v":"Initial Height of Specimen, in.:"},{"$f":"IF('Compressive Strength'!$M$24=\"\",\"\",'Compressive Strength'!$M$24)","v":3},{"$f":"IF('Compressive Strength'!$M$26=\"\",\"\",'Compressive Strength'!$M$26)","v":"3-1"}]
[32,{"$f":"IF('Compressive Strength'!$N$27=\"\",\"\",'Compressive Strength'!$N$27)","v":""},{"$f":"IF('Compressive Strength'!$B$6=\"\",\"\",'Compressive Strength'!$B$6)","v":"Tex-120-E : PART (I or II) or Tex-121-E PART (I, II, or III)"},{"$f":"IF( 'Compressive Strength'!$B$21=\"\",\"\", 'Compressive Strength'!$B$21)","v":"Performed By  :"},{"$f":"IF('Compressive Strength'!$B$27=\"\",\"\",'Compressive Strength'!$B$27)","v":"Initial Height of Specimen, in.:"},{"$f":"IF('Compressive Strength'!$M$24=\"\",\"\",'Compressive Strength'!$M$24)","v":3},{"$f":"IF('Compressive Strength'!$N$26=\"\",\"\",'Compressive Strength'!$N$26)","v":"3-2"}]
[33,{"$f":"IF('Compressive Strength'!$O$27=\"\",\"\",'Compressive Strength'!$O$27)","v":""},{"$f":"IF('Compressive Strength'!$B$6=\"\",\"\",'Compressive Strength'!$B$6)","v":"Tex-120-E : PART (I or II) or Tex-121-E PART (I, II, or III)"},{"$f":"IF( 'Compressive Strength'!$B$21=\"\",\"\", 'Compressive Strength'!$B$21)","v":"Performed By  :"},{"$f":"IF('Compressive Strength'!$B$27=\"\",\"\",'Compressive Strength'!$B$27)","v":"Initial Height of Specimen, in.:"},{"$f":"IF('Compressive Strength'!$M$24=\"\",\"\",'Compressive Strength'!$M$24)","v":3},{"$f":"IF('Compressive Strength'!$O$26=\"\",\"\",'Compressive Strength'!$O$26)","v":"3-3"}]
[34,{"$f":"IF('Compressive Strength'!$P$27=\"\",\"\",'Compressive Strength'!$P$27)","v":""},{"$f":"IF('Compressive Strength'!$B$6=\"\",\"\",'Compressive Strength'!$B$6)","v":"Tex-120-E : PART (I or II) or Tex-121-E PART (I, II, or III)"},{"$f":"IF( 'Compressive Strength'!$B$21=\"\",\"\", 'Compressive Strength'!$B$21)","v":"Performed By  :"},{"$f":"IF('Compressive Strength'!$B$27=\"\",\"\",'Compressive Strength'!$B$27)","v":"Initial Height of Specimen, in.:"},{"$f":"IF('Compressive Strength'!$P$24=\"\",\"\",'Compressive Strength'!$P$24)","v":4},{"$f":"IF('Compressive Strength'!$P$26=\"\",\"\",'Compressive Strength'!$P$26)","v":"4-1"}]
[35,{"$f":"IF('Compressive Strength'!$Q$27=\"\",\"\",'Compressive Strength'!$Q$27)","v":""},{"$f":"IF('Compressive Strength'!$B$6=\"\",\"\",'Compressive Strength'!$B$6)","v":"Tex-120-E : PART (I or II) or Tex-121-E PART (I, II, or III)"},{"$f":"IF( 'Compressive Strength'!$B$21=\"\",\"\", 'Compressive Strength'!$B$21)","v":"Performed By  :"},{"$f":"IF('Compressive Strength'!$B$27=\"\",\"\",'Compressive Strength'!$B$27)","v":"Initial Height of Specimen, in.:"},{"$f":"IF('Compressive Strength'!$P$24=\"\",\"\",'Compressive Strength'!$P$24)","v":4},{"$f":"IF('Compressive Strength'!$Q$26=\"\",\"\",'Compressive Strength'!$Q$26)","v":"4-2"}]
[36,{"$f":"IF('Compressive Strength'!$R$27=\"\",\"\",'Compressive Strength'!$R$27)","v":""},{"$f":"IF('Compressive Strength'!$B$6=\"\",\"\",'Compressive Strength'!$B$6)","v":"Tex-120-E : PART (I or II) or Tex-121-E PART (I, II, or III)"},{"$f":"IF( 'Compressive Strength'!$B$21=\"\",\"\", 'Compressive Strength'!$B$21)","v":"Performed By  :"},{"$f":"IF('Compressive Strength'!$B$27=\"\",\"\",'Compressive Strength'!$B$27)","v":"Initial Height of Specimen, in.:"},{"$f":"IF('Compressive Strength'!$P$24=\"\",\"\",'Compressive Strength'!$P$24)","v":4},{"$f":"IF('Compressive Strength'!$R$26=\"\",\"\",'Compressive Strength'!$R$26)","v":"4-3"}]
[37,{"$f":"IF('Compressive Strength'!$G$28=\"\",\"\",'Compressive Strength'!$G$28)","v":""},{"$f":"IF('Compressive Strength'!$B$6=\"\",\"\",'Compressive Strength'!$B$6)","v":"Tex-120-E : PART (I or II) or Tex-121-E PART (I, II, or III)"},{"$f":"IF( 'Compressive Strength'!$B$21=\"\",\"\", 'Compressive Strength'!$B$21)","v":"Performed By  :"},{"$f":"IF('Compressive Strength'!$B$28=\"\",\"\",'Compressive Strength'!$B$28)","v":"Height of Stone 1, in."},{"$f":"IF('Compressive Strength'!$G$24=\"\",\"\",'Compressive Strength'!$G$24)","v":1},{"$f":"IF('Compressive Strength'!$G$26=\"\",\"\",'Compressive Strength'!$G$26)","v":"1-1"}]
[38,{"$f":"IF('Compressive Strength'!$H$28=\"\",\"\",'Compressive Strength'!$H$28)","v":""},{"$f":"IF('Compressive Strength'!$B$6=\"\",\"\",'Compressive Strength'!$B$6)","v":"Tex-120-E : PART (I or II) or Tex-121-E PART (I, II, or III)"},{"$f":"IF( 'Compressive Strength'!$B$21=\"\",\"\", 'Compressive Strength'!$B$21)","v":"Performed By  :"},{"$f":"IF('Compressive Strength'!$B$28=\"\",\"\",'Compressive Strength'!$B$28)","v":"Height of Stone 1, in."},{"$f":"IF('Compressive Strength'!$G$24=\"\",\"\",'Compressive Strength'!$G$24)","v":1},{"$f":"IF('Compressive Strength'!$H$26=\"\",\"\",'Compressive Strength'!$H$26)","v":"1-2"}]
[39,{"$f":"IF('Compressive Strength'!$I$28=\"\",\"\",'Compressive Strength'!$I$28)","v":""},{"$f":"IF('Compressive Strength'!$B$6=\"\",\"\",'Compressive Strength'!$B$6)","v":"Tex-120-E : PART (I or II) or Tex-121-E PART (I, II, or III)"},{"$f":"IF( 'Compressive Strength'!$B$21=\"\",\"\", 'Compressive Strength'!$B$21)","v":"Performed By  :"},{"$f":"IF('Compressive Strength'!$B$28=\"\",\"\",'Compressive Strength'!$B$28)","v":"Height of Stone 1, in."},{"$f":"IF('Compressive Strength'!$G$24=\"\",\"\",'Compressive Strength'!$G$24)","v":1},{"$f":"IF('Compressive Strength'!$I$26=\"\",\"\",'Compressive Strength'!$I$26)","v":"1-3"}]
[40,{"$f":"IF('Compressive Strength'!$J$28=\"\",\"\",'Compressive Strength'!$J$28)","v":""},{"$f":"IF('Compressive Strength'!$B$6=\"\",\"\",'Compressive Strength'!$B$6)","v":"Tex-120-E : PART (I or II) or Tex-121-E PART (I, II, or III)"},{"$f":"IF( 'Compressive Strength'!$B$21=\"\",\"\", 'Compressive Strength'!$B$21)","v":"Performed By  :"},{"$f":"IF('Compressive Strength'!$B$28=\"\",\"\",'Compressive Strength'!$B$28)","v":"Height of Stone 1, in."},{"$f":"IF('Compressive Strength'!$J$24=\"\",\"\",'Compressive Strength'!$J$24)","v":2},{"$f":"IF('Compressive Strength'!$J$26=\"\",\"\",'Compressive Strength'!$J$26)","v":"2-1"}]
[41,{"$f":"IF('Compressive Strength'!$K$28=\"\",\"\",'Compressive Strength'!$K$28)","v":""},{"$f":"IF('Compressive Strength'!$B$6=\"\",\"\",'Compressive Strength'!$B$6)","v":"Tex-120-E : PART (I or II) or Tex-121-E PART (I, II, or III)"},{"$f":"IF( 'Compressive Strength'!$B$21=\"\",\"\", 'Compressive Strength'!$B$21)","v":"Performed By  :"},{"$f":"IF('Compressive Strength'!$B$28=\"\",\"\",'Compressive Strength'!$B$28)","v":"Height of Stone 1, in."},{"$f":"IF('Compressive Strength'!$J$24=\"\",\"\",'Compressive Strength'!$J$24)","v":2},{"$f":"IF('Compressive Strength'!$K$26=\"\",\"\",'Compressive Strength'!$K$26)","v":"2-2"}]
[42,{"$f":"IF('Compressive Strength'!$L$28=\"\",\"\",'Compressive Strength'!$L$28)","v":""},{"$f":"IF('Compressive Strength'!$B$6=\"\",\"\",'Compressive Strength'!$B$6)","v":"Tex-120-E : PART (I or II) or Tex-121-E PART (I, II, or III)"},{"$f":"IF( 'Compressive Strength'!$B$21=\"\",\"\", 'Compressive Strength'!$B$21)","v":"Performed By  :"},{"$f":"IF('Compressive Strength'!$B$28=\"\",\"\",'Compressive Strength'!$B$28)","v":"Height of Stone 1, in."},{"$f":"IF('Compressive Strength'!$J$24=\"\",\"\",'Compressive Strength'!$J$24)","v":2},{"$f":"IF('Compressive Strength'!$L$26=\"\",\"\",'Compressive Strength'!$L$26)","v":"2-3"}]
[43,{"$f":"IF('Compressive Strength'!$M$28=\"\",\"\",'Compressive Strength'!$M$28)","v":""},{"$f":"IF('Compressive Strength'!$B$6=\"\",\"\",'Compressive Strength'!$B$6)","v":"Tex-120-E : PART (I or II) or Tex-121-E PART (I, II, or III)"},{"$f":"IF( 'Compressive Strength'!$B$21=\"\",\"\", 'Compressive Strength'!$B$21)","v":"Performed By  :"},{"$f":"IF('Compressive Strength'!$B$28=\"\",\"\",'Compressive Strength'!$B$28)","v":"Height of Stone 1, in."},{"$f":"IF('Compressive Strength'!$M$24=\"\",\"\",'Compressive Strength'!$M$24)","v":3},{"$f":"IF('Compressive Strength'!$M$26=\"\",\"\",'Compressive Strength'!$M$26)","v":"3-1"}]
[44,{"$f":"IF('Compressive Strength'!$N$28=\"\",\"\",'Compressive Strength'!$N$28)","v":""},{"$f":"IF('Compressive Strength'!$B$6=\"\",\"\",'Compressive Strength'!$B$6)","v":"Tex-120-E : PART (I or II) or Tex-121-E PART (I, II, or III)"},{"$f":"IF( 'Compressive Strength'!$B$21=\"\",\"\", 'Compressive Strength'!$B$21)","v":"Performed By  :"},{"$f":"IF('Compressive Strength'!$B$28=\"\",\"\",'Compressive Strength'!$B$28)","v":"Height of Stone 1, in."},{"$f":"IF('Compressive Strength'!$M$24=\"\",\"\",'Compressive Strength'!$M$24)","v":3},{"$f":"IF('Compressive Strength'!$N$26=\"\",\"\",'Compressive Strength'!$N$26)","v":"3-2"}]
[45,{"$f":"IF('Compressive Strength'!$O$28=\"\",\"\",'Compressive Strength'!$O$28)","v":""},{"$f":"IF('Compressive Strength'!$B$6=\"\",\"\",'Compressive Strength'!$B$6)","v":"Tex-120-E : PART (I or II) or Tex-121-E PART (I, II, or III)"},{"$f":"IF( 'Compressive Strength'!$B$21=\"\",\"\", 'Compressive Strength'!$B$21)","v":"Performed By  :"},{"$f":"IF('Compressive Strength'!$B$28=\"\",\"\",'Compressive Strength'!$B$28)","v":"Height of Stone 1, in."},{"$f":"IF('Compressive Strength'!$M$24=\"\",\"\",'Compressive Strength'!$M$24)","v":3},{"$f":"IF('Compressive Strength'!$O$26=\"\",\"\",'Compressive Strength'!$O$26)","v":"3-3"}]
[46,{"$f":"IF('Compressive Strength'!$P$28=\"\",\"\",'Compressive Strength'!$P$28)","v":""},{"$f":"IF('Compressive Strength'!$B$6=\"\",\"\",'Compressive Strength'!$B$6)","v":"Tex-120-E : PART (I or II) or Tex-121-E PART (I, II, or III)"},{"$f":"IF( 'Compressive Strength'!$B$21=\"\",\"\", 'Compressive Strength'!$B$21)","v":"Performed By  :"},{"$f":"IF('Compressive Strength'!$B$28=\"\",\"\",'Compressive Strength'!$B$28)","v":"Height of Stone 1, in."},{"$f":"IF('Compressive Strength'!$P$24=\"\",\"\",'Compressive Strength'!$P$24)","v":4},{"$f":"IF('Compressive Strength'!$P$26=\"\",\"\",'Compressive Strength'!$P$26)","v":"4-1"}]
[47,{"$f":"IF('Compressive Strength'!$Q$28=\"\",\"\",'Compressive Strength'!$Q$28)","v":""},{"$f":"IF('Compressive Strength'!$B$6=\"\",\"\",'Compressive Strength'!$B$6)","v":"Tex-120-E : PART (I or II) or Tex-121-E PART (I, II, or III)"},{"$f":"IF( 'Compressive Strength'!$B$21=\"\",\"\", 'Compressive Strength'!$B$21)","v":"Performed By  :"},{"$f":"IF('Compressive Strength'!$B$28=\"\",\"\",'Compressive Strength'!$B$28)","v":"Height of Stone 1, in."},{"$f":"IF('Compressive Strength'!$P$24=\"\",\"\",'Compressive Strength'!$P$24)","v":4},{"$f":"IF('Compressive Strength'!$Q$26=\"\",\"\",'Compressive Strength'!$Q$26)","v":"4-2"}]
[48,{"$f":"IF('Compressive Strength'!$R$28=\"\",\"\",'Compressive Strength'!$R$28)","v":""},{"$f":"IF('Compressive Strength'!$B$6=\"\",\"\",'Compressive Strength'!$B$6)","v":"Tex-120-E : PART (I or II) or Tex-121-E PART (I, II, or III)"},{"$f":"IF( 'Compressive Strength'!$B$21=\"\",\"\", 'Compressive Strength'!$B$21)","v":"Performed By  :"},{"$f":"IF('Compressive Strength'!$B$28=\"\",\"\",'Compressive Strength'!$B$28)","v":"Height of Stone 1, in."},{"$f":"IF('Compressive Strength'!$P$24=\"\",\"\",'Compressive Strength'!$P$24)","v":4},{"$f":"IF('Compressive Strength'!$R$26=\"\",\"\",'Compressive Strength'!$R$26)","v":"4-3"}]
[49,{"$f":"IF('Compressive Strength'!$G$29=\"\",\"\",'Compressive Strength'!$G$29)","v":""},{"$f":"IF('Compressive Strength'!$B$6=\"\",\"\",'Compressive Strength'!$B$6)","v":"Tex-120-E : PART (I or II) or Tex-121-E PART (I, II, or III)"},{"$f":"IF( 'Compressive Strength'!$B$21=\"\",\"\", 'Compressive Strength'!$B$21)","v":"Performed By  :"},{"$f":"IF('Compressive Strength'!$B$29=\"\",\"\",'Compressive Strength'!$B$29)","v":"Height of Stone 2, in."},{"$f":"IF('Compressive Strength'!$G$24=\"\",\"\",'Compressive Strength'!$G$24)","v":1},{"$f":"IF('Compressive Strength'!$G$26=\"\",\"\",'Compressive Strength'!$G$26)","v":"1-1"}]
[50,{"$f":"IF('Compressive Strength'!$H$29=\"\",\"\",'Compressive Strength'!$H$29)","v":""},{"$f":"IF('Compressive Strength'!$B$6=\"\",\"\",'Compressive Strength'!$B$6)","v":"Tex-120-E : PART (I or II) or Tex-121-E PART (I, II, or III)"},{"$f":"IF( 'Compressive Strength'!$B$21=\"\",\"\", 'Compressive Strength'!$B$21)","v":"Performed By  :"},{"$f":"IF('Compressive Strength'!$B$29=\"\",\"\",'Compressive Strength'!$B$29)","v":"Height of Stone 2, in."},{"$f":"IF('Compressive Strength'!$G$24=\"\",\"\",'Compressive Strength'!$G$24)","v":1},{"$f":"IF('Compressive Strength'!$H$26=\"\",\"\",'Compressive Strength'!$H$26)","v":"1-2"}]
[51,{"$f":"IF('Compressive Strength'!$I$29=\"\",\"\",'Compressive Strength'!$I$29)","v":""},{"$f":"IF('Compressive Strength'!$B$6=\"\",\"\",'Compressive Strength'!$B$6)","v":"Tex-120-E : PART (I or II) or Tex-121-E PART (I, II, or III)"},{"$f":"IF( 'Compressive Strength'!$B$21=\"\",\"\", 'Compressive Strength'!$B$21)","v":"Performed By  :"},{"$f":"IF('Compressive Strength'!$B$29=\"\",\"\",'Compressive Strength'!$B$29)","v":"Height of Stone 2, in."},{"$f":"IF('Compressive Strength'!$G$24=\"\",\"\",'Compressive Strength'!$G$24)","v":1},{"$f":"IF('Compressive Strength'!$I$26=\"\",\"\",'Compressive Strength'!$I$26)","v":"1-3"}]
[52,{"$f":"IF('Compressive Strength'!$J$29=\"\",\"\",'Compressive Strength'!$J$29)","v":""},{"$f":"IF('Compressive Strength'!$B$6=\"\",\"\",'Compressive Strength'!$B$6)","v":"Tex-120-E : PART (I or II) or Tex-121-E PART (I, II, or III)"},{"$f":"IF( 'Compressive Strength'!$B$21=\"\",\"\", 'Compressive Strength'!$B$21)","v":"Performed By  :"},{"$f":"IF('Compressive Strength'!$B$29=\"\",\"\",'Compressive Strength'!$B$29)","v":"Height of Stone 2, in."},{"$f":"IF('Compressive Strength'!$J$24=\"\",\"\",'Compressive Strength'!$J$24)","v":2},{"$f":"IF('Compressive Strength'!$J$26=\"\",\"\",'Compressive Strength'!$J$26)","v":"2-1"}]
[53,{"$f":"IF('Compressive Strength'!$K$29=\"\",\"\",'Compressive Strength'!$K$29)","v":""},{"$f":"IF('Compressive Strength'!$B$6=\"\",\"\",'Compressive Strength'!$B$6)","v":"Tex-120-E : PART (I or II) or Tex-121-E PART (I, II, or III)"},{"$f":"IF( 'Compressive Strength'!$B$21=\"\",\"\", 'Compressive Strength'!$B$21)","v":"Performed By  :"},{"$f":"IF('Compressive Strength'!$B$29=\"\",\"\",'Compressive Strength'!$B$29)","v":"Height of Stone 2, in."},{"$f":"IF('Compressive Strength'!$J$24=\"\",\"\",'Compressive Strength'!$J$24)","v":2},{"$f":"IF('Compressive Strength'!$K$26=\"\",\"\",'Compressive Strength'!$K$26)","v":"2-2"}]
[54,{"$f":"IF('Compressive Strength'!$L$29=\"\",\"\",'Compressive Strength'!$L$29)","v":""},{"$f":"IF('Compressive Strength'!$B$6=\"\",\"\",'Compressive Strength'!$B$6)","v":"Tex-120-E : PART (I or II) or Tex-121-E PART (I, II, or III)"},{"$f":"IF( 'Compressive Strength'!$B$21=\"\",\"\", 'Compressive Strength'!$B$21)","v":"Performed By  :"},{"$f":"IF('Compressive Strength'!$B$29=\"\",\"\",'Compressive Strength'!$B$29)","v":"Height of Stone 2, in."},{"$f":"IF('Compressive Strength'!$J$24=\"\",\"\",'Compressive Strength'!$J$24)","v":2},{"$f":"IF('Compressive Strength'!$L$26=\"\",\"\",'Compressive Strength'!$L$26)","v":"2-3"}]
[55,{"$f":"IF('Compressive Strength'!$M$29=\"\",\"\",'Compressive Strength'!$M$29)","v":""},{"$f":"IF('Compressive Strength'!$B$6=\"\",\"\",'Compressive Strength'!$B$6)","v":"Tex-120-E : PART (I or II) or Tex-121-E PART (I, II, or III)"},{"$f":"IF( 'Compressive Strength'!$B$21=\"\",\"\", 'Compressive Strength'!$B$21)","v":"Performed By  :"},{"$f":"IF('Compressive Strength'!$B$29=\"\",\"\",'Compressive Strength'!$B$29)","v":"Height of Stone 2, in."},{"$f":"IF('Compressive Strength'!$M$24=\"\",\"\",'Compressive Strength'!$M$24)","v":3},{"$f":"IF('Compressive Strength'!$M$26=\"\",\"\",'Compressive Strength'!$M$26)","v":"3-1"}]
[56,{"$f":"IF('Compressive Strength'!$N$29=\"\",\"\",'Compressive Strength'!$N$29)","v":""},{"$f":"IF('Compressive Strength'!$B$6=\"\",\"\",'Compressive Strength'!$B$6)","v":"Tex-120-E : PART (I or II) or Tex-121-E PART (I, II, or III)"},{"$f":"IF( 'Compressive Strength'!$B$21=\"\",\"\", 'Compressive Strength'!$B$21)","v":"Performed By  :"},{"$f":"IF('Compressive Strength'!$B$29=\"\",\"\",'Compressive Strength'!$B$29)","v":"Height of Stone 2, in."},{"$f":"IF('Compressive Strength'!$M$24=\"\",\"\",'Compressive Strength'!$M$24)","v":3},{"$f":"IF('Compressive Strength'!$N$26=\"\",\"\",'Compressive Strength'!$N$26)","v":"3-2"}]
[57,{"$f":"IF('Compressive Strength'!$O$29=\"\",\"\",'Compressive Strength'!$O$29)","v":""},{"$f":"IF('Compressive Strength'!$B$6=\"\",\"\",'Compressive Strength'!$B$6)","v":"Tex-120-E : PART (I or II) or Tex-121-E PART (I, II, or III)"},{"$f":"IF( 'Compressive Strength'!$B$21=\"\",\"\", 'Compressive Strength'!$B$21)","v":"Performed By  :"},{"$f":"IF('Compressive Strength'!$B$29=\"\",\"\",'Compressive Strength'!$B$29)","v":"Height of Stone 2, in."},{"$f":"IF('Compressive Strength'!$M$24=\"\",\"\",'Compressive Strength'!$M$24)","v":3},{"$f":"IF('Compressive Strength'!$O$26=\"\",\"\",'Compressive Strength'!$O$26)","v":"3-3"}]
[58,{"$f":"IF('Compressive Strength'!$P$29=\"\",\"\",'Compressive Strength'!$P$29)","v":""},{"$f":"IF('Compressive Strength'!$B$6=\"\",\"\",'Compressive Strength'!$B$6)","v":"Tex-120-E : PART (I or II) or Tex-121-E PART (I, II, or III)"},{"$f":"IF( 'Compressive Strength'!$B$21=\"\",\"\", 'Compressive Strength'!$B$21)","v":"Performed By  :"},{"$f":"IF('Compressive Strength'!$B$29=\"\",\"\",'Compressive Strength'!$B$29)","v":"Height of Stone 2, in."},{"$f":"IF('Compressive Strength'!$P$24=\"\",\"\",'Compressive Strength'!$P$24)","v":4},{"$f":"IF('Compressive Strength'!$P$26=\"\",\"\",'Compressive Strength'!$P$26)","v":"4-1"}]
[59,{"$f":"IF('Compressive Strength'!$Q$29=\"\",\"\",'Compressive Strength'!$Q$29)","v":""},{"$f":"IF('Compressive Strength'!$B$6=\"\",\"\",'Compressive Strength'!$B$6)","v":"Tex-120-E : PART (I or II) or Tex-121-E PART (I, II, or III)"},{"$f":"IF( 'Compressive Strength'!$B$21=\"\",\"\", 'Compressive Strength'!$B$21)","v":"Performed By  :"},{"$f":"IF('Compressive Strength'!$B$29=\"\",\"\",'Compressive Strength'!$B$29)","v":"Height of Stone 2, in."},{"$f":"IF('Compressive Strength'!$P$24=\"\",\"\",'Compressive Strength'!$P$24)","v":4},{"$f":"IF('Compressive Strength'!$Q$26=\"\",\"\",'Compressive Strength'!$Q$26)","v":"4-2"}]
[60,{"$f":"IF('Compressive Strength'!$R$29=\"\",\"\",'Compressive Strength'!$R$29)","v":""},{"$f":"IF('Compressive Strength'!$B$6=\"\",\"\",'Compressive Strength'!$B$6)","v":"Tex-120-E : PART (I or II) or Tex-121-E PART (I, II, or III)"},{"$f":"IF( 'Compressive Strength'!$B$21=\"\",\"\", 'Compressive Strength'!$B$21)","v":"Performed By  :"},{"$f":"IF('Compressive Strength'!$B$29=\"\",\"\",'Compressive Strength'!$B$29)","v":"Height of Stone 2, in."},{"$f":"IF('Compressive Strength'!$P$24=\"\",\"\",'Compressive Strength'!$P$24)","v":4},{"$f":"IF('Compressive Strength'!$R$26=\"\",\"\",'Compressive Strength'!$R$26)","v":"4-3"}]
[61,{"$f":"IF('Compressive Strength'!$G$30=\"\",\"\",'Compressive Strength'!$G$30)","v":""},{"$f":"IF('Compressive Strength'!$B$6=\"\",\"\",'Compressive Strength'!$B$6)","v":"Tex-120-E : PART (I or II) or Tex-121-E PART (I, II, or III)"},{"$f":"IF( 'Compressive Strength'!$B$21=\"\",\"\", 'Compressive Strength'!$B$21)","v":"Performed By  :"},{"$f":"IF('Compressive Strength'!$B$30=\"\",\"\",'Compressive Strength'!$B$30)","v":"New Height of Specimen, in.:"},{"$f":"IF('Compressive Strength'!$G$24=\"\",\"\",'Compressive Strength'!$G$24)","v":1},{"$f":"IF('Compressive Strength'!$G$26=\"\",\"\",'Compressive Strength'!$G$26)","v":"1-1"}]
[62,{"$f":"IF('Compressive Strength'!$H$30=\"\",\"\",'Compressive Strength'!$H$30)","v":""},{"$f":"IF('Compressive Strength'!$B$6=\"\",\"\",'Compressive Strength'!$B$6)","v":"Tex-120-E : PART (I or II) or Tex-121-E PART (I, II, or III)"},{"$f":"IF( 'Compressive Strength'!$B$21=\"\",\"\", 'Compressive Strength'!$B$21)","v":"Performed By  :"},{"$f":"IF('Compressive Strength'!$B$30=\"\",\"\",'Compressive Strength'!$B$30)","v":"New Height of Specimen, in.:"},{"$f":"IF('Compressive Strength'!$G$24=\"\",\"\",'Compressive Strength'!$G$24)","v":1},{"$f":"IF('Compressive Strength'!$H$26=\"\",\"\",'Compressive Strength'!$H$26)","v":"1-2"}]
[63,{"$f":"IF('Compressive Strength'!$I$30=\"\",\"\",'Compressive Strength'!$I$30)","v":""},{"$f":"IF('Compressive Strength'!$B$6=\"\",\"\",'Compressive Strength'!$B$6)","v":"Tex-120-E : PART (I or II) or Tex-121-E PART (I, II, or III)"},{"$f":"IF( 'Compressive Strength'!$B$21=\"\",\"\", 'Compressive Strength'!$B$21)","v":"Performed By  :"},{"$f":"IF('Compressive Strength'!$B$30=\"\",\"\",'Compressive Strength'!$B$30)","v":"New Height of Specimen, in.:"},{"$f":"IF('Compressive Strength'!$G$24=\"\",\"\",'Compressive Strength'!$G$24)","v":1},{"$f":"IF('Compressive Strength'!$I$26=\"\",\"\",'Compressive Strength'!$I$26)","v":"1-3"}]
[64,{"$f":"IF('Compressive Strength'!$J$30=\"\",\"\",'Compressive Strength'!$J$30)","v":""},{"$f":"IF('Compressive Strength'!$B$6=\"\",\"\",'Compressive Strength'!$B$6)","v":"Tex-120-E : PART (I or II) or Tex-121-E PART (I, II, or III)"},{"$f":"IF( 'Compressive Strength'!$B$21=\"\",\"\", 'Compressive Strength'!$B$21)","v":"Performed By  :"},{"$f":"IF('Compressive Strength'!$B$30=\"\",\"\",'Compressive Strength'!$B$30)","v":"New Height of Specimen, in.:"},{"$f":"IF('Compressive Strength'!$J$24=\"\",\"\",'Compressive Strength'!$J$24)","v":2},{"$f":"IF('Compressive Strength'!$J$26=\"\",\"\",'Compressive Strength'!$J$26)","v":"2-1"}]
[65,{"$f":"IF('Compressive Strength'!$K$30=\"\",\"\",'Compressive Strength'!$K$30)","v":""},{"$f":"IF('Compressive Strength'!$B$6=\"\",\"\",'Compressive Strength'!$B$6)","v":"Tex-120-E : PART (I or II) or Tex-121-E PART (I, II, or III)"},{"$f":"IF( 'Compressive Strength'!$B$21=\"\",\"\", 'Compressive Strength'!$B$21)","v":"Performed By  :"},{"$f":"IF('Compressive Strength'!$B$30=\"\",\"\",'Compressive Strength'!$B$30)","v":"New Height of Specimen, in.:"},{"$f":"IF('Compressive Strength'!$J$24=\"\",\"\",'Compressive Strength'!$J$24)","v":2},{"$f":"IF('Compressive Strength'!$K$26=\"\",\"\",'Compressive Strength'!$K$26)","v":"2-2"}]
[66,{"$f":"IF('Compressive Strength'!$L$30=\"\",\"\",'Compressive Strength'!$L$30)","v":""},{"$f":"IF('Compressive Strength'!$B$6=\"\",\"\",'Compressive Strength'!$B$6)","v":"Tex-120-E : PART (I or II) or Tex-121-E PART (I, II, or III)"},{"$f":"IF( 'Compressive Strength'!$B$21=\"\",\"\", 'Compressive Strength'!$B$21)","v":"Performed By  :"},{"$f":"IF('Compressive Strength'!$B$30=\"\",\"\",'Compressive Strength'!$B$30)","v":"New Height of Specimen, in.:"},{"$f":"IF('Compressive Strength'!$J$24=\"\",\"\",'Compressive Strength'!$J$24)","v":2},{"$f":"IF('Compressive Strength'!$L$26=\"\",\"\",'Compressive Strength'!$L$26)","v":"2-3"}]
[67,{"$f":"IF('Compressive Strength'!$M$30=\"\",\"\",'Compressive Strength'!$M$30)","v":""},{"$f":"IF('Compressive Strength'!$B$6=\"\",\"\",'Compressive Strength'!$B$6)","v":"Tex-120-E : PART (I or II) or Tex-121-E PART (I, II, or III)"},{"$f":"IF( 'Compressive Strength'!$B$21=\"\",\"\", 'Compressive Strength'!$B$21)","v":"Performed By  :"},{"$f":"IF('Compressive Strength'!$B$30=\"\",\"\",'Compressive Strength'!$B$30)","v":"New Height of Specimen, in.:"},{"$f":"IF('Compressive Strength'!$M$24=\"\",\"\",'Compressive Strength'!$M$24)","v":3},{"$f":"IF('Compressive Strength'!$M$26=\"\",\"\",'Compressive Strength'!$M$26)","v":"3-1"}]
[68,{"$f":"IF('Compressive Strength'!$N$30=\"\",\"\",'Compressive Strength'!$N$30)","v":""},{"$f":"IF('Compressive Strength'!$B$6=\"\",\"\",'Compressive Strength'!$B$6)","v":"Tex-120-E : PART (I or II) or Tex-121-E PART (I, II, or III)"},{"$f":"IF( 'Compressive Strength'!$B$21=\"\",\"\", 'Compressive Strength'!$B$21)","v":"Performed By  :"},{"$f":"IF('Compressive Strength'!$B$30=\"\",\"\",'Compressive Strength'!$B$30)","v":"New Height of Specimen, in.:"},{"$f":"IF('Compressive Strength'!$M$24=\"\",\"\",'Compressive Strength'!$M$24)","v":3},{"$f":"IF('Compressive Strength'!$N$26=\"\",\"\",'Compressive Strength'!$N$26)","v":"3-2"}]
[69,{"$f":"IF('Compressive Strength'!$O$30=\"\",\"\",'Compressive Strength'!$O$30)","v":""},{"$f":"IF('Compressive Strength'!$B$6=\"\",\"\",'Compressive Strength'!$B$6)","v":"Tex-120-E : PART (I or II) or Tex-121-E PART (I, II, or III)"},{"$f":"IF( 'Compressive Strength'!$B$21=\"\",\"\", 'Compressive Strength'!$B$21)","v":"Performed By  :"},{"$f":"IF('Compressive Strength'!$B$30=\"\",\"\",'Compressive Strength'!$B$30)","v":"New Height of Specimen, in.:"},{"$f":"IF('Compressive Strength'!$M$24=\"\",\"\",'Compressive Strength'!$M$24)","v":3},{"$f":"IF('Compressive Strength'!$O$26=\"\",\"\",'Compressive Strength'!$O$26)","v":"3-3"}]
[70,{"$f":"IF('Compressive Strength'!$P$30=\"\",\"\",'Compressive Strength'!$P$30)","v":""},{"$f":"IF('Compressive Strength'!$B$6=\"\",\"\",'Compressive Strength'!$B$6)","v":"Tex-120-E : PART (I or II) or Tex-121-E PART (I, II, or III)"},{"$f":"IF( 'Compressive Strength'!$B$21=\"\",\"\", 'Compressive Strength'!$B$21)","v":"Performed By  :"},{"$f":"IF('Compressive Strength'!$B$30=\"\",\"\",'Compressive Strength'!$B$30)","v":"New Height of Specimen, in.:"},{"$f":"IF('Compressive Strength'!$P$24=\"\",\"\",'Compressive Strength'!$P$24)","v":4},{"$f":"IF('Compressive Strength'!$P$26=\"\",\"\",'Compressive Strength'!$P$26)","v":"4-1"}]
[71,{"$f":"IF('Compressive Strength'!$Q$30=\"\",\"\",'Compressive Strength'!$Q$30)","v":""},{"$f":"IF('Compressive Strength'!$B$6=\"\",\"\",'Compressive Strength'!$B$6)","v":"Tex-120-E : PART (I or II) or Tex-121-E PART (I, II, or III)"},{"$f":"IF( 'Compressive Strength'!$B$21=\"\",\"\", 'Compressive Strength'!$B$21)","v":"Performed By  :"},{"$f":"IF('Compressive Strength'!$B$30=\"\",\"\",'Compressive Strength'!$B$30)","v":"New Height of Specimen, in.:"},{"$f":"IF('Compressive Strength'!$P$24=\"\",\"\",'Compressive Strength'!$P$24)","v":4},{"$f":"IF('Compressive Strength'!$Q$26=\"\",\"\",'Compressive Strength'!$Q$26)","v":"4-2"}]
[72,{"$f":"IF('Compressive Strength'!$R$30=\"\",\"\",'Compressive Strength'!$R$30)","v":""},{"$f":"IF('Compressive Strength'!$B$6=\"\",\"\",'Compressive Strength'!$B$6)","v":"Tex-120-E : PART (I or II) or Tex-121-E PART (I, II, or III)"},{"$f":"IF( 'Compressive Strength'!$B$21=\"\",\"\", 'Compressive Strength'!$B$21)","v":"Performed By  :"},{"$f":"IF('Compressive Strength'!$B$30=\"\",\"\",'Compressive Strength'!$B$30)","v":"New Height of Specimen, in.:"},{"$f":"IF('Compressive Strength'!$P$24=\"\",\"\",'Compressive Strength'!$P$24)","v":4},{"$f":"IF('Compressive Strength'!$R$26=\"\",\"\",'Compressive Strength'!$R$26)","v":"4-3"}]
[73,{"$f":"IF('Compressive Strength'!$G$31=\"\",\"\",'Compressive Strength'!$G$31)","v":""},{"$f":"IF('Compressive Strength'!$B$6=\"\",\"\",'Compressive Strength'!$B$6)","v":"Tex-120-E : PART (I or II) or Tex-121-E PART (I, II, or III)"},{"$f":"IF( 'Compressive Strength'!$B$21=\"\",\"\", 'Compressive Strength'!$B$21)","v":"Performed By  :"},{"$f":"IF('Compressive Strength'!$B$31=\"\",\"\",'Compressive Strength'!$B$31)","v":"Average Diameter, in.:"},{"$f":"IF('Compressive Strength'!$G$24=\"\",\"\",'Compressive Strength'!$G$24)","v":1},{"$f":"IF('Compressive Strength'!$G$26=\"\",\"\",'Compressive Strength'!$G$26)","v":"1-1"}]
[74,{"$f":"IF('Compressive Strength'!$H$31=\"\",\"\",'Compressive Strength'!$H$31)","v":""},{"$f":"IF('Compressive Strength'!$B$6=\"\",\"\",'Compressive Strength'!$B$6)","v":"Tex-120-E : PART (I or II) or Tex-121-E PART (I, II, or III)"},{"$f":"IF( 'Compressive Strength'!$B$21=\"\",\"\", 'Compressive Strength'!$B$21)","v":"Performed By  :"},{"$f":"IF('Compressive Strength'!$B$31=\"\",\"\",'Compressive Strength'!$B$31)","v":"Average Diameter, in.:"},{"$f":"IF('Compressive Strength'!$G$24=\"\",\"\",'Compressive Strength'!$G$24)","v":1},{"$f":"IF('Compressive Strength'!$H$26=\"\",\"\",'Compressive Strength'!$H$26)","v":"1-2"}]
[75,{"$f":"IF('Compressive Strength'!$I$31=\"\",\"\",'Compressive Strength'!$I$31)","v":""},{"$f":"IF('Compressive Strength'!$B$6=\"\",\"\",'Compressive Strength'!$B$6)","v":"Tex-120-E : PART (I or II) or Tex-121-E PART (I, II, or III)"},{"$f":"IF( 'Compressive Strength'!$B$21=\"\",\"\", 'Compressive Strength'!$B$21)","v":"Performed By  :"},{"$f":"IF('Compressive Strength'!$B$31=\"\",\"\",'Compressive Strength'!$B$31)","v":"Average Diameter, in.:"},{"$f":"IF('Compressive Strength'!$G$24=\"\",\"\",'Compressive Strength'!$G$24)","v":1},{"$f":"IF('Compressive Strength'!$I$26=\"\",\"\",'Compressive Strength'!$I$26)","v":"1-3"}]
[76,{"$f":"IF('Compressive Strength'!$J$31=\"\",\"\",'Compressive Strength'!$J$31)","v":""},{"$f":"IF('Compressive Strength'!$B$6=\"\",\"\",'Compressive Strength'!$B$6)","v":"Tex-120-E : PART (I or II) or Tex-121-E PART (I, II, or III)"},{"$f":"IF( 'Compressive Strength'!$B$21=\"\",\"\", 'Compressive Strength'!$B$21)","v":"Performed By  :"},{"$f":"IF('Compressive Strength'!$B$31=\"\",\"\",'Compressive Strength'!$B$31)","v":"Average Diameter, in.:"},{"$f":"IF('Compressive Strength'!$J$24=\"\",\"\",'Compressive Strength'!$J$24)","v":2},{"$f":"IF('Compressive Strength'!$J$26=\"\",\"\",'Compressive Strength'!$J$26)","v":"2-1"}]
[77,{"$f":"IF('Compressive Strength'!$K$31=\"\",\"\",'Compressive Strength'!$K$31)","v":""},{"$f":"IF('Compressive Strength'!$B$6=\"\",\"\",'Compressive Strength'!$B$6)","v":"Tex-120-E : PART (I or II) or Tex-121-E PART (I, II, or III)"},{"$f":"IF( 'Compressive Strength'!$B$21=\"\",\"\", 'Compressive Strength'!$B$21)","v":"Performed By  :"},{"$f":"IF('Compressive Strength'!$B$31=\"\",\"\",'Compressive Strength'!$B$31)","v":"Average Diameter, in.:"},{"$f":"IF('Compressive Strength'!$J$24=\"\",\"\",'Compressive Strength'!$J$24)","v":2},{"$f":"IF('Compressive Strength'!$K$26=\"\",\"\",'Compressive Strength'!$K$26)","v":"2-2"}]
[78,{"$f":"IF('Compressive Strength'!$L$31=\"\",\"\",'Compressive Strength'!$L$31)","v":""},{"$f":"IF('Compressive Strength'!$B$6=\"\",\"\",'Compressive Strength'!$B$6)","v":"Tex-120-E : PART (I or II) or Tex-121-E PART (I, II, or III)"},{"$f":"IF( 'Compressive Strength'!$B$21=\"\",\"\", 'Compressive Strength'!$B$21)","v":"Performed By  :"},{"$f":"IF('Compressive Strength'!$B$31=\"\",\"\",'Compressive Strength'!$B$31)","v":"Average Diameter, in.:"},{"$f":"IF('Compressive Strength'!$J$24=\"\",\"\",'Compressive Strength'!$J$24)","v":2},{"$f":"IF('Compressive Strength'!$L$26=\"\",\"\",'Compressive Strength'!$L$26)","v":"2-3"}]
[79,{"$f":"IF('Compressive Strength'!$M$31=\"\",\"\",'Compressive Strength'!$M$31)","v":""},{"$f":"IF('Compressive Strength'!$B$6=\"\",\"\",'Compressive Strength'!$B$6)","v":"Tex-120-E : PART (I or II) or Tex-121-E PART (I, II, or III)"},{"$f":"IF( 'Compressive Strength'!$B$21=\"\",\"\", 'Compressive Strength'!$B$21)","v":"Performed By  :"},{"$f":"IF('Compressive Strength'!$B$31=\"\",\"\",'Compressive Strength'!$B$31)","v":"Average Diameter, in.:"},{"$f":"IF('Compressive Strength'!$M$24=\"\",\"\",'Compressive Strength'!$M$24)","v":3},{"$f":"IF('Compressive Strength'!$M$26=\"\",\"\",'Compressive Strength'!$M$26)","v":"3-1"}]
[80,{"$f":"IF('Compressive Strength'!$N$31=\"\",\"\",'Compressive Strength'!$N$31)","v":""},{"$f":"IF('Compressive Strength'!$B$6=\"\",\"\",'Compressive Strength'!$B$6)","v":"Tex-120-E : PART (I or II) or Tex-121-E PART (I, II, or III)"},{"$f":"IF( 'Compressive Strength'!$B$21=\"\",\"\", 'Compressive Strength'!$B$21)","v":"Performed By  :"},{"$f":"IF('Compressive Strength'!$B$31=\"\",\"\",'Compressive Strength'!$B$31)","v":"Average Diameter, in.:"},{"$f":"IF('Compressive Strength'!$M$24=\"\",\"\",'Compressive Strength'!$M$24)","v":3},{"$f":"IF('Compressive Strength'!$N$26=\"\",\"\",'Compressive Strength'!$N$26)","v":"3-2"}]
[81,{"$f":"IF('Compressive Strength'!$O$31=\"\",\"\",'Compressive Strength'!$O$31)","v":""},{"$f":"IF('Compressive Strength'!$B$6=\"\",\"\",'Compressive Strength'!$B$6)","v":"Tex-120-E : PART (I or II) or Tex-121-E PART (I, II, or III)"},{"$f":"IF( 'Compressive Strength'!$B$21=\"\",\"\", 'Compressive Strength'!$B$21)","v":"Performed By  :"},{"$f":"IF('Compressive Strength'!$B$31=\"\",\"\",'Compressive Strength'!$B$31)","v":"Average Diameter, in.:"},{"$f":"IF('Compressive Strength'!$M$24=\"\",\"\",'Compressive Strength'!$M$24)","v":3},{"$f":"IF('Compressive Strength'!$O$26=\"\",\"\",'Compressive Strength'!$O$26)","v":"3-3"}]
[82,{"$f":"IF('Compressive Strength'!$P$31=\"\",\"\",'Compressive Strength'!$P$31)","v":""},{"$f":"IF('Compressive Strength'!$B$6=\"\",\"\",'Compressive Strength'!$B$6)","v":"Tex-120-E : PART (I or II) or Tex-121-E PART (I, II, or III)"},{"$f":"IF( 'Compressive Strength'!$B$21=\"\",\"\", 'Compressive Strength'!$B$21)","v":"Performed By  :"},{"$f":"IF('Compressive Strength'!$B$31=\"\",\"\",'Compressive Strength'!$B$31)","v":"Average Diameter, in.:"},{"$f":"IF('Compressive Strength'!$P$24=\"\",\"\",'Compressive Strength'!$P$24)","v":4},{"$f":"IF('Compressive Strength'!$P$26=\"\",\"\",'Compressive Strength'!$P$26)","v":"4-1"}]
[83,{"$f":"IF('Compressive Strength'!$Q$31=\"\",\"\",'Compressive Strength'!$Q$31)","v":""},{"$f":"IF('Compressive Strength'!$B$6=\"\",\"\",'Compressive Strength'!$B$6)","v":"Tex-120-E : PART (I or II) or Tex-121-E PART (I, II, or III)"},{"$f":"IF( 'Compressive Strength'!$B$21=\"\",\"\", 'Compressive Strength'!$B$21)","v":"Performed By  :"},{"$f":"IF('Compressive Strength'!$B$31=\"\",\"\",'Compressive Strength'!$B$31)","v":"Average Diameter, in.:"},{"$f":"IF('Compressive Strength'!$P$24=\"\",\"\",'Compressive Strength'!$P$24)","v":4},{"$f":"IF('Compressive Strength'!$Q$26=\"\",\"\",'Compressive Strength'!$Q$26)","v":"4-2"}]
[84,{"$f":"IF('Compressive Strength'!$R$31=\"\",\"\",'Compressive Strength'!$R$31)","v":""},{"$f":"IF('Compressive Strength'!$B$6=\"\",\"\",'Compressive Strength'!$B$6)","v":"Tex-120-E : PART (I or II) or Tex-121-E PART (I, II, or III)"},{"$f":"IF( 'Compressive Strength'!$B$21=\"\",\"\", 'Compressive Strength'!$B$21)","v":"Performed By  :"},{"$f":"IF('Compressive Strength'!$B$31=\"\",\"\",'Compressive Strength'!$B$31)","v":"Average Diameter, in.:"},{"$f":"IF('Compressive Strength'!$P$24=\"\",\"\",'Compressive Strength'!$P$24)","v":4},{"$f":"IF('Compressive Strength'!$R$26=\"\",\"\",'Compressive Strength'!$R$26)","v":"4-3"}]
[85,{"$f":"IF('Compressive Strength'!$G$32=\"\",\"\",'Compressive Strength'!$G$32)","v":""},{"$f":"IF('Compressive Strength'!$B$6=\"\",\"\",'Compressive Strength'!$B$6)","v":"Tex-120-E : PART (I or II) or Tex-121-E PART (I, II, or III)"},{"$f":"IF( 'Compressive Strength'!$B$21=\"\",\"\", 'Compressive Strength'!$B$21)","v":"Performed By  :"},{"$f":"IF('Compressive Strength'!$B$32=\"\",\"\",'Compressive Strength'!$B$32)","v":"Circumference, in.:"},{"$f":"IF('Compressive Strength'!$G$24=\"\",\"\",'Compressive Strength'!$G$24)","v":1},{"$f":"IF('Compressive Strength'!$G$26=\"\",\"\",'Compressive Strength'!$G$26)","v":"1-1"}]
[86,{"$f":"IF('Compressive Strength'!$H$32=\"\",\"\",'Compressive Strength'!$H$32)","v":""},{"$f":"IF('Compressive Strength'!$B$6=\"\",\"\",'Compressive Strength'!$B$6)","v":"Tex-120-E : PART (I or II) or Tex-121-E PART (I, II, or III)"},{"$f":"IF( 'Compressive Strength'!$B$21=\"\",\"\", 'Compressive Strength'!$B$21)","v":"Performed By  :"},{"$f":"IF('Compressive Strength'!$B$32=\"\",\"\",'Compressive Strength'!$B$32)","v":"Circumference, in.:"},{"$f":"IF('Compressive Strength'!$G$24=\"\",\"\",'Compressive Strength'!$G$24)","v":1},{"$f":"IF('Compressive Strength'!$H$26=\"\",\"\",'Compressive Strength'!$H$26)","v":"1-2"}]
[87,{"$f":"IF('Compressive Strength'!$I$32=\"\",\"\",'Compressive Strength'!$I$32)","v":""},{"$f":"IF('Compressive Strength'!$B$6=\"\",\"\",'Compressive Strength'!$B$6)","v":"Tex-120-E : PART (I or II) or Tex-121-E PART (I, II, or III)"},{"$f":"IF( 'Compressive Strength'!$B$21=\"\",\"\", 'Compressive Strength'!$B$21)","v":"Performed By  :"},{"$f":"IF('Compressive Strength'!$B$32=\"\",\"\",'Compressive Strength'!$B$32)","v":"Circumference, in.:"},{"$f":"IF('Compressive Strength'!$G$24=\"\",\"\",'Compressive Strength'!$G$24)","v":1},{"$f":"IF('Compressive Strength'!$I$26=\"\",\"\",'Compressive Strength'!$I$26)","v":"1-3"}]
[88,{"$f":"IF('Compressive Strength'!$J$32=\"\",\"\",'Compressive Strength'!$J$32)","v":""},{"$f":"IF('Compressive Strength'!$B$6=\"\",\"\",'Compressive Strength'!$B$6)","v":"Tex-120-E : PART (I or II) or Tex-121-E PART (I, II, or III)"},{"$f":"IF( 'Compressive Strength'!$B$21=\"\",\"\", 'Compressive Strength'!$B$21)","v":"Performed By  :"},{"$f":"IF('Compressive Strength'!$B$32=\"\",\"\",'Compressive Strength'!$B$32)","v":"Circumference, in.:"},{"$f":"IF('Compressive Strength'!$J$24=\"\",\"\",'Compressive Strength'!$J$24)","v":2},{"$f":"IF('Compressive Strength'!$J$26=\"\",\"\",'Compressive Strength'!$J$26)","v":"2-1"}]
[89,{"$f":"IF('Compressive Strength'!$K$32=\"\",\"\",'Compressive Strength'!$K$32)","v":""},{"$f":"IF('Compressive Strength'!$B$6=\"\",\"\",'Compressive Strength'!$B$6)","v":"Tex-120-E : PART (I or II) or Tex-121-E PART (I, II, or III)"},{"$f":"IF( 'Compressive Strength'!$B$21=\"\",\"\", 'Compressive Strength'!$B$21)","v":"Performed By  :"},{"$f":"IF('Compressive Strength'!$B$32=\"\",\"\",'Compressive Strength'!$B$32)","v":"Circumference, in.:"},{"$f":"IF('Compressive Strength'!$J$24=\"\",\"\",'Compressive Strength'!$J$24)","v":2},{"$f":"IF('Compressive Strength'!$K$26=\"\",\"\",'Compressive Strength'!$K$26)","v":"2-2"}]
[90,{"$f":"IF('Compressive Strength'!$L$32=\"\",\"\",'Compressive Strength'!$L$32)","v":""},{"$f":"IF('Compressive Strength'!$B$6=\"\",\"\",'Compressive Strength'!$B$6)","v":"Tex-120-E : PART (I or II) or Tex-121-E PART (I, II, or III)"},{"$f":"IF( 'Compressive Strength'!$B$21=\"\",\"\", 'Compressive Strength'!$B$21)","v":"Performed By  :"},{"$f":"IF('Compressive Strength'!$B$32=\"\",\"\",'Compressive Strength'!$B$32)","v":"Circumference, in.:"},{"$f":"IF('Compressive Strength'!$J$24=\"\",\"\",'Compressive Strength'!$J$24)","v":2},{"$f":"IF('Compressive Strength'!$L$26=\"\",\"\",'Compressive Strength'!$L$26)","v":"2-3"}]
[91,{"$f":"IF('Compressive Strength'!$M$32=\"\",\"\",'Compressive Strength'!$M$32)","v":""},{"$f":"IF('Compressive Strength'!$B$6=\"\",\"\",'Compressive Strength'!$B$6)","v":"Tex-120-E : PART (I or II) or Tex-121-E PART (I, II, or III)"},{"$f":"IF( 'Compressive Strength'!$B$21=\"\",\"\", 'Compressive Strength'!$B$21)","v":"Performed By  :"},{"$f":"IF('Compressive Strength'!$B$32=\"\",\"\",'Compressive Strength'!$B$32)","v":"Circumference, in.:"},{"$f":"IF('Compressive Strength'!$M$24=\"\",\"\",'Compressive Strength'!$M$24)","v":3},{"$f":"IF('Compressive Strength'!$M$26=\"\",\"\",'Compressive Strength'!$M$26)","v":"3-1"}]
[92,{"$f":"IF('Compressive Strength'!$N$32=\"\",\"\",'Compressive Strength'!$N$32)","v":""},{"$f":"IF('Compressive Strength'!$B$6=\"\",\"\",'Compressive Strength'!$B$6)","v":"Tex-120-E : PART (I or II) or Tex-121-E PART (I, II, or III)"},{"$f":"IF( 'Compressive Strength'!$B$21=\"\",\"\", 'Compressive Strength'!$B$21)","v":"Performed By  :"},{"$f":"IF('Compressive Strength'!$B$32=\"\",\"\",'Compressive Strength'!$B$32)","v":"Circumference, in.:"},{"$f":"IF('Compressive Strength'!$M$24=\"\",\"\",'Compressive Strength'!$M$24)","v":3},{"$f":"IF('Compressive Strength'!$N$26=\"\",\"\",'Compressive Strength'!$N$26)","v":"3-2"}]
[93,{"$f":"IF('Compressive Strength'!$O$32=\"\",\"\",'Compressive Strength'!$O$32)","v":""},{"$f":"IF('Compressive Strength'!$B$6=\"\",\"\",'Compressive Strength'!$B$6)","v":"Tex-120-E : PART (I or II) or Tex-121-E PART (I, II, or III)"},{"$f":"IF( 'Compressive Strength'!$B$21=\"\",\"\", 'Compressive Strength'!$B$21)","v":"Performed By  :"},{"$f":"IF('Compressive Strength'!$B$32=\"\",\"\",'Compressive Strength'!$B$32)","v":"Circumference, in.:"},{"$f":"IF('Compressive Strength'!$M$24=\"\",\"\",'Compressive Strength'!$M$24)","v":3},{"$f":"IF('Compressive Strength'!$O$26=\"\",\"\",'Compressive Strength'!$O$26)","v":"3-3"}]
[94,{"$f":"IF('Compressive Strength'!$P$32=\"\",\"\",'Compressive Strength'!$P$32)","v":""},{"$f":"IF('Compressive Strength'!$B$6=\"\",\"\",'Compressive Strength'!$B$6)","v":"Tex-120-E : PART (I or II) or Tex-121-E PART (I, II, or III)"},{"$f":"IF( 'Compressive Strength'!$B$21=\"\",\"\", 'Compressive Strength'!$B$21)","v":"Performed By  :"},{"$f":"IF('Compressive Strength'!$B$32=\"\",\"\",'Compressive Strength'!$B$32)","v":"Circumference, in.:"},{"$f":"IF('Compressive Strength'!$P$24=\"\",\"\",'Compressive Strength'!$P$24)","v":4},{"$f":"IF('Compressive Strength'!$P$26=\"\",\"\",'Compressive Strength'!$P$26)","v":"4-1"}]
[95,{"$f":"IF('Compressive Strength'!$Q$32=\"\",\"\",'Compressive Strength'!$Q$32)","v":""},{"$f":"IF('Compressive Strength'!$B$6=\"\",\"\",'Compressive Strength'!$B$6)","v":"Tex-120-E : PART (I or II) or Tex-121-E PART (I, II, or III)"},{"$f":"IF( 'Compressive Strength'!$B$21=\"\",\"\", 'Compressive Strength'!$B$21)","v":"Performed By  :"},{"$f":"IF('Compressive Strength'!$B$32=\"\",\"\",'Compressive Strength'!$B$32)","v":"Circumference, in.:"},{"$f":"IF('Compressive Strength'!$P$24=\"\",\"\",'Compressive Strength'!$P$24)","v":4},{"$f":"IF('Compressive Strength'!$Q$26=\"\",\"\",'Compressive Strength'!$Q$26)","v":"4-2"}]
[96,{"$f":"IF('Compressive Strength'!$R$32=\"\",\"\",'Compressive Strength'!$R$32)","v":""},{"$f":"IF('Compressive Strength'!$B$6=\"\",\"\",'Compressive Strength'!$B$6)","v":"Tex-120-E : PART (I or II) or Tex-121-E PART (I, II, or III)"},{"$f":"IF( 'Compressive Strength'!$B$21=\"\",\"\", 'Compressive Strength'!$B$21)","v":"Performed By  :"},{"$f":"IF('Compressive Strength'!$B$32=\"\",\"\",'Compressive Strength'!$B$32)","v":"Circumference, in.:"},{"$f":"IF('Compressive Strength'!$P$24=\"\",\"\",'Compressive Strength'!$P$24)","v":4},{"$f":"IF('Compressive Strength'!$R$26=\"\",\"\",'Compressive Strength'!$R$26)","v":"4-3"}]
[97,{"$f":"IF('Compressive Strength'!$G$33=\"\",\"\",'Compressive Strength'!$G$33)","v":""},{"$f":"IF('Compressive Strength'!$B$6=\"\",\"\",'Compressive Strength'!$B$6)","v":"Tex-120-E : PART (I or II) or Tex-121-E PART (I, II, or III)"},{"$f":"IF( 'Compressive Strength'!$B$21=\"\",\"\", 'Compressive Strength'!$B$21)","v":"Performed By  :"},{"$f":"IF('Compressive Strength'!$B$33=\"\",\"\",'Compressive Strength'!$B$33)","v":"Area, in.^2:"},{"$f":"IF('Compressive Strength'!$G$24=\"\",\"\",'Compressive Strength'!$G$24)","v":1},{"$f":"IF('Compressive Strength'!$G$26=\"\",\"\",'Compressive Strength'!$G$26)","v":"1-1"}]
[98,{"$f":"IF('Compressive Strength'!$H$33=\"\",\"\",'Compressive Strength'!$H$33)","v":""},{"$f":"IF('Compressive Strength'!$B$6=\"\",\"\",'Compressive Strength'!$B$6)","v":"Tex-120-E : PART (I or II) or Tex-121-E PART (I, II, or III)"},{"$f":"IF( 'Compressive Strength'!$B$21=\"\",\"\", 'Compressive Strength'!$B$21)","v":"Performed By  :"},{"$f":"IF('Compressive Strength'!$B$33=\"\",\"\",'Compressive Strength'!$B$33)","v":"Area, in.^2:"},{"$f":"IF('Compressive Strength'!$G$24=\"\",\"\",'Compressive Strength'!$G$24)","v":1},{"$f":"IF('Compressive Strength'!$H$26=\"\",\"\",'Compressive Strength'!$H$26)","v":"1-2"}]
[99,{"$f":"IF('Compressive Strength'!$I$33=\"\",\"\",'Compressive Strength'!$I$33)","v":""},{"$f":"IF('Compressive Strength'!$B$6=\"\",\"\",'Compressive Strength'!$B$6)","v":"Tex-120-E : PART (I or II) or Tex-121-E PART (I, II, or III)"},{"$f":"IF( 'Compressive Strength'!$B$21=\"\",\"\", 'Compressive Strength'!$B$21)","v":"Performed By  :"},{"$f":"IF('Compressive Strength'!$B$33=\"\",\"\",'Compressive Strength'!$B$33)","v":"Area, in.^2:"},{"$f":"IF('Compressive Strength'!$G$24=\"\",\"\",'Compressive Strength'!$G$24)","v":1},{"$f":"IF('Compressive Strength'!$I$26=\"\",\"\",'Compressive Strength'!$I$26)","v":"1-3"}]
[100,{"$f":"IF('Compressive Strength'!$J$33=\"\",\"\",'Compressive Strength'!$J$33)","v":""},{"$f":"IF('Compressive Strength'!$B$6=\"\",\"\",'Compressive Strength'!$B$6)","v":"Tex-120-E : PART (I or II) or Tex-121-E PART (I, II, or III)"},{"$f":"IF( 'Compressive Strength'!$B$21=\"\",\"\", 'Compressive Strength'!$B$21)","v":"Performed By  :"},{"$f":"IF('Compressive Strength'!$B$33=\"\",\"\",'Compressive Strength'!$B$33)","v":"Area, in.^2:"},{"$f":"IF('Compressive Strength'!$J$24=\"\",\"\",'Compressive Strength'!$J$24)","v":2},{"$f":"IF('Compressive Strength'!$J$26=\"\",\"\",'Compressive Strength'!$J$26)","v":"2-1"}]
[101,{"$f":"IF('Compressive Strength'!$K$33=\"\",\"\",'Compressive Strength'!$K$33)","v":""},{"$f":"IF('Compressive Strength'!$B$6=\"\",\"\",'Compressive Strength'!$B$6)","v":"Tex-120-E : PART (I or II) or Tex-121-E PART (I, II, or III)"},{"$f":"IF( 'Compressive Strength'!$B$21=\"\",\"\", 'Compressive Strength'!$B$21)","v":"Performed By  :"},{"$f":"IF('Compressive Strength'!$B$33=\"\",\"\",'Compressive Strength'!$B$33)","v":"Area, in.^2:"},{"$f":"IF('Compressive Strength'!$J$24=\"\",\"\",'Compressive Strength'!$J$24)","v":2},{"$f":"IF('Compressive Strength'!$K$26=\"\",\"\",'Compressive Strength'!$K$26)","v":"2-2"}]
[102,{"$f":"IF('Compressive Strength'!$L$33=\"\",\"\",'Compressive Strength'!$L$33)","v":""},{"$f":"IF('Compressive Strength'!$B$6=\"\",\"\",'Compressive Strength'!$B$6)","v":"Tex-120-E : PART (I or II) or Tex-121-E PART (I, II, or III)"},{"$f":"IF( 'Compressive Strength'!$B$21=\"\",\"\", 'Compressive Strength'!$B$21)","v":"Performed By  :"},{"$f":"IF('Compressive Strength'!$B$33=\"\",\"\",'Compressive Strength'!$B$33)","v":"Area, in.^2:"},{"$f":"IF('Compressive Strength'!$J$24=\"\",\"\",'Compressive Strength'!$J$24)","v":2},{"$f":"IF('Compressive Strength'!$L$26=\"\",\"\",'Compressive Strength'!$L$26)","v":"2-3"}]
[103,{"$f":"IF('Compressive Strength'!$M$33=\"\",\"\",'Compressive Strength'!$M$33)","v":""},{"$f":"IF('Compressive Strength'!$B$6=\"\",\"\",'Compressive Strength'!$B$6)","v":"Tex-120-E : PART (I or II) or Tex-121-E PART (I, II, or III)"},{"$f":"IF( 'Compressive Strength'!$B$21=\"\",\"\", 'Compressive Strength'!$B$21)","v":"Performed By  :"},{"$f":"IF('Compressive Strength'!$B$33=\"\",\"\",'Compressive Strength'!$B$33)","v":"Area, in.^2:"},{"$f":"IF('Compressive Strength'!$M$24=\"\",\"\",'Compressive Strength'!$M$24)","v":3},{"$f":"IF('Compressive Strength'!$M$26=\"\",\"\",'Compressive Strength'!$M$26)","v":"3-1"}]
[104,{"$f":"IF('Compressive Strength'!$N$33=\"\",\"\",'Compressive Strength'!$N$33)","v":""},{"$f":"IF('Compressive Strength'!$B$6=\"\",\"\",'Compressive Strength'!$B$6)","v":"Tex-120-E : PART (I or II) or Tex-121-E PART (I, II, or III)"},{"$f":"IF( 'Compressive Strength'!$B$21=\"\",\"\", 'Compressive Strength'!$B$21)","v":"Performed By  :"},{"$f":"IF('Compressive Strength'!$B$33=\"\",\"\",'Compressive Strength'!$B$33)","v":"Area, in.^2:"},{"$f":"IF('Compressive Strength'!$M$24=\"\",\"\",'Compressive Strength'!$M$24)","v":3},{"$f":"IF('Compressive Strength'!$N$26=\"\",\"\",'Compressive Strength'!$N$26)","v":"3-2"}]
[105,{"$f":"IF('Compressive Strength'!$O$33=\"\",\"\",'Compressive Strength'!$O$33)","v":""},{"$f":"IF('Compressive Strength'!$B$6=\"\",\"\",'Compressive Strength'!$B$6)","v":"Tex-120-E : PART (I or II) or Tex-121-E PART (I, II, or III)"},{"$f":"IF( 'Compressive Strength'!$B$21=\"\",\"\", 'Compressive Strength'!$B$21)","v":"Performed By  :"},{"$f":"IF('Compressive Strength'!$B$33=\"\",\"\",'Compressive Strength'!$B$33)","v":"Area, in.^2:"},{"$f":"IF('Compressive Strength'!$M$24=\"\",\"\",'Compressive Strength'!$M$24)","v":3},{"$f":"IF('Compressive Strength'!$O$26=\"\",\"\",'Compressive Strength'!$O$26)","v":"3-3"}]
[106,{"$f":"IF('Compressive Strength'!$P$33=\"\",\"\",'Compressive Strength'!$P$33)","v":""},{"$f":"IF('Compressive Strength'!$B$6=\"\",\"\",'Compressive Strength'!$B$6)","v":"Tex-120-E : PART (I or II) or Tex-121-E PART (I, II, or III)"},{"$f":"IF( 'Compressive Strength'!$B$21=\"\",\"\", 'Compressive Strength'!$B$21)","v":"Performed By  :"},{"$f":"IF('Compressive Strength'!$B$33=\"\",\"\",'Compressive Strength'!$B$33)","v":"Area, in.^2:"},{"$f":"IF('Compressive Strength'!$P$24=\"\",\"\",'Compressive Strength'!$P$24)","v":4},{"$f":"IF('Compressive Strength'!$P$26=\"\",\"\",'Compressive Strength'!$P$26)","v":"4-1"}]
[107,{"$f":"IF('Compressive Strength'!$Q$33=\"\",\"\",'Compressive Strength'!$Q$33)","v":""},{"$f":"IF('Compressive Strength'!$B$6=\"\",\"\",'Compressive Strength'!$B$6)","v":"Tex-120-E : PART (I or II) or Tex-121-E PART (I, II, or III)"},{"$f":"IF( 'Compressive Strength'!$B$21=\"\",\"\", 'Compressive Strength'!$B$21)","v":"Performed By  :"},{"$f":"IF('Compressive Strength'!$B$33=\"\",\"\",'Compressive Strength'!$B$33)","v":"Area, in.^2:"},{"$f":"IF('Compressive Strength'!$P$24=\"\",\"\",'Compressive Strength'!$P$24)","v":4},{"$f":"IF('Compressive Strength'!$Q$26=\"\",\"\",'Compressive Strength'!$Q$26)","v":"4-2"}]
[108,{"$f":"IF('Compressive Strength'!$R$33=\"\",\"\",'Compressive Strength'!$R$33)","v":""},{"$f":"IF('Compressive Strength'!$B$6=\"\",\"\",'Compressive Strength'!$B$6)","v":"Tex-120-E : PART (I or II) or Tex-121-E PART (I, II, or III)"},{"$f":"IF( 'Compressive Strength'!$B$21=\"\",\"\", 'Compressive Strength'!$B$21)","v":"Performed By  :"},{"$f":"IF('Compressive Strength'!$B$33=\"\",\"\",'Compressive Strength'!$B$33)","v":"Area, in.^2:"},{"$f":"IF('Compressive Strength'!$P$24=\"\",\"\",'Compressive Strength'!$P$24)","v":4},{"$f":"IF('Compressive Strength'!$R$26=\"\",\"\",'Compressive Strength'!$R$26)","v":"4-3"}]
[109,{"$f":"IF('Compressive Strength'!$G$34=\"\",\"\",'Compressive Strength'!$G$34)","v":""},{"$f":"IF('Compressive Strength'!$B$6=\"\",\"\",'Compressive Strength'!$B$6)","v":"Tex-120-E : PART (I or II) or Tex-121-E PART (I, II, or III)"},{"$f":"IF( 'Compressive Strength'!$B$21=\"\",\"\", 'Compressive Strength'!$B$21)","v":"Performed By  :"},{"$f":"IF('Compressive Strength'!$B$34=\"\",\"\",'Compressive Strength'!$B$34)","v":"Avg. Cross Sectional Area, in^2:"},{"$f":"IF('Compressive Strength'!$G$24=\"\",\"\",'Compressive Strength'!$G$24)","v":1},{"$f":"IF('Compressive Strength'!$G$26=\"\",\"\",'Compressive Strength'!$G$26)","v":"1-1"}]
[110,{"$f":"IF('Compressive Strength'!$H$34=\"\",\"\",'Compressive Strength'!$H$34)","v":""},{"$f":"IF('Compressive Strength'!$B$6=\"\",\"\",'Compressive Strength'!$B$6)","v":"Tex-120-E : PART (I or II) or Tex-121-E PART (I, II, or III)"},{"$f":"IF( 'Compressive Strength'!$B$21=\"\",\"\", 'Compressive Strength'!$B$21)","v":"Performed By  :"},{"$f":"IF('Compressive Strength'!$B$34=\"\",\"\",'Compressive Strength'!$B$34)","v":"Avg. Cross Sectional Area, in^2:"},{"$f":"IF('Compressive Strength'!$G$24=\"\",\"\",'Compressive Strength'!$G$24)","v":1},{"$f":"IF('Compressive Strength'!$H$26=\"\",\"\",'Compressive Strength'!$H$26)","v":"1-2"}]
[111,{"$f":"IF('Compressive Strength'!$I$34=\"\",\"\",'Compressive Strength'!$I$34)","v":""},{"$f":"IF('Compressive Strength'!$B$6=\"\",\"\",'Compressive Strength'!$B$6)","v":"Tex-120-E : PART (I or II) or Tex-121-E PART (I, II, or III)"},{"$f":"IF( 'Compressive Strength'!$B$21=\"\",\"\", 'Compressive Strength'!$B$21)","v":"Performed By  :"},{"$f":"IF('Compressive Strength'!$B$34=\"\",\"\",'Compressive Strength'!$B$34)","v":"Avg. Cross Sectional Area, in^2:"},{"$f":"IF('Compressive Strength'!$G$24=\"\",\"\",'Compressive Strength'!$G$24)","v":1},{"$f":"IF('Compressive Strength'!$I$26=\"\",\"\",'Compressive Strength'!$I$26)","v":"1-3"}]
[112,{"$f":"IF('Compressive Strength'!$J$34=\"\",\"\",'Compressive Strength'!$J$34)","v":""},{"$f":"IF('Compressive Strength'!$B$6=\"\",\"\",'Compressive Strength'!$B$6)","v":"Tex-120-E : PART (I or II) or Tex-121-E PART (I, II, or III)"},{"$f":"IF( 'Compressive Strength'!$B$21=\"\",\"\", 'Compressive Strength'!$B$21)","v":"Performed By  :"},{"$f":"IF('Compressive Strength'!$B$34=\"\",\"\",'Compressive Strength'!$B$34)","v":"Avg. Cross Sectional Area, in^2:"},{"$f":"IF('Compressive Strength'!$J$24=\"\",\"\",'Compressive Strength'!$J$24)","v":2},{"$f":"IF('Compressive Strength'!$J$26=\"\",\"\",'Compressive Strength'!$J$26)","v":"2-1"}]
[113,{"$f":"IF('Compressive Strength'!$K$34=\"\",\"\",'Compressive Strength'!$K$34)","v":""},{"$f":"IF('Compressive Strength'!$B$6=\"\",\"\",'Compressive Strength'!$B$6)","v":"Tex-120-E : PART (I or II) or Tex-121-E PART (I, II, or III)"},{"$f":"IF( 'Compressive Strength'!$B$21=\"\",\"\", 'Compressive Strength'!$B$21)","v":"Performed By  :"},{"$f":"IF('Compressive Strength'!$B$34=\"\",\"\",'Compressive Strength'!$B$34)","v":"Avg. Cross Sectional Area, in^2:"},{"$f":"IF('Compressive Strength'!$J$24=\"\",\"\",'Compressive Strength'!$J$24)","v":2},{"$f":"IF('Compressive Strength'!$K$26=\"\",\"\",'Compressive Strength'!$K$26)","v":"2-2"}]
[114,{"$f":"IF('Compressive Strength'!$L$34=\"\",\"\",'Compressive Strength'!$L$34)","v":""},{"$f":"IF('Compressive Strength'!$B$6=\"\",\"\",'Compressive Strength'!$B$6)","v":"Tex-120-E : PART (I or II) or Tex-121-E PART (I, II, or III)"},{"$f":"IF( 'Compressive Strength'!$B$21=\"\",\"\", 'Compressive Strength'!$B$21)","v":"Performed By  :"},{"$f":"IF('Compressive Strength'!$B$34=\"\",\"\",'Compressive Strength'!$B$34)","v":"Avg. Cross Sectional Area, in^2:"},{"$f":"IF('Compressive Strength'!$J$24=\"\",\"\",'Compressive Strength'!$J$24)","v":2},{"$f":"IF('Compressive Strength'!$L$26=\"\",\"\",'Compressive Strength'!$L$26)","v":"2-3"}]
[115,{"$f":"IF('Compressive Strength'!$M$34=\"\",\"\",'Compressive Strength'!$M$34)","v":""},{"$f":"IF('Compressive Strength'!$B$6=\"\",\"\",'Compressive Strength'!$B$6)","v":"Tex-120-E : PART (I or II) or Tex-121-E PART (I, II, or III)"},{"$f":"IF( 'Compressive Strength'!$B$21=\"\",\"\", 'Compressive Strength'!$B$21)","v":"Performed By  :"},{"$f":"IF('Compressive Strength'!$B$34=\"\",\"\",'Compressive Strength'!$B$34)","v":"Avg. Cross Sectional Area, in^2:"},{"$f":"IF('Compressive Strength'!$M$24=\"\",\"\",'Compressive Strength'!$M$24)","v":3},{"$f":"IF('Compressive Strength'!$M$26=\"\",\"\",'Compressive Strength'!$M$26)","v":"3-1"}]
[116,{"$f":"IF('Compressive Strength'!$N$34=\"\",\"\",'Compressive Strength'!$N$34)","v":""},{"$f":"IF('Compressive Strength'!$B$6=\"\",\"\",'Compressive Strength'!$B$6)","v":"Tex-120-E : PART (I or II) or Tex-121-E PART (I, II, or III)"},{"$f":"IF( 'Compressive Strength'!$B$21=\"\",\"\", 'Compressive Strength'!$B$21)","v":"Performed By  :"},{"$f":"IF('Compressive Strength'!$B$34=\"\",\"\",'Compressive Strength'!$B$34)","v":"Avg. Cross Sectional Area, in^2:"},{"$f":"IF('Compressive Strength'!$M$24=\"\",\"\",'Compressive Strength'!$M$24)","v":3},{"$f":"IF('Compressive Strength'!$N$26=\"\",\"\",'Compressive Strength'!$N$26)","v":"3-2"}]
[117,{"$f":"IF('Compressive Strength'!$O$34=\"\",\"\",'Compressive Strength'!$O$34)","v":""},{"$f":"IF('Compressive Strength'!$B$6=\"\",\"\",'Compressive Strength'!$B$6)","v":"Tex-120-E : PART (I or II) or Tex-121-E PART (I, II, or III)"},{"$f":"IF( 'Compressive Strength'!$B$21=\"\",\"\", 'Compressive Strength'!$B$21)","v":"Performed By  :"},{"$f":"IF('Compressive Strength'!$B$34=\"\",\"\",'Compressive Strength'!$B$34)","v":"Avg. Cross Sectional Area, in^2:"},{"$f":"IF('Compressive Strength'!$M$24=\"\",\"\",'Compressive Strength'!$M$24)","v":3},{"$f":"IF('Compressive Strength'!$O$26=\"\",\"\",'Compressive Strength'!$O$26)","v":"3-3"}]
[118,{"$f":"IF('Compressive Strength'!$P$34=\"\",\"\",'Compressive Strength'!$P$34)","v":""},{"$f":"IF('Compressive Strength'!$B$6=\"\",\"\",'Compressive Strength'!$B$6)","v":"Tex-120-E : PART (I or II) or Tex-121-E PART (I, II, or III)"},{"$f":"IF( 'Compressive Strength'!$B$21=\"\",\"\", 'Compressive Strength'!$B$21)","v":"Performed By  :"},{"$f":"IF('Compressive Strength'!$B$34=\"\",\"\",'Compressive Strength'!$B$34)","v":"Avg. Cross Sectional Area, in^2:"},{"$f":"IF('Compressive Strength'!$P$24=\"\",\"\",'Compressive Strength'!$P$24)","v":4},{"$f":"IF('Compressive Strength'!$P$26=\"\",\"\",'Compressive Strength'!$P$26)","v":"4-1"}]
[119,{"$f":"IF('Compressive Strength'!$Q$34=\"\",\"\",'Compressive Strength'!$Q$34)","v":""},{"$f":"IF('Compressive Strength'!$B$6=\"\",\"\",'Compressive Strength'!$B$6)","v":"Tex-120-E : PART (I or II) or Tex-121-E PART (I, II, or III)"},{"$f":"IF( 'Compressive Strength'!$B$21=\"\",\"\", 'Compressive Strength'!$B$21)","v":"Performed By  :"},{"$f":"IF('Compressive Strength'!$B$34=\"\",\"\",'Compressive Strength'!$B$34)","v":"Avg. Cross Sectional Area, in^2:"},{"$f":"IF('Compressive Strength'!$P$24=\"\",\"\",'Compressive Strength'!$P$24)","v":4},{"$f":"IF('Compressive Strength'!$Q$26=\"\",\"\",'Compressive Strength'!$Q$26)","v":"4-2"}]
[120,{"$f":"IF('Compressive Strength'!$R$34=\"\",\"\",'Compressive Strength'!$R$34)","v":""},{"$f":"IF('Compressive Strength'!$B$6=\"\",\"\",'Compressive Strength'!$B$6)","v":"Tex-120-E : PART (I or II) or Tex-121-E PART (I, II, or III)"},{"$f":"IF( 'Compressive Strength'!$B$21=\"\",\"\", 'Compressive Strength'!$B$21)","v":"Performed By  :"},{"$f":"IF('Compressive Strength'!$B$34=\"\",\"\",'Compressive Strength'!$B$34)","v":"Avg. Cross Sectional Area, in^2:"},{"$f":"IF('Compressive Strength'!$P$24=\"\",\"\",'Compressive Strength'!$P$24)","v":4},{"$f":"IF('Compressive Strength'!$R$26=\"\",\"\",'Compressive Strength'!$R$26)","v":"4-3"}]
[121,{"$f":"IF('Compressive Strength'!$G$35=\"\",\"\",'Compressive Strength'!$G$35)","v":""},{"$f":"IF('Compressive Strength'!$B$6=\"\",\"\",'Compressive Strength'!$B$6)","v":"Tex-120-E : PART (I or II) or Tex-121-E PART (I, II, or III)"},{"$f":"IF( 'Compressive Strength'!$B$21=\"\",\"\", 'Compressive Strength'!$B$21)","v":"Performed By  :"},{"$f":"IF('Compressive Strength'!$B$35=\"\",\"\",'Compressive Strength'!$B$35)","v":"Lateral Pressure, psi.:"},{"$f":"IF('Compressive Strength'!$G$24=\"\",\"\",'Compressive Strength'!$G$24)","v":1},{"$f":"IF('Compressive Strength'!$G$26=\"\",\"\",'Compressive Strength'!$G$26)","v":"1-1"}]
[122,{"$f":"IF('Compressive Strength'!$H$35=\"\",\"\",'Compressive Strength'!$H$35)","v":""},{"$f":"IF('Compressive Strength'!$B$6=\"\",\"\",'Compressive Strength'!$B$6)","v":"Tex-120-E : PART (I or II) or Tex-121-E PART (I, II, or III)"},{"$f":"IF( 'Compressive Strength'!$B$21=\"\",\"\", 'Compressive Strength'!$B$21)","v":"Performed By  :"},{"$f":"IF('Compressive Strength'!$B$35=\"\",\"\",'Compressive Strength'!$B$35)","v":"Lateral Pressure, psi.:"},{"$f":"IF('Compressive Strength'!$G$24=\"\",\"\",'Compressive Strength'!$G$24)","v":1},{"$f":"IF('Compressive Strength'!$H$26=\"\",\"\",'Compressive Strength'!$H$26)","v":"1-2"}]
[123,{"$f":"IF('Compressive Strength'!$I$35=\"\",\"\",'Compressive Strength'!$I$35)","v":""},{"$f":"IF('Compressive Strength'!$B$6=\"\",\"\",'Compressive Strength'!$B$6)","v":"Tex-120-E : PART (I or II) or Tex-121-E PART (I, II, or III)"},{"$f":"IF( 'Compressive Strength'!$B$21=\"\",\"\", 'Compressive Strength'!$B$21)","v":"Performed By  :"},{"$f":"IF('Compressive Strength'!$B$35=\"\",\"\",'Compressive Strength'!$B$35)","v":"Lateral Pressure, psi.:"},{"$f":"IF('Compressive Strength'!$G$24=\"\",\"\",'Compressive Strength'!$G$24)","v":1},{"$f":"IF('Compressive Strength'!$I$26=\"\",\"\",'Compressive Strength'!$I$26)","v":"1-3"}]
[124,{"$f":"IF('Compressive Strength'!$J$35=\"\",\"\",'Compressive Strength'!$J$35)","v":""},{"$f":"IF('Compressive Strength'!$B$6=\"\",\"\",'Compressive Strength'!$B$6)","v":"Tex-120-E : PART (I or II) or Tex-121-E PART (I, II, or III)"},{"$f":"IF( 'Compressive Strength'!$B$21=\"\",\"\", 'Compressive Strength'!$B$21)","v":"Performed By  :"},{"$f":"IF('Compressive Strength'!$B$35=\"\",\"\",'Compressive Strength'!$B$35)","v":"Lateral Pressure, psi.:"},{"$f":"IF('Compressive Strength'!$J$24=\"\",\"\",'Compressive Strength'!$J$24)","v":2},{"$f":"IF('Compressive Strength'!$J$26=\"\",\"\",'Compressive Strength'!$J$26)","v":"2-1"}]
[125,{"$f":"IF('Compressive Strength'!$K$35=\"\",\"\",'Compressive Strength'!$K$35)","v":""},{"$f":"IF('Compressive Strength'!$B$6=\"\",\"\",'Compressive Strength'!$B$6)","v":"Tex-120-E : PART (I or II) or Tex-121-E PART (I, II, or III)"},{"$f":"IF( 'Compressive Strength'!$B$21=\"\",\"\", 'Compressive Strength'!$B$21)","v":"Performed By  :"},{"$f":"IF('Compressive Strength'!$B$35=\"\",\"\",'Compressive Strength'!$B$35)","v":"Lateral Pressure, psi.:"},{"$f":"IF('Compressive Strength'!$J$24=\"\",\"\",'Compressive Strength'!$J$24)","v":2},{"$f":"IF('Compressive Strength'!$K$26=\"\",\"\",'Compressive Strength'!$K$26)","v":"2-2"}]
[126,{"$f":"IF('Compressive Strength'!$L$35=\"\",\"\",'Compressive Strength'!$L$35)","v":""},{"$f":"IF('Compressive Strength'!$B$6=\"\",\"\",'Compressive Strength'!$B$6)","v":"Tex-120-E : PART (I or II) or Tex-121-E PART (I, II, or III)"},{"$f":"IF( 'Compressive Strength'!$B$21=\"\",\"\", 'Compressive Strength'!$B$21)","v":"Performed By  :"},{"$f":"IF('Compressive Strength'!$B$35=\"\",\"\",'Compressive Strength'!$B$35)","v":"Lateral Pressure, psi.:"},{"$f":"IF('Compressive Strength'!$J$24=\"\",\"\",'Compressive Strength'!$J$24)","v":2},{"$f":"IF('Compressive Strength'!$L$26=\"\",\"\",'Compressive Strength'!$L$26)","v":"2-3"}]
[127,{"$f":"IF('Compressive Strength'!$M$35=\"\",\"\",'Compressive Strength'!$M$35)","v":""},{"$f":"IF('Compressive Strength'!$B$6=\"\",\"\",'Compressive Strength'!$B$6)","v":"Tex-120-E : PART (I or II) or Tex-121-E PART (I, II, or III)"},{"$f":"IF( 'Compressive Strength'!$B$21=\"\",\"\", 'Compressive Strength'!$B$21)","v":"Performed By  :"},{"$f":"IF('Compressive Strength'!$B$35=\"\",\"\",'Compressive Strength'!$B$35)","v":"Lateral Pressure, psi.:"},{"$f":"IF('Compressive Strength'!$M$24=\"\",\"\",'Compressive Strength'!$M$24)","v":3},{"$f":"IF('Compressive Strength'!$M$26=\"\",\"\",'Compressive Strength'!$M$26)","v":"3-1"}]
[128,{"$f":"IF('Compressive Strength'!$N$35=\"\",\"\",'Compressive Strength'!$N$35)","v":""},{"$f":"IF('Compressive Strength'!$B$6=\"\",\"\",'Compressive Strength'!$B$6)","v":"Tex-120-E : PART (I or II) or Tex-121-E PART (I, II, or III)"},{"$f":"IF( 'Compressive Strength'!$B$21=\"\",\"\", 'Compressive Strength'!$B$21)","v":"Performed By  :"},{"$f":"IF('Compressive Strength'!$B$35=\"\",\"\",'Compressive Strength'!$B$35)","v":"Lateral Pressure, psi.:"},{"$f":"IF('Compressive Strength'!$M$24=\"\",\"\",'Compressive Strength'!$M$24)","v":3},{"$f":"IF('Compressive Strength'!$N$26=\"\",\"\",'Compressive Strength'!$N$26)","v":"3-2"}]
[129,{"$f":"IF('Compressive Strength'!$O$35=\"\",\"\",'Compressive Strength'!$O$35)","v":""},{"$f":"IF('Compressive Strength'!$B$6=\"\",\"\",'Compressive Strength'!$B$6)","v":"Tex-120-E : PART (I or II) or Tex-121-E PART (I, II, or III)"},{"$f":"IF( 'Compressive Strength'!$B$21=\"\",\"\", 'Compressive Strength'!$B$21)","v":"Performed By  :"},{"$f":"IF('Compressive Strength'!$B$35=\"\",\"\",'Compressive Strength'!$B$35)","v":"Lateral Pressure, psi.:"},{"$f":"IF('Compressive Strength'!$M$24=\"\",\"\",'Compressive Strength'!$M$24)","v":3},{"$f":"IF('Compressive Strength'!$O$26=\"\",\"\",'Compressive Strength'!$O$26)","v":"3-3"}]
[130,{"$f":"IF('Compressive Strength'!$P$35=\"\",\"\",'Compressive Strength'!$P$35)","v":""},{"$f":"IF('Compressive Strength'!$B$6=\"\",\"\",'Compressive Strength'!$B$6)","v":"Tex-120-E : PART (I or II) or Tex-121-E PART (I, II, or III)"},{"$f":"IF( 'Compressive Strength'!$B$21=\"\",\"\", 'Compressive Strength'!$B$21)","v":"Performed By  :"},{"$f":"IF('Compressive Strength'!$B$35=\"\",\"\",'Compressive Strength'!$B$35)","v":"Lateral Pressure, psi.:"},{"$f":"IF('Compressive Strength'!$P$24=\"\",\"\",'Compressive Strength'!$P$24)","v":4},{"$f":"IF('Compressive Strength'!$P$26=\"\",\"\",'Compressive Strength'!$P$26)","v":"4-1"}]
[131,{"$f":"IF('Compressive Strength'!$Q$35=\"\",\"\",'Compressive Strength'!$Q$35)","v":""},{"$f":"IF('Compressive Strength'!$B$6=\"\",\"\",'Compressive Strength'!$B$6)","v":"Tex-120-E : PART (I or II) or Tex-121-E PART (I, II, or III)"},{"$f":"IF( 'Compressive Strength'!$B$21=\"\",\"\", 'Compressive Strength'!$B$21)","v":"Performed By  :"},{"$f":"IF('Compressive Strength'!$B$35=\"\",\"\",'Compressive Strength'!$B$35)","v":"Lateral Pressure, psi.:"},{"$f":"IF('Compressive Strength'!$P$24=\"\",\"\",'Compressive Strength'!$P$24)","v":4},{"$f":"IF('Compressive Strength'!$Q$26=\"\",\"\",'Compressive Strength'!$Q$26)","v":"4-2"}]
[132,{"$f":"IF('Compressive Strength'!$R$35=\"\",\"\",'Compressive Strength'!$R$35)","v":""},{"$f":"IF('Compressive Strength'!$B$6=\"\",\"\",'Compressive Strength'!$B$6)","v":"Tex-120-E : PART (I or II) or Tex-121-E PART (I, II, or III)"},{"$f":"IF( 'Compressive Strength'!$B$21=\"\",\"\", 'Compressive Strength'!$B$21)","v":"Performed By  :"},{"$f":"IF('Compressive Strength'!$B$35=\"\",\"\",'Compressive Strength'!$B$35)","v":"Lateral Pressure, psi.:"},{"$f":"IF('Compressive Strength'!$P$24=\"\",\"\",'Compressive Strength'!$P$24)","v":4},{"$f":"IF('Compressive Strength'!$R$26=\"\",\"\",'Compressive Strength'!$R$26)","v":"4-3"}]
[133,{"$f":"IF('Compressive Strength'!$G$36=\"\",\"\",'Compressive Strength'!$G$36)","v":""},{"$f":"IF('Compressive Strength'!$B$6=\"\",\"\",'Compressive Strength'!$B$6)","v":"Tex-120-E : PART (I or II) or Tex-121-E PART (I, II, or III)"},{"$f":"IF( 'Compressive Strength'!$B$21=\"\",\"\", 'Compressive Strength'!$B$21)","v":"Performed By  :"},{"$f":"IF('Compressive Strength'!$B$36=\"\",\"\",'Compressive Strength'!$B$36)","v":"Calibration Factor:"},{"$f":"IF('Compressive Strength'!$G$24=\"\",\"\",'Compressive Strength'!$G$24)","v":1},{"$f":"IF('Compressive Strength'!$G$26=\"\",\"\",'Compressive Strength'!$G$26)","v":"1-1"}]
[134,{"$f":"IF('Compressive Strength'!$H$36=\"\",\"\",'Compressive Strength'!$H$36)","v":""},{"$f":"IF('Compressive Strength'!$B$6=\"\",\"\",'Compressive Strength'!$B$6)","v":"Tex-120-E : PART (I or II) or Tex-121-E PART (I, II, or III)"},{"$f":"IF( 'Compressive Strength'!$B$21=\"\",\"\", 'Compressive Strength'!$B$21)","v":"Performed By  :"},{"$f":"IF('Compressive Strength'!$B$36=\"\",\"\",'Compressive Strength'!$B$36)","v":"Calibration Factor:"},{"$f":"IF('Compressive Strength'!$G$24=\"\",\"\",'Compressive Strength'!$G$24)","v":1},{"$f":"IF('Compressive Strength'!$H$26=\"\",\"\",'Compressive Strength'!$H$26)","v":"1-2"}]
[135,{"$f":"IF('Compressive Strength'!$I$36=\"\",\"\",'Compressive Strength'!$I$36)","v":""},{"$f":"IF('Compressive Strength'!$B$6=\"\",\"\",'Compressive Strength'!$B$6)","v":"Tex-120-E : PART (I or II) or Tex-121-E PART (I, II, or III)"},{"$f":"IF( 'Compressive Strength'!$B$21=\"\",\"\", 'Compressive Strength'!$B$21)","v":"Performed By  :"},{"$f":"IF('Compressive Strength'!$B$36=\"\",\"\",'Compressive Strength'!$B$36)","v":"Calibration Factor:"},{"$f":"IF('Compressive Strength'!$G$24=\"\",\"\",'Compressive Strength'!$G$24)","v":1},{"$f":"IF('Compressive Strength'!$I$26=\"\",\"\",'Compressive Strength'!$I$26)","v":"1-3"}]
[136,{"$f":"IF('Compressive Strength'!$J$36=\"\",\"\",'Compressive Strength'!$J$36)","v":""},{"$f":"IF('Compressive Strength'!$B$6=\"\",\"\",'Compressive Strength'!$B$6)","v":"Tex-120-E : PART (I or II) or Tex-121-E PART (I, II, or III)"},{"$f":"IF( 'Compressive Strength'!$B$21=\"\",\"\", 'Compressive Strength'!$B$21)","v":"Performed By  :"},{"$f":"IF('Compressive Strength'!$B$36=\"\",\"\",'Compressive Strength'!$B$36)","v":"Calibration Factor:"},{"$f":"IF('Compressive Strength'!$J$24=\"\",\"\",'Compressive Strength'!$J$24)","v":2},{"$f":"IF('Compressive Strength'!$J$26=\"\",\"\",'Compressive Strength'!$J$26)","v":"2-1"}]
[137,{"$f":"IF('Compressive Strength'!$K$36=\"\",\"\",'Compressive Strength'!$K$36)","v":""},{"$f":"IF('Compressive Strength'!$B$6=\"\",\"\",'Compressive Strength'!$B$6)","v":"Tex-120-E : PART (I or II) or Tex-121-E PART (I, II, or III)"},{"$f":"IF( 'Compressive Strength'!$B$21=\"\",\"\", 'Compressive Strength'!$B$21)","v":"Performed By  :"},{"$f":"IF('Compressive Strength'!$B$36=\"\",\"\",'Compressive Strength'!$B$36)","v":"Calibration Factor:"},{"$f":"IF('Compressive Strength'!$J$24=\"\",\"\",'Compressive Strength'!$J$24)","v":2},{"$f":"IF('Compressive Strength'!$K$26=\"\",\"\",'Compressive Strength'!$K$26)","v":"2-2"}]
[138,{"$f":"IF('Compressive Strength'!$L$36=\"\",\"\",'Compressive Strength'!$L$36)","v":""},{"$f":"IF('Compressive Strength'!$B$6=\"\",\"\",'Compressive Strength'!$B$6)","v":"Tex-120-E : PART (I or II) or Tex-121-E PART (I, II, or III)"},{"$f":"IF( 'Compressive Strength'!$B$21=\"\",\"\", 'Compressive Strength'!$B$21)","v":"Performed By  :"},{"$f":"IF('Compressive Strength'!$B$36=\"\",\"\",'Compressive Strength'!$B$36)","v":"Calibration Factor:"},{"$f":"IF('Compressive Strength'!$J$24=\"\",\"\",'Compressive Strength'!$J$24)","v":2},{"$f":"IF('Compressive Strength'!$L$26=\"\",\"\",'Compressive Strength'!$L$26)","v":"2-3"}]
[139,{"$f":"IF('Compressive Strength'!$M$36=\"\",\"\",'Compressive Strength'!$M$36)","v":""},{"$f":"IF('Compressive Strength'!$B$6=\"\",\"\",'Compressive Strength'!$B$6)","v":"Tex-120-E : PART (I or II) or Tex-121-E PART (I, II, or III)"},{"$f":"IF( 'Compressive Strength'!$B$21=\"\",\"\", 'Compressive Strength'!$B$21)","v":"Performed By  :"},{"$f":"IF('Compressive Strength'!$B$36=\"\",\"\",'Compressive Strength'!$B$36)","v":"Calibration Factor:"},{"$f":"IF('Compressive Strength'!$M$24=\"\",\"\",'Compressive Strength'!$M$24)","v":3},{"$f":"IF('Compressive Strength'!$M$26=\"\",\"\",'Compressive Strength'!$M$26)","v":"3-1"}]
[140,{"$f":"IF('Compressive Strength'!$N$36=\"\",\"\",'Compressive Strength'!$N$36)","v":""},{"$f":"IF('Compressive Strength'!$B$6=\"\",\"\",'Compressive Strength'!$B$6)","v":"Tex-120-E : PART (I or II) or Tex-121-E PART (I, II, or III)"},{"$f":"IF( 'Compressive Strength'!$B$21=\"\",\"\", 'Compressive Strength'!$B$21)","v":"Performed By  :"},{"$f":"IF('Compressive Strength'!$B$36=\"\",\"\",'Compressive Strength'!$B$36)","v":"Calibration Factor:"},{"$f":"IF('Compressive Strength'!$M$24=\"\",\"\",'Compressive Strength'!$M$24)","v":3},{"$f":"IF('Compressive Strength'!$N$26=\"\",\"\",'Compressive Strength'!$N$26)","v":"3-2"}]
[141,{"$f":"IF('Compressive Strength'!$O$36=\"\",\"\",'Compressive Strength'!$O$36)","v":""},{"$f":"IF('Compressive Strength'!$B$6=\"\",\"\",'Compressive Strength'!$B$6)","v":"Tex-120-E : PART (I or II) or Tex-121-E PART (I, II, or III)"},{"$f":"IF( 'Compressive Strength'!$B$21=\"\",\"\", 'Compressive Strength'!$B$21)","v":"Performed By  :"},{"$f":"IF('Compressive Strength'!$B$36=\"\",\"\",'Compressive Strength'!$B$36)","v":"Calibration Factor:"},{"$f":"IF('Compressive Strength'!$M$24=\"\",\"\",'Compressive Strength'!$M$24)","v":3},{"$f":"IF('Compressive Strength'!$O$26=\"\",\"\",'Compressive Strength'!$O$26)","v":"3-3"}]
[142,{"$f":"IF('Compressive Strength'!$P$36=\"\",\"\",'Compressive Strength'!$P$36)","v":""},{"$f":"IF('Compressive Strength'!$B$6=\"\",\"\",'Compressive Strength'!$B$6)","v":"Tex-120-E : PART (I or II) or Tex-121-E PART (I, II, or III)"},{"$f":"IF( 'Compressive Strength'!$B$21=\"\",\"\", 'Compressive Strength'!$B$21)","v":"Performed By  :"},{"$f":"IF('Compressive Strength'!$B$36=\"\",\"\",'Compressive Strength'!$B$36)","v":"Calibration Factor:"},{"$f":"IF('Compressive Strength'!$P$24=\"\",\"\",'Compressive Strength'!$P$24)","v":4},{"$f":"IF('Compressive Strength'!$P$26=\"\",\"\",'Compressive Strength'!$P$26)","v":"4-1"}]
[143,{"$f":"IF('Compressive Strength'!$Q$36=\"\",\"\",'Compressive Strength'!$Q$36)","v":""},{"$f":"IF('Compressive Strength'!$B$6=\"\",\"\",'Compressive Strength'!$B$6)","v":"Tex-120-E : PART (I or II) or Tex-121-E PART (I, II, or III)"},{"$f":"IF( 'Compressive Strength'!$B$21=\"\",\"\", 'Compressive Strength'!$B$21)","v":"Performed By  :"},{"$f":"IF('Compressive Strength'!$B$36=\"\",\"\",'Compressive Strength'!$B$36)","v":"Calibration Factor:"},{"$f":"IF('Compressive Strength'!$P$24=\"\",\"\",'Compressive Strength'!$P$24)","v":4},{"$f":"IF('Compressive Strength'!$Q$26=\"\",\"\",'Compressive Strength'!$Q$26)","v":"4-2"}]
[144,{"$f":"IF('Compressive Strength'!$R$36=\"\",\"\",'Compressive Strength'!$R$36)","v":""},{"$f":"IF('Compressive Strength'!$B$6=\"\",\"\",'Compressive Strength'!$B$6)","v":"Tex-120-E : PART (I or II) or Tex-121-E PART (I, II, or III)"},{"$f":"IF( 'Compressive Strength'!$B$21=\"\",\"\", 'Compressive Strength'!$B$21)","v":"Performed By  :"},{"$f":"IF('Compressive Strength'!$B$36=\"\",\"\",'Compressive Strength'!$B$36)","v":"Calibration Factor:"},{"$f":"IF('Compressive Strength'!$P$24=\"\",\"\",'Compressive Strength'!$P$24)","v":4},{"$f":"IF('Compressive Strength'!$R$26=\"\",\"\",'Compressive Strength'!$R$26)","v":"4-3"}]
[145,{"$f":"IF('Compressive Strength'!$G$37=\"\",\"\",'Compressive Strength'!$G$37)","v":""},{"$f":"IF('Compressive Strength'!$B$6=\"\",\"\",'Compressive Strength'!$B$6)","v":"Tex-120-E : PART (I or II) or Tex-121-E PART (I, II, or III)"},{"$f":"IF( 'Compressive Strength'!$B$21=\"\",\"\", 'Compressive Strength'!$B$21)","v":"Performed By  :"},{"$f":"IF('Compressive Strength'!$B$37=\"\",\"\",'Compressive Strength'!$B$37)","v":"Excitation:"},{"$f":"IF('Compressive Strength'!$G$24=\"\",\"\",'Compressive Strength'!$G$24)","v":1},{"$f":"IF('Compressive Strength'!$G$26=\"\",\"\",'Compressive Strength'!$G$26)","v":"1-1"}]
[146,{"$f":"IF('Compressive Strength'!$H$37=\"\",\"\",'Compressive Strength'!$H$37)","v":""},{"$f":"IF('Compressive Strength'!$B$6=\"\",\"\",'Compressive Strength'!$B$6)","v":"Tex-120-E : PART (I or II) or Tex-121-E PART (I, II, or III)"},{"$f":"IF( 'Compressive Strength'!$B$21=\"\",\"\", 'Compressive Strength'!$B$21)","v":"Performed By  :"},{"$f":"IF('Compressive Strength'!$B$37=\"\",\"\",'Compressive Strength'!$B$37)","v":"Excitation:"},{"$f":"IF('Compressive Strength'!$G$24=\"\",\"\",'Compressive Strength'!$G$24)","v":1},{"$f":"IF('Compressive Strength'!$H$26=\"\",\"\",'Compressive Strength'!$H$26)","v":"1-2"}]
[147,{"$f":"IF('Compressive Strength'!$I$37=\"\",\"\",'Compressive Strength'!$I$37)","v":""},{"$f":"IF('Compressive Strength'!$B$6=\"\",\"\",'Compressive Strength'!$B$6)","v":"Tex-120-E : PART (I or II) or Tex-121-E PART (I, II, or III)"},{"$f":"IF( 'Compressive Strength'!$B$21=\"\",\"\", 'Compressive Strength'!$B$21)","v":"Performed By  :"},{"$f":"IF('Compressive Strength'!$B$37=\"\",\"\",'Compressive Strength'!$B$37)","v":"Excitation:"},{"$f":"IF('Compressive Strength'!$G$24=\"\",\"\",'Compressive Strength'!$G$24)","v":1},{"$f":"IF('Compressive Strength'!$I$26=\"\",\"\",'Compressive Strength'!$I$26)","v":"1-3"}]
[148,{"$f":"IF('Compressive Strength'!$J$37=\"\",\"\",'Compressive Strength'!$J$37)","v":""},{"$f":"IF('Compressive Strength'!$B$6=\"\",\"\",'Compressive Strength'!$B$6)","v":"Tex-120-E : PART (I or II) or Tex-121-E PART (I, II, or III)"},{"$f":"IF( 'Compressive Strength'!$B$21=\"\",\"\", 'Compressive Strength'!$B$21)","v":"Performed By  :"},{"$f":"IF('Compressive Strength'!$B$37=\"\",\"\",'Compressive Strength'!$B$37)","v":"Excitation:"},{"$f":"IF('Compressive Strength'!$J$24=\"\",\"\",'Compressive Strength'!$J$24)","v":2},{"$f":"IF('Compressive Strength'!$J$26=\"\",\"\",'Compressive Strength'!$J$26)","v":"2-1"}]
[149,{"$f":"IF('Compressive Strength'!$K$37=\"\",\"\",'Compressive Strength'!$K$37)","v":""},{"$f":"IF('Compressive Strength'!$B$6=\"\",\"\",'Compressive Strength'!$B$6)","v":"Tex-120-E : PART (I or II) or Tex-121-E PART (I, II, or III)"},{"$f":"IF( 'Compressive Strength'!$B$21=\"\",\"\", 'Compressive Strength'!$B$21)","v":"Performed By  :"},{"$f":"IF('Compressive Strength'!$B$37=\"\",\"\",'Compressive Strength'!$B$37)","v":"Excitation:"},{"$f":"IF('Compressive Strength'!$J$24=\"\",\"\",'Compressive Strength'!$J$24)","v":2},{"$f":"IF('Compressive Strength'!$K$26=\"\",\"\",'Compressive Strength'!$K$26)","v":"2-2"}]
[150,{"$f":"IF('Compressive Strength'!$L$37=\"\",\"\",'Compressive Strength'!$L$37)","v":""},{"$f":"IF('Compressive Strength'!$B$6=\"\",\"\",'Compressive Strength'!$B$6)","v":"Tex-120-E : PART (I or II) or Tex-121-E PART (I, II, or III)"},{"$f":"IF( 'Compressive Strength'!$B$21=\"\",\"\", 'Compressive Strength'!$B$21)","v":"Performed By  :"},{"$f":"IF('Compressive Strength'!$B$37=\"\",\"\",'Compressive Strength'!$B$37)","v":"Excitation:"},{"$f":"IF('Compressive Strength'!$J$24=\"\",\"\",'Compressive Strength'!$J$24)","v":2},{"$f":"IF('Compressive Strength'!$L$26=\"\",\"\",'Compressive Strength'!$L$26)","v":"2-3"}]
[151,{"$f":"IF('Compressive Strength'!$M$37=\"\",\"\",'Compressive Strength'!$M$37)","v":""},{"$f":"IF('Compressive Strength'!$B$6=\"\",\"\",'Compressive Strength'!$B$6)","v":"Tex-120-E : PART (I or II) or Tex-121-E PART (I, II, or III)"},{"$f":"IF( 'Compressive Strength'!$B$21=\"\",\"\", 'Compressive Strength'!$B$21)","v":"Performed By  :"},{"$f":"IF('Compressive Strength'!$B$37=\"\",\"\",'Compressive Strength'!$B$37)","v":"Excitation:"},{"$f":"IF('Compressive Strength'!$M$24=\"\",\"\",'Compressive Strength'!$M$24)","v":3},{"$f":"IF('Compressive Strength'!$M$26=\"\",\"\",'Compressive Strength'!$M$26)","v":"3-1"}]
[152,{"$f":"IF('Compressive Strength'!$N$37=\"\",\"\",'Compressive Strength'!$N$37)","v":""},{"$f":"IF('Compressive Strength'!$B$6=\"\",\"\",'Compressive Strength'!$B$6)","v":"Tex-120-E : PART (I or II) or Tex-121-E PART (I, II, or III)"},{"$f":"IF( 'Compressive Strength'!$B$21=\"\",\"\", 'Compressive Strength'!$B$21)","v":"Performed By  :"},{"$f":"IF('Compressive Strength'!$B$37=\"\",\"\",'Compressive Strength'!$B$37)","v":"Excitation:"},{"$f":"IF('Compressive Strength'!$M$24=\"\",\"\",'Compressive Strength'!$M$24)","v":3},{"$f":"IF('Compressive Strength'!$N$26=\"\",\"\",'Compressive Strength'!$N$26)","v":"3-2"}]
[153,{"$f":"IF('Compressive Strength'!$O$37=\"\",\"\",'Compressive Strength'!$O$37)","v":""},{"$f":"IF('Compressive Strength'!$B$6=\"\",\"\",'Compressive Strength'!$B$6)","v":"Tex-120-E : PART (I or II) or Tex-121-E PART (I, II, or III)"},{"$f":"IF( 'Compressive Strength'!$B$21=\"\",\"\", 'Compressive Strength'!$B$21)","v":"Performed By  :"},{"$f":"IF('Compressive Strength'!$B$37=\"\",\"\",'Compressive Strength'!$B$37)","v":"Excitation:"},{"$f":"IF('Compressive Strength'!$M$24=\"\",\"\",'Compressive Strength'!$M$24)","v":3},{"$f":"IF('Compressive Strength'!$O$26=\"\",\"\",'Compressive Strength'!$O$26)","v":"3-3"}]
[154,{"$f":"IF('Compressive Strength'!$P$37=\"\",\"\",'Compressive Strength'!$P$37)","v":""},{"$f":"IF('Compressive Strength'!$B$6=\"\",\"\",'Compressive Strength'!$B$6)","v":"Tex-120-E : PART (I or II) or Tex-121-E PART (I, II, or III)"},{"$f":"IF( 'Compressive Strength'!$B$21=\"\",\"\", 'Compressive Strength'!$B$21)","v":"Performed By  :"},{"$f":"IF('Compressive Strength'!$B$37=\"\",\"\",'Compressive Strength'!$B$37)","v":"Excitation:"},{"$f":"IF('Compressive Strength'!$P$24=\"\",\"\",'Compressive Strength'!$P$24)","v":4},{"$f":"IF('Compressive Strength'!$P$26=\"\",\"\",'Compressive Strength'!$P$26)","v":"4-1"}]
[155,{"$f":"IF('Compressive Strength'!$Q$37=\"\",\"\",'Compressive Strength'!$Q$37)","v":""},{"$f":"IF('Compressive Strength'!$B$6=\"\",\"\",'Compressive Strength'!$B$6)","v":"Tex-120-E : PART (I or II) or Tex-121-E PART (I, II, or III)"},{"$f":"IF( 'Compressive Strength'!$B$21=\"\",\"\", 'Compressive Strength'!$B$21)","v":"Performed By  :"},{"$f":"IF('Compressive Strength'!$B$37=\"\",\"\",'Compressive Strength'!$B$37)","v":"Excitation:"},{"$f":"IF('Compressive Strength'!$P$24=\"\",\"\",'Compressive Strength'!$P$24)","v":4},{"$f":"IF('Compressive Strength'!$Q$26=\"\",\"\",'Compressive Strength'!$Q$26)","v":"4-2"}]
[156,{"$f":"IF('Compressive Strength'!$R$37=\"\",\"\",'Compressive Strength'!$R$37)","v":""},{"$f":"IF('Compressive Strength'!$B$6=\"\",\"\",'Compressive Strength'!$B$6)","v":"Tex-120-E : PART (I or II) or Tex-121-E PART (I, II, or III)"},{"$f":"IF( 'Compressive Strength'!$B$21=\"\",\"\", 'Compressive Strength'!$B$21)","v":"Performed By  :"},{"$f":"IF('Compressive Strength'!$B$37=\"\",\"\",'Compressive Strength'!$B$37)","v":"Excitation:"},{"$f":"IF('Compressive Strength'!$P$24=\"\",\"\",'Compressive Strength'!$P$24)","v":4},{"$f":"IF('Compressive Strength'!$R$26=\"\",\"\",'Compressive Strength'!$R$26)","v":"4-3"}]
[157,{"$f":"IF('Compressive Strength'!$G$38=\"\",\"\",'Compressive Strength'!$G$38)","v":""},{"$f":"IF('Compressive Strength'!$B$6=\"\",\"\",'Compressive Strength'!$B$6)","v":"Tex-120-E : PART (I or II) or Tex-121-E PART (I, II, or III)"},{"$f":"IF( 'Compressive Strength'!$B$21=\"\",\"\", 'Compressive Strength'!$B$21)","v":"Performed By  :"},{"$f":"IF('Compressive Strength'!$B$38=\"\",\"\",'Compressive Strength'!$B$38)","v":"Zero:"},{"$f":"IF('Compressive Strength'!$G$24=\"\",\"\",'Compressive Strength'!$G$24)","v":1},{"$f":"IF('Compressive Strength'!$G$26=\"\",\"\",'Compressive Strength'!$G$26)","v":"1-1"}]
[158,{"$f":"IF('Compressive Strength'!$H$38=\"\",\"\",'Compressive Strength'!$H$38)","v":""},{"$f":"IF('Compressive Strength'!$B$6=\"\",\"\",'Compressive Strength'!$B$6)","v":"Tex-120-E : PART (I or II) or Tex-121-E PART (I, II, or III)"},{"$f":"IF( 'Compressive Strength'!$B$21=\"\",\"\", 'Compressive Strength'!$B$21)","v":"Performed By  :"},{"$f":"IF('Compressive Strength'!$B$38=\"\",\"\",'Compressive Strength'!$B$38)","v":"Zero:"},{"$f":"IF('Compressive Strength'!$G$24=\"\",\"\",'Compressive Strength'!$G$24)","v":1},{"$f":"IF('Compressive Strength'!$H$26=\"\",\"\",'Compressive Strength'!$H$26)","v":"1-2"}]
[159,{"$f":"IF('Compressive Strength'!$I$38=\"\",\"\",'Compressive Strength'!$I$38)","v":""},{"$f":"IF('Compressive Strength'!$B$6=\"\",\"\",'Compressive Strength'!$B$6)","v":"Tex-120-E : PART (I or II) or Tex-121-E PART (I, II, or III)"},{"$f":"IF( 'Compressive Strength'!$B$21=\"\",\"\", 'Compressive Strength'!$B$21)","v":"Performed By  :"},{"$f":"IF('Compressive Strength'!$B$38=\"\",\"\",'Compressive Strength'!$B$38)","v":"Zero:"},{"$f":"IF('Compressive Strength'!$G$24=\"\",\"\",'Compressive Strength'!$G$24)","v":1},{"$f":"IF('Compressive Strength'!$I$26=\"\",\"\",'Compressive Strength'!$I$26)","v":"1-3"}]
[160,{"$f":"IF('Compressive Strength'!$J$38=\"\",\"\",'Compressive Strength'!$J$38)","v":""},{"$f":"IF('Compressive Strength'!$B$6=\"\",\"\",'Compressive Strength'!$B$6)","v":"Tex-120-E : PART (I or II) or Tex-121-E PART (I, II, or III)"},{"$f":"IF( 'Compressive Strength'!$B$21=\"\",\"\", 'Compressive Strength'!$B$21)","v":"Performed By  :"},{"$f":"IF('Compressive Strength'!$B$38=\"\",\"\",'Compressive Strength'!$B$38)","v":"Zero:"},{"$f":"IF('Compressive Strength'!$J$24=\"\",\"\",'Compressive Strength'!$J$24)","v":2},{"$f":"IF('Compressive Strength'!$J$26=\"\",\"\",'Compressive Strength'!$J$26)","v":"2-1"}]
[161,{"$f":"IF('Compressive Strength'!$K$38=\"\",\"\",'Compressive Strength'!$K$38)","v":""},{"$f":"IF('Compressive Strength'!$B$6=\"\",\"\",'Compressive Strength'!$B$6)","v":"Tex-120-E : PART (I or II) or Tex-121-E PART (I, II, or III)"},{"$f":"IF( 'Compressive Strength'!$B$21=\"\",\"\", 'Compressive Strength'!$B$21)","v":"Performed By  :"},{"$f":"IF('Compressive Strength'!$B$38=\"\",\"\",'Compressive Strength'!$B$38)","v":"Zero:"},{"$f":"IF('Compressive Strength'!$J$24=\"\",\"\",'Compressive Strength'!$J$24)","v":2},{"$f":"IF('Compressive Strength'!$K$26=\"\",\"\",'Compressive Strength'!$K$26)","v":"2-2"}]
[162,{"$f":"IF('Compressive Strength'!$L$38=\"\",\"\",'Compressive Strength'!$L$38)","v":""},{"$f":"IF('Compressive Strength'!$B$6=\"\",\"\",'Compressive Strength'!$B$6)","v":"Tex-120-E : PART (I or II) or Tex-121-E PART (I, II, or III)"},{"$f":"IF( 'Compressive Strength'!$B$21=\"\",\"\", 'Compressive Strength'!$B$21)","v":"Performed By  :"},{"$f":"IF('Compressive Strength'!$B$38=\"\",\"\",'Compressive Strength'!$B$38)","v":"Zero:"},{"$f":"IF('Compressive Strength'!$J$24=\"\",\"\",'Compressive Strength'!$J$24)","v":2},{"$f":"IF('Compressive Strength'!$L$26=\"\",\"\",'Compressive Strength'!$L$26)","v":"2-3"}]
[163,{"$f":"IF('Compressive Strength'!$M$38=\"\",\"\",'Compressive Strength'!$M$38)","v":""},{"$f":"IF('Compressive Strength'!$B$6=\"\",\"\",'Compressive Strength'!$B$6)","v":"Tex-120-E : PART (I or II) or Tex-121-E PART (I, II, or III)"},{"$f":"IF( 'Compressive Strength'!$B$21=\"\",\"\", 'Compressive Strength'!$B$21)","v":"Performed By  :"},{"$f":"IF('Compressive Strength'!$B$38=\"\",\"\",'Compressive Strength'!$B$38)","v":"Zero:"},{"$f":"IF('Compressive Strength'!$M$24=\"\",\"\",'Compressive Strength'!$M$24)","v":3},{"$f":"IF('Compressive Strength'!$M$26=\"\",\"\",'Compressive Strength'!$M$26)","v":"3-1"}]
[164,{"$f":"IF('Compressive Strength'!$N$38=\"\",\"\",'Compressive Strength'!$N$38)","v":""},{"$f":"IF('Compressive Strength'!$B$6=\"\",\"\",'Compressive Strength'!$B$6)","v":"Tex-120-E : PART (I or II) or Tex-121-E PART (I, II, or III)"},{"$f":"IF( 'Compressive Strength'!$B$21=\"\",\"\", 'Compressive Strength'!$B$21)","v":"Performed By  :"},{"$f":"IF('Compressive Strength'!$B$38=\"\",\"\",'Compressive Strength'!$B$38)","v":"Zero:"},{"$f":"IF('Compressive Strength'!$M$24=\"\",\"\",'Compressive Strength'!$M$24)","v":3},{"$f":"IF('Compressive Strength'!$N$26=\"\",\"\",'Compressive Strength'!$N$26)","v":"3-2"}]
[165,{"$f":"IF('Compressive Strength'!$O$38=\"\",\"\",'Compressive Strength'!$O$38)","v":""},{"$f":"IF('Compressive Strength'!$B$6=\"\",\"\",'Compressive Strength'!$B$6)","v":"Tex-120-E : PART (I or II) or Tex-121-E PART (I, II, or III)"},{"$f":"IF( 'Compressive Strength'!$B$21=\"\",\"\", 'Compressive Strength'!$B$21)","v":"Performed By  :"},{"$f":"IF('Compressive Strength'!$B$38=\"\",\"\",'Compressive Strength'!$B$38)","v":"Zero:"},{"$f":"IF('Compressive Strength'!$M$24=\"\",\"\",'Compressive Strength'!$M$24)","v":3},{"$f":"IF('Compressive Strength'!$O$26=\"\",\"\",'Compressive Strength'!$O$26)","v":"3-3"}]
[166,{"$f":"IF('Compressive Strength'!$P$38=\"\",\"\",'Compressive Strength'!$P$38)","v":""},{"$f":"IF('Compressive Strength'!$B$6=\"\",\"\",'Compressive Strength'!$B$6)","v":"Tex-120-E : PART (I or II) or Tex-121-E PART (I, II, or III)"},{"$f":"IF( 'Compressive Strength'!$B$21=\"\",\"\", 'Compressive Strength'!$B$21)","v":"Performed By  :"},{"$f":"IF('Compressive Strength'!$B$38=\"\",\"\",'Compressive Strength'!$B$38)","v":"Zero:"},{"$f":"IF('Compressive Strength'!$P$24=\"\",\"\",'Compressive Strength'!$P$24)","v":4},{"$f":"IF('Compressive Strength'!$P$26=\"\",\"\",'Compressive Strength'!$P$26)","v":"4-1"}]
[167,{"$f":"IF('Compressive Strength'!$Q$38=\"\",\"\",'Compressive Strength'!$Q$38)","v":""},{"$f":"IF('Compressive Strength'!$B$6=\"\",\"\",'Compressive Strength'!$B$6)","v":"Tex-120-E : PART (I or II) or Tex-121-E PART (I, II, or III)"},{"$f":"IF( 'Compressive Strength'!$B$21=\"\",\"\", 'Compressive Strength'!$B$21)","v":"Performed By  :"},{"$f":"IF('Compressive Strength'!$B$38=\"\",\"\",'Compressive Strength'!$B$38)","v":"Zero:"},{"$f":"IF('Compressive Strength'!$P$24=\"\",\"\",'Compressive Strength'!$P$24)","v":4},{"$f":"IF('Compressive Strength'!$Q$26=\"\",\"\",'Compressive Strength'!$Q$26)","v":"4-2"}]
[168,{"$f":"IF('Compressive Strength'!$R$38=\"\",\"\",'Compressive Strength'!$R$38)","v":""},{"$f":"IF('Compressive Strength'!$B$6=\"\",\"\",'Compressive Strength'!$B$6)","v":"Tex-120-E : PART (I or II) or Tex-121-E PART (I, II, or III)"},{"$f":"IF( 'Compressive Strength'!$B$21=\"\",\"\", 'Compressive Strength'!$B$21)","v":"Performed By  :"},{"$f":"IF('Compressive Strength'!$B$38=\"\",\"\",'Compressive Strength'!$B$38)","v":"Zero:"},{"$f":"IF('Compressive Strength'!$P$24=\"\",\"\",'Compressive Strength'!$P$24)","v":4},{"$f":"IF('Compressive Strength'!$R$26=\"\",\"\",'Compressive Strength'!$R$26)","v":"4-3"}]
[169,{"$f":"IF('Compressive Strength'!$G$39=\"\",\"\",'Compressive Strength'!$G$39)","v":""},{"$f":"IF('Compressive Strength'!$B$6=\"\",\"\",'Compressive Strength'!$B$6)","v":"Tex-120-E : PART (I or II) or Tex-121-E PART (I, II, or III)"},{"$f":"IF( 'Compressive Strength'!$B$21=\"\",\"\", 'Compressive Strength'!$B$21)","v":"Performed By  :"},{"$f":"IF('Compressive Strength'!$B$39=\"\",\"\",'Compressive Strength'!$B$39)","v":"Ring Factor, lbs./div"},{"$f":"IF('Compressive Strength'!$G$24=\"\",\"\",'Compressive Strength'!$G$24)","v":1},{"$f":"IF('Compressive Strength'!$G$26=\"\",\"\",'Compressive Strength'!$G$26)","v":"1-1"}]
[170,{"$f":"IF('Compressive Strength'!$H$39=\"\",\"\",'Compressive Strength'!$H$39)","v":""},{"$f":"IF('Compressive Strength'!$B$6=\"\",\"\",'Compressive Strength'!$B$6)","v":"Tex-120-E : PART (I or II) or Tex-121-E PART (I, II, or III)"},{"$f":"IF( 'Compressive Strength'!$B$21=\"\",\"\", 'Compressive Strength'!$B$21)","v":"Performed By  :"},{"$f":"IF('Compressive Strength'!$B$39=\"\",\"\",'Compressive Strength'!$B$39)","v":"Ring Factor, lbs./div"},{"$f":"IF('Compressive Strength'!$G$24=\"\",\"\",'Compressive Strength'!$G$24)","v":1},{"$f":"IF('Compressive Strength'!$H$26=\"\",\"\",'Compressive Strength'!$H$26)","v":"1-2"}]
[171,{"$f":"IF('Compressive Strength'!$I$39=\"\",\"\",'Compressive Strength'!$I$39)","v":""},{"$f":"IF('Compressive Strength'!$B$6=\"\",\"\",'Compressive Strength'!$B$6)","v":"Tex-120-E : PART (I or II) or Tex-121-E PART (I, II, or III)"},{"$f":"IF( 'Compressive Strength'!$B$21=\"\",\"\", 'Compressive Strength'!$B$21)","v":"Performed By  :"},{"$f":"IF('Compressive Strength'!$B$39=\"\",\"\",'Compressive Strength'!$B$39)","v":"Ring Factor, lbs./div"},{"$f":"IF('Compressive Strength'!$G$24=\"\",\"\",'Compressive Strength'!$G$24)","v":1},{"$f":"IF('Compressive Strength'!$I$26=\"\",\"\",'Compressive Strength'!$I$26)","v":"1-3"}]
[172,{"$f":"IF('Compressive Strength'!$J$39=\"\",\"\",'Compressive Strength'!$J$39)","v":""},{"$f":"IF('Compressive Strength'!$B$6=\"\",\"\",'Compressive Strength'!$B$6)","v":"Tex-120-E : PART (I or II) or Tex-121-E PART (I, II, or III)"},{"$f":"IF( 'Compressive Strength'!$B$21=\"\",\"\", 'Compressive Strength'!$B$21)","v":"Performed By  :"},{"$f":"IF('Compressive Strength'!$B$39=\"\",\"\",'Compressive Strength'!$B$39)","v":"Ring Factor, lbs./div"},{"$f":"IF('Compressive Strength'!$J$24=\"\",\"\",'Compressive Strength'!$J$24)","v":2},{"$f":"IF('Compressive Strength'!$J$26=\"\",\"\",'Compressive Strength'!$J$26)","v":"2-1"}]
[173,{"$f":"IF('Compressive Strength'!$K$39=\"\",\"\",'Compressive Strength'!$K$39)","v":""},{"$f":"IF('Compressive Strength'!$B$6=\"\",\"\",'Compressive Strength'!$B$6)","v":"Tex-120-E : PART (I or II) or Tex-121-E PART (I, II, or III)"},{"$f":"IF( 'Compressive Strength'!$B$21=\"\",\"\", 'Compressive Strength'!$B$21)","v":"Performed By  :"},{"$f":"IF('Compressive Strength'!$B$39=\"\",\"\",'Compressive Strength'!$B$39)","v":"Ring Factor, lbs./div"},{"$f":"IF('Compressive Strength'!$J$24=\"\",\"\",'Compressive Strength'!$J$24)","v":2},{"$f":"IF('Compressive Strength'!$K$26=\"\",\"\",'Compressive Strength'!$K$26)","v":"2-2"}]
[174,{"$f":"IF('Compressive Strength'!$L$39=\"\",\"\",'Compressive Strength'!$L$39)","v":""},{"$f":"IF('Compressive Strength'!$B$6=\"\",\"\",'Compressive Strength'!$B$6)","v":"Tex-120-E : PART (I or II) or Tex-121-E PART (I, II, or III)"},{"$f":"IF( 'Compressive Strength'!$B$21=\"\",\"\", 'Compressive Strength'!$B$21)","v":"Performed By  :"},{"$f":"IF('Compressive Strength'!$B$39=\"\",\"\",'Compressive Strength'!$B$39)","v":"Ring Factor, lbs./div"},{"$f":"IF('Compressive Strength'!$J$24=\"\",\"\",'Compressive Strength'!$J$24)","v":2},{"$f":"IF('Compressive Strength'!$L$26=\"\",\"\",'Compressive Strength'!$L$26)","v":"2-3"}]
[175,{"$f":"IF('Compressive Strength'!$M$39=\"\",\"\",'Compressive Strength'!$M$39)","v":""},{"$f":"IF('Compressive Strength'!$B$6=\"\",\"\",'Compressive Strength'!$B$6)","v":"Tex-120-E : PART (I or II) or Tex-121-E PART (I, II, or III)"},{"$f":"IF( 'Compressive Strength'!$B$21=\"\",\"\", 'Compressive Strength'!$B$21)","v":"Performed By  :"},{"$f":"IF('Compressive Strength'!$B$39=\"\",\"\",'Compressive Strength'!$B$39)","v":"Ring Factor, lbs./div"},{"$f":"IF('Compressive Strength'!$M$24=\"\",\"\",'Compressive Strength'!$M$24)","v":3},{"$f":"IF('Compressive Strength'!$M$26=\"\",\"\",'Compressive Strength'!$M$26)","v":"3-1"}]
[176,{"$f":"IF('Compressive Strength'!$N$39=\"\",\"\",'Compressive Strength'!$N$39)","v":""},{"$f":"IF('Compressive Strength'!$B$6=\"\",\"\",'Compressive Strength'!$B$6)","v":"Tex-120-E : PART (I or II) or Tex-121-E PART (I, II, or III)"},{"$f":"IF( 'Compressive Strength'!$B$21=\"\",\"\", 'Compressive Strength'!$B$21)","v":"Performed By  :"},{"$f":"IF('Compressive Strength'!$B$39=\"\",\"\",'Compressive Strength'!$B$39)","v":"Ring Factor, lbs./div"},{"$f":"IF('Compressive Strength'!$M$24=\"\",\"\",'Compressive Strength'!$M$24)","v":3},{"$f":"IF('Compressive Strength'!$N$26=\"\",\"\",'Compressive Strength'!$N$26)","v":"3-2"}]
[177,{"$f":"IF('Compressive Strength'!$O$39=\"\",\"\",'Compressive Strength'!$O$39)","v":""},{"$f":"IF('Compressive Strength'!$B$6=\"\",\"\",'Compressive Strength'!$B$6)","v":"Tex-120-E : PART (I or II) or Tex-121-E PART (I, II, or III)"},{"$f":"IF( 'Compressive Strength'!$B$21=\"\",\"\", 'Compressive Strength'!$B$21)","v":"Performed By  :"},{"$f":"IF('Compressive Strength'!$B$39=\"\",\"\",'Compressive Strength'!$B$39)","v":"Ring Factor, lbs./div"},{"$f":"IF('Compressive Strength'!$M$24=\"\",\"\",'Compressive Strength'!$M$24)","v":3},{"$f":"IF('Compressive Strength'!$O$26=\"\",\"\",'Compressive Strength'!$O$26)","v":"3-3"}]
[178,{"$f":"IF('Compressive Strength'!$P$39=\"\",\"\",'Compressive Strength'!$P$39)","v":""},{"$f":"IF('Compressive Strength'!$B$6=\"\",\"\",'Compressive Strength'!$B$6)","v":"Tex-120-E : PART (I or II) or Tex-121-E PART (I, II, or III)"},{"$f":"IF( 'Compressive Strength'!$B$21=\"\",\"\", 'Compressive Strength'!$B$21)","v":"Performed By  :"},{"$f":"IF('Compressive Strength'!$B$39=\"\",\"\",'Compressive Strength'!$B$39)","v":"Ring Factor, lbs./div"},{"$f":"IF('Compressive Strength'!$P$24=\"\",\"\",'Compressive Strength'!$P$24)","v":4},{"$f":"IF('Compressive Strength'!$P$26=\"\",\"\",'Compressive Strength'!$P$26)","v":"4-1"}]
[179,{"$f":"IF('Compressive Strength'!$Q$39=\"\",\"\",'Compressive Strength'!$Q$39)","v":""},{"$f":"IF('Compressive Strength'!$B$6=\"\",\"\",'Compressive Strength'!$B$6)","v":"Tex-120-E : PART (I or II) or Tex-121-E PART (I, II, or III)"},{"$f":"IF( 'Compressive Strength'!$B$21=\"\",\"\", 'Compressive Strength'!$B$21)","v":"Performed By  :"},{"$f":"IF('Compressive Strength'!$B$39=\"\",\"\",'Compressive Strength'!$B$39)","v":"Ring Factor, lbs./div"},{"$f":"IF('Compressive Strength'!$P$24=\"\",\"\",'Compressive Strength'!$P$24)","v":4},{"$f":"IF('Compressive Strength'!$Q$26=\"\",\"\",'Compressive Strength'!$Q$26)","v":"4-2"}]
[180,{"$f":"IF('Compressive Strength'!$R$39=\"\",\"\",'Compressive Strength'!$R$39)","v":""},{"$f":"IF('Compressive Strength'!$B$6=\"\",\"\",'Compressive Strength'!$B$6)","v":"Tex-120-E : PART (I or II) or Tex-121-E PART (I, II, or III)"},{"$f":"IF( 'Compressive Strength'!$B$21=\"\",\"\", 'Compressive Strength'!$B$21)","v":"Performed By  :"},{"$f":"IF('Compressive Strength'!$B$39=\"\",\"\",'Compressive Strength'!$B$39)","v":"Ring Factor, lbs./div"},{"$f":"IF('Compressive Strength'!$P$24=\"\",\"\",'Compressive Strength'!$P$24)","v":4},{"$f":"IF('Compressive Strength'!$R$26=\"\",\"\",'Compressive Strength'!$R$26)","v":"4-3"}]
[181,{"$f":"IF('Compressive Strength'!$G$40=\"\",\"\",'Compressive Strength'!$G$40)","v":""},{"$f":"IF('Compressive Strength'!$B$6=\"\",\"\",'Compressive Strength'!$B$6)","v":"Tex-120-E : PART (I or II) or Tex-121-E PART (I, II, or III)"},{"$f":"IF( 'Compressive Strength'!$B$21=\"\",\"\", 'Compressive Strength'!$B$21)","v":"Performed By  :"},{"$f":"IF('Compressive Strength'!$B$40=\"\",\"\",'Compressive Strength'!$B$40)","v":"Dead Load, lbs.:"},{"$f":"IF('Compressive Strength'!$G$24=\"\",\"\",'Compressive Strength'!$G$24)","v":1},{"$f":"IF('Compressive Strength'!$G$26=\"\",\"\",'Compressive Strength'!$G$26)","v":"1-1"}]
[182,{"$f":"IF('Compressive Strength'!$H$40=\"\",\"\",'Compressive Strength'!$H$40)","v":""},{"$f":"IF('Compressive Strength'!$B$6=\"\",\"\",'Compressive Strength'!$B$6)","v":"Tex-120-E : PART (I or II) or Tex-121-E PART (I, II, or III)"},{"$f":"IF( 'Compressive Strength'!$B$21=\"\",\"\", 'Compressive Strength'!$B$21)","v":"Performed By  :"},{"$f":"IF('Compressive Strength'!$B$40=\"\",\"\",'Compressive Strength'!$B$40)","v":"Dead Load, lbs.:"},{"$f":"IF('Compressive Strength'!$G$24=\"\",\"\",'Compressive Strength'!$G$24)","v":1},{"$f":"IF('Compressive Strength'!$H$26=\"\",\"\",'Compressive Strength'!$H$26)","v":"1-2"}]
[183,{"$f":"IF('Compressive Strength'!$I$40=\"\",\"\",'Compressive Strength'!$I$40)","v":""},{"$f":"IF('Compressive Strength'!$B$6=\"\",\"\",'Compressive Strength'!$B$6)","v":"Tex-120-E : PART (I or II) or Tex-121-E PART (I, II, or III)"},{"$f":"IF( 'Compressive Strength'!$B$21=\"\",\"\", 'Compressive Strength'!$B$21)","v":"Performed By  :"},{"$f":"IF('Compressive Strength'!$B$40=\"\",\"\",'Compressive Strength'!$B$40)","v":"Dead Load, lbs.:"},{"$f":"IF('Compressive Strength'!$G$24=\"\",\"\",'Compressive Strength'!$G$24)","v":1},{"$f":"IF('Compressive Strength'!$I$26=\"\",\"\",'Compressive Strength'!$I$26)","v":"1-3"}]
[184,{"$f":"IF('Compressive Strength'!$J$40=\"\",\"\",'Compressive Strength'!$J$40)","v":""},{"$f":"IF('Compressive Strength'!$B$6=\"\",\"\",'Compressive Strength'!$B$6)","v":"Tex-120-E : PART (I or II) or Tex-121-E PART (I, II, or III)"},{"$f":"IF( 'Compressive Strength'!$B$21=\"\",\"\", 'Compressive Strength'!$B$21)","v":"Performed By  :"},{"$f":"IF('Compressive Strength'!$B$40=\"\",\"\",'Compressive Strength'!$B$40)","v":"Dead Load, lbs.:"},{"$f":"IF('Compressive Strength'!$J$24=\"\",\"\",'Compressive Strength'!$J$24)","v":2},{"$f":"IF('Compressive Strength'!$J$26=\"\",\"\",'Compressive Strength'!$J$26)","v":"2-1"}]
[185,{"$f":"IF('Compressive Strength'!$K$40=\"\",\"\",'Compressive Strength'!$K$40)","v":""},{"$f":"IF('Compressive Strength'!$B$6=\"\",\"\",'Compressive Strength'!$B$6)","v":"Tex-120-E : PART (I or II) or Tex-121-E PART (I, II, or III)"},{"$f":"IF( 'Compressive Strength'!$B$21=\"\",\"\", 'Compressive Strength'!$B$21)","v":"Performed By  :"},{"$f":"IF('Compressive Strength'!$B$40=\"\",\"\",'Compressive Strength'!$B$40)","v":"Dead Load, lbs.:"},{"$f":"IF('Compressive Strength'!$J$24=\"\",\"\",'Compressive Strength'!$J$24)","v":2},{"$f":"IF('Compressive Strength'!$K$26=\"\",\"\",'Compressive Strength'!$K$26)","v":"2-2"}]
[186,{"$f":"IF('Compressive Strength'!$L$40=\"\",\"\",'Compressive Strength'!$L$40)","v":""},{"$f":"IF('Compressive Strength'!$B$6=\"\",\"\",'Compressive Strength'!$B$6)","v":"Tex-120-E : PART (I or II) or Tex-121-E PART (I, II, or III)"},{"$f":"IF( 'Compressive Strength'!$B$21=\"\",\"\", 'Compressive Strength'!$B$21)","v":"Performed By  :"},{"$f":"IF('Compressive Strength'!$B$40=\"\",\"\",'Compressive Strength'!$B$40)","v":"Dead Load, lbs.:"},{"$f":"IF('Compressive Strength'!$J$24=\"\",\"\",'Compressive Strength'!$J$24)","v":2},{"$f":"IF('Compressive Strength'!$L$26=\"\",\"\",'Compressive Strength'!$L$26)","v":"2-3"}]
[187,{"$f":"IF('Compressive Strength'!$M$40=\"\",\"\",'Compressive Strength'!$M$40)","v":""},{"$f":"IF('Compressive Strength'!$B$6=\"\",\"\",'Compressive Strength'!$B$6)","v":"Tex-120-E : PART (I or II) or Tex-121-E PART (I, II, or III)"},{"$f":"IF( 'Compressive Strength'!$B$21=\"\",\"\", 'Compressive Strength'!$B$21)","v":"Performed By  :"},{"$f":"IF('Compressive Strength'!$B$40=\"\",\"\",'Compressive Strength'!$B$40)","v":"Dead Load, lbs.:"},{"$f":"IF('Compressive Strength'!$M$24=\"\",\"\",'Compressive Strength'!$M$24)","v":3},{"$f":"IF('Compressive Strength'!$M$26=\"\",\"\",'Compressive Strength'!$M$26)","v":"3-1"}]
[188,{"$f":"IF('Compressive Strength'!$N$40=\"\",\"\",'Compressive Strength'!$N$40)","v":""},{"$f":"IF('Compressive Strength'!$B$6=\"\",\"\",'Compressive Strength'!$B$6)","v":"Tex-120-E : PART (I or II) or Tex-121-E PART (I, II, or III)"},{"$f":"IF( 'Compressive Strength'!$B$21=\"\",\"\", 'Compressive Strength'!$B$21)","v":"Performed By  :"},{"$f":"IF('Compressive Strength'!$B$40=\"\",\"\",'Compressive Strength'!$B$40)","v":"Dead Load, lbs.:"},{"$f":"IF('Compressive Strength'!$M$24=\"\",\"\",'Compressive Strength'!$M$24)","v":3},{"$f":"IF('Compressive Strength'!$N$26=\"\",\"\",'Compressive Strength'!$N$26)","v":"3-2"}]
[189,{"$f":"IF('Compressive Strength'!$O$40=\"\",\"\",'Compressive Strength'!$O$40)","v":""},{"$f":"IF('Compressive Strength'!$B$6=\"\",\"\",'Compressive Strength'!$B$6)","v":"Tex-120-E : PART (I or II) or Tex-121-E PART (I, II, or III)"},{"$f":"IF( 'Compressive Strength'!$B$21=\"\",\"\", 'Compressive Strength'!$B$21)","v":"Performed By  :"},{"$f":"IF('Compressive Strength'!$B$40=\"\",\"\",'Compressive Strength'!$B$40)","v":"Dead Load, lbs.:"},{"$f":"IF('Compressive Strength'!$M$24=\"\",\"\",'Compressive Strength'!$M$24)","v":3},{"$f":"IF('Compressive Strength'!$O$26=\"\",\"\",'Compressive Strength'!$O$26)","v":"3-3"}]
[190,{"$f":"IF('Compressive Strength'!$P$40=\"\",\"\",'Compressive Strength'!$P$40)","v":""},{"$f":"IF('Compressive Strength'!$B$6=\"\",\"\",'Compressive Strength'!$B$6)","v":"Tex-120-E : PART (I or II) or Tex-121-E PART (I, II, or III)"},{"$f":"IF( 'Compressive Strength'!$B$21=\"\",\"\", 'Compressive Strength'!$B$21)","v":"Performed By  :"},{"$f":"IF('Compressive Strength'!$B$40=\"\",\"\",'Compressive Strength'!$B$40)","v":"Dead Load, lbs.:"},{"$f":"IF('Compressive Strength'!$P$24=\"\",\"\",'Compressive Strength'!$P$24)","v":4},{"$f":"IF('Compressive Strength'!$P$26=\"\",\"\",'Compressive Strength'!$P$26)","v":"4-1"}]
[191,{"$f":"IF('Compressive Strength'!$Q$40=\"\",\"\",'Compressive Strength'!$Q$40)","v":""},{"$f":"IF('Compressive Strength'!$B$6=\"\",\"\",'Compressive Strength'!$B$6)","v":"Tex-120-E : PART (I or II) or Tex-121-E PART (I, II, or III)"},{"$f":"IF( 'Compressive Strength'!$B$21=\"\",\"\", 'Compressive Strength'!$B$21)","v":"Performed By  :"},{"$f":"IF('Compressive Strength'!$B$40=\"\",\"\",'Compressive Strength'!$B$40)","v":"Dead Load, lbs.:"},{"$f":"IF('Compressive Strength'!$P$24=\"\",\"\",'Compressive Strength'!$P$24)","v":4},{"$f":"IF('Compressive Strength'!$Q$26=\"\",\"\",'Compressive Strength'!$Q$26)","v":"4-2"}]
[192,{"$f":"IF('Compressive Strength'!$R$40=\"\",\"\",'Compressive Strength'!$R$40)","v":""},{"$f":"IF('Compressive Strength'!$B$6=\"\",\"\",'Compressive Strength'!$B$6)","v":"Tex-120-E : PART (I or II) or Tex-121-E PART (I, II, or III)"},{"$f":"IF( 'Compressive Strength'!$B$21=\"\",\"\", 'Compressive Strength'!$B$21)","v":"Performed By  :"},{"$f":"IF('Compressive Strength'!$B$40=\"\",\"\",'Compressive Strength'!$B$40)","v":"Dead Load, lbs.:"},{"$f":"IF('Compressive Strength'!$P$24=\"\",\"\",'Compressive Strength'!$P$24)","v":4},{"$f":"IF('Compressive Strength'!$R$26=\"\",\"\",'Compressive Strength'!$R$26)","v":"4-3"}]
[193,{"$f":"IF('Compressive Strength'!$G$41=\"\",\"\",'Compressive Strength'!$G$41)","v":""},{"$f":"IF('Compressive Strength'!$B$6=\"\",\"\",'Compressive Strength'!$B$6)","v":"Tex-120-E : PART (I or II) or Tex-121-E PART (I, II, or III)"},{"$f":"IF( 'Compressive Strength'!$B$21=\"\",\"\", 'Compressive Strength'!$B$21)","v":"Performed By  :"},{"$f":"IF('Compressive Strength'!$B$41=\"\",\"\",'Compressive Strength'!$B$41)","v":"Piston Correction, lbs.:"},{"$f":"IF('Compressive Strength'!$G$24=\"\",\"\",'Compressive Strength'!$G$24)","v":1},{"$f":"IF('Compressive Strength'!$G$26=\"\",\"\",'Compressive Strength'!$G$26)","v":"1-1"}]
[194,{"$f":"IF('Compressive Strength'!$H$41=\"\",\"\",'Compressive Strength'!$H$41)","v":""},{"$f":"IF('Compressive Strength'!$B$6=\"\",\"\",'Compressive Strength'!$B$6)","v":"Tex-120-E : PART (I or II) or Tex-121-E PART (I, II, or III)"},{"$f":"IF( 'Compressive Strength'!$B$21=\"\",\"\", 'Compressive Strength'!$B$21)","v":"Performed By  :"},{"$f":"IF('Compressive Strength'!$B$41=\"\",\"\",'Compressive Strength'!$B$41)","v":"Piston Correction, lbs.:"},{"$f":"IF('Compressive Strength'!$G$24=\"\",\"\",'Compressive Strength'!$G$24)","v":1},{"$f":"IF('Compressive Strength'!$H$26=\"\",\"\",'Compressive Strength'!$H$26)","v":"1-2"}]
[195,{"$f":"IF('Compressive Strength'!$I$41=\"\",\"\",'Compressive Strength'!$I$41)","v":""},{"$f":"IF('Compressive Strength'!$B$6=\"\",\"\",'Compressive Strength'!$B$6)","v":"Tex-120-E : PART (I or II) or Tex-121-E PART (I, II, or III)"},{"$f":"IF( 'Compressive Strength'!$B$21=\"\",\"\", 'Compressive Strength'!$B$21)","v":"Performed By  :"},{"$f":"IF('Compressive Strength'!$B$41=\"\",\"\",'Compressive Strength'!$B$41)","v":"Piston Correction, lbs.:"},{"$f":"IF('Compressive Strength'!$G$24=\"\",\"\",'Compressive Strength'!$G$24)","v":1},{"$f":"IF('Compressive Strength'!$I$26=\"\",\"\",'Compressive Strength'!$I$26)","v":"1-3"}]
[196,{"$f":"IF('Compressive Strength'!$J$41=\"\",\"\",'Compressive Strength'!$J$41)","v":""},{"$f":"IF('Compressive Strength'!$B$6=\"\",\"\",'Compressive Strength'!$B$6)","v":"Tex-120-E : PART (I or II) or Tex-121-E PART (I, II, or III)"},{"$f":"IF( 'Compressive Strength'!$B$21=\"\",\"\", 'Compressive Strength'!$B$21)","v":"Performed By  :"},{"$f":"IF('Compressive Strength'!$B$41=\"\",\"\",'Compressive Strength'!$B$41)","v":"Piston Correction, lbs.:"},{"$f":"IF('Compressive Strength'!$J$24=\"\",\"\",'Compressive Strength'!$J$24)","v":2},{"$f":"IF('Compressive Strength'!$J$26=\"\",\"\",'Compressive Strength'!$J$26)","v":"2-1"}]
[197,{"$f":"IF('Compressive Strength'!$K$41=\"\",\"\",'Compressive Strength'!$K$41)","v":""},{"$f":"IF('Compressive Strength'!$B$6=\"\",\"\",'Compressive Strength'!$B$6)","v":"Tex-120-E : PART (I or II) or Tex-121-E PART (I, II, or III)"},{"$f":"IF( 'Compressive Strength'!$B$21=\"\",\"\", 'Compressive Strength'!$B$21)","v":"Performed By  :"},{"$f":"IF('Compressive Strength'!$B$41=\"\",\"\",'Compressive Strength'!$B$41)","v":"Piston Correction, lbs.:"},{"$f":"IF('Compressive Strength'!$J$24=\"\",\"\",'Compressive Strength'!$J$24)","v":2},{"$f":"IF('Compressive Strength'!$K$26=\"\",\"\",'Compressive Strength'!$K$26)","v":"2-2"}]
[198,{"$f":"IF('Compressive Strength'!$L$41=\"\",\"\",'Compressive Strength'!$L$41)","v":""},{"$f":"IF('Compressive Strength'!$B$6=\"\",\"\",'Compressive Strength'!$B$6)","v":"Tex-120-E : PART (I or II) or Tex-121-E PART (I, II, or III)"},{"$f":"IF( 'Compressive Strength'!$B$21=\"\",\"\", 'Compressive Strength'!$B$21)","v":"Performed By  :"},{"$f":"IF('Compressive Strength'!$B$41=\"\",\"\",'Compressive Strength'!$B$41)","v":"Piston Correction, lbs.:"},{"$f":"IF('Compressive Strength'!$J$24=\"\",\"\",'Compressive Strength'!$J$24)","v":2},{"$f":"IF('Compressive Strength'!$L$26=\"\",\"\",'Compressive Strength'!$L$26)","v":"2-3"}]
[199,{"$f":"IF('Compressive Strength'!$M$41=\"\",\"\",'Compressive Strength'!$M$41)","v":""},{"$f":"IF('Compressive Strength'!$B$6=\"\",\"\",'Compressive Strength'!$B$6)","v":"Tex-120-E : PART (I or II) or Tex-121-E PART (I, II, or III)"},{"$f":"IF( 'Compressive Strength'!$B$21=\"\",\"\", 'Compressive Strength'!$B$21)","v":"Performed By  :"},{"$f":"IF('Compressive Strength'!$B$41=\"\",\"\",'Compressive Strength'!$B$41)","v":"Piston Correction, lbs.:"},{"$f":"IF('Compressive Strength'!$M$24=\"\",\"\",'Compressive Strength'!$M$24)","v":3},{"$f":"IF('Compressive Strength'!$M$26=\"\",\"\",'Compressive Strength'!$M$26)","v":"3-1"}]
[200,{"$f":"IF('Compressive Strength'!$N$41=\"\",\"\",'Compressive Strength'!$N$41)","v":""},{"$f":"IF('Compressive Strength'!$B$6=\"\",\"\",'Compressive Strength'!$B$6)","v":"Tex-120-E : PART (I or II) or Tex-121-E PART (I, II, or III)"},{"$f":"IF( 'Compressive Strength'!$B$21=\"\",\"\", 'Compressive Strength'!$B$21)","v":"Performed By  :"},{"$f":"IF('Compressive Strength'!$B$41=\"\",\"\",'Compressive Strength'!$B$41)","v":"Piston Correction, lbs.:"},{"$f":"IF('Compressive Strength'!$M$24=\"\",\"\",'Compressive Strength'!$M$24)","v":3},{"$f":"IF('Compressive Strength'!$N$26=\"\",\"\",'Compressive Strength'!$N$26)","v":"3-2"}]
[201,{"$f":"IF('Compressive Strength'!$O$41=\"\",\"\",'Compressive Strength'!$O$41)","v":""},{"$f":"IF('Compressive Strength'!$B$6=\"\",\"\",'Compressive Strength'!$B$6)","v":"Tex-120-E : PART (I or II) or Tex-121-E PART (I, II, or III)"},{"$f":"IF( 'Compressive Strength'!$B$21=\"\",\"\", 'Compressive Strength'!$B$21)","v":"Performed By  :"},{"$f":"IF('Compressive Strength'!$B$41=\"\",\"\",'Compressive Strength'!$B$41)","v":"Piston Correction, lbs.:"},{"$f":"IF('Compressive Strength'!$M$24=\"\",\"\",'Compressive Strength'!$M$24)","v":3},{"$f":"IF('Compressive Strength'!$O$26=\"\",\"\",'Compressive Strength'!$O$26)","v":"3-3"}]
[202,{"$f":"IF('Compressive Strength'!$P$41=\"\",\"\",'Compressive Strength'!$P$41)","v":""},{"$f":"IF('Compressive Strength'!$B$6=\"\",\"\",'Compressive Strength'!$B$6)","v":"Tex-120-E : PART (I or II) or Tex-121-E PART (I, II, or III)"},{"$f":"IF( 'Compressive Strength'!$B$21=\"\",\"\", 'Compressive Strength'!$B$21)","v":"Performed By  :"},{"$f":"IF('Compressive Strength'!$B$41=\"\",\"\",'Compressive Strength'!$B$41)","v":"Piston Correction, lbs.:"},{"$f":"IF('Compressive Strength'!$P$24=\"\",\"\",'Compressive Strength'!$P$24)","v":4},{"$f":"IF('Compressive Strength'!$P$26=\"\",\"\",'Compressive Strength'!$P$26)","v":"4-1"}]
[203,{"$f":"IF('Compressive Strength'!$Q$41=\"\",\"\",'Compressive Strength'!$Q$41)","v":""},{"$f":"IF('Compressive Strength'!$B$6=\"\",\"\",'Compressive Strength'!$B$6)","v":"Tex-120-E : PART (I or II) or Tex-121-E PART (I, II, or III)"},{"$f":"IF( 'Compressive Strength'!$B$21=\"\",\"\", 'Compressive Strength'!$B$21)","v":"Performed By  :"},{"$f":"IF('Compressive Strength'!$B$41=\"\",\"\",'Compressive Strength'!$B$41)","v":"Piston Correction, lbs.:"},{"$f":"IF('Compressive Strength'!$P$24=\"\",\"\",'Compressive Strength'!$P$24)","v":4},{"$f":"IF('Compressive Strength'!$Q$26=\"\",\"\",'Compressive Strength'!$Q$26)","v":"4-2"}]
[204,{"$f":"IF('Compressive Strength'!$R$41=\"\",\"\",'Compressive Strength'!$R$41)","v":""},{"$f":"IF('Compressive Strength'!$B$6=\"\",\"\",'Compressive Strength'!$B$6)","v":"Tex-120-E : PART (I or II) or Tex-121-E PART (I, II, or III)"},{"$f":"IF( 'Compressive Strength'!$B$21=\"\",\"\", 'Compressive Strength'!$B$21)","v":"Performed By  :"},{"$f":"IF('Compressive Strength'!$B$41=\"\",\"\",'Compressive Strength'!$B$41)","v":"Piston Correction, lbs.:"},{"$f":"IF('Compressive Strength'!$P$24=\"\",\"\",'Compressive Strength'!$P$24)","v":4},{"$f":"IF('Compressive Strength'!$R$26=\"\",\"\",'Compressive Strength'!$R$26)","v":"4-3"}]
[205,{"$f":"IF('Compressive Strength'!$G$42=\"\",\"\",'Compressive Strength'!$G$42)","v":""},{"$f":"IF('Compressive Strength'!$B$6=\"\",\"\",'Compressive Strength'!$B$6)","v":"Tex-120-E : PART (I or II) or Tex-121-E PART (I, II, or III)"},{"$f":"IF( 'Compressive Strength'!$B$21=\"\",\"\", 'Compressive Strength'!$B$21)","v":"Performed By  :"},{"$f":"IF('Compressive Strength'!$B$42=\"\",\"\",'Compressive Strength'!$B$42)","v":"Max. Load Reading, div.:"},{"$f":"IF('Compressive Strength'!$G$24=\"\",\"\",'Compressive Strength'!$G$24)","v":1},{"$f":"IF('Compressive Strength'!$G$26=\"\",\"\",'Compressive Strength'!$G$26)","v":"1-1"}]
[206,{"$f":"IF('Compressive Strength'!$H$42=\"\",\"\",'Compressive Strength'!$H$42)","v":""},{"$f":"IF('Compressive Strength'!$B$6=\"\",\"\",'Compressive Strength'!$B$6)","v":"Tex-120-E : PART (I or II) or Tex-121-E PART (I, II, or III)"},{"$f":"IF( 'Compressive Strength'!$B$21=\"\",\"\", 'Compressive Strength'!$B$21)","v":"Performed By  :"},{"$f":"IF('Compressive Strength'!$B$42=\"\",\"\",'Compressive Strength'!$B$42)","v":"Max. Load Reading, div.:"},{"$f":"IF('Compressive Strength'!$G$24=\"\",\"\",'Compressive Strength'!$G$24)","v":1},{"$f":"IF('Compressive Strength'!$H$26=\"\",\"\",'Compressive Strength'!$H$26)","v":"1-2"}]
[207,{"$f":"IF('Compressive Strength'!$I$42=\"\",\"\",'Compressive Strength'!$I$42)","v":""},{"$f":"IF('Compressive Strength'!$B$6=\"\",\"\",'Compressive Strength'!$B$6)","v":"Tex-120-E : PART (I or II) or Tex-121-E PART (I, II, or III)"},{"$f":"IF( 'Compressive Strength'!$B$21=\"\",\"\", 'Compressive Strength'!$B$21)","v":"Performed By  :"},{"$f":"IF('Compressive Strength'!$B$42=\"\",\"\",'Compressive Strength'!$B$42)","v":"Max. Load Reading, div.:"},{"$f":"IF('Compressive Strength'!$G$24=\"\",\"\",'Compressive Strength'!$G$24)","v":1},{"$f":"IF('Compressive Strength'!$I$26=\"\",\"\",'Compressive Strength'!$I$26)","v":"1-3"}]
[208,{"$f":"IF('Compressive Strength'!$J$42=\"\",\"\",'Compressive Strength'!$J$42)","v":""},{"$f":"IF('Compressive Strength'!$B$6=\"\",\"\",'Compressive Strength'!$B$6)","v":"Tex-120-E : PART (I or II) or Tex-121-E PART (I, II, or III)"},{"$f":"IF( 'Compressive Strength'!$B$21=\"\",\"\", 'Compressive Strength'!$B$21)","v":"Performed By  :"},{"$f":"IF('Compressive Strength'!$B$42=\"\",\"\",'Compressive Strength'!$B$42)","v":"Max. Load Reading, div.:"},{"$f":"IF('Compressive Strength'!$J$24=\"\",\"\",'Compressive Strength'!$J$24)","v":2},{"$f":"IF('Compressive Strength'!$J$26=\"\",\"\",'Compressive Strength'!$J$26)","v":"2-1"}]
[209,{"$f":"IF('Compressive Strength'!$K$42=\"\",\"\",'Compressive Strength'!$K$42)","v":""},{"$f":"IF('Compressive Strength'!$B$6=\"\",\"\",'Compressive Strength'!$B$6)","v":"Tex-120-E : PART (I or II) or Tex-121-E PART (I, II, or III)"},{"$f":"IF( 'Compressive Strength'!$B$21=\"\",\"\", 'Compressive Strength'!$B$21)","v":"Performed By  :"},{"$f":"IF('Compressive Strength'!$B$42=\"\",\"\",'Compressive Strength'!$B$42)","v":"Max. Load Reading, div.:"},{"$f":"IF('Compressive Strength'!$J$24=\"\",\"\",'Compressive Strength'!$J$24)","v":2},{"$f":"IF('Compressive Strength'!$K$26=\"\",\"\",'Compressive Strength'!$K$26)","v":"2-2"}]
[210,{"$f":"IF('Compressive Strength'!$L$42=\"\",\"\",'Compressive Strength'!$L$42)","v":""},{"$f":"IF('Compressive Strength'!$B$6=\"\",\"\",'Compressive Strength'!$B$6)","v":"Tex-120-E : PART (I or II) or Tex-121-E PART (I, II, or III)"},{"$f":"IF( 'Compressive Strength'!$B$21=\"\",\"\", 'Compressive Strength'!$B$21)","v":"Performed By  :"},{"$f":"IF('Compressive Strength'!$B$42=\"\",\"\",'Compressive Strength'!$B$42)","v":"Max. Load Reading, div.:"},{"$f":"IF('Compressive Strength'!$J$24=\"\",\"\",'Compressive Strength'!$J$24)","v":2},{"$f":"IF('Compressive Strength'!$L$26=\"\",\"\",'Compressive Strength'!$L$26)","v":"2-3"}]
[211,{"$f":"IF('Compressive Strength'!$M$42=\"\",\"\",'Compressive Strength'!$M$42)","v":""},{"$f":"IF('Compressive Strength'!$B$6=\"\",\"\",'Compressive Strength'!$B$6)","v":"Tex-120-E : PART (I or II) or Tex-121-E PART (I, II, or III)"},{"$f":"IF( 'Compressive Strength'!$B$21=\"\",\"\", 'Compressive Strength'!$B$21)","v":"Performed By  :"},{"$f":"IF('Compressive Strength'!$B$42=\"\",\"\",'Compressive Strength'!$B$42)","v":"Max. Load Reading, div.:"},{"$f":"IF('Compressive Strength'!$M$24=\"\",\"\",'Compressive Strength'!$M$24)","v":3},{"$f":"IF('Compressive Strength'!$M$26=\"\",\"\",'Compressive Strength'!$M$26)","v":"3-1"}]
[212,{"$f":"IF('Compressive Strength'!$N$42=\"\",\"\",'Compressive Strength'!$N$42)","v":""},{"$f":"IF('Compressive Strength'!$B$6=\"\",\"\",'Compressive Strength'!$B$6)","v":"Tex-120-E : PART (I or II) or Tex-121-E PART (I, II, or III)"},{"$f":"IF( 'Compressive Strength'!$B$21=\"\",\"\", 'Compressive Strength'!$B$21)","v":"Performed By  :"},{"$f":"IF('Compressive Strength'!$B$42=\"\",\"\",'Compressive Strength'!$B$42)","v":"Max. Load Reading, div.:"},{"$f":"IF('Compressive Strength'!$M$24=\"\",\"\",'Compressive Strength'!$M$24)","v":3},{"$f":"IF('Compressive Strength'!$N$26=\"\",\"\",'Compressive Strength'!$N$26)","v":"3-2"}]
[213,{"$f":"IF('Compressive Strength'!$O$42=\"\",\"\",'Compressive Strength'!$O$42)","v":""},{"$f":"IF('Compressive Strength'!$B$6=\"\",\"\",'Compressive Strength'!$B$6)","v":"Tex-120-E : PART (I or II) or Tex-121-E PART (I, II, or III)"},{"$f":"IF( 'Compressive Strength'!$B$21=\"\",\"\", 'Compressive Strength'!$B$21)","v":"Performed By  :"},{"$f":"IF('Compressive Strength'!$B$42=\"\",\"\",'Compressive Strength'!$B$42)","v":"Max. Load Reading, div.:"},{"$f":"IF('Compressive Strength'!$M$24=\"\",\"\",'Compressive Strength'!$M$24)","v":3},{"$f":"IF('Compressive Strength'!$O$26=\"\",\"\",'Compressive Strength'!$O$26)","v":"3-3"}]
[214,{"$f":"IF('Compressive Strength'!$P$42=\"\",\"\",'Compressive Strength'!$P$42)","v":""},{"$f":"IF('Compressive Strength'!$B$6=\"\",\"\",'Compressive Strength'!$B$6)","v":"Tex-120-E : PART (I or II) or Tex-121-E PART (I, II, or III)"},{"$f":"IF( 'Compressive Strength'!$B$21=\"\",\"\", 'Compressive Strength'!$B$21)","v":"Performed By  :"},{"$f":"IF('Compressive Strength'!$B$42=\"\",\"\",'Compressive Strength'!$B$42)","v":"Max. Load Reading, div.:"},{"$f":"IF('Compressive Strength'!$P$24=\"\",\"\",'Compressive Strength'!$P$24)","v":4},{"$f":"IF('Compressive Strength'!$P$26=\"\",\"\",'Compressive Strength'!$P$26)","v":"4-1"}]
[215,{"$f":"IF('Compressive Strength'!$Q$42=\"\",\"\",'Compressive Strength'!$Q$42)","v":""},{"$f":"IF('Compressive Strength'!$B$6=\"\",\"\",'Compressive Strength'!$B$6)","v":"Tex-120-E : PART (I or II) or Tex-121-E PART (I, II, or III)"},{"$f":"IF( 'Compressive Strength'!$B$21=\"\",\"\", 'Compressive Strength'!$B$21)","v":"Performed By  :"},{"$f":"IF('Compressive Strength'!$B$42=\"\",\"\",'Compressive Strength'!$B$42)","v":"Max. Load Reading, div.:"},{"$f":"IF('Compressive Strength'!$P$24=\"\",\"\",'Compressive Strength'!$P$24)","v":4},{"$f":"IF('Compressive Strength'!$Q$26=\"\",\"\",'Compressive Strength'!$Q$26)","v":"4-2"}]
[216,{"$f":"IF('Compressive Strength'!$R$42=\"\",\"\",'Compressive Strength'!$R$42)","v":""},{"$f":"IF('Compressive Strength'!$B$6=\"\",\"\",'Compressive Strength'!$B$6)","v":"Tex-120-E : PART (I or II) or Tex-121-E PART (I, II, or III)"},{"$f":"IF( 'Compressive Strength'!$B$21=\"\",\"\", 'Compressive Strength'!$B$21)","v":"Performed By  :"},{"$f":"IF('Compressive Strength'!$B$42=\"\",\"\",'Compressive Strength'!$B$42)","v":"Max. Load Reading, div.:"},{"$f":"IF('Compressive Strength'!$P$24=\"\",\"\",'Compressive Strength'!$P$24)","v":4},{"$f":"IF('Compressive Strength'!$R$26=\"\",\"\",'Compressive Strength'!$R$26)","v":"4-3"}]
[217,{"$f":"IF('Compressive Strength'!$G$43=\"\",\"\",'Compressive Strength'!$G$43)","v":""},{"$f":"IF('Compressive Strength'!$B$6=\"\",\"\",'Compressive Strength'!$B$6)","v":"Tex-120-E : PART (I or II) or Tex-121-E PART (I, II, or III)"},{"$f":"IF( 'Compressive Strength'!$B$21=\"\",\"\", 'Compressive Strength'!$B$21)","v":"Performed By  :"},{"$f":"IF('Compressive Strength'!$B$43=\"\",\"\",'Compressive Strength'!$B$43)","v":"Max Load, lbs.:"},{"$f":"IF('Compressive Strength'!$G$24=\"\",\"\",'Compressive Strength'!$G$24)","v":1},{"$f":"IF('Compressive Strength'!$G$26=\"\",\"\",'Compressive Strength'!$G$26)","v":"1-1"}]
[218,{"$f":"IF('Compressive Strength'!$H$43=\"\",\"\",'Compressive Strength'!$H$43)","v":""},{"$f":"IF('Compressive Strength'!$B$6=\"\",\"\",'Compressive Strength'!$B$6)","v":"Tex-120-E : PART (I or II) or Tex-121-E PART (I, II, or III)"},{"$f":"IF( 'Compressive Strength'!$B$21=\"\",\"\", 'Compressive Strength'!$B$21)","v":"Performed By  :"},{"$f":"IF('Compressive Strength'!$B$43=\"\",\"\",'Compressive Strength'!$B$43)","v":"Max Load, lbs.:"},{"$f":"IF('Compressive Strength'!$G$24=\"\",\"\",'Compressive Strength'!$G$24)","v":1},{"$f":"IF('Compressive Strength'!$H$26=\"\",\"\",'Compressive Strength'!$H$26)","v":"1-2"}]
[219,{"$f":"IF('Compressive Strength'!$I$43=\"\",\"\",'Compressive Strength'!$I$43)","v":""},{"$f":"IF('Compressive Strength'!$B$6=\"\",\"\",'Compressive Strength'!$B$6)","v":"Tex-120-E : PART (I or II) or Tex-121-E PART (I, II, or III)"},{"$f":"IF( 'Compressive Strength'!$B$21=\"\",\"\", 'Compressive Strength'!$B$21)","v":"Performed By  :"},{"$f":"IF('Compressive Strength'!$B$43=\"\",\"\",'Compressive Strength'!$B$43)","v":"Max Load, lbs.:"},{"$f":"IF('Compressive Strength'!$G$24=\"\",\"\",'Compressive Strength'!$G$24)","v":1},{"$f":"IF('Compressive Strength'!$I$26=\"\",\"\",'Compressive Strength'!$I$26)","v":"1-3"}]
[220,{"$f":"IF('Compressive Strength'!$J$43=\"\",\"\",'Compressive Strength'!$J$43)","v":""},{"$f":"IF('Compressive Strength'!$B$6=\"\",\"\",'Compressive Strength'!$B$6)","v":"Tex-120-E : PART (I or II) or Tex-121-E PART (I, II, or III)"},{"$f":"IF( 'Compressive Strength'!$B$21=\"\",\"\", 'Compressive Strength'!$B$21)","v":"Performed By  :"},{"$f":"IF('Compressive Strength'!$B$43=\"\",\"\",'Compressive Strength'!$B$43)","v":"Max Load, lbs.:"},{"$f":"IF('Compressive Strength'!$J$24=\"\",\"\",'Compressive Strength'!$J$24)","v":2},{"$f":"IF('Compressive Strength'!$J$26=\"\",\"\",'Compressive Strength'!$J$26)","v":"2-1"}]
[221,{"$f":"IF('Compressive Strength'!$K$43=\"\",\"\",'Compressive Strength'!$K$43)","v":""},{"$f":"IF('Compressive Strength'!$B$6=\"\",\"\",'Compressive Strength'!$B$6)","v":"Tex-120-E : PART (I or II) or Tex-121-E PART (I, II, or III)"},{"$f":"IF( 'Compressive Strength'!$B$21=\"\",\"\", 'Compressive Strength'!$B$21)","v":"Performed By  :"},{"$f":"IF('Compressive Strength'!$B$43=\"\",\"\",'Compressive Strength'!$B$43)","v":"Max Load, lbs.:"},{"$f":"IF('Compressive Strength'!$J$24=\"\",\"\",'Compressive Strength'!$J$24)","v":2},{"$f":"IF('Compressive Strength'!$K$26=\"\",\"\",'Compressive Strength'!$K$26)","v":"2-2"}]
[222,{"$f":"IF('Compressive Strength'!$L$43=\"\",\"\",'Compressive Strength'!$L$43)","v":""},{"$f":"IF('Compressive Strength'!$B$6=\"\",\"\",'Compressive Strength'!$B$6)","v":"Tex-120-E : PART (I or II) or Tex-121-E PART (I, II, or III)"},{"$f":"IF( 'Compressive Strength'!$B$21=\"\",\"\", 'Compressive Strength'!$B$21)","v":"Performed By  :"},{"$f":"IF('Compressive Strength'!$B$43=\"\",\"\",'Compressive Strength'!$B$43)","v":"Max Load, lbs.:"},{"$f":"IF('Compressive Strength'!$J$24=\"\",\"\",'Compressive Strength'!$J$24)","v":2},{"$f":"IF('Compressive Strength'!$L$26=\"\",\"\",'Compressive Strength'!$L$26)","v":"2-3"}]
[223,{"$f":"IF('Compressive Strength'!$M$43=\"\",\"\",'Compressive Strength'!$M$43)","v":""},{"$f":"IF('Compressive Strength'!$B$6=\"\",\"\",'Compressive Strength'!$B$6)","v":"Tex-120-E : PART (I or II) or Tex-121-E PART (I, II, or III)"},{"$f":"IF( 'Compressive Strength'!$B$21=\"\",\"\", 'Compressive Strength'!$B$21)","v":"Performed By  :"},{"$f":"IF('Compressive Strength'!$B$43=\"\",\"\",'Compressive Strength'!$B$43)","v":"Max Load, lbs.:"},{"$f":"IF('Compressive Strength'!$M$24=\"\",\"\",'Compressive Strength'!$M$24)","v":3},{"$f":"IF('Compressive Strength'!$M$26=\"\",\"\",'Compressive Strength'!$M$26)","v":"3-1"}]
[224,{"$f":"IF('Compressive Strength'!$N$43=\"\",\"\",'Compressive Strength'!$N$43)","v":""},{"$f":"IF('Compressive Strength'!$B$6=\"\",\"\",'Compressive Strength'!$B$6)","v":"Tex-120-E : PART (I or II) or Tex-121-E PART (I, II, or III)"},{"$f":"IF( 'Compressive Strength'!$B$21=\"\",\"\", 'Compressive Strength'!$B$21)","v":"Performed By  :"},{"$f":"IF('Compressive Strength'!$B$43=\"\",\"\",'Compressive Strength'!$B$43)","v":"Max Load, lbs.:"},{"$f":"IF('Compressive Strength'!$M$24=\"\",\"\",'Compressive Strength'!$M$24)","v":3},{"$f":"IF('Compressive Strength'!$N$26=\"\",\"\",'Compressive Strength'!$N$26)","v":"3-2"}]
[225,{"$f":"IF('Compressive Strength'!$O$43=\"\",\"\",'Compressive Strength'!$O$43)","v":""},{"$f":"IF('Compressive Strength'!$B$6=\"\",\"\",'Compressive Strength'!$B$6)","v":"Tex-120-E : PART (I or II) or Tex-121-E PART (I, II, or III)"},{"$f":"IF( 'Compressive Strength'!$B$21=\"\",\"\", 'Compressive Strength'!$B$21)","v":"Performed By  :"},{"$f":"IF('Compressive Strength'!$B$43=\"\",\"\",'Compressive Strength'!$B$43)","v":"Max Load, lbs.:"},{"$f":"IF('Compressive Strength'!$M$24=\"\",\"\",'Compressive Strength'!$M$24)","v":3},{"$f":"IF('Compressive Strength'!$O$26=\"\",\"\",'Compressive Strength'!$O$26)","v":"3-3"}]
[226,{"$f":"IF('Compressive Strength'!$P$43=\"\",\"\",'Compressive Strength'!$P$43)","v":""},{"$f":"IF('Compressive Strength'!$B$6=\"\",\"\",'Compressive Strength'!$B$6)","v":"Tex-120-E : PART (I or II) or Tex-121-E PART (I, II, or III)"},{"$f":"IF( 'Compressive Strength'!$B$21=\"\",\"\", 'Compressive Strength'!$B$21)","v":"Performed By  :"},{"$f":"IF('Compressive Strength'!$B$43=\"\",\"\",'Compressive Strength'!$B$43)","v":"Max Load, lbs.:"},{"$f":"IF('Compressive Strength'!$P$24=\"\",\"\",'Compressive Strength'!$P$24)","v":4},{"$f":"IF('Compressive Strength'!$P$26=\"\",\"\",'Compressive Strength'!$P$26)","v":"4-1"}]
[227,{"$f":"IF('Compressive Strength'!$Q$43=\"\",\"\",'Compressive Strength'!$Q$43)","v":""},{"$f":"IF('Compressive Strength'!$B$6=\"\",\"\",'Compressive Strength'!$B$6)","v":"Tex-120-E : PART (I or II) or Tex-121-E PART (I, II, or III)"},{"$f":"IF( 'Compressive Strength'!$B$21=\"\",\"\", 'Compressive Strength'!$B$21)","v":"Performed By  :"},{"$f":"IF('Compressive Strength'!$B$43=\"\",\"\",'Compressive Strength'!$B$43)","v":"Max Load, lbs.:"},{"$f":"IF('Compressive Strength'!$P$24=\"\",\"\",'Compressive Strength'!$P$24)","v":4},{"$f":"IF('Compressive Strength'!$Q$26=\"\",\"\",'Compressive Strength'!$Q$26)","v":"4-2"}]
[228,{"$f":"IF('Compressive Strength'!$R$43=\"\",\"\",'Compressive Strength'!$R$43)","v":""},{"$f":"IF('Compressive Strength'!$B$6=\"\",\"\",'Compressive Strength'!$B$6)","v":"Tex-120-E : PART (I or II) or Tex-121-E PART (I, II, or III)"},{"$f":"IF( 'Compressive Strength'!$B$21=\"\",\"\", 'Compressive Strength'!$B$21)","v":"Performed By  :"},{"$f":"IF('Compressive Strength'!$B$43=\"\",\"\",'Compressive Strength'!$B$43)","v":"Max Load, lbs.:"},{"$f":"IF('Compressive Strength'!$P$24=\"\",\"\",'Compressive Strength'!$P$24)","v":4},{"$f":"IF('Compressive Strength'!$R$26=\"\",\"\",'Compressive Strength'!$R$26)","v":"4-3"}]
[229,{"$f":"IF('Compressive Strength'!$G$44=\"\",\"\",'Compressive Strength'!$G$44)","v":""},{"$f":"IF('Compressive Strength'!$B$6=\"\",\"\",'Compressive Strength'!$B$6)","v":"Tex-120-E : PART (I or II) or Tex-121-E PART (I, II, or III)"},{"$f":"IF( 'Compressive Strength'!$B$21=\"\",\"\", 'Compressive Strength'!$B$21)","v":"Performed By  :"},{"$f":"IF('Compressive Strength'!$B$44=\"\",\"\",'Compressive Strength'!$B$44)","v":"Deformation at Max Load, in.:"},{"$f":"IF('Compressive Strength'!$G$24=\"\",\"\",'Compressive Strength'!$G$24)","v":1},{"$f":"IF('Compressive Strength'!$G$26=\"\",\"\",'Compressive Strength'!$G$26)","v":"1-1"}]
[230,{"$f":"IF('Compressive Strength'!$H$44=\"\",\"\",'Compressive Strength'!$H$44)","v":""},{"$f":"IF('Compressive Strength'!$B$6=\"\",\"\",'Compressive Strength'!$B$6)","v":"Tex-120-E : PART (I or II) or Tex-121-E PART (I, II, or III)"},{"$f":"IF( 'Compressive Strength'!$B$21=\"\",\"\", 'Compressive Strength'!$B$21)","v":"Performed By  :"},{"$f":"IF('Compressive Strength'!$B$44=\"\",\"\",'Compressive Strength'!$B$44)","v":"Deformation at Max Load, in.:"},{"$f":"IF('Compressive Strength'!$G$24=\"\",\"\",'Compressive Strength'!$G$24)","v":1},{"$f":"IF('Compressive Strength'!$H$26=\"\",\"\",'Compressive Strength'!$H$26)","v":"1-2"}]
[231,{"$f":"IF('Compressive Strength'!$I$44=\"\",\"\",'Compressive Strength'!$I$44)","v":""},{"$f":"IF('Compressive Strength'!$B$6=\"\",\"\",'Compressive Strength'!$B$6)","v":"Tex-120-E : PART (I or II) or Tex-121-E PART (I, II, or III)"},{"$f":"IF( 'Compressive Strength'!$B$21=\"\",\"\", 'Compressive Strength'!$B$21)","v":"Performed By  :"},{"$f":"IF('Compressive Strength'!$B$44=\"\",\"\",'Compressive Strength'!$B$44)","v":"Deformation at Max Load, in.:"},{"$f":"IF('Compressive Strength'!$G$24=\"\",\"\",'Compressive Strength'!$G$24)","v":1},{"$f":"IF('Compressive Strength'!$I$26=\"\",\"\",'Compressive Strength'!$I$26)","v":"1-3"}]
[232,{"$f":"IF('Compressive Strength'!$J$44=\"\",\"\",'Compressive Strength'!$J$44)","v":""},{"$f":"IF('Compressive Strength'!$B$6=\"\",\"\",'Compressive Strength'!$B$6)","v":"Tex-120-E : PART (I or II) or Tex-121-E PART (I, II, or III)"},{"$f":"IF( 'Compressive Strength'!$B$21=\"\",\"\", 'Compressive Strength'!$B$21)","v":"Performed By  :"},{"$f":"IF('Compressive Strength'!$B$44=\"\",\"\",'Compressive Strength'!$B$44)","v":"Deformation at Max Load, in.:"},{"$f":"IF('Compressive Strength'!$J$24=\"\",\"\",'Compressive Strength'!$J$24)","v":2},{"$f":"IF('Compressive Strength'!$J$26=\"\",\"\",'Compressive Strength'!$J$26)","v":"2-1"}]
[233,{"$f":"IF('Compressive Strength'!$K$44=\"\",\"\",'Compressive Strength'!$K$44)","v":""},{"$f":"IF('Compressive Strength'!$B$6=\"\",\"\",'Compressive Strength'!$B$6)","v":"Tex-120-E : PART (I or II) or Tex-121-E PART (I, II, or III)"},{"$f":"IF( 'Compressive Strength'!$B$21=\"\",\"\", 'Compressive Strength'!$B$21)","v":"Performed By  :"},{"$f":"IF('Compressive Strength'!$B$44=\"\",\"\",'Compressive Strength'!$B$44)","v":"Deformation at Max Load, in.:"},{"$f":"IF('Compressive Strength'!$J$24=\"\",\"\",'Compressive Strength'!$J$24)","v":2},{"$f":"IF('Compressive Strength'!$K$26=\"\",\"\",'Compressive Strength'!$K$26)","v":"2-2"}]
[234,{"$f":"IF('Compressive Strength'!$L$44=\"\",\"\",'Compressive Strength'!$L$44)","v":""},{"$f":"IF('Compressive Strength'!$B$6=\"\",\"\",'Compressive Strength'!$B$6)","v":"Tex-120-E : PART (I or II) or Tex-121-E PART (I, II, or III)"},{"$f":"IF( 'Compressive Strength'!$B$21=\"\",\"\", 'Compressive Strength'!$B$21)","v":"Performed By  :"},{"$f":"IF('Compressive Strength'!$B$44=\"\",\"\",'Compressive Strength'!$B$44)","v":"Deformation at Max Load, in.:"},{"$f":"IF('Compressive Strength'!$J$24=\"\",\"\",'Compressive Strength'!$J$24)","v":2},{"$f":"IF('Compressive Strength'!$L$26=\"\",\"\",'Compressive Strength'!$L$26)","v":"2-3"}]
[235,{"$f":"IF('Compressive Strength'!$M$44=\"\",\"\",'Compressive Strength'!$M$44)","v":""},{"$f":"IF('Compressive Strength'!$B$6=\"\",\"\",'Compressive Strength'!$B$6)","v":"Tex-120-E : PART (I or II) or Tex-121-E PART (I, II, or III)"},{"$f":"IF( 'Compressive Strength'!$B$21=\"\",\"\", 'Compressive Strength'!$B$21)","v":"Performed By  :"},{"$f":"IF('Compressive Strength'!$B$44=\"\",\"\",'Compressive Strength'!$B$44)","v":"Deformation at Max Load, in.:"},{"$f":"IF('Compressive Strength'!$M$24=\"\",\"\",'Compressive Strength'!$M$24)","v":3},{"$f":"IF('Compressive Strength'!$M$26=\"\",\"\",'Compressive Strength'!$M$26)","v":"3-1"}]
[236,{"$f":"IF('Compressive Strength'!$N$44=\"\",\"\",'Compressive Strength'!$N$44)","v":""},{"$f":"IF('Compressive Strength'!$B$6=\"\",\"\",'Compressive Strength'!$B$6)","v":"Tex-120-E : PART (I or II) or Tex-121-E PART (I, II, or III)"},{"$f":"IF( 'Compressive Strength'!$B$21=\"\",\"\", 'Compressive Strength'!$B$21)","v":"Performed By  :"},{"$f":"IF('Compressive Strength'!$B$44=\"\",\"\",'Compressive Strength'!$B$44)","v":"Deformation at Max Load, in.:"},{"$f":"IF('Compressive Strength'!$M$24=\"\",\"\",'Compressive Strength'!$M$24)","v":3},{"$f":"IF('Compressive Strength'!$N$26=\"\",\"\",'Compressive Strength'!$N$26)","v":"3-2"}]
[237,{"$f":"IF('Compressive Strength'!$O$44=\"\",\"\",'Compressive Strength'!$O$44)","v":""},{"$f":"IF('Compressive Strength'!$B$6=\"\",\"\",'Compressive Strength'!$B$6)","v":"Tex-120-E : PART (I or II) or Tex-121-E PART (I, II, or III)"},{"$f":"IF( 'Compressive Strength'!$B$21=\"\",\"\", 'Compressive Strength'!$B$21)","v":"Performed By  :"},{"$f":"IF('Compressive Strength'!$B$44=\"\",\"\",'Compressive Strength'!$B$44)","v":"Deformation at Max Load, in.:"},{"$f":"IF('Compressive Strength'!$M$24=\"\",\"\",'Compressive Strength'!$M$24)","v":3},{"$f":"IF('Compressive Strength'!$O$26=\"\",\"\",'Compressive Strength'!$O$26)","v":"3-3"}]
[238,{"$f":"IF('Compressive Strength'!$P$44=\"\",\"\",'Compressive Strength'!$P$44)","v":""},{"$f":"IF('Compressive Strength'!$B$6=\"\",\"\",'Compressive Strength'!$B$6)","v":"Tex-120-E : PART (I or II) or Tex-121-E PART (I, II, or III)"},{"$f":"IF( 'Compressive Strength'!$B$21=\"\",\"\", 'Compressive Strength'!$B$21)","v":"Performed By  :"},{"$f":"IF('Compressive Strength'!$B$44=\"\",\"\",'Compressive Strength'!$B$44)","v":"Deformation at Max Load, in.:"},{"$f":"IF('Compressive Strength'!$P$24=\"\",\"\",'Compressive Strength'!$P$24)","v":4},{"$f":"IF('Compressive Strength'!$P$26=\"\",\"\",'Compressive Strength'!$P$26)","v":"4-1"}]
[239,{"$f":"IF('Compressive Strength'!$Q$44=\"\",\"\",'Compressive Strength'!$Q$44)","v":""},{"$f":"IF('Compressive Strength'!$B$6=\"\",\"\",'Compressive Strength'!$B$6)","v":"Tex-120-E : PART (I or II) or Tex-121-E PART (I, II, or III)"},{"$f":"IF( 'Compressive Strength'!$B$21=\"\",\"\", 'Compressive Strength'!$B$21)","v":"Performed By  :"},{"$f":"IF('Compressive Strength'!$B$44=\"\",\"\",'Compressive Strength'!$B$44)","v":"Deformation at Max Load, in.:"},{"$f":"IF('Compressive Strength'!$P$24=\"\",\"\",'Compressive Strength'!$P$24)","v":4},{"$f":"IF('Compressive Strength'!$Q$26=\"\",\"\",'Compressive Strength'!$Q$26)","v":"4-2"}]
[240,{"$f":"IF('Compressive Strength'!$R$44=\"\",\"\",'Compressive Strength'!$R$44)","v":""},{"$f":"IF('Compressive Strength'!$B$6=\"\",\"\",'Compressive Strength'!$B$6)","v":"Tex-120-E : PART (I or II) or Tex-121-E PART (I, II, or III)"},{"$f":"IF( 'Compressive Strength'!$B$21=\"\",\"\", 'Compressive Strength'!$B$21)","v":"Performed By  :"},{"$f":"IF('Compressive Strength'!$B$44=\"\",\"\",'Compressive Strength'!$B$44)","v":"Deformation at Max Load, in.:"},{"$f":"IF('Compressive Strength'!$P$24=\"\",\"\",'Compressive Strength'!$P$24)","v":4},{"$f":"IF('Compressive Strength'!$R$26=\"\",\"\",'Compressive Strength'!$R$26)","v":"4-3"}]
[241,{"$f":"IF('Compressive Strength'!$G$45=\"\",\"\",'Compressive Strength'!$G$45)","v":""},{"$f":"IF('Compressive Strength'!$B$6=\"\",\"\",'Compressive Strength'!$B$6)","v":"Tex-120-E : PART (I or II) or Tex-121-E PART (I, II, or III)"},{"$f":"IF( 'Compressive Strength'!$B$21=\"\",\"\", 'Compressive Strength'!$B$21)","v":"Performed By  :"},{"$f":"IF('Compressive Strength'!$B$45=\"\",\"\",'Compressive Strength'!$B$45)","v":"Max. Load Reading, div."},{"$f":"IF('Compressive Strength'!$G$24=\"\",\"\",'Compressive Strength'!$G$24)","v":1},{"$f":"IF('Compressive Strength'!$G$26=\"\",\"\",'Compressive Strength'!$G$26)","v":"1-1"}]
[242,{"$f":"IF('Compressive Strength'!$H$45=\"\",\"\",'Compressive Strength'!$H$45)","v":""},{"$f":"IF('Compressive Strength'!$B$6=\"\",\"\",'Compressive Strength'!$B$6)","v":"Tex-120-E : PART (I or II) or Tex-121-E PART (I, II, or III)"},{"$f":"IF( 'Compressive Strength'!$B$21=\"\",\"\", 'Compressive Strength'!$B$21)","v":"Performed By  :"},{"$f":"IF('Compressive Strength'!$B$45=\"\",\"\",'Compressive Strength'!$B$45)","v":"Max. Load Reading, div."},{"$f":"IF('Compressive Strength'!$G$24=\"\",\"\",'Compressive Strength'!$G$24)","v":1},{"$f":"IF('Compressive Strength'!$H$26=\"\",\"\",'Compressive Strength'!$H$26)","v":"1-2"}]
[243,{"$f":"IF('Compressive Strength'!$I$45=\"\",\"\",'Compressive Strength'!$I$45)","v":""},{"$f":"IF('Compressive Strength'!$B$6=\"\",\"\",'Compressive Strength'!$B$6)","v":"Tex-120-E : PART (I or II) or Tex-121-E PART (I, II, or III)"},{"$f":"IF( 'Compressive Strength'!$B$21=\"\",\"\", 'Compressive Strength'!$B$21)","v":"Performed By  :"},{"$f":"IF('Compressive Strength'!$B$45=\"\",\"\",'Compressive Strength'!$B$45)","v":"Max. Load Reading, div."},{"$f":"IF('Compressive Strength'!$G$24=\"\",\"\",'Compressive Strength'!$G$24)","v":1},{"$f":"IF('Compressive Strength'!$I$26=\"\",\"\",'Compressive Strength'!$I$26)","v":"1-3"}]
[244,{"$f":"IF('Compressive Strength'!$J$45=\"\",\"\",'Compressive Strength'!$J$45)","v":""},{"$f":"IF('Compressive Strength'!$B$6=\"\",\"\",'Compressive Strength'!$B$6)","v":"Tex-120-E : PART (I or II) or Tex-121-E PART (I, II, or III)"},{"$f":"IF( 'Compressive Strength'!$B$21=\"\",\"\", 'Compressive Strength'!$B$21)","v":"Performed By  :"},{"$f":"IF('Compressive Strength'!$B$45=\"\",\"\",'Compressive Strength'!$B$45)","v":"Max. Load Reading, div."},{"$f":"IF('Compressive Strength'!$J$24=\"\",\"\",'Compressive Strength'!$J$24)","v":2},{"$f":"IF('Compressive Strength'!$J$26=\"\",\"\",'Compressive Strength'!$J$26)","v":"2-1"}]
[245,{"$f":"IF('Compressive Strength'!$K$45=\"\",\"\",'Compressive Strength'!$K$45)","v":""},{"$f":"IF('Compressive Strength'!$B$6=\"\",\"\",'Compressive Strength'!$B$6)","v":"Tex-120-E : PART (I or II) or Tex-121-E PART (I, II, or III)"},{"$f":"IF( 'Compressive Strength'!$B$21=\"\",\"\", 'Compressive Strength'!$B$21)","v":"Performed By  :"},{"$f":"IF('Compressive Strength'!$B$45=\"\",\"\",'Compressive Strength'!$B$45)","v":"Max. Load Reading, div."},{"$f":"IF('Compressive Strength'!$J$24=\"\",\"\",'Compressive Strength'!$J$24)","v":2},{"$f":"IF('Compressive Strength'!$K$26=\"\",\"\",'Compressive Strength'!$K$26)","v":"2-2"}]
[246,{"$f":"IF('Compressive Strength'!$L$45=\"\",\"\",'Compressive Strength'!$L$45)","v":""},{"$f":"IF('Compressive Strength'!$B$6=\"\",\"\",'Compressive Strength'!$B$6)","v":"Tex-120-E : PART (I or II) or Tex-121-E PART (I, II, or III)"},{"$f":"IF( 'Compressive Strength'!$B$21=\"\",\"\", 'Compressive Strength'!$B$21)","v":"Performed By  :"},{"$f":"IF('Compressive Strength'!$B$45=\"\",\"\",'Compressive Strength'!$B$45)","v":"Max. Load Reading, div."},{"$f":"IF('Compressive Strength'!$J$24=\"\",\"\",'Compressive Strength'!$J$24)","v":2},{"$f":"IF('Compressive Strength'!$L$26=\"\",\"\",'Compressive Strength'!$L$26)","v":"2-3"}]
[247,{"$f":"IF('Compressive Strength'!$M$45=\"\",\"\",'Compressive Strength'!$M$45)","v":""},{"$f":"IF('Compressive Strength'!$B$6=\"\",\"\",'Compressive Strength'!$B$6)","v":"Tex-120-E : PART (I or II) or Tex-121-E PART (I, II, or III)"},{"$f":"IF( 'Compressive Strength'!$B$21=\"\",\"\", 'Compressive Strength'!$B$21)","v":"Performed By  :"},{"$f":"IF('Compressive Strength'!$B$45=\"\",\"\",'Compressive Strength'!$B$45)","v":"Max. Load Reading, div."},{"$f":"IF('Compressive Strength'!$M$24=\"\",\"\",'Compressive Strength'!$M$24)","v":3},{"$f":"IF('Compressive Strength'!$M$26=\"\",\"\",'Compressive Strength'!$M$26)","v":"3-1"}]
[248,{"$f":"IF('Compressive Strength'!$N$45=\"\",\"\",'Compressive Strength'!$N$45)","v":""},{"$f":"IF('Compressive Strength'!$B$6=\"\",\"\",'Compressive Strength'!$B$6)","v":"Tex-120-E : PART (I or II) or Tex-121-E PART (I, II, or III)"},{"$f":"IF( 'Compressive Strength'!$B$21=\"\",\"\", 'Compressive Strength'!$B$21)","v":"Performed By  :"},{"$f":"IF('Compressive Strength'!$B$45=\"\",\"\",'Compressive Strength'!$B$45)","v":"Max. Load Reading, div."},{"$f":"IF('Compressive Strength'!$M$24=\"\",\"\",'Compressive Strength'!$M$24)","v":3},{"$f":"IF('Compressive Strength'!$N$26=\"\",\"\",'Compressive Strength'!$N$26)","v":"3-2"}]
[249,{"$f":"IF('Compressive Strength'!$O$45=\"\",\"\",'Compressive Strength'!$O$45)","v":""},{"$f":"IF('Compressive Strength'!$B$6=\"\",\"\",'Compressive Strength'!$B$6)","v":"Tex-120-E : PART (I or II) or Tex-121-E PART (I, II, or III)"},{"$f":"IF( 'Compressive Strength'!$B$21=\"\",\"\", 'Compressive Strength'!$B$21)","v":"Performed By  :"},{"$f":"IF('Compressive Strength'!$B$45=\"\",\"\",'Compressive Strength'!$B$45)","v":"Max. Load Reading, div."},{"$f":"IF('Compressive Strength'!$M$24=\"\",\"\",'Compressive Strength'!$M$24)","v":3},{"$f":"IF('Compressive Strength'!$O$26=\"\",\"\",'Compressive Strength'!$O$26)","v":"3-3"}]
[250,{"$f":"IF('Compressive Strength'!$P$45=\"\",\"\",'Compressive Strength'!$P$45)","v":""},{"$f":"IF('Compressive Strength'!$B$6=\"\",\"\",'Compressive Strength'!$B$6)","v":"Tex-120-E : PART (I or II) or Tex-121-E PART (I, II, or III)"},{"$f":"IF( 'Compressive Strength'!$B$21=\"\",\"\", 'Compressive Strength'!$B$21)","v":"Performed By  :"},{"$f":"IF('Compressive Strength'!$B$45=\"\",\"\",'Compressive Strength'!$B$45)","v":"Max. Load Reading, div."},{"$f":"IF('Compressive Strength'!$P$24=\"\",\"\",'Compressive Strength'!$P$24)","v":4},{"$f":"IF('Compressive Strength'!$P$26=\"\",\"\",'Compressive Strength'!$P$26)","v":"4-1"}]
[251,{"$f":"IF('Compressive Strength'!$Q$45=\"\",\"\",'Compressive Strength'!$Q$45)","v":""},{"$f":"IF('Compressive Strength'!$B$6=\"\",\"\",'Compressive Strength'!$B$6)","v":"Tex-120-E : PART (I or II) or Tex-121-E PART (I, II, or III)"},{"$f":"IF( 'Compressive Strength'!$B$21=\"\",\"\", 'Compressive Strength'!$B$21)","v":"Performed By  :"},{"$f":"IF('Compressive Strength'!$B$45=\"\",\"\",'Compressive Strength'!$B$45)","v":"Max. Load Reading, div."},{"$f":"IF('Compressive Strength'!$P$24=\"\",\"\",'Compressive Strength'!$P$24)","v":4},{"$f":"IF('Compressive Strength'!$Q$26=\"\",\"\",'Compressive Strength'!$Q$26)","v":"4-2"}]
[252,{"$f":"IF('Compressive Strength'!$R$45=\"\",\"\",'Compressive Strength'!$R$45)","v":""},{"$f":"IF('Compressive Strength'!$B$6=\"\",\"\",'Compressive Strength'!$B$6)","v":"Tex-120-E : PART (I or II) or Tex-121-E PART (I, II, or III)"},{"$f":"IF( 'Compressive Strength'!$B$21=\"\",\"\", 'Compressive Strength'!$B$21)","v":"Performed By  :"},{"$f":"IF('Compressive Strength'!$B$45=\"\",\"\",'Compressive Strength'!$B$45)","v":"Max. Load Reading, div."},{"$f":"IF('Compressive Strength'!$P$24=\"\",\"\",'Compressive Strength'!$P$24)","v":4},{"$f":"IF('Compressive Strength'!$R$26=\"\",\"\",'Compressive Strength'!$R$26)","v":"4-3"}]
[253,{"$f":"IF('Compressive Strength'!$G$46=\"\",\"\",'Compressive Strength'!$G$46)","v":""},{"$f":"IF('Compressive Strength'!$B$6=\"\",\"\",'Compressive Strength'!$B$6)","v":"Tex-120-E : PART (I or II) or Tex-121-E PART (I, II, or III)"},{"$f":"IF( 'Compressive Strength'!$B$21=\"\",\"\", 'Compressive Strength'!$B$21)","v":"Performed By  :"},{"$f":"IF('Compressive Strength'!$B$46=\"\",\"\",'Compressive Strength'!$B$46)","v":"Deformation at Max Load, in."},{"$f":"IF('Compressive Strength'!$G$24=\"\",\"\",'Compressive Strength'!$G$24)","v":1},{"$f":"IF('Compressive Strength'!$G$26=\"\",\"\",'Compressive Strength'!$G$26)","v":"1-1"}]
[254,{"$f":"IF('Compressive Strength'!$H$46=\"\",\"\",'Compressive Strength'!$H$46)","v":""},{"$f":"IF('Compressive Strength'!$B$6=\"\",\"\",'Compressive Strength'!$B$6)","v":"Tex-120-E : PART (I or II) or Tex-121-E PART (I, II, or III)"},{"$f":"IF( 'Compressive Strength'!$B$21=\"\",\"\", 'Compressive Strength'!$B$21)","v":"Performed By  :"},{"$f":"IF('Compressive Strength'!$B$46=\"\",\"\",'Compressive Strength'!$B$46)","v":"Deformation at Max Load, in."},{"$f":"IF('Compressive Strength'!$G$24=\"\",\"\",'Compressive Strength'!$G$24)","v":1},{"$f":"IF('Compressive Strength'!$H$26=\"\",\"\",'Compressive Strength'!$H$26)","v":"1-2"}]
[255,{"$f":"IF('Compressive Strength'!$I$46=\"\",\"\",'Compressive Strength'!$I$46)","v":""},{"$f":"IF('Compressive Strength'!$B$6=\"\",\"\",'Compressive Strength'!$B$6)","v":"Tex-120-E : PART (I or II) or Tex-121-E PART (I, II, or III)"},{"$f":"IF( 'Compressive Strength'!$B$21=\"\",\"\", 'Compressive Strength'!$B$21)","v":"Performed By  :"},{"$f":"IF('Compressive Strength'!$B$46=\"\",\"\",'Compressive Strength'!$B$46)","v":"Deformation at Max Load, in."},{"$f":"IF('Compressive Strength'!$G$24=\"\",\"\",'Compressive Strength'!$G$24)","v":1},{"$f":"IF('Compressive Strength'!$I$26=\"\",\"\",'Compressive Strength'!$I$26)","v":"1-3"}]
[256,{"$f":"IF('Compressive Strength'!$J$46=\"\",\"\",'Compressive Strength'!$J$46)","v":""},{"$f":"IF('Compressive Strength'!$B$6=\"\",\"\",'Compressive Strength'!$B$6)","v":"Tex-120-E : PART (I or II) or Tex-121-E PART (I, II, or III)"},{"$f":"IF( 'Compressive Strength'!$B$21=\"\",\"\", 'Compressive Strength'!$B$21)","v":"Performed By  :"},{"$f":"IF('Compressive Strength'!$B$46=\"\",\"\",'Compressive Strength'!$B$46)","v":"Deformation at Max Load, in."},{"$f":"IF('Compressive Strength'!$J$24=\"\",\"\",'Compressive Strength'!$J$24)","v":2},{"$f":"IF('Compressive Strength'!$J$26=\"\",\"\",'Compressive Strength'!$J$26)","v":"2-1"}]
[257,{"$f":"IF('Compressive Strength'!$K$46=\"\",\"\",'Compressive Strength'!$K$46)","v":""},{"$f":"IF('Compressive Strength'!$B$6=\"\",\"\",'Compressive Strength'!$B$6)","v":"Tex-120-E : PART (I or II) or Tex-121-E PART (I, II, or III)"},{"$f":"IF( 'Compressive Strength'!$B$21=\"\",\"\", 'Compressive Strength'!$B$21)","v":"Performed By  :"},{"$f":"IF('Compressive Strength'!$B$46=\"\",\"\",'Compressive Strength'!$B$46)","v":"Deformation at Max Load, in."},{"$f":"IF('Compressive Strength'!$J$24=\"\",\"\",'Compressive Strength'!$J$24)","v":2},{"$f":"IF('Compressive Strength'!$K$26=\"\",\"\",'Compressive Strength'!$K$26)","v":"2-2"}]
[258,{"$f":"IF('Compressive Strength'!$L$46=\"\",\"\",'Compressive Strength'!$L$46)","v":""},{"$f":"IF('Compressive Strength'!$B$6=\"\",\"\",'Compressive Strength'!$B$6)","v":"Tex-120-E : PART (I or II) or Tex-121-E PART (I, II, or III)"},{"$f":"IF( 'Compressive Strength'!$B$21=\"\",\"\", 'Compressive Strength'!$B$21)","v":"Performed By  :"},{"$f":"IF('Compressive Strength'!$B$46=\"\",\"\",'Compressive Strength'!$B$46)","v":"Deformation at Max Load, in."},{"$f":"IF('Compressive Strength'!$J$24=\"\",\"\",'Compressive Strength'!$J$24)","v":2},{"$f":"IF('Compressive Strength'!$L$26=\"\",\"\",'Compressive Strength'!$L$26)","v":"2-3"}]
[259,{"$f":"IF('Compressive Strength'!$M$46=\"\",\"\",'Compressive Strength'!$M$46)","v":""},{"$f":"IF('Compressive Strength'!$B$6=\"\",\"\",'Compressive Strength'!$B$6)","v":"Tex-120-E : PART (I or II) or Tex-121-E PART (I, II, or III)"},{"$f":"IF( 'Compressive Strength'!$B$21=\"\",\"\", 'Compressive Strength'!$B$21)","v":"Performed By  :"},{"$f":"IF('Compressive Strength'!$B$46=\"\",\"\",'Compressive Strength'!$B$46)","v":"Deformation at Max Load, in."},{"$f":"IF('Compressive Strength'!$M$24=\"\",\"\",'Compressive Strength'!$M$24)","v":3},{"$f":"IF('Compressive Strength'!$M$26=\"\",\"\",'Compressive Strength'!$M$26)","v":"3-1"}]
[260,{"$f":"IF('Compressive Strength'!$N$46=\"\",\"\",'Compressive Strength'!$N$46)","v":""},{"$f":"IF('Compressive Strength'!$B$6=\"\",\"\",'Compressive Strength'!$B$6)","v":"Tex-120-E : PART (I or II) or Tex-121-E PART (I, II, or III)"},{"$f":"IF( 'Compressive Strength'!$B$21=\"\",\"\", 'Compressive Strength'!$B$21)","v":"Performed By  :"},{"$f":"IF('Compressive Strength'!$B$46=\"\",\"\",'Compressive Strength'!$B$46)","v":"Deformation at Max Load, in."},{"$f":"IF('Compressive Strength'!$M$24=\"\",\"\",'Compressive Strength'!$M$24)","v":3},{"$f":"IF('Compressive Strength'!$N$26=\"\",\"\",'Compressive Strength'!$N$26)","v":"3-2"}]
[261,{"$f":"IF('Compressive Strength'!$O$46=\"\",\"\",'Compressive Strength'!$O$46)","v":""},{"$f":"IF('Compressive Strength'!$B$6=\"\",\"\",'Compressive Strength'!$B$6)","v":"Tex-120-E : PART (I or II) or Tex-121-E PART (I, II, or III)"},{"$f":"IF( 'Compressive Strength'!$B$21=\"\",\"\", 'Compressive Strength'!$B$21)","v":"Performed By  :"},{"$f":"IF('Compressive Strength'!$B$46=\"\",\"\",'Compressive Strength'!$B$46)","v":"Deformation at Max Load, in."},{"$f":"IF('Compressive Strength'!$M$24=\"\",\"\",'Compressive Strength'!$M$24)","v":3},{"$f":"IF('Compressive Strength'!$O$26=\"\",\"\",'Compressive Strength'!$O$26)","v":"3-3"}]
[262,{"$f":"IF('Compressive Strength'!$P$46=\"\",\"\",'Compressive Strength'!$P$46)","v":""},{"$f":"IF('Compressive Strength'!$B$6=\"\",\"\",'Compressive Strength'!$B$6)","v":"Tex-120-E : PART (I or II) or Tex-121-E PART (I, II, or III)"},{"$f":"IF( 'Compressive Strength'!$B$21=\"\",\"\", 'Compressive Strength'!$B$21)","v":"Performed By  :"},{"$f":"IF('Compressive Strength'!$B$46=\"\",\"\",'Compressive Strength'!$B$46)","v":"Deformation at Max Load, in."},{"$f":"IF('Compressive Strength'!$P$24=\"\",\"\",'Compressive Strength'!$P$24)","v":4},{"$f":"IF('Compressive Strength'!$P$26=\"\",\"\",'Compressive Strength'!$P$26)","v":"4-1"}]
[263,{"$f":"IF('Compressive Strength'!$Q$46=\"\",\"\",'Compressive Strength'!$Q$46)","v":""},{"$f":"IF('Compressive Strength'!$B$6=\"\",\"\",'Compressive Strength'!$B$6)","v":"Tex-120-E : PART (I or II) or Tex-121-E PART (I, II, or III)"},{"$f":"IF( 'Compressive Strength'!$B$21=\"\",\"\", 'Compressive Strength'!$B$21)","v":"Performed By  :"},{"$f":"IF('Compressive Strength'!$B$46=\"\",\"\",'Compressive Strength'!$B$46)","v":"Deformation at Max Load, in."},{"$f":"IF('Compressive Strength'!$P$24=\"\",\"\",'Compressive Strength'!$P$24)","v":4},{"$f":"IF('Compressive Strength'!$Q$26=\"\",\"\",'Compressive Strength'!$Q$26)","v":"4-2"}]
[264,{"$f":"IF('Compressive Strength'!$R$46=\"\",\"\",'Compressive Strength'!$R$46)","v":""},{"$f":"IF('Compressive Strength'!$B$6=\"\",\"\",'Compressive Strength'!$B$6)","v":"Tex-120-E : PART (I or II) or Tex-121-E PART (I, II, or III)"},{"$f":"IF( 'Compressive Strength'!$B$21=\"\",\"\", 'Compressive Strength'!$B$21)","v":"Performed By  :"},{"$f":"IF('Compressive Strength'!$B$46=\"\",\"\",'Compressive Strength'!$B$46)","v":"Deformation at Max Load, in."},{"$f":"IF('Compressive Strength'!$P$24=\"\",\"\",'Compressive Strength'!$P$24)","v":4},{"$f":"IF('Compressive Strength'!$R$26=\"\",\"\",'Compressive Strength'!$R$26)","v":"4-3"}]
[265,{"$f":"IF('Compressive Strength'!$G$47=\"\",\"\",'Compressive Strength'!$G$47)","v":""},{"$f":"IF('Compressive Strength'!$B$6=\"\",\"\",'Compressive Strength'!$B$6)","v":"Tex-120-E : PART (I or II) or Tex-121-E PART (I, II, or III)"},{"$f":"IF( 'Compressive Strength'!$B$21=\"\",\"\", 'Compressive Strength'!$B$21)","v":"Performed By  :"},{"$f":"IF('Compressive Strength'!$B$47=\"\",\"\",'Compressive Strength'!$B$47)","v":"Uncorr'd Stress, psi.:"},{"$f":"IF('Compressive Strength'!$G$24=\"\",\"\",'Compressive Strength'!$G$24)","v":1},{"$f":"IF('Compressive Strength'!$G$26=\"\",\"\",'Compressive Strength'!$G$26)","v":"1-1"}]
[266,{"$f":"IF('Compressive Strength'!$H$47=\"\",\"\",'Compressive Strength'!$H$47)","v":""},{"$f":"IF('Compressive Strength'!$B$6=\"\",\"\",'Compressive Strength'!$B$6)","v":"Tex-120-E : PART (I or II) or Tex-121-E PART (I, II, or III)"},{"$f":"IF( 'Compressive Strength'!$B$21=\"\",\"\", 'Compressive Strength'!$B$21)","v":"Performed By  :"},{"$f":"IF('Compressive Strength'!$B$47=\"\",\"\",'Compressive Strength'!$B$47)","v":"Uncorr'd Stress, psi.:"},{"$f":"IF('Compressive Strength'!$G$24=\"\",\"\",'Compressive Strength'!$G$24)","v":1},{"$f":"IF('Compressive Strength'!$H$26=\"\",\"\",'Compressive Strength'!$H$26)","v":"1-2"}]
[267,{"$f":"IF('Compressive Strength'!$I$47=\"\",\"\",'Compressive Strength'!$I$47)","v":""},{"$f":"IF('Compressive Strength'!$B$6=\"\",\"\",'Compressive Strength'!$B$6)","v":"Tex-120-E : PART (I or II) or Tex-121-E PART (I, II, or III)"},{"$f":"IF( 'Compressive Strength'!$B$21=\"\",\"\", 'Compressive Strength'!$B$21)","v":"Performed By  :"},{"$f":"IF('Compressive Strength'!$B$47=\"\",\"\",'Compressive Strength'!$B$47)","v":"Uncorr'd Stress, psi.:"},{"$f":"IF('Compressive Strength'!$G$24=\"\",\"\",'Compressive Strength'!$G$24)","v":1},{"$f":"IF('Compressive Strength'!$I$26=\"\",\"\",'Compressive Strength'!$I$26)","v":"1-3"}]
[268,{"$f":"IF('Compressive Strength'!$J$47=\"\",\"\",'Compressive Strength'!$J$47)","v":""},{"$f":"IF('Compressive Strength'!$B$6=\"\",\"\",'Compressive Strength'!$B$6)","v":"Tex-120-E : PART (I or II) or Tex-121-E PART (I, II, or III)"},{"$f":"IF( 'Compressive Strength'!$B$21=\"\",\"\", 'Compressive Strength'!$B$21)","v":"Performed By  :"},{"$f":"IF('Compressive Strength'!$B$47=\"\",\"\",'Compressive Strength'!$B$47)","v":"Uncorr'd Stress, psi.:"},{"$f":"IF('Compressive Strength'!$J$24=\"\",\"\",'Compressive Strength'!$J$24)","v":2},{"$f":"IF('Compressive Strength'!$J$26=\"\",\"\",'Compressive Strength'!$J$26)","v":"2-1"}]
[269,{"$f":"IF('Compressive Strength'!$K$47=\"\",\"\",'Compressive Strength'!$K$47)","v":""},{"$f":"IF('Compressive Strength'!$B$6=\"\",\"\",'Compressive Strength'!$B$6)","v":"Tex-120-E : PART (I or II) or Tex-121-E PART (I, II, or III)"},{"$f":"IF( 'Compressive Strength'!$B$21=\"\",\"\", 'Compressive Strength'!$B$21)","v":"Performed By  :"},{"$f":"IF('Compressive Strength'!$B$47=\"\",\"\",'Compressive Strength'!$B$47)","v":"Uncorr'd Stress, psi.:"},{"$f":"IF('Compressive Strength'!$J$24=\"\",\"\",'Compressive Strength'!$J$24)","v":2},{"$f":"IF('Compressive Strength'!$K$26=\"\",\"\",'Compressive Strength'!$K$26)","v":"2-2"}]
[270,{"$f":"IF('Compressive Strength'!$L$47=\"\",\"\",'Compressive Strength'!$L$47)","v":""},{"$f":"IF('Compressive Strength'!$B$6=\"\",\"\",'Compressive Strength'!$B$6)","v":"Tex-120-E : PART (I or II) or Tex-121-E PART (I, II, or III)"},{"$f":"IF( 'Compressive Strength'!$B$21=\"\",\"\", 'Compressive Strength'!$B$21)","v":"Performed By  :"},{"$f":"IF('Compressive Strength'!$B$47=\"\",\"\",'Compressive Strength'!$B$47)","v":"Uncorr'd Stress, psi.:"},{"$f":"IF('Compressive Strength'!$J$24=\"\",\"\",'Compressive Strength'!$J$24)","v":2},{"$f":"IF('Compressive Strength'!$L$26=\"\",\"\",'Compressive Strength'!$L$26)","v":"2-3"}]
[271,{"$f":"IF('Compressive Strength'!$M$47=\"\",\"\",'Compressive Strength'!$M$47)","v":""},{"$f":"IF('Compressive Strength'!$B$6=\"\",\"\",'Compressive Strength'!$B$6)","v":"Tex-120-E : PART (I or II) or Tex-121-E PART (I, II, or III)"},{"$f":"IF( 'Compressive Strength'!$B$21=\"\",\"\", 'Compressive Strength'!$B$21)","v":"Performed By  :"},{"$f":"IF('Compressive Strength'!$B$47=\"\",\"\",'Compressive Strength'!$B$47)","v":"Uncorr'd Stress, psi.:"},{"$f":"IF('Compressive Strength'!$M$24=\"\",\"\",'Compressive Strength'!$M$24)","v":3},{"$f":"IF('Compressive Strength'!$M$26=\"\",\"\",'Compressive Strength'!$M$26)","v":"3-1"}]
[272,{"$f":"IF('Compressive Strength'!$N$47=\"\",\"\",'Compressive Strength'!$N$47)","v":""},{"$f":"IF('Compressive Strength'!$B$6=\"\",\"\",'Compressive Strength'!$B$6)","v":"Tex-120-E : PART (I or II) or Tex-121-E PART (I, II, or III)"},{"$f":"IF( 'Compressive Strength'!$B$21=\"\",\"\", 'Compressive Strength'!$B$21)","v":"Performed By  :"},{"$f":"IF('Compressive Strength'!$B$47=\"\",\"\",'Compressive Strength'!$B$47)","v":"Uncorr'd Stress, psi.:"},{"$f":"IF('Compressive Strength'!$M$24=\"\",\"\",'Compressive Strength'!$M$24)","v":3},{"$f":"IF('Compressive Strength'!$N$26=\"\",\"\",'Compressive Strength'!$N$26)","v":"3-2"}]
[273,{"$f":"IF('Compressive Strength'!$O$47=\"\",\"\",'Compressive Strength'!$O$47)","v":""},{"$f":"IF('Compressive Strength'!$B$6=\"\",\"\",'Compressive Strength'!$B$6)","v":"Tex-120-E : PART (I or II) or Tex-121-E PART (I, II, or III)"},{"$f":"IF( 'Compressive Strength'!$B$21=\"\",\"\", 'Compressive Strength'!$B$21)","v":"Performed By  :"},{"$f":"IF('Compressive Strength'!$B$47=\"\",\"\",'Compressive Strength'!$B$47)","v":"Uncorr'd Stress, psi.:"},{"$f":"IF('Compressive Strength'!$M$24=\"\",\"\",'Compressive Strength'!$M$24)","v":3},{"$f":"IF('Compressive Strength'!$O$26=\"\",\"\",'Compressive Strength'!$O$26)","v":"3-3"}]
[274,{"$f":"IF('Compressive Strength'!$P$47=\"\",\"\",'Compressive Strength'!$P$47)","v":""},{"$f":"IF('Compressive Strength'!$B$6=\"\",\"\",'Compressive Strength'!$B$6)","v":"Tex-120-E : PART (I or II) or Tex-121-E PART (I, II, or III)"},{"$f":"IF( 'Compressive Strength'!$B$21=\"\",\"\", 'Compressive Strength'!$B$21)","v":"Performed By  :"},{"$f":"IF('Compressive Strength'!$B$47=\"\",\"\",'Compressive Strength'!$B$47)","v":"Uncorr'd Stress, psi.:"},{"$f":"IF('Compressive Strength'!$P$24=\"\",\"\",'Compressive Strength'!$P$24)","v":4},{"$f":"IF('Compressive Strength'!$P$26=\"\",\"\",'Compressive Strength'!$P$26)","v":"4-1"}]
[275,{"$f":"IF('Compressive Strength'!$Q$47=\"\",\"\",'Compressive Strength'!$Q$47)","v":""},{"$f":"IF('Compressive Strength'!$B$6=\"\",\"\",'Compressive Strength'!$B$6)","v":"Tex-120-E : PART (I or II) or Tex-121-E PART (I, II, or III)"},{"$f":"IF( 'Compressive Strength'!$B$21=\"\",\"\", 'Compressive Strength'!$B$21)","v":"Performed By  :"},{"$f":"IF('Compressive Strength'!$B$47=\"\",\"\",'Compressive Strength'!$B$47)","v":"Uncorr'd Stress, psi.:"},{"$f":"IF('Compressive Strength'!$P$24=\"\",\"\",'Compressive Strength'!$P$24)","v":4},{"$f":"IF('Compressive Strength'!$Q$26=\"\",\"\",'Compressive Strength'!$Q$26)","v":"4-2"}]
[276,{"$f":"IF('Compressive Strength'!$R$47=\"\",\"\",'Compressive Strength'!$R$47)","v":""},{"$f":"IF('Compressive Strength'!$B$6=\"\",\"\",'Compressive Strength'!$B$6)","v":"Tex-120-E : PART (I or II) or Tex-121-E PART (I, II, or III)"},{"$f":"IF( 'Compressive Strength'!$B$21=\"\",\"\", 'Compressive Strength'!$B$21)","v":"Performed By  :"},{"$f":"IF('Compressive Strength'!$B$47=\"\",\"\",'Compressive Strength'!$B$47)","v":"Uncorr'd Stress, psi.:"},{"$f":"IF('Compressive Strength'!$P$24=\"\",\"\",'Compressive Strength'!$P$24)","v":4},{"$f":"IF('Compressive Strength'!$R$26=\"\",\"\",'Compressive Strength'!$R$26)","v":"4-3"}]
[277,{"$f":"IF('Compressive Strength'!$G$48=\"\",\"\",'Compressive Strength'!$G$48)","v":""},{"$f":"IF('Compressive Strength'!$B$6=\"\",\"\",'Compressive Strength'!$B$6)","v":"Tex-120-E : PART (I or II) or Tex-121-E PART (I, II, or III)"},{"$f":"IF( 'Compressive Strength'!$B$21=\"\",\"\", 'Compressive Strength'!$B$21)","v":"Performed By  :"},{"$f":"IF('Compressive Strength'!$B$48=\"\",\"\",'Compressive Strength'!$B$48)","v":"% Strain , in./in.:"},{"$f":"IF('Compressive Strength'!$G$24=\"\",\"\",'Compressive Strength'!$G$24)","v":1},{"$f":"IF('Compressive Strength'!$G$26=\"\",\"\",'Compressive Strength'!$G$26)","v":"1-1"}]
[278,{"$f":"IF('Compressive Strength'!$H$48=\"\",\"\",'Compressive Strength'!$H$48)","v":""},{"$f":"IF('Compressive Strength'!$B$6=\"\",\"\",'Compressive Strength'!$B$6)","v":"Tex-120-E : PART (I or II) or Tex-121-E PART (I, II, or III)"},{"$f":"IF( 'Compressive Strength'!$B$21=\"\",\"\", 'Compressive Strength'!$B$21)","v":"Performed By  :"},{"$f":"IF('Compressive Strength'!$B$48=\"\",\"\",'Compressive Strength'!$B$48)","v":"% Strain , in./in.:"},{"$f":"IF('Compressive Strength'!$G$24=\"\",\"\",'Compressive Strength'!$G$24)","v":1},{"$f":"IF('Compressive Strength'!$H$26=\"\",\"\",'Compressive Strength'!$H$26)","v":"1-2"}]
[279,{"$f":"IF('Compressive Strength'!$I$48=\"\",\"\",'Compressive Strength'!$I$48)","v":""},{"$f":"IF('Compressive Strength'!$B$6=\"\",\"\",'Compressive Strength'!$B$6)","v":"Tex-120-E : PART (I or II) or Tex-121-E PART (I, II, or III)"},{"$f":"IF( 'Compressive Strength'!$B$21=\"\",\"\", 'Compressive Strength'!$B$21)","v":"Performed By  :"},{"$f":"IF('Compressive Strength'!$B$48=\"\",\"\",'Compressive Strength'!$B$48)","v":"% Strain , in./in.:"},{"$f":"IF('Compressive Strength'!$G$24=\"\",\"\",'Compressive Strength'!$G$24)","v":1},{"$f":"IF('Compressive Strength'!$I$26=\"\",\"\",'Compressive Strength'!$I$26)","v":"1-3"}]
[280,{"$f":"IF('Compressive Strength'!$J$48=\"\",\"\",'Compressive Strength'!$J$48)","v":""},{"$f":"IF('Compressive Strength'!$B$6=\"\",\"\",'Compressive Strength'!$B$6)","v":"Tex-120-E : PART (I or II) or Tex-121-E PART (I, II, or III)"},{"$f":"IF( 'Compressive Strength'!$B$21=\"\",\"\", 'Compressive Strength'!$B$21)","v":"Performed By  :"},{"$f":"IF('Compressive Strength'!$B$48=\"\",\"\",'Compressive Strength'!$B$48)","v":"% Strain , in./in.:"},{"$f":"IF('Compressive Strength'!$J$24=\"\",\"\",'Compressive Strength'!$J$24)","v":2},{"$f":"IF('Compressive Strength'!$J$26=\"\",\"\",'Compressive Strength'!$J$26)","v":"2-1"}]
[281,{"$f":"IF('Compressive Strength'!$K$48=\"\",\"\",'Compressive Strength'!$K$48)","v":""},{"$f":"IF('Compressive Strength'!$B$6=\"\",\"\",'Compressive Strength'!$B$6)","v":"Tex-120-E : PART (I or II) or Tex-121-E PART (I, II, or III)"},{"$f":"IF( 'Compressive Strength'!$B$21=\"\",\"\", 'Compressive Strength'!$B$21)","v":"Performed By  :"},{"$f":"IF('Compressive Strength'!$B$48=\"\",\"\",'Compressive Strength'!$B$48)","v":"% Strain , in./in.:"},{"$f":"IF('Compressive Strength'!$J$24=\"\",\"\",'Compressive Strength'!$J$24)","v":2},{"$f":"IF('Compressive Strength'!$K$26=\"\",\"\",'Compressive Strength'!$K$26)","v":"2-2"}]
[282,{"$f":"IF('Compressive Strength'!$L$48=\"\",\"\",'Compressive Strength'!$L$48)","v":""},{"$f":"IF('Compressive Strength'!$B$6=\"\",\"\",'Compressive Strength'!$B$6)","v":"Tex-120-E : PART (I or II) or Tex-121-E PART (I, II, or III)"},{"$f":"IF( 'Compressive Strength'!$B$21=\"\",\"\", 'Compressive Strength'!$B$21)","v":"Performed By  :"},{"$f":"IF('Compressive Strength'!$B$48=\"\",\"\",'Compressive Strength'!$B$48)","v":"% Strain , in./in.:"},{"$f":"IF('Compressive Strength'!$J$24=\"\",\"\",'Compressive Strength'!$J$24)","v":2},{"$f":"IF('Compressive Strength'!$L$26=\"\",\"\",'Compressive Strength'!$L$26)","v":"2-3"}]
[283,{"$f":"IF('Compressive Strength'!$M$48=\"\",\"\",'Compressive Strength'!$M$48)","v":""},{"$f":"IF('Compressive Strength'!$B$6=\"\",\"\",'Compressive Strength'!$B$6)","v":"Tex-120-E : PART (I or II) or Tex-121-E PART (I, II, or III)"},{"$f":"IF( 'Compressive Strength'!$B$21=\"\",\"\", 'Compressive Strength'!$B$21)","v":"Performed By  :"},{"$f":"IF('Compressive Strength'!$B$48=\"\",\"\",'Compressive Strength'!$B$48)","v":"% Strain , in./in.:"},{"$f":"IF('Compressive Strength'!$M$24=\"\",\"\",'Compressive Strength'!$M$24)","v":3},{"$f":"IF('Compressive Strength'!$M$26=\"\",\"\",'Compressive Strength'!$M$26)","v":"3-1"}]
[284,{"$f":"IF('Compressive Strength'!$N$48=\"\",\"\",'Compressive Strength'!$N$48)","v":""},{"$f":"IF('Compressive Strength'!$B$6=\"\",\"\",'Compressive Strength'!$B$6)","v":"Tex-120-E : PART (I or II) or Tex-121-E PART (I, II, or III)"},{"$f":"IF( 'Compressive Strength'!$B$21=\"\",\"\", 'Compressive Strength'!$B$21)","v":"Performed By  :"},{"$f":"IF('Compressive Strength'!$B$48=\"\",\"\",'Compressive Strength'!$B$48)","v":"% Strain , in./in.:"},{"$f":"IF('Compressive Strength'!$M$24=\"\",\"\",'Compressive Strength'!$M$24)","v":3},{"$f":"IF('Compressive Strength'!$N$26=\"\",\"\",'Compressive Strength'!$N$26)","v":"3-2"}]
[285,{"$f":"IF('Compressive Strength'!$O$48=\"\",\"\",'Compressive Strength'!$O$48)","v":""},{"$f":"IF('Compressive Strength'!$B$6=\"\",\"\",'Compressive Strength'!$B$6)","v":"Tex-120-E : PART (I or II) or Tex-121-E PART (I, II, or III)"},{"$f":"IF( 'Compressive Strength'!$B$21=\"\",\"\", 'Compressive Strength'!$B$21)","v":"Performed By  :"},{"$f":"IF('Compressive Strength'!$B$48=\"\",\"\",'Compressive Strength'!$B$48)","v":"% Strain , in./in.:"},{"$f":"IF('Compressive Strength'!$M$24=\"\",\"\",'Compressive Strength'!$M$24)","v":3},{"$f":"IF('Compressive Strength'!$O$26=\"\",\"\",'Compressive Strength'!$O$26)","v":"3-3"}]
[286,{"$f":"IF('Compressive Strength'!$P$48=\"\",\"\",'Compressive Strength'!$P$48)","v":""},{"$f":"IF('Compressive Strength'!$B$6=\"\",\"\",'Compressive Strength'!$B$6)","v":"Tex-120-E : PART (I or II) or Tex-121-E PART (I, II, or III)"},{"$f":"IF( 'Compressive Strength'!$B$21=\"\",\"\", 'Compressive Strength'!$B$21)","v":"Performed By  :"},{"$f":"IF('Compressive Strength'!$B$48=\"\",\"\",'Compressive Strength'!$B$48)","v":"% Strain , in./in.:"},{"$f":"IF('Compressive Strength'!$P$24=\"\",\"\",'Compressive Strength'!$P$24)","v":4},{"$f":"IF('Compressive Strength'!$P$26=\"\",\"\",'Compressive Strength'!$P$26)","v":"4-1"}]
[287,{"$f":"IF('Compressive Strength'!$Q$48=\"\",\"\",'Compressive Strength'!$Q$48)","v":""},{"$f":"IF('Compressive Strength'!$B$6=\"\",\"\",'Compressive Strength'!$B$6)","v":"Tex-120-E : PART (I or II) or Tex-121-E PART (I, II, or III)"},{"$f":"IF( 'Compressive Strength'!$B$21=\"\",\"\", 'Compressive Strength'!$B$21)","v":"Performed By  :"},{"$f":"IF('Compressive Strength'!$B$48=\"\",\"\",'Compressive Strength'!$B$48)","v":"% Strain , in./in.:"},{"$f":"IF('Compressive Strength'!$P$24=\"\",\"\",'Compressive Strength'!$P$24)","v":4},{"$f":"IF('Compressive Strength'!$Q$26=\"\",\"\",'Compressive Strength'!$Q$26)","v":"4-2"}]
[288,{"$f":"IF('Compressive Strength'!$R$48=\"\",\"\",'Compressive Strength'!$R$48)","v":""},{"$f":"IF('Compressive Strength'!$B$6=\"\",\"\",'Compressive Strength'!$B$6)","v":"Tex-120-E : PART (I or II) or Tex-121-E PART (I, II, or III)"},{"$f":"IF( 'Compressive Strength'!$B$21=\"\",\"\", 'Compressive Strength'!$B$21)","v":"Performed By  :"},{"$f":"IF('Compressive Strength'!$B$48=\"\",\"\",'Compressive Strength'!$B$48)","v":"% Strain , in./in.:"},{"$f":"IF('Compressive Strength'!$P$24=\"\",\"\",'Compressive Strength'!$P$24)","v":4},{"$f":"IF('Compressive Strength'!$R$26=\"\",\"\",'Compressive Strength'!$R$26)","v":"4-3"}]
[289,{"$f":"IF('Compressive Strength'!$G$49=\"\",\"\",'Compressive Strength'!$G$49)","v":""},{"$f":"IF('Compressive Strength'!$B$6=\"\",\"\",'Compressive Strength'!$B$6)","v":"Tex-120-E : PART (I or II) or Tex-121-E PART (I, II, or III)"},{"$f":"IF( 'Compressive Strength'!$B$21=\"\",\"\", 'Compressive Strength'!$B$21)","v":"Performed By  :"},{"$f":"IF('Compressive Strength'!$B$49=\"\",\"\",'Compressive Strength'!$B$49)","v":"I-Strain, in./in.:"},{"$f":"IF('Compressive Strength'!$G$24=\"\",\"\",'Compressive Strength'!$G$24)","v":1},{"$f":"IF('Compressive Strength'!$G$26=\"\",\"\",'Compressive Strength'!$G$26)","v":"1-1"}]
[290,{"$f":"IF('Compressive Strength'!$H$49=\"\",\"\",'Compressive Strength'!$H$49)","v":""},{"$f":"IF('Compressive Strength'!$B$6=\"\",\"\",'Compressive Strength'!$B$6)","v":"Tex-120-E : PART (I or II) or Tex-121-E PART (I, II, or III)"},{"$f":"IF( 'Compressive Strength'!$B$21=\"\",\"\", 'Compressive Strength'!$B$21)","v":"Performed By  :"},{"$f":"IF('Compressive Strength'!$B$49=\"\",\"\",'Compressive Strength'!$B$49)","v":"I-Strain, in./in.:"},{"$f":"IF('Compressive Strength'!$G$24=\"\",\"\",'Compressive Strength'!$G$24)","v":1},{"$f":"IF('Compressive Strength'!$H$26=\"\",\"\",'Compressive Strength'!$H$26)","v":"1-2"}]
[291,{"$f":"IF('Compressive Strength'!$I$49=\"\",\"\",'Compressive Strength'!$I$49)","v":""},{"$f":"IF('Compressive Strength'!$B$6=\"\",\"\",'Compressive Strength'!$B$6)","v":"Tex-120-E : PART (I or II) or Tex-121-E PART (I, II, or III)"},{"$f":"IF( 'Compressive Strength'!$B$21=\"\",\"\", 'Compressive Strength'!$B$21)","v":"Performed By  :"},{"$f":"IF('Compressive Strength'!$B$49=\"\",\"\",'Compressive Strength'!$B$49)","v":"I-Strain, in./in.:"},{"$f":"IF('Compressive Strength'!$G$24=\"\",\"\",'Compressive Strength'!$G$24)","v":1},{"$f":"IF('Compressive Strength'!$I$26=\"\",\"\",'Compressive Strength'!$I$26)","v":"1-3"}]
[292,{"$f":"IF('Compressive Strength'!$J$49=\"\",\"\",'Compressive Strength'!$J$49)","v":""},{"$f":"IF('Compressive Strength'!$B$6=\"\",\"\",'Compressive Strength'!$B$6)","v":"Tex-120-E : PART (I or II) or Tex-121-E PART (I, II, or III)"},{"$f":"IF( 'Compressive Strength'!$B$21=\"\",\"\", 'Compressive Strength'!$B$21)","v":"Performed By  :"},{"$f":"IF('Compressive Strength'!$B$49=\"\",\"\",'Compressive Strength'!$B$49)","v":"I-Strain, in./in.:"},{"$f":"IF('Compressive Strength'!$J$24=\"\",\"\",'Compressive Strength'!$J$24)","v":2},{"$f":"IF('Compressive Strength'!$J$26=\"\",\"\",'Compressive Strength'!$J$26)","v":"2-1"}]
[293,{"$f":"IF('Compressive Strength'!$K$49=\"\",\"\",'Compressive Strength'!$K$49)","v":""},{"$f":"IF('Compressive Strength'!$B$6=\"\",\"\",'Compressive Strength'!$B$6)","v":"Tex-120-E : PART (I or II) or Tex-121-E PART (I, II, or III)"},{"$f":"IF( 'Compressive Strength'!$B$21=\"\",\"\", 'Compressive Strength'!$B$21)","v":"Performed By  :"},{"$f":"IF('Compressive Strength'!$B$49=\"\",\"\",'Compressive Strength'!$B$49)","v":"I-Strain, in./in.:"},{"$f":"IF('Compressive Strength'!$J$24=\"\",\"\",'Compressive Strength'!$J$24)","v":2},{"$f":"IF('Compressive Strength'!$K$26=\"\",\"\",'Compressive Strength'!$K$26)","v":"2-2"}]
[294,{"$f":"IF('Compressive Strength'!$L$49=\"\",\"\",'Compressive Strength'!$L$49)","v":""},{"$f":"IF('Compressive Strength'!$B$6=\"\",\"\",'Compressive Strength'!$B$6)","v":"Tex-120-E : PART (I or II) or Tex-121-E PART (I, II, or III)"},{"$f":"IF( 'Compressive Strength'!$B$21=\"\",\"\", 'Compressive Strength'!$B$21)","v":"Performed By  :"},{"$f":"IF('Compressive Strength'!$B$49=\"\",\"\",'Compressive Strength'!$B$49)","v":"I-Strain, in./in.:"},{"$f":"IF('Compressive Strength'!$J$24=\"\",\"\",'Compressive Strength'!$J$24)","v":2},{"$f":"IF('Compressive Strength'!$L$26=\"\",\"\",'Compressive Strength'!$L$26)","v":"2-3"}]
[295,{"$f":"IF('Compressive Strength'!$M$49=\"\",\"\",'Compressive Strength'!$M$49)","v":""},{"$f":"IF('Compressive Strength'!$B$6=\"\",\"\",'Compressive Strength'!$B$6)","v":"Tex-120-E : PART (I or II) or Tex-121-E PART (I, II, or III)"},{"$f":"IF( 'Compressive Strength'!$B$21=\"\",\"\", 'Compressive Strength'!$B$21)","v":"Performed By  :"},{"$f":"IF('Compressive Strength'!$B$49=\"\",\"\",'Compressive Strength'!$B$49)","v":"I-Strain, in./in.:"},{"$f":"IF('Compressive Strength'!$M$24=\"\",\"\",'Compressive Strength'!$M$24)","v":3},{"$f":"IF('Compressive Strength'!$M$26=\"\",\"\",'Compressive Strength'!$M$26)","v":"3-1"}]
[296,{"$f":"IF('Compressive Strength'!$N$49=\"\",\"\",'Compressive Strength'!$N$49)","v":""},{"$f":"IF('Compressive Strength'!$B$6=\"\",\"\",'Compressive Strength'!$B$6)","v":"Tex-120-E : PART (I or II) or Tex-121-E PART (I, II, or III)"},{"$f":"IF( 'Compressive Strength'!$B$21=\"\",\"\", 'Compressive Strength'!$B$21)","v":"Performed By  :"},{"$f":"IF('Compressive Strength'!$B$49=\"\",\"\",'Compressive Strength'!$B$49)","v":"I-Strain, in./in.:"},{"$f":"IF('Compressive Strength'!$M$24=\"\",\"\",'Compressive Strength'!$M$24)","v":3},{"$f":"IF('Compressive Strength'!$N$26=\"\",\"\",'Compressive Strength'!$N$26)","v":"3-2"}]
[297,{"$f":"IF('Compressive Strength'!$O$49=\"\",\"\",'Compressive Strength'!$O$49)","v":""},{"$f":"IF('Compressive Strength'!$B$6=\"\",\"\",'Compressive Strength'!$B$6)","v":"Tex-120-E : PART (I or II) or Tex-121-E PART (I, II, or III)"},{"$f":"IF( 'Compressive Strength'!$B$21=\"\",\"\", 'Compressive Strength'!$B$21)","v":"Performed By  :"},{"$f":"IF('Compressive Strength'!$B$49=\"\",\"\",'Compressive Strength'!$B$49)","v":"I-Strain, in./in.:"},{"$f":"IF('Compressive Strength'!$M$24=\"\",\"\",'Compressive Strength'!$M$24)","v":3},{"$f":"IF('Compressive Strength'!$O$26=\"\",\"\",'Compressive Strength'!$O$26)","v":"3-3"}]
[298,{"$f":"IF('Compressive Strength'!$P$49=\"\",\"\",'Compressive Strength'!$P$49)","v":""},{"$f":"IF('Compressive Strength'!$B$6=\"\",\"\",'Compressive Strength'!$B$6)","v":"Tex-120-E : PART (I or II) or Tex-121-E PART (I, II, or III)"},{"$f":"IF( 'Compressive Strength'!$B$21=\"\",\"\", 'Compressive Strength'!$B$21)","v":"Performed By  :"},{"$f":"IF('Compressive Strength'!$B$49=\"\",\"\",'Compressive Strength'!$B$49)","v":"I-Strain, in./in.:"},{"$f":"IF('Compressive Strength'!$P$24=\"\",\"\",'Compressive Strength'!$P$24)","v":4},{"$f":"IF('Compressive Strength'!$P$26=\"\",\"\",'Compressive Strength'!$P$26)","v":"4-1"}]
[299,{"$f":"IF('Compressive Strength'!$Q$49=\"\",\"\",'Compressive Strength'!$Q$49)","v":""},{"$f":"IF('Compressive Strength'!$B$6=\"\",\"\",'Compressive Strength'!$B$6)","v":"Tex-120-E : PART (I or II) or Tex-121-E PART (I, II, or III)"},{"$f":"IF( 'Compressive Strength'!$B$21=\"\",\"\", 'Compressive Strength'!$B$21)","v":"Performed By  :"},{"$f":"IF('Compressive Strength'!$B$49=\"\",\"\",'Compressive Strength'!$B$49)","v":"I-Strain, in./in.:"},{"$f":"IF('Compressive Strength'!$P$24=\"\",\"\",'Compressive Strength'!$P$24)","v":4},{"$f":"IF('Compressive Strength'!$Q$26=\"\",\"\",'Compressive Strength'!$Q$26)","v":"4-2"}]
[300,{"$f":"IF('Compressive Strength'!$R$49=\"\",\"\",'Compressive Strength'!$R$49)","v":""},{"$f":"IF('Compressive Strength'!$B$6=\"\",\"\",'Compressive Strength'!$B$6)","v":"Tex-120-E : PART (I or II) or Tex-121-E PART (I, II, or III)"},{"$f":"IF( 'Compressive Strength'!$B$21=\"\",\"\", 'Compressive Strength'!$B$21)","v":"Performed By  :"},{"$f":"IF('Compressive Strength'!$B$49=\"\",\"\",'Compressive Strength'!$B$49)","v":"I-Strain, in./in.:"},{"$f":"IF('Compressive Strength'!$P$24=\"\",\"\",'Compressive Strength'!$P$24)","v":4},{"$f":"IF('Compressive Strength'!$R$26=\"\",\"\",'Compressive Strength'!$R$26)","v":"4-3"}]
[301,{"$f":"IF('Compressive Strength'!$G$50=\"\",\"\",'Compressive Strength'!$G$50)","v":""},{"$f":"IF('Compressive Strength'!$B$6=\"\",\"\",'Compressive Strength'!$B$6)","v":"Tex-120-E : PART (I or II) or Tex-121-E PART (I, II, or III)"},{"$f":"IF( 'Compressive Strength'!$B$21=\"\",\"\", 'Compressive Strength'!$B$21)","v":"Performed By  :"},{"$f":"IF('Compressive Strength'!$B$50=\"\",\"\",'Compressive Strength'!$B$50)","v":"Corrected Stress, psi.:"},{"$f":"IF('Compressive Strength'!$G$24=\"\",\"\",'Compressive Strength'!$G$24)","v":1},{"$f":"IF('Compressive Strength'!$G$26=\"\",\"\",'Compressive Strength'!$G$26)","v":"1-1"}]
[302,{"$f":"IF('Compressive Strength'!$H$50=\"\",\"\",'Compressive Strength'!$H$50)","v":""},{"$f":"IF('Compressive Strength'!$B$6=\"\",\"\",'Compressive Strength'!$B$6)","v":"Tex-120-E : PART (I or II) or Tex-121-E PART (I, II, or III)"},{"$f":"IF( 'Compressive Strength'!$B$21=\"\",\"\", 'Compressive Strength'!$B$21)","v":"Performed By  :"},{"$f":"IF('Compressive Strength'!$B$50=\"\",\"\",'Compressive Strength'!$B$50)","v":"Corrected Stress, psi.:"},{"$f":"IF('Compressive Strength'!$G$24=\"\",\"\",'Compressive Strength'!$G$24)","v":1},{"$f":"IF('Compressive Strength'!$H$26=\"\",\"\",'Compressive Strength'!$H$26)","v":"1-2"}]
[303,{"$f":"IF('Compressive Strength'!$I$50=\"\",\"\",'Compressive Strength'!$I$50)","v":""},{"$f":"IF('Compressive Strength'!$B$6=\"\",\"\",'Compressive Strength'!$B$6)","v":"Tex-120-E : PART (I or II) or Tex-121-E PART (I, II, or III)"},{"$f":"IF( 'Compressive Strength'!$B$21=\"\",\"\", 'Compressive Strength'!$B$21)","v":"Performed By  :"},{"$f":"IF('Compressive Strength'!$B$50=\"\",\"\",'Compressive Strength'!$B$50)","v":"Corrected Stress, psi.:"},{"$f":"IF('Compressive Strength'!$G$24=\"\",\"\",'Compressive Strength'!$G$24)","v":1},{"$f":"IF('Compressive Strength'!$I$26=\"\",\"\",'Compressive Strength'!$I$26)","v":"1-3"}]
[304,{"$f":"IF('Compressive Strength'!$J$50=\"\",\"\",'Compressive Strength'!$J$50)","v":""},{"$f":"IF('Compressive Strength'!$B$6=\"\",\"\",'Compressive Strength'!$B$6)","v":"Tex-120-E : PART (I or II) or Tex-121-E PART (I, II, or III)"},{"$f":"IF( 'Compressive Strength'!$B$21=\"\",\"\", 'Compressive Strength'!$B$21)","v":"Performed By  :"},{"$f":"IF('Compressive Strength'!$B$50=\"\",\"\",'Compressive Strength'!$B$50)","v":"Corrected Stress, psi.:"},{"$f":"IF('Compressive Strength'!$J$24=\"\",\"\",'Compressive Strength'!$J$24)","v":2},{"$f":"IF('Compressive Strength'!$J$26=\"\",\"\",'Compressive Strength'!$J$26)","v":"2-1"}]
[305,{"$f":"IF('Compressive Strength'!$K$50=\"\",\"\",'Compressive Strength'!$K$50)","v":""},{"$f":"IF('Compressive Strength'!$B$6=\"\",\"\",'Compressive Strength'!$B$6)","v":"Tex-120-E : PART (I or II) or Tex-121-E PART (I, II, or III)"},{"$f":"IF( 'Compressive Strength'!$B$21=\"\",\"\", 'Compressive Strength'!$B$21)","v":"Performed By  :"},{"$f":"IF('Compressive Strength'!$B$50=\"\",\"\",'Compressive Strength'!$B$50)","v":"Corrected Stress, psi.:"},{"$f":"IF('Compressive Strength'!$J$24=\"\",\"\",'Compressive Strength'!$J$24)","v":2},{"$f":"IF('Compressive Strength'!$K$26=\"\",\"\",'Compressive Strength'!$K$26)","v":"2-2"}]
[306,{"$f":"IF('Compressive Strength'!$L$50=\"\",\"\",'Compressive Strength'!$L$50)","v":""},{"$f":"IF('Compressive Strength'!$B$6=\"\",\"\",'Compressive Strength'!$B$6)","v":"Tex-120-E : PART (I or II) or Tex-121-E PART (I, II, or III)"},{"$f":"IF( 'Compressive Strength'!$B$21=\"\",\"\", 'Compressive Strength'!$B$21)","v":"Performed By  :"},{"$f":"IF('Compressive Strength'!$B$50=\"\",\"\",'Compressive Strength'!$B$50)","v":"Corrected Stress, psi.:"},{"$f":"IF('Compressive Strength'!$J$24=\"\",\"\",'Compressive Strength'!$J$24)","v":2},{"$f":"IF('Compressive Strength'!$L$26=\"\",\"\",'Compressive Strength'!$L$26)","v":"2-3"}]
[307,{"$f":"IF('Compressive Strength'!$M$50=\"\",\"\",'Compressive Strength'!$M$50)","v":""},{"$f":"IF('Compressive Strength'!$B$6=\"\",\"\",'Compressive Strength'!$B$6)","v":"Tex-120-E : PART (I or II) or Tex-121-E PART (I, II, or III)"},{"$f":"IF( 'Compressive Strength'!$B$21=\"\",\"\", 'Compressive Strength'!$B$21)","v":"Performed By  :"},{"$f":"IF('Compressive Strength'!$B$50=\"\",\"\",'Compressive Strength'!$B$50)","v":"Corrected Stress, psi.:"},{"$f":"IF('Compressive Strength'!$M$24=\"\",\"\",'Compressive Strength'!$M$24)","v":3},{"$f":"IF('Compressive Strength'!$M$26=\"\",\"\",'Compressive Strength'!$M$26)","v":"3-1"}]
[308,{"$f":"IF('Compressive Strength'!$N$50=\"\",\"\",'Compressive Strength'!$N$50)","v":""},{"$f":"IF('Compressive Strength'!$B$6=\"\",\"\",'Compressive Strength'!$B$6)","v":"Tex-120-E : PART (I or II) or Tex-121-E PART (I, II, or III)"},{"$f":"IF( 'Compressive Strength'!$B$21=\"\",\"\", 'Compressive Strength'!$B$21)","v":"Performed By  :"},{"$f":"IF('Compressive Strength'!$B$50=\"\",\"\",'Compressive Strength'!$B$50)","v":"Corrected Stress, psi.:"},{"$f":"IF('Compressive Strength'!$M$24=\"\",\"\",'Compressive Strength'!$M$24)","v":3},{"$f":"IF('Compressive Strength'!$N$26=\"\",\"\",'Compressive Strength'!$N$26)","v":"3-2"}]
[309,{"$f":"IF('Compressive Strength'!$O$50=\"\",\"\",'Compressive Strength'!$O$50)","v":""},{"$f":"IF('Compressive Strength'!$B$6=\"\",\"\",'Compressive Strength'!$B$6)","v":"Tex-120-E : PART (I or II) or Tex-121-E PART (I, II, or III)"},{"$f":"IF( 'Compressive Strength'!$B$21=\"\",\"\", 'Compressive Strength'!$B$21)","v":"Performed By  :"},{"$f":"IF('Compressive Strength'!$B$50=\"\",\"\",'Compressive Strength'!$B$50)","v":"Corrected Stress, psi.:"},{"$f":"IF('Compressive Strength'!$M$24=\"\",\"\",'Compressive Strength'!$M$24)","v":3},{"$f":"IF('Compressive Strength'!$O$26=\"\",\"\",'Compressive Strength'!$O$26)","v":"3-3"}]
[310,{"$f":"IF('Compressive Strength'!$P$50=\"\",\"\",'Compressive Strength'!$P$50)","v":""},{"$f":"IF('Compressive Strength'!$B$6=\"\",\"\",'Compressive Strength'!$B$6)","v":"Tex-120-E : PART (I or II) or Tex-121-E PART (I, II, or III)"},{"$f":"IF( 'Compressive Strength'!$B$21=\"\",\"\", 'Compressive Strength'!$B$21)","v":"Performed By  :"},{"$f":"IF('Compressive Strength'!$B$50=\"\",\"\",'Compressive Strength'!$B$50)","v":"Corrected Stress, psi.:"},{"$f":"IF('Compressive Strength'!$P$24=\"\",\"\",'Compressive Strength'!$P$24)","v":4},{"$f":"IF('Compressive Strength'!$P$26=\"\",\"\",'Compressive Strength'!$P$26)","v":"4-1"}]
[311,{"$f":"IF('Compressive Strength'!$Q$50=\"\",\"\",'Compressive Strength'!$Q$50)","v":""},{"$f":"IF('Compressive Strength'!$B$6=\"\",\"\",'Compressive Strength'!$B$6)","v":"Tex-120-E : PART (I or II) or Tex-121-E PART (I, II, or III)"},{"$f":"IF( 'Compressive Strength'!$B$21=\"\",\"\", 'Compressive Strength'!$B$21)","v":"Performed By  :"},{"$f":"IF('Compressive Strength'!$B$50=\"\",\"\",'Compressive Strength'!$B$50)","v":"Corrected Stress, psi.:"},{"$f":"IF('Compressive Strength'!$P$24=\"\",\"\",'Compressive Strength'!$P$24)","v":4},{"$f":"IF('Compressive Strength'!$Q$26=\"\",\"\",'Compressive Strength'!$Q$26)","v":"4-2"}]
[312,{"$f":"IF('Compressive Strength'!$R$50=\"\",\"\",'Compressive Strength'!$R$50)","v":""},{"$f":"IF('Compressive Strength'!$B$6=\"\",\"\",'Compressive Strength'!$B$6)","v":"Tex-120-E : PART (I or II) or Tex-121-E PART (I, II, or III)"},{"$f":"IF( 'Compressive Strength'!$B$21=\"\",\"\", 'Compressive Strength'!$B$21)","v":"Performed By  :"},{"$f":"IF('Compressive Strength'!$B$50=\"\",\"\",'Compressive Strength'!$B$50)","v":"Corrected Stress, psi.:"},{"$f":"IF('Compressive Strength'!$P$24=\"\",\"\",'Compressive Strength'!$P$24)","v":4},{"$f":"IF('Compressive Strength'!$R$26=\"\",\"\",'Compressive Strength'!$R$26)","v":"4-3"}]
[313,{"$f":"IF('Compressive Strength'!$I$52=\"\",\"\",'Compressive Strength'!$I$52)","v":""},{"$f":"IF('Compressive Strength'!$B$6=\"\",\"\",'Compressive Strength'!$B$6)","v":"Tex-120-E : PART (I or II) or Tex-121-E PART (I, II, or III)"},{"$f":"IF( 'Compressive Strength'!$B$21=\"\",\"\", 'Compressive Strength'!$B$21)","v":"Performed By  :"},{"$f":"IF('Compressive Strength'!$B$52=\"\",\"\",'Compressive Strength'!$B$52)","v":"Avg. Corrected Stress, psi:"},{"$f":"IF('Compressive Strength'!$G$24=\"\",\"\",'Compressive Strength'!$G$24)","v":1}]
[314,{"$f":"IF('Compressive Strength'!$L$52=\"\",\"\",'Compressive Strength'!$L$52)","v":""},{"$f":"IF('Compressive Strength'!$B$6=\"\",\"\",'Compressive Strength'!$B$6)","v":"Tex-120-E : PART (I or II) or Tex-121-E PART (I, II, or III)"},{"$f":"IF( 'Compressive Strength'!$B$21=\"\",\"\", 'Compressive Strength'!$B$21)","v":"Performed By  :"},{"$f":"IF('Compressive Strength'!$B$52=\"\",\"\",'Compressive Strength'!$B$52)","v":"Avg. Corrected Stress, psi:"},{"$f":"IF('Compressive Strength'!$J$24=\"\",\"\",'Compressive Strength'!$J$24)","v":2}]
[315,{"$f":"IF('Compressive Strength'!$O$52=\"\",\"\",'Compressive Strength'!$O$52)","v":""},{"$f":"IF('Compressive Strength'!$B$6=\"\",\"\",'Compressive Strength'!$B$6)","v":"Tex-120-E : PART (I or II) or Tex-121-E PART (I, II, or III)"},{"$f":"IF( 'Compressive Strength'!$B$21=\"\",\"\", 'Compressive Strength'!$B$21)","v":"Performed By  :"},{"$f":"IF('Compressive Strength'!$B$52=\"\",\"\",'Compressive Strength'!$B$52)","v":"Avg. Corrected Stress, psi:"},{"$f":"IF('Compressive Strength'!$M$24=\"\",\"\",'Compressive Strength'!$M$24)","v":3}]
[316,{"$f":"IF('Compressive Strength'!$R$52=\"\",\"\",'Compressive Strength'!$R$52)","v":""},{"$f":"IF('Compressive Strength'!$B$6=\"\",\"\",'Compressive Strength'!$B$6)","v":"Tex-120-E : PART (I or II) or Tex-121-E PART (I, II, or III)"},{"$f":"IF( 'Compressive Strength'!$B$21=\"\",\"\", 'Compressive Strength'!$B$21)","v":"Performed By  :"},{"$f":"IF('Compressive Strength'!$B$52=\"\",\"\",'Compressive Strength'!$B$52)","v":"Avg. Corrected Stress, psi:"},{"$f":"IF('Compressive Strength'!$P$24=\"\",\"\",'Compressive Strength'!$P$24)","v":4}]
[317,{"$f":"IF('Compressive Strength'!$G$55=\"\",\"\",'Compressive Strength'!$G$55)","v":""},{"$f":"IF('Compressive Strength'!$B$6=\"\",\"\",'Compressive Strength'!$B$6)","v":"Tex-120-E : PART (I or II) or Tex-121-E PART (I, II, or III)"},{"$f":"IF( 'Compressive Strength'!$B$21=\"\",\"\", 'Compressive Strength'!$B$21)","v":"Performed By  :"},{"$f":"IF('Compressive Strength'!$B$55=\"\",\"\",'Compressive Strength'!$B$55)","v":"Percent Cement, (%)"},{"$f":"IF('Compressive Strength'!$G$54=\"\",\"\",'Compressive Strength'!$G$54)","v":1}]
[318,{"$f":"IF('Compressive Strength'!$H$55=\"\",\"\",'Compressive Strength'!$H$55)","v":""},{"$f":"IF('Compressive Strength'!$B$6=\"\",\"\",'Compressive Strength'!$B$6)","v":"Tex-120-E : PART (I or II) or Tex-121-E PART (I, II, or III)"},{"$f":"IF( 'Compressive Strength'!$B$21=\"\",\"\", 'Compressive Strength'!$B$21)","v":"Performed By  :"},{"$f":"IF('Compressive Strength'!$B$55=\"\",\"\",'Compressive Strength'!$B$55)","v":"Percent Cement, (%)"},{"$f":"IF('Compressive Strength'!$H$54=\"\",\"\",'Compressive Strength'!$H$54)","v":2}]
[319,{"$f":"IF('Compressive Strength'!$I$55=\"\",\"\",'Compressive Strength'!$I$55)","v":""},{"$f":"IF('Compressive Strength'!$B$6=\"\",\"\",'Compressive Strength'!$B$6)","v":"Tex-120-E : PART (I or II) or Tex-121-E PART (I, II, or III)"},{"$f":"IF( 'Compressive Strength'!$B$21=\"\",\"\", 'Compressive Strength'!$B$21)","v":"Performed By  :"},{"$f":"IF('Compressive Strength'!$B$55=\"\",\"\",'Compressive Strength'!$B$55)","v":"Percent Cement, (%)"},{"$f":"IF('Compressive Strength'!$I$54=\"\",\"\",'Compressive Strength'!$I$54)","v":3}]
[320,{"$f":"IF('Compressive Strength'!$J$55=\"\",\"\",'Compressive Strength'!$J$55)","v":""},{"$f":"IF('Compressive Strength'!$B$6=\"\",\"\",'Compressive Strength'!$B$6)","v":"Tex-120-E : PART (I or II) or Tex-121-E PART (I, II, or III)"},{"$f":"IF( 'Compressive Strength'!$B$21=\"\",\"\", 'Compressive Strength'!$B$21)","v":"Performed By  :"},{"$f":"IF('Compressive Strength'!$B$55=\"\",\"\",'Compressive Strength'!$B$55)","v":"Percent Cement, (%)"},{"$f":"IF('Compressive Strength'!$J$54=\"\",\"\",'Compressive Strength'!$J$54)","v":4}]
[321,{"$f":"IF('Compressive Strength'!$G$56=\"\",\"\",'Compressive Strength'!$G$56)","v":""},{"$f":"IF('Compressive Strength'!$B$6=\"\",\"\",'Compressive Strength'!$B$6)","v":"Tex-120-E : PART (I or II) or Tex-121-E PART (I, II, or III)"},{"$f":"IF( 'Compressive Strength'!$B$21=\"\",\"\", 'Compressive Strength'!$B$21)","v":"Performed By  :"},{"$f":"IF('Compressive Strength'!$B$56=\"\",\"\",'Compressive Strength'!$B$56)","v":"Avg. Corrected Stress, psi:"},{"$f":"IF('Compressive Strength'!$G$54=\"\",\"\",'Compressive Strength'!$G$54)","v":1}]
[322,{"$f":"IF('Compressive Strength'!$H$56=\"\",\"\",'Compressive Strength'!$H$56)","v":""},{"$f":"IF('Compressive Strength'!$B$6=\"\",\"\",'Compressive Strength'!$B$6)","v":"Tex-120-E : PART (I or II) or Tex-121-E PART (I, II, or III)"},{"$f":"IF( 'Compressive Strength'!$B$21=\"\",\"\", 'Compressive Strength'!$B$21)","v":"Performed By  :"},{"$f":"IF('Compressive Strength'!$B$56=\"\",\"\",'Compressive Strength'!$B$56)","v":"Avg. Corrected Stress, psi:"},{"$f":"IF('Compressive Strength'!$H$54=\"\",\"\",'Compressive Strength'!$H$54)","v":2}]
[323,{"$f":"IF('Compressive Strength'!$I$56=\"\",\"\",'Compressive Strength'!$I$56)","v":""},{"$f":"IF('Compressive Strength'!$B$6=\"\",\"\",'Compressive Strength'!$B$6)","v":"Tex-120-E : PART (I or II) or Tex-121-E PART (I, II, or III)"},{"$f":"IF( 'Compressive Strength'!$B$21=\"\",\"\", 'Compressive Strength'!$B$21)","v":"Performed By  :"},{"$f":"IF('Compressive Strength'!$B$56=\"\",\"\",'Compressive Strength'!$B$56)","v":"Avg. Corrected Stress, psi:"},{"$f":"IF('Compressive Strength'!$I$54=\"\",\"\",'Compressive Strength'!$I$54)","v":3}]
[324,{"$f":"IF('Compressive Strength'!$J$56=\"\",\"\",'Compressive Strength'!$J$56)","v":""},{"$f":"IF('Compressive Strength'!$B$6=\"\",\"\",'Compressive Strength'!$B$6)","v":"Tex-120-E : PART (I or II) or Tex-121-E PART (I, II, or III)"},{"$f":"IF( 'Compressive Strength'!$B$21=\"\",\"\", 'Compressive Strength'!$B$21)","v":"Performed By  :"},{"$f":"IF('Compressive Strength'!$B$56=\"\",\"\",'Compressive Strength'!$B$56)","v":"Avg. Corrected Stress, psi:"},{"$f":"IF('Compressive Strength'!$J$54=\"\",\"\",'Compressive Strength'!$J$54)","v":4}]
[325,{"$f":"IF('Compressive Strength'!$G$58=\"\",\"\",'Compressive Strength'!$G$58)","v":""},{"$f":"IF('Compressive Strength'!$B$6=\"\",\"\",'Compressive Strength'!$B$6)","v":"Tex-120-E : PART (I or II) or Tex-121-E PART (I, II, or III)"},{"$f":"IF( 'Compressive Strength'!$B$21=\"\",\"\", 'Compressive Strength'!$B$21)","v":"Performed By  :"},{"$f":"IF('Compressive Strength'!$B$58=\"\",\"\",'Compressive Strength'!$B$58)","v":"Target Stress, psi:"}]
[326,{"$f":"IF('Compressive Strength'!$G$60=\"\",\"\",'Compressive Strength'!$G$60)","v":""},{"$f":"IF('Compressive Strength'!$B$6=\"\",\"\",'Compressive Strength'!$B$6)","v":"Tex-120-E : PART (I or II) or Tex-121-E PART (I, II, or III)"},{"$f":"IF( 'Compressive Strength'!$B$21=\"\",\"\", 'Compressive Strength'!$B$21)","v":"Performed By  :"},{"$f":"IF('Compressive Strength'!$B$60=\"\",\"\",'Compressive Strength'!$B$60)","v":"Target Percent Cement, %:"}]
[327,{"$f":"IF('Tex-113'!$E$21=\"\",\"\",'Tex-113'!$E$21)","v":""},{"$f":"IF('Tex-113'!$B$6=\"\",\"\",'Tex-113'!$B$6)","v":"Tex-113-E"},{"$f":"IF( 'Tex-113'!$B$20=\"\",\"\", 'Tex-113'!$B$20)","v":"Moisture-Density Work Sheet"},{"$f":"IF('Tex-113'!$B$21=\"\",\"\",'Tex-113'!$B$21)","v":"Percent Cement, (%):"}]
[328,{"$f":"IF('Tex-113'!$E$22=\"\",\"\",'Tex-113'!$E$22)","v":""},{"$f":"IF('Tex-113'!$B$6=\"\",\"\",'Tex-113'!$B$6)","v":"Tex-113-E"},{"$f":"IF( 'Tex-113'!$B$20=\"\",\"\", 'Tex-113'!$B$20)","v":"Moisture-Density Work Sheet"},{"$f":"IF('Tex-113'!$B$22=\"\",\"\",'Tex-113'!$B$22)","v":"Oven Dry Weight, (g):"}]
[329,{"$f":"IF('Tex-113'!$E$23=\"\",\"\",'Tex-113'!$E$23)","v":""},{"$f":"IF('Tex-113'!$B$6=\"\",\"\",'Tex-113'!$B$6)","v":"Tex-113-E"},{"$f":"IF( 'Tex-113'!$B$20=\"\",\"\", 'Tex-113'!$B$20)","v":"Moisture-Density Work Sheet"},{"$f":"IF('Tex-113'!$B$23=\"\",\"\",'Tex-113'!$B$23)","v":"Weight of Pycnometer & Water, (g):"}]
[330,{"$f":"IF('Tex-113'!$E$24=\"\",\"\",'Tex-113'!$E$24)","v":""},{"$f":"IF('Tex-113'!$B$6=\"\",\"\",'Tex-113'!$B$6)","v":"Tex-113-E"},{"$f":"IF( 'Tex-113'!$B$20=\"\",\"\", 'Tex-113'!$B$20)","v":"Moisture-Density Work Sheet"},{"$f":"IF('Tex-113'!$B$24=\"\",\"\",'Tex-113'!$B$24)","v":"Weight of Aggr., Pycn.& Water, (g):"}]
[331,{"$f":"IF('Tex-113'!$E$25=\"\",\"\",'Tex-113'!$E$25)","v":""},{"$f":"IF('Tex-113'!$B$6=\"\",\"\",'Tex-113'!$B$6)","v":"Tex-113-E"},{"$f":"IF( 'Tex-113'!$B$20=\"\",\"\", 'Tex-113'!$B$20)","v":"Moisture-Density Work Sheet"},{"$f":"IF('Tex-113'!$B$25=\"\",\"\",'Tex-113'!$B$25)","v":"Specific Gravity (Apparent):"}]
[332,{"$f":"IF('Tex-113'!$E$27=\"\",\"\",'Tex-113'!$E$27)","v":""},{"$f":"IF('Tex-113'!$B$6=\"\",\"\",'Tex-113'!$B$6)","v":"Tex-113-E"},{"$f":"IF( 'Tex-113'!$B$20=\"\",\"\", 'Tex-113'!$B$20)","v":"Moisture-Density Work Sheet"},{"$f":"IF('Tex-113'!$B$27=\"\",\"\",'Tex-113'!$B$27)","v":"Hygroscopic Moisture, (%):"}]
[333,{"$f":"IF('Tex-113'!$E$30=\"\",\"\",'Tex-113'!$E$30)","v":""},{"$f":"IF('Tex-113'!$B$6=\"\",\"\",'Tex-113'!$B$6)","v":"Tex-113-E"},{"$f":"IF( 'Tex-113'!$B$20=\"\",\"\", 'Tex-113'!$B$20)","v":"Moisture-Density Work Sheet"},{"$f":"IF('Tex-113'!$B$30=\"\",\"\",'Tex-113'!$B$30)","v":"Percent Water Content, (%):"},{"$f":"IF('Tex-113'!$E$29=\"\",\"\",'Tex-113'!$E$29)","v":1}]
[334,{"$f":"IF('Tex-113'!$F$30=\"\",\"\",'Tex-113'!$F$30)","v":""},{"$f":"IF('Tex-113'!$B$6=\"\",\"\",'Tex-113'!$B$6)","v":"Tex-113-E"},{"$f":"IF( 'Tex-113'!$B$20=\"\",\"\", 'Tex-113'!$B$20)","v":"Moisture-Density Work Sheet"},{"$f":"IF('Tex-113'!$B$30=\"\",\"\",'Tex-113'!$B$30)","v":"Percent Water Content, (%):"},{"$f":"IF('Tex-113'!$F$29=\"\",\"\",'Tex-113'!$F$29)","v":2}]
[335,{"$f":"IF('Tex-113'!$G$30=\"\",\"\",'Tex-113'!$G$30)","v":""},{"$f":"IF('Tex-113'!$B$6=\"\",\"\",'Tex-113'!$B$6)","v":"Tex-113-E"},{"$f":"IF( 'Tex-113'!$B$20=\"\",\"\", 'Tex-113'!$B$20)","v":"Moisture-Density Work Sheet"},{"$f":"IF('Tex-113'!$B$30=\"\",\"\",'Tex-113'!$B$30)","v":"Percent Water Content, (%):"},{"$f":"IF('Tex-113'!$G$29=\"\",\"\",'Tex-113'!$G$29)","v":3}]
[336,{"$f":"IF('Tex-113'!$H$30=\"\",\"\",'Tex-113'!$H$30)","v":""},{"$f":"IF('Tex-113'!$B$6=\"\",\"\",'Tex-113'!$B$6)","v":"Tex-113-E"},{"$f":"IF( 'Tex-113'!$B$20=\"\",\"\", 'Tex-113'!$B$20)","v":"Moisture-Density Work Sheet"},{"$f":"IF('Tex-113'!$B$30=\"\",\"\",'Tex-113'!$B$30)","v":"Percent Water Content, (%):"},{"$f":"IF('Tex-113'!$H$29=\"\",\"\",'Tex-113'!$H$29)","v":4}]
[337,{"$f":"IF('Tex-113'!$E$32=\"\",\"\",'Tex-113'!$E$32)","v":""},{"$f":"IF('Tex-113'!$B$6=\"\",\"\",'Tex-113'!$B$6)","v":"Tex-113-E"},{"$f":"IF( 'Tex-113'!$B$20=\"\",\"\", 'Tex-113'!$B$20)","v":"Moisture-Density Work Sheet"},{"$f":"IF('Tex-113'!$B$32=\"\",\"\",'Tex-113'!$B$32)","v":"Mass Material, (lb):"},{"$f":"IF('Tex-113'!$E$29=\"\",\"\",'Tex-113'!$E$29)","v":1}]
[338,{"$f":"IF('Tex-113'!$F$32=\"\",\"\",'Tex-113'!$F$32)","v":""},{"$f":"IF('Tex-113'!$B$6=\"\",\"\",'Tex-113'!$B$6)","v":"Tex-113-E"},{"$f":"IF( 'Tex-113'!$B$20=\"\",\"\", 'Tex-113'!$B$20)","v":"Moisture-Density Work Sheet"},{"$f":"IF('Tex-113'!$B$32=\"\",\"\",'Tex-113'!$B$32)","v":"Mass Material, (lb):"},{"$f":"IF('Tex-113'!$F$29=\"\",\"\",'Tex-113'!$F$29)","v":2}]
[339,{"$f":"IF('Tex-113'!$G$32=\"\",\"\",'Tex-113'!$G$32)","v":""},{"$f":"IF('Tex-113'!$B$6=\"\",\"\",'Tex-113'!$B$6)","v":"Tex-113-E"},{"$f":"IF( 'Tex-113'!$B$20=\"\",\"\", 'Tex-113'!$B$20)","v":"Moisture-Density Work Sheet"},{"$f":"IF('Tex-113'!$B$32=\"\",\"\",'Tex-113'!$B$32)","v":"Mass Material, (lb):"},{"$f":"IF('Tex-113'!$G$29=\"\",\"\",'Tex-113'!$G$29)","v":3}]
[340,{"$f":"IF('Tex-113'!$H$32=\"\",\"\",'Tex-113'!$H$32)","v":""},{"$f":"IF('Tex-113'!$B$6=\"\",\"\",'Tex-113'!$B$6)","v":"Tex-113-E"},{"$f":"IF( 'Tex-113'!$B$20=\"\",\"\", 'Tex-113'!$B$20)","v":"Moisture-Density Work Sheet"},{"$f":"IF('Tex-113'!$B$32=\"\",\"\",'Tex-113'!$B$32)","v":"Mass Material, (lb):"},{"$f":"IF('Tex-113'!$H$29=\"\",\"\",'Tex-113'!$H$29)","v":4}]
[341,{"$f":"IF('Tex-113'!$E$33=\"\",\"\",'Tex-113'!$E$33)","v":""},{"$f":"IF('Tex-113'!$B$6=\"\",\"\",'Tex-113'!$B$6)","v":"Tex-113-E"},{"$f":"IF( 'Tex-113'!$B$20=\"\",\"\", 'Tex-113'!$B$20)","v":"Moisture-Density Work Sheet"},{"$f":"IF('Tex-113'!$B$33=\"\",\"\",'Tex-113'!$B$33)","v":"Mass Water Added, (lb):"},{"$f":"IF('Tex-113'!$E$29=\"\",\"\",'Tex-113'!$E$29)","v":1}]
[342,{"$f":"IF('Tex-113'!$F$33=\"\",\"\",'Tex-113'!$F$33)","v":""},{"$f":"IF('Tex-113'!$B$6=\"\",\"\",'Tex-113'!$B$6)","v":"Tex-113-E"},{"$f":"IF( 'Tex-113'!$B$20=\"\",\"\", 'Tex-113'!$B$20)","v":"Moisture-Density Work Sheet"},{"$f":"IF('Tex-113'!$B$33=\"\",\"\",'Tex-113'!$B$33)","v":"Mass Water Added, (lb):"},{"$f":"IF('Tex-113'!$F$29=\"\",\"\",'Tex-113'!$F$29)","v":2}]
[343,{"$f":"IF('Tex-113'!$G$33=\"\",\"\",'Tex-113'!$G$33)","v":""},{"$f":"IF('Tex-113'!$B$6=\"\",\"\",'Tex-113'!$B$6)","v":"Tex-113-E"},{"$f":"IF( 'Tex-113'!$B$20=\"\",\"\", 'Tex-113'!$B$20)","v":"Moisture-Density Work Sheet"},{"$f":"IF('Tex-113'!$B$33=\"\",\"\",'Tex-113'!$B$33)","v":"Mass Water Added, (lb):"},{"$f":"IF('Tex-113'!$G$29=\"\",\"\",'Tex-113'!$G$29)","v":3}]
[344,{"$f":"IF('Tex-113'!$H$33=\"\",\"\",'Tex-113'!$H$33)","v":""},{"$f":"IF('Tex-113'!$B$6=\"\",\"\",'Tex-113'!$B$6)","v":"Tex-113-E"},{"$f":"IF( 'Tex-113'!$B$20=\"\",\"\", 'Tex-113'!$B$20)","v":"Moisture-Density Work Sheet"},{"$f":"IF('Tex-113'!$B$33=\"\",\"\",'Tex-113'!$B$33)","v":"Mass Water Added, (lb):"},{"$f":"IF('Tex-113'!$H$29=\"\",\"\",'Tex-113'!$H$29)","v":4}]
[345,{"$f":"IF('Tex-113'!$E$35=\"\",\"\",'Tex-113'!$E$35)","v":""},{"$f":"IF('Tex-113'!$B$6=\"\",\"\",'Tex-113'!$B$6)","v":"Tex-113-E"},{"$f":"IF( 'Tex-113'!$B$20=\"\",\"\", 'Tex-113'!$B$20)","v":"Moisture-Density Work Sheet"},{"$f":"IF('Tex-113'!$B$35=\"\",\"\",'Tex-113'!$B$35)","v":"Wet Mass Specimen & Mold, (lb):"},{"$f":"IF('Tex-113'!$E$29=\"\",\"\",'Tex-113'!$E$29)","v":1}]
[346,{"$f":"IF('Tex-113'!$F$35=\"\",\"\",'Tex-113'!$F$35)","v":""},{"$f":"IF('Tex-113'!$B$6=\"\",\"\",'Tex-113'!$B$6)","v":"Tex-113-E"},{"$f":"IF( 'Tex-113'!$B$20=\"\",\"\", 'Tex-113'!$B$20)","v":"Moisture-Density Work Sheet"},{"$f":"IF('Tex-113'!$B$35=\"\",\"\",'Tex-113'!$B$35)","v":"Wet Mass Specimen & Mold, (lb):"},{"$f":"IF('Tex-113'!$F$29=\"\",\"\",'Tex-113'!$F$29)","v":2}]
[347,{"$f":"IF('Tex-113'!$G$35=\"\",\"\",'Tex-113'!$G$35)","v":""},{"$f":"IF('Tex-113'!$B$6=\"\",\"\",'Tex-113'!$B$6)","v":"Tex-113-E"},{"$f":"IF( 'Tex-113'!$B$20=\"\",\"\", 'Tex-113'!$B$20)","v":"Moisture-Density Work Sheet"},{"$f":"IF('Tex-113'!$B$35=\"\",\"\",'Tex-113'!$B$35)","v":"Wet Mass Specimen & Mold, (lb):"},{"$f":"IF('Tex-113'!$G$29=\"\",\"\",'Tex-113'!$G$29)","v":3}]
[348,{"$f":"IF('Tex-113'!$H$35=\"\",\"\",'Tex-113'!$H$35)","v":""},{"$f":"IF('Tex-113'!$B$6=\"\",\"\",'Tex-113'!$B$6)","v":"Tex-113-E"},{"$f":"IF( 'Tex-113'!$B$20=\"\",\"\", 'Tex-113'!$B$20)","v":"Moisture-Density Work Sheet"},{"$f":"IF('Tex-113'!$B$35=\"\",\"\",'Tex-113'!$B$35)","v":"Wet Mass Specimen & Mold, (lb):"},{"$f":"IF('Tex-113'!$H$29=\"\",\"\",'Tex-113'!$H$29)","v":4}]
[349,{"$f":"IF('Tex-113'!$E$36=\"\",\"\",'Tex-113'!$E$36)","v":""},{"$f":"IF('Tex-113'!$B$6=\"\",\"\",'Tex-113'!$B$6)","v":"Tex-113-E"},{"$f":"IF( 'Tex-113'!$B$20=\"\",\"\", 'Tex-113'!$B$20)","v":"Moisture-Density Work Sheet"},{"$f":"IF('Tex-113'!$B$36=\"\",\"\",'Tex-113'!$B$36)","v":"Tare Mass Mold, (lb):"},{"$f":"IF('Tex-113'!$E$29=\"\",\"\",'Tex-113'!$E$29)","v":1}]
[350,{"$f":"IF('Tex-113'!$F$36=\"\",\"\",'Tex-113'!$F$36)","v":""},{"$f":"IF('Tex-113'!$B$6=\"\",\"\",'Tex-113'!$B$6)","v":"Tex-113-E"},{"$f":"IF( 'Tex-113'!$B$20=\"\",\"\", 'Tex-113'!$B$20)","v":"Moisture-Density Work Sheet"},{"$f":"IF('Tex-113'!$B$36=\"\",\"\",'Tex-113'!$B$36)","v":"Tare Mass Mold, (lb):"},{"$f":"IF('Tex-113'!$F$29=\"\",\"\",'Tex-113'!$F$29)","v":2}]
[351,{"$f":"IF('Tex-113'!$G$36=\"\",\"\",'Tex-113'!$G$36)","v":""},{"$f":"IF('Tex-113'!$B$6=\"\",\"\",'Tex-113'!$B$6)","v":"Tex-113-E"},{"$f":"IF( 'Tex-113'!$B$20=\"\",\"\", 'Tex-113'!$B$20)","v":"Moisture-Density Work Sheet"},{"$f":"IF('Tex-113'!$B$36=\"\",\"\",'Tex-113'!$B$36)","v":"Tare Mass Mold, (lb):"},{"$f":"IF('Tex-113'!$G$29=\"\",\"\",'Tex-113'!$G$29)","v":3}]
[352,{"$f":"IF('Tex-113'!$H$36=\"\",\"\",'Tex-113'!$H$36)","v":""},{"$f":"IF('Tex-113'!$B$6=\"\",\"\",'Tex-113'!$B$6)","v":"Tex-113-E"},{"$f":"IF( 'Tex-113'!$B$20=\"\",\"\", 'Tex-113'!$B$20)","v":"Moisture-Density Work Sheet"},{"$f":"IF('Tex-113'!$B$36=\"\",\"\",'Tex-113'!$B$36)","v":"Tare Mass Mold, (lb):"},{"$f":"IF('Tex-113'!$H$29=\"\",\"\",'Tex-113'!$H$29)","v":4}]
[353,{"$f":"IF('Tex-113'!$E$37=\"\",\"\",'Tex-113'!$E$37)","v":""},{"$f":"IF('Tex-113'!$B$6=\"\",\"\",'Tex-113'!$B$6)","v":"Tex-113-E"},{"$f":"IF( 'Tex-113'!$B$20=\"\",\"\", 'Tex-113'!$B$20)","v":"Moisture-Density Work Sheet"},{"$f":"IF('Tex-113'!$B$37=\"\",\"\",'Tex-113'!$B$37)","v":"Wet Mass Specimen, (lb):"},{"$f":"IF('Tex-113'!$E$29=\"\",\"\",'Tex-113'!$E$29)","v":1}]
[354,{"$f":"IF('Tex-113'!$F$37=\"\",\"\",'Tex-113'!$F$37)","v":""},{"$f":"IF('Tex-113'!$B$6=\"\",\"\",'Tex-113'!$B$6)","v":"Tex-113-E"},{"$f":"IF( 'Tex-113'!$B$20=\"\",\"\", 'Tex-113'!$B$20)","v":"Moisture-Density Work Sheet"},{"$f":"IF('Tex-113'!$B$37=\"\",\"\",'Tex-113'!$B$37)","v":"Wet Mass Specimen, (lb):"},{"$f":"IF('Tex-113'!$F$29=\"\",\"\",'Tex-113'!$F$29)","v":2}]
[355,{"$f":"IF('Tex-113'!$G$37=\"\",\"\",'Tex-113'!$G$37)","v":""},{"$f":"IF('Tex-113'!$B$6=\"\",\"\",'Tex-113'!$B$6)","v":"Tex-113-E"},{"$f":"IF( 'Tex-113'!$B$20=\"\",\"\", 'Tex-113'!$B$20)","v":"Moisture-Density Work Sheet"},{"$f":"IF('Tex-113'!$B$37=\"\",\"\",'Tex-113'!$B$37)","v":"Wet Mass Specimen, (lb):"},{"$f":"IF('Tex-113'!$G$29=\"\",\"\",'Tex-113'!$G$29)","v":3}]
[356,{"$f":"IF('Tex-113'!$H$37=\"\",\"\",'Tex-113'!$H$37)","v":""},{"$f":"IF('Tex-113'!$B$6=\"\",\"\",'Tex-113'!$B$6)","v":"Tex-113-E"},{"$f":"IF( 'Tex-113'!$B$20=\"\",\"\", 'Tex-113'!$B$20)","v":"Moisture-Density Work Sheet"},{"$f":"IF('Tex-113'!$B$37=\"\",\"\",'Tex-113'!$B$37)","v":"Wet Mass Specimen, (lb):"},{"$f":"IF('Tex-113'!$H$29=\"\",\"\",'Tex-113'!$H$29)","v":4}]
[357,{"$f":"IF('Tex-113'!$E$38=\"\",\"\",'Tex-113'!$E$38)","v":""},{"$f":"IF('Tex-113'!$B$6=\"\",\"\",'Tex-113'!$B$6)","v":"Tex-113-E"},{"$f":"IF( 'Tex-113'!$B$20=\"\",\"\", 'Tex-113'!$B$20)","v":"Moisture-Density Work Sheet"},{"$f":"IF('Tex-113'!$B$38=\"\",\"\",'Tex-113'!$B$38)","v":"Height of Specimen, (in.):"},{"$f":"IF('Tex-113'!$E$29=\"\",\"\",'Tex-113'!$E$29)","v":1}]
[358,{"$f":"IF('Tex-113'!$F$38=\"\",\"\",'Tex-113'!$F$38)","v":""},{"$f":"IF('Tex-113'!$B$6=\"\",\"\",'Tex-113'!$B$6)","v":"Tex-113-E"},{"$f":"IF( 'Tex-113'!$B$20=\"\",\"\", 'Tex-113'!$B$20)","v":"Moisture-Density Work Sheet"},{"$f":"IF('Tex-113'!$B$38=\"\",\"\",'Tex-113'!$B$38)","v":"Height of Specimen, (in.):"},{"$f":"IF('Tex-113'!$F$29=\"\",\"\",'Tex-113'!$F$29)","v":2}]
[359,{"$f":"IF('Tex-113'!$G$38=\"\",\"\",'Tex-113'!$G$38)","v":""},{"$f":"IF('Tex-113'!$B$6=\"\",\"\",'Tex-113'!$B$6)","v":"Tex-113-E"},{"$f":"IF( 'Tex-113'!$B$20=\"\",\"\", 'Tex-113'!$B$20)","v":"Moisture-Density Work Sheet"},{"$f":"IF('Tex-113'!$B$38=\"\",\"\",'Tex-113'!$B$38)","v":"Height of Specimen, (in.):"},{"$f":"IF('Tex-113'!$G$29=\"\",\"\",'Tex-113'!$G$29)","v":3}]
[360,{"$f":"IF('Tex-113'!$H$38=\"\",\"\",'Tex-113'!$H$38)","v":""},{"$f":"IF('Tex-113'!$B$6=\"\",\"\",'Tex-113'!$B$6)","v":"Tex-113-E"},{"$f":"IF( 'Tex-113'!$B$20=\"\",\"\", 'Tex-113'!$B$20)","v":"Moisture-Density Work Sheet"},{"$f":"IF('Tex-113'!$B$38=\"\",\"\",'Tex-113'!$B$38)","v":"Height of Specimen, (in.):"},{"$f":"IF('Tex-113'!$H$29=\"\",\"\",'Tex-113'!$H$29)","v":4}]
[361,{"$f":"IF('Tex-113'!$E$39=\"\",\"\",'Tex-113'!$E$39)","v":""},{"$f":"IF('Tex-113'!$B$6=\"\",\"\",'Tex-113'!$B$6)","v":"Tex-113-E"},{"$f":"IF( 'Tex-113'!$B$20=\"\",\"\", 'Tex-113'!$B$20)","v":"Moisture-Density Work Sheet"},{"$f":"IF('Tex-113'!$B$39=\"\",\"\",'Tex-113'!$B$39)","v":"Volume per Linear mm., (in.):"},{"$f":"IF('Tex-113'!$E$29=\"\",\"\",'Tex-113'!$E$29)","v":1}]
[362,{"$f":"IF('Tex-113'!$F$39=\"\",\"\",'Tex-113'!$F$39)","v":""},{"$f":"IF('Tex-113'!$B$6=\"\",\"\",'Tex-113'!$B$6)","v":"Tex-113-E"},{"$f":"IF( 'Tex-113'!$B$20=\"\",\"\", 'Tex-113'!$B$20)","v":"Moisture-Density Work Sheet"},{"$f":"IF('Tex-113'!$B$39=\"\",\"\",'Tex-113'!$B$39)","v":"Volume per Linear mm., (in.):"},{"$f":"IF('Tex-113'!$F$29=\"\",\"\",'Tex-113'!$F$29)","v":2}]
[363,{"$f":"IF('Tex-113'!$G$39=\"\",\"\",'Tex-113'!$G$39)","v":""},{"$f":"IF('Tex-113'!$B$6=\"\",\"\",'Tex-113'!$B$6)","v":"Tex-113-E"},{"$f":"IF( 'Tex-113'!$B$20=\"\",\"\", 'Tex-113'!$B$20)","v":"Moisture-Density Work Sheet"},{"$f":"IF('Tex-113'!$B$39=\"\",\"\",'Tex-113'!$B$39)","v":"Volume per Linear mm., (in.):"},{"$f":"IF('Tex-113'!$G$29=\"\",\"\",'Tex-113'!$G$29)","v":3}]
[364,{"$f":"IF('Tex-113'!$H$39=\"\",\"\",'Tex-113'!$H$39)","v":""},{"$f":"IF('Tex-113'!$B$6=\"\",\"\",'Tex-113'!$B$6)","v":"Tex-113-E"},{"$f":"IF( 'Tex-113'!$B$20=\"\",\"\", 'Tex-113'!$B$20)","v":"Moisture-Density Work Sheet"},{"$f":"IF('Tex-113'!$B$39=\"\",\"\",'Tex-113'!$B$39)","v":"Volume per Linear mm., (in.):"},{"$f":"IF('Tex-113'!$H$29=\"\",\"\",'Tex-113'!$H$29)","v":4}]
[365,{"$f":"IF('Tex-113'!$E$40=\"\",\"\",'Tex-113'!$E$40)","v":""},{"$f":"IF('Tex-113'!$B$6=\"\",\"\",'Tex-113'!$B$6)","v":"Tex-113-E"},{"$f":"IF( 'Tex-113'!$B$20=\"\",\"\", 'Tex-113'!$B$20)","v":"Moisture-Density Work Sheet"},{"$f":"IF('Tex-113'!$B$40=\"\",\"\",'Tex-113'!$B$40)","v":"Volume of Specimen, (ft^3):"},{"$f":"IF('Tex-113'!$E$29=\"\",\"\",'Tex-113'!$E$29)","v":1}]
[366,{"$f":"IF('Tex-113'!$F$40=\"\",\"\",'Tex-113'!$F$40)","v":""},{"$f":"IF('Tex-113'!$B$6=\"\",\"\",'Tex-113'!$B$6)","v":"Tex-113-E"},{"$f":"IF( 'Tex-113'!$B$20=\"\",\"\", 'Tex-113'!$B$20)","v":"Moisture-Density Work Sheet"},{"$f":"IF('Tex-113'!$B$40=\"\",\"\",'Tex-113'!$B$40)","v":"Volume of Specimen, (ft^3):"},{"$f":"IF('Tex-113'!$F$29=\"\",\"\",'Tex-113'!$F$29)","v":2}]
[367,{"$f":"IF('Tex-113'!$G$40=\"\",\"\",'Tex-113'!$G$40)","v":""},{"$f":"IF('Tex-113'!$B$6=\"\",\"\",'Tex-113'!$B$6)","v":"Tex-113-E"},{"$f":"IF( 'Tex-113'!$B$20=\"\",\"\", 'Tex-113'!$B$20)","v":"Moisture-Density Work Sheet"},{"$f":"IF('Tex-113'!$B$40=\"\",\"\",'Tex-113'!$B$40)","v":"Volume of Specimen, (ft^3):"},{"$f":"IF('Tex-113'!$G$29=\"\",\"\",'Tex-113'!$G$29)","v":3}]
[368,{"$f":"IF('Tex-113'!$H$40=\"\",\"\",'Tex-113'!$H$40)","v":""},{"$f":"IF('Tex-113'!$B$6=\"\",\"\",'Tex-113'!$B$6)","v":"Tex-113-E"},{"$f":"IF( 'Tex-113'!$B$20=\"\",\"\", 'Tex-113'!$B$20)","v":"Moisture-Density Work Sheet"},{"$f":"IF('Tex-113'!$B$40=\"\",\"\",'Tex-113'!$B$40)","v":"Volume of Specimen, (ft^3):"},{"$f":"IF('Tex-113'!$H$29=\"\",\"\",'Tex-113'!$H$29)","v":4}]
[369,{"$f":"IF('Tex-113'!$E$41=\"\",\"\",'Tex-113'!$E$41)","v":""},{"$f":"IF('Tex-113'!$B$6=\"\",\"\",'Tex-113'!$B$6)","v":"Tex-113-E"},{"$f":"IF( 'Tex-113'!$B$20=\"\",\"\", 'Tex-113'!$B$20)","v":"Moisture-Density Work Sheet"},{"$f":"IF('Tex-113'!$B$41=\"\",\"\",'Tex-113'!$B$41)","v":"Wet Density of Specimen, (lb):"},{"$f":"IF('Tex-113'!$E$29=\"\",\"\",'Tex-113'!$E$29)","v":1}]
[370,{"$f":"IF('Tex-113'!$F$41=\"\",\"\",'Tex-113'!$F$41)","v":""},{"$f":"IF('Tex-113'!$B$6=\"\",\"\",'Tex-113'!$B$6)","v":"Tex-113-E"},{"$f":"IF( 'Tex-113'!$B$20=\"\",\"\", 'Tex-113'!$B$20)","v":"Moisture-Density Work Sheet"},{"$f":"IF('Tex-113'!$B$41=\"\",\"\",'Tex-113'!$B$41)","v":"Wet Density of Specimen, (lb):"},{"$f":"IF('Tex-113'!$F$29=\"\",\"\",'Tex-113'!$F$29)","v":2}]
[371,{"$f":"IF('Tex-113'!$G$41=\"\",\"\",'Tex-113'!$G$41)","v":""},{"$f":"IF('Tex-113'!$B$6=\"\",\"\",'Tex-113'!$B$6)","v":"Tex-113-E"},{"$f":"IF( 'Tex-113'!$B$20=\"\",\"\", 'Tex-113'!$B$20)","v":"Moisture-Density Work Sheet"},{"$f":"IF('Tex-113'!$B$41=\"\",\"\",'Tex-113'!$B$41)","v":"Wet Density of Specimen, (lb):"},{"$f":"IF('Tex-113'!$G$29=\"\",\"\",'Tex-113'!$G$29)","v":3}]
[372,{"$f":"IF('Tex-113'!$H$41=\"\",\"\",'Tex-113'!$H$41)","v":""},{"$f":"IF('Tex-113'!$B$6=\"\",\"\",'Tex-113'!$B$6)","v":"Tex-113-E"},{"$f":"IF( 'Tex-113'!$B$20=\"\",\"\", 'Tex-113'!$B$20)","v":"Moisture-Density Work Sheet"},{"$f":"IF('Tex-113'!$B$41=\"\",\"\",'Tex-113'!$B$41)","v":"Wet Density of Specimen, (lb):"},{"$f":"IF('Tex-113'!$H$29=\"\",\"\",'Tex-113'!$H$29)","v":4}]
[373,{"$f":"IF('Tex-113'!$E$42=\"\",\"\",'Tex-113'!$E$42)","v":""},{"$f":"IF('Tex-113'!$B$6=\"\",\"\",'Tex-113'!$B$6)","v":"Tex-113-E"},{"$f":"IF( 'Tex-113'!$B$20=\"\",\"\", 'Tex-113'!$B$20)","v":"Moisture-Density Work Sheet"},{"$f":"IF('Tex-113'!$B$42=\"\",\"\",'Tex-113'!$B$42)","v":"Wet Mass of Pan & Specimen, (lb):"},{"$f":"IF('Tex-113'!$E$29=\"\",\"\",'Tex-113'!$E$29)","v":1}]
[374,{"$f":"IF('Tex-113'!$F$42=\"\",\"\",'Tex-113'!$F$42)","v":""},{"$f":"IF('Tex-113'!$B$6=\"\",\"\",'Tex-113'!$B$6)","v":"Tex-113-E"},{"$f":"IF( 'Tex-113'!$B$20=\"\",\"\", 'Tex-113'!$B$20)","v":"Moisture-Density Work Sheet"},{"$f":"IF('Tex-113'!$B$42=\"\",\"\",'Tex-113'!$B$42)","v":"Wet Mass of Pan & Specimen, (lb):"},{"$f":"IF('Tex-113'!$F$29=\"\",\"\",'Tex-113'!$F$29)","v":2}]
[375,{"$f":"IF('Tex-113'!$G$42=\"\",\"\",'Tex-113'!$G$42)","v":""},{"$f":"IF('Tex-113'!$B$6=\"\",\"\",'Tex-113'!$B$6)","v":"Tex-113-E"},{"$f":"IF( 'Tex-113'!$B$20=\"\",\"\", 'Tex-113'!$B$20)","v":"Moisture-Density Work Sheet"},{"$f":"IF('Tex-113'!$B$42=\"\",\"\",'Tex-113'!$B$42)","v":"Wet Mass of Pan & Specimen, (lb):"},{"$f":"IF('Tex-113'!$G$29=\"\",\"\",'Tex-113'!$G$29)","v":3}]
[376,{"$f":"IF('Tex-113'!$H$42=\"\",\"\",'Tex-113'!$H$42)","v":""},{"$f":"IF('Tex-113'!$B$6=\"\",\"\",'Tex-113'!$B$6)","v":"Tex-113-E"},{"$f":"IF( 'Tex-113'!$B$20=\"\",\"\", 'Tex-113'!$B$20)","v":"Moisture-Density Work Sheet"},{"$f":"IF('Tex-113'!$B$42=\"\",\"\",'Tex-113'!$B$42)","v":"Wet Mass of Pan & Specimen, (lb):"},{"$f":"IF('Tex-113'!$H$29=\"\",\"\",'Tex-113'!$H$29)","v":4}]
[377,{"$f":"IF('Tex-113'!$E$43=\"\",\"\",'Tex-113'!$E$43)","v":""},{"$f":"IF('Tex-113'!$B$6=\"\",\"\",'Tex-113'!$B$6)","v":"Tex-113-E"},{"$f":"IF( 'Tex-113'!$B$20=\"\",\"\", 'Tex-113'!$B$20)","v":"Moisture-Density Work Sheet"},{"$f":"IF('Tex-113'!$B$43=\"\",\"\",'Tex-113'!$B$43)","v":"Dry Mass Pan & Specimen, (lb):"},{"$f":"IF('Tex-113'!$E$29=\"\",\"\",'Tex-113'!$E$29)","v":1}]
[378,{"$f":"IF('Tex-113'!$F$43=\"\",\"\",'Tex-113'!$F$43)","v":""},{"$f":"IF('Tex-113'!$B$6=\"\",\"\",'Tex-113'!$B$6)","v":"Tex-113-E"},{"$f":"IF( 'Tex-113'!$B$20=\"\",\"\", 'Tex-113'!$B$20)","v":"Moisture-Density Work Sheet"},{"$f":"IF('Tex-113'!$B$43=\"\",\"\",'Tex-113'!$B$43)","v":"Dry Mass Pan & Specimen, (lb):"},{"$f":"IF('Tex-113'!$F$29=\"\",\"\",'Tex-113'!$F$29)","v":2}]
[379,{"$f":"IF('Tex-113'!$G$43=\"\",\"\",'Tex-113'!$G$43)","v":""},{"$f":"IF('Tex-113'!$B$6=\"\",\"\",'Tex-113'!$B$6)","v":"Tex-113-E"},{"$f":"IF( 'Tex-113'!$B$20=\"\",\"\", 'Tex-113'!$B$20)","v":"Moisture-Density Work Sheet"},{"$f":"IF('Tex-113'!$B$43=\"\",\"\",'Tex-113'!$B$43)","v":"Dry Mass Pan & Specimen, (lb):"},{"$f":"IF('Tex-113'!$G$29=\"\",\"\",'Tex-113'!$G$29)","v":3}]
[380,{"$f":"IF('Tex-113'!$H$43=\"\",\"\",'Tex-113'!$H$43)","v":""},{"$f":"IF('Tex-113'!$B$6=\"\",\"\",'Tex-113'!$B$6)","v":"Tex-113-E"},{"$f":"IF( 'Tex-113'!$B$20=\"\",\"\", 'Tex-113'!$B$20)","v":"Moisture-Density Work Sheet"},{"$f":"IF('Tex-113'!$B$43=\"\",\"\",'Tex-113'!$B$43)","v":"Dry Mass Pan & Specimen, (lb):"},{"$f":"IF('Tex-113'!$H$29=\"\",\"\",'Tex-113'!$H$29)","v":4}]
[381,{"$f":"IF('Tex-113'!$E$44=\"\",\"\",'Tex-113'!$E$44)","v":""},{"$f":"IF('Tex-113'!$B$6=\"\",\"\",'Tex-113'!$B$6)","v":"Tex-113-E"},{"$f":"IF( 'Tex-113'!$B$20=\"\",\"\", 'Tex-113'!$B$20)","v":"Moisture-Density Work Sheet"},{"$f":"IF('Tex-113'!$B$44=\"\",\"\",'Tex-113'!$B$44)","v":"Tare Mass Pan, (lb):"},{"$f":"IF('Tex-113'!$E$29=\"\",\"\",'Tex-113'!$E$29)","v":1}]
[382,{"$f":"IF('Tex-113'!$F$44=\"\",\"\",'Tex-113'!$F$44)","v":""},{"$f":"IF('Tex-113'!$B$6=\"\",\"\",'Tex-113'!$B$6)","v":"Tex-113-E"},{"$f":"IF( 'Tex-113'!$B$20=\"\",\"\", 'Tex-113'!$B$20)","v":"Moisture-Density Work Sheet"},{"$f":"IF('Tex-113'!$B$44=\"\",\"\",'Tex-113'!$B$44)","v":"Tare Mass Pan, (lb):"},{"$f":"IF('Tex-113'!$F$29=\"\",\"\",'Tex-113'!$F$29)","v":2}]
[383,{"$f":"IF('Tex-113'!$G$44=\"\",\"\",'Tex-113'!$G$44)","v":""},{"$f":"IF('Tex-113'!$B$6=\"\",\"\",'Tex-113'!$B$6)","v":"Tex-113-E"},{"$f":"IF( 'Tex-113'!$B$20=\"\",\"\", 'Tex-113'!$B$20)","v":"Moisture-Density Work Sheet"},{"$f":"IF('Tex-113'!$B$44=\"\",\"\",'Tex-113'!$B$44)","v":"Tare Mass Pan, (lb):"},{"$f":"IF('Tex-113'!$G$29=\"\",\"\",'Tex-113'!$G$29)","v":3}]
[384,{"$f":"IF('Tex-113'!$H$44=\"\",\"\",'Tex-113'!$H$44)","v":""},{"$f":"IF('Tex-113'!$B$6=\"\",\"\",'Tex-113'!$B$6)","v":"Tex-113-E"},{"$f":"IF( 'Tex-113'!$B$20=\"\",\"\", 'Tex-113'!$B$20)","v":"Moisture-Density Work Sheet"},{"$f":"IF('Tex-113'!$B$44=\"\",\"\",'Tex-113'!$B$44)","v":"Tare Mass Pan, (lb):"},{"$f":"IF('Tex-113'!$H$29=\"\",\"\",'Tex-113'!$H$29)","v":4}]
[385,{"$f":"IF('Tex-113'!$E$45=\"\",\"\",'Tex-113'!$E$45)","v":""},{"$f":"IF('Tex-113'!$B$6=\"\",\"\",'Tex-113'!$B$6)","v":"Tex-113-E"},{"$f":"IF( 'Tex-113'!$B$20=\"\",\"\", 'Tex-113'!$B$20)","v":"Moisture-Density Work Sheet"},{"$f":"IF('Tex-113'!$B$45=\"\",\"\",'Tex-113'!$B$45)","v":"Dry Mass Material , (lb):"},{"$f":"IF('Tex-113'!$E$29=\"\",\"\",'Tex-113'!$E$29)","v":1}]
[386,{"$f":"IF('Tex-113'!$F$45=\"\",\"\",'Tex-113'!$F$45)","v":""},{"$f":"IF('Tex-113'!$B$6=\"\",\"\",'Tex-113'!$B$6)","v":"Tex-113-E"},{"$f":"IF( 'Tex-113'!$B$20=\"\",\"\", 'Tex-113'!$B$20)","v":"Moisture-Density Work Sheet"},{"$f":"IF('Tex-113'!$B$45=\"\",\"\",'Tex-113'!$B$45)","v":"Dry Mass Material , (lb):"},{"$f":"IF('Tex-113'!$F$29=\"\",\"\",'Tex-113'!$F$29)","v":2}]
[387,{"$f":"IF('Tex-113'!$G$45=\"\",\"\",'Tex-113'!$G$45)","v":""},{"$f":"IF('Tex-113'!$B$6=\"\",\"\",'Tex-113'!$B$6)","v":"Tex-113-E"},{"$f":"IF( 'Tex-113'!$B$20=\"\",\"\", 'Tex-113'!$B$20)","v":"Moisture-Density Work Sheet"},{"$f":"IF('Tex-113'!$B$45=\"\",\"\",'Tex-113'!$B$45)","v":"Dry Mass Material , (lb):"},{"$f":"IF('Tex-113'!$G$29=\"\",\"\",'Tex-113'!$G$29)","v":3}]
[388,{"$f":"IF('Tex-113'!$H$45=\"\",\"\",'Tex-113'!$H$45)","v":""},{"$f":"IF('Tex-113'!$B$6=\"\",\"\",'Tex-113'!$B$6)","v":"Tex-113-E"},{"$f":"IF( 'Tex-113'!$B$20=\"\",\"\", 'Tex-113'!$B$20)","v":"Moisture-Density Work Sheet"},{"$f":"IF('Tex-113'!$B$45=\"\",\"\",'Tex-113'!$B$45)","v":"Dry Mass Material , (lb):"},{"$f":"IF('Tex-113'!$H$29=\"\",\"\",'Tex-113'!$H$29)","v":4}]
[389,{"$f":"IF('Tex-113'!$E$46=\"\",\"\",'Tex-113'!$E$46)","v":""},{"$f":"IF('Tex-113'!$B$6=\"\",\"\",'Tex-113'!$B$6)","v":"Tex-113-E"},{"$f":"IF( 'Tex-113'!$B$20=\"\",\"\", 'Tex-113'!$B$20)","v":"Moisture-Density Work Sheet"},{"$f":"IF('Tex-113'!$B$46=\"\",\"\",'Tex-113'!$B$46)","v":"Mass Water, (lb):"},{"$f":"IF('Tex-113'!$E$29=\"\",\"\",'Tex-113'!$E$29)","v":1}]
[390,{"$f":"IF('Tex-113'!$F$46=\"\",\"\",'Tex-113'!$F$46)","v":""},{"$f":"IF('Tex-113'!$B$6=\"\",\"\",'Tex-113'!$B$6)","v":"Tex-113-E"},{"$f":"IF( 'Tex-113'!$B$20=\"\",\"\", 'Tex-113'!$B$20)","v":"Moisture-Density Work Sheet"},{"$f":"IF('Tex-113'!$B$46=\"\",\"\",'Tex-113'!$B$46)","v":"Mass Water, (lb):"},{"$f":"IF('Tex-113'!$F$29=\"\",\"\",'Tex-113'!$F$29)","v":2}]
[391,{"$f":"IF('Tex-113'!$G$46=\"\",\"\",'Tex-113'!$G$46)","v":""},{"$f":"IF('Tex-113'!$B$6=\"\",\"\",'Tex-113'!$B$6)","v":"Tex-113-E"},{"$f":"IF( 'Tex-113'!$B$20=\"\",\"\", 'Tex-113'!$B$20)","v":"Moisture-Density Work Sheet"},{"$f":"IF('Tex-113'!$B$46=\"\",\"\",'Tex-113'!$B$46)","v":"Mass Water, (lb):"},{"$f":"IF('Tex-113'!$G$29=\"\",\"\",'Tex-113'!$G$29)","v":3}]
[392,{"$f":"IF('Tex-113'!$H$46=\"\",\"\",'Tex-113'!$H$46)","v":""},{"$f":"IF('Tex-113'!$B$6=\"\",\"\",'Tex-113'!$B$6)","v":"Tex-113-E"},{"$f":"IF( 'Tex-113'!$B$20=\"\",\"\", 'Tex-113'!$B$20)","v":"Moisture-Density Work Sheet"},{"$f":"IF('Tex-113'!$B$46=\"\",\"\",'Tex-113'!$B$46)","v":"Mass Water, (lb):"},{"$f":"IF('Tex-113'!$H$29=\"\",\"\",'Tex-113'!$H$29)","v":4}]
[393,{"$f":"IF('Tex-113'!$E$47=\"\",\"\",'Tex-113'!$E$47)","v":""},{"$f":"IF('Tex-113'!$B$6=\"\",\"\",'Tex-113'!$B$6)","v":"Tex-113-E"},{"$f":"IF( 'Tex-113'!$B$20=\"\",\"\", 'Tex-113'!$B$20)","v":"Moisture-Density Work Sheet"},{"$f":"IF('Tex-113'!$B$47=\"\",\"\",'Tex-113'!$B$47)","v":"Percent Water on Total , (%):"},{"$f":"IF('Tex-113'!$E$29=\"\",\"\",'Tex-113'!$E$29)","v":1}]
[394,{"$f":"IF('Tex-113'!$F$47=\"\",\"\",'Tex-113'!$F$47)","v":""},{"$f":"IF('Tex-113'!$B$6=\"\",\"\",'Tex-113'!$B$6)","v":"Tex-113-E"},{"$f":"IF( 'Tex-113'!$B$20=\"\",\"\", 'Tex-113'!$B$20)","v":"Moisture-Density Work Sheet"},{"$f":"IF('Tex-113'!$B$47=\"\",\"\",'Tex-113'!$B$47)","v":"Percent Water on Total , (%):"},{"$f":"IF('Tex-113'!$F$29=\"\",\"\",'Tex-113'!$F$29)","v":2}]
[395,{"$f":"IF('Tex-113'!$G$47=\"\",\"\",'Tex-113'!$G$47)","v":""},{"$f":"IF('Tex-113'!$B$6=\"\",\"\",'Tex-113'!$B$6)","v":"Tex-113-E"},{"$f":"IF( 'Tex-113'!$B$20=\"\",\"\", 'Tex-113'!$B$20)","v":"Moisture-Density Work Sheet"},{"$f":"IF('Tex-113'!$B$47=\"\",\"\",'Tex-113'!$B$47)","v":"Percent Water on Total , (%):"},{"$f":"IF('Tex-113'!$G$29=\"\",\"\",'Tex-113'!$G$29)","v":3}]
[396,{"$f":"IF('Tex-113'!$H$47=\"\",\"\",'Tex-113'!$H$47)","v":""},{"$f":"IF('Tex-113'!$B$6=\"\",\"\",'Tex-113'!$B$6)","v":"Tex-113-E"},{"$f":"IF( 'Tex-113'!$B$20=\"\",\"\", 'Tex-113'!$B$20)","v":"Moisture-Density Work Sheet"},{"$f":"IF('Tex-113'!$B$47=\"\",\"\",'Tex-113'!$B$47)","v":"Percent Water on Total , (%):"},{"$f":"IF('Tex-113'!$H$29=\"\",\"\",'Tex-113'!$H$29)","v":4}]
[397,{"$f":"IF('Tex-113'!$E$48=\"\",\"\",'Tex-113'!$E$48)","v":""},{"$f":"IF('Tex-113'!$B$6=\"\",\"\",'Tex-113'!$B$6)","v":"Tex-113-E"},{"$f":"IF( 'Tex-113'!$B$20=\"\",\"\", 'Tex-113'!$B$20)","v":"Moisture-Density Work Sheet"},{"$f":"IF('Tex-113'!$B$48=\"\",\"\",'Tex-113'!$B$48)","v":"Dry Density, (pcf):"},{"$f":"IF('Tex-113'!$E$29=\"\",\"\",'Tex-113'!$E$29)","v":1}]
[398,{"$f":"IF('Tex-113'!$F$48=\"\",\"\",'Tex-113'!$F$48)","v":""},{"$f":"IF('Tex-113'!$B$6=\"\",\"\",'Tex-113'!$B$6)","v":"Tex-113-E"},{"$f":"IF( 'Tex-113'!$B$20=\"\",\"\", 'Tex-113'!$B$20)","v":"Moisture-Density Work Sheet"},{"$f":"IF('Tex-113'!$B$48=\"\",\"\",'Tex-113'!$B$48)","v":"Dry Density, (pcf):"},{"$f":"IF('Tex-113'!$F$29=\"\",\"\",'Tex-113'!$F$29)","v":2}]
[399,{"$f":"IF('Tex-113'!$G$48=\"\",\"\",'Tex-113'!$G$48)","v":""},{"$f":"IF('Tex-113'!$B$6=\"\",\"\",'Tex-113'!$B$6)","v":"Tex-113-E"},{"$f":"IF( 'Tex-113'!$B$20=\"\",\"\", 'Tex-113'!$B$20)","v":"Moisture-Density Work Sheet"},{"$f":"IF('Tex-113'!$B$48=\"\",\"\",'Tex-113'!$B$48)","v":"Dry Density, (pcf):"},{"$f":"IF('Tex-113'!$G$29=\"\",\"\",'Tex-113'!$G$29)","v":3}]
[400,{"$f":"IF('Tex-113'!$H$48=\"\",\"\",'Tex-113'!$H$48)","v":""},{"$f":"IF('Tex-113'!$B$6=\"\",\"\",'Tex-113'!$B$6)","v":"Tex-113-E"},{"$f":"IF( 'Tex-113'!$B$20=\"\",\"\", 'Tex-113'!$B$20)","v":"Moisture-Density Work Sheet"},{"$f":"IF('Tex-113'!$B$48=\"\",\"\",'Tex-113'!$B$48)","v":"Dry Density, (pcf):"},{"$f":"IF('Tex-113'!$H$29=\"\",\"\",'Tex-113'!$H$29)","v":4}]
[401,{"$f":"IF('Tex-113'!$E$49=\"\",\"\",'Tex-113'!$E$49)","v":""},{"$f":"IF('Tex-113'!$B$6=\"\",\"\",'Tex-113'!$B$6)","v":"Tex-113-E"},{"$f":"IF( 'Tex-113'!$B$20=\"\",\"\", 'Tex-113'!$B$20)","v":"Moisture-Density Work Sheet"},{"$f":"IF('Tex-113'!$B$49=\"\",\"\",'Tex-113'!$B$49)","v":"Estimated Dry Density, (pcf):"},{"$f":"IF('Tex-113'!$E$29=\"\",\"\",'Tex-113'!$E$29)","v":1}]
[402,{"$f":"IF('Tex-113'!$F$49=\"\",\"\",'Tex-113'!$F$49)","v":""},{"$f":"IF('Tex-113'!$B$6=\"\",\"\",'Tex-113'!$B$6)","v":"Tex-113-E"},{"$f":"IF( 'Tex-113'!$B$20=\"\",\"\", 'Tex-113'!$B$20)","v":"Moisture-Density Work Sheet"},{"$f":"IF('Tex-113'!$B$49=\"\",\"\",'Tex-113'!$B$49)","v":"Estimated Dry Density, (pcf):"},{"$f":"IF('Tex-113'!$F$29=\"\",\"\",'Tex-113'!$F$29)","v":2}]
[403,{"$f":"IF('Tex-113'!$G$49=\"\",\"\",'Tex-113'!$G$49)","v":""},{"$f":"IF('Tex-113'!$B$6=\"\",\"\",'Tex-113'!$B$6)","v":"Tex-113-E"},{"$f":"IF( 'Tex-113'!$B$20=\"\",\"\", 'Tex-113'!$B$20)","v":"Moisture-Density Work Sheet"},{"$f":"IF('Tex-113'!$B$49=\"\",\"\",'Tex-113'!$B$49)","v":"Estimated Dry Density, (pcf):"},{"$f":"IF('Tex-113'!$G$29=\"\",\"\",'Tex-113'!$G$29)","v":3}]
[404,{"$f":"IF('Tex-113'!$H$49=\"\",\"\",'Tex-113'!$H$49)","v":""},{"$f":"IF('Tex-113'!$B$6=\"\",\"\",'Tex-113'!$B$6)","v":"Tex-113-E"},{"$f":"IF( 'Tex-113'!$B$20=\"\",\"\", 'Tex-113'!$B$20)","v":"Moisture-Density Work Sheet"},{"$f":"IF('Tex-113'!$B$49=\"\",\"\",'Tex-113'!$B$49)","v":"Estimated Dry Density, (pcf):"},{"$f":"IF('Tex-113'!$H$29=\"\",\"\",'Tex-113'!$H$29)","v":4}]
[405,{"$f":"IF('Tex-113'!$E$50=\"\",\"\",'Tex-113'!$E$50)","v":""},{"$f":"IF('Tex-113'!$B$6=\"\",\"\",'Tex-113'!$B$6)","v":"Tex-113-E"},{"$f":"IF( 'Tex-113'!$B$20=\"\",\"\", 'Tex-113'!$B$20)","v":"Moisture-Density Work Sheet"},{"$f":"IF('Tex-113'!$B$50=\"\",\"\",'Tex-113'!$B$50)","v":"Max Density, (pcf):"}]
[406,{"$f":"IF('Tex-113'!$E$51=\"\",\"\",'Tex-113'!$E$51)","v":""},{"$f":"IF('Tex-113'!$B$6=\"\",\"\",'Tex-113'!$B$6)","v":"Tex-113-E"},{"$f":"IF( 'Tex-113'!$B$20=\"\",\"\", 'Tex-113'!$B$20)","v":"Moisture-Density Work Sheet"},{"$f":"IF('Tex-113'!$B$51=\"\",\"\",'Tex-113'!$B$51)","v":"Max Density, (kg/m3):"}]
[407,{"$f":"IF('Tex-113'!$E$52=\"\",\"\",'Tex-113'!$E$52)","v":""},{"$f":"IF('Tex-113'!$B$6=\"\",\"\",'Tex-113'!$B$6)","v":"Tex-113-E"},{"$f":"IF( 'Tex-113'!$B$20=\"\",\"\", 'Tex-113'!$B$20)","v":"Moisture-Density Work Sheet"},{"$f":"IF('Tex-113'!$B$52=\"\",\"\",'Tex-113'!$B$52)","v":"Optimum Moisture, (%):"}]
[408,{"$f":"IF('Tex-113'!$B$55=\"\",\"\",'Tex-113'!$B$55)","v":""},{"$f":"IF('Tex-113'!$B$6=\"\",\"\",'Tex-113'!$B$6)","v":"Tex-113-E"},{"$f":"IF( 'Tex-113'!$B$20=\"\",\"\", 'Tex-113'!$B$20)","v":"Moisture-Density Work Sheet"},{"$f":"IF('Tex-113'!$B$54=\"\",\"\",'Tex-113'!$B$54)","v":"Remarks:"}]
[409,{"$f":"IF('Tex-113 (1-3)'!$E$21=\"\",\"\",'Tex-113 (1-3)'!$E$21)","v":""},{"$f":"IF('Tex-113 (1-3)'!$B$6=\"\",\"\",'Tex-113 (1-3)'!$B$6)","v":"Tex-113-E(1-3)"},{"$f":"IF( 'Tex-113 (1-3)'!$B$20=\"\",\"\", 'Tex-113 (1-3)'!$B$20)","v":"Moisture-Density Work Sheet"},{"$f":"IF('Tex-113 (1-3)'!$B$21=\"\",\"\",'Tex-113 (1-3)'!$B$21)","v":"Percent Lime, (%)"}]
[410,{"$f":"IF('Tex-113 (1-3)'!$E$22=\"\",\"\",'Tex-113 (1-3)'!$E$22)","v":""},{"$f":"IF('Tex-113 (1-3)'!$B$6=\"\",\"\",'Tex-113 (1-3)'!$B$6)","v":"Tex-113-E(1-3)"},{"$f":"IF( 'Tex-113 (1-3)'!$B$20=\"\",\"\", 'Tex-113 (1-3)'!$B$20)","v":"Moisture-Density Work Sheet"},{"$f":"IF('Tex-113 (1-3)'!$B$22=\"\",\"\",'Tex-113 (1-3)'!$B$22)","v":"Oven Dry Weight, (g):"}]
[411,{"$f":"IF('Tex-113 (1-3)'!$E$23=\"\",\"\",'Tex-113 (1-3)'!$E$23)","v":""},{"$f":"IF('Tex-113 (1-3)'!$B$6=\"\",\"\",'Tex-113 (1-3)'!$B$6)","v":"Tex-113-E(1-3)"},{"$f":"IF( 'Tex-113 (1-3)'!$B$20=\"\",\"\", 'Tex-113 (1-3)'!$B$20)","v":"Moisture-Density Work Sheet"},{"$f":"IF('Tex-113 (1-3)'!$B$23=\"\",\"\",'Tex-113 (1-3)'!$B$23)","v":"Weight of Pycnometer & Water, (g):"}]
[412,{"$f":"IF('Tex-113 (1-3)'!$E$24=\"\",\"\",'Tex-113 (1-3)'!$E$24)","v":""},{"$f":"IF('Tex-113 (1-3)'!$B$6=\"\",\"\",'Tex-113 (1-3)'!$B$6)","v":"Tex-113-E(1-3)"},{"$f":"IF( 'Tex-113 (1-3)'!$B$20=\"\",\"\", 'Tex-113 (1-3)'!$B$20)","v":"Moisture-Density Work Sheet"},{"$f":"IF('Tex-113 (1-3)'!$B$24=\"\",\"\",'Tex-113 (1-3)'!$B$24)","v":"Weight of Aggr., Pycn.& Water, (g):"}]
[413,{"$f":"IF('Tex-113 (1-3)'!$E$25=\"\",\"\",'Tex-113 (1-3)'!$E$25)","v":""},{"$f":"IF('Tex-113 (1-3)'!$B$6=\"\",\"\",'Tex-113 (1-3)'!$B$6)","v":"Tex-113-E(1-3)"},{"$f":"IF( 'Tex-113 (1-3)'!$B$20=\"\",\"\", 'Tex-113 (1-3)'!$B$20)","v":"Moisture-Density Work Sheet"},{"$f":"IF('Tex-113 (1-3)'!$B$25=\"\",\"\",'Tex-113 (1-3)'!$B$25)","v":"Specific Gravity (Apparent):"}]
[414,{"$f":"IF('Tex-113 (1-3)'!$E$27=\"\",\"\",'Tex-113 (1-3)'!$E$27)","v":""},{"$f":"IF('Tex-113 (1-3)'!$B$6=\"\",\"\",'Tex-113 (1-3)'!$B$6)","v":"Tex-113-E(1-3)"},{"$f":"IF( 'Tex-113 (1-3)'!$B$20=\"\",\"\", 'Tex-113 (1-3)'!$B$20)","v":"Moisture-Density Work Sheet"},{"$f":"IF('Tex-113 (1-3)'!$B$27=\"\",\"\",'Tex-113 (1-3)'!$B$27)","v":"Hygroscopic Moisture, (%):"}]
[415,{"$f":"IF('Tex-113 (1-3)'!$E$30=\"\",\"\",'Tex-113 (1-3)'!$E$30)","v":""},{"$f":"IF('Tex-113 (1-3)'!$B$6=\"\",\"\",'Tex-113 (1-3)'!$B$6)","v":"Tex-113-E(1-3)"},{"$f":"IF( 'Tex-113 (1-3)'!$B$20=\"\",\"\", 'Tex-113 (1-3)'!$B$20)","v":"Moisture-Density Work Sheet"},{"$f":"IF('Tex-113 (1-3)'!$B$30=\"\",\"\",'Tex-113 (1-3)'!$B$30)","v":"Percent Water Content, (%):"},{"$f":"IF('Tex-113 (1-3)'!$E$29=\"\",\"\",'Tex-113 (1-3)'!$E$29)","v":1}]
[416,{"$f":"IF('Tex-113 (1-3)'!$F$30=\"\",\"\",'Tex-113 (1-3)'!$F$30)","v":""},{"$f":"IF('Tex-113 (1-3)'!$B$6=\"\",\"\",'Tex-113 (1-3)'!$B$6)","v":"Tex-113-E(1-3)"},{"$f":"IF( 'Tex-113 (1-3)'!$B$20=\"\",\"\", 'Tex-113 (1-3)'!$B$20)","v":"Moisture-Density Work Sheet"},{"$f":"IF('Tex-113 (1-3)'!$B$30=\"\",\"\",'Tex-113 (1-3)'!$B$30)","v":"Percent Water Content, (%):"},{"$f":"IF('Tex-113 (1-3)'!$F$29=\"\",\"\",'Tex-113 (1-3)'!$F$29)","v":2}]
[417,{"$f":"IF('Tex-113 (1-3)'!$G$30=\"\",\"\",'Tex-113 (1-3)'!$G$30)","v":""},{"$f":"IF('Tex-113 (1-3)'!$B$6=\"\",\"\",'Tex-113 (1-3)'!$B$6)","v":"Tex-113-E(1-3)"},{"$f":"IF( 'Tex-113 (1-3)'!$B$20=\"\",\"\", 'Tex-113 (1-3)'!$B$20)","v":"Moisture-Density Work Sheet"},{"$f":"IF('Tex-113 (1-3)'!$B$30=\"\",\"\",'Tex-113 (1-3)'!$B$30)","v":"Percent Water Content, (%):"},{"$f":"IF('Tex-113 (1-3)'!$G$29=\"\",\"\",'Tex-113 (1-3)'!$G$29)","v":3}]
[418,{"$f":"IF('Tex-113 (1-3)'!$H$30=\"\",\"\",'Tex-113 (1-3)'!$H$30)","v":""},{"$f":"IF('Tex-113 (1-3)'!$B$6=\"\",\"\",'Tex-113 (1-3)'!$B$6)","v":"Tex-113-E(1-3)"},{"$f":"IF( 'Tex-113 (1-3)'!$B$20=\"\",\"\", 'Tex-113 (1-3)'!$B$20)","v":"Moisture-Density Work Sheet"},{"$f":"IF('Tex-113 (1-3)'!$B$30=\"\",\"\",'Tex-113 (1-3)'!$B$30)","v":"Percent Water Content, (%):"},{"$f":"IF('Tex-113 (1-3)'!$H$29=\"\",\"\",'Tex-113 (1-3)'!$H$29)","v":4}]
[419,{"$f":"IF('Tex-113 (1-3)'!$E$32=\"\",\"\",'Tex-113 (1-3)'!$E$32)","v":""},{"$f":"IF('Tex-113 (1-3)'!$B$6=\"\",\"\",'Tex-113 (1-3)'!$B$6)","v":"Tex-113-E(1-3)"},{"$f":"IF( 'Tex-113 (1-3)'!$B$20=\"\",\"\", 'Tex-113 (1-3)'!$B$20)","v":"Moisture-Density Work Sheet"},{"$f":"IF('Tex-113 (1-3)'!$B$32=\"\",\"\",'Tex-113 (1-3)'!$B$32)","v":"Mass Material, (lb):"},{"$f":"IF('Tex-113 (1-3)'!$E$29=\"\",\"\",'Tex-113 (1-3)'!$E$29)","v":1}]
[420,{"$f":"IF('Tex-113 (1-3)'!$F$32=\"\",\"\",'Tex-113 (1-3)'!$F$32)","v":""},{"$f":"IF('Tex-113 (1-3)'!$B$6=\"\",\"\",'Tex-113 (1-3)'!$B$6)","v":"Tex-113-E(1-3)"},{"$f":"IF( 'Tex-113 (1-3)'!$B$20=\"\",\"\", 'Tex-113 (1-3)'!$B$20)","v":"Moisture-Density Work Sheet"},{"$f":"IF('Tex-113 (1-3)'!$B$32=\"\",\"\",'Tex-113 (1-3)'!$B$32)","v":"Mass Material, (lb):"},{"$f":"IF('Tex-113 (1-3)'!$F$29=\"\",\"\",'Tex-113 (1-3)'!$F$29)","v":2}]
[421,{"$f":"IF('Tex-113 (1-3)'!$G$32=\"\",\"\",'Tex-113 (1-3)'!$G$32)","v":""},{"$f":"IF('Tex-113 (1-3)'!$B$6=\"\",\"\",'Tex-113 (1-3)'!$B$6)","v":"Tex-113-E(1-3)"},{"$f":"IF( 'Tex-113 (1-3)'!$B$20=\"\",\"\", 'Tex-113 (1-3)'!$B$20)","v":"Moisture-Density Work Sheet"},{"$f":"IF('Tex-113 (1-3)'!$B$32=\"\",\"\",'Tex-113 (1-3)'!$B$32)","v":"Mass Material, (lb):"},{"$f":"IF('Tex-113 (1-3)'!$G$29=\"\",\"\",'Tex-113 (1-3)'!$G$29)","v":3}]
[422,{"$f":"IF('Tex-113 (1-3)'!$H$32=\"\",\"\",'Tex-113 (1-3)'!$H$32)","v":""},{"$f":"IF('Tex-113 (1-3)'!$B$6=\"\",\"\",'Tex-113 (1-3)'!$B$6)","v":"Tex-113-E(1-3)"},{"$f":"IF( 'Tex-113 (1-3)'!$B$20=\"\",\"\", 'Tex-113 (1-3)'!$B$20)","v":"Moisture-Density Work Sheet"},{"$f":"IF('Tex-113 (1-3)'!$B$32=\"\",\"\",'Tex-113 (1-3)'!$B$32)","v":"Mass Material, (lb):"},{"$f":"IF('Tex-113 (1-3)'!$H$29=\"\",\"\",'Tex-113 (1-3)'!$H$29)","v":4}]
[423,{"$f":"IF('Tex-113 (1-3)'!$E$33=\"\",\"\",'Tex-113 (1-3)'!$E$33)","v":""},{"$f":"IF('Tex-113 (1-3)'!$B$6=\"\",\"\",'Tex-113 (1-3)'!$B$6)","v":"Tex-113-E(1-3)"},{"$f":"IF( 'Tex-113 (1-3)'!$B$20=\"\",\"\", 'Tex-113 (1-3)'!$B$20)","v":"Moisture-Density Work Sheet"},{"$f":"IF('Tex-113 (1-3)'!$B$33=\"\",\"\",'Tex-113 (1-3)'!$B$33)","v":"Mass Water Added, (lb):"},{"$f":"IF('Tex-113 (1-3)'!$E$29=\"\",\"\",'Tex-113 (1-3)'!$E$29)","v":1}]
[424,{"$f":"IF('Tex-113 (1-3)'!$F$33=\"\",\"\",'Tex-113 (1-3)'!$F$33)","v":""},{"$f":"IF('Tex-113 (1-3)'!$B$6=\"\",\"\",'Tex-113 (1-3)'!$B$6)","v":"Tex-113-E(1-3)"},{"$f":"IF( 'Tex-113 (1-3)'!$B$20=\"\",\"\", 'Tex-113 (1-3)'!$B$20)","v":"Moisture-Density Work Sheet"},{"$f":"IF('Tex-113 (1-3)'!$B$33=\"\",\"\",'Tex-113 (1-3)'!$B$33)","v":"Mass Water Added, (lb):"},{"$f":"IF('Tex-113 (1-3)'!$F$29=\"\",\"\",'Tex-113 (1-3)'!$F$29)","v":2}]
[425,{"$f":"IF('Tex-113 (1-3)'!$G$33=\"\",\"\",'Tex-113 (1-3)'!$G$33)","v":""},{"$f":"IF('Tex-113 (1-3)'!$B$6=\"\",\"\",'Tex-113 (1-3)'!$B$6)","v":"Tex-113-E(1-3)"},{"$f":"IF( 'Tex-113 (1-3)'!$B$20=\"\",\"\", 'Tex-113 (1-3)'!$B$20)","v":"Moisture-Density Work Sheet"},{"$f":"IF('Tex-113 (1-3)'!$B$33=\"\",\"\",'Tex-113 (1-3)'!$B$33)","v":"Mass Water Added, (lb):"},{"$f":"IF('Tex-113 (1-3)'!$G$29=\"\",\"\",'Tex-113 (1-3)'!$G$29)","v":3}]
[426,{"$f":"IF('Tex-113 (1-3)'!$H$33=\"\",\"\",'Tex-113 (1-3)'!$H$33)","v":""},{"$f":"IF('Tex-113 (1-3)'!$B$6=\"\",\"\",'Tex-113 (1-3)'!$B$6)","v":"Tex-113-E(1-3)"},{"$f":"IF( 'Tex-113 (1-3)'!$B$20=\"\",\"\", 'Tex-113 (1-3)'!$B$20)","v":"Moisture-Density Work Sheet"},{"$f":"IF('Tex-113 (1-3)'!$B$33=\"\",\"\",'Tex-113 (1-3)'!$B$33)","v":"Mass Water Added, (lb):"},{"$f":"IF('Tex-113 (1-3)'!$H$29=\"\",\"\",'Tex-113 (1-3)'!$H$29)","v":4}]
[427,{"$f":"IF('Tex-113 (1-3)'!$E$35=\"\",\"\",'Tex-113 (1-3)'!$E$35)","v":""},{"$f":"IF('Tex-113 (1-3)'!$B$6=\"\",\"\",'Tex-113 (1-3)'!$B$6)","v":"Tex-113-E(1-3)"},{"$f":"IF( 'Tex-113 (1-3)'!$B$20=\"\",\"\", 'Tex-113 (1-3)'!$B$20)","v":"Moisture-Density Work Sheet"},{"$f":"IF('Tex-113 (1-3)'!$B$35=\"\",\"\",'Tex-113 (1-3)'!$B$35)","v":"Wet Mass Specimen & Mold, (lb):"},{"$f":"IF('Tex-113 (1-3)'!$E$29=\"\",\"\",'Tex-113 (1-3)'!$E$29)","v":1}]
[428,{"$f":"IF('Tex-113 (1-3)'!$F$35=\"\",\"\",'Tex-113 (1-3)'!$F$35)","v":""},{"$f":"IF('Tex-113 (1-3)'!$B$6=\"\",\"\",'Tex-113 (1-3)'!$B$6)","v":"Tex-113-E(1-3)"},{"$f":"IF( 'Tex-113 (1-3)'!$B$20=\"\",\"\", 'Tex-113 (1-3)'!$B$20)","v":"Moisture-Density Work Sheet"},{"$f":"IF('Tex-113 (1-3)'!$B$35=\"\",\"\",'Tex-113 (1-3)'!$B$35)","v":"Wet Mass Specimen & Mold, (lb):"},{"$f":"IF('Tex-113 (1-3)'!$F$29=\"\",\"\",'Tex-113 (1-3)'!$F$29)","v":2}]
[429,{"$f":"IF('Tex-113 (1-3)'!$G$35=\"\",\"\",'Tex-113 (1-3)'!$G$35)","v":""},{"$f":"IF('Tex-113 (1-3)'!$B$6=\"\",\"\",'Tex-113 (1-3)'!$B$6)","v":"Tex-113-E(1-3)"},{"$f":"IF( 'Tex-113 (1-3)'!$B$20=\"\",\"\", 'Tex-113 (1-3)'!$B$20)","v":"Moisture-Density Work Sheet"},{"$f":"IF('Tex-113 (1-3)'!$B$35=\"\",\"\",'Tex-113 (1-3)'!$B$35)","v":"Wet Mass Specimen & Mold, (lb):"},{"$f":"IF('Tex-113 (1-3)'!$G$29=\"\",\"\",'Tex-113 (1-3)'!$G$29)","v":3}]
[430,{"$f":"IF('Tex-113 (1-3)'!$H$35=\"\",\"\",'Tex-113 (1-3)'!$H$35)","v":""},{"$f":"IF('Tex-113 (1-3)'!$B$6=\"\",\"\",'Tex-113 (1-3)'!$B$6)","v":"Tex-113-E(1-3)"},{"$f":"IF( 'Tex-113 (1-3)'!$B$20=\"\",\"\", 'Tex-113 (1-3)'!$B$20)","v":"Moisture-Density Work Sheet"},{"$f":"IF('Tex-113 (1-3)'!$B$35=\"\",\"\",'Tex-113 (1-3)'!$B$35)","v":"Wet Mass Specimen & Mold, (lb):"},{"$f":"IF('Tex-113 (1-3)'!$H$29=\"\",\"\",'Tex-113 (1-3)'!$H$29)","v":4}]
[431,{"$f":"IF('Tex-113 (1-3)'!$E$36=\"\",\"\",'Tex-113 (1-3)'!$E$36)","v":""},{"$f":"IF('Tex-113 (1-3)'!$B$6=\"\",\"\",'Tex-113 (1-3)'!$B$6)","v":"Tex-113-E(1-3)"},{"$f":"IF( 'Tex-113 (1-3)'!$B$20=\"\",\"\", 'Tex-113 (1-3)'!$B$20)","v":"Moisture-Density Work Sheet"},{"$f":"IF('Tex-113 (1-3)'!$B$36=\"\",\"\",'Tex-113 (1-3)'!$B$36)","v":"Tare Mass Mold, (lb):"},{"$f":"IF('Tex-113 (1-3)'!$E$29=\"\",\"\",'Tex-113 (1-3)'!$E$29)","v":1}]
[432,{"$f":"IF('Tex-113 (1-3)'!$F$36=\"\",\"\",'Tex-113 (1-3)'!$F$36)","v":""},{"$f":"IF('Tex-113 (1-3)'!$B$6=\"\",\"\",'Tex-113 (1-3)'!$B$6)","v":"Tex-113-E(1-3)"},{"$f":"IF( 'Tex-113 (1-3)'!$B$20=\"\",\"\", 'Tex-113 (1-3)'!$B$20)","v":"Moisture-Density Work Sheet"},{"$f":"IF('Tex-113 (1-3)'!$B$36=\"\",\"\",'Tex-113 (1-3)'!$B$36)","v":"Tare Mass Mold, (lb):"},{"$f":"IF('Tex-113 (1-3)'!$F$29=\"\",\"\",'Tex-113 (1-3)'!$F$29)","v":2}]
[433,{"$f":"IF('Tex-113 (1-3)'!$G$36=\"\",\"\",'Tex-113 (1-3)'!$G$36)","v":""},{"$f":"IF('Tex-113 (1-3)'!$B$6=\"\",\"\",'Tex-113 (1-3)'!$B$6)","v":"Tex-113-E(1-3)"},{"$f":"IF( 'Tex-113 (1-3)'!$B$20=\"\",\"\", 'Tex-113 (1-3)'!$B$20)","v":"Moisture-Density Work Sheet"},{"$f":"IF('Tex-113 (1-3)'!$B$36=\"\",\"\",'Tex-113 (1-3)'!$B$36)","v":"Tare Mass Mold, (lb):"},{"$f":"IF('Tex-113 (1-3)'!$G$29=\"\",\"\",'Tex-113 (1-3)'!$G$29)","v":3}]
[434,{"$f":"IF('Tex-113 (1-3)'!$H$36=\"\",\"\",'Tex-113 (1-3)'!$H$36)","v":""},{"$f":"IF('Tex-113 (1-3)'!$B$6=\"\",\"\",'Tex-113 (1-3)'!$B$6)","v":"Tex-113-E(1-3)"},{"$f":"IF( 'Tex-113 (1-3)'!$B$20=\"\",\"\", 'Tex-113 (1-3)'!$B$20)","v":"Moisture-Density Work Sheet"},{"$f":"IF('Tex-113 (1-3)'!$B$36=\"\",\"\",'Tex-113 (1-3)'!$B$36)","v":"Tare Mass Mold, (lb):"},{"$f":"IF('Tex-113 (1-3)'!$H$29=\"\",\"\",'Tex-113 (1-3)'!$H$29)","v":4}]
[435,{"$f":"IF('Tex-113 (1-3)'!$E$37=\"\",\"\",'Tex-113 (1-3)'!$E$37)","v":""},{"$f":"IF('Tex-113 (1-3)'!$B$6=\"\",\"\",'Tex-113 (1-3)'!$B$6)","v":"Tex-113-E(1-3)"},{"$f":"IF( 'Tex-113 (1-3)'!$B$20=\"\",\"\", 'Tex-113 (1-3)'!$B$20)","v":"Moisture-Density Work Sheet"},{"$f":"IF('Tex-113 (1-3)'!$B$37=\"\",\"\",'Tex-113 (1-3)'!$B$37)","v":"Wet Mass Specimen, (lb):"},{"$f":"IF('Tex-113 (1-3)'!$E$29=\"\",\"\",'Tex-113 (1-3)'!$E$29)","v":1}]
[436,{"$f":"IF('Tex-113 (1-3)'!$F$37=\"\",\"\",'Tex-113 (1-3)'!$F$37)","v":""},{"$f":"IF('Tex-113 (1-3)'!$B$6=\"\",\"\",'Tex-113 (1-3)'!$B$6)","v":"Tex-113-E(1-3)"},{"$f":"IF( 'Tex-113 (1-3)'!$B$20=\"\",\"\", 'Tex-113 (1-3)'!$B$20)","v":"Moisture-Density Work Sheet"},{"$f":"IF('Tex-113 (1-3)'!$B$37=\"\",\"\",'Tex-113 (1-3)'!$B$37)","v":"Wet Mass Specimen, (lb):"},{"$f":"IF('Tex-113 (1-3)'!$F$29=\"\",\"\",'Tex-113 (1-3)'!$F$29)","v":2}]
[437,{"$f":"IF('Tex-113 (1-3)'!$G$37=\"\",\"\",'Tex-113 (1-3)'!$G$37)","v":""},{"$f":"IF('Tex-113 (1-3)'!$B$6=\"\",\"\",'Tex-113 (1-3)'!$B$6)","v":"Tex-113-E(1-3)"},{"$f":"IF( 'Tex-113 (1-3)'!$B$20=\"\",\"\", 'Tex-113 (1-3)'!$B$20)","v":"Moisture-Density Work Sheet"},{"$f":"IF('Tex-113 (1-3)'!$B$37=\"\",\"\",'Tex-113 (1-3)'!$B$37)","v":"Wet Mass Specimen, (lb):"},{"$f":"IF('Tex-113 (1-3)'!$G$29=\"\",\"\",'Tex-113 (1-3)'!$G$29)","v":3}]
[438,{"$f":"IF('Tex-113 (1-3)'!$H$37=\"\",\"\",'Tex-113 (1-3)'!$H$37)","v":""},{"$f":"IF('Tex-113 (1-3)'!$B$6=\"\",\"\",'Tex-113 (1-3)'!$B$6)","v":"Tex-113-E(1-3)"},{"$f":"IF( 'Tex-113 (1-3)'!$B$20=\"\",\"\", 'Tex-113 (1-3)'!$B$20)","v":"Moisture-Density Work Sheet"},{"$f":"IF('Tex-113 (1-3)'!$B$37=\"\",\"\",'Tex-113 (1-3)'!$B$37)","v":"Wet Mass Specimen, (lb):"},{"$f":"IF('Tex-113 (1-3)'!$H$29=\"\",\"\",'Tex-113 (1-3)'!$H$29)","v":4}]
[439,{"$f":"IF('Tex-113 (1-3)'!$E$38=\"\",\"\",'Tex-113 (1-3)'!$E$38)","v":""},{"$f":"IF('Tex-113 (1-3)'!$B$6=\"\",\"\",'Tex-113 (1-3)'!$B$6)","v":"Tex-113-E(1-3)"},{"$f":"IF( 'Tex-113 (1-3)'!$B$20=\"\",\"\", 'Tex-113 (1-3)'!$B$20)","v":"Moisture-Density Work Sheet"},{"$f":"IF('Tex-113 (1-3)'!$B$38=\"\",\"\",'Tex-113 (1-3)'!$B$38)","v":"Height of Specimen, (in.):"},{"$f":"IF('Tex-113 (1-3)'!$E$29=\"\",\"\",'Tex-113 (1-3)'!$E$29)","v":1}]
[440,{"$f":"IF('Tex-113 (1-3)'!$F$38=\"\",\"\",'Tex-113 (1-3)'!$F$38)","v":""},{"$f":"IF('Tex-113 (1-3)'!$B$6=\"\",\"\",'Tex-113 (1-3)'!$B$6)","v":"Tex-113-E(1-3)"},{"$f":"IF( 'Tex-113 (1-3)'!$B$20=\"\",\"\", 'Tex-113 (1-3)'!$B$20)","v":"Moisture-Density Work Sheet"},{"$f":"IF('Tex-113 (1-3)'!$B$38=\"\",\"\",'Tex-113 (1-3)'!$B$38)","v":"Height of Specimen, (in.):"},{"$f":"IF('Tex-113 (1-3)'!$F$29=\"\",\"\",'Tex-113 (1-3)'!$F$29)","v":2}]
[441,{"$f":"IF('Tex-113 (1-3)'!$G$38=\"\",\"\",'Tex-113 (1-3)'!$G$38)","v":""},{"$f":"IF('Tex-113 (1-3)'!$B$6=\"\",\"\",'Tex-113 (1-3)'!$B$6)","v":"Tex-113-E(1-3)"},{"$f":"IF( 'Tex-113 (1-3)'!$B$20=\"\",\"\", 'Tex-113 (1-3)'!$B$20)","v":"Moisture-Density Work Sheet"},{"$f":"IF('Tex-113 (1-3)'!$B$38=\"\",\"\",'Tex-113 (1-3)'!$B$38)","v":"Height of Specimen, (in.):"},{"$f":"IF('Tex-113 (1-3)'!$G$29=\"\",\"\",'Tex-113 (1-3)'!$G$29)","v":3}]
[442,{"$f":"IF('Tex-113 (1-3)'!$H$38=\"\",\"\",'Tex-113 (1-3)'!$H$38)","v":""},{"$f":"IF('Tex-113 (1-3)'!$B$6=\"\",\"\",'Tex-113 (1-3)'!$B$6)","v":"Tex-113-E(1-3)"},{"$f":"IF( 'Tex-113 (1-3)'!$B$20=\"\",\"\", 'Tex-113 (1-3)'!$B$20)","v":"Moisture-Density Work Sheet"},{"$f":"IF('Tex-113 (1-3)'!$B$38=\"\",\"\",'Tex-113 (1-3)'!$B$38)","v":"Height of Specimen, (in.):"},{"$f":"IF('Tex-113 (1-3)'!$H$29=\"\",\"\",'Tex-113 (1-3)'!$H$29)","v":4}]
[443,{"$f":"IF('Tex-113 (1-3)'!$E$39=\"\",\"\",'Tex-113 (1-3)'!$E$39)","v":""},{"$f":"IF('Tex-113 (1-3)'!$B$6=\"\",\"\",'Tex-113 (1-3)'!$B$6)","v":"Tex-113-E(1-3)"},{"$f":"IF( 'Tex-113 (1-3)'!$B$20=\"\",\"\", 'Tex-113 (1-3)'!$B$20)","v":"Moisture-Density Work Sheet"},{"$f":"IF('Tex-113 (1-3)'!$B$39=\"\",\"\",'Tex-113 (1-3)'!$B$39)","v":"Volume per Linear mm., (in.):"},{"$f":"IF('Tex-113 (1-3)'!$E$29=\"\",\"\",'Tex-113 (1-3)'!$E$29)","v":1}]
[444,{"$f":"IF('Tex-113 (1-3)'!$F$39=\"\",\"\",'Tex-113 (1-3)'!$F$39)","v":""},{"$f":"IF('Tex-113 (1-3)'!$B$6=\"\",\"\",'Tex-113 (1-3)'!$B$6)","v":"Tex-113-E(1-3)"},{"$f":"IF( 'Tex-113 (1-3)'!$B$20=\"\",\"\", 'Tex-113 (1-3)'!$B$20)","v":"Moisture-Density Work Sheet"},{"$f":"IF('Tex-113 (1-3)'!$B$39=\"\",\"\",'Tex-113 (1-3)'!$B$39)","v":"Volume per Linear mm., (in.):"},{"$f":"IF('Tex-113 (1-3)'!$F$29=\"\",\"\",'Tex-113 (1-3)'!$F$29)","v":2}]
[445,{"$f":"IF('Tex-113 (1-3)'!$G$39=\"\",\"\",'Tex-113 (1-3)'!$G$39)","v":""},{"$f":"IF('Tex-113 (1-3)'!$B$6=\"\",\"\",'Tex-113 (1-3)'!$B$6)","v":"Tex-113-E(1-3)"},{"$f":"IF( 'Tex-113 (1-3)'!$B$20=\"\",\"\", 'Tex-113 (1-3)'!$B$20)","v":"Moisture-Density Work Sheet"},{"$f":"IF('Tex-113 (1-3)'!$B$39=\"\",\"\",'Tex-113 (1-3)'!$B$39)","v":"Volume per Linear mm., (in.):"},{"$f":"IF('Tex-113 (1-3)'!$G$29=\"\",\"\",'Tex-113 (1-3)'!$G$29)","v":3}]
[446,{"$f":"IF('Tex-113 (1-3)'!$H$39=\"\",\"\",'Tex-113 (1-3)'!$H$39)","v":""},{"$f":"IF('Tex-113 (1-3)'!$B$6=\"\",\"\",'Tex-113 (1-3)'!$B$6)","v":"Tex-113-E(1-3)"},{"$f":"IF( 'Tex-113 (1-3)'!$B$20=\"\",\"\", 'Tex-113 (1-3)'!$B$20)","v":"Moisture-Density Work Sheet"},{"$f":"IF('Tex-113 (1-3)'!$B$39=\"\",\"\",'Tex-113 (1-3)'!$B$39)","v":"Volume per Linear mm., (in.):"},{"$f":"IF('Tex-113 (1-3)'!$H$29=\"\",\"\",'Tex-113 (1-3)'!$H$29)","v":4}]
[447,{"$f":"IF('Tex-113 (1-3)'!$E$40=\"\",\"\",'Tex-113 (1-3)'!$E$40)","v":""},{"$f":"IF('Tex-113 (1-3)'!$B$6=\"\",\"\",'Tex-113 (1-3)'!$B$6)","v":"Tex-113-E(1-3)"},{"$f":"IF( 'Tex-113 (1-3)'!$B$20=\"\",\"\", 'Tex-113 (1-3)'!$B$20)","v":"Moisture-Density Work Sheet"},{"$f":"IF('Tex-113 (1-3)'!$B$40=\"\",\"\",'Tex-113 (1-3)'!$B$40)","v":"Volume of Specimen, (ft^3):"},{"$f":"IF('Tex-113 (1-3)'!$E$29=\"\",\"\",'Tex-113 (1-3)'!$E$29)","v":1}]
[448,{"$f":"IF('Tex-113 (1-3)'!$F$40=\"\",\"\",'Tex-113 (1-3)'!$F$40)","v":""},{"$f":"IF('Tex-113 (1-3)'!$B$6=\"\",\"\",'Tex-113 (1-3)'!$B$6)","v":"Tex-113-E(1-3)"},{"$f":"IF( 'Tex-113 (1-3)'!$B$20=\"\",\"\", 'Tex-113 (1-3)'!$B$20)","v":"Moisture-Density Work Sheet"},{"$f":"IF('Tex-113 (1-3)'!$B$40=\"\",\"\",'Tex-113 (1-3)'!$B$40)","v":"Volume of Specimen, (ft^3):"},{"$f":"IF('Tex-113 (1-3)'!$F$29=\"\",\"\",'Tex-113 (1-3)'!$F$29)","v":2}]
[449,{"$f":"IF('Tex-113 (1-3)'!$G$40=\"\",\"\",'Tex-113 (1-3)'!$G$40)","v":""},{"$f":"IF('Tex-113 (1-3)'!$B$6=\"\",\"\",'Tex-113 (1-3)'!$B$6)","v":"Tex-113-E(1-3)"},{"$f":"IF( 'Tex-113 (1-3)'!$B$20=\"\",\"\", 'Tex-113 (1-3)'!$B$20)","v":"Moisture-Density Work Sheet"},{"$f":"IF('Tex-113 (1-3)'!$B$40=\"\",\"\",'Tex-113 (1-3)'!$B$40)","v":"Volume of Specimen, (ft^3):"},{"$f":"IF('Tex-113 (1-3)'!$G$29=\"\",\"\",'Tex-113 (1-3)'!$G$29)","v":3}]
[450,{"$f":"IF('Tex-113 (1-3)'!$H$40=\"\",\"\",'Tex-113 (1-3)'!$H$40)","v":""},{"$f":"IF('Tex-113 (1-3)'!$B$6=\"\",\"\",'Tex-113 (1-3)'!$B$6)","v":"Tex-113-E(1-3)"},{"$f":"IF( 'Tex-113 (1-3)'!$B$20=\"\",\"\", 'Tex-113 (1-3)'!$B$20)","v":"Moisture-Density Work Sheet"},{"$f":"IF('Tex-113 (1-3)'!$B$40=\"\",\"\",'Tex-113 (1-3)'!$B$40)","v":"Volume of Specimen, (ft^3):"},{"$f":"IF('Tex-113 (1-3)'!$H$29=\"\",\"\",'Tex-113 (1-3)'!$H$29)","v":4}]
[451,{"$f":"IF('Tex-113 (1-3)'!$E$41=\"\",\"\",'Tex-113 (1-3)'!$E$41)","v":""},{"$f":"IF('Tex-113 (1-3)'!$B$6=\"\",\"\",'Tex-113 (1-3)'!$B$6)","v":"Tex-113-E(1-3)"},{"$f":"IF( 'Tex-113 (1-3)'!$B$20=\"\",\"\", 'Tex-113 (1-3)'!$B$20)","v":"Moisture-Density Work Sheet"},{"$f":"IF('Tex-113 (1-3)'!$B$41=\"\",\"\",'Tex-113 (1-3)'!$B$41)","v":"Wet Density of Specimen, (lb):"},{"$f":"IF('Tex-113 (1-3)'!$E$29=\"\",\"\",'Tex-113 (1-3)'!$E$29)","v":1}]
[452,{"$f":"IF('Tex-113 (1-3)'!$F$41=\"\",\"\",'Tex-113 (1-3)'!$F$41)","v":""},{"$f":"IF('Tex-113 (1-3)'!$B$6=\"\",\"\",'Tex-113 (1-3)'!$B$6)","v":"Tex-113-E(1-3)"},{"$f":"IF( 'Tex-113 (1-3)'!$B$20=\"\",\"\", 'Tex-113 (1-3)'!$B$20)","v":"Moisture-Density Work Sheet"},{"$f":"IF('Tex-113 (1-3)'!$B$41=\"\",\"\",'Tex-113 (1-3)'!$B$41)","v":"Wet Density of Specimen, (lb):"},{"$f":"IF('Tex-113 (1-3)'!$F$29=\"\",\"\",'Tex-113 (1-3)'!$F$29)","v":2}]
[453,{"$f":"IF('Tex-113 (1-3)'!$G$41=\"\",\"\",'Tex-113 (1-3)'!$G$41)","v":""},{"$f":"IF('Tex-113 (1-3)'!$B$6=\"\",\"\",'Tex-113 (1-3)'!$B$6)","v":"Tex-113-E(1-3)"},{"$f":"IF( 'Tex-113 (1-3)'!$B$20=\"\",\"\", 'Tex-113 (1-3)'!$B$20)","v":"Moisture-Density Work Sheet"},{"$f":"IF('Tex-113 (1-3)'!$B$41=\"\",\"\",'Tex-113 (1-3)'!$B$41)","v":"Wet Density of Specimen, (lb):"},{"$f":"IF('Tex-113 (1-3)'!$G$29=\"\",\"\",'Tex-113 (1-3)'!$G$29)","v":3}]
[454,{"$f":"IF('Tex-113 (1-3)'!$H$41=\"\",\"\",'Tex-113 (1-3)'!$H$41)","v":""},{"$f":"IF('Tex-113 (1-3)'!$B$6=\"\",\"\",'Tex-113 (1-3)'!$B$6)","v":"Tex-113-E(1-3)"},{"$f":"IF( 'Tex-113 (1-3)'!$B$20=\"\",\"\", 'Tex-113 (1-3)'!$B$20)","v":"Moisture-Density Work Sheet"},{"$f":"IF('Tex-113 (1-3)'!$B$41=\"\",\"\",'Tex-113 (1-3)'!$B$41)","v":"Wet Density of Specimen, (lb):"},{"$f":"IF('Tex-113 (1-3)'!$H$29=\"\",\"\",'Tex-113 (1-3)'!$H$29)","v":4}]
[455,{"$f":"IF('Tex-113 (1-3)'!$E$42=\"\",\"\",'Tex-113 (1-3)'!$E$42)","v":""},{"$f":"IF('Tex-113 (1-3)'!$B$6=\"\",\"\",'Tex-113 (1-3)'!$B$6)","v":"Tex-113-E(1-3)"},{"$f":"IF( 'Tex-113 (1-3)'!$B$20=\"\",\"\", 'Tex-113 (1-3)'!$B$20)","v":"Moisture-Density Work Sheet"},{"$f":"IF('Tex-113 (1-3)'!$B$42=\"\",\"\",'Tex-113 (1-3)'!$B$42)","v":"Wet Mass of Pan & Specimen, (lb):"},{"$f":"IF('Tex-113 (1-3)'!$E$29=\"\",\"\",'Tex-113 (1-3)'!$E$29)","v":1}]
[456,{"$f":"IF('Tex-113 (1-3)'!$F$42=\"\",\"\",'Tex-113 (1-3)'!$F$42)","v":""},{"$f":"IF('Tex-113 (1-3)'!$B$6=\"\",\"\",'Tex-113 (1-3)'!$B$6)","v":"Tex-113-E(1-3)"},{"$f":"IF( 'Tex-113 (1-3)'!$B$20=\"\",\"\", 'Tex-113 (1-3)'!$B$20)","v":"Moisture-Density Work Sheet"},{"$f":"IF('Tex-113 (1-3)'!$B$42=\"\",\"\",'Tex-113 (1-3)'!$B$42)","v":"Wet Mass of Pan & Specimen, (lb):"},{"$f":"IF('Tex-113 (1-3)'!$F$29=\"\",\"\",'Tex-113 (1-3)'!$F$29)","v":2}]
[457,{"$f":"IF('Tex-113 (1-3)'!$G$42=\"\",\"\",'Tex-113 (1-3)'!$G$42)","v":""},{"$f":"IF('Tex-113 (1-3)'!$B$6=\"\",\"\",'Tex-113 (1-3)'!$B$6)","v":"Tex-113-E(1-3)"},{"$f":"IF( 'Tex-113 (1-3)'!$B$20=\"\",\"\", 'Tex-113 (1-3)'!$B$20)","v":"Moisture-Density Work Sheet"},{"$f":"IF('Tex-113 (1-3)'!$B$42=\"\",\"\",'Tex-113 (1-3)'!$B$42)","v":"Wet Mass of Pan & Specimen, (lb):"},{"$f":"IF('Tex-113 (1-3)'!$G$29=\"\",\"\",'Tex-113 (1-3)'!$G$29)","v":3}]
[458,{"$f":"IF('Tex-113 (1-3)'!$H$42=\"\",\"\",'Tex-113 (1-3)'!$H$42)","v":""},{"$f":"IF('Tex-113 (1-3)'!$B$6=\"\",\"\",'Tex-113 (1-3)'!$B$6)","v":"Tex-113-E(1-3)"},{"$f":"IF( 'Tex-113 (1-3)'!$B$20=\"\",\"\", 'Tex-113 (1-3)'!$B$20)","v":"Moisture-Density Work Sheet"},{"$f":"IF('Tex-113 (1-3)'!$B$42=\"\",\"\",'Tex-113 (1-3)'!$B$42)","v":"Wet Mass of Pan & Specimen, (lb):"},{"$f":"IF('Tex-113 (1-3)'!$H$29=\"\",\"\",'Tex-113 (1-3)'!$H$29)","v":4}]
[459,{"$f":"IF('Tex-113 (1-3)'!$E$43=\"\",\"\",'Tex-113 (1-3)'!$E$43)","v":""},{"$f":"IF('Tex-113 (1-3)'!$B$6=\"\",\"\",'Tex-113 (1-3)'!$B$6)","v":"Tex-113-E(1-3)"},{"$f":"IF( 'Tex-113 (1-3)'!$B$20=\"\",\"\", 'Tex-113 (1-3)'!$B$20)","v":"Moisture-Density Work Sheet"},{"$f":"IF('Tex-113 (1-3)'!$B$43=\"\",\"\",'Tex-113 (1-3)'!$B$43)","v":"Dry Mass Pan & Specimen, (lb):"},{"$f":"IF('Tex-113 (1-3)'!$E$29=\"\",\"\",'Tex-113 (1-3)'!$E$29)","v":1}]
[460,{"$f":"IF('Tex-113 (1-3)'!$F$43=\"\",\"\",'Tex-113 (1-3)'!$F$43)","v":""},{"$f":"IF('Tex-113 (1-3)'!$B$6=\"\",\"\",'Tex-113 (1-3)'!$B$6)","v":"Tex-113-E(1-3)"},{"$f":"IF( 'Tex-113 (1-3)'!$B$20=\"\",\"\", 'Tex-113 (1-3)'!$B$20)","v":"Moisture-Density Work Sheet"},{"$f":"IF('Tex-113 (1-3)'!$B$43=\"\",\"\",'Tex-113 (1-3)'!$B$43)","v":"Dry Mass Pan & Specimen, (lb):"},{"$f":"IF('Tex-113 (1-3)'!$F$29=\"\",\"\",'Tex-113 (1-3)'!$F$29)","v":2}]
[461,{"$f":"IF('Tex-113 (1-3)'!$G$43=\"\",\"\",'Tex-113 (1-3)'!$G$43)","v":""},{"$f":"IF('Tex-113 (1-3)'!$B$6=\"\",\"\",'Tex-113 (1-3)'!$B$6)","v":"Tex-113-E(1-3)"},{"$f":"IF( 'Tex-113 (1-3)'!$B$20=\"\",\"\", 'Tex-113 (1-3)'!$B$20)","v":"Moisture-Density Work Sheet"},{"$f":"IF('Tex-113 (1-3)'!$B$43=\"\",\"\",'Tex-113 (1-3)'!$B$43)","v":"Dry Mass Pan & Specimen, (lb):"},{"$f":"IF('Tex-113 (1-3)'!$G$29=\"\",\"\",'Tex-113 (1-3)'!$G$29)","v":3}]
[462,{"$f":"IF('Tex-113 (1-3)'!$H$43=\"\",\"\",'Tex-113 (1-3)'!$H$43)","v":""},{"$f":"IF('Tex-113 (1-3)'!$B$6=\"\",\"\",'Tex-113 (1-3)'!$B$6)","v":"Tex-113-E(1-3)"},{"$f":"IF( 'Tex-113 (1-3)'!$B$20=\"\",\"\", 'Tex-113 (1-3)'!$B$20)","v":"Moisture-Density Work Sheet"},{"$f":"IF('Tex-113 (1-3)'!$B$43=\"\",\"\",'Tex-113 (1-3)'!$B$43)","v":"Dry Mass Pan & Specimen, (lb):"},{"$f":"IF('Tex-113 (1-3)'!$H$29=\"\",\"\",'Tex-113 (1-3)'!$H$29)","v":4}]
[463,{"$f":"IF('Tex-113 (1-3)'!$E$44=\"\",\"\",'Tex-113 (1-3)'!$E$44)","v":""},{"$f":"IF('Tex-113 (1-3)'!$B$6=\"\",\"\",'Tex-113 (1-3)'!$B$6)","v":"Tex-113-E(1-3)"},{"$f":"IF( 'Tex-113 (1-3)'!$B$20=\"\",\"\", 'Tex-113 (1-3)'!$B$20)","v":"Moisture-Density Work Sheet"},{"$f":"IF('Tex-113 (1-3)'!$B$44=\"\",\"\",'Tex-113 (1-3)'!$B$44)","v":"Tare Mass Pan, (lb):"},{"$f":"IF('Tex-113 (1-3)'!$E$29=\"\",\"\",'Tex-113 (1-3)'!$E$29)","v":1}]
[464,{"$f":"IF('Tex-113 (1-3)'!$F$44=\"\",\"\",'Tex-113 (1-3)'!$F$44)","v":""},{"$f":"IF('Tex-113 (1-3)'!$B$6=\"\",\"\",'Tex-113 (1-3)'!$B$6)","v":"Tex-113-E(1-3)"},{"$f":"IF( 'Tex-113 (1-3)'!$B$20=\"\",\"\", 'Tex-113 (1-3)'!$B$20)","v":"Moisture-Density Work Sheet"},{"$f":"IF('Tex-113 (1-3)'!$B$44=\"\",\"\",'Tex-113 (1-3)'!$B$44)","v":"Tare Mass Pan, (lb):"},{"$f":"IF('Tex-113 (1-3)'!$F$29=\"\",\"\",'Tex-113 (1-3)'!$F$29)","v":2}]
[465,{"$f":"IF('Tex-113 (1-3)'!$G$44=\"\",\"\",'Tex-113 (1-3)'!$G$44)","v":""},{"$f":"IF('Tex-113 (1-3)'!$B$6=\"\",\"\",'Tex-113 (1-3)'!$B$6)","v":"Tex-113-E(1-3)"},{"$f":"IF( 'Tex-113 (1-3)'!$B$20=\"\",\"\", 'Tex-113 (1-3)'!$B$20)","v":"Moisture-Density Work Sheet"},{"$f":"IF('Tex-113 (1-3)'!$B$44=\"\",\"\",'Tex-113 (1-3)'!$B$44)","v":"Tare Mass Pan, (lb):"},{"$f":"IF('Tex-113 (1-3)'!$G$29=\"\",\"\",'Tex-113 (1-3)'!$G$29)","v":3}]
[466,{"$f":"IF('Tex-113 (1-3)'!$H$44=\"\",\"\",'Tex-113 (1-3)'!$H$44)","v":""},{"$f":"IF('Tex-113 (1-3)'!$B$6=\"\",\"\",'Tex-113 (1-3)'!$B$6)","v":"Tex-113-E(1-3)"},{"$f":"IF( 'Tex-113 (1-3)'!$B$20=\"\",\"\", 'Tex-113 (1-3)'!$B$20)","v":"Moisture-Density Work Sheet"},{"$f":"IF('Tex-113 (1-3)'!$B$44=\"\",\"\",'Tex-113 (1-3)'!$B$44)","v":"Tare Mass Pan, (lb):"},{"$f":"IF('Tex-113 (1-3)'!$H$29=\"\",\"\",'Tex-113 (1-3)'!$H$29)","v":4}]
[467,{"$f":"IF('Tex-113 (1-3)'!$E$45=\"\",\"\",'Tex-113 (1-3)'!$E$45)","v":""},{"$f":"IF('Tex-113 (1-3)'!$B$6=\"\",\"\",'Tex-113 (1-3)'!$B$6)","v":"Tex-113-E(1-3)"},{"$f":"IF( 'Tex-113 (1-3)'!$B$20=\"\",\"\", 'Tex-113 (1-3)'!$B$20)","v":"Moisture-Density Work Sheet"},{"$f":"IF('Tex-113 (1-3)'!$B$45=\"\",\"\",'Tex-113 (1-3)'!$B$45)","v":"Dry Mass Material , (lb):"},{"$f":"IF('Tex-113 (1-3)'!$E$29=\"\",\"\",'Tex-113 (1-3)'!$E$29)","v":1}]
[468,{"$f":"IF('Tex-113 (1-3)'!$F$45=\"\",\"\",'Tex-113 (1-3)'!$F$45)","v":""},{"$f":"IF('Tex-113 (1-3)'!$B$6=\"\",\"\",'Tex-113 (1-3)'!$B$6)","v":"Tex-113-E(1-3)"},{"$f":"IF( 'Tex-113 (1-3)'!$B$20=\"\",\"\", 'Tex-113 (1-3)'!$B$20)","v":"Moisture-Density Work Sheet"},{"$f":"IF('Tex-113 (1-3)'!$B$45=\"\",\"\",'Tex-113 (1-3)'!$B$45)","v":"Dry Mass Material , (lb):"},{"$f":"IF('Tex-113 (1-3)'!$F$29=\"\",\"\",'Tex-113 (1-3)'!$F$29)","v":2}]
[469,{"$f":"IF('Tex-113 (1-3)'!$G$45=\"\",\"\",'Tex-113 (1-3)'!$G$45)","v":""},{"$f":"IF('Tex-113 (1-3)'!$B$6=\"\",\"\",'Tex-113 (1-3)'!$B$6)","v":"Tex-113-E(1-3)"},{"$f":"IF( 'Tex-113 (1-3)'!$B$20=\"\",\"\", 'Tex-113 (1-3)'!$B$20)","v":"Moisture-Density Work Sheet"},{"$f":"IF('Tex-113 (1-3)'!$B$45=\"\",\"\",'Tex-113 (1-3)'!$B$45)","v":"Dry Mass Material , (lb):"},{"$f":"IF('Tex-113 (1-3)'!$G$29=\"\",\"\",'Tex-113 (1-3)'!$G$29)","v":3}]
[470,{"$f":"IF('Tex-113 (1-3)'!$H$45=\"\",\"\",'Tex-113 (1-3)'!$H$45)","v":""},{"$f":"IF('Tex-113 (1-3)'!$B$6=\"\",\"\",'Tex-113 (1-3)'!$B$6)","v":"Tex-113-E(1-3)"},{"$f":"IF( 'Tex-113 (1-3)'!$B$20=\"\",\"\", 'Tex-113 (1-3)'!$B$20)","v":"Moisture-Density Work Sheet"},{"$f":"IF('Tex-113 (1-3)'!$B$45=\"\",\"\",'Tex-113 (1-3)'!$B$45)","v":"Dry Mass Material , (lb):"},{"$f":"IF('Tex-113 (1-3)'!$H$29=\"\",\"\",'Tex-113 (1-3)'!$H$29)","v":4}]
[471,{"$f":"IF('Tex-113 (1-3)'!$E$46=\"\",\"\",'Tex-113 (1-3)'!$E$46)","v":""},{"$f":"IF('Tex-113 (1-3)'!$B$6=\"\",\"\",'Tex-113 (1-3)'!$B$6)","v":"Tex-113-E(1-3)"},{"$f":"IF( 'Tex-113 (1-3)'!$B$20=\"\",\"\", 'Tex-113 (1-3)'!$B$20)","v":"Moisture-Density Work Sheet"},{"$f":"IF('Tex-113 (1-3)'!$B$46=\"\",\"\",'Tex-113 (1-3)'!$B$46)","v":"Mass Water, (lb):"},{"$f":"IF('Tex-113 (1-3)'!$E$29=\"\",\"\",'Tex-113 (1-3)'!$E$29)","v":1}]
[472,{"$f":"IF('Tex-113 (1-3)'!$F$46=\"\",\"\",'Tex-113 (1-3)'!$F$46)","v":""},{"$f":"IF('Tex-113 (1-3)'!$B$6=\"\",\"\",'Tex-113 (1-3)'!$B$6)","v":"Tex-113-E(1-3)"},{"$f":"IF( 'Tex-113 (1-3)'!$B$20=\"\",\"\", 'Tex-113 (1-3)'!$B$20)","v":"Moisture-Density Work Sheet"},{"$f":"IF('Tex-113 (1-3)'!$B$46=\"\",\"\",'Tex-113 (1-3)'!$B$46)","v":"Mass Water, (lb):"},{"$f":"IF('Tex-113 (1-3)'!$F$29=\"\",\"\",'Tex-113 (1-3)'!$F$29)","v":2}]
[473,{"$f":"IF('Tex-113 (1-3)'!$G$46=\"\",\"\",'Tex-113 (1-3)'!$G$46)","v":""},{"$f":"IF('Tex-113 (1-3)'!$B$6=\"\",\"\",'Tex-113 (1-3)'!$B$6)","v":"Tex-113-E(1-3)"},{"$f":"IF( 'Tex-113 (1-3)'!$B$20=\"\",\"\", 'Tex-113 (1-3)'!$B$20)","v":"Moisture-Density Work Sheet"},{"$f":"IF('Tex-113 (1-3)'!$B$46=\"\",\"\",'Tex-113 (1-3)'!$B$46)","v":"Mass Water, (lb):"},{"$f":"IF('Tex-113 (1-3)'!$G$29=\"\",\"\",'Tex-113 (1-3)'!$G$29)","v":3}]
[474,{"$f":"IF('Tex-113 (1-3)'!$H$46=\"\",\"\",'Tex-113 (1-3)'!$H$46)","v":""},{"$f":"IF('Tex-113 (1-3)'!$B$6=\"\",\"\",'Tex-113 (1-3)'!$B$6)","v":"Tex-113-E(1-3)"},{"$f":"IF( 'Tex-113 (1-3)'!$B$20=\"\",\"\", 'Tex-113 (1-3)'!$B$20)","v":"Moisture-Density Work Sheet"},{"$f":"IF('Tex-113 (1-3)'!$B$46=\"\",\"\",'Tex-113 (1-3)'!$B$46)","v":"Mass Water, (lb):"},{"$f":"IF('Tex-113 (1-3)'!$H$29=\"\",\"\",'Tex-113 (1-3)'!$H$29)","v":4}]
[475,{"$f":"IF('Tex-113 (1-3)'!$E$47=\"\",\"\",'Tex-113 (1-3)'!$E$47)","v":""},{"$f":"IF('Tex-113 (1-3)'!$B$6=\"\",\"\",'Tex-113 (1-3)'!$B$6)","v":"Tex-113-E(1-3)"},{"$f":"IF( 'Tex-113 (1-3)'!$B$20=\"\",\"\", 'Tex-113 (1-3)'!$B$20)","v":"Moisture-Density Work Sheet"},{"$f":"IF('Tex-113 (1-3)'!$B$47=\"\",\"\",'Tex-113 (1-3)'!$B$47)","v":"Percent Water on Total , (%):"},{"$f":"IF('Tex-113 (1-3)'!$E$29=\"\",\"\",'Tex-113 (1-3)'!$E$29)","v":1}]
[476,{"$f":"IF('Tex-113 (1-3)'!$F$47=\"\",\"\",'Tex-113 (1-3)'!$F$47)","v":""},{"$f":"IF('Tex-113 (1-3)'!$B$6=\"\",\"\",'Tex-113 (1-3)'!$B$6)","v":"Tex-113-E(1-3)"},{"$f":"IF( 'Tex-113 (1-3)'!$B$20=\"\",\"\", 'Tex-113 (1-3)'!$B$20)","v":"Moisture-Density Work Sheet"},{"$f":"IF('Tex-113 (1-3)'!$B$47=\"\",\"\",'Tex-113 (1-3)'!$B$47)","v":"Percent Water on Total , (%):"},{"$f":"IF('Tex-113 (1-3)'!$F$29=\"\",\"\",'Tex-113 (1-3)'!$F$29)","v":2}]
[477,{"$f":"IF('Tex-113 (1-3)'!$G$47=\"\",\"\",'Tex-113 (1-3)'!$G$47)","v":""},{"$f":"IF('Tex-113 (1-3)'!$B$6=\"\",\"\",'Tex-113 (1-3)'!$B$6)","v":"Tex-113-E(1-3)"},{"$f":"IF( 'Tex-113 (1-3)'!$B$20=\"\",\"\", 'Tex-113 (1-3)'!$B$20)","v":"Moisture-Density Work Sheet"},{"$f":"IF('Tex-113 (1-3)'!$B$47=\"\",\"\",'Tex-113 (1-3)'!$B$47)","v":"Percent Water on Total , (%):"},{"$f":"IF('Tex-113 (1-3)'!$G$29=\"\",\"\",'Tex-113 (1-3)'!$G$29)","v":3}]
[478,{"$f":"IF('Tex-113 (1-3)'!$H$47=\"\",\"\",'Tex-113 (1-3)'!$H$47)","v":""},{"$f":"IF('Tex-113 (1-3)'!$B$6=\"\",\"\",'Tex-113 (1-3)'!$B$6)","v":"Tex-113-E(1-3)"},{"$f":"IF( 'Tex-113 (1-3)'!$B$20=\"\",\"\", 'Tex-113 (1-3)'!$B$20)","v":"Moisture-Density Work Sheet"},{"$f":"IF('Tex-113 (1-3)'!$B$47=\"\",\"\",'Tex-113 (1-3)'!$B$47)","v":"Percent Water on Total , (%):"},{"$f":"IF('Tex-113 (1-3)'!$H$29=\"\",\"\",'Tex-113 (1-3)'!$H$29)","v":4}]
[479,{"$f":"IF('Tex-113 (1-3)'!$E$48=\"\",\"\",'Tex-113 (1-3)'!$E$48)","v":""},{"$f":"IF('Tex-113 (1-3)'!$B$6=\"\",\"\",'Tex-113 (1-3)'!$B$6)","v":"Tex-113-E(1-3)"},{"$f":"IF( 'Tex-113 (1-3)'!$B$20=\"\",\"\", 'Tex-113 (1-3)'!$B$20)","v":"Moisture-Density Work Sheet"},{"$f":"IF('Tex-113 (1-3)'!$B$48=\"\",\"\",'Tex-113 (1-3)'!$B$48)","v":"Dry Density, (pcf):"},{"$f":"IF('Tex-113 (1-3)'!$E$29=\"\",\"\",'Tex-113 (1-3)'!$E$29)","v":1}]
[480,{"$f":"IF('Tex-113 (1-3)'!$F$48=\"\",\"\",'Tex-113 (1-3)'!$F$48)","v":""},{"$f":"IF('Tex-113 (1-3)'!$B$6=\"\",\"\",'Tex-113 (1-3)'!$B$6)","v":"Tex-113-E(1-3)"},{"$f":"IF( 'Tex-113 (1-3)'!$B$20=\"\",\"\", 'Tex-113 (1-3)'!$B$20)","v":"Moisture-Density Work Sheet"},{"$f":"IF('Tex-113 (1-3)'!$B$48=\"\",\"\",'Tex-113 (1-3)'!$B$48)","v":"Dry Density, (pcf):"},{"$f":"IF('Tex-113 (1-3)'!$F$29=\"\",\"\",'Tex-113 (1-3)'!$F$29)","v":2}]
[481,{"$f":"IF('Tex-113 (1-3)'!$G$48=\"\",\"\",'Tex-113 (1-3)'!$G$48)","v":""},{"$f":"IF('Tex-113 (1-3)'!$B$6=\"\",\"\",'Tex-113 (1-3)'!$B$6)","v":"Tex-113-E(1-3)"},{"$f":"IF( 'Tex-113 (1-3)'!$B$20=\"\",\"\", 'Tex-113 (1-3)'!$B$20)","v":"Moisture-Density Work Sheet"},{"$f":"IF('Tex-113 (1-3)'!$B$48=\"\",\"\",'Tex-113 (1-3)'!$B$48)","v":"Dry Density, (pcf):"},{"$f":"IF('Tex-113 (1-3)'!$G$29=\"\",\"\",'Tex-113 (1-3)'!$G$29)","v":3}]
[482,{"$f":"IF('Tex-113 (1-3)'!$H$48=\"\",\"\",'Tex-113 (1-3)'!$H$48)","v":""},{"$f":"IF('Tex-113 (1-3)'!$B$6=\"\",\"\",'Tex-113 (1-3)'!$B$6)","v":"Tex-113-E(1-3)"},{"$f":"IF( 'Tex-113 (1-3)'!$B$20=\"\",\"\", 'Tex-113 (1-3)'!$B$20)","v":"Moisture-Density Work Sheet"},{"$f":"IF('Tex-113 (1-3)'!$B$48=\"\",\"\",'Tex-113 (1-3)'!$B$48)","v":"Dry Density, (pcf):"},{"$f":"IF('Tex-113 (1-3)'!$H$29=\"\",\"\",'Tex-113 (1-3)'!$H$29)","v":4}]
[483,{"$f":"IF('Tex-113 (1-3)'!$E$49=\"\",\"\",'Tex-113 (1-3)'!$E$49)","v":""},{"$f":"IF('Tex-113 (1-3)'!$B$6=\"\",\"\",'Tex-113 (1-3)'!$B$6)","v":"Tex-113-E(1-3)"},{"$f":"IF( 'Tex-113 (1-3)'!$B$20=\"\",\"\", 'Tex-113 (1-3)'!$B$20)","v":"Moisture-Density Work Sheet"},{"$f":"IF('Tex-113 (1-3)'!$B$49=\"\",\"\",'Tex-113 (1-3)'!$B$49)","v":"Estimated Dry Density, (pcf):"},{"$f":"IF('Tex-113 (1-3)'!$E$29=\"\",\"\",'Tex-113 (1-3)'!$E$29)","v":1}]
[484,{"$f":"IF('Tex-113 (1-3)'!$F$49=\"\",\"\",'Tex-113 (1-3)'!$F$49)","v":""},{"$f":"IF('Tex-113 (1-3)'!$B$6=\"\",\"\",'Tex-113 (1-3)'!$B$6)","v":"Tex-113-E(1-3)"},{"$f":"IF( 'Tex-113 (1-3)'!$B$20=\"\",\"\", 'Tex-113 (1-3)'!$B$20)","v":"Moisture-Density Work Sheet"},{"$f":"IF('Tex-113 (1-3)'!$B$49=\"\",\"\",'Tex-113 (1-3)'!$B$49)","v":"Estimated Dry Density, (pcf):"},{"$f":"IF('Tex-113 (1-3)'!$F$29=\"\",\"\",'Tex-113 (1-3)'!$F$29)","v":2}]
[485,{"$f":"IF('Tex-113 (1-3)'!$G$49=\"\",\"\",'Tex-113 (1-3)'!$G$49)","v":""},{"$f":"IF('Tex-113 (1-3)'!$B$6=\"\",\"\",'Tex-113 (1-3)'!$B$6)","v":"Tex-113-E(1-3)"},{"$f":"IF( 'Tex-113 (1-3)'!$B$20=\"\",\"\", 'Tex-113 (1-3)'!$B$20)","v":"Moisture-Density Work Sheet"},{"$f":"IF('Tex-113 (1-3)'!$B$49=\"\",\"\",'Tex-113 (1-3)'!$B$49)","v":"Estimated Dry Density, (pcf):"},{"$f":"IF('Tex-113 (1-3)'!$G$29=\"\",\"\",'Tex-113 (1-3)'!$G$29)","v":3}]
[486,{"$f":"IF('Tex-113 (1-3)'!$H$49=\"\",\"\",'Tex-113 (1-3)'!$H$49)","v":""},{"$f":"IF('Tex-113 (1-3)'!$B$6=\"\",\"\",'Tex-113 (1-3)'!$B$6)","v":"Tex-113-E(1-3)"},{"$f":"IF( 'Tex-113 (1-3)'!$B$20=\"\",\"\", 'Tex-113 (1-3)'!$B$20)","v":"Moisture-Density Work Sheet"},{"$f":"IF('Tex-113 (1-3)'!$B$49=\"\",\"\",'Tex-113 (1-3)'!$B$49)","v":"Estimated Dry Density, (pcf):"},{"$f":"IF('Tex-113 (1-3)'!$H$29=\"\",\"\",'Tex-113 (1-3)'!$H$29)","v":4}]
[487,{"$f":"IF('Tex-113 (1-3)'!$E$50=\"\",\"\",'Tex-113 (1-3)'!$E$50)","v":""},{"$f":"IF('Tex-113 (1-3)'!$B$6=\"\",\"\",'Tex-113 (1-3)'!$B$6)","v":"Tex-113-E(1-3)"},{"$f":"IF( 'Tex-113 (1-3)'!$B$20=\"\",\"\", 'Tex-113 (1-3)'!$B$20)","v":"Moisture-Density Work Sheet"},{"$f":"IF('Tex-113 (1-3)'!$B$50=\"\",\"\",'Tex-113 (1-3)'!$B$50)","v":"Max Density, (pcf):"}]
[488,{"$f":"IF('Tex-113 (1-3)'!$E$51=\"\",\"\",'Tex-113 (1-3)'!$E$51)","v":""},{"$f":"IF('Tex-113 (1-3)'!$B$6=\"\",\"\",'Tex-113 (1-3)'!$B$6)","v":"Tex-113-E(1-3)"},{"$f":"IF( 'Tex-113 (1-3)'!$B$20=\"\",\"\", 'Tex-113 (1-3)'!$B$20)","v":"Moisture-Density Work Sheet"},{"$f":"IF('Tex-113 (1-3)'!$B$51=\"\",\"\",'Tex-113 (1-3)'!$B$51)","v":"Max Density, (kg/m3):"}]
[489,{"$f":"IF('Tex-113 (1-3)'!$E$52=\"\",\"\",'Tex-113 (1-3)'!$E$52)","v":""},{"$f":"IF('Tex-113 (1-3)'!$B$6=\"\",\"\",'Tex-113 (1-3)'!$B$6)","v":"Tex-113-E(1-3)"},{"$f":"IF( 'Tex-113 (1-3)'!$B$20=\"\",\"\", 'Tex-113 (1-3)'!$B$20)","v":"Moisture-Density Work Sheet"},{"$f":"IF('Tex-113 (1-3)'!$B$52=\"\",\"\",'Tex-113 (1-3)'!$B$52)","v":"Optimum Moisture, (%):"}]
[490,{"$f":"IF('Tex-113 (1-3)'!$B$55=\"\",\"\",'Tex-113 (1-3)'!$B$55)","v":""},{"$f":"IF('Tex-113 (1-3)'!$B$6=\"\",\"\",'Tex-113 (1-3)'!$B$6)","v":"Tex-113-E(1-3)"},{"$f":"IF( 'Tex-113 (1-3)'!$B$20=\"\",\"\", 'Tex-113 (1-3)'!$B$20)","v":"Moisture-Density Work Sheet"},{"$f":"IF('Tex-113 (1-3)'!$B$54=\"\",\"\",'Tex-113 (1-3)'!$B$54)","v":"Remarks:"}]
[491,{"$f":"IF('Tex-113 (4-6)'!$E$21=\"\",\"\",'Tex-113 (4-6)'!$E$21)","v":""},{"$f":"IF('Tex-113 (4-6)'!$B$6=\"\",\"\",'Tex-113 (4-6)'!$B$6)","v":"Tex-113-E(4-6)"},{"$f":"IF( 'Tex-113 (4-6)'!$B$20=\"\",\"\", 'Tex-113 (4-6)'!$B$20)","v":"Moisture-Density Work Sheet"},{"$f":"IF('Tex-113 (4-6)'!$B$21=\"\",\"\",'Tex-113 (4-6)'!$B$21)","v":"Percent Lime, (%)"}]
[492,{"$f":"IF('Tex-113 (4-6)'!$E$22=\"\",\"\",'Tex-113 (4-6)'!$E$22)","v":""},{"$f":"IF('Tex-113 (4-6)'!$B$6=\"\",\"\",'Tex-113 (4-6)'!$B$6)","v":"Tex-113-E(4-6)"},{"$f":"IF( 'Tex-113 (4-6)'!$B$20=\"\",\"\", 'Tex-113 (4-6)'!$B$20)","v":"Moisture-Density Work Sheet"},{"$f":"IF('Tex-113 (4-6)'!$B$22=\"\",\"\",'Tex-113 (4-6)'!$B$22)","v":"Oven Dry Weight, (g):"}]
[493,{"$f":"IF('Tex-113 (4-6)'!$E$23=\"\",\"\",'Tex-113 (4-6)'!$E$23)","v":""},{"$f":"IF('Tex-113 (4-6)'!$B$6=\"\",\"\",'Tex-113 (4-6)'!$B$6)","v":"Tex-113-E(4-6)"},{"$f":"IF( 'Tex-113 (4-6)'!$B$20=\"\",\"\", 'Tex-113 (4-6)'!$B$20)","v":"Moisture-Density Work Sheet"},{"$f":"IF('Tex-113 (4-6)'!$B$23=\"\",\"\",'Tex-113 (4-6)'!$B$23)","v":"Weight of Pycnometer & Water, (g):"}]
[494,{"$f":"IF('Tex-113 (4-6)'!$E$24=\"\",\"\",'Tex-113 (4-6)'!$E$24)","v":""},{"$f":"IF('Tex-113 (4-6)'!$B$6=\"\",\"\",'Tex-113 (4-6)'!$B$6)","v":"Tex-113-E(4-6)"},{"$f":"IF( 'Tex-113 (4-6)'!$B$20=\"\",\"\", 'Tex-113 (4-6)'!$B$20)","v":"Moisture-Density Work Sheet"},{"$f":"IF('Tex-113 (4-6)'!$B$24=\"\",\"\",'Tex-113 (4-6)'!$B$24)","v":"Weight of Aggr., Pycn.& Water, (g):"}]
[495,{"$f":"IF('Tex-113 (4-6)'!$E$25=\"\",\"\",'Tex-113 (4-6)'!$E$25)","v":""},{"$f":"IF('Tex-113 (4-6)'!$B$6=\"\",\"\",'Tex-113 (4-6)'!$B$6)","v":"Tex-113-E(4-6)"},{"$f":"IF( 'Tex-113 (4-6)'!$B$20=\"\",\"\", 'Tex-113 (4-6)'!$B$20)","v":"Moisture-Density Work Sheet"},{"$f":"IF('Tex-113 (4-6)'!$B$25=\"\",\"\",'Tex-113 (4-6)'!$B$25)","v":"Specific Gravity (Apparent):"}]
[496,{"$f":"IF('Tex-113 (4-6)'!$E$27=\"\",\"\",'Tex-113 (4-6)'!$E$27)","v":""},{"$f":"IF('Tex-113 (4-6)'!$B$6=\"\",\"\",'Tex-113 (4-6)'!$B$6)","v":"Tex-113-E(4-6)"},{"$f":"IF( 'Tex-113 (4-6)'!$B$20=\"\",\"\", 'Tex-113 (4-6)'!$B$20)","v":"Moisture-Density Work Sheet"},{"$f":"IF('Tex-113 (4-6)'!$B$27=\"\",\"\",'Tex-113 (4-6)'!$B$27)","v":"Hygroscopic Moisture, (%):"}]
[497,{"$f":"IF('Tex-113 (4-6)'!$E$30=\"\",\"\",'Tex-113 (4-6)'!$E$30)","v":""},{"$f":"IF('Tex-113 (4-6)'!$B$6=\"\",\"\",'Tex-113 (4-6)'!$B$6)","v":"Tex-113-E(4-6)"},{"$f":"IF( 'Tex-113 (4-6)'!$B$20=\"\",\"\", 'Tex-113 (4-6)'!$B$20)","v":"Moisture-Density Work Sheet"},{"$f":"IF('Tex-113 (4-6)'!$B$30=\"\",\"\",'Tex-113 (4-6)'!$B$30)","v":"Percent Water Content, (%):"},{"$f":"IF('Tex-113 (4-6)'!$E$29=\"\",\"\",'Tex-113 (4-6)'!$E$29)","v":1}]
[498,{"$f":"IF('Tex-113 (4-6)'!$F$30=\"\",\"\",'Tex-113 (4-6)'!$F$30)","v":""},{"$f":"IF('Tex-113 (4-6)'!$B$6=\"\",\"\",'Tex-113 (4-6)'!$B$6)","v":"Tex-113-E(4-6)"},{"$f":"IF( 'Tex-113 (4-6)'!$B$20=\"\",\"\", 'Tex-113 (4-6)'!$B$20)","v":"Moisture-Density Work Sheet"},{"$f":"IF('Tex-113 (4-6)'!$B$30=\"\",\"\",'Tex-113 (4-6)'!$B$30)","v":"Percent Water Content, (%):"},{"$f":"IF('Tex-113 (4-6)'!$F$29=\"\",\"\",'Tex-113 (4-6)'!$F$29)","v":2}]
[499,{"$f":"IF('Tex-113 (4-6)'!$G$30=\"\",\"\",'Tex-113 (4-6)'!$G$30)","v":""},{"$f":"IF('Tex-113 (4-6)'!$B$6=\"\",\"\",'Tex-113 (4-6)'!$B$6)","v":"Tex-113-E(4-6)"},{"$f":"IF( 'Tex-113 (4-6)'!$B$20=\"\",\"\", 'Tex-113 (4-6)'!$B$20)","v":"Moisture-Density Work Sheet"},{"$f":"IF('Tex-113 (4-6)'!$B$30=\"\",\"\",'Tex-113 (4-6)'!$B$30)","v":"Percent Water Content, (%):"},{"$f":"IF('Tex-113 (4-6)'!$G$29=\"\",\"\",'Tex-113 (4-6)'!$G$29)","v":3}]
[500,{"$f":"IF('Tex-113 (4-6)'!$H$30=\"\",\"\",'Tex-113 (4-6)'!$H$30)","v":""},{"$f":"IF('Tex-113 (4-6)'!$B$6=\"\",\"\",'Tex-113 (4-6)'!$B$6)","v":"Tex-113-E(4-6)"},{"$f":"IF( 'Tex-113 (4-6)'!$B$20=\"\",\"\", 'Tex-113 (4-6)'!$B$20)","v":"Moisture-Density Work Sheet"},{"$f":"IF('Tex-113 (4-6)'!$B$30=\"\",\"\",'Tex-113 (4-6)'!$B$30)","v":"Percent Water Content, (%):"},{"$f":"IF('Tex-113 (4-6)'!$H$29=\"\",\"\",'Tex-113 (4-6)'!$H$29)","v":4}]
[501,{"$f":"IF('Tex-113 (4-6)'!$E$32=\"\",\"\",'Tex-113 (4-6)'!$E$32)","v":""},{"$f":"IF('Tex-113 (4-6)'!$B$6=\"\",\"\",'Tex-113 (4-6)'!$B$6)","v":"Tex-113-E(4-6)"},{"$f":"IF( 'Tex-113 (4-6)'!$B$20=\"\",\"\", 'Tex-113 (4-6)'!$B$20)","v":"Moisture-Density Work Sheet"},{"$f":"IF('Tex-113 (4-6)'!$B$32=\"\",\"\",'Tex-113 (4-6)'!$B$32)","v":"Mass Material, (lb):"},{"$f":"IF('Tex-113 (4-6)'!$E$29=\"\",\"\",'Tex-113 (4-6)'!$E$29)","v":1}]
[502,{"$f":"IF('Tex-113 (4-6)'!$F$32=\"\",\"\",'Tex-113 (4-6)'!$F$32)","v":""},{"$f":"IF('Tex-113 (4-6)'!$B$6=\"\",\"\",'Tex-113 (4-6)'!$B$6)","v":"Tex-113-E(4-6)"},{"$f":"IF( 'Tex-113 (4-6)'!$B$20=\"\",\"\", 'Tex-113 (4-6)'!$B$20)","v":"Moisture-Density Work Sheet"},{"$f":"IF('Tex-113 (4-6)'!$B$32=\"\",\"\",'Tex-113 (4-6)'!$B$32)","v":"Mass Material, (lb):"},{"$f":"IF('Tex-113 (4-6)'!$F$29=\"\",\"\",'Tex-113 (4-6)'!$F$29)","v":2}]
[503,{"$f":"IF('Tex-113 (4-6)'!$G$32=\"\",\"\",'Tex-113 (4-6)'!$G$32)","v":""},{"$f":"IF('Tex-113 (4-6)'!$B$6=\"\",\"\",'Tex-113 (4-6)'!$B$6)","v":"Tex-113-E(4-6)"},{"$f":"IF( 'Tex-113 (4-6)'!$B$20=\"\",\"\", 'Tex-113 (4-6)'!$B$20)","v":"Moisture-Density Work Sheet"},{"$f":"IF('Tex-113 (4-6)'!$B$32=\"\",\"\",'Tex-113 (4-6)'!$B$32)","v":"Mass Material, (lb):"},{"$f":"IF('Tex-113 (4-6)'!$G$29=\"\",\"\",'Tex-113 (4-6)'!$G$29)","v":3}]
[504,{"$f":"IF('Tex-113 (4-6)'!$H$32=\"\",\"\",'Tex-113 (4-6)'!$H$32)","v":""},{"$f":"IF('Tex-113 (4-6)'!$B$6=\"\",\"\",'Tex-113 (4-6)'!$B$6)","v":"Tex-113-E(4-6)"},{"$f":"IF( 'Tex-113 (4-6)'!$B$20=\"\",\"\", 'Tex-113 (4-6)'!$B$20)","v":"Moisture-Density Work Sheet"},{"$f":"IF('Tex-113 (4-6)'!$B$32=\"\",\"\",'Tex-113 (4-6)'!$B$32)","v":"Mass Material, (lb):"},{"$f":"IF('Tex-113 (4-6)'!$H$29=\"\",\"\",'Tex-113 (4-6)'!$H$29)","v":4}]
[505,{"$f":"IF('Tex-113 (4-6)'!$E$33=\"\",\"\",'Tex-113 (4-6)'!$E$33)","v":""},{"$f":"IF('Tex-113 (4-6)'!$B$6=\"\",\"\",'Tex-113 (4-6)'!$B$6)","v":"Tex-113-E(4-6)"},{"$f":"IF( 'Tex-113 (4-6)'!$B$20=\"\",\"\", 'Tex-113 (4-6)'!$B$20)","v":"Moisture-Density Work Sheet"},{"$f":"IF('Tex-113 (4-6)'!$B$33=\"\",\"\",'Tex-113 (4-6)'!$B$33)","v":"Mass Water Added, (lb):"},{"$f":"IF('Tex-113 (4-6)'!$E$29=\"\",\"\",'Tex-113 (4-6)'!$E$29)","v":1}]
[506,{"$f":"IF('Tex-113 (4-6)'!$F$33=\"\",\"\",'Tex-113 (4-6)'!$F$33)","v":""},{"$f":"IF('Tex-113 (4-6)'!$B$6=\"\",\"\",'Tex-113 (4-6)'!$B$6)","v":"Tex-113-E(4-6)"},{"$f":"IF( 'Tex-113 (4-6)'!$B$20=\"\",\"\", 'Tex-113 (4-6)'!$B$20)","v":"Moisture-Density Work Sheet"},{"$f":"IF('Tex-113 (4-6)'!$B$33=\"\",\"\",'Tex-113 (4-6)'!$B$33)","v":"Mass Water Added, (lb):"},{"$f":"IF('Tex-113 (4-6)'!$F$29=\"\",\"\",'Tex-113 (4-6)'!$F$29)","v":2}]
[507,{"$f":"IF('Tex-113 (4-6)'!$G$33=\"\",\"\",'Tex-113 (4-6)'!$G$33)","v":""},{"$f":"IF('Tex-113 (4-6)'!$B$6=\"\",\"\",'Tex-113 (4-6)'!$B$6)","v":"Tex-113-E(4-6)"},{"$f":"IF( 'Tex-113 (4-6)'!$B$20=\"\",\"\", 'Tex-113 (4-6)'!$B$20)","v":"Moisture-Density Work Sheet"},{"$f":"IF('Tex-113 (4-6)'!$B$33=\"\",\"\",'Tex-113 (4-6)'!$B$33)","v":"Mass Water Added, (lb):"},{"$f":"IF('Tex-113 (4-6)'!$G$29=\"\",\"\",'Tex-113 (4-6)'!$G$29)","v":3}]
[508,{"$f":"IF('Tex-113 (4-6)'!$H$33=\"\",\"\",'Tex-113 (4-6)'!$H$33)","v":""},{"$f":"IF('Tex-113 (4-6)'!$B$6=\"\",\"\",'Tex-113 (4-6)'!$B$6)","v":"Tex-113-E(4-6)"},{"$f":"IF( 'Tex-113 (4-6)'!$B$20=\"\",\"\", 'Tex-113 (4-6)'!$B$20)","v":"Moisture-Density Work Sheet"},{"$f":"IF('Tex-113 (4-6)'!$B$33=\"\",\"\",'Tex-113 (4-6)'!$B$33)","v":"Mass Water Added, (lb):"},{"$f":"IF('Tex-113 (4-6)'!$H$29=\"\",\"\",'Tex-113 (4-6)'!$H$29)","v":4}]
[509,{"$f":"IF('Tex-113 (4-6)'!$E$35=\"\",\"\",'Tex-113 (4-6)'!$E$35)","v":""},{"$f":"IF('Tex-113 (4-6)'!$B$6=\"\",\"\",'Tex-113 (4-6)'!$B$6)","v":"Tex-113-E(4-6)"},{"$f":"IF( 'Tex-113 (4-6)'!$B$20=\"\",\"\", 'Tex-113 (4-6)'!$B$20)","v":"Moisture-Density Work Sheet"},{"$f":"IF('Tex-113 (4-6)'!$B$35=\"\",\"\",'Tex-113 (4-6)'!$B$35)","v":"Wet Mass Specimen & Mold, (lb):"},{"$f":"IF('Tex-113 (4-6)'!$E$29=\"\",\"\",'Tex-113 (4-6)'!$E$29)","v":1}]
[510,{"$f":"IF('Tex-113 (4-6)'!$F$35=\"\",\"\",'Tex-113 (4-6)'!$F$35)","v":""},{"$f":"IF('Tex-113 (4-6)'!$B$6=\"\",\"\",'Tex-113 (4-6)'!$B$6)","v":"Tex-113-E(4-6)"},{"$f":"IF( 'Tex-113 (4-6)'!$B$20=\"\",\"\", 'Tex-113 (4-6)'!$B$20)","v":"Moisture-Density Work Sheet"},{"$f":"IF('Tex-113 (4-6)'!$B$35=\"\",\"\",'Tex-113 (4-6)'!$B$35)","v":"Wet Mass Specimen & Mold, (lb):"},{"$f":"IF('Tex-113 (4-6)'!$F$29=\"\",\"\",'Tex-113 (4-6)'!$F$29)","v":2}]
[511,{"$f":"IF('Tex-113 (4-6)'!$G$35=\"\",\"\",'Tex-113 (4-6)'!$G$35)","v":""},{"$f":"IF('Tex-113 (4-6)'!$B$6=\"\",\"\",'Tex-113 (4-6)'!$B$6)","v":"Tex-113-E(4-6)"},{"$f":"IF( 'Tex-113 (4-6)'!$B$20=\"\",\"\", 'Tex-113 (4-6)'!$B$20)","v":"Moisture-Density Work Sheet"},{"$f":"IF('Tex-113 (4-6)'!$B$35=\"\",\"\",'Tex-113 (4-6)'!$B$35)","v":"Wet Mass Specimen & Mold, (lb):"},{"$f":"IF('Tex-113 (4-6)'!$G$29=\"\",\"\",'Tex-113 (4-6)'!$G$29)","v":3}]
[512,{"$f":"IF('Tex-113 (4-6)'!$H$35=\"\",\"\",'Tex-113 (4-6)'!$H$35)","v":""},{"$f":"IF('Tex-113 (4-6)'!$B$6=\"\",\"\",'Tex-113 (4-6)'!$B$6)","v":"Tex-113-E(4-6)"},{"$f":"IF( 'Tex-113 (4-6)'!$B$20=\"\",\"\", 'Tex-113 (4-6)'!$B$20)","v":"Moisture-Density Work Sheet"},{"$f":"IF('Tex-113 (4-6)'!$B$35=\"\",\"\",'Tex-113 (4-6)'!$B$35)","v":"Wet Mass Specimen & Mold, (lb):"},{"$f":"IF('Tex-113 (4-6)'!$H$29=\"\",\"\",'Tex-113 (4-6)'!$H$29)","v":4}]
[513,{"$f":"IF('Tex-113 (4-6)'!$E$36=\"\",\"\",'Tex-113 (4-6)'!$E$36)","v":""},{"$f":"IF('Tex-113 (4-6)'!$B$6=\"\",\"\",'Tex-113 (4-6)'!$B$6)","v":"Tex-113-E(4-6)"},{"$f":"IF( 'Tex-113 (4-6)'!$B$20=\"\",\"\", 'Tex-113 (4-6)'!$B$20)","v":"Moisture-Density Work Sheet"},{"$f":"IF('Tex-113 (4-6)'!$B$36=\"\",\"\",'Tex-113 (4-6)'!$B$36)","v":"Tare Mass Mold, (lb):"},{"$f":"IF('Tex-113 (4-6)'!$E$29=\"\",\"\",'Tex-113 (4-6)'!$E$29)","v":1}]
[514,{"$f":"IF('Tex-113 (4-6)'!$F$36=\"\",\"\",'Tex-113 (4-6)'!$F$36)","v":""},{"$f":"IF('Tex-113 (4-6)'!$B$6=\"\",\"\",'Tex-113 (4-6)'!$B$6)","v":"Tex-113-E(4-6)"},{"$f":"IF( 'Tex-113 (4-6)'!$B$20=\"\",\"\", 'Tex-113 (4-6)'!$B$20)","v":"Moisture-Density Work Sheet"},{"$f":"IF('Tex-113 (4-6)'!$B$36=\"\",\"\",'Tex-113 (4-6)'!$B$36)","v":"Tare Mass Mold, (lb):"},{"$f":"IF('Tex-113 (4-6)'!$F$29=\"\",\"\",'Tex-113 (4-6)'!$F$29)","v":2}]
[515,{"$f":"IF('Tex-113 (4-6)'!$G$36=\"\",\"\",'Tex-113 (4-6)'!$G$36)","v":""},{"$f":"IF('Tex-113 (4-6)'!$B$6=\"\",\"\",'Tex-113 (4-6)'!$B$6)","v":"Tex-113-E(4-6)"},{"$f":"IF( 'Tex-113 (4-6)'!$B$20=\"\",\"\", 'Tex-113 (4-6)'!$B$20)","v":"Moisture-Density Work Sheet"},{"$f":"IF('Tex-113 (4-6)'!$B$36=\"\",\"\",'Tex-113 (4-6)'!$B$36)","v":"Tare Mass Mold, (lb):"},{"$f":"IF('Tex-113 (4-6)'!$G$29=\"\",\"\",'Tex-113 (4-6)'!$G$29)","v":3}]
[516,{"$f":"IF('Tex-113 (4-6)'!$H$36=\"\",\"\",'Tex-113 (4-6)'!$H$36)","v":""},{"$f":"IF('Tex-113 (4-6)'!$B$6=\"\",\"\",'Tex-113 (4-6)'!$B$6)","v":"Tex-113-E(4-6)"},{"$f":"IF( 'Tex-113 (4-6)'!$B$20=\"\",\"\", 'Tex-113 (4-6)'!$B$20)","v":"Moisture-Density Work Sheet"},{"$f":"IF('Tex-113 (4-6)'!$B$36=\"\",\"\",'Tex-113 (4-6)'!$B$36)","v":"Tare Mass Mold, (lb):"},{"$f":"IF('Tex-113 (4-6)'!$H$29=\"\",\"\",'Tex-113 (4-6)'!$H$29)","v":4}]
[517,{"$f":"IF('Tex-113 (4-6)'!$E$37=\"\",\"\",'Tex-113 (4-6)'!$E$37)","v":""},{"$f":"IF('Tex-113 (4-6)'!$B$6=\"\",\"\",'Tex-113 (4-6)'!$B$6)","v":"Tex-113-E(4-6)"},{"$f":"IF( 'Tex-113 (4-6)'!$B$20=\"\",\"\", 'Tex-113 (4-6)'!$B$20)","v":"Moisture-Density Work Sheet"},{"$f":"IF('Tex-113 (4-6)'!$B$37=\"\",\"\",'Tex-113 (4-6)'!$B$37)","v":"Wet Mass Specimen, (lb):"},{"$f":"IF('Tex-113 (4-6)'!$E$29=\"\",\"\",'Tex-113 (4-6)'!$E$29)","v":1}]
[518,{"$f":"IF('Tex-113 (4-6)'!$F$37=\"\",\"\",'Tex-113 (4-6)'!$F$37)","v":""},{"$f":"IF('Tex-113 (4-6)'!$B$6=\"\",\"\",'Tex-113 (4-6)'!$B$6)","v":"Tex-113-E(4-6)"},{"$f":"IF( 'Tex-113 (4-6)'!$B$20=\"\",\"\", 'Tex-113 (4-6)'!$B$20)","v":"Moisture-Density Work Sheet"},{"$f":"IF('Tex-113 (4-6)'!$B$37=\"\",\"\",'Tex-113 (4-6)'!$B$37)","v":"Wet Mass Specimen, (lb):"},{"$f":"IF('Tex-113 (4-6)'!$F$29=\"\",\"\",'Tex-113 (4-6)'!$F$29)","v":2}]
[519,{"$f":"IF('Tex-113 (4-6)'!$G$37=\"\",\"\",'Tex-113 (4-6)'!$G$37)","v":""},{"$f":"IF('Tex-113 (4-6)'!$B$6=\"\",\"\",'Tex-113 (4-6)'!$B$6)","v":"Tex-113-E(4-6)"},{"$f":"IF( 'Tex-113 (4-6)'!$B$20=\"\",\"\", 'Tex-113 (4-6)'!$B$20)","v":"Moisture-Density Work Sheet"},{"$f":"IF('Tex-113 (4-6)'!$B$37=\"\",\"\",'Tex-113 (4-6)'!$B$37)","v":"Wet Mass Specimen, (lb):"},{"$f":"IF('Tex-113 (4-6)'!$G$29=\"\",\"\",'Tex-113 (4-6)'!$G$29)","v":3}]
[520,{"$f":"IF('Tex-113 (4-6)'!$H$37=\"\",\"\",'Tex-113 (4-6)'!$H$37)","v":""},{"$f":"IF('Tex-113 (4-6)'!$B$6=\"\",\"\",'Tex-113 (4-6)'!$B$6)","v":"Tex-113-E(4-6)"},{"$f":"IF( 'Tex-113 (4-6)'!$B$20=\"\",\"\", 'Tex-113 (4-6)'!$B$20)","v":"Moisture-Density Work Sheet"},{"$f":"IF('Tex-113 (4-6)'!$B$37=\"\",\"\",'Tex-113 (4-6)'!$B$37)","v":"Wet Mass Specimen, (lb):"},{"$f":"IF('Tex-113 (4-6)'!$H$29=\"\",\"\",'Tex-113 (4-6)'!$H$29)","v":4}]
[521,{"$f":"IF('Tex-113 (4-6)'!$E$38=\"\",\"\",'Tex-113 (4-6)'!$E$38)","v":""},{"$f":"IF('Tex-113 (4-6)'!$B$6=\"\",\"\",'Tex-113 (4-6)'!$B$6)","v":"Tex-113-E(4-6)"},{"$f":"IF( 'Tex-113 (4-6)'!$B$20=\"\",\"\", 'Tex-113 (4-6)'!$B$20)","v":"Moisture-Density Work Sheet"},{"$f":"IF('Tex-113 (4-6)'!$B$38=\"\",\"\",'Tex-113 (4-6)'!$B$38)","v":"Height of Specimen, (in.):"},{"$f":"IF('Tex-113 (4-6)'!$E$29=\"\",\"\",'Tex-113 (4-6)'!$E$29)","v":1}]
[522,{"$f":"IF('Tex-113 (4-6)'!$F$38=\"\",\"\",'Tex-113 (4-6)'!$F$38)","v":""},{"$f":"IF('Tex-113 (4-6)'!$B$6=\"\",\"\",'Tex-113 (4-6)'!$B$6)","v":"Tex-113-E(4-6)"},{"$f":"IF( 'Tex-113 (4-6)'!$B$20=\"\",\"\", 'Tex-113 (4-6)'!$B$20)","v":"Moisture-Density Work Sheet"},{"$f":"IF('Tex-113 (4-6)'!$B$38=\"\",\"\",'Tex-113 (4-6)'!$B$38)","v":"Height of Specimen, (in.):"},{"$f":"IF('Tex-113 (4-6)'!$F$29=\"\",\"\",'Tex-113 (4-6)'!$F$29)","v":2}]
[523,{"$f":"IF('Tex-113 (4-6)'!$G$38=\"\",\"\",'Tex-113 (4-6)'!$G$38)","v":""},{"$f":"IF('Tex-113 (4-6)'!$B$6=\"\",\"\",'Tex-113 (4-6)'!$B$6)","v":"Tex-113-E(4-6)"},{"$f":"IF( 'Tex-113 (4-6)'!$B$20=\"\",\"\", 'Tex-113 (4-6)'!$B$20)","v":"Moisture-Density Work Sheet"},{"$f":"IF('Tex-113 (4-6)'!$B$38=\"\",\"\",'Tex-113 (4-6)'!$B$38)","v":"Height of Specimen, (in.):"},{"$f":"IF('Tex-113 (4-6)'!$G$29=\"\",\"\",'Tex-113 (4-6)'!$G$29)","v":3}]
[524,{"$f":"IF('Tex-113 (4-6)'!$H$38=\"\",\"\",'Tex-113 (4-6)'!$H$38)","v":""},{"$f":"IF('Tex-113 (4-6)'!$B$6=\"\",\"\",'Tex-113 (4-6)'!$B$6)","v":"Tex-113-E(4-6)"},{"$f":"IF( 'Tex-113 (4-6)'!$B$20=\"\",\"\", 'Tex-113 (4-6)'!$B$20)","v":"Moisture-Density Work Sheet"},{"$f":"IF('Tex-113 (4-6)'!$B$38=\"\",\"\",'Tex-113 (4-6)'!$B$38)","v":"Height of Specimen, (in.):"},{"$f":"IF('Tex-113 (4-6)'!$H$29=\"\",\"\",'Tex-113 (4-6)'!$H$29)","v":4}]
[525,{"$f":"IF('Tex-113 (4-6)'!$E$39=\"\",\"\",'Tex-113 (4-6)'!$E$39)","v":""},{"$f":"IF('Tex-113 (4-6)'!$B$6=\"\",\"\",'Tex-113 (4-6)'!$B$6)","v":"Tex-113-E(4-6)"},{"$f":"IF( 'Tex-113 (4-6)'!$B$20=\"\",\"\", 'Tex-113 (4-6)'!$B$20)","v":"Moisture-Density Work Sheet"},{"$f":"IF('Tex-113 (4-6)'!$B$39=\"\",\"\",'Tex-113 (4-6)'!$B$39)","v":"Volume per Linear mm., (in.):"},{"$f":"IF('Tex-113 (4-6)'!$E$29=\"\",\"\",'Tex-113 (4-6)'!$E$29)","v":1}]
[526,{"$f":"IF('Tex-113 (4-6)'!$F$39=\"\",\"\",'Tex-113 (4-6)'!$F$39)","v":""},{"$f":"IF('Tex-113 (4-6)'!$B$6=\"\",\"\",'Tex-113 (4-6)'!$B$6)","v":"Tex-113-E(4-6)"},{"$f":"IF( 'Tex-113 (4-6)'!$B$20=\"\",\"\", 'Tex-113 (4-6)'!$B$20)","v":"Moisture-Density Work Sheet"},{"$f":"IF('Tex-113 (4-6)'!$B$39=\"\",\"\",'Tex-113 (4-6)'!$B$39)","v":"Volume per Linear mm., (in.):"},{"$f":"IF('Tex-113 (4-6)'!$F$29=\"\",\"\",'Tex-113 (4-6)'!$F$29)","v":2}]
[527,{"$f":"IF('Tex-113 (4-6)'!$G$39=\"\",\"\",'Tex-113 (4-6)'!$G$39)","v":""},{"$f":"IF('Tex-113 (4-6)'!$B$6=\"\",\"\",'Tex-113 (4-6)'!$B$6)","v":"Tex-113-E(4-6)"},{"$f":"IF( 'Tex-113 (4-6)'!$B$20=\"\",\"\", 'Tex-113 (4-6)'!$B$20)","v":"Moisture-Density Work Sheet"},{"$f":"IF('Tex-113 (4-6)'!$B$39=\"\",\"\",'Tex-113 (4-6)'!$B$39)","v":"Volume per Linear mm., (in.):"},{"$f":"IF('Tex-113 (4-6)'!$G$29=\"\",\"\",'Tex-113 (4-6)'!$G$29)","v":3}]
[528,{"$f":"IF('Tex-113 (4-6)'!$H$39=\"\",\"\",'Tex-113 (4-6)'!$H$39)","v":""},{"$f":"IF('Tex-113 (4-6)'!$B$6=\"\",\"\",'Tex-113 (4-6)'!$B$6)","v":"Tex-113-E(4-6)"},{"$f":"IF( 'Tex-113 (4-6)'!$B$20=\"\",\"\", 'Tex-113 (4-6)'!$B$20)","v":"Moisture-Density Work Sheet"},{"$f":"IF('Tex-113 (4-6)'!$B$39=\"\",\"\",'Tex-113 (4-6)'!$B$39)","v":"Volume per Linear mm., (in.):"},{"$f":"IF('Tex-113 (4-6)'!$H$29=\"\",\"\",'Tex-113 (4-6)'!$H$29)","v":4}]
[529,{"$f":"IF('Tex-113 (4-6)'!$E$40=\"\",\"\",'Tex-113 (4-6)'!$E$40)","v":""},{"$f":"IF('Tex-113 (4-6)'!$B$6=\"\",\"\",'Tex-113 (4-6)'!$B$6)","v":"Tex-113-E(4-6)"},{"$f":"IF( 'Tex-113 (4-6)'!$B$20=\"\",\"\", 'Tex-113 (4-6)'!$B$20)","v":"Moisture-Density Work Sheet"},{"$f":"IF('Tex-113 (4-6)'!$B$40=\"\",\"\",'Tex-113 (4-6)'!$B$40)","v":"Volume of Specimen, (ft^3):"},{"$f":"IF('Tex-113 (4-6)'!$E$29=\"\",\"\",'Tex-113 (4-6)'!$E$29)","v":1}]
[530,{"$f":"IF('Tex-113 (4-6)'!$F$40=\"\",\"\",'Tex-113 (4-6)'!$F$40)","v":""},{"$f":"IF('Tex-113 (4-6)'!$B$6=\"\",\"\",'Tex-113 (4-6)'!$B$6)","v":"Tex-113-E(4-6)"},{"$f":"IF( 'Tex-113 (4-6)'!$B$20=\"\",\"\", 'Tex-113 (4-6)'!$B$20)","v":"Moisture-Density Work Sheet"},{"$f":"IF('Tex-113 (4-6)'!$B$40=\"\",\"\",'Tex-113 (4-6)'!$B$40)","v":"Volume of Specimen, (ft^3):"},{"$f":"IF('Tex-113 (4-6)'!$F$29=\"\",\"\",'Tex-113 (4-6)'!$F$29)","v":2}]
[531,{"$f":"IF('Tex-113 (4-6)'!$G$40=\"\",\"\",'Tex-113 (4-6)'!$G$40)","v":""},{"$f":"IF('Tex-113 (4-6)'!$B$6=\"\",\"\",'Tex-113 (4-6)'!$B$6)","v":"Tex-113-E(4-6)"},{"$f":"IF( 'Tex-113 (4-6)'!$B$20=\"\",\"\", 'Tex-113 (4-6)'!$B$20)","v":"Moisture-Density Work Sheet"},{"$f":"IF('Tex-113 (4-6)'!$B$40=\"\",\"\",'Tex-113 (4-6)'!$B$40)","v":"Volume of Specimen, (ft^3):"},{"$f":"IF('Tex-113 (4-6)'!$G$29=\"\",\"\",'Tex-113 (4-6)'!$G$29)","v":3}]
[532,{"$f":"IF('Tex-113 (4-6)'!$H$40=\"\",\"\",'Tex-113 (4-6)'!$H$40)","v":""},{"$f":"IF('Tex-113 (4-6)'!$B$6=\"\",\"\",'Tex-113 (4-6)'!$B$6)","v":"Tex-113-E(4-6)"},{"$f":"IF( 'Tex-113 (4-6)'!$B$20=\"\",\"\", 'Tex-113 (4-6)'!$B$20)","v":"Moisture-Density Work Sheet"},{"$f":"IF('Tex-113 (4-6)'!$B$40=\"\",\"\",'Tex-113 (4-6)'!$B$40)","v":"Volume of Specimen, (ft^3):"},{"$f":"IF('Tex-113 (4-6)'!$H$29=\"\",\"\",'Tex-113 (4-6)'!$H$29)","v":4}]
[533,{"$f":"IF('Tex-113 (4-6)'!$E$41=\"\",\"\",'Tex-113 (4-6)'!$E$41)","v":""},{"$f":"IF('Tex-113 (4-6)'!$B$6=\"\",\"\",'Tex-113 (4-6)'!$B$6)","v":"Tex-113-E(4-6)"},{"$f":"IF( 'Tex-113 (4-6)'!$B$20=\"\",\"\", 'Tex-113 (4-6)'!$B$20)","v":"Moisture-Density Work Sheet"},{"$f":"IF('Tex-113 (4-6)'!$B$41=\"\",\"\",'Tex-113 (4-6)'!$B$41)","v":"Wet Density of Specimen, (lb):"},{"$f":"IF('Tex-113 (4-6)'!$E$29=\"\",\"\",'Tex-113 (4-6)'!$E$29)","v":1}]
[534,{"$f":"IF('Tex-113 (4-6)'!$F$41=\"\",\"\",'Tex-113 (4-6)'!$F$41)","v":""},{"$f":"IF('Tex-113 (4-6)'!$B$6=\"\",\"\",'Tex-113 (4-6)'!$B$6)","v":"Tex-113-E(4-6)"},{"$f":"IF( 'Tex-113 (4-6)'!$B$20=\"\",\"\", 'Tex-113 (4-6)'!$B$20)","v":"Moisture-Density Work Sheet"},{"$f":"IF('Tex-113 (4-6)'!$B$41=\"\",\"\",'Tex-113 (4-6)'!$B$41)","v":"Wet Density of Specimen, (lb):"},{"$f":"IF('Tex-113 (4-6)'!$F$29=\"\",\"\",'Tex-113 (4-6)'!$F$29)","v":2}]
[535,{"$f":"IF('Tex-113 (4-6)'!$G$41=\"\",\"\",'Tex-113 (4-6)'!$G$41)","v":""},{"$f":"IF('Tex-113 (4-6)'!$B$6=\"\",\"\",'Tex-113 (4-6)'!$B$6)","v":"Tex-113-E(4-6)"},{"$f":"IF( 'Tex-113 (4-6)'!$B$20=\"\",\"\", 'Tex-113 (4-6)'!$B$20)","v":"Moisture-Density Work Sheet"},{"$f":"IF('Tex-113 (4-6)'!$B$41=\"\",\"\",'Tex-113 (4-6)'!$B$41)","v":"Wet Density of Specimen, (lb):"},{"$f":"IF('Tex-113 (4-6)'!$G$29=\"\",\"\",'Tex-113 (4-6)'!$G$29)","v":3}]
[536,{"$f":"IF('Tex-113 (4-6)'!$H$41=\"\",\"\",'Tex-113 (4-6)'!$H$41)","v":""},{"$f":"IF('Tex-113 (4-6)'!$B$6=\"\",\"\",'Tex-113 (4-6)'!$B$6)","v":"Tex-113-E(4-6)"},{"$f":"IF( 'Tex-113 (4-6)'!$B$20=\"\",\"\", 'Tex-113 (4-6)'!$B$20)","v":"Moisture-Density Work Sheet"},{"$f":"IF('Tex-113 (4-6)'!$B$41=\"\",\"\",'Tex-113 (4-6)'!$B$41)","v":"Wet Density of Specimen, (lb):"},{"$f":"IF('Tex-113 (4-6)'!$H$29=\"\",\"\",'Tex-113 (4-6)'!$H$29)","v":4}]
[537,{"$f":"IF('Tex-113 (4-6)'!$E$42=\"\",\"\",'Tex-113 (4-6)'!$E$42)","v":""},{"$f":"IF('Tex-113 (4-6)'!$B$6=\"\",\"\",'Tex-113 (4-6)'!$B$6)","v":"Tex-113-E(4-6)"},{"$f":"IF( 'Tex-113 (4-6)'!$B$20=\"\",\"\", 'Tex-113 (4-6)'!$B$20)","v":"Moisture-Density Work Sheet"},{"$f":"IF('Tex-113 (4-6)'!$B$42=\"\",\"\",'Tex-113 (4-6)'!$B$42)","v":"Wet Mass of Pan & Specimen, (lb):"},{"$f":"IF('Tex-113 (4-6)'!$E$29=\"\",\"\",'Tex-113 (4-6)'!$E$29)","v":1}]
[538,{"$f":"IF('Tex-113 (4-6)'!$F$42=\"\",\"\",'Tex-113 (4-6)'!$F$42)","v":""},{"$f":"IF('Tex-113 (4-6)'!$B$6=\"\",\"\",'Tex-113 (4-6)'!$B$6)","v":"Tex-113-E(4-6)"},{"$f":"IF( 'Tex-113 (4-6)'!$B$20=\"\",\"\", 'Tex-113 (4-6)'!$B$20)","v":"Moisture-Density Work Sheet"},{"$f":"IF('Tex-113 (4-6)'!$B$42=\"\",\"\",'Tex-113 (4-6)'!$B$42)","v":"Wet Mass of Pan & Specimen, (lb):"},{"$f":"IF('Tex-113 (4-6)'!$F$29=\"\",\"\",'Tex-113 (4-6)'!$F$29)","v":2}]
[539,{"$f":"IF('Tex-113 (4-6)'!$G$42=\"\",\"\",'Tex-113 (4-6)'!$G$42)","v":""},{"$f":"IF('Tex-113 (4-6)'!$B$6=\"\",\"\",'Tex-113 (4-6)'!$B$6)","v":"Tex-113-E(4-6)"},{"$f":"IF( 'Tex-113 (4-6)'!$B$20=\"\",\"\", 'Tex-113 (4-6)'!$B$20)","v":"Moisture-Density Work Sheet"},{"$f":"IF('Tex-113 (4-6)'!$B$42=\"\",\"\",'Tex-113 (4-6)'!$B$42)","v":"Wet Mass of Pan & Specimen, (lb):"},{"$f":"IF('Tex-113 (4-6)'!$G$29=\"\",\"\",'Tex-113 (4-6)'!$G$29)","v":3}]
[540,{"$f":"IF('Tex-113 (4-6)'!$H$42=\"\",\"\",'Tex-113 (4-6)'!$H$42)","v":""},{"$f":"IF('Tex-113 (4-6)'!$B$6=\"\",\"\",'Tex-113 (4-6)'!$B$6)","v":"Tex-113-E(4-6)"},{"$f":"IF( 'Tex-113 (4-6)'!$B$20=\"\",\"\", 'Tex-113 (4-6)'!$B$20)","v":"Moisture-Density Work Sheet"},{"$f":"IF('Tex-113 (4-6)'!$B$42=\"\",\"\",'Tex-113 (4-6)'!$B$42)","v":"Wet Mass of Pan & Specimen, (lb):"},{"$f":"IF('Tex-113 (4-6)'!$H$29=\"\",\"\",'Tex-113 (4-6)'!$H$29)","v":4}]
[541,{"$f":"IF('Tex-113 (4-6)'!$E$43=\"\",\"\",'Tex-113 (4-6)'!$E$43)","v":""},{"$f":"IF('Tex-113 (4-6)'!$B$6=\"\",\"\",'Tex-113 (4-6)'!$B$6)","v":"Tex-113-E(4-6)"},{"$f":"IF( 'Tex-113 (4-6)'!$B$20=\"\",\"\", 'Tex-113 (4-6)'!$B$20)","v":"Moisture-Density Work Sheet"},{"$f":"IF('Tex-113 (4-6)'!$B$43=\"\",\"\",'Tex-113 (4-6)'!$B$43)","v":"Dry Mass Pan & Specimen, (lb):"},{"$f":"IF('Tex-113 (4-6)'!$E$29=\"\",\"\",'Tex-113 (4-6)'!$E$29)","v":1}]
[542,{"$f":"IF('Tex-113 (4-6)'!$F$43=\"\",\"\",'Tex-113 (4-6)'!$F$43)","v":""},{"$f":"IF('Tex-113 (4-6)'!$B$6=\"\",\"\",'Tex-113 (4-6)'!$B$6)","v":"Tex-113-E(4-6)"},{"$f":"IF( 'Tex-113 (4-6)'!$B$20=\"\",\"\", 'Tex-113 (4-6)'!$B$20)","v":"Moisture-Density Work Sheet"},{"$f":"IF('Tex-113 (4-6)'!$B$43=\"\",\"\",'Tex-113 (4-6)'!$B$43)","v":"Dry Mass Pan & Specimen, (lb):"},{"$f":"IF('Tex-113 (4-6)'!$F$29=\"\",\"\",'Tex-113 (4-6)'!$F$29)","v":2}]
[543,{"$f":"IF('Tex-113 (4-6)'!$G$43=\"\",\"\",'Tex-113 (4-6)'!$G$43)","v":""},{"$f":"IF('Tex-113 (4-6)'!$B$6=\"\",\"\",'Tex-113 (4-6)'!$B$6)","v":"Tex-113-E(4-6)"},{"$f":"IF( 'Tex-113 (4-6)'!$B$20=\"\",\"\", 'Tex-113 (4-6)'!$B$20)","v":"Moisture-Density Work Sheet"},{"$f":"IF('Tex-113 (4-6)'!$B$43=\"\",\"\",'Tex-113 (4-6)'!$B$43)","v":"Dry Mass Pan & Specimen, (lb):"},{"$f":"IF('Tex-113 (4-6)'!$G$29=\"\",\"\",'Tex-113 (4-6)'!$G$29)","v":3}]
[544,{"$f":"IF('Tex-113 (4-6)'!$H$43=\"\",\"\",'Tex-113 (4-6)'!$H$43)","v":""},{"$f":"IF('Tex-113 (4-6)'!$B$6=\"\",\"\",'Tex-113 (4-6)'!$B$6)","v":"Tex-113-E(4-6)"},{"$f":"IF( 'Tex-113 (4-6)'!$B$20=\"\",\"\", 'Tex-113 (4-6)'!$B$20)","v":"Moisture-Density Work Sheet"},{"$f":"IF('Tex-113 (4-6)'!$B$43=\"\",\"\",'Tex-113 (4-6)'!$B$43)","v":"Dry Mass Pan & Specimen, (lb):"},{"$f":"IF('Tex-113 (4-6)'!$H$29=\"\",\"\",'Tex-113 (4-6)'!$H$29)","v":4}]
[545,{"$f":"IF('Tex-113 (4-6)'!$E$44=\"\",\"\",'Tex-113 (4-6)'!$E$44)","v":""},{"$f":"IF('Tex-113 (4-6)'!$B$6=\"\",\"\",'Tex-113 (4-6)'!$B$6)","v":"Tex-113-E(4-6)"},{"$f":"IF( 'Tex-113 (4-6)'!$B$20=\"\",\"\", 'Tex-113 (4-6)'!$B$20)","v":"Moisture-Density Work Sheet"},{"$f":"IF('Tex-113 (4-6)'!$B$44=\"\",\"\",'Tex-113 (4-6)'!$B$44)","v":"Tare Mass Pan, (lb):"},{"$f":"IF('Tex-113 (4-6)'!$E$29=\"\",\"\",'Tex-113 (4-6)'!$E$29)","v":1}]
[546,{"$f":"IF('Tex-113 (4-6)'!$F$44=\"\",\"\",'Tex-113 (4-6)'!$F$44)","v":""},{"$f":"IF('Tex-113 (4-6)'!$B$6=\"\",\"\",'Tex-113 (4-6)'!$B$6)","v":"Tex-113-E(4-6)"},{"$f":"IF( 'Tex-113 (4-6)'!$B$20=\"\",\"\", 'Tex-113 (4-6)'!$B$20)","v":"Moisture-Density Work Sheet"},{"$f":"IF('Tex-113 (4-6)'!$B$44=\"\",\"\",'Tex-113 (4-6)'!$B$44)","v":"Tare Mass Pan, (lb):"},{"$f":"IF('Tex-113 (4-6)'!$F$29=\"\",\"\",'Tex-113 (4-6)'!$F$29)","v":2}]
[547,{"$f":"IF('Tex-113 (4-6)'!$G$44=\"\",\"\",'Tex-113 (4-6)'!$G$44)","v":""},{"$f":"IF('Tex-113 (4-6)'!$B$6=\"\",\"\",'Tex-113 (4-6)'!$B$6)","v":"Tex-113-E(4-6)"},{"$f":"IF( 'Tex-113 (4-6)'!$B$20=\"\",\"\", 'Tex-113 (4-6)'!$B$20)","v":"Moisture-Density Work Sheet"},{"$f":"IF('Tex-113 (4-6)'!$B$44=\"\",\"\",'Tex-113 (4-6)'!$B$44)","v":"Tare Mass Pan, (lb):"},{"$f":"IF('Tex-113 (4-6)'!$G$29=\"\",\"\",'Tex-113 (4-6)'!$G$29)","v":3}]
[548,{"$f":"IF('Tex-113 (4-6)'!$H$44=\"\",\"\",'Tex-113 (4-6)'!$H$44)","v":""},{"$f":"IF('Tex-113 (4-6)'!$B$6=\"\",\"\",'Tex-113 (4-6)'!$B$6)","v":"Tex-113-E(4-6)"},{"$f":"IF( 'Tex-113 (4-6)'!$B$20=\"\",\"\", 'Tex-113 (4-6)'!$B$20)","v":"Moisture-Density Work Sheet"},{"$f":"IF('Tex-113 (4-6)'!$B$44=\"\",\"\",'Tex-113 (4-6)'!$B$44)","v":"Tare Mass Pan, (lb):"},{"$f":"IF('Tex-113 (4-6)'!$H$29=\"\",\"\",'Tex-113 (4-6)'!$H$29)","v":4}]
[549,{"$f":"IF('Tex-113 (4-6)'!$E$45=\"\",\"\",'Tex-113 (4-6)'!$E$45)","v":""},{"$f":"IF('Tex-113 (4-6)'!$B$6=\"\",\"\",'Tex-113 (4-6)'!$B$6)","v":"Tex-113-E(4-6)"},{"$f":"IF( 'Tex-113 (4-6)'!$B$20=\"\",\"\", 'Tex-113 (4-6)'!$B$20)","v":"Moisture-Density Work Sheet"},{"$f":"IF('Tex-113 (4-6)'!$B$45=\"\",\"\",'Tex-113 (4-6)'!$B$45)","v":"Dry Mass Material , (lb):"},{"$f":"IF('Tex-113 (4-6)'!$E$29=\"\",\"\",'Tex-113 (4-6)'!$E$29)","v":1}]
[550,{"$f":"IF('Tex-113 (4-6)'!$F$45=\"\",\"\",'Tex-113 (4-6)'!$F$45)","v":""},{"$f":"IF('Tex-113 (4-6)'!$B$6=\"\",\"\",'Tex-113 (4-6)'!$B$6)","v":"Tex-113-E(4-6)"},{"$f":"IF( 'Tex-113 (4-6)'!$B$20=\"\",\"\", 'Tex-113 (4-6)'!$B$20)","v":"Moisture-Density Work Sheet"},{"$f":"IF('Tex-113 (4-6)'!$B$45=\"\",\"\",'Tex-113 (4-6)'!$B$45)","v":"Dry Mass Material , (lb):"},{"$f":"IF('Tex-113 (4-6)'!$F$29=\"\",\"\",'Tex-113 (4-6)'!$F$29)","v":2}]
[551,{"$f":"IF('Tex-113 (4-6)'!$G$45=\"\",\"\",'Tex-113 (4-6)'!$G$45)","v":""},{"$f":"IF('Tex-113 (4-6)'!$B$6=\"\",\"\",'Tex-113 (4-6)'!$B$6)","v":"Tex-113-E(4-6)"},{"$f":"IF( 'Tex-113 (4-6)'!$B$20=\"\",\"\", 'Tex-113 (4-6)'!$B$20)","v":"Moisture-Density Work Sheet"},{"$f":"IF('Tex-113 (4-6)'!$B$45=\"\",\"\",'Tex-113 (4-6)'!$B$45)","v":"Dry Mass Material , (lb):"},{"$f":"IF('Tex-113 (4-6)'!$G$29=\"\",\"\",'Tex-113 (4-6)'!$G$29)","v":3}]
[552,{"$f":"IF('Tex-113 (4-6)'!$H$45=\"\",\"\",'Tex-113 (4-6)'!$H$45)","v":""},{"$f":"IF('Tex-113 (4-6)'!$B$6=\"\",\"\",'Tex-113 (4-6)'!$B$6)","v":"Tex-113-E(4-6)"},{"$f":"IF( 'Tex-113 (4-6)'!$B$20=\"\",\"\", 'Tex-113 (4-6)'!$B$20)","v":"Moisture-Density Work Sheet"},{"$f":"IF('Tex-113 (4-6)'!$B$45=\"\",\"\",'Tex-113 (4-6)'!$B$45)","v":"Dry Mass Material , (lb):"},{"$f":"IF('Tex-113 (4-6)'!$H$29=\"\",\"\",'Tex-113 (4-6)'!$H$29)","v":4}]
[553,{"$f":"IF('Tex-113 (4-6)'!$E$46=\"\",\"\",'Tex-113 (4-6)'!$E$46)","v":""},{"$f":"IF('Tex-113 (4-6)'!$B$6=\"\",\"\",'Tex-113 (4-6)'!$B$6)","v":"Tex-113-E(4-6)"},{"$f":"IF( 'Tex-113 (4-6)'!$B$20=\"\",\"\", 'Tex-113 (4-6)'!$B$20)","v":"Moisture-Density Work Sheet"},{"$f":"IF('Tex-113 (4-6)'!$B$46=\"\",\"\",'Tex-113 (4-6)'!$B$46)","v":"Mass Water, (lb):"},{"$f":"IF('Tex-113 (4-6)'!$E$29=\"\",\"\",'Tex-113 (4-6)'!$E$29)","v":1}]
[554,{"$f":"IF('Tex-113 (4-6)'!$F$46=\"\",\"\",'Tex-113 (4-6)'!$F$46)","v":""},{"$f":"IF('Tex-113 (4-6)'!$B$6=\"\",\"\",'Tex-113 (4-6)'!$B$6)","v":"Tex-113-E(4-6)"},{"$f":"IF( 'Tex-113 (4-6)'!$B$20=\"\",\"\", 'Tex-113 (4-6)'!$B$20)","v":"Moisture-Density Work Sheet"},{"$f":"IF('Tex-113 (4-6)'!$B$46=\"\",\"\",'Tex-113 (4-6)'!$B$46)","v":"Mass Water, (lb):"},{"$f":"IF('Tex-113 (4-6)'!$F$29=\"\",\"\",'Tex-113 (4-6)'!$F$29)","v":2}]
[555,{"$f":"IF('Tex-113 (4-6)'!$G$46=\"\",\"\",'Tex-113 (4-6)'!$G$46)","v":""},{"$f":"IF('Tex-113 (4-6)'!$B$6=\"\",\"\",'Tex-113 (4-6)'!$B$6)","v":"Tex-113-E(4-6)"},{"$f":"IF( 'Tex-113 (4-6)'!$B$20=\"\",\"\", 'Tex-113 (4-6)'!$B$20)","v":"Moisture-Density Work Sheet"},{"$f":"IF('Tex-113 (4-6)'!$B$46=\"\",\"\",'Tex-113 (4-6)'!$B$46)","v":"Mass Water, (lb):"},{"$f":"IF('Tex-113 (4-6)'!$G$29=\"\",\"\",'Tex-113 (4-6)'!$G$29)","v":3}]
[556,{"$f":"IF('Tex-113 (4-6)'!$H$46=\"\",\"\",'Tex-113 (4-6)'!$H$46)","v":""},{"$f":"IF('Tex-113 (4-6)'!$B$6=\"\",\"\",'Tex-113 (4-6)'!$B$6)","v":"Tex-113-E(4-6)"},{"$f":"IF( 'Tex-113 (4-6)'!$B$20=\"\",\"\", 'Tex-113 (4-6)'!$B$20)","v":"Moisture-Density Work Sheet"},{"$f":"IF('Tex-113 (4-6)'!$B$46=\"\",\"\",'Tex-113 (4-6)'!$B$46)","v":"Mass Water, (lb):"},{"$f":"IF('Tex-113 (4-6)'!$H$29=\"\",\"\",'Tex-113 (4-6)'!$H$29)","v":4}]
[557,{"$f":"IF('Tex-113 (4-6)'!$E$47=\"\",\"\",'Tex-113 (4-6)'!$E$47)","v":""},{"$f":"IF('Tex-113 (4-6)'!$B$6=\"\",\"\",'Tex-113 (4-6)'!$B$6)","v":"Tex-113-E(4-6)"},{"$f":"IF( 'Tex-113 (4-6)'!$B$20=\"\",\"\", 'Tex-113 (4-6)'!$B$20)","v":"Moisture-Density Work Sheet"},{"$f":"IF('Tex-113 (4-6)'!$B$47=\"\",\"\",'Tex-113 (4-6)'!$B$47)","v":"Percent Water on Total , (%):"},{"$f":"IF('Tex-113 (4-6)'!$E$29=\"\",\"\",'Tex-113 (4-6)'!$E$29)","v":1}]
[558,{"$f":"IF('Tex-113 (4-6)'!$F$47=\"\",\"\",'Tex-113 (4-6)'!$F$47)","v":""},{"$f":"IF('Tex-113 (4-6)'!$B$6=\"\",\"\",'Tex-113 (4-6)'!$B$6)","v":"Tex-113-E(4-6)"},{"$f":"IF( 'Tex-113 (4-6)'!$B$20=\"\",\"\", 'Tex-113 (4-6)'!$B$20)","v":"Moisture-Density Work Sheet"},{"$f":"IF('Tex-113 (4-6)'!$B$47=\"\",\"\",'Tex-113 (4-6)'!$B$47)","v":"Percent Water on Total , (%):"},{"$f":"IF('Tex-113 (4-6)'!$F$29=\"\",\"\",'Tex-113 (4-6)'!$F$29)","v":2}]
[559,{"$f":"IF('Tex-113 (4-6)'!$G$47=\"\",\"\",'Tex-113 (4-6)'!$G$47)","v":""},{"$f":"IF('Tex-113 (4-6)'!$B$6=\"\",\"\",'Tex-113 (4-6)'!$B$6)","v":"Tex-113-E(4-6)"},{"$f":"IF( 'Tex-113 (4-6)'!$B$20=\"\",\"\", 'Tex-113 (4-6)'!$B$20)","v":"Moisture-Density Work Sheet"},{"$f":"IF('Tex-113 (4-6)'!$B$47=\"\",\"\",'Tex-113 (4-6)'!$B$47)","v":"Percent Water on Total , (%):"},{"$f":"IF('Tex-113 (4-6)'!$G$29=\"\",\"\",'Tex-113 (4-6)'!$G$29)","v":3}]
[560,{"$f":"IF('Tex-113 (4-6)'!$H$47=\"\",\"\",'Tex-113 (4-6)'!$H$47)","v":""},{"$f":"IF('Tex-113 (4-6)'!$B$6=\"\",\"\",'Tex-113 (4-6)'!$B$6)","v":"Tex-113-E(4-6)"},{"$f":"IF( 'Tex-113 (4-6)'!$B$20=\"\",\"\", 'Tex-113 (4-6)'!$B$20)","v":"Moisture-Density Work Sheet"},{"$f":"IF('Tex-113 (4-6)'!$B$47=\"\",\"\",'Tex-113 (4-6)'!$B$47)","v":"Percent Water on Total , (%):"},{"$f":"IF('Tex-113 (4-6)'!$H$29=\"\",\"\",'Tex-113 (4-6)'!$H$29)","v":4}]
[561,{"$f":"IF('Tex-113 (4-6)'!$E$48=\"\",\"\",'Tex-113 (4-6)'!$E$48)","v":""},{"$f":"IF('Tex-113 (4-6)'!$B$6=\"\",\"\",'Tex-113 (4-6)'!$B$6)","v":"Tex-113-E(4-6)"},{"$f":"IF( 'Tex-113 (4-6)'!$B$20=\"\",\"\", 'Tex-113 (4-6)'!$B$20)","v":"Moisture-Density Work Sheet"},{"$f":"IF('Tex-113 (4-6)'!$B$48=\"\",\"\",'Tex-113 (4-6)'!$B$48)","v":"Dry Density, (pcf):"},{"$f":"IF('Tex-113 (4-6)'!$E$29=\"\",\"\",'Tex-113 (4-6)'!$E$29)","v":1}]
[562,{"$f":"IF('Tex-113 (4-6)'!$F$48=\"\",\"\",'Tex-113 (4-6)'!$F$48)","v":""},{"$f":"IF('Tex-113 (4-6)'!$B$6=\"\",\"\",'Tex-113 (4-6)'!$B$6)","v":"Tex-113-E(4-6)"},{"$f":"IF( 'Tex-113 (4-6)'!$B$20=\"\",\"\", 'Tex-113 (4-6)'!$B$20)","v":"Moisture-Density Work Sheet"},{"$f":"IF('Tex-113 (4-6)'!$B$48=\"\",\"\",'Tex-113 (4-6)'!$B$48)","v":"Dry Density, (pcf):"},{"$f":"IF('Tex-113 (4-6)'!$F$29=\"\",\"\",'Tex-113 (4-6)'!$F$29)","v":2}]
[563,{"$f":"IF('Tex-113 (4-6)'!$G$48=\"\",\"\",'Tex-113 (4-6)'!$G$48)","v":""},{"$f":"IF('Tex-113 (4-6)'!$B$6=\"\",\"\",'Tex-113 (4-6)'!$B$6)","v":"Tex-113-E(4-6)"},{"$f":"IF( 'Tex-113 (4-6)'!$B$20=\"\",\"\", 'Tex-113 (4-6)'!$B$20)","v":"Moisture-Density Work Sheet"},{"$f":"IF('Tex-113 (4-6)'!$B$48=\"\",\"\",'Tex-113 (4-6)'!$B$48)","v":"Dry Density, (pcf):"},{"$f":"IF('Tex-113 (4-6)'!$G$29=\"\",\"\",'Tex-113 (4-6)'!$G$29)","v":3}]
[564,{"$f":"IF('Tex-113 (4-6)'!$H$48=\"\",\"\",'Tex-113 (4-6)'!$H$48)","v":""},{"$f":"IF('Tex-113 (4-6)'!$B$6=\"\",\"\",'Tex-113 (4-6)'!$B$6)","v":"Tex-113-E(4-6)"},{"$f":"IF( 'Tex-113 (4-6)'!$B$20=\"\",\"\", 'Tex-113 (4-6)'!$B$20)","v":"Moisture-Density Work Sheet"},{"$f":"IF('Tex-113 (4-6)'!$B$48=\"\",\"\",'Tex-113 (4-6)'!$B$48)","v":"Dry Density, (pcf):"},{"$f":"IF('Tex-113 (4-6)'!$H$29=\"\",\"\",'Tex-113 (4-6)'!$H$29)","v":4}]
[565,{"$f":"IF('Tex-113 (4-6)'!$E$49=\"\",\"\",'Tex-113 (4-6)'!$E$49)","v":""},{"$f":"IF('Tex-113 (4-6)'!$B$6=\"\",\"\",'Tex-113 (4-6)'!$B$6)","v":"Tex-113-E(4-6)"},{"$f":"IF( 'Tex-113 (4-6)'!$B$20=\"\",\"\", 'Tex-113 (4-6)'!$B$20)","v":"Moisture-Density Work Sheet"},{"$f":"IF('Tex-113 (4-6)'!$B$49=\"\",\"\",'Tex-113 (4-6)'!$B$49)","v":"Estimated Dry Density, (pcf):"},{"$f":"IF('Tex-113 (4-6)'!$E$29=\"\",\"\",'Tex-113 (4-6)'!$E$29)","v":1}]
[566,{"$f":"IF('Tex-113 (4-6)'!$F$49=\"\",\"\",'Tex-113 (4-6)'!$F$49)","v":""},{"$f":"IF('Tex-113 (4-6)'!$B$6=\"\",\"\",'Tex-113 (4-6)'!$B$6)","v":"Tex-113-E(4-6)"},{"$f":"IF( 'Tex-113 (4-6)'!$B$20=\"\",\"\", 'Tex-113 (4-6)'!$B$20)","v":"Moisture-Density Work Sheet"},{"$f":"IF('Tex-113 (4-6)'!$B$49=\"\",\"\",'Tex-113 (4-6)'!$B$49)","v":"Estimated Dry Density, (pcf):"},{"$f":"IF('Tex-113 (4-6)'!$F$29=\"\",\"\",'Tex-113 (4-6)'!$F$29)","v":2}]
[567,{"$f":"IF('Tex-113 (4-6)'!$G$49=\"\",\"\",'Tex-113 (4-6)'!$G$49)","v":""},{"$f":"IF('Tex-113 (4-6)'!$B$6=\"\",\"\",'Tex-113 (4-6)'!$B$6)","v":"Tex-113-E(4-6)"},{"$f":"IF( 'Tex-113 (4-6)'!$B$20=\"\",\"\", 'Tex-113 (4-6)'!$B$20)","v":"Moisture-Density Work Sheet"},{"$f":"IF('Tex-113 (4-6)'!$B$49=\"\",\"\",'Tex-113 (4-6)'!$B$49)","v":"Estimated Dry Density, (pcf):"},{"$f":"IF('Tex-113 (4-6)'!$G$29=\"\",\"\",'Tex-113 (4-6)'!$G$29)","v":3}]
[568,{"$f":"IF('Tex-113 (4-6)'!$H$49=\"\",\"\",'Tex-113 (4-6)'!$H$49)","v":""},{"$f":"IF('Tex-113 (4-6)'!$B$6=\"\",\"\",'Tex-113 (4-6)'!$B$6)","v":"Tex-113-E(4-6)"},{"$f":"IF( 'Tex-113 (4-6)'!$B$20=\"\",\"\", 'Tex-113 (4-6)'!$B$20)","v":"Moisture-Density Work Sheet"},{"$f":"IF('Tex-113 (4-6)'!$B$49=\"\",\"\",'Tex-113 (4-6)'!$B$49)","v":"Estimated Dry Density, (pcf):"},{"$f":"IF('Tex-113 (4-6)'!$H$29=\"\",\"\",'Tex-113 (4-6)'!$H$29)","v":4}]
[569,{"$f":"IF('Tex-113 (4-6)'!$E$50=\"\",\"\",'Tex-113 (4-6)'!$E$50)","v":""},{"$f":"IF('Tex-113 (4-6)'!$B$6=\"\",\"\",'Tex-113 (4-6)'!$B$6)","v":"Tex-113-E(4-6)"},{"$f":"IF( 'Tex-113 (4-6)'!$B$20=\"\",\"\", 'Tex-113 (4-6)'!$B$20)","v":"Moisture-Density Work Sheet"},{"$f":"IF('Tex-113 (4-6)'!$B$50=\"\",\"\",'Tex-113 (4-6)'!$B$50)","v":"Max Density, (pcf):"}]
[570,{"$f":"IF('Tex-113 (4-6)'!$E$51=\"\",\"\",'Tex-113 (4-6)'!$E$51)","v":""},{"$f":"IF('Tex-113 (4-6)'!$B$6=\"\",\"\",'Tex-113 (4-6)'!$B$6)","v":"Tex-113-E(4-6)"},{"$f":"IF( 'Tex-113 (4-6)'!$B$20=\"\",\"\", 'Tex-113 (4-6)'!$B$20)","v":"Moisture-Density Work Sheet"},{"$f":"IF('Tex-113 (4-6)'!$B$51=\"\",\"\",'Tex-113 (4-6)'!$B$51)","v":"Max Density, (kg/m3):"}]
[571,{"$f":"IF('Tex-113 (4-6)'!$E$52=\"\",\"\",'Tex-113 (4-6)'!$E$52)","v":""},{"$f":"IF('Tex-113 (4-6)'!$B$6=\"\",\"\",'Tex-113 (4-6)'!$B$6)","v":"Tex-113-E(4-6)"},{"$f":"IF( 'Tex-113 (4-6)'!$B$20=\"\",\"\", 'Tex-113 (4-6)'!$B$20)","v":"Moisture-Density Work Sheet"},{"$f":"IF('Tex-113 (4-6)'!$B$52=\"\",\"\",'Tex-113 (4-6)'!$B$52)","v":"Optimum Moisture, (%):"}]
[572,{"$f":"IF('Tex-113 (4-6)'!$B$55=\"\",\"\",'Tex-113 (4-6)'!$B$55)","v":""},{"$f":"IF('Tex-113 (4-6)'!$B$6=\"\",\"\",'Tex-113 (4-6)'!$B$6)","v":"Tex-113-E(4-6)"},{"$f":"IF( 'Tex-113 (4-6)'!$B$20=\"\",\"\", 'Tex-113 (4-6)'!$B$20)","v":"Moisture-Density Work Sheet"},{"$f":"IF('Tex-113 (4-6)'!$B$54=\"\",\"\",'Tex-113 (4-6)'!$B$54)","v":"Remarks:"}]
[573,{"$f":"IF('Tex-113 (7-9)'!$E$21=\"\",\"\",'Tex-113 (7-9)'!$E$21)","v":""},{"$f":"IF('Tex-113 (7-9)'!$B$6=\"\",\"\",'Tex-113 (7-9)'!$B$6)","v":"Tex-113-E(7-9)"},{"$f":"IF( 'Tex-113 (7-9)'!$B$20=\"\",\"\", 'Tex-113 (7-9)'!$B$20)","v":"Moisture-Density Work Sheet"},{"$f":"IF('Tex-113 (7-9)'!$B$21=\"\",\"\",'Tex-113 (7-9)'!$B$21)","v":"Percent Lime, (%)"}]
[574,{"$f":"IF('Tex-113 (7-9)'!$E$22=\"\",\"\",'Tex-113 (7-9)'!$E$22)","v":""},{"$f":"IF('Tex-113 (7-9)'!$B$6=\"\",\"\",'Tex-113 (7-9)'!$B$6)","v":"Tex-113-E(7-9)"},{"$f":"IF( 'Tex-113 (7-9)'!$B$20=\"\",\"\", 'Tex-113 (7-9)'!$B$20)","v":"Moisture-Density Work Sheet"},{"$f":"IF('Tex-113 (7-9)'!$B$22=\"\",\"\",'Tex-113 (7-9)'!$B$22)","v":"Oven Dry Weight, (g):"}]
[575,{"$f":"IF('Tex-113 (7-9)'!$E$23=\"\",\"\",'Tex-113 (7-9)'!$E$23)","v":""},{"$f":"IF('Tex-113 (7-9)'!$B$6=\"\",\"\",'Tex-113 (7-9)'!$B$6)","v":"Tex-113-E(7-9)"},{"$f":"IF( 'Tex-113 (7-9)'!$B$20=\"\",\"\", 'Tex-113 (7-9)'!$B$20)","v":"Moisture-Density Work Sheet"},{"$f":"IF('Tex-113 (7-9)'!$B$23=\"\",\"\",'Tex-113 (7-9)'!$B$23)","v":"Weight of Pycnometer & Water, (g):"}]
[576,{"$f":"IF('Tex-113 (7-9)'!$E$24=\"\",\"\",'Tex-113 (7-9)'!$E$24)","v":""},{"$f":"IF('Tex-113 (7-9)'!$B$6=\"\",\"\",'Tex-113 (7-9)'!$B$6)","v":"Tex-113-E(7-9)"},{"$f":"IF( 'Tex-113 (7-9)'!$B$20=\"\",\"\", 'Tex-113 (7-9)'!$B$20)","v":"Moisture-Density Work Sheet"},{"$f":"IF('Tex-113 (7-9)'!$B$24=\"\",\"\",'Tex-113 (7-9)'!$B$24)","v":"Weight of Aggr., Pycn.& Water, (g):"}]
[577,{"$f":"IF('Tex-113 (7-9)'!$E$25=\"\",\"\",'Tex-113 (7-9)'!$E$25)","v":""},{"$f":"IF('Tex-113 (7-9)'!$B$6=\"\",\"\",'Tex-113 (7-9)'!$B$6)","v":"Tex-113-E(7-9)"},{"$f":"IF( 'Tex-113 (7-9)'!$B$20=\"\",\"\", 'Tex-113 (7-9)'!$B$20)","v":"Moisture-Density Work Sheet"},{"$f":"IF('Tex-113 (7-9)'!$B$25=\"\",\"\",'Tex-113 (7-9)'!$B$25)","v":"Specific Gravity (Apparent):"}]
[578,{"$f":"IF('Tex-113 (7-9)'!$E$27=\"\",\"\",'Tex-113 (7-9)'!$E$27)","v":""},{"$f":"IF('Tex-113 (7-9)'!$B$6=\"\",\"\",'Tex-113 (7-9)'!$B$6)","v":"Tex-113-E(7-9)"},{"$f":"IF( 'Tex-113 (7-9)'!$B$20=\"\",\"\", 'Tex-113 (7-9)'!$B$20)","v":"Moisture-Density Work Sheet"},{"$f":"IF('Tex-113 (7-9)'!$B$27=\"\",\"\",'Tex-113 (7-9)'!$B$27)","v":"Hygroscopic Moisture, (%):"}]
[579,{"$f":"IF('Tex-113 (7-9)'!$E$30=\"\",\"\",'Tex-113 (7-9)'!$E$30)","v":""},{"$f":"IF('Tex-113 (7-9)'!$B$6=\"\",\"\",'Tex-113 (7-9)'!$B$6)","v":"Tex-113-E(7-9)"},{"$f":"IF( 'Tex-113 (7-9)'!$B$20=\"\",\"\", 'Tex-113 (7-9)'!$B$20)","v":"Moisture-Density Work Sheet"},{"$f":"IF('Tex-113 (7-9)'!$B$30=\"\",\"\",'Tex-113 (7-9)'!$B$30)","v":"Percent Water Content, (%):"},{"$f":"IF('Tex-113 (7-9)'!$E$29=\"\",\"\",'Tex-113 (7-9)'!$E$29)","v":1}]
[580,{"$f":"IF('Tex-113 (7-9)'!$F$30=\"\",\"\",'Tex-113 (7-9)'!$F$30)","v":""},{"$f":"IF('Tex-113 (7-9)'!$B$6=\"\",\"\",'Tex-113 (7-9)'!$B$6)","v":"Tex-113-E(7-9)"},{"$f":"IF( 'Tex-113 (7-9)'!$B$20=\"\",\"\", 'Tex-113 (7-9)'!$B$20)","v":"Moisture-Density Work Sheet"},{"$f":"IF('Tex-113 (7-9)'!$B$30=\"\",\"\",'Tex-113 (7-9)'!$B$30)","v":"Percent Water Content, (%):"},{"$f":"IF('Tex-113 (7-9)'!$F$29=\"\",\"\",'Tex-113 (7-9)'!$F$29)","v":2}]
[581,{"$f":"IF('Tex-113 (7-9)'!$G$30=\"\",\"\",'Tex-113 (7-9)'!$G$30)","v":""},{"$f":"IF('Tex-113 (7-9)'!$B$6=\"\",\"\",'Tex-113 (7-9)'!$B$6)","v":"Tex-113-E(7-9)"},{"$f":"IF( 'Tex-113 (7-9)'!$B$20=\"\",\"\", 'Tex-113 (7-9)'!$B$20)","v":"Moisture-Density Work Sheet"},{"$f":"IF('Tex-113 (7-9)'!$B$30=\"\",\"\",'Tex-113 (7-9)'!$B$30)","v":"Percent Water Content, (%):"},{"$f":"IF('Tex-113 (7-9)'!$G$29=\"\",\"\",'Tex-113 (7-9)'!$G$29)","v":3}]
[582,{"$f":"IF('Tex-113 (7-9)'!$H$30=\"\",\"\",'Tex-113 (7-9)'!$H$30)","v":""},{"$f":"IF('Tex-113 (7-9)'!$B$6=\"\",\"\",'Tex-113 (7-9)'!$B$6)","v":"Tex-113-E(7-9)"},{"$f":"IF( 'Tex-113 (7-9)'!$B$20=\"\",\"\", 'Tex-113 (7-9)'!$B$20)","v":"Moisture-Density Work Sheet"},{"$f":"IF('Tex-113 (7-9)'!$B$30=\"\",\"\",'Tex-113 (7-9)'!$B$30)","v":"Percent Water Content, (%):"},{"$f":"IF('Tex-113 (7-9)'!$H$29=\"\",\"\",'Tex-113 (7-9)'!$H$29)","v":4}]
[583,{"$f":"IF('Tex-113 (7-9)'!$E$32=\"\",\"\",'Tex-113 (7-9)'!$E$32)","v":""},{"$f":"IF('Tex-113 (7-9)'!$B$6=\"\",\"\",'Tex-113 (7-9)'!$B$6)","v":"Tex-113-E(7-9)"},{"$f":"IF( 'Tex-113 (7-9)'!$B$20=\"\",\"\", 'Tex-113 (7-9)'!$B$20)","v":"Moisture-Density Work Sheet"},{"$f":"IF('Tex-113 (7-9)'!$B$32=\"\",\"\",'Tex-113 (7-9)'!$B$32)","v":"Mass Material, (lb):"},{"$f":"IF('Tex-113 (7-9)'!$E$29=\"\",\"\",'Tex-113 (7-9)'!$E$29)","v":1}]
[584,{"$f":"IF('Tex-113 (7-9)'!$F$32=\"\",\"\",'Tex-113 (7-9)'!$F$32)","v":""},{"$f":"IF('Tex-113 (7-9)'!$B$6=\"\",\"\",'Tex-113 (7-9)'!$B$6)","v":"Tex-113-E(7-9)"},{"$f":"IF( 'Tex-113 (7-9)'!$B$20=\"\",\"\", 'Tex-113 (7-9)'!$B$20)","v":"Moisture-Density Work Sheet"},{"$f":"IF('Tex-113 (7-9)'!$B$32=\"\",\"\",'Tex-113 (7-9)'!$B$32)","v":"Mass Material, (lb):"},{"$f":"IF('Tex-113 (7-9)'!$F$29=\"\",\"\",'Tex-113 (7-9)'!$F$29)","v":2}]
[585,{"$f":"IF('Tex-113 (7-9)'!$G$32=\"\",\"\",'Tex-113 (7-9)'!$G$32)","v":""},{"$f":"IF('Tex-113 (7-9)'!$B$6=\"\",\"\",'Tex-113 (7-9)'!$B$6)","v":"Tex-113-E(7-9)"},{"$f":"IF( 'Tex-113 (7-9)'!$B$20=\"\",\"\", 'Tex-113 (7-9)'!$B$20)","v":"Moisture-Density Work Sheet"},{"$f":"IF('Tex-113 (7-9)'!$B$32=\"\",\"\",'Tex-113 (7-9)'!$B$32)","v":"Mass Material, (lb):"},{"$f":"IF('Tex-113 (7-9)'!$G$29=\"\",\"\",'Tex-113 (7-9)'!$G$29)","v":3}]
[586,{"$f":"IF('Tex-113 (7-9)'!$H$32=\"\",\"\",'Tex-113 (7-9)'!$H$32)","v":""},{"$f":"IF('Tex-113 (7-9)'!$B$6=\"\",\"\",'Tex-113 (7-9)'!$B$6)","v":"Tex-113-E(7-9)"},{"$f":"IF( 'Tex-113 (7-9)'!$B$20=\"\",\"\", 'Tex-113 (7-9)'!$B$20)","v":"Moisture-Density Work Sheet"},{"$f":"IF('Tex-113 (7-9)'!$B$32=\"\",\"\",'Tex-113 (7-9)'!$B$32)","v":"Mass Material, (lb):"},{"$f":"IF('Tex-113 (7-9)'!$H$29=\"\",\"\",'Tex-113 (7-9)'!$H$29)","v":4}]
[587,{"$f":"IF('Tex-113 (7-9)'!$E$33=\"\",\"\",'Tex-113 (7-9)'!$E$33)","v":""},{"$f":"IF('Tex-113 (7-9)'!$B$6=\"\",\"\",'Tex-113 (7-9)'!$B$6)","v":"Tex-113-E(7-9)"},{"$f":"IF( 'Tex-113 (7-9)'!$B$20=\"\",\"\", 'Tex-113 (7-9)'!$B$20)","v":"Moisture-Density Work Sheet"},{"$f":"IF('Tex-113 (7-9)'!$B$33=\"\",\"\",'Tex-113 (7-9)'!$B$33)","v":"Mass Water Added, (lb):"},{"$f":"IF('Tex-113 (7-9)'!$E$29=\"\",\"\",'Tex-113 (7-9)'!$E$29)","v":1}]
[588,{"$f":"IF('Tex-113 (7-9)'!$F$33=\"\",\"\",'Tex-113 (7-9)'!$F$33)","v":""},{"$f":"IF('Tex-113 (7-9)'!$B$6=\"\",\"\",'Tex-113 (7-9)'!$B$6)","v":"Tex-113-E(7-9)"},{"$f":"IF( 'Tex-113 (7-9)'!$B$20=\"\",\"\", 'Tex-113 (7-9)'!$B$20)","v":"Moisture-Density Work Sheet"},{"$f":"IF('Tex-113 (7-9)'!$B$33=\"\",\"\",'Tex-113 (7-9)'!$B$33)","v":"Mass Water Added, (lb):"},{"$f":"IF('Tex-113 (7-9)'!$F$29=\"\",\"\",'Tex-113 (7-9)'!$F$29)","v":2}]
[589,{"$f":"IF('Tex-113 (7-9)'!$G$33=\"\",\"\",'Tex-113 (7-9)'!$G$33)","v":""},{"$f":"IF('Tex-113 (7-9)'!$B$6=\"\",\"\",'Tex-113 (7-9)'!$B$6)","v":"Tex-113-E(7-9)"},{"$f":"IF( 'Tex-113 (7-9)'!$B$20=\"\",\"\", 'Tex-113 (7-9)'!$B$20)","v":"Moisture-Density Work Sheet"},{"$f":"IF('Tex-113 (7-9)'!$B$33=\"\",\"\",'Tex-113 (7-9)'!$B$33)","v":"Mass Water Added, (lb):"},{"$f":"IF('Tex-113 (7-9)'!$G$29=\"\",\"\",'Tex-113 (7-9)'!$G$29)","v":3}]
[590,{"$f":"IF('Tex-113 (7-9)'!$H$33=\"\",\"\",'Tex-113 (7-9)'!$H$33)","v":""},{"$f":"IF('Tex-113 (7-9)'!$B$6=\"\",\"\",'Tex-113 (7-9)'!$B$6)","v":"Tex-113-E(7-9)"},{"$f":"IF( 'Tex-113 (7-9)'!$B$20=\"\",\"\", 'Tex-113 (7-9)'!$B$20)","v":"Moisture-Density Work Sheet"},{"$f":"IF('Tex-113 (7-9)'!$B$33=\"\",\"\",'Tex-113 (7-9)'!$B$33)","v":"Mass Water Added, (lb):"},{"$f":"IF('Tex-113 (7-9)'!$H$29=\"\",\"\",'Tex-113 (7-9)'!$H$29)","v":4}]
[591,{"$f":"IF('Tex-113 (7-9)'!$E$35=\"\",\"\",'Tex-113 (7-9)'!$E$35)","v":""},{"$f":"IF('Tex-113 (7-9)'!$B$6=\"\",\"\",'Tex-113 (7-9)'!$B$6)","v":"Tex-113-E(7-9)"},{"$f":"IF( 'Tex-113 (7-9)'!$B$20=\"\",\"\", 'Tex-113 (7-9)'!$B$20)","v":"Moisture-Density Work Sheet"},{"$f":"IF('Tex-113 (7-9)'!$B$35=\"\",\"\",'Tex-113 (7-9)'!$B$35)","v":"Wet Mass Specimen & Mold, (lb):"},{"$f":"IF('Tex-113 (7-9)'!$E$29=\"\",\"\",'Tex-113 (7-9)'!$E$29)","v":1}]
[592,{"$f":"IF('Tex-113 (7-9)'!$F$35=\"\",\"\",'Tex-113 (7-9)'!$F$35)","v":""},{"$f":"IF('Tex-113 (7-9)'!$B$6=\"\",\"\",'Tex-113 (7-9)'!$B$6)","v":"Tex-113-E(7-9)"},{"$f":"IF( 'Tex-113 (7-9)'!$B$20=\"\",\"\", 'Tex-113 (7-9)'!$B$20)","v":"Moisture-Density Work Sheet"},{"$f":"IF('Tex-113 (7-9)'!$B$35=\"\",\"\",'Tex-113 (7-9)'!$B$35)","v":"Wet Mass Specimen & Mold, (lb):"},{"$f":"IF('Tex-113 (7-9)'!$F$29=\"\",\"\",'Tex-113 (7-9)'!$F$29)","v":2}]
[593,{"$f":"IF('Tex-113 (7-9)'!$G$35=\"\",\"\",'Tex-113 (7-9)'!$G$35)","v":""},{"$f":"IF('Tex-113 (7-9)'!$B$6=\"\",\"\",'Tex-113 (7-9)'!$B$6)","v":"Tex-113-E(7-9)"},{"$f":"IF( 'Tex-113 (7-9)'!$B$20=\"\",\"\", 'Tex-113 (7-9)'!$B$20)","v":"Moisture-Density Work Sheet"},{"$f":"IF('Tex-113 (7-9)'!$B$35=\"\",\"\",'Tex-113 (7-9)'!$B$35)","v":"Wet Mass Specimen & Mold, (lb):"},{"$f":"IF('Tex-113 (7-9)'!$G$29=\"\",\"\",'Tex-113 (7-9)'!$G$29)","v":3}]
[594,{"$f":"IF('Tex-113 (7-9)'!$H$35=\"\",\"\",'Tex-113 (7-9)'!$H$35)","v":""},{"$f":"IF('Tex-113 (7-9)'!$B$6=\"\",\"\",'Tex-113 (7-9)'!$B$6)","v":"Tex-113-E(7-9)"},{"$f":"IF( 'Tex-113 (7-9)'!$B$20=\"\",\"\", 'Tex-113 (7-9)'!$B$20)","v":"Moisture-Density Work Sheet"},{"$f":"IF('Tex-113 (7-9)'!$B$35=\"\",\"\",'Tex-113 (7-9)'!$B$35)","v":"Wet Mass Specimen & Mold, (lb):"},{"$f":"IF('Tex-113 (7-9)'!$H$29=\"\",\"\",'Tex-113 (7-9)'!$H$29)","v":4}]
[595,{"$f":"IF('Tex-113 (7-9)'!$E$36=\"\",\"\",'Tex-113 (7-9)'!$E$36)","v":""},{"$f":"IF('Tex-113 (7-9)'!$B$6=\"\",\"\",'Tex-113 (7-9)'!$B$6)","v":"Tex-113-E(7-9)"},{"$f":"IF( 'Tex-113 (7-9)'!$B$20=\"\",\"\", 'Tex-113 (7-9)'!$B$20)","v":"Moisture-Density Work Sheet"},{"$f":"IF('Tex-113 (7-9)'!$B$36=\"\",\"\",'Tex-113 (7-9)'!$B$36)","v":"Tare Mass Mold, (lb):"},{"$f":"IF('Tex-113 (7-9)'!$E$29=\"\",\"\",'Tex-113 (7-9)'!$E$29)","v":1}]
[596,{"$f":"IF('Tex-113 (7-9)'!$F$36=\"\",\"\",'Tex-113 (7-9)'!$F$36)","v":""},{"$f":"IF('Tex-113 (7-9)'!$B$6=\"\",\"\",'Tex-113 (7-9)'!$B$6)","v":"Tex-113-E(7-9)"},{"$f":"IF( 'Tex-113 (7-9)'!$B$20=\"\",\"\", 'Tex-113 (7-9)'!$B$20)","v":"Moisture-Density Work Sheet"},{"$f":"IF('Tex-113 (7-9)'!$B$36=\"\",\"\",'Tex-113 (7-9)'!$B$36)","v":"Tare Mass Mold, (lb):"},{"$f":"IF('Tex-113 (7-9)'!$F$29=\"\",\"\",'Tex-113 (7-9)'!$F$29)","v":2}]
[597,{"$f":"IF('Tex-113 (7-9)'!$G$36=\"\",\"\",'Tex-113 (7-9)'!$G$36)","v":""},{"$f":"IF('Tex-113 (7-9)'!$B$6=\"\",\"\",'Tex-113 (7-9)'!$B$6)","v":"Tex-113-E(7-9)"},{"$f":"IF( 'Tex-113 (7-9)'!$B$20=\"\",\"\", 'Tex-113 (7-9)'!$B$20)","v":"Moisture-Density Work Sheet"},{"$f":"IF('Tex-113 (7-9)'!$B$36=\"\",\"\",'Tex-113 (7-9)'!$B$36)","v":"Tare Mass Mold, (lb):"},{"$f":"IF('Tex-113 (7-9)'!$G$29=\"\",\"\",'Tex-113 (7-9)'!$G$29)","v":3}]
[598,{"$f":"IF('Tex-113 (7-9)'!$H$36=\"\",\"\",'Tex-113 (7-9)'!$H$36)","v":""},{"$f":"IF('Tex-113 (7-9)'!$B$6=\"\",\"\",'Tex-113 (7-9)'!$B$6)","v":"Tex-113-E(7-9)"},{"$f":"IF( 'Tex-113 (7-9)'!$B$20=\"\",\"\", 'Tex-113 (7-9)'!$B$20)","v":"Moisture-Density Work Sheet"},{"$f":"IF('Tex-113 (7-9)'!$B$36=\"\",\"\",'Tex-113 (7-9)'!$B$36)","v":"Tare Mass Mold, (lb):"},{"$f":"IF('Tex-113 (7-9)'!$H$29=\"\",\"\",'Tex-113 (7-9)'!$H$29)","v":4}]
[599,{"$f":"IF('Tex-113 (7-9)'!$E$37=\"\",\"\",'Tex-113 (7-9)'!$E$37)","v":""},{"$f":"IF('Tex-113 (7-9)'!$B$6=\"\",\"\",'Tex-113 (7-9)'!$B$6)","v":"Tex-113-E(7-9)"},{"$f":"IF( 'Tex-113 (7-9)'!$B$20=\"\",\"\", 'Tex-113 (7-9)'!$B$20)","v":"Moisture-Density Work Sheet"},{"$f":"IF('Tex-113 (7-9)'!$B$37=\"\",\"\",'Tex-113 (7-9)'!$B$37)","v":"Wet Mass Specimen, (lb):"},{"$f":"IF('Tex-113 (7-9)'!$E$29=\"\",\"\",'Tex-113 (7-9)'!$E$29)","v":1}]
[600,{"$f":"IF('Tex-113 (7-9)'!$F$37=\"\",\"\",'Tex-113 (7-9)'!$F$37)","v":""},{"$f":"IF('Tex-113 (7-9)'!$B$6=\"\",\"\",'Tex-113 (7-9)'!$B$6)","v":"Tex-113-E(7-9)"},{"$f":"IF( 'Tex-113 (7-9)'!$B$20=\"\",\"\", 'Tex-113 (7-9)'!$B$20)","v":"Moisture-Density Work Sheet"},{"$f":"IF('Tex-113 (7-9)'!$B$37=\"\",\"\",'Tex-113 (7-9)'!$B$37)","v":"Wet Mass Specimen, (lb):"},{"$f":"IF('Tex-113 (7-9)'!$F$29=\"\",\"\",'Tex-113 (7-9)'!$F$29)","v":2}]
[601,{"$f":"IF('Tex-113 (7-9)'!$G$37=\"\",\"\",'Tex-113 (7-9)'!$G$37)","v":""},{"$f":"IF('Tex-113 (7-9)'!$B$6=\"\",\"\",'Tex-113 (7-9)'!$B$6)","v":"Tex-113-E(7-9)"},{"$f":"IF( 'Tex-113 (7-9)'!$B$20=\"\",\"\", 'Tex-113 (7-9)'!$B$20)","v":"Moisture-Density Work Sheet"},{"$f":"IF('Tex-113 (7-9)'!$B$37=\"\",\"\",'Tex-113 (7-9)'!$B$37)","v":"Wet Mass Specimen, (lb):"},{"$f":"IF('Tex-113 (7-9)'!$G$29=\"\",\"\",'Tex-113 (7-9)'!$G$29)","v":3}]
[602,{"$f":"IF('Tex-113 (7-9)'!$H$37=\"\",\"\",'Tex-113 (7-9)'!$H$37)","v":""},{"$f":"IF('Tex-113 (7-9)'!$B$6=\"\",\"\",'Tex-113 (7-9)'!$B$6)","v":"Tex-113-E(7-9)"},{"$f":"IF( 'Tex-113 (7-9)'!$B$20=\"\",\"\", 'Tex-113 (7-9)'!$B$20)","v":"Moisture-Density Work Sheet"},{"$f":"IF('Tex-113 (7-9)'!$B$37=\"\",\"\",'Tex-113 (7-9)'!$B$37)","v":"Wet Mass Specimen, (lb):"},{"$f":"IF('Tex-113 (7-9)'!$H$29=\"\",\"\",'Tex-113 (7-9)'!$H$29)","v":4}]
[603,{"$f":"IF('Tex-113 (7-9)'!$E$38=\"\",\"\",'Tex-113 (7-9)'!$E$38)","v":""},{"$f":"IF('Tex-113 (7-9)'!$B$6=\"\",\"\",'Tex-113 (7-9)'!$B$6)","v":"Tex-113-E(7-9)"},{"$f":"IF( 'Tex-113 (7-9)'!$B$20=\"\",\"\", 'Tex-113 (7-9)'!$B$20)","v":"Moisture-Density Work Sheet"},{"$f":"IF('Tex-113 (7-9)'!$B$38=\"\",\"\",'Tex-113 (7-9)'!$B$38)","v":"Height of Specimen, (in.):"},{"$f":"IF('Tex-113 (7-9)'!$E$29=\"\",\"\",'Tex-113 (7-9)'!$E$29)","v":1}]
[604,{"$f":"IF('Tex-113 (7-9)'!$F$38=\"\",\"\",'Tex-113 (7-9)'!$F$38)","v":""},{"$f":"IF('Tex-113 (7-9)'!$B$6=\"\",\"\",'Tex-113 (7-9)'!$B$6)","v":"Tex-113-E(7-9)"},{"$f":"IF( 'Tex-113 (7-9)'!$B$20=\"\",\"\", 'Tex-113 (7-9)'!$B$20)","v":"Moisture-Density Work Sheet"},{"$f":"IF('Tex-113 (7-9)'!$B$38=\"\",\"\",'Tex-113 (7-9)'!$B$38)","v":"Height of Specimen, (in.):"},{"$f":"IF('Tex-113 (7-9)'!$F$29=\"\",\"\",'Tex-113 (7-9)'!$F$29)","v":2}]
[605,{"$f":"IF('Tex-113 (7-9)'!$G$38=\"\",\"\",'Tex-113 (7-9)'!$G$38)","v":""},{"$f":"IF('Tex-113 (7-9)'!$B$6=\"\",\"\",'Tex-113 (7-9)'!$B$6)","v":"Tex-113-E(7-9)"},{"$f":"IF( 'Tex-113 (7-9)'!$B$20=\"\",\"\", 'Tex-113 (7-9)'!$B$20)","v":"Moisture-Density Work Sheet"},{"$f":"IF('Tex-113 (7-9)'!$B$38=\"\",\"\",'Tex-113 (7-9)'!$B$38)","v":"Height of Specimen, (in.):"},{"$f":"IF('Tex-113 (7-9)'!$G$29=\"\",\"\",'Tex-113 (7-9)'!$G$29)","v":3}]
[606,{"$f":"IF('Tex-113 (7-9)'!$H$38=\"\",\"\",'Tex-113 (7-9)'!$H$38)","v":""},{"$f":"IF('Tex-113 (7-9)'!$B$6=\"\",\"\",'Tex-113 (7-9)'!$B$6)","v":"Tex-113-E(7-9)"},{"$f":"IF( 'Tex-113 (7-9)'!$B$20=\"\",\"\", 'Tex-113 (7-9)'!$B$20)","v":"Moisture-Density Work Sheet"},{"$f":"IF('Tex-113 (7-9)'!$B$38=\"\",\"\",'Tex-113 (7-9)'!$B$38)","v":"Height of Specimen, (in.):"},{"$f":"IF('Tex-113 (7-9)'!$H$29=\"\",\"\",'Tex-113 (7-9)'!$H$29)","v":4}]
[607,{"$f":"IF('Tex-113 (7-9)'!$E$39=\"\",\"\",'Tex-113 (7-9)'!$E$39)","v":""},{"$f":"IF('Tex-113 (7-9)'!$B$6=\"\",\"\",'Tex-113 (7-9)'!$B$6)","v":"Tex-113-E(7-9)"},{"$f":"IF( 'Tex-113 (7-9)'!$B$20=\"\",\"\", 'Tex-113 (7-9)'!$B$20)","v":"Moisture-Density Work Sheet"},{"$f":"IF('Tex-113 (7-9)'!$B$39=\"\",\"\",'Tex-113 (7-9)'!$B$39)","v":"Volume per Linear mm., (in.):"},{"$f":"IF('Tex-113 (7-9)'!$E$29=\"\",\"\",'Tex-113 (7-9)'!$E$29)","v":1}]
[608,{"$f":"IF('Tex-113 (7-9)'!$F$39=\"\",\"\",'Tex-113 (7-9)'!$F$39)","v":""},{"$f":"IF('Tex-113 (7-9)'!$B$6=\"\",\"\",'Tex-113 (7-9)'!$B$6)","v":"Tex-113-E(7-9)"},{"$f":"IF( 'Tex-113 (7-9)'!$B$20=\"\",\"\", 'Tex-113 (7-9)'!$B$20)","v":"Moisture-Density Work Sheet"},{"$f":"IF('Tex-113 (7-9)'!$B$39=\"\",\"\",'Tex-113 (7-9)'!$B$39)","v":"Volume per Linear mm., (in.):"},{"$f":"IF('Tex-113 (7-9)'!$F$29=\"\",\"\",'Tex-113 (7-9)'!$F$29)","v":2}]
[609,{"$f":"IF('Tex-113 (7-9)'!$G$39=\"\",\"\",'Tex-113 (7-9)'!$G$39)","v":""},{"$f":"IF('Tex-113 (7-9)'!$B$6=\"\",\"\",'Tex-113 (7-9)'!$B$6)","v":"Tex-113-E(7-9)"},{"$f":"IF( 'Tex-113 (7-9)'!$B$20=\"\",\"\", 'Tex-113 (7-9)'!$B$20)","v":"Moisture-Density Work Sheet"},{"$f":"IF('Tex-113 (7-9)'!$B$39=\"\",\"\",'Tex-113 (7-9)'!$B$39)","v":"Volume per Linear mm., (in.):"},{"$f":"IF('Tex-113 (7-9)'!$G$29=\"\",\"\",'Tex-113 (7-9)'!$G$29)","v":3}]
[610,{"$f":"IF('Tex-113 (7-9)'!$H$39=\"\",\"\",'Tex-113 (7-9)'!$H$39)","v":""},{"$f":"IF('Tex-113 (7-9)'!$B$6=\"\",\"\",'Tex-113 (7-9)'!$B$6)","v":"Tex-113-E(7-9)"},{"$f":"IF( 'Tex-113 (7-9)'!$B$20=\"\",\"\", 'Tex-113 (7-9)'!$B$20)","v":"Moisture-Density Work Sheet"},{"$f":"IF('Tex-113 (7-9)'!$B$39=\"\",\"\",'Tex-113 (7-9)'!$B$39)","v":"Volume per Linear mm., (in.):"},{"$f":"IF('Tex-113 (7-9)'!$H$29=\"\",\"\",'Tex-113 (7-9)'!$H$29)","v":4}]
[611,{"$f":"IF('Tex-113 (7-9)'!$E$40=\"\",\"\",'Tex-113 (7-9)'!$E$40)","v":""},{"$f":"IF('Tex-113 (7-9)'!$B$6=\"\",\"\",'Tex-113 (7-9)'!$B$6)","v":"Tex-113-E(7-9)"},{"$f":"IF( 'Tex-113 (7-9)'!$B$20=\"\",\"\", 'Tex-113 (7-9)'!$B$20)","v":"Moisture-Density Work Sheet"},{"$f":"IF('Tex-113 (7-9)'!$B$40=\"\",\"\",'Tex-113 (7-9)'!$B$40)","v":"Volume of Specimen, (ft^3):"},{"$f":"IF('Tex-113 (7-9)'!$E$29=\"\",\"\",'Tex-113 (7-9)'!$E$29)","v":1}]
[612,{"$f":"IF('Tex-113 (7-9)'!$F$40=\"\",\"\",'Tex-113 (7-9)'!$F$40)","v":""},{"$f":"IF('Tex-113 (7-9)'!$B$6=\"\",\"\",'Tex-113 (7-9)'!$B$6)","v":"Tex-113-E(7-9)"},{"$f":"IF( 'Tex-113 (7-9)'!$B$20=\"\",\"\", 'Tex-113 (7-9)'!$B$20)","v":"Moisture-Density Work Sheet"},{"$f":"IF('Tex-113 (7-9)'!$B$40=\"\",\"\",'Tex-113 (7-9)'!$B$40)","v":"Volume of Specimen, (ft^3):"},{"$f":"IF('Tex-113 (7-9)'!$F$29=\"\",\"\",'Tex-113 (7-9)'!$F$29)","v":2}]
[613,{"$f":"IF('Tex-113 (7-9)'!$G$40=\"\",\"\",'Tex-113 (7-9)'!$G$40)","v":""},{"$f":"IF('Tex-113 (7-9)'!$B$6=\"\",\"\",'Tex-113 (7-9)'!$B$6)","v":"Tex-113-E(7-9)"},{"$f":"IF( 'Tex-113 (7-9)'!$B$20=\"\",\"\", 'Tex-113 (7-9)'!$B$20)","v":"Moisture-Density Work Sheet"},{"$f":"IF('Tex-113 (7-9)'!$B$40=\"\",\"\",'Tex-113 (7-9)'!$B$40)","v":"Volume of Specimen, (ft^3):"},{"$f":"IF('Tex-113 (7-9)'!$G$29=\"\",\"\",'Tex-113 (7-9)'!$G$29)","v":3}]
[614,{"$f":"IF('Tex-113 (7-9)'!$H$40=\"\",\"\",'Tex-113 (7-9)'!$H$40)","v":""},{"$f":"IF('Tex-113 (7-9)'!$B$6=\"\",\"\",'Tex-113 (7-9)'!$B$6)","v":"Tex-113-E(7-9)"},{"$f":"IF( 'Tex-113 (7-9)'!$B$20=\"\",\"\", 'Tex-113 (7-9)'!$B$20)","v":"Moisture-Density Work Sheet"},{"$f":"IF('Tex-113 (7-9)'!$B$40=\"\",\"\",'Tex-113 (7-9)'!$B$40)","v":"Volume of Specimen, (ft^3):"},{"$f":"IF('Tex-113 (7-9)'!$H$29=\"\",\"\",'Tex-113 (7-9)'!$H$29)","v":4}]
[615,{"$f":"IF('Tex-113 (7-9)'!$E$41=\"\",\"\",'Tex-113 (7-9)'!$E$41)","v":""},{"$f":"IF('Tex-113 (7-9)'!$B$6=\"\",\"\",'Tex-113 (7-9)'!$B$6)","v":"Tex-113-E(7-9)"},{"$f":"IF( 'Tex-113 (7-9)'!$B$20=\"\",\"\", 'Tex-113 (7-9)'!$B$20)","v":"Moisture-Density Work Sheet"},{"$f":"IF('Tex-113 (7-9)'!$B$41=\"\",\"\",'Tex-113 (7-9)'!$B$41)","v":"Wet Density of Specimen, (lb):"},{"$f":"IF('Tex-113 (7-9)'!$E$29=\"\",\"\",'Tex-113 (7-9)'!$E$29)","v":1}]
[616,{"$f":"IF('Tex-113 (7-9)'!$F$41=\"\",\"\",'Tex-113 (7-9)'!$F$41)","v":""},{"$f":"IF('Tex-113 (7-9)'!$B$6=\"\",\"\",'Tex-113 (7-9)'!$B$6)","v":"Tex-113-E(7-9)"},{"$f":"IF( 'Tex-113 (7-9)'!$B$20=\"\",\"\", 'Tex-113 (7-9)'!$B$20)","v":"Moisture-Density Work Sheet"},{"$f":"IF('Tex-113 (7-9)'!$B$41=\"\",\"\",'Tex-113 (7-9)'!$B$41)","v":"Wet Density of Specimen, (lb):"},{"$f":"IF('Tex-113 (7-9)'!$F$29=\"\",\"\",'Tex-113 (7-9)'!$F$29)","v":2}]
[617,{"$f":"IF('Tex-113 (7-9)'!$G$41=\"\",\"\",'Tex-113 (7-9)'!$G$41)","v":""},{"$f":"IF('Tex-113 (7-9)'!$B$6=\"\",\"\",'Tex-113 (7-9)'!$B$6)","v":"Tex-113-E(7-9)"},{"$f":"IF( 'Tex-113 (7-9)'!$B$20=\"\",\"\", 'Tex-113 (7-9)'!$B$20)","v":"Moisture-Density Work Sheet"},{"$f":"IF('Tex-113 (7-9)'!$B$41=\"\",\"\",'Tex-113 (7-9)'!$B$41)","v":"Wet Density of Specimen, (lb):"},{"$f":"IF('Tex-113 (7-9)'!$G$29=\"\",\"\",'Tex-113 (7-9)'!$G$29)","v":3}]
[618,{"$f":"IF('Tex-113 (7-9)'!$H$41=\"\",\"\",'Tex-113 (7-9)'!$H$41)","v":""},{"$f":"IF('Tex-113 (7-9)'!$B$6=\"\",\"\",'Tex-113 (7-9)'!$B$6)","v":"Tex-113-E(7-9)"},{"$f":"IF( 'Tex-113 (7-9)'!$B$20=\"\",\"\", 'Tex-113 (7-9)'!$B$20)","v":"Moisture-Density Work Sheet"},{"$f":"IF('Tex-113 (7-9)'!$B$41=\"\",\"\",'Tex-113 (7-9)'!$B$41)","v":"Wet Density of Specimen, (lb):"},{"$f":"IF('Tex-113 (7-9)'!$H$29=\"\",\"\",'Tex-113 (7-9)'!$H$29)","v":4}]
[619,{"$f":"IF('Tex-113 (7-9)'!$E$42=\"\",\"\",'Tex-113 (7-9)'!$E$42)","v":""},{"$f":"IF('Tex-113 (7-9)'!$B$6=\"\",\"\",'Tex-113 (7-9)'!$B$6)","v":"Tex-113-E(7-9)"},{"$f":"IF( 'Tex-113 (7-9)'!$B$20=\"\",\"\", 'Tex-113 (7-9)'!$B$20)","v":"Moisture-Density Work Sheet"},{"$f":"IF('Tex-113 (7-9)'!$B$42=\"\",\"\",'Tex-113 (7-9)'!$B$42)","v":"Wet Mass of Pan & Specimen, (lb):"},{"$f":"IF('Tex-113 (7-9)'!$E$29=\"\",\"\",'Tex-113 (7-9)'!$E$29)","v":1}]
[620,{"$f":"IF('Tex-113 (7-9)'!$F$42=\"\",\"\",'Tex-113 (7-9)'!$F$42)","v":""},{"$f":"IF('Tex-113 (7-9)'!$B$6=\"\",\"\",'Tex-113 (7-9)'!$B$6)","v":"Tex-113-E(7-9)"},{"$f":"IF( 'Tex-113 (7-9)'!$B$20=\"\",\"\", 'Tex-113 (7-9)'!$B$20)","v":"Moisture-Density Work Sheet"},{"$f":"IF('Tex-113 (7-9)'!$B$42=\"\",\"\",'Tex-113 (7-9)'!$B$42)","v":"Wet Mass of Pan & Specimen, (lb):"},{"$f":"IF('Tex-113 (7-9)'!$F$29=\"\",\"\",'Tex-113 (7-9)'!$F$29)","v":2}]
[621,{"$f":"IF('Tex-113 (7-9)'!$G$42=\"\",\"\",'Tex-113 (7-9)'!$G$42)","v":""},{"$f":"IF('Tex-113 (7-9)'!$B$6=\"\",\"\",'Tex-113 (7-9)'!$B$6)","v":"Tex-113-E(7-9)"},{"$f":"IF( 'Tex-113 (7-9)'!$B$20=\"\",\"\", 'Tex-113 (7-9)'!$B$20)","v":"Moisture-Density Work Sheet"},{"$f":"IF('Tex-113 (7-9)'!$B$42=\"\",\"\",'Tex-113 (7-9)'!$B$42)","v":"Wet Mass of Pan & Specimen, (lb):"},{"$f":"IF('Tex-113 (7-9)'!$G$29=\"\",\"\",'Tex-113 (7-9)'!$G$29)","v":3}]
[622,{"$f":"IF('Tex-113 (7-9)'!$H$42=\"\",\"\",'Tex-113 (7-9)'!$H$42)","v":""},{"$f":"IF('Tex-113 (7-9)'!$B$6=\"\",\"\",'Tex-113 (7-9)'!$B$6)","v":"Tex-113-E(7-9)"},{"$f":"IF( 'Tex-113 (7-9)'!$B$20=\"\",\"\", 'Tex-113 (7-9)'!$B$20)","v":"Moisture-Density Work Sheet"},{"$f":"IF('Tex-113 (7-9)'!$B$42=\"\",\"\",'Tex-113 (7-9)'!$B$42)","v":"Wet Mass of Pan & Specimen, (lb):"},{"$f":"IF('Tex-113 (7-9)'!$H$29=\"\",\"\",'Tex-113 (7-9)'!$H$29)","v":4}]
[623,{"$f":"IF('Tex-113 (7-9)'!$E$43=\"\",\"\",'Tex-113 (7-9)'!$E$43)","v":""},{"$f":"IF('Tex-113 (7-9)'!$B$6=\"\",\"\",'Tex-113 (7-9)'!$B$6)","v":"Tex-113-E(7-9)"},{"$f":"IF( 'Tex-113 (7-9)'!$B$20=\"\",\"\", 'Tex-113 (7-9)'!$B$20)","v":"Moisture-Density Work Sheet"},{"$f":"IF('Tex-113 (7-9)'!$B$43=\"\",\"\",'Tex-113 (7-9)'!$B$43)","v":"Dry Mass Pan & Specimen, (lb):"},{"$f":"IF('Tex-113 (7-9)'!$E$29=\"\",\"\",'Tex-113 (7-9)'!$E$29)","v":1}]
[624,{"$f":"IF('Tex-113 (7-9)'!$F$43=\"\",\"\",'Tex-113 (7-9)'!$F$43)","v":""},{"$f":"IF('Tex-113 (7-9)'!$B$6=\"\",\"\",'Tex-113 (7-9)'!$B$6)","v":"Tex-113-E(7-9)"},{"$f":"IF( 'Tex-113 (7-9)'!$B$20=\"\",\"\", 'Tex-113 (7-9)'!$B$20)","v":"Moisture-Density Work Sheet"},{"$f":"IF('Tex-113 (7-9)'!$B$43=\"\",\"\",'Tex-113 (7-9)'!$B$43)","v":"Dry Mass Pan & Specimen, (lb):"},{"$f":"IF('Tex-113 (7-9)'!$F$29=\"\",\"\",'Tex-113 (7-9)'!$F$29)","v":2}]
[625,{"$f":"IF('Tex-113 (7-9)'!$G$43=\"\",\"\",'Tex-113 (7-9)'!$G$43)","v":""},{"$f":"IF('Tex-113 (7-9)'!$B$6=\"\",\"\",'Tex-113 (7-9)'!$B$6)","v":"Tex-113-E(7-9)"},{"$f":"IF( 'Tex-113 (7-9)'!$B$20=\"\",\"\", 'Tex-113 (7-9)'!$B$20)","v":"Moisture-Density Work Sheet"},{"$f":"IF('Tex-113 (7-9)'!$B$43=\"\",\"\",'Tex-113 (7-9)'!$B$43)","v":"Dry Mass Pan & Specimen, (lb):"},{"$f":"IF('Tex-113 (7-9)'!$G$29=\"\",\"\",'Tex-113 (7-9)'!$G$29)","v":3}]
[626,{"$f":"IF('Tex-113 (7-9)'!$H$43=\"\",\"\",'Tex-113 (7-9)'!$H$43)","v":""},{"$f":"IF('Tex-113 (7-9)'!$B$6=\"\",\"\",'Tex-113 (7-9)'!$B$6)","v":"Tex-113-E(7-9)"},{"$f":"IF( 'Tex-113 (7-9)'!$B$20=\"\",\"\", 'Tex-113 (7-9)'!$B$20)","v":"Moisture-Density Work Sheet"},{"$f":"IF('Tex-113 (7-9)'!$B$43=\"\",\"\",'Tex-113 (7-9)'!$B$43)","v":"Dry Mass Pan & Specimen, (lb):"},{"$f":"IF('Tex-113 (7-9)'!$H$29=\"\",\"\",'Tex-113 (7-9)'!$H$29)","v":4}]
[627,{"$f":"IF('Tex-113 (7-9)'!$E$44=\"\",\"\",'Tex-113 (7-9)'!$E$44)","v":""},{"$f":"IF('Tex-113 (7-9)'!$B$6=\"\",\"\",'Tex-113 (7-9)'!$B$6)","v":"Tex-113-E(7-9)"},{"$f":"IF( 'Tex-113 (7-9)'!$B$20=\"\",\"\", 'Tex-113 (7-9)'!$B$20)","v":"Moisture-Density Work Sheet"},{"$f":"IF('Tex-113 (7-9)'!$B$44=\"\",\"\",'Tex-113 (7-9)'!$B$44)","v":"Tare Mass Pan, (lb):"},{"$f":"IF('Tex-113 (7-9)'!$E$29=\"\",\"\",'Tex-113 (7-9)'!$E$29)","v":1}]
[628,{"$f":"IF('Tex-113 (7-9)'!$F$44=\"\",\"\",'Tex-113 (7-9)'!$F$44)","v":""},{"$f":"IF('Tex-113 (7-9)'!$B$6=\"\",\"\",'Tex-113 (7-9)'!$B$6)","v":"Tex-113-E(7-9)"},{"$f":"IF( 'Tex-113 (7-9)'!$B$20=\"\",\"\", 'Tex-113 (7-9)'!$B$20)","v":"Moisture-Density Work Sheet"},{"$f":"IF('Tex-113 (7-9)'!$B$44=\"\",\"\",'Tex-113 (7-9)'!$B$44)","v":"Tare Mass Pan, (lb):"},{"$f":"IF('Tex-113 (7-9)'!$F$29=\"\",\"\",'Tex-113 (7-9)'!$F$29)","v":2}]
[629,{"$f":"IF('Tex-113 (7-9)'!$G$44=\"\",\"\",'Tex-113 (7-9)'!$G$44)","v":""},{"$f":"IF('Tex-113 (7-9)'!$B$6=\"\",\"\",'Tex-113 (7-9)'!$B$6)","v":"Tex-113-E(7-9)"},{"$f":"IF( 'Tex-113 (7-9)'!$B$20=\"\",\"\", 'Tex-113 (7-9)'!$B$20)","v":"Moisture-Density Work Sheet"},{"$f":"IF('Tex-113 (7-9)'!$B$44=\"\",\"\",'Tex-113 (7-9)'!$B$44)","v":"Tare Mass Pan, (lb):"},{"$f":"IF('Tex-113 (7-9)'!$G$29=\"\",\"\",'Tex-113 (7-9)'!$G$29)","v":3}]
[630,{"$f":"IF('Tex-113 (7-9)'!$H$44=\"\",\"\",'Tex-113 (7-9)'!$H$44)","v":""},{"$f":"IF('Tex-113 (7-9)'!$B$6=\"\",\"\",'Tex-113 (7-9)'!$B$6)","v":"Tex-113-E(7-9)"},{"$f":"IF( 'Tex-113 (7-9)'!$B$20=\"\",\"\", 'Tex-113 (7-9)'!$B$20)","v":"Moisture-Density Work Sheet"},{"$f":"IF('Tex-113 (7-9)'!$B$44=\"\",\"\",'Tex-113 (7-9)'!$B$44)","v":"Tare Mass Pan, (lb):"},{"$f":"IF('Tex-113 (7-9)'!$H$29=\"\",\"\",'Tex-113 (7-9)'!$H$29)","v":4}]
[631,{"$f":"IF('Tex-113 (7-9)'!$E$45=\"\",\"\",'Tex-113 (7-9)'!$E$45)","v":""},{"$f":"IF('Tex-113 (7-9)'!$B$6=\"\",\"\",'Tex-113 (7-9)'!$B$6)","v":"Tex-113-E(7-9)"},{"$f":"IF( 'Tex-113 (7-9)'!$B$20=\"\",\"\", 'Tex-113 (7-9)'!$B$20)","v":"Moisture-Density Work Sheet"},{"$f":"IF('Tex-113 (7-9)'!$B$45=\"\",\"\",'Tex-113 (7-9)'!$B$45)","v":"Dry Mass Material , (lb):"},{"$f":"IF('Tex-113 (7-9)'!$E$29=\"\",\"\",'Tex-113 (7-9)'!$E$29)","v":1}]
[632,{"$f":"IF('Tex-113 (7-9)'!$F$45=\"\",\"\",'Tex-113 (7-9)'!$F$45)","v":""},{"$f":"IF('Tex-113 (7-9)'!$B$6=\"\",\"\",'Tex-113 (7-9)'!$B$6)","v":"Tex-113-E(7-9)"},{"$f":"IF( 'Tex-113 (7-9)'!$B$20=\"\",\"\", 'Tex-113 (7-9)'!$B$20)","v":"Moisture-Density Work Sheet"},{"$f":"IF('Tex-113 (7-9)'!$B$45=\"\",\"\",'Tex-113 (7-9)'!$B$45)","v":"Dry Mass Material , (lb):"},{"$f":"IF('Tex-113 (7-9)'!$F$29=\"\",\"\",'Tex-113 (7-9)'!$F$29)","v":2}]
[633,{"$f":"IF('Tex-113 (7-9)'!$G$45=\"\",\"\",'Tex-113 (7-9)'!$G$45)","v":""},{"$f":"IF('Tex-113 (7-9)'!$B$6=\"\",\"\",'Tex-113 (7-9)'!$B$6)","v":"Tex-113-E(7-9)"},{"$f":"IF( 'Tex-113 (7-9)'!$B$20=\"\",\"\", 'Tex-113 (7-9)'!$B$20)","v":"Moisture-Density Work Sheet"},{"$f":"IF('Tex-113 (7-9)'!$B$45=\"\",\"\",'Tex-113 (7-9)'!$B$45)","v":"Dry Mass Material , (lb):"},{"$f":"IF('Tex-113 (7-9)'!$G$29=\"\",\"\",'Tex-113 (7-9)'!$G$29)","v":3}]
[634,{"$f":"IF('Tex-113 (7-9)'!$H$45=\"\",\"\",'Tex-113 (7-9)'!$H$45)","v":""},{"$f":"IF('Tex-113 (7-9)'!$B$6=\"\",\"\",'Tex-113 (7-9)'!$B$6)","v":"Tex-113-E(7-9)"},{"$f":"IF( 'Tex-113 (7-9)'!$B$20=\"\",\"\", 'Tex-113 (7-9)'!$B$20)","v":"Moisture-Density Work Sheet"},{"$f":"IF('Tex-113 (7-9)'!$B$45=\"\",\"\",'Tex-113 (7-9)'!$B$45)","v":"Dry Mass Material , (lb):"},{"$f":"IF('Tex-113 (7-9)'!$H$29=\"\",\"\",'Tex-113 (7-9)'!$H$29)","v":4}]
[635,{"$f":"IF('Tex-113 (7-9)'!$E$46=\"\",\"\",'Tex-113 (7-9)'!$E$46)","v":""},{"$f":"IF('Tex-113 (7-9)'!$B$6=\"\",\"\",'Tex-113 (7-9)'!$B$6)","v":"Tex-113-E(7-9)"},{"$f":"IF( 'Tex-113 (7-9)'!$B$20=\"\",\"\", 'Tex-113 (7-9)'!$B$20)","v":"Moisture-Density Work Sheet"},{"$f":"IF('Tex-113 (7-9)'!$B$46=\"\",\"\",'Tex-113 (7-9)'!$B$46)","v":"Mass Water, (lb):"},{"$f":"IF('Tex-113 (7-9)'!$E$29=\"\",\"\",'Tex-113 (7-9)'!$E$29)","v":1}]
[636,{"$f":"IF('Tex-113 (7-9)'!$F$46=\"\",\"\",'Tex-113 (7-9)'!$F$46)","v":""},{"$f":"IF('Tex-113 (7-9)'!$B$6=\"\",\"\",'Tex-113 (7-9)'!$B$6)","v":"Tex-113-E(7-9)"},{"$f":"IF( 'Tex-113 (7-9)'!$B$20=\"\",\"\", 'Tex-113 (7-9)'!$B$20)","v":"Moisture-Density Work Sheet"},{"$f":"IF('Tex-113 (7-9)'!$B$46=\"\",\"\",'Tex-113 (7-9)'!$B$46)","v":"Mass Water, (lb):"},{"$f":"IF('Tex-113 (7-9)'!$F$29=\"\",\"\",'Tex-113 (7-9)'!$F$29)","v":2}]
[637,{"$f":"IF('Tex-113 (7-9)'!$G$46=\"\",\"\",'Tex-113 (7-9)'!$G$46)","v":""},{"$f":"IF('Tex-113 (7-9)'!$B$6=\"\",\"\",'Tex-113 (7-9)'!$B$6)","v":"Tex-113-E(7-9)"},{"$f":"IF( 'Tex-113 (7-9)'!$B$20=\"\",\"\", 'Tex-113 (7-9)'!$B$20)","v":"Moisture-Density Work Sheet"},{"$f":"IF('Tex-113 (7-9)'!$B$46=\"\",\"\",'Tex-113 (7-9)'!$B$46)","v":"Mass Water, (lb):"},{"$f":"IF('Tex-113 (7-9)'!$G$29=\"\",\"\",'Tex-113 (7-9)'!$G$29)","v":3}]
[638,{"$f":"IF('Tex-113 (7-9)'!$H$46=\"\",\"\",'Tex-113 (7-9)'!$H$46)","v":""},{"$f":"IF('Tex-113 (7-9)'!$B$6=\"\",\"\",'Tex-113 (7-9)'!$B$6)","v":"Tex-113-E(7-9)"},{"$f":"IF( 'Tex-113 (7-9)'!$B$20=\"\",\"\", 'Tex-113 (7-9)'!$B$20)","v":"Moisture-Density Work Sheet"},{"$f":"IF('Tex-113 (7-9)'!$B$46=\"\",\"\",'Tex-113 (7-9)'!$B$46)","v":"Mass Water, (lb):"},{"$f":"IF('Tex-113 (7-9)'!$H$29=\"\",\"\",'Tex-113 (7-9)'!$H$29)","v":4}]
[639,{"$f":"IF('Tex-113 (7-9)'!$E$47=\"\",\"\",'Tex-113 (7-9)'!$E$47)","v":""},{"$f":"IF('Tex-113 (7-9)'!$B$6=\"\",\"\",'Tex-113 (7-9)'!$B$6)","v":"Tex-113-E(7-9)"},{"$f":"IF( 'Tex-113 (7-9)'!$B$20=\"\",\"\", 'Tex-113 (7-9)'!$B$20)","v":"Moisture-Density Work Sheet"},{"$f":"IF('Tex-113 (7-9)'!$B$47=\"\",\"\",'Tex-113 (7-9)'!$B$47)","v":"Percent Water on Total , (%):"},{"$f":"IF('Tex-113 (7-9)'!$E$29=\"\",\"\",'Tex-113 (7-9)'!$E$29)","v":1}]
[640,{"$f":"IF('Tex-113 (7-9)'!$F$47=\"\",\"\",'Tex-113 (7-9)'!$F$47)","v":""},{"$f":"IF('Tex-113 (7-9)'!$B$6=\"\",\"\",'Tex-113 (7-9)'!$B$6)","v":"Tex-113-E(7-9)"},{"$f":"IF( 'Tex-113 (7-9)'!$B$20=\"\",\"\", 'Tex-113 (7-9)'!$B$20)","v":"Moisture-Density Work Sheet"},{"$f":"IF('Tex-113 (7-9)'!$B$47=\"\",\"\",'Tex-113 (7-9)'!$B$47)","v":"Percent Water on Total , (%):"},{"$f":"IF('Tex-113 (7-9)'!$F$29=\"\",\"\",'Tex-113 (7-9)'!$F$29)","v":2}]
[641,{"$f":"IF('Tex-113 (7-9)'!$G$47=\"\",\"\",'Tex-113 (7-9)'!$G$47)","v":""},{"$f":"IF('Tex-113 (7-9)'!$B$6=\"\",\"\",'Tex-113 (7-9)'!$B$6)","v":"Tex-113-E(7-9)"},{"$f":"IF( 'Tex-113 (7-9)'!$B$20=\"\",\"\", 'Tex-113 (7-9)'!$B$20)","v":"Moisture-Density Work Sheet"},{"$f":"IF('Tex-113 (7-9)'!$B$47=\"\",\"\",'Tex-113 (7-9)'!$B$47)","v":"Percent Water on Total , (%):"},{"$f":"IF('Tex-113 (7-9)'!$G$29=\"\",\"\",'Tex-113 (7-9)'!$G$29)","v":3}]
[642,{"$f":"IF('Tex-113 (7-9)'!$H$47=\"\",\"\",'Tex-113 (7-9)'!$H$47)","v":""},{"$f":"IF('Tex-113 (7-9)'!$B$6=\"\",\"\",'Tex-113 (7-9)'!$B$6)","v":"Tex-113-E(7-9)"},{"$f":"IF( 'Tex-113 (7-9)'!$B$20=\"\",\"\", 'Tex-113 (7-9)'!$B$20)","v":"Moisture-Density Work Sheet"},{"$f":"IF('Tex-113 (7-9)'!$B$47=\"\",\"\",'Tex-113 (7-9)'!$B$47)","v":"Percent Water on Total , (%):"},{"$f":"IF('Tex-113 (7-9)'!$H$29=\"\",\"\",'Tex-113 (7-9)'!$H$29)","v":4}]
[643,{"$f":"IF('Tex-113 (7-9)'!$E$48=\"\",\"\",'Tex-113 (7-9)'!$E$48)","v":""},{"$f":"IF('Tex-113 (7-9)'!$B$6=\"\",\"\",'Tex-113 (7-9)'!$B$6)","v":"Tex-113-E(7-9)"},{"$f":"IF( 'Tex-113 (7-9)'!$B$20=\"\",\"\", 'Tex-113 (7-9)'!$B$20)","v":"Moisture-Density Work Sheet"},{"$f":"IF('Tex-113 (7-9)'!$B$48=\"\",\"\",'Tex-113 (7-9)'!$B$48)","v":"Dry Density, (pcf):"},{"$f":"IF('Tex-113 (7-9)'!$E$29=\"\",\"\",'Tex-113 (7-9)'!$E$29)","v":1}]
[644,{"$f":"IF('Tex-113 (7-9)'!$F$48=\"\",\"\",'Tex-113 (7-9)'!$F$48)","v":""},{"$f":"IF('Tex-113 (7-9)'!$B$6=\"\",\"\",'Tex-113 (7-9)'!$B$6)","v":"Tex-113-E(7-9)"},{"$f":"IF( 'Tex-113 (7-9)'!$B$20=\"\",\"\", 'Tex-113 (7-9)'!$B$20)","v":"Moisture-Density Work Sheet"},{"$f":"IF('Tex-113 (7-9)'!$B$48=\"\",\"\",'Tex-113 (7-9)'!$B$48)","v":"Dry Density, (pcf):"},{"$f":"IF('Tex-113 (7-9)'!$F$29=\"\",\"\",'Tex-113 (7-9)'!$F$29)","v":2}]
[645,{"$f":"IF('Tex-113 (7-9)'!$G$48=\"\",\"\",'Tex-113 (7-9)'!$G$48)","v":""},{"$f":"IF('Tex-113 (7-9)'!$B$6=\"\",\"\",'Tex-113 (7-9)'!$B$6)","v":"Tex-113-E(7-9)"},{"$f":"IF( 'Tex-113 (7-9)'!$B$20=\"\",\"\", 'Tex-113 (7-9)'!$B$20)","v":"Moisture-Density Work Sheet"},{"$f":"IF('Tex-113 (7-9)'!$B$48=\"\",\"\",'Tex-113 (7-9)'!$B$48)","v":"Dry Density, (pcf):"},{"$f":"IF('Tex-113 (7-9)'!$G$29=\"\",\"\",'Tex-113 (7-9)'!$G$29)","v":3}]
[646,{"$f":"IF('Tex-113 (7-9)'!$H$48=\"\",\"\",'Tex-113 (7-9)'!$H$48)","v":""},{"$f":"IF('Tex-113 (7-9)'!$B$6=\"\",\"\",'Tex-113 (7-9)'!$B$6)","v":"Tex-113-E(7-9)"},{"$f":"IF( 'Tex-113 (7-9)'!$B$20=\"\",\"\", 'Tex-113 (7-9)'!$B$20)","v":"Moisture-Density Work Sheet"},{"$f":"IF('Tex-113 (7-9)'!$B$48=\"\",\"\",'Tex-113 (7-9)'!$B$48)","v":"Dry Density, (pcf):"},{"$f":"IF('Tex-113 (7-9)'!$H$29=\"\",\"\",'Tex-113 (7-9)'!$H$29)","v":4}]
[647,{"$f":"IF('Tex-113 (7-9)'!$E$49=\"\",\"\",'Tex-113 (7-9)'!$E$49)","v":""},{"$f":"IF('Tex-113 (7-9)'!$B$6=\"\",\"\",'Tex-113 (7-9)'!$B$6)","v":"Tex-113-E(7-9)"},{"$f":"IF( 'Tex-113 (7-9)'!$B$20=\"\",\"\", 'Tex-113 (7-9)'!$B$20)","v":"Moisture-Density Work Sheet"},{"$f":"IF('Tex-113 (7-9)'!$B$49=\"\",\"\",'Tex-113 (7-9)'!$B$49)","v":"Estimated Dry Density, (pcf):"},{"$f":"IF('Tex-113 (7-9)'!$E$29=\"\",\"\",'Tex-113 (7-9)'!$E$29)","v":1}]
[648,{"$f":"IF('Tex-113 (7-9)'!$F$49=\"\",\"\",'Tex-113 (7-9)'!$F$49)","v":""},{"$f":"IF('Tex-113 (7-9)'!$B$6=\"\",\"\",'Tex-113 (7-9)'!$B$6)","v":"Tex-113-E(7-9)"},{"$f":"IF( 'Tex-113 (7-9)'!$B$20=\"\",\"\", 'Tex-113 (7-9)'!$B$20)","v":"Moisture-Density Work Sheet"},{"$f":"IF('Tex-113 (7-9)'!$B$49=\"\",\"\",'Tex-113 (7-9)'!$B$49)","v":"Estimated Dry Density, (pcf):"},{"$f":"IF('Tex-113 (7-9)'!$F$29=\"\",\"\",'Tex-113 (7-9)'!$F$29)","v":2}]
[649,{"$f":"IF('Tex-113 (7-9)'!$G$49=\"\",\"\",'Tex-113 (7-9)'!$G$49)","v":""},{"$f":"IF('Tex-113 (7-9)'!$B$6=\"\",\"\",'Tex-113 (7-9)'!$B$6)","v":"Tex-113-E(7-9)"},{"$f":"IF( 'Tex-113 (7-9)'!$B$20=\"\",\"\", 'Tex-113 (7-9)'!$B$20)","v":"Moisture-Density Work Sheet"},{"$f":"IF('Tex-113 (7-9)'!$B$49=\"\",\"\",'Tex-113 (7-9)'!$B$49)","v":"Estimated Dry Density, (pcf):"},{"$f":"IF('Tex-113 (7-9)'!$G$29=\"\",\"\",'Tex-113 (7-9)'!$G$29)","v":3}]
[650,{"$f":"IF('Tex-113 (7-9)'!$H$49=\"\",\"\",'Tex-113 (7-9)'!$H$49)","v":""},{"$f":"IF('Tex-113 (7-9)'!$B$6=\"\",\"\",'Tex-113 (7-9)'!$B$6)","v":"Tex-113-E(7-9)"},{"$f":"IF( 'Tex-113 (7-9)'!$B$20=\"\",\"\", 'Tex-113 (7-9)'!$B$20)","v":"Moisture-Density Work Sheet"},{"$f":"IF('Tex-113 (7-9)'!$B$49=\"\",\"\",'Tex-113 (7-9)'!$B$49)","v":"Estimated Dry Density, (pcf):"},{"$f":"IF('Tex-113 (7-9)'!$H$29=\"\",\"\",'Tex-113 (7-9)'!$H$29)","v":4}]
[651,{"$f":"IF('Tex-113 (7-9)'!$E$50=\"\",\"\",'Tex-113 (7-9)'!$E$50)","v":""},{"$f":"IF('Tex-113 (7-9)'!$B$6=\"\",\"\",'Tex-113 (7-9)'!$B$6)","v":"Tex-113-E(7-9)"},{"$f":"IF( 'Tex-113 (7-9)'!$B$20=\"\",\"\", 'Tex-113 (7-9)'!$B$20)","v":"Moisture-Density Work Sheet"},{"$f":"IF('Tex-113 (7-9)'!$B$50=\"\",\"\",'Tex-113 (7-9)'!$B$50)","v":"Max Density, (pcf):"}]
[652,{"$f":"IF('Tex-113 (7-9)'!$E$51=\"\",\"\",'Tex-113 (7-9)'!$E$51)","v":""},{"$f":"IF('Tex-113 (7-9)'!$B$6=\"\",\"\",'Tex-113 (7-9)'!$B$6)","v":"Tex-113-E(7-9)"},{"$f":"IF( 'Tex-113 (7-9)'!$B$20=\"\",\"\", 'Tex-113 (7-9)'!$B$20)","v":"Moisture-Density Work Sheet"},{"$f":"IF('Tex-113 (7-9)'!$B$51=\"\",\"\",'Tex-113 (7-9)'!$B$51)","v":"Max Density, (kg/m3):"}]
[653,{"$f":"IF('Tex-113 (7-9)'!$E$52=\"\",\"\",'Tex-113 (7-9)'!$E$52)","v":""},{"$f":"IF('Tex-113 (7-9)'!$B$6=\"\",\"\",'Tex-113 (7-9)'!$B$6)","v":"Tex-113-E(7-9)"},{"$f":"IF( 'Tex-113 (7-9)'!$B$20=\"\",\"\", 'Tex-113 (7-9)'!$B$20)","v":"Moisture-Density Work Sheet"},{"$f":"IF('Tex-113 (7-9)'!$B$52=\"\",\"\",'Tex-113 (7-9)'!$B$52)","v":"Optimum Moisture, (%):"}]
[654,{"$f":"IF('Tex-113 (7-9)'!$B$55=\"\",\"\",'Tex-113 (7-9)'!$B$55)","v":""},{"$f":"IF('Tex-113 (7-9)'!$B$6=\"\",\"\",'Tex-113 (7-9)'!$B$6)","v":"Tex-113-E(7-9)"},{"$f":"IF( 'Tex-113 (7-9)'!$B$20=\"\",\"\", 'Tex-113 (7-9)'!$B$20)","v":"Moisture-Density Work Sheet"},{"$f":"IF('Tex-113 (7-9)'!$B$54=\"\",\"\",'Tex-113 (7-9)'!$B$54)","v":"Remarks:"}]
[655,{"$f":"IF('Tex-113 (10-12)'!$E$21=\"\",\"\",'Tex-113 (10-12)'!$E$21)","v":""},{"$f":"IF('Tex-113 (10-12)'!$B$6=\"\",\"\",'Tex-113 (10-12)'!$B$6)","v":"Tex-113-E(10-12)"},{"$f":"IF( 'Tex-113 (10-12)'!$B$20=\"\",\"\", 'Tex-113 (10-12)'!$B$20)","v":"Moisture-Density Work Sheet"},{"$f":"IF('Tex-113 (10-12)'!$B$21=\"\",\"\",'Tex-113 (10-12)'!$B$21)","v":"Percent Lime, (%)"}]
[656,{"$f":"IF('Tex-113 (10-12)'!$E$22=\"\",\"\",'Tex-113 (10-12)'!$E$22)","v":""},{"$f":"IF('Tex-113 (10-12)'!$B$6=\"\",\"\",'Tex-113 (10-12)'!$B$6)","v":"Tex-113-E(10-12)"},{"$f":"IF( 'Tex-113 (10-12)'!$B$20=\"\",\"\", 'Tex-113 (10-12)'!$B$20)","v":"Moisture-Density Work Sheet"},{"$f":"IF('Tex-113 (10-12)'!$B$22=\"\",\"\",'Tex-113 (10-12)'!$B$22)","v":"Oven Dry Weight, (g):"}]
[657,{"$f":"IF('Tex-113 (10-12)'!$E$23=\"\",\"\",'Tex-113 (10-12)'!$E$23)","v":""},{"$f":"IF('Tex-113 (10-12)'!$B$6=\"\",\"\",'Tex-113 (10-12)'!$B$6)","v":"Tex-113-E(10-12)"},{"$f":"IF( 'Tex-113 (10-12)'!$B$20=\"\",\"\", 'Tex-113 (10-12)'!$B$20)","v":"Moisture-Density Work Sheet"},{"$f":"IF('Tex-113 (10-12)'!$B$23=\"\",\"\",'Tex-113 (10-12)'!$B$23)","v":"Weight of Pycnometer & Water, (g):"}]
[658,{"$f":"IF('Tex-113 (10-12)'!$E$24=\"\",\"\",'Tex-113 (10-12)'!$E$24)","v":""},{"$f":"IF('Tex-113 (10-12)'!$B$6=\"\",\"\",'Tex-113 (10-12)'!$B$6)","v":"Tex-113-E(10-12)"},{"$f":"IF( 'Tex-113 (10-12)'!$B$20=\"\",\"\", 'Tex-113 (10-12)'!$B$20)","v":"Moisture-Density Work Sheet"},{"$f":"IF('Tex-113 (10-12)'!$B$24=\"\",\"\",'Tex-113 (10-12)'!$B$24)","v":"Weight of Aggr., Pycn.& Water, (g):"}]
[659,{"$f":"IF('Tex-113 (10-12)'!$E$25=\"\",\"\",'Tex-113 (10-12)'!$E$25)","v":""},{"$f":"IF('Tex-113 (10-12)'!$B$6=\"\",\"\",'Tex-113 (10-12)'!$B$6)","v":"Tex-113-E(10-12)"},{"$f":"IF( 'Tex-113 (10-12)'!$B$20=\"\",\"\", 'Tex-113 (10-12)'!$B$20)","v":"Moisture-Density Work Sheet"},{"$f":"IF('Tex-113 (10-12)'!$B$25=\"\",\"\",'Tex-113 (10-12)'!$B$25)","v":"Specific Gravity (Apparent):"}]
[660,{"$f":"IF('Tex-113 (10-12)'!$E$27=\"\",\"\",'Tex-113 (10-12)'!$E$27)","v":""},{"$f":"IF('Tex-113 (10-12)'!$B$6=\"\",\"\",'Tex-113 (10-12)'!$B$6)","v":"Tex-113-E(10-12)"},{"$f":"IF( 'Tex-113 (10-12)'!$B$20=\"\",\"\", 'Tex-113 (10-12)'!$B$20)","v":"Moisture-Density Work Sheet"},{"$f":"IF('Tex-113 (10-12)'!$B$27=\"\",\"\",'Tex-113 (10-12)'!$B$27)","v":"Hygroscopic Moisture, (%):"}]
[661,{"$f":"IF('Tex-113 (10-12)'!$E$30=\"\",\"\",'Tex-113 (10-12)'!$E$30)","v":""},{"$f":"IF('Tex-113 (10-12)'!$B$6=\"\",\"\",'Tex-113 (10-12)'!$B$6)","v":"Tex-113-E(10-12)"},{"$f":"IF( 'Tex-113 (10-12)'!$B$20=\"\",\"\", 'Tex-113 (10-12)'!$B$20)","v":"Moisture-Density Work Sheet"},{"$f":"IF('Tex-113 (10-12)'!$B$30=\"\",\"\",'Tex-113 (10-12)'!$B$30)","v":"Percent Water Content, (%):"},{"$f":"IF('Tex-113 (10-12)'!$E$29=\"\",\"\",'Tex-113 (10-12)'!$E$29)","v":1}]
[662,{"$f":"IF('Tex-113 (10-12)'!$F$30=\"\",\"\",'Tex-113 (10-12)'!$F$30)","v":""},{"$f":"IF('Tex-113 (10-12)'!$B$6=\"\",\"\",'Tex-113 (10-12)'!$B$6)","v":"Tex-113-E(10-12)"},{"$f":"IF( 'Tex-113 (10-12)'!$B$20=\"\",\"\", 'Tex-113 (10-12)'!$B$20)","v":"Moisture-Density Work Sheet"},{"$f":"IF('Tex-113 (10-12)'!$B$30=\"\",\"\",'Tex-113 (10-12)'!$B$30)","v":"Percent Water Content, (%):"},{"$f":"IF('Tex-113 (10-12)'!$F$29=\"\",\"\",'Tex-113 (10-12)'!$F$29)","v":2}]
[663,{"$f":"IF('Tex-113 (10-12)'!$G$30=\"\",\"\",'Tex-113 (10-12)'!$G$30)","v":""},{"$f":"IF('Tex-113 (10-12)'!$B$6=\"\",\"\",'Tex-113 (10-12)'!$B$6)","v":"Tex-113-E(10-12)"},{"$f":"IF( 'Tex-113 (10-12)'!$B$20=\"\",\"\", 'Tex-113 (10-12)'!$B$20)","v":"Moisture-Density Work Sheet"},{"$f":"IF('Tex-113 (10-12)'!$B$30=\"\",\"\",'Tex-113 (10-12)'!$B$30)","v":"Percent Water Content, (%):"},{"$f":"IF('Tex-113 (10-12)'!$G$29=\"\",\"\",'Tex-113 (10-12)'!$G$29)","v":3}]
[664,{"$f":"IF('Tex-113 (10-12)'!$H$30=\"\",\"\",'Tex-113 (10-12)'!$H$30)","v":""},{"$f":"IF('Tex-113 (10-12)'!$B$6=\"\",\"\",'Tex-113 (10-12)'!$B$6)","v":"Tex-113-E(10-12)"},{"$f":"IF( 'Tex-113 (10-12)'!$B$20=\"\",\"\", 'Tex-113 (10-12)'!$B$20)","v":"Moisture-Density Work Sheet"},{"$f":"IF('Tex-113 (10-12)'!$B$30=\"\",\"\",'Tex-113 (10-12)'!$B$30)","v":"Percent Water Content, (%):"},{"$f":"IF('Tex-113 (10-12)'!$H$29=\"\",\"\",'Tex-113 (10-12)'!$H$29)","v":4}]
[665,{"$f":"IF('Tex-113 (10-12)'!$E$32=\"\",\"\",'Tex-113 (10-12)'!$E$32)","v":""},{"$f":"IF('Tex-113 (10-12)'!$B$6=\"\",\"\",'Tex-113 (10-12)'!$B$6)","v":"Tex-113-E(10-12)"},{"$f":"IF( 'Tex-113 (10-12)'!$B$20=\"\",\"\", 'Tex-113 (10-12)'!$B$20)","v":"Moisture-Density Work Sheet"},{"$f":"IF('Tex-113 (10-12)'!$B$32=\"\",\"\",'Tex-113 (10-12)'!$B$32)","v":"Mass Material, (lb):"},{"$f":"IF('Tex-113 (10-12)'!$E$29=\"\",\"\",'Tex-113 (10-12)'!$E$29)","v":1}]
[666,{"$f":"IF('Tex-113 (10-12)'!$F$32=\"\",\"\",'Tex-113 (10-12)'!$F$32)","v":""},{"$f":"IF('Tex-113 (10-12)'!$B$6=\"\",\"\",'Tex-113 (10-12)'!$B$6)","v":"Tex-113-E(10-12)"},{"$f":"IF( 'Tex-113 (10-12)'!$B$20=\"\",\"\", 'Tex-113 (10-12)'!$B$20)","v":"Moisture-Density Work Sheet"},{"$f":"IF('Tex-113 (10-12)'!$B$32=\"\",\"\",'Tex-113 (10-12)'!$B$32)","v":"Mass Material, (lb):"},{"$f":"IF('Tex-113 (10-12)'!$F$29=\"\",\"\",'Tex-113 (10-12)'!$F$29)","v":2}]
[667,{"$f":"IF('Tex-113 (10-12)'!$G$32=\"\",\"\",'Tex-113 (10-12)'!$G$32)","v":""},{"$f":"IF('Tex-113 (10-12)'!$B$6=\"\",\"\",'Tex-113 (10-12)'!$B$6)","v":"Tex-113-E(10-12)"},{"$f":"IF( 'Tex-113 (10-12)'!$B$20=\"\",\"\", 'Tex-113 (10-12)'!$B$20)","v":"Moisture-Density Work Sheet"},{"$f":"IF('Tex-113 (10-12)'!$B$32=\"\",\"\",'Tex-113 (10-12)'!$B$32)","v":"Mass Material, (lb):"},{"$f":"IF('Tex-113 (10-12)'!$G$29=\"\",\"\",'Tex-113 (10-12)'!$G$29)","v":3}]
[668,{"$f":"IF('Tex-113 (10-12)'!$H$32=\"\",\"\",'Tex-113 (10-12)'!$H$32)","v":""},{"$f":"IF('Tex-113 (10-12)'!$B$6=\"\",\"\",'Tex-113 (10-12)'!$B$6)","v":"Tex-113-E(10-12)"},{"$f":"IF( 'Tex-113 (10-12)'!$B$20=\"\",\"\", 'Tex-113 (10-12)'!$B$20)","v":"Moisture-Density Work Sheet"},{"$f":"IF('Tex-113 (10-12)'!$B$32=\"\",\"\",'Tex-113 (10-12)'!$B$32)","v":"Mass Material, (lb):"},{"$f":"IF('Tex-113 (10-12)'!$H$29=\"\",\"\",'Tex-113 (10-12)'!$H$29)","v":4}]
[669,{"$f":"IF('Tex-113 (10-12)'!$E$33=\"\",\"\",'Tex-113 (10-12)'!$E$33)","v":""},{"$f":"IF('Tex-113 (10-12)'!$B$6=\"\",\"\",'Tex-113 (10-12)'!$B$6)","v":"Tex-113-E(10-12)"},{"$f":"IF( 'Tex-113 (10-12)'!$B$20=\"\",\"\", 'Tex-113 (10-12)'!$B$20)","v":"Moisture-Density Work Sheet"},{"$f":"IF('Tex-113 (10-12)'!$B$33=\"\",\"\",'Tex-113 (10-12)'!$B$33)","v":"Mass Water Added, (lb):"},{"$f":"IF('Tex-113 (10-12)'!$E$29=\"\",\"\",'Tex-113 (10-12)'!$E$29)","v":1}]
[670,{"$f":"IF('Tex-113 (10-12)'!$F$33=\"\",\"\",'Tex-113 (10-12)'!$F$33)","v":""},{"$f":"IF('Tex-113 (10-12)'!$B$6=\"\",\"\",'Tex-113 (10-12)'!$B$6)","v":"Tex-113-E(10-12)"},{"$f":"IF( 'Tex-113 (10-12)'!$B$20=\"\",\"\", 'Tex-113 (10-12)'!$B$20)","v":"Moisture-Density Work Sheet"},{"$f":"IF('Tex-113 (10-12)'!$B$33=\"\",\"\",'Tex-113 (10-12)'!$B$33)","v":"Mass Water Added, (lb):"},{"$f":"IF('Tex-113 (10-12)'!$F$29=\"\",\"\",'Tex-113 (10-12)'!$F$29)","v":2}]
[671,{"$f":"IF('Tex-113 (10-12)'!$G$33=\"\",\"\",'Tex-113 (10-12)'!$G$33)","v":""},{"$f":"IF('Tex-113 (10-12)'!$B$6=\"\",\"\",'Tex-113 (10-12)'!$B$6)","v":"Tex-113-E(10-12)"},{"$f":"IF( 'Tex-113 (10-12)'!$B$20=\"\",\"\", 'Tex-113 (10-12)'!$B$20)","v":"Moisture-Density Work Sheet"},{"$f":"IF('Tex-113 (10-12)'!$B$33=\"\",\"\",'Tex-113 (10-12)'!$B$33)","v":"Mass Water Added, (lb):"},{"$f":"IF('Tex-113 (10-12)'!$G$29=\"\",\"\",'Tex-113 (10-12)'!$G$29)","v":3}]
[672,{"$f":"IF('Tex-113 (10-12)'!$H$33=\"\",\"\",'Tex-113 (10-12)'!$H$33)","v":""},{"$f":"IF('Tex-113 (10-12)'!$B$6=\"\",\"\",'Tex-113 (10-12)'!$B$6)","v":"Tex-113-E(10-12)"},{"$f":"IF( 'Tex-113 (10-12)'!$B$20=\"\",\"\", 'Tex-113 (10-12)'!$B$20)","v":"Moisture-Density Work Sheet"},{"$f":"IF('Tex-113 (10-12)'!$B$33=\"\",\"\",'Tex-113 (10-12)'!$B$33)","v":"Mass Water Added, (lb):"},{"$f":"IF('Tex-113 (10-12)'!$H$29=\"\",\"\",'Tex-113 (10-12)'!$H$29)","v":4}]
[673,{"$f":"IF('Tex-113 (10-12)'!$E$35=\"\",\"\",'Tex-113 (10-12)'!$E$35)","v":""},{"$f":"IF('Tex-113 (10-12)'!$B$6=\"\",\"\",'Tex-113 (10-12)'!$B$6)","v":"Tex-113-E(10-12)"},{"$f":"IF( 'Tex-113 (10-12)'!$B$20=\"\",\"\", 'Tex-113 (10-12)'!$B$20)","v":"Moisture-Density Work Sheet"},{"$f":"IF('Tex-113 (10-12)'!$B$35=\"\",\"\",'Tex-113 (10-12)'!$B$35)","v":"Wet Mass Specimen & Mold, (lb):"},{"$f":"IF('Tex-113 (10-12)'!$E$29=\"\",\"\",'Tex-113 (10-12)'!$E$29)","v":1}]
[674,{"$f":"IF('Tex-113 (10-12)'!$F$35=\"\",\"\",'Tex-113 (10-12)'!$F$35)","v":""},{"$f":"IF('Tex-113 (10-12)'!$B$6=\"\",\"\",'Tex-113 (10-12)'!$B$6)","v":"Tex-113-E(10-12)"},{"$f":"IF( 'Tex-113 (10-12)'!$B$20=\"\",\"\", 'Tex-113 (10-12)'!$B$20)","v":"Moisture-Density Work Sheet"},{"$f":"IF('Tex-113 (10-12)'!$B$35=\"\",\"\",'Tex-113 (10-12)'!$B$35)","v":"Wet Mass Specimen & Mold, (lb):"},{"$f":"IF('Tex-113 (10-12)'!$F$29=\"\",\"\",'Tex-113 (10-12)'!$F$29)","v":2}]
[675,{"$f":"IF('Tex-113 (10-12)'!$G$35=\"\",\"\",'Tex-113 (10-12)'!$G$35)","v":""},{"$f":"IF('Tex-113 (10-12)'!$B$6=\"\",\"\",'Tex-113 (10-12)'!$B$6)","v":"Tex-113-E(10-12)"},{"$f":"IF( 'Tex-113 (10-12)'!$B$20=\"\",\"\", 'Tex-113 (10-12)'!$B$20)","v":"Moisture-Density Work Sheet"},{"$f":"IF('Tex-113 (10-12)'!$B$35=\"\",\"\",'Tex-113 (10-12)'!$B$35)","v":"Wet Mass Specimen & Mold, (lb):"},{"$f":"IF('Tex-113 (10-12)'!$G$29=\"\",\"\",'Tex-113 (10-12)'!$G$29)","v":3}]
[676,{"$f":"IF('Tex-113 (10-12)'!$H$35=\"\",\"\",'Tex-113 (10-12)'!$H$35)","v":""},{"$f":"IF('Tex-113 (10-12)'!$B$6=\"\",\"\",'Tex-113 (10-12)'!$B$6)","v":"Tex-113-E(10-12)"},{"$f":"IF( 'Tex-113 (10-12)'!$B$20=\"\",\"\", 'Tex-113 (10-12)'!$B$20)","v":"Moisture-Density Work Sheet"},{"$f":"IF('Tex-113 (10-12)'!$B$35=\"\",\"\",'Tex-113 (10-12)'!$B$35)","v":"Wet Mass Specimen & Mold, (lb):"},{"$f":"IF('Tex-113 (10-12)'!$H$29=\"\",\"\",'Tex-113 (10-12)'!$H$29)","v":4}]
[677,{"$f":"IF('Tex-113 (10-12)'!$E$36=\"\",\"\",'Tex-113 (10-12)'!$E$36)","v":""},{"$f":"IF('Tex-113 (10-12)'!$B$6=\"\",\"\",'Tex-113 (10-12)'!$B$6)","v":"Tex-113-E(10-12)"},{"$f":"IF( 'Tex-113 (10-12)'!$B$20=\"\",\"\", 'Tex-113 (10-12)'!$B$20)","v":"Moisture-Density Work Sheet"},{"$f":"IF('Tex-113 (10-12)'!$B$36=\"\",\"\",'Tex-113 (10-12)'!$B$36)","v":"Tare Mass Mold, (lb):"},{"$f":"IF('Tex-113 (10-12)'!$E$29=\"\",\"\",'Tex-113 (10-12)'!$E$29)","v":1}]
[678,{"$f":"IF('Tex-113 (10-12)'!$F$36=\"\",\"\",'Tex-113 (10-12)'!$F$36)","v":""},{"$f":"IF('Tex-113 (10-12)'!$B$6=\"\",\"\",'Tex-113 (10-12)'!$B$6)","v":"Tex-113-E(10-12)"},{"$f":"IF( 'Tex-113 (10-12)'!$B$20=\"\",\"\", 'Tex-113 (10-12)'!$B$20)","v":"Moisture-Density Work Sheet"},{"$f":"IF('Tex-113 (10-12)'!$B$36=\"\",\"\",'Tex-113 (10-12)'!$B$36)","v":"Tare Mass Mold, (lb):"},{"$f":"IF('Tex-113 (10-12)'!$F$29=\"\",\"\",'Tex-113 (10-12)'!$F$29)","v":2}]
[679,{"$f":"IF('Tex-113 (10-12)'!$G$36=\"\",\"\",'Tex-113 (10-12)'!$G$36)","v":""},{"$f":"IF('Tex-113 (10-12)'!$B$6=\"\",\"\",'Tex-113 (10-12)'!$B$6)","v":"Tex-113-E(10-12)"},{"$f":"IF( 'Tex-113 (10-12)'!$B$20=\"\",\"\", 'Tex-113 (10-12)'!$B$20)","v":"Moisture-Density Work Sheet"},{"$f":"IF('Tex-113 (10-12)'!$B$36=\"\",\"\",'Tex-113 (10-12)'!$B$36)","v":"Tare Mass Mold, (lb):"},{"$f":"IF('Tex-113 (10-12)'!$G$29=\"\",\"\",'Tex-113 (10-12)'!$G$29)","v":3}]
[680,{"$f":"IF('Tex-113 (10-12)'!$H$36=\"\",\"\",'Tex-113 (10-12)'!$H$36)","v":""},{"$f":"IF('Tex-113 (10-12)'!$B$6=\"\",\"\",'Tex-113 (10-12)'!$B$6)","v":"Tex-113-E(10-12)"},{"$f":"IF( 'Tex-113 (10-12)'!$B$20=\"\",\"\", 'Tex-113 (10-12)'!$B$20)","v":"Moisture-Density Work Sheet"},{"$f":"IF('Tex-113 (10-12)'!$B$36=\"\",\"\",'Tex-113 (10-12)'!$B$36)","v":"Tare Mass Mold, (lb):"},{"$f":"IF('Tex-113 (10-12)'!$H$29=\"\",\"\",'Tex-113 (10-12)'!$H$29)","v":4}]
[681,{"$f":"IF('Tex-113 (10-12)'!$E$37=\"\",\"\",'Tex-113 (10-12)'!$E$37)","v":""},{"$f":"IF('Tex-113 (10-12)'!$B$6=\"\",\"\",'Tex-113 (10-12)'!$B$6)","v":"Tex-113-E(10-12)"},{"$f":"IF( 'Tex-113 (10-12)'!$B$20=\"\",\"\", 'Tex-113 (10-12)'!$B$20)","v":"Moisture-Density Work Sheet"},{"$f":"IF('Tex-113 (10-12)'!$B$37=\"\",\"\",'Tex-113 (10-12)'!$B$37)","v":"Wet Mass Specimen, (lb):"},{"$f":"IF('Tex-113 (10-12)'!$E$29=\"\",\"\",'Tex-113 (10-12)'!$E$29)","v":1}]
[682,{"$f":"IF('Tex-113 (10-12)'!$F$37=\"\",\"\",'Tex-113 (10-12)'!$F$37)","v":""},{"$f":"IF('Tex-113 (10-12)'!$B$6=\"\",\"\",'Tex-113 (10-12)'!$B$6)","v":"Tex-113-E(10-12)"},{"$f":"IF( 'Tex-113 (10-12)'!$B$20=\"\",\"\", 'Tex-113 (10-12)'!$B$20)","v":"Moisture-Density Work Sheet"},{"$f":"IF('Tex-113 (10-12)'!$B$37=\"\",\"\",'Tex-113 (10-12)'!$B$37)","v":"Wet Mass Specimen, (lb):"},{"$f":"IF('Tex-113 (10-12)'!$F$29=\"\",\"\",'Tex-113 (10-12)'!$F$29)","v":2}]
[683,{"$f":"IF('Tex-113 (10-12)'!$G$37=\"\",\"\",'Tex-113 (10-12)'!$G$37)","v":""},{"$f":"IF('Tex-113 (10-12)'!$B$6=\"\",\"\",'Tex-113 (10-12)'!$B$6)","v":"Tex-113-E(10-12)"},{"$f":"IF( 'Tex-113 (10-12)'!$B$20=\"\",\"\", 'Tex-113 (10-12)'!$B$20)","v":"Moisture-Density Work Sheet"},{"$f":"IF('Tex-113 (10-12)'!$B$37=\"\",\"\",'Tex-113 (10-12)'!$B$37)","v":"Wet Mass Specimen, (lb):"},{"$f":"IF('Tex-113 (10-12)'!$G$29=\"\",\"\",'Tex-113 (10-12)'!$G$29)","v":3}]
[684,{"$f":"IF('Tex-113 (10-12)'!$H$37=\"\",\"\",'Tex-113 (10-12)'!$H$37)","v":""},{"$f":"IF('Tex-113 (10-12)'!$B$6=\"\",\"\",'Tex-113 (10-12)'!$B$6)","v":"Tex-113-E(10-12)"},{"$f":"IF( 'Tex-113 (10-12)'!$B$20=\"\",\"\", 'Tex-113 (10-12)'!$B$20)","v":"Moisture-Density Work Sheet"},{"$f":"IF('Tex-113 (10-12)'!$B$37=\"\",\"\",'Tex-113 (10-12)'!$B$37)","v":"Wet Mass Specimen, (lb):"},{"$f":"IF('Tex-113 (10-12)'!$H$29=\"\",\"\",'Tex-113 (10-12)'!$H$29)","v":4}]
[685,{"$f":"IF('Tex-113 (10-12)'!$E$38=\"\",\"\",'Tex-113 (10-12)'!$E$38)","v":""},{"$f":"IF('Tex-113 (10-12)'!$B$6=\"\",\"\",'Tex-113 (10-12)'!$B$6)","v":"Tex-113-E(10-12)"},{"$f":"IF( 'Tex-113 (10-12)'!$B$20=\"\",\"\", 'Tex-113 (10-12)'!$B$20)","v":"Moisture-Density Work Sheet"},{"$f":"IF('Tex-113 (10-12)'!$B$38=\"\",\"\",'Tex-113 (10-12)'!$B$38)","v":"Height of Specimen, (in.):"},{"$f":"IF('Tex-113 (10-12)'!$E$29=\"\",\"\",'Tex-113 (10-12)'!$E$29)","v":1}]
[686,{"$f":"IF('Tex-113 (10-12)'!$F$38=\"\",\"\",'Tex-113 (10-12)'!$F$38)","v":""},{"$f":"IF('Tex-113 (10-12)'!$B$6=\"\",\"\",'Tex-113 (10-12)'!$B$6)","v":"Tex-113-E(10-12)"},{"$f":"IF( 'Tex-113 (10-12)'!$B$20=\"\",\"\", 'Tex-113 (10-12)'!$B$20)","v":"Moisture-Density Work Sheet"},{"$f":"IF('Tex-113 (10-12)'!$B$38=\"\",\"\",'Tex-113 (10-12)'!$B$38)","v":"Height of Specimen, (in.):"},{"$f":"IF('Tex-113 (10-12)'!$F$29=\"\",\"\",'Tex-113 (10-12)'!$F$29)","v":2}]
[687,{"$f":"IF('Tex-113 (10-12)'!$G$38=\"\",\"\",'Tex-113 (10-12)'!$G$38)","v":""},{"$f":"IF('Tex-113 (10-12)'!$B$6=\"\",\"\",'Tex-113 (10-12)'!$B$6)","v":"Tex-113-E(10-12)"},{"$f":"IF( 'Tex-113 (10-12)'!$B$20=\"\",\"\", 'Tex-113 (10-12)'!$B$20)","v":"Moisture-Density Work Sheet"},{"$f":"IF('Tex-113 (10-12)'!$B$38=\"\",\"\",'Tex-113 (10-12)'!$B$38)","v":"Height of Specimen, (in.):"},{"$f":"IF('Tex-113 (10-12)'!$G$29=\"\",\"\",'Tex-113 (10-12)'!$G$29)","v":3}]
[688,{"$f":"IF('Tex-113 (10-12)'!$H$38=\"\",\"\",'Tex-113 (10-12)'!$H$38)","v":""},{"$f":"IF('Tex-113 (10-12)'!$B$6=\"\",\"\",'Tex-113 (10-12)'!$B$6)","v":"Tex-113-E(10-12)"},{"$f":"IF( 'Tex-113 (10-12)'!$B$20=\"\",\"\", 'Tex-113 (10-12)'!$B$20)","v":"Moisture-Density Work Sheet"},{"$f":"IF('Tex-113 (10-12)'!$B$38=\"\",\"\",'Tex-113 (10-12)'!$B$38)","v":"Height of Specimen, (in.):"},{"$f":"IF('Tex-113 (10-12)'!$H$29=\"\",\"\",'Tex-113 (10-12)'!$H$29)","v":4}]
[689,{"$f":"IF('Tex-113 (10-12)'!$E$39=\"\",\"\",'Tex-113 (10-12)'!$E$39)","v":""},{"$f":"IF('Tex-113 (10-12)'!$B$6=\"\",\"\",'Tex-113 (10-12)'!$B$6)","v":"Tex-113-E(10-12)"},{"$f":"IF( 'Tex-113 (10-12)'!$B$20=\"\",\"\", 'Tex-113 (10-12)'!$B$20)","v":"Moisture-Density Work Sheet"},{"$f":"IF('Tex-113 (10-12)'!$B$39=\"\",\"\",'Tex-113 (10-12)'!$B$39)","v":"Volume per Linear mm., (in.):"},{"$f":"IF('Tex-113 (10-12)'!$E$29=\"\",\"\",'Tex-113 (10-12)'!$E$29)","v":1}]
[690,{"$f":"IF('Tex-113 (10-12)'!$F$39=\"\",\"\",'Tex-113 (10-12)'!$F$39)","v":""},{"$f":"IF('Tex-113 (10-12)'!$B$6=\"\",\"\",'Tex-113 (10-12)'!$B$6)","v":"Tex-113-E(10-12)"},{"$f":"IF( 'Tex-113 (10-12)'!$B$20=\"\",\"\", 'Tex-113 (10-12)'!$B$20)","v":"Moisture-Density Work Sheet"},{"$f":"IF('Tex-113 (10-12)'!$B$39=\"\",\"\",'Tex-113 (10-12)'!$B$39)","v":"Volume per Linear mm., (in.):"},{"$f":"IF('Tex-113 (10-12)'!$F$29=\"\",\"\",'Tex-113 (10-12)'!$F$29)","v":2}]
[691,{"$f":"IF('Tex-113 (10-12)'!$G$39=\"\",\"\",'Tex-113 (10-12)'!$G$39)","v":""},{"$f":"IF('Tex-113 (10-12)'!$B$6=\"\",\"\",'Tex-113 (10-12)'!$B$6)","v":"Tex-113-E(10-12)"},{"$f":"IF( 'Tex-113 (10-12)'!$B$20=\"\",\"\", 'Tex-113 (10-12)'!$B$20)","v":"Moisture-Density Work Sheet"},{"$f":"IF('Tex-113 (10-12)'!$B$39=\"\",\"\",'Tex-113 (10-12)'!$B$39)","v":"Volume per Linear mm., (in.):"},{"$f":"IF('Tex-113 (10-12)'!$G$29=\"\",\"\",'Tex-113 (10-12)'!$G$29)","v":3}]
[692,{"$f":"IF('Tex-113 (10-12)'!$H$39=\"\",\"\",'Tex-113 (10-12)'!$H$39)","v":""},{"$f":"IF('Tex-113 (10-12)'!$B$6=\"\",\"\",'Tex-113 (10-12)'!$B$6)","v":"Tex-113-E(10-12)"},{"$f":"IF( 'Tex-113 (10-12)'!$B$20=\"\",\"\", 'Tex-113 (10-12)'!$B$20)","v":"Moisture-Density Work Sheet"},{"$f":"IF('Tex-113 (10-12)'!$B$39=\"\",\"\",'Tex-113 (10-12)'!$B$39)","v":"Volume per Linear mm., (in.):"},{"$f":"IF('Tex-113 (10-12)'!$H$29=\"\",\"\",'Tex-113 (10-12)'!$H$29)","v":4}]
[693,{"$f":"IF('Tex-113 (10-12)'!$E$40=\"\",\"\",'Tex-113 (10-12)'!$E$40)","v":""},{"$f":"IF('Tex-113 (10-12)'!$B$6=\"\",\"\",'Tex-113 (10-12)'!$B$6)","v":"Tex-113-E(10-12)"},{"$f":"IF( 'Tex-113 (10-12)'!$B$20=\"\",\"\", 'Tex-113 (10-12)'!$B$20)","v":"Moisture-Density Work Sheet"},{"$f":"IF('Tex-113 (10-12)'!$B$40=\"\",\"\",'Tex-113 (10-12)'!$B$40)","v":"Volume of Specimen, (ft^3):"},{"$f":"IF('Tex-113 (10-12)'!$E$29=\"\",\"\",'Tex-113 (10-12)'!$E$29)","v":1}]
[694,{"$f":"IF('Tex-113 (10-12)'!$F$40=\"\",\"\",'Tex-113 (10-12)'!$F$40)","v":""},{"$f":"IF('Tex-113 (10-12)'!$B$6=\"\",\"\",'Tex-113 (10-12)'!$B$6)","v":"Tex-113-E(10-12)"},{"$f":"IF( 'Tex-113 (10-12)'!$B$20=\"\",\"\", 'Tex-113 (10-12)'!$B$20)","v":"Moisture-Density Work Sheet"},{"$f":"IF('Tex-113 (10-12)'!$B$40=\"\",\"\",'Tex-113 (10-12)'!$B$40)","v":"Volume of Specimen, (ft^3):"},{"$f":"IF('Tex-113 (10-12)'!$F$29=\"\",\"\",'Tex-113 (10-12)'!$F$29)","v":2}]
[695,{"$f":"IF('Tex-113 (10-12)'!$G$40=\"\",\"\",'Tex-113 (10-12)'!$G$40)","v":""},{"$f":"IF('Tex-113 (10-12)'!$B$6=\"\",\"\",'Tex-113 (10-12)'!$B$6)","v":"Tex-113-E(10-12)"},{"$f":"IF( 'Tex-113 (10-12)'!$B$20=\"\",\"\", 'Tex-113 (10-12)'!$B$20)","v":"Moisture-Density Work Sheet"},{"$f":"IF('Tex-113 (10-12)'!$B$40=\"\",\"\",'Tex-113 (10-12)'!$B$40)","v":"Volume of Specimen, (ft^3):"},{"$f":"IF('Tex-113 (10-12)'!$G$29=\"\",\"\",'Tex-113 (10-12)'!$G$29)","v":3}]
[696,{"$f":"IF('Tex-113 (10-12)'!$H$40=\"\",\"\",'Tex-113 (10-12)'!$H$40)","v":""},{"$f":"IF('Tex-113 (10-12)'!$B$6=\"\",\"\",'Tex-113 (10-12)'!$B$6)","v":"Tex-113-E(10-12)"},{"$f":"IF( 'Tex-113 (10-12)'!$B$20=\"\",\"\", 'Tex-113 (10-12)'!$B$20)","v":"Moisture-Density Work Sheet"},{"$f":"IF('Tex-113 (10-12)'!$B$40=\"\",\"\",'Tex-113 (10-12)'!$B$40)","v":"Volume of Specimen, (ft^3):"},{"$f":"IF('Tex-113 (10-12)'!$H$29=\"\",\"\",'Tex-113 (10-12)'!$H$29)","v":4}]
[697,{"$f":"IF('Tex-113 (10-12)'!$E$41=\"\",\"\",'Tex-113 (10-12)'!$E$41)","v":""},{"$f":"IF('Tex-113 (10-12)'!$B$6=\"\",\"\",'Tex-113 (10-12)'!$B$6)","v":"Tex-113-E(10-12)"},{"$f":"IF( 'Tex-113 (10-12)'!$B$20=\"\",\"\", 'Tex-113 (10-12)'!$B$20)","v":"Moisture-Density Work Sheet"},{"$f":"IF('Tex-113 (10-12)'!$B$41=\"\",\"\",'Tex-113 (10-12)'!$B$41)","v":"Wet Density of Specimen, (lb):"},{"$f":"IF('Tex-113 (10-12)'!$E$29=\"\",\"\",'Tex-113 (10-12)'!$E$29)","v":1}]
[698,{"$f":"IF('Tex-113 (10-12)'!$F$41=\"\",\"\",'Tex-113 (10-12)'!$F$41)","v":""},{"$f":"IF('Tex-113 (10-12)'!$B$6=\"\",\"\",'Tex-113 (10-12)'!$B$6)","v":"Tex-113-E(10-12)"},{"$f":"IF( 'Tex-113 (10-12)'!$B$20=\"\",\"\", 'Tex-113 (10-12)'!$B$20)","v":"Moisture-Density Work Sheet"},{"$f":"IF('Tex-113 (10-12)'!$B$41=\"\",\"\",'Tex-113 (10-12)'!$B$41)","v":"Wet Density of Specimen, (lb):"},{"$f":"IF('Tex-113 (10-12)'!$F$29=\"\",\"\",'Tex-113 (10-12)'!$F$29)","v":2}]
[699,{"$f":"IF('Tex-113 (10-12)'!$G$41=\"\",\"\",'Tex-113 (10-12)'!$G$41)","v":""},{"$f":"IF('Tex-113 (10-12)'!$B$6=\"\",\"\",'Tex-113 (10-12)'!$B$6)","v":"Tex-113-E(10-12)"},{"$f":"IF( 'Tex-113 (10-12)'!$B$20=\"\",\"\", 'Tex-113 (10-12)'!$B$20)","v":"Moisture-Density Work Sheet"},{"$f":"IF('Tex-113 (10-12)'!$B$41=\"\",\"\",'Tex-113 (10-12)'!$B$41)","v":"Wet Density of Specimen, (lb):"},{"$f":"IF('Tex-113 (10-12)'!$G$29=\"\",\"\",'Tex-113 (10-12)'!$G$29)","v":3}]
[700,{"$f":"IF('Tex-113 (10-12)'!$H$41=\"\",\"\",'Tex-113 (10-12)'!$H$41)","v":""},{"$f":"IF('Tex-113 (10-12)'!$B$6=\"\",\"\",'Tex-113 (10-12)'!$B$6)","v":"Tex-113-E(10-12)"},{"$f":"IF( 'Tex-113 (10-12)'!$B$20=\"\",\"\", 'Tex-113 (10-12)'!$B$20)","v":"Moisture-Density Work Sheet"},{"$f":"IF('Tex-113 (10-12)'!$B$41=\"\",\"\",'Tex-113 (10-12)'!$B$41)","v":"Wet Density of Specimen, (lb):"},{"$f":"IF('Tex-113 (10-12)'!$H$29=\"\",\"\",'Tex-113 (10-12)'!$H$29)","v":4}]
[701,{"$f":"IF('Tex-113 (10-12)'!$E$42=\"\",\"\",'Tex-113 (10-12)'!$E$42)","v":""},{"$f":"IF('Tex-113 (10-12)'!$B$6=\"\",\"\",'Tex-113 (10-12)'!$B$6)","v":"Tex-113-E(10-12)"},{"$f":"IF( 'Tex-113 (10-12)'!$B$20=\"\",\"\", 'Tex-113 (10-12)'!$B$20)","v":"Moisture-Density Work Sheet"},{"$f":"IF('Tex-113 (10-12)'!$B$42=\"\",\"\",'Tex-113 (10-12)'!$B$42)","v":"Wet Mass of Pan & Specimen, (lb):"},{"$f":"IF('Tex-113 (10-12)'!$E$29=\"\",\"\",'Tex-113 (10-12)'!$E$29)","v":1}]
[702,{"$f":"IF('Tex-113 (10-12)'!$F$42=\"\",\"\",'Tex-113 (10-12)'!$F$42)","v":""},{"$f":"IF('Tex-113 (10-12)'!$B$6=\"\",\"\",'Tex-113 (10-12)'!$B$6)","v":"Tex-113-E(10-12)"},{"$f":"IF( 'Tex-113 (10-12)'!$B$20=\"\",\"\", 'Tex-113 (10-12)'!$B$20)","v":"Moisture-Density Work Sheet"},{"$f":"IF('Tex-113 (10-12)'!$B$42=\"\",\"\",'Tex-113 (10-12)'!$B$42)","v":"Wet Mass of Pan & Specimen, (lb):"},{"$f":"IF('Tex-113 (10-12)'!$F$29=\"\",\"\",'Tex-113 (10-12)'!$F$29)","v":2}]
[703,{"$f":"IF('Tex-113 (10-12)'!$G$42=\"\",\"\",'Tex-113 (10-12)'!$G$42)","v":""},{"$f":"IF('Tex-113 (10-12)'!$B$6=\"\",\"\",'Tex-113 (10-12)'!$B$6)","v":"Tex-113-E(10-12)"},{"$f":"IF( 'Tex-113 (10-12)'!$B$20=\"\",\"\", 'Tex-113 (10-12)'!$B$20)","v":"Moisture-Density Work Sheet"},{"$f":"IF('Tex-113 (10-12)'!$B$42=\"\",\"\",'Tex-113 (10-12)'!$B$42)","v":"Wet Mass of Pan & Specimen, (lb):"},{"$f":"IF('Tex-113 (10-12)'!$G$29=\"\",\"\",'Tex-113 (10-12)'!$G$29)","v":3}]
[704,{"$f":"IF('Tex-113 (10-12)'!$H$42=\"\",\"\",'Tex-113 (10-12)'!$H$42)","v":""},{"$f":"IF('Tex-113 (10-12)'!$B$6=\"\",\"\",'Tex-113 (10-12)'!$B$6)","v":"Tex-113-E(10-12)"},{"$f":"IF( 'Tex-113 (10-12)'!$B$20=\"\",\"\", 'Tex-113 (10-12)'!$B$20)","v":"Moisture-Density Work Sheet"},{"$f":"IF('Tex-113 (10-12)'!$B$42=\"\",\"\",'Tex-113 (10-12)'!$B$42)","v":"Wet Mass of Pan & Specimen, (lb):"},{"$f":"IF('Tex-113 (10-12)'!$H$29=\"\",\"\",'Tex-113 (10-12)'!$H$29)","v":4}]
[705,{"$f":"IF('Tex-113 (10-12)'!$E$43=\"\",\"\",'Tex-113 (10-12)'!$E$43)","v":""},{"$f":"IF('Tex-113 (10-12)'!$B$6=\"\",\"\",'Tex-113 (10-12)'!$B$6)","v":"Tex-113-E(10-12)"},{"$f":"IF( 'Tex-113 (10-12)'!$B$20=\"\",\"\", 'Tex-113 (10-12)'!$B$20)","v":"Moisture-Density Work Sheet"},{"$f":"IF('Tex-113 (10-12)'!$B$43=\"\",\"\",'Tex-113 (10-12)'!$B$43)","v":"Dry Mass Pan & Specimen, (lb):"},{"$f":"IF('Tex-113 (10-12)'!$E$29=\"\",\"\",'Tex-113 (10-12)'!$E$29)","v":1}]
[706,{"$f":"IF('Tex-113 (10-12)'!$F$43=\"\",\"\",'Tex-113 (10-12)'!$F$43)","v":""},{"$f":"IF('Tex-113 (10-12)'!$B$6=\"\",\"\",'Tex-113 (10-12)'!$B$6)","v":"Tex-113-E(10-12)"},{"$f":"IF( 'Tex-113 (10-12)'!$B$20=\"\",\"\", 'Tex-113 (10-12)'!$B$20)","v":"Moisture-Density Work Sheet"},{"$f":"IF('Tex-113 (10-12)'!$B$43=\"\",\"\",'Tex-113 (10-12)'!$B$43)","v":"Dry Mass Pan & Specimen, (lb):"},{"$f":"IF('Tex-113 (10-12)'!$F$29=\"\",\"\",'Tex-113 (10-12)'!$F$29)","v":2}]
[707,{"$f":"IF('Tex-113 (10-12)'!$G$43=\"\",\"\",'Tex-113 (10-12)'!$G$43)","v":""},{"$f":"IF('Tex-113 (10-12)'!$B$6=\"\",\"\",'Tex-113 (10-12)'!$B$6)","v":"Tex-113-E(10-12)"},{"$f":"IF( 'Tex-113 (10-12)'!$B$20=\"\",\"\", 'Tex-113 (10-12)'!$B$20)","v":"Moisture-Density Work Sheet"},{"$f":"IF('Tex-113 (10-12)'!$B$43=\"\",\"\",'Tex-113 (10-12)'!$B$43)","v":"Dry Mass Pan & Specimen, (lb):"},{"$f":"IF('Tex-113 (10-12)'!$G$29=\"\",\"\",'Tex-113 (10-12)'!$G$29)","v":3}]
[708,{"$f":"IF('Tex-113 (10-12)'!$H$43=\"\",\"\",'Tex-113 (10-12)'!$H$43)","v":""},{"$f":"IF('Tex-113 (10-12)'!$B$6=\"\",\"\",'Tex-113 (10-12)'!$B$6)","v":"Tex-113-E(10-12)"},{"$f":"IF( 'Tex-113 (10-12)'!$B$20=\"\",\"\", 'Tex-113 (10-12)'!$B$20)","v":"Moisture-Density Work Sheet"},{"$f":"IF('Tex-113 (10-12)'!$B$43=\"\",\"\",'Tex-113 (10-12)'!$B$43)","v":"Dry Mass Pan & Specimen, (lb):"},{"$f":"IF('Tex-113 (10-12)'!$H$29=\"\",\"\",'Tex-113 (10-12)'!$H$29)","v":4}]
[709,{"$f":"IF('Tex-113 (10-12)'!$E$44=\"\",\"\",'Tex-113 (10-12)'!$E$44)","v":""},{"$f":"IF('Tex-113 (10-12)'!$B$6=\"\",\"\",'Tex-113 (10-12)'!$B$6)","v":"Tex-113-E(10-12)"},{"$f":"IF( 'Tex-113 (10-12)'!$B$20=\"\",\"\", 'Tex-113 (10-12)'!$B$20)","v":"Moisture-Density Work Sheet"},{"$f":"IF('Tex-113 (10-12)'!$B$44=\"\",\"\",'Tex-113 (10-12)'!$B$44)","v":"Tare Mass Pan, (lb):"},{"$f":"IF('Tex-113 (10-12)'!$E$29=\"\",\"\",'Tex-113 (10-12)'!$E$29)","v":1}]
[710,{"$f":"IF('Tex-113 (10-12)'!$F$44=\"\",\"\",'Tex-113 (10-12)'!$F$44)","v":""},{"$f":"IF('Tex-113 (10-12)'!$B$6=\"\",\"\",'Tex-113 (10-12)'!$B$6)","v":"Tex-113-E(10-12)"},{"$f":"IF( 'Tex-113 (10-12)'!$B$20=\"\",\"\", 'Tex-113 (10-12)'!$B$20)","v":"Moisture-Density Work Sheet"},{"$f":"IF('Tex-113 (10-12)'!$B$44=\"\",\"\",'Tex-113 (10-12)'!$B$44)","v":"Tare Mass Pan, (lb):"},{"$f":"IF('Tex-113 (10-12)'!$F$29=\"\",\"\",'Tex-113 (10-12)'!$F$29)","v":2}]
[711,{"$f":"IF('Tex-113 (10-12)'!$G$44=\"\",\"\",'Tex-113 (10-12)'!$G$44)","v":""},{"$f":"IF('Tex-113 (10-12)'!$B$6=\"\",\"\",'Tex-113 (10-12)'!$B$6)","v":"Tex-113-E(10-12)"},{"$f":"IF( 'Tex-113 (10-12)'!$B$20=\"\",\"\", 'Tex-113 (10-12)'!$B$20)","v":"Moisture-Density Work Sheet"},{"$f":"IF('Tex-113 (10-12)'!$B$44=\"\",\"\",'Tex-113 (10-12)'!$B$44)","v":"Tare Mass Pan, (lb):"},{"$f":"IF('Tex-113 (10-12)'!$G$29=\"\",\"\",'Tex-113 (10-12)'!$G$29)","v":3}]
[712,{"$f":"IF('Tex-113 (10-12)'!$H$44=\"\",\"\",'Tex-113 (10-12)'!$H$44)","v":""},{"$f":"IF('Tex-113 (10-12)'!$B$6=\"\",\"\",'Tex-113 (10-12)'!$B$6)","v":"Tex-113-E(10-12)"},{"$f":"IF( 'Tex-113 (10-12)'!$B$20=\"\",\"\", 'Tex-113 (10-12)'!$B$20)","v":"Moisture-Density Work Sheet"},{"$f":"IF('Tex-113 (10-12)'!$B$44=\"\",\"\",'Tex-113 (10-12)'!$B$44)","v":"Tare Mass Pan, (lb):"},{"$f":"IF('Tex-113 (10-12)'!$H$29=\"\",\"\",'Tex-113 (10-12)'!$H$29)","v":4}]
[713,{"$f":"IF('Tex-113 (10-12)'!$E$45=\"\",\"\",'Tex-113 (10-12)'!$E$45)","v":""},{"$f":"IF('Tex-113 (10-12)'!$B$6=\"\",\"\",'Tex-113 (10-12)'!$B$6)","v":"Tex-113-E(10-12)"},{"$f":"IF( 'Tex-113 (10-12)'!$B$20=\"\",\"\", 'Tex-113 (10-12)'!$B$20)","v":"Moisture-Density Work Sheet"},{"$f":"IF('Tex-113 (10-12)'!$B$45=\"\",\"\",'Tex-113 (10-12)'!$B$45)","v":"Dry Mass Material , (lb):"},{"$f":"IF('Tex-113 (10-12)'!$E$29=\"\",\"\",'Tex-113 (10-12)'!$E$29)","v":1}]
[714,{"$f":"IF('Tex-113 (10-12)'!$F$45=\"\",\"\",'Tex-113 (10-12)'!$F$45)","v":""},{"$f":"IF('Tex-113 (10-12)'!$B$6=\"\",\"\",'Tex-113 (10-12)'!$B$6)","v":"Tex-113-E(10-12)"},{"$f":"IF( 'Tex-113 (10-12)'!$B$20=\"\",\"\", 'Tex-113 (10-12)'!$B$20)","v":"Moisture-Density Work Sheet"},{"$f":"IF('Tex-113 (10-12)'!$B$45=\"\",\"\",'Tex-113 (10-12)'!$B$45)","v":"Dry Mass Material , (lb):"},{"$f":"IF('Tex-113 (10-12)'!$F$29=\"\",\"\",'Tex-113 (10-12)'!$F$29)","v":2}]
[715,{"$f":"IF('Tex-113 (10-12)'!$G$45=\"\",\"\",'Tex-113 (10-12)'!$G$45)","v":""},{"$f":"IF('Tex-113 (10-12)'!$B$6=\"\",\"\",'Tex-113 (10-12)'!$B$6)","v":"Tex-113-E(10-12)"},{"$f":"IF( 'Tex-113 (10-12)'!$B$20=\"\",\"\", 'Tex-113 (10-12)'!$B$20)","v":"Moisture-Density Work Sheet"},{"$f":"IF('Tex-113 (10-12)'!$B$45=\"\",\"\",'Tex-113 (10-12)'!$B$45)","v":"Dry Mass Material , (lb):"},{"$f":"IF('Tex-113 (10-12)'!$G$29=\"\",\"\",'Tex-113 (10-12)'!$G$29)","v":3}]
[716,{"$f":"IF('Tex-113 (10-12)'!$H$45=\"\",\"\",'Tex-113 (10-12)'!$H$45)","v":""},{"$f":"IF('Tex-113 (10-12)'!$B$6=\"\",\"\",'Tex-113 (10-12)'!$B$6)","v":"Tex-113-E(10-12)"},{"$f":"IF( 'Tex-113 (10-12)'!$B$20=\"\",\"\", 'Tex-113 (10-12)'!$B$20)","v":"Moisture-Density Work Sheet"},{"$f":"IF('Tex-113 (10-12)'!$B$45=\"\",\"\",'Tex-113 (10-12)'!$B$45)","v":"Dry Mass Material , (lb):"},{"$f":"IF('Tex-113 (10-12)'!$H$29=\"\",\"\",'Tex-113 (10-12)'!$H$29)","v":4}]
[717,{"$f":"IF('Tex-113 (10-12)'!$E$46=\"\",\"\",'Tex-113 (10-12)'!$E$46)","v":""},{"$f":"IF('Tex-113 (10-12)'!$B$6=\"\",\"\",'Tex-113 (10-12)'!$B$6)","v":"Tex-113-E(10-12)"},{"$f":"IF( 'Tex-113 (10-12)'!$B$20=\"\",\"\", 'Tex-113 (10-12)'!$B$20)","v":"Moisture-Density Work Sheet"},{"$f":"IF('Tex-113 (10-12)'!$B$46=\"\",\"\",'Tex-113 (10-12)'!$B$46)","v":"Mass Water, (lb):"},{"$f":"IF('Tex-113 (10-12)'!$E$29=\"\",\"\",'Tex-113 (10-12)'!$E$29)","v":1}]
[718,{"$f":"IF('Tex-113 (10-12)'!$F$46=\"\",\"\",'Tex-113 (10-12)'!$F$46)","v":""},{"$f":"IF('Tex-113 (10-12)'!$B$6=\"\",\"\",'Tex-113 (10-12)'!$B$6)","v":"Tex-113-E(10-12)"},{"$f":"IF( 'Tex-113 (10-12)'!$B$20=\"\",\"\", 'Tex-113 (10-12)'!$B$20)","v":"Moisture-Density Work Sheet"},{"$f":"IF('Tex-113 (10-12)'!$B$46=\"\",\"\",'Tex-113 (10-12)'!$B$46)","v":"Mass Water, (lb):"},{"$f":"IF('Tex-113 (10-12)'!$F$29=\"\",\"\",'Tex-113 (10-12)'!$F$29)","v":2}]
[719,{"$f":"IF('Tex-113 (10-12)'!$G$46=\"\",\"\",'Tex-113 (10-12)'!$G$46)","v":""},{"$f":"IF('Tex-113 (10-12)'!$B$6=\"\",\"\",'Tex-113 (10-12)'!$B$6)","v":"Tex-113-E(10-12)"},{"$f":"IF( 'Tex-113 (10-12)'!$B$20=\"\",\"\", 'Tex-113 (10-12)'!$B$20)","v":"Moisture-Density Work Sheet"},{"$f":"IF('Tex-113 (10-12)'!$B$46=\"\",\"\",'Tex-113 (10-12)'!$B$46)","v":"Mass Water, (lb):"},{"$f":"IF('Tex-113 (10-12)'!$G$29=\"\",\"\",'Tex-113 (10-12)'!$G$29)","v":3}]
[720,{"$f":"IF('Tex-113 (10-12)'!$H$46=\"\",\"\",'Tex-113 (10-12)'!$H$46)","v":""},{"$f":"IF('Tex-113 (10-12)'!$B$6=\"\",\"\",'Tex-113 (10-12)'!$B$6)","v":"Tex-113-E(10-12)"},{"$f":"IF( 'Tex-113 (10-12)'!$B$20=\"\",\"\", 'Tex-113 (10-12)'!$B$20)","v":"Moisture-Density Work Sheet"},{"$f":"IF('Tex-113 (10-12)'!$B$46=\"\",\"\",'Tex-113 (10-12)'!$B$46)","v":"Mass Water, (lb):"},{"$f":"IF('Tex-113 (10-12)'!$H$29=\"\",\"\",'Tex-113 (10-12)'!$H$29)","v":4}]
[721,{"$f":"IF('Tex-113 (10-12)'!$E$47=\"\",\"\",'Tex-113 (10-12)'!$E$47)","v":""},{"$f":"IF('Tex-113 (10-12)'!$B$6=\"\",\"\",'Tex-113 (10-12)'!$B$6)","v":"Tex-113-E(10-12)"},{"$f":"IF( 'Tex-113 (10-12)'!$B$20=\"\",\"\", 'Tex-113 (10-12)'!$B$20)","v":"Moisture-Density Work Sheet"},{"$f":"IF('Tex-113 (10-12)'!$B$47=\"\",\"\",'Tex-113 (10-12)'!$B$47)","v":"Percent Water on Total , (%):"},{"$f":"IF('Tex-113 (10-12)'!$E$29=\"\",\"\",'Tex-113 (10-12)'!$E$29)","v":1}]
[722,{"$f":"IF('Tex-113 (10-12)'!$F$47=\"\",\"\",'Tex-113 (10-12)'!$F$47)","v":""},{"$f":"IF('Tex-113 (10-12)'!$B$6=\"\",\"\",'Tex-113 (10-12)'!$B$6)","v":"Tex-113-E(10-12)"},{"$f":"IF( 'Tex-113 (10-12)'!$B$20=\"\",\"\", 'Tex-113 (10-12)'!$B$20)","v":"Moisture-Density Work Sheet"},{"$f":"IF('Tex-113 (10-12)'!$B$47=\"\",\"\",'Tex-113 (10-12)'!$B$47)","v":"Percent Water on Total , (%):"},{"$f":"IF('Tex-113 (10-12)'!$F$29=\"\",\"\",'Tex-113 (10-12)'!$F$29)","v":2}]
[723,{"$f":"IF('Tex-113 (10-12)'!$G$47=\"\",\"\",'Tex-113 (10-12)'!$G$47)","v":""},{"$f":"IF('Tex-113 (10-12)'!$B$6=\"\",\"\",'Tex-113 (10-12)'!$B$6)","v":"Tex-113-E(10-12)"},{"$f":"IF( 'Tex-113 (10-12)'!$B$20=\"\",\"\", 'Tex-113 (10-12)'!$B$20)","v":"Moisture-Density Work Sheet"},{"$f":"IF('Tex-113 (10-12)'!$B$47=\"\",\"\",'Tex-113 (10-12)'!$B$47)","v":"Percent Water on Total , (%):"},{"$f":"IF('Tex-113 (10-12)'!$G$29=\"\",\"\",'Tex-113 (10-12)'!$G$29)","v":3}]
[724,{"$f":"IF('Tex-113 (10-12)'!$H$47=\"\",\"\",'Tex-113 (10-12)'!$H$47)","v":""},{"$f":"IF('Tex-113 (10-12)'!$B$6=\"\",\"\",'Tex-113 (10-12)'!$B$6)","v":"Tex-113-E(10-12)"},{"$f":"IF( 'Tex-113 (10-12)'!$B$20=\"\",\"\", 'Tex-113 (10-12)'!$B$20)","v":"Moisture-Density Work Sheet"},{"$f":"IF('Tex-113 (10-12)'!$B$47=\"\",\"\",'Tex-113 (10-12)'!$B$47)","v":"Percent Water on Total , (%):"},{"$f":"IF('Tex-113 (10-12)'!$H$29=\"\",\"\",'Tex-113 (10-12)'!$H$29)","v":4}]
[725,{"$f":"IF('Tex-113 (10-12)'!$E$48=\"\",\"\",'Tex-113 (10-12)'!$E$48)","v":""},{"$f":"IF('Tex-113 (10-12)'!$B$6=\"\",\"\",'Tex-113 (10-12)'!$B$6)","v":"Tex-113-E(10-12)"},{"$f":"IF( 'Tex-113 (10-12)'!$B$20=\"\",\"\", 'Tex-113 (10-12)'!$B$20)","v":"Moisture-Density Work Sheet"},{"$f":"IF('Tex-113 (10-12)'!$B$48=\"\",\"\",'Tex-113 (10-12)'!$B$48)","v":"Dry Density, (pcf):"},{"$f":"IF('Tex-113 (10-12)'!$E$29=\"\",\"\",'Tex-113 (10-12)'!$E$29)","v":1}]
[726,{"$f":"IF('Tex-113 (10-12)'!$F$48=\"\",\"\",'Tex-113 (10-12)'!$F$48)","v":""},{"$f":"IF('Tex-113 (10-12)'!$B$6=\"\",\"\",'Tex-113 (10-12)'!$B$6)","v":"Tex-113-E(10-12)"},{"$f":"IF( 'Tex-113 (10-12)'!$B$20=\"\",\"\", 'Tex-113 (10-12)'!$B$20)","v":"Moisture-Density Work Sheet"},{"$f":"IF('Tex-113 (10-12)'!$B$48=\"\",\"\",'Tex-113 (10-12)'!$B$48)","v":"Dry Density, (pcf):"},{"$f":"IF('Tex-113 (10-12)'!$F$29=\"\",\"\",'Tex-113 (10-12)'!$F$29)","v":2}]
[727,{"$f":"IF('Tex-113 (10-12)'!$G$48=\"\",\"\",'Tex-113 (10-12)'!$G$48)","v":""},{"$f":"IF('Tex-113 (10-12)'!$B$6=\"\",\"\",'Tex-113 (10-12)'!$B$6)","v":"Tex-113-E(10-12)"},{"$f":"IF( 'Tex-113 (10-12)'!$B$20=\"\",\"\", 'Tex-113 (10-12)'!$B$20)","v":"Moisture-Density Work Sheet"},{"$f":"IF('Tex-113 (10-12)'!$B$48=\"\",\"\",'Tex-113 (10-12)'!$B$48)","v":"Dry Density, (pcf):"},{"$f":"IF('Tex-113 (10-12)'!$G$29=\"\",\"\",'Tex-113 (10-12)'!$G$29)","v":3}]
[728,{"$f":"IF('Tex-113 (10-12)'!$H$48=\"\",\"\",'Tex-113 (10-12)'!$H$48)","v":""},{"$f":"IF('Tex-113 (10-12)'!$B$6=\"\",\"\",'Tex-113 (10-12)'!$B$6)","v":"Tex-113-E(10-12)"},{"$f":"IF( 'Tex-113 (10-12)'!$B$20=\"\",\"\", 'Tex-113 (10-12)'!$B$20)","v":"Moisture-Density Work Sheet"},{"$f":"IF('Tex-113 (10-12)'!$B$48=\"\",\"\",'Tex-113 (10-12)'!$B$48)","v":"Dry Density, (pcf):"},{"$f":"IF('Tex-113 (10-12)'!$H$29=\"\",\"\",'Tex-113 (10-12)'!$H$29)","v":4}]
[729,{"$f":"IF('Tex-113 (10-12)'!$E$49=\"\",\"\",'Tex-113 (10-12)'!$E$49)","v":""},{"$f":"IF('Tex-113 (10-12)'!$B$6=\"\",\"\",'Tex-113 (10-12)'!$B$6)","v":"Tex-113-E(10-12)"},{"$f":"IF( 'Tex-113 (10-12)'!$B$20=\"\",\"\", 'Tex-113 (10-12)'!$B$20)","v":"Moisture-Density Work Sheet"},{"$f":"IF('Tex-113 (10-12)'!$B$49=\"\",\"\",'Tex-113 (10-12)'!$B$49)","v":"Estimated Dry Density, (pcf):"},{"$f":"IF('Tex-113 (10-12)'!$E$29=\"\",\"\",'Tex-113 (10-12)'!$E$29)","v":1}]
[730,{"$f":"IF('Tex-113 (10-12)'!$F$49=\"\",\"\",'Tex-113 (10-12)'!$F$49)","v":""},{"$f":"IF('Tex-113 (10-12)'!$B$6=\"\",\"\",'Tex-113 (10-12)'!$B$6)","v":"Tex-113-E(10-12)"},{"$f":"IF( 'Tex-113 (10-12)'!$B$20=\"\",\"\", 'Tex-113 (10-12)'!$B$20)","v":"Moisture-Density Work Sheet"},{"$f":"IF('Tex-113 (10-12)'!$B$49=\"\",\"\",'Tex-113 (10-12)'!$B$49)","v":"Estimated Dry Density, (pcf):"},{"$f":"IF('Tex-113 (10-12)'!$F$29=\"\",\"\",'Tex-113 (10-12)'!$F$29)","v":2}]
[731,{"$f":"IF('Tex-113 (10-12)'!$G$49=\"\",\"\",'Tex-113 (10-12)'!$G$49)","v":""},{"$f":"IF('Tex-113 (10-12)'!$B$6=\"\",\"\",'Tex-113 (10-12)'!$B$6)","v":"Tex-113-E(10-12)"},{"$f":"IF( 'Tex-113 (10-12)'!$B$20=\"\",\"\", 'Tex-113 (10-12)'!$B$20)","v":"Moisture-Density Work Sheet"},{"$f":"IF('Tex-113 (10-12)'!$B$49=\"\",\"\",'Tex-113 (10-12)'!$B$49)","v":"Estimated Dry Density, (pcf):"},{"$f":"IF('Tex-113 (10-12)'!$G$29=\"\",\"\",'Tex-113 (10-12)'!$G$29)","v":3}]
[732,{"$f":"IF('Tex-113 (10-12)'!$H$49=\"\",\"\",'Tex-113 (10-12)'!$H$49)","v":""},{"$f":"IF('Tex-113 (10-12)'!$B$6=\"\",\"\",'Tex-113 (10-12)'!$B$6)","v":"Tex-113-E(10-12)"},{"$f":"IF( 'Tex-113 (10-12)'!$B$20=\"\",\"\", 'Tex-113 (10-12)'!$B$20)","v":"Moisture-Density Work Sheet"},{"$f":"IF('Tex-113 (10-12)'!$B$49=\"\",\"\",'Tex-113 (10-12)'!$B$49)","v":"Estimated Dry Density, (pcf):"},{"$f":"IF('Tex-113 (10-12)'!$H$29=\"\",\"\",'Tex-113 (10-12)'!$H$29)","v":4}]
[733,{"$f":"IF('Tex-113 (10-12)'!$E$50=\"\",\"\",'Tex-113 (10-12)'!$E$50)","v":""},{"$f":"IF('Tex-113 (10-12)'!$B$6=\"\",\"\",'Tex-113 (10-12)'!$B$6)","v":"Tex-113-E(10-12)"},{"$f":"IF( 'Tex-113 (10-12)'!$B$20=\"\",\"\", 'Tex-113 (10-12)'!$B$20)","v":"Moisture-Density Work Sheet"},{"$f":"IF('Tex-113 (10-12)'!$B$50=\"\",\"\",'Tex-113 (10-12)'!$B$50)","v":"Max Density, (pcf):"}]
[734,{"$f":"IF('Tex-113 (10-12)'!$E$51=\"\",\"\",'Tex-113 (10-12)'!$E$51)","v":""},{"$f":"IF('Tex-113 (10-12)'!$B$6=\"\",\"\",'Tex-113 (10-12)'!$B$6)","v":"Tex-113-E(10-12)"},{"$f":"IF( 'Tex-113 (10-12)'!$B$20=\"\",\"\", 'Tex-113 (10-12)'!$B$20)","v":"Moisture-Density Work Sheet"},{"$f":"IF('Tex-113 (10-12)'!$B$51=\"\",\"\",'Tex-113 (10-12)'!$B$51)","v":"Max Density, (kg/m3):"}]
[735,{"$f":"IF('Tex-113 (10-12)'!$E$52=\"\",\"\",'Tex-113 (10-12)'!$E$52)","v":""},{"$f":"IF('Tex-113 (10-12)'!$B$6=\"\",\"\",'Tex-113 (10-12)'!$B$6)","v":"Tex-113-E(10-12)"},{"$f":"IF( 'Tex-113 (10-12)'!$B$20=\"\",\"\", 'Tex-113 (10-12)'!$B$20)","v":"Moisture-Density Work Sheet"},{"$f":"IF('Tex-113 (10-12)'!$B$52=\"\",\"\",'Tex-113 (10-12)'!$B$52)","v":"Optimum Moisture, (%):"}]
[736,{"$f":"IF('Tex-113 (10-12)'!$B$55=\"\",\"\",'Tex-113 (10-12)'!$B$55)","v":""},{"$f":"IF('Tex-113 (10-12)'!$B$6=\"\",\"\",'Tex-113 (10-12)'!$B$6)","v":"Tex-113-E(10-12)"},{"$f":"IF( 'Tex-113 (10-12)'!$B$20=\"\",\"\", 'Tex-113 (10-12)'!$B$20)","v":"Moisture-Density Work Sheet"},{"$f":"IF('Tex-113 (10-12)'!$B$54=\"\",\"\",'Tex-113 (10-12)'!$B$54)","v":"Remarks:"}]
[737,{"$f":"IF('Tex-121-E Part2'!$E$21=\"\",\"\",'Tex-121-E Part2'!$E$21)","v":""},{"$f":"IF('Tex-121-E Part2'!$B$6=\"\",\"\",'Tex-121-E Part2'!$B$6)","v":"TEX-121-E Part II "},{"$f":"IF( 'Tex-121-E Part2'!$B$20=\"\",\"\", 'Tex-121-E Part2'!$B$20)","v":"Moisture-Density Work Sheet"},{"$f":"IF('Tex-121-E Part2'!$B$21=\"\",\"\",'Tex-121-E Part2'!$B$21)","v":"Percent Lime, (%)"}]
[738,{"$f":"IF('Tex-121-E Part2'!$E$22=\"\",\"\",'Tex-121-E Part2'!$E$22)","v":""},{"$f":"IF('Tex-121-E Part2'!$B$6=\"\",\"\",'Tex-121-E Part2'!$B$6)","v":"TEX-121-E Part II "},{"$f":"IF( 'Tex-121-E Part2'!$B$20=\"\",\"\", 'Tex-121-E Part2'!$B$20)","v":"Moisture-Density Work Sheet"},{"$f":"IF('Tex-121-E Part2'!$B$22=\"\",\"\",'Tex-121-E Part2'!$B$22)","v":"Oven Dry Weight, (g):"}]
[739,{"$f":"IF('Tex-121-E Part2'!$E$23=\"\",\"\",'Tex-121-E Part2'!$E$23)","v":""},{"$f":"IF('Tex-121-E Part2'!$B$6=\"\",\"\",'Tex-121-E Part2'!$B$6)","v":"TEX-121-E Part II "},{"$f":"IF( 'Tex-121-E Part2'!$B$20=\"\",\"\", 'Tex-121-E Part2'!$B$20)","v":"Moisture-Density Work Sheet"},{"$f":"IF('Tex-121-E Part2'!$B$23=\"\",\"\",'Tex-121-E Part2'!$B$23)","v":"Weight of Pycnometer & Water, (g):"}]
[740,{"$f":"IF('Tex-121-E Part2'!$E$24=\"\",\"\",'Tex-121-E Part2'!$E$24)","v":""},{"$f":"IF('Tex-121-E Part2'!$B$6=\"\",\"\",'Tex-121-E Part2'!$B$6)","v":"TEX-121-E Part II "},{"$f":"IF( 'Tex-121-E Part2'!$B$20=\"\",\"\", 'Tex-121-E Part2'!$B$20)","v":"Moisture-Density Work Sheet"},{"$f":"IF('Tex-121-E Part2'!$B$24=\"\",\"\",'Tex-121-E Part2'!$B$24)","v":"Weight of Aggr., Pycn.& Water, (g):"}]
[741,{"$f":"IF('Tex-121-E Part2'!$E$25=\"\",\"\",'Tex-121-E Part2'!$E$25)","v":""},{"$f":"IF('Tex-121-E Part2'!$B$6=\"\",\"\",'Tex-121-E Part2'!$B$6)","v":"TEX-121-E Part II "},{"$f":"IF( 'Tex-121-E Part2'!$B$20=\"\",\"\", 'Tex-121-E Part2'!$B$20)","v":"Moisture-Density Work Sheet"},{"$f":"IF('Tex-121-E Part2'!$B$25=\"\",\"\",'Tex-121-E Part2'!$B$25)","v":"Specific Gravity (Apparent):"}]
[742,{"$f":"IF('Tex-121-E Part2'!$E$27=\"\",\"\",'Tex-121-E Part2'!$E$27)","v":""},{"$f":"IF('Tex-121-E Part2'!$B$6=\"\",\"\",'Tex-121-E Part2'!$B$6)","v":"TEX-121-E Part II "},{"$f":"IF( 'Tex-121-E Part2'!$B$20=\"\",\"\", 'Tex-121-E Part2'!$B$20)","v":"Moisture-Density Work Sheet"},{"$f":"IF('Tex-121-E Part2'!$B$27=\"\",\"\",'Tex-121-E Part2'!$B$27)","v":"Hygroscopic Moisture, (%):"}]
[743,{"$f":"IF('Tex-121-E Part2'!$E$30=\"\",\"\",'Tex-121-E Part2'!$E$30)","v":""},{"$f":"IF('Tex-121-E Part2'!$B$6=\"\",\"\",'Tex-121-E Part2'!$B$6)","v":"TEX-121-E Part II "},{"$f":"IF( 'Tex-121-E Part2'!$B$20=\"\",\"\", 'Tex-121-E Part2'!$B$20)","v":"Moisture-Density Work Sheet"},{"$f":"IF('Tex-121-E Part2'!$B$30=\"\",\"\",'Tex-121-E Part2'!$B$30)","v":"Percent Water Content, (%):"},{"$f":"IF('Tex-121-E Part2'!$E$29=\"\",\"\",'Tex-121-E Part2'!$E$29)","v":1}]
[744,{"$f":"IF('Tex-121-E Part2'!$F$30=\"\",\"\",'Tex-121-E Part2'!$F$30)","v":""},{"$f":"IF('Tex-121-E Part2'!$B$6=\"\",\"\",'Tex-121-E Part2'!$B$6)","v":"TEX-121-E Part II "},{"$f":"IF( 'Tex-121-E Part2'!$B$20=\"\",\"\", 'Tex-121-E Part2'!$B$20)","v":"Moisture-Density Work Sheet"},{"$f":"IF('Tex-121-E Part2'!$B$30=\"\",\"\",'Tex-121-E Part2'!$B$30)","v":"Percent Water Content, (%):"},{"$f":"IF('Tex-121-E Part2'!$F$29=\"\",\"\",'Tex-121-E Part2'!$F$29)","v":2}]
[745,{"$f":"IF('Tex-121-E Part2'!$G$30=\"\",\"\",'Tex-121-E Part2'!$G$30)","v":""},{"$f":"IF('Tex-121-E Part2'!$B$6=\"\",\"\",'Tex-121-E Part2'!$B$6)","v":"TEX-121-E Part II "},{"$f":"IF( 'Tex-121-E Part2'!$B$20=\"\",\"\", 'Tex-121-E Part2'!$B$20)","v":"Moisture-Density Work Sheet"},{"$f":"IF('Tex-121-E Part2'!$B$30=\"\",\"\",'Tex-121-E Part2'!$B$30)","v":"Percent Water Content, (%):"},{"$f":"IF('Tex-121-E Part2'!$G$29=\"\",\"\",'Tex-121-E Part2'!$G$29)","v":3}]
[746,{"$f":"IF('Tex-121-E Part2'!$H$30=\"\",\"\",'Tex-121-E Part2'!$H$30)","v":""},{"$f":"IF('Tex-121-E Part2'!$B$6=\"\",\"\",'Tex-121-E Part2'!$B$6)","v":"TEX-121-E Part II "},{"$f":"IF( 'Tex-121-E Part2'!$B$20=\"\",\"\", 'Tex-121-E Part2'!$B$20)","v":"Moisture-Density Work Sheet"},{"$f":"IF('Tex-121-E Part2'!$B$30=\"\",\"\",'Tex-121-E Part2'!$B$30)","v":"Percent Water Content, (%):"},{"$f":"IF('Tex-121-E Part2'!$H$29=\"\",\"\",'Tex-121-E Part2'!$H$29)","v":4}]
[743,{"$f":"IF('Tex-121-E Part2'!$E$31=\"\",\"\",'Tex-121-E Part2'!$E$31)","v":""},{"$f":"IF('Tex-121-E Part2'!$B$6=\"\",\"\",'Tex-121-E Part2'!$B$6)","v":"TEX-121-E Part II "},{"$f":"IF( 'Tex-121-E Part2'!$B$20=\"\",\"\", 'Tex-121-E Part2'!$B$20)","v":"Moisture-Density Work Sheet"},{"$f":"IF('Tex-121-E Part2'!$B$31=\"\",\"\",'Tex-121-E Part2'!$B$31)","v":"Percent Lime, (%):"},{"$f":"IF('Tex-121-E Part2'!$E$29=\"\",\"\",'Tex-121-E Part2'!$E$29)","v":1}]
[744,{"$f":"IF('Tex-121-E Part2'!$F$31=\"\",\"\",'Tex-121-E Part2'!$F$31)","v":""},{"$f":"IF('Tex-121-E Part2'!$B$6=\"\",\"\",'Tex-121-E Part2'!$B$6)","v":"TEX-121-E Part II "},{"$f":"IF( 'Tex-121-E Part2'!$B$20=\"\",\"\", 'Tex-121-E Part2'!$B$20)","v":"Moisture-Density Work Sheet"},{"$f":"IF('Tex-121-E Part2'!$B$31=\"\",\"\",'Tex-121-E Part2'!$B$31)","v":"Percent Lime, (%):"},{"$f":"IF('Tex-121-E Part2'!$F$29=\"\",\"\",'Tex-121-E Part2'!$F$29)","v":2}]
[745,{"$f":"IF('Tex-121-E Part2'!$G$31=\"\",\"\",'Tex-121-E Part2'!$G$31)","v":""},{"$f":"IF('Tex-121-E Part2'!$B$6=\"\",\"\",'Tex-121-E Part2'!$B$6)","v":"TEX-121-E Part II "},{"$f":"IF( 'Tex-121-E Part2'!$B$20=\"\",\"\", 'Tex-121-E Part2'!$B$20)","v":"Moisture-Density Work Sheet"},{"$f":"IF('Tex-121-E Part2'!$B$31=\"\",\"\",'Tex-121-E Part2'!$B$31)","v":"Percent Lime, (%):"},{"$f":"IF('Tex-121-E Part2'!$G$29=\"\",\"\",'Tex-121-E Part2'!$G$29)","v":3}]
[746,{"$f":"IF('Tex-121-E Part2'!$H$31=\"\",\"\",'Tex-121-E Part2'!$H$31)","v":""},{"$f":"IF('Tex-121-E Part2'!$B$6=\"\",\"\",'Tex-121-E Part2'!$B$6)","v":"TEX-121-E Part II "},{"$f":"IF( 'Tex-121-E Part2'!$B$20=\"\",\"\", 'Tex-121-E Part2'!$B$20)","v":"Moisture-Density Work Sheet"},{"$f":"IF('Tex-121-E Part2'!$B$31=\"\",\"\",'Tex-121-E Part2'!$B$31)","v":"Percent Lime, (%):"},{"$f":"IF('Tex-121-E Part2'!$H$29=\"\",\"\",'Tex-121-E Part2'!$H$29)","v":4}]
[747,{"$f":"IF('Tex-121-E Part2'!$E$32=\"\",\"\",'Tex-121-E Part2'!$E$32)","v":""},{"$f":"IF('Tex-121-E Part2'!$B$6=\"\",\"\",'Tex-121-E Part2'!$B$6)","v":"TEX-121-E Part II "},{"$f":"IF( 'Tex-121-E Part2'!$B$20=\"\",\"\", 'Tex-121-E Part2'!$B$20)","v":"Moisture-Density Work Sheet"},{"$f":"IF('Tex-121-E Part2'!$B$32=\"\",\"\",'Tex-121-E Part2'!$B$32)","v":"Mass Material, (lb):"},{"$f":"IF('Tex-121-E Part2'!$E$29=\"\",\"\",'Tex-121-E Part2'!$E$29)","v":1}]
[748,{"$f":"IF('Tex-121-E Part2'!$F$32=\"\",\"\",'Tex-121-E Part2'!$F$32)","v":""},{"$f":"IF('Tex-121-E Part2'!$B$6=\"\",\"\",'Tex-121-E Part2'!$B$6)","v":"TEX-121-E Part II "},{"$f":"IF( 'Tex-121-E Part2'!$B$20=\"\",\"\", 'Tex-121-E Part2'!$B$20)","v":"Moisture-Density Work Sheet"},{"$f":"IF('Tex-121-E Part2'!$B$32=\"\",\"\",'Tex-121-E Part2'!$B$32)","v":"Mass Material, (lb):"},{"$f":"IF('Tex-121-E Part2'!$F$29=\"\",\"\",'Tex-121-E Part2'!$F$29)","v":2}]
[749,{"$f":"IF('Tex-121-E Part2'!$G$32=\"\",\"\",'Tex-121-E Part2'!$G$32)","v":""},{"$f":"IF('Tex-121-E Part2'!$B$6=\"\",\"\",'Tex-121-E Part2'!$B$6)","v":"TEX-121-E Part II "},{"$f":"IF( 'Tex-121-E Part2'!$B$20=\"\",\"\", 'Tex-121-E Part2'!$B$20)","v":"Moisture-Density Work Sheet"},{"$f":"IF('Tex-121-E Part2'!$B$32=\"\",\"\",'Tex-121-E Part2'!$B$32)","v":"Mass Material, (lb):"},{"$f":"IF('Tex-121-E Part2'!$G$29=\"\",\"\",'Tex-121-E Part2'!$G$29)","v":3}]
[750,{"$f":"IF('Tex-121-E Part2'!$H$32=\"\",\"\",'Tex-121-E Part2'!$H$32)","v":""},{"$f":"IF('Tex-121-E Part2'!$B$6=\"\",\"\",'Tex-121-E Part2'!$B$6)","v":"TEX-121-E Part II "},{"$f":"IF( 'Tex-121-E Part2'!$B$20=\"\",\"\", 'Tex-121-E Part2'!$B$20)","v":"Moisture-Density Work Sheet"},{"$f":"IF('Tex-121-E Part2'!$B$32=\"\",\"\",'Tex-121-E Part2'!$B$32)","v":"Mass Material, (lb):"},{"$f":"IF('Tex-121-E Part2'!$H$29=\"\",\"\",'Tex-121-E Part2'!$H$29)","v":4}]
[751,{"$f":"IF('Tex-121-E Part2'!$E$33=\"\",\"\",'Tex-121-E Part2'!$E$33)","v":""},{"$f":"IF('Tex-121-E Part2'!$B$6=\"\",\"\",'Tex-121-E Part2'!$B$6)","v":"TEX-121-E Part II "},{"$f":"IF( 'Tex-121-E Part2'!$B$20=\"\",\"\", 'Tex-121-E Part2'!$B$20)","v":"Moisture-Density Work Sheet"},{"$f":"IF('Tex-121-E Part2'!$B$33=\"\",\"\",'Tex-121-E Part2'!$B$33)","v":"Mass Water Added, (lb):"},{"$f":"IF('Tex-121-E Part2'!$E$29=\"\",\"\",'Tex-121-E Part2'!$E$29)","v":1}]
[752,{"$f":"IF('Tex-121-E Part2'!$F$33=\"\",\"\",'Tex-121-E Part2'!$F$33)","v":""},{"$f":"IF('Tex-121-E Part2'!$B$6=\"\",\"\",'Tex-121-E Part2'!$B$6)","v":"TEX-121-E Part II "},{"$f":"IF( 'Tex-121-E Part2'!$B$20=\"\",\"\", 'Tex-121-E Part2'!$B$20)","v":"Moisture-Density Work Sheet"},{"$f":"IF('Tex-121-E Part2'!$B$33=\"\",\"\",'Tex-121-E Part2'!$B$33)","v":"Mass Water Added, (lb):"},{"$f":"IF('Tex-121-E Part2'!$F$29=\"\",\"\",'Tex-121-E Part2'!$F$29)","v":2}]
[753,{"$f":"IF('Tex-121-E Part2'!$G$33=\"\",\"\",'Tex-121-E Part2'!$G$33)","v":""},{"$f":"IF('Tex-121-E Part2'!$B$6=\"\",\"\",'Tex-121-E Part2'!$B$6)","v":"TEX-121-E Part II "},{"$f":"IF( 'Tex-121-E Part2'!$B$20=\"\",\"\", 'Tex-121-E Part2'!$B$20)","v":"Moisture-Density Work Sheet"},{"$f":"IF('Tex-121-E Part2'!$B$33=\"\",\"\",'Tex-121-E Part2'!$B$33)","v":"Mass Water Added, (lb):"},{"$f":"IF('Tex-121-E Part2'!$G$29=\"\",\"\",'Tex-121-E Part2'!$G$29)","v":3}]
[754,{"$f":"IF('Tex-121-E Part2'!$H$33=\"\",\"\",'Tex-121-E Part2'!$H$33)","v":""},{"$f":"IF('Tex-121-E Part2'!$B$6=\"\",\"\",'Tex-121-E Part2'!$B$6)","v":"TEX-121-E Part II "},{"$f":"IF( 'Tex-121-E Part2'!$B$20=\"\",\"\", 'Tex-121-E Part2'!$B$20)","v":"Moisture-Density Work Sheet"},{"$f":"IF('Tex-121-E Part2'!$B$33=\"\",\"\",'Tex-121-E Part2'!$B$33)","v":"Mass Water Added, (lb):"},{"$f":"IF('Tex-121-E Part2'!$H$29=\"\",\"\",'Tex-121-E Part2'!$H$29)","v":4}]
[751,{"$f":"IF('Tex-121-E Part2'!$E$34=\"\",\"\",'Tex-121-E Part2'!$E$34)","v":""},{"$f":"IF('Tex-121-E Part2'!$B$6=\"\",\"\",'Tex-121-E Part2'!$B$6)","v":"TEX-121-E Part II "},{"$f":"IF( 'Tex-121-E Part2'!$B$20=\"\",\"\", 'Tex-121-E Part2'!$B$20)","v":"Moisture-Density Work Sheet"},{"$f":"IF('Tex-121-E Part2'!$B$34=\"\",\"\",'Tex-121-E Part2'!$B$34)","v":"Mass Cement Added, (lb):"},{"$f":"IF('Tex-121-E Part2'!$E$29=\"\",\"\",'Tex-121-E Part2'!$E$29)","v":1}]
[752,{"$f":"IF('Tex-121-E Part2'!$F$34=\"\",\"\",'Tex-121-E Part2'!$F$34)","v":""},{"$f":"IF('Tex-121-E Part2'!$B$6=\"\",\"\",'Tex-121-E Part2'!$B$6)","v":"TEX-121-E Part II "},{"$f":"IF( 'Tex-121-E Part2'!$B$20=\"\",\"\", 'Tex-121-E Part2'!$B$20)","v":"Moisture-Density Work Sheet"},{"$f":"IF('Tex-121-E Part2'!$B$34=\"\",\"\",'Tex-121-E Part2'!$B$34)","v":"Mass Cement Added, (lb):"},{"$f":"IF('Tex-121-E Part2'!$F$29=\"\",\"\",'Tex-121-E Part2'!$F$29)","v":2}]
[753,{"$f":"IF('Tex-121-E Part2'!$G$34=\"\",\"\",'Tex-121-E Part2'!$G$34)","v":""},{"$f":"IF('Tex-121-E Part2'!$B$6=\"\",\"\",'Tex-121-E Part2'!$B$6)","v":"TEX-121-E Part II "},{"$f":"IF( 'Tex-121-E Part2'!$B$20=\"\",\"\", 'Tex-121-E Part2'!$B$20)","v":"Moisture-Density Work Sheet"},{"$f":"IF('Tex-121-E Part2'!$B$34=\"\",\"\",'Tex-121-E Part2'!$B$34)","v":"Mass Cement Added, (lb):"},{"$f":"IF('Tex-121-E Part2'!$G$29=\"\",\"\",'Tex-121-E Part2'!$G$29)","v":3}]
[754,{"$f":"IF('Tex-121-E Part2'!$H$34=\"\",\"\",'Tex-121-E Part2'!$H$34)","v":""},{"$f":"IF('Tex-121-E Part2'!$B$6=\"\",\"\",'Tex-121-E Part2'!$B$6)","v":"TEX-121-E Part II "},{"$f":"IF( 'Tex-121-E Part2'!$B$20=\"\",\"\", 'Tex-121-E Part2'!$B$20)","v":"Moisture-Density Work Sheet"},{"$f":"IF('Tex-121-E Part2'!$B$34=\"\",\"\",'Tex-121-E Part2'!$B$34)","v":"Mass Cement Added, (lb):"},{"$f":"IF('Tex-121-E Part2'!$H$29=\"\",\"\",'Tex-121-E Part2'!$H$29)","v":4}]
[755,{"$f":"IF('Tex-121-E Part2'!$E$35=\"\",\"\",'Tex-121-E Part2'!$E$35)","v":""},{"$f":"IF('Tex-121-E Part2'!$B$6=\"\",\"\",'Tex-121-E Part2'!$B$6)","v":"TEX-121-E Part II "},{"$f":"IF( 'Tex-121-E Part2'!$B$20=\"\",\"\", 'Tex-121-E Part2'!$B$20)","v":"Moisture-Density Work Sheet"},{"$f":"IF('Tex-121-E Part2'!$B$35=\"\",\"\",'Tex-121-E Part2'!$B$35)","v":"Wet Mass Specimen & Mold, (lb):"},{"$f":"IF('Tex-121-E Part2'!$E$29=\"\",\"\",'Tex-121-E Part2'!$E$29)","v":1}]
[756,{"$f":"IF('Tex-121-E Part2'!$F$35=\"\",\"\",'Tex-121-E Part2'!$F$35)","v":""},{"$f":"IF('Tex-121-E Part2'!$B$6=\"\",\"\",'Tex-121-E Part2'!$B$6)","v":"TEX-121-E Part II "},{"$f":"IF( 'Tex-121-E Part2'!$B$20=\"\",\"\", 'Tex-121-E Part2'!$B$20)","v":"Moisture-Density Work Sheet"},{"$f":"IF('Tex-121-E Part2'!$B$35=\"\",\"\",'Tex-121-E Part2'!$B$35)","v":"Wet Mass Specimen & Mold, (lb):"},{"$f":"IF('Tex-121-E Part2'!$F$29=\"\",\"\",'Tex-121-E Part2'!$F$29)","v":2}]
[757,{"$f":"IF('Tex-121-E Part2'!$G$35=\"\",\"\",'Tex-121-E Part2'!$G$35)","v":""},{"$f":"IF('Tex-121-E Part2'!$B$6=\"\",\"\",'Tex-121-E Part2'!$B$6)","v":"TEX-121-E Part II "},{"$f":"IF( 'Tex-121-E Part2'!$B$20=\"\",\"\", 'Tex-121-E Part2'!$B$20)","v":"Moisture-Density Work Sheet"},{"$f":"IF('Tex-121-E Part2'!$B$35=\"\",\"\",'Tex-121-E Part2'!$B$35)","v":"Wet Mass Specimen & Mold, (lb):"},{"$f":"IF('Tex-121-E Part2'!$G$29=\"\",\"\",'Tex-121-E Part2'!$G$29)","v":3}]
[758,{"$f":"IF('Tex-121-E Part2'!$H$35=\"\",\"\",'Tex-121-E Part2'!$H$35)","v":""},{"$f":"IF('Tex-121-E Part2'!$B$6=\"\",\"\",'Tex-121-E Part2'!$B$6)","v":"TEX-121-E Part II "},{"$f":"IF( 'Tex-121-E Part2'!$B$20=\"\",\"\", 'Tex-121-E Part2'!$B$20)","v":"Moisture-Density Work Sheet"},{"$f":"IF('Tex-121-E Part2'!$B$35=\"\",\"\",'Tex-121-E Part2'!$B$35)","v":"Wet Mass Specimen & Mold, (lb):"},{"$f":"IF('Tex-121-E Part2'!$H$29=\"\",\"\",'Tex-121-E Part2'!$H$29)","v":4}]
[759,{"$f":"IF('Tex-121-E Part2'!$E$36=\"\",\"\",'Tex-121-E Part2'!$E$36)","v":""},{"$f":"IF('Tex-121-E Part2'!$B$6=\"\",\"\",'Tex-121-E Part2'!$B$6)","v":"TEX-121-E Part II "},{"$f":"IF( 'Tex-121-E Part2'!$B$20=\"\",\"\", 'Tex-121-E Part2'!$B$20)","v":"Moisture-Density Work Sheet"},{"$f":"IF('Tex-121-E Part2'!$B$36=\"\",\"\",'Tex-121-E Part2'!$B$36)","v":"Tare Mass Mold, (lb):"},{"$f":"IF('Tex-121-E Part2'!$E$29=\"\",\"\",'Tex-121-E Part2'!$E$29)","v":1}]
[760,{"$f":"IF('Tex-121-E Part2'!$F$36=\"\",\"\",'Tex-121-E Part2'!$F$36)","v":""},{"$f":"IF('Tex-121-E Part2'!$B$6=\"\",\"\",'Tex-121-E Part2'!$B$6)","v":"TEX-121-E Part II "},{"$f":"IF( 'Tex-121-E Part2'!$B$20=\"\",\"\", 'Tex-121-E Part2'!$B$20)","v":"Moisture-Density Work Sheet"},{"$f":"IF('Tex-121-E Part2'!$B$36=\"\",\"\",'Tex-121-E Part2'!$B$36)","v":"Tare Mass Mold, (lb):"},{"$f":"IF('Tex-121-E Part2'!$F$29=\"\",\"\",'Tex-121-E Part2'!$F$29)","v":2}]
[761,{"$f":"IF('Tex-121-E Part2'!$G$36=\"\",\"\",'Tex-121-E Part2'!$G$36)","v":""},{"$f":"IF('Tex-121-E Part2'!$B$6=\"\",\"\",'Tex-121-E Part2'!$B$6)","v":"TEX-121-E Part II "},{"$f":"IF( 'Tex-121-E Part2'!$B$20=\"\",\"\", 'Tex-121-E Part2'!$B$20)","v":"Moisture-Density Work Sheet"},{"$f":"IF('Tex-121-E Part2'!$B$36=\"\",\"\",'Tex-121-E Part2'!$B$36)","v":"Tare Mass Mold, (lb):"},{"$f":"IF('Tex-121-E Part2'!$G$29=\"\",\"\",'Tex-121-E Part2'!$G$29)","v":3}]
[762,{"$f":"IF('Tex-121-E Part2'!$H$36=\"\",\"\",'Tex-121-E Part2'!$H$36)","v":""},{"$f":"IF('Tex-121-E Part2'!$B$6=\"\",\"\",'Tex-121-E Part2'!$B$6)","v":"TEX-121-E Part II "},{"$f":"IF( 'Tex-121-E Part2'!$B$20=\"\",\"\", 'Tex-121-E Part2'!$B$20)","v":"Moisture-Density Work Sheet"},{"$f":"IF('Tex-121-E Part2'!$B$36=\"\",\"\",'Tex-121-E Part2'!$B$36)","v":"Tare Mass Mold, (lb):"},{"$f":"IF('Tex-121-E Part2'!$H$29=\"\",\"\",'Tex-121-E Part2'!$H$29)","v":4}]
[763,{"$f":"IF('Tex-121-E Part2'!$E$37=\"\",\"\",'Tex-121-E Part2'!$E$37)","v":""},{"$f":"IF('Tex-121-E Part2'!$B$6=\"\",\"\",'Tex-121-E Part2'!$B$6)","v":"TEX-121-E Part II "},{"$f":"IF( 'Tex-121-E Part2'!$B$20=\"\",\"\", 'Tex-121-E Part2'!$B$20)","v":"Moisture-Density Work Sheet"},{"$f":"IF('Tex-121-E Part2'!$B$37=\"\",\"\",'Tex-121-E Part2'!$B$37)","v":"Wet Mass Specimen, (lb):"},{"$f":"IF('Tex-121-E Part2'!$E$29=\"\",\"\",'Tex-121-E Part2'!$E$29)","v":1}]
[764,{"$f":"IF('Tex-121-E Part2'!$F$37=\"\",\"\",'Tex-121-E Part2'!$F$37)","v":""},{"$f":"IF('Tex-121-E Part2'!$B$6=\"\",\"\",'Tex-121-E Part2'!$B$6)","v":"TEX-121-E Part II "},{"$f":"IF( 'Tex-121-E Part2'!$B$20=\"\",\"\", 'Tex-121-E Part2'!$B$20)","v":"Moisture-Density Work Sheet"},{"$f":"IF('Tex-121-E Part2'!$B$37=\"\",\"\",'Tex-121-E Part2'!$B$37)","v":"Wet Mass Specimen, (lb):"},{"$f":"IF('Tex-121-E Part2'!$F$29=\"\",\"\",'Tex-121-E Part2'!$F$29)","v":2}]
[765,{"$f":"IF('Tex-121-E Part2'!$G$37=\"\",\"\",'Tex-121-E Part2'!$G$37)","v":""},{"$f":"IF('Tex-121-E Part2'!$B$6=\"\",\"\",'Tex-121-E Part2'!$B$6)","v":"TEX-121-E Part II "},{"$f":"IF( 'Tex-121-E Part2'!$B$20=\"\",\"\", 'Tex-121-E Part2'!$B$20)","v":"Moisture-Density Work Sheet"},{"$f":"IF('Tex-121-E Part2'!$B$37=\"\",\"\",'Tex-121-E Part2'!$B$37)","v":"Wet Mass Specimen, (lb):"},{"$f":"IF('Tex-121-E Part2'!$G$29=\"\",\"\",'Tex-121-E Part2'!$G$29)","v":3}]
[766,{"$f":"IF('Tex-121-E Part2'!$H$37=\"\",\"\",'Tex-121-E Part2'!$H$37)","v":""},{"$f":"IF('Tex-121-E Part2'!$B$6=\"\",\"\",'Tex-121-E Part2'!$B$6)","v":"TEX-121-E Part II "},{"$f":"IF( 'Tex-121-E Part2'!$B$20=\"\",\"\", 'Tex-121-E Part2'!$B$20)","v":"Moisture-Density Work Sheet"},{"$f":"IF('Tex-121-E Part2'!$B$37=\"\",\"\",'Tex-121-E Part2'!$B$37)","v":"Wet Mass Specimen, (lb):"},{"$f":"IF('Tex-121-E Part2'!$H$29=\"\",\"\",'Tex-121-E Part2'!$H$29)","v":4}]
[767,{"$f":"IF('Tex-121-E Part2'!$E$38=\"\",\"\",'Tex-121-E Part2'!$E$38)","v":""},{"$f":"IF('Tex-121-E Part2'!$B$6=\"\",\"\",'Tex-121-E Part2'!$B$6)","v":"TEX-121-E Part II "},{"$f":"IF( 'Tex-121-E Part2'!$B$20=\"\",\"\", 'Tex-121-E Part2'!$B$20)","v":"Moisture-Density Work Sheet"},{"$f":"IF('Tex-121-E Part2'!$B$38=\"\",\"\",'Tex-121-E Part2'!$B$38)","v":"Height of Specimen, (in.):"},{"$f":"IF('Tex-121-E Part2'!$E$29=\"\",\"\",'Tex-121-E Part2'!$E$29)","v":1}]
[768,{"$f":"IF('Tex-121-E Part2'!$F$38=\"\",\"\",'Tex-121-E Part2'!$F$38)","v":""},{"$f":"IF('Tex-121-E Part2'!$B$6=\"\",\"\",'Tex-121-E Part2'!$B$6)","v":"TEX-121-E Part II "},{"$f":"IF( 'Tex-121-E Part2'!$B$20=\"\",\"\", 'Tex-121-E Part2'!$B$20)","v":"Moisture-Density Work Sheet"},{"$f":"IF('Tex-121-E Part2'!$B$38=\"\",\"\",'Tex-121-E Part2'!$B$38)","v":"Height of Specimen, (in.):"},{"$f":"IF('Tex-121-E Part2'!$F$29=\"\",\"\",'Tex-121-E Part2'!$F$29)","v":2}]
[769,{"$f":"IF('Tex-121-E Part2'!$G$38=\"\",\"\",'Tex-121-E Part2'!$G$38)","v":""},{"$f":"IF('Tex-121-E Part2'!$B$6=\"\",\"\",'Tex-121-E Part2'!$B$6)","v":"TEX-121-E Part II "},{"$f":"IF( 'Tex-121-E Part2'!$B$20=\"\",\"\", 'Tex-121-E Part2'!$B$20)","v":"Moisture-Density Work Sheet"},{"$f":"IF('Tex-121-E Part2'!$B$38=\"\",\"\",'Tex-121-E Part2'!$B$38)","v":"Height of Specimen, (in.):"},{"$f":"IF('Tex-121-E Part2'!$G$29=\"\",\"\",'Tex-121-E Part2'!$G$29)","v":3}]
[770,{"$f":"IF('Tex-121-E Part2'!$H$38=\"\",\"\",'Tex-121-E Part2'!$H$38)","v":""},{"$f":"IF('Tex-121-E Part2'!$B$6=\"\",\"\",'Tex-121-E Part2'!$B$6)","v":"TEX-121-E Part II "},{"$f":"IF( 'Tex-121-E Part2'!$B$20=\"\",\"\", 'Tex-121-E Part2'!$B$20)","v":"Moisture-Density Work Sheet"},{"$f":"IF('Tex-121-E Part2'!$B$38=\"\",\"\",'Tex-121-E Part2'!$B$38)","v":"Height of Specimen, (in.):"},{"$f":"IF('Tex-121-E Part2'!$H$29=\"\",\"\",'Tex-121-E Part2'!$H$29)","v":4}]
[771,{"$f":"IF('Tex-121-E Part2'!$E$39=\"\",\"\",'Tex-121-E Part2'!$E$39)","v":""},{"$f":"IF('Tex-121-E Part2'!$B$6=\"\",\"\",'Tex-121-E Part2'!$B$6)","v":"TEX-121-E Part II "},{"$f":"IF( 'Tex-121-E Part2'!$B$20=\"\",\"\", 'Tex-121-E Part2'!$B$20)","v":"Moisture-Density Work Sheet"},{"$f":"IF('Tex-121-E Part2'!$B$39=\"\",\"\",'Tex-121-E Part2'!$B$39)","v":"Volume per Linear mm., (in.):"},{"$f":"IF('Tex-121-E Part2'!$E$29=\"\",\"\",'Tex-121-E Part2'!$E$29)","v":1}]
[772,{"$f":"IF('Tex-121-E Part2'!$F$39=\"\",\"\",'Tex-121-E Part2'!$F$39)","v":""},{"$f":"IF('Tex-121-E Part2'!$B$6=\"\",\"\",'Tex-121-E Part2'!$B$6)","v":"TEX-121-E Part II "},{"$f":"IF( 'Tex-121-E Part2'!$B$20=\"\",\"\", 'Tex-121-E Part2'!$B$20)","v":"Moisture-Density Work Sheet"},{"$f":"IF('Tex-121-E Part2'!$B$39=\"\",\"\",'Tex-121-E Part2'!$B$39)","v":"Volume per Linear mm., (in.):"},{"$f":"IF('Tex-121-E Part2'!$F$29=\"\",\"\",'Tex-121-E Part2'!$F$29)","v":2}]
[773,{"$f":"IF('Tex-121-E Part2'!$G$39=\"\",\"\",'Tex-121-E Part2'!$G$39)","v":""},{"$f":"IF('Tex-121-E Part2'!$B$6=\"\",\"\",'Tex-121-E Part2'!$B$6)","v":"TEX-121-E Part II "},{"$f":"IF( 'Tex-121-E Part2'!$B$20=\"\",\"\", 'Tex-121-E Part2'!$B$20)","v":"Moisture-Density Work Sheet"},{"$f":"IF('Tex-121-E Part2'!$B$39=\"\",\"\",'Tex-121-E Part2'!$B$39)","v":"Volume per Linear mm., (in.):"},{"$f":"IF('Tex-121-E Part2'!$G$29=\"\",\"\",'Tex-121-E Part2'!$G$29)","v":3}]
[774,{"$f":"IF('Tex-121-E Part2'!$H$39=\"\",\"\",'Tex-121-E Part2'!$H$39)","v":""},{"$f":"IF('Tex-121-E Part2'!$B$6=\"\",\"\",'Tex-121-E Part2'!$B$6)","v":"TEX-121-E Part II "},{"$f":"IF( 'Tex-121-E Part2'!$B$20=\"\",\"\", 'Tex-121-E Part2'!$B$20)","v":"Moisture-Density Work Sheet"},{"$f":"IF('Tex-121-E Part2'!$B$39=\"\",\"\",'Tex-121-E Part2'!$B$39)","v":"Volume per Linear mm., (in.):"},{"$f":"IF('Tex-121-E Part2'!$H$29=\"\",\"\",'Tex-121-E Part2'!$H$29)","v":4}]
[775,{"$f":"IF('Tex-121-E Part2'!$E$40=\"\",\"\",'Tex-121-E Part2'!$E$40)","v":""},{"$f":"IF('Tex-121-E Part2'!$B$6=\"\",\"\",'Tex-121-E Part2'!$B$6)","v":"TEX-121-E Part II "},{"$f":"IF( 'Tex-121-E Part2'!$B$20=\"\",\"\", 'Tex-121-E Part2'!$B$20)","v":"Moisture-Density Work Sheet"},{"$f":"IF('Tex-121-E Part2'!$B$40=\"\",\"\",'Tex-121-E Part2'!$B$40)","v":"Volume of Specimen, (ft^3):"},{"$f":"IF('Tex-121-E Part2'!$E$29=\"\",\"\",'Tex-121-E Part2'!$E$29)","v":1}]
[776,{"$f":"IF('Tex-121-E Part2'!$F$40=\"\",\"\",'Tex-121-E Part2'!$F$40)","v":""},{"$f":"IF('Tex-121-E Part2'!$B$6=\"\",\"\",'Tex-121-E Part2'!$B$6)","v":"TEX-121-E Part II "},{"$f":"IF( 'Tex-121-E Part2'!$B$20=\"\",\"\", 'Tex-121-E Part2'!$B$20)","v":"Moisture-Density Work Sheet"},{"$f":"IF('Tex-121-E Part2'!$B$40=\"\",\"\",'Tex-121-E Part2'!$B$40)","v":"Volume of Specimen, (ft^3):"},{"$f":"IF('Tex-121-E Part2'!$F$29=\"\",\"\",'Tex-121-E Part2'!$F$29)","v":2}]
[777,{"$f":"IF('Tex-121-E Part2'!$G$40=\"\",\"\",'Tex-121-E Part2'!$G$40)","v":""},{"$f":"IF('Tex-121-E Part2'!$B$6=\"\",\"\",'Tex-121-E Part2'!$B$6)","v":"TEX-121-E Part II "},{"$f":"IF( 'Tex-121-E Part2'!$B$20=\"\",\"\", 'Tex-121-E Part2'!$B$20)","v":"Moisture-Density Work Sheet"},{"$f":"IF('Tex-121-E Part2'!$B$40=\"\",\"\",'Tex-121-E Part2'!$B$40)","v":"Volume of Specimen, (ft^3):"},{"$f":"IF('Tex-121-E Part2'!$G$29=\"\",\"\",'Tex-121-E Part2'!$G$29)","v":3}]
[778,{"$f":"IF('Tex-121-E Part2'!$H$40=\"\",\"\",'Tex-121-E Part2'!$H$40)","v":""},{"$f":"IF('Tex-121-E Part2'!$B$6=\"\",\"\",'Tex-121-E Part2'!$B$6)","v":"TEX-121-E Part II "},{"$f":"IF( 'Tex-121-E Part2'!$B$20=\"\",\"\", 'Tex-121-E Part2'!$B$20)","v":"Moisture-Density Work Sheet"},{"$f":"IF('Tex-121-E Part2'!$B$40=\"\",\"\",'Tex-121-E Part2'!$B$40)","v":"Volume of Specimen, (ft^3):"},{"$f":"IF('Tex-121-E Part2'!$H$29=\"\",\"\",'Tex-121-E Part2'!$H$29)","v":4}]
[779,{"$f":"IF('Tex-121-E Part2'!$E$41=\"\",\"\",'Tex-121-E Part2'!$E$41)","v":""},{"$f":"IF('Tex-121-E Part2'!$B$6=\"\",\"\",'Tex-121-E Part2'!$B$6)","v":"TEX-121-E Part II "},{"$f":"IF( 'Tex-121-E Part2'!$B$20=\"\",\"\", 'Tex-121-E Part2'!$B$20)","v":"Moisture-Density Work Sheet"},{"$f":"IF('Tex-121-E Part2'!$B$41=\"\",\"\",'Tex-121-E Part2'!$B$41)","v":"Wet Density of Specimen, (lb):"},{"$f":"IF('Tex-121-E Part2'!$E$29=\"\",\"\",'Tex-121-E Part2'!$E$29)","v":1}]
[780,{"$f":"IF('Tex-121-E Part2'!$F$41=\"\",\"\",'Tex-121-E Part2'!$F$41)","v":""},{"$f":"IF('Tex-121-E Part2'!$B$6=\"\",\"\",'Tex-121-E Part2'!$B$6)","v":"TEX-121-E Part II "},{"$f":"IF( 'Tex-121-E Part2'!$B$20=\"\",\"\", 'Tex-121-E Part2'!$B$20)","v":"Moisture-Density Work Sheet"},{"$f":"IF('Tex-121-E Part2'!$B$41=\"\",\"\",'Tex-121-E Part2'!$B$41)","v":"Wet Density of Specimen, (lb):"},{"$f":"IF('Tex-121-E Part2'!$F$29=\"\",\"\",'Tex-121-E Part2'!$F$29)","v":2}]
[781,{"$f":"IF('Tex-121-E Part2'!$G$41=\"\",\"\",'Tex-121-E Part2'!$G$41)","v":""},{"$f":"IF('Tex-121-E Part2'!$B$6=\"\",\"\",'Tex-121-E Part2'!$B$6)","v":"TEX-121-E Part II "},{"$f":"IF( 'Tex-121-E Part2'!$B$20=\"\",\"\", 'Tex-121-E Part2'!$B$20)","v":"Moisture-Density Work Sheet"},{"$f":"IF('Tex-121-E Part2'!$B$41=\"\",\"\",'Tex-121-E Part2'!$B$41)","v":"Wet Density of Specimen, (lb):"},{"$f":"IF('Tex-121-E Part2'!$G$29=\"\",\"\",'Tex-121-E Part2'!$G$29)","v":3}]
[782,{"$f":"IF('Tex-121-E Part2'!$H$41=\"\",\"\",'Tex-121-E Part2'!$H$41)","v":""},{"$f":"IF('Tex-121-E Part2'!$B$6=\"\",\"\",'Tex-121-E Part2'!$B$6)","v":"TEX-121-E Part II "},{"$f":"IF( 'Tex-121-E Part2'!$B$20=\"\",\"\", 'Tex-121-E Part2'!$B$20)","v":"Moisture-Density Work Sheet"},{"$f":"IF('Tex-121-E Part2'!$B$41=\"\",\"\",'Tex-121-E Part2'!$B$41)","v":"Wet Density of Specimen, (lb):"},{"$f":"IF('Tex-121-E Part2'!$H$29=\"\",\"\",'Tex-121-E Part2'!$H$29)","v":4}]
[783,{"$f":"IF('Tex-121-E Part2'!$E$42=\"\",\"\",'Tex-121-E Part2'!$E$42)","v":""},{"$f":"IF('Tex-121-E Part2'!$B$6=\"\",\"\",'Tex-121-E Part2'!$B$6)","v":"TEX-121-E Part II "},{"$f":"IF( 'Tex-121-E Part2'!$B$20=\"\",\"\", 'Tex-121-E Part2'!$B$20)","v":"Moisture-Density Work Sheet"},{"$f":"IF('Tex-121-E Part2'!$B$42=\"\",\"\",'Tex-121-E Part2'!$B$42)","v":"Wet Mass of Pan & Specimen, (lb):"},{"$f":"IF('Tex-121-E Part2'!$E$29=\"\",\"\",'Tex-121-E Part2'!$E$29)","v":1}]
[784,{"$f":"IF('Tex-121-E Part2'!$F$42=\"\",\"\",'Tex-121-E Part2'!$F$42)","v":""},{"$f":"IF('Tex-121-E Part2'!$B$6=\"\",\"\",'Tex-121-E Part2'!$B$6)","v":"TEX-121-E Part II "},{"$f":"IF( 'Tex-121-E Part2'!$B$20=\"\",\"\", 'Tex-121-E Part2'!$B$20)","v":"Moisture-Density Work Sheet"},{"$f":"IF('Tex-121-E Part2'!$B$42=\"\",\"\",'Tex-121-E Part2'!$B$42)","v":"Wet Mass of Pan & Specimen, (lb):"},{"$f":"IF('Tex-121-E Part2'!$F$29=\"\",\"\",'Tex-121-E Part2'!$F$29)","v":2}]
[785,{"$f":"IF('Tex-121-E Part2'!$G$42=\"\",\"\",'Tex-121-E Part2'!$G$42)","v":""},{"$f":"IF('Tex-121-E Part2'!$B$6=\"\",\"\",'Tex-121-E Part2'!$B$6)","v":"TEX-121-E Part II "},{"$f":"IF( 'Tex-121-E Part2'!$B$20=\"\",\"\", 'Tex-121-E Part2'!$B$20)","v":"Moisture-Density Work Sheet"},{"$f":"IF('Tex-121-E Part2'!$B$42=\"\",\"\",'Tex-121-E Part2'!$B$42)","v":"Wet Mass of Pan & Specimen, (lb):"},{"$f":"IF('Tex-121-E Part2'!$G$29=\"\",\"\",'Tex-121-E Part2'!$G$29)","v":3}]
[786,{"$f":"IF('Tex-121-E Part2'!$H$42=\"\",\"\",'Tex-121-E Part2'!$H$42)","v":""},{"$f":"IF('Tex-121-E Part2'!$B$6=\"\",\"\",'Tex-121-E Part2'!$B$6)","v":"TEX-121-E Part II "},{"$f":"IF( 'Tex-121-E Part2'!$B$20=\"\",\"\", 'Tex-121-E Part2'!$B$20)","v":"Moisture-Density Work Sheet"},{"$f":"IF('Tex-121-E Part2'!$B$42=\"\",\"\",'Tex-121-E Part2'!$B$42)","v":"Wet Mass of Pan & Specimen, (lb):"},{"$f":"IF('Tex-121-E Part2'!$H$29=\"\",\"\",'Tex-121-E Part2'!$H$29)","v":4}]
[787,{"$f":"IF('Tex-121-E Part2'!$E$43=\"\",\"\",'Tex-121-E Part2'!$E$43)","v":""},{"$f":"IF('Tex-121-E Part2'!$B$6=\"\",\"\",'Tex-121-E Part2'!$B$6)","v":"TEX-121-E Part II "},{"$f":"IF( 'Tex-121-E Part2'!$B$20=\"\",\"\", 'Tex-121-E Part2'!$B$20)","v":"Moisture-Density Work Sheet"},{"$f":"IF('Tex-121-E Part2'!$B$43=\"\",\"\",'Tex-121-E Part2'!$B$43)","v":"Dry Mass Pan & Specimen, (lb):"},{"$f":"IF('Tex-121-E Part2'!$E$29=\"\",\"\",'Tex-121-E Part2'!$E$29)","v":1}]
[788,{"$f":"IF('Tex-121-E Part2'!$F$43=\"\",\"\",'Tex-121-E Part2'!$F$43)","v":""},{"$f":"IF('Tex-121-E Part2'!$B$6=\"\",\"\",'Tex-121-E Part2'!$B$6)","v":"TEX-121-E Part II "},{"$f":"IF( 'Tex-121-E Part2'!$B$20=\"\",\"\", 'Tex-121-E Part2'!$B$20)","v":"Moisture-Density Work Sheet"},{"$f":"IF('Tex-121-E Part2'!$B$43=\"\",\"\",'Tex-121-E Part2'!$B$43)","v":"Dry Mass Pan & Specimen, (lb):"},{"$f":"IF('Tex-121-E Part2'!$F$29=\"\",\"\",'Tex-121-E Part2'!$F$29)","v":2}]
[789,{"$f":"IF('Tex-121-E Part2'!$G$43=\"\",\"\",'Tex-121-E Part2'!$G$43)","v":""},{"$f":"IF('Tex-121-E Part2'!$B$6=\"\",\"\",'Tex-121-E Part2'!$B$6)","v":"TEX-121-E Part II "},{"$f":"IF( 'Tex-121-E Part2'!$B$20=\"\",\"\", 'Tex-121-E Part2'!$B$20)","v":"Moisture-Density Work Sheet"},{"$f":"IF('Tex-121-E Part2'!$B$43=\"\",\"\",'Tex-121-E Part2'!$B$43)","v":"Dry Mass Pan & Specimen, (lb):"},{"$f":"IF('Tex-121-E Part2'!$G$29=\"\",\"\",'Tex-121-E Part2'!$G$29)","v":3}]
[790,{"$f":"IF('Tex-121-E Part2'!$H$43=\"\",\"\",'Tex-121-E Part2'!$H$43)","v":""},{"$f":"IF('Tex-121-E Part2'!$B$6=\"\",\"\",'Tex-121-E Part2'!$B$6)","v":"TEX-121-E Part II "},{"$f":"IF( 'Tex-121-E Part2'!$B$20=\"\",\"\", 'Tex-121-E Part2'!$B$20)","v":"Moisture-Density Work Sheet"},{"$f":"IF('Tex-121-E Part2'!$B$43=\"\",\"\",'Tex-121-E Part2'!$B$43)","v":"Dry Mass Pan & Specimen, (lb):"},{"$f":"IF('Tex-121-E Part2'!$H$29=\"\",\"\",'Tex-121-E Part2'!$H$29)","v":4}]
[791,{"$f":"IF('Tex-121-E Part2'!$E$44=\"\",\"\",'Tex-121-E Part2'!$E$44)","v":""},{"$f":"IF('Tex-121-E Part2'!$B$6=\"\",\"\",'Tex-121-E Part2'!$B$6)","v":"TEX-121-E Part II "},{"$f":"IF( 'Tex-121-E Part2'!$B$20=\"\",\"\", 'Tex-121-E Part2'!$B$20)","v":"Moisture-Density Work Sheet"},{"$f":"IF('Tex-121-E Part2'!$B$44=\"\",\"\",'Tex-121-E Part2'!$B$44)","v":"Tare Mass Pan, (lb):"},{"$f":"IF('Tex-121-E Part2'!$E$29=\"\",\"\",'Tex-121-E Part2'!$E$29)","v":1}]
[792,{"$f":"IF('Tex-121-E Part2'!$F$44=\"\",\"\",'Tex-121-E Part2'!$F$44)","v":""},{"$f":"IF('Tex-121-E Part2'!$B$6=\"\",\"\",'Tex-121-E Part2'!$B$6)","v":"TEX-121-E Part II "},{"$f":"IF( 'Tex-121-E Part2'!$B$20=\"\",\"\", 'Tex-121-E Part2'!$B$20)","v":"Moisture-Density Work Sheet"},{"$f":"IF('Tex-121-E Part2'!$B$44=\"\",\"\",'Tex-121-E Part2'!$B$44)","v":"Tare Mass Pan, (lb):"},{"$f":"IF('Tex-121-E Part2'!$F$29=\"\",\"\",'Tex-121-E Part2'!$F$29)","v":2}]
[793,{"$f":"IF('Tex-121-E Part2'!$G$44=\"\",\"\",'Tex-121-E Part2'!$G$44)","v":""},{"$f":"IF('Tex-121-E Part2'!$B$6=\"\",\"\",'Tex-121-E Part2'!$B$6)","v":"TEX-121-E Part II "},{"$f":"IF( 'Tex-121-E Part2'!$B$20=\"\",\"\", 'Tex-121-E Part2'!$B$20)","v":"Moisture-Density Work Sheet"},{"$f":"IF('Tex-121-E Part2'!$B$44=\"\",\"\",'Tex-121-E Part2'!$B$44)","v":"Tare Mass Pan, (lb):"},{"$f":"IF('Tex-121-E Part2'!$G$29=\"\",\"\",'Tex-121-E Part2'!$G$29)","v":3}]
[794,{"$f":"IF('Tex-121-E Part2'!$H$44=\"\",\"\",'Tex-121-E Part2'!$H$44)","v":""},{"$f":"IF('Tex-121-E Part2'!$B$6=\"\",\"\",'Tex-121-E Part2'!$B$6)","v":"TEX-121-E Part II "},{"$f":"IF( 'Tex-121-E Part2'!$B$20=\"\",\"\", 'Tex-121-E Part2'!$B$20)","v":"Moisture-Density Work Sheet"},{"$f":"IF('Tex-121-E Part2'!$B$44=\"\",\"\",'Tex-121-E Part2'!$B$44)","v":"Tare Mass Pan, (lb):"},{"$f":"IF('Tex-121-E Part2'!$H$29=\"\",\"\",'Tex-121-E Part2'!$H$29)","v":4}]
[795,{"$f":"IF('Tex-121-E Part2'!$E$45=\"\",\"\",'Tex-121-E Part2'!$E$45)","v":""},{"$f":"IF('Tex-121-E Part2'!$B$6=\"\",\"\",'Tex-121-E Part2'!$B$6)","v":"TEX-121-E Part II "},{"$f":"IF( 'Tex-121-E Part2'!$B$20=\"\",\"\", 'Tex-121-E Part2'!$B$20)","v":"Moisture-Density Work Sheet"},{"$f":"IF('Tex-121-E Part2'!$B$45=\"\",\"\",'Tex-121-E Part2'!$B$45)","v":"Dry Mass Material , (lb):"},{"$f":"IF('Tex-121-E Part2'!$E$29=\"\",\"\",'Tex-121-E Part2'!$E$29)","v":1}]
[796,{"$f":"IF('Tex-121-E Part2'!$F$45=\"\",\"\",'Tex-121-E Part2'!$F$45)","v":""},{"$f":"IF('Tex-121-E Part2'!$B$6=\"\",\"\",'Tex-121-E Part2'!$B$6)","v":"TEX-121-E Part II "},{"$f":"IF( 'Tex-121-E Part2'!$B$20=\"\",\"\", 'Tex-121-E Part2'!$B$20)","v":"Moisture-Density Work Sheet"},{"$f":"IF('Tex-121-E Part2'!$B$45=\"\",\"\",'Tex-121-E Part2'!$B$45)","v":"Dry Mass Material , (lb):"},{"$f":"IF('Tex-121-E Part2'!$F$29=\"\",\"\",'Tex-121-E Part2'!$F$29)","v":2}]
[797,{"$f":"IF('Tex-121-E Part2'!$G$45=\"\",\"\",'Tex-121-E Part2'!$G$45)","v":""},{"$f":"IF('Tex-121-E Part2'!$B$6=\"\",\"\",'Tex-121-E Part2'!$B$6)","v":"TEX-121-E Part II "},{"$f":"IF( 'Tex-121-E Part2'!$B$20=\"\",\"\", 'Tex-121-E Part2'!$B$20)","v":"Moisture-Density Work Sheet"},{"$f":"IF('Tex-121-E Part2'!$B$45=\"\",\"\",'Tex-121-E Part2'!$B$45)","v":"Dry Mass Material , (lb):"},{"$f":"IF('Tex-121-E Part2'!$G$29=\"\",\"\",'Tex-121-E Part2'!$G$29)","v":3}]
[798,{"$f":"IF('Tex-121-E Part2'!$H$45=\"\",\"\",'Tex-121-E Part2'!$H$45)","v":""},{"$f":"IF('Tex-121-E Part2'!$B$6=\"\",\"\",'Tex-121-E Part2'!$B$6)","v":"TEX-121-E Part II "},{"$f":"IF( 'Tex-121-E Part2'!$B$20=\"\",\"\", 'Tex-121-E Part2'!$B$20)","v":"Moisture-Density Work Sheet"},{"$f":"IF('Tex-121-E Part2'!$B$45=\"\",\"\",'Tex-121-E Part2'!$B$45)","v":"Dry Mass Material , (lb):"},{"$f":"IF('Tex-121-E Part2'!$H$29=\"\",\"\",'Tex-121-E Part2'!$H$29)","v":4}]
[799,{"$f":"IF('Tex-121-E Part2'!$E$46=\"\",\"\",'Tex-121-E Part2'!$E$46)","v":""},{"$f":"IF('Tex-121-E Part2'!$B$6=\"\",\"\",'Tex-121-E Part2'!$B$6)","v":"TEX-121-E Part II "},{"$f":"IF( 'Tex-121-E Part2'!$B$20=\"\",\"\", 'Tex-121-E Part2'!$B$20)","v":"Moisture-Density Work Sheet"},{"$f":"IF('Tex-121-E Part2'!$B$46=\"\",\"\",'Tex-121-E Part2'!$B$46)","v":"Mass Water, (lb):"},{"$f":"IF('Tex-121-E Part2'!$E$29=\"\",\"\",'Tex-121-E Part2'!$E$29)","v":1}]
[800,{"$f":"IF('Tex-121-E Part2'!$F$46=\"\",\"\",'Tex-121-E Part2'!$F$46)","v":""},{"$f":"IF('Tex-121-E Part2'!$B$6=\"\",\"\",'Tex-121-E Part2'!$B$6)","v":"TEX-121-E Part II "},{"$f":"IF( 'Tex-121-E Part2'!$B$20=\"\",\"\", 'Tex-121-E Part2'!$B$20)","v":"Moisture-Density Work Sheet"},{"$f":"IF('Tex-121-E Part2'!$B$46=\"\",\"\",'Tex-121-E Part2'!$B$46)","v":"Mass Water, (lb):"},{"$f":"IF('Tex-121-E Part2'!$F$29=\"\",\"\",'Tex-121-E Part2'!$F$29)","v":2}]
[801,{"$f":"IF('Tex-121-E Part2'!$G$46=\"\",\"\",'Tex-121-E Part2'!$G$46)","v":""},{"$f":"IF('Tex-121-E Part2'!$B$6=\"\",\"\",'Tex-121-E Part2'!$B$6)","v":"TEX-121-E Part II "},{"$f":"IF( 'Tex-121-E Part2'!$B$20=\"\",\"\", 'Tex-121-E Part2'!$B$20)","v":"Moisture-Density Work Sheet"},{"$f":"IF('Tex-121-E Part2'!$B$46=\"\",\"\",'Tex-121-E Part2'!$B$46)","v":"Mass Water, (lb):"},{"$f":"IF('Tex-121-E Part2'!$G$29=\"\",\"\",'Tex-121-E Part2'!$G$29)","v":3}]
[802,{"$f":"IF('Tex-121-E Part2'!$H$46=\"\",\"\",'Tex-121-E Part2'!$H$46)","v":""},{"$f":"IF('Tex-121-E Part2'!$B$6=\"\",\"\",'Tex-121-E Part2'!$B$6)","v":"TEX-121-E Part II "},{"$f":"IF( 'Tex-121-E Part2'!$B$20=\"\",\"\", 'Tex-121-E Part2'!$B$20)","v":"Moisture-Density Work Sheet"},{"$f":"IF('Tex-121-E Part2'!$B$46=\"\",\"\",'Tex-121-E Part2'!$B$46)","v":"Mass Water, (lb):"},{"$f":"IF('Tex-121-E Part2'!$H$29=\"\",\"\",'Tex-121-E Part2'!$H$29)","v":4}]
[803,{"$f":"IF('Tex-121-E Part2'!$E$47=\"\",\"\",'Tex-121-E Part2'!$E$47)","v":""},{"$f":"IF('Tex-121-E Part2'!$B$6=\"\",\"\",'Tex-121-E Part2'!$B$6)","v":"TEX-121-E Part II "},{"$f":"IF( 'Tex-121-E Part2'!$B$20=\"\",\"\", 'Tex-121-E Part2'!$B$20)","v":"Moisture-Density Work Sheet"},{"$f":"IF('Tex-121-E Part2'!$B$47=\"\",\"\",'Tex-121-E Part2'!$B$47)","v":"Percent Water on Total , (%):"},{"$f":"IF('Tex-121-E Part2'!$E$29=\"\",\"\",'Tex-121-E Part2'!$E$29)","v":1}]
[804,{"$f":"IF('Tex-121-E Part2'!$F$47=\"\",\"\",'Tex-121-E Part2'!$F$47)","v":""},{"$f":"IF('Tex-121-E Part2'!$B$6=\"\",\"\",'Tex-121-E Part2'!$B$6)","v":"TEX-121-E Part II "},{"$f":"IF( 'Tex-121-E Part2'!$B$20=\"\",\"\", 'Tex-121-E Part2'!$B$20)","v":"Moisture-Density Work Sheet"},{"$f":"IF('Tex-121-E Part2'!$B$47=\"\",\"\",'Tex-121-E Part2'!$B$47)","v":"Percent Water on Total , (%):"},{"$f":"IF('Tex-121-E Part2'!$F$29=\"\",\"\",'Tex-121-E Part2'!$F$29)","v":2}]
[805,{"$f":"IF('Tex-121-E Part2'!$G$47=\"\",\"\",'Tex-121-E Part2'!$G$47)","v":""},{"$f":"IF('Tex-121-E Part2'!$B$6=\"\",\"\",'Tex-121-E Part2'!$B$6)","v":"TEX-121-E Part II "},{"$f":"IF( 'Tex-121-E Part2'!$B$20=\"\",\"\", 'Tex-121-E Part2'!$B$20)","v":"Moisture-Density Work Sheet"},{"$f":"IF('Tex-121-E Part2'!$B$47=\"\",\"\",'Tex-121-E Part2'!$B$47)","v":"Percent Water on Total , (%):"},{"$f":"IF('Tex-121-E Part2'!$G$29=\"\",\"\",'Tex-121-E Part2'!$G$29)","v":3}]
[806,{"$f":"IF('Tex-121-E Part2'!$H$47=\"\",\"\",'Tex-121-E Part2'!$H$47)","v":""},{"$f":"IF('Tex-121-E Part2'!$B$6=\"\",\"\",'Tex-121-E Part2'!$B$6)","v":"TEX-121-E Part II "},{"$f":"IF( 'Tex-121-E Part2'!$B$20=\"\",\"\", 'Tex-121-E Part2'!$B$20)","v":"Moisture-Density Work Sheet"},{"$f":"IF('Tex-121-E Part2'!$B$47=\"\",\"\",'Tex-121-E Part2'!$B$47)","v":"Percent Water on Total , (%):"},{"$f":"IF('Tex-121-E Part2'!$H$29=\"\",\"\",'Tex-121-E Part2'!$H$29)","v":4}]
[807,{"$f":"IF('Tex-121-E Part2'!$E$48=\"\",\"\",'Tex-121-E Part2'!$E$48)","v":""},{"$f":"IF('Tex-121-E Part2'!$B$6=\"\",\"\",'Tex-121-E Part2'!$B$6)","v":"TEX-121-E Part II "},{"$f":"IF( 'Tex-121-E Part2'!$B$20=\"\",\"\", 'Tex-121-E Part2'!$B$20)","v":"Moisture-Density Work Sheet"},{"$f":"IF('Tex-121-E Part2'!$B$48=\"\",\"\",'Tex-121-E Part2'!$B$48)","v":"Dry Density, (pcf):"},{"$f":"IF('Tex-121-E Part2'!$E$29=\"\",\"\",'Tex-121-E Part2'!$E$29)","v":1}]
[808,{"$f":"IF('Tex-121-E Part2'!$F$48=\"\",\"\",'Tex-121-E Part2'!$F$48)","v":""},{"$f":"IF('Tex-121-E Part2'!$B$6=\"\",\"\",'Tex-121-E Part2'!$B$6)","v":"TEX-121-E Part II "},{"$f":"IF( 'Tex-121-E Part2'!$B$20=\"\",\"\", 'Tex-121-E Part2'!$B$20)","v":"Moisture-Density Work Sheet"},{"$f":"IF('Tex-121-E Part2'!$B$48=\"\",\"\",'Tex-121-E Part2'!$B$48)","v":"Dry Density, (pcf):"},{"$f":"IF('Tex-121-E Part2'!$F$29=\"\",\"\",'Tex-121-E Part2'!$F$29)","v":2}]
[809,{"$f":"IF('Tex-121-E Part2'!$G$48=\"\",\"\",'Tex-121-E Part2'!$G$48)","v":""},{"$f":"IF('Tex-121-E Part2'!$B$6=\"\",\"\",'Tex-121-E Part2'!$B$6)","v":"TEX-121-E Part II "},{"$f":"IF( 'Tex-121-E Part2'!$B$20=\"\",\"\", 'Tex-121-E Part2'!$B$20)","v":"Moisture-Density Work Sheet"},{"$f":"IF('Tex-121-E Part2'!$B$48=\"\",\"\",'Tex-121-E Part2'!$B$48)","v":"Dry Density, (pcf):"},{"$f":"IF('Tex-121-E Part2'!$G$29=\"\",\"\",'Tex-121-E Part2'!$G$29)","v":3}]
[810,{"$f":"IF('Tex-121-E Part2'!$H$48=\"\",\"\",'Tex-121-E Part2'!$H$48)","v":""},{"$f":"IF('Tex-121-E Part2'!$B$6=\"\",\"\",'Tex-121-E Part2'!$B$6)","v":"TEX-121-E Part II "},{"$f":"IF( 'Tex-121-E Part2'!$B$20=\"\",\"\", 'Tex-121-E Part2'!$B$20)","v":"Moisture-Density Work Sheet"},{"$f":"IF('Tex-121-E Part2'!$B$48=\"\",\"\",'Tex-121-E Part2'!$B$48)","v":"Dry Density, (pcf):"},{"$f":"IF('Tex-121-E Part2'!$H$29=\"\",\"\",'Tex-121-E Part2'!$H$29)","v":4}]
[811,{"$f":"IF('Tex-121-E Part2'!$E$49=\"\",\"\",'Tex-121-E Part2'!$E$49)","v":""},{"$f":"IF('Tex-121-E Part2'!$B$6=\"\",\"\",'Tex-121-E Part2'!$B$6)","v":"TEX-121-E Part II "},{"$f":"IF( 'Tex-121-E Part2'!$B$20=\"\",\"\", 'Tex-121-E Part2'!$B$20)","v":"Moisture-Density Work Sheet"},{"$f":"IF('Tex-121-E Part2'!$B$49=\"\",\"\",'Tex-121-E Part2'!$B$49)","v":"Estimated Dry Density, (pcf):"},{"$f":"IF('Tex-121-E Part2'!$E$29=\"\",\"\",'Tex-121-E Part2'!$E$29)","v":1}]
[812,{"$f":"IF('Tex-121-E Part2'!$F$49=\"\",\"\",'Tex-121-E Part2'!$F$49)","v":""},{"$f":"IF('Tex-121-E Part2'!$B$6=\"\",\"\",'Tex-121-E Part2'!$B$6)","v":"TEX-121-E Part II "},{"$f":"IF( 'Tex-121-E Part2'!$B$20=\"\",\"\", 'Tex-121-E Part2'!$B$20)","v":"Moisture-Density Work Sheet"},{"$f":"IF('Tex-121-E Part2'!$B$49=\"\",\"\",'Tex-121-E Part2'!$B$49)","v":"Estimated Dry Density, (pcf):"},{"$f":"IF('Tex-121-E Part2'!$F$29=\"\",\"\",'Tex-121-E Part2'!$F$29)","v":2}]
[813,{"$f":"IF('Tex-121-E Part2'!$G$49=\"\",\"\",'Tex-121-E Part2'!$G$49)","v":""},{"$f":"IF('Tex-121-E Part2'!$B$6=\"\",\"\",'Tex-121-E Part2'!$B$6)","v":"TEX-121-E Part II "},{"$f":"IF( 'Tex-121-E Part2'!$B$20=\"\",\"\", 'Tex-121-E Part2'!$B$20)","v":"Moisture-Density Work Sheet"},{"$f":"IF('Tex-121-E Part2'!$B$49=\"\",\"\",'Tex-121-E Part2'!$B$49)","v":"Estimated Dry Density, (pcf):"},{"$f":"IF('Tex-121-E Part2'!$G$29=\"\",\"\",'Tex-121-E Part2'!$G$29)","v":3}]
[814,{"$f":"IF('Tex-121-E Part2'!$H$49=\"\",\"\",'Tex-121-E Part2'!$H$49)","v":""},{"$f":"IF('Tex-121-E Part2'!$B$6=\"\",\"\",'Tex-121-E Part2'!$B$6)","v":"TEX-121-E Part II "},{"$f":"IF( 'Tex-121-E Part2'!$B$20=\"\",\"\", 'Tex-121-E Part2'!$B$20)","v":"Moisture-Density Work Sheet"},{"$f":"IF('Tex-121-E Part2'!$B$49=\"\",\"\",'Tex-121-E Part2'!$B$49)","v":"Estimated Dry Density, (pcf):"},{"$f":"IF('Tex-121-E Part2'!$H$29=\"\",\"\",'Tex-121-E Part2'!$H$29)","v":4}]
[815,{"$f":"IF('Tex-121-E Part2'!$E$50=\"\",\"\",'Tex-121-E Part2'!$E$50)","v":""},{"$f":"IF('Tex-121-E Part2'!$B$6=\"\",\"\",'Tex-121-E Part2'!$B$6)","v":"TEX-121-E Part II "},{"$f":"IF( 'Tex-121-E Part2'!$B$20=\"\",\"\", 'Tex-121-E Part2'!$B$20)","v":"Moisture-Density Work Sheet"},{"$f":"IF('Tex-121-E Part2'!$B$50=\"\",\"\",'Tex-121-E Part2'!$B$50)","v":"Max Density, (pcf):"}]
[816,{"$f":"IF('Tex-121-E Part2'!$E$51=\"\",\"\",'Tex-121-E Part2'!$E$51)","v":""},{"$f":"IF('Tex-121-E Part2'!$B$6=\"\",\"\",'Tex-121-E Part2'!$B$6)","v":"TEX-121-E Part II "},{"$f":"IF( 'Tex-121-E Part2'!$B$20=\"\",\"\", 'Tex-121-E Part2'!$B$20)","v":"Moisture-Density Work Sheet"},{"$f":"IF('Tex-121-E Part2'!$B$51=\"\",\"\",'Tex-121-E Part2'!$B$51)","v":"Max Density, (kg/m3):"}]
[817,{"$f":"IF('Tex-121-E Part2'!$E$52=\"\",\"\",'Tex-121-E Part2'!$E$52)","v":""},{"$f":"IF('Tex-121-E Part2'!$B$6=\"\",\"\",'Tex-121-E Part2'!$B$6)","v":"TEX-121-E Part II "},{"$f":"IF( 'Tex-121-E Part2'!$B$20=\"\",\"\", 'Tex-121-E Part2'!$B$20)","v":"Moisture-Density Work Sheet"},{"$f":"IF('Tex-121-E Part2'!$B$52=\"\",\"\",'Tex-121-E Part2'!$B$52)","v":"Optimum Moisture, (%):"}]
[818,{"$f":"IF('Tex-121-E Part2'!$B$55=\"\",\"\",'Tex-121-E Part2'!$B$55)","v":""},{"$f":"IF('Tex-121-E Part2'!$B$6=\"\",\"\",'Tex-121-E Part2'!$B$6)","v":"TEX-121-E Part II "},{"$f":"IF( 'Tex-121-E Part2'!$B$20=\"\",\"\", 'Tex-121-E Part2'!$B$20)","v":"Moisture-Density Work Sheet"},{"$f":"IF('Tex-121-E Part2'!$B$54=\"\",\"\",'Tex-121-E Part2'!$B$54)","v":"Remarks:"}]
[819,{"$f":"IF('Tex-121-E, Pt3'!$F$19=\"\",\"\",'Tex-121-E, Pt3'!$F$19)","v":""},{"$f":"IF('Tex-121-E, Pt3'!$B$3=\"\",\"\",'Tex-121-E, Pt3'!$B$3)","v":"Tex-121-E, Part III "},{"$f":"IF('Tex-121-E, Pt3'!$E$19=\"\",\"\",'Tex-121-E, Pt3'!$E$19)","v":1},{"$f":"IF('Tex-121-E, Pt3'!$F$18=\"\",\"\",'Tex-121-E, Pt3'!$F$18)","v":"% Lime"}]
[820,{"$f":"IF('Tex-121-E, Pt3'!$G$19=\"\",\"\",'Tex-121-E, Pt3'!$G$19)","v":""},{"$f":"IF('Tex-121-E, Pt3'!$B$3=\"\",\"\",'Tex-121-E, Pt3'!$B$3)","v":"Tex-121-E, Part III "},{"$f":"IF('Tex-121-E, Pt3'!$E$19=\"\",\"\",'Tex-121-E, Pt3'!$E$19)","v":1},{"$f":"IF('Tex-121-E, Pt3'!$G$18=\"\",\"\",'Tex-121-E, Pt3'!$G$18)","v":"pH"}]
[821,{"$f":"IF('Tex-121-E, Pt3'!$F$20=\"\",\"\",'Tex-121-E, Pt3'!$F$20)","v":""},{"$f":"IF('Tex-121-E, Pt3'!$B$3=\"\",\"\",'Tex-121-E, Pt3'!$B$3)","v":"Tex-121-E, Part III "},{"$f":"IF('Tex-121-E, Pt3'!$E$20=\"\",\"\",'Tex-121-E, Pt3'!$E$20)","v":2},{"$f":"IF('Tex-121-E, Pt3'!$F$18=\"\",\"\",'Tex-121-E, Pt3'!$F$18)","v":"% Lime"}]
[822,{"$f":"IF('Tex-121-E, Pt3'!$G$20=\"\",\"\",'Tex-121-E, Pt3'!$G$20)","v":""},{"$f":"IF('Tex-121-E, Pt3'!$B$3=\"\",\"\",'Tex-121-E, Pt3'!$B$3)","v":"Tex-121-E, Part III "},{"$f":"IF('Tex-121-E, Pt3'!$E$20=\"\",\"\",'Tex-121-E, Pt3'!$E$20)","v":2},{"$f":"IF('Tex-121-E, Pt3'!$G$18=\"\",\"\",'Tex-121-E, Pt3'!$G$18)","v":"pH"}]
[823,{"$f":"IF('Tex-121-E, Pt3'!$F$21=\"\",\"\",'Tex-121-E, Pt3'!$F$21)","v":""},{"$f":"IF('Tex-121-E, Pt3'!$B$3=\"\",\"\",'Tex-121-E, Pt3'!$B$3)","v":"Tex-121-E, Part III "},{"$f":"IF('Tex-121-E, Pt3'!$E$21=\"\",\"\",'Tex-121-E, Pt3'!$E$21)","v":3},{"$f":"IF('Tex-121-E, Pt3'!$F$18=\"\",\"\",'Tex-121-E, Pt3'!$F$18)","v":"% Lime"}]
[824,{"$f":"IF('Tex-121-E, Pt3'!$G$21=\"\",\"\",'Tex-121-E, Pt3'!$G$21)","v":""},{"$f":"IF('Tex-121-E, Pt3'!$B$3=\"\",\"\",'Tex-121-E, Pt3'!$B$3)","v":"Tex-121-E, Part III "},{"$f":"IF('Tex-121-E, Pt3'!$E$21=\"\",\"\",'Tex-121-E, Pt3'!$E$21)","v":3},{"$f":"IF('Tex-121-E, Pt3'!$G$18=\"\",\"\",'Tex-121-E, Pt3'!$G$18)","v":"pH"}]
[825,{"$f":"IF('Tex-121-E, Pt3'!$F$22=\"\",\"\",'Tex-121-E, Pt3'!$F$22)","v":""},{"$f":"IF('Tex-121-E, Pt3'!$B$3=\"\",\"\",'Tex-121-E, Pt3'!$B$3)","v":"Tex-121-E, Part III "},{"$f":"IF('Tex-121-E, Pt3'!$E$22=\"\",\"\",'Tex-121-E, Pt3'!$E$22)","v":4},{"$f":"IF('Tex-121-E, Pt3'!$F$18=\"\",\"\",'Tex-121-E, Pt3'!$F$18)","v":"% Lime"}]
[826,{"$f":"IF('Tex-121-E, Pt3'!$G$22=\"\",\"\",'Tex-121-E, Pt3'!$G$22)","v":""},{"$f":"IF('Tex-121-E, Pt3'!$B$3=\"\",\"\",'Tex-121-E, Pt3'!$B$3)","v":"Tex-121-E, Part III "},{"$f":"IF('Tex-121-E, Pt3'!$E$22=\"\",\"\",'Tex-121-E, Pt3'!$E$22)","v":4},{"$f":"IF('Tex-121-E, Pt3'!$G$18=\"\",\"\",'Tex-121-E, Pt3'!$G$18)","v":"pH"}]
[827,{"$f":"IF('Tex-121-E, Pt3'!$F$23=\"\",\"\",'Tex-121-E, Pt3'!$F$23)","v":""},{"$f":"IF('Tex-121-E, Pt3'!$B$3=\"\",\"\",'Tex-121-E, Pt3'!$B$3)","v":"Tex-121-E, Part III "},{"$f":"IF('Tex-121-E, Pt3'!$E$23=\"\",\"\",'Tex-121-E, Pt3'!$E$23)","v":5},{"$f":"IF('Tex-121-E, Pt3'!$F$18=\"\",\"\",'Tex-121-E, Pt3'!$F$18)","v":"% Lime"}]
[828,{"$f":"IF('Tex-121-E, Pt3'!$G$23=\"\",\"\",'Tex-121-E, Pt3'!$G$23)","v":""},{"$f":"IF('Tex-121-E, Pt3'!$B$3=\"\",\"\",'Tex-121-E, Pt3'!$B$3)","v":"Tex-121-E, Part III "},{"$f":"IF('Tex-121-E, Pt3'!$E$23=\"\",\"\",'Tex-121-E, Pt3'!$E$23)","v":5},{"$f":"IF('Tex-121-E, Pt3'!$G$18=\"\",\"\",'Tex-121-E, Pt3'!$G$18)","v":"pH"}]
[829,{"$f":"IF('Tex-121-E, Pt3'!$F$24=\"\",\"\",'Tex-121-E, Pt3'!$F$24)","v":""},{"$f":"IF('Tex-121-E, Pt3'!$B$3=\"\",\"\",'Tex-121-E, Pt3'!$B$3)","v":"Tex-121-E, Part III "},{"$f":"IF('Tex-121-E, Pt3'!$E$24=\"\",\"\",'Tex-121-E, Pt3'!$E$24)","v":6},{"$f":"IF('Tex-121-E, Pt3'!$F$18=\"\",\"\",'Tex-121-E, Pt3'!$F$18)","v":"% Lime"}]
[830,{"$f":"IF('Tex-121-E, Pt3'!$G$24=\"\",\"\",'Tex-121-E, Pt3'!$G$24)","v":""},{"$f":"IF('Tex-121-E, Pt3'!$B$3=\"\",\"\",'Tex-121-E, Pt3'!$B$3)","v":"Tex-121-E, Part III "},{"$f":"IF('Tex-121-E, Pt3'!$E$24=\"\",\"\",'Tex-121-E, Pt3'!$E$24)","v":6},{"$f":"IF('Tex-121-E, Pt3'!$G$18=\"\",\"\",'Tex-121-E, Pt3'!$G$18)","v":"pH"}]
[831,{"$f":"IF('Tex-121-E, Pt3'!$F$26=\"\",\"\",'Tex-121-E, Pt3'!$F$26)","v":""},{"$f":"IF('Tex-121-E, Pt3'!$B$3=\"\",\"\",'Tex-121-E, Pt3'!$B$3)","v":"Tex-121-E, Part III "},{"$f":"IF('Tex-121-E, Pt3'!$E$26=\"\",\"\",'Tex-121-E, Pt3'!$E$26)","v":"Recommended % Lime:"}]
[832,{"$f":"IF('Compressive Strength'!$D$76=\"\",\"\",'Compressive Strength'!$D$76)","v":""},"Tested By ",{"$f":"IF('Compressive Strength'!$B$76=\"\",\"\",'Compressive Strength'!$B$76)","v":"TX120PI"}]
[833,{"$f":"IF('Compressive Strength'!$J$76=\"\",\"\",'Compressive Strength'!$J$76)","v":""},"Tested Date ",{"$f":"IF('Compressive Strength'!$B$76=\"\",\"\",'Compressive Strength'!$B$76)","v":"TX120PI"}]
[834,{"$f":"IF('Compressive Strength'!$D$80=\"\",\"\",'Compressive Strength'!$D$80)","v":""},"Tested By ",{"$f":"IF('Compressive Strength'!$B$80=\"\",\"\",'Compressive Strength'!$B$80)","v":"TX121PII"}]
[835,{"$f":"IF('Compressive Strength'!$J$80=\"\",\"\",'Compressive Strength'!$J$80)","v":""},"Tested Date ",{"$f":"IF('Compressive Strength'!$B$80=\"\",\"\",'Compressive Strength'!$B$80)","v":"TX121PII"}]
[836,{"$f":"IF('Compressive Strength'!$D$70=\"\",\"\",'Compressive Strength'!$D$70)","v":""},"Sampled By ",{"$f":"IF('Compressive Strength'!$B$70=\"\",\"\",'Compressive Strength'!$B$70)","v":"TX100"}]
[837,{"$f":"IF('Compressive Strength'!$J$70=\"\",\"\",'Compressive Strength'!$J$70)","v":""},"Sampled Date ",{"$f":"IF('Compressive Strength'!$B$70=\"\",\"\",'Compressive Strength'!$B$70)","v":"TX100"}]
[838,{"$f":"IF('Compressive Strength'!$D$72=\"\",\"\",'Compressive Strength'!$D$72)","v":""},"Sampled By ",{"$f":"IF('Compressive Strength'!$B$72=\"\",\"\",'Compressive Strength'!$B$72)","v":"TX400"}]
[839,{"$f":"IF('Compressive Strength'!$J$72=\"\",\"\",'Compressive Strength'!$J$72)","v":""},"Sampled Date ",{"$f":"IF('Compressive Strength'!$B$72=\"\",\"\",'Compressive Strength'!$B$72)","v":"TX400"}]

{"sheet":"Tex-113","index":3,"n_rows":58,"n_cols":11,"rows_kept":58,"cut":false,"hidden":false,"merged":[[57,3,57,6],[57,1,57,2],[57,7,57,8],[21,1,21,3],[22,1,22,3],[23,1,23,3],[24,1,24,3],[26,1,26,3],[29,1,29,3],[37,1,37,3],[38,1,38,3],[54,1,55,8],[51,1,51,3],[49,1,49,3],[50,1,50,3],[31,1,31,3],[7,3,7,4],[7,7,7,8],[8,3,8,4],[8,7,8,8],[9,3,9,4],[9,7,9,8],[10,3,10,4],[10,7,10,8],[11,3,11,4],[11,7,11,8],[12,3,12,4],[12,7,12,8],[0,0,0,1],[45,1,45,3],[46,1,46,3],[47,1,47,3],[20,1,20,3],[14,3,14,8],[13,3,13,4],[13,7,13,8],[15,3,15,8],[16,3,16,4],[16,7,16,8],[32,1,32,3],[34,1,34,3],[35,1,35,3],[36,1,36,3],[43,1,43,3],[48,1,48,3],[41,1,41,3],[42,1,42,3],[39,1,39,3],[40,1,40,3],[44,1,44,3]]}
["TxDOT Manuals >",null,null,"Tex-113-E","Tex-114-E"]
[null,"TEXAS DEPARTMENT OF TRANSPORTATION",null,null,null,null,null,null,null,null,51]
[null,null,null,null,null,null,null,null,null,null,2]
[null,null,null,null,null,null,null,null,null,null,"Tx113,4.xls::38315.476146"]
[null,"Moisture-Density Relations of Base Material & Sand or Subgrade & Embankment Soils",null,null,null,null,null,null,null,null,45]
[null,"Tex-113-E"]
[null,null,null,null,null,null,null,null,{"$f":"\"File Version: \" & TEXT(MID(K4,SEARCH(\"::\",K4,1)+2,20),\"mm/dd/yy hh:mm:ss\")","v":"File Version: 11/24/04 11:25:39"}]
[null,null,"SAMPLE ID:",{"$f":"IF(SampleId=\"\",\"\",SampleId)","v":""},null,null,"SAMPLED DATE:",{"$f":"IF(SampledDate=\"\",\"\",SampledDate)","v":""}]
[null,null,"TEST NUMBER:",{"$f":"IF(TestNumber=\"\",\"\",TestNumber)","v":""},null,null,"LETTING DATE:",{"$f":"IF(LettingDate=\"\",\"\",LettingDate)","v":""}]
[null,null,"STATUS:",{"$f":"IF(Status=\"\",\"\",Status)","v":""},null,null,"CONTROLLING CSJ:",{"$f":"IF(CCSJ=\"\",\"\",CCSJ)","v":""}]
[null,null,"COUNTY:",{"$f":"IF(County=\"\",\"\",County)","v":""},null,null,"SPEC YEAR:"]
[null,null,"SAMPLED BY:",{"$f":"IF(SampledBy=\"\",\"\",SampledBy)","v":""},null,null,"SPEC ITEM:",{"$f":"IF(SpecItem=\"\",\"\",SpecItem)","v":""}]
[null,null,"SAMPLE LOCATION:",{"$f":"IF(SampleLocation=\"\",\"\",SampleLocation)","v":""},null,null,"SPECIAL PROVISION:"]
[null,null,"MATERIAL:",{"$f":"IF(Material=\"\",\"\",Material)","v":""},null,null,"GRADE:"]
[null,null,"MATERIAL NAME:",{"$f":"IF(matl_nm=\"\",\"\",matl_nm)","v":""}]
[null,null,"PRODUCER:"]
[null,null,"AREA ENGINEER:",{"$f":"IF(AreaEngineer=\"\",\"\",AreaEngineer)","v":""},null,null,"PROJECT MANAGER:",{"$f":"IF(ProjectManager=\"\",\"\",ProjectManager)","v":""}]
[]
[null,null,"COURSE\\LIFT:",null,"STATION:",{"$f":"IF(Station=\"\",\"\",Station)","v":""},null,"DIST. FROM CL:",{"$f":"IF(DistFromCL=\"\",\"\",DistFromCL)","v":""}]
[null,"Moisture-Density Work Sheet"]
[null,"Percent Cement, (%):"]
[null,"Oven Dry Weight, (g):"]
[null,"Weight of Pycnometer & Water, (g):"]
[null,"Weight of Aggr., Pycn.& Water, (g):"]
[null,"Specific Gravity (Apparent):",null,null,{"$f":"IF(ISERROR(E22/(E22+E23-E24)),\"\",E22/(E22+E23-E24))","v":""}]
[]
[null,"Hygroscopic Moisture, (%):"]
[]
[null,null,null,null,1,2,3,4]
[null,"Percent Water Content, (%):"]
[]
[null,"Mass Material, (lb):"]
[null,"Mass Water Added, (lb):",null,null,{"$f":"IF(E30=\"\",\"\",(E30/100)*E32)","v":""},{"$f":"IF(F30=\"\",\"\",(F30/100)*F32)","v":""},{"$f":"IF(G30=\"\",\"\",(G30/100)*G32)","v":""},{"$f":"IF(H30=\"\",\"\",(H30/100)*H32)","v":""}]
[]
[null,"Wet Mass Specimen & Mold, (lb):"]
[null,"Tare Mass Mold, (lb):"]
[null,"Wet Mass Specimen, (lb):",null,null,{"$f":"IF(AND(E35=\"\",E36=\"\"),\"\",E35-E36)","v":""},{"$f":"IF(AND(F35=\"\",F36=\"\"),\"\",F35-F36)","v":""},{"$f":"IF(AND(G35=\"\",G36=\"\"),\"\",G35-G36)","v":""},{"$f":"IF(AND(H35=\"\",H36=\"\"),\"\",H35-H36)","v":""}]
[null,"Height of Specimen, (in.):"]
[null,"Volume per Linear mm., (in.):"]
[null,"Volume of Specimen, (ft^3):",null,null,{"$f":"IF(AND(E39=\"\",E38=\"\"),\"\",E39*E38)","v":""},{"$f":"IF(AND(F39=\"\",F38=\"\"),\"\",F39*F38)","v":""},{"$f":"IF(AND(G39=\"\",G38=\"\"),\"\",G39*G38)","v":""},{"$f":"IF(AND(H39=\"\",H38=\"\"),\"\",H39*H38)","v":""}]
[null,"Wet Density of Specimen, (lb):",null,null,{"$f":"IF(ISERROR(E37/E40),\"\",E37/E40)","v":""},{"$f":"IF(ISERROR(F37/F40),\"\",F37/F40)","v":""},{"$f":"IF(ISERROR(G37/G40),\"\",G37/G40)","v":""},{"$f":"IF(ISERROR(H37/H40),\"\",H37/H40)","v":""}]
[null,"Wet Mass of Pan & Specimen, (lb):"]
[null,"Dry Mass Pan & Specimen, (lb):"]
[null,"Tare Mass Pan, (lb):"]
[null,"Dry Mass Material , (lb):",null,null,{"$f":"IF(AND(E43=\"\",E44=\"\"),\"\",E43-E44)","v":""},{"$f":"IF(AND(F43=\"\",F44=\"\"),\"\",F43-F44)","v":""},{"$f":"IF(AND(G43=\"\",G44=\"\"),\"\",G43-G44)","v":""},{"$f":"IF(AND(H43=\"\",H44=\"\"),\"\",H43-H44)","v":""}]
[null,"Mass Water, (lb):",null,null,{"$f":"IF(AND(E42=\"\",E43=\"\"),\"\",E42-E43)","v":""},{"$f":"IF(AND(F42=\"\",F43=\"\"),\"\",F42-F43)","v":""},{"$f":"IF(AND(G42=\"\",G43=\"\"),\"\",G42-G43)","v":""},{"$f":"IF(AND(H42=\"\",H43=\"\"),\"\",H42-H43)","v":""}]
[null,"Percent Water on Total , (%):",null,null,{"$f":"IF(ISERROR((E46/E45)*100),\"\",(E46/E45)*100)","v":""},{"$f":"IF(ISERROR((F46/F45)*100),\"\",(F46/F45)*100)","v":""},{"$f":"IF(ISERROR((G46/G45)*100),\"\",(G46/G45)*100)","v":""},{"$f":"IF(ISERROR((H46/H45)*100),\"\",(H46/H45)*100)","v":""}]
[null,"Dry Density, (pcf):",null,null,{"$f":"IF(ISERROR(E41/(1+(E47/100))),\"\",E41/(1+(E47/100)))","v":""},{"$f":"IF(ISERROR(F41/(1+(F47/100))),\"\",F41/(1+(F47/100)))","v":""},{"$f":"IF(ISERROR(G41/(1+(G47/100))),\"\",G41/(1+(G47/100)))","v":""},{"$f":"IF(ISERROR(H41/(1+(H47/100))),\"\",H41/(1+(H47/100)))","v":""}]
[null,"Estimated Dry Density, (pcf):",null,null,{"$f":"IF(ISERROR(E41/(1+(E30/100))),\"\",E41/(1+(E30/100)))","v":""},{"$f":"IF(ISERROR(F41/(1+(F30/100))),\"\",F41/(1+(F30/100)))","v":""},{"$f":"IF(ISERROR(G41/(1+(G30/100))),\"\",G41/(1+(G30/100)))","v":""},{"$f":"IF(ISERROR(H41/(1+(H30/100))),\"\",H41/(1+(H30/100)))","v":""}]
[null,"Max Density, (pcf):",null,null,{"$f":"IF(ISERROR(IF(AND(E23>0,E24>0),Reference!B19,IF(H46>0,Reference!B19,\"Need SG\"))),\"\",IF(AND(E23>0,E24>0),Reference!B19,IF(H46>0,Reference!B19,\"Need SG\")))","v":""}]
[null,"Max Density, (kg/m3):",null,null,{"$f":"IF(ISERROR(E50*(0.4536/0.02832)),\"\",E50*(0.4536/0.02832))","v":""}]
[null,"Optimum Moisture, (%):",null,null,{"$f":"IF(ISERROR(Reference!B20),\"\",Reference!B20)","v":""}]
[]
[null,"Remarks:",{"$f":"NOW()","v":"2024-08-01T16:18:38.300"}]
[]
[]
[null,"Test Method:",null,"Tested By:",null,null,null,"Tested Date:"]
[null,"TX113"]

{"sheet":"Tex-113 (1-3)","index":4,"n_rows":58,"n_cols":11,"rows_kept":58,"cut":false,"hidden":true,"merged":[[20,1,20,3],[56,2,56,4],[57,2,57,4],[49,1,49,3],[50,1,50,3],[51,1,51,3],[48,1,48,3],[26,1,26,3],[29,1,29,3],[31,1,31,3],[54,1,55,8],[21,1,21,3],[22,1,22,3],[23,1,23,3],[24,1,24,3],[0,0,0,1],[45,1,45,3],[46,1,46,3],[47,1,47,3],[41,1,41,3],[42,1,42,3],[37,1,37,3],[38,1,38,3],[39,1,39,3],[40,1,40,3],[32,1,32,3],[34,1,34,3],[35,1,35,3],[36,1,36,3],[43,1,43,3],[44,1,44,3],[13,3,13,4],[13,7,13,8],[16,3,16,4],[16,7,16,8],[15,3,15,8],[14,3,14,8],[12,3,12,4],[12,7,12,8],[9,3,9,4],[9,7,9,8],[10,3,10,4],[10,7,10,8],[7,3,7,4],[7,7,7,8],[8,3,8,4],[8,7,8,8],[11,3,11,4],[11,7,11,8]]}
["TxDOT Manuals >",null,null,"Tex-113-E"]
[null,"TEXAS DEPARTMENT OF TRANSPORTATION",null,null,null,null,null,null,null,null,51]
[null,null,null,null,null,null,null,null,null,null,2]
[null,null,null,null,null,null,null,null,null,null,"Tx113,4.xls::38315.476146"]
[null,"Moisture-Density Relations of Base Material & Sand or Subgrade & Embankment Soils",null,null,null,null,null,null,null,null,45]
[null,"Tex-113-E(1-3)"]
[]
[null,null,"SAMPLE ID:",{"$f":"IF(SampleId=\"\",\"\",SampleId)","v":""},null,null,"SAMPLED DATE:",{"$f":"IF(SampledDate=\"\",\"\",SampledDate)","v":""}]
[null,null,"TEST NUMBER:",{"$f":"IF(TestNumber=\"\",\"\",TestNumber)","v":""},null,null,"LETTING DATE:",{"$f":"IF(LettingDate=\"\",\"\",LettingDate)","v":""}]
[null,null,"SAMPLE STATUS:",{"$f":"IF(Status=\"\",\"\",Status)","v":""},null,null,"CONTROLLING CSJ:",{"$f":"IF(CCSJ=\"\",\"\",CCSJ)","v":""}]
[null,null,"COUNTY:",{"$f":"IF(County=\"\",\"\",County)","v":""},null,null,"SPEC YEAR:",{"$f":"IF(SpecYear=\"\",\"\",SpecYear)","v":""}]
[null,null,"SAMPLED BY:",{"$f":"IF(SampledBy=\"\",\"\",SampledBy)","v":""},null,null,"SPEC ITEM:",{"$f":"IF(SpecItem=\"\",\"\",SpecItem)","v":""}]
[null,null,"SAMPLE LOCATION:",{"$f":"IF(SampleLocation=\"\",\"\",SampleLocation)","v":""},null,null,"SPECIAL PROVISION:",{"$f":"IF(SpecialProvision=\"\",\"\",SpecialProvision)","v":""}]
[null,null,"MATERIAL CODE:",{"$f":"IF(Material=\"\",\"\",Material)","v":""},null,null,"GRADE:",{"$f":"IF(Grade=\"\",\"\",Grade)","v":""}]
[null,null,"MATERIAL NAME:",{"$f":"IF(matl_nm=\"\",\"\",matl_nm)","v":""}]
[null,null,"PRODUCER:",{"$f":"IF(Producer=\"\",\"\",Producer)","v":""}]
[null,null,"AREA ENGINEER:",{"$f":"IF(AreaEngineer=\"\",\"\",AreaEngineer)","v":""},null,null,"PROJECT MANAGER:",{"$f":"IF(ProjectManager=\"\",\"\",ProjectManager)","v":""}]
[]
[null,null,"COURSE\\LIFT:",{"$f":"IF(CourseLift=\"\",\"\",CourseLift)","v":""},"STATION:",{"$f":"IF(Station=\"\",\"\",Station)","v":""},null,"DIST. FROM CL:",{"$f":"IF(DistFromCL=\"\",\"\",DistFromCL)","v":""}]
[null,"Moisture-Density Work Sheet"]
[null,"Percent Lime, (%)"]
[null,"Oven Dry Weight, (g):"]
[null,"Weight of Pycnometer & Water, (g):"]
[null,"Weight of Aggr., Pycn.& Water, (g):"]
[null,"Specific Gravity (Apparent):",null,null,{"$f":"IF(ISERROR(E22/(E22+E23-E24)),\"\",E22/(E22+E23-E24))","v":""}]
[]
[null,"Hygroscopic Moisture, (%):"]
[]
[null,null,null,null,1,2,3,4]
[null,"Percent Water Content, (%):"]
[]
[null,"Mass Material, (lb):"]
[null,"Mass Water Added, (lb):",null,null,{"$f":"IF(E30=\"\",\"\",(E30/100)*E32)","v":""},{"$f":"IF(F30=\"\",\"\",(F30/100)*F32)","v":""},{"$f":"IF(G30=\"\",\"\",(G30/100)*G32)","v":""},{"$f":"IF(H30=\"\",\"\",(H30/100)*H32)","v":""}]
[]
[null,"Wet Mass Specimen & Mold, (lb):"]
[null,"Tare Mass Mold, (lb):"]
[null,"Wet Mass Specimen, (lb):",null,null,{"$f":"IF(AND(E35=\"\",E36=\"\"),\"\",E35-E36)","v":""},{"$f":"IF(AND(F35=\"\",F36=\"\"),\"\",F35-F36)","v":""},{"$f":"IF(AND(G35=\"\",G36=\"\"),\"\",G35-G36)","v":""},{"$f":"IF(AND(H35=\"\",H36=\"\"),\"\",H35-H36)","v":""}]
[null,"Height of Specimen, (in.):"]
[null,"Volume per Linear mm., (in.):"]
[null,"Volume of Specimen, (ft^3):",null,null,{"$f":"IF(AND(E39=\"\",E38=\"\"),\"\",E39*E38)","v":""},{"$f":"IF(AND(F39=\"\",F38=\"\"),\"\",F39*F38)","v":""},{"$f":"IF(AND(G39=\"\",G38=\"\"),\"\",G39*G38)","v":""},{"$f":"IF(AND(H39=\"\",H38=\"\"),\"\",H39*H38)","v":""}]
[null,"Wet Density of Specimen, (lb):",null,null,{"$f":"IF(ISERROR(E37/E40),\"\",E37/E40)","v":""},{"$f":"IF(ISERROR(F37/F40),\"\",F37/F40)","v":""},{"$f":"IF(ISERROR(G37/G40),\"\",G37/G40)","v":""},{"$f":"IF(ISERROR(H37/H40),\"\",H37/H40)","v":""}]
[null,"Wet Mass of Pan & Specimen, (lb):"]
[null,"Dry Mass Pan & Specimen, (lb):"]
[null,"Tare Mass Pan, (lb):"]
[null,"Dry Mass Material , (lb):",null,null,{"$f":"IF(AND(E43=\"\",E44=\"\"),\"\",E43-E44)","v":""},{"$f":"IF(AND(F43=\"\",F44=\"\"),\"\",F43-F44)","v":""},{"$f":"IF(AND(G43=\"\",G44=\"\"),\"\",G43-G44)","v":""},{"$f":"IF(AND(H43=\"\",H44=\"\"),\"\",H43-H44)","v":""}]
[null,"Mass Water, (lb):",null,null,{"$f":"IF(AND(E42=\"\",E43=\"\"),\"\",E42-E43)","v":""},{"$f":"IF(AND(F42=\"\",F43=\"\"),\"\",F42-F43)","v":""},{"$f":"IF(AND(G42=\"\",G43=\"\"),\"\",G42-G43)","v":""},{"$f":"IF(AND(H42=\"\",H43=\"\"),\"\",H42-H43)","v":""}]
[null,"Percent Water on Total , (%):",null,null,{"$f":"IF(ISERROR((E46/E45)*100),\"\",(E46/E45)*100)","v":""},{"$f":"IF(ISERROR((F46/F45)*100),\"\",(F46/F45)*100)","v":""},{"$f":"IF(ISERROR((G46/G45)*100),\"\",(G46/G45)*100)","v":""},{"$f":"IF(ISERROR((H46/H45)*100),\"\",(H46/H45)*100)","v":""}]
[null,"Dry Density, (pcf):",null,null,{"$f":"IF(ISERROR(E41/(1+(E47/100))),\"\",E41/(1+(E47/100)))","v":""},{"$f":"IF(ISERROR(F41/(1+(F47/100))),\"\",F41/(1+(F47/100)))","v":""},{"$f":"IF(ISERROR(G41/(1+(G47/100))),\"\",G41/(1+(G47/100)))","v":""},{"$f":"IF(ISERROR(H41/(1+(H47/100))),\"\",H41/(1+(H47/100)))","v":""}]
[null,"Estimated Dry Density, (pcf):",null,null,{"$f":"IF(ISERROR(E41/(1+(E30/100))),\"\",E41/(1+(E30/100)))","v":""},{"$f":"IF(ISERROR(F41/(1+(F30/100))),\"\",F41/(1+(F30/100)))","v":""},{"$f":"IF(ISERROR(G41/(1+(G30/100))),\"\",G41/(1+(G30/100)))","v":""},{"$f":"IF(ISERROR(H41/(1+(H30/100))),\"\",H41/(1+(H30/100)))","v":""}]
[null,"Max Density, (pcf):",null,null,{"$f":"IF(ISERROR(IF(AND(E23>0,E24>0),Reference!B19,IF(H46>0,Reference!B19,\"Need SG\"))),\"\",IF(AND(E23>0,E24>0),Reference!B19,IF(H46>0,Reference!B19,\"Need SG\")))","v":""}]
[null,"Max Density, (kg/m3):",null,null,{"$f":"IF(ISERROR(E50*(0.4536/0.02832)),\"\",E50*(0.4536/0.02832))","v":""}]
[null,"Optimum Moisture, (%):",null,null,{"$f":"IF(ISERROR('Reference (1-3)'!B20),\"\",'Reference (1-3)'!B20)","v":""}]
[]
[null,"Remarks:",{"$f":"NOW()","v":"2024-08-01T16:18:38.300"}]
[]
[]
[null,"Test Method:","Tested By:",null,null,"Tested Date:"]
[null,"TX113"]

{"sheet":"Reference (1-3)","index":5,"n_rows":198,"n_cols":5,"rows_kept":198,"cut":false,"hidden":true,"merged":[]}
["m1",{"$f":"(B12-B11)/(C12-C11)","v":{"$error":"#VALUE!"}}]
["b1",{"$f":"B11-B1*C11","v":{"$error":"#VALUE!"}},"X-Peak",{"$f":"(B4-B2)/(B1-B3)","v":{"$error":"#VALUE!"}}]
["m2",{"$f":"IF(AND(B13>0,'Tex-113 (1-3)'!H46=0),B1*-1,(B14-B13)/(C14-C13))","v":{"$error":"#VALUE!"}},"Y-Peak",{"$f":"B1*D2+B2","v":{"$error":"#VALUE!"}}]
["b2",{"$f":"B13-C13*B3","v":{"$error":"#VALUE!"}}]
[]
[]
[]
[]
[]
["N","Y","X","X^2"]
[1,{"$f":"'Tex-113 (1-3)'!E48","v":""},{"$f":"'Tex-113 (1-3)'!E47","v":""},{"$f":"C11^2","v":{"$error":"#VALUE!"}}]
[2,{"$f":"'Tex-113 (1-3)'!F48","v":""},{"$f":"'Tex-113 (1-3)'!F47","v":""},{"$f":"C12^2","v":{"$error":"#VALUE!"}}]
[3,{"$f":"'Tex-113 (1-3)'!G48","v":""},{"$f":"'Tex-113 (1-3)'!G47","v":""},{"$f":"C13^2","v":{"$error":"#VALUE!"}}]
[4,{"$f":"IF(AND(B13>0,'Tex-113 (1-3)'!H46=0),E25,'Tex-113 (1-3)'!H48)","v":""},{"$f":"IF(AND(C13>0,'Tex-113 (1-3)'!H46=0),D2+2,'Tex-113 (1-3)'!H47)","v":""},{"$f":"C14^2","v":{"$error":"#VALUE!"}}]
[5,{"$f":"D3","v":{"$error":"#VALUE!"}},{"$f":"$D$2","v":{"$error":"#VALUE!"}},{"$f":"C15^2","v":{"$error":"#VALUE!"}}]
["SUM",{"$f":"SUM(B13:B15)","v":{"$error":"#VALUE!"}},{"$f":"SUM(C13:C15)","v":{"$error":"#VALUE!"}},{"$f":"SUM(D11:D15)","v":{"$error":"#VALUE!"}}]
[]
[]
["MAX DEN",{"$f":"B24*B20^2+B23*B20+B22","v":{"$error":"#VALUE!"}},null,"Gs=",{"$f":"IF(AND('Tex-113 (1-3)'!E24>0,'Tex-113 (1-3)'!E23>0),'Tex-113 (1-3)'!E25,\"\")","v":""}]
["MAX  W",{"$f":"-B23/(2*B24)","v":{"$error":"#VALUE!"}},null,"gw=",62.5]
[null,null,null,"3pt Curve (Yes=1)=",{"$f":"IF('Tex-113 (1-3)'!H37=0,1,0)","v":0}]
["Ao",{"$f":"INDEX(LINEST($B$11:$B$14,$C$11:$D$14),3)","v":{"$error":"#VALUE!"}},null,"mZAV=",{"$f":"(C27-C54)/(A27-A54)","v":{"$error":"#VALUE!"}}]
["A1",{"$f":"INDEX(LINEST($B$11:$B$14,$C$11:$D$14),2)","v":{"$error":"#VALUE!"}},null,"bZAV=",{"$f":"C27-E22*A27","v":{"$error":"#VALUE!"}}]
["A2",{"$f":"INDEX(LINEST($B$11:$B$14,$C$11:$D$14),1)","v":{"$error":"#VALUE!"}},null,"b4th=",{"$f":"B13-E22*C13","v":{"$error":"#VALUE!"}}]
[null,null,null,"Y4th=",{"$f":"E22*C14+E24","v":{"$error":"#VALUE!"}}]
["W","Dry Density","ZAV"]
[{"$f":"IF(E21=1,'Tex-113 (1-3)'!G47+8,'Tex-113 (1-3)'!H47+8)","v":{"$error":"#VALUE!"}},{"$f":"$B$22+$B$23*A27+$B$24*A27^2","v":{"$error":"#VALUE!"}},{"$f":"($E$19*$E$20*(1+(A27/100)))/(1+$E$19*(A27/100))","v":{"$error":"#VALUE!"}}]
[{"$f":"A27-0.2","v":{"$error":"#VALUE!"}},{"$error":"#VALUE!"},{"$error":"#VALUE!"}]
[{"$error":"#VALUE!"},{"$error":"#VALUE!"},{"$error":"#VALUE!"}]
[{"$error":"#VALUE!"},{"$error":"#VALUE!"},{"$error":"#VALUE!"}]
[{"$error":"#VALUE!"},{"$error":"#VALUE!"},{"$error":"#VALUE!"}]
[{"$error":"#VALUE!"},{"$error":"#VALUE!"},{"$error":"#VALUE!"}]
[{"$error":"#VALUE!"},{"$error":"#VALUE!"},{"$error":"#VALUE!"}]
[{"$error":"#VALUE!"},{"$error":"#VALUE!"},{"$error":"#VALUE!"}]
[{"$error":"#VALUE!"},{"$error":"#VALUE!"},{"$error":"#VALUE!"}]
[{"$error":"#VALUE!"},{"$error":"#VALUE!"},{"$error":"#VALUE!"}]
[{"$error":"#VALUE!"},{"$error":"#VALUE!"},{"$error":"#VALUE!"}]
[{"$error":"#VALUE!"},{"$error":"#VALUE!"},{"$error":"#VALUE!"}]
[{"$error":"#VALUE!"},{"$error":"#VALUE!"},{"$error":"#VALUE!"}]
[{"$error":"#VALUE!"},{"$error":"#VALUE!"},{"$error":"#VALUE!"}]
[{"$error":"#VALUE!"},{"$error":"#VALUE!"},{"$error":"#VALUE!"}]
[{"$error":"#VALUE!"},{"$error":"#VALUE!"},{"$error":"#VALUE!"}]
[{"$error":"#VALUE!"},{"$error":"#VALUE!"},{"$error":"#VALUE!"}]
[{"$error":"#VALUE!"},{"$error":"#VALUE!"},{"$error":"#VALUE!"}]
[{"$error":"#VALUE!"},{"$error":"#VALUE!"},{"$error":"#VALUE!"}]
[{"$error":"#VALUE!"},{"$error":"#VALUE!"},{"$error":"#VALUE!"}]
[{"$error":"#VALUE!"},{"$error":"#VALUE!"},{"$error":"#VALUE!"}]
[{"$error":"#VALUE!"},{"$error":"#VALUE!"},{"$error":"#VALUE!"}]
[{"$error":"#VALUE!"},{"$error":"#VALUE!"},{"$error":"#VALUE!"}]
[{"$error":"#VALUE!"},{"$error":"#VALUE!"},{"$error":"#VALUE!"}]
[{"$error":"#VALUE!"},{"$error":"#VALUE!"},{"$error":"#VALUE!"}]
[{"$error":"#VALUE!"},{"$error":"#VALUE!"},{"$error":"#VALUE!"}]
[{"$error":"#VALUE!"},{"$error":"#VALUE!"},{"$error":"#VALUE!"}]
[{"$error":"#VALUE!"},{"$error":"#VALUE!"},{"$error":"#VALUE!"}]
[{"$error":"#VALUE!"},{"$error":"#VALUE!"},{"$error":"#VALUE!"}]
[{"$error":"#VALUE!"},{"$error":"#VALUE!"},{"$error":"#VALUE!"}]
[{"$error":"#VALUE!"},{"$error":"#VALUE!"},{"$error":"#VALUE!"}]
[{"$error":"#VALUE!"},{"$error":"#VALUE!"},{"$error":"#VALUE!"}]
[{"$error":"#VALUE!"},{"$f":"$B$22+$B$23*A59+$B$24*A59^2","v":{"$error":"#VALUE!"}},{"$f":"($E$19*$E$20*(1+(A59/100)))/(1+$E$19*(A59/100))","v":{"$error":"#VALUE!"}}]
[{"$f":"A59-0.2","v":{"$error":"#VALUE!"}},{"$error":"#VALUE!"},{"$error":"#VALUE!"}]
[{"$error":"#VALUE!"},{"$error":"#VALUE!"},{"$error":"#VALUE!"}]
[{"$error":"#VALUE!"},{"$error":"#VALUE!"},{"$error":"#VALUE!"}]
[{"$error":"#VALUE!"},{"$error":"#VALUE!"},{"$error":"#VALUE!"}]
[{"$error":"#VALUE!"},{"$error":"#VALUE!"},{"$error":"#VALUE!"}]
[{"$error":"#VALUE!"},{"$error":"#VALUE!"},{"$error":"#VALUE!"}]
[{"$error":"#VALUE!"},{"$error":"#VALUE!"},{"$error":"#VALUE!"}]
[{"$error":"#VALUE!"},{"$error":"#VALUE!"},{"$error":"#VALUE!"}]
[{"$error":"#VALUE!"},{"$error":"#VALUE!"},{"$error":"#VALUE!"}]
[{"$error":"#VALUE!"},{"$error":"#VALUE!"},{"$error":"#VALUE!"}]
[{"$error":"#VALUE!"},{"$error":"#VALUE!"},{"$error":"#VALUE!"}]
[{"$error":"#VALUE!"},{"$error":"#VALUE!"},{"$error":"#VALUE!"}]
[{"$error":"#VALUE!"},{"$error":"#VALUE!"},{"$error":"#VALUE!"}]
[{"$error":"#VALUE!"},{"$error":"#VALUE!"},{"$error":"#VALUE!"}]
[{"$error":"#VALUE!"},{"$error":"#VALUE!"},{"$error":"#VALUE!"}]
[{"$error":"#VALUE!"},{"$error":"#VALUE!"},{"$error":"#VALUE!"}]
[{"$error":"#VALUE!"},{"$error":"#VALUE!"},{"$error":"#VALUE!"}]
[{"$error":"#VALUE!"},{"$error":"#VALUE!"},{"$error":"#VALUE!"}]
[{"$error":"#VALUE!"},{"$error":"#VALUE!"},{"$error":"#VALUE!"}]
[{"$error":"#VALUE!"},{"$error":"#VALUE!"},{"$error":"#VALUE!"}]
[{"$error":"#VALUE!"},{"$error":"#VALUE!"},{"$error":"#VALUE!"}]
[{"$error":"#VALUE!"},{"$error":"#VALUE!"},{"$error":"#VALUE!"}]
[{"$error":"#VALUE!"},{"$error":"#VALUE!"},{"$error":"#VALUE!"}]
[{"$error":"#VALUE!"},{"$error":"#VALUE!"},{"$error":"#VALUE!"}]
[{"$error":"#VALUE!"},{"$error":"#VALUE!"},{"$error":"#VALUE!"}]
[{"$error":"#VALUE!"},{"$error":"#VALUE!"},{"$error":"#VALUE!"}]
[{"$error":"#VALUE!"},{"$error":"#VALUE!"},{"$error":"#VALUE!"}]
[{"$error":"#VALUE!"},{"$error":"#VALUE!"},{"$error":"#VALUE!"}]
[{"$error":"#VALUE!"},{"$error":"#VALUE!"},{"$error":"#VALUE!"}]
[{"$error":"#VALUE!"},{"$error":"#VALUE!"},{"$error":"#VALUE!"}]
[{"$error":"#VALUE!"},{"$error":"#VALUE!"},{"$error":"#VALUE!"}]
[{"$error":"#VALUE!"},{"$f":"$B$22+$B$23*A91+$B$24*A91^2","v":{"$error":"#VALUE!"}},{"$f":"($E$19*$E$20*(1+(A91/100)))/(1+$E$19*(A91/100))","v":{"$error":"#VALUE!"}}]
[{"$f":"A91-0.2","v":{"$error":"#VALUE!"}},{"$error":"#VALUE!"},{"$error":"#VALUE!"}]
[{"$error":"#VALUE!"},{"$error":"#VALUE!"},{"$error":"#VALUE!"}]
[{"$error":"#VALUE!"},{"$error":"#VALUE!"},{"$error":"#VALUE!"}]
[{"$error":"#VALUE!"},{"$error":"#VALUE!"},{"$error":"#VALUE!"}]
[{"$error":"#VALUE!"},{"$error":"#VALUE!"},{"$error":"#VALUE!"}]
[{"$error":"#VALUE!"},{"$error":"#VALUE!"},{"$error":"#VALUE!"}]
[{"$error":"#VALUE!"},{"$error":"#VALUE!"},{"$error":"#VALUE!"}]
[{"$error":"#VALUE!"},{"$error":"#VALUE!"},{"$error":"#VALUE!"}]
[{"$error":"#VALUE!"},{"$error":"#VALUE!"},{"$error":"#VALUE!"}]
[{"$error":"#VALUE!"},{"$error":"#VALUE!"},{"$error":"#VALUE!"}]
[{"$error":"#VALUE!"},{"$error":"#VALUE!"},{"$error":"#VALUE!"}]
[{"$error":"#VALUE!"},{"$error":"#VALUE!"},{"$error":"#VALUE!"}]
[{"$error":"#VALUE!"},{"$error":"#VALUE!"},{"$error":"#VALUE!"}]
[{"$error":"#VALUE!"},{"$error":"#VALUE!"},{"$error":"#VALUE!"}]
[{"$error":"#VALUE!"},{"$error":"#VALUE!"},{"$error":"#VALUE!"}]
[{"$error":"#VALUE!"},{"$error":"#VALUE!"},{"$error":"#VALUE!"}]
[{"$error":"#VALUE!"},{"$error":"#VALUE!"},{"$error":"#VALUE!"}]
[{"$error":"#VALUE!"},{"$error":"#VALUE!"},{"$error":"#VALUE!"}]
[{"$error":"#VALUE!"},{"$error":"#VALUE!"},{"$error":"#VALUE!"}]
[{"$error":"#VALUE!"},{"$error":"#VALUE!"},{"$error":"#VALUE!"}]
[{"$error":"#VALUE!"},{"$error":"#VALUE!"},{"$error":"#VALUE!"}]
[{"$error":"#VALUE!"},{"$error":"#VALUE!"},{"$error":"#VALUE!"}]
[{"$error":"#VALUE!"},{"$error":"#VALUE!"},{"$error":"#VALUE!"}]
[{"$error":"#VALUE!"},{"$error":"#VALUE!"},{"$error":"#VALUE!"}]
[{"$error":"#VALUE!"},{"$error":"#VALUE!"},{"$error":"#VALUE!"}]
[{"$error":"#VALUE!"},{"$error":"#VALUE!"},{"$error":"#VALUE!"}]
[{"$error":"#VALUE!"},{"$error":"#VALUE!"},{"$error":"#VALUE!"}]
[{"$error":"#VALUE!"},{"$error":"#VALUE!"},{"$error":"#VALUE!"}]
[{"$error":"#VALUE!"},{"$error":"#VALUE!"},{"$error":"#VALUE!"}]
[{"$error":"#VALUE!"},{"$error":"#VALUE!"},{"$error":"#VALUE!"}]
[{"$error":"#VALUE!"},{"$error":"#VALUE!"},{"$error":"#VALUE!"}]
[{"$error":"#VALUE!"},{"$f":"$B$22+$B$23*A123+$B$24*A123^2","v":{"$error":"#VALUE!"}},{"$f":"($E$19*$E$20*(1+(A123/100)))/(1+$E$19*(A123/100))","v":{"$error":"#VALUE!"}}]
[{"$f":"A123-0.2","v":{"$error":"#VALUE!"}},{"$error":"#VALUE!"},{"$error":"#VALUE!"}]
[{"$error":"#VALUE!"},{"$error":"#VALUE!"},{"$error":"#VALUE!"}]
[{"$error":"#VALUE!"},{"$error":"#VALUE!"},{"$error":"#VALUE!"}]
[{"$error":"#VALUE!"},{"$error":"#VALUE!"},{"$error":"#VALUE!"}]
[{"$error":"#VALUE!"},{"$error":"#VALUE!"},{"$error":"#VALUE!"}]
[{"$error":"#VALUE!"},{"$error":"#VALUE!"},{"$error":"#VALUE!"}]
[{"$error":"#VALUE!"},{"$error":"#VALUE!"},{"$error":"#VALUE!"}]
[{"$error":"#VALUE!"},{"$error":"#VALUE!"},{"$error":"#VALUE!"}]
[{"$error":"#VALUE!"},{"$error":"#VALUE!"},{"$error":"#VALUE!"}]
[{"$error":"#VALUE!"},{"$error":"#VALUE!"},{"$error":"#VALUE!"}]
[{"$error":"#VALUE!"},{"$error":"#VALUE!"},{"$error":"#VALUE!"}]
[{"$error":"#VALUE!"},{"$error":"#VALUE!"},{"$error":"#VALUE!"}]
[{"$error":"#VALUE!"},{"$error":"#VALUE!"},{"$error":"#VALUE!"}]
[{"$error":"#VALUE!"},{"$error":"#VALUE!"},{"$error":"#VALUE!"}]
[{"$error":"#VALUE!"},{"$error":"#VALUE!"},{"$error":"#VALUE!"}]
[{"$error":"#VALUE!"},{"$error":"#VALUE!"},{"$error":"#VALUE!"}]
[{"$error":"#VALUE!"},{"$error":"#VALUE!"},{"$error":"#VALUE!"}]
[{"$error":"#VALUE!"},{"$error":"#VALUE!"},{"$error":"#VALUE!"}]
[{"$error":"#VALUE!"},{"$error":"#VALUE!"},{"$error":"#VALUE!"}]
[{"$error":"#VALUE!"},{"$error":"#VALUE!"},{"$error":"#VALUE!"}]
[{"$error":"#VALUE!"},{"$error":"#VALUE!"},{"$error":"#VALUE!"}]
[{"$error":"#VALUE!"},{"$error":"#VALUE!"},{"$error":"#VALUE!"}]
[{"$error":"#VALUE!"},{"$error":"#VALUE!"},{"$error":"#VALUE!"}]
[{"$error":"#VALUE!"},{"$error":"#VALUE!"},{"$error":"#VALUE!"}]
[{"$error":"#VALUE!"},{"$error":"#VALUE!"},{"$error":"#VALUE!"}]
[{"$error":"#VALUE!"},{"$error":"#VALUE!"},{"$error":"#VALUE!"}]
[{"$error":"#VALUE!"},{"$error":"#VALUE!"},{"$error":"#VALUE!"}]
[{"$error":"#VALUE!"},{"$error":"#VALUE!"},{"$error":"#VALUE!"}]
[{"$error":"#VALUE!"},{"$error":"#VALUE!"},{"$error":"#VALUE!"}]
[{"$error":"#VALUE!"},{"$error":"#VALUE!"},{"$error":"#VALUE!"}]
[{"$error":"#VALUE!"},{"$error":"#VALUE!"},{"$error":"#VALUE!"}]
[{"$error":"#VALUE!"},{"$f":"$B$22+$B$23*A155+$B$24*A155^2","v":{"$error":"#VALUE!"}},{"$f":"($E$19*$E$20*(1+(A155/100)))/(1+$E$19*(A155/100))","v":{"$error":"#VALUE!"}}]
[{"$f":"A155-0.2","v":{"$error":"#VALUE!"}},{"$error":"#VALUE!"},{"$error":"#VALUE!"}]
[{"$error":"#VALUE!"},{"$error":"#VALUE!"},{"$error":"#VALUE!"}]
[{"$error":"#VALUE!"},{"$error":"#VALUE!"},{"$error":"#VALUE!"}]
[{"$error":"#VALUE!"},{"$error":"#VALUE!"},{"$error":"#VALUE!"}]
[{"$error":"#VALUE!"},{"$error":"#VALUE!"},{"$error":"#VALUE!"}]
[{"$error":"#VALUE!"},{"$error":"#VALUE!"},{"$error":"#VALUE!"}]
[{"$error":"#VALUE!"},{"$error":"#VALUE!"},{"$error":"#VALUE!"}]
[{"$error":"#VALUE!"},{"$error":"#VALUE!"},{"$error":"#VALUE!"}]
[{"$error":"#VALUE!"},{"$error":"#VALUE!"},{"$error":"#VALUE!"}]
[{"$error":"#VALUE!"},{"$error":"#VALUE!"},{"$error":"#VALUE!"}]
[{"$error":"#VALUE!"},{"$error":"#VALUE!"},{"$error":"#VALUE!"}]
[{"$error":"#VALUE!"},{"$error":"#VALUE!"},{"$error":"#VALUE!"}]
[{"$error":"#VALUE!"},{"$error":"#VALUE!"},{"$error":"#VALUE!"}]
[{"$error":"#VALUE!"},{"$error":"#VALUE!"},{"$error":"#VALUE!"}]
[{"$error":"#VALUE!"},{"$error":"#VALUE!"},{"$error":"#VALUE!"}]
[{"$error":"#VALUE!"},{"$error":"#VALUE!"},{"$error":"#VALUE!"}]
[{"$error":"#VALUE!"},{"$error":"#VALUE!"},{"$error":"#VALUE!"}]
[{"$error":"#VALUE!"},{"$error":"#VALUE!"},{"$error":"#VALUE!"}]
[{"$error":"#VALUE!"},{"$error":"#VALUE!"},{"$error":"#VALUE!"}]
[{"$error":"#VALUE!"},{"$error":"#VALUE!"},{"$error":"#VALUE!"}]
[{"$error":"#VALUE!"},{"$error":"#VALUE!"},{"$error":"#VALUE!"}]
[{"$error":"#VALUE!"},{"$error":"#VALUE!"},{"$error":"#VALUE!"}]
[{"$error":"#VALUE!"},{"$error":"#VALUE!"},{"$error":"#VALUE!"}]
[{"$error":"#VALUE!"},{"$error":"#VALUE!"},{"$error":"#VALUE!"}]
[{"$error":"#VALUE!"},{"$error":"#VALUE!"},{"$error":"#VALUE!"}]
[{"$error":"#VALUE!"},{"$error":"#VALUE!"},{"$error":"#VALUE!"}]
[{"$error":"#VALUE!"},{"$error":"#VALUE!"},{"$error":"#VALUE!"}]
[{"$error":"#VALUE!"},{"$error":"#VALUE!"},{"$error":"#VALUE!"}]
[{"$error":"#VALUE!"},{"$error":"#VALUE!"},{"$error":"#VALUE!"}]
[{"$error":"#VALUE!"},{"$error":"#VALUE!"},{"$error":"#VALUE!"}]
[{"$error":"#VALUE!"},{"$error":"#VALUE!"},{"$error":"#VALUE!"}]
[{"$error":"#VALUE!"},{"$f":"$B$22+$B$23*A187+$B$24*A187^2","v":{"$error":"#VALUE!"}},{"$f":"($E$19*$E$20*(1+(A187/100)))/(1+$E$19*(A187/100))","v":{"$error":"#VALUE!"}}]
[{"$f":"A187-0.2","v":{"$error":"#VALUE!"}},{"$error":"#VALUE!"},{"$error":"#VALUE!"}]
[{"$error":"#VALUE!"},{"$error":"#VALUE!"},{"$error":"#VALUE!"}]
[{"$error":"#VALUE!"},{"$error":"#VALUE!"},{"$error":"#VALUE!"}]
[{"$error":"#VALUE!"},{"$error":"#VALUE!"},{"$error":"#VALUE!"}]
[{"$error":"#VALUE!"},{"$error":"#VALUE!"},{"$error":"#VALUE!"}]
[{"$error":"#VALUE!"},{"$error":"#VALUE!"},{"$error":"#VALUE!"}]
[{"$error":"#VALUE!"},{"$error":"#VALUE!"},{"$error":"#VALUE!"}]
[{"$error":"#VALUE!"},{"$error":"#VALUE!"},{"$error":"#VALUE!"}]
[{"$error":"#VALUE!"},{"$error":"#VALUE!"},{"$error":"#VALUE!"}]
[{"$error":"#VALUE!"},{"$error":"#VALUE!"},{"$error":"#VALUE!"}]
[{"$error":"#VALUE!"},{"$error":"#VALUE!"},{"$error":"#VALUE!"}]

{"sheet":"Tex-113 (4-6)","index":6,"n_rows":58,"n_cols":11,"rows_kept":58,"cut":false,"hidden":true,"merged":[[7,3,7,4],[7,7,7,8],[16,3,16,4],[16,7,16,8],[10,3,10,4],[10,7,10,8],[11,3,11,4],[11,7,11,8],[8,3,8,4],[8,7,8,8],[9,7,9,8],[21,1,21,3],[12,7,12,8],[13,3,13,4],[13,7,13,8],[20,1,20,3],[12,3,12,4],[15,3,15,8],[14,3,14,8],[29,1,29,3],[31,1,31,3],[54,1,55,8],[32,1,32,3],[34,1,34,3],[35,1,35,3],[36,1,36,3],[43,1,43,3],[44,1,44,3],[42,1,42,3],[38,1,38,3],[39,1,39,3],[40,1,40,3],[49,1,49,3],[56,2,56,4],[57,2,57,4],[50,1,50,3],[51,1,51,3],[0,0,0,1],[45,1,45,3],[46,1,46,3],[47,1,47,3],[37,1,37,3],[22,1,22,3],[23,1,23,3],[24,1,24,3],[26,1,26,3],[9,3,9,4],[48,1,48,3],[41,1,41,3]]}
["TxDOT Manuals >",null,null,"Tex-113-E"]
[null,"TEXAS DEPARTMENT OF TRANSPORTATION",null,null,null,null,null,null,null,null,51]
[null,null,null,null,null,null,null,null,null,null,2]
[null,null,null,null,null,null,null,null,null,null,"Tx113,4.xls::38315.476146"]
[null,"Moisture-Density Relations of Base Material & Sand or Subgrade & Embankment Soils",null,null,null,null,null,null,null,null,45]
[null,"Tex-113-E(4-6)"]
[]
[null,null,"SAMPLE ID:",{"$f":"IF(SampleId=\"\",\"\",SampleId)","v":""},null,null,"SAMPLED DATE:",{"$f":"IF(SampledDate=\"\",\"\",SampledDate)","v":""}]
[null,null,"TEST NUMBER:",{"$f":"IF(TestNumber=\"\",\"\",TestNumber)","v":""},null,null,"LETTING DATE:",{"$f":"IF(LettingDate=\"\",\"\",LettingDate)","v":""}]
[null,null,"SAMPLE STATUS:",{"$f":"IF(Status=\"\",\"\",Status)","v":""},null,null,"CONTROLLING CSJ:",{"$f":"IF(CCSJ=\"\",\"\",CCSJ)","v":""}]
[null,null,"COUNTY:",{"$f":"IF(County=\"\",\"\",County)","v":""},null,null,"SPEC YEAR:",{"$f":"IF(SpecYear=\"\",\"\",SpecYear)","v":""}]
[null,null,"SAMPLED BY:",{"$f":"IF(SampledBy=\"\",\"\",SampledBy)","v":""},null,null,"SPEC ITEM:",{"$f":"IF(SpecItem=\"\",\"\",SpecItem)","v":""}]
[null,null,"SAMPLE LOCATION:",{"$f":"IF(SampleLocation=\"\",\"\",SampleLocation)","v":""},null,null,"SPECIAL PROVISION:",{"$f":"IF(SpecialProvision=\"\",\"\",SpecialProvision)","v":""}]
[null,null,"MATERIAL CODE:",{"$f":"IF(Material=\"\",\"\",Material)","v":""},null,null,"GRADE:",{"$f":"IF(Grade=\"\",\"\",Grade)","v":""}]
[null,null,"MATERIAL NAME:",{"$f":"IF(matl_nm=\"\",\"\",matl_nm)","v":""}]
[null,null,"PRODUCER:",{"$f":"IF(Producer=\"\",\"\",Producer)","v":""}]
[null,null,"AREA ENGINEER:",{"$f":"IF(AreaEngineer=\"\",\"\",AreaEngineer)","v":""},null,null,"PROJECT MANAGER:",{"$f":"IF(ProjectManager=\"\",\"\",ProjectManager)","v":""}]
[]
[null,null,"COURSE\\LIFT:",{"$f":"IF(CourseLift=\"\",\"\",CourseLift)","v":""},"STATION:",{"$f":"IF(Station=\"\",\"\",Station)","v":""},null,"DIST. FROM CL:",{"$f":"IF(DistFromCL=\"\",\"\",DistFromCL)","v":""}]
[null,"Moisture-Density Work Sheet"]
[null,"Percent Lime, (%)"]
[null,"Oven Dry Weight, (g):"]
[null,"Weight of Pycnometer & Water, (g):"]
[null,"Weight of Aggr., Pycn.& Water, (g):"]
[null,"Specific Gravity (Apparent):",null,null,{"$f":"IF(ISERROR(E22/(E22+E23-E24)),\"\",E22/(E22+E23-E24))","v":""}]
[]
[null,"Hygroscopic Moisture, (%):"]
[]
[null,null,null,null,1,2,3,4]
[null,"Percent Water Content, (%):"]
[]
[null,"Mass Material, (lb):"]
[null,"Mass Water Added, (lb):",null,null,{"$f":"IF(E30=\"\",\"\",(E30/100)*E32)","v":""},{"$f":"IF(F30=\"\",\"\",(F30/100)*F32)","v":""},{"$f":"IF(G30=\"\",\"\",(G30/100)*G32)","v":""},{"$f":"IF(H30=\"\",\"\",(H30/100)*H32)","v":""}]
[]
[null,"Wet Mass Specimen & Mold, (lb):"]
[null,"Tare Mass Mold, (lb):"]
[null,"Wet Mass Specimen, (lb):",null,null,{"$f":"IF(AND(E35=\"\",E36=\"\"),\"\",E35-E36)","v":""},{"$f":"IF(AND(F35=\"\",F36=\"\"),\"\",F35-F36)","v":""},{"$f":"IF(AND(G35=\"\",G36=\"\"),\"\",G35-G36)","v":""},{"$f":"IF(AND(H35=\"\",H36=\"\"),\"\",H35-H36)","v":""}]
[null,"Height of Specimen, (in.):"]
[null,"Volume per Linear mm., (in.):"]
[null,"Volume of Specimen, (ft^3):",null,null,{"$f":"IF(AND(E39=\"\",E38=\"\"),\"\",E39*E38)","v":""},{"$f":"IF(AND(F39=\"\",F38=\"\"),\"\",F39*F38)","v":""},{"$f":"IF(AND(G39=\"\",G38=\"\"),\"\",G39*G38)","v":""},{"$f":"IF(AND(H39=\"\",H38=\"\"),\"\",H39*H38)","v":""}]
[null,"Wet Density of Specimen, (lb):",null,null,{"$f":"IF(ISERROR(E37/E40),\"\",E37/E40)","v":""},{"$f":"IF(ISERROR(F37/F40),\"\",F37/F40)","v":""},{"$f":"IF(ISERROR(G37/G40),\"\",G37/G40)","v":""},{"$f":"IF(ISERROR(H37/H40),\"\",H37/H40)","v":""}]
[null,"Wet Mass of Pan & Specimen, (lb):"]
[null,"Dry Mass Pan & Specimen, (lb):"]
[null,"Tare Mass Pan, (lb):"]
[null,"Dry Mass Material , (lb):",null,null,{"$f":"IF(AND(E43=\"\",E44=\"\"),\"\",E43-E44)","v":""},{"$f":"IF(AND(F43=\"\",F44=\"\"),\"\",F43-F44)","v":""},{"$f":"IF(AND(G43=\"\",G44=\"\"),\"\",G43-G44)","v":""},{"$f":"IF(AND(H43=\"\",H44=\"\"),\"\",H43-H44)","v":""}]
[null,"Mass Water, (lb):",null,null,{"$f":"IF(AND(E42=\"\",E43=\"\"),\"\",E42-E43)","v":""},{"$f":"IF(AND(F42=\"\",F43=\"\"),\"\",F42-F43)","v":""},{"$f":"IF(AND(G42=\"\",G43=\"\"),\"\",G42-G43)","v":""},{"$f":"IF(AND(H42=\"\",H43=\"\"),\"\",H42-H43)","v":""}]
[null,"Percent Water on Total , (%):",null,null,{"$f":"IF(ISERROR((E46/E45)*100),\"\",(E46/E45)*100)","v":""},{"$f":"IF(ISERROR((F46/F45)*100),\"\",(F46/F45)*100)","v":""},{"$f":"IF(ISERROR((G46/G45)*100),\"\",(G46/G45)*100)","v":""},{"$f":"IF(ISERROR((H46/H45)*100),\"\",(H46/H45)*100)","v":""}]
[null,"Dry Density, (pcf):",null,null,{"$f":"IF(ISERROR(E41/(1+(E47/100))),\"\",E41/(1+(E47/100)))","v":""},{"$f":"IF(ISERROR(F41/(1+(F47/100))),\"\",F41/(1+(F47/100)))","v":""},{"$f":"IF(ISERROR(G41/(1+(G47/100))),\"\",G41/(1+(G47/100)))","v":""},{"$f":"IF(ISERROR(H41/(1+(H47/100))),\"\",H41/(1+(H47/100)))","v":""}]
[null,"Estimated Dry Density, (pcf):",null,null,{"$f":"IF(ISERROR(E41/(1+(E30/100))),\"\",E41/(1+(E30/100)))","v":""},{"$f":"IF(ISERROR(F41/(1+(F30/100))),\"\",F41/(1+(F30/100)))","v":""},{"$f":"IF(ISERROR(G41/(1+(G30/100))),\"\",G41/(1+(G30/100)))","v":""},{"$f":"IF(ISERROR(H41/(1+(H30/100))),\"\",H41/(1+(H30/100)))","v":""}]
[null,"Max Density, (pcf):",null,null,{"$f":"IF(ISERROR(IF(AND(E23>0,E24>0),Reference!B19,IF(H46>0,Reference!B19,\"Need SG\"))),\"\",IF(AND(E23>0,E24>0),Reference!B19,IF(H46>0,Reference!B19,\"Need SG\")))","v":""}]
[null,"Max Density, (kg/m3):",null,null,{"$f":"IF(ISERROR(E50*(0.4536/0.02832)),\"\",E50*(0.4536/0.02832))","v":""}]
[null,"Optimum Moisture, (%):",null,null,{"$f":"IF(ISERROR('Reference (4-6)'!B20),\"\",'Reference (4-6)'!B20)","v":""}]
[]
[null,"Remarks:",{"$f":"NOW()","v":"2024-08-01T16:18:38.300"}]
[]
[]
[null,"Test Method:","Tested By:",null,null,"Tested Date:"]
[null,"TX113"]

{"sheet":"Reference (4-6)","index":7,"n_rows":198,"n_cols":5,"rows_kept":198,"cut":false,"hidden":true,"merged":[]}
["m1",{"$f":"(B12-B11)/(C12-C11)","v":{"$error":"#VALUE!"}}]
["b1",{"$f":"B11-B1*C11","v":{"$error":"#VALUE!"}},"X-Peak",{"$f":"(B4-B2)/(B1-B3)","v":{"$error":"#VALUE!"}}]
["m2",{"$f":"IF(AND(B13>0,'Tex-113 (4-6)'!H46=0),B1*-1,(B14-B13)/(C14-C13))","v":{"$error":"#VALUE!"}},"Y-Peak",{"$f":"B1*D2+B2","v":{"$error":"#VALUE!"}}]
["b2",{"$f":"B13-C13*B3","v":{"$error":"#VALUE!"}}]
[]
[]
[]
[]
[]
["N","Y","X","X^2"]
[1,{"$f":"'Tex-113 (4-6)'!E48","v":""},{"$f":"'Tex-113 (4-6)'!E47","v":""},{"$f":"C11^2","v":{"$error":"#VALUE!"}}]
[2,{"$f":"'Tex-113 (4-6)'!F48","v":""},{"$f":"'Tex-113 (4-6)'!F47","v":""},{"$f":"C12^2","v":{"$error":"#VALUE!"}}]
[3,{"$f":"'Tex-113 (4-6)'!G48","v":""},{"$f":"'Tex-113 (4-6)'!G47","v":""},{"$f":"C13^2","v":{"$error":"#VALUE!"}}]
[4,{"$f":"IF(AND(B13>0,'Tex-113 (4-6)'!H46=0),E25,'Tex-113 (4-6)'!H48)","v":""},{"$f":"IF(AND(C13>0,'Tex-113 (4-6)'!H46=0),D2+2,'Tex-113 (4-6)'!H47)","v":""},{"$f":"C14^2","v":{"$error":"#VALUE!"}}]
[5,{"$f":"D3","v":{"$error":"#VALUE!"}},{"$f":"$D$2","v":{"$error":"#VALUE!"}},{"$f":"C15^2","v":{"$error":"#VALUE!"}}]
["SUM",{"$f":"SUM(B13:B15)","v":{"$error":"#VALUE!"}},{"$f":"SUM(C13:C15)","v":{"$error":"#VALUE!"}},{"$f":"SUM(D11:D15)","v":{"$error":"#VALUE!"}}]
[]
[]
["MAX DEN",{"$f":"B24*B20^2+B23*B20+B22","v":{"$error":"#VALUE!"}},null,"Gs=",{"$f":"IF(AND('Tex-113 (4-6)'!E24>0,'Tex-113 (4-6)'!E23>0),'Tex-113 (4-6)'!E25,\"\")","v":""}]
["MAX  W",{"$f":"-B23/(2*B24)","v":{"$error":"#VALUE!"}},null,"gw=",62.5]
[null,null,null,"3pt Curve (Yes=1)=",{"$f":"IF('Tex-113 (4-6)'!H37=0,1,0)","v":0}]
["Ao",{"$f":"INDEX(LINEST($B$11:$B$14,$C$11:$D$14),3)","v":{"$error":"#VALUE!"}},null,"mZAV=",{"$f":"(C27-C54)/(A27-A54)","v":{"$error":"#VALUE!"}}]
["A1",{"$f":"INDEX(LINEST($B$11:$B$14,$C$11:$D$14),2)","v":{"$error":"#VALUE!"}},null,"bZAV=",{"$f":"C27-E22*A27","v":{"$error":"#VALUE!"}}]
["A2",{"$f":"INDEX(LINEST($B$11:$B$14,$C$11:$D$14),1)","v":{"$error":"#VALUE!"}},null,"b4th=",{"$f":"B13-E22*C13","v":{"$error":"#VALUE!"}}]
[null,null,null,"Y4th=",{"$f":"E22*C14+E24","v":{"$error":"#VALUE!"}}]
["W","Dry Density","ZAV"]
[{"$f":"IF(E21=1,'Tex-113 (4-6)'!G47+8,'Tex-113 (4-6)'!H47+8)","v":{"$error":"#VALUE!"}},{"$f":"$B$22+$B$23*A27+$B$24*A27^2","v":{"$error":"#VALUE!"}},{"$f":"($E$19*$E$20*(1+(A27/100)))/(1+$E$19*(A27/100))","v":{"$error":"#VALUE!"}}]
[{"$f":"A27-0.2","v":{"$error":"#VALUE!"}},{"$error":"#VALUE!"},{"$error":"#VALUE!"}]
[{"$error":"#VALUE!"},{"$error":"#VALUE!"},{"$error":"#VALUE!"}]
[{"$error":"#VALUE!"},{"$error":"#VALUE!"},{"$error":"#VALUE!"}]
[{"$error":"#VALUE!"},{"$error":"#VALUE!"},{"$error":"#VALUE!"}]
[{"$error":"#VALUE!"},{"$error":"#VALUE!"},{"$error":"#VALUE!"}]
[{"$error":"#VALUE!"},{"$error":"#VALUE!"},{"$error":"#VALUE!"}]
[{"$error":"#VALUE!"},{"$error":"#VALUE!"},{"$error":"#VALUE!"}]
[{"$error":"#VALUE!"},{"$error":"#VALUE!"},{"$error":"#VALUE!"}]
[{"$error":"#VALUE!"},{"$error":"#VALUE!"},{"$error":"#VALUE!"}]
[{"$error":"#VALUE!"},{"$error":"#VALUE!"},{"$error":"#VALUE!"}]
[{"$error":"#VALUE!"},{"$error":"#VALUE!"},{"$error":"#VALUE!"}]
[{"$error":"#VALUE!"},{"$error":"#VALUE!"},{"$error":"#VALUE!"}]
[{"$error":"#VALUE!"},{"$error":"#VALUE!"},{"$error":"#VALUE!"}]
[{"$error":"#VALUE!"},{"$error":"#VALUE!"},{"$error":"#VALUE!"}]
[{"$error":"#VALUE!"},{"$error":"#VALUE!"},{"$error":"#VALUE!"}]
[{"$error":"#VALUE!"},{"$error":"#VALUE!"},{"$error":"#VALUE!"}]
[{"$error":"#VALUE!"},{"$error":"#VALUE!"},{"$error":"#VALUE!"}]
[{"$error":"#VALUE!"},{"$error":"#VALUE!"},{"$error":"#VALUE!"}]
[{"$error":"#VALUE!"},{"$error":"#VALUE!"},{"$error":"#VALUE!"}]
[{"$error":"#VALUE!"},{"$error":"#VALUE!"},{"$error":"#VALUE!"}]
[{"$error":"#VALUE!"},{"$error":"#VALUE!"},{"$error":"#VALUE!"}]
[{"$error":"#VALUE!"},{"$error":"#VALUE!"},{"$error":"#VALUE!"}]
[{"$error":"#VALUE!"},{"$error":"#VALUE!"},{"$error":"#VALUE!"}]
[{"$error":"#VALUE!"},{"$error":"#VALUE!"},{"$error":"#VALUE!"}]
[{"$error":"#VALUE!"},{"$error":"#VALUE!"},{"$error":"#VALUE!"}]
[{"$error":"#VALUE!"},{"$error":"#VALUE!"},{"$error":"#VALUE!"}]
[{"$error":"#VALUE!"},{"$error":"#VALUE!"},{"$error":"#VALUE!"}]
[{"$error":"#VALUE!"},{"$error":"#VALUE!"},{"$error":"#VALUE!"}]
[{"$error":"#VALUE!"},{"$error":"#VALUE!"},{"$error":"#VALUE!"}]
[{"$error":"#VALUE!"},{"$error":"#VALUE!"},{"$error":"#VALUE!"}]
[{"$error":"#VALUE!"},{"$error":"#VALUE!"},{"$error":"#VALUE!"}]
[{"$error":"#VALUE!"},{"$f":"$B$22+$B$23*A59+$B$24*A59^2","v":{"$error":"#VALUE!"}},{"$f":"($E$19*$E$20*(1+(A59/100)))/(1+$E$19*(A59/100))","v":{"$error":"#VALUE!"}}]
[{"$f":"A59-0.2","v":{"$error":"#VALUE!"}},{"$error":"#VALUE!"},{"$error":"#VALUE!"}]
[{"$error":"#VALUE!"},{"$error":"#VALUE!"},{"$error":"#VALUE!"}]
[{"$error":"#VALUE!"},{"$error":"#VALUE!"},{"$error":"#VALUE!"}]
[{"$error":"#VALUE!"},{"$error":"#VALUE!"},{"$error":"#VALUE!"}]
[{"$error":"#VALUE!"},{"$error":"#VALUE!"},{"$error":"#VALUE!"}]
[{"$error":"#VALUE!"},{"$error":"#VALUE!"},{"$error":"#VALUE!"}]
[{"$error":"#VALUE!"},{"$error":"#VALUE!"},{"$error":"#VALUE!"}]
[{"$error":"#VALUE!"},{"$error":"#VALUE!"},{"$error":"#VALUE!"}]
[{"$error":"#VALUE!"},{"$error":"#VALUE!"},{"$error":"#VALUE!"}]
[{"$error":"#VALUE!"},{"$error":"#VALUE!"},{"$error":"#VALUE!"}]
[{"$error":"#VALUE!"},{"$error":"#VALUE!"},{"$error":"#VALUE!"}]
[{"$error":"#VALUE!"},{"$error":"#VALUE!"},{"$error":"#VALUE!"}]
[{"$error":"#VALUE!"},{"$error":"#VALUE!"},{"$error":"#VALUE!"}]
[{"$error":"#VALUE!"},{"$error":"#VALUE!"},{"$error":"#VALUE!"}]
[{"$error":"#VALUE!"},{"$error":"#VALUE!"},{"$error":"#VALUE!"}]
[{"$error":"#VALUE!"},{"$error":"#VALUE!"},{"$error":"#VALUE!"}]
[{"$error":"#VALUE!"},{"$error":"#VALUE!"},{"$error":"#VALUE!"}]
[{"$error":"#VALUE!"},{"$error":"#VALUE!"},{"$error":"#VALUE!"}]
[{"$error":"#VALUE!"},{"$error":"#VALUE!"},{"$error":"#VALUE!"}]
[{"$error":"#VALUE!"},{"$error":"#VALUE!"},{"$error":"#VALUE!"}]
[{"$error":"#VALUE!"},{"$error":"#VALUE!"},{"$error":"#VALUE!"}]
[{"$error":"#VALUE!"},{"$error":"#VALUE!"},{"$error":"#VALUE!"}]
[{"$error":"#VALUE!"},{"$error":"#VALUE!"},{"$error":"#VALUE!"}]
[{"$error":"#VALUE!"},{"$error":"#VALUE!"},{"$error":"#VALUE!"}]
[{"$error":"#VALUE!"},{"$error":"#VALUE!"},{"$error":"#VALUE!"}]
[{"$error":"#VALUE!"},{"$error":"#VALUE!"},{"$error":"#VALUE!"}]
[{"$error":"#VALUE!"},{"$error":"#VALUE!"},{"$error":"#VALUE!"}]
[{"$error":"#VALUE!"},{"$error":"#VALUE!"},{"$error":"#VALUE!"}]
[{"$error":"#VALUE!"},{"$error":"#VALUE!"},{"$error":"#VALUE!"}]
[{"$error":"#VALUE!"},{"$error":"#VALUE!"},{"$error":"#VALUE!"}]
[{"$error":"#VALUE!"},{"$error":"#VALUE!"},{"$error":"#VALUE!"}]
[{"$error":"#VALUE!"},{"$f":"$B$22+$B$23*A91+$B$24*A91^2","v":{"$error":"#VALUE!"}},{"$f":"($E$19*$E$20*(1+(A91/100)))/(1+$E$19*(A91/100))","v":{"$error":"#VALUE!"}}]
[{"$f":"A91-0.2","v":{"$error":"#VALUE!"}},{"$error":"#VALUE!"},{"$error":"#VALUE!"}]
[{"$error":"#VALUE!"},{"$error":"#VALUE!"},{"$error":"#VALUE!"}]
[{"$error":"#VALUE!"},{"$error":"#VALUE!"},{"$error":"#VALUE!"}]
[{"$error":"#VALUE!"},{"$error":"#VALUE!"},{"$error":"#VALUE!"}]
[{"$error":"#VALUE!"},{"$error":"#VALUE!"},{"$error":"#VALUE!"}]
[{"$error":"#VALUE!"},{"$error":"#VALUE!"},{"$error":"#VALUE!"}]
[{"$error":"#VALUE!"},{"$error":"#VALUE!"},{"$error":"#VALUE!"}]
[{"$error":"#VALUE!"},{"$error":"#VALUE!"},{"$error":"#VALUE!"}]
[{"$error":"#VALUE!"},{"$error":"#VALUE!"},{"$error":"#VALUE!"}]
[{"$error":"#VALUE!"},{"$error":"#VALUE!"},{"$error":"#VALUE!"}]
[{"$error":"#VALUE!"},{"$error":"#VALUE!"},{"$error":"#VALUE!"}]
[{"$error":"#VALUE!"},{"$error":"#VALUE!"},{"$error":"#VALUE!"}]
[{"$error":"#VALUE!"},{"$error":"#VALUE!"},{"$error":"#VALUE!"}]
[{"$error":"#VALUE!"},{"$error":"#VALUE!"},{"$error":"#VALUE!"}]
[{"$error":"#VALUE!"},{"$error":"#VALUE!"},{"$error":"#VALUE!"}]
[{"$error":"#VALUE!"},{"$error":"#VALUE!"},{"$error":"#VALUE!"}]
[{"$error":"#VALUE!"},{"$error":"#VALUE!"},{"$error":"#VALUE!"}]
[{"$error":"#VALUE!"},{"$error":"#VALUE!"},{"$error":"#VALUE!"}]
[{"$error":"#VALUE!"},{"$error":"#VALUE!"},{"$error":"#VALUE!"}]
[{"$error":"#VALUE!"},{"$error":"#VALUE!"},{"$error":"#VALUE!"}]
[{"$error":"#VALUE!"},{"$error":"#VALUE!"},{"$error":"#VALUE!"}]
[{"$error":"#VALUE!"},{"$error":"#VALUE!"},{"$error":"#VALUE!"}]
[{"$error":"#VALUE!"},{"$error":"#VALUE!"},{"$error":"#VALUE!"}]
[{"$error":"#VALUE!"},{"$error":"#VALUE!"},{"$error":"#VALUE!"}]
[{"$error":"#VALUE!"},{"$error":"#VALUE!"},{"$error":"#VALUE!"}]
[{"$error":"#VALUE!"},{"$error":"#VALUE!"},{"$error":"#VALUE!"}]
[{"$error":"#VALUE!"},{"$error":"#VALUE!"},{"$error":"#VALUE!"}]
[{"$error":"#VALUE!"},{"$error":"#VALUE!"},{"$error":"#VALUE!"}]
[{"$error":"#VALUE!"},{"$error":"#VALUE!"},{"$error":"#VALUE!"}]
[{"$error":"#VALUE!"},{"$error":"#VALUE!"},{"$error":"#VALUE!"}]
[{"$error":"#VALUE!"},{"$error":"#VALUE!"},{"$error":"#VALUE!"}]
[{"$error":"#VALUE!"},{"$f":"$B$22+$B$23*A123+$B$24*A123^2","v":{"$error":"#VALUE!"}},{"$f":"($E$19*$E$20*(1+(A123/100)))/(1+$E$19*(A123/100))","v":{"$error":"#VALUE!"}}]
[{"$f":"A123-0.2","v":{"$error":"#VALUE!"}},{"$error":"#VALUE!"},{"$error":"#VALUE!"}]
[{"$error":"#VALUE!"},{"$error":"#VALUE!"},{"$error":"#VALUE!"}]
[{"$error":"#VALUE!"},{"$error":"#VALUE!"},{"$error":"#VALUE!"}]
[{"$error":"#VALUE!"},{"$error":"#VALUE!"},{"$error":"#VALUE!"}]
[{"$error":"#VALUE!"},{"$error":"#VALUE!"},{"$error":"#VALUE!"}]
[{"$error":"#VALUE!"},{"$error":"#VALUE!"},{"$error":"#VALUE!"}]
[{"$error":"#VALUE!"},{"$error":"#VALUE!"},{"$error":"#VALUE!"}]
[{"$error":"#VALUE!"},{"$error":"#VALUE!"},{"$error":"#VALUE!"}]
[{"$error":"#VALUE!"},{"$error":"#VALUE!"},{"$error":"#VALUE!"}]
[{"$error":"#VALUE!"},{"$error":"#VALUE!"},{"$error":"#VALUE!"}]
[{"$error":"#VALUE!"},{"$error":"#VALUE!"},{"$error":"#VALUE!"}]
[{"$error":"#VALUE!"},{"$error":"#VALUE!"},{"$error":"#VALUE!"}]
[{"$error":"#VALUE!"},{"$error":"#VALUE!"},{"$error":"#VALUE!"}]
[{"$error":"#VALUE!"},{"$error":"#VALUE!"},{"$error":"#VALUE!"}]
[{"$error":"#VALUE!"},{"$error":"#VALUE!"},{"$error":"#VALUE!"}]
[{"$error":"#VALUE!"},{"$error":"#VALUE!"},{"$error":"#VALUE!"}]
[{"$error":"#VALUE!"},{"$error":"#VALUE!"},{"$error":"#VALUE!"}]
[{"$error":"#VALUE!"},{"$error":"#VALUE!"},{"$error":"#VALUE!"}]
[{"$error":"#VALUE!"},{"$error":"#VALUE!"},{"$error":"#VALUE!"}]
[{"$error":"#VALUE!"},{"$error":"#VALUE!"},{"$error":"#VALUE!"}]
[{"$error":"#VALUE!"},{"$error":"#VALUE!"},{"$error":"#VALUE!"}]
[{"$error":"#VALUE!"},{"$error":"#VALUE!"},{"$error":"#VALUE!"}]
[{"$error":"#VALUE!"},{"$error":"#VALUE!"},{"$error":"#VALUE!"}]
[{"$error":"#VALUE!"},{"$error":"#VALUE!"},{"$error":"#VALUE!"}]
[{"$error":"#VALUE!"},{"$error":"#VALUE!"},{"$error":"#VALUE!"}]
[{"$error":"#VALUE!"},{"$error":"#VALUE!"},{"$error":"#VALUE!"}]
[{"$error":"#VALUE!"},{"$error":"#VALUE!"},{"$error":"#VALUE!"}]
[{"$error":"#VALUE!"},{"$error":"#VALUE!"},{"$error":"#VALUE!"}]
[{"$error":"#VALUE!"},{"$error":"#VALUE!"},{"$error":"#VALUE!"}]
[{"$error":"#VALUE!"},{"$error":"#VALUE!"},{"$error":"#VALUE!"}]
[{"$error":"#VALUE!"},{"$error":"#VALUE!"},{"$error":"#VALUE!"}]
[{"$error":"#VALUE!"},{"$f":"$B$22+$B$23*A155+$B$24*A155^2","v":{"$error":"#VALUE!"}},{"$f":"($E$19*$E$20*(1+(A155/100)))/(1+$E$19*(A155/100))","v":{"$error":"#VALUE!"}}]
[{"$f":"A155-0.2","v":{"$error":"#VALUE!"}},{"$error":"#VALUE!"},{"$error":"#VALUE!"}]
[{"$error":"#VALUE!"},{"$error":"#VALUE!"},{"$error":"#VALUE!"}]
[{"$error":"#VALUE!"},{"$error":"#VALUE!"},{"$error":"#VALUE!"}]
[{"$error":"#VALUE!"},{"$error":"#VALUE!"},{"$error":"#VALUE!"}]
[{"$error":"#VALUE!"},{"$error":"#VALUE!"},{"$error":"#VALUE!"}]
[{"$error":"#VALUE!"},{"$error":"#VALUE!"},{"$error":"#VALUE!"}]
[{"$error":"#VALUE!"},{"$error":"#VALUE!"},{"$error":"#VALUE!"}]
[{"$error":"#VALUE!"},{"$error":"#VALUE!"},{"$error":"#VALUE!"}]
[{"$error":"#VALUE!"},{"$error":"#VALUE!"},{"$error":"#VALUE!"}]
[{"$error":"#VALUE!"},{"$error":"#VALUE!"},{"$error":"#VALUE!"}]
[{"$error":"#VALUE!"},{"$error":"#VALUE!"},{"$error":"#VALUE!"}]
[{"$error":"#VALUE!"},{"$error":"#VALUE!"},{"$error":"#VALUE!"}]
[{"$error":"#VALUE!"},{"$error":"#VALUE!"},{"$error":"#VALUE!"}]
[{"$error":"#VALUE!"},{"$error":"#VALUE!"},{"$error":"#VALUE!"}]
[{"$error":"#VALUE!"},{"$error":"#VALUE!"},{"$error":"#VALUE!"}]
[{"$error":"#VALUE!"},{"$error":"#VALUE!"},{"$error":"#VALUE!"}]
[{"$error":"#VALUE!"},{"$error":"#VALUE!"},{"$error":"#VALUE!"}]
[{"$error":"#VALUE!"},{"$error":"#VALUE!"},{"$error":"#VALUE!"}]
[{"$error":"#VALUE!"},{"$error":"#VALUE!"},{"$error":"#VALUE!"}]
[{"$error":"#VALUE!"},{"$error":"#VALUE!"},{"$error":"#VALUE!"}]
[{"$error":"#VALUE!"},{"$error":"#VALUE!"},{"$error":"#VALUE!"}]
[{"$error":"#VALUE!"},{"$error":"#VALUE!"},{"$error":"#VALUE!"}]
[{"$error":"#VALUE!"},{"$error":"#VALUE!"},{"$error":"#VALUE!"}]
[{"$error":"#VALUE!"},{"$error":"#VALUE!"},{"$error":"#VALUE!"}]
[{"$error":"#VALUE!"},{"$error":"#VALUE!"},{"$error":"#VALUE!"}]
[{"$error":"#VALUE!"},{"$error":"#VALUE!"},{"$error":"#VALUE!"}]
[{"$error":"#VALUE!"},{"$error":"#VALUE!"},{"$error":"#VALUE!"}]
[{"$error":"#VALUE!"},{"$error":"#VALUE!"},{"$error":"#VALUE!"}]
[{"$error":"#VALUE!"},{"$error":"#VALUE!"},{"$error":"#VALUE!"}]
[{"$error":"#VALUE!"},{"$error":"#VALUE!"},{"$error":"#VALUE!"}]
[{"$error":"#VALUE!"},{"$error":"#VALUE!"},{"$error":"#VALUE!"}]
[{"$error":"#VALUE!"},{"$f":"$B$22+$B$23*A187+$B$24*A187^2","v":{"$error":"#VALUE!"}},{"$f":"($E$19*$E$20*(1+(A187/100)))/(1+$E$19*(A187/100))","v":{"$error":"#VALUE!"}}]
[{"$f":"A187-0.2","v":{"$error":"#VALUE!"}},{"$error":"#VALUE!"},{"$error":"#VALUE!"}]
[{"$error":"#VALUE!"},{"$error":"#VALUE!"},{"$error":"#VALUE!"}]
[{"$error":"#VALUE!"},{"$error":"#VALUE!"},{"$error":"#VALUE!"}]
[{"$error":"#VALUE!"},{"$error":"#VALUE!"},{"$error":"#VALUE!"}]
[{"$error":"#VALUE!"},{"$error":"#VALUE!"},{"$error":"#VALUE!"}]
[{"$error":"#VALUE!"},{"$error":"#VALUE!"},{"$error":"#VALUE!"}]
[{"$error":"#VALUE!"},{"$error":"#VALUE!"},{"$error":"#VALUE!"}]
[{"$error":"#VALUE!"},{"$error":"#VALUE!"},{"$error":"#VALUE!"}]
[{"$error":"#VALUE!"},{"$error":"#VALUE!"},{"$error":"#VALUE!"}]
[{"$error":"#VALUE!"},{"$error":"#VALUE!"},{"$error":"#VALUE!"}]
[{"$error":"#VALUE!"},{"$error":"#VALUE!"},{"$error":"#VALUE!"}]

{"sheet":"Tex-113 (7-9)","index":8,"n_rows":58,"n_cols":11,"rows_kept":58,"cut":false,"hidden":true,"merged":[[20,1,20,3],[56,2,56,4],[57,2,57,4],[49,1,49,3],[50,1,50,3],[51,1,51,3],[48,1,48,3],[26,1,26,3],[29,1,29,3],[31,1,31,3],[54,1,55,8],[21,1,21,3],[22,1,22,3],[23,1,23,3],[24,1,24,3],[0,0,0,1],[45,1,45,3],[46,1,46,3],[47,1,47,3],[41,1,41,3],[42,1,42,3],[37,1,37,3],[38,1,38,3],[39,1,39,3],[40,1,40,3],[32,1,32,3],[34,1,34,3],[35,1,35,3],[36,1,36,3],[43,1,43,3],[44,1,44,3],[13,3,13,4],[13,7,13,8],[16,3,16,4],[16,7,16,8],[15,3,15,8],[14,3,14,8],[12,3,12,4],[12,7,12,8],[9,3,9,4],[9,7,9,8],[10,3,10,4],[10,7,10,8],[7,3,7,4],[7,7,7,8],[8,3,8,4],[8,7,8,8],[11,3,11,4],[11,7,11,8]]}
["TxDOT Manuals >",null,null,"Tex-113-E"]
[null,"TEXAS DEPARTMENT OF TRANSPORTATION",null,null,null,null,null,null,null,null,51]
[null,null,null,null,null,null,null,null,null,null,2]
[null,null,null,null,null,null,null,null,null,null,"Tx113,4.xls::38315.476146"]
[null,"Moisture-Density Relations of Base Material & Sand or Subgrade & Embankment Soils",null,null,null,null,null,null,null,null,45]
[null,"Tex-113-E(7-9)"]
[]
[null,null,"SAMPLE ID:",{"$f":"IF(SampleId=\"\",\"\",SampleId)","v":""},null,null,"SAMPLED DATE:",{"$f":"IF(SampledDate=\"\",\"\",SampledDate)","v":""}]
[null,null,"TEST NUMBER:",{"$f":"IF(TestNumber=\"\",\"\",TestNumber)","v":""},null,null,"LETTING DATE:",{"$f":"IF(LettingDate=\"\",\"\",LettingDate)","v":""}]
[null,null,"SAMPLE STATUS:",{"$f":"IF(Status=\"\",\"\",Status)","v":""},null,null,"CONTROLLING CSJ:",{"$f":"IF(CCSJ=\"\",\"\",CCSJ)","v":""}]
[null,null,"COUNTY:",{"$f":"IF(County=\"\",\"\",County)","v":""},null,null,"SPEC YEAR:",{"$f":"IF(SpecYear=\"\",\"\",SpecYear)","v":""}]
[null,null,"SAMPLED BY:",{"$f":"IF(SampledBy=\"\",\"\",SampledBy)","v":""},null,null,"SPEC ITEM:",{"$f":"IF(SpecItem=\"\",\"\",SpecItem)","v":""}]
[null,null,"SAMPLE LOCATION:",{"$f":"IF(SampleLocation=\"\",\"\",SampleLocation)","v":""},null,null,"SPECIAL PROVISION:",{"$f":"IF(SpecialProvision=\"\",\"\",SpecialProvision)","v":""}]
[null,null,"MATERIAL CODE:",{"$f":"IF(Material=\"\",\"\",Material)","v":""},null,null,"GRADE:",{"$f":"IF(Grade=\"\",\"\",Grade)","v":""}]
[null,null,"MATERIAL NAME:",{"$f":"IF(matl_nm=\"\",\"\",matl_nm)","v":""}]
[null,null,"PRODUCER:",{"$f":"IF(Producer=\"\",\"\",Producer)","v":""}]
[null,null,"AREA ENGINEER:",{"$f":"IF(AreaEngineer=\"\",\"\",AreaEngineer)","v":""},null,null,"PROJECT MANAGER:",{"$f":"IF(ProjectManager=\"\",\"\",ProjectManager)","v":""}]
[]
[null,null,"COURSE\\LIFT:",{"$f":"IF(CourseLift=\"\",\"\",CourseLift)","v":""},"STATION:",{"$f":"IF(Station=\"\",\"\",Station)","v":""},null,"DIST. FROM CL:",{"$f":"IF(DistFromCL=\"\",\"\",DistFromCL)","v":""}]
[null,"Moisture-Density Work Sheet"]
[null,"Percent Lime, (%)"]
[null,"Oven Dry Weight, (g):"]
[null,"Weight of Pycnometer & Water, (g):"]
[null,"Weight of Aggr., Pycn.& Water, (g):"]
[null,"Specific Gravity (Apparent):",null,null,{"$f":"IF(ISERROR(E22/(E22+E23-E24)),\"\",E22/(E22+E23-E24))","v":""}]
[]
[null,"Hygroscopic Moisture, (%):"]
[]
[null,null,null,null,1,2,3,4]
[null,"Percent Water Content, (%):"]
[]
[null,"Mass Material, (lb):"]
[null,"Mass Water Added, (lb):",null,null,{"$f":"IF(E30=\"\",\"\",(E30/100)*E32)","v":""},{"$f":"IF(F30=\"\",\"\",(F30/100)*F32)","v":""},{"$f":"IF(G30=\"\",\"\",(G30/100)*G32)","v":""},{"$f":"IF(H30=\"\",\"\",(H30/100)*H32)","v":""}]
[]
[null,"Wet Mass Specimen & Mold, (lb):"]
[null,"Tare Mass Mold, (lb):"]
[null,"Wet Mass Specimen, (lb):",null,null,{"$f":"IF(AND(E35=\"\",E36=\"\"),\"\",E35-E36)","v":""},{"$f":"IF(AND(F35=\"\",F36=\"\"),\"\",F35-F36)","v":""},{"$f":"IF(AND(G35=\"\",G36=\"\"),\"\",G35-G36)","v":""},{"$f":"IF(AND(H35=\"\",H36=\"\"),\"\",H35-H36)","v":""}]
[null,"Height of Specimen, (in.):"]
[null,"Volume per Linear mm., (in.):"]
[null,"Volume of Specimen, (ft^3):",null,null,{"$f":"IF(AND(E39=\"\",E38=\"\"),\"\",E39*E38)","v":""},{"$f":"IF(AND(F39=\"\",F38=\"\"),\"\",F39*F38)","v":""},{"$f":"IF(AND(G39=\"\",G38=\"\"),\"\",G39*G38)","v":""},{"$f":"IF(AND(H39=\"\",H38=\"\"),\"\",H39*H38)","v":""}]
[null,"Wet Density of Specimen, (lb):",null,null,{"$f":"IF(ISERROR(E37/E40),\"\",E37/E40)","v":""},{"$f":"IF(ISERROR(F37/F40),\"\",F37/F40)","v":""},{"$f":"IF(ISERROR(G37/G40),\"\",G37/G40)","v":""},{"$f":"IF(ISERROR(H37/H40),\"\",H37/H40)","v":""}]
[null,"Wet Mass of Pan & Specimen, (lb):"]
[null,"Dry Mass Pan & Specimen, (lb):"]
[null,"Tare Mass Pan, (lb):"]
[null,"Dry Mass Material , (lb):",null,null,{"$f":"IF(AND(E43=\"\",E44=\"\"),\"\",E43-E44)","v":""},{"$f":"IF(AND(F43=\"\",F44=\"\"),\"\",F43-F44)","v":""},{"$f":"IF(AND(G43=\"\",G44=\"\"),\"\",G43-G44)","v":""},{"$f":"IF(AND(H43=\"\",H44=\"\"),\"\",H43-H44)","v":""}]
[null,"Mass Water, (lb):",null,null,{"$f":"IF(AND(E42=\"\",E43=\"\"),\"\",E42-E43)","v":""},{"$f":"IF(AND(F42=\"\",F43=\"\"),\"\",F42-F43)","v":""},{"$f":"IF(AND(G42=\"\",G43=\"\"),\"\",G42-G43)","v":""},{"$f":"IF(AND(H42=\"\",H43=\"\"),\"\",H42-H43)","v":""}]
[null,"Percent Water on Total , (%):",null,null,{"$f":"IF(ISERROR((E46/E45)*100),\"\",(E46/E45)*100)","v":""},{"$f":"IF(ISERROR((F46/F45)*100),\"\",(F46/F45)*100)","v":""},{"$f":"IF(ISERROR((G46/G45)*100),\"\",(G46/G45)*100)","v":""},{"$f":"IF(ISERROR((H46/H45)*100),\"\",(H46/H45)*100)","v":""}]
[null,"Dry Density, (pcf):",null,null,{"$f":"IF(ISERROR(E41/(1+(E47/100))),\"\",E41/(1+(E47/100)))","v":""},{"$f":"IF(ISERROR(F41/(1+(F47/100))),\"\",F41/(1+(F47/100)))","v":""},{"$f":"IF(ISERROR(G41/(1+(G47/100))),\"\",G41/(1+(G47/100)))","v":""},{"$f":"IF(ISERROR(H41/(1+(H47/100))),\"\",H41/(1+(H47/100)))","v":""}]
[null,"Estimated Dry Density, (pcf):",null,null,{"$f":"IF(ISERROR(E41/(1+(E30/100))),\"\",E41/(1+(E30/100)))","v":""},{"$f":"IF(ISERROR(F41/(1+(F30/100))),\"\",F41/(1+(F30/100)))","v":""},{"$f":"IF(ISERROR(G41/(1+(G30/100))),\"\",G41/(1+(G30/100)))","v":""},{"$f":"IF(ISERROR(H41/(1+(H30/100))),\"\",H41/(1+(H30/100)))","v":""}]
[null,"Max Density, (pcf):",null,null,{"$f":"IF(ISERROR(IF(AND(E23>0,E24>0),Reference!B19,IF(H46>0,Reference!B19,\"Need SG\"))),\"\",IF(AND(E23>0,E24>0),Reference!B19,IF(H46>0,Reference!B19,\"Need SG\")))","v":""}]
[null,"Max Density, (kg/m3):",null,null,{"$f":"IF(ISERROR(E50*(0.4536/0.02832)),\"\",E50*(0.4536/0.02832))","v":""}]
[null,"Optimum Moisture, (%):",null,null,{"$f":"IF(ISERROR('Reference (7-9)'!B20),\"\",'Reference (7-9)'!B20)","v":""}]
[]
[null,"Remarks:",{"$f":"NOW()","v":"2024-08-01T16:18:38.300"}]
[]
[]
[null,"Test Method:","Tested By:",null,null,"Tested Date:"]
[null,"TX113"]

{"sheet":"Reference (7-9)","index":9,"n_rows":198,"n_cols":5,"rows_kept":198,"cut":false,"hidden":true,"merged":[]}
["m1",{"$f":"(B12-B11)/(C12-C11)","v":{"$error":"#VALUE!"}}]
["b1",{"$f":"B11-B1*C11","v":{"$error":"#VALUE!"}},"X-Peak",{"$f":"(B4-B2)/(B1-B3)","v":{"$error":"#VALUE!"}}]
["m2",{"$f":"IF(AND(B13>0,'Tex-113 (7-9)'!H46=0),B1*-1,(B14-B13)/(C14-C13))","v":{"$error":"#VALUE!"}},"Y-Peak",{"$f":"B1*D2+B2","v":{"$error":"#VALUE!"}}]
["b2",{"$f":"B13-C13*B3","v":{"$error":"#VALUE!"}}]
[]
[]
[]
[]
[]
["N","Y","X","X^2"]
[1,{"$f":"'Tex-113 (7-9)'!E48","v":""},{"$f":"'Tex-113 (7-9)'!E47","v":""},{"$f":"C11^2","v":{"$error":"#VALUE!"}}]
[2,{"$f":"'Tex-113 (7-9)'!F48","v":""},{"$f":"'Tex-113 (7-9)'!F47","v":""},{"$f":"C12^2","v":{"$error":"#VALUE!"}}]
[3,{"$f":"'Tex-113 (7-9)'!G48","v":""},{"$f":"'Tex-113 (7-9)'!G47","v":""},{"$f":"C13^2","v":{"$error":"#VALUE!"}}]
[4,{"$f":"IF(AND(B13>0,'Tex-113 (7-9)'!H46=0),E25,'Tex-113 (7-9)'!H48)","v":""},{"$f":"IF(AND(C13>0,'Tex-113 (7-9)'!H46=0),D2+2,'Tex-113 (7-9)'!H47)","v":""},{"$f":"C14^2","v":{"$error":"#VALUE!"}}]
[5,{"$f":"D3","v":{"$error":"#VALUE!"}},{"$f":"$D$2","v":{"$error":"#VALUE!"}},{"$f":"C15^2","v":{"$error":"#VALUE!"}}]
["SUM",{"$f":"SUM(B13:B15)","v":{"$error":"#VALUE!"}},{"$f":"SUM(C13:C15)","v":{"$error":"#VALUE!"}},{"$f":"SUM(D11:D15)","v":{"$error":"#VALUE!"}}]
[]
[]
["MAX DEN",{"$f":"B24*B20^2+B23*B20+B22","v":{"$error":"#VALUE!"}},null,"Gs=",{"$f":"IF(AND('Tex-113 (7-9)'!E24>0,'Tex-113 (7-9)'!E23>0),'Tex-113 (7-9)'!E25,\"\")","v":""}]
["MAX  W",{"$f":"-B23/(2*B24)","v":{"$error":"#VALUE!"}},null,"gw=",62.5]
[null,null,null,"3pt Curve (Yes=1)=",{"$f":"IF('Tex-113 (7-9)'!H37=0,1,0)","v":0}]
["Ao",{"$f":"INDEX(LINEST($B$11:$B$14,$C$11:$D$14),3)","v":{"$error":"#VALUE!"}},null,"mZAV=",{"$f":"(C27-C54)/(A27-A54)","v":{"$error":"#VALUE!"}}]
["A1",{"$f":"INDEX(LINEST($B$11:$B$14,$C$11:$D$14),2)","v":{"$error":"#VALUE!"}},null,"bZAV=",{"$f":"C27-E22*A27","v":{"$error":"#VALUE!"}}]
["A2",{"$f":"INDEX(LINEST($B$11:$B$14,$C$11:$D$14),1)","v":{"$error":"#VALUE!"}},null,"b4th=",{"$f":"B13-E22*C13","v":{"$error":"#VALUE!"}}]
[null,null,null,"Y4th=",{"$f":"E22*C14+E24","v":{"$error":"#VALUE!"}}]
["W","Dry Density","ZAV"]
[{"$f":"IF(E21=1,'Tex-113 (7-9)'!G47+8,'Tex-113 (7-9)'!H47+8)","v":{"$error":"#VALUE!"}},{"$f":"$B$22+$B$23*A27+$B$24*A27^2","v":{"$error":"#VALUE!"}},{"$f":"($E$19*$E$20*(1+(A27/100)))/(1+$E$19*(A27/100))","v":{"$error":"#VALUE!"}}]
[{"$f":"A27-0.2","v":{"$error":"#VALUE!"}},{"$error":"#VALUE!"},{"$error":"#VALUE!"}]
[{"$error":"#VALUE!"},{"$error":"#VALUE!"},{"$error":"#VALUE!"}]
[{"$error":"#VALUE!"},{"$error":"#VALUE!"},{"$error":"#VALUE!"}]
[{"$error":"#VALUE!"},{"$error":"#VALUE!"},{"$error":"#VALUE!"}]
[{"$error":"#VALUE!"},{"$error":"#VALUE!"},{"$error":"#VALUE!"}]
[{"$error":"#VALUE!"},{"$error":"#VALUE!"},{"$error":"#VALUE!"}]
[{"$error":"#VALUE!"},{"$error":"#VALUE!"},{"$error":"#VALUE!"}]
[{"$error":"#VALUE!"},{"$error":"#VALUE!"},{"$error":"#VALUE!"}]
[{"$error":"#VALUE!"},{"$error":"#VALUE!"},{"$error":"#VALUE!"}]
[{"$error":"#VALUE!"},{"$error":"#VALUE!"},{"$error":"#VALUE!"}]
[{"$error":"#VALUE!"},{"$error":"#VALUE!"},{"$error":"#VALUE!"}]
[{"$error":"#VALUE!"},{"$error":"#VALUE!"},{"$error":"#VALUE!"}]
[{"$error":"#VALUE!"},{"$error":"#VALUE!"},{"$error":"#VALUE!"}]
[{"$error":"#VALUE!"},{"$error":"#VALUE!"},{"$error":"#VALUE!"}]
[{"$error":"#VALUE!"},{"$error":"#VALUE!"},{"$error":"#VALUE!"}]
[{"$error":"#VALUE!"},{"$error":"#VALUE!"},{"$error":"#VALUE!"}]
[{"$error":"#VALUE!"},{"$error":"#VALUE!"},{"$error":"#VALUE!"}]
[{"$error":"#VALUE!"},{"$error":"#VALUE!"},{"$error":"#VALUE!"}]
[{"$error":"#VALUE!"},{"$error":"#VALUE!"},{"$error":"#VALUE!"}]
[{"$error":"#VALUE!"},{"$error":"#VALUE!"},{"$error":"#VALUE!"}]
[{"$error":"#VALUE!"},{"$error":"#VALUE!"},{"$error":"#VALUE!"}]
[{"$error":"#VALUE!"},{"$error":"#VALUE!"},{"$error":"#VALUE!"}]
[{"$error":"#VALUE!"},{"$error":"#VALUE!"},{"$error":"#VALUE!"}]
[{"$error":"#VALUE!"},{"$error":"#VALUE!"},{"$error":"#VALUE!"}]
[{"$error":"#VALUE!"},{"$error":"#VALUE!"},{"$error":"#VALUE!"}]
[{"$error":"#VALUE!"},{"$error":"#VALUE!"},{"$error":"#VALUE!"}]
[{"$error":"#VALUE!"},{"$error":"#VALUE!"},{"$error":"#VALUE!"}]
[{"$error":"#VALUE!"},{"$error":"#VALUE!"},{"$error":"#VALUE!"}]
[{"$error":"#VALUE!"},{"$error":"#VALUE!"},{"$error":"#VALUE!"}]
[{"$error":"#VALUE!"},{"$error":"#VALUE!"},{"$error":"#VALUE!"}]
[{"$error":"#VALUE!"},{"$error":"#VALUE!"},{"$error":"#VALUE!"}]
[{"$error":"#VALUE!"},{"$f":"$B$22+$B$23*A59+$B$24*A59^2","v":{"$error":"#VALUE!"}},{"$f":"($E$19*$E$20*(1+(A59/100)))/(1+$E$19*(A59/100))","v":{"$error":"#VALUE!"}}]
[{"$f":"A59-0.2","v":{"$error":"#VALUE!"}},{"$error":"#VALUE!"},{"$error":"#VALUE!"}]
[{"$error":"#VALUE!"},{"$error":"#VALUE!"},{"$error":"#VALUE!"}]
[{"$error":"#VALUE!"},{"$error":"#VALUE!"},{"$error":"#VALUE!"}]
[{"$error":"#VALUE!"},{"$error":"#VALUE!"},{"$error":"#VALUE!"}]
[{"$error":"#VALUE!"},{"$error":"#VALUE!"},{"$error":"#VALUE!"}]
[{"$error":"#VALUE!"},{"$error":"#VALUE!"},{"$error":"#VALUE!"}]
[{"$error":"#VALUE!"},{"$error":"#VALUE!"},{"$error":"#VALUE!"}]
[{"$error":"#VALUE!"},{"$error":"#VALUE!"},{"$error":"#VALUE!"}]
[{"$error":"#VALUE!"},{"$error":"#VALUE!"},{"$error":"#VALUE!"}]
[{"$error":"#VALUE!"},{"$error":"#VALUE!"},{"$error":"#VALUE!"}]
[{"$error":"#VALUE!"},{"$error":"#VALUE!"},{"$error":"#VALUE!"}]
[{"$error":"#VALUE!"},{"$error":"#VALUE!"},{"$error":"#VALUE!"}]
[{"$error":"#VALUE!"},{"$error":"#VALUE!"},{"$error":"#VALUE!"}]
[{"$error":"#VALUE!"},{"$error":"#VALUE!"},{"$error":"#VALUE!"}]
[{"$error":"#VALUE!"},{"$error":"#VALUE!"},{"$error":"#VALUE!"}]
[{"$error":"#VALUE!"},{"$error":"#VALUE!"},{"$error":"#VALUE!"}]
[{"$error":"#VALUE!"},{"$error":"#VALUE!"},{"$error":"#VALUE!"}]
[{"$error":"#VALUE!"},{"$error":"#VALUE!"},{"$error":"#VALUE!"}]
[{"$error":"#VALUE!"},{"$error":"#VALUE!"},{"$error":"#VALUE!"}]
[{"$error":"#VALUE!"},{"$error":"#VALUE!"},{"$error":"#VALUE!"}]
[{"$error":"#VALUE!"},{"$error":"#VALUE!"},{"$error":"#VALUE!"}]
[{"$error":"#VALUE!"},{"$error":"#VALUE!"},{"$error":"#VALUE!"}]
[{"$error":"#VALUE!"},{"$error":"#VALUE!"},{"$error":"#VALUE!"}]
[{"$error":"#VALUE!"},{"$error":"#VALUE!"},{"$error":"#VALUE!"}]
[{"$error":"#VALUE!"},{"$error":"#VALUE!"},{"$error":"#VALUE!"}]
[{"$error":"#VALUE!"},{"$error":"#VALUE!"},{"$error":"#VALUE!"}]
[{"$error":"#VALUE!"},{"$error":"#VALUE!"},{"$error":"#VALUE!"}]
[{"$error":"#VALUE!"},{"$error":"#VALUE!"},{"$error":"#VALUE!"}]
[{"$error":"#VALUE!"},{"$error":"#VALUE!"},{"$error":"#VALUE!"}]
[{"$error":"#VALUE!"},{"$error":"#VALUE!"},{"$error":"#VALUE!"}]
[{"$error":"#VALUE!"},{"$error":"#VALUE!"},{"$error":"#VALUE!"}]
[{"$error":"#VALUE!"},{"$f":"$B$22+$B$23*A91+$B$24*A91^2","v":{"$error":"#VALUE!"}},{"$f":"($E$19*$E$20*(1+(A91/100)))/(1+$E$19*(A91/100))","v":{"$error":"#VALUE!"}}]
[{"$f":"A91-0.2","v":{"$error":"#VALUE!"}},{"$error":"#VALUE!"},{"$error":"#VALUE!"}]
[{"$error":"#VALUE!"},{"$error":"#VALUE!"},{"$error":"#VALUE!"}]
[{"$error":"#VALUE!"},{"$error":"#VALUE!"},{"$error":"#VALUE!"}]
[{"$error":"#VALUE!"},{"$error":"#VALUE!"},{"$error":"#VALUE!"}]
[{"$error":"#VALUE!"},{"$error":"#VALUE!"},{"$error":"#VALUE!"}]
[{"$error":"#VALUE!"},{"$error":"#VALUE!"},{"$error":"#VALUE!"}]
[{"$error":"#VALUE!"},{"$error":"#VALUE!"},{"$error":"#VALUE!"}]
[{"$error":"#VALUE!"},{"$error":"#VALUE!"},{"$error":"#VALUE!"}]
[{"$error":"#VALUE!"},{"$error":"#VALUE!"},{"$error":"#VALUE!"}]
[{"$error":"#VALUE!"},{"$error":"#VALUE!"},{"$error":"#VALUE!"}]
[{"$error":"#VALUE!"},{"$error":"#VALUE!"},{"$error":"#VALUE!"}]
[{"$error":"#VALUE!"},{"$error":"#VALUE!"},{"$error":"#VALUE!"}]
[{"$error":"#VALUE!"},{"$error":"#VALUE!"},{"$error":"#VALUE!"}]
[{"$error":"#VALUE!"},{"$error":"#VALUE!"},{"$error":"#VALUE!"}]
[{"$error":"#VALUE!"},{"$error":"#VALUE!"},{"$error":"#VALUE!"}]
[{"$error":"#VALUE!"},{"$error":"#VALUE!"},{"$error":"#VALUE!"}]
[{"$error":"#VALUE!"},{"$error":"#VALUE!"},{"$error":"#VALUE!"}]
[{"$error":"#VALUE!"},{"$error":"#VALUE!"},{"$error":"#VALUE!"}]
[{"$error":"#VALUE!"},{"$error":"#VALUE!"},{"$error":"#VALUE!"}]
[{"$error":"#VALUE!"},{"$error":"#VALUE!"},{"$error":"#VALUE!"}]
[{"$error":"#VALUE!"},{"$error":"#VALUE!"},{"$error":"#VALUE!"}]
[{"$error":"#VALUE!"},{"$error":"#VALUE!"},{"$error":"#VALUE!"}]
[{"$error":"#VALUE!"},{"$error":"#VALUE!"},{"$error":"#VALUE!"}]
[{"$error":"#VALUE!"},{"$error":"#VALUE!"},{"$error":"#VALUE!"}]
[{"$error":"#VALUE!"},{"$error":"#VALUE!"},{"$error":"#VALUE!"}]
[{"$error":"#VALUE!"},{"$error":"#VALUE!"},{"$error":"#VALUE!"}]
[{"$error":"#VALUE!"},{"$error":"#VALUE!"},{"$error":"#VALUE!"}]
[{"$error":"#VALUE!"},{"$error":"#VALUE!"},{"$error":"#VALUE!"}]
[{"$error":"#VALUE!"},{"$error":"#VALUE!"},{"$error":"#VALUE!"}]
[{"$error":"#VALUE!"},{"$error":"#VALUE!"},{"$error":"#VALUE!"}]
[{"$error":"#VALUE!"},{"$error":"#VALUE!"},{"$error":"#VALUE!"}]
[{"$error":"#VALUE!"},{"$f":"$B$22+$B$23*A123+$B$24*A123^2","v":{"$error":"#VALUE!"}},{"$f":"($E$19*$E$20*(1+(A123/100)))/(1+$E$19*(A123/100))","v":{"$error":"#VALUE!"}}]
[{"$f":"A123-0.2","v":{"$error":"#VALUE!"}},{"$error":"#VALUE!"},{"$error":"#VALUE!"}]
[{"$error":"#VALUE!"},{"$error":"#VALUE!"},{"$error":"#VALUE!"}]
[{"$error":"#VALUE!"},{"$error":"#VALUE!"},{"$error":"#VALUE!"}]
[{"$error":"#VALUE!"},{"$error":"#VALUE!"},{"$error":"#VALUE!"}]
[{"$error":"#VALUE!"},{"$error":"#VALUE!"},{"$error":"#VALUE!"}]
[{"$error":"#VALUE!"},{"$error":"#VALUE!"},{"$error":"#VALUE!"}]
[{"$error":"#VALUE!"},{"$error":"#VALUE!"},{"$error":"#VALUE!"}]
[{"$error":"#VALUE!"},{"$error":"#VALUE!"},{"$error":"#VALUE!"}]
[{"$error":"#VALUE!"},{"$error":"#VALUE!"},{"$error":"#VALUE!"}]
[{"$error":"#VALUE!"},{"$error":"#VALUE!"},{"$error":"#VALUE!"}]
[{"$error":"#VALUE!"},{"$error":"#VALUE!"},{"$error":"#VALUE!"}]
[{"$error":"#VALUE!"},{"$error":"#VALUE!"},{"$error":"#VALUE!"}]
[{"$error":"#VALUE!"},{"$error":"#VALUE!"},{"$error":"#VALUE!"}]
[{"$error":"#VALUE!"},{"$error":"#VALUE!"},{"$error":"#VALUE!"}]
[{"$error":"#VALUE!"},{"$error":"#VALUE!"},{"$error":"#VALUE!"}]
[{"$error":"#VALUE!"},{"$error":"#VALUE!"},{"$error":"#VALUE!"}]
[{"$error":"#VALUE!"},{"$error":"#VALUE!"},{"$error":"#VALUE!"}]
[{"$error":"#VALUE!"},{"$error":"#VALUE!"},{"$error":"#VALUE!"}]
[{"$error":"#VALUE!"},{"$error":"#VALUE!"},{"$error":"#VALUE!"}]
[{"$error":"#VALUE!"},{"$error":"#VALUE!"},{"$error":"#VALUE!"}]
[{"$error":"#VALUE!"},{"$error":"#VALUE!"},{"$error":"#VALUE!"}]
[{"$error":"#VALUE!"},{"$error":"#VALUE!"},{"$error":"#VALUE!"}]
[{"$error":"#VALUE!"},{"$error":"#VALUE!"},{"$error":"#VALUE!"}]
[{"$error":"#VALUE!"},{"$error":"#VALUE!"},{"$error":"#VALUE!"}]
[{"$error":"#VALUE!"},{"$error":"#VALUE!"},{"$error":"#VALUE!"}]
[{"$error":"#VALUE!"},{"$error":"#VALUE!"},{"$error":"#VALUE!"}]
[{"$error":"#VALUE!"},{"$error":"#VALUE!"},{"$error":"#VALUE!"}]
[{"$error":"#VALUE!"},{"$error":"#VALUE!"},{"$error":"#VALUE!"}]
[{"$error":"#VALUE!"},{"$error":"#VALUE!"},{"$error":"#VALUE!"}]
[{"$error":"#VALUE!"},{"$error":"#VALUE!"},{"$error":"#VALUE!"}]
[{"$error":"#VALUE!"},{"$error":"#VALUE!"},{"$error":"#VALUE!"}]
[{"$error":"#VALUE!"},{"$f":"$B$22+$B$23*A155+$B$24*A155^2","v":{"$error":"#VALUE!"}},{"$f":"($E$19*$E$20*(1+(A155/100)))/(1+$E$19*(A155/100))","v":{"$error":"#VALUE!"}}]
[{"$f":"A155-0.2","v":{"$error":"#VALUE!"}},{"$error":"#VALUE!"},{"$error":"#VALUE!"}]
[{"$error":"#VALUE!"},{"$error":"#VALUE!"},{"$error":"#VALUE!"}]
[{"$error":"#VALUE!"},{"$error":"#VALUE!"},{"$error":"#VALUE!"}]
[{"$error":"#VALUE!"},{"$error":"#VALUE!"},{"$error":"#VALUE!"}]
[{"$error":"#VALUE!"},{"$error":"#VALUE!"},{"$error":"#VALUE!"}]
[{"$error":"#VALUE!"},{"$error":"#VALUE!"},{"$error":"#VALUE!"}]
[{"$error":"#VALUE!"},{"$error":"#VALUE!"},{"$error":"#VALUE!"}]
[{"$error":"#VALUE!"},{"$error":"#VALUE!"},{"$error":"#VALUE!"}]
[{"$error":"#VALUE!"},{"$error":"#VALUE!"},{"$error":"#VALUE!"}]
[{"$error":"#VALUE!"},{"$error":"#VALUE!"},{"$error":"#VALUE!"}]
[{"$error":"#VALUE!"},{"$error":"#VALUE!"},{"$error":"#VALUE!"}]
[{"$error":"#VALUE!"},{"$error":"#VALUE!"},{"$error":"#VALUE!"}]
[{"$error":"#VALUE!"},{"$error":"#VALUE!"},{"$error":"#VALUE!"}]
[{"$error":"#VALUE!"},{"$error":"#VALUE!"},{"$error":"#VALUE!"}]
[{"$error":"#VALUE!"},{"$error":"#VALUE!"},{"$error":"#VALUE!"}]
[{"$error":"#VALUE!"},{"$error":"#VALUE!"},{"$error":"#VALUE!"}]
[{"$error":"#VALUE!"},{"$error":"#VALUE!"},{"$error":"#VALUE!"}]
[{"$error":"#VALUE!"},{"$error":"#VALUE!"},{"$error":"#VALUE!"}]
[{"$error":"#VALUE!"},{"$error":"#VALUE!"},{"$error":"#VALUE!"}]
[{"$error":"#VALUE!"},{"$error":"#VALUE!"},{"$error":"#VALUE!"}]
[{"$error":"#VALUE!"},{"$error":"#VALUE!"},{"$error":"#VALUE!"}]
[{"$error":"#VALUE!"},{"$error":"#VALUE!"},{"$error":"#VALUE!"}]
[{"$error":"#VALUE!"},{"$error":"#VALUE!"},{"$error":"#VALUE!"}]
[{"$error":"#VALUE!"},{"$error":"#VALUE!"},{"$error":"#VALUE!"}]
[{"$error":"#VALUE!"},{"$error":"#VALUE!"},{"$error":"#VALUE!"}]
[{"$error":"#VALUE!"},{"$error":"#VALUE!"},{"$error":"#VALUE!"}]
[{"$error":"#VALUE!"},{"$error":"#VALUE!"},{"$error":"#VALUE!"}]
[{"$error":"#VALUE!"},{"$error":"#VALUE!"},{"$error":"#VALUE!"}]
[{"$error":"#VALUE!"},{"$error":"#VALUE!"},{"$error":"#VALUE!"}]
[{"$error":"#VALUE!"},{"$error":"#VALUE!"},{"$error":"#VALUE!"}]
[{"$error":"#VALUE!"},{"$error":"#VALUE!"},{"$error":"#VALUE!"}]
[{"$error":"#VALUE!"},{"$f":"$B$22+$B$23*A187+$B$24*A187^2","v":{"$error":"#VALUE!"}},{"$f":"($E$19*$E$20*(1+(A187/100)))/(1+$E$19*(A187/100))","v":{"$error":"#VALUE!"}}]
[{"$f":"A187-0.2","v":{"$error":"#VALUE!"}},{"$error":"#VALUE!"},{"$error":"#VALUE!"}]
[{"$error":"#VALUE!"},{"$error":"#VALUE!"},{"$error":"#VALUE!"}]
[{"$error":"#VALUE!"},{"$error":"#VALUE!"},{"$error":"#VALUE!"}]
[{"$error":"#VALUE!"},{"$error":"#VALUE!"},{"$error":"#VALUE!"}]
[{"$error":"#VALUE!"},{"$error":"#VALUE!"},{"$error":"#VALUE!"}]
[{"$error":"#VALUE!"},{"$error":"#VALUE!"},{"$error":"#VALUE!"}]
[{"$error":"#VALUE!"},{"$error":"#VALUE!"},{"$error":"#VALUE!"}]
[{"$error":"#VALUE!"},{"$error":"#VALUE!"},{"$error":"#VALUE!"}]
[{"$error":"#VALUE!"},{"$error":"#VALUE!"},{"$error":"#VALUE!"}]
[{"$error":"#VALUE!"},{"$error":"#VALUE!"},{"$error":"#VALUE!"}]
[{"$error":"#VALUE!"},{"$error":"#VALUE!"},{"$error":"#VALUE!"}]

{"sheet":"Tex-113 (10-12)","index":10,"n_rows":58,"n_cols":11,"rows_kept":58,"cut":false,"hidden":true,"merged":[[7,3,7,4],[7,7,7,8],[16,3,16,4],[16,7,16,8],[10,3,10,4],[10,7,10,8],[11,3,11,4],[11,7,11,8],[8,3,8,4],[8,7,8,8],[9,7,9,8],[21,1,21,3],[12,7,12,8],[13,3,13,4],[13,7,13,8],[20,1,20,3],[12,3,12,4],[15,3,15,8],[14,3,14,8],[29,1,29,3],[31,1,31,3],[54,1,55,8],[32,1,32,3],[34,1,34,3],[35,1,35,3],[36,1,36,3],[43,1,43,3],[44,1,44,3],[42,1,42,3],[38,1,38,3],[39,1,39,3],[40,1,40,3],[49,1,49,3],[56,2,56,4],[57,2,57,4],[50,1,50,3],[51,1,51,3],[0,0,0,1],[45,1,45,3],[46,1,46,3],[47,1,47,3],[37,1,37,3],[22,1,22,3],[23,1,23,3],[24,1,24,3],[26,1,26,3],[9,3,9,4],[48,1,48,3],[41,1,41,3]]}
["TxDOT Manuals >",null,null,"Tex-113-E"]
[null,"TEXAS DEPARTMENT OF TRANSPORTATION",null,null,null,null,null,null,null,null,51]
[null,null,null,null,null,null,null,null,null,null,2]
[null,null,null,null,null,null,null,null,null,null,"Tx113,4.xls::38315.476146"]
[null,"Moisture-Density Relations of Base Material & Sand or Subgrade & Embankment Soils",null,null,null,null,null,null,null,null,45]
[null,"Tex-113-E(10-12)"]
[]
[null,null,"SAMPLE ID:",{"$f":"IF(SampleId=\"\",\"\",SampleId)","v":""},null,null,"SAMPLED DATE:",{"$f":"IF(SampledDate=\"\",\"\",SampledDate)","v":""}]
[null,null,"TEST NUMBER:",{"$f":"IF(TestNumber=\"\",\"\",TestNumber)","v":""},null,null,"LETTING DATE:",{"$f":"IF(LettingDate=\"\",\"\",LettingDate)","v":""}]
[null,null,"SAMPLE STATUS:",{"$f":"IF(Status=\"\",\"\",Status)","v":""},null,null,"CONTROLLING CSJ:",{"$f":"IF(CCSJ=\"\",\"\",CCSJ)","v":""}]
[null,null,"COUNTY:",{"$f":"IF(County=\"\",\"\",County)","v":""},null,null,"SPEC YEAR:",{"$f":"IF(SpecYear=\"\",\"\",SpecYear)","v":""}]
[null,null,"SAMPLED BY:",{"$f":"IF(SampledBy=\"\",\"\",SampledBy)","v":""},null,null,"SPEC ITEM:",{"$f":"IF(SpecItem=\"\",\"\",SpecItem)","v":""}]
[null,null,"SAMPLE LOCATION:",{"$f":"IF(SampleLocation=\"\",\"\",SampleLocation)","v":""},null,null,"SPECIAL PROVISION:",{"$f":"IF(SpecialProvision=\"\",\"\",SpecialProvision)","v":""}]
[null,null,"MATERIAL CODE:",{"$f":"IF(Material=\"\",\"\",Material)","v":""},null,null,"GRADE:",{"$f":"IF(Grade=\"\",\"\",Grade)","v":""}]
[null,null,"MATERIAL NAME:",{"$f":"IF(matl_nm=\"\",\"\",matl_nm)","v":""}]
[null,null,"PRODUCER:",{"$f":"IF(Producer=\"\",\"\",Producer)","v":""}]
[null,null,"AREA ENGINEER:",{"$f":"IF(AreaEngineer=\"\",\"\",AreaEngineer)","v":""},null,null,"PROJECT MANAGER:",{"$f":"IF(ProjectManager=\"\",\"\",ProjectManager)","v":""}]
[]
[null,null,"COURSE\\LIFT:",{"$f":"IF(CourseLift=\"\",\"\",CourseLift)","v":""},"STATION:",{"$f":"IF(Station=\"\",\"\",Station)","v":""},null,"DIST. FROM CL:",{"$f":"IF(DistFromCL=\"\",\"\",DistFromCL)","v":""}]
[null,"Moisture-Density Work Sheet"]
[null,"Percent Lime, (%)"]
[null,"Oven Dry Weight, (g):"]
[null,"Weight of Pycnometer & Water, (g):"]
[null,"Weight of Aggr., Pycn.& Water, (g):"]
[null,"Specific Gravity (Apparent):",null,null,{"$f":"IF(ISERROR(E22/(E22+E23-E24)),\"\",E22/(E22+E23-E24))","v":""}]
[]
[null,"Hygroscopic Moisture, (%):"]
[]
[null,null,null,null,1,2,3,4]
[null,"Percent Water Content, (%):"]
[]
[null,"Mass Material, (lb):"]
[null,"Mass Water Added, (lb):",null,null,{"$f":"IF(E30=\"\",\"\",(E30/100)*E32)","v":""},{"$f":"IF(F30=\"\",\"\",(F30/100)*F32)","v":""},{"$f":"IF(G30=\"\",\"\",(G30/100)*G32)","v":""},{"$f":"IF(H30=\"\",\"\",(H30/100)*H32)","v":""}]
[]
[null,"Wet Mass Specimen & Mold, (lb):"]
[null,"Tare Mass Mold, (lb):"]
[null,"Wet Mass Specimen, (lb):",null,null,{"$f":"IF(AND(E35=\"\",E36=\"\"),\"\",E35-E36)","v":""},{"$f":"IF(AND(F35=\"\",F36=\"\"),\"\",F35-F36)","v":""},{"$f":"IF(AND(G35=\"\",G36=\"\"),\"\",G35-G36)","v":""},{"$f":"IF(AND(H35=\"\",H36=\"\"),\"\",H35-H36)","v":""}]
[null,"Height of Specimen, (in.):"]
[null,"Volume per Linear mm., (in.):"]
[null,"Volume of Specimen, (ft^3):",null,null,{"$f":"IF(AND(E39=\"\",E38=\"\"),\"\",E39*E38)","v":""},{"$f":"IF(AND(F39=\"\",F38=\"\"),\"\",F39*F38)","v":""},{"$f":"IF(AND(G39=\"\",G38=\"\"),\"\",G39*G38)","v":""},{"$f":"IF(AND(H39=\"\",H38=\"\"),\"\",H39*H38)","v":""}]
[null,"Wet Density of Specimen, (lb):",null,null,{"$f":"IF(ISERROR(E37/E40),\"\",E37/E40)","v":""},{"$f":"IF(ISERROR(F37/F40),\"\",F37/F40)","v":""},{"$f":"IF(ISERROR(G37/G40),\"\",G37/G40)","v":""},{"$f":"IF(ISERROR(H37/H40),\"\",H37/H40)","v":""}]
[null,"Wet Mass of Pan & Specimen, (lb):"]
[null,"Dry Mass Pan & Specimen, (lb):"]
[null,"Tare Mass Pan, (lb):"]
[null,"Dry Mass Material , (lb):",null,null,{"$f":"IF(AND(E43=\"\",E44=\"\"),\"\",E43-E44)","v":""},{"$f":"IF(AND(F43=\"\",F44=\"\"),\"\",F43-F44)","v":""},{"$f":"IF(AND(G43=\"\",G44=\"\"),\"\",G43-G44)","v":""},{"$f":"IF(AND(H43=\"\",H44=\"\"),\"\",H43-H44)","v":""}]
[null,"Mass Water, (lb):",null,null,{"$f":"IF(AND(E42=\"\",E43=\"\"),\"\",E42-E43)","v":""},{"$f":"IF(AND(F42=\"\",F43=\"\"),\"\",F42-F43)","v":""},{"$f":"IF(AND(G42=\"\",G43=\"\"),\"\",G42-G43)","v":""},{"$f":"IF(AND(H42=\"\",H43=\"\"),\"\",H42-H43)","v":""}]
[null,"Percent Water on Total , (%):",null,null,{"$f":"IF(ISERROR((E46/E45)*100),\"\",(E46/E45)*100)","v":""},{"$f":"IF(ISERROR((F46/F45)*100),\"\",(F46/F45)*100)","v":""},{"$f":"IF(ISERROR((G46/G45)*100),\"\",(G46/G45)*100)","v":""},{"$f":"IF(ISERROR((H46/H45)*100),\"\",(H46/H45)*100)","v":""}]
[null,"Dry Density, (pcf):",null,null,{"$f":"IF(ISERROR(E41/(1+(E47/100))),\"\",E41/(1+(E47/100)))","v":""},{"$f":"IF(ISERROR(F41/(1+(F47/100))),\"\",F41/(1+(F47/100)))","v":""},{"$f":"IF(ISERROR(G41/(1+(G47/100))),\"\",G41/(1+(G47/100)))","v":""},{"$f":"IF(ISERROR(H41/(1+(H47/100))),\"\",H41/(1+(H47/100)))","v":""}]
[null,"Estimated Dry Density, (pcf):",null,null,{"$f":"IF(ISERROR(E41/(1+(E30/100))),\"\",E41/(1+(E30/100)))","v":""},{"$f":"IF(ISERROR(F41/(1+(F30/100))),\"\",F41/(1+(F30/100)))","v":""},{"$f":"IF(ISERROR(G41/(1+(G30/100))),\"\",G41/(1+(G30/100)))","v":""},{"$f":"IF(ISERROR(H41/(1+(H30/100))),\"\",H41/(1+(H30/100)))","v":""}]
[null,"Max Density, (pcf):",null,null,{"$f":"IF(ISERROR(IF(AND(E23>0,E24>0),Reference!B19,IF(H46>0,Reference!B19,\"Need SG\"))),\"\",IF(AND(E23>0,E24>0),Reference!B19,IF(H46>0,Reference!B19,\"Need SG\")))","v":""}]
[null,"Max Density, (kg/m3):",null,null,{"$f":"IF(ISERROR(E50*(0.4536/0.02832)),\"\",E50*(0.4536/0.02832))","v":""}]
[null,"Optimum Moisture, (%):",null,null,{"$f":"IF(ISERROR('Reference (10-12)'!B20),\"\",'Reference (10-12)'!B20)","v":""}]
[]
[null,"Remarks:",{"$f":"NOW()","v":"2024-08-01T16:18:38.300"}]
[]
[]
[null,"Test Method:","Tested By:",null,null,"Tested Date:"]
[null,"TX113"]

{"sheet":"Tex-121-E Part2","index":11,"n_rows":58,"n_cols":11,"rows_kept":58,"cut":false,"hidden":true,"merged":[[56,2,56,4],[42,1,42,3],[51,1,51,3],[48,1,48,3],[47,1,47,3],[44,1,44,3],[45,1,45,3],[46,1,46,3],[50,1,50,3],[7,7,7,8],[7,3,7,4],[10,3,10,4],[9,7,9,8],[9,3,9,4],[8,7,8,8],[8,3,8,4],[10,7,10,8],[11,7,11,8],[11,3,11,4],[16,7,16,8],[16,3,16,4],[15,3,15,8],[13,7,13,8],[12,7,12,8],[14,3,14,8],[57,2,57,4],[29,1,29,3],[21,1,21,3],[22,1,22,3],[23,1,23,3],[24,1,24,3],[26,1,26,3],[54,1,55,8],[43,1,43,3],[49,1,49,3],[39,1,39,3],[41,1,41,3],[36,1,36,3],[33,1,33,3],[37,1,37,3],[38,1,38,3],[40,1,40,3],[35,1,35,3],[0,0,0,1],[13,3,13,4],[30,1,30,3],[12,3,12,4],[20,1,20,3],[31,1,31,3],[32,1,32,3],[34,1,34,3]]}
["TxDOT Manuals >",null,null,"Tex-121-E Part2"]
[null,"TEXAS DEPARTMENT OF TRANSPORTATION",null,null,null,null,null,null,null,null,49]
[null,{"$f":"IF(Location=\"\",\"\",Location)","v":""},null,null,null,null,null,null,null,null,1]
[null,null,null,null,null,null,null,null,null,"Tx113,4.xls::37445.433542","Tx113.xls::37092.636285"]
[null,"Moisture-Density Relations of Road Mixed Materials",null,null,null,null,null,null,null,44]
[null,"TEX-121-E Part II "]
[]
[null,null,"SAMPLE ID:",{"$f":"IF(SampleId=\"\",\"\",SampleId)","v":""},null,null,"SAMPLED DATE:",{"$f":"IF(SampledDate=\"\",\"\",SampledDate)","v":""}]
[null,null,"TEST NUMBER:",{"$f":"IF(TestNumber=\"\",\"\",TestNumber)","v":""},null,null,"LETTING DATE:",{"$f":"IF(LettingDate=\"\",\"\",LettingDate)","v":""}]
[null,null,"SAMPLE STATUS:",{"$f":"IF(Status=\"\",\"\",Status)","v":""},null,null,"CONTROLLING CSJ:",{"$f":"IF(CCSJ=\"\",\"\",CCSJ)","v":""}]
[null,null,"COUNTY:",{"$f":"IF(County=\"\",\"\",County)","v":""},null,null,"SPEC YEAR:",{"$f":"IF(SpecYear=\"\",\"\",SpecYear)","v":""}]
[null,null,"SAMPLED BY:",{"$f":"IF(SampledBy=\"\",\"\",SampledBy)","v":""},null,null,"SPEC ITEM:",{"$f":"IF(SpecItem=\"\",\"\",SpecItem)","v":""}]
[null,null,"SAMPLE LOCATION:",{"$f":"IF(SampleLocation=\"\",\"\",SampleLocation)","v":""},null,null,"SPECIAL PROVISION:",{"$f":"IF(SpecialProvision=\"\",\"\",SpecialProvision)","v":""}]
[null,null,"MATERIAL CODE:",{"$f":"IF(Material=\"\",\"\",Material)","v":""},null,null,"GRADE:",{"$f":"IF(Grade=\"\",\"\",Grade)","v":""}]
[null,null,"MATERIAL NAME:",{"$f":"IF(matl_nm=\"\",\"\",matl_nm)","v":""}]
[null,null,"PRODUCER:",{"$f":"IF(Producer=\"\",\"\",Producer)","v":""}]
[null,null,"AREA ENGINEER:",{"$f":"IF(AreaEngineer=\"\",\"\",AreaEngineer)","v":""},null,null,"PROJECT MANAGER:",{"$f":"IF(ProjectManager=\"\",\"\",ProjectManager)","v":""}]
[]
[null,null,"COURSE\\LIFT:",{"$f":"IF(CourseLift=\"\",\"\",CourseLift)","v":""},"STATION:",{"$f":"IF(Station=\"\",\"\",Station)","v":""},null,"DIST. FROM CL:",{"$f":"IF(DistFromCL=\"\",\"\",DistFromCL)","v":""}]
[null,"Moisture-Density Work Sheet"]
[null,"Percent Lime, (%)"]
[null,"Oven Dry Weight, (g):"]
[null,"Weight of Pycnometer & Water, (g):"]
[null,"Weight of Aggr., Pycn.& Water, (g):"]
[null,"Specific Gravity (Apparent):",null,null,{"$f":"IF(ISERROR(E22/(E22+E23-E24)),\"\",E22/(E22+E23-E24))","v":""}]
[]
[null,"Hygroscopic Moisture, (%):"]
[]
[null,null,null,null,1,2,3,4]
[null,"Percent Water Content, (%):"]
[null,"Percent Lime, (%):",null,null,{"$f":"IF(PerCem113=\"\",\"\",PerCem113)","v":""},{"$f":"IF(PerCem113=\"\",\"\",PerCem113)","v":""},{"$f":"IF(PerCem113=\"\",\"\",PerCem113)","v":""},{"$f":"IF(PerCem113=\"\",\"\",PerCem113)","v":""}]
[null,"Mass Material, (lb):"]
[null,"Mass Water Added, (lb):",null,null,{"$f":"IF(E30=\"\",\"\",(E30/100)*(E32+E34))","v":""},{"$f":"IF(F30=\"\",\"\",(F30/100)*(F32+F34))","v":""},{"$f":"IF(G30=\"\",\"\",(G30/100)*(G32+G34))","v":""},{"$f":"IF(H30=\"\",\"\",(H30/100)*(H32+H34))","v":""}]
[null,"Mass Cement Added, (lb):",null,null,{"$f":"IF(E30=\"\",\"\",(E31/100)*(E32-(E32*$E$27)))","v":""},{"$f":"IF(F30=\"\",\"\",(F31/100)*(F32-(F32*$E$27)))","v":""},{"$f":"IF(G30=\"\",\"\",(G31/100)*(G32-(G32*$E$27)))","v":""},{"$f":"IF(H30=\"\",\"\",(H31/100)*(H32-(H32*$E$27)))","v":""}]
[null,"Wet Mass Specimen & Mold, (lb):"]
[null,"Tare Mass Mold, (lb):"]
[null,"Wet Mass Specimen, (lb):",null,null,{"$f":"IF(AND(E35=\"\",E36=\"\"),\"\",E35-E36)","v":""},{"$f":"IF(AND(F35=\"\",F36=\"\"),\"\",F35-F36)","v":""},{"$f":"IF(AND(G35=\"\",G36=\"\"),\"\",G35-G36)","v":""},{"$f":"IF(AND(H35=\"\",H36=\"\"),\"\",H35-H36)","v":""}]
[null,"Height of Specimen, (in.):"]
[null,"Volume per Linear mm., (in.):"]
[null,"Volume of Specimen, (ft^3):",null,null,{"$f":"IF(AND(E39=\"\",E38=\"\"),\"\",E39*E38)","v":""},{"$f":"IF(AND(F39=\"\",F38=\"\"),\"\",F39*F38)","v":""},{"$f":"IF(AND(G39=\"\",G38=\"\"),\"\",G39*G38)","v":""},{"$f":"IF(AND(H39=\"\",H38=\"\"),\"\",H39*H38)","v":""}]
[null,"Wet Density of Specimen, (lb):",null,null,{"$f":"IF(ISERROR(E37/E40),\"\",E37/E40)","v":""},{"$f":"IF(ISERROR(F37/F40),\"\",F37/F40)","v":""},{"$f":"IF(ISERROR(G37/G40),\"\",G37/G40)","v":""},{"$f":"IF(ISERROR(H37/H40),\"\",H37/H40)","v":""}]
[null,"Wet Mass of Pan & Specimen, (lb):"]
[null,"Dry Mass Pan & Specimen, (lb):"]
[null,"Tare Mass Pan, (lb):"]
[null,"Dry Mass Material , (lb):",null,null,{"$f":"IF(AND(E43=\"\",E44=\"\"),\"\",E43-E44)","v":""},{"$f":"IF(AND(F43=\"\",F44=\"\"),\"\",F43-F44)","v":""},{"$f":"IF(AND(G43=\"\",G44=\"\"),\"\",G43-G44)","v":""},{"$f":"IF(AND(H43=\"\",H44=\"\"),\"\",H43-H44)","v":""}]
[null,"Mass Water, (lb):",null,null,{"$f":"IF(AND(E42=\"\",E43=\"\"),\"\",E42-E43)","v":""},{"$f":"IF(AND(F42=\"\",F43=\"\"),\"\",F42-F43)","v":""},{"$f":"IF(AND(G42=\"\",G43=\"\"),\"\",G42-G43)","v":""},{"$f":"IF(AND(H42=\"\",H43=\"\"),\"\",H42-H43)","v":""}]
[null,"Percent Water on Total , (%):",null,null,{"$f":"IF(ISERROR((E46/E45)*100),\"\",(E46/E45)*100)","v":""},{"$f":"IF(ISERROR((F46/F45)*100),\"\",(F46/F45)*100)","v":""},{"$f":"IF(ISERROR((G46/G45)*100),\"\",(G46/G45)*100)","v":""},{"$f":"IF(ISERROR((H46/H45)*100),\"\",(H46/H45)*100)","v":""}]
[null,"Dry Density, (pcf):",null,null,{"$f":"IF(ISERROR(E41/(1+(E47/100))),\"\",E41/(1+(E47/100)))","v":""},{"$f":"IF(ISERROR(F41/(1+(F47/100))),\"\",F41/(1+(F47/100)))","v":""},{"$f":"IF(ISERROR(G41/(1+(G47/100))),\"\",G41/(1+(G47/100)))","v":""},{"$f":"IF(ISERROR(H41/(1+(H47/100))),\"\",H41/(1+(H47/100)))","v":""}]
[null,"Estimated Dry Density, (pcf):",null,null,{"$f":"IF(ISERROR(E41/(1+(E30/100))),\"\",E41/(1+(E30/100)))","v":""},{"$f":"IF(ISERROR(F41/(1+(F30/100))),\"\",F41/(1+(F30/100)))","v":""},{"$f":"IF(ISERROR(G41/(1+(G30/100))),\"\",G41/(1+(G30/100)))","v":""},{"$f":"IF(ISERROR(H41/(1+(H30/100))),\"\",H41/(1+(H30/100)))","v":""}]
[null,"Max Density, (pcf):",null,null,{"$f":"IF(ISERROR(IF(AND(E23>0,E24>0),'Reference (part 2)'!B22,IF(H46>0,'Reference (part 2)'!B22,\"Need SG\"))),\"\",IF(AND(E23>0,E24>0),'Reference (part 2)'!B22,IF(H46>0,'Reference (part 2)'!B22,\"Need SG\")))","v":""}]
[null,"Max Density, (kg/m3):",null,null,{"$f":"IF(ISERROR(E50*(0.4536/0.02832)),\"\",E50*(0.4536/0.02832))","v":""}]
[null,"Optimum Moisture, (%):",null,null,{"$f":"IF(ISERROR('Reference (part 2)'!B23),\"\",'Reference (part 2)'!B23)","v":""}]
[]
[null,"Remarks:",{"$f":"NOW()","v":"2024-08-01T16:18:38.300"}]
[]
[]
[null,"Test Method:","Tested By:",null,null,"Date:"]
[null,"TX121"]

{"sheet":"Reference (part 3)","index":12,"n_rows":115,"n_cols":7,"rows_kept":115,"cut":false,"hidden":true,"merged":[]}
["Y","X","X2","X3","X4"]
[{"$f":"'Tex-121-E, Pt3'!G19","v":0},{"$f":"'Tex-121-E, Pt3'!F19","v":0},{"$f":"B2^2","v":0},{"$f":"C2*B2","v":0},{"$f":"D2*B2","v":0}]
[{"$f":"'Tex-121-E, Pt3'!G20","v":0},{"$f":"'Tex-121-E, Pt3'!F20","v":0},0,0,0]
[{"$f":"'Tex-121-E, Pt3'!G21","v":0},{"$f":"'Tex-121-E, Pt3'!F21","v":0},0,0,0]
[{"$f":"'Tex-121-E, Pt3'!G22","v":0},{"$f":"'Tex-121-E, Pt3'!F22","v":0},0,0,0]
[{"$f":"'Tex-121-E, Pt3'!G23","v":0},{"$f":"'Tex-121-E, Pt3'!F23","v":0},0,0,0]
[{"$f":"'Tex-121-E, Pt3'!G24","v":0},{"$f":"'Tex-121-E, Pt3'!F24","v":0},0,0,0]
[]
["a",{"$f":"INDEX(LINEST($A$2:$A$7,$B$2:$E$7),1)","v":0}]
["b",{"$f":"INDEX(LINEST($A$2:$A$7,$B$2:$E$7),2)","v":0}]
["c",{"$f":"INDEX(LINEST($A$2:$A$7,$B$2:$E$7),3)","v":0}]
["d",{"$f":"INDEX(LINEST($A$2:$A$7,$B$2:$E$7),4)","v":0}]
["e",{"$f":"INDEX(LINEST($A$2:$A$7,$B$2:$E$7),5)","v":0}]
["ax4","bx3","cx2","dx","e","SUM","X"]
[{"$f":"$B$9*G15^4","v":0},{"$f":"$B$10*G15^3","v":0},{"$f":"$B$11*G15^2","v":0},{"$f":"$B$12*G15","v":0},{"$f":"$B$13","v":0},{"$f":"ROUND(SUM(A15:E15),1)","v":0},{"$f":"'Tex-121-E, Pt3'!F19","v":0}]
[0,0,0,0,0,0,{"$f":"G15+0.2","v":0.2}]
[0,0,0,0,0,0,0.4]
[0,0,0,0,0,0,0.60000000000000009]
[0,0,0,0,0,0,0.8]
[0,0,0,0,0,0,1]
[0,0,0,0,0,0,1.2]
[0,0,0,0,0,0,1.4]
[0,0,0,0,0,0,1.5999999999999999]
[0,0,0,0,0,0,1.7999999999999998]
[0,0,0,0,0,0,1.9999999999999998]
[0,0,0,0,0,0,2.1999999999999997]
[0,0,0,0,0,0,2.4]
[0,0,0,0,0,0,2.6]
[0,0,0,0,0,0,2.8000000000000003]
[0,0,0,0,0,0,3.0000000000000004]
[0,0,0,0,0,0,3.2000000000000006]
[0,0,0,0,0,0,3.4000000000000008]
[0,0,0,0,0,0,3.600000000000001]
[0,0,0,0,0,0,3.8000000000000012]
[0,0,0,0,0,0,4.0000000000000009]
[0,0,0,0,0,0,4.2000000000000011]
[0,0,0,0,0,0,4.4000000000000012]
[0,0,0,0,0,0,4.6000000000000014]
[0,0,0,0,0,0,4.8000000000000016]
[0,0,0,0,0,0,5.0000000000000018]
[0,0,0,0,0,0,5.200000000000002]
[0,0,0,0,0,0,5.4000000000000021]
[0,0,0,0,0,0,5.6000000000000023]
[0,0,0,0,0,0,5.8000000000000025]
[0,0,0,0,0,0,6.0000000000000027]
[0,0,0,0,0,0,6.2000000000000028]
[{"$f":"$B$9*G47^4","v":0},{"$f":"$B$10*G47^3","v":0},{"$f":"$B$11*G47^2","v":0},{"$f":"$B$12*G47","v":0},{"$f":"$B$13","v":0},{"$f":"ROUND(SUM(A47:E47),1)","v":0},6.400000000000003]
[0,0,0,0,0,0,{"$f":"G47+0.2","v":6.6000000000000032}]
[0,0,0,0,0,0,6.8000000000000034]
[0,0,0,0,0,0,7.0000000000000036]
[0,0,0,0,0,0,7.2000000000000037]
[0,0,0,0,0,0,7.4000000000000039]
[0,0,0,0,0,0,7.6000000000000041]
[0,0,0,0,0,0,7.8000000000000043]
[0,0,0,0,0,0,8.0000000000000036]
[0,0,0,0,0,0,8.2000000000000028]
[0,0,0,0,0,0,8.4000000000000021]
[0,0,0,0,0,0,8.6000000000000014]
[0,0,0,0,0,0,8.8000000000000007]
[0,0,0,0,0,0,9]
[0,0,0,0,0,0,9.1999999999999993]
[0,0,0,0,0,0,9.3999999999999986]
[0,0,0,0,0,0,9.5999999999999979]
[0,0,0,0,0,0,9.7999999999999972]
[0,0,0,0,0,0,9.9999999999999964]
[0,0,0,0,0,0,10.199999999999996]
[0,0,0,0,0,0,10.399999999999995]
[0,0,0,0,0,0,10.599999999999994]
[0,0,0,0,0,0,10.799999999999994]
[0,0,0,0,0,0,10.999999999999993]
[0,0,0,0,0,0,11.199999999999992]
[0,0,0,0,0,0,11.399999999999991]
[0,0,0,0,0,0,11.599999999999991]
[0,0,0,0,0,0,11.79999999999999]
[0,0,0,0,0,0,11.999999999999989]
[0,0,0,0,0,0,12.199999999999989]
[0,0,0,0,0,0,12.399999999999988]
[0,0,0,0,0,0,12.599999999999987]
[{"$f":"$B$9*G79^4","v":0},{"$f":"$B$10*G79^3","v":0},{"$f":"$B$11*G79^2","v":0},{"$f":"$B$12*G79","v":0},{"$f":"$B$13","v":0},{"$f":"ROUND(SUM(A79:E79),1)","v":0},12.799999999999986]
[0,0,0,0,0,0,{"$f":"G79+0.2","v":12.999999999999986}]
[0,0,0,0,0,0,13.199999999999985]
[0,0,0,0,0,0,13.399999999999984]
[0,0,0,0,0,0,13.599999999999984]
[0,0,0,0,0,0,13.799999999999983]
[0,0,0,0,0,0,13.999999999999982]
[0,0,0,0,0,0,14.199999999999982]
[0,0,0,0,0,0,14.399999999999981]
[0,0,0,0,0,0,14.59999999999998]
[0,0,0,0,0,0,14.799999999999979]
[0,0,0,0,0,0,14.999999999999979]
[0,0,0,0,0,0,15.199999999999978]
[0,0,0,0,0,0,15.399999999999977]
[0,0,0,0,0,0,15.599999999999977]
[0,0,0,0,0,0,15.799999999999976]
[0,0,0,0,0,0,15.999999999999975]
[0,0,0,0,0,0,16.199999999999974]
[0,0,0,0,0,0,16.399999999999974]
[0,0,0,0,0,0,16.599999999999973]
[0,0,0,0,0,0,16.799999999999972]
[0,0,0,0,0,0,16.999999999999972]
[0,0,0,0,0,0,17.199999999999971]
[0,0,0,0,0,0,17.39999999999997]
[0,0,0,0,0,0,17.599999999999969]
[0,0,0,0,0,0,17.799999999999969]
[0,0,0,0,0,0,17.999999999999968]
[0,0,0,0,0,0,18.199999999999967]
[0,0,0,0,0,0,18.399999999999967]
[0,0,0,0,0,0,18.599999999999966]
[0,0,0,0,0,0,18.799999999999965]
[0,0,0,0,0,0,18.999999999999964]
[0,0,0,0,0,{"$f":"ROUND(SUM(A111:E111),1)","v":0},19.199999999999964]
[0,0,0,0,0,{"$f":"ROUND(SUM(A112:E112),1)","v":0},19.399999999999963]
[0,0,0,0,0,{"$f":"ROUND(SUM(A113:E113),1)","v":0},19.599999999999962]
[0,0,0,0,0,{"$f":"ROUND(SUM(A114:E114),1)","v":0},19.799999999999962]
[0,0,0,0,0,{"$f":"ROUND(SUM(A115:E115),1)","v":0},19.999999999999961]

{"sheet":"Tex-121-E, Pt3","index":13,"n_rows":60,"n_cols":8,"rows_kept":60,"cut":false,"hidden":true,"merged":[[59,2,59,4],[7,3,7,4],[11,3,11,8],[8,3,8,4],[8,7,8,8],[15,3,15,8],[10,3,10,4],[10,7,10,8],[12,3,12,8],[13,3,13,4],[9,7,9,8],[7,7,7,8],[13,7,13,8],[9,3,9,4],[58,2,58,4],[4,3,4,4],[4,7,4,8],[5,3,5,4],[5,7,5,8],[6,3,6,4],[6,7,6,8]]}
[null,"TEXAS DEPARTMENT OF TRANSPORTATION"]
[null,"Determining Stabilization Ability of Lime by Soil pH"]
[null,"Tex-121-E, Part III "]
[]
[null,null,"SAMPLE ID:",{"$f":"IF(SampleId=\"\",\"\",SampleId)","v":""},null,null,"SAMPLED DATE:",{"$f":"IF(SampledDate=\"\",\"\",SampledDate)","v":""}]
[null,null,"TEST NUMBER:",{"$f":"IF(TestNumber=\"\",\"\",TestNumber)","v":""},null,null,"LETTING DATE:",{"$f":"IF(LettingDate=\"\",\"\",LettingDate)","v":""}]
[null,null,"SAMPLE STATUS:",{"$f":"IF(Status=\"\",\"\",Status)","v":""},null,null,"CONTROLLING CSJ:",{"$f":"IF(CCSJ=\"\",\"\",CCSJ)","v":""}]
[null,null,"COUNTY:",{"$f":"IF(County=\"\",\"\",County)","v":""},null,null,"SPEC YEAR:",{"$f":"IF(SpecYear=\"\",\"\",SpecYear)","v":""}]
[null,null,"SAMPLED BY:",{"$f":"IF(SampledBy=\"\",\"\",SampledBy)","v":""},null,null,"SPEC ITEM:",{"$f":"IF(SpecItem=\"\",\"\",SpecItem)","v":""}]
[null,null,"SAMPLE LOCATION:",{"$f":"IF(SampleLocation=\"\",\"\",SampleLocation)","v":""},null,null,"SPECIAL PROVISION:",{"$f":"IF(SpecialProvision=\"\",\"\",SpecialProvision)","v":""}]
[null,null,"MATERIAL CODE:",{"$f":"IF(Material=\"\",\"\",Material)","v":""},null,null,"GRADE:",{"$f":"IF(Grade=\"\",\"\",Grade)","v":""}]
[null,null,"MATERIAL NAME:",{"$f":"IF(matl_nm=\"\",\"\",matl_nm)","v":""}]
[null,null,"PRODUCER:",{"$f":"IF(Producer=\"\",\"\",Producer)","v":""},null,{"$f":"IF(SampleId=\"\",\"\",SampleId)","v":""},null,{"$f":"IF(SampleId=\"\",\"\",SampleId)","v":""}]
[null,null,"AREA ENGINEER:",{"$f":"IF(AreaEngineer=\"\",\"\",AreaEngineer)","v":""},null,null,"PROJECT MANAGER:",{"$f":"IF(ProjectManager=\"\",\"\",ProjectManager)","v":""}]
[]
[null,null,"COURSE\\LIFT:",{"$f":"IF(CourseLift=\"\",\"\",CourseLift)","v":""}]
[]
[null,null,null,null,null,"% Lime","pH"]
[null,null,null,null,1]
[null,null,null,null,2]
[null,null,null,null,3]
[null,null,null,null,4]
[null,null,null,null,5]
[null,null,null,null,6]
[]
[null,null,null,null,"Recommended % Lime:",{"$f":"IF(COUNTBLANK(F19:G24)=12,\n \"\",\n IF(COUNTBLANK(F19:G24)<>0,\n  \"all fields required\",\n  IF(SUM(IF(G19:G24=12.4,1,0))>0,  MIN(IF(G19:G24=12.4,F19:F24)),\n   IF(MAX(G19:G24)>12.4,\n    VLOOKUP(12.4,'Reference (part 3)'!F15:G115,2,0),\n    IF(COUNTIF(G19:G24,\">=12.3\")>1,\n     MIN(IF(G19:G24>=12.3,F19:F24)),\n     \"two 12.3% not reached\"\n       )\n      )\n     )\n   )\n   )","v":""}]
[]
[]
[]
[]
[]
[]
[]
[]
[]
[]
[]
[]
[]
[]
[]
[]
[]
[]
[]
[]
[]
[]
[]
[]
[]
[]
[]
[]
[]
[]
[]
[]
[null,"Test Method:","Tested By:",null,null,"Date:"]
[null,"TX121"]

{"sheet":"Reference","index":14,"n_rows":198,"n_cols":5,"rows_kept":198,"cut":false,"hidden":true,"merged":[]}
["m1",{"$f":"(B12-B11)/(C12-C11)","v":{"$error":"#VALUE!"}}]
["b1",{"$f":"B11-B1*C11","v":{"$error":"#VALUE!"}},"X-Peak",{"$f":"(B4-B2)/(B1-B3)","v":{"$error":"#VALUE!"}}]
["m2",{"$f":"IF(AND(B13>0,'Tex-113'!H46=0),B1*-1,(B14-B13)/(C14-C13))","v":{"$error":"#VALUE!"}},"Y-Peak",{"$f":"B1*D2+B2","v":{"$error":"#VALUE!"}}]
["b2",{"$f":"B13-C13*B3","v":{"$error":"#VALUE!"}}]
[]
[]
[]
[]
[]
["N","Y","X","X^2"]
[1,{"$f":"'Tex-113'!E48","v":""},{"$f":"'Tex-113'!E47","v":""},{"$f":"C11^2","v":{"$error":"#VALUE!"}}]
[2,{"$f":"'Tex-113'!F48","v":""},{"$f":"'Tex-113'!F47","v":""},{"$f":"C12^2","v":{"$error":"#VALUE!"}}]
[3,{"$f":"'Tex-113'!G48","v":""},{"$f":"'Tex-113'!G47","v":""},{"$f":"C13^2","v":{"$error":"#VALUE!"}}]
[4,{"$f":"IF(AND(B13>0,'Tex-113'!H46=0),E25,'Tex-113'!H48)","v":""},{"$f":"IF(AND(C13>0,'Tex-113'!H46=0),D2+2,'Tex-113'!H47)","v":""},{"$f":"C14^2","v":{"$error":"#VALUE!"}}]
[5,{"$f":"D3","v":{"$error":"#VALUE!"}},{"$f":"$D$2","v":{"$error":"#VALUE!"}},{"$f":"C15^2","v":{"$error":"#VALUE!"}}]
["SUM",{"$f":"SUM(B13:B15)","v":{"$error":"#VALUE!"}},{"$f":"SUM(C13:C15)","v":{"$error":"#VALUE!"}},{"$f":"SUM(D11:D15)","v":{"$error":"#VALUE!"}}]
[]
[]
["MAX DEN",{"$f":"B24*B20^2+B23*B20+B22","v":{"$error":"#VALUE!"}},null,"Gs=",{"$f":"IF(AND('Tex-113'!E24>0,'Tex-113'!E23>0),'Tex-113'!E25,\"\")","v":""}]
["MAX  W",{"$f":"-B23/(2*B24)","v":{"$error":"#VALUE!"}},null,"gw=",62.5]
[null,null,null,"3pt Curve (Yes=1)=",{"$f":"IF('Tex-113'!H37=0,1,0)","v":0}]
["Ao",{"$f":"INDEX(LINEST($B$11:$B$14,$C$11:$D$14),3)","v":{"$error":"#VALUE!"}},null,"mZAV=",{"$f":"(C27-C54)/(A27-A54)","v":{"$error":"#VALUE!"}}]
["A1",{"$f":"INDEX(LINEST($B$11:$B$14,$C$11:$D$14),2)","v":{"$error":"#VALUE!"}},null,"bZAV=",{"$f":"C27-E22*A27","v":{"$error":"#VALUE!"}}]
["A2",{"$f":"INDEX(LINEST($B$11:$B$14,$C$11:$D$14),1)","v":{"$error":"#VALUE!"}},null,"b4th=",{"$f":"B13-E22*C13","v":{"$error":"#VALUE!"}}]
[null,null,null,"Y4th=",{"$f":"E22*C14+E24","v":{"$error":"#VALUE!"}}]
["W","Dry Density","ZAV"]
[{"$f":"IF(E21=1,'Tex-113'!G47+8,'Tex-113'!H47+8)","v":{"$error":"#VALUE!"}},{"$f":"$B$22+$B$23*A27+$B$24*A27^2","v":{"$error":"#VALUE!"}},{"$f":"($E$19*$E$20*(1+(A27/100)))/(1+$E$19*(A27/100))","v":{"$error":"#VALUE!"}}]
[{"$f":"A27-0.2","v":{"$error":"#VALUE!"}},{"$error":"#VALUE!"},{"$error":"#VALUE!"}]
[{"$error":"#VALUE!"},{"$error":"#VALUE!"},{"$error":"#VALUE!"}]
[{"$error":"#VALUE!"},{"$error":"#VALUE!"},{"$error":"#VALUE!"}]
[{"$error":"#VALUE!"},{"$error":"#VALUE!"},{"$error":"#VALUE!"}]
[{"$error":"#VALUE!"},{"$error":"#VALUE!"},{"$error":"#VALUE!"}]
[{"$error":"#VALUE!"},{"$error":"#VALUE!"},{"$error":"#VALUE!"}]
[{"$error":"#VALUE!"},{"$error":"#VALUE!"},{"$error":"#VALUE!"}]
[{"$error":"#VALUE!"},{"$error":"#VALUE!"},{"$error":"#VALUE!"}]
[{"$error":"#VALUE!"},{"$error":"#VALUE!"},{"$error":"#VALUE!"}]
[{"$error":"#VALUE!"},{"$error":"#VALUE!"},{"$error":"#VALUE!"}]
[{"$error":"#VALUE!"},{"$error":"#VALUE!"},{"$error":"#VALUE!"}]
[{"$error":"#VALUE!"},{"$error":"#VALUE!"},{"$error":"#VALUE!"}]
[{"$error":"#VALUE!"},{"$error":"#VALUE!"},{"$error":"#VALUE!"}]
[{"$error":"#VALUE!"},{"$error":"#VALUE!"},{"$error":"#VALUE!"}]
[{"$error":"#VALUE!"},{"$error":"#VALUE!"},{"$error":"#VALUE!"}]
[{"$error":"#VALUE!"},{"$error":"#VALUE!"},{"$error":"#VALUE!"}]
[{"$error":"#VALUE!"},{"$error":"#VALUE!"},{"$error":"#VALUE!"}]
[{"$error":"#VALUE!"},{"$error":"#VALUE!"},{"$error":"#VALUE!"}]
[{"$error":"#VALUE!"},{"$error":"#VALUE!"},{"$error":"#VALUE!"}]
[{"$error":"#VALUE!"},{"$error":"#VALUE!"},{"$error":"#VALUE!"}]
[{"$error":"#VALUE!"},{"$error":"#VALUE!"},{"$error":"#VALUE!"}]
[{"$error":"#VALUE!"},{"$error":"#VALUE!"},{"$error":"#VALUE!"}]
[{"$error":"#VALUE!"},{"$error":"#VALUE!"},{"$error":"#VALUE!"}]
[{"$error":"#VALUE!"},{"$error":"#VALUE!"},{"$error":"#VALUE!"}]
[{"$error":"#VALUE!"},{"$error":"#VALUE!"},{"$error":"#VALUE!"}]
[{"$error":"#VALUE!"},{"$error":"#VALUE!"},{"$error":"#VALUE!"}]
[{"$error":"#VALUE!"},{"$error":"#VALUE!"},{"$error":"#VALUE!"}]
[{"$error":"#VALUE!"},{"$error":"#VALUE!"},{"$error":"#VALUE!"}]
[{"$error":"#VALUE!"},{"$error":"#VALUE!"},{"$error":"#VALUE!"}]
[{"$error":"#VALUE!"},{"$error":"#VALUE!"},{"$error":"#VALUE!"}]
[{"$error":"#VALUE!"},{"$error":"#VALUE!"},{"$error":"#VALUE!"}]
[{"$error":"#VALUE!"},{"$f":"$B$22+$B$23*A59+$B$24*A59^2","v":{"$error":"#VALUE!"}},{"$f":"($E$19*$E$20*(1+(A59/100)))/(1+$E$19*(A59/100))","v":{"$error":"#VALUE!"}}]
[{"$f":"A59-0.2","v":{"$error":"#VALUE!"}},{"$error":"#VALUE!"},{"$error":"#VALUE!"}]
[{"$error":"#VALUE!"},{"$error":"#VALUE!"},{"$error":"#VALUE!"}]
[{"$error":"#VALUE!"},{"$error":"#VALUE!"},{"$error":"#VALUE!"}]
[{"$error":"#VALUE!"},{"$error":"#VALUE!"},{"$error":"#VALUE!"}]
[{"$error":"#VALUE!"},{"$error":"#VALUE!"},{"$error":"#VALUE!"}]
[{"$error":"#VALUE!"},{"$error":"#VALUE!"},{"$error":"#VALUE!"}]
[{"$error":"#VALUE!"},{"$error":"#VALUE!"},{"$error":"#VALUE!"}]
[{"$error":"#VALUE!"},{"$error":"#VALUE!"},{"$error":"#VALUE!"}]
[{"$error":"#VALUE!"},{"$error":"#VALUE!"},{"$error":"#VALUE!"}]
[{"$error":"#VALUE!"},{"$error":"#VALUE!"},{"$error":"#VALUE!"}]
[{"$error":"#VALUE!"},{"$error":"#VALUE!"},{"$error":"#VALUE!"}]
[{"$error":"#VALUE!"},{"$error":"#VALUE!"},{"$error":"#VALUE!"}]
[{"$error":"#VALUE!"},{"$error":"#VALUE!"},{"$error":"#VALUE!"}]
[{"$error":"#VALUE!"},{"$error":"#VALUE!"},{"$error":"#VALUE!"}]
[{"$error":"#VALUE!"},{"$error":"#VALUE!"},{"$error":"#VALUE!"}]
[{"$error":"#VALUE!"},{"$error":"#VALUE!"},{"$error":"#VALUE!"}]
[{"$error":"#VALUE!"},{"$error":"#VALUE!"},{"$error":"#VALUE!"}]
[{"$error":"#VALUE!"},{"$error":"#VALUE!"},{"$error":"#VALUE!"}]
[{"$error":"#VALUE!"},{"$error":"#VALUE!"},{"$error":"#VALUE!"}]
[{"$error":"#VALUE!"},{"$error":"#VALUE!"},{"$error":"#VALUE!"}]
[{"$error":"#VALUE!"},{"$error":"#VALUE!"},{"$error":"#VALUE!"}]
[{"$error":"#VALUE!"},{"$error":"#VALUE!"},{"$error":"#VALUE!"}]
[{"$error":"#VALUE!"},{"$error":"#VALUE!"},{"$error":"#VALUE!"}]
[{"$error":"#VALUE!"},{"$error":"#VALUE!"},{"$error":"#VALUE!"}]
[{"$error":"#VALUE!"},{"$error":"#VALUE!"},{"$error":"#VALUE!"}]
[{"$error":"#VALUE!"},{"$error":"#VALUE!"},{"$error":"#VALUE!"}]
[{"$error":"#VALUE!"},{"$error":"#VALUE!"},{"$error":"#VALUE!"}]
[{"$error":"#VALUE!"},{"$error":"#VALUE!"},{"$error":"#VALUE!"}]
[{"$error":"#VALUE!"},{"$error":"#VALUE!"},{"$error":"#VALUE!"}]
[{"$error":"#VALUE!"},{"$error":"#VALUE!"},{"$error":"#VALUE!"}]
[{"$error":"#VALUE!"},{"$error":"#VALUE!"},{"$error":"#VALUE!"}]
[{"$error":"#VALUE!"},{"$f":"$B$22+$B$23*A91+$B$24*A91^2","v":{"$error":"#VALUE!"}},{"$f":"($E$19*$E$20*(1+(A91/100)))/(1+$E$19*(A91/100))","v":{"$error":"#VALUE!"}}]
[{"$f":"A91-0.2","v":{"$error":"#VALUE!"}},{"$error":"#VALUE!"},{"$error":"#VALUE!"}]
[{"$error":"#VALUE!"},{"$error":"#VALUE!"},{"$error":"#VALUE!"}]
[{"$error":"#VALUE!"},{"$error":"#VALUE!"},{"$error":"#VALUE!"}]
[{"$error":"#VALUE!"},{"$error":"#VALUE!"},{"$error":"#VALUE!"}]
[{"$error":"#VALUE!"},{"$error":"#VALUE!"},{"$error":"#VALUE!"}]
[{"$error":"#VALUE!"},{"$error":"#VALUE!"},{"$error":"#VALUE!"}]
[{"$error":"#VALUE!"},{"$error":"#VALUE!"},{"$error":"#VALUE!"}]
[{"$error":"#VALUE!"},{"$error":"#VALUE!"},{"$error":"#VALUE!"}]
[{"$error":"#VALUE!"},{"$error":"#VALUE!"},{"$error":"#VALUE!"}]
[{"$error":"#VALUE!"},{"$error":"#VALUE!"},{"$error":"#VALUE!"}]
[{"$error":"#VALUE!"},{"$error":"#VALUE!"},{"$error":"#VALUE!"}]
[{"$error":"#VALUE!"},{"$error":"#VALUE!"},{"$error":"#VALUE!"}]
[{"$error":"#VALUE!"},{"$error":"#VALUE!"},{"$error":"#VALUE!"}]
[{"$error":"#VALUE!"},{"$error":"#VALUE!"},{"$error":"#VALUE!"}]
[{"$error":"#VALUE!"},{"$error":"#VALUE!"},{"$error":"#VALUE!"}]
[{"$error":"#VALUE!"},{"$error":"#VALUE!"},{"$error":"#VALUE!"}]
[{"$error":"#VALUE!"},{"$error":"#VALUE!"},{"$error":"#VALUE!"}]
[{"$error":"#VALUE!"},{"$error":"#VALUE!"},{"$error":"#VALUE!"}]
[{"$error":"#VALUE!"},{"$error":"#VALUE!"},{"$error":"#VALUE!"}]
[{"$error":"#VALUE!"},{"$error":"#VALUE!"},{"$error":"#VALUE!"}]
[{"$error":"#VALUE!"},{"$error":"#VALUE!"},{"$error":"#VALUE!"}]
[{"$error":"#VALUE!"},{"$error":"#VALUE!"},{"$error":"#VALUE!"}]
[{"$error":"#VALUE!"},{"$error":"#VALUE!"},{"$error":"#VALUE!"}]
[{"$error":"#VALUE!"},{"$error":"#VALUE!"},{"$error":"#VALUE!"}]
[{"$error":"#VALUE!"},{"$error":"#VALUE!"},{"$error":"#VALUE!"}]
[{"$error":"#VALUE!"},{"$error":"#VALUE!"},{"$error":"#VALUE!"}]
[{"$error":"#VALUE!"},{"$error":"#VALUE!"},{"$error":"#VALUE!"}]
[{"$error":"#VALUE!"},{"$error":"#VALUE!"},{"$error":"#VALUE!"}]
[{"$error":"#VALUE!"},{"$error":"#VALUE!"},{"$error":"#VALUE!"}]
[{"$error":"#VALUE!"},{"$error":"#VALUE!"},{"$error":"#VALUE!"}]
[{"$error":"#VALUE!"},{"$error":"#VALUE!"},{"$error":"#VALUE!"}]
[{"$error":"#VALUE!"},{"$f":"$B$22+$B$23*A123+$B$24*A123^2","v":{"$error":"#VALUE!"}},{"$f":"($E$19*$E$20*(1+(A123/100)))/(1+$E$19*(A123/100))","v":{"$error":"#VALUE!"}}]
[{"$f":"A123-0.2","v":{"$error":"#VALUE!"}},{"$error":"#VALUE!"},{"$error":"#VALUE!"}]
[{"$error":"#VALUE!"},{"$error":"#VALUE!"},{"$error":"#VALUE!"}]
[{"$error":"#VALUE!"},{"$error":"#VALUE!"},{"$error":"#VALUE!"}]
[{"$error":"#VALUE!"},{"$error":"#VALUE!"},{"$error":"#VALUE!"}]
[{"$error":"#VALUE!"},{"$error":"#VALUE!"},{"$error":"#VALUE!"}]
[{"$error":"#VALUE!"},{"$error":"#VALUE!"},{"$error":"#VALUE!"}]
[{"$error":"#VALUE!"},{"$error":"#VALUE!"},{"$error":"#VALUE!"}]
[{"$error":"#VALUE!"},{"$error":"#VALUE!"},{"$error":"#VALUE!"}]
[{"$error":"#VALUE!"},{"$error":"#VALUE!"},{"$error":"#VALUE!"}]
[{"$error":"#VALUE!"},{"$error":"#VALUE!"},{"$error":"#VALUE!"}]
[{"$error":"#VALUE!"},{"$error":"#VALUE!"},{"$error":"#VALUE!"}]
[{"$error":"#VALUE!"},{"$error":"#VALUE!"},{"$error":"#VALUE!"}]
[{"$error":"#VALUE!"},{"$error":"#VALUE!"},{"$error":"#VALUE!"}]
[{"$error":"#VALUE!"},{"$error":"#VALUE!"},{"$error":"#VALUE!"}]
[{"$error":"#VALUE!"},{"$error":"#VALUE!"},{"$error":"#VALUE!"}]
[{"$error":"#VALUE!"},{"$error":"#VALUE!"},{"$error":"#VALUE!"}]
[{"$error":"#VALUE!"},{"$error":"#VALUE!"},{"$error":"#VALUE!"}]
[{"$error":"#VALUE!"},{"$error":"#VALUE!"},{"$error":"#VALUE!"}]
[{"$error":"#VALUE!"},{"$error":"#VALUE!"},{"$error":"#VALUE!"}]
[{"$error":"#VALUE!"},{"$error":"#VALUE!"},{"$error":"#VALUE!"}]
[{"$error":"#VALUE!"},{"$error":"#VALUE!"},{"$error":"#VALUE!"}]
[{"$error":"#VALUE!"},{"$error":"#VALUE!"},{"$error":"#VALUE!"}]
[{"$error":"#VALUE!"},{"$error":"#VALUE!"},{"$error":"#VALUE!"}]
[{"$error":"#VALUE!"},{"$error":"#VALUE!"},{"$error":"#VALUE!"}]
[{"$error":"#VALUE!"},{"$error":"#VALUE!"},{"$error":"#VALUE!"}]
[{"$error":"#VALUE!"},{"$error":"#VALUE!"},{"$error":"#VALUE!"}]
[{"$error":"#VALUE!"},{"$error":"#VALUE!"},{"$error":"#VALUE!"}]
[{"$error":"#VALUE!"},{"$error":"#VALUE!"},{"$error":"#VALUE!"}]
[{"$error":"#VALUE!"},{"$error":"#VALUE!"},{"$error":"#VALUE!"}]
[{"$error":"#VALUE!"},{"$error":"#VALUE!"},{"$error":"#VALUE!"}]
[{"$error":"#VALUE!"},{"$error":"#VALUE!"},{"$error":"#VALUE!"}]
[{"$error":"#VALUE!"},{"$f":"$B$22+$B$23*A155+$B$24*A155^2","v":{"$error":"#VALUE!"}},{"$f":"($E$19*$E$20*(1+(A155/100)))/(1+$E$19*(A155/100))","v":{"$error":"#VALUE!"}}]
[{"$f":"A155-0.2","v":{"$error":"#VALUE!"}},{"$error":"#VALUE!"},{"$error":"#VALUE!"}]
[{"$error":"#VALUE!"},{"$error":"#VALUE!"},{"$error":"#VALUE!"}]
[{"$error":"#VALUE!"},{"$error":"#VALUE!"},{"$error":"#VALUE!"}]
[{"$error":"#VALUE!"},{"$error":"#VALUE!"},{"$error":"#VALUE!"}]
[{"$error":"#VALUE!"},{"$error":"#VALUE!"},{"$error":"#VALUE!"}]
[{"$error":"#VALUE!"},{"$error":"#VALUE!"},{"$error":"#VALUE!"}]
[{"$error":"#VALUE!"},{"$error":"#VALUE!"},{"$error":"#VALUE!"}]
[{"$error":"#VALUE!"},{"$error":"#VALUE!"},{"$error":"#VALUE!"}]
[{"$error":"#VALUE!"},{"$error":"#VALUE!"},{"$error":"#VALUE!"}]
[{"$error":"#VALUE!"},{"$error":"#VALUE!"},{"$error":"#VALUE!"}]
[{"$error":"#VALUE!"},{"$error":"#VALUE!"},{"$error":"#VALUE!"}]
[{"$error":"#VALUE!"},{"$error":"#VALUE!"},{"$error":"#VALUE!"}]
[{"$error":"#VALUE!"},{"$error":"#VALUE!"},{"$error":"#VALUE!"}]
[{"$error":"#VALUE!"},{"$error":"#VALUE!"},{"$error":"#VALUE!"}]
[{"$error":"#VALUE!"},{"$error":"#VALUE!"},{"$error":"#VALUE!"}]
[{"$error":"#VALUE!"},{"$error":"#VALUE!"},{"$error":"#VALUE!"}]
[{"$error":"#VALUE!"},{"$error":"#VALUE!"},{"$error":"#VALUE!"}]
[{"$error":"#VALUE!"},{"$error":"#VALUE!"},{"$error":"#VALUE!"}]
[{"$error":"#VALUE!"},{"$error":"#VALUE!"},{"$error":"#VALUE!"}]
[{"$error":"#VALUE!"},{"$error":"#VALUE!"},{"$error":"#VALUE!"}]
[{"$error":"#VALUE!"},{"$error":"#VALUE!"},{"$error":"#VALUE!"}]
[{"$error":"#VALUE!"},{"$error":"#VALUE!"},{"$error":"#VALUE!"}]
[{"$error":"#VALUE!"},{"$error":"#VALUE!"},{"$error":"#VALUE!"}]
[{"$error":"#VALUE!"},{"$error":"#VALUE!"},{"$error":"#VALUE!"}]
[{"$error":"#VALUE!"},{"$error":"#VALUE!"},{"$error":"#VALUE!"}]
[{"$error":"#VALUE!"},{"$error":"#VALUE!"},{"$error":"#VALUE!"}]
[{"$error":"#VALUE!"},{"$error":"#VALUE!"},{"$error":"#VALUE!"}]
[{"$error":"#VALUE!"},{"$error":"#VALUE!"},{"$error":"#VALUE!"}]
[{"$error":"#VALUE!"},{"$error":"#VALUE!"},{"$error":"#VALUE!"}]
[{"$error":"#VALUE!"},{"$error":"#VALUE!"},{"$error":"#VALUE!"}]
[{"$error":"#VALUE!"},{"$error":"#VALUE!"},{"$error":"#VALUE!"}]
[{"$error":"#VALUE!"},{"$f":"$B$22+$B$23*A187+$B$24*A187^2","v":{"$error":"#VALUE!"}},{"$f":"($E$19*$E$20*(1+(A187/100)))/(1+$E$19*(A187/100))","v":{"$error":"#VALUE!"}}]
[{"$f":"A187-0.2","v":{"$error":"#VALUE!"}},{"$error":"#VALUE!"},{"$error":"#VALUE!"}]
[{"$error":"#VALUE!"},{"$error":"#VALUE!"},{"$error":"#VALUE!"}]
[{"$error":"#VALUE!"},{"$error":"#VALUE!"},{"$error":"#VALUE!"}]
[{"$error":"#VALUE!"},{"$error":"#VALUE!"},{"$error":"#VALUE!"}]
[{"$error":"#VALUE!"},{"$error":"#VALUE!"},{"$error":"#VALUE!"}]
[{"$error":"#VALUE!"},{"$error":"#VALUE!"},{"$error":"#VALUE!"}]
[{"$error":"#VALUE!"},{"$error":"#VALUE!"},{"$error":"#VALUE!"}]
[{"$error":"#VALUE!"},{"$error":"#VALUE!"},{"$error":"#VALUE!"}]
[{"$error":"#VALUE!"},{"$error":"#VALUE!"},{"$error":"#VALUE!"}]
[{"$error":"#VALUE!"},{"$error":"#VALUE!"},{"$error":"#VALUE!"}]
[{"$error":"#VALUE!"},{"$error":"#VALUE!"},{"$error":"#VALUE!"}]

{"sheet":"Reference (part 2)","index":15,"n_rows":201,"n_cols":5,"rows_kept":201,"cut":false,"hidden":true,"merged":[]}
["m1",{"$f":"(B12-B11)/(C12-C11)","v":{"$error":"#VALUE!"}}]
["b1",{"$f":"B11-B1*C11","v":{"$error":"#VALUE!"}},"X-Peak",{"$f":"(B4-B2)/(B1-B3)","v":{"$error":"#VALUE!"}}]
["m2",{"$f":"IF(AND(B13>0,'Tex-113 (1-3)'!H46=0),B1*-1,(B14-B13)/(C14-C13))","v":{"$error":"#VALUE!"}},"Y-Peak",{"$f":"B1*D2+B2","v":{"$error":"#VALUE!"}}]
["b2",{"$f":"B13-C13*B3","v":{"$error":"#VALUE!"}}]
[]
[]
[]
[]
[]
["N","Y","X","X^2"]
[1,{"$f":"'Tex-113 (1-3)'!E48","v":""},{"$f":"'Tex-113 (1-3)'!E47","v":""},{"$f":"C11^2","v":{"$error":"#VALUE!"}}]
[2,{"$f":"'Tex-113 (1-3)'!F48","v":""},{"$f":"'Tex-113 (1-3)'!F47","v":""},{"$error":"#VALUE!"}]
[3,{"$f":"'Tex-113 (1-3)'!G48","v":""},{"$f":"'Tex-113 (1-3)'!G47","v":""},{"$error":"#VALUE!"}]
[4,{"$f":"IF(AND(B13>0,'Tex-113 (1-3)'!H46=0),D3,'Tex-113 (1-3)'!H48)","v":""},{"$f":"IF(AND(C13>0,'Tex-113 (1-3)'!H46=0),D2,'Tex-113 (1-3)'!H47)","v":""},{"$error":"#VALUE!"}]
[5,{"$f":"D3","v":{"$error":"#VALUE!"}},{"$f":"$D$2","v":{"$error":"#VALUE!"}},{"$error":"#VALUE!"}]
[6,{"$f":"D3","v":{"$error":"#VALUE!"}},{"$f":"$D$2","v":{"$error":"#VALUE!"}},{"$error":"#VALUE!"}]
[7,{"$f":"D3","v":{"$error":"#VALUE!"}},{"$f":"$D$2","v":{"$error":"#VALUE!"}},{"$error":"#VALUE!"}]
[8,{"$f":"D3","v":{"$error":"#VALUE!"}},{"$f":"D2","v":{"$error":"#VALUE!"}},{"$error":"#VALUE!"}]
["SUM",{"$f":"SUM(B13:B17)","v":{"$error":"#VALUE!"}},{"$f":"SUM(C13:C17)","v":{"$error":"#VALUE!"}},{"$f":"SUM(D11:D17)","v":{"$error":"#VALUE!"}}]
[]
[]
["MAX DEN",{"$f":"B27*B23^2+B26*B23+B25","v":{"$error":"#VALUE!"}}]
["MAX  W",{"$f":"-B26/(2*B27)","v":{"$error":"#VALUE!"}}]
[]
["Ao",{"$f":"INDEX(LINEST($B$11:$B$14,$C$11:$D$14),3)","v":{"$error":"#VALUE!"}}]
["A1",{"$f":"INDEX(LINEST($B$11:$B$14,$C$11:$D$14),2)","v":{"$error":"#VALUE!"}},null,"SG",{"$f":"IF(AND('Tex-113 (1-3)'!E24>0,'Tex-113 (1-3)'!E23>0),'Tex-113 (1-3)'!E25,\"\")","v":""}]
["A2",{"$f":"INDEX(LINEST($B$11:$B$14,$C$11:$D$14),1)","v":{"$error":"#VALUE!"}}]
[]
["W","dry density","zav"]
[{"$f":"IF('Tex-113 (1-3)'!H30>0,'Tex-113 (1-3)'!H30+8,'Tex-113 (1-3)'!G30+8)","v":8},{"$f":"$B$25+$B$26*A30+$B$27*A30^2","v":{"$error":"#VALUE!"}},{"$f":"($E$26*62.4)/(1+(A30/100)*$E$26)","v":{"$error":"#VALUE!"}}]
[{"$f":"A30-0.1","v":7.9},{"$error":"#VALUE!"},{"$error":"#VALUE!"}]
[7.8000000000000007,{"$error":"#VALUE!"},{"$error":"#VALUE!"}]
[7.7000000000000011,{"$error":"#VALUE!"},{"$error":"#VALUE!"}]
[7.6000000000000014,{"$error":"#VALUE!"},{"$error":"#VALUE!"}]
[7.5000000000000018,{"$error":"#VALUE!"},{"$error":"#VALUE!"}]
[7.4000000000000021,{"$error":"#VALUE!"},{"$error":"#VALUE!"}]
[7.3000000000000025,{"$error":"#VALUE!"},{"$error":"#VALUE!"}]
[7.2000000000000028,{"$error":"#VALUE!"},{"$error":"#VALUE!"}]
[7.1000000000000032,{"$error":"#VALUE!"},{"$error":"#VALUE!"}]
[7.0000000000000036,{"$error":"#VALUE!"},{"$error":"#VALUE!"}]
[6.9000000000000039,{"$error":"#VALUE!"},{"$error":"#VALUE!"}]
[6.8000000000000043,{"$error":"#VALUE!"},{"$error":"#VALUE!"}]
[6.7000000000000046,{"$error":"#VALUE!"},{"$error":"#VALUE!"}]
[6.600000000000005,{"$error":"#VALUE!"},{"$error":"#VALUE!"}]
[6.5000000000000053,{"$error":"#VALUE!"},{"$error":"#VALUE!"}]
[6.4000000000000057,{"$error":"#VALUE!"},{"$error":"#VALUE!"}]
[6.300000000000006,{"$error":"#VALUE!"},{"$error":"#VALUE!"}]
[6.2000000000000064,{"$error":"#VALUE!"},{"$error":"#VALUE!"}]
[6.1000000000000068,{"$error":"#VALUE!"},{"$error":"#VALUE!"}]
[6.0000000000000071,{"$error":"#VALUE!"},{"$error":"#VALUE!"}]
[5.9000000000000075,{"$error":"#VALUE!"},{"$error":"#VALUE!"}]
[5.8000000000000078,{"$error":"#VALUE!"},{"$error":"#VALUE!"}]
[5.7000000000000082,{"$error":"#VALUE!"},{"$error":"#VALUE!"}]
[5.6000000000000085,{"$error":"#VALUE!"},{"$error":"#VALUE!"}]
[5.5000000000000089,{"$error":"#VALUE!"},{"$error":"#VALUE!"}]
[5.4000000000000092,{"$error":"#VALUE!"},{"$error":"#VALUE!"}]
[5.3000000000000096,{"$error":"#VALUE!"},{"$error":"#VALUE!"}]
[5.2000000000000099,{"$error":"#VALUE!"},{"$error":"#VALUE!"}]
[5.1000000000000103,{"$error":"#VALUE!"},{"$error":"#VALUE!"}]
[5.0000000000000107,{"$error":"#VALUE!"},{"$error":"#VALUE!"}]
[4.900000000000011,{"$error":"#VALUE!"},{"$error":"#VALUE!"}]
[4.8000000000000114,{"$f":"$B$25+$B$26*A62+$B$27*A62^2","v":{"$error":"#VALUE!"}},{"$f":"($E$26*62.4)/(1+(A62/100)*$E$26)","v":{"$error":"#VALUE!"}}]
[{"$f":"A62-0.1","v":4.7000000000000117},{"$error":"#VALUE!"},{"$error":"#VALUE!"}]
[4.6000000000000121,{"$error":"#VALUE!"},{"$error":"#VALUE!"}]
[4.5000000000000124,{"$error":"#VALUE!"},{"$error":"#VALUE!"}]
[4.4000000000000128,{"$error":"#VALUE!"},{"$error":"#VALUE!"}]
[4.3000000000000131,{"$error":"#VALUE!"},{"$error":"#VALUE!"}]
[4.2000000000000135,{"$error":"#VALUE!"},{"$error":"#VALUE!"}]
[4.1000000000000139,{"$error":"#VALUE!"},{"$error":"#VALUE!"}]
[4.0000000000000142,{"$error":"#VALUE!"},{"$error":"#VALUE!"}]
[3.9000000000000141,{"$error":"#VALUE!"},{"$error":"#VALUE!"}]
[3.800000000000014,{"$error":"#VALUE!"},{"$error":"#VALUE!"}]
[3.7000000000000139,{"$error":"#VALUE!"},{"$error":"#VALUE!"}]
[3.6000000000000139,{"$error":"#VALUE!"},{"$error":"#VALUE!"}]
[3.5000000000000138,{"$error":"#VALUE!"},{"$error":"#VALUE!"}]
[3.4000000000000137,{"$error":"#VALUE!"},{"$error":"#VALUE!"}]
[3.3000000000000136,{"$error":"#VALUE!"},{"$error":"#VALUE!"}]
[3.2000000000000135,{"$error":"#VALUE!"},{"$error":"#VALUE!"}]
[3.1000000000000134,{"$error":"#VALUE!"},{"$error":"#VALUE!"}]
[3.0000000000000133,{"$error":"#VALUE!"},{"$error":"#VALUE!"}]
[2.9000000000000132,{"$error":"#VALUE!"},{"$error":"#VALUE!"}]
[2.8000000000000131,{"$error":"#VALUE!"},{"$error":"#VALUE!"}]
[2.7000000000000131,{"$error":"#VALUE!"},{"$error":"#VALUE!"}]
[2.600000000000013,{"$error":"#VALUE!"},{"$error":"#VALUE!"}]
[2.5000000000000129,{"$error":"#VALUE!"},{"$error":"#VALUE!"}]
[2.4000000000000128,{"$error":"#VALUE!"},{"$error":"#VALUE!"}]
[2.3000000000000127,{"$error":"#VALUE!"},{"$error":"#VALUE!"}]
[2.2000000000000126,{"$error":"#VALUE!"},{"$error":"#VALUE!"}]
[2.1000000000000125,{"$error":"#VALUE!"},{"$error":"#VALUE!"}]
[2.0000000000000124,{"$error":"#VALUE!"},{"$error":"#VALUE!"}]
[1.9000000000000123,{"$error":"#VALUE!"},{"$error":"#VALUE!"}]
[1.8000000000000123,{"$error":"#VALUE!"},{"$error":"#VALUE!"}]
[1.7000000000000122,{"$error":"#VALUE!"},{"$error":"#VALUE!"}]
[1.6000000000000121,{"$f":"$B$25+$B$26*A94+$B$27*A94^2","v":{"$error":"#VALUE!"}},{"$f":"($E$26*62.4)/(1+(A94/100)*$E$26)","v":{"$error":"#VALUE!"}}]
[{"$f":"A94-0.1","v":1.500000000000012},{"$error":"#VALUE!"},{"$error":"#VALUE!"}]
[1.4000000000000119,{"$error":"#VALUE!"},{"$error":"#VALUE!"}]
[1.3000000000000118,{"$error":"#VALUE!"},{"$error":"#VALUE!"}]
[1.2000000000000117,{"$error":"#VALUE!"},{"$error":"#VALUE!"}]
[1.1000000000000116,{"$error":"#VALUE!"},{"$error":"#VALUE!"}]
[1.0000000000000115,{"$error":"#VALUE!"},{"$error":"#VALUE!"}]
[0.90000000000001157,{"$error":"#VALUE!"},{"$error":"#VALUE!"}]
[0.80000000000001159,{"$error":"#VALUE!"},{"$error":"#VALUE!"}]
[0.70000000000001161,{"$error":"#VALUE!"},{"$error":"#VALUE!"}]
[0.60000000000001164,{"$error":"#VALUE!"},{"$error":"#VALUE!"}]
[0.50000000000001166,{"$error":"#VALUE!"},{"$error":"#VALUE!"}]
[0.40000000000001168,{"$error":"#VALUE!"},{"$error":"#VALUE!"}]
[0.3000000000000117,{"$error":"#VALUE!"},{"$error":"#VALUE!"}]
[0.2000000000000117,{"$error":"#VALUE!"},{"$error":"#VALUE!"}]
[0.10000000000001169,{"$error":"#VALUE!"},{"$error":"#VALUE!"}]
[1.1685097334179773E-14,{"$error":"#VALUE!"},{"$error":"#VALUE!"}]
[-9.999999999998832E-2,{"$error":"#VALUE!"},{"$error":"#VALUE!"}]
[-0.19999999999998833,{"$error":"#VALUE!"},{"$error":"#VALUE!"}]
[-0.29999999999998833,{"$error":"#VALUE!"},{"$error":"#VALUE!"}]
[-0.39999999999998836,{"$error":"#VALUE!"},{"$error":"#VALUE!"}]
[-0.49999999999998834,{"$error":"#VALUE!"},{"$error":"#VALUE!"}]
[-0.59999999999998832,{"$error":"#VALUE!"},{"$error":"#VALUE!"}]
[-0.6999999999999883,{"$error":"#VALUE!"},{"$error":"#VALUE!"}]
[-0.79999999999998828,{"$error":"#VALUE!"},{"$error":"#VALUE!"}]
[-0.89999999999998825,{"$error":"#VALUE!"},{"$error":"#VALUE!"}]
[-0.99999999999998823,{"$error":"#VALUE!"},{"$error":"#VALUE!"}]
[-1.0999999999999883,{"$error":"#VALUE!"},{"$error":"#VALUE!"}]
[-1.1999999999999884,{"$error":"#VALUE!"},{"$error":"#VALUE!"}]
[-1.2999999999999885,{"$error":"#VALUE!"},{"$error":"#VALUE!"}]
[-1.3999999999999886,{"$error":"#VALUE!"},{"$error":"#VALUE!"}]
[-1.4999999999999887,{"$error":"#VALUE!"},{"$error":"#VALUE!"}]
[-1.5999999999999888,{"$f":"$B$25+$B$26*A126+$B$27*A126^2","v":{"$error":"#VALUE!"}},{"$f":"($E$26*62.4)/(1+(A126/100)*$E$26)","v":{"$error":"#VALUE!"}}]
[{"$f":"A126-0.1","v":-1.6999999999999889},{"$error":"#VALUE!"},{"$error":"#VALUE!"}]
[-1.7999999999999889,{"$error":"#VALUE!"},{"$error":"#VALUE!"}]
[-1.899999999999989,{"$error":"#VALUE!"},{"$error":"#VALUE!"}]
[-1.9999999999999891,{"$error":"#VALUE!"},{"$error":"#VALUE!"}]
[-2.099999999999989,{"$error":"#VALUE!"},{"$error":"#VALUE!"}]
[-2.1999999999999891,{"$error":"#VALUE!"},{"$error":"#VALUE!"}]
[-2.2999999999999892,{"$error":"#VALUE!"},{"$error":"#VALUE!"}]
[-2.3999999999999893,{"$error":"#VALUE!"},{"$error":"#VALUE!"}]
[-2.4999999999999893,{"$error":"#VALUE!"},{"$error":"#VALUE!"}]
[-2.5999999999999894,{"$error":"#VALUE!"},{"$error":"#VALUE!"}]
[-2.6999999999999895,{"$error":"#VALUE!"},{"$error":"#VALUE!"}]
[-2.7999999999999896,{"$error":"#VALUE!"},{"$error":"#VALUE!"}]
[-2.8999999999999897,{"$error":"#VALUE!"},{"$error":"#VALUE!"}]
[-2.9999999999999898,{"$error":"#VALUE!"},{"$error":"#VALUE!"}]
[-3.0999999999999899,{"$error":"#VALUE!"},{"$error":"#VALUE!"}]
[-3.19999999999999,{"$error":"#VALUE!"},{"$error":"#VALUE!"}]
[-3.2999999999999901,{"$error":"#VALUE!"},{"$error":"#VALUE!"}]
[-3.3999999999999901,{"$error":"#VALUE!"},{"$error":"#VALUE!"}]
[-3.4999999999999902,{"$error":"#VALUE!"},{"$error":"#VALUE!"}]
[-3.5999999999999903,{"$error":"#VALUE!"},{"$error":"#VALUE!"}]
[-3.6999999999999904,{"$error":"#VALUE!"},{"$error":"#VALUE!"}]
[-3.7999999999999905,{"$error":"#VALUE!"},{"$error":"#VALUE!"}]
[-3.8999999999999906,{"$error":"#VALUE!"},{"$error":"#VALUE!"}]
[-3.9999999999999907,{"$error":"#VALUE!"},{"$error":"#VALUE!"}]
[-4.0999999999999908,{"$error":"#VALUE!"},{"$error":"#VALUE!"}]
[-4.1999999999999904,{"$error":"#VALUE!"},{"$error":"#VALUE!"}]
[-4.2999999999999901,{"$error":"#VALUE!"},{"$error":"#VALUE!"}]
[-4.3999999999999897,{"$error":"#VALUE!"},{"$error":"#VALUE!"}]
[-4.4999999999999893,{"$error":"#VALUE!"},{"$error":"#VALUE!"}]
[-4.599999999999989,{"$error":"#VALUE!"},{"$error":"#VALUE!"}]
[-4.6999999999999886,{"$error":"#VALUE!"},{"$error":"#VALUE!"}]
[-4.7999999999999883,{"$f":"$B$25+$B$26*A158+$B$27*A158^2","v":{"$error":"#VALUE!"}},{"$f":"($E$26*62.4)/(1+(A158/100)*$E$26)","v":{"$error":"#VALUE!"}}]
[{"$f":"A158-0.1","v":-4.8999999999999879},{"$error":"#VALUE!"},{"$error":"#VALUE!"}]
[-4.9999999999999876,{"$error":"#VALUE!"},{"$error":"#VALUE!"}]
[-5.0999999999999872,{"$error":"#VALUE!"},{"$error":"#VALUE!"}]
[-5.1999999999999869,{"$error":"#VALUE!"},{"$error":"#VALUE!"}]
[-5.2999999999999865,{"$error":"#VALUE!"},{"$error":"#VALUE!"}]
[-5.3999999999999861,{"$error":"#VALUE!"},{"$error":"#VALUE!"}]
[-5.4999999999999858,{"$error":"#VALUE!"},{"$error":"#VALUE!"}]
[-5.5999999999999854,{"$error":"#VALUE!"},{"$error":"#VALUE!"}]
[-5.6999999999999851,{"$error":"#VALUE!"},{"$error":"#VALUE!"}]
[-5.7999999999999847,{"$error":"#VALUE!"},{"$error":"#VALUE!"}]
[-5.8999999999999844,{"$error":"#VALUE!"},{"$error":"#VALUE!"}]
[-5.999999999999984,{"$error":"#VALUE!"},{"$error":"#VALUE!"}]
[-6.0999999999999837,{"$error":"#VALUE!"},{"$error":"#VALUE!"}]
[-6.1999999999999833,{"$error":"#VALUE!"},{"$error":"#VALUE!"}]
[-6.2999999999999829,{"$error":"#VALUE!"},{"$error":"#VALUE!"}]
[-6.3999999999999826,{"$error":"#VALUE!"},{"$error":"#VALUE!"}]
[-6.4999999999999822,{"$error":"#VALUE!"},{"$error":"#VALUE!"}]
[-6.5999999999999819,{"$error":"#VALUE!"},{"$error":"#VALUE!"}]
[-6.6999999999999815,{"$error":"#VALUE!"},{"$error":"#VALUE!"}]
[-6.7999999999999812,{"$error":"#VALUE!"},{"$error":"#VALUE!"}]
[-6.8999999999999808,{"$error":"#VALUE!"},{"$error":"#VALUE!"}]
[-6.9999999999999805,{"$error":"#VALUE!"},{"$error":"#VALUE!"}]
[-7.0999999999999801,{"$error":"#VALUE!"},{"$error":"#VALUE!"}]
[-7.1999999999999797,{"$error":"#VALUE!"},{"$error":"#VALUE!"}]
[-7.2999999999999794,{"$error":"#VALUE!"},{"$error":"#VALUE!"}]
[-7.399999999999979,{"$error":"#VALUE!"},{"$error":"#VALUE!"}]
[-7.4999999999999787,{"$error":"#VALUE!"},{"$error":"#VALUE!"}]
[-7.5999999999999783,{"$error":"#VALUE!"},{"$error":"#VALUE!"}]
[-7.699999999999978,{"$error":"#VALUE!"},{"$error":"#VALUE!"}]
[-7.7999999999999776,{"$error":"#VALUE!"},{"$error":"#VALUE!"}]
[-7.8999999999999773,{"$error":"#VALUE!"},{"$error":"#VALUE!"}]
[-7.9999999999999769,{"$f":"$B$25+$B$26*A190+$B$27*A190^2","v":{"$error":"#VALUE!"}},{"$f":"($E$26*62.4)/(1+(A190/100)*$E$26)","v":{"$error":"#VALUE!"}}]
[{"$f":"A190-0.1","v":-8.0999999999999766},{"$error":"#VALUE!"},{"$error":"#VALUE!"}]
[-8.1999999999999762,{"$error":"#VALUE!"},{"$error":"#VALUE!"}]
[-8.2999999999999758,{"$error":"#VALUE!"},{"$error":"#VALUE!"}]
[-8.3999999999999755,{"$error":"#VALUE!"},{"$error":"#VALUE!"}]
[-8.4999999999999751,{"$error":"#VALUE!"},{"$error":"#VALUE!"}]
[-8.5999999999999748,{"$error":"#VALUE!"},{"$error":"#VALUE!"}]
[-8.6999999999999744,{"$error":"#VALUE!"},{"$error":"#VALUE!"}]
[-8.7999999999999741,{"$error":"#VALUE!"},{"$error":"#VALUE!"}]
[-8.8999999999999737,{"$error":"#VALUE!"},{"$error":"#VALUE!"}]
[-8.9999999999999734,{"$error":"#VALUE!"},{"$error":"#VALUE!"}]
[-9.099999999999973,{"$error":"#VALUE!"},{"$error":"#VALUE!"}]

{"sheet":"Reference (10-12)","index":16,"n_rows":198,"n_cols":5,"rows_kept":198,"cut":false,"hidden":true,"merged":[]}
["m1",{"$f":"(B12-B11)/(C12-C11)","v":{"$error":"#VALUE!"}}]
["b1",{"$f":"B11-B1*C11","v":{"$error":"#VALUE!"}},"X-Peak",{"$f":"(B4-B2)/(B1-B3)","v":{"$error":"#VALUE!"}}]
["m2",{"$f":"IF(AND(B13>0,'Tex-113 (10-12)'!H46=0),B1*-1,(B14-B13)/(C14-C13))","v":{"$error":"#VALUE!"}},"Y-Peak",{"$f":"B1*D2+B2","v":{"$error":"#VALUE!"}}]
["b2",{"$f":"B13-C13*B3","v":{"$error":"#VALUE!"}}]
[]
[]
[]
[]
[]
["N","Y","X","X^2"]
[1,{"$f":"'Tex-113 (10-12)'!E48","v":""},{"$f":"'Tex-113 (10-12)'!E47","v":""},{"$f":"C11^2","v":{"$error":"#VALUE!"}}]
[2,{"$f":"'Tex-113 (10-12)'!F48","v":""},{"$f":"'Tex-113 (10-12)'!F47","v":""},{"$f":"C12^2","v":{"$error":"#VALUE!"}}]
[3,{"$f":"'Tex-113 (10-12)'!G48","v":""},{"$f":"'Tex-113 (10-12)'!G47","v":""},{"$f":"C13^2","v":{"$error":"#VALUE!"}}]
[4,{"$f":"IF(AND(B13>0,'Tex-113 (10-12)'!H46=0),E25,'Tex-113 (10-12)'!H48)","v":""},{"$f":"IF(AND(C13>0,'Tex-113 (10-12)'!H46=0),D2+2,'Tex-113 (10-12)'!H47)","v":""},{"$f":"C14^2","v":{"$error":"#VALUE!"}}]
[5,{"$f":"D3","v":{"$error":"#VALUE!"}},{"$f":"$D$2","v":{"$error":"#VALUE!"}},{"$f":"C15^2","v":{"$error":"#VALUE!"}}]
["SUM",{"$f":"SUM(B13:B15)","v":{"$error":"#VALUE!"}},{"$f":"SUM(C13:C15)","v":{"$error":"#VALUE!"}},{"$f":"SUM(D11:D15)","v":{"$error":"#VALUE!"}}]
[]
[]
["MAX DEN",{"$f":"B24*B20^2+B23*B20+B22","v":{"$error":"#VALUE!"}},null,"Gs=",{"$f":"IF(AND('Tex-113 (10-12)'!E24>0,'Tex-113 (10-12)'!E23>0),'Tex-113 (10-12)'!E25,\"\")","v":""}]
["MAX  W",{"$f":"-B23/(2*B24)","v":{"$error":"#VALUE!"}},null,"gw=",62.5]
[null,null,null,"3pt Curve (Yes=1)=",{"$f":"IF('Tex-113 (10-12)'!H37=0,1,0)","v":0}]
["Ao",{"$f":"INDEX(LINEST($B$11:$B$14,$C$11:$D$14),3)","v":{"$error":"#VALUE!"}},null,"mZAV=",{"$f":"(C27-C54)/(A27-A54)","v":{"$error":"#VALUE!"}}]
["A1",{"$f":"INDEX(LINEST($B$11:$B$14,$C$11:$D$14),2)","v":{"$error":"#VALUE!"}},null,"bZAV=",{"$f":"C27-E22*A27","v":{"$error":"#VALUE!"}}]
["A2",{"$f":"INDEX(LINEST($B$11:$B$14,$C$11:$D$14),1)","v":{"$error":"#VALUE!"}},null,"b4th=",{"$f":"B13-E22*C13","v":{"$error":"#VALUE!"}}]
[null,null,null,"Y4th=",{"$f":"E22*C14+E24","v":{"$error":"#VALUE!"}}]
["W","Dry Density","ZAV"]
[{"$f":"IF(E21=1,'Tex-113 (10-12)'!G47+8,'Tex-113 (10-12)'!H47+8)","v":{"$error":"#VALUE!"}},{"$f":"$B$22+$B$23*A27+$B$24*A27^2","v":{"$error":"#VALUE!"}},{"$f":"($E$19*$E$20*(1+(A27/100)))/(1+$E$19*(A27/100))","v":{"$error":"#VALUE!"}}]
[{"$f":"A27-0.2","v":{"$error":"#VALUE!"}},{"$error":"#VALUE!"},{"$error":"#VALUE!"}]
[{"$error":"#VALUE!"},{"$error":"#VALUE!"},{"$error":"#VALUE!"}]
[{"$error":"#VALUE!"},{"$error":"#VALUE!"},{"$error":"#VALUE!"}]
[{"$error":"#VALUE!"},{"$error":"#VALUE!"},{"$error":"#VALUE!"}]
[{"$error":"#VALUE!"},{"$error":"#VALUE!"},{"$error":"#VALUE!"}]
[{"$error":"#VALUE!"},{"$error":"#VALUE!"},{"$error":"#VALUE!"}]
[{"$error":"#VALUE!"},{"$error":"#VALUE!"},{"$error":"#VALUE!"}]
[{"$error":"#VALUE!"},{"$error":"#VALUE!"},{"$error":"#VALUE!"}]
[{"$error":"#VALUE!"},{"$error":"#VALUE!"},{"$error":"#VALUE!"}]
[{"$error":"#VALUE!"},{"$error":"#VALUE!"},{"$error":"#VALUE!"}]
[{"$error":"#VALUE!"},{"$error":"#VALUE!"},{"$error":"#VALUE!"}]
[{"$error":"#VALUE!"},{"$error":"#VALUE!"},{"$error":"#VALUE!"}]
[{"$error":"#VALUE!"},{"$error":"#VALUE!"},{"$error":"#VALUE!"}]
[{"$error":"#VALUE!"},{"$error":"#VALUE!"},{"$error":"#VALUE!"}]
[{"$error":"#VALUE!"},{"$error":"#VALUE!"},{"$error":"#VALUE!"}]
[{"$error":"#VALUE!"},{"$error":"#VALUE!"},{"$error":"#VALUE!"}]
[{"$error":"#VALUE!"},{"$error":"#VALUE!"},{"$error":"#VALUE!"}]
[{"$error":"#VALUE!"},{"$error":"#VALUE!"},{"$error":"#VALUE!"}]
[{"$error":"#VALUE!"},{"$error":"#VALUE!"},{"$error":"#VALUE!"}]
[{"$error":"#VALUE!"},{"$error":"#VALUE!"},{"$error":"#VALUE!"}]
[{"$error":"#VALUE!"},{"$error":"#VALUE!"},{"$error":"#VALUE!"}]
[{"$error":"#VALUE!"},{"$error":"#VALUE!"},{"$error":"#VALUE!"}]
[{"$error":"#VALUE!"},{"$error":"#VALUE!"},{"$error":"#VALUE!"}]
[{"$error":"#VALUE!"},{"$error":"#VALUE!"},{"$error":"#VALUE!"}]
[{"$error":"#VALUE!"},{"$error":"#VALUE!"},{"$error":"#VALUE!"}]
[{"$error":"#VALUE!"},{"$error":"#VALUE!"},{"$error":"#VALUE!"}]
[{"$error":"#VALUE!"},{"$error":"#VALUE!"},{"$error":"#VALUE!"}]
[{"$error":"#VALUE!"},{"$error":"#VALUE!"},{"$error":"#VALUE!"}]
[{"$error":"#VALUE!"},{"$error":"#VALUE!"},{"$error":"#VALUE!"}]
[{"$error":"#VALUE!"},{"$error":"#VALUE!"},{"$error":"#VALUE!"}]
[{"$error":"#VALUE!"},{"$error":"#VALUE!"},{"$error":"#VALUE!"}]
[{"$error":"#VALUE!"},{"$f":"$B$22+$B$23*A59+$B$24*A59^2","v":{"$error":"#VALUE!"}},{"$f":"($E$19*$E$20*(1+(A59/100)))/(1+$E$19*(A59/100))","v":{"$error":"#VALUE!"}}]
[{"$f":"A59-0.2","v":{"$error":"#VALUE!"}},{"$error":"#VALUE!"},{"$error":"#VALUE!"}]
[{"$error":"#VALUE!"},{"$error":"#VALUE!"},{"$error":"#VALUE!"}]
[{"$error":"#VALUE!"},{"$error":"#VALUE!"},{"$error":"#VALUE!"}]
[{"$error":"#VALUE!"},{"$error":"#VALUE!"},{"$error":"#VALUE!"}]
[{"$error":"#VALUE!"},{"$error":"#VALUE!"},{"$error":"#VALUE!"}]
[{"$error":"#VALUE!"},{"$error":"#VALUE!"},{"$error":"#VALUE!"}]
[{"$error":"#VALUE!"},{"$error":"#VALUE!"},{"$error":"#VALUE!"}]
[{"$error":"#VALUE!"},{"$error":"#VALUE!"},{"$error":"#VALUE!"}]
[{"$error":"#VALUE!"},{"$error":"#VALUE!"},{"$error":"#VALUE!"}]
[{"$error":"#VALUE!"},{"$error":"#VALUE!"},{"$error":"#VALUE!"}]
[{"$error":"#VALUE!"},{"$error":"#VALUE!"},{"$error":"#VALUE!"}]
[{"$error":"#VALUE!"},{"$error":"#VALUE!"},{"$error":"#VALUE!"}]
[{"$error":"#VALUE!"},{"$error":"#VALUE!"},{"$error":"#VALUE!"}]
[{"$error":"#VALUE!"},{"$error":"#VALUE!"},{"$error":"#VALUE!"}]
[{"$error":"#VALUE!"},{"$error":"#VALUE!"},{"$error":"#VALUE!"}]
[{"$error":"#VALUE!"},{"$error":"#VALUE!"},{"$error":"#VALUE!"}]
[{"$error":"#VALUE!"},{"$error":"#VALUE!"},{"$error":"#VALUE!"}]
[{"$error":"#VALUE!"},{"$error":"#VALUE!"},{"$error":"#VALUE!"}]
[{"$error":"#VALUE!"},{"$error":"#VALUE!"},{"$error":"#VALUE!"}]
[{"$error":"#VALUE!"},{"$error":"#VALUE!"},{"$error":"#VALUE!"}]
[{"$error":"#VALUE!"},{"$error":"#VALUE!"},{"$error":"#VALUE!"}]
[{"$error":"#VALUE!"},{"$error":"#VALUE!"},{"$error":"#VALUE!"}]
[{"$error":"#VALUE!"},{"$error":"#VALUE!"},{"$error":"#VALUE!"}]
[{"$error":"#VALUE!"},{"$error":"#VALUE!"},{"$error":"#VALUE!"}]
[{"$error":"#VALUE!"},{"$error":"#VALUE!"},{"$error":"#VALUE!"}]
[{"$error":"#VALUE!"},{"$error":"#VALUE!"},{"$error":"#VALUE!"}]
[{"$error":"#VALUE!"},{"$error":"#VALUE!"},{"$error":"#VALUE!"}]
[{"$error":"#VALUE!"},{"$error":"#VALUE!"},{"$error":"#VALUE!"}]
[{"$error":"#VALUE!"},{"$error":"#VALUE!"},{"$error":"#VALUE!"}]
[{"$error":"#VALUE!"},{"$error":"#VALUE!"},{"$error":"#VALUE!"}]
[{"$error":"#VALUE!"},{"$error":"#VALUE!"},{"$error":"#VALUE!"}]
[{"$error":"#VALUE!"},{"$f":"$B$22+$B$23*A91+$B$24*A91^2","v":{"$error":"#VALUE!"}},{"$f":"($E$19*$E$20*(1+(A91/100)))/(1+$E$19*(A91/100))","v":{"$error":"#VALUE!"}}]
[{"$f":"A91-0.2","v":{"$error":"#VALUE!"}},{"$error":"#VALUE!"},{"$error":"#VALUE!"}]
[{"$error":"#VALUE!"},{"$error":"#VALUE!"},{"$error":"#VALUE!"}]
[{"$error":"#VALUE!"},{"$error":"#VALUE!"},{"$error":"#VALUE!"}]
[{"$error":"#VALUE!"},{"$error":"#VALUE!"},{"$error":"#VALUE!"}]
[{"$error":"#VALUE!"},{"$error":"#VALUE!"},{"$error":"#VALUE!"}]
[{"$error":"#VALUE!"},{"$error":"#VALUE!"},{"$error":"#VALUE!"}]
[{"$error":"#VALUE!"},{"$error":"#VALUE!"},{"$error":"#VALUE!"}]
[{"$error":"#VALUE!"},{"$error":"#VALUE!"},{"$error":"#VALUE!"}]
[{"$error":"#VALUE!"},{"$error":"#VALUE!"},{"$error":"#VALUE!"}]
[{"$error":"#VALUE!"},{"$error":"#VALUE!"},{"$error":"#VALUE!"}]
[{"$error":"#VALUE!"},{"$error":"#VALUE!"},{"$error":"#VALUE!"}]
[{"$error":"#VALUE!"},{"$error":"#VALUE!"},{"$error":"#VALUE!"}]
[{"$error":"#VALUE!"},{"$error":"#VALUE!"},{"$error":"#VALUE!"}]
[{"$error":"#VALUE!"},{"$error":"#VALUE!"},{"$error":"#VALUE!"}]
[{"$error":"#VALUE!"},{"$error":"#VALUE!"},{"$error":"#VALUE!"}]
[{"$error":"#VALUE!"},{"$error":"#VALUE!"},{"$error":"#VALUE!"}]
[{"$error":"#VALUE!"},{"$error":"#VALUE!"},{"$error":"#VALUE!"}]
[{"$error":"#VALUE!"},{"$error":"#VALUE!"},{"$error":"#VALUE!"}]
[{"$error":"#VALUE!"},{"$error":"#VALUE!"},{"$error":"#VALUE!"}]
[{"$error":"#VALUE!"},{"$error":"#VALUE!"},{"$error":"#VALUE!"}]
[{"$error":"#VALUE!"},{"$error":"#VALUE!"},{"$error":"#VALUE!"}]
[{"$error":"#VALUE!"},{"$error":"#VALUE!"},{"$error":"#VALUE!"}]
[{"$error":"#VALUE!"},{"$error":"#VALUE!"},{"$error":"#VALUE!"}]
[{"$error":"#VALUE!"},{"$error":"#VALUE!"},{"$error":"#VALUE!"}]
[{"$error":"#VALUE!"},{"$error":"#VALUE!"},{"$error":"#VALUE!"}]
[{"$error":"#VALUE!"},{"$error":"#VALUE!"},{"$error":"#VALUE!"}]
[{"$error":"#VALUE!"},{"$error":"#VALUE!"},{"$error":"#VALUE!"}]
[{"$error":"#VALUE!"},{"$error":"#VALUE!"},{"$error":"#VALUE!"}]
[{"$error":"#VALUE!"},{"$error":"#VALUE!"},{"$error":"#VALUE!"}]
[{"$error":"#VALUE!"},{"$error":"#VALUE!"},{"$error":"#VALUE!"}]
[{"$error":"#VALUE!"},{"$error":"#VALUE!"},{"$error":"#VALUE!"}]
[{"$error":"#VALUE!"},{"$f":"$B$22+$B$23*A123+$B$24*A123^2","v":{"$error":"#VALUE!"}},{"$f":"($E$19*$E$20*(1+(A123/100)))/(1+$E$19*(A123/100))","v":{"$error":"#VALUE!"}}]
[{"$f":"A123-0.2","v":{"$error":"#VALUE!"}},{"$error":"#VALUE!"},{"$error":"#VALUE!"}]
[{"$error":"#VALUE!"},{"$error":"#VALUE!"},{"$error":"#VALUE!"}]
[{"$error":"#VALUE!"},{"$error":"#VALUE!"},{"$error":"#VALUE!"}]
[{"$error":"#VALUE!"},{"$error":"#VALUE!"},{"$error":"#VALUE!"}]
[{"$error":"#VALUE!"},{"$error":"#VALUE!"},{"$error":"#VALUE!"}]
[{"$error":"#VALUE!"},{"$error":"#VALUE!"},{"$error":"#VALUE!"}]
[{"$error":"#VALUE!"},{"$error":"#VALUE!"},{"$error":"#VALUE!"}]
[{"$error":"#VALUE!"},{"$error":"#VALUE!"},{"$error":"#VALUE!"}]
[{"$error":"#VALUE!"},{"$error":"#VALUE!"},{"$error":"#VALUE!"}]
[{"$error":"#VALUE!"},{"$error":"#VALUE!"},{"$error":"#VALUE!"}]
[{"$error":"#VALUE!"},{"$error":"#VALUE!"},{"$error":"#VALUE!"}]
[{"$error":"#VALUE!"},{"$error":"#VALUE!"},{"$error":"#VALUE!"}]
[{"$error":"#VALUE!"},{"$error":"#VALUE!"},{"$error":"#VALUE!"}]
[{"$error":"#VALUE!"},{"$error":"#VALUE!"},{"$error":"#VALUE!"}]
[{"$error":"#VALUE!"},{"$error":"#VALUE!"},{"$error":"#VALUE!"}]
[{"$error":"#VALUE!"},{"$error":"#VALUE!"},{"$error":"#VALUE!"}]
[{"$error":"#VALUE!"},{"$error":"#VALUE!"},{"$error":"#VALUE!"}]
[{"$error":"#VALUE!"},{"$error":"#VALUE!"},{"$error":"#VALUE!"}]
[{"$error":"#VALUE!"},{"$error":"#VALUE!"},{"$error":"#VALUE!"}]
[{"$error":"#VALUE!"},{"$error":"#VALUE!"},{"$error":"#VALUE!"}]
[{"$error":"#VALUE!"},{"$error":"#VALUE!"},{"$error":"#VALUE!"}]
[{"$error":"#VALUE!"},{"$error":"#VALUE!"},{"$error":"#VALUE!"}]
[{"$error":"#VALUE!"},{"$error":"#VALUE!"},{"$error":"#VALUE!"}]
[{"$error":"#VALUE!"},{"$error":"#VALUE!"},{"$error":"#VALUE!"}]
[{"$error":"#VALUE!"},{"$error":"#VALUE!"},{"$error":"#VALUE!"}]
[{"$error":"#VALUE!"},{"$error":"#VALUE!"},{"$error":"#VALUE!"}]
[{"$error":"#VALUE!"},{"$error":"#VALUE!"},{"$error":"#VALUE!"}]
[{"$error":"#VALUE!"},{"$error":"#VALUE!"},{"$error":"#VALUE!"}]
[{"$error":"#VALUE!"},{"$error":"#VALUE!"},{"$error":"#VALUE!"}]
[{"$error":"#VALUE!"},{"$error":"#VALUE!"},{"$error":"#VALUE!"}]
[{"$error":"#VALUE!"},{"$error":"#VALUE!"},{"$error":"#VALUE!"}]
[{"$error":"#VALUE!"},{"$f":"$B$22+$B$23*A155+$B$24*A155^2","v":{"$error":"#VALUE!"}},{"$f":"($E$19*$E$20*(1+(A155/100)))/(1+$E$19*(A155/100))","v":{"$error":"#VALUE!"}}]
[{"$f":"A155-0.2","v":{"$error":"#VALUE!"}},{"$error":"#VALUE!"},{"$error":"#VALUE!"}]
[{"$error":"#VALUE!"},{"$error":"#VALUE!"},{"$error":"#VALUE!"}]
[{"$error":"#VALUE!"},{"$error":"#VALUE!"},{"$error":"#VALUE!"}]
[{"$error":"#VALUE!"},{"$error":"#VALUE!"},{"$error":"#VALUE!"}]
[{"$error":"#VALUE!"},{"$error":"#VALUE!"},{"$error":"#VALUE!"}]
[{"$error":"#VALUE!"},{"$error":"#VALUE!"},{"$error":"#VALUE!"}]
[{"$error":"#VALUE!"},{"$error":"#VALUE!"},{"$error":"#VALUE!"}]
[{"$error":"#VALUE!"},{"$error":"#VALUE!"},{"$error":"#VALUE!"}]
[{"$error":"#VALUE!"},{"$error":"#VALUE!"},{"$error":"#VALUE!"}]
[{"$error":"#VALUE!"},{"$error":"#VALUE!"},{"$error":"#VALUE!"}]
[{"$error":"#VALUE!"},{"$error":"#VALUE!"},{"$error":"#VALUE!"}]
[{"$error":"#VALUE!"},{"$error":"#VALUE!"},{"$error":"#VALUE!"}]
[{"$error":"#VALUE!"},{"$error":"#VALUE!"},{"$error":"#VALUE!"}]
[{"$error":"#VALUE!"},{"$error":"#VALUE!"},{"$error":"#VALUE!"}]
[{"$error":"#VALUE!"},{"$error":"#VALUE!"},{"$error":"#VALUE!"}]
[{"$error":"#VALUE!"},{"$error":"#VALUE!"},{"$error":"#VALUE!"}]
[{"$error":"#VALUE!"},{"$error":"#VALUE!"},{"$error":"#VALUE!"}]
[{"$error":"#VALUE!"},{"$error":"#VALUE!"},{"$error":"#VALUE!"}]
[{"$error":"#VALUE!"},{"$error":"#VALUE!"},{"$error":"#VALUE!"}]
[{"$error":"#VALUE!"},{"$error":"#VALUE!"},{"$error":"#VALUE!"}]
[{"$error":"#VALUE!"},{"$error":"#VALUE!"},{"$error":"#VALUE!"}]
[{"$error":"#VALUE!"},{"$error":"#VALUE!"},{"$error":"#VALUE!"}]
[{"$error":"#VALUE!"},{"$error":"#VALUE!"},{"$error":"#VALUE!"}]
[{"$error":"#VALUE!"},{"$error":"#VALUE!"},{"$error":"#VALUE!"}]
[{"$error":"#VALUE!"},{"$error":"#VALUE!"},{"$error":"#VALUE!"}]
[{"$error":"#VALUE!"},{"$error":"#VALUE!"},{"$error":"#VALUE!"}]
[{"$error":"#VALUE!"},{"$error":"#VALUE!"},{"$error":"#VALUE!"}]
[{"$error":"#VALUE!"},{"$error":"#VALUE!"},{"$error":"#VALUE!"}]
[{"$error":"#VALUE!"},{"$error":"#VALUE!"},{"$error":"#VALUE!"}]
[{"$error":"#VALUE!"},{"$error":"#VALUE!"},{"$error":"#VALUE!"}]
[{"$error":"#VALUE!"},{"$error":"#VALUE!"},{"$error":"#VALUE!"}]
[{"$error":"#VALUE!"},{"$f":"$B$22+$B$23*A187+$B$24*A187^2","v":{"$error":"#VALUE!"}},{"$f":"($E$19*$E$20*(1+(A187/100)))/(1+$E$19*(A187/100))","v":{"$error":"#VALUE!"}}]
[{"$f":"A187-0.2","v":{"$error":"#VALUE!"}},{"$error":"#VALUE!"},{"$error":"#VALUE!"}]
[{"$error":"#VALUE!"},{"$error":"#VALUE!"},{"$error":"#VALUE!"}]
[{"$error":"#VALUE!"},{"$error":"#VALUE!"},{"$error":"#VALUE!"}]
[{"$error":"#VALUE!"},{"$error":"#VALUE!"},{"$error":"#VALUE!"}]
[{"$error":"#VALUE!"},{"$error":"#VALUE!"},{"$error":"#VALUE!"}]
[{"$error":"#VALUE!"},{"$error":"#VALUE!"},{"$error":"#VALUE!"}]
[{"$error":"#VALUE!"},{"$error":"#VALUE!"},{"$error":"#VALUE!"}]
[{"$error":"#VALUE!"},{"$error":"#VALUE!"},{"$error":"#VALUE!"}]
[{"$error":"#VALUE!"},{"$error":"#VALUE!"},{"$error":"#VALUE!"}]
[{"$error":"#VALUE!"},{"$error":"#VALUE!"},{"$error":"#VALUE!"}]
[{"$error":"#VALUE!"},{"$error":"#VALUE!"},{"$error":"#VALUE!"}]

{"sheet":"Reference (2)","index":17,"n_rows":201,"n_cols":5,"rows_kept":201,"cut":false,"hidden":true,"merged":[]}
["m1",{"$f":"(B12-B11)/(C12-C11)","v":{"$error":"#REF!"}}]
["b1",{"$f":"B11-B1*C11","v":{"$error":"#REF!"}},"X-Peak",{"$f":"(B4-B2)/(B1-B3)","v":{"$error":"#REF!"}}]
["m2",{"$f":"IF(B13>0,B1*-1,(B14-B13)/(C14-C13))","v":{"$error":"#REF!"}},"Y-Peak",{"$f":"B1*D2+B2","v":{"$error":"#REF!"}}]
["b2",{"$f":"B13-C13*B3","v":{"$error":"#REF!"}}]
[]
[]
[]
[]
[]
["N","Y","X","X^2"]
[1,{"$f":"#REF!","v":{"$error":"#REF!"}},{"$f":"#REF!","v":{"$error":"#REF!"}},{"$f":"C11^2","v":{"$error":"#REF!"}}]
[2,{"$f":"#REF!","v":{"$error":"#REF!"}},{"$f":"#REF!","v":{"$error":"#REF!"}},{"$error":"#REF!"}]
[3,{"$f":"#REF!","v":{"$error":"#REF!"}},{"$f":"#REF!","v":{"$error":"#REF!"}},{"$error":"#REF!"}]
[4,{"$f":"D3","v":{"$error":"#REF!"}},{"$f":"D2","v":{"$error":"#REF!"}},{"$error":"#REF!"}]
[5,{"$f":"D3","v":{"$error":"#REF!"}},{"$f":"$D$2","v":{"$error":"#REF!"}},{"$error":"#REF!"}]
[6,{"$f":"D3","v":{"$error":"#REF!"}},{"$f":"$D$2","v":{"$error":"#REF!"}},{"$error":"#REF!"}]
[7,{"$f":"D3","v":{"$error":"#REF!"}},{"$f":"$D$2","v":{"$error":"#REF!"}},{"$error":"#REF!"}]
[8,{"$f":"D3","v":{"$error":"#REF!"}},{"$f":"D2","v":{"$error":"#REF!"}},{"$error":"#REF!"}]
["SUM",{"$f":"SUM(B13:B17)","v":{"$error":"#REF!"}},{"$f":"SUM(C13:C17)","v":{"$error":"#REF!"}},{"$f":"SUM(D11:D17)","v":{"$error":"#REF!"}}]
[]
[]
["MAX DEN",{"$f":"B27*B23^2+B26*B23+B25","v":{"$error":"#VALUE!"}}]
["MAX  W",{"$f":"-B26/(2*B27)","v":{"$error":"#VALUE!"}}]
[]
["Ao",{"$f":"INDEX(LINEST($B$11:$B$14,$C$11:$D$14),3)","v":{"$error":"#VALUE!"}}]
["A1",{"$f":"INDEX(LINEST($B$11:$B$14,$C$11:$D$14),2)","v":{"$error":"#VALUE!"}},null,"SG",{"$f":"SpecificGravity","v":{"$error":"#NAME?"}}]
["A2",{"$f":"INDEX(LINEST($B$11:$B$14,$C$11:$D$14),1)","v":{"$error":"#VALUE!"}}]
[]
["W","dry density","zav"]
[{"$f":"#REF!","v":{"$error":"#REF!"}},{"$f":"$B$25+$B$26*A30+$B$27*A30^2","v":{"$error":"#VALUE!"}},{"$f":"($E$26*62.4)/(1+(A30/100)*$E$26)","v":{"$error":"#NAME?"}}]
[{"$f":"A30-0.1","v":{"$error":"#REF!"}},{"$error":"#VALUE!"},{"$error":"#NAME?"}]
[{"$error":"#REF!"},{"$error":"#VALUE!"},{"$error":"#NAME?"}]
[{"$error":"#REF!"},{"$error":"#VALUE!"},{"$error":"#NAME?"}]
[{"$error":"#REF!"},{"$error":"#VALUE!"},{"$error":"#NAME?"}]
[{"$error":"#REF!"},{"$error":"#VALUE!"},{"$error":"#NAME?"}]
[{"$error":"#REF!"},{"$error":"#VALUE!"},{"$error":"#NAME?"}]
[{"$error":"#REF!"},{"$error":"#VALUE!"},{"$error":"#NAME?"}]
[{"$error":"#REF!"},{"$error":"#VALUE!"},{"$error":"#NAME?"}]
[{"$error":"#REF!"},{"$error":"#VALUE!"},{"$error":"#NAME?"}]
[{"$error":"#REF!"},{"$error":"#VALUE!"},{"$error":"#NAME?"}]
[{"$error":"#REF!"},{"$error":"#VALUE!"},{"$error":"#NAME?"}]
[{"$error":"#REF!"},{"$error":"#VALUE!"},{"$error":"#NAME?"}]
[{"$error":"#REF!"},{"$error":"#VALUE!"},{"$error":"#NAME?"}]
[{"$error":"#REF!"},{"$error":"#VALUE!"},{"$error":"#NAME?"}]
[{"$error":"#REF!"},{"$error":"#VALUE!"},{"$error":"#NAME?"}]
[{"$error":"#REF!"},{"$error":"#VALUE!"},{"$error":"#NAME?"}]
[{"$error":"#REF!"},{"$error":"#VALUE!"},{"$error":"#NAME?"}]
[{"$error":"#REF!"},{"$error":"#VALUE!"},{"$error":"#NAME?"}]
[{"$error":"#REF!"},{"$error":"#VALUE!"},{"$error":"#NAME?"}]
[{"$error":"#REF!"},{"$error":"#VALUE!"},{"$error":"#NAME?"}]
[{"$error":"#REF!"},{"$error":"#VALUE!"},{"$error":"#NAME?"}]
[{"$error":"#REF!"},{"$error":"#VALUE!"},{"$error":"#NAME?"}]
[{"$error":"#REF!"},{"$error":"#VALUE!"},{"$error":"#NAME?"}]
[{"$error":"#REF!"},{"$error":"#VALUE!"},{"$error":"#NAME?"}]
[{"$error":"#REF!"},{"$error":"#VALUE!"},{"$error":"#NAME?"}]
[{"$error":"#REF!"},{"$error":"#VALUE!"},{"$error":"#NAME?"}]
[{"$error":"#REF!"},{"$error":"#VALUE!"},{"$error":"#NAME?"}]
[{"$error":"#REF!"},{"$error":"#VALUE!"},{"$error":"#NAME?"}]
[{"$error":"#REF!"},{"$error":"#VALUE!"},{"$error":"#NAME?"}]
[{"$error":"#REF!"},{"$error":"#VALUE!"},{"$error":"#NAME?"}]
[{"$error":"#REF!"},{"$error":"#VALUE!"},{"$error":"#NAME?"}]
[{"$error":"#REF!"},{"$f":"$B$25+$B$26*A62+$B$27*A62^2","v":{"$error":"#VALUE!"}},{"$f":"($E$26*62.4)/(1+(A62/100)*$E$26)","v":{"$error":"#NAME?"}}]
[{"$f":"A62-0.1","v":{"$error":"#REF!"}},{"$error":"#VALUE!"},{"$error":"#NAME?"}]
[{"$error":"#REF!"},{"$error":"#VALUE!"},{"$error":"#NAME?"}]
[{"$error":"#REF!"},{"$error":"#VALUE!"},{"$error":"#NAME?"}]
[{"$error":"#REF!"},{"$error":"#VALUE!"},{"$error":"#NAME?"}]
[{"$error":"#REF!"},{"$error":"#VALUE!"},{"$error":"#NAME?"}]
[{"$error":"#REF!"},{"$error":"#VALUE!"},{"$error":"#NAME?"}]
[{"$error":"#REF!"},{"$error":"#VALUE!"},{"$error":"#NAME?"}]
[{"$error":"#REF!"},{"$error":"#VALUE!"},{"$error":"#NAME?"}]
[{"$error":"#REF!"},{"$error":"#VALUE!"},{"$error":"#NAME?"}]
[{"$error":"#REF!"},{"$error":"#VALUE!"},{"$error":"#NAME?"}]
[{"$error":"#REF!"},{"$error":"#VALUE!"},{"$error":"#NAME?"}]
[{"$error":"#REF!"},{"$error":"#VALUE!"},{"$error":"#NAME?"}]
[{"$error":"#REF!"},{"$error":"#VALUE!"},{"$error":"#NAME?"}]
[{"$error":"#REF!"},{"$error":"#VALUE!"},{"$error":"#NAME?"}]
[{"$error":"#REF!"},{"$error":"#VALUE!"},{"$error":"#NAME?"}]
[{"$error":"#REF!"},{"$error":"#VALUE!"},{"$error":"#NAME?"}]
[{"$error":"#REF!"},{"$error":"#VALUE!"},{"$error":"#NAME?"}]
[{"$error":"#REF!"},{"$error":"#VALUE!"},{"$error":"#NAME?"}]
[{"$error":"#REF!"},{"$error":"#VALUE!"},{"$error":"#NAME?"}]
[{"$error":"#REF!"},{"$error":"#VALUE!"},{"$error":"#NAME?"}]
[{"$error":"#REF!"},{"$error":"#VALUE!"},{"$error":"#NAME?"}]
[{"$error":"#REF!"},{"$error":"#VALUE!"},{"$error":"#NAME?"}]
[{"$error":"#REF!"},{"$error":"#VALUE!"},{"$error":"#NAME?"}]
[{"$error":"#REF!"},{"$error":"#VALUE!"},{"$error":"#NAME?"}]
[{"$error":"#REF!"},{"$error":"#VALUE!"},{"$error":"#NAME?"}]
[{"$error":"#REF!"},{"$error":"#VALUE!"},{"$error":"#NAME?"}]
[{"$error":"#REF!"},{"$error":"#VALUE!"},{"$error":"#NAME?"}]
[{"$error":"#REF!"},{"$error":"#VALUE!"},{"$error":"#NAME?"}]
[{"$error":"#REF!"},{"$error":"#VALUE!"},{"$error":"#NAME?"}]
[{"$error":"#REF!"},{"$error":"#VALUE!"},{"$error":"#NAME?"}]
[{"$error":"#REF!"},{"$error":"#VALUE!"},{"$error":"#NAME?"}]
[{"$error":"#REF!"},{"$f":"$B$25+$B$26*A94+$B$27*A94^2","v":{"$error":"#VALUE!"}},{"$f":"($E$26*62.4)/(1+(A94/100)*$E$26)","v":{"$error":"#NAME?"}}]
[{"$f":"A94-0.1","v":{"$error":"#REF!"}},{"$error":"#VALUE!"},{"$error":"#NAME?"}]
[{"$error":"#REF!"},{"$error":"#VALUE!"},{"$error":"#NAME?"}]
[{"$error":"#REF!"},{"$error":"#VALUE!"},{"$error":"#NAME?"}]
[{"$error":"#REF!"},{"$error":"#VALUE!"},{"$error":"#NAME?"}]
[{"$error":"#REF!"},{"$error":"#VALUE!"},{"$error":"#NAME?"}]
[{"$error":"#REF!"},{"$error":"#VALUE!"},{"$error":"#NAME?"}]
[{"$error":"#REF!"},{"$error":"#VALUE!"},{"$error":"#NAME?"}]
[{"$error":"#REF!"},{"$error":"#VALUE!"},{"$error":"#NAME?"}]
[{"$error":"#REF!"},{"$error":"#VALUE!"},{"$error":"#NAME?"}]
[{"$error":"#REF!"},{"$error":"#VALUE!"},{"$error":"#NAME?"}]
[{"$error":"#REF!"},{"$error":"#VALUE!"},{"$error":"#NAME?"}]
[{"$error":"#REF!"},{"$error":"#VALUE!"},{"$error":"#NAME?"}]
[{"$error":"#REF!"},{"$error":"#VALUE!"},{"$error":"#NAME?"}]
[{"$error":"#REF!"},{"$error":"#VALUE!"},{"$error":"#NAME?"}]
[{"$error":"#REF!"},{"$error":"#VALUE!"},{"$error":"#NAME?"}]
[{"$error":"#REF!"},{"$error":"#VALUE!"},{"$error":"#NAME?"}]
[{"$error":"#REF!"},{"$error":"#VALUE!"},{"$error":"#NAME?"}]
[{"$error":"#REF!"},{"$error":"#VALUE!"},{"$error":"#NAME?"}]
[{"$error":"#REF!"},{"$error":"#VALUE!"},{"$error":"#NAME?"}]
[{"$error":"#REF!"},{"$error":"#VALUE!"},{"$error":"#NAME?"}]
[{"$error":"#REF!"},{"$error":"#VALUE!"},{"$error":"#NAME?"}]
[{"$error":"#REF!"},{"$error":"#VALUE!"},{"$error":"#NAME?"}]
[{"$error":"#REF!"},{"$error":"#VALUE!"},{"$error":"#NAME?"}]
[{"$error":"#REF!"},{"$error":"#VALUE!"},{"$error":"#NAME?"}]
[{"$error":"#REF!"},{"$error":"#VALUE!"},{"$error":"#NAME?"}]
[{"$error":"#REF!"},{"$error":"#VALUE!"},{"$error":"#NAME?"}]
[{"$error":"#REF!"},{"$error":"#VALUE!"},{"$error":"#NAME?"}]
[{"$error":"#REF!"},{"$error":"#VALUE!"},{"$error":"#NAME?"}]
[{"$error":"#REF!"},{"$error":"#VALUE!"},{"$error":"#NAME?"}]
[{"$error":"#REF!"},{"$error":"#VALUE!"},{"$error":"#NAME?"}]
[{"$error":"#REF!"},{"$error":"#VALUE!"},{"$error":"#NAME?"}]
[{"$error":"#REF!"},{"$f":"$B$25+$B$26*A126+$B$27*A126^2","v":{"$error":"#VALUE!"}},{"$f":"($E$26*62.4)/(1+(A126/100)*$E$26)","v":{"$error":"#NAME?"}}]
[{"$f":"A126-0.1","v":{"$error":"#REF!"}},{"$error":"#VALUE!"},{"$error":"#NAME?"}]
[{"$error":"#REF!"},{"$error":"#VALUE!"},{"$error":"#NAME?"}]
[{"$error":"#REF!"},{"$error":"#VALUE!"},{"$error":"#NAME?"}]
[{"$error":"#REF!"},{"$error":"#VALUE!"},{"$error":"#NAME?"}]
[{"$error":"#REF!"},{"$error":"#VALUE!"},{"$error":"#NAME?"}]
[{"$error":"#REF!"},{"$error":"#VALUE!"},{"$error":"#NAME?"}]
[{"$error":"#REF!"},{"$error":"#VALUE!"},{"$error":"#NAME?"}]
[{"$error":"#REF!"},{"$error":"#VALUE!"},{"$error":"#NAME?"}]
[{"$error":"#REF!"},{"$error":"#VALUE!"},{"$error":"#NAME?"}]
[{"$error":"#REF!"},{"$error":"#VALUE!"},{"$error":"#NAME?"}]
[{"$error":"#REF!"},{"$error":"#VALUE!"},{"$error":"#NAME?"}]
[{"$error":"#REF!"},{"$error":"#VALUE!"},{"$error":"#NAME?"}]
[{"$error":"#REF!"},{"$error":"#VALUE!"},{"$error":"#NAME?"}]
[{"$error":"#REF!"},{"$error":"#VALUE!"},{"$error":"#NAME?"}]
[{"$error":"#REF!"},{"$error":"#VALUE!"},{"$error":"#NAME?"}]
[{"$error":"#REF!"},{"$error":"#VALUE!"},{"$error":"#NAME?"}]
[{"$error":"#REF!"},{"$error":"#VALUE!"},{"$error":"#NAME?"}]
[{"$error":"#REF!"},{"$error":"#VALUE!"},{"$error":"#NAME?"}]
[{"$error":"#REF!"},{"$error":"#VALUE!"},{"$error":"#NAME?"}]
[{"$error":"#REF!"},{"$error":"#VALUE!"},{"$error":"#NAME?"}]
[{"$error":"#REF!"},{"$error":"#VALUE!"},{"$error":"#NAME?"}]
[{"$error":"#REF!"},{"$error":"#VALUE!"},{"$error":"#NAME?"}]
[{"$error":"#REF!"},{"$error":"#VALUE!"},{"$error":"#NAME?"}]
[{"$error":"#REF!"},{"$error":"#VALUE!"},{"$error":"#NAME?"}]
[{"$error":"#REF!"},{"$error":"#VALUE!"},{"$error":"#NAME?"}]
[{"$error":"#REF!"},{"$error":"#VALUE!"},{"$error":"#NAME?"}]
[{"$error":"#REF!"},{"$error":"#VALUE!"},{"$error":"#NAME?"}]
[{"$error":"#REF!"},{"$error":"#VALUE!"},{"$error":"#NAME?"}]
[{"$error":"#REF!"},{"$error":"#VALUE!"},{"$error":"#NAME?"}]
[{"$error":"#REF!"},{"$error":"#VALUE!"},{"$error":"#NAME?"}]
[{"$error":"#REF!"},{"$error":"#VALUE!"},{"$error":"#NAME?"}]
[{"$error":"#REF!"},{"$f":"$B$25+$B$26*A158+$B$27*A158^2","v":{"$error":"#VALUE!"}},{"$f":"($E$26*62.4)/(1+(A158/100)*$E$26)","v":{"$error":"#NAME?"}}]
[{"$f":"A158-0.1","v":{"$error":"#REF!"}},{"$error":"#VALUE!"},{"$error":"#NAME?"}]
[{"$error":"#REF!"},{"$error":"#VALUE!"},{"$error":"#NAME?"}]
[{"$error":"#REF!"},{"$error":"#VALUE!"},{"$error":"#NAME?"}]
[{"$error":"#REF!"},{"$error":"#VALUE!"},{"$error":"#NAME?"}]
[{"$error":"#REF!"},{"$error":"#VALUE!"},{"$error":"#NAME?"}]
[{"$error":"#REF!"},{"$error":"#VALUE!"},{"$error":"#NAME?"}]
[{"$error":"#REF!"},{"$error":"#VALUE!"},{"$error":"#NAME?"}]
[{"$error":"#REF!"},{"$error":"#VALUE!"},{"$error":"#NAME?"}]
[{"$error":"#REF!"},{"$error":"#VALUE!"},{"$error":"#NAME?"}]
[{"$error":"#REF!"},{"$error":"#VALUE!"},{"$error":"#NAME?"}]
[{"$error":"#REF!"},{"$error":"#VALUE!"},{"$error":"#NAME?"}]
[{"$error":"#REF!"},{"$error":"#VALUE!"},{"$error":"#NAME?"}]
[{"$error":"#REF!"},{"$error":"#VALUE!"},{"$error":"#NAME?"}]
[{"$error":"#REF!"},{"$error":"#VALUE!"},{"$error":"#NAME?"}]
[{"$error":"#REF!"},{"$error":"#VALUE!"},{"$error":"#NAME?"}]
[{"$error":"#REF!"},{"$error":"#VALUE!"},{"$error":"#NAME?"}]
[{"$error":"#REF!"},{"$error":"#VALUE!"},{"$error":"#NAME?"}]
[{"$error":"#REF!"},{"$error":"#VALUE!"},{"$error":"#NAME?"}]
[{"$error":"#REF!"},{"$error":"#VALUE!"},{"$error":"#NAME?"}]
[{"$error":"#REF!"},{"$error":"#VALUE!"},{"$error":"#NAME?"}]
[{"$error":"#REF!"},{"$error":"#VALUE!"},{"$error":"#NAME?"}]
[{"$error":"#REF!"},{"$error":"#VALUE!"},{"$error":"#NAME?"}]
[{"$error":"#REF!"},{"$error":"#VALUE!"},{"$error":"#NAME?"}]
[{"$error":"#REF!"},{"$error":"#VALUE!"},{"$error":"#NAME?"}]
[{"$error":"#REF!"},{"$error":"#VALUE!"},{"$error":"#NAME?"}]
[{"$error":"#REF!"},{"$error":"#VALUE!"},{"$error":"#NAME?"}]
[{"$error":"#REF!"},{"$error":"#VALUE!"},{"$error":"#NAME?"}]
[{"$error":"#REF!"},{"$error":"#VALUE!"},{"$error":"#NAME?"}]
[{"$error":"#REF!"},{"$error":"#VALUE!"},{"$error":"#NAME?"}]
[{"$error":"#REF!"},{"$error":"#VALUE!"},{"$error":"#NAME?"}]
[{"$error":"#REF!"},{"$error":"#VALUE!"},{"$error":"#NAME?"}]
[{"$error":"#REF!"},{"$f":"$B$25+$B$26*A190+$B$27*A190^2","v":{"$error":"#VALUE!"}},{"$f":"($E$26*62.4)/(1+(A190/100)*$E$26)","v":{"$error":"#NAME?"}}]
[{"$f":"A190-0.1","v":{"$error":"#REF!"}},{"$error":"#VALUE!"},{"$error":"#NAME?"}]
[{"$error":"#REF!"},{"$error":"#VALUE!"},{"$error":"#NAME?"}]
[{"$error":"#REF!"},{"$error":"#VALUE!"},{"$error":"#NAME?"}]
[{"$error":"#REF!"},{"$error":"#VALUE!"},{"$error":"#NAME?"}]
[{"$error":"#REF!"},{"$error":"#VALUE!"},{"$error":"#NAME?"}]
[{"$error":"#REF!"},{"$error":"#VALUE!"},{"$error":"#NAME?"}]
[{"$error":"#REF!"},{"$error":"#VALUE!"},{"$error":"#NAME?"}]
[{"$error":"#REF!"},{"$error":"#VALUE!"},{"$error":"#NAME?"}]
[{"$error":"#REF!"},{"$error":"#VALUE!"},{"$error":"#NAME?"}]
[{"$error":"#REF!"},{"$error":"#VALUE!"},{"$error":"#NAME?"}]
[{"$error":"#REF!"},{"$error":"#VALUE!"},{"$error":"#NAME?"}]

{"sheet":"Reference (3)","index":18,"n_rows":201,"n_cols":5,"rows_kept":201,"cut":false,"hidden":true,"merged":[]}
["m1",{"$f":"(B12-B11)/(C12-C11)","v":{"$error":"#REF!"}}]
["b1",{"$f":"B11-B1*C11","v":{"$error":"#REF!"}},"X-Peak",{"$f":"(B4-B2)/(B1-B3)","v":{"$error":"#REF!"}}]
["m2",{"$f":"IF(B13>0,B1*-1,(B14-B13)/(C14-C13))","v":{"$error":"#REF!"}},"Y-Peak",{"$f":"B1*D2+B2","v":{"$error":"#REF!"}}]
["b2",{"$f":"B13-C13*B3","v":{"$error":"#REF!"}}]
[]
[]
[]
[]
[]
["N","Y","X","X^2"]
[1,{"$f":"#REF!","v":{"$error":"#REF!"}},{"$f":"#REF!","v":{"$error":"#REF!"}},{"$f":"C11^2","v":{"$error":"#REF!"}}]
[2,{"$f":"#REF!","v":{"$error":"#REF!"}},{"$f":"#REF!","v":{"$error":"#REF!"}},{"$error":"#REF!"}]
[3,{"$f":"#REF!","v":{"$error":"#REF!"}},{"$f":"#REF!","v":{"$error":"#REF!"}},{"$error":"#REF!"}]
[4,{"$f":"D3","v":{"$error":"#REF!"}},{"$f":"D2","v":{"$error":"#REF!"}},{"$error":"#REF!"}]
[5,{"$f":"D3","v":{"$error":"#REF!"}},{"$f":"$D$2","v":{"$error":"#REF!"}},{"$error":"#REF!"}]
[6,{"$f":"D3","v":{"$error":"#REF!"}},{"$f":"$D$2","v":{"$error":"#REF!"}},{"$error":"#REF!"}]
[7,{"$f":"D3","v":{"$error":"#REF!"}},{"$f":"$D$2","v":{"$error":"#REF!"}},{"$error":"#REF!"}]
[8,{"$f":"D3","v":{"$error":"#REF!"}},{"$f":"D2","v":{"$error":"#REF!"}},{"$error":"#REF!"}]
["SUM",{"$f":"SUM(B13:B17)","v":{"$error":"#REF!"}},{"$f":"SUM(C13:C17)","v":{"$error":"#REF!"}},{"$f":"SUM(D11:D17)","v":{"$error":"#REF!"}}]
[]
[]
["MAX DEN",{"$f":"B27*B23^2+B26*B23+B25","v":{"$error":"#VALUE!"}}]
["MAX  W",{"$f":"-B26/(2*B27)","v":{"$error":"#VALUE!"}}]
[]
["Ao",{"$f":"INDEX(LINEST($B$11:$B$14,$C$11:$D$14),3)","v":{"$error":"#VALUE!"}}]
["A1",{"$f":"INDEX(LINEST($B$11:$B$14,$C$11:$D$14),2)","v":{"$error":"#VALUE!"}},null,"SG",{"$f":"SpecificGravity","v":{"$error":"#NAME?"}}]
["A2",{"$f":"INDEX(LINEST($B$11:$B$14,$C$11:$D$14),1)","v":{"$error":"#VALUE!"}}]
[]
["W","dry density","zav"]
[{"$f":"#REF!","v":{"$error":"#REF!"}},{"$f":"$B$25+$B$26*A30+$B$27*A30^2","v":{"$error":"#VALUE!"}},{"$f":"($E$26*62.4)/(1+(A30/100)*$E$26)","v":{"$error":"#NAME?"}}]
[{"$f":"A30-0.1","v":{"$error":"#REF!"}},{"$error":"#VALUE!"},{"$error":"#NAME?"}]
[{"$error":"#REF!"},{"$error":"#VALUE!"},{"$error":"#NAME?"}]
[{"$error":"#REF!"},{"$error":"#VALUE!"},{"$error":"#NAME?"}]
[{"$error":"#REF!"},{"$error":"#VALUE!"},{"$error":"#NAME?"}]
[{"$error":"#REF!"},{"$error":"#VALUE!"},{"$error":"#NAME?"}]
[{"$error":"#REF!"},{"$error":"#VALUE!"},{"$error":"#NAME?"}]
[{"$error":"#REF!"},{"$error":"#VALUE!"},{"$error":"#NAME?"}]
[{"$error":"#REF!"},{"$error":"#VALUE!"},{"$error":"#NAME?"}]
[{"$error":"#REF!"},{"$error":"#VALUE!"},{"$error":"#NAME?"}]
[{"$error":"#REF!"},{"$error":"#VALUE!"},{"$error":"#NAME?"}]
[{"$error":"#REF!"},{"$error":"#VALUE!"},{"$error":"#NAME?"}]
[{"$error":"#REF!"},{"$error":"#VALUE!"},{"$error":"#NAME?"}]
[{"$error":"#REF!"},{"$error":"#VALUE!"},{"$error":"#NAME?"}]
[{"$error":"#REF!"},{"$error":"#VALUE!"},{"$error":"#NAME?"}]
[{"$error":"#REF!"},{"$error":"#VALUE!"},{"$error":"#NAME?"}]
[{"$error":"#REF!"},{"$error":"#VALUE!"},{"$error":"#NAME?"}]
[{"$error":"#REF!"},{"$error":"#VALUE!"},{"$error":"#NAME?"}]
[{"$error":"#REF!"},{"$error":"#VALUE!"},{"$error":"#NAME?"}]
[{"$error":"#REF!"},{"$error":"#VALUE!"},{"$error":"#NAME?"}]
[{"$error":"#REF!"},{"$error":"#VALUE!"},{"$error":"#NAME?"}]
[{"$error":"#REF!"},{"$error":"#VALUE!"},{"$error":"#NAME?"}]
[{"$error":"#REF!"},{"$error":"#VALUE!"},{"$error":"#NAME?"}]
[{"$error":"#REF!"},{"$error":"#VALUE!"},{"$error":"#NAME?"}]
[{"$error":"#REF!"},{"$error":"#VALUE!"},{"$error":"#NAME?"}]
[{"$error":"#REF!"},{"$error":"#VALUE!"},{"$error":"#NAME?"}]
[{"$error":"#REF!"},{"$error":"#VALUE!"},{"$error":"#NAME?"}]
[{"$error":"#REF!"},{"$error":"#VALUE!"},{"$error":"#NAME?"}]
[{"$error":"#REF!"},{"$error":"#VALUE!"},{"$error":"#NAME?"}]
[{"$error":"#REF!"},{"$error":"#VALUE!"},{"$error":"#NAME?"}]
[{"$error":"#REF!"},{"$error":"#VALUE!"},{"$error":"#NAME?"}]
[{"$error":"#REF!"},{"$error":"#VALUE!"},{"$error":"#NAME?"}]
[{"$error":"#REF!"},{"$error":"#VALUE!"},{"$error":"#NAME?"}]
[{"$error":"#REF!"},{"$error":"#VALUE!"},{"$error":"#NAME?"}]
[{"$error":"#REF!"},{"$error":"#VALUE!"},{"$error":"#NAME?"}]
[{"$error":"#REF!"},{"$error":"#VALUE!"},{"$error":"#NAME?"}]
[{"$error":"#REF!"},{"$error":"#VALUE!"},{"$error":"#NAME?"}]
[{"$error":"#REF!"},{"$error":"#VALUE!"},{"$error":"#NAME?"}]
[{"$error":"#REF!"},{"$error":"#VALUE!"},{"$error":"#NAME?"}]
[{"$error":"#REF!"},{"$error":"#VALUE!"},{"$error":"#NAME?"}]
[{"$error":"#REF!"},{"$error":"#VALUE!"},{"$error":"#NAME?"}]
[{"$error":"#REF!"},{"$error":"#VALUE!"},{"$error":"#NAME?"}]
[{"$error":"#REF!"},{"$error":"#VALUE!"},{"$error":"#NAME?"}]
[{"$error":"#REF!"},{"$error":"#VALUE!"},{"$error":"#NAME?"}]
[{"$error":"#REF!"},{"$error":"#VALUE!"},{"$error":"#NAME?"}]
[{"$error":"#REF!"},{"$error":"#VALUE!"},{"$error":"#NAME?"}]
[{"$error":"#REF!"},{"$error":"#VALUE!"},{"$error":"#NAME?"}]
[{"$error":"#REF!"},{"$error":"#VALUE!"},{"$error":"#NAME?"}]
[{"$error":"#REF!"},{"$error":"#VALUE!"},{"$error":"#NAME?"}]
[{"$error":"#REF!"},{"$error":"#VALUE!"},{"$error":"#NAME?"}]
[{"$error":"#REF!"},{"$error":"#VALUE!"},{"$error":"#NAME?"}]
[{"$error":"#REF!"},{"$error":"#VALUE!"},{"$error":"#NAME?"}]
[{"$error":"#REF!"},{"$error":"#VALUE!"},{"$error":"#NAME?"}]
[{"$error":"#REF!"},{"$error":"#VALUE!"},{"$error":"#NAME?"}]
[{"$error":"#REF!"},{"$error":"#VALUE!"},{"$error":"#NAME?"}]
[{"$error":"#REF!"},{"$error":"#VALUE!"},{"$error":"#NAME?"}]
[{"$error":"#REF!"},{"$error":"#VALUE!"},{"$error":"#NAME?"}]
[{"$error":"#REF!"},{"$error":"#VALUE!"},{"$error":"#NAME?"}]
[{"$error":"#REF!"},{"$error":"#VALUE!"},{"$error":"#NAME?"}]
[{"$error":"#REF!"},{"$error":"#VALUE!"},{"$error":"#NAME?"}]
[{"$error":"#REF!"},{"$error":"#VALUE!"},{"$error":"#NAME?"}]
[{"$error":"#REF!"},{"$error":"#VALUE!"},{"$error":"#NAME?"}]
[{"$error":"#REF!"},{"$error":"#VALUE!"},{"$error":"#NAME?"}]
[{"$error":"#REF!"},{"$error":"#VALUE!"},{"$error":"#NAME?"}]
[{"$error":"#REF!"},{"$f":"$B$25+$B$26*A94+$B$27*A94^2","v":{"$error":"#VALUE!"}},{"$f":"($E$26*62.4)/(1+(A94/100)*$E$26)","v":{"$error":"#NAME?"}}]
[{"$f":"A94-0.1","v":{"$error":"#REF!"}},{"$error":"#VALUE!"},{"$error":"#NAME?"}]
[{"$error":"#REF!"},{"$error":"#VALUE!"},{"$error":"#NAME?"}]
[{"$error":"#REF!"},{"$error":"#VALUE!"},{"$error":"#NAME?"}]
[{"$error":"#REF!"},{"$error":"#VALUE!"},{"$error":"#NAME?"}]
[{"$error":"#REF!"},{"$error":"#VALUE!"},{"$error":"#NAME?"}]
[{"$error":"#REF!"},{"$error":"#VALUE!"},{"$error":"#NAME?"}]
[{"$error":"#REF!"},{"$error":"#VALUE!"},{"$error":"#NAME?"}]
[{"$error":"#REF!"},{"$error":"#VALUE!"},{"$error":"#NAME?"}]
[{"$error":"#REF!"},{"$error":"#VALUE!"},{"$error":"#NAME?"}]
[{"$error":"#REF!"},{"$error":"#VALUE!"},{"$error":"#NAME?"}]
[{"$error":"#REF!"},{"$error":"#VALUE!"},{"$error":"#NAME?"}]
[{"$error":"#REF!"},{"$error":"#VALUE!"},{"$error":"#NAME?"}]
[{"$error":"#REF!"},{"$error":"#VALUE!"},{"$error":"#NAME?"}]
[{"$error":"#REF!"},{"$error":"#VALUE!"},{"$error":"#NAME?"}]
[{"$error":"#REF!"},{"$error":"#VALUE!"},{"$error":"#NAME?"}]
[{"$error":"#REF!"},{"$error":"#VALUE!"},{"$error":"#NAME?"}]
[{"$error":"#REF!"},{"$error":"#VALUE!"},{"$error":"#NAME?"}]
[{"$error":"#REF!"},{"$error":"#VALUE!"},{"$error":"#NAME?"}]
[{"$error":"#REF!"},{"$error":"#VALUE!"},{"$error":"#NAME?"}]
[{"$error":"#REF!"},{"$error":"#VALUE!"},{"$error":"#NAME?"}]
[{"$error":"#REF!"},{"$error":"#VALUE!"},{"$error":"#NAME?"}]
[{"$error":"#REF!"},{"$error":"#VALUE!"},{"$error":"#NAME?"}]
[{"$error":"#REF!"},{"$error":"#VALUE!"},{"$error":"#NAME?"}]
[{"$error":"#REF!"},{"$error":"#VALUE!"},{"$error":"#NAME?"}]
[{"$error":"#REF!"},{"$error":"#VALUE!"},{"$error":"#NAME?"}]
[{"$error":"#REF!"},{"$error":"#VALUE!"},{"$error":"#NAME?"}]
[{"$error":"#REF!"},{"$error":"#VALUE!"},{"$error":"#NAME?"}]
[{"$error":"#REF!"},{"$error":"#VALUE!"},{"$error":"#NAME?"}]
[{"$error":"#REF!"},{"$error":"#VALUE!"},{"$error":"#NAME?"}]
[{"$error":"#REF!"},{"$error":"#VALUE!"},{"$error":"#NAME?"}]
[{"$error":"#REF!"},{"$error":"#VALUE!"},{"$error":"#NAME?"}]
[{"$error":"#REF!"},{"$error":"#VALUE!"},{"$error":"#NAME?"}]
[{"$error":"#REF!"},{"$error":"#VALUE!"},{"$error":"#NAME?"}]
[{"$error":"#REF!"},{"$error":"#VALUE!"},{"$error":"#NAME?"}]
[{"$error":"#REF!"},{"$error":"#VALUE!"},{"$error":"#NAME?"}]
[{"$error":"#REF!"},{"$error":"#VALUE!"},{"$error":"#NAME?"}]
[{"$error":"#REF!"},{"$error":"#VALUE!"},{"$error":"#NAME?"}]
[{"$error":"#REF!"},{"$error":"#VALUE!"},{"$error":"#NAME?"}]
[{"$error":"#REF!"},{"$error":"#VALUE!"},{"$error":"#NAME?"}]
[{"$error":"#REF!"},{"$error":"#VALUE!"},{"$error":"#NAME?"}]
[{"$error":"#REF!"},{"$error":"#VALUE!"},{"$error":"#NAME?"}]
[{"$error":"#REF!"},{"$error":"#VALUE!"},{"$error":"#NAME?"}]
[{"$error":"#REF!"},{"$error":"#VALUE!"},{"$error":"#NAME?"}]
[{"$error":"#REF!"},{"$error":"#VALUE!"},{"$error":"#NAME?"}]
[{"$error":"#REF!"},{"$error":"#VALUE!"},{"$error":"#NAME?"}]
[{"$error":"#REF!"},{"$error":"#VALUE!"},{"$error":"#NAME?"}]
[{"$error":"#REF!"},{"$error":"#VALUE!"},{"$error":"#NAME?"}]
[{"$error":"#REF!"},{"$error":"#VALUE!"},{"$error":"#NAME?"}]
[{"$error":"#REF!"},{"$error":"#VALUE!"},{"$error":"#NAME?"}]
[{"$error":"#REF!"},{"$error":"#VALUE!"},{"$error":"#NAME?"}]
[{"$error":"#REF!"},{"$error":"#VALUE!"},{"$error":"#NAME?"}]
[{"$error":"#REF!"},{"$error":"#VALUE!"},{"$error":"#NAME?"}]
[{"$error":"#REF!"},{"$error":"#VALUE!"},{"$error":"#NAME?"}]
[{"$error":"#REF!"},{"$error":"#VALUE!"},{"$error":"#NAME?"}]
[{"$error":"#REF!"},{"$error":"#VALUE!"},{"$error":"#NAME?"}]
[{"$error":"#REF!"},{"$error":"#VALUE!"},{"$error":"#NAME?"}]
[{"$error":"#REF!"},{"$error":"#VALUE!"},{"$error":"#NAME?"}]
[{"$error":"#REF!"},{"$error":"#VALUE!"},{"$error":"#NAME?"}]
[{"$error":"#REF!"},{"$error":"#VALUE!"},{"$error":"#NAME?"}]
[{"$error":"#REF!"},{"$error":"#VALUE!"},{"$error":"#NAME?"}]
[{"$error":"#REF!"},{"$error":"#VALUE!"},{"$error":"#NAME?"}]
[{"$error":"#REF!"},{"$error":"#VALUE!"},{"$error":"#NAME?"}]
[{"$error":"#REF!"},{"$error":"#VALUE!"},{"$error":"#NAME?"}]
[{"$error":"#REF!"},{"$f":"$B$25+$B$26*A158+$B$27*A158^2","v":{"$error":"#VALUE!"}},{"$f":"($E$26*62.4)/(1+(A158/100)*$E$26)","v":{"$error":"#NAME?"}}]
[{"$f":"A158-0.1","v":{"$error":"#REF!"}},{"$error":"#VALUE!"},{"$error":"#NAME?"}]
[{"$error":"#REF!"},{"$error":"#VALUE!"},{"$error":"#NAME?"}]
[{"$error":"#REF!"},{"$error":"#VALUE!"},{"$error":"#NAME?"}]
[{"$error":"#REF!"},{"$error":"#VALUE!"},{"$error":"#NAME?"}]
[{"$error":"#REF!"},{"$error":"#VALUE!"},{"$error":"#NAME?"}]
[{"$error":"#REF!"},{"$error":"#VALUE!"},{"$error":"#NAME?"}]
[{"$error":"#REF!"},{"$error":"#VALUE!"},{"$error":"#NAME?"}]
[{"$error":"#REF!"},{"$error":"#VALUE!"},{"$error":"#NAME?"}]
[{"$error":"#REF!"},{"$error":"#VALUE!"},{"$error":"#NAME?"}]
[{"$error":"#REF!"},{"$error":"#VALUE!"},{"$error":"#NAME?"}]
[{"$error":"#REF!"},{"$error":"#VALUE!"},{"$error":"#NAME?"}]
[{"$error":"#REF!"},{"$error":"#VALUE!"},{"$error":"#NAME?"}]
[{"$error":"#REF!"},{"$error":"#VALUE!"},{"$error":"#NAME?"}]
[{"$error":"#REF!"},{"$error":"#VALUE!"},{"$error":"#NAME?"}]
[{"$error":"#REF!"},{"$error":"#VALUE!"},{"$error":"#NAME?"}]
[{"$error":"#REF!"},{"$error":"#VALUE!"},{"$error":"#NAME?"}]
[{"$error":"#REF!"},{"$error":"#VALUE!"},{"$error":"#NAME?"}]
[{"$error":"#REF!"},{"$error":"#VALUE!"},{"$error":"#NAME?"}]
[{"$error":"#REF!"},{"$error":"#VALUE!"},{"$error":"#NAME?"}]
[{"$error":"#REF!"},{"$error":"#VALUE!"},{"$error":"#NAME?"}]
[{"$error":"#REF!"},{"$error":"#VALUE!"},{"$error":"#NAME?"}]
[{"$error":"#REF!"},{"$error":"#VALUE!"},{"$error":"#NAME?"}]
[{"$error":"#REF!"},{"$error":"#VALUE!"},{"$error":"#NAME?"}]
[{"$error":"#REF!"},{"$error":"#VALUE!"},{"$error":"#NAME?"}]
[{"$error":"#REF!"},{"$error":"#VALUE!"},{"$error":"#NAME?"}]
[{"$error":"#REF!"},{"$error":"#VALUE!"},{"$error":"#NAME?"}]
[{"$error":"#REF!"},{"$error":"#VALUE!"},{"$error":"#NAME?"}]
[{"$error":"#REF!"},{"$error":"#VALUE!"},{"$error":"#NAME?"}]
[{"$error":"#REF!"},{"$error":"#VALUE!"},{"$error":"#NAME?"}]
[{"$error":"#REF!"},{"$error":"#VALUE!"},{"$error":"#NAME?"}]
[{"$error":"#REF!"},{"$error":"#VALUE!"},{"$error":"#NAME?"}]
[{"$error":"#REF!"},{"$error":"#VALUE!"},{"$error":"#NAME?"}]
[{"$error":"#REF!"},{"$error":"#VALUE!"},{"$error":"#NAME?"}]
[{"$error":"#REF!"},{"$error":"#VALUE!"},{"$error":"#NAME?"}]
[{"$error":"#REF!"},{"$error":"#VALUE!"},{"$error":"#NAME?"}]
[{"$error":"#REF!"},{"$error":"#VALUE!"},{"$error":"#NAME?"}]
[{"$error":"#REF!"},{"$error":"#VALUE!"},{"$error":"#NAME?"}]
[{"$error":"#REF!"},{"$error":"#VALUE!"},{"$error":"#NAME?"}]
[{"$error":"#REF!"},{"$error":"#VALUE!"},{"$error":"#NAME?"}]
[{"$error":"#REF!"},{"$error":"#VALUE!"},{"$error":"#NAME?"}]
[{"$error":"#REF!"},{"$error":"#VALUE!"},{"$error":"#NAME?"}]
[{"$error":"#REF!"},{"$error":"#VALUE!"},{"$error":"#NAME?"}]
[{"$error":"#REF!"},{"$error":"#VALUE!"},{"$error":"#NAME?"}]

{"sheet":"Reference (4)","index":19,"n_rows":201,"n_cols":5,"rows_kept":201,"cut":false,"hidden":true,"merged":[]}
["m1",{"$f":"(B12-B11)/(C12-C11)","v":{"$error":"#REF!"}}]
["b1",{"$f":"B11-B1*C11","v":{"$error":"#REF!"}},"X-Peak",{"$f":"(B4-B2)/(B1-B3)","v":{"$error":"#REF!"}}]
["m2",{"$f":"IF(B13>0,B1*-1,(B14-B13)/(C14-C13))","v":{"$error":"#REF!"}},"Y-Peak",{"$f":"B1*D2+B2","v":{"$error":"#REF!"}}]
["b2",{"$f":"B13-C13*B3","v":{"$error":"#REF!"}}]
[]
[]
[]
[]
[]
["N","Y","X","X^2"]
[1,{"$f":"#REF!","v":{"$error":"#REF!"}},{"$f":"#REF!","v":{"$error":"#REF!"}},{"$f":"C11^2","v":{"$error":"#REF!"}}]
[2,{"$f":"#REF!","v":{"$error":"#REF!"}},{"$f":"#REF!","v":{"$error":"#REF!"}},{"$error":"#REF!"}]
[3,{"$f":"#REF!","v":{"$error":"#REF!"}},{"$f":"#REF!","v":{"$error":"#REF!"}},{"$error":"#REF!"}]
[4,{"$f":"D3","v":{"$error":"#REF!"}},{"$f":"D2","v":{"$error":"#REF!"}},{"$error":"#REF!"}]
[5,{"$f":"D3","v":{"$error":"#REF!"}},{"$f":"$D$2","v":{"$error":"#REF!"}},{"$error":"#REF!"}]
[6,{"$f":"D3","v":{"$error":"#REF!"}},{"$f":"$D$2","v":{"$error":"#REF!"}},{"$error":"#REF!"}]
[7,{"$f":"D3","v":{"$error":"#REF!"}},{"$f":"$D$2","v":{"$error":"#REF!"}},{"$error":"#REF!"}]
[8,{"$f":"D3","v":{"$error":"#REF!"}},{"$f":"D2","v":{"$error":"#REF!"}},{"$error":"#REF!"}]
["SUM",{"$f":"SUM(B13:B17)","v":{"$error":"#REF!"}},{"$f":"SUM(C13:C17)","v":{"$error":"#REF!"}},{"$f":"SUM(D11:D17)","v":{"$error":"#REF!"}}]
[]
[]
["MAX DEN",{"$f":"B27*B23^2+B26*B23+B25","v":{"$error":"#VALUE!"}}]
["MAX  W",{"$f":"-B26/(2*B27)","v":{"$error":"#VALUE!"}}]
[]
["Ao",{"$f":"INDEX(LINEST($B$11:$B$14,$C$11:$D$14),3)","v":{"$error":"#VALUE!"}}]
["A1",{"$f":"INDEX(LINEST($B$11:$B$14,$C$11:$D$14),2)","v":{"$error":"#VALUE!"}},null,"SG",{"$f":"SpecificGravity","v":{"$error":"#NAME?"}}]
["A2",{"$f":"INDEX(LINEST($B$11:$B$14,$C$11:$D$14),1)","v":{"$error":"#VALUE!"}}]
[]
["W","dry density","zav"]
[{"$f":"#REF!","v":{"$error":"#REF!"}},{"$f":"$B$25+$B$26*A30+$B$27*A30^2","v":{"$error":"#VALUE!"}},{"$f":"($E$26*62.4)/(1+(A30/100)*$E$26)","v":{"$error":"#NAME?"}}]
[{"$f":"A30-0.1","v":{"$error":"#REF!"}},{"$error":"#VALUE!"},{"$error":"#NAME?"}]
[{"$error":"#REF!"},{"$error":"#VALUE!"},{"$error":"#NAME?"}]
[{"$error":"#REF!"},{"$error":"#VALUE!"},{"$error":"#NAME?"}]
[{"$error":"#REF!"},{"$error":"#VALUE!"},{"$error":"#NAME?"}]
[{"$error":"#REF!"},{"$error":"#VALUE!"},{"$error":"#NAME?"}]
[{"$error":"#REF!"},{"$error":"#VALUE!"},{"$error":"#NAME?"}]
[{"$error":"#REF!"},{"$error":"#VALUE!"},{"$error":"#NAME?"}]
[{"$error":"#REF!"},{"$error":"#VALUE!"},{"$error":"#NAME?"}]
[{"$error":"#REF!"},{"$error":"#VALUE!"},{"$error":"#NAME?"}]
[{"$error":"#REF!"},{"$error":"#VALUE!"},{"$error":"#NAME?"}]
[{"$error":"#REF!"},{"$error":"#VALUE!"},{"$error":"#NAME?"}]
[{"$error":"#REF!"},{"$error":"#VALUE!"},{"$error":"#NAME?"}]
[{"$error":"#REF!"},{"$error":"#VALUE!"},{"$error":"#NAME?"}]
[{"$error":"#REF!"},{"$error":"#VALUE!"},{"$error":"#NAME?"}]
[{"$error":"#REF!"},{"$error":"#VALUE!"},{"$error":"#NAME?"}]
[{"$error":"#REF!"},{"$error":"#VALUE!"},{"$error":"#NAME?"}]
[{"$error":"#REF!"},{"$error":"#VALUE!"},{"$error":"#NAME?"}]
[{"$error":"#REF!"},{"$error":"#VALUE!"},{"$error":"#NAME?"}]
[{"$error":"#REF!"},{"$error":"#VALUE!"},{"$error":"#NAME?"}]
[{"$error":"#REF!"},{"$error":"#VALUE!"},{"$error":"#NAME?"}]
[{"$error":"#REF!"},{"$error":"#VALUE!"},{"$error":"#NAME?"}]
[{"$error":"#REF!"},{"$error":"#VALUE!"},{"$error":"#NAME?"}]
[{"$error":"#REF!"},{"$error":"#VALUE!"},{"$error":"#NAME?"}]
[{"$error":"#REF!"},{"$error":"#VALUE!"},{"$error":"#NAME?"}]
[{"$error":"#REF!"},{"$error":"#VALUE!"},{"$error":"#NAME?"}]
[{"$error":"#REF!"},{"$error":"#VALUE!"},{"$error":"#NAME?"}]
[{"$error":"#REF!"},{"$error":"#VALUE!"},{"$error":"#NAME?"}]
[{"$error":"#REF!"},{"$error":"#VALUE!"},{"$error":"#NAME?"}]
[{"$error":"#REF!"},{"$error":"#VALUE!"},{"$error":"#NAME?"}]
[{"$error":"#REF!"},{"$error":"#VALUE!"},{"$error":"#NAME?"}]
[{"$error":"#REF!"},{"$error":"#VALUE!"},{"$error":"#NAME?"}]
[{"$error":"#REF!"},{"$error":"#VALUE!"},{"$error":"#NAME?"}]
[{"$error":"#REF!"},{"$error":"#VALUE!"},{"$error":"#NAME?"}]
[{"$error":"#REF!"},{"$error":"#VALUE!"},{"$error":"#NAME?"}]
[{"$error":"#REF!"},{"$error":"#VALUE!"},{"$error":"#NAME?"}]
[{"$error":"#REF!"},{"$error":"#VALUE!"},{"$error":"#NAME?"}]
[{"$error":"#REF!"},{"$error":"#VALUE!"},{"$error":"#NAME?"}]
[{"$error":"#REF!"},{"$error":"#VALUE!"},{"$error":"#NAME?"}]
[{"$error":"#REF!"},{"$error":"#VALUE!"},{"$error":"#NAME?"}]
[{"$error":"#REF!"},{"$error":"#VALUE!"},{"$error":"#NAME?"}]
[{"$error":"#REF!"},{"$error":"#VALUE!"},{"$error":"#NAME?"}]
[{"$error":"#REF!"},{"$error":"#VALUE!"},{"$error":"#NAME?"}]
[{"$error":"#REF!"},{"$error":"#VALUE!"},{"$error":"#NAME?"}]
[{"$error":"#REF!"},{"$error":"#VALUE!"},{"$error":"#NAME?"}]
[{"$error":"#REF!"},{"$error":"#VALUE!"},{"$error":"#NAME?"}]
[{"$error":"#REF!"},{"$error":"#VALUE!"},{"$error":"#NAME?"}]
[{"$error":"#REF!"},{"$error":"#VALUE!"},{"$error":"#NAME?"}]
[{"$error":"#REF!"},{"$error":"#VALUE!"},{"$error":"#NAME?"}]
[{"$error":"#REF!"},{"$error":"#VALUE!"},{"$error":"#NAME?"}]
[{"$error":"#REF!"},{"$error":"#VALUE!"},{"$error":"#NAME?"}]
[{"$error":"#REF!"},{"$error":"#VALUE!"},{"$error":"#NAME?"}]
[{"$error":"#REF!"},{"$error":"#VALUE!"},{"$error":"#NAME?"}]
[{"$error":"#REF!"},{"$error":"#VALUE!"},{"$error":"#NAME?"}]
[{"$error":"#REF!"},{"$error":"#VALUE!"},{"$error":"#NAME?"}]
[{"$error":"#REF!"},{"$error":"#VALUE!"},{"$error":"#NAME?"}]
[{"$error":"#REF!"},{"$error":"#VALUE!"},{"$error":"#NAME?"}]
[{"$error":"#REF!"},{"$error":"#VALUE!"},{"$error":"#NAME?"}]
[{"$error":"#REF!"},{"$error":"#VALUE!"},{"$error":"#NAME?"}]
[{"$error":"#REF!"},{"$error":"#VALUE!"},{"$error":"#NAME?"}]
[{"$error":"#REF!"},{"$error":"#VALUE!"},{"$error":"#NAME?"}]
[{"$error":"#REF!"},{"$error":"#VALUE!"},{"$error":"#NAME?"}]
[{"$error":"#REF!"},{"$error":"#VALUE!"},{"$error":"#NAME?"}]
[{"$error":"#REF!"},{"$error":"#VALUE!"},{"$error":"#NAME?"}]
[{"$error":"#REF!"},{"$f":"$B$25+$B$26*A94+$B$27*A94^2","v":{"$error":"#VALUE!"}},{"$f":"($E$26*62.4)/(1+(A94/100)*$E$26)","v":{"$error":"#NAME?"}}]
[{"$f":"A94-0.1","v":{"$error":"#REF!"}},{"$error":"#VALUE!"},{"$error":"#NAME?"}]
[{"$error":"#REF!"},{"$error":"#VALUE!"},{"$error":"#NAME?"}]
[{"$error":"#REF!"},{"$error":"#VALUE!"},{"$error":"#NAME?"}]
[{"$error":"#REF!"},{"$error":"#VALUE!"},{"$error":"#NAME?"}]
[{"$error":"#REF!"},{"$error":"#VALUE!"},{"$error":"#NAME?"}]
[{"$error":"#REF!"},{"$error":"#VALUE!"},{"$error":"#NAME?"}]
[{"$error":"#REF!"},{"$error":"#VALUE!"},{"$error":"#NAME?"}]
[{"$error":"#REF!"},{"$error":"#VALUE!"},{"$error":"#NAME?"}]
[{"$error":"#REF!"},{"$error":"#VALUE!"},{"$error":"#NAME?"}]
[{"$error":"#REF!"},{"$error":"#VALUE!"},{"$error":"#NAME?"}]
[{"$error":"#REF!"},{"$error":"#VALUE!"},{"$error":"#NAME?"}]
[{"$error":"#REF!"},{"$error":"#VALUE!"},{"$error":"#NAME?"}]
[{"$error":"#REF!"},{"$error":"#VALUE!"},{"$error":"#NAME?"}]
[{"$error":"#REF!"},{"$error":"#VALUE!"},{"$error":"#NAME?"}]
[{"$error":"#REF!"},{"$error":"#VALUE!"},{"$error":"#NAME?"}]
[{"$error":"#REF!"},{"$error":"#VALUE!"},{"$error":"#NAME?"}]
[{"$error":"#REF!"},{"$error":"#VALUE!"},{"$error":"#NAME?"}]
[{"$error":"#REF!"},{"$error":"#VALUE!"},{"$error":"#NAME?"}]
[{"$error":"#REF!"},{"$error":"#VALUE!"},{"$error":"#NAME?"}]
[{"$error":"#REF!"},{"$error":"#VALUE!"},{"$error":"#NAME?"}]
[{"$error":"#REF!"},{"$error":"#VALUE!"},{"$error":"#NAME?"}]
[{"$error":"#REF!"},{"$error":"#VALUE!"},{"$error":"#NAME?"}]
[{"$error":"#REF!"},{"$error":"#VALUE!"},{"$error":"#NAME?"}]
[{"$error":"#REF!"},{"$error":"#VALUE!"},{"$error":"#NAME?"}]
[{"$error":"#REF!"},{"$error":"#VALUE!"},{"$error":"#NAME?"}]
[{"$error":"#REF!"},{"$error":"#VALUE!"},{"$error":"#NAME?"}]
[{"$error":"#REF!"},{"$error":"#VALUE!"},{"$error":"#NAME?"}]
[{"$error":"#REF!"},{"$error":"#VALUE!"},{"$error":"#NAME?"}]
[{"$error":"#REF!"},{"$error":"#VALUE!"},{"$error":"#NAME?"}]
[{"$error":"#REF!"},{"$error":"#VALUE!"},{"$error":"#NAME?"}]
[{"$error":"#REF!"},{"$error":"#VALUE!"},{"$error":"#NAME?"}]
[{"$error":"#REF!"},{"$error":"#VALUE!"},{"$error":"#NAME?"}]
[{"$error":"#REF!"},{"$error":"#VALUE!"},{"$error":"#NAME?"}]
[{"$error":"#REF!"},{"$error":"#VALUE!"},{"$error":"#NAME?"}]
[{"$error":"#REF!"},{"$error":"#VALUE!"},{"$error":"#NAME?"}]
[{"$error":"#REF!"},{"$error":"#VALUE!"},{"$error":"#NAME?"}]
[{"$error":"#REF!"},{"$error":"#VALUE!"},{"$error":"#NAME?"}]
[{"$error":"#REF!"},{"$error":"#VALUE!"},{"$error":"#NAME?"}]
[{"$error":"#REF!"},{"$error":"#VALUE!"},{"$error":"#NAME?"}]
[{"$error":"#REF!"},{"$error":"#VALUE!"},{"$error":"#NAME?"}]
[{"$error":"#REF!"},{"$error":"#VALUE!"},{"$error":"#NAME?"}]
[{"$error":"#REF!"},{"$error":"#VALUE!"},{"$error":"#NAME?"}]
[{"$error":"#REF!"},{"$error":"#VALUE!"},{"$error":"#NAME?"}]
[{"$error":"#REF!"},{"$error":"#VALUE!"},{"$error":"#NAME?"}]
[{"$error":"#REF!"},{"$error":"#VALUE!"},{"$error":"#NAME?"}]
[{"$error":"#REF!"},{"$error":"#VALUE!"},{"$error":"#NAME?"}]
[{"$error":"#REF!"},{"$error":"#VALUE!"},{"$error":"#NAME?"}]
[{"$error":"#REF!"},{"$error":"#VALUE!"},{"$error":"#NAME?"}]
[{"$error":"#REF!"},{"$error":"#VALUE!"},{"$error":"#NAME?"}]
[{"$error":"#REF!"},{"$error":"#VALUE!"},{"$error":"#NAME?"}]
[{"$error":"#REF!"},{"$error":"#VALUE!"},{"$error":"#NAME?"}]
[{"$error":"#REF!"},{"$error":"#VALUE!"},{"$error":"#NAME?"}]
[{"$error":"#REF!"},{"$error":"#VALUE!"},{"$error":"#NAME?"}]
[{"$error":"#REF!"},{"$error":"#VALUE!"},{"$error":"#NAME?"}]
[{"$error":"#REF!"},{"$error":"#VALUE!"},{"$error":"#NAME?"}]
[{"$error":"#REF!"},{"$error":"#VALUE!"},{"$error":"#NAME?"}]
[{"$error":"#REF!"},{"$error":"#VALUE!"},{"$error":"#NAME?"}]
[{"$error":"#REF!"},{"$error":"#VALUE!"},{"$error":"#NAME?"}]
[{"$error":"#REF!"},{"$error":"#VALUE!"},{"$error":"#NAME?"}]
[{"$error":"#REF!"},{"$error":"#VALUE!"},{"$error":"#NAME?"}]
[{"$error":"#REF!"},{"$error":"#VALUE!"},{"$error":"#NAME?"}]
[{"$error":"#REF!"},{"$error":"#VALUE!"},{"$error":"#NAME?"}]
[{"$error":"#REF!"},{"$error":"#VALUE!"},{"$error":"#NAME?"}]
[{"$error":"#REF!"},{"$f":"$B$25+$B$26*A158+$B$27*A158^2","v":{"$error":"#VALUE!"}},{"$f":"($E$26*62.4)/(1+(A158/100)*$E$26)","v":{"$error":"#NAME?"}}]
[{"$f":"A158-0.1","v":{"$error":"#REF!"}},{"$error":"#VALUE!"},{"$error":"#NAME?"}]
[{"$error":"#REF!"},{"$error":"#VALUE!"},{"$error":"#NAME?"}]
[{"$error":"#REF!"},{"$error":"#VALUE!"},{"$error":"#NAME?"}]
[{"$error":"#REF!"},{"$error":"#VALUE!"},{"$error":"#NAME?"}]
[{"$error":"#REF!"},{"$error":"#VALUE!"},{"$error":"#NAME?"}]
[{"$error":"#REF!"},{"$error":"#VALUE!"},{"$error":"#NAME?"}]
[{"$error":"#REF!"},{"$error":"#VALUE!"},{"$error":"#NAME?"}]
[{"$error":"#REF!"},{"$error":"#VALUE!"},{"$error":"#NAME?"}]
[{"$error":"#REF!"},{"$error":"#VALUE!"},{"$error":"#NAME?"}]
[{"$error":"#REF!"},{"$error":"#VALUE!"},{"$error":"#NAME?"}]
[{"$error":"#REF!"},{"$error":"#VALUE!"},{"$error":"#NAME?"}]
[{"$error":"#REF!"},{"$error":"#VALUE!"},{"$error":"#NAME?"}]
[{"$error":"#REF!"},{"$error":"#VALUE!"},{"$error":"#NAME?"}]
[{"$error":"#REF!"},{"$error":"#VALUE!"},{"$error":"#NAME?"}]
[{"$error":"#REF!"},{"$error":"#VALUE!"},{"$error":"#NAME?"}]
[{"$error":"#REF!"},{"$error":"#VALUE!"},{"$error":"#NAME?"}]
[{"$error":"#REF!"},{"$error":"#VALUE!"},{"$error":"#NAME?"}]
[{"$error":"#REF!"},{"$error":"#VALUE!"},{"$error":"#NAME?"}]
[{"$error":"#REF!"},{"$error":"#VALUE!"},{"$error":"#NAME?"}]
[{"$error":"#REF!"},{"$error":"#VALUE!"},{"$error":"#NAME?"}]
[{"$error":"#REF!"},{"$error":"#VALUE!"},{"$error":"#NAME?"}]
[{"$error":"#REF!"},{"$error":"#VALUE!"},{"$error":"#NAME?"}]
[{"$error":"#REF!"},{"$error":"#VALUE!"},{"$error":"#NAME?"}]
[{"$error":"#REF!"},{"$error":"#VALUE!"},{"$error":"#NAME?"}]
[{"$error":"#REF!"},{"$error":"#VALUE!"},{"$error":"#NAME?"}]
[{"$error":"#REF!"},{"$error":"#VALUE!"},{"$error":"#NAME?"}]
[{"$error":"#REF!"},{"$error":"#VALUE!"},{"$error":"#NAME?"}]
[{"$error":"#REF!"},{"$error":"#VALUE!"},{"$error":"#NAME?"}]
[{"$error":"#REF!"},{"$error":"#VALUE!"},{"$error":"#NAME?"}]
[{"$error":"#REF!"},{"$error":"#VALUE!"},{"$error":"#NAME?"}]
[{"$error":"#REF!"},{"$error":"#VALUE!"},{"$error":"#NAME?"}]
[{"$error":"#REF!"},{"$error":"#VALUE!"},{"$error":"#NAME?"}]
[{"$error":"#REF!"},{"$error":"#VALUE!"},{"$error":"#NAME?"}]
[{"$error":"#REF!"},{"$error":"#VALUE!"},{"$error":"#NAME?"}]
[{"$error":"#REF!"},{"$error":"#VALUE!"},{"$error":"#NAME?"}]
[{"$error":"#REF!"},{"$error":"#VALUE!"},{"$error":"#NAME?"}]
[{"$error":"#REF!"},{"$error":"#VALUE!"},{"$error":"#NAME?"}]
[{"$error":"#REF!"},{"$error":"#VALUE!"},{"$error":"#NAME?"}]
[{"$error":"#REF!"},{"$error":"#VALUE!"},{"$error":"#NAME?"}]
[{"$error":"#REF!"},{"$error":"#VALUE!"},{"$error":"#NAME?"}]
[{"$error":"#REF!"},{"$error":"#VALUE!"},{"$error":"#NAME?"}]
[{"$error":"#REF!"},{"$error":"#VALUE!"},{"$error":"#NAME?"}]
[{"$error":"#REF!"},{"$error":"#VALUE!"},{"$error":"#NAME?"}]

{"sheet":"Reference (5)","index":20,"n_rows":201,"n_cols":5,"rows_kept":201,"cut":false,"hidden":true,"merged":[]}
["m1",{"$f":"(B12-B11)/(C12-C11)","v":{"$error":"#REF!"}}]
["b1",{"$f":"B11-B1*C11","v":{"$error":"#REF!"}},"X-Peak",{"$f":"(B4-B2)/(B1-B3)","v":{"$error":"#REF!"}}]
["m2",{"$f":"IF(B13>0,B1*-1,(B14-B13)/(C14-C13))","v":{"$error":"#REF!"}},"Y-Peak",{"$f":"B1*D2+B2","v":{"$error":"#REF!"}}]
["b2",{"$f":"B13-C13*B3","v":{"$error":"#REF!"}}]
[]
[]
[]
[]
[]
["N","Y","X","X^2"]
[1,{"$f":"#REF!","v":{"$error":"#REF!"}},{"$f":"#REF!","v":{"$error":"#REF!"}},{"$f":"C11^2","v":{"$error":"#REF!"}}]
[2,{"$f":"#REF!","v":{"$error":"#REF!"}},{"$f":"#REF!","v":{"$error":"#REF!"}},{"$error":"#REF!"}]
[3,{"$f":"#REF!","v":{"$error":"#REF!"}},{"$f":"#REF!","v":{"$error":"#REF!"}},{"$error":"#REF!"}]
[4,{"$f":"D3","v":{"$error":"#REF!"}},{"$f":"D2","v":{"$error":"#REF!"}},{"$error":"#REF!"}]
[5,{"$f":"D3","v":{"$error":"#REF!"}},{"$f":"$D$2","v":{"$error":"#REF!"}},{"$error":"#REF!"}]
[6,{"$f":"D3","v":{"$error":"#REF!"}},{"$f":"$D$2","v":{"$error":"#REF!"}},{"$error":"#REF!"}]
[7,{"$f":"D3","v":{"$error":"#REF!"}},{"$f":"$D$2","v":{"$error":"#REF!"}},{"$error":"#REF!"}]
[8,{"$f":"D3","v":{"$error":"#REF!"}},{"$f":"D2","v":{"$error":"#REF!"}},{"$error":"#REF!"}]
["SUM",{"$f":"SUM(B13:B17)","v":{"$error":"#REF!"}},{"$f":"SUM(C13:C17)","v":{"$error":"#REF!"}},{"$f":"SUM(D11:D17)","v":{"$error":"#REF!"}}]
[]
[]
["MAX DEN",{"$f":"B27*B23^2+B26*B23+B25","v":{"$error":"#VALUE!"}}]
["MAX  W",{"$f":"-B26/(2*B27)","v":{"$error":"#VALUE!"}}]
[]
["Ao",{"$f":"INDEX(LINEST($B$11:$B$14,$C$11:$D$14),3)","v":{"$error":"#VALUE!"}}]
["A1",{"$f":"INDEX(LINEST($B$11:$B$14,$C$11:$D$14),2)","v":{"$error":"#VALUE!"}},null,"SG",{"$f":"SpecificGravity","v":{"$error":"#NAME?"}}]
["A2",{"$f":"INDEX(LINEST($B$11:$B$14,$C$11:$D$14),1)","v":{"$error":"#VALUE!"}}]
[]
["W","dry density","zav"]
[{"$f":"#REF!","v":{"$error":"#REF!"}},{"$f":"$B$25+$B$26*A30+$B$27*A30^2","v":{"$error":"#VALUE!"}},{"$f":"($E$26*62.4)/(1+(A30/100)*$E$26)","v":{"$error":"#NAME?"}}]
[{"$f":"A30-0.1","v":{"$error":"#REF!"}},{"$error":"#VALUE!"},{"$error":"#NAME?"}]
[{"$error":"#REF!"},{"$error":"#VALUE!"},{"$error":"#NAME?"}]
[{"$error":"#REF!"},{"$error":"#VALUE!"},{"$error":"#NAME?"}]
[{"$error":"#REF!"},{"$error":"#VALUE!"},{"$error":"#NAME?"}]
[{"$error":"#REF!"},{"$error":"#VALUE!"},{"$error":"#NAME?"}]
[{"$error":"#REF!"},{"$error":"#VALUE!"},{"$error":"#NAME?"}]
[{"$error":"#REF!"},{"$error":"#VALUE!"},{"$error":"#NAME?"}]
[{"$error":"#REF!"},{"$error":"#VALUE!"},{"$error":"#NAME?"}]
[{"$error":"#REF!"},{"$error":"#VALUE!"},{"$error":"#NAME?"}]
[{"$error":"#REF!"},{"$error":"#VALUE!"},{"$error":"#NAME?"}]
[{"$error":"#REF!"},{"$error":"#VALUE!"},{"$error":"#NAME?"}]
[{"$error":"#REF!"},{"$error":"#VALUE!"},{"$error":"#NAME?"}]
[{"$error":"#REF!"},{"$error":"#VALUE!"},{"$error":"#NAME?"}]
[{"$error":"#REF!"},{"$error":"#VALUE!"},{"$error":"#NAME?"}]
[{"$error":"#REF!"},{"$error":"#VALUE!"},{"$error":"#NAME?"}]
[{"$error":"#REF!"},{"$error":"#VALUE!"},{"$error":"#NAME?"}]
[{"$error":"#REF!"},{"$error":"#VALUE!"},{"$error":"#NAME?"}]
[{"$error":"#REF!"},{"$error":"#VALUE!"},{"$error":"#NAME?"}]
[{"$error":"#REF!"},{"$error":"#VALUE!"},{"$error":"#NAME?"}]
[{"$error":"#REF!"},{"$error":"#VALUE!"},{"$error":"#NAME?"}]
[{"$error":"#REF!"},{"$error":"#VALUE!"},{"$error":"#NAME?"}]
[{"$error":"#REF!"},{"$error":"#VALUE!"},{"$error":"#NAME?"}]
[{"$error":"#REF!"},{"$error":"#VALUE!"},{"$error":"#NAME?"}]
[{"$error":"#REF!"},{"$error":"#VALUE!"},{"$error":"#NAME?"}]
[{"$error":"#REF!"},{"$error":"#VALUE!"},{"$error":"#NAME?"}]
[{"$error":"#REF!"},{"$error":"#VALUE!"},{"$error":"#NAME?"}]
[{"$error":"#REF!"},{"$error":"#VALUE!"},{"$error":"#NAME?"}]
[{"$error":"#REF!"},{"$error":"#VALUE!"},{"$error":"#NAME?"}]
[{"$error":"#REF!"},{"$error":"#VALUE!"},{"$error":"#NAME?"}]
[{"$error":"#REF!"},{"$error":"#VALUE!"},{"$error":"#NAME?"}]
[{"$error":"#REF!"},{"$error":"#VALUE!"},{"$error":"#NAME?"}]
[{"$error":"#REF!"},{"$error":"#VALUE!"},{"$error":"#NAME?"}]
[{"$error":"#REF!"},{"$error":"#VALUE!"},{"$error":"#NAME?"}]
[{"$error":"#REF!"},{"$error":"#VALUE!"},{"$error":"#NAME?"}]
[{"$error":"#REF!"},{"$error":"#VALUE!"},{"$error":"#NAME?"}]
[{"$error":"#REF!"},{"$error":"#VALUE!"},{"$error":"#NAME?"}]
[{"$error":"#REF!"},{"$error":"#VALUE!"},{"$error":"#NAME?"}]
[{"$error":"#REF!"},{"$error":"#VALUE!"},{"$error":"#NAME?"}]
[{"$error":"#REF!"},{"$error":"#VALUE!"},{"$error":"#NAME?"}]
[{"$error":"#REF!"},{"$error":"#VALUE!"},{"$error":"#NAME?"}]
[{"$error":"#REF!"},{"$error":"#VALUE!"},{"$error":"#NAME?"}]
[{"$error":"#REF!"},{"$error":"#VALUE!"},{"$error":"#NAME?"}]
[{"$error":"#REF!"},{"$error":"#VALUE!"},{"$error":"#NAME?"}]
[{"$error":"#REF!"},{"$error":"#VALUE!"},{"$error":"#NAME?"}]
[{"$error":"#REF!"},{"$error":"#VALUE!"},{"$error":"#NAME?"}]
[{"$error":"#REF!"},{"$error":"#VALUE!"},{"$error":"#NAME?"}]
[{"$error":"#REF!"},{"$error":"#VALUE!"},{"$error":"#NAME?"}]
[{"$error":"#REF!"},{"$error":"#VALUE!"},{"$error":"#NAME?"}]
[{"$error":"#REF!"},{"$error":"#VALUE!"},{"$error":"#NAME?"}]
[{"$error":"#REF!"},{"$error":"#VALUE!"},{"$error":"#NAME?"}]
[{"$error":"#REF!"},{"$error":"#VALUE!"},{"$error":"#NAME?"}]
[{"$error":"#REF!"},{"$error":"#VALUE!"},{"$error":"#NAME?"}]
[{"$error":"#REF!"},{"$error":"#VALUE!"},{"$error":"#NAME?"}]
[{"$error":"#REF!"},{"$error":"#VALUE!"},{"$error":"#NAME?"}]
[{"$error":"#REF!"},{"$error":"#VALUE!"},{"$error":"#NAME?"}]
[{"$error":"#REF!"},{"$error":"#VALUE!"},{"$error":"#NAME?"}]
[{"$error":"#REF!"},{"$error":"#VALUE!"},{"$error":"#NAME?"}]
[{"$error":"#REF!"},{"$error":"#VALUE!"},{"$error":"#NAME?"}]
[{"$error":"#REF!"},{"$error":"#VALUE!"},{"$error":"#NAME?"}]
[{"$error":"#REF!"},{"$error":"#VALUE!"},{"$error":"#NAME?"}]
[{"$error":"#REF!"},{"$error":"#VALUE!"},{"$error":"#NAME?"}]
[{"$error":"#REF!"},{"$error":"#VALUE!"},{"$error":"#NAME?"}]
[{"$error":"#REF!"},{"$error":"#VALUE!"},{"$error":"#NAME?"}]
[{"$error":"#REF!"},{"$f":"$B$25+$B$26*A94+$B$27*A94^2","v":{"$error":"#VALUE!"}},{"$f":"($E$26*62.4)/(1+(A94/100)*$E$26)","v":{"$error":"#NAME?"}}]
[{"$f":"A94-0.1","v":{"$error":"#REF!"}},{"$error":"#VALUE!"},{"$error":"#NAME?"}]
[{"$error":"#REF!"},{"$error":"#VALUE!"},{"$error":"#NAME?"}]
[{"$error":"#REF!"},{"$error":"#VALUE!"},{"$error":"#NAME?"}]
[{"$error":"#REF!"},{"$error":"#VALUE!"},{"$error":"#NAME?"}]
[{"$error":"#REF!"},{"$error":"#VALUE!"},{"$error":"#NAME?"}]
[{"$error":"#REF!"},{"$error":"#VALUE!"},{"$error":"#NAME?"}]
[{"$error":"#REF!"},{"$error":"#VALUE!"},{"$error":"#NAME?"}]
[{"$error":"#REF!"},{"$error":"#VALUE!"},{"$error":"#NAME?"}]
[{"$error":"#REF!"},{"$error":"#VALUE!"},{"$error":"#NAME?"}]
[{"$error":"#REF!"},{"$error":"#VALUE!"},{"$error":"#NAME?"}]
[{"$error":"#REF!"},{"$error":"#VALUE!"},{"$error":"#NAME?"}]
[{"$error":"#REF!"},{"$error":"#VALUE!"},{"$error":"#NAME?"}]
[{"$error":"#REF!"},{"$error":"#VALUE!"},{"$error":"#NAME?"}]
[{"$error":"#REF!"},{"$error":"#VALUE!"},{"$error":"#NAME?"}]
[{"$error":"#REF!"},{"$error":"#VALUE!"},{"$error":"#NAME?"}]
[{"$error":"#REF!"},{"$error":"#VALUE!"},{"$error":"#NAME?"}]
[{"$error":"#REF!"},{"$error":"#VALUE!"},{"$error":"#NAME?"}]
[{"$error":"#REF!"},{"$error":"#VALUE!"},{"$error":"#NAME?"}]
[{"$error":"#REF!"},{"$error":"#VALUE!"},{"$error":"#NAME?"}]
[{"$error":"#REF!"},{"$error":"#VALUE!"},{"$error":"#NAME?"}]
[{"$error":"#REF!"},{"$error":"#VALUE!"},{"$error":"#NAME?"}]
[{"$error":"#REF!"},{"$error":"#VALUE!"},{"$error":"#NAME?"}]
[{"$error":"#REF!"},{"$error":"#VALUE!"},{"$error":"#NAME?"}]
[{"$error":"#REF!"},{"$error":"#VALUE!"},{"$error":"#NAME?"}]
[{"$error":"#REF!"},{"$error":"#VALUE!"},{"$error":"#NAME?"}]
[{"$error":"#REF!"},{"$error":"#VALUE!"},{"$error":"#NAME?"}]
[{"$error":"#REF!"},{"$error":"#VALUE!"},{"$error":"#NAME?"}]
[{"$error":"#REF!"},{"$error":"#VALUE!"},{"$error":"#NAME?"}]
[{"$error":"#REF!"},{"$error":"#VALUE!"},{"$error":"#NAME?"}]
[{"$error":"#REF!"},{"$error":"#VALUE!"},{"$error":"#NAME?"}]
[{"$error":"#REF!"},{"$error":"#VALUE!"},{"$error":"#NAME?"}]
[{"$error":"#REF!"},{"$error":"#VALUE!"},{"$error":"#NAME?"}]
[{"$error":"#REF!"},{"$error":"#VALUE!"},{"$error":"#NAME?"}]
[{"$error":"#REF!"},{"$error":"#VALUE!"},{"$error":"#NAME?"}]
[{"$error":"#REF!"},{"$error":"#VALUE!"},{"$error":"#NAME?"}]
[{"$error":"#REF!"},{"$error":"#VALUE!"},{"$error":"#NAME?"}]
[{"$error":"#REF!"},{"$error":"#VALUE!"},{"$error":"#NAME?"}]
[{"$error":"#REF!"},{"$error":"#VALUE!"},{"$error":"#NAME?"}]
[{"$error":"#REF!"},{"$error":"#VALUE!"},{"$error":"#NAME?"}]
[{"$error":"#REF!"},{"$error":"#VALUE!"},{"$error":"#NAME?"}]
[{"$error":"#REF!"},{"$error":"#VALUE!"},{"$error":"#NAME?"}]
[{"$error":"#REF!"},{"$error":"#VALUE!"},{"$error":"#NAME?"}]
[{"$error":"#REF!"},{"$error":"#VALUE!"},{"$error":"#NAME?"}]
[{"$error":"#REF!"},{"$error":"#VALUE!"},{"$error":"#NAME?"}]
[{"$error":"#REF!"},{"$error":"#VALUE!"},{"$error":"#NAME?"}]
[{"$error":"#REF!"},{"$error":"#VALUE!"},{"$error":"#NAME?"}]
[{"$error":"#REF!"},{"$error":"#VALUE!"},{"$error":"#NAME?"}]
[{"$error":"#REF!"},{"$error":"#VALUE!"},{"$error":"#NAME?"}]
[{"$error":"#REF!"},{"$error":"#VALUE!"},{"$error":"#NAME?"}]
[{"$error":"#REF!"},{"$error":"#VALUE!"},{"$error":"#NAME?"}]
[{"$error":"#REF!"},{"$error":"#VALUE!"},{"$error":"#NAME?"}]
[{"$error":"#REF!"},{"$error":"#VALUE!"},{"$error":"#NAME?"}]
[{"$error":"#REF!"},{"$error":"#VALUE!"},{"$error":"#NAME?"}]
[{"$error":"#REF!"},{"$error":"#VALUE!"},{"$error":"#NAME?"}]
[{"$error":"#REF!"},{"$error":"#VALUE!"},{"$error":"#NAME?"}]
[{"$error":"#REF!"},{"$error":"#VALUE!"},{"$error":"#NAME?"}]
[{"$error":"#REF!"},{"$error":"#VALUE!"},{"$error":"#NAME?"}]
[{"$error":"#REF!"},{"$error":"#VALUE!"},{"$error":"#NAME?"}]
[{"$error":"#REF!"},{"$error":"#VALUE!"},{"$error":"#NAME?"}]
[{"$error":"#REF!"},{"$error":"#VALUE!"},{"$error":"#NAME?"}]
[{"$error":"#REF!"},{"$error":"#VALUE!"},{"$error":"#NAME?"}]
[{"$error":"#REF!"},{"$error":"#VALUE!"},{"$error":"#NAME?"}]
[{"$error":"#REF!"},{"$error":"#VALUE!"},{"$error":"#NAME?"}]
[{"$error":"#REF!"},{"$f":"$B$25+$B$26*A158+$B$27*A158^2","v":{"$error":"#VALUE!"}},{"$f":"($E$26*62.4)/(1+(A158/100)*$E$26)","v":{"$error":"#NAME?"}}]
[{"$f":"A158-0.1","v":{"$error":"#REF!"}},{"$error":"#VALUE!"},{"$error":"#NAME?"}]
[{"$error":"#REF!"},{"$error":"#VALUE!"},{"$error":"#NAME?"}]
[{"$error":"#REF!"},{"$error":"#VALUE!"},{"$error":"#NAME?"}]
[{"$error":"#REF!"},{"$error":"#VALUE!"},{"$error":"#NAME?"}]
[{"$error":"#REF!"},{"$error":"#VALUE!"},{"$error":"#NAME?"}]
[{"$error":"#REF!"},{"$error":"#VALUE!"},{"$error":"#NAME?"}]
[{"$error":"#REF!"},{"$error":"#VALUE!"},{"$error":"#NAME?"}]
[{"$error":"#REF!"},{"$error":"#VALUE!"},{"$error":"#NAME?"}]
[{"$error":"#REF!"},{"$error":"#VALUE!"},{"$error":"#NAME?"}]
[{"$error":"#REF!"},{"$error":"#VALUE!"},{"$error":"#NAME?"}]
[{"$error":"#REF!"},{"$error":"#VALUE!"},{"$error":"#NAME?"}]
[{"$error":"#REF!"},{"$error":"#VALUE!"},{"$error":"#NAME?"}]
[{"$error":"#REF!"},{"$error":"#VALUE!"},{"$error":"#NAME?"}]
[{"$error":"#REF!"},{"$error":"#VALUE!"},{"$error":"#NAME?"}]
[{"$error":"#REF!"},{"$error":"#VALUE!"},{"$error":"#NAME?"}]
[{"$error":"#REF!"},{"$error":"#VALUE!"},{"$error":"#NAME?"}]
[{"$error":"#REF!"},{"$error":"#VALUE!"},{"$error":"#NAME?"}]
[{"$error":"#REF!"},{"$error":"#VALUE!"},{"$error":"#NAME?"}]
[{"$error":"#REF!"},{"$error":"#VALUE!"},{"$error":"#NAME?"}]
[{"$error":"#REF!"},{"$error":"#VALUE!"},{"$error":"#NAME?"}]
[{"$error":"#REF!"},{"$error":"#VALUE!"},{"$error":"#NAME?"}]
[{"$error":"#REF!"},{"$error":"#VALUE!"},{"$error":"#NAME?"}]
[{"$error":"#REF!"},{"$error":"#VALUE!"},{"$error":"#NAME?"}]
[{"$error":"#REF!"},{"$error":"#VALUE!"},{"$error":"#NAME?"}]
[{"$error":"#REF!"},{"$error":"#VALUE!"},{"$error":"#NAME?"}]
[{"$error":"#REF!"},{"$error":"#VALUE!"},{"$error":"#NAME?"}]
[{"$error":"#REF!"},{"$error":"#VALUE!"},{"$error":"#NAME?"}]
[{"$error":"#REF!"},{"$error":"#VALUE!"},{"$error":"#NAME?"}]
[{"$error":"#REF!"},{"$error":"#VALUE!"},{"$error":"#NAME?"}]
[{"$error":"#REF!"},{"$error":"#VALUE!"},{"$error":"#NAME?"}]
[{"$error":"#REF!"},{"$error":"#VALUE!"},{"$error":"#NAME?"}]
[{"$error":"#REF!"},{"$error":"#VALUE!"},{"$error":"#NAME?"}]
[{"$error":"#REF!"},{"$error":"#VALUE!"},{"$error":"#NAME?"}]
[{"$error":"#REF!"},{"$error":"#VALUE!"},{"$error":"#NAME?"}]
[{"$error":"#REF!"},{"$error":"#VALUE!"},{"$error":"#NAME?"}]
[{"$error":"#REF!"},{"$error":"#VALUE!"},{"$error":"#NAME?"}]
[{"$error":"#REF!"},{"$error":"#VALUE!"},{"$error":"#NAME?"}]
[{"$error":"#REF!"},{"$error":"#VALUE!"},{"$error":"#NAME?"}]
[{"$error":"#REF!"},{"$error":"#VALUE!"},{"$error":"#NAME?"}]
[{"$error":"#REF!"},{"$error":"#VALUE!"},{"$error":"#NAME?"}]
[{"$error":"#REF!"},{"$error":"#VALUE!"},{"$error":"#NAME?"}]
[{"$error":"#REF!"},{"$error":"#VALUE!"},{"$error":"#NAME?"}]
[{"$error":"#REF!"},{"$error":"#VALUE!"},{"$error":"#NAME?"}]

{"sheet":"Set 1(a)","index":21,"n_rows":23,"n_cols":4,"rows_kept":23,"cut":false,"hidden":false,"merged":[[0,4,0,9]]}
["[HEADER]"]
["Project:","Project1"]
["Date:",37036,"Time:",0.41158564814814813]
["Boring:","Boring1","Sample:",2]
["Specimen:",2,"Depth (ft):",10]
["Diameter (inch):",null,"Height (inch):"]
["Piston Correction (lbs):"]
["Comments:"]
[]
["[SENSORS]"]
["Name","External Load Cell","Cell Pressure","Load Frame Encoder"]
["ID","LC54032","PS9170013","N/A"]
["Module","Load Frame Adc","Load Frame Adc","N/A"]
["Channel",1,3,"N/A"]
["Unit","lbs","psi","inch"]
["Cal. Factor",null,10000]
["Excitation",null,10.029999999999999,"N/A"]
["Zero",null,-1.7200000000000001E-4,"N/A"]
["Min. Reading",-10000,-14,0]
["Max. Reading",10000,98,3.5]
[]
["[SHEAR]"]
["Time          ","External Load Cell","Cell Pressure","Platen Position"]

{"sheet":"Set 1(b)","index":22,"n_rows":23,"n_cols":4,"rows_kept":23,"cut":false,"hidden":false,"merged":[[0,4,0,9]]}
["[HEADER]"]
["Project:","Project1"]
["Date:",37036,"Time:",0.44061342592592595]
["Boring:","Boring1","Sample:",5]
["Specimen:",5,"Depth (ft):",10]
["Diameter (inch):",null,"Height (inch):"]
["Piston Correction (lbs):"]
["Comments:"]
[]
["[SENSORS]"]
["Name","External Load Cell","Cell Pressure","Load Frame Encoder"]
["ID","LC54032","PS9170013","N/A"]
["Module","Load Frame Adc","Load Frame Adc","N/A"]
["Channel",1,3,"N/A"]
["Unit","lbs","psi","inch"]
["Cal. Factor",null,10000]
["Excitation",null,10.029999999999999,"N/A"]
["Zero",null,-1.7200000000000001E-4,"N/A"]
["Min. Reading",-10000,-14,0]
["Max. Reading",10000,98,3.5]
[]
["[SHEAR]"]
["Time          ","External Load Cell","Cell Pressure","Platen Position"]

{"sheet":"Set 1(c)","index":23,"n_rows":23,"n_cols":4,"rows_kept":23,"cut":false,"hidden":false,"merged":[[0,4,0,9]]}
["[HEADER]"]
["Project:","Project1"]
["Date:",37036,"Time:",0.42031250000000003]
["Boring:","Boring1","Sample:",3]
["Specimen:",3,"Depth (ft):",10]
["Diameter (inch):",null,"Height (inch):"]
["Piston Correction (lbs):"]
["Comments:"]
[]
["[SENSORS]"]
["Name","External Load Cell","Cell Pressure","Load Frame Encoder"]
["ID","LC54032","PS9170013","N/A"]
["Module","Load Frame Adc","Load Frame Adc","N/A"]
["Channel",1,3,"N/A"]
["Unit","lbs","psi","inch"]
["Cal. Factor",null,10000]
["Excitation",null,10.029999999999999,"N/A"]
["Zero",null,-1.7200000000000001E-4,"N/A"]
["Min. Reading",-10000,-14,0]
["Max. Reading",10000,98,3.5]
[]
["[SHEAR]"]
["Time          ","External Load Cell","Cell Pressure","Platen Position"]

{"sheet":"Set 2(a)","index":24,"n_rows":23,"n_cols":4,"rows_kept":23,"cut":false,"hidden":false,"merged":[[0,4,0,9]]}
["[HEADER]"]
["Project:","Project1"]
["Date:",37036,"Time:",0.42736111111111108]
["Boring:","Boring1","Sample:",1]
["Specimen:",1,"Depth (ft):",10]
["Diameter (inch):",null,"Height (inch):"]
["Piston Correction (lbs):"]
["Comments:"]
[]
["[SENSORS]"]
["Name","External Load Cell","Cell Pressure","Load Frame Encoder"]
["ID","LC54032","PS9170013","N/A"]
["Module","Load Frame Adc","Load Frame Adc","N/A"]
["Channel",1,3,"N/A"]
["Unit","lbs","psi","inch"]
["Cal. Factor",null,10000]
["Excitation",null,10.029999999999999,"N/A"]
["Zero",null,-1.7200000000000001E-4,"N/A"]
["Min. Reading",-10000,-14,0]
["Max. Reading",10000,98,3.5]
[]
["[SHEAR]"]
["Time          ","External Load Cell","Cell Pressure","Platen Position"]

{"sheet":"Set 2(b)","index":25,"n_rows":23,"n_cols":4,"rows_kept":23,"cut":false,"hidden":false,"merged":[[0,4,0,9]]}
["[HEADER]"]
["Project:","Project1"]
["Date:",37036,"Time:",0.40013888888888888]
["Boring:","Boring1","Sample:",6]
["Specimen:",6,"Depth (ft):",10]
["Diameter (inch):",null,"Height (inch):"]
["Piston Correction (lbs):"]
["Comments:"]
[]
["[SENSORS]"]
["Name","External Load Cell","Cell Pressure","Load Frame Encoder"]
["ID","LC54032","PS9170013","N/A"]
["Module","Load Frame Adc","Load Frame Adc","N/A"]
["Channel",1,3,"N/A"]
["Unit","lbs","psi","inch"]
["Cal. Factor",null,10000]
["Excitation",null,10.029999999999999,"N/A"]
["Zero",null,-1.7200000000000001E-4,"N/A"]
["Min. Reading",-10000,-14,0]
["Max. Reading",10000,98,3.5]
[]
["[SHEAR]"]
["Time          ","External Load Cell","Cell Pressure","Platen Position"]

{"sheet":"Set 2(c)","index":26,"n_rows":23,"n_cols":4,"rows_kept":23,"cut":false,"hidden":false,"merged":[[0,4,0,9]]}
["[HEADER]"]
["Project:","Project1"]
["Date:",37036,"Time:",0.4027662037037037]
["Boring:","Boring1","Sample:",6]
["Specimen:",6,"Depth (ft):",10]
["Diameter (inch):",null,"Height (inch):"]
["Piston Correction (lbs):"]
["Comments:"]
[]
["[SENSORS]"]
["Name","External Load Cell","Cell Pressure","Load Frame Encoder"]
["ID","LC54032","PS9170013","N/A"]
["Module","Load Frame Adc","Load Frame Adc","N/A"]
["Channel",1,3,"N/A"]
["Unit","lbs","psi","inch"]
["Cal. Factor",null,10000]
["Excitation",null,10.029999999999999,"N/A"]
["Zero",null,-1.7200000000000001E-4,"N/A"]
["Min. Reading",-10000,-14,0]
["Max. Reading",10000,98,3.5]
[]
["[SHEAR]"]
["Time          ","External Load Cell","Cell Pressure","Platen Position"]

{"sheet":"Set 3(a)","index":27,"n_rows":23,"n_cols":4,"rows_kept":23,"cut":false,"hidden":false,"merged":[[0,4,0,9]]}
["Created by Sigma-1 UU Version 3.7.5; Copyright 2003, GEOTAC"]
["Project:","Amarillo "]
["Date:",38279,"Time:",0.36348379629629601]
["Boring:","4% Cement Base","Sample:","04-E-131"]
["Specimen:","Specimen 2","Depth (ft):",0]
["Diameter (inch):",null,"Height (inch):"]
["Piston Correction (lbs):"]
["Comments:"]
[]
["[SENSORS]"]
["Name","External Load Cell","Cell Pressure","Load Frame Encoder"]
["ID",118521,"ID2","N/A"]
["Module","Load Frame ADIO","Load Frame ADIO","N/A"]
["Channel",1,4,"N/A"]
["Unit","lbs","psi","inch"]
["Cal. Factor",null,20000]
["Excitation",null,9.9759063720703107,"N/A"]
["Zero",null,0,"N/A"]
["Min. Reading",-10000,-14,0]
["Max. Reading",50000,190,3.5]
[]
["[SHEAR]"]
["Time          ","External Load Cell","Cell Pressure","Platen Position"]

{"sheet":"Set 3(b)","index":28,"n_rows":23,"n_cols":4,"rows_kept":23,"cut":false,"hidden":false,"merged":[[0,4,0,9]]}
["Created by Sigma-1 UU Version 3.7.5; Copyright 2003, GEOTAC"]
["Project:","Amarillo "]
["Date:",38279,"Time:",0.404212962962963]
["Boring:","4% Cement Base","Sample:","04-E-131"]
["Specimen:","Specimen 3","Depth (ft):",0]
["Diameter (inch):",null,"Height (inch):"]
["Piston Correction (lbs):"]
["Comments:"]
[]
["[SENSORS]"]
["Name","External Load Cell","Cell Pressure","Load Frame Encoder"]
["ID",118521,"ID2","N/A"]
["Module","Load Frame ADIO","Load Frame ADIO","N/A"]
["Channel",1,4,"N/A"]
["Unit","lbs","psi","inch"]
["Cal. Factor",null,20000]
["Excitation",null,9.9759063720703107,"N/A"]
["Zero",null,0,"N/A"]
["Min. Reading",-10000,-14,0]
["Max. Reading",50000,190,3.5]
[]
["[SHEAR]"]
["Time          ","External Load Cell","Cell Pressure","Platen Position"]

{"sheet":"Set 3(c)","index":29,"n_rows":23,"n_cols":4,"rows_kept":23,"cut":false,"hidden":false,"merged":[[0,4,0,9]]}
["Created by Sigma-1 UU Version 3.7.5; Copyright 2003, GEOTAC"]
["Project:","Amarillo "]
["Date:",38279,"Time:",0.41354166666666697]
["Boring:","4% Cement Base","Sample:","04-E-131"]
["Specimen:","Specimen 4","Depth (ft):",0]
["Diameter (inch):",null,"Height (inch):"]
["Piston Correction (lbs):"]
["Comments:"]
[]
["[SENSORS]"]
["Name","External Load Cell","Cell Pressure","Load Frame Encoder"]
["ID",118521,"ID2","N/A"]
["Module","Load Frame ADIO","Load Frame ADIO","N/A"]
["Channel",1,4,"N/A"]
["Unit","lbs","psi","inch"]
["Cal. Factor",null,20000]
["Excitation",null,9.9759063720703107,"N/A"]
["Zero",null,0,"N/A"]
["Min. Reading",-10000,-14,0]
["Max. Reading",50000,190,3.5]
[]
["[SHEAR]"]
["Time          ","External Load Cell","Cell Pressure","Platen Position"]

{"sheet":"Set 4(a)","index":30,"n_rows":23,"n_cols":4,"rows_kept":23,"cut":false,"hidden":false,"merged":[[0,4,0,9]]}
["Created by Sigma-1 UU Version 3.7.5; Copyright 2003, GEOTAC"]
["Project:","Amarillo "]
["Date:",38279,"Time:",0.351793981481481]
["Boring:","5 % Cement Base","Sample:","04-E-131"]
["Specimen:","Specimen 2","Depth (ft):",0]
["Diameter (inch):",null,"Height (inch):"]
["Piston Correction (lbs):"]
["Comments:"]
[]
["[SENSORS]"]
["Name","External Load Cell","Cell Pressure","Load Frame Encoder"]
["ID",118521,"ID2","N/A"]
["Module","Load Frame ADIO","Load Frame ADIO","N/A"]
["Channel",1,4,"N/A"]
["Unit","lbs","psi","inch"]
["Cal. Factor",null,20000]
["Excitation",null,9.9759063720703107,"N/A"]
["Zero",null,0,"N/A"]
["Min. Reading",-10000,-14,0]
["Max. Reading",50000,190,3.5]
[]
["[SHEAR]"]
["Time          ","External Load Cell","Cell Pressure","Platen Position"]

{"sheet":"Set 4(b)","index":31,"n_rows":23,"n_cols":4,"rows_kept":23,"cut":false,"hidden":false,"merged":[[0,4,0,9]]}
["Created by Sigma-1 UU Version 3.7.5; Copyright 2003, GEOTAC"]
["Project:","Amarillo "]
["Date:",38279,"Time:",0.34571759259259299]
["Boring:","5 % Cement Base","Sample:","04-E-131"]
["Specimen:","Specimen 3","Depth (ft):",0]
["Diameter (inch):",null,"Height (inch):"]
["Piston Correction (lbs):"]
["Comments:"]
[]
["[SENSORS]"]
["Name","External Load Cell","Cell Pressure","Load Frame Encoder"]
["ID",118521,"ID2","N/A"]
["Module","Load Frame ADIO","Load Frame ADIO","N/A"]
["Channel",1,4,"N/A"]
["Unit","lbs","psi","inch"]
["Cal. Factor",null,20000]
["Excitation",null,9.9759063720703107,"N/A"]
["Zero",null,0,"N/A"]
["Min. Reading",-10000,-14,0]
["Max. Reading",50000,190,3.5]
[]
["[SHEAR]"]
["Time          ","External Load Cell","Cell Pressure","Platen Position"]

{"sheet":"Set 4(c)","index":32,"n_rows":23,"n_cols":4,"rows_kept":23,"cut":false,"hidden":false,"merged":[[0,4,0,9]]}
["Created by Sigma-1 UU Version 3.7.5; Copyright 2003, GEOTAC"]
["Project:","Amarillo "]
["Date:",38279,"Time:",0.35709490740740701]
["Boring:","5 % Cement Base","Sample:","04-E-131"]
["Specimen:","Specimen 4","Depth (ft):",0]
["Diameter (inch):",null,"Height (inch):"]
["Piston Correction (lbs):"]
["Comments:"]
[]
["[SENSORS]"]
["Name","External Load Cell","Cell Pressure","Load Frame Encoder"]
["ID",118521,"ID2","N/A"]
["Module","Load Frame ADIO","Load Frame ADIO","N/A"]
["Channel",1,4,"N/A"]
["Unit","lbs","psi","inch"]
["Cal. Factor",null,20000]
["Excitation",null,9.9759063720703107,"N/A"]
["Zero",null,0,"N/A"]
["Min. Reading",-10000,-14,0]
["Max. Reading",50000,190,3.5]
[]
["[SHEAR]"]
["Time          ","External Load Cell","Cell Pressure","Platen Position"]