{"text_format":"1","workbook":"xlsx","n_sheets":2,"sheets":["Tex-121-E Part III","RX"],"not_rendered":{"charts":2,"images":1,"macros":1,"external_links":0,"defined_names":81,"comments":1,"pivot_tables":0},"unopened":[],"bounds":{"document_bytes":16777216,"sheet_cells":100000,"rows_first":2000,"rows_last":500,"rows_between":2000,"halvings":0,"cell_chars":16384,"cell_head_chars":4096},"cells_cut":0,"cells_raw":0,"read":"whole","date_system":"1900"}

{"sheet":"Tex-121-E Part III","index":0,"n_rows":74,"n_cols":11,"rows_kept":74,"cut":false,"hidden":false,"merged":[[11,7,11,8],[13,3,13,4],[11,3,11,4],[12,3,12,4],[74,1,74,3],[70,6,70,8],[57,1,58,8],[68,2,68,4],[20,3,20,6],[15,3,15,8],[13,7,13,8],[16,7,16,8],[14,3,14,8],[62,2,62,4],[63,2,63,4],[65,2,65,4],[0,0,0,1],[12,7,12,8],[70,1,70,3],[67,2,67,4],[60,1,60,8],[59,1,59,8],[9,7,9,8],[9,3,9,4],[31,4,31,5],[16,3,16,4],[7,7,7,8],[10,7,10,8],[7,3,7,4],[8,3,8,4],[8,7,8,8],[10,3,10,4]]}
["TxDOT Manuals >",null,null,"Tex-121-E"]
[null,"TEXAS DEPARTMENT OF TRANSPORTATION",null,null,null,null,null,null,null,null,28]
[null,null,null,null,null,null,null,null,null,null,1]
[null,null,null,null,null,null,null,null,null,null,"tx121p3.xlsm::45454.654074"]
[null,"Determining Stabilization Ability of Lime by Soil pH"]
[null,"Tex-121-E Part III "]
[null,null,null,null,null,null,null,null,{"$f":"\"File Version: \" & TEXT(MID(sn,SEARCH(\"::\",sn,1)+2,20),\"mm/dd/yy hh:mm:ss\")","v":"File Version: 06/11/24 15:41:52"}]
[null,null,"SAMPLE ID:",null,null,null,"SAMPLED DATE:"]
[null,null,"TEST NUMBER:",null,null,null,"LETTING DATE:"]
[null,null,"SAMPLE STATUS:",null,null,null,"CONTROLLING CSJ:"]
[null,null,"COUNTY:",null,null,null,"SPEC YEAR:"]
[null,null,"SAMPLED BY:",null,null,null,"SPEC ITEM:"]
[null,null,"SAMPLE LOCATION:",null,null,null,"SPECIAL PROVISION:"]
[null,null,"MATERIAL CODE:",null,null,null,"GRADE:"]
[null,null,"MATERIAL NAME:"]
[null,null,"PRODUCER:"]
[null,null,"AREA ENGINEER:",null,null,null,"PROJECT MANAGER:"]
[]
[null,null,"COURSE\\LIFT:",null,"STATION:",null,null,"DIST. FROM CL:"]
[]
[null,null,null,"Soil = 30 grams"]
[null,null,null,"Series","% Lime by Weight","Lime Weight (g)","pH"]
[null,null,null,1,0,0]
[null,null,null,2,2,0.6]
[null,null,null,3,4,1.2]
[null,null,null,4,6,1.8]
[null,null,null,5,8,2.4]
[null,null,null,6,10,3]
[null,null,null,7,null,null,null,null,null,"% Lime","pH"]
[null,null,null,8,null,null,null,null,null,0,12.4]
[]
[null,null,null,null,"Recommended Lime, %: ",null,null,null,null,14,12.4]
[]
[]
[]
[]
[]
[]
[]
[]
[]
[]
[]
[]
[]
[]
[]
[]
[]
[]
[]
[]
[]
[]
[]
[]
[null,"Remarks:",{"$f":"NOW()","v":"2024-06-11T15:41:52.810"}]
[]
[]
[]
[]
[]
[null,"Sample Method:","Sampled By:",null,null,"Sampled Date:"]
[null,"TX100"]
[]
[null,"TX400"]
[]
[null,"Test Method:","Tested By:",null,null,"Tested Date:"]
[null,"TX121P3"]
[null,"Test Stamp Code:",null,null,"Omit Test:","Completed Date:","Reviewed By:"]
[]
[null,"Locked By:","TxDOT:","District:","Area:"]
[]
[null,"Authorized By:",null,null,"Authorized Date:"]

{"sheet":"RX","index":1,"n_rows":19,"n_cols":9,"rows_kept":19,"cut":false,"hidden":true,"merged":[]}
[17]
["Fld_nbr","Value","Desc_1","Desc_2","Desc_3","Desc_4","Desc_5","Desc_6","Desc_7"]
[1,{"$f":"IF('Tex-121-E Part III'!$B$58=\"\",\"\",'Tex-121-E Part III'!$B$58)","v":""},{"$f":"'Tex-121-E Part III'!$B$57","v":"Remarks:"}]
[2,{"$f":"IF('Tex-121-E Part III'!$D$19=\"\",\"\",'Tex-121-E Part III'!$D$19)","v":""},{"$f":"IF('Tex-121-E Part III'!$C$19=\"\",\"\",'Tex-121-E Part III'!$C$19)","v":"COURSE\\LIFT:"}]
[3,{"$f":"IF('Tex-121-E Part III'!$C$69=\"\",\"\",'Tex-121-E Part III'!$C$69)","v":""},"Tested By ",{"$f":"IF('Tex-121-E Part III'!$B$69=\"\",\"\",'Tex-121-E Part III'!$B$69)","v":"TX121P3"}]
[4,{"$f":"IF('Tex-121-E Part III'!$F$69=\"\",\"\",'Tex-121-E Part III'!$F$69)","v":""},"Tested Date ",{"$f":"IF('Tex-121-E Part III'!$B$69=\"\",\"\",'Tex-121-E Part III'!$B$69)","v":"TX121P3"}]
[5,{"$f":"IF('Tex-121-E Part III'!$G$23=\"\",\"\",'Tex-121-E Part III'!$G$23)","v":""},{"$f":"IF('Tex-121-E Part III'!$B$6=\"\",\"\",'Tex-121-E Part III'!$B$6)","v":"Tex-121-E Part III "},{"$f":"IF('Tex-121-E Part III'!$D$22=\"\",\"\",'Tex-121-E Part III'!$D$22)","v":"Series"},{"$f":"IF('Tex-121-E Part III'!$D$23=\"\",\"\",'Tex-121-E Part III'!$D$23)","v":1},{"$f":"IF('Tex-121-E Part III'!$E$22=\"\",\"\",'Tex-121-E Part III'!$E$22)","v":"% Lime by Weight"},{"$f":"IF('Tex-121-E Part III'!$E$23=\"\",\"\",'Tex-121-E Part III'!$E$23)","v":0},{"$f":"IF('Tex-121-E Part III'!$G$22=\"\",\"\",'Tex-121-E Part III'!$G$22)","v":"pH"}]
[6,{"$f":"IF('Tex-121-E Part III'!$G$24=\"\",\"\",'Tex-121-E Part III'!$G$24)","v":""},{"$f":"IF('Tex-121-E Part III'!$B$6=\"\",\"\",'Tex-121-E Part III'!$B$6)","v":"Tex-121-E Part III "},{"$f":"IF('Tex-121-E Part III'!$D$22=\"\",\"\",'Tex-121-E Part III'!$D$22)","v":"Series"},{"$f":"IF('Tex-121-E Part III'!$D$23=\"\",\"\",'Tex-121-E Part III'!$D$24)","v":2},{"$f":"IF('Tex-121-E Part III'!$E$22=\"\",\"\",'Tex-121-E Part III'!$E$22)","v":"% Lime by Weight"},{"$f":"IF('Tex-121-E Part III'!$E$24=\"\",\"\",'Tex-121-E Part III'!$E$24)","v":2},{"$f":"IF('Tex-121-E Part III'!$G$22=\"\",\"\",'Tex-121-E Part III'!$G$22)","v":"pH"}]
[7,{"$f":"IF('Tex-121-E Part III'!$G$25=\"\",\"\",'Tex-121-E Part III'!$G$25)","v":""},{"$f":"IF('Tex-121-E Part III'!$B$6=\"\",\"\",'Tex-121-E Part III'!$B$6)","v":"Tex-121-E Part III "},{"$f":"IF('Tex-121-E Part III'!$D$22=\"\",\"\",'Tex-121-E Part III'!$D$22)","v":"Series"},{"$f":"IF('Tex-121-E Part III'!$D$25=\"\",\"\",'Tex-121-E Part III'!$D$25)","v":3},{"$f":"IF('Tex-121-E Part III'!$E$22=\"\",\"\",'Tex-121-E Part III'!$E$22)","v":"% Lime by Weight"},{"$f":"IF('Tex-121-E Part III'!$E$25=\"\",\"\",'Tex-121-E Part III'!$E$25)","v":4},{"$f":"IF('Tex-121-E Part III'!$G$22=\"\",\"\",'Tex-121-E Part III'!$G$22)","v":"pH"}]
[8,{"$f":"IF('Tex-121-E Part III'!$G$26=\"\",\"\",'Tex-121-E Part III'!$G$26)","v":""},{"$f":"IF('Tex-121-E Part III'!$B$6=\"\",\"\",'Tex-121-E Part III'!$B$6)","v":"Tex-121-E Part III "},{"$f":"IF('Tex-121-E Part III'!$D$22=\"\",\"\",'Tex-121-E Part III'!$D$22)","v":"Series"},{"$f":"IF('Tex-121-E Part III'!$D$26=\"\",\"\",'Tex-121-E Part III'!$D$26)","v":4},{"$f":"IF('Tex-121-E Part III'!$E$22=\"\",\"\",'Tex-121-E Part III'!$E$22)","v":"% Lime by Weight"},{"$f":"IF('Tex-121-E Part III'!$E$26=\"\",\"\",'Tex-121-E Part III'!$E$26)","v":6},{"$f":"IF('Tex-121-E Part III'!$G$22=\"\",\"\",'Tex-121-E Part III'!$G$22)","v":"pH"}]
[9,{"$f":"IF('Tex-121-E Part III'!$G$27=\"\",\"\",'Tex-121-E Part III'!$G$27)","v":""},{"$f":"IF('Tex-121-E Part III'!$B$6=\"\",\"\",'Tex-121-E Part III'!$B$6)","v":"Tex-121-E Part III "},{"$f":"IF('Tex-121-E Part III'!$D$22=\"\",\"\",'Tex-121-E Part III'!$D$22)","v":"Series"},{"$f":"IF('Tex-121-E Part III'!$D$27=\"\",\"\",'Tex-121-E Part III'!$D$27)","v":5},{"$f":"IF('Tex-121-E Part III'!$E$22=\"\",\"\",'Tex-121-E Part III'!$E$22)","v":"% Lime by Weight"},{"$f":"IF('Tex-121-E Part III'!$E$27=\"\",\"\",'Tex-121-E Part III'!$E$27)","v":8},{"$f":"IF('Tex-121-E Part III'!$G$22=\"\",\"\",'Tex-121-E Part III'!$G$22)","v":"pH"}]
[10,{"$f":"IF('Tex-121-E Part III'!$G$28=\"\",\"\",'Tex-121-E Part III'!$G$28)","v":""},{"$f":"IF('Tex-121-E Part III'!$B$6=\"\",\"\",'Tex-121-E Part III'!$B$6)","v":"Tex-121-E Part III "},{"$f":"IF('Tex-121-E Part III'!$D$22=\"\",\"\",'Tex-121-E Part III'!$D$22)","v":"Series"},{"$f":"IF('Tex-121-E Part III'!$D$28=\"\",\"\",'Tex-121-E Part III'!$D$28)","v":6},{"$f":"IF('Tex-121-E Part III'!$E$22=\"\",\"\",'Tex-121-E Part III'!$E$22)","v":"% Lime by Weight"},{"$f":"IF('Tex-121-E Part III'!$E$28=\"\",\"\",'Tex-121-E Part III'!$E$28)","v":10},{"$f":"IF('Tex-121-E Part III'!$G$22=\"\",\"\",'Tex-121-E Part III'!$G$22)","v":"pH"}]
[11,{"$f":"IF('Tex-121-E Part III'!$G$29=\"\",\"\",'Tex-121-E Part III'!$G$29)","v":""},{"$f":"IF('Tex-121-E Part III'!$B$6=\"\",\"\",'Tex-121-E Part III'!$B$6)","v":"Tex-121-E Part III "},{"$f":"IF('Tex-121-E Part III'!$D$22=\"\",\"\",'Tex-121-E Part III'!$D$22)","v":"Series"},{"$f":"IF('Tex-121-E Part III'!$D$29=\"\",\"\",'Tex-121-E Part III'!$D$29)","v":7},{"$f":"IF('Tex-121-E Part III'!$E$22=\"\",\"\",'Tex-121-E Part III'!$E$22)","v":"% Lime by Weight"},{"$f":"IF('Tex-121-E Part III'!$E$29=\"\",\"\",'Tex-121-E Part III'!$E$29)","v":""},{"$f":"IF('Tex-121-E Part III'!$G$22=\"\",\"\",'Tex-121-E Part III'!$G$22)","v":"pH"}]
[12,{"$f":"IF('Tex-121-E Part III'!$G$30=\"\",\"\",'Tex-121-E Part III'!$G$30)","v":""},{"$f":"IF('Tex-121-E Part III'!$B$6=\"\",\"\",'Tex-121-E Part III'!$B$6)","v":"Tex-121-E Part III "},{"$f":"IF('Tex-121-E Part III'!$D$22=\"\",\"\",'Tex-121-E Part III'!$D$22)","v":"Series"},{"$f":"IF('Tex-121-E Part III'!$D$30=\"\",\"\",'Tex-121-E Part III'!$D$30)","v":8},{"$f":"IF('Tex-121-E Part III'!$E$22=\"\",\"\",'Tex-121-E Part III'!$E$22)","v":"% Lime by Weight"},{"$f":"IF('Tex-121-E Part III'!$E$30=\"\",\"\",'Tex-121-E Part III'!$E$30)","v":""},{"$f":"IF('Tex-121-E Part III'!$G$22=\"\",\"\",'Tex-121-E Part III'!$G$22)","v":"pH"}]
[13,{"$f":"IF('Tex-121-E Part III'!$G$32=\"\",\"\",'Tex-121-E Part III'!$G$32)","v":""},{"$f":"IF('Tex-121-E Part III'!$B$6=\"\",\"\",'Tex-121-E Part III'!$B$6)","v":"Tex-121-E Part III "},{"$f":"IF('Tex-121-E Part III'!$E$32=\"\",\"\",'Tex-121-E Part III'!$E$32)","v":"Recommended Lime, %: "}]
[14,{"$f":"IF('Tex-121-E Part III'!$C$64=\"\",\"\",'Tex-121-E Part III'!$C$64)","v":""},"Sampled By ",{"$f":"IF('Tex-121-E Part III'!$B$64=\"\",\"\",'Tex-121-E Part III'!$B$64)","v":"TX100"}]
[15,{"$f":"IF('Tex-121-E Part III'!$F$64=\"\",\"\",'Tex-121-E Part III'!$F$64)","v":""},"Sampled Date ",{"$f":"IF('Tex-121-E Part III'!$B$64=\"\",\"\",'Tex-121-E Part III'!$B$64)","v":"TX100"}]
[16,{"$f":"IF('Tex-121-E Part III'!$C$66=\"\",\"\",'Tex-121-E Part III'!$C$66)","v":""},"Sampled By ",{"$f":"IF('Tex-121-E Part III'!$B$66=\"\",\"\",'Tex-121-E Part III'!$B$66)","v":"TX400"}]
[17,{"$f":"IF('Tex-121-E Part III'!$F$66=\"\",\"\",'Tex-121-E Part III'!$F$66)","v":""},"Sampled Date ",{"$f":"IF('Tex-121-E Part III'!$B$66=\"\",\"\",'Tex-121-E Part III'!$B$66)","v":"TX400"}]