{"text_format":"1","workbook":"xlsx","n_sheets":2,"sheets":["Tx123","RX"],"not_rendered":{"charts":0,"images":1,"macros":1,"external_links":0,"defined_names":169,"comments":1,"pivot_tables":0},"unopened":[],"bounds":{"document_bytes":16777216,"sheet_cells":100000,"rows_first":2000,"rows_last":500,"rows_between":2000,"halvings":0,"cell_chars":16384,"cell_head_chars":4096},"cells_cut":0,"cells_raw":0,"read":"whole","date_system":"1900"}

{"sheet":"Tx123","index":0,"n_rows":53,"n_cols":12,"rows_kept":53,"cut":false,"hidden":false,"merged":[[0,0,0,2],[53,1,53,4],[15,4,15,9],[13,8,13,9],[7,8,7,9],[10,8,10,9],[7,4,7,5],[8,4,8,5],[8,8,8,9],[9,8,9,9],[10,4,10,5],[9,4,9,5],[51,1,51,2],[49,7,49,9],[38,1,39,9],[47,3,47,5],[49,1,49,4],[40,1,40,9],[41,1,41,9],[46,3,46,5],[47,1,47,2],[42,3,42,5],[43,1,43,2],[43,3,43,5],[45,1,45,2],[45,3,45,5],[42,1,42,2],[16,8,16,9],[16,4,16,5],[11,8,11,9],[14,4,14,9],[12,8,12,9],[13,4,13,5],[11,4,11,5],[12,4,12,5]]}
["TxDOT Manuals >",null,null,null,"Tex-123"]
[null,"TEXAS DEPARTMENT OF TRANSPORTATION",null,null,null,null,null,null,null,null,null,118]
[null,null,null,null,null,null,null,null,null,null,null,3]
[null,null,null,null,null,null,null,null,null,null,null,"tx123.xlsm::45454.656782"]
[null,"Determining the Drainage Factor of Soil Materials"]
[null,"Tex-123-E"]
[null,null,null,null,null,null,null,null,null,{"$f":"\"File Version: \" & TEXT(MID(sn,SEARCH(\"::\",sn,1)+2,20),\"mm/dd/yy hh:mm:ss\")","v":"File Version: 06/11/24 15:45:46"}]
[null,null,null,"SAMPLE ID:",null,null,null,"SAMPLED DATE:"]
[null,null,null,"TEST NUMBER:",null,null,null,"LETTING DATE:"]
[null,null,null,"SAMPLE STATUS:",null,null,null,"CONTROLLING CSJ:"]
[null,null,null,"COUNTY:",null,null,null,"SPEC YEAR:"]
[null,null,null,"SAMPLED BY:",null,null,null,"SPEC ITEM:"]
[null,null,null,"SAMPLE LOCATION:",null,null,null,"SPECIAL PROVISION:"]
[null,null,null,"MATERIAL CODE:",null,null,null,"GRADE:"]
[null,null,null,"MATERIAL NAME:"]
[null,null,null,"PRODUCER:"]
[null,null,null,"AREA ENGINEER:",null,null,null,"PROJECT MANAGER:"]
[]
[null,null,null,"COURSE\\LIFT:",null,"STATION:",null,null,"DIST. FROM CL:"]
[]
[null,"SET","Specimen No.","Dry Density (pcf)","Optimum Moisture Content (%)","Applied Lateral & Vertical Pressure (psi)","Start Time (min.)","Stop Time (min.)","Total Time (min.)","Weight of Drained Water (lbs.)","Drainage Factor - DF (cc/hr)"]
[null,1,null,null,null,null,null,null,{"$f":"IF(H22>0,H22-G22,\"\")","v":""},null,{"$f":"IF(J22>0,((J22/62.4)*28316.8)/(I22/60),\"\")","v":""}]
[null,2,null,null,null,null,null,null,{"$f":"IF(H23>0,H23-G23,\"\")","v":""},null,{"$f":"IF(J23>0,((J23/62.4)*28316.8)/(I23/60),\"\")","v":""}]
[null,3,null,null,null,null,null,null,"",null,""]
[null,4,null,null,null,null,null,null,"",null,""]
[null,5,null,null,null,null,null,null,"",null,""]
[null,6,null,null,null,null,null,null,"",null,""]
[null,7,null,null,null,null,null,null,"",null,""]
[null,8,null,null,null,null,null,null,"",null,""]
[null,9,null,null,null,null,null,null,"",null,""]
[null,10,null,null,null,null,null,null,"",null,""]
[null,11,null,null,null,null,null,null,"",null,""]
[null,12,null,null,null,null,null,null,"",null,""]
[null,13,null,null,null,null,null,null,"",null,""]
[null,14,null,null,null,null,null,null,"",null,""]
[null,15,null,null,null,null,null,null,"",null,""]
[]
[null,"Remarks:",null,{"$f":"NOW()","v":"2024-06-11T15:45:46.810"}]
[]
[]
[]
[]
[null,"Sample Method:",null,"Sampled By:",null,null,"Sampled Date:"]
[null,"TX100"]
[]
[null,"TX400"]
[null,"Test Method:",null,"Tested By:",null,null,"Tested Date:"]
[null,"TX123"]
[null,"Test Stamp Code:",null,null,null,"Omit Test:","Completed Date:","Reviewed By:"]
[]
[null,"Locked By:",null,"TxDOT:","District:","Area:"]
[]
[null,"Authorized By:",null,null,null,"Authorized Date:"]

{"sheet":"RX","index":1,"n_rows":145,"n_cols":9,"rows_kept":145,"cut":false,"hidden":true,"merged":[]}
[143]
["Fld_nbr","Value","Desc_1","Desc_2","Desc_3","Desc_4","Desc_5","Desc_6","Desc_7"]
[1,{"$f":"IF('Tx123'!$B$39=\"\",\"\",'Tx123'!$B$39)","v":""},{"$f":"'Tx123'!$B$38","v":"Remarks:"}]
[2,{"$f":"IF('Tx123'!$E$19=\"\",\"\",'Tx123'!$E$19)","v":""},{"$f":"IF('Tx123'!$D$19=\"\",\"\",'Tx123'!$D$19)","v":"COURSE\\LIFT:"}]
[3,{"$f":"IF('Tx123'!$D$48=\"\",\"\",'Tx123'!$D$48)","v":""},"Tested By ",{"$f":"IF('Tx123'!$B$48=\"\",\"\",'Tx123'!$B$48)","v":"TX123"}]
[4,{"$f":"IF('Tx123'!$G$48=\"\",\"\",'Tx123'!$G$48)","v":""},"Tested Date ",{"$f":"IF('Tx123'!$B$48=\"\",\"\",'Tx123'!$B$48)","v":"TX123"}]
[5,{"$f":"IF('Tx123'!$C$22=\"\",\"\",'Tx123'!$C$22)","v":""},{"$f":"IF('Tx123'!$B$6=\"\",\"\",'Tx123'!$B$6)","v":"Tex-123-E"},{"$f":"IF('Tx123'!$C$21=\"\",\"\",'Tx123'!$C$21)","v":"Specimen No."},{"$f":"IF('Tx123'!$B$21=\"\",\"\",'Tx123'!$B$21)","v":"SET"},{"$f":"IF('Tx123'!$B$22=\"\",\"\",'Tx123'!$B$22)","v":1}]
[6,{"$f":"IF('Tx123'!$D$22=\"\",\"\",'Tx123'!$D$22)","v":""},{"$f":"IF('Tx123'!$B$6=\"\",\"\",'Tx123'!$B$6)","v":"Tex-123-E"},{"$f":"IF('Tx123'!$D$21=\"\",\"\",'Tx123'!$D$21)","v":"Dry Density (pcf)"},{"$f":"IF('Tx123'!$B$21=\"\",\"\",'Tx123'!$B$21)","v":"SET"},{"$f":"IF('Tx123'!$B$22=\"\",\"\",'Tx123'!$B$22)","v":1}]
[7,{"$f":"IF('Tx123'!$E$22=\"\",\"\",'Tx123'!$E$22)","v":""},{"$f":"IF('Tx123'!$B$6=\"\",\"\",'Tx123'!$B$6)","v":"Tex-123-E"},{"$f":"IF('Tx123'!$E$21=\"\",\"\",'Tx123'!$E$21)","v":"Optimum Moisture Content (%)"},{"$f":"IF('Tx123'!$B$21=\"\",\"\",'Tx123'!$B$21)","v":"SET"},{"$f":"IF('Tx123'!$B$22=\"\",\"\",'Tx123'!$B$22)","v":1}]
[8,{"$f":"IF('Tx123'!$F$22=\"\",\"\",'Tx123'!$F$22)","v":""},{"$f":"IF('Tx123'!$B$6=\"\",\"\",'Tx123'!$B$6)","v":"Tex-123-E"},{"$f":"IF('Tx123'!$F$21=\"\",\"\",'Tx123'!$F$21)","v":"Applied Lateral & Vertical Pressure (psi)"},{"$f":"IF('Tx123'!$B$21=\"\",\"\",'Tx123'!$B$21)","v":"SET"},{"$f":"IF('Tx123'!$B$22=\"\",\"\",'Tx123'!$B$22)","v":1}]
[9,{"$f":"IF('Tx123'!$G$22=\"\",\"\",'Tx123'!$G$22)","v":""},{"$f":"IF('Tx123'!$B$6=\"\",\"\",'Tx123'!$B$6)","v":"Tex-123-E"},{"$f":"IF('Tx123'!$G$21=\"\",\"\",'Tx123'!$G$21)","v":"Start Time (min.)"},{"$f":"IF('Tx123'!$B$21=\"\",\"\",'Tx123'!$B$21)","v":"SET"},{"$f":"IF('Tx123'!$B$22=\"\",\"\",'Tx123'!$B$22)","v":1}]
[10,{"$f":"IF('Tx123'!$H$22=\"\",\"\",'Tx123'!$H$22)","v":""},{"$f":"IF('Tx123'!$B$6=\"\",\"\",'Tx123'!$B$6)","v":"Tex-123-E"},{"$f":"IF('Tx123'!$H$21=\"\",\"\",'Tx123'!$H$21)","v":"Stop Time (min.)"},{"$f":"IF('Tx123'!$B$21=\"\",\"\",'Tx123'!$B$21)","v":"SET"},{"$f":"IF('Tx123'!$B$22=\"\",\"\",'Tx123'!$B$22)","v":1}]
[11,{"$f":"IF('Tx123'!$I$22=\"\",\"\",'Tx123'!$I$22)","v":""},{"$f":"IF('Tx123'!$B$6=\"\",\"\",'Tx123'!$B$6)","v":"Tex-123-E"},{"$f":"IF('Tx123'!$I$21=\"\",\"\",'Tx123'!$I$21)","v":"Total Time (min.)"},{"$f":"IF('Tx123'!$B$21=\"\",\"\",'Tx123'!$B$21)","v":"SET"},{"$f":"IF('Tx123'!$B$22=\"\",\"\",'Tx123'!$B$22)","v":1}]
[12,{"$f":"IF('Tx123'!$J$22=\"\",\"\",'Tx123'!$J$22)","v":""},{"$f":"IF('Tx123'!$B$6=\"\",\"\",'Tx123'!$B$6)","v":"Tex-123-E"},{"$f":"IF('Tx123'!$J$21=\"\",\"\",'Tx123'!$J$21)","v":"Weight of Drained Water (lbs.)"},{"$f":"IF('Tx123'!$B$21=\"\",\"\",'Tx123'!$B$21)","v":"SET"},{"$f":"IF('Tx123'!$B$22=\"\",\"\",'Tx123'!$B$22)","v":1}]
[13,{"$f":"IF('Tx123'!$K$22=\"\",\"\",'Tx123'!$K$22)","v":""},{"$f":"IF('Tx123'!$B$6=\"\",\"\",'Tx123'!$B$6)","v":"Tex-123-E"},{"$f":"IF('Tx123'!$K$21=\"\",\"\",'Tx123'!$K$21)","v":"Drainage Factor - DF (cc/hr)"},{"$f":"IF('Tx123'!$B$21=\"\",\"\",'Tx123'!$B$21)","v":"SET"},{"$f":"IF('Tx123'!$B$22=\"\",\"\",'Tx123'!$B$22)","v":1}]
[14,{"$f":"IF('Tx123'!$C$23=\"\",\"\",'Tx123'!$C$23)","v":""},{"$f":"IF('Tx123'!$B$6=\"\",\"\",'Tx123'!$B$6)","v":"Tex-123-E"},{"$f":"IF('Tx123'!$C$21=\"\",\"\",'Tx123'!$C$21)","v":"Specimen No."},{"$f":"IF('Tx123'!$B$21=\"\",\"\",'Tx123'!$B$21)","v":"SET"},{"$f":"IF('Tx123'!$B$23=\"\",\"\",'Tx123'!$B$23)","v":2}]
[15,{"$f":"IF('Tx123'!$D$23=\"\",\"\",'Tx123'!$D$23)","v":""},{"$f":"IF('Tx123'!$B$6=\"\",\"\",'Tx123'!$B$6)","v":"Tex-123-E"},{"$f":"IF('Tx123'!$D$21=\"\",\"\",'Tx123'!$D$21)","v":"Dry Density (pcf)"},{"$f":"IF('Tx123'!$B$21=\"\",\"\",'Tx123'!$B$21)","v":"SET"},{"$f":"IF('Tx123'!$B$23=\"\",\"\",'Tx123'!$B$23)","v":2}]
[16,{"$f":"IF('Tx123'!$E$23=\"\",\"\",'Tx123'!$E$23)","v":""},{"$f":"IF('Tx123'!$B$6=\"\",\"\",'Tx123'!$B$6)","v":"Tex-123-E"},{"$f":"IF('Tx123'!$E$21=\"\",\"\",'Tx123'!$E$21)","v":"Optimum Moisture Content (%)"},{"$f":"IF('Tx123'!$B$21=\"\",\"\",'Tx123'!$B$21)","v":"SET"},{"$f":"IF('Tx123'!$B$23=\"\",\"\",'Tx123'!$B$23)","v":2}]
[17,{"$f":"IF('Tx123'!$F$23=\"\",\"\",'Tx123'!$F$23)","v":""},{"$f":"IF('Tx123'!$B$6=\"\",\"\",'Tx123'!$B$6)","v":"Tex-123-E"},{"$f":"IF('Tx123'!$F$21=\"\",\"\",'Tx123'!$F$21)","v":"Applied Lateral & Vertical Pressure (psi)"},{"$f":"IF('Tx123'!$B$21=\"\",\"\",'Tx123'!$B$21)","v":"SET"},{"$f":"IF('Tx123'!$B$23=\"\",\"\",'Tx123'!$B$23)","v":2}]
[18,{"$f":"IF('Tx123'!$G$23=\"\",\"\",'Tx123'!$G$23)","v":""},{"$f":"IF('Tx123'!$B$6=\"\",\"\",'Tx123'!$B$6)","v":"Tex-123-E"},{"$f":"IF('Tx123'!$G$21=\"\",\"\",'Tx123'!$G$21)","v":"Start Time (min.)"},{"$f":"IF('Tx123'!$B$21=\"\",\"\",'Tx123'!$B$21)","v":"SET"},{"$f":"IF('Tx123'!$B$23=\"\",\"\",'Tx123'!$B$23)","v":2}]
[19,{"$f":"IF('Tx123'!$H$23=\"\",\"\",'Tx123'!$H$23)","v":""},{"$f":"IF('Tx123'!$B$6=\"\",\"\",'Tx123'!$B$6)","v":"Tex-123-E"},{"$f":"IF('Tx123'!$H$21=\"\",\"\",'Tx123'!$H$21)","v":"Stop Time (min.)"},{"$f":"IF('Tx123'!$B$21=\"\",\"\",'Tx123'!$B$21)","v":"SET"},{"$f":"IF('Tx123'!$B$23=\"\",\"\",'Tx123'!$B$23)","v":2}]
[20,{"$f":"IF('Tx123'!$I$23=\"\",\"\",'Tx123'!$I$23)","v":""},{"$f":"IF('Tx123'!$B$6=\"\",\"\",'Tx123'!$B$6)","v":"Tex-123-E"},{"$f":"IF('Tx123'!$I$21=\"\",\"\",'Tx123'!$I$21)","v":"Total Time (min.)"},{"$f":"IF('Tx123'!$B$21=\"\",\"\",'Tx123'!$B$21)","v":"SET"},{"$f":"IF('Tx123'!$B$23=\"\",\"\",'Tx123'!$B$23)","v":2}]
[21,{"$f":"IF('Tx123'!$J$23=\"\",\"\",'Tx123'!$J$23)","v":""},{"$f":"IF('Tx123'!$B$6=\"\",\"\",'Tx123'!$B$6)","v":"Tex-123-E"},{"$f":"IF('Tx123'!$J$21=\"\",\"\",'Tx123'!$J$21)","v":"Weight of Drained Water (lbs.)"},{"$f":"IF('Tx123'!$B$21=\"\",\"\",'Tx123'!$B$21)","v":"SET"},{"$f":"IF('Tx123'!$B$23=\"\",\"\",'Tx123'!$B$23)","v":2}]
[22,{"$f":"IF('Tx123'!$K$23=\"\",\"\",'Tx123'!$K$23)","v":""},{"$f":"IF('Tx123'!$B$6=\"\",\"\",'Tx123'!$B$6)","v":"Tex-123-E"},{"$f":"IF('Tx123'!$K$21=\"\",\"\",'Tx123'!$K$21)","v":"Drainage Factor - DF (cc/hr)"},{"$f":"IF('Tx123'!$B$21=\"\",\"\",'Tx123'!$B$21)","v":"SET"},{"$f":"IF('Tx123'!$B$23=\"\",\"\",'Tx123'!$B$23)","v":2}]
[23,{"$f":"IF('Tx123'!$C$24=\"\",\"\",'Tx123'!$C$24)","v":""},{"$f":"IF('Tx123'!$B$6=\"\",\"\",'Tx123'!$B$6)","v":"Tex-123-E"},{"$f":"IF('Tx123'!$C$21=\"\",\"\",'Tx123'!$C$21)","v":"Specimen No."},{"$f":"IF('Tx123'!$B$21=\"\",\"\",'Tx123'!$B$21)","v":"SET"},{"$f":"IF('Tx123'!$B$24=\"\",\"\",'Tx123'!$B$24)","v":3}]
[24,{"$f":"IF('Tx123'!$D$24=\"\",\"\",'Tx123'!$D$24)","v":""},{"$f":"IF('Tx123'!$B$6=\"\",\"\",'Tx123'!$B$6)","v":"Tex-123-E"},{"$f":"IF('Tx123'!$D$21=\"\",\"\",'Tx123'!$D$21)","v":"Dry Density (pcf)"},{"$f":"IF('Tx123'!$B$21=\"\",\"\",'Tx123'!$B$21)","v":"SET"},{"$f":"IF('Tx123'!$B$24=\"\",\"\",'Tx123'!$B$24)","v":3}]
[25,{"$f":"IF('Tx123'!$E$24=\"\",\"\",'Tx123'!$E$24)","v":""},{"$f":"IF('Tx123'!$B$6=\"\",\"\",'Tx123'!$B$6)","v":"Tex-123-E"},{"$f":"IF('Tx123'!$E$21=\"\",\"\",'Tx123'!$E$21)","v":"Optimum Moisture Content (%)"},{"$f":"IF('Tx123'!$B$21=\"\",\"\",'Tx123'!$B$21)","v":"SET"},{"$f":"IF('Tx123'!$B$24=\"\",\"\",'Tx123'!$B$24)","v":3}]
[26,{"$f":"IF('Tx123'!$F$24=\"\",\"\",'Tx123'!$F$24)","v":""},{"$f":"IF('Tx123'!$B$6=\"\",\"\",'Tx123'!$B$6)","v":"Tex-123-E"},{"$f":"IF('Tx123'!$F$21=\"\",\"\",'Tx123'!$F$21)","v":"Applied Lateral & Vertical Pressure (psi)"},{"$f":"IF('Tx123'!$B$21=\"\",\"\",'Tx123'!$B$21)","v":"SET"},{"$f":"IF('Tx123'!$B$24=\"\",\"\",'Tx123'!$B$24)","v":3}]
[27,{"$f":"IF('Tx123'!$G$24=\"\",\"\",'Tx123'!$G$24)","v":""},{"$f":"IF('Tx123'!$B$6=\"\",\"\",'Tx123'!$B$6)","v":"Tex-123-E"},{"$f":"IF('Tx123'!$G$21=\"\",\"\",'Tx123'!$G$21)","v":"Start Time (min.)"},{"$f":"IF('Tx123'!$B$21=\"\",\"\",'Tx123'!$B$21)","v":"SET"},{"$f":"IF('Tx123'!$B$24=\"\",\"\",'Tx123'!$B$24)","v":3}]
[28,{"$f":"IF('Tx123'!$H$24=\"\",\"\",'Tx123'!$H$24)","v":""},{"$f":"IF('Tx123'!$B$6=\"\",\"\",'Tx123'!$B$6)","v":"Tex-123-E"},{"$f":"IF('Tx123'!$H$21=\"\",\"\",'Tx123'!$H$21)","v":"Stop Time (min.)"},{"$f":"IF('Tx123'!$B$21=\"\",\"\",'Tx123'!$B$21)","v":"SET"},{"$f":"IF('Tx123'!$B$24=\"\",\"\",'Tx123'!$B$24)","v":3}]
[29,{"$f":"IF('Tx123'!$I$24=\"\",\"\",'Tx123'!$I$24)","v":""},{"$f":"IF('Tx123'!$B$6=\"\",\"\",'Tx123'!$B$6)","v":"Tex-123-E"},{"$f":"IF('Tx123'!$I$21=\"\",\"\",'Tx123'!$I$21)","v":"Total Time (min.)"},{"$f":"IF('Tx123'!$B$21=\"\",\"\",'Tx123'!$B$21)","v":"SET"},{"$f":"IF('Tx123'!$B$24=\"\",\"\",'Tx123'!$B$24)","v":3}]
[30,{"$f":"IF('Tx123'!$J$24=\"\",\"\",'Tx123'!$J$24)","v":""},{"$f":"IF('Tx123'!$B$6=\"\",\"\",'Tx123'!$B$6)","v":"Tex-123-E"},{"$f":"IF('Tx123'!$J$21=\"\",\"\",'Tx123'!$J$21)","v":"Weight of Drained Water (lbs.)"},{"$f":"IF('Tx123'!$B$21=\"\",\"\",'Tx123'!$B$21)","v":"SET"},{"$f":"IF('Tx123'!$B$24=\"\",\"\",'Tx123'!$B$24)","v":3}]
[31,{"$f":"IF('Tx123'!$K$24=\"\",\"\",'Tx123'!$K$24)","v":""},{"$f":"IF('Tx123'!$B$6=\"\",\"\",'Tx123'!$B$6)","v":"Tex-123-E"},{"$f":"IF('Tx123'!$K$21=\"\",\"\",'Tx123'!$K$21)","v":"Drainage Factor - DF (cc/hr)"},{"$f":"IF('Tx123'!$B$21=\"\",\"\",'Tx123'!$B$21)","v":"SET"},{"$f":"IF('Tx123'!$B$24=\"\",\"\",'Tx123'!$B$24)","v":3}]
[32,{"$f":"IF('Tx123'!$C$25=\"\",\"\",'Tx123'!$C$25)","v":""},{"$f":"IF('Tx123'!$B$6=\"\",\"\",'Tx123'!$B$6)","v":"Tex-123-E"},{"$f":"IF('Tx123'!$C$21=\"\",\"\",'Tx123'!$C$21)","v":"Specimen No."},{"$f":"IF('Tx123'!$B$21=\"\",\"\",'Tx123'!$B$21)","v":"SET"},{"$f":"IF('Tx123'!$B$25=\"\",\"\",'Tx123'!$B$25)","v":4}]
[33,{"$f":"IF('Tx123'!$D$25=\"\",\"\",'Tx123'!$D$25)","v":""},{"$f":"IF('Tx123'!$B$6=\"\",\"\",'Tx123'!$B$6)","v":"Tex-123-E"},{"$f":"IF('Tx123'!$D$21=\"\",\"\",'Tx123'!$D$21)","v":"Dry Density (pcf)"},{"$f":"IF('Tx123'!$B$21=\"\",\"\",'Tx123'!$B$21)","v":"SET"},{"$f":"IF('Tx123'!$B$25=\"\",\"\",'Tx123'!$B$25)","v":4}]
[34,{"$f":"IF('Tx123'!$E$25=\"\",\"\",'Tx123'!$E$25)","v":""},{"$f":"IF('Tx123'!$B$6=\"\",\"\",'Tx123'!$B$6)","v":"Tex-123-E"},{"$f":"IF('Tx123'!$E$21=\"\",\"\",'Tx123'!$E$21)","v":"Optimum Moisture Content (%)"},{"$f":"IF('Tx123'!$B$21=\"\",\"\",'Tx123'!$B$21)","v":"SET"},{"$f":"IF('Tx123'!$B$25=\"\",\"\",'Tx123'!$B$25)","v":4}]
[35,{"$f":"IF('Tx123'!$F$25=\"\",\"\",'Tx123'!$F$25)","v":""},{"$f":"IF('Tx123'!$B$6=\"\",\"\",'Tx123'!$B$6)","v":"Tex-123-E"},{"$f":"IF('Tx123'!$F$21=\"\",\"\",'Tx123'!$F$21)","v":"Applied Lateral & Vertical Pressure (psi)"},{"$f":"IF('Tx123'!$B$21=\"\",\"\",'Tx123'!$B$21)","v":"SET"},{"$f":"IF('Tx123'!$B$25=\"\",\"\",'Tx123'!$B$25)","v":4}]
[36,{"$f":"IF('Tx123'!$G$25=\"\",\"\",'Tx123'!$G$25)","v":""},{"$f":"IF('Tx123'!$B$6=\"\",\"\",'Tx123'!$B$6)","v":"Tex-123-E"},{"$f":"IF('Tx123'!$G$21=\"\",\"\",'Tx123'!$G$21)","v":"Start Time (min.)"},{"$f":"IF('Tx123'!$B$21=\"\",\"\",'Tx123'!$B$21)","v":"SET"},{"$f":"IF('Tx123'!$B$25=\"\",\"\",'Tx123'!$B$25)","v":4}]
[37,{"$f":"IF('Tx123'!$H$25=\"\",\"\",'Tx123'!$H$25)","v":""},{"$f":"IF('Tx123'!$B$6=\"\",\"\",'Tx123'!$B$6)","v":"Tex-123-E"},{"$f":"IF('Tx123'!$H$21=\"\",\"\",'Tx123'!$H$21)","v":"Stop Time (min.)"},{"$f":"IF('Tx123'!$B$21=\"\",\"\",'Tx123'!$B$21)","v":"SET"},{"$f":"IF('Tx123'!$B$25=\"\",\"\",'Tx123'!$B$25)","v":4}]
[38,{"$f":"IF('Tx123'!$I$25=\"\",\"\",'Tx123'!$I$25)","v":""},{"$f":"IF('Tx123'!$B$6=\"\",\"\",'Tx123'!$B$6)","v":"Tex-123-E"},{"$f":"IF('Tx123'!$I$21=\"\",\"\",'Tx123'!$I$21)","v":"Total Time (min.)"},{"$f":"IF('Tx123'!$B$21=\"\",\"\",'Tx123'!$B$21)","v":"SET"},{"$f":"IF('Tx123'!$B$25=\"\",\"\",'Tx123'!$B$25)","v":4}]
[39,{"$f":"IF('Tx123'!$J$25=\"\",\"\",'Tx123'!$J$25)","v":""},{"$f":"IF('Tx123'!$B$6=\"\",\"\",'Tx123'!$B$6)","v":"Tex-123-E"},{"$f":"IF('Tx123'!$J$21=\"\",\"\",'Tx123'!$J$21)","v":"Weight of Drained Water (lbs.)"},{"$f":"IF('Tx123'!$B$21=\"\",\"\",'Tx123'!$B$21)","v":"SET"},{"$f":"IF('Tx123'!$B$25=\"\",\"\",'Tx123'!$B$25)","v":4}]
[40,{"$f":"IF('Tx123'!$K$25=\"\",\"\",'Tx123'!$K$25)","v":""},{"$f":"IF('Tx123'!$B$6=\"\",\"\",'Tx123'!$B$6)","v":"Tex-123-E"},{"$f":"IF('Tx123'!$K$21=\"\",\"\",'Tx123'!$K$21)","v":"Drainage Factor - DF (cc/hr)"},{"$f":"IF('Tx123'!$B$21=\"\",\"\",'Tx123'!$B$21)","v":"SET"},{"$f":"IF('Tx123'!$B$25=\"\",\"\",'Tx123'!$B$25)","v":4}]
[41,{"$f":"IF('Tx123'!$C$26=\"\",\"\",'Tx123'!$C$26)","v":""},{"$f":"IF('Tx123'!$B$6=\"\",\"\",'Tx123'!$B$6)","v":"Tex-123-E"},{"$f":"IF('Tx123'!$C$21=\"\",\"\",'Tx123'!$C$21)","v":"Specimen No."},{"$f":"IF('Tx123'!$B$21=\"\",\"\",'Tx123'!$B$21)","v":"SET"},{"$f":"IF('Tx123'!$B$26=\"\",\"\",'Tx123'!$B$26)","v":5}]
[42,{"$f":"IF('Tx123'!$D$26=\"\",\"\",'Tx123'!$D$26)","v":""},{"$f":"IF('Tx123'!$B$6=\"\",\"\",'Tx123'!$B$6)","v":"Tex-123-E"},{"$f":"IF('Tx123'!$D$21=\"\",\"\",'Tx123'!$D$21)","v":"Dry Density (pcf)"},{"$f":"IF('Tx123'!$B$21=\"\",\"\",'Tx123'!$B$21)","v":"SET"},{"$f":"IF('Tx123'!$B$26=\"\",\"\",'Tx123'!$B$26)","v":5}]
[43,{"$f":"IF('Tx123'!$E$26=\"\",\"\",'Tx123'!$E$26)","v":""},{"$f":"IF('Tx123'!$B$6=\"\",\"\",'Tx123'!$B$6)","v":"Tex-123-E"},{"$f":"IF('Tx123'!$E$21=\"\",\"\",'Tx123'!$E$21)","v":"Optimum Moisture Content (%)"},{"$f":"IF('Tx123'!$B$21=\"\",\"\",'Tx123'!$B$21)","v":"SET"},{"$f":"IF('Tx123'!$B$26=\"\",\"\",'Tx123'!$B$26)","v":5}]
[44,{"$f":"IF('Tx123'!$F$26=\"\",\"\",'Tx123'!$F$26)","v":""},{"$f":"IF('Tx123'!$B$6=\"\",\"\",'Tx123'!$B$6)","v":"Tex-123-E"},{"$f":"IF('Tx123'!$F$21=\"\",\"\",'Tx123'!$F$21)","v":"Applied Lateral & Vertical Pressure (psi)"},{"$f":"IF('Tx123'!$B$21=\"\",\"\",'Tx123'!$B$21)","v":"SET"},{"$f":"IF('Tx123'!$B$26=\"\",\"\",'Tx123'!$B$26)","v":5}]
[45,{"$f":"IF('Tx123'!$G$26=\"\",\"\",'Tx123'!$G$26)","v":""},{"$f":"IF('Tx123'!$B$6=\"\",\"\",'Tx123'!$B$6)","v":"Tex-123-E"},{"$f":"IF('Tx123'!$G$21=\"\",\"\",'Tx123'!$G$21)","v":"Start Time (min.)"},{"$f":"IF('Tx123'!$B$21=\"\",\"\",'Tx123'!$B$21)","v":"SET"},{"$f":"IF('Tx123'!$B$26=\"\",\"\",'Tx123'!$B$26)","v":5}]
[46,{"$f":"IF('Tx123'!$H$26=\"\",\"\",'Tx123'!$H$26)","v":""},{"$f":"IF('Tx123'!$B$6=\"\",\"\",'Tx123'!$B$6)","v":"Tex-123-E"},{"$f":"IF('Tx123'!$H$21=\"\",\"\",'Tx123'!$H$21)","v":"Stop Time (min.)"},{"$f":"IF('Tx123'!$B$21=\"\",\"\",'Tx123'!$B$21)","v":"SET"},{"$f":"IF('Tx123'!$B$26=\"\",\"\",'Tx123'!$B$26)","v":5}]
[47,{"$f":"IF('Tx123'!$I$26=\"\",\"\",'Tx123'!$I$26)","v":""},{"$f":"IF('Tx123'!$B$6=\"\",\"\",'Tx123'!$B$6)","v":"Tex-123-E"},{"$f":"IF('Tx123'!$I$21=\"\",\"\",'Tx123'!$I$21)","v":"Total Time (min.)"},{"$f":"IF('Tx123'!$B$21=\"\",\"\",'Tx123'!$B$21)","v":"SET"},{"$f":"IF('Tx123'!$B$26=\"\",\"\",'Tx123'!$B$26)","v":5}]
[48,{"$f":"IF('Tx123'!$J$26=\"\",\"\",'Tx123'!$J$26)","v":""},{"$f":"IF('Tx123'!$B$6=\"\",\"\",'Tx123'!$B$6)","v":"Tex-123-E"},{"$f":"IF('Tx123'!$J$21=\"\",\"\",'Tx123'!$J$21)","v":"Weight of Drained Water (lbs.)"},{"$f":"IF('Tx123'!$B$21=\"\",\"\",'Tx123'!$B$21)","v":"SET"},{"$f":"IF('Tx123'!$B$26=\"\",\"\",'Tx123'!$B$26)","v":5}]
[49,{"$f":"IF('Tx123'!$K$26=\"\",\"\",'Tx123'!$K$26)","v":""},{"$f":"IF('Tx123'!$B$6=\"\",\"\",'Tx123'!$B$6)","v":"Tex-123-E"},{"$f":"IF('Tx123'!$K$21=\"\",\"\",'Tx123'!$K$21)","v":"Drainage Factor - DF (cc/hr)"},{"$f":"IF('Tx123'!$B$21=\"\",\"\",'Tx123'!$B$21)","v":"SET"},{"$f":"IF('Tx123'!$B$26=\"\",\"\",'Tx123'!$B$26)","v":5}]
[50,{"$f":"IF('Tx123'!$C$27=\"\",\"\",'Tx123'!$C$27)","v":""},{"$f":"IF('Tx123'!$B$6=\"\",\"\",'Tx123'!$B$6)","v":"Tex-123-E"},{"$f":"IF('Tx123'!$C$21=\"\",\"\",'Tx123'!$C$21)","v":"Specimen No."},{"$f":"IF('Tx123'!$B$21=\"\",\"\",'Tx123'!$B$21)","v":"SET"},{"$f":"IF('Tx123'!$B$27=\"\",\"\",'Tx123'!$B$27)","v":6}]
[51,{"$f":"IF('Tx123'!$D$27=\"\",\"\",'Tx123'!$D$27)","v":""},{"$f":"IF('Tx123'!$B$6=\"\",\"\",'Tx123'!$B$6)","v":"Tex-123-E"},{"$f":"IF('Tx123'!$D$21=\"\",\"\",'Tx123'!$D$21)","v":"Dry Density (pcf)"},{"$f":"IF('Tx123'!$B$21=\"\",\"\",'Tx123'!$B$21)","v":"SET"},{"$f":"IF('Tx123'!$B$27=\"\",\"\",'Tx123'!$B$27)","v":6}]
[52,{"$f":"IF('Tx123'!$E$27=\"\",\"\",'Tx123'!$E$27)","v":""},{"$f":"IF('Tx123'!$B$6=\"\",\"\",'Tx123'!$B$6)","v":"Tex-123-E"},{"$f":"IF('Tx123'!$E$21=\"\",\"\",'Tx123'!$E$21)","v":"Optimum Moisture Content (%)"},{"$f":"IF('Tx123'!$B$21=\"\",\"\",'Tx123'!$B$21)","v":"SET"},{"$f":"IF('Tx123'!$B$27=\"\",\"\",'Tx123'!$B$27)","v":6}]
[53,{"$f":"IF('Tx123'!$F$27=\"\",\"\",'Tx123'!$F$27)","v":""},{"$f":"IF('Tx123'!$B$6=\"\",\"\",'Tx123'!$B$6)","v":"Tex-123-E"},{"$f":"IF('Tx123'!$F$21=\"\",\"\",'Tx123'!$F$21)","v":"Applied Lateral & Vertical Pressure (psi)"},{"$f":"IF('Tx123'!$B$21=\"\",\"\",'Tx123'!$B$21)","v":"SET"},{"$f":"IF('Tx123'!$B$27=\"\",\"\",'Tx123'!$B$27)","v":6}]
[54,{"$f":"IF('Tx123'!$G$27=\"\",\"\",'Tx123'!$G$27)","v":""},{"$f":"IF('Tx123'!$B$6=\"\",\"\",'Tx123'!$B$6)","v":"Tex-123-E"},{"$f":"IF('Tx123'!$G$21=\"\",\"\",'Tx123'!$G$21)","v":"Start Time (min.)"},{"$f":"IF('Tx123'!$B$21=\"\",\"\",'Tx123'!$B$21)","v":"SET"},{"$f":"IF('Tx123'!$B$27=\"\",\"\",'Tx123'!$B$27)","v":6}]
[55,{"$f":"IF('Tx123'!$H$27=\"\",\"\",'Tx123'!$H$27)","v":""},{"$f":"IF('Tx123'!$B$6=\"\",\"\",'Tx123'!$B$6)","v":"Tex-123-E"},{"$f":"IF('Tx123'!$H$21=\"\",\"\",'Tx123'!$H$21)","v":"Stop Time (min.)"},{"$f":"IF('Tx123'!$B$21=\"\",\"\",'Tx123'!$B$21)","v":"SET"},{"$f":"IF('Tx123'!$B$27=\"\",\"\",'Tx123'!$B$27)","v":6}]
[56,{"$f":"IF('Tx123'!$I$27=\"\",\"\",'Tx123'!$I$27)","v":""},{"$f":"IF('Tx123'!$B$6=\"\",\"\",'Tx123'!$B$6)","v":"Tex-123-E"},{"$f":"IF('Tx123'!$I$21=\"\",\"\",'Tx123'!$I$21)","v":"Total Time (min.)"},{"$f":"IF('Tx123'!$B$21=\"\",\"\",'Tx123'!$B$21)","v":"SET"},{"$f":"IF('Tx123'!$B$27=\"\",\"\",'Tx123'!$B$27)","v":6}]
[57,{"$f":"IF('Tx123'!$J$27=\"\",\"\",'Tx123'!$J$27)","v":""},{"$f":"IF('Tx123'!$B$6=\"\",\"\",'Tx123'!$B$6)","v":"Tex-123-E"},{"$f":"IF('Tx123'!$J$21=\"\",\"\",'Tx123'!$J$21)","v":"Weight of Drained Water (lbs.)"},{"$f":"IF('Tx123'!$B$21=\"\",\"\",'Tx123'!$B$21)","v":"SET"},{"$f":"IF('Tx123'!$B$27=\"\",\"\",'Tx123'!$B$27)","v":6}]
[58,{"$f":"IF('Tx123'!$K$27=\"\",\"\",'Tx123'!$K$27)","v":""},{"$f":"IF('Tx123'!$B$6=\"\",\"\",'Tx123'!$B$6)","v":"Tex-123-E"},{"$f":"IF('Tx123'!$K$21=\"\",\"\",'Tx123'!$K$21)","v":"Drainage Factor - DF (cc/hr)"},{"$f":"IF('Tx123'!$B$21=\"\",\"\",'Tx123'!$B$21)","v":"SET"},{"$f":"IF('Tx123'!$B$27=\"\",\"\",'Tx123'!$B$27)","v":6}]
[59,{"$f":"IF('Tx123'!$C$28=\"\",\"\",'Tx123'!$C$28)","v":""},{"$f":"IF('Tx123'!$B$6=\"\",\"\",'Tx123'!$B$6)","v":"Tex-123-E"},{"$f":"IF('Tx123'!$C$21=\"\",\"\",'Tx123'!$C$21)","v":"Specimen No."},{"$f":"IF('Tx123'!$B$21=\"\",\"\",'Tx123'!$B$21)","v":"SET"},{"$f":"IF('Tx123'!$B$28=\"\",\"\",'Tx123'!$B$28)","v":7}]
[60,{"$f":"IF('Tx123'!$D$28=\"\",\"\",'Tx123'!$D$28)","v":""},{"$f":"IF('Tx123'!$B$6=\"\",\"\",'Tx123'!$B$6)","v":"Tex-123-E"},{"$f":"IF('Tx123'!$D$21=\"\",\"\",'Tx123'!$D$21)","v":"Dry Density (pcf)"},{"$f":"IF('Tx123'!$B$21=\"\",\"\",'Tx123'!$B$21)","v":"SET"},{"$f":"IF('Tx123'!$B$28=\"\",\"\",'Tx123'!$B$28)","v":7}]
[61,{"$f":"IF('Tx123'!$E$28=\"\",\"\",'Tx123'!$E$28)","v":""},{"$f":"IF('Tx123'!$B$6=\"\",\"\",'Tx123'!$B$6)","v":"Tex-123-E"},{"$f":"IF('Tx123'!$E$21=\"\",\"\",'Tx123'!$E$21)","v":"Optimum Moisture Content (%)"},{"$f":"IF('Tx123'!$B$21=\"\",\"\",'Tx123'!$B$21)","v":"SET"},{"$f":"IF('Tx123'!$B$28=\"\",\"\",'Tx123'!$B$28)","v":7}]
[62,{"$f":"IF('Tx123'!$F$28=\"\",\"\",'Tx123'!$F$28)","v":""},{"$f":"IF('Tx123'!$B$6=\"\",\"\",'Tx123'!$B$6)","v":"Tex-123-E"},{"$f":"IF('Tx123'!$F$21=\"\",\"\",'Tx123'!$F$21)","v":"Applied Lateral & Vertical Pressure (psi)"},{"$f":"IF('Tx123'!$B$21=\"\",\"\",'Tx123'!$B$21)","v":"SET"},{"$f":"IF('Tx123'!$B$28=\"\",\"\",'Tx123'!$B$28)","v":7}]
[63,{"$f":"IF('Tx123'!$G$28=\"\",\"\",'Tx123'!$G$28)","v":""},{"$f":"IF('Tx123'!$B$6=\"\",\"\",'Tx123'!$B$6)","v":"Tex-123-E"},{"$f":"IF('Tx123'!$G$21=\"\",\"\",'Tx123'!$G$21)","v":"Start Time (min.)"},{"$f":"IF('Tx123'!$B$21=\"\",\"\",'Tx123'!$B$21)","v":"SET"},{"$f":"IF('Tx123'!$B$28=\"\",\"\",'Tx123'!$B$28)","v":7}]
[64,{"$f":"IF('Tx123'!$H$28=\"\",\"\",'Tx123'!$H$28)","v":""},{"$f":"IF('Tx123'!$B$6=\"\",\"\",'Tx123'!$B$6)","v":"Tex-123-E"},{"$f":"IF('Tx123'!$H$21=\"\",\"\",'Tx123'!$H$21)","v":"Stop Time (min.)"},{"$f":"IF('Tx123'!$B$21=\"\",\"\",'Tx123'!$B$21)","v":"SET"},{"$f":"IF('Tx123'!$B$28=\"\",\"\",'Tx123'!$B$28)","v":7}]
[65,{"$f":"IF('Tx123'!$I$28=\"\",\"\",'Tx123'!$I$28)","v":""},{"$f":"IF('Tx123'!$B$6=\"\",\"\",'Tx123'!$B$6)","v":"Tex-123-E"},{"$f":"IF('Tx123'!$I$21=\"\",\"\",'Tx123'!$I$21)","v":"Total Time (min.)"},{"$f":"IF('Tx123'!$B$21=\"\",\"\",'Tx123'!$B$21)","v":"SET"},{"$f":"IF('Tx123'!$B$28=\"\",\"\",'Tx123'!$B$28)","v":7}]
[66,{"$f":"IF('Tx123'!$J$28=\"\",\"\",'Tx123'!$J$28)","v":""},{"$f":"IF('Tx123'!$B$6=\"\",\"\",'Tx123'!$B$6)","v":"Tex-123-E"},{"$f":"IF('Tx123'!$J$21=\"\",\"\",'Tx123'!$J$21)","v":"Weight of Drained Water (lbs.)"},{"$f":"IF('Tx123'!$B$21=\"\",\"\",'Tx123'!$B$21)","v":"SET"},{"$f":"IF('Tx123'!$B$28=\"\",\"\",'Tx123'!$B$28)","v":7}]
[67,{"$f":"IF('Tx123'!$K$28=\"\",\"\",'Tx123'!$K$28)","v":""},{"$f":"IF('Tx123'!$B$6=\"\",\"\",'Tx123'!$B$6)","v":"Tex-123-E"},{"$f":"IF('Tx123'!$K$21=\"\",\"\",'Tx123'!$K$21)","v":"Drainage Factor - DF (cc/hr)"},{"$f":"IF('Tx123'!$B$21=\"\",\"\",'Tx123'!$B$21)","v":"SET"},{"$f":"IF('Tx123'!$B$28=\"\",\"\",'Tx123'!$B$28)","v":7}]
[68,{"$f":"IF('Tx123'!$C$29=\"\",\"\",'Tx123'!$C$29)","v":""},{"$f":"IF('Tx123'!$B$6=\"\",\"\",'Tx123'!$B$6)","v":"Tex-123-E"},{"$f":"IF('Tx123'!$C$21=\"\",\"\",'Tx123'!$C$21)","v":"Specimen No."},{"$f":"IF('Tx123'!$B$21=\"\",\"\",'Tx123'!$B$21)","v":"SET"},{"$f":"IF('Tx123'!$B$29=\"\",\"\",'Tx123'!$B$29)","v":8}]
[69,{"$f":"IF('Tx123'!$D$29=\"\",\"\",'Tx123'!$D$29)","v":""},{"$f":"IF('Tx123'!$B$6=\"\",\"\",'Tx123'!$B$6)","v":"Tex-123-E"},{"$f":"IF('Tx123'!$D$21=\"\",\"\",'Tx123'!$D$21)","v":"Dry Density (pcf)"},{"$f":"IF('Tx123'!$B$21=\"\",\"\",'Tx123'!$B$21)","v":"SET"},{"$f":"IF('Tx123'!$B$29=\"\",\"\",'Tx123'!$B$29)","v":8}]
[70,{"$f":"IF('Tx123'!$E$29=\"\",\"\",'Tx123'!$E$29)","v":""},{"$f":"IF('Tx123'!$B$6=\"\",\"\",'Tx123'!$B$6)","v":"Tex-123-E"},{"$f":"IF('Tx123'!$E$21=\"\",\"\",'Tx123'!$E$21)","v":"Optimum Moisture Content (%)"},{"$f":"IF('Tx123'!$B$21=\"\",\"\",'Tx123'!$B$21)","v":"SET"},{"$f":"IF('Tx123'!$B$29=\"\",\"\",'Tx123'!$B$29)","v":8}]
[71,{"$f":"IF('Tx123'!$F$29=\"\",\"\",'Tx123'!$F$29)","v":""},{"$f":"IF('Tx123'!$B$6=\"\",\"\",'Tx123'!$B$6)","v":"Tex-123-E"},{"$f":"IF('Tx123'!$F$21=\"\",\"\",'Tx123'!$F$21)","v":"Applied Lateral & Vertical Pressure (psi)"},{"$f":"IF('Tx123'!$B$21=\"\",\"\",'Tx123'!$B$21)","v":"SET"},{"$f":"IF('Tx123'!$B$29=\"\",\"\",'Tx123'!$B$29)","v":8}]
[72,{"$f":"IF('Tx123'!$G$29=\"\",\"\",'Tx123'!$G$29)","v":""},{"$f":"IF('Tx123'!$B$6=\"\",\"\",'Tx123'!$B$6)","v":"Tex-123-E"},{"$f":"IF('Tx123'!$G$21=\"\",\"\",'Tx123'!$G$21)","v":"Start Time (min.)"},{"$f":"IF('Tx123'!$B$21=\"\",\"\",'Tx123'!$B$21)","v":"SET"},{"$f":"IF('Tx123'!$B$29=\"\",\"\",'Tx123'!$B$29)","v":8}]
[73,{"$f":"IF('Tx123'!$H$29=\"\",\"\",'Tx123'!$H$29)","v":""},{"$f":"IF('Tx123'!$B$6=\"\",\"\",'Tx123'!$B$6)","v":"Tex-123-E"},{"$f":"IF('Tx123'!$H$21=\"\",\"\",'Tx123'!$H$21)","v":"Stop Time (min.)"},{"$f":"IF('Tx123'!$B$21=\"\",\"\",'Tx123'!$B$21)","v":"SET"},{"$f":"IF('Tx123'!$B$29=\"\",\"\",'Tx123'!$B$29)","v":8}]
[74,{"$f":"IF('Tx123'!$I$29=\"\",\"\",'Tx123'!$I$29)","v":""},{"$f":"IF('Tx123'!$B$6=\"\",\"\",'Tx123'!$B$6)","v":"Tex-123-E"},{"$f":"IF('Tx123'!$I$21=\"\",\"\",'Tx123'!$I$21)","v":"Total Time (min.)"},{"$f":"IF('Tx123'!$B$21=\"\",\"\",'Tx123'!$B$21)","v":"SET"},{"$f":"IF('Tx123'!$B$29=\"\",\"\",'Tx123'!$B$29)","v":8}]
[75,{"$f":"IF('Tx123'!$J$29=\"\",\"\",'Tx123'!$J$29)","v":""},{"$f":"IF('Tx123'!$B$6=\"\",\"\",'Tx123'!$B$6)","v":"Tex-123-E"},{"$f":"IF('Tx123'!$J$21=\"\",\"\",'Tx123'!$J$21)","v":"Weight of Drained Water (lbs.)"},{"$f":"IF('Tx123'!$B$21=\"\",\"\",'Tx123'!$B$21)","v":"SET"},{"$f":"IF('Tx123'!$B$29=\"\",\"\",'Tx123'!$B$29)","v":8}]
[76,{"$f":"IF('Tx123'!$K$29=\"\",\"\",'Tx123'!$K$29)","v":""},{"$f":"IF('Tx123'!$B$6=\"\",\"\",'Tx123'!$B$6)","v":"Tex-123-E"},{"$f":"IF('Tx123'!$K$21=\"\",\"\",'Tx123'!$K$21)","v":"Drainage Factor - DF (cc/hr)"},{"$f":"IF('Tx123'!$B$21=\"\",\"\",'Tx123'!$B$21)","v":"SET"},{"$f":"IF('Tx123'!$B$29=\"\",\"\",'Tx123'!$B$29)","v":8}]
[77,{"$f":"IF('Tx123'!$C$30=\"\",\"\",'Tx123'!$C$30)","v":""},{"$f":"IF('Tx123'!$B$6=\"\",\"\",'Tx123'!$B$6)","v":"Tex-123-E"},{"$f":"IF('Tx123'!$C$21=\"\",\"\",'Tx123'!$C$21)","v":"Specimen No."},{"$f":"IF('Tx123'!$B$21=\"\",\"\",'Tx123'!$B$21)","v":"SET"},{"$f":"IF('Tx123'!$B$30=\"\",\"\",'Tx123'!$B$30)","v":9}]
[78,{"$f":"IF('Tx123'!$D$30=\"\",\"\",'Tx123'!$D$30)","v":""},{"$f":"IF('Tx123'!$B$6=\"\",\"\",'Tx123'!$B$6)","v":"Tex-123-E"},{"$f":"IF('Tx123'!$D$21=\"\",\"\",'Tx123'!$D$21)","v":"Dry Density (pcf)"},{"$f":"IF('Tx123'!$B$21=\"\",\"\",'Tx123'!$B$21)","v":"SET"},{"$f":"IF('Tx123'!$B$30=\"\",\"\",'Tx123'!$B$30)","v":9}]
[79,{"$f":"IF('Tx123'!$E$30=\"\",\"\",'Tx123'!$E$30)","v":""},{"$f":"IF('Tx123'!$B$6=\"\",\"\",'Tx123'!$B$6)","v":"Tex-123-E"},{"$f":"IF('Tx123'!$E$21=\"\",\"\",'Tx123'!$E$21)","v":"Optimum Moisture Content (%)"},{"$f":"IF('Tx123'!$B$21=\"\",\"\",'Tx123'!$B$21)","v":"SET"},{"$f":"IF('Tx123'!$B$30=\"\",\"\",'Tx123'!$B$30)","v":9}]
[80,{"$f":"IF('Tx123'!$F$30=\"\",\"\",'Tx123'!$F$30)","v":""},{"$f":"IF('Tx123'!$B$6=\"\",\"\",'Tx123'!$B$6)","v":"Tex-123-E"},{"$f":"IF('Tx123'!$F$21=\"\",\"\",'Tx123'!$F$21)","v":"Applied Lateral & Vertical Pressure (psi)"},{"$f":"IF('Tx123'!$B$21=\"\",\"\",'Tx123'!$B$21)","v":"SET"},{"$f":"IF('Tx123'!$B$30=\"\",\"\",'Tx123'!$B$30)","v":9}]
[81,{"$f":"IF('Tx123'!$G$30=\"\",\"\",'Tx123'!$G$30)","v":""},{"$f":"IF('Tx123'!$B$6=\"\",\"\",'Tx123'!$B$6)","v":"Tex-123-E"},{"$f":"IF('Tx123'!$G$21=\"\",\"\",'Tx123'!$G$21)","v":"Start Time (min.)"},{"$f":"IF('Tx123'!$B$21=\"\",\"\",'Tx123'!$B$21)","v":"SET"},{"$f":"IF('Tx123'!$B$30=\"\",\"\",'Tx123'!$B$30)","v":9}]
[82,{"$f":"IF('Tx123'!$H$30=\"\",\"\",'Tx123'!$H$30)","v":""},{"$f":"IF('Tx123'!$B$6=\"\",\"\",'Tx123'!$B$6)","v":"Tex-123-E"},{"$f":"IF('Tx123'!$H$21=\"\",\"\",'Tx123'!$H$21)","v":"Stop Time (min.)"},{"$f":"IF('Tx123'!$B$21=\"\",\"\",'Tx123'!$B$21)","v":"SET"},{"$f":"IF('Tx123'!$B$30=\"\",\"\",'Tx123'!$B$30)","v":9}]
[83,{"$f":"IF('Tx123'!$I$30=\"\",\"\",'Tx123'!$I$30)","v":""},{"$f":"IF('Tx123'!$B$6=\"\",\"\",'Tx123'!$B$6)","v":"Tex-123-E"},{"$f":"IF('Tx123'!$I$21=\"\",\"\",'Tx123'!$I$21)","v":"Total Time (min.)"},{"$f":"IF('Tx123'!$B$21=\"\",\"\",'Tx123'!$B$21)","v":"SET"},{"$f":"IF('Tx123'!$B$30=\"\",\"\",'Tx123'!$B$30)","v":9}]
[84,{"$f":"IF('Tx123'!$J$30=\"\",\"\",'Tx123'!$J$30)","v":""},{"$f":"IF('Tx123'!$B$6=\"\",\"\",'Tx123'!$B$6)","v":"Tex-123-E"},{"$f":"IF('Tx123'!$J$21=\"\",\"\",'Tx123'!$J$21)","v":"Weight of Drained Water (lbs.)"},{"$f":"IF('Tx123'!$B$21=\"\",\"\",'Tx123'!$B$21)","v":"SET"},{"$f":"IF('Tx123'!$B$30=\"\",\"\",'Tx123'!$B$30)","v":9}]
[85,{"$f":"IF('Tx123'!$K$30=\"\",\"\",'Tx123'!$K$30)","v":""},{"$f":"IF('Tx123'!$B$6=\"\",\"\",'Tx123'!$B$6)","v":"Tex-123-E"},{"$f":"IF('Tx123'!$K$21=\"\",\"\",'Tx123'!$K$21)","v":"Drainage Factor - DF (cc/hr)"},{"$f":"IF('Tx123'!$B$21=\"\",\"\",'Tx123'!$B$21)","v":"SET"},{"$f":"IF('Tx123'!$B$30=\"\",\"\",'Tx123'!$B$30)","v":9}]
[86,{"$f":"IF('Tx123'!$C$31=\"\",\"\",'Tx123'!$C$31)","v":""},{"$f":"IF('Tx123'!$B$6=\"\",\"\",'Tx123'!$B$6)","v":"Tex-123-E"},{"$f":"IF('Tx123'!$C$21=\"\",\"\",'Tx123'!$C$21)","v":"Specimen No."},{"$f":"IF('Tx123'!$B$21=\"\",\"\",'Tx123'!$B$21)","v":"SET"},{"$f":"IF('Tx123'!$B$31=\"\",\"\",'Tx123'!$B$31)","v":10}]
[87,{"$f":"IF('Tx123'!$D$31=\"\",\"\",'Tx123'!$D$31)","v":""},{"$f":"IF('Tx123'!$B$6=\"\",\"\",'Tx123'!$B$6)","v":"Tex-123-E"},{"$f":"IF('Tx123'!$D$21=\"\",\"\",'Tx123'!$D$21)","v":"Dry Density (pcf)"},{"$f":"IF('Tx123'!$B$21=\"\",\"\",'Tx123'!$B$21)","v":"SET"},{"$f":"IF('Tx123'!$B$31=\"\",\"\",'Tx123'!$B$31)","v":10}]
[88,{"$f":"IF('Tx123'!$E$31=\"\",\"\",'Tx123'!$E$31)","v":""},{"$f":"IF('Tx123'!$B$6=\"\",\"\",'Tx123'!$B$6)","v":"Tex-123-E"},{"$f":"IF('Tx123'!$E$21=\"\",\"\",'Tx123'!$E$21)","v":"Optimum Moisture Content (%)"},{"$f":"IF('Tx123'!$B$21=\"\",\"\",'Tx123'!$B$21)","v":"SET"},{"$f":"IF('Tx123'!$B$31=\"\",\"\",'Tx123'!$B$31)","v":10}]
[89,{"$f":"IF('Tx123'!$F$31=\"\",\"\",'Tx123'!$F$31)","v":""},{"$f":"IF('Tx123'!$B$6=\"\",\"\",'Tx123'!$B$6)","v":"Tex-123-E"},{"$f":"IF('Tx123'!$F$21=\"\",\"\",'Tx123'!$F$21)","v":"Applied Lateral & Vertical Pressure (psi)"},{"$f":"IF('Tx123'!$B$21=\"\",\"\",'Tx123'!$B$21)","v":"SET"},{"$f":"IF('Tx123'!$B$31=\"\",\"\",'Tx123'!$B$31)","v":10}]
[90,{"$f":"IF('Tx123'!$G$31=\"\",\"\",'Tx123'!$G$31)","v":""},{"$f":"IF('Tx123'!$B$6=\"\",\"\",'Tx123'!$B$6)","v":"Tex-123-E"},{"$f":"IF('Tx123'!$G$21=\"\",\"\",'Tx123'!$G$21)","v":"Start Time (min.)"},{"$f":"IF('Tx123'!$B$21=\"\",\"\",'Tx123'!$B$21)","v":"SET"},{"$f":"IF('Tx123'!$B$31=\"\",\"\",'Tx123'!$B$31)","v":10}]
[91,{"$f":"IF('Tx123'!$H$31=\"\",\"\",'Tx123'!$H$31)","v":""},{"$f":"IF('Tx123'!$B$6=\"\",\"\",'Tx123'!$B$6)","v":"Tex-123-E"},{"$f":"IF('Tx123'!$H$21=\"\",\"\",'Tx123'!$H$21)","v":"Stop Time (min.)"},{"$f":"IF('Tx123'!$B$21=\"\",\"\",'Tx123'!$B$21)","v":"SET"},{"$f":"IF('Tx123'!$B$31=\"\",\"\",'Tx123'!$B$31)","v":10}]
[92,{"$f":"IF('Tx123'!$I$31=\"\",\"\",'Tx123'!$I$31)","v":""},{"$f":"IF('Tx123'!$B$6=\"\",\"\",'Tx123'!$B$6)","v":"Tex-123-E"},{"$f":"IF('Tx123'!$I$21=\"\",\"\",'Tx123'!$I$21)","v":"Total Time (min.)"},{"$f":"IF('Tx123'!$B$21=\"\",\"\",'Tx123'!$B$21)","v":"SET"},{"$f":"IF('Tx123'!$B$31=\"\",\"\",'Tx123'!$B$31)","v":10}]
[93,{"$f":"IF('Tx123'!$J$31=\"\",\"\",'Tx123'!$J$31)","v":""},{"$f":"IF('Tx123'!$B$6=\"\",\"\",'Tx123'!$B$6)","v":"Tex-123-E"},{"$f":"IF('Tx123'!$J$21=\"\",\"\",'Tx123'!$J$21)","v":"Weight of Drained Water (lbs.)"},{"$f":"IF('Tx123'!$B$21=\"\",\"\",'Tx123'!$B$21)","v":"SET"},{"$f":"IF('Tx123'!$B$31=\"\",\"\",'Tx123'!$B$31)","v":10}]
[94,{"$f":"IF('Tx123'!$K$31=\"\",\"\",'Tx123'!$K$31)","v":""},{"$f":"IF('Tx123'!$B$6=\"\",\"\",'Tx123'!$B$6)","v":"Tex-123-E"},{"$f":"IF('Tx123'!$K$21=\"\",\"\",'Tx123'!$K$21)","v":"Drainage Factor - DF (cc/hr)"},{"$f":"IF('Tx123'!$B$21=\"\",\"\",'Tx123'!$B$21)","v":"SET"},{"$f":"IF('Tx123'!$B$31=\"\",\"\",'Tx123'!$B$31)","v":10}]
[95,{"$f":"IF('Tx123'!$C$32=\"\",\"\",'Tx123'!$C$32)","v":""},{"$f":"IF('Tx123'!$B$6=\"\",\"\",'Tx123'!$B$6)","v":"Tex-123-E"},{"$f":"IF('Tx123'!$C$21=\"\",\"\",'Tx123'!$C$21)","v":"Specimen No."},{"$f":"IF('Tx123'!$B$21=\"\",\"\",'Tx123'!$B$21)","v":"SET"},{"$f":"IF('Tx123'!$B$32=\"\",\"\",'Tx123'!$B$32)","v":11}]
[96,{"$f":"IF('Tx123'!$D$32=\"\",\"\",'Tx123'!$D$32)","v":""},{"$f":"IF('Tx123'!$B$6=\"\",\"\",'Tx123'!$B$6)","v":"Tex-123-E"},{"$f":"IF('Tx123'!$D$21=\"\",\"\",'Tx123'!$D$21)","v":"Dry Density (pcf)"},{"$f":"IF('Tx123'!$B$21=\"\",\"\",'Tx123'!$B$21)","v":"SET"},{"$f":"IF('Tx123'!$B$32=\"\",\"\",'Tx123'!$B$32)","v":11}]
[97,{"$f":"IF('Tx123'!$E$32=\"\",\"\",'Tx123'!$E$32)","v":""},{"$f":"IF('Tx123'!$B$6=\"\",\"\",'Tx123'!$B$6)","v":"Tex-123-E"},{"$f":"IF('Tx123'!$E$21=\"\",\"\",'Tx123'!$E$21)","v":"Optimum Moisture Content (%)"},{"$f":"IF('Tx123'!$B$21=\"\",\"\",'Tx123'!$B$21)","v":"SET"},{"$f":"IF('Tx123'!$B$32=\"\",\"\",'Tx123'!$B$32)","v":11}]
[98,{"$f":"IF('Tx123'!$F$32=\"\",\"\",'Tx123'!$F$32)","v":""},{"$f":"IF('Tx123'!$B$6=\"\",\"\",'Tx123'!$B$6)","v":"Tex-123-E"},{"$f":"IF('Tx123'!$F$21=\"\",\"\",'Tx123'!$F$21)","v":"Applied Lateral & Vertical Pressure (psi)"},{"$f":"IF('Tx123'!$B$21=\"\",\"\",'Tx123'!$B$21)","v":"SET"},{"$f":"IF('Tx123'!$B$32=\"\",\"\",'Tx123'!$B$32)","v":11}]
[99,{"$f":"IF('Tx123'!$G$32=\"\",\"\",'Tx123'!$G$32)","v":""},{"$f":"IF('Tx123'!$B$6=\"\",\"\",'Tx123'!$B$6)","v":"Tex-123-E"},{"$f":"IF('Tx123'!$G$21=\"\",\"\",'Tx123'!$G$21)","v":"Start Time (min.)"},{"$f":"IF('Tx123'!$B$21=\"\",\"\",'Tx123'!$B$21)","v":"SET"},{"$f":"IF('Tx123'!$B$32=\"\",\"\",'Tx123'!$B$32)","v":11}]
[100,{"$f":"IF('Tx123'!$H$32=\"\",\"\",'Tx123'!$H$32)","v":""},{"$f":"IF('Tx123'!$B$6=\"\",\"\",'Tx123'!$B$6)","v":"Tex-123-E"},{"$f":"IF('Tx123'!$H$21=\"\",\"\",'Tx123'!$H$21)","v":"Stop Time (min.)"},{"$f":"IF('Tx123'!$B$21=\"\",\"\",'Tx123'!$B$21)","v":"SET"},{"$f":"IF('Tx123'!$B$32=\"\",\"\",'Tx123'!$B$32)","v":11}]
[101,{"$f":"IF('Tx123'!$I$32=\"\",\"\",'Tx123'!$I$32)","v":""},{"$f":"IF('Tx123'!$B$6=\"\",\"\",'Tx123'!$B$6)","v":"Tex-123-E"},{"$f":"IF('Tx123'!$I$21=\"\",\"\",'Tx123'!$I$21)","v":"Total Time (min.)"},{"$f":"IF('Tx123'!$B$21=\"\",\"\",'Tx123'!$B$21)","v":"SET"},{"$f":"IF('Tx123'!$B$32=\"\",\"\",'Tx123'!$B$32)","v":11}]
[102,{"$f":"IF('Tx123'!$J$32=\"\",\"\",'Tx123'!$J$32)","v":""},{"$f":"IF('Tx123'!$B$6=\"\",\"\",'Tx123'!$B$6)","v":"Tex-123-E"},{"$f":"IF('Tx123'!$J$21=\"\",\"\",'Tx123'!$J$21)","v":"Weight of Drained Water (lbs.)"},{"$f":"IF('Tx123'!$B$21=\"\",\"\",'Tx123'!$B$21)","v":"SET"},{"$f":"IF('Tx123'!$B$32=\"\",\"\",'Tx123'!$B$32)","v":11}]
[103,{"$f":"IF('Tx123'!$K$32=\"\",\"\",'Tx123'!$K$32)","v":""},{"$f":"IF('Tx123'!$B$6=\"\",\"\",'Tx123'!$B$6)","v":"Tex-123-E"},{"$f":"IF('Tx123'!$K$21=\"\",\"\",'Tx123'!$K$21)","v":"Drainage Factor - DF (cc/hr)"},{"$f":"IF('Tx123'!$B$21=\"\",\"\",'Tx123'!$B$21)","v":"SET"},{"$f":"IF('Tx123'!$B$32=\"\",\"\",'Tx123'!$B$32)","v":11}]
[104,{"$f":"IF('Tx123'!$C$33=\"\",\"\",'Tx123'!$C$33)","v":""},{"$f":"IF('Tx123'!$B$6=\"\",\"\",'Tx123'!$B$6)","v":"Tex-123-E"},{"$f":"IF('Tx123'!$C$21=\"\",\"\",'Tx123'!$C$21)","v":"Specimen No."},{"$f":"IF('Tx123'!$B$21=\"\",\"\",'Tx123'!$B$21)","v":"SET"},{"$f":"IF('Tx123'!$B$33=\"\",\"\",'Tx123'!$B$33)","v":12}]
[105,{"$f":"IF('Tx123'!$D$33=\"\",\"\",'Tx123'!$D$33)","v":""},{"$f":"IF('Tx123'!$B$6=\"\",\"\",'Tx123'!$B$6)","v":"Tex-123-E"},{"$f":"IF('Tx123'!$D$21=\"\",\"\",'Tx123'!$D$21)","v":"Dry Density (pcf)"},{"$f":"IF('Tx123'!$B$21=\"\",\"\",'Tx123'!$B$21)","v":"SET"},{"$f":"IF('Tx123'!$B$33=\"\",\"\",'Tx123'!$B$33)","v":12}]
[106,{"$f":"IF('Tx123'!$E$33=\"\",\"\",'Tx123'!$E$33)","v":""},{"$f":"IF('Tx123'!$B$6=\"\",\"\",'Tx123'!$B$6)","v":"Tex-123-E"},{"$f":"IF('Tx123'!$E$21=\"\",\"\",'Tx123'!$E$21)","v":"Optimum Moisture Content (%)"},{"$f":"IF('Tx123'!$B$21=\"\",\"\",'Tx123'!$B$21)","v":"SET"},{"$f":"IF('Tx123'!$B$33=\"\",\"\",'Tx123'!$B$33)","v":12}]
[107,{"$f":"IF('Tx123'!$F$33=\"\",\"\",'Tx123'!$F$33)","v":""},{"$f":"IF('Tx123'!$B$6=\"\",\"\",'Tx123'!$B$6)","v":"Tex-123-E"},{"$f":"IF('Tx123'!$F$21=\"\",\"\",'Tx123'!$F$21)","v":"Applied Lateral & Vertical Pressure (psi)"},{"$f":"IF('Tx123'!$B$21=\"\",\"\",'Tx123'!$B$21)","v":"SET"},{"$f":"IF('Tx123'!$B$33=\"\",\"\",'Tx123'!$B$33)","v":12}]
[108,{"$f":"IF('Tx123'!$G$33=\"\",\"\",'Tx123'!$G$33)","v":""},{"$f":"IF('Tx123'!$B$6=\"\",\"\",'Tx123'!$B$6)","v":"Tex-123-E"},{"$f":"IF('Tx123'!$G$21=\"\",\"\",'Tx123'!$G$21)","v":"Start Time (min.)"},{"$f":"IF('Tx123'!$B$21=\"\",\"\",'Tx123'!$B$21)","v":"SET"},{"$f":"IF('Tx123'!$B$33=\"\",\"\",'Tx123'!$B$33)","v":12}]
[109,{"$f":"IF('Tx123'!$H$33=\"\",\"\",'Tx123'!$H$33)","v":""},{"$f":"IF('Tx123'!$B$6=\"\",\"\",'Tx123'!$B$6)","v":"Tex-123-E"},{"$f":"IF('Tx123'!$H$21=\"\",\"\",'Tx123'!$H$21)","v":"Stop Time (min.)"},{"$f":"IF('Tx123'!$B$21=\"\",\"\",'Tx123'!$B$21)","v":"SET"},{"$f":"IF('Tx123'!$B$33=\"\",\"\",'Tx123'!$B$33)","v":12}]
[110,{"$f":"IF('Tx123'!$I$33=\"\",\"\",'Tx123'!$I$33)","v":""},{"$f":"IF('Tx123'!$B$6=\"\",\"\",'Tx123'!$B$6)","v":"Tex-123-E"},{"$f":"IF('Tx123'!$I$21=\"\",\"\",'Tx123'!$I$21)","v":"Total Time (min.)"},{"$f":"IF('Tx123'!$B$21=\"\",\"\",'Tx123'!$B$21)","v":"SET"},{"$f":"IF('Tx123'!$B$33=\"\",\"\",'Tx123'!$B$33)","v":12}]
[111,{"$f":"IF('Tx123'!$J$33=\"\",\"\",'Tx123'!$J$33)","v":""},{"$f":"IF('Tx123'!$B$6=\"\",\"\",'Tx123'!$B$6)","v":"Tex-123-E"},{"$f":"IF('Tx123'!$J$21=\"\",\"\",'Tx123'!$J$21)","v":"Weight of Drained Water (lbs.)"},{"$f":"IF('Tx123'!$B$21=\"\",\"\",'Tx123'!$B$21)","v":"SET"},{"$f":"IF('Tx123'!$B$33=\"\",\"\",'Tx123'!$B$33)","v":12}]
[112,{"$f":"IF('Tx123'!$K$33=\"\",\"\",'Tx123'!$K$33)","v":""},{"$f":"IF('Tx123'!$B$6=\"\",\"\",'Tx123'!$B$6)","v":"Tex-123-E"},{"$f":"IF('Tx123'!$K$21=\"\",\"\",'Tx123'!$K$21)","v":"Drainage Factor - DF (cc/hr)"},{"$f":"IF('Tx123'!$B$21=\"\",\"\",'Tx123'!$B$21)","v":"SET"},{"$f":"IF('Tx123'!$B$33=\"\",\"\",'Tx123'!$B$33)","v":12}]
[113,{"$f":"IF('Tx123'!$C$34=\"\",\"\",'Tx123'!$C$34)","v":""},{"$f":"IF('Tx123'!$B$6=\"\",\"\",'Tx123'!$B$6)","v":"Tex-123-E"},{"$f":"IF('Tx123'!$C$21=\"\",\"\",'Tx123'!$C$21)","v":"Specimen No."},{"$f":"IF('Tx123'!$B$21=\"\",\"\",'Tx123'!$B$21)","v":"SET"},{"$f":"IF('Tx123'!$B$34=\"\",\"\",'Tx123'!$B$34)","v":13}]
[114,{"$f":"IF('Tx123'!$D$34=\"\",\"\",'Tx123'!$D$34)","v":""},{"$f":"IF('Tx123'!$B$6=\"\",\"\",'Tx123'!$B$6)","v":"Tex-123-E"},{"$f":"IF('Tx123'!$D$21=\"\",\"\",'Tx123'!$D$21)","v":"Dry Density (pcf)"},{"$f":"IF('Tx123'!$B$21=\"\",\"\",'Tx123'!$B$21)","v":"SET"},{"$f":"IF('Tx123'!$B$34=\"\",\"\",'Tx123'!$B$34)","v":13}]
[115,{"$f":"IF('Tx123'!$E$34=\"\",\"\",'Tx123'!$E$34)","v":""},{"$f":"IF('Tx123'!$B$6=\"\",\"\",'Tx123'!$B$6)","v":"Tex-123-E"},{"$f":"IF('Tx123'!$E$21=\"\",\"\",'Tx123'!$E$21)","v":"Optimum Moisture Content (%)"},{"$f":"IF('Tx123'!$B$21=\"\",\"\",'Tx123'!$B$21)","v":"SET"},{"$f":"IF('Tx123'!$B$34=\"\",\"\",'Tx123'!$B$34)","v":13}]
[116,{"$f":"IF('Tx123'!$F$34=\"\",\"\",'Tx123'!$F$34)","v":""},{"$f":"IF('Tx123'!$B$6=\"\",\"\",'Tx123'!$B$6)","v":"Tex-123-E"},{"$f":"IF('Tx123'!$F$21=\"\",\"\",'Tx123'!$F$21)","v":"Applied Lateral & Vertical Pressure (psi)"},{"$f":"IF('Tx123'!$B$21=\"\",\"\",'Tx123'!$B$21)","v":"SET"},{"$f":"IF('Tx123'!$B$34=\"\",\"\",'Tx123'!$B$34)","v":13}]
[117,{"$f":"IF('Tx123'!$G$34=\"\",\"\",'Tx123'!$G$34)","v":""},{"$f":"IF('Tx123'!$B$6=\"\",\"\",'Tx123'!$B$6)","v":"Tex-123-E"},{"$f":"IF('Tx123'!$G$21=\"\",\"\",'Tx123'!$G$21)","v":"Start Time (min.)"},{"$f":"IF('Tx123'!$B$21=\"\",\"\",'Tx123'!$B$21)","v":"SET"},{"$f":"IF('Tx123'!$B$34=\"\",\"\",'Tx123'!$B$34)","v":13}]
[118,{"$f":"IF('Tx123'!$H$34=\"\",\"\",'Tx123'!$H$34)","v":""},{"$f":"IF('Tx123'!$B$6=\"\",\"\",'Tx123'!$B$6)","v":"Tex-123-E"},{"$f":"IF('Tx123'!$H$21=\"\",\"\",'Tx123'!$H$21)","v":"Stop Time (min.)"},{"$f":"IF('Tx123'!$B$21=\"\",\"\",'Tx123'!$B$21)","v":"SET"},{"$f":"IF('Tx123'!$B$34=\"\",\"\",'Tx123'!$B$34)","v":13}]
[119,{"$f":"IF('Tx123'!$I$34=\"\",\"\",'Tx123'!$I$34)","v":""},{"$f":"IF('Tx123'!$B$6=\"\",\"\",'Tx123'!$B$6)","v":"Tex-123-E"},{"$f":"IF('Tx123'!$I$21=\"\",\"\",'Tx123'!$I$21)","v":"Total Time (min.)"},{"$f":"IF('Tx123'!$B$21=\"\",\"\",'Tx123'!$B$21)","v":"SET"},{"$f":"IF('Tx123'!$B$34=\"\",\"\",'Tx123'!$B$34)","v":13}]
[120,{"$f":"IF('Tx123'!$J$34=\"\",\"\",'Tx123'!$J$34)","v":""},{"$f":"IF('Tx123'!$B$6=\"\",\"\",'Tx123'!$B$6)","v":"Tex-123-E"},{"$f":"IF('Tx123'!$J$21=\"\",\"\",'Tx123'!$J$21)","v":"Weight of Drained Water (lbs.)"},{"$f":"IF('Tx123'!$B$21=\"\",\"\",'Tx123'!$B$21)","v":"SET"},{"$f":"IF('Tx123'!$B$34=\"\",\"\",'Tx123'!$B$34)","v":13}]
[121,{"$f":"IF('Tx123'!$K$34=\"\",\"\",'Tx123'!$K$34)","v":""},{"$f":"IF('Tx123'!$B$6=\"\",\"\",'Tx123'!$B$6)","v":"Tex-123-E"},{"$f":"IF('Tx123'!$K$21=\"\",\"\",'Tx123'!$K$21)","v":"Drainage Factor - DF (cc/hr)"},{"$f":"IF('Tx123'!$B$21=\"\",\"\",'Tx123'!$B$21)","v":"SET"},{"$f":"IF('Tx123'!$B$34=\"\",\"\",'Tx123'!$B$34)","v":13}]
[122,{"$f":"IF('Tx123'!$C$35=\"\",\"\",'Tx123'!$C$35)","v":""},{"$f":"IF('Tx123'!$B$6=\"\",\"\",'Tx123'!$B$6)","v":"Tex-123-E"},{"$f":"IF('Tx123'!$C$21=\"\",\"\",'Tx123'!$C$21)","v":"Specimen No."},{"$f":"IF('Tx123'!$B$21=\"\",\"\",'Tx123'!$B$21)","v":"SET"},{"$f":"IF('Tx123'!$B$35=\"\",\"\",'Tx123'!$B$35)","v":14}]
[123,{"$f":"IF('Tx123'!$D$35=\"\",\"\",'Tx123'!$D$35)","v":""},{"$f":"IF('Tx123'!$B$6=\"\",\"\",'Tx123'!$B$6)","v":"Tex-123-E"},{"$f":"IF('Tx123'!$D$21=\"\",\"\",'Tx123'!$D$21)","v":"Dry Density (pcf)"},{"$f":"IF('Tx123'!$B$21=\"\",\"\",'Tx123'!$B$21)","v":"SET"},{"$f":"IF('Tx123'!$B$35=\"\",\"\",'Tx123'!$B$35)","v":14}]
[124,{"$f":"IF('Tx123'!$E$35=\"\",\"\",'Tx123'!$E$35)","v":""},{"$f":"IF('Tx123'!$B$6=\"\",\"\",'Tx123'!$B$6)","v":"Tex-123-E"},{"$f":"IF('Tx123'!$E$21=\"\",\"\",'Tx123'!$E$21)","v":"Optimum Moisture Content (%)"},{"$f":"IF('Tx123'!$B$21=\"\",\"\",'Tx123'!$B$21)","v":"SET"},{"$f":"IF('Tx123'!$B$35=\"\",\"\",'Tx123'!$B$35)","v":14}]
[125,{"$f":"IF('Tx123'!$F$35=\"\",\"\",'Tx123'!$F$35)","v":""},{"$f":"IF('Tx123'!$B$6=\"\",\"\",'Tx123'!$B$6)","v":"Tex-123-E"},{"$f":"IF('Tx123'!$F$21=\"\",\"\",'Tx123'!$F$21)","v":"Applied Lateral & Vertical Pressure (psi)"},{"$f":"IF('Tx123'!$B$21=\"\",\"\",'Tx123'!$B$21)","v":"SET"},{"$f":"IF('Tx123'!$B$35=\"\",\"\",'Tx123'!$B$35)","v":14}]
[126,{"$f":"IF('Tx123'!$G$35=\"\",\"\",'Tx123'!$G$35)","v":""},{"$f":"IF('Tx123'!$B$6=\"\",\"\",'Tx123'!$B$6)","v":"Tex-123-E"},{"$f":"IF('Tx123'!$G$21=\"\",\"\",'Tx123'!$G$21)","v":"Start Time (min.)"},{"$f":"IF('Tx123'!$B$21=\"\",\"\",'Tx123'!$B$21)","v":"SET"},{"$f":"IF('Tx123'!$B$35=\"\",\"\",'Tx123'!$B$35)","v":14}]
[127,{"$f":"IF('Tx123'!$H$35=\"\",\"\",'Tx123'!$H$35)","v":""},{"$f":"IF('Tx123'!$B$6=\"\",\"\",'Tx123'!$B$6)","v":"Tex-123-E"},{"$f":"IF('Tx123'!$H$21=\"\",\"\",'Tx123'!$H$21)","v":"Stop Time (min.)"},{"$f":"IF('Tx123'!$B$21=\"\",\"\",'Tx123'!$B$21)","v":"SET"},{"$f":"IF('Tx123'!$B$35=\"\",\"\",'Tx123'!$B$35)","v":14}]
[128,{"$f":"IF('Tx123'!$I$35=\"\",\"\",'Tx123'!$I$35)","v":""},{"$f":"IF('Tx123'!$B$6=\"\",\"\",'Tx123'!$B$6)","v":"Tex-123-E"},{"$f":"IF('Tx123'!$I$21=\"\",\"\",'Tx123'!$I$21)","v":"Total Time (min.)"},{"$f":"IF('Tx123'!$B$21=\"\",\"\",'Tx123'!$B$21)","v":"SET"},{"$f":"IF('Tx123'!$B$35=\"\",\"\",'Tx123'!$B$35)","v":14}]
[129,{"$f":"IF('Tx123'!$J$35=\"\",\"\",'Tx123'!$J$35)","v":""},{"$f":"IF('Tx123'!$B$6=\"\",\"\",'Tx123'!$B$6)","v":"Tex-123-E"},{"$f":"IF('Tx123'!$J$21=\"\",\"\",'Tx123'!$J$21)","v":"Weight of Drained Water (lbs.)"},{"$f":"IF('Tx123'!$B$21=\"\",\"\",'Tx123'!$B$21)","v":"SET"},{"$f":"IF('Tx123'!$B$35=\"\",\"\",'Tx123'!$B$35)","v":14}]
[130,{"$f":"IF('Tx123'!$K$35=\"\",\"\",'Tx123'!$K$35)","v":""},{"$f":"IF('Tx123'!$B$6=\"\",\"\",'Tx123'!$B$6)","v":"Tex-123-E"},{"$f":"IF('Tx123'!$K$21=\"\",\"\",'Tx123'!$K$21)","v":"Drainage Factor - DF (cc/hr)"},{"$f":"IF('Tx123'!$B$21=\"\",\"\",'Tx123'!$B$21)","v":"SET"},{"$f":"IF('Tx123'!$B$35=\"\",\"\",'Tx123'!$B$35)","v":14}]
[131,{"$f":"IF('Tx123'!$C$36=\"\",\"\",'Tx123'!$C$36)","v":""},{"$f":"IF('Tx123'!$B$6=\"\",\"\",'Tx123'!$B$6)","v":"Tex-123-E"},{"$f":"IF('Tx123'!$C$21=\"\",\"\",'Tx123'!$C$21)","v":"Specimen No."},{"$f":"IF('Tx123'!$B$21=\"\",\"\",'Tx123'!$B$21)","v":"SET"},{"$f":"IF('Tx123'!$B$36=\"\",\"\",'Tx123'!$B$36)","v":15}]
[132,{"$f":"IF('Tx123'!$D$36=\"\",\"\",'Tx123'!$D$36)","v":""},{"$f":"IF('Tx123'!$B$6=\"\",\"\",'Tx123'!$B$6)","v":"Tex-123-E"},{"$f":"IF('Tx123'!$D$21=\"\",\"\",'Tx123'!$D$21)","v":"Dry Density (pcf)"},{"$f":"IF('Tx123'!$B$21=\"\",\"\",'Tx123'!$B$21)","v":"SET"},{"$f":"IF('Tx123'!$B$36=\"\",\"\",'Tx123'!$B$36)","v":15}]
[133,{"$f":"IF('Tx123'!$E$36=\"\",\"\",'Tx123'!$E$36)","v":""},{"$f":"IF('Tx123'!$B$6=\"\",\"\",'Tx123'!$B$6)","v":"Tex-123-E"},{"$f":"IF('Tx123'!$E$21=\"\",\"\",'Tx123'!$E$21)","v":"Optimum Moisture Content (%)"},{"$f":"IF('Tx123'!$B$21=\"\",\"\",'Tx123'!$B$21)","v":"SET"},{"$f":"IF('Tx123'!$B$36=\"\",\"\",'Tx123'!$B$36)","v":15}]
[134,{"$f":"IF('Tx123'!$F$36=\"\",\"\",'Tx123'!$F$36)","v":""},{"$f":"IF('Tx123'!$B$6=\"\",\"\",'Tx123'!$B$6)","v":"Tex-123-E"},{"$f":"IF('Tx123'!$F$21=\"\",\"\",'Tx123'!$F$21)","v":"Applied Lateral & Vertical Pressure (psi)"},{"$f":"IF('Tx123'!$B$21=\"\",\"\",'Tx123'!$B$21)","v":"SET"},{"$f":"IF('Tx123'!$B$36=\"\",\"\",'Tx123'!$B$36)","v":15}]
[135,{"$f":"IF('Tx123'!$G$36=\"\",\"\",'Tx123'!$G$36)","v":""},{"$f":"IF('Tx123'!$B$6=\"\",\"\",'Tx123'!$B$6)","v":"Tex-123-E"},{"$f":"IF('Tx123'!$G$21=\"\",\"\",'Tx123'!$G$21)","v":"Start Time (min.)"},{"$f":"IF('Tx123'!$B$21=\"\",\"\",'Tx123'!$B$21)","v":"SET"},{"$f":"IF('Tx123'!$B$36=\"\",\"\",'Tx123'!$B$36)","v":15}]
[136,{"$f":"IF('Tx123'!$H$36=\"\",\"\",'Tx123'!$H$36)","v":""},{"$f":"IF('Tx123'!$B$6=\"\",\"\",'Tx123'!$B$6)","v":"Tex-123-E"},{"$f":"IF('Tx123'!$H$21=\"\",\"\",'Tx123'!$H$21)","v":"Stop Time (min.)"},{"$f":"IF('Tx123'!$B$21=\"\",\"\",'Tx123'!$B$21)","v":"SET"},{"$f":"IF('Tx123'!$B$36=\"\",\"\",'Tx123'!$B$36)","v":15}]
[137,{"$f":"IF('Tx123'!$I$36=\"\",\"\",'Tx123'!$I$36)","v":""},{"$f":"IF('Tx123'!$B$6=\"\",\"\",'Tx123'!$B$6)","v":"Tex-123-E"},{"$f":"IF('Tx123'!$I$21=\"\",\"\",'Tx123'!$I$21)","v":"Total Time (min.)"},{"$f":"IF('Tx123'!$B$21=\"\",\"\",'Tx123'!$B$21)","v":"SET"},{"$f":"IF('Tx123'!$B$36=\"\",\"\",'Tx123'!$B$36)","v":15}]
[138,{"$f":"IF('Tx123'!$J$36=\"\",\"\",'Tx123'!$J$36)","v":""},{"$f":"IF('Tx123'!$B$6=\"\",\"\",'Tx123'!$B$6)","v":"Tex-123-E"},{"$f":"IF('Tx123'!$J$21=\"\",\"\",'Tx123'!$J$21)","v":"Weight of Drained Water (lbs.)"},{"$f":"IF('Tx123'!$B$21=\"\",\"\",'Tx123'!$B$21)","v":"SET"},{"$f":"IF('Tx123'!$B$36=\"\",\"\",'Tx123'!$B$36)","v":15}]
[139,{"$f":"IF('Tx123'!$K$36=\"\",\"\",'Tx123'!$K$36)","v":""},{"$f":"IF('Tx123'!$B$6=\"\",\"\",'Tx123'!$B$6)","v":"Tex-123-E"},{"$f":"IF('Tx123'!$K$21=\"\",\"\",'Tx123'!$K$21)","v":"Drainage Factor - DF (cc/hr)"},{"$f":"IF('Tx123'!$B$21=\"\",\"\",'Tx123'!$B$21)","v":"SET"},{"$f":"IF('Tx123'!$B$36=\"\",\"\",'Tx123'!$B$36)","v":15}]
[140,{"$f":"IF('Tx123'!$D$44=\"\",\"\",'Tx123'!$D$44)","v":""},"Sampled By ",{"$f":"IF('Tx123'!$B$44=\"\",\"\",'Tx123'!$B$44)","v":"TX100"}]
[141,{"$f":"IF('Tx123'!$G$44=\"\",\"\",'Tx123'!$G$44)","v":""},"Sampled Date ",{"$f":"IF('Tx123'!$B$44=\"\",\"\",'Tx123'!$B$44)","v":"TX100"}]
[142,{"$f":"IF('Tx123'!$D$46=\"\",\"\",'Tx123'!$D$46)","v":""},"Sampled By ",{"$f":"IF('Tx123'!$B$46=\"\",\"\",'Tx123'!$B$46)","v":"TX400"}]
[143,{"$f":"IF('Tx123'!$G$46=\"\",\"\",'Tx123'!$G$46)","v":""},"Sampled Date ",{"$f":"IF('Tx123'!$B$46=\"\",\"\",'Tx123'!$B$46)","v":"TX400"}]