{"text_format":"1","workbook":"xlsx","n_sheets":2,"sheets":["Tex-145-E Part II","RX"],"not_rendered":{"charts":0,"images":1,"macros":1,"external_links":0,"defined_names":95,"comments":1,"pivot_tables":0},"unopened":[],"bounds":{"document_bytes":16777216,"sheet_cells":100000,"rows_first":2000,"rows_last":500,"rows_between":2000,"halvings":0,"cell_chars":16384,"cell_head_chars":4096},"cells_cut":0,"cells_raw":0,"read":"whole","date_system":"1900"}

{"sheet":"Tex-145-E Part II","index":0,"n_rows":75,"n_cols":11,"rows_kept":75,"cut":false,"hidden":false,"merged":[[67,2,67,4],[49,4,49,5],[40,4,40,5],[42,2,42,6],[43,2,44,2],[62,1,62,8],[9,7,9,8],[13,3,13,4],[15,3,15,8],[13,7,13,8],[16,7,16,8],[16,3,16,4],[68,2,68,4],[31,1,31,2],[11,7,11,8],[22,2,22,6],[29,4,29,5],[20,1,20,4],[14,3,14,8],[43,3,43,6],[23,3,23,6],[33,2,33,6],[34,2,35,2],[34,3,34,6],[23,2,24,2],[61,1,61,8],[64,2,64,4],[65,2,65,4],[0,0,0,1],[75,1,75,3],[71,6,71,8],[59,1,60,8],[69,2,69,4],[12,7,12,8],[11,3,11,4],[12,3,12,4],[7,7,7,8],[10,7,10,8],[7,3,7,4],[8,3,8,4],[8,7,8,8],[10,3,10,4],[9,3,9,4],[71,1,71,3]]}
["TxDOT Manuals >",null,null,"Tex-145-E"]
[null,"TEXAS DEPARTMENT OF TRANSPORTATION",null,null,null,null,null,null,null,null,41]
[null,null,null,null,null,null,null,null,null,null,3]
[null,null,null,null,null,null,null,null,null,null,"tx145p2.xlsm::45454.670671"]
[null,"Soil and Base Material",null,null,null,null,null,null,null,null,1]
[null,"Tex-145-E Part II"]
[null,null,null,null,null,null,null,null,{"$f":"\"File Version: \" & TEXT(MID(sn,SEARCH(\"::\",sn,1)+2,20),\"mm/dd/yy hh:mm:ss\")","v":"File Version: 06/11/24 16:05:46"}]
[null,null,"SAMPLE ID:",null,null,null,"SAMPLED DATE:"]
[null,null,"TEST NUMBER:",null,null,null,"LETTING DATE:"]
[null,null,"SAMPLE STATUS:",null,null,null,"CONTROLLING CSJ:"]
[null,null,"COUNTY:",null,null,null,"SPEC YEAR:"]
[null,null,"SAMPLED BY:",null,null,null,"SPEC ITEM:"]
[null,null,"SAMPLE LOCATION:",null,null,null,"SPECIAL PROVISION:"]
[null,null,"MATERIAL CODE:",null,null,null,"GRADE:"]
[null,null,"MATERIAL NAME:"]
[null,null,"PRODUCER:"]
[null,null,"AREA ENGINEER:",null,null,null,"PROJECT MANAGER:"]
[]
[null,null,"COURSE\\LIFT:",null,"STATION:",null,null,"DIST. FROM CL:"]
[]
[null,"Colorimetric Laboratory Test, Tex-145-E, PII"]
[]
[null,null,"Initial Dilution Ratio, 1:20"]
[null,null,"Bottle","Readings"]
[null,null,null,"1.","2.","3.","Average"]
[null,null,"No. 1",null,null,null,{"$f":"IF(AND(D26=\"\",E26=\"\",F26=\"\"),\"\",SUM(D26:F26)/3)","v":""}]
[null,null,"No. 2",null,null,null,{"$f":"IF(AND(D27=\"\",E27=\"\",F27=\"\"),\"\",SUM(D27:F27)/3)","v":""}]
[null,null,"No. 3",null,null,null,{"$f":"IF(AND(D28=\"\",E28=\"\",F28=\"\"),\"\",SUM(D28:F28)/3)","v":""}]
[]
[null,null,null,null,"Final Average:",null,{"$f":"IF(AND(G26=\"\",G27=\"\",G28=\"\"),\"\",SUM(G26:G28)/3)","v":""}]
[]
[null,"Error Messages:"]
[]
[null,null,"Initial Dilution Ratio, 1:40"]
[null,null,"Bottle","Readings"]
[null,null,null,"1.","2.","3.","Average"]
[null,null,"No. 1",null,null,null,{"$f":"IF(AND(D37=\"\",E37=\"\",F37=\"\"),\"\",SUM(D37:F37)/3)","v":""}]
[null,null,"No. 2",null,null,null,{"$f":"IF(AND(D38=\"\",E38=\"\",F38=\"\"),\"\",SUM(D38:F38)/3)","v":""}]
[null,null,"No. 3",null,null,null,{"$f":"IF(AND(D39=\"\",E39=\"\",F39=\"\"),\"\",SUM(D39:F39)/3)","v":""}]
[]
[null,null,null,null,"Final Average:",null,{"$f":"IF(AND(G37=\"\",G38=\"\",G39=\"\"),\"\",SUM(G37:G39)/3)","v":""}]
[]
[null,null,"Initial Dilution Ratio, 1:200"]
[null,null,"Bottle","Readings"]
[null,null,null,"1.","2.","3.","Average"]
[null,null,"No. 1",null,null,null,{"$f":"IF(AND(D46=\"\",E46=\"\",F46=\"\"),\"\",SUM(D46:F46)/3)","v":""}]
[null,null,"No. 2",null,null,null,{"$f":"IF(AND(D47=\"\",E47=\"\",F47=\"\"),\"\",SUM(D47:F47)/3)","v":""}]
[null,null,"No. 3",null,null,null,{"$f":"IF(AND(D48=\"\",E48=\"\",F48=\"\"),\"\",SUM(D48:F48)/3)","v":""}]
[]
[null,null,null,null,"Final Average:",null,{"$f":"IF(AND(G46=\"\",G47=\"\",G48=\"\"),\"\",SUM(G46:G48)/3)","v":""}]
[]
[]
[null,null,null,null,null,"Sulfate Content, PPM:",{"$f":"IF(ISERROR(IF(D46=\"\",IF(ErrDisp=\"\",20*G30,IF(ErrDisp=\"÷\",40*G41,IF(ErrDisp=\"-\",\"<100\",\">8000\"))),200*G50)),\"\",IF(D46=\"\",IF(ErrDisp=\"\",20*G30,IF(ErrDisp=\"÷\",40*G41,IF(ErrDisp=\"-\",\"<100\",\">8000\"))),200*G50))","v":""}]
[]
[]
[]
[]
[]
[null,"Remarks:",{"$f":"NOW()","v":"2024-06-11T16:05:46.860"}]
[]
[]
[]
[]
[]
[null,"Sample Method:","Sampled By:",null,null,"Sampled Date:"]
[null,"TX100"]
[]
[null,"TX400"]
[null,"Test Method:","Tested By:",null,null,"Tested Date:"]
[null,"TX145"]
[null,"Test Stamp Code:",null,null,"Omit Test:","Completed Date:","Reviewed By:"]
[]
[null,"Locked By:","TxDOT:","District:","Area:"]
[]
[null,"Authorized By:",null,null,"Authorized Date:"]

{"sheet":"RX","index":1,"n_rows":51,"n_cols":9,"rows_kept":51,"cut":false,"hidden":true,"merged":[]}
[49]
["Fld_nbr","Value","Desc_1","Desc_2","Desc_3","Desc_4","Desc_5","Desc_6","Desc_7"]
[1,{"$f":"IF('Tex-145-E Part II'!$B$60=\"\",\"\",'Tex-145-E Part II'!$B$60)","v":""},{"$f":"'Tex-145-E Part II'!$B$59","v":"Remarks:"}]
[2,{"$f":"IF('Tex-145-E Part II'!$D$19=\"\",\"\",'Tex-145-E Part II'!$D$19)","v":""},{"$f":"IF('Tex-145-E Part II'!$C$19=\"\",\"\",'Tex-145-E Part II'!$C$19)","v":"COURSE\\LIFT:"}]
[3,{"$f":"IF('Tex-145-E Part II'!$C$70=\"\",\"\",'Tex-145-E Part II'!$C$70)","v":""},"Tested By ",{"$f":"IF('Tex-145-E Part II'!$B$70=\"\",\"\",'Tex-145-E Part II'!$B$70)","v":"TX145"}]
[4,{"$f":"IF('Tex-145-E Part II'!$F$70=\"\",\"\",'Tex-145-E Part II'!$F$70)","v":""},"Tested Date ",{"$f":"IF('Tex-145-E Part II'!$B$70=\"\",\"\",'Tex-145-E Part II'!$B$70)","v":"TX145"}]
[5,{"$f":"IF('Tex-145-E Part II'!$D$26=\"\",\"\",'Tex-145-E Part II'!$D$26)","v":""},{"$f":"IF('Tex-145-E Part II'!$B$21=\"\",\"\",'Tex-145-E Part II'!$B$21)","v":"Colorimetric Laboratory Test, Tex-145-E, PII"},{"$f":"IF('Tex-145-E Part II'!$C$23=\"\",\"\",'Tex-145-E Part II'!$C$23)","v":"Initial Dilution Ratio, 1:20"},{"$f":"IF('Tex-145-E Part II'!$D$24=\"\",\"\",'Tex-145-E Part II'!$D$24)","v":"Readings"},{"$f":"IF('Tex-145-E Part II'!$D$25=\"\",\"\",'Tex-145-E Part II'!$D$25)","v":"1."},{"$f":"IF('Tex-145-E Part II'!$C$24=\"\",\"\",'Tex-145-E Part II'!$C$24)","v":"Bottle"},{"$f":"IF('Tex-145-E Part II'!$C$26=\"\",\"\",'Tex-145-E Part II'!$C$26)","v":"No. 1"}]
[6,{"$f":"IF('Tex-145-E Part II'!$E$26=\"\",\"\",'Tex-145-E Part II'!$E$26)","v":""},{"$f":"IF('Tex-145-E Part II'!$B$21=\"\",\"\",'Tex-145-E Part II'!$B$21)","v":"Colorimetric Laboratory Test, Tex-145-E, PII"},{"$f":"IF('Tex-145-E Part II'!$C$23=\"\",\"\",'Tex-145-E Part II'!$C$23)","v":"Initial Dilution Ratio, 1:20"},{"$f":"IF('Tex-145-E Part II'!$D$24=\"\",\"\",'Tex-145-E Part II'!$D$24)","v":"Readings"},{"$f":"IF('Tex-145-E Part II'!$E$25=\"\",\"\",'Tex-145-E Part II'!$E$25)","v":"2."},{"$f":"IF('Tex-145-E Part II'!$C$24=\"\",\"\",'Tex-145-E Part II'!$C$24)","v":"Bottle"},{"$f":"IF('Tex-145-E Part II'!$C$26=\"\",\"\",'Tex-145-E Part II'!$C$26)","v":"No. 1"}]
[7,{"$f":"IF('Tex-145-E Part II'!$F$26=\"\",\"\",'Tex-145-E Part II'!$F$26)","v":""},{"$f":"IF('Tex-145-E Part II'!$B$21=\"\",\"\",'Tex-145-E Part II'!$B$21)","v":"Colorimetric Laboratory Test, Tex-145-E, PII"},{"$f":"IF('Tex-145-E Part II'!$C$23=\"\",\"\",'Tex-145-E Part II'!$C$23)","v":"Initial Dilution Ratio, 1:20"},{"$f":"IF('Tex-145-E Part II'!$D$24=\"\",\"\",'Tex-145-E Part II'!$D$24)","v":"Readings"},{"$f":"IF('Tex-145-E Part II'!$F$25=\"\",\"\",'Tex-145-E Part II'!$F$25)","v":"3."},{"$f":"IF('Tex-145-E Part II'!$C$24=\"\",\"\",'Tex-145-E Part II'!$C$24)","v":"Bottle"},{"$f":"IF('Tex-145-E Part II'!$C$26=\"\",\"\",'Tex-145-E Part II'!$C$26)","v":"No. 1"}]
[8,{"$f":"IF('Tex-145-E Part II'!$G$26=\"\",\"\",'Tex-145-E Part II'!$G$26)","v":""},{"$f":"IF('Tex-145-E Part II'!$B$21=\"\",\"\",'Tex-145-E Part II'!$B$21)","v":"Colorimetric Laboratory Test, Tex-145-E, PII"},{"$f":"IF('Tex-145-E Part II'!$C$23=\"\",\"\",'Tex-145-E Part II'!$C$23)","v":"Initial Dilution Ratio, 1:20"},{"$f":"IF('Tex-145-E Part II'!$D$24=\"\",\"\",'Tex-145-E Part II'!$D$24)","v":"Readings"},{"$f":"IF('Tex-145-E Part II'!$G$25=\"\",\"\",'Tex-145-E Part II'!$G$25)","v":"Average"},{"$f":"IF('Tex-145-E Part II'!$C$24=\"\",\"\",'Tex-145-E Part II'!$C$24)","v":"Bottle"},{"$f":"IF('Tex-145-E Part II'!$C$26=\"\",\"\",'Tex-145-E Part II'!$C$26)","v":"No. 1"}]
[9,{"$f":"IF('Tex-145-E Part II'!$D$27=\"\",\"\",'Tex-145-E Part II'!$D$27)","v":""},{"$f":"IF('Tex-145-E Part II'!$B$21=\"\",\"\",'Tex-145-E Part II'!$B$21)","v":"Colorimetric Laboratory Test, Tex-145-E, PII"},{"$f":"IF('Tex-145-E Part II'!$C$23=\"\",\"\",'Tex-145-E Part II'!$C$23)","v":"Initial Dilution Ratio, 1:20"},{"$f":"IF('Tex-145-E Part II'!$D$24=\"\",\"\",'Tex-145-E Part II'!$D$24)","v":"Readings"},{"$f":"IF('Tex-145-E Part II'!$D$25=\"\",\"\",'Tex-145-E Part II'!$D$25)","v":"1."},{"$f":"IF('Tex-145-E Part II'!$C$24=\"\",\"\",'Tex-145-E Part II'!$C$24)","v":"Bottle"},{"$f":"IF('Tex-145-E Part II'!$C$27=\"\",\"\",'Tex-145-E Part II'!$C$27)","v":"No. 2"}]
[10,{"$f":"IF('Tex-145-E Part II'!$E$27=\"\",\"\",'Tex-145-E Part II'!$E$27)","v":""},{"$f":"IF('Tex-145-E Part II'!$B$21=\"\",\"\",'Tex-145-E Part II'!$B$21)","v":"Colorimetric Laboratory Test, Tex-145-E, PII"},{"$f":"IF('Tex-145-E Part II'!$C$23=\"\",\"\",'Tex-145-E Part II'!$C$23)","v":"Initial Dilution Ratio, 1:20"},{"$f":"IF('Tex-145-E Part II'!$D$24=\"\",\"\",'Tex-145-E Part II'!$D$24)","v":"Readings"},{"$f":"IF('Tex-145-E Part II'!$E$25=\"\",\"\",'Tex-145-E Part II'!$E$25)","v":"2."},{"$f":"IF('Tex-145-E Part II'!$C$24=\"\",\"\",'Tex-145-E Part II'!$C$24)","v":"Bottle"},{"$f":"IF('Tex-145-E Part II'!$C$27=\"\",\"\",'Tex-145-E Part II'!$C$27)","v":"No. 2"}]
[11,{"$f":"IF('Tex-145-E Part II'!$F$27=\"\",\"\",'Tex-145-E Part II'!$F$27)","v":""},{"$f":"IF('Tex-145-E Part II'!$B$21=\"\",\"\",'Tex-145-E Part II'!$B$21)","v":"Colorimetric Laboratory Test, Tex-145-E, PII"},{"$f":"IF('Tex-145-E Part II'!$C$23=\"\",\"\",'Tex-145-E Part II'!$C$23)","v":"Initial Dilution Ratio, 1:20"},{"$f":"IF('Tex-145-E Part II'!$D$24=\"\",\"\",'Tex-145-E Part II'!$D$24)","v":"Readings"},{"$f":"IF('Tex-145-E Part II'!$F$25=\"\",\"\",'Tex-145-E Part II'!$F$25)","v":"3."},{"$f":"IF('Tex-145-E Part II'!$C$24=\"\",\"\",'Tex-145-E Part II'!$C$24)","v":"Bottle"},{"$f":"IF('Tex-145-E Part II'!$C$27=\"\",\"\",'Tex-145-E Part II'!$C$27)","v":"No. 2"}]
[12,{"$f":"IF('Tex-145-E Part II'!$G$27=\"\",\"\",'Tex-145-E Part II'!$G$27)","v":""},{"$f":"IF('Tex-145-E Part II'!$B$21=\"\",\"\",'Tex-145-E Part II'!$B$21)","v":"Colorimetric Laboratory Test, Tex-145-E, PII"},{"$f":"IF('Tex-145-E Part II'!$C$23=\"\",\"\",'Tex-145-E Part II'!$C$23)","v":"Initial Dilution Ratio, 1:20"},{"$f":"IF('Tex-145-E Part II'!$D$24=\"\",\"\",'Tex-145-E Part II'!$D$24)","v":"Readings"},{"$f":"IF('Tex-145-E Part II'!$G$25=\"\",\"\",'Tex-145-E Part II'!$G$25)","v":"Average"},{"$f":"IF('Tex-145-E Part II'!$C$24=\"\",\"\",'Tex-145-E Part II'!$C$24)","v":"Bottle"},{"$f":"IF('Tex-145-E Part II'!$C$27=\"\",\"\",'Tex-145-E Part II'!$C$27)","v":"No. 2"}]
[13,{"$f":"IF('Tex-145-E Part II'!$D$28=\"\",\"\",'Tex-145-E Part II'!$D$28)","v":""},{"$f":"IF('Tex-145-E Part II'!$B$21=\"\",\"\",'Tex-145-E Part II'!$B$21)","v":"Colorimetric Laboratory Test, Tex-145-E, PII"},{"$f":"IF('Tex-145-E Part II'!$C$23=\"\",\"\",'Tex-145-E Part II'!$C$23)","v":"Initial Dilution Ratio, 1:20"},{"$f":"IF('Tex-145-E Part II'!$D$24=\"\",\"\",'Tex-145-E Part II'!$D$24)","v":"Readings"},{"$f":"IF('Tex-145-E Part II'!$D$25=\"\",\"\",'Tex-145-E Part II'!$D$25)","v":"1."},{"$f":"IF('Tex-145-E Part II'!$C$24=\"\",\"\",'Tex-145-E Part II'!$C$24)","v":"Bottle"},{"$f":"IF('Tex-145-E Part II'!$C$28=\"\",\"\",'Tex-145-E Part II'!$C$28)","v":"No. 3"}]
[14,{"$f":"IF('Tex-145-E Part II'!$E$28=\"\",\"\",'Tex-145-E Part II'!$E$28)","v":""},{"$f":"IF('Tex-145-E Part II'!$B$21=\"\",\"\",'Tex-145-E Part II'!$B$21)","v":"Colorimetric Laboratory Test, Tex-145-E, PII"},{"$f":"IF('Tex-145-E Part II'!$C$23=\"\",\"\",'Tex-145-E Part II'!$C$23)","v":"Initial Dilution Ratio, 1:20"},{"$f":"IF('Tex-145-E Part II'!$D$24=\"\",\"\",'Tex-145-E Part II'!$D$24)","v":"Readings"},{"$f":"IF('Tex-145-E Part II'!$E$25=\"\",\"\",'Tex-145-E Part II'!$E$25)","v":"2."},{"$f":"IF('Tex-145-E Part II'!$C$24=\"\",\"\",'Tex-145-E Part II'!$C$24)","v":"Bottle"},{"$f":"IF('Tex-145-E Part II'!$C$28=\"\",\"\",'Tex-145-E Part II'!$C$28)","v":"No. 3"}]
[15,{"$f":"IF('Tex-145-E Part II'!$F$28=\"\",\"\",'Tex-145-E Part II'!$F$28)","v":""},{"$f":"IF('Tex-145-E Part II'!$B$21=\"\",\"\",'Tex-145-E Part II'!$B$21)","v":"Colorimetric Laboratory Test, Tex-145-E, PII"},{"$f":"IF('Tex-145-E Part II'!$C$23=\"\",\"\",'Tex-145-E Part II'!$C$23)","v":"Initial Dilution Ratio, 1:20"},{"$f":"IF('Tex-145-E Part II'!$D$24=\"\",\"\",'Tex-145-E Part II'!$D$24)","v":"Readings"},{"$f":"IF('Tex-145-E Part II'!$F$25=\"\",\"\",'Tex-145-E Part II'!$F$25)","v":"3."},{"$f":"IF('Tex-145-E Part II'!$C$24=\"\",\"\",'Tex-145-E Part II'!$C$24)","v":"Bottle"},{"$f":"IF('Tex-145-E Part II'!$C$28=\"\",\"\",'Tex-145-E Part II'!$C$28)","v":"No. 3"}]
[16,{"$f":"IF('Tex-145-E Part II'!$G$28=\"\",\"\",'Tex-145-E Part II'!$G$28)","v":""},{"$f":"IF('Tex-145-E Part II'!$B$21=\"\",\"\",'Tex-145-E Part II'!$B$21)","v":"Colorimetric Laboratory Test, Tex-145-E, PII"},{"$f":"IF('Tex-145-E Part II'!$C$23=\"\",\"\",'Tex-145-E Part II'!$C$23)","v":"Initial Dilution Ratio, 1:20"},{"$f":"IF('Tex-145-E Part II'!$D$24=\"\",\"\",'Tex-145-E Part II'!$D$24)","v":"Readings"},{"$f":"IF('Tex-145-E Part II'!$G$25=\"\",\"\",'Tex-145-E Part II'!$G$25)","v":"Average"},{"$f":"IF('Tex-145-E Part II'!$C$24=\"\",\"\",'Tex-145-E Part II'!$C$24)","v":"Bottle"},{"$f":"IF('Tex-145-E Part II'!$C$28=\"\",\"\",'Tex-145-E Part II'!$C$28)","v":"No. 3"}]
[17,{"$f":"IF('Tex-145-E Part II'!$G$30=\"\",\"\",'Tex-145-E Part II'!$G$30)","v":""},{"$f":"IF('Tex-145-E Part II'!$B$21=\"\",\"\",'Tex-145-E Part II'!$B$21)","v":"Colorimetric Laboratory Test, Tex-145-E, PII"},{"$f":"IF('Tex-145-E Part II'!$C$23=\"\",\"\",'Tex-145-E Part II'!$C$23)","v":"Initial Dilution Ratio, 1:20"},{"$f":"IF('Tex-145-E Part II'!$D$24=\"\",\"\",'Tex-145-E Part II'!$D$24)","v":"Readings"},{"$f":"IF('Tex-145-E Part II'!$G$25=\"\",\"\",'Tex-145-E Part II'!$G$25)","v":"Average"},{"$f":"IF('Tex-145-E Part II'!$E$30=\"\",\"\",'Tex-145-E Part II'!$E$30)","v":"Final Average:"}]
[18,{"$f":"IF('Tex-145-E Part II'!$D$32=\"\",\"\",'Tex-145-E Part II'!$D$32)","v":""},{"$f":"IF('Tex-145-E Part II'!$B$21=\"\",\"\",'Tex-145-E Part II'!$B$21)","v":"Colorimetric Laboratory Test, Tex-145-E, PII"},{"$f":"IF('Tex-145-E Part II'!$B$32=\"\",\"\",'Tex-145-E Part II'!$B$32)","v":"Error Messages:"}]
[19,{"$f":"IF('Tex-145-E Part II'!$D$37=\"\",\"\",'Tex-145-E Part II'!$D$37)","v":""},{"$f":"IF('Tex-145-E Part II'!$B$21=\"\",\"\",'Tex-145-E Part II'!$B$21)","v":"Colorimetric Laboratory Test, Tex-145-E, PII"},{"$f":"IF('Tex-145-E Part II'!$C$34=\"\",\"\",'Tex-145-E Part II'!$C$34)","v":"Initial Dilution Ratio, 1:40"},{"$f":"IF('Tex-145-E Part II'!$D$35=\"\",\"\",'Tex-145-E Part II'!$D$35)","v":"Readings"},{"$f":"IF('Tex-145-E Part II'!$D$36=\"\",\"\",'Tex-145-E Part II'!$D$36)","v":"1."},{"$f":"IF('Tex-145-E Part II'!$C$35=\"\",\"\",'Tex-145-E Part II'!$C$35)","v":"Bottle"},{"$f":"IF('Tex-145-E Part II'!$C$37=\"\",\"\",'Tex-145-E Part II'!$C$37)","v":"No. 1"}]
[20,{"$f":"IF('Tex-145-E Part II'!$E$37=\"\",\"\",'Tex-145-E Part II'!$E$37)","v":""},{"$f":"IF('Tex-145-E Part II'!$B$21=\"\",\"\",'Tex-145-E Part II'!$B$21)","v":"Colorimetric Laboratory Test, Tex-145-E, PII"},{"$f":"IF('Tex-145-E Part II'!$C$34=\"\",\"\",'Tex-145-E Part II'!$C$34)","v":"Initial Dilution Ratio, 1:40"},{"$f":"IF('Tex-145-E Part II'!$D$35=\"\",\"\",'Tex-145-E Part II'!$D$35)","v":"Readings"},{"$f":"IF('Tex-145-E Part II'!$E$36=\"\",\"\",'Tex-145-E Part II'!$E$36)","v":"2."},{"$f":"IF('Tex-145-E Part II'!$C$35=\"\",\"\",'Tex-145-E Part II'!$C$35)","v":"Bottle"},{"$f":"IF('Tex-145-E Part II'!$C$37=\"\",\"\",'Tex-145-E Part II'!$C$37)","v":"No. 1"}]
[21,{"$f":"IF('Tex-145-E Part II'!$F$37=\"\",\"\",'Tex-145-E Part II'!$F$37)","v":""},{"$f":"IF('Tex-145-E Part II'!$B$21=\"\",\"\",'Tex-145-E Part II'!$B$21)","v":"Colorimetric Laboratory Test, Tex-145-E, PII"},{"$f":"IF('Tex-145-E Part II'!$C$34=\"\",\"\",'Tex-145-E Part II'!$C$34)","v":"Initial Dilution Ratio, 1:40"},{"$f":"IF('Tex-145-E Part II'!$D$35=\"\",\"\",'Tex-145-E Part II'!$D$35)","v":"Readings"},{"$f":"IF('Tex-145-E Part II'!$F$36=\"\",\"\",'Tex-145-E Part II'!$F$36)","v":"3."},{"$f":"IF('Tex-145-E Part II'!$C$35=\"\",\"\",'Tex-145-E Part II'!$C$35)","v":"Bottle"},{"$f":"IF('Tex-145-E Part II'!$C$37=\"\",\"\",'Tex-145-E Part II'!$C$37)","v":"No. 1"}]
[22,{"$f":"IF('Tex-145-E Part II'!$G$37=\"\",\"\",'Tex-145-E Part II'!$G$37)","v":""},{"$f":"IF('Tex-145-E Part II'!$B$21=\"\",\"\",'Tex-145-E Part II'!$B$21)","v":"Colorimetric Laboratory Test, Tex-145-E, PII"},{"$f":"IF('Tex-145-E Part II'!$C$34=\"\",\"\",'Tex-145-E Part II'!$C$34)","v":"Initial Dilution Ratio, 1:40"},{"$f":"IF('Tex-145-E Part II'!$D$35=\"\",\"\",'Tex-145-E Part II'!$D$35)","v":"Readings"},{"$f":"IF('Tex-145-E Part II'!$G$36=\"\",\"\",'Tex-145-E Part II'!$G$36)","v":"Average"},{"$f":"IF('Tex-145-E Part II'!$C$35=\"\",\"\",'Tex-145-E Part II'!$C$35)","v":"Bottle"},{"$f":"IF('Tex-145-E Part II'!$C$37=\"\",\"\",'Tex-145-E Part II'!$C$37)","v":"No. 1"}]
[23,{"$f":"IF('Tex-145-E Part II'!$D$38=\"\",\"\",'Tex-145-E Part II'!$D$38)","v":""},{"$f":"IF('Tex-145-E Part II'!$B$21=\"\",\"\",'Tex-145-E Part II'!$B$21)","v":"Colorimetric Laboratory Test, Tex-145-E, PII"},{"$f":"IF('Tex-145-E Part II'!$C$34=\"\",\"\",'Tex-145-E Part II'!$C$34)","v":"Initial Dilution Ratio, 1:40"},{"$f":"IF('Tex-145-E Part II'!$D$35=\"\",\"\",'Tex-145-E Part II'!$D$35)","v":"Readings"},{"$f":"IF('Tex-145-E Part II'!$D$36=\"\",\"\",'Tex-145-E Part II'!$D$36)","v":"1."},{"$f":"IF('Tex-145-E Part II'!$C$35=\"\",\"\",'Tex-145-E Part II'!$C$35)","v":"Bottle"},{"$f":"IF('Tex-145-E Part II'!$C$38=\"\",\"\",'Tex-145-E Part II'!$C$38)","v":"No. 2"}]
[24,{"$f":"IF('Tex-145-E Part II'!$E$38=\"\",\"\",'Tex-145-E Part II'!$E$38)","v":""},{"$f":"IF('Tex-145-E Part II'!$B$21=\"\",\"\",'Tex-145-E Part II'!$B$21)","v":"Colorimetric Laboratory Test, Tex-145-E, PII"},{"$f":"IF('Tex-145-E Part II'!$C$34=\"\",\"\",'Tex-145-E Part II'!$C$34)","v":"Initial Dilution Ratio, 1:40"},{"$f":"IF('Tex-145-E Part II'!$D$35=\"\",\"\",'Tex-145-E Part II'!$D$35)","v":"Readings"},{"$f":"IF('Tex-145-E Part II'!$E$36=\"\",\"\",'Tex-145-E Part II'!$E$36)","v":"2."},{"$f":"IF('Tex-145-E Part II'!$C$35=\"\",\"\",'Tex-145-E Part II'!$C$35)","v":"Bottle"},{"$f":"IF('Tex-145-E Part II'!$C$38=\"\",\"\",'Tex-145-E Part II'!$C$38)","v":"No. 2"}]
[25,{"$f":"IF('Tex-145-E Part II'!$F$38=\"\",\"\",'Tex-145-E Part II'!$F$38)","v":""},{"$f":"IF('Tex-145-E Part II'!$B$21=\"\",\"\",'Tex-145-E Part II'!$B$21)","v":"Colorimetric Laboratory Test, Tex-145-E, PII"},{"$f":"IF('Tex-145-E Part II'!$C$34=\"\",\"\",'Tex-145-E Part II'!$C$34)","v":"Initial Dilution Ratio, 1:40"},{"$f":"IF('Tex-145-E Part II'!$D$35=\"\",\"\",'Tex-145-E Part II'!$D$35)","v":"Readings"},{"$f":"IF('Tex-145-E Part II'!$F$36=\"\",\"\",'Tex-145-E Part II'!$F$36)","v":"3."},{"$f":"IF('Tex-145-E Part II'!$C$35=\"\",\"\",'Tex-145-E Part II'!$C$35)","v":"Bottle"},{"$f":"IF('Tex-145-E Part II'!$C$38=\"\",\"\",'Tex-145-E Part II'!$C$38)","v":"No. 2"}]
[26,{"$f":"IF('Tex-145-E Part II'!$G$38=\"\",\"\",'Tex-145-E Part II'!$G$38)","v":""},{"$f":"IF('Tex-145-E Part II'!$B$21=\"\",\"\",'Tex-145-E Part II'!$B$21)","v":"Colorimetric Laboratory Test, Tex-145-E, PII"},{"$f":"IF('Tex-145-E Part II'!$C$34=\"\",\"\",'Tex-145-E Part II'!$C$34)","v":"Initial Dilution Ratio, 1:40"},{"$f":"IF('Tex-145-E Part II'!$D$35=\"\",\"\",'Tex-145-E Part II'!$D$35)","v":"Readings"},{"$f":"IF('Tex-145-E Part II'!$G$36=\"\",\"\",'Tex-145-E Part II'!$G$36)","v":"Average"},{"$f":"IF('Tex-145-E Part II'!$C$35=\"\",\"\",'Tex-145-E Part II'!$C$35)","v":"Bottle"},{"$f":"IF('Tex-145-E Part II'!$C$38=\"\",\"\",'Tex-145-E Part II'!$C$38)","v":"No. 2"}]
[27,{"$f":"IF('Tex-145-E Part II'!$D$39=\"\",\"\",'Tex-145-E Part II'!$D$39)","v":""},{"$f":"IF('Tex-145-E Part II'!$B$21=\"\",\"\",'Tex-145-E Part II'!$B$21)","v":"Colorimetric Laboratory Test, Tex-145-E, PII"},{"$f":"IF('Tex-145-E Part II'!$C$34=\"\",\"\",'Tex-145-E Part II'!$C$34)","v":"Initial Dilution Ratio, 1:40"},{"$f":"IF('Tex-145-E Part II'!$D$35=\"\",\"\",'Tex-145-E Part II'!$D$35)","v":"Readings"},{"$f":"IF('Tex-145-E Part II'!$D$36=\"\",\"\",'Tex-145-E Part II'!$D$36)","v":"1."},{"$f":"IF('Tex-145-E Part II'!$C$35=\"\",\"\",'Tex-145-E Part II'!$C$35)","v":"Bottle"},{"$f":"IF('Tex-145-E Part II'!$C$39=\"\",\"\",'Tex-145-E Part II'!$C$39)","v":"No. 3"}]
[28,{"$f":"IF('Tex-145-E Part II'!$E$39=\"\",\"\",'Tex-145-E Part II'!$E$39)","v":""},{"$f":"IF('Tex-145-E Part II'!$B$21=\"\",\"\",'Tex-145-E Part II'!$B$21)","v":"Colorimetric Laboratory Test, Tex-145-E, PII"},{"$f":"IF('Tex-145-E Part II'!$C$34=\"\",\"\",'Tex-145-E Part II'!$C$34)","v":"Initial Dilution Ratio, 1:40"},{"$f":"IF('Tex-145-E Part II'!$D$35=\"\",\"\",'Tex-145-E Part II'!$D$35)","v":"Readings"},{"$f":"IF('Tex-145-E Part II'!$E$36=\"\",\"\",'Tex-145-E Part II'!$E$36)","v":"2."},{"$f":"IF('Tex-145-E Part II'!$C$35=\"\",\"\",'Tex-145-E Part II'!$C$35)","v":"Bottle"},{"$f":"IF('Tex-145-E Part II'!$C$39=\"\",\"\",'Tex-145-E Part II'!$C$39)","v":"No. 3"}]
[29,{"$f":"IF('Tex-145-E Part II'!$F$39=\"\",\"\",'Tex-145-E Part II'!$F$39)","v":""},{"$f":"IF('Tex-145-E Part II'!$B$21=\"\",\"\",'Tex-145-E Part II'!$B$21)","v":"Colorimetric Laboratory Test, Tex-145-E, PII"},{"$f":"IF('Tex-145-E Part II'!$C$34=\"\",\"\",'Tex-145-E Part II'!$C$34)","v":"Initial Dilution Ratio, 1:40"},{"$f":"IF('Tex-145-E Part II'!$D$35=\"\",\"\",'Tex-145-E Part II'!$D$35)","v":"Readings"},{"$f":"IF('Tex-145-E Part II'!$F$36=\"\",\"\",'Tex-145-E Part II'!$F$36)","v":"3."},{"$f":"IF('Tex-145-E Part II'!$C$35=\"\",\"\",'Tex-145-E Part II'!$C$35)","v":"Bottle"},{"$f":"IF('Tex-145-E Part II'!$C$39=\"\",\"\",'Tex-145-E Part II'!$C$39)","v":"No. 3"}]
[30,{"$f":"IF('Tex-145-E Part II'!$G$39=\"\",\"\",'Tex-145-E Part II'!$G$39)","v":""},{"$f":"IF('Tex-145-E Part II'!$B$21=\"\",\"\",'Tex-145-E Part II'!$B$21)","v":"Colorimetric Laboratory Test, Tex-145-E, PII"},{"$f":"IF('Tex-145-E Part II'!$C$34=\"\",\"\",'Tex-145-E Part II'!$C$34)","v":"Initial Dilution Ratio, 1:40"},{"$f":"IF('Tex-145-E Part II'!$D$35=\"\",\"\",'Tex-145-E Part II'!$D$35)","v":"Readings"},{"$f":"IF('Tex-145-E Part II'!$G$36=\"\",\"\",'Tex-145-E Part II'!$G$36)","v":"Average"},{"$f":"IF('Tex-145-E Part II'!$C$35=\"\",\"\",'Tex-145-E Part II'!$C$35)","v":"Bottle"},{"$f":"IF('Tex-145-E Part II'!$C$39=\"\",\"\",'Tex-145-E Part II'!$C$39)","v":"No. 3"}]
[31,{"$f":"IF('Tex-145-E Part II'!$G$41=\"\",\"\",'Tex-145-E Part II'!$G$41)","v":""},{"$f":"IF('Tex-145-E Part II'!$B$21=\"\",\"\",'Tex-145-E Part II'!$B$21)","v":"Colorimetric Laboratory Test, Tex-145-E, PII"},{"$f":"IF('Tex-145-E Part II'!$C$34=\"\",\"\",'Tex-145-E Part II'!$C$34)","v":"Initial Dilution Ratio, 1:40"},{"$f":"IF('Tex-145-E Part II'!$D$35=\"\",\"\",'Tex-145-E Part II'!$D$35)","v":"Readings"},{"$f":"IF('Tex-145-E Part II'!$G$36=\"\",\"\",'Tex-145-E Part II'!$G$36)","v":"Average"},{"$f":"IF('Tex-145-E Part II'!$E$41=\"\",\"\",'Tex-145-E Part II'!$E$41)","v":"Final Average:"}]
[32,{"$f":"IF('Tex-145-E Part II'!$D$46=\"\",\"\",'Tex-145-E Part II'!$D$46)","v":""},{"$f":"IF('Tex-145-E Part II'!$B$21=\"\",\"\",'Tex-145-E Part II'!$B$21)","v":"Colorimetric Laboratory Test, Tex-145-E, PII"},{"$f":"IF('Tex-145-E Part II'!$C$43=\"\",\"\",'Tex-145-E Part II'!$C$43)","v":"Initial Dilution Ratio, 1:200"},{"$f":"IF('Tex-145-E Part II'!$D$44=\"\",\"\",'Tex-145-E Part II'!$D$44)","v":"Readings"},{"$f":"IF('Tex-145-E Part II'!$D$45=\"\",\"\",'Tex-145-E Part II'!$D$45)","v":"1."},{"$f":"IF('Tex-145-E Part II'!$C$44=\"\",\"\",'Tex-145-E Part II'!$C$44)","v":"Bottle"},{"$f":"IF('Tex-145-E Part II'!$C$46=\"\",\"\",'Tex-145-E Part II'!$C$46)","v":"No. 1"}]
[33,{"$f":"IF('Tex-145-E Part II'!$E$46=\"\",\"\",'Tex-145-E Part II'!$E$46)","v":""},{"$f":"IF('Tex-145-E Part II'!$B$21=\"\",\"\",'Tex-145-E Part II'!$B$21)","v":"Colorimetric Laboratory Test, Tex-145-E, PII"},{"$f":"IF('Tex-145-E Part II'!$C$43=\"\",\"\",'Tex-145-E Part II'!$C$43)","v":"Initial Dilution Ratio, 1:200"},{"$f":"IF('Tex-145-E Part II'!$D$44=\"\",\"\",'Tex-145-E Part II'!$D$44)","v":"Readings"},{"$f":"IF('Tex-145-E Part II'!$E$45=\"\",\"\",'Tex-145-E Part II'!$E$45)","v":"2."},{"$f":"IF('Tex-145-E Part II'!$C$44=\"\",\"\",'Tex-145-E Part II'!$C$44)","v":"Bottle"},{"$f":"IF('Tex-145-E Part II'!$C$46=\"\",\"\",'Tex-145-E Part II'!$C$46)","v":"No. 1"}]
[34,{"$f":"IF('Tex-145-E Part II'!$F$46=\"\",\"\",'Tex-145-E Part II'!$F$46)","v":""},{"$f":"IF('Tex-145-E Part II'!$B$21=\"\",\"\",'Tex-145-E Part II'!$B$21)","v":"Colorimetric Laboratory Test, Tex-145-E, PII"},{"$f":"IF('Tex-145-E Part II'!$C$43=\"\",\"\",'Tex-145-E Part II'!$C$43)","v":"Initial Dilution Ratio, 1:200"},{"$f":"IF('Tex-145-E Part II'!$D$44=\"\",\"\",'Tex-145-E Part II'!$D$44)","v":"Readings"},{"$f":"IF('Tex-145-E Part II'!$F$45=\"\",\"\",'Tex-145-E Part II'!$F$45)","v":"3."},{"$f":"IF('Tex-145-E Part II'!$C$44=\"\",\"\",'Tex-145-E Part II'!$C$44)","v":"Bottle"},{"$f":"IF('Tex-145-E Part II'!$C$46=\"\",\"\",'Tex-145-E Part II'!$C$46)","v":"No. 1"}]
[35,{"$f":"IF('Tex-145-E Part II'!$G$46=\"\",\"\",'Tex-145-E Part II'!$G$46)","v":""},{"$f":"IF('Tex-145-E Part II'!$B$21=\"\",\"\",'Tex-145-E Part II'!$B$21)","v":"Colorimetric Laboratory Test, Tex-145-E, PII"},{"$f":"IF('Tex-145-E Part II'!$C$43=\"\",\"\",'Tex-145-E Part II'!$C$43)","v":"Initial Dilution Ratio, 1:200"},{"$f":"IF('Tex-145-E Part II'!$D$44=\"\",\"\",'Tex-145-E Part II'!$D$44)","v":"Readings"},{"$f":"IF('Tex-145-E Part II'!$G$45=\"\",\"\",'Tex-145-E Part II'!$G$45)","v":"Average"},{"$f":"IF('Tex-145-E Part II'!$C$44=\"\",\"\",'Tex-145-E Part II'!$C$44)","v":"Bottle"},{"$f":"IF('Tex-145-E Part II'!$C$46=\"\",\"\",'Tex-145-E Part II'!$C$46)","v":"No. 1"}]
[36,{"$f":"IF('Tex-145-E Part II'!$D$47=\"\",\"\",'Tex-145-E Part II'!$D$47)","v":""},{"$f":"IF('Tex-145-E Part II'!$B$21=\"\",\"\",'Tex-145-E Part II'!$B$21)","v":"Colorimetric Laboratory Test, Tex-145-E, PII"},{"$f":"IF('Tex-145-E Part II'!$C$43=\"\",\"\",'Tex-145-E Part II'!$C$43)","v":"Initial Dilution Ratio, 1:200"},{"$f":"IF('Tex-145-E Part II'!$D$44=\"\",\"\",'Tex-145-E Part II'!$D$44)","v":"Readings"},{"$f":"IF('Tex-145-E Part II'!$D$45=\"\",\"\",'Tex-145-E Part II'!$D$45)","v":"1."},{"$f":"IF('Tex-145-E Part II'!$C$44=\"\",\"\",'Tex-145-E Part II'!$C$44)","v":"Bottle"},{"$f":"IF('Tex-145-E Part II'!$C$47=\"\",\"\",'Tex-145-E Part II'!$C$47)","v":"No. 2"}]
[37,{"$f":"IF('Tex-145-E Part II'!$E$47=\"\",\"\",'Tex-145-E Part II'!$E$47)","v":""},{"$f":"IF('Tex-145-E Part II'!$B$21=\"\",\"\",'Tex-145-E Part II'!$B$21)","v":"Colorimetric Laboratory Test, Tex-145-E, PII"},{"$f":"IF('Tex-145-E Part II'!$C$43=\"\",\"\",'Tex-145-E Part II'!$C$43)","v":"Initial Dilution Ratio, 1:200"},{"$f":"IF('Tex-145-E Part II'!$D$44=\"\",\"\",'Tex-145-E Part II'!$D$44)","v":"Readings"},{"$f":"IF('Tex-145-E Part II'!$E$45=\"\",\"\",'Tex-145-E Part II'!$E$45)","v":"2."},{"$f":"IF('Tex-145-E Part II'!$C$44=\"\",\"\",'Tex-145-E Part II'!$C$44)","v":"Bottle"},{"$f":"IF('Tex-145-E Part II'!$C$47=\"\",\"\",'Tex-145-E Part II'!$C$47)","v":"No. 2"}]
[38,{"$f":"IF('Tex-145-E Part II'!$F$47=\"\",\"\",'Tex-145-E Part II'!$F$47)","v":""},{"$f":"IF('Tex-145-E Part II'!$B$21=\"\",\"\",'Tex-145-E Part II'!$B$21)","v":"Colorimetric Laboratory Test, Tex-145-E, PII"},{"$f":"IF('Tex-145-E Part II'!$C$43=\"\",\"\",'Tex-145-E Part II'!$C$43)","v":"Initial Dilution Ratio, 1:200"},{"$f":"IF('Tex-145-E Part II'!$D$44=\"\",\"\",'Tex-145-E Part II'!$D$44)","v":"Readings"},{"$f":"IF('Tex-145-E Part II'!$F$45=\"\",\"\",'Tex-145-E Part II'!$F$45)","v":"3."},{"$f":"IF('Tex-145-E Part II'!$C$44=\"\",\"\",'Tex-145-E Part II'!$C$44)","v":"Bottle"},{"$f":"IF('Tex-145-E Part II'!$C$47=\"\",\"\",'Tex-145-E Part II'!$C$47)","v":"No. 2"}]
[39,{"$f":"IF('Tex-145-E Part II'!$G$47=\"\",\"\",'Tex-145-E Part II'!$G$47)","v":""},{"$f":"IF('Tex-145-E Part II'!$B$21=\"\",\"\",'Tex-145-E Part II'!$B$21)","v":"Colorimetric Laboratory Test, Tex-145-E, PII"},{"$f":"IF('Tex-145-E Part II'!$C$43=\"\",\"\",'Tex-145-E Part II'!$C$43)","v":"Initial Dilution Ratio, 1:200"},{"$f":"IF('Tex-145-E Part II'!$D$44=\"\",\"\",'Tex-145-E Part II'!$D$44)","v":"Readings"},{"$f":"IF('Tex-145-E Part II'!$G$45=\"\",\"\",'Tex-145-E Part II'!$G$45)","v":"Average"},{"$f":"IF('Tex-145-E Part II'!$C$44=\"\",\"\",'Tex-145-E Part II'!$C$44)","v":"Bottle"},{"$f":"IF('Tex-145-E Part II'!$C$47=\"\",\"\",'Tex-145-E Part II'!$C$47)","v":"No. 2"}]
[40,{"$f":"IF('Tex-145-E Part II'!$D$48=\"\",\"\",'Tex-145-E Part II'!$D$48)","v":""},{"$f":"IF('Tex-145-E Part II'!$B$21=\"\",\"\",'Tex-145-E Part II'!$B$21)","v":"Colorimetric Laboratory Test, Tex-145-E, PII"},{"$f":"IF('Tex-145-E Part II'!$C$43=\"\",\"\",'Tex-145-E Part II'!$C$43)","v":"Initial Dilution Ratio, 1:200"},{"$f":"IF('Tex-145-E Part II'!$D$44=\"\",\"\",'Tex-145-E Part II'!$D$44)","v":"Readings"},{"$f":"IF('Tex-145-E Part II'!$D$45=\"\",\"\",'Tex-145-E Part II'!$D$45)","v":"1."},{"$f":"IF('Tex-145-E Part II'!$C$44=\"\",\"\",'Tex-145-E Part II'!$C$44)","v":"Bottle"},{"$f":"IF('Tex-145-E Part II'!$C$48=\"\",\"\",'Tex-145-E Part II'!$C$48)","v":"No. 3"}]
[41,{"$f":"IF('Tex-145-E Part II'!$E$48=\"\",\"\",'Tex-145-E Part II'!$E$48)","v":""},{"$f":"IF('Tex-145-E Part II'!$B$21=\"\",\"\",'Tex-145-E Part II'!$B$21)","v":"Colorimetric Laboratory Test, Tex-145-E, PII"},{"$f":"IF('Tex-145-E Part II'!$C$43=\"\",\"\",'Tex-145-E Part II'!$C$43)","v":"Initial Dilution Ratio, 1:200"},{"$f":"IF('Tex-145-E Part II'!$D$44=\"\",\"\",'Tex-145-E Part II'!$D$44)","v":"Readings"},{"$f":"IF('Tex-145-E Part II'!$E$45=\"\",\"\",'Tex-145-E Part II'!$E$45)","v":"2."},{"$f":"IF('Tex-145-E Part II'!$C$44=\"\",\"\",'Tex-145-E Part II'!$C$44)","v":"Bottle"},{"$f":"IF('Tex-145-E Part II'!$C$48=\"\",\"\",'Tex-145-E Part II'!$C$48)","v":"No. 3"}]
[42,{"$f":"IF('Tex-145-E Part II'!$F$48=\"\",\"\",'Tex-145-E Part II'!$F$48)","v":""},{"$f":"IF('Tex-145-E Part II'!$B$21=\"\",\"\",'Tex-145-E Part II'!$B$21)","v":"Colorimetric Laboratory Test, Tex-145-E, PII"},{"$f":"IF('Tex-145-E Part II'!$C$43=\"\",\"\",'Tex-145-E Part II'!$C$43)","v":"Initial Dilution Ratio, 1:200"},{"$f":"IF('Tex-145-E Part II'!$D$44=\"\",\"\",'Tex-145-E Part II'!$D$44)","v":"Readings"},{"$f":"IF('Tex-145-E Part II'!$F$45=\"\",\"\",'Tex-145-E Part II'!$F$45)","v":"3."},{"$f":"IF('Tex-145-E Part II'!$C$44=\"\",\"\",'Tex-145-E Part II'!$C$44)","v":"Bottle"},{"$f":"IF('Tex-145-E Part II'!$C$48=\"\",\"\",'Tex-145-E Part II'!$C$48)","v":"No. 3"}]
[43,{"$f":"IF('Tex-145-E Part II'!$G$48=\"\",\"\",'Tex-145-E Part II'!$G$48)","v":""},{"$f":"IF('Tex-145-E Part II'!$B$21=\"\",\"\",'Tex-145-E Part II'!$B$21)","v":"Colorimetric Laboratory Test, Tex-145-E, PII"},{"$f":"IF('Tex-145-E Part II'!$C$43=\"\",\"\",'Tex-145-E Part II'!$C$43)","v":"Initial Dilution Ratio, 1:200"},{"$f":"IF('Tex-145-E Part II'!$D$44=\"\",\"\",'Tex-145-E Part II'!$D$44)","v":"Readings"},{"$f":"IF('Tex-145-E Part II'!$G$45=\"\",\"\",'Tex-145-E Part II'!$G$45)","v":"Average"},{"$f":"IF('Tex-145-E Part II'!$C$44=\"\",\"\",'Tex-145-E Part II'!$C$44)","v":"Bottle"},{"$f":"IF('Tex-145-E Part II'!$C$48=\"\",\"\",'Tex-145-E Part II'!$C$48)","v":"No. 3"}]
[44,{"$f":"IF('Tex-145-E Part II'!$G$50=\"\",\"\",'Tex-145-E Part II'!$G$50)","v":""},{"$f":"IF('Tex-145-E Part II'!$B$21=\"\",\"\",'Tex-145-E Part II'!$B$21)","v":"Colorimetric Laboratory Test, Tex-145-E, PII"},{"$f":"IF('Tex-145-E Part II'!$C$43=\"\",\"\",'Tex-145-E Part II'!$C$43)","v":"Initial Dilution Ratio, 1:200"},{"$f":"IF('Tex-145-E Part II'!$D$44=\"\",\"\",'Tex-145-E Part II'!$D$44)","v":"Readings"},{"$f":"IF('Tex-145-E Part II'!$G$45=\"\",\"\",'Tex-145-E Part II'!$G$45)","v":"Average"},{"$f":"IF('Tex-145-E Part II'!$E$50=\"\",\"\",'Tex-145-E Part II'!$E$50)","v":"Final Average:"}]
[45,{"$f":"IF('Tex-145-E Part II'!$G$53=\"\",\"\",'Tex-145-E Part II'!$G$53)","v":""},{"$f":"IF('Tex-145-E Part II'!$B$21=\"\",\"\",'Tex-145-E Part II'!$B$21)","v":"Colorimetric Laboratory Test, Tex-145-E, PII"},{"$f":"IF('Tex-145-E Part II'!$F$53=\"\",\"\",'Tex-145-E Part II'!$F$53)","v":"Sulfate Content, PPM:"}]
[46,{"$f":"IF('Tex-145-E Part II'!$C$66=\"\",\"\",'Tex-145-E Part II'!$C$66)","v":""},"Sampled By ",{"$f":"IF('Tex-145-E Part II'!$B$66=\"\",\"\",'Tex-145-E Part II'!$B$66)","v":"TX100"}]
[47,{"$f":"IF('Tex-145-E Part II'!$F$66=\"\",\"\",'Tex-145-E Part II'!$F$66)","v":""},"Sampled Date ",{"$f":"IF('Tex-145-E Part II'!$B$66=\"\",\"\",'Tex-145-E Part II'!$B$66)","v":"TX100"}]
[48,{"$f":"IF('Tex-145-E Part II'!$C$68=\"\",\"\",'Tex-145-E Part II'!$C$68)","v":""},"Sampled By ",{"$f":"IF('Tex-145-E Part II'!$B$68=\"\",\"\",'Tex-145-E Part II'!$B$68)","v":"TX400"}]
[49,{"$f":"IF('Tex-145-E Part II'!$F$68=\"\",\"\",'Tex-145-E Part II'!$F$68)","v":""},"Sampled Date ",{"$f":"IF('Tex-145-E Part II'!$B$68=\"\",\"\",'Tex-145-E Part II'!$B$68)","v":"TX400"}]