{"text_format":"1","workbook":"xlsx","n_sheets":2,"sheets":["HMAC Report","RX"],"not_rendered":{"charts":0,"images":1,"macros":1,"external_links":0,"defined_names":199,"comments":1,"pivot_tables":0},"unopened":[],"bounds":{"document_bytes":16777216,"sheet_cells":100000,"rows_first":2000,"rows_last":500,"rows_between":2000,"halvings":0,"cell_chars":16384,"cell_head_chars":4096},"cells_cut":0,"cells_raw":0,"read":"whole","date_system":"1900"}

{"sheet":"HMAC Report","index":0,"n_rows":90,"n_cols":11,"rows_kept":90,"cut":false,"hidden":false,"merged":[[0,0,0,1],[73,2,73,4],[60,1,60,2],[52,1,52,2],[56,1,56,2],[53,1,53,2],[64,1,65,8],[67,1,67,8],[66,1,66,8],[59,1,59,2],[61,1,61,2],[57,1,57,2],[16,7,16,8],[27,5,27,7],[27,1,27,3],[7,1,7,2],[7,3,7,4],[7,7,7,8],[7,5,7,6],[14,1,14,2],[10,3,10,4],[11,3,11,4],[13,1,13,2],[14,3,14,8],[10,7,10,8],[13,7,13,8],[8,1,8,2],[9,3,9,4],[8,3,8,4],[8,7,8,8],[8,5,8,6],[13,5,13,6],[9,7,9,8],[15,1,15,2],[12,3,12,4],[10,5,10,6],[12,7,12,8],[13,3,13,4],[11,7,11,8],[15,3,15,8],[40,1,40,2],[38,1,38,3],[80,2,80,4],[82,2,82,4],[84,2,84,4],[42,3,42,5],[38,5,38,7],[69,2,69,4],[70,2,70,4],[72,2,72,4],[50,1,50,2],[51,1,51,2],[44,1,44,2],[42,6,42,8],[78,2,78,4],[90,1,90,3],[46,1,46,2],[43,1,43,2],[86,6,86,8],[30,2,30,4],[76,2,76,4],[40,4,40,5],[74,2,74,4],[86,1,86,3],[55,1,55,2],[45,1,45,2],[35,1,35,2],[48,1,48,2],[54,1,54,2],[49,1,49,2],[47,1,47,2],[37,5,37,7],[35,4,35,5],[23,5,23,7],[22,5,22,8],[16,3,16,4],[24,1,24,3],[22,1,22,4],[37,1,37,3],[25,1,25,3],[25,5,25,7],[29,2,29,4],[24,5,24,7],[26,5,26,7],[23,1,23,3],[18,1,18,2]]}
["TxDOT Manuals >",null,null,"Tex-207-F","Tex-227-F"]
[null,"TEXAS DEPARTMENT OF TRANSPORTATION",null,null,null,null,null,null,null,null,64]
[null,null,null,null,null,null,null,null,null,null,6]
[null,null,null,null,null,null,null,null,null,null,"tx207,27.xlsm::45574.586262"]
[null,"HMAC PROPERTIES & GRADATION "]
[null,"Tex-207, 27- F"]
[null,null,null,null,null,null,null,null,{"$f":"\"HMAC Properties & Gradation :: File Version: \" & TEXT(MID(sn,SEARCH(\"::\",sn,1)+2,20),\"mm/dd/yy hh:mm:ss\")","v":"HMAC Properties & Gradation :: File Version: 10/09/24 14:04:13"}]
[null,"SAMPLE ID:",null,null,null,"SAMPLED DATE:"]
[null,"TEST NUMBER:",null,null,null,"LETTING DATE:"]
[null,null,"SAMPLE STATUS:",null,null,null,"CONTROLLING CSJ:"]
[null,null,"COUNTY:",null,null,"SPEC YEAR:"]
[null,null,"SAMPLED BY:",null,null,null,"SPEC ITEM:"]
[null,null,"SAMPLE LOCATION:",null,null,null,"SPECIAL PROVISION:"]
[null,"MATERIAL CODE:",null,null,null,"GRADE:"]
[null,"MATERIAL NAME:"]
[null,"PRODUCER:"]
[null,null,"AREA ENGINEER:",null,null,null,"PROJECT MANAGER:"]
[null,null,null," "]
[null,"COURSE\\LIFT:",null,null,"STATION:",null,"DIST. FROM CL:"]
[]
[null,"TEX-227-F : DETERMINATION OF RICE SPECIFIC GRAVITY "]
[]
[null,"Specific Gravity",null,null,null,"Specific Gravity Corrected for Water Absorption"]
[null,"Wt. of Sample (g):",null,null,null,"Wt. of Sample (g):",null,null,{"$f":"IF(E24=\"\",\"\",E24)","v":""}]
[null,"Wt. of Pyc & Water (g):",null,null,null,"Wt. Saturated Surface Dry Sample (g):"]
[null,"Wt. of Pyc, Water,& Sample (g):",null,null,null,"Wt. of Pyc & Water (g):",null,null,{"$f":"IF(E25=\"\",\"\",E25)","v":""}]
[null,null,null,null,null,"Wt. of Pyc, Water,& Sample (g):",null,null,{"$f":"IF(E26=\"\",\"\",E26)","v":""}]
[null,"Rice Specific Gravity (Gr):",null,null,{"$f":"IF(ISERROR($E$24/($E$24+$E$25-$E$26)),\"\",$E$24/($E$24+$E$25-$E$26))","v":""},"Rice Specific Gravity (Grc):",null,null,{"$f":"IF(ISERROR(+I24/(I26+I25-I27)),\"\",+I24/(I26+I25-I27))","v":""}]
[]
[null,null,"Percentage Difference:",null,null,{"$f":"IF($E$28=\"\",\"\",IF($I28=\"\",0,(E28-I28)/I28))","v":""}]
[null,null,{"$f":"\"Rice Specific Gravity \" & IF(F30>0.01,\"(Grc):\",\"(Gr):\")","v":"Rice Specific Gravity (Grc):"},null,null,{"$f":"IF(F30>0.01,I28,E28)","v":""}]
[]
[null,"TEX-207-F : DETERMINING DENSITY & PROPERTIES OF BITUMINOUS MIXTURES"]
[]
[]
[null,"Asphalt Content %:",null,null,"Aggregate Content %:",null,{"$f":"IF(D36=\"\",\"\",IF(ISERROR(100-$D36),\"\",100-$D36))","v":""}]
[]
[null,"G (Avg. Bulk SG) or Ge (Effective Bulk SG ):",null,null,null,"Mix Design VMA:"]
[null,"G1 (SG of Asphalt):",null,null,null,"Theoretical Max. SG from Mix Design:"]
[]
[null,"Paraffin Used: ",null,null,"SG of Paraffin:"]
[]
[null,"QCQA?","No","Laboratory",null,null,"Roadway"]
[null,"Specimen:",null,1,2,3,1,2,3]
[null,"Specimen ID:"]
[null,{"$f":"IF(SpecYear=\"1995\",\"Specimen Height (mm):\",\"Specimen Height (in):\")","v":"Specimen Height (in):"}]
[null,"Wt of Specimen in Air (g):"]
[null,{"$f":"IF(D41=\"Yes\",\"Wt of Spec.+Paraffin in Water (g):\",\"Wt of Spec. in Water (g):\")","v":"Wt of Spec. in Water (g):"}]
[null,{"$f":"IF(D41=\"Yes\",\"Wt of Spec.+Paraffin in Air (g):\",\"SSD Wt of Specimen in Air (g):\")","v":"SSD Wt of Specimen in Air (g):"}]
[null,"Gt (Theoretical Max. SG):",null,{"$f":"IF(D46=0,\"\",IF(ISERROR(100/(($G36/$I$39)+($D36/$E39))),\"\",100/(($G36/$I$39)+($D36/$E39))))","v":""},"","","","",""]
[null,"Gr (Rice SG):",null,{"$f":"IF(D46=0,\"\",$F$31)","v":""},"","","","",""]
[null,"Percent Absorption:",null,{"$f":"IF(ISERROR(100*((D49-D47)/(D49-D48))),\"\",100*((D49-D47)/(D49-D48)))","v":""},"","","","",""]
[null,"Paraffin Required:",null,{"$f":"IF(ISNUMBER(D52),IF(D52>2,\"Yes\",\"No\"),\"\")","v":""},"","","","",""]
[null,"Volume of Specimen:",null,{"$f":"IF(AND(D49=\"\",D48=\"\"),\"\",D49-D48)","v":""},"","","","",""]
[null,"Ga (Bulk SG):",null,{"$f":"IF(ISERROR(IF($D$41=\"No\",D47/D54,D47/(D49-D48-((D49-D47)/$G$41)))),\"\",IF($D$41=\"No\",D47/D54,D47/(D49-D48-((D49-D47)/$G$41))))","v":""},"","","","",""]
[null,"Percent Density:",null,{"$f":"IF(ISERROR(100*(D55/(IF(D51=0,D50,D51)))),\"\",100*(D55/(IF(D51=0,D50,D51))))","v":""},"","","","",""]
[null,"Percent Air Voids:",null,{"$f":"IF(D56=\"\",\"\",100-D56)","v":""},"","","","",""]
[null,"VMA:",null,{"$f":"IF(ISERROR(100-(100*(D55/$F$31))+((D55*$D36)/$E39)),\"\",100-(100*(D55/$F$31))+((D55*$D36)/$E39))","v":""},"","","","",""]
[]
[null,"Average % Density:",null,{"$f":"IF(ISERROR(AVERAGE($D56:$F56)),\"\",AVERAGE($D56:$F56))","v":""},null,null,{"$f":"IF(ISERROR(AVERAGE(G56:I56)),\"\",AVERAGE(G56:I56))","v":""}]
[null,"Average % Air Voids:",null,{"$f":"IF(ISERROR(AVERAGE($D57:$F57)),\"\",AVERAGE($D57:$F57))","v":""},null,null,{"$f":"IF(ISERROR(AVERAGE(G57:I57)),\"\",AVERAGE(G57:I57))","v":""}]
[null,"Average VMA:",null,{"$f":"IF(ISERROR(AVERAGE($D58:$F58)),\"\",AVERAGE($D58:$F58))","v":""},null,null,{"$f":"IF(ISERROR(AVERAGE(G58:I58)),\"\",AVERAGE(G58:I58))","v":""}]
[]
[null,"Remarks:",{"$f":"NOW()","v":"2024-10-09T14:04:13.510"}]
[]
[]
[]
[]
[]
[null,"Sample Method","Sampled By:",null,null,"Sampled Date:"]
[null,"TX222"]
[]
[null,"TX251"]
[null,"Test Method","Tested By:",null,null,"Tested Date:"]
[null,"TX207"]
[]
[null,"TX227"]
[]
[null,"TX227PII"]
[]
[null,"TX207PI"]
[]
[null,"TX207PVI"]
[]
[null,"TX207PVIII"]
[null,"Test Stamp Code:",null,null,"Omit Test:","Completed Date:","Reviewed By:"]
[]
[null,"Locked By:","TxDOT:","District:","Area:"]
[]
[null,"Authorized By:",null,null,"Authorized Date:"]

{"sheet":"RX","index":1,"n_rows":129,"n_cols":9,"rows_kept":129,"cut":false,"hidden":true,"merged":[]}
[127]
["Fld_nbr","Value","Desc_1","Desc_2","Desc_3","Desc_4","Desc_5","Desc_6","Desc_7"]
[1,{"$f":"IF('HMAC Report'!$B$65=\"\",\"\",'HMAC Report'!$B$65)","v":""},{"$f":"'HMAC Report'!$B$64","v":"Remarks:"}]
[2,{"$f":"IF('HMAC Report'!$D$19=\"\",\"\",'HMAC Report'!$D$19)","v":""},{"$f":"IF('HMAC Report'!$B$19=\"\",\"\",'HMAC Report'!$B$19)","v":"COURSE\\LIFT:"}]
[3,{"$f":"IF('HMAC Report'!$C$75=\"\",\"\",'HMAC Report'!$C$75)","v":""},"Tested By ",{"$f":"IF('HMAC Report'!$B$75=\"\",\"\",'HMAC Report'!$B$75)","v":"TX207"}]
[4,{"$f":"IF('HMAC Report'!$F$75=\"\",\"\",'HMAC Report'!$F$75)","v":""},"Tested Date ",{"$f":"IF('HMAC Report'!$B$75=\"\",\"\",'HMAC Report'!$B$75)","v":"TX207"}]
[5,{"$f":"IF('HMAC Report'!$C$77=\"\",\"\",'HMAC Report'!$C$77)","v":""},"Tested By ",{"$f":"IF('HMAC Report'!$B$77=\"\",\"\",'HMAC Report'!$B$77)","v":"TX227"}]
[6,{"$f":"IF('HMAC Report'!$F$77=\"\",\"\",'HMAC Report'!$F$77)","v":""},"Tested Date ",{"$f":"IF('HMAC Report'!$B$77=\"\",\"\",'HMAC Report'!$B$77)","v":"TX227"}]
[7,{"$f":"IF('HMAC Report'!$E$24=\"\",\"\",'HMAC Report'!$E$24)","v":""},{"$f":"IF('HMAC Report'!$B$21=\"\",\"\",'HMAC Report'!$B$21)","v":"TEX-227-F : DETERMINATION OF RICE SPECIFIC GRAVITY "},{"$f":"IF('HMAC Report'!$B$23=\"\",\"\",'HMAC Report'!$B$23)","v":"Specific Gravity"},{"$f":"IF('HMAC Report'!$B$24=\"\",\"\",'HMAC Report'!$B$24)","v":"Wt. of Sample (g):"}]
[8,{"$f":"IF('HMAC Report'!$E$25=\"\",\"\",'HMAC Report'!$E$25)","v":""},{"$f":"IF('HMAC Report'!$B$21=\"\",\"\",'HMAC Report'!$B$21)","v":"TEX-227-F : DETERMINATION OF RICE SPECIFIC GRAVITY "},{"$f":"IF('HMAC Report'!$B$23=\"\",\"\",'HMAC Report'!$B$23)","v":"Specific Gravity"},{"$f":"IF('HMAC Report'!$B$25=\"\",\"\",'HMAC Report'!$B$25)","v":"Wt. of Pyc & Water (g):"}]
[9,{"$f":"IF('HMAC Report'!$E$26=\"\",\"\",'HMAC Report'!$E$26)","v":""},{"$f":"IF('HMAC Report'!$B$21=\"\",\"\",'HMAC Report'!$B$21)","v":"TEX-227-F : DETERMINATION OF RICE SPECIFIC GRAVITY "},{"$f":"IF('HMAC Report'!$B$23=\"\",\"\",'HMAC Report'!$B$23)","v":"Specific Gravity"},{"$f":"IF('HMAC Report'!$B$26=\"\",\"\",'HMAC Report'!$B$26)","v":"Wt. of Pyc, Water,& Sample (g):"}]
[10,{"$f":"IF('HMAC Report'!$E$28=\"\",\"\",'HMAC Report'!$E$28)","v":""},{"$f":"IF('HMAC Report'!$B$21=\"\",\"\",'HMAC Report'!$B$21)","v":"TEX-227-F : DETERMINATION OF RICE SPECIFIC GRAVITY "},{"$f":"IF('HMAC Report'!$B$23=\"\",\"\",'HMAC Report'!$B$23)","v":"Specific Gravity"},{"$f":"IF('HMAC Report'!$B$28=\"\",\"\",'HMAC Report'!$B$28)","v":"Rice Specific Gravity (Gr):"}]
[11,{"$f":"IF('HMAC Report'!$I$24=\"\",\"\",'HMAC Report'!$I$24)","v":""},{"$f":"IF('HMAC Report'!$B$21=\"\",\"\",'HMAC Report'!$B$21)","v":"TEX-227-F : DETERMINATION OF RICE SPECIFIC GRAVITY "},{"$f":"IF('HMAC Report'!$F$23=\"\",\"\",'HMAC Report'!$F$23)","v":"Specific Gravity Corrected for Water Absorption"},{"$f":"IF('HMAC Report'!$F$24=\"\",\"\",'HMAC Report'!$F$24)","v":"Wt. of Sample (g):"}]
[12,{"$f":"IF('HMAC Report'!$I$25=\"\",\"\",'HMAC Report'!$I$25)","v":""},{"$f":"IF('HMAC Report'!$B$21=\"\",\"\",'HMAC Report'!$B$21)","v":"TEX-227-F : DETERMINATION OF RICE SPECIFIC GRAVITY "},{"$f":"IF('HMAC Report'!$F$23=\"\",\"\",'HMAC Report'!$F$23)","v":"Specific Gravity Corrected for Water Absorption"},{"$f":"IF('HMAC Report'!$F$25=\"\",\"\",'HMAC Report'!$F$25)","v":"Wt. Saturated Surface Dry Sample (g):"}]
[13,{"$f":"IF('HMAC Report'!$I$26=\"\",\"\",'HMAC Report'!$I$26)","v":""},{"$f":"IF('HMAC Report'!$B$21=\"\",\"\",'HMAC Report'!$B$21)","v":"TEX-227-F : DETERMINATION OF RICE SPECIFIC GRAVITY "},{"$f":"IF('HMAC Report'!$F$23=\"\",\"\",'HMAC Report'!$F$23)","v":"Specific Gravity Corrected for Water Absorption"},{"$f":"IF('HMAC Report'!$F$26=\"\",\"\",'HMAC Report'!$F$26)","v":"Wt. of Pyc & Water (g):"}]
[14,{"$f":"IF('HMAC Report'!$I$27=\"\",\"\",'HMAC Report'!$I$27)","v":""},{"$f":"IF('HMAC Report'!$B$21=\"\",\"\",'HMAC Report'!$B$21)","v":"TEX-227-F : DETERMINATION OF RICE SPECIFIC GRAVITY "},{"$f":"IF('HMAC Report'!$F$23=\"\",\"\",'HMAC Report'!$F$23)","v":"Specific Gravity Corrected for Water Absorption"},{"$f":"IF('HMAC Report'!$F$27=\"\",\"\",'HMAC Report'!$F$27)","v":"Wt. of Pyc, Water,& Sample (g):"}]
[15,{"$f":"IF('HMAC Report'!$I$28=\"\",\"\",'HMAC Report'!$I$28)","v":""},{"$f":"IF('HMAC Report'!$B$21=\"\",\"\",'HMAC Report'!$B$21)","v":"TEX-227-F : DETERMINATION OF RICE SPECIFIC GRAVITY "},{"$f":"IF('HMAC Report'!$F$23=\"\",\"\",'HMAC Report'!$F$23)","v":"Specific Gravity Corrected for Water Absorption"},{"$f":"IF('HMAC Report'!$F$28=\"\",\"\",'HMAC Report'!$F$28)","v":"Rice Specific Gravity (Grc):"}]
[16,{"$f":"IF('HMAC Report'!$F$30=\"\",\"\",'HMAC Report'!$F$30)","v":""},{"$f":"IF('HMAC Report'!$B$21=\"\",\"\",'HMAC Report'!$B$21)","v":"TEX-227-F : DETERMINATION OF RICE SPECIFIC GRAVITY "},{"$f":"IF('HMAC Report'!$C$30=\"\",\"\",'HMAC Report'!$C$30)","v":"Percentage Difference:"}]
[17,{"$f":"IF('HMAC Report'!$F$31=\"\",\"\",'HMAC Report'!$F$31)","v":""},{"$f":"IF('HMAC Report'!$B$21=\"\",\"\",'HMAC Report'!$B$21)","v":"TEX-227-F : DETERMINATION OF RICE SPECIFIC GRAVITY "},{"$f":"IF('HMAC Report'!$C$31=\"\",\"\",'HMAC Report'!$C$31)","v":"Rice Specific Gravity (Grc):"}]
[18,{"$f":"IF('HMAC Report'!$D$36=\"\",\"\",'HMAC Report'!$D$36)","v":""},{"$f":"IF('HMAC Report'!$B$33=\"\",\"\",'HMAC Report'!$B$33)","v":"TEX-207-F : DETERMINING DENSITY & PROPERTIES OF BITUMINOUS MIXTURES"},{"$f":"IF('HMAC Report'!$B$36=\"\",\"\",'HMAC Report'!$B$36)","v":"Asphalt Content %:"}]
[19,{"$f":"IF('HMAC Report'!$G$36=\"\",\"\",'HMAC Report'!$G$36)","v":""},{"$f":"IF('HMAC Report'!$B$33=\"\",\"\",'HMAC Report'!$B$33)","v":"TEX-207-F : DETERMINING DENSITY & PROPERTIES OF BITUMINOUS MIXTURES"},{"$f":"IF('HMAC Report'!$E$36=\"\",\"\",'HMAC Report'!$E$36)","v":"Aggregate Content %:"}]
[20,{"$f":"IF('HMAC Report'!$E$38=\"\",\"\",'HMAC Report'!$E$38)","v":""},{"$f":"IF('HMAC Report'!$B$33=\"\",\"\",'HMAC Report'!$B$33)","v":"TEX-207-F : DETERMINING DENSITY & PROPERTIES OF BITUMINOUS MIXTURES"},{"$f":"IF('HMAC Report'!$B$38=\"\",\"\",'HMAC Report'!$B$38)","v":"G (Avg. Bulk SG) or Ge (Effective Bulk SG ):"}]
[21,{"$f":"IF('HMAC Report'!$E$39=\"\",\"\",'HMAC Report'!$E$39)","v":""},{"$f":"IF('HMAC Report'!$B$33=\"\",\"\",'HMAC Report'!$B$33)","v":"TEX-207-F : DETERMINING DENSITY & PROPERTIES OF BITUMINOUS MIXTURES"},{"$f":"IF('HMAC Report'!$B$39=\"\",\"\",'HMAC Report'!$B$39)","v":"G1 (SG of Asphalt):"}]
[22,{"$f":"IF('HMAC Report'!$I$38=\"\",\"\",'HMAC Report'!$I$38)","v":""},{"$f":"IF('HMAC Report'!$B$33=\"\",\"\",'HMAC Report'!$B$33)","v":"TEX-207-F : DETERMINING DENSITY & PROPERTIES OF BITUMINOUS MIXTURES"},{"$f":"IF('HMAC Report'!$F$38=\"\",\"\",'HMAC Report'!$F$38)","v":"Mix Design VMA:"}]
[23,{"$f":"IF('HMAC Report'!$I$39=\"\",\"\",'HMAC Report'!$I$39)","v":""},{"$f":"IF('HMAC Report'!$B$33=\"\",\"\",'HMAC Report'!$B$33)","v":"TEX-207-F : DETERMINING DENSITY & PROPERTIES OF BITUMINOUS MIXTURES"},{"$f":"IF('HMAC Report'!$F$39=\"\",\"\",'HMAC Report'!$F$39)","v":"Theoretical Max. SG from Mix Design:"}]
[24,{"$f":"IF('HMAC Report'!$D$41=\"\",\"\",'HMAC Report'!$D$41)","v":""},{"$f":"IF('HMAC Report'!$B$33=\"\",\"\",'HMAC Report'!$B$33)","v":"TEX-207-F : DETERMINING DENSITY & PROPERTIES OF BITUMINOUS MIXTURES"},{"$f":"IF('HMAC Report'!$B$41=\"\",\"\",'HMAC Report'!$B$41)","v":"Paraffin Used: "}]
[25,{"$f":"IF('HMAC Report'!$G$41=\"\",\"\",'HMAC Report'!$G$41)","v":""},{"$f":"IF('HMAC Report'!$B$33=\"\",\"\",'HMAC Report'!$B$33)","v":"TEX-207-F : DETERMINING DENSITY & PROPERTIES OF BITUMINOUS MIXTURES"},{"$f":"IF('HMAC Report'!$E$41=\"\",\"\",'HMAC Report'!$E$41)","v":"SG of Paraffin:"}]
[26,{"$f":"IF('HMAC Report'!$D$45=\"\",\"\",'HMAC Report'!$D$45)","v":""},{"$f":"IF('HMAC Report'!$B$33=\"\",\"\",'HMAC Report'!$B$33)","v":"TEX-207-F : DETERMINING DENSITY & PROPERTIES OF BITUMINOUS MIXTURES"},{"$f":"IF('HMAC Report'!$D$43=\"\",\"\",'HMAC Report'!$D$43)","v":"Laboratory"},{"$f":"IF('HMAC Report'!$D$44=\"\",\"\",'HMAC Report'!$D$44)","v":1},{"$f":"IF('HMAC Report'!$B$45=\"\",\"\",'HMAC Report'!$B$45)","v":"Specimen ID:"}]
[27,{"$f":"IF('HMAC Report'!$D$46=\"\",\"\",'HMAC Report'!$D$46)","v":""},{"$f":"IF('HMAC Report'!$B$33=\"\",\"\",'HMAC Report'!$B$33)","v":"TEX-207-F : DETERMINING DENSITY & PROPERTIES OF BITUMINOUS MIXTURES"},{"$f":"IF('HMAC Report'!$D$43=\"\",\"\",'HMAC Report'!$D$43)","v":"Laboratory"},{"$f":"IF('HMAC Report'!$D$44=\"\",\"\",'HMAC Report'!$D$44)","v":1},{"$f":"IF('HMAC Report'!$B$46=\"\",\"\",'HMAC Report'!$B$46)","v":"Specimen Height (in):"}]
[28,{"$f":"IF('HMAC Report'!$D$47=\"\",\"\",'HMAC Report'!$D$47)","v":""},{"$f":"IF('HMAC Report'!$B$33=\"\",\"\",'HMAC Report'!$B$33)","v":"TEX-207-F : DETERMINING DENSITY & PROPERTIES OF BITUMINOUS MIXTURES"},{"$f":"IF('HMAC Report'!$D$43=\"\",\"\",'HMAC Report'!$D$43)","v":"Laboratory"},{"$f":"IF('HMAC Report'!$D$44=\"\",\"\",'HMAC Report'!$D$44)","v":1},{"$f":"IF('HMAC Report'!$B$47=\"\",\"\",'HMAC Report'!$B$47)","v":"Wt of Specimen in Air (g):"}]
[29,{"$f":"IF('HMAC Report'!$D$48=\"\",\"\",'HMAC Report'!$D$48)","v":""},{"$f":"IF('HMAC Report'!$B$33=\"\",\"\",'HMAC Report'!$B$33)","v":"TEX-207-F : DETERMINING DENSITY & PROPERTIES OF BITUMINOUS MIXTURES"},{"$f":"IF('HMAC Report'!$D$43=\"\",\"\",'HMAC Report'!$D$43)","v":"Laboratory"},{"$f":"IF('HMAC Report'!$D$44=\"\",\"\",'HMAC Report'!$D$44)","v":1},{"$f":"IF('HMAC Report'!$B$48=\"\",\"\",'HMAC Report'!$B$48)","v":"Wt of Spec. in Water (g):"}]
[30,{"$f":"IF('HMAC Report'!$D$49=\"\",\"\",'HMAC Report'!$D$49)","v":""},{"$f":"IF('HMAC Report'!$B$33=\"\",\"\",'HMAC Report'!$B$33)","v":"TEX-207-F : DETERMINING DENSITY & PROPERTIES OF BITUMINOUS MIXTURES"},{"$f":"IF('HMAC Report'!$D$43=\"\",\"\",'HMAC Report'!$D$43)","v":"Laboratory"},{"$f":"IF('HMAC Report'!$D$44=\"\",\"\",'HMAC Report'!$D$44)","v":1},{"$f":"IF('HMAC Report'!$B$49=\"\",\"\",'HMAC Report'!$B$49)","v":"SSD Wt of Specimen in Air (g):"}]
[31,{"$f":"IF('HMAC Report'!$D$50=\"\",\"\",'HMAC Report'!$D$50)","v":""},{"$f":"IF('HMAC Report'!$B$33=\"\",\"\",'HMAC Report'!$B$33)","v":"TEX-207-F : DETERMINING DENSITY & PROPERTIES OF BITUMINOUS MIXTURES"},{"$f":"IF('HMAC Report'!$D$43=\"\",\"\",'HMAC Report'!$D$43)","v":"Laboratory"},{"$f":"IF('HMAC Report'!$D$44=\"\",\"\",'HMAC Report'!$D$44)","v":1},{"$f":"IF('HMAC Report'!$B$50=\"\",\"\",'HMAC Report'!$B$50)","v":"Gt (Theoretical Max. SG):"}]
[32,{"$f":"IF('HMAC Report'!$D$51=\"\",\"\",'HMAC Report'!$D$51)","v":""},{"$f":"IF('HMAC Report'!$B$33=\"\",\"\",'HMAC Report'!$B$33)","v":"TEX-207-F : DETERMINING DENSITY & PROPERTIES OF BITUMINOUS MIXTURES"},{"$f":"IF('HMAC Report'!$D$43=\"\",\"\",'HMAC Report'!$D$43)","v":"Laboratory"},{"$f":"IF('HMAC Report'!$D$44=\"\",\"\",'HMAC Report'!$D$44)","v":1},{"$f":"IF('HMAC Report'!$B$51=\"\",\"\",'HMAC Report'!$B$51)","v":"Gr (Rice SG):"}]
[33,{"$f":"IF('HMAC Report'!$D$52=\"\",\"\",'HMAC Report'!$D$52)","v":""},{"$f":"IF('HMAC Report'!$B$33=\"\",\"\",'HMAC Report'!$B$33)","v":"TEX-207-F : DETERMINING DENSITY & PROPERTIES OF BITUMINOUS MIXTURES"},{"$f":"IF('HMAC Report'!$D$43=\"\",\"\",'HMAC Report'!$D$43)","v":"Laboratory"},{"$f":"IF('HMAC Report'!$D$44=\"\",\"\",'HMAC Report'!$D$44)","v":1},{"$f":"IF('HMAC Report'!$B$52=\"\",\"\",'HMAC Report'!$B$52)","v":"Percent Absorption:"}]
[34,{"$f":"IF('HMAC Report'!$D$53=\"\",\"\",'HMAC Report'!$D$53)","v":""},{"$f":"IF('HMAC Report'!$B$33=\"\",\"\",'HMAC Report'!$B$33)","v":"TEX-207-F : DETERMINING DENSITY & PROPERTIES OF BITUMINOUS MIXTURES"},{"$f":"IF('HMAC Report'!$D$43=\"\",\"\",'HMAC Report'!$D$43)","v":"Laboratory"},{"$f":"IF('HMAC Report'!$D$44=\"\",\"\",'HMAC Report'!$D$44)","v":1},{"$f":"IF('HMAC Report'!$B$53=\"\",\"\",'HMAC Report'!$B$53)","v":"Paraffin Required:"}]
[35,{"$f":"IF('HMAC Report'!$D$54=\"\",\"\",'HMAC Report'!$D$54)","v":""},{"$f":"IF('HMAC Report'!$B$33=\"\",\"\",'HMAC Report'!$B$33)","v":"TEX-207-F : DETERMINING DENSITY & PROPERTIES OF BITUMINOUS MIXTURES"},{"$f":"IF('HMAC Report'!$D$43=\"\",\"\",'HMAC Report'!$D$43)","v":"Laboratory"},{"$f":"IF('HMAC Report'!$D$44=\"\",\"\",'HMAC Report'!$D$44)","v":1},{"$f":"IF('HMAC Report'!$B$54=\"\",\"\",'HMAC Report'!$B$54)","v":"Volume of Specimen:"}]
[36,{"$f":"IF('HMAC Report'!$D$55=\"\",\"\",'HMAC Report'!$D$55)","v":""},{"$f":"IF('HMAC Report'!$B$33=\"\",\"\",'HMAC Report'!$B$33)","v":"TEX-207-F : DETERMINING DENSITY & PROPERTIES OF BITUMINOUS MIXTURES"},{"$f":"IF('HMAC Report'!$D$43=\"\",\"\",'HMAC Report'!$D$43)","v":"Laboratory"},{"$f":"IF('HMAC Report'!$D$44=\"\",\"\",'HMAC Report'!$D$44)","v":1},{"$f":"IF('HMAC Report'!$B$55=\"\",\"\",'HMAC Report'!$B$55)","v":"Ga (Bulk SG):"}]
[37,{"$f":"IF('HMAC Report'!$D$56=\"\",\"\",'HMAC Report'!$D$56)","v":""},{"$f":"IF('HMAC Report'!$B$33=\"\",\"\",'HMAC Report'!$B$33)","v":"TEX-207-F : DETERMINING DENSITY & PROPERTIES OF BITUMINOUS MIXTURES"},{"$f":"IF('HMAC Report'!$D$43=\"\",\"\",'HMAC Report'!$D$43)","v":"Laboratory"},{"$f":"IF('HMAC Report'!$D$44=\"\",\"\",'HMAC Report'!$D$44)","v":1},{"$f":"IF('HMAC Report'!$B$56=\"\",\"\",'HMAC Report'!$B$56)","v":"Percent Density:"}]
[38,{"$f":"IF('HMAC Report'!$D$57=\"\",\"\",'HMAC Report'!$D$57)","v":""},{"$f":"IF('HMAC Report'!$B$33=\"\",\"\",'HMAC Report'!$B$33)","v":"TEX-207-F : DETERMINING DENSITY & PROPERTIES OF BITUMINOUS MIXTURES"},{"$f":"IF('HMAC Report'!$D$43=\"\",\"\",'HMAC Report'!$D$43)","v":"Laboratory"},{"$f":"IF('HMAC Report'!$D$44=\"\",\"\",'HMAC Report'!$D$44)","v":1},{"$f":"IF('HMAC Report'!$B$57=\"\",\"\",'HMAC Report'!$B$57)","v":"Percent Air Voids:"}]
[39,{"$f":"IF('HMAC Report'!$D$58=\"\",\"\",'HMAC Report'!$D$58)","v":""},{"$f":"IF('HMAC Report'!$B$33=\"\",\"\",'HMAC Report'!$B$33)","v":"TEX-207-F : DETERMINING DENSITY & PROPERTIES OF BITUMINOUS MIXTURES"},{"$f":"IF('HMAC Report'!$D$43=\"\",\"\",'HMAC Report'!$D$43)","v":"Laboratory"},{"$f":"IF('HMAC Report'!$D$44=\"\",\"\",'HMAC Report'!$D$44)","v":1},{"$f":"IF('HMAC Report'!$B$58=\"\",\"\",'HMAC Report'!$B$58)","v":"VMA:"}]
[40,{"$f":"IF('HMAC Report'!$E$45=\"\",\"\",'HMAC Report'!$E$45)","v":""},{"$f":"IF('HMAC Report'!$B$33=\"\",\"\",'HMAC Report'!$B$33)","v":"TEX-207-F : DETERMINING DENSITY & PROPERTIES OF BITUMINOUS MIXTURES"},{"$f":"IF('HMAC Report'!$D$43=\"\",\"\",'HMAC Report'!$D$43)","v":"Laboratory"},{"$f":"IF('HMAC Report'!$E$44=\"\",\"\",'HMAC Report'!$E$44)","v":2},{"$f":"IF('HMAC Report'!$B$45=\"\",\"\",'HMAC Report'!$B$45)","v":"Specimen ID:"}]
[41,{"$f":"IF('HMAC Report'!$E$46=\"\",\"\",'HMAC Report'!$E$46)","v":""},{"$f":"IF('HMAC Report'!$B$33=\"\",\"\",'HMAC Report'!$B$33)","v":"TEX-207-F : DETERMINING DENSITY & PROPERTIES OF BITUMINOUS MIXTURES"},{"$f":"IF('HMAC Report'!$D$43=\"\",\"\",'HMAC Report'!$D$43)","v":"Laboratory"},{"$f":"IF('HMAC Report'!$E$44=\"\",\"\",'HMAC Report'!$E$44)","v":2},{"$f":"IF('HMAC Report'!$B$46=\"\",\"\",'HMAC Report'!$B$46)","v":"Specimen Height (in):"}]
[42,{"$f":"IF('HMAC Report'!$E$47=\"\",\"\",'HMAC Report'!$E$47)","v":""},{"$f":"IF('HMAC Report'!$B$33=\"\",\"\",'HMAC Report'!$B$33)","v":"TEX-207-F : DETERMINING DENSITY & PROPERTIES OF BITUMINOUS MIXTURES"},{"$f":"IF('HMAC Report'!$D$43=\"\",\"\",'HMAC Report'!$D$43)","v":"Laboratory"},{"$f":"IF('HMAC Report'!$E$44=\"\",\"\",'HMAC Report'!$E$44)","v":2},{"$f":"IF('HMAC Report'!$B$47=\"\",\"\",'HMAC Report'!$B$47)","v":"Wt of Specimen in Air (g):"}]
[43,{"$f":"IF('HMAC Report'!$E$48=\"\",\"\",'HMAC Report'!$E$48)","v":""},{"$f":"IF('HMAC Report'!$B$33=\"\",\"\",'HMAC Report'!$B$33)","v":"TEX-207-F : DETERMINING DENSITY & PROPERTIES OF BITUMINOUS MIXTURES"},{"$f":"IF('HMAC Report'!$D$43=\"\",\"\",'HMAC Report'!$D$43)","v":"Laboratory"},{"$f":"IF('HMAC Report'!$E$44=\"\",\"\",'HMAC Report'!$E$44)","v":2},{"$f":"IF('HMAC Report'!$B$48=\"\",\"\",'HMAC Report'!$B$48)","v":"Wt of Spec. in Water (g):"}]
[44,{"$f":"IF('HMAC Report'!$E$49=\"\",\"\",'HMAC Report'!$E$49)","v":""},{"$f":"IF('HMAC Report'!$B$33=\"\",\"\",'HMAC Report'!$B$33)","v":"TEX-207-F : DETERMINING DENSITY & PROPERTIES OF BITUMINOUS MIXTURES"},{"$f":"IF('HMAC Report'!$D$43=\"\",\"\",'HMAC Report'!$D$43)","v":"Laboratory"},{"$f":"IF('HMAC Report'!$E$44=\"\",\"\",'HMAC Report'!$E$44)","v":2},{"$f":"IF('HMAC Report'!$B$49=\"\",\"\",'HMAC Report'!$B$49)","v":"SSD Wt of Specimen in Air (g):"}]
[45,{"$f":"IF('HMAC Report'!$E$50=\"\",\"\",'HMAC Report'!$E$50)","v":""},{"$f":"IF('HMAC Report'!$B$33=\"\",\"\",'HMAC Report'!$B$33)","v":"TEX-207-F : DETERMINING DENSITY & PROPERTIES OF BITUMINOUS MIXTURES"},{"$f":"IF('HMAC Report'!$D$43=\"\",\"\",'HMAC Report'!$D$43)","v":"Laboratory"},{"$f":"IF('HMAC Report'!$E$44=\"\",\"\",'HMAC Report'!$E$44)","v":2},{"$f":"IF('HMAC Report'!$B$50=\"\",\"\",'HMAC Report'!$B$50)","v":"Gt (Theoretical Max. SG):"}]
[46,{"$f":"IF('HMAC Report'!$E$51=\"\",\"\",'HMAC Report'!$E$51)","v":""},{"$f":"IF('HMAC Report'!$B$33=\"\",\"\",'HMAC Report'!$B$33)","v":"TEX-207-F : DETERMINING DENSITY & PROPERTIES OF BITUMINOUS MIXTURES"},{"$f":"IF('HMAC Report'!$D$43=\"\",\"\",'HMAC Report'!$D$43)","v":"Laboratory"},{"$f":"IF('HMAC Report'!$E$44=\"\",\"\",'HMAC Report'!$E$44)","v":2},{"$f":"IF('HMAC Report'!$B$51=\"\",\"\",'HMAC Report'!$B$51)","v":"Gr (Rice SG):"}]
[47,{"$f":"IF('HMAC Report'!$E$52=\"\",\"\",'HMAC Report'!$E$52)","v":""},{"$f":"IF('HMAC Report'!$B$33=\"\",\"\",'HMAC Report'!$B$33)","v":"TEX-207-F : DETERMINING DENSITY & PROPERTIES OF BITUMINOUS MIXTURES"},{"$f":"IF('HMAC Report'!$D$43=\"\",\"\",'HMAC Report'!$D$43)","v":"Laboratory"},{"$f":"IF('HMAC Report'!$E$44=\"\",\"\",'HMAC Report'!$E$44)","v":2},{"$f":"IF('HMAC Report'!$B$52=\"\",\"\",'HMAC Report'!$B$52)","v":"Percent Absorption:"}]
[48,{"$f":"IF('HMAC Report'!$E$53=\"\",\"\",'HMAC Report'!$E$53)","v":""},{"$f":"IF('HMAC Report'!$B$33=\"\",\"\",'HMAC Report'!$B$33)","v":"TEX-207-F : DETERMINING DENSITY & PROPERTIES OF BITUMINOUS MIXTURES"},{"$f":"IF('HMAC Report'!$D$43=\"\",\"\",'HMAC Report'!$D$43)","v":"Laboratory"},{"$f":"IF('HMAC Report'!$E$44=\"\",\"\",'HMAC Report'!$E$44)","v":2},{"$f":"IF('HMAC Report'!$B$53=\"\",\"\",'HMAC Report'!$B$53)","v":"Paraffin Required:"}]
[49,{"$f":"IF('HMAC Report'!$E$54=\"\",\"\",'HMAC Report'!$E$54)","v":""},{"$f":"IF('HMAC Report'!$B$33=\"\",\"\",'HMAC Report'!$B$33)","v":"TEX-207-F : DETERMINING DENSITY & PROPERTIES OF BITUMINOUS MIXTURES"},{"$f":"IF('HMAC Report'!$D$43=\"\",\"\",'HMAC Report'!$D$43)","v":"Laboratory"},{"$f":"IF('HMAC Report'!$E$44=\"\",\"\",'HMAC Report'!$E$44)","v":2},{"$f":"IF('HMAC Report'!$B$54=\"\",\"\",'HMAC Report'!$B$54)","v":"Volume of Specimen:"}]
[50,{"$f":"IF('HMAC Report'!$E$55=\"\",\"\",'HMAC Report'!$E$55)","v":""},{"$f":"IF('HMAC Report'!$B$33=\"\",\"\",'HMAC Report'!$B$33)","v":"TEX-207-F : DETERMINING DENSITY & PROPERTIES OF BITUMINOUS MIXTURES"},{"$f":"IF('HMAC Report'!$D$43=\"\",\"\",'HMAC Report'!$D$43)","v":"Laboratory"},{"$f":"IF('HMAC Report'!$E$44=\"\",\"\",'HMAC Report'!$E$44)","v":2},{"$f":"IF('HMAC Report'!$B$55=\"\",\"\",'HMAC Report'!$B$55)","v":"Ga (Bulk SG):"}]
[51,{"$f":"IF('HMAC Report'!$E$56=\"\",\"\",'HMAC Report'!$E$56)","v":""},{"$f":"IF('HMAC Report'!$B$33=\"\",\"\",'HMAC Report'!$B$33)","v":"TEX-207-F : DETERMINING DENSITY & PROPERTIES OF BITUMINOUS MIXTURES"},{"$f":"IF('HMAC Report'!$D$43=\"\",\"\",'HMAC Report'!$D$43)","v":"Laboratory"},{"$f":"IF('HMAC Report'!$E$44=\"\",\"\",'HMAC Report'!$E$44)","v":2},{"$f":"IF('HMAC Report'!$B$56=\"\",\"\",'HMAC Report'!$B$56)","v":"Percent Density:"}]
[52,{"$f":"IF('HMAC Report'!$E$57=\"\",\"\",'HMAC Report'!$E$57)","v":""},{"$f":"IF('HMAC Report'!$B$33=\"\",\"\",'HMAC Report'!$B$33)","v":"TEX-207-F : DETERMINING DENSITY & PROPERTIES OF BITUMINOUS MIXTURES"},{"$f":"IF('HMAC Report'!$D$43=\"\",\"\",'HMAC Report'!$D$43)","v":"Laboratory"},{"$f":"IF('HMAC Report'!$E$44=\"\",\"\",'HMAC Report'!$E$44)","v":2},{"$f":"IF('HMAC Report'!$B$57=\"\",\"\",'HMAC Report'!$B$57)","v":"Percent Air Voids:"}]
[53,{"$f":"IF('HMAC Report'!$E$58=\"\",\"\",'HMAC Report'!$E$58)","v":""},{"$f":"IF('HMAC Report'!$B$33=\"\",\"\",'HMAC Report'!$B$33)","v":"TEX-207-F : DETERMINING DENSITY & PROPERTIES OF BITUMINOUS MIXTURES"},{"$f":"IF('HMAC Report'!$D$43=\"\",\"\",'HMAC Report'!$D$43)","v":"Laboratory"},{"$f":"IF('HMAC Report'!$E$44=\"\",\"\",'HMAC Report'!$E$44)","v":2},{"$f":"IF('HMAC Report'!$B$58=\"\",\"\",'HMAC Report'!$B$58)","v":"VMA:"}]
[54,{"$f":"IF('HMAC Report'!$F$45=\"\",\"\",'HMAC Report'!$F$45)","v":""},{"$f":"IF('HMAC Report'!$B$33=\"\",\"\",'HMAC Report'!$B$33)","v":"TEX-207-F : DETERMINING DENSITY & PROPERTIES OF BITUMINOUS MIXTURES"},{"$f":"IF('HMAC Report'!$D$43=\"\",\"\",'HMAC Report'!$D$43)","v":"Laboratory"},{"$f":"IF('HMAC Report'!$F$44=\"\",\"\",'HMAC Report'!$F$44)","v":3},{"$f":"IF('HMAC Report'!$B$45=\"\",\"\",'HMAC Report'!$B$45)","v":"Specimen ID:"}]
[55,{"$f":"IF('HMAC Report'!$F$46=\"\",\"\",'HMAC Report'!$F$46)","v":""},{"$f":"IF('HMAC Report'!$B$33=\"\",\"\",'HMAC Report'!$B$33)","v":"TEX-207-F : DETERMINING DENSITY & PROPERTIES OF BITUMINOUS MIXTURES"},{"$f":"IF('HMAC Report'!$D$43=\"\",\"\",'HMAC Report'!$D$43)","v":"Laboratory"},{"$f":"IF('HMAC Report'!$F$44=\"\",\"\",'HMAC Report'!$F$44)","v":3},{"$f":"IF('HMAC Report'!$B$46=\"\",\"\",'HMAC Report'!$B$46)","v":"Specimen Height (in):"}]
[56,{"$f":"IF('HMAC Report'!$F$47=\"\",\"\",'HMAC Report'!$F$47)","v":""},{"$f":"IF('HMAC Report'!$B$33=\"\",\"\",'HMAC Report'!$B$33)","v":"TEX-207-F : DETERMINING DENSITY & PROPERTIES OF BITUMINOUS MIXTURES"},{"$f":"IF('HMAC Report'!$D$43=\"\",\"\",'HMAC Report'!$D$43)","v":"Laboratory"},{"$f":"IF('HMAC Report'!$F$44=\"\",\"\",'HMAC Report'!$F$44)","v":3},{"$f":"IF('HMAC Report'!$B$47=\"\",\"\",'HMAC Report'!$B$47)","v":"Wt of Specimen in Air (g):"}]
[57,{"$f":"IF('HMAC Report'!$F$48=\"\",\"\",'HMAC Report'!$F$48)","v":""},{"$f":"IF('HMAC Report'!$B$33=\"\",\"\",'HMAC Report'!$B$33)","v":"TEX-207-F : DETERMINING DENSITY & PROPERTIES OF BITUMINOUS MIXTURES"},{"$f":"IF('HMAC Report'!$D$43=\"\",\"\",'HMAC Report'!$D$43)","v":"Laboratory"},{"$f":"IF('HMAC Report'!$F$44=\"\",\"\",'HMAC Report'!$F$44)","v":3},{"$f":"IF('HMAC Report'!$B$48=\"\",\"\",'HMAC Report'!$B$48)","v":"Wt of Spec. in Water (g):"}]
[58,{"$f":"IF('HMAC Report'!$F$49=\"\",\"\",'HMAC Report'!$F$49)","v":""},{"$f":"IF('HMAC Report'!$B$33=\"\",\"\",'HMAC Report'!$B$33)","v":"TEX-207-F : DETERMINING DENSITY & PROPERTIES OF BITUMINOUS MIXTURES"},{"$f":"IF('HMAC Report'!$D$43=\"\",\"\",'HMAC Report'!$D$43)","v":"Laboratory"},{"$f":"IF('HMAC Report'!$F$44=\"\",\"\",'HMAC Report'!$F$44)","v":3},{"$f":"IF('HMAC Report'!$B$49=\"\",\"\",'HMAC Report'!$B$49)","v":"SSD Wt of Specimen in Air (g):"}]
[59,{"$f":"IF('HMAC Report'!$F$50=\"\",\"\",'HMAC Report'!$F$50)","v":""},{"$f":"IF('HMAC Report'!$B$33=\"\",\"\",'HMAC Report'!$B$33)","v":"TEX-207-F : DETERMINING DENSITY & PROPERTIES OF BITUMINOUS MIXTURES"},{"$f":"IF('HMAC Report'!$D$43=\"\",\"\",'HMAC Report'!$D$43)","v":"Laboratory"},{"$f":"IF('HMAC Report'!$F$44=\"\",\"\",'HMAC Report'!$F$44)","v":3},{"$f":"IF('HMAC Report'!$B$50=\"\",\"\",'HMAC Report'!$B$50)","v":"Gt (Theoretical Max. SG):"}]
[60,{"$f":"IF('HMAC Report'!$F$51=\"\",\"\",'HMAC Report'!$F$51)","v":""},{"$f":"IF('HMAC Report'!$B$33=\"\",\"\",'HMAC Report'!$B$33)","v":"TEX-207-F : DETERMINING DENSITY & PROPERTIES OF BITUMINOUS MIXTURES"},{"$f":"IF('HMAC Report'!$D$43=\"\",\"\",'HMAC Report'!$D$43)","v":"Laboratory"},{"$f":"IF('HMAC Report'!$F$44=\"\",\"\",'HMAC Report'!$F$44)","v":3},{"$f":"IF('HMAC Report'!$B$51=\"\",\"\",'HMAC Report'!$B$51)","v":"Gr (Rice SG):"}]
[61,{"$f":"IF('HMAC Report'!$F$52=\"\",\"\",'HMAC Report'!$F$52)","v":""},{"$f":"IF('HMAC Report'!$B$33=\"\",\"\",'HMAC Report'!$B$33)","v":"TEX-207-F : DETERMINING DENSITY & PROPERTIES OF BITUMINOUS MIXTURES"},{"$f":"IF('HMAC Report'!$D$43=\"\",\"\",'HMAC Report'!$D$43)","v":"Laboratory"},{"$f":"IF('HMAC Report'!$F$44=\"\",\"\",'HMAC Report'!$F$44)","v":3},{"$f":"IF('HMAC Report'!$B$52=\"\",\"\",'HMAC Report'!$B$52)","v":"Percent Absorption:"}]
[62,{"$f":"IF('HMAC Report'!$F$53=\"\",\"\",'HMAC Report'!$F$53)","v":""},{"$f":"IF('HMAC Report'!$B$33=\"\",\"\",'HMAC Report'!$B$33)","v":"TEX-207-F : DETERMINING DENSITY & PROPERTIES OF BITUMINOUS MIXTURES"},{"$f":"IF('HMAC Report'!$D$43=\"\",\"\",'HMAC Report'!$D$43)","v":"Laboratory"},{"$f":"IF('HMAC Report'!$F$44=\"\",\"\",'HMAC Report'!$F$44)","v":3},{"$f":"IF('HMAC Report'!$B$53=\"\",\"\",'HMAC Report'!$B$53)","v":"Paraffin Required:"}]
[63,{"$f":"IF('HMAC Report'!$F$54=\"\",\"\",'HMAC Report'!$F$54)","v":""},{"$f":"IF('HMAC Report'!$B$33=\"\",\"\",'HMAC Report'!$B$33)","v":"TEX-207-F : DETERMINING DENSITY & PROPERTIES OF BITUMINOUS MIXTURES"},{"$f":"IF('HMAC Report'!$D$43=\"\",\"\",'HMAC Report'!$D$43)","v":"Laboratory"},{"$f":"IF('HMAC Report'!$F$44=\"\",\"\",'HMAC Report'!$F$44)","v":3},{"$f":"IF('HMAC Report'!$B$54=\"\",\"\",'HMAC Report'!$B$54)","v":"Volume of Specimen:"}]
[64,{"$f":"IF('HMAC Report'!$F$55=\"\",\"\",'HMAC Report'!$F$55)","v":""},{"$f":"IF('HMAC Report'!$B$33=\"\",\"\",'HMAC Report'!$B$33)","v":"TEX-207-F : DETERMINING DENSITY & PROPERTIES OF BITUMINOUS MIXTURES"},{"$f":"IF('HMAC Report'!$D$43=\"\",\"\",'HMAC Report'!$D$43)","v":"Laboratory"},{"$f":"IF('HMAC Report'!$F$44=\"\",\"\",'HMAC Report'!$F$44)","v":3},{"$f":"IF('HMAC Report'!$B$55=\"\",\"\",'HMAC Report'!$B$55)","v":"Ga (Bulk SG):"}]
[65,{"$f":"IF('HMAC Report'!$F$56=\"\",\"\",'HMAC Report'!$F$56)","v":""},{"$f":"IF('HMAC Report'!$B$33=\"\",\"\",'HMAC Report'!$B$33)","v":"TEX-207-F : DETERMINING DENSITY & PROPERTIES OF BITUMINOUS MIXTURES"},{"$f":"IF('HMAC Report'!$D$43=\"\",\"\",'HMAC Report'!$D$43)","v":"Laboratory"},{"$f":"IF('HMAC Report'!$F$44=\"\",\"\",'HMAC Report'!$F$44)","v":3},{"$f":"IF('HMAC Report'!$B$56=\"\",\"\",'HMAC Report'!$B$56)","v":"Percent Density:"}]
[66,{"$f":"IF('HMAC Report'!$F$57=\"\",\"\",'HMAC Report'!$F$57)","v":""},{"$f":"IF('HMAC Report'!$B$33=\"\",\"\",'HMAC Report'!$B$33)","v":"TEX-207-F : DETERMINING DENSITY & PROPERTIES OF BITUMINOUS MIXTURES"},{"$f":"IF('HMAC Report'!$D$43=\"\",\"\",'HMAC Report'!$D$43)","v":"Laboratory"},{"$f":"IF('HMAC Report'!$F$44=\"\",\"\",'HMAC Report'!$F$44)","v":3},{"$f":"IF('HMAC Report'!$B$57=\"\",\"\",'HMAC Report'!$B$57)","v":"Percent Air Voids:"}]
[67,{"$f":"IF('HMAC Report'!$F$58=\"\",\"\",'HMAC Report'!$F$58)","v":""},{"$f":"IF('HMAC Report'!$B$33=\"\",\"\",'HMAC Report'!$B$33)","v":"TEX-207-F : DETERMINING DENSITY & PROPERTIES OF BITUMINOUS MIXTURES"},{"$f":"IF('HMAC Report'!$D$43=\"\",\"\",'HMAC Report'!$D$43)","v":"Laboratory"},{"$f":"IF('HMAC Report'!$F$44=\"\",\"\",'HMAC Report'!$F$44)","v":3},{"$f":"IF('HMAC Report'!$B$58=\"\",\"\",'HMAC Report'!$B$58)","v":"VMA:"}]
[68,{"$f":"IF('HMAC Report'!$G$45=\"\",\"\",'HMAC Report'!$G$45)","v":""},{"$f":"IF('HMAC Report'!$B$33=\"\",\"\",'HMAC Report'!$B$33)","v":"TEX-207-F : DETERMINING DENSITY & PROPERTIES OF BITUMINOUS MIXTURES"},{"$f":"IF('HMAC Report'!$G$43=\"\",\"\",'HMAC Report'!$G$43)","v":"Roadway"},{"$f":"IF('HMAC Report'!$G$44=\"\",\"\",'HMAC Report'!$G$44)","v":1},{"$f":"IF('HMAC Report'!$B$45=\"\",\"\",'HMAC Report'!$B$45)","v":"Specimen ID:"}]
[69,{"$f":"IF('HMAC Report'!$G$46=\"\",\"\",'HMAC Report'!$G$46)","v":""},{"$f":"IF('HMAC Report'!$B$33=\"\",\"\",'HMAC Report'!$B$33)","v":"TEX-207-F : DETERMINING DENSITY & PROPERTIES OF BITUMINOUS MIXTURES"},{"$f":"IF('HMAC Report'!$G$43=\"\",\"\",'HMAC Report'!$G$43)","v":"Roadway"},{"$f":"IF('HMAC Report'!$G$44=\"\",\"\",'HMAC Report'!$G$44)","v":1},{"$f":"IF('HMAC Report'!$B$46=\"\",\"\",'HMAC Report'!$B$46)","v":"Specimen Height (in):"}]
[70,{"$f":"IF('HMAC Report'!$G$47=\"\",\"\",'HMAC Report'!$G$47)","v":""},{"$f":"IF('HMAC Report'!$B$33=\"\",\"\",'HMAC Report'!$B$33)","v":"TEX-207-F : DETERMINING DENSITY & PROPERTIES OF BITUMINOUS MIXTURES"},{"$f":"IF('HMAC Report'!$G$43=\"\",\"\",'HMAC Report'!$G$43)","v":"Roadway"},{"$f":"IF('HMAC Report'!$G$44=\"\",\"\",'HMAC Report'!$G$44)","v":1},{"$f":"IF('HMAC Report'!$B$47=\"\",\"\",'HMAC Report'!$B$47)","v":"Wt of Specimen in Air (g):"}]
[71,{"$f":"IF('HMAC Report'!$G$48=\"\",\"\",'HMAC Report'!$G$48)","v":""},{"$f":"IF('HMAC Report'!$B$33=\"\",\"\",'HMAC Report'!$B$33)","v":"TEX-207-F : DETERMINING DENSITY & PROPERTIES OF BITUMINOUS MIXTURES"},{"$f":"IF('HMAC Report'!$G$43=\"\",\"\",'HMAC Report'!$G$43)","v":"Roadway"},{"$f":"IF('HMAC Report'!$G$44=\"\",\"\",'HMAC Report'!$G$44)","v":1},{"$f":"IF('HMAC Report'!$B$48=\"\",\"\",'HMAC Report'!$B$48)","v":"Wt of Spec. in Water (g):"}]
[72,{"$f":"IF('HMAC Report'!$G$49=\"\",\"\",'HMAC Report'!$G$49)","v":""},{"$f":"IF('HMAC Report'!$B$33=\"\",\"\",'HMAC Report'!$B$33)","v":"TEX-207-F : DETERMINING DENSITY & PROPERTIES OF BITUMINOUS MIXTURES"},{"$f":"IF('HMAC Report'!$G$43=\"\",\"\",'HMAC Report'!$G$43)","v":"Roadway"},{"$f":"IF('HMAC Report'!$G$44=\"\",\"\",'HMAC Report'!$G$44)","v":1},{"$f":"IF('HMAC Report'!$B$49=\"\",\"\",'HMAC Report'!$B$49)","v":"SSD Wt of Specimen in Air (g):"}]
[73,{"$f":"IF('HMAC Report'!$G$50=\"\",\"\",'HMAC Report'!$G$50)","v":""},{"$f":"IF('HMAC Report'!$B$33=\"\",\"\",'HMAC Report'!$B$33)","v":"TEX-207-F : DETERMINING DENSITY & PROPERTIES OF BITUMINOUS MIXTURES"},{"$f":"IF('HMAC Report'!$G$43=\"\",\"\",'HMAC Report'!$G$43)","v":"Roadway"},{"$f":"IF('HMAC Report'!$G$44=\"\",\"\",'HMAC Report'!$G$44)","v":1},{"$f":"IF('HMAC Report'!$B$50=\"\",\"\",'HMAC Report'!$B$50)","v":"Gt (Theoretical Max. SG):"}]
[74,{"$f":"IF('HMAC Report'!$G$51=\"\",\"\",'HMAC Report'!$G$51)","v":""},{"$f":"IF('HMAC Report'!$B$33=\"\",\"\",'HMAC Report'!$B$33)","v":"TEX-207-F : DETERMINING DENSITY & PROPERTIES OF BITUMINOUS MIXTURES"},{"$f":"IF('HMAC Report'!$G$43=\"\",\"\",'HMAC Report'!$G$43)","v":"Roadway"},{"$f":"IF('HMAC Report'!$G$44=\"\",\"\",'HMAC Report'!$G$44)","v":1},{"$f":"IF('HMAC Report'!$B$51=\"\",\"\",'HMAC Report'!$B$51)","v":"Gr (Rice SG):"}]
[75,{"$f":"IF('HMAC Report'!$G$52=\"\",\"\",'HMAC Report'!$G$52)","v":""},{"$f":"IF('HMAC Report'!$B$33=\"\",\"\",'HMAC Report'!$B$33)","v":"TEX-207-F : DETERMINING DENSITY & PROPERTIES OF BITUMINOUS MIXTURES"},{"$f":"IF('HMAC Report'!$G$43=\"\",\"\",'HMAC Report'!$G$43)","v":"Roadway"},{"$f":"IF('HMAC Report'!$G$44=\"\",\"\",'HMAC Report'!$G$44)","v":1},{"$f":"IF('HMAC Report'!$B$52=\"\",\"\",'HMAC Report'!$B$52)","v":"Percent Absorption:"}]
[76,{"$f":"IF('HMAC Report'!$G$53=\"\",\"\",'HMAC Report'!$G$53)","v":""},{"$f":"IF('HMAC Report'!$B$33=\"\",\"\",'HMAC Report'!$B$33)","v":"TEX-207-F : DETERMINING DENSITY & PROPERTIES OF BITUMINOUS MIXTURES"},{"$f":"IF('HMAC Report'!$G$43=\"\",\"\",'HMAC Report'!$G$43)","v":"Roadway"},{"$f":"IF('HMAC Report'!$G$44=\"\",\"\",'HMAC Report'!$G$44)","v":1},{"$f":"IF('HMAC Report'!$B$53=\"\",\"\",'HMAC Report'!$B$53)","v":"Paraffin Required:"}]
[77,{"$f":"IF('HMAC Report'!$G$54=\"\",\"\",'HMAC Report'!$G$54)","v":""},{"$f":"IF('HMAC Report'!$B$33=\"\",\"\",'HMAC Report'!$B$33)","v":"TEX-207-F : DETERMINING DENSITY & PROPERTIES OF BITUMINOUS MIXTURES"},{"$f":"IF('HMAC Report'!$G$43=\"\",\"\",'HMAC Report'!$G$43)","v":"Roadway"},{"$f":"IF('HMAC Report'!$G$44=\"\",\"\",'HMAC Report'!$G$44)","v":1},{"$f":"IF('HMAC Report'!$B$54=\"\",\"\",'HMAC Report'!$B$54)","v":"Volume of Specimen:"}]
[78,{"$f":"IF('HMAC Report'!$G$55=\"\",\"\",'HMAC Report'!$G$55)","v":""},{"$f":"IF('HMAC Report'!$B$33=\"\",\"\",'HMAC Report'!$B$33)","v":"TEX-207-F : DETERMINING DENSITY & PROPERTIES OF BITUMINOUS MIXTURES"},{"$f":"IF('HMAC Report'!$G$43=\"\",\"\",'HMAC Report'!$G$43)","v":"Roadway"},{"$f":"IF('HMAC Report'!$G$44=\"\",\"\",'HMAC Report'!$G$44)","v":1},{"$f":"IF('HMAC Report'!$B$55=\"\",\"\",'HMAC Report'!$B$55)","v":"Ga (Bulk SG):"}]
[79,{"$f":"IF('HMAC Report'!$G$56=\"\",\"\",'HMAC Report'!$G$56)","v":""},{"$f":"IF('HMAC Report'!$B$33=\"\",\"\",'HMAC Report'!$B$33)","v":"TEX-207-F : DETERMINING DENSITY & PROPERTIES OF BITUMINOUS MIXTURES"},{"$f":"IF('HMAC Report'!$G$43=\"\",\"\",'HMAC Report'!$G$43)","v":"Roadway"},{"$f":"IF('HMAC Report'!$G$44=\"\",\"\",'HMAC Report'!$G$44)","v":1},{"$f":"IF('HMAC Report'!$B$56=\"\",\"\",'HMAC Report'!$B$56)","v":"Percent Density:"}]
[80,{"$f":"IF('HMAC Report'!$G$57=\"\",\"\",'HMAC Report'!$G$57)","v":""},{"$f":"IF('HMAC Report'!$B$33=\"\",\"\",'HMAC Report'!$B$33)","v":"TEX-207-F : DETERMINING DENSITY & PROPERTIES OF BITUMINOUS MIXTURES"},{"$f":"IF('HMAC Report'!$G$43=\"\",\"\",'HMAC Report'!$G$43)","v":"Roadway"},{"$f":"IF('HMAC Report'!$G$44=\"\",\"\",'HMAC Report'!$G$44)","v":1},{"$f":"IF('HMAC Report'!$B$57=\"\",\"\",'HMAC Report'!$B$57)","v":"Percent Air Voids:"}]
[81,{"$f":"IF('HMAC Report'!$G$58=\"\",\"\",'HMAC Report'!$G$58)","v":""},{"$f":"IF('HMAC Report'!$B$33=\"\",\"\",'HMAC Report'!$B$33)","v":"TEX-207-F : DETERMINING DENSITY & PROPERTIES OF BITUMINOUS MIXTURES"},{"$f":"IF('HMAC Report'!$G$43=\"\",\"\",'HMAC Report'!$G$43)","v":"Roadway"},{"$f":"IF('HMAC Report'!$G$44=\"\",\"\",'HMAC Report'!$G$44)","v":1},{"$f":"IF('HMAC Report'!$B$58=\"\",\"\",'HMAC Report'!$B$58)","v":"VMA:"}]
[82,{"$f":"IF('HMAC Report'!$H$45=\"\",\"\",'HMAC Report'!$H$45)","v":""},{"$f":"IF('HMAC Report'!$B$33=\"\",\"\",'HMAC Report'!$B$33)","v":"TEX-207-F : DETERMINING DENSITY & PROPERTIES OF BITUMINOUS MIXTURES"},{"$f":"IF('HMAC Report'!$G$43=\"\",\"\",'HMAC Report'!$G$43)","v":"Roadway"},{"$f":"IF('HMAC Report'!$H$44=\"\",\"\",'HMAC Report'!$H$44)","v":2},{"$f":"IF('HMAC Report'!$B$45=\"\",\"\",'HMAC Report'!$B$45)","v":"Specimen ID:"}]
[83,{"$f":"IF('HMAC Report'!$H$46=\"\",\"\",'HMAC Report'!$H$46)","v":""},{"$f":"IF('HMAC Report'!$B$33=\"\",\"\",'HMAC Report'!$B$33)","v":"TEX-207-F : DETERMINING DENSITY & PROPERTIES OF BITUMINOUS MIXTURES"},{"$f":"IF('HMAC Report'!$G$43=\"\",\"\",'HMAC Report'!$G$43)","v":"Roadway"},{"$f":"IF('HMAC Report'!$H$44=\"\",\"\",'HMAC Report'!$H$44)","v":2},{"$f":"IF('HMAC Report'!$B$46=\"\",\"\",'HMAC Report'!$B$46)","v":"Specimen Height (in):"}]
[84,{"$f":"IF('HMAC Report'!$H$47=\"\",\"\",'HMAC Report'!$H$47)","v":""},{"$f":"IF('HMAC Report'!$B$33=\"\",\"\",'HMAC Report'!$B$33)","v":"TEX-207-F : DETERMINING DENSITY & PROPERTIES OF BITUMINOUS MIXTURES"},{"$f":"IF('HMAC Report'!$G$43=\"\",\"\",'HMAC Report'!$G$43)","v":"Roadway"},{"$f":"IF('HMAC Report'!$H$44=\"\",\"\",'HMAC Report'!$H$44)","v":2},{"$f":"IF('HMAC Report'!$B$47=\"\",\"\",'HMAC Report'!$B$47)","v":"Wt of Specimen in Air (g):"}]
[85,{"$f":"IF('HMAC Report'!$H$48=\"\",\"\",'HMAC Report'!$H$48)","v":""},{"$f":"IF('HMAC Report'!$B$33=\"\",\"\",'HMAC Report'!$B$33)","v":"TEX-207-F : DETERMINING DENSITY & PROPERTIES OF BITUMINOUS MIXTURES"},{"$f":"IF('HMAC Report'!$G$43=\"\",\"\",'HMAC Report'!$G$43)","v":"Roadway"},{"$f":"IF('HMAC Report'!$H$44=\"\",\"\",'HMAC Report'!$H$44)","v":2},{"$f":"IF('HMAC Report'!$B$48=\"\",\"\",'HMAC Report'!$B$48)","v":"Wt of Spec. in Water (g):"}]
[86,{"$f":"IF('HMAC Report'!$H$49=\"\",\"\",'HMAC Report'!$H$49)","v":""},{"$f":"IF('HMAC Report'!$B$33=\"\",\"\",'HMAC Report'!$B$33)","v":"TEX-207-F : DETERMINING DENSITY & PROPERTIES OF BITUMINOUS MIXTURES"},{"$f":"IF('HMAC Report'!$G$43=\"\",\"\",'HMAC Report'!$G$43)","v":"Roadway"},{"$f":"IF('HMAC Report'!$H$44=\"\",\"\",'HMAC Report'!$H$44)","v":2},{"$f":"IF('HMAC Report'!$B$49=\"\",\"\",'HMAC Report'!$B$49)","v":"SSD Wt of Specimen in Air (g):"}]
[87,{"$f":"IF('HMAC Report'!$H$50=\"\",\"\",'HMAC Report'!$H$50)","v":""},{"$f":"IF('HMAC Report'!$B$33=\"\",\"\",'HMAC Report'!$B$33)","v":"TEX-207-F : DETERMINING DENSITY & PROPERTIES OF BITUMINOUS MIXTURES"},{"$f":"IF('HMAC Report'!$G$43=\"\",\"\",'HMAC Report'!$G$43)","v":"Roadway"},{"$f":"IF('HMAC Report'!$H$44=\"\",\"\",'HMAC Report'!$H$44)","v":2},{"$f":"IF('HMAC Report'!$B$50=\"\",\"\",'HMAC Report'!$B$50)","v":"Gt (Theoretical Max. SG):"}]
[88,{"$f":"IF('HMAC Report'!$H$51=\"\",\"\",'HMAC Report'!$H$51)","v":""},{"$f":"IF('HMAC Report'!$B$33=\"\",\"\",'HMAC Report'!$B$33)","v":"TEX-207-F : DETERMINING DENSITY & PROPERTIES OF BITUMINOUS MIXTURES"},{"$f":"IF('HMAC Report'!$G$43=\"\",\"\",'HMAC Report'!$G$43)","v":"Roadway"},{"$f":"IF('HMAC Report'!$H$44=\"\",\"\",'HMAC Report'!$H$44)","v":2},{"$f":"IF('HMAC Report'!$B$51=\"\",\"\",'HMAC Report'!$B$51)","v":"Gr (Rice SG):"}]
[89,{"$f":"IF('HMAC Report'!$H$52=\"\",\"\",'HMAC Report'!$H$52)","v":""},{"$f":"IF('HMAC Report'!$B$33=\"\",\"\",'HMAC Report'!$B$33)","v":"TEX-207-F : DETERMINING DENSITY & PROPERTIES OF BITUMINOUS MIXTURES"},{"$f":"IF('HMAC Report'!$G$43=\"\",\"\",'HMAC Report'!$G$43)","v":"Roadway"},{"$f":"IF('HMAC Report'!$H$44=\"\",\"\",'HMAC Report'!$H$44)","v":2},{"$f":"IF('HMAC Report'!$B$52=\"\",\"\",'HMAC Report'!$B$52)","v":"Percent Absorption:"}]
[90,{"$f":"IF('HMAC Report'!$H$53=\"\",\"\",'HMAC Report'!$H$53)","v":""},{"$f":"IF('HMAC Report'!$B$33=\"\",\"\",'HMAC Report'!$B$33)","v":"TEX-207-F : DETERMINING DENSITY & PROPERTIES OF BITUMINOUS MIXTURES"},{"$f":"IF('HMAC Report'!$G$43=\"\",\"\",'HMAC Report'!$G$43)","v":"Roadway"},{"$f":"IF('HMAC Report'!$H$44=\"\",\"\",'HMAC Report'!$H$44)","v":2},{"$f":"IF('HMAC Report'!$B$53=\"\",\"\",'HMAC Report'!$B$53)","v":"Paraffin Required:"}]
[91,{"$f":"IF('HMAC Report'!$H$54=\"\",\"\",'HMAC Report'!$H$54)","v":""},{"$f":"IF('HMAC Report'!$B$33=\"\",\"\",'HMAC Report'!$B$33)","v":"TEX-207-F : DETERMINING DENSITY & PROPERTIES OF BITUMINOUS MIXTURES"},{"$f":"IF('HMAC Report'!$G$43=\"\",\"\",'HMAC Report'!$G$43)","v":"Roadway"},{"$f":"IF('HMAC Report'!$H$44=\"\",\"\",'HMAC Report'!$H$44)","v":2},{"$f":"IF('HMAC Report'!$B$54=\"\",\"\",'HMAC Report'!$B$54)","v":"Volume of Specimen:"}]
[92,{"$f":"IF('HMAC Report'!$H$55=\"\",\"\",'HMAC Report'!$H$55)","v":""},{"$f":"IF('HMAC Report'!$B$33=\"\",\"\",'HMAC Report'!$B$33)","v":"TEX-207-F : DETERMINING DENSITY & PROPERTIES OF BITUMINOUS MIXTURES"},{"$f":"IF('HMAC Report'!$G$43=\"\",\"\",'HMAC Report'!$G$43)","v":"Roadway"},{"$f":"IF('HMAC Report'!$H$44=\"\",\"\",'HMAC Report'!$H$44)","v":2},{"$f":"IF('HMAC Report'!$B$55=\"\",\"\",'HMAC Report'!$B$55)","v":"Ga (Bulk SG):"}]
[93,{"$f":"IF('HMAC Report'!$H$56=\"\",\"\",'HMAC Report'!$H$56)","v":""},{"$f":"IF('HMAC Report'!$B$33=\"\",\"\",'HMAC Report'!$B$33)","v":"TEX-207-F : DETERMINING DENSITY & PROPERTIES OF BITUMINOUS MIXTURES"},{"$f":"IF('HMAC Report'!$G$43=\"\",\"\",'HMAC Report'!$G$43)","v":"Roadway"},{"$f":"IF('HMAC Report'!$H$44=\"\",\"\",'HMAC Report'!$H$44)","v":2},{"$f":"IF('HMAC Report'!$B$56=\"\",\"\",'HMAC Report'!$B$56)","v":"Percent Density:"}]
[94,{"$f":"IF('HMAC Report'!$H$57=\"\",\"\",'HMAC Report'!$H$57)","v":""},{"$f":"IF('HMAC Report'!$B$33=\"\",\"\",'HMAC Report'!$B$33)","v":"TEX-207-F : DETERMINING DENSITY & PROPERTIES OF BITUMINOUS MIXTURES"},{"$f":"IF('HMAC Report'!$G$43=\"\",\"\",'HMAC Report'!$G$43)","v":"Roadway"},{"$f":"IF('HMAC Report'!$H$44=\"\",\"\",'HMAC Report'!$H$44)","v":2},{"$f":"IF('HMAC Report'!$B$57=\"\",\"\",'HMAC Report'!$B$57)","v":"Percent Air Voids:"}]
[95,{"$f":"IF('HMAC Report'!$H$58=\"\",\"\",'HMAC Report'!$H$58)","v":""},{"$f":"IF('HMAC Report'!$B$33=\"\",\"\",'HMAC Report'!$B$33)","v":"TEX-207-F : DETERMINING DENSITY & PROPERTIES OF BITUMINOUS MIXTURES"},{"$f":"IF('HMAC Report'!$G$43=\"\",\"\",'HMAC Report'!$G$43)","v":"Roadway"},{"$f":"IF('HMAC Report'!$H$44=\"\",\"\",'HMAC Report'!$H$44)","v":2},{"$f":"IF('HMAC Report'!$B$58=\"\",\"\",'HMAC Report'!$B$58)","v":"VMA:"}]
[96,{"$f":"IF('HMAC Report'!$I$45=\"\",\"\",'HMAC Report'!$I$45)","v":""},{"$f":"IF('HMAC Report'!$B$33=\"\",\"\",'HMAC Report'!$B$33)","v":"TEX-207-F : DETERMINING DENSITY & PROPERTIES OF BITUMINOUS MIXTURES"},{"$f":"IF('HMAC Report'!$G$43=\"\",\"\",'HMAC Report'!$G$43)","v":"Roadway"},{"$f":"IF('HMAC Report'!$I$44=\"\",\"\",'HMAC Report'!$I$44)","v":3},{"$f":"IF('HMAC Report'!$B$45=\"\",\"\",'HMAC Report'!$B$45)","v":"Specimen ID:"}]
[97,{"$f":"IF('HMAC Report'!$I$46=\"\",\"\",'HMAC Report'!$I$46)","v":""},{"$f":"IF('HMAC Report'!$B$33=\"\",\"\",'HMAC Report'!$B$33)","v":"TEX-207-F : DETERMINING DENSITY & PROPERTIES OF BITUMINOUS MIXTURES"},{"$f":"IF('HMAC Report'!$G$43=\"\",\"\",'HMAC Report'!$G$43)","v":"Roadway"},{"$f":"IF('HMAC Report'!$I$44=\"\",\"\",'HMAC Report'!$I$44)","v":3},{"$f":"IF('HMAC Report'!$B$46=\"\",\"\",'HMAC Report'!$B$46)","v":"Specimen Height (in):"}]
[98,{"$f":"IF('HMAC Report'!$I$47=\"\",\"\",'HMAC Report'!$I$47)","v":""},{"$f":"IF('HMAC Report'!$B$33=\"\",\"\",'HMAC Report'!$B$33)","v":"TEX-207-F : DETERMINING DENSITY & PROPERTIES OF BITUMINOUS MIXTURES"},{"$f":"IF('HMAC Report'!$G$43=\"\",\"\",'HMAC Report'!$G$43)","v":"Roadway"},{"$f":"IF('HMAC Report'!$I$44=\"\",\"\",'HMAC Report'!$I$44)","v":3},{"$f":"IF('HMAC Report'!$B$47=\"\",\"\",'HMAC Report'!$B$47)","v":"Wt of Specimen in Air (g):"}]
[99,{"$f":"IF('HMAC Report'!$I$48=\"\",\"\",'HMAC Report'!$I$48)","v":""},{"$f":"IF('HMAC Report'!$B$33=\"\",\"\",'HMAC Report'!$B$33)","v":"TEX-207-F : DETERMINING DENSITY & PROPERTIES OF BITUMINOUS MIXTURES"},{"$f":"IF('HMAC Report'!$G$43=\"\",\"\",'HMAC Report'!$G$43)","v":"Roadway"},{"$f":"IF('HMAC Report'!$I$44=\"\",\"\",'HMAC Report'!$I$44)","v":3},{"$f":"IF('HMAC Report'!$B$48=\"\",\"\",'HMAC Report'!$B$48)","v":"Wt of Spec. in Water (g):"}]
[100,{"$f":"IF('HMAC Report'!$I$49=\"\",\"\",'HMAC Report'!$I$49)","v":""},{"$f":"IF('HMAC Report'!$B$33=\"\",\"\",'HMAC Report'!$B$33)","v":"TEX-207-F : DETERMINING DENSITY & PROPERTIES OF BITUMINOUS MIXTURES"},{"$f":"IF('HMAC Report'!$G$43=\"\",\"\",'HMAC Report'!$G$43)","v":"Roadway"},{"$f":"IF('HMAC Report'!$I$44=\"\",\"\",'HMAC Report'!$I$44)","v":3},{"$f":"IF('HMAC Report'!$B$49=\"\",\"\",'HMAC Report'!$B$49)","v":"SSD Wt of Specimen in Air (g):"}]
[101,{"$f":"IF('HMAC Report'!$I$50=\"\",\"\",'HMAC Report'!$I$50)","v":""},{"$f":"IF('HMAC Report'!$B$33=\"\",\"\",'HMAC Report'!$B$33)","v":"TEX-207-F : DETERMINING DENSITY & PROPERTIES OF BITUMINOUS MIXTURES"},{"$f":"IF('HMAC Report'!$G$43=\"\",\"\",'HMAC Report'!$G$43)","v":"Roadway"},{"$f":"IF('HMAC Report'!$I$44=\"\",\"\",'HMAC Report'!$I$44)","v":3},{"$f":"IF('HMAC Report'!$B$50=\"\",\"\",'HMAC Report'!$B$50)","v":"Gt (Theoretical Max. SG):"}]
[102,{"$f":"IF('HMAC Report'!$I$51=\"\",\"\",'HMAC Report'!$I$51)","v":""},{"$f":"IF('HMAC Report'!$B$33=\"\",\"\",'HMAC Report'!$B$33)","v":"TEX-207-F : DETERMINING DENSITY & PROPERTIES OF BITUMINOUS MIXTURES"},{"$f":"IF('HMAC Report'!$G$43=\"\",\"\",'HMAC Report'!$G$43)","v":"Roadway"},{"$f":"IF('HMAC Report'!$I$44=\"\",\"\",'HMAC Report'!$I$44)","v":3},{"$f":"IF('HMAC Report'!$B$51=\"\",\"\",'HMAC Report'!$B$51)","v":"Gr (Rice SG):"}]
[103,{"$f":"IF('HMAC Report'!$I$52=\"\",\"\",'HMAC Report'!$I$52)","v":""},{"$f":"IF('HMAC Report'!$B$33=\"\",\"\",'HMAC Report'!$B$33)","v":"TEX-207-F : DETERMINING DENSITY & PROPERTIES OF BITUMINOUS MIXTURES"},{"$f":"IF('HMAC Report'!$G$43=\"\",\"\",'HMAC Report'!$G$43)","v":"Roadway"},{"$f":"IF('HMAC Report'!$I$44=\"\",\"\",'HMAC Report'!$I$44)","v":3},{"$f":"IF('HMAC Report'!$B$52=\"\",\"\",'HMAC Report'!$B$52)","v":"Percent Absorption:"}]
[104,{"$f":"IF('HMAC Report'!$I$53=\"\",\"\",'HMAC Report'!$I$53)","v":""},{"$f":"IF('HMAC Report'!$B$33=\"\",\"\",'HMAC Report'!$B$33)","v":"TEX-207-F : DETERMINING DENSITY & PROPERTIES OF BITUMINOUS MIXTURES"},{"$f":"IF('HMAC Report'!$G$43=\"\",\"\",'HMAC Report'!$G$43)","v":"Roadway"},{"$f":"IF('HMAC Report'!$I$44=\"\",\"\",'HMAC Report'!$I$44)","v":3},{"$f":"IF('HMAC Report'!$B$53=\"\",\"\",'HMAC Report'!$B$53)","v":"Paraffin Required:"}]
[105,{"$f":"IF('HMAC Report'!$I$54=\"\",\"\",'HMAC Report'!$I$54)","v":""},{"$f":"IF('HMAC Report'!$B$33=\"\",\"\",'HMAC Report'!$B$33)","v":"TEX-207-F : DETERMINING DENSITY & PROPERTIES OF BITUMINOUS MIXTURES"},{"$f":"IF('HMAC Report'!$G$43=\"\",\"\",'HMAC Report'!$G$43)","v":"Roadway"},{"$f":"IF('HMAC Report'!$I$44=\"\",\"\",'HMAC Report'!$I$44)","v":3},{"$f":"IF('HMAC Report'!$B$54=\"\",\"\",'HMAC Report'!$B$54)","v":"Volume of Specimen:"}]
[106,{"$f":"IF('HMAC Report'!$I$55=\"\",\"\",'HMAC Report'!$I$55)","v":""},{"$f":"IF('HMAC Report'!$B$33=\"\",\"\",'HMAC Report'!$B$33)","v":"TEX-207-F : DETERMINING DENSITY & PROPERTIES OF BITUMINOUS MIXTURES"},{"$f":"IF('HMAC Report'!$G$43=\"\",\"\",'HMAC Report'!$G$43)","v":"Roadway"},{"$f":"IF('HMAC Report'!$I$44=\"\",\"\",'HMAC Report'!$I$44)","v":3},{"$f":"IF('HMAC Report'!$B$55=\"\",\"\",'HMAC Report'!$B$55)","v":"Ga (Bulk SG):"}]
[107,{"$f":"IF('HMAC Report'!$I$56=\"\",\"\",'HMAC Report'!$I$56)","v":""},{"$f":"IF('HMAC Report'!$B$33=\"\",\"\",'HMAC Report'!$B$33)","v":"TEX-207-F : DETERMINING DENSITY & PROPERTIES OF BITUMINOUS MIXTURES"},{"$f":"IF('HMAC Report'!$G$43=\"\",\"\",'HMAC Report'!$G$43)","v":"Roadway"},{"$f":"IF('HMAC Report'!$I$44=\"\",\"\",'HMAC Report'!$I$44)","v":3},{"$f":"IF('HMAC Report'!$B$56=\"\",\"\",'HMAC Report'!$B$56)","v":"Percent Density:"}]
[108,{"$f":"IF('HMAC Report'!$I$57=\"\",\"\",'HMAC Report'!$I$57)","v":""},{"$f":"IF('HMAC Report'!$B$33=\"\",\"\",'HMAC Report'!$B$33)","v":"TEX-207-F : DETERMINING DENSITY & PROPERTIES OF BITUMINOUS MIXTURES"},{"$f":"IF('HMAC Report'!$G$43=\"\",\"\",'HMAC Report'!$G$43)","v":"Roadway"},{"$f":"IF('HMAC Report'!$I$44=\"\",\"\",'HMAC Report'!$I$44)","v":3},{"$f":"IF('HMAC Report'!$B$57=\"\",\"\",'HMAC Report'!$B$57)","v":"Percent Air Voids:"}]
[109,{"$f":"IF('HMAC Report'!$I$58=\"\",\"\",'HMAC Report'!$I$58)","v":""},{"$f":"IF('HMAC Report'!$B$33=\"\",\"\",'HMAC Report'!$B$33)","v":"TEX-207-F : DETERMINING DENSITY & PROPERTIES OF BITUMINOUS MIXTURES"},{"$f":"IF('HMAC Report'!$G$43=\"\",\"\",'HMAC Report'!$G$43)","v":"Roadway"},{"$f":"IF('HMAC Report'!$I$44=\"\",\"\",'HMAC Report'!$I$44)","v":3},{"$f":"IF('HMAC Report'!$B$58=\"\",\"\",'HMAC Report'!$B$58)","v":"VMA:"}]
[110,{"$f":"IF('HMAC Report'!$D$60=\"\",\"\",'HMAC Report'!$D$60)","v":""},{"$f":"IF('HMAC Report'!$B$33=\"\",\"\",'HMAC Report'!$B$33)","v":"TEX-207-F : DETERMINING DENSITY & PROPERTIES OF BITUMINOUS MIXTURES"},{"$f":"IF('HMAC Report'!$D$43=\"\",\"\",'HMAC Report'!$D$43)","v":"Laboratory"},{"$f":"IF('HMAC Report'!$B$60=\"\",\"\",'HMAC Report'!$B$60)","v":"Average % Density:"}]
[111,{"$f":"IF('HMAC Report'!$D$61=\"\",\"\",'HMAC Report'!$D$61)","v":""},{"$f":"IF('HMAC Report'!$B$33=\"\",\"\",'HMAC Report'!$B$33)","v":"TEX-207-F : DETERMINING DENSITY & PROPERTIES OF BITUMINOUS MIXTURES"},{"$f":"IF('HMAC Report'!$D$43=\"\",\"\",'HMAC Report'!$D$43)","v":"Laboratory"},{"$f":"IF('HMAC Report'!$B$61=\"\",\"\",'HMAC Report'!$B$61)","v":"Average % Air Voids:"}]
[112,{"$f":"IF('HMAC Report'!$D$62=\"\",\"\",'HMAC Report'!$D$62)","v":""},{"$f":"IF('HMAC Report'!$B$33=\"\",\"\",'HMAC Report'!$B$33)","v":"TEX-207-F : DETERMINING DENSITY & PROPERTIES OF BITUMINOUS MIXTURES"},{"$f":"IF('HMAC Report'!$D$43=\"\",\"\",'HMAC Report'!$D$43)","v":"Laboratory"},{"$f":"IF('HMAC Report'!$B$62=\"\",\"\",'HMAC Report'!$B$62)","v":"Average VMA:"}]
[113,{"$f":"IF('HMAC Report'!$G$60=\"\",\"\",'HMAC Report'!$G$60)","v":""},{"$f":"IF('HMAC Report'!$B$33=\"\",\"\",'HMAC Report'!$B$33)","v":"TEX-207-F : DETERMINING DENSITY & PROPERTIES OF BITUMINOUS MIXTURES"},{"$f":"IF('HMAC Report'!$G$43=\"\",\"\",'HMAC Report'!$G$43)","v":"Roadway"},{"$f":"IF('HMAC Report'!$B$60=\"\",\"\",'HMAC Report'!$B$60)","v":"Average % Density:"}]
[114,{"$f":"IF('HMAC Report'!$G$61=\"\",\"\",'HMAC Report'!$G$61)","v":""},{"$f":"IF('HMAC Report'!$B$33=\"\",\"\",'HMAC Report'!$B$33)","v":"TEX-207-F : DETERMINING DENSITY & PROPERTIES OF BITUMINOUS MIXTURES"},{"$f":"IF('HMAC Report'!$G$43=\"\",\"\",'HMAC Report'!$G$43)","v":"Roadway"},{"$f":"IF('HMAC Report'!$B$61=\"\",\"\",'HMAC Report'!$B$61)","v":"Average % Air Voids:"}]
[115,{"$f":"IF('HMAC Report'!$G$62=\"\",\"\",'HMAC Report'!$G$62)","v":""},{"$f":"IF('HMAC Report'!$B$33=\"\",\"\",'HMAC Report'!$B$33)","v":"TEX-207-F : DETERMINING DENSITY & PROPERTIES OF BITUMINOUS MIXTURES"},{"$f":"IF('HMAC Report'!$G$43=\"\",\"\",'HMAC Report'!$G$43)","v":"Roadway"},{"$f":"IF('HMAC Report'!$B$62=\"\",\"\",'HMAC Report'!$B$62)","v":"Average VMA:"}]
[116,{"$f":"IF('HMAC Report'!$C$81=\"\",\"\",'HMAC Report'!$C$81)","v":""},"Tested By ",{"$f":"IF('HMAC Report'!$B$81=\"\",\"\",'HMAC Report'!$B$81)","v":"TX207PI"}]
[117,{"$f":"IF('HMAC Report'!$F$81=\"\",\"\",'HMAC Report'!$F$81)","v":""},"Tested Date ",{"$f":"IF('HMAC Report'!$B$81=\"\",\"\",'HMAC Report'!$B$81)","v":"TX207PI"}]
[118,{"$f":"IF('HMAC Report'!$C$83=\"\",\"\",'HMAC Report'!$C$83)","v":""},"Tested By ",{"$f":"IF('HMAC Report'!$B$83=\"\",\"\",'HMAC Report'!$B$83)","v":"TX207PVI"}]
[119,{"$f":"IF('HMAC Report'!$F$83=\"\",\"\",'HMAC Report'!$F$83)","v":""},"Tested Date ",{"$f":"IF('HMAC Report'!$B$83=\"\",\"\",'HMAC Report'!$B$83)","v":"TX207PVI"}]
[120,{"$f":"IF('HMAC Report'!$C$85=\"\",\"\",'HMAC Report'!$C$85)","v":""},"Tested By ",{"$f":"IF('HMAC Report'!$B$85=\"\",\"\",'HMAC Report'!$B$85)","v":"TX207PVIII"}]
[121,{"$f":"IF('HMAC Report'!$F$85=\"\",\"\",'HMAC Report'!$F$85)","v":""},"Tested Date ",{"$f":"IF('HMAC Report'!$B$85=\"\",\"\",'HMAC Report'!$B$85)","v":"TX207PVIII"}]
[122,{"$f":"IF(testperson6=\"\",\"\",testperson6)","v":""},"Tested By ","TX227PII"]
[123,{"$f":"IF(testdate6=\"\",\"\",testdate6)","v":""},"Tested Date ","TX227PII"]
[124,{"$f":"IF('HMAC Report'!$C$71=\"\",\"\",'HMAC Report'!$C$71)","v":""},"Sampled By ",{"$f":"IF('HMAC Report'!$B$71=\"\",\"\",'HMAC Report'!$B$71)","v":"TX222"}]
[125,{"$f":"IF('HMAC Report'!$F$71=\"\",\"\",'HMAC Report'!$F$71)","v":""},"Sampled Date ",{"$f":"IF('HMAC Report'!$B$71=\"\",\"\",'HMAC Report'!$B$71)","v":"TX222"}]
[126,{"$f":"IF('HMAC Report'!$C$73=\"\",\"\",'HMAC Report'!$C$73)","v":""},"Sampled By ",{"$f":"IF('HMAC Report'!$B$73=\"\",\"\",'HMAC Report'!$B$73)","v":"TX251"}]
[127,{"$f":"IF('HMAC Report'!$F$73=\"\",\"\",'HMAC Report'!$F$73)","v":""},"Sampled Date ",{"$f":"IF('HMAC Report'!$B$73=\"\",\"\",'HMAC Report'!$B$73)","v":"TX251"}]