{"text_format":"1","workbook":"xlsx","n_sheets":11,"sheets":["Design Gradation","Patching Mix Gradations","AggSource","Custom Gradation","9202-ASPPM Approval","9202-SCM I Approval","9202-SCM II Approval","9202-CMA-SG","9202-CMA-WG","9202-NVM Approval","9203 Approval"],"not_rendered":{"charts":0,"images":1,"macros":1,"external_links":0,"defined_names":444,"comments":0,"pivot_tables":0},"unopened":[],"bounds":{"document_bytes":16777216,"sheet_cells":100000,"rows_first":2000,"rows_last":500,"rows_between":2000,"halvings":0,"cell_chars":16384,"cell_head_chars":4096},"cells_cut":0,"cells_raw":0,"read":"whole","date_system":"1900"}

{"sheet":"Design Gradation","index":0,"n_rows":37,"n_cols":22,"rows_kept":37,"cut":false,"hidden":false,"merged":[[14,5,14,8],[12,5,12,16],[5,13,5,16],[6,13,6,16],[7,13,7,16],[8,13,8,16],[5,9,5,12],[6,9,6,12],[7,9,7,12],[8,9,8,12],[5,5,5,8],[6,5,6,8],[7,5,7,8],[11,9,11,12],[10,1,10,4],[11,1,11,4],[10,9,10,12],[9,13,9,16],[10,13,10,16],[11,13,11,16],[5,1,5,4],[6,1,6,4],[7,1,7,4],[14,13,14,16],[14,1,14,4],[13,5,13,16],[14,9,14,12],[12,1,12,4],[8,5,8,8],[9,5,9,8],[8,1,8,4],[13,1,13,4],[10,5,10,8],[9,1,9,4],[11,5,11,8],[9,9,9,12],[22,18,22,21],[23,19,24,21],[34,1,34,2],[33,1,33,2],[32,1,32,2],[31,1,31,2],[30,1,30,2],[29,1,29,2],[28,1,28,2],[27,1,27,2],[24,1,24,3],[26,1,26,2],[16,4,16,17],[17,16,17,17],[17,14,17,15],[17,12,17,13],[17,10,17,11],[17,8,17,9],[17,6,17,7],[17,4,17,5],[20,10,20,11],[20,8,20,9],[20,6,20,7],[20,4,20,5],[19,16,19,17],[19,14,19,15],[19,12,19,13],[19,10,19,11],[19,8,19,9],[19,6,19,7],[35,1,35,2],[36,1,36,2],[19,4,19,5],[18,16,18,17],[18,14,18,15],[18,12,18,13],[18,10,18,11],[18,8,18,9],[18,6,18,7],[18,4,18,5],[18,1,18,3],[20,1,20,3],[19,1,19,3],[20,16,20,17],[20,14,20,15],[20,12,20,13]]}
[]
[null,"TEXAS DEPARTMENT OF TRANSPORTATION",null,null,null,null,null,null,null,null,null,null,null,null,null,null,null,null,261]
[]
[null,"PATCHING MIX DESIGN : COMBINED GRADATION",null,null,null,null,null,null,null,null,null,null,null,null,null,null,null,null,"Tx2Patch.xlsm::43143.639387"]
[null,null,null,null,null,null,null,null,null,null,null,null,null,null,null,null,{"$f":"\"TXTRAEI :: File Version: \" & TEXT(MID(SN,SEARCH(\"::\",SN,1)+2,20),\"mm/dd/yy hh:mm:ss\")","v":"TXTRAEI :: File Version: 02/12/18 15:20:43"}]
[null,"SAMPLE ID:",null,null,null,null,null,null,null,"SAMPLE DATE:"]
[null,"LOT NUMBER:",null,null,null,null,null,null,null,"LETTING DATE:",null,null,null,""]
[null,"SAMPLE STATUS:",null,null,null,null,null,null,null,"CONTROLLING CSJ:"]
[null,"COUNTY:",null,null,null,null,null,null,null,"SPEC YEAR:"]
[null,"SAMPLED BY:",null,null,null,null,null,null,null,"SPEC ITEM:"]
[null,"SAMPLE LOCATION:",null,null,null,null,null,null,null,"SPECIAL PROVISION:"]
[null,"MATERIAL CODE:",null,null,null,null,null,null,null,"MIX TYPE:",null,null,null,null,null,null,null,null,{"$f":"IF(Field1=\"Custom_Gradation\",\"Click Here\",\"\")","v":""}]
[null,"MATERIAL NAME:"]
[null,"PRODUCER:",null,null,null,""]
[null,"AREA ENGINEER:",null,null,null,null,null,null,null,"PROJECT MANAGER:"]
[]
[null,null,null,null,"AGGREGATE BIN FRACTIONS"]
[null,null,null,null,"Bin No.1",null,"Bin No.2",null,"Bin No.3",null,"Bin No.4",null,"Bin No.5",null,"Bin No.6",null,"Bin No.7"]
[null,"Aggregate Source:"]
[null,"Aggregate Pit:"]
[null,"Aggregate Number:"]
[]
[null,null,null,null,null,null,null,null,null,null,null,null,null,null,null,null,null,null,"Combined Gradation"]
[null,null,null,null,null,null,null,null,null,null,null,null,null,null,null,null,null,null,"Total Bin","Lower & Upper Specification\nLimits"]
[null,"Individual Bin (%):",null,null,null,"Percent",null,"Percent",null,"Percent",null,"Percent",null,"Percent",null,"Percent",null,"Percent",{"$f":"SUM(E25,G25,I25,K25,M25,O25,Q25)/100","v":0}]
[]
[null,"Sieve Size:",null,null,"Cum.%\nPassing","Wtd\nCum.%","Cum.%\nPassing","Wtd\nCum.%","Cum.%\nPassing","Wtd\nCum.%","Cum.%\nPassing","Wtd\nCum.%","Cum.%\nPassing","Wtd\nCum.%","Cum.%\nPassing","Wtd\nCum.%","Cum.%\nPassing","Wtd\nCum.%","Cum.%\nPassing","Lower","Upper","Within\nSpec's"]
[null,{"$f":"IF(ISERROR(T(INDEX(INDIRECT(Grade),1,))),\"\", T(INDEX(INDIRECT(Grade),1,2)))","v":""},null,{"$f":"IF(ISERROR(INDEX(INDIRECT(Grade),1,4)),0,INDEX(INDIRECT(Grade),1,4))","v":0},null,{"$f":"IF(E28=\"\",\"\",E28*(Bin1Frac/100))","v":""},null,{"$f":"IF(G28=\"\",\"\",G28*(Bin2Frac/100))","v":""},null,{"$f":"IF(I28=\"\",\"\",I28*(Bin3Frac/100))","v":""},null,{"$f":"IF(K28=\"\",\"\",K28*(Bin4Frac/100))","v":""},null,{"$f":"IF(M28=\"\",\"\",M28*(Bin5Frac/100))","v":""},null,{"$f":"IF(O28=\"\",\"\",O28*(Bin6Frac/100))","v":""},null,{"$f":"IF(Q28=\"\",\"\",Q28*(Bin7Frac/100))","v":""},{"$f":"IF(AND(F28=\"\",H28=\"\",J28=\"\",L28=\"\",N28=\"\",P28=\"\",R28=\"\"),\"\",SUM(F28,H28,J28,L28,N28,P28,R28))","v":""},{"$f":"IF(ISERROR(OR(INDEX(INDIRECT(Grade),1,5),INDEX(INDIRECT(Grade),1,6))),\"\",INDEX(INDIRECT(Grade),1,5))","v":""},{"$f":"IF(ISERROR(OR(INDEX(INDIRECT(Grade),1,5),INDEX(INDIRECT(Grade),1,6))),\"\",INDEX(INDIRECT(Grade),1,6))","v":""},{"$f":"IF(OR(T28=\"\",U28=\"\"),\"\",IF(OR(S28<T28,S28>U28),\"No\",\"Yes\"))","v":""}]
[null,{"$f":"IF(ISERROR(T(INDEX(INDIRECT(Grade),2,))),\"\",T(INDEX(INDIRECT(Grade),2,2)))","v":""},null,{"$f":"IF(ISERROR(INDEX(INDIRECT(Grade),2,4)),0,INDEX(INDIRECT(Grade),2,4))","v":0},null,"",null,"",null,"",null,"",null,"",null,"",null,"",{"$f":"IF(AND(F29=\"\",H29=\"\",J29=\"\",L29=\"\",N29=\"\",P29=\"\",R29=\"\"),\"\",SUM(F29,H29,J29,L29,N29,P29,R29))","v":""},{"$f":"IF(ISERROR(OR(INDEX(INDIRECT(Grade),2,5),INDEX(INDIRECT(Grade),2,6))),\"\",INDEX(INDIRECT(Grade),2,5))","v":""},{"$f":"IF(ISERROR(OR(INDEX(INDIRECT(Grade),2,5),INDEX(INDIRECT(Grade),2,6))),\"\",INDEX(INDIRECT(Grade),2,6))","v":""},{"$f":"IF(OR(T29=\"\",U29=\"\"),\"\",IF(OR(S29<T29,S29>U29),\"No\",\"Yes\"))","v":""}]
[null,{"$f":"IF(ISERROR(T(INDEX(INDIRECT(Grade),3,))),\"\",T(INDEX(INDIRECT(Grade),3,2)))","v":""},null,{"$f":"IF(ISERROR(INDEX(INDIRECT(Grade),3,4)),0,INDEX(INDIRECT(Grade),3,4))","v":0},null,"",null,"",null,"",null,"",null,"",null,"",null,"","",{"$f":"IF(ISERROR(OR(INDEX(INDIRECT(Grade),3,5),INDEX(INDIRECT(Grade),3,6))),\"\",INDEX(INDIRECT(Grade),3,5))","v":""},{"$f":"IF(ISERROR(OR(INDEX(INDIRECT(Grade),3,5),INDEX(INDIRECT(Grade),3,6))),\"\",INDEX(INDIRECT(Grade),3,6))","v":""},{"$f":"IF(OR(T30=\"\",U30=\"\"),\"\",IF(OR(S30<T30,S30>U30),\"No\",\"Yes\"))","v":""}]
[null,{"$f":"IF(ISERROR(T(INDEX(INDIRECT(Grade),4,))),\"\",T(INDEX(INDIRECT(Grade),4,2)))","v":""},null,{"$f":"IF(ISERROR(INDEX(INDIRECT(Grade),4,4)),0,INDEX(INDIRECT(Grade),4,4))","v":0},null,"",null,"",null,"",null,"",null,"",null,"",null,"","",{"$f":"IF(ISERROR(OR(INDEX(INDIRECT(Grade),4,5),INDEX(INDIRECT(Grade),4,6))),\"\",INDEX(INDIRECT(Grade),4,5))","v":""},{"$f":"IF(ISERROR(OR(INDEX(INDIRECT(Grade),4,5),INDEX(INDIRECT(Grade),4,6))),\"\",INDEX(INDIRECT(Grade),4,6))","v":""},{"$f":"IF(OR(T31=\"\",U31=\"\"),\"\",IF(OR(S31<T31,S31>U31),\"No\",\"Yes\"))","v":""}]
[null,{"$f":"IF(ISERROR(T(INDEX(INDIRECT(Grade),5,))),\"\",T(INDEX(INDIRECT(Grade),5,2)))","v":""},null,{"$f":"IF(ISERROR(INDEX(INDIRECT(Grade),5,4)),0,INDEX(INDIRECT(Grade),5,4))","v":0},null,"",null,"",null,"",null,"",null,"",null,"",null,"","",{"$f":"IF(ISERROR(OR(INDEX(INDIRECT(Grade),5,5),INDEX(INDIRECT(Grade),5,6))),\"\",INDEX(INDIRECT(Grade),5,5))","v":""},{"$f":"IF(ISERROR(OR(INDEX(INDIRECT(Grade),5,5),INDEX(INDIRECT(Grade),5,6))),\"\",INDEX(INDIRECT(Grade),5,6))","v":""},""]
[null,{"$f":"IF(ISERROR(T(INDEX(INDIRECT(Grade),6,))),\"\",T(INDEX(INDIRECT(Grade),6,2)))","v":""},null,{"$f":"IF(ISERROR(INDEX(INDIRECT(Grade),6,4)),0,INDEX(INDIRECT(Grade),6,4))","v":0},null,"",null,"",null,"",null,"",null,"",null,"",null,"","",{"$f":"IF(ISERROR(OR(INDEX(INDIRECT(Grade),6,5),INDEX(INDIRECT(Grade),6,6))),\"\",INDEX(INDIRECT(Grade),6,5))","v":""},{"$f":"IF(ISERROR(OR(INDEX(INDIRECT(Grade),6,5),INDEX(INDIRECT(Grade),6,6))),\"\",INDEX(INDIRECT(Grade),6,6))","v":""},""]
[null,{"$f":"IF(ISERROR(T(INDEX(INDIRECT(Grade),7,))),\"\",T(INDEX(INDIRECT(Grade),7,2)))","v":""},null,{"$f":"IF(ISERROR(INDEX(INDIRECT(Grade),7,4)),0,INDEX(INDIRECT(Grade),7,4))","v":0},null,"",null,"",null,"",null,"",null,"",null,"",null,"","",{"$f":"IF(ISERROR(OR(INDEX(INDIRECT(Grade),7,5),INDEX(INDIRECT(Grade),7,6))),\"\",INDEX(INDIRECT(Grade),7,5))","v":""},{"$f":"IF(ISERROR(OR(INDEX(INDIRECT(Grade),7,5),INDEX(INDIRECT(Grade),7,6))),\"\",INDEX(INDIRECT(Grade),7,6))","v":""},""]
[null,{"$f":"IF(ISERROR(T(INDEX(INDIRECT(Grade),8,))),\"\",T(INDEX(INDIRECT(Grade),8,2)))","v":""},null,{"$f":"IF(ISERROR(INDEX(INDIRECT(Grade),8,4)),0,INDEX(INDIRECT(Grade),8,4))","v":0},null,"",null,"",null,"",null,"",null,"",null,"",null,"","",{"$f":"IF(ISERROR(OR(INDEX(INDIRECT(Grade),8,5),INDEX(INDIRECT(Grade),8,6))),\"\",INDEX(INDIRECT(Grade),8,5))","v":""},{"$f":"IF(ISERROR(OR(INDEX(INDIRECT(Grade),8,5),INDEX(INDIRECT(Grade),8,6))),\"\",INDEX(INDIRECT(Grade),8,6))","v":""},{"$f":"IF(OR(T35=\"\",U35=\"\"),\"\",IF(OR(S35<T35,S35>U35),\"No\",\"Yes\"))","v":""}]
[null,{"$f":"IF(ISERROR(T(INDEX(INDIRECT(Grade),9,))),\"\",T(INDEX(INDIRECT(Grade),9,2)))","v":""},null,{"$f":"IF(ISERROR(INDEX(INDIRECT(Grade),9,4)),0,INDEX(INDIRECT(Grade),9,4))","v":0},null,{"$f":"IF(E36=\"\",\"\",E36*(Bin1Frac/100))","v":""},null,{"$f":"IF(G36=\"\",\"\",G36*(Bin2Frac/100))","v":""},null,{"$f":"IF(I36=\"\",\"\",I36*(Bin3Frac/100))","v":""},null,{"$f":"IF(K36=\"\",\"\",K36*(Bin4Frac/100))","v":""},null,{"$f":"IF(M36=\"\",\"\",M36*(Bin5Frac/100))","v":""},null,{"$f":"IF(O36=\"\",\"\",O36*(Bin6Frac/100))","v":""},null,{"$f":"IF(Q36=\"\",\"\",Q36*(Bin7Frac/100))","v":""},{"$f":"IF(AND(F36=\"\",H36=\"\",J36=\"\",L36=\"\",N36=\"\",P36=\"\",R36=\"\"),\"\",SUM(F36,H36,J36,L36,N36,P36,R36))","v":""},{"$f":"IF(ISERROR(OR(INDEX(INDIRECT(Grade),9,5),INDEX(INDIRECT(Grade),9,6))),\"\",INDEX(INDIRECT(Grade),9,5))","v":""},{"$f":"IF(ISERROR(OR(INDEX(INDIRECT(Grade),9,5),INDEX(INDIRECT(Grade),9,6))),\"\",INDEX(INDIRECT(Grade),9,6))","v":""},{"$f":"IF(OR(T36=\"\",U36=\"\"),\"\",IF(OR(S36<T36,S36>U36),\"No\",\"Yes\"))","v":""}]
[null,{"$f":"IF(ISERROR(T(INDEX(INDIRECT(Grade),10,))),\"\",T(INDEX(INDIRECT(Grade),10,2)))","v":""},null,{"$f":"IF(ISERROR(INDEX(INDIRECT(Grade),10,4)),0,INDEX(INDIRECT(Grade),10,4))","v":0},null,{"$f":"IF(E37=\"\",\"\",E37*(Bin1Frac/100))","v":""},null,{"$f":"IF(G37=\"\",\"\",G37*(Bin2Frac/100))","v":""},null,{"$f":"IF(I37=\"\",\"\",I37*(Bin3Frac/100))","v":""},null,{"$f":"IF(K37=\"\",\"\",K37*(Bin4Frac/100))","v":""},null,{"$f":"IF(M37=\"\",\"\",M37*(Bin5Frac/100))","v":""},null,{"$f":"IF(O37=\"\",\"\",O37*(Bin6Frac/100))","v":""},null,{"$f":"IF(Q37=\"\",\"\",Q37*(Bin7Frac/100))","v":""},{"$f":"IF(AND(F37=\"\",H37=\"\",J37=\"\",L37=\"\",N37=\"\",P37=\"\",R37=\"\"),\"\",SUM(F37,H37,J37,L37,N37,P37,R37))","v":""},{"$f":"IF(ISERROR(OR(INDEX(INDIRECT(Grade),10,5),INDEX(INDIRECT(Grade),10,6))),\"\",INDEX(INDIRECT(Grade),10,5))","v":""},{"$f":"IF(ISERROR(OR(INDEX(INDIRECT(Grade),10,5),INDEX(INDIRECT(Grade),10,6))),\"\",INDEX(INDIRECT(Grade),10,6))","v":""},{"$f":"IF(OR(T37=\"\",U37=\"\"),\"\",IF(OR(S37<T37,S37>U37),\"No\",\"Yes\"))","v":""}]

{"sheet":"Patching Mix Gradations","index":1,"n_rows":100,"n_cols":16,"rows_kept":100,"cut":false,"hidden":true,"merged":[[43,1,52,1],[24,1,29,1],[30,1,36,1],[37,1,42,1],[1,5,1,6],[4,1,10,1],[11,1,15,1],[16,1,23,1],[57,2,57,3],[57,4,57,5],[59,5,66,5],[59,4,66,4],[68,4,68,5],[92,4,99,4],[92,5,99,5],[90,2,90,3],[79,2,79,3],[68,2,68,3],[70,4,77,4],[70,5,77,5],[79,4,79,5],[81,4,88,4],[81,5,88,5],[90,4,90,5]]}
[]
[null,null,null,null,null,"Washed Sieve"]
[null,"Grade",null,null,null,"Min","Max",null,null,null,"MIX TYPES",null,"Gradation Table"]
[null,1,2,3,4,5,6,null,null,null,"DMS9202_Gradation_I",null,"English","Metric","Selection","Size"]
[null,"DMS 9202\nGradation I","1/2\"",null,12.5,100,100,null,null,null,"DMS9202_Gradation_II",null,"2\"","50 mm","2\"",50]
[null,null,"3/8\"",null,9.5,95,100,null,null,null,"DMS9202_Gradation_III",null,"1-3/4\"","45 mm","1-3/4\"",45]
[null,null,"No. 4",null,4.75,90,100,null,null,null,"DMS9202_Gradation_IV",null,"1-1/2\"","37.5 mm","1-1/2\"",37.5]
[null,null,"No. 10",null,2,10,30,null,null,null,"DMS9203_Dense_Graded",null,"1-1/4\"","31.5 mm","1-1/4\"",31.5]
[null,null," No. 40",null,0.42499999999999999,0,25,null,null,null,"DMS9203_Open_Graded",null,"1\"","25 mm","1\"",25]
[null,null," No. 80",null,0.18,0,10,null,null,null,"Custom_Gradation",null,"7/8\"","22.4 mm","7/8\"",22.4]
[null,null,"No. 200",null,7.4999999999999997E-2,0,5,null,null,null,null,null,"3/4\"","19 mm","3/4\"",19]
[null,"DMS 9202\nGradation II","1/2\"",null,12.5,100,100,null,null,null,null,null,"5/8\"","16 mm","5/8\"",16]
[null,null,"3/8\"",null,9.5,95,100,null,null,null,null,null,"1/2\"","12.5 mm","1/2\"",12.5]
[null,null,"No. 4",null,4.75,17,40,null,null,null,null,null,"7/16\"","11.2 mm","7/16\"",11.2]
[null,null,"No. 10",null,2,2,15,null,null,null,null,null,"3/8\"","9.5 mm","3/8\"",9.5]
[null,null,"No. 200",null,7.4999999999999997E-2,0,3,null,null,null,null,null,"5/16\"","8 mm","5/16\"",8]
[null,"DMS 9202\nGradation III","3/4\"",null,19,100,100,null,null,null,null,null,"1/4\"","6.3 mm","1/4\"",6.3]
[null,null,"1/2\"",null,12.5,70,90,null,null,null,null,null,"No. 4","4.75 mm","No. 4",4.75]
[null,null,"3/8\"",null,9.5,40,70,null,null,null,null,null,"No. 6","3.35 mm","No. 6",3.35]
[null,null,"No. 4",null,4.75,10,30,null,null,null,null,null,"No. 8","2.36 mm","No. 8",2.36]
[null,null,"No. 10",null,2,5,20,null,null,null,null,null,"No. 10","2 mm","No. 10",2]
[null,null," No. 40",null,0.42499999999999999,0,10,null,null,null,null,null,"No. 14","1.4 mm","No. 14",1.4]
[null,null," No. 80",null,0.18,0,5,null,null,null,null,null,"No. 16","1.18 mm","No. 16",1.18]
[null,null,"No. 200",null,7.4999999999999997E-2,0,4,null,null,null,null,null,"No. 20",".85 µm","No. 20",0.85]
[null,"DMS 9202\nGradation IV","3/8\"",null,9.5,100,100,null,null,null,null,null,"No. 30",".6 µm","No. 30",0.6]
[null,null,"No. 4",null,4.75,65,90,null,null,null,null,null,"No. 40",".425 µm","No. 40",0.42499999999999999]
[null,null,"No. 10",null,2,20,40,null,null,null,null,null,"No. 50",".3 µm","No. 50",0.3]
[null,null," No. 40",null,0.42499999999999999,10,30,null,null,null,null,null,"No. 80",".18 µm","No. 80",0.18]
[null,null," No. 80",null,0.18,0,15,null,null,null,null,null,"No. 100",".15 µm","No. 100",0.15]
[null,null,"No. 200",null,7.4999999999999997E-2,0,5,null,null,null,null,null,"No. 200",".075 µm","No. 200",7.4999999999999997E-2]
[null,"DMS 9203\nDense Graded","1/2\"",null,12.5,100,100]
[null,null,"3/8\"",null,9.5,95,100]
[null,null,"1/4\"",null,6.3,80,95]
[null,null,"No. 10",null,2,30,45]
[null,null," No. 40",null,0.42499999999999999,8,20]
[null,null," No. 80",null,0.18,5,10]
[null,null,"No. 200",null,7.4999999999999997E-2,2,8]
[null,"DMS 9203\nOpen Graded","3/4\"",null,19,100,100]
[null,null,"1/2\"",null,12.5,80,100]
[null,null,"3/8\"",null,9.5,35,60]
[null,null,"No. 4",null,4.75,0,30]
[null,null,"No. 8",null,2.36,1,15]
[null,null,"No. 200",null,7.4999999999999997E-2,1,6]
[null,"Custom Gradation",{"$f":"CustomSieve1","v":0},null,{"$f":"'Custom Gradation'!D4","v":{"$error":"#N/A"}},{"$f":"Field110","v":0},{"$f":"Field120","v":0}]
[null,null,{"$f":"CustomSieve2","v":0},null,{"$f":"'Custom Gradation'!D5","v":{"$error":"#N/A"}},{"$f":"Field111","v":0},{"$f":"Field121","v":0}]
[null,null,{"$f":"CustomSieve3","v":0},null,{"$f":"'Custom Gradation'!D6","v":{"$error":"#N/A"}},{"$f":"Field112","v":0},{"$f":"Field122","v":0},null,"SCM I & II"]
[null,null,{"$f":"CustomSieve4","v":0},null,{"$f":"'Custom Gradation'!D7","v":{"$error":"#N/A"}},{"$f":"Field113","v":0},{"$f":"Field123","v":0},null,"Gradation_I"]
[null,null,{"$f":"CustomSieve5","v":0},null,{"$f":"'Custom Gradation'!D8","v":{"$error":"#N/A"}},{"$f":"Field114","v":0},{"$f":"Field124","v":0},null,"Gradation_II"]
[null,null,{"$f":"CustomSieve6","v":0},null,{"$f":"'Custom Gradation'!D9","v":{"$error":"#N/A"}},{"$f":"Field115","v":0},{"$f":"Field125","v":0},null,"Gradation_IV"]
[null,null,{"$f":"CustomSieve7","v":0},null,{"$f":"'Custom Gradation'!D10","v":{"$error":"#N/A"}},{"$f":"Field116","v":0},{"$f":"Field126","v":0}]
[null,null,{"$f":"CustomSieve8","v":0},null,{"$f":"'Custom Gradation'!D11","v":{"$error":"#N/A"}},{"$f":"Field117","v":0},{"$f":"Field127","v":0},null,"CMA-WG"]
[null,null,{"$f":"CustomSieve9","v":0},null,{"$f":"'Custom Gradation'!D12","v":{"$error":"#N/A"}},{"$f":"Field118","v":0},{"$f":"Field128","v":0},null,"Gradation_II"]
[null,null,{"$f":"CustomSieve10","v":0},null,{"$f":"'Custom Gradation'!D13","v":{"$error":"#N/A"}},{"$f":"Field119","v":0},{"$f":"Field129","v":0},null,"Gradation_III"]
[]
[null,null,null,null,null,null,null,null,"NVM"]
[null,null,null,null,null,null,null,null,"Gradation_I"]
[null,9202,null,null,null,null,null,null,"Gradation_II"]
[null,null,"Gradation I",null,"AC%",null,null,null,"Gradation_III"]
[null,"Sieve Size","Min","Max","Min","Max",null,null,"Gradation_IV"]
[null,"3/4\"","-","-","-","-"]
[null,"1/2\"",100,100]
[null,"3/8\"",95,100]
[null,"No. 4",90,100]
[null,"No. 10",10,30]
[null,"No. 40",0,25]
[null,"No. 80",0,10]
[null,"No. 200",0,5]
[]
[null,null,"Gradation II",null,"AC%"]
[null,"Sieve Size","Min","Max","Min","Max"]
[null,"3/4\"","-","-",4.5,6.5]
[null,"1/2\"",100,100]
[null,"3/8\"",95,100]
[null,"No. 4",17,40]
[null,"No. 10",2,15]
[null,"No. 40","-","-"]
[null,"No. 80","-","-"]
[null,"No. 200",0,3]
[]
[null,null,"Gradation III",null,"AC%"]
[null,"Sieve Size","Min","Max","Min","Max"]
[null,"3/4\"",100,100,4,5.5]
[null,"1/2\"",70,90]
[null,"3/8\"",40,70]
[null,"No. 4",10,30]
[null,"No. 10",5,20]
[null,"No. 40",0,10]
[null,"No. 80",0,5]
[null,"No. 200",0,4]
[]
[null,null,"Gradation IV",null,"AC%"]
[null,"Sieve Size","Min","Max","Min","Max"]
[null,"3/4\"",100,100,5,7]
[null,"1/2\"",100,100]
[null,"3/8\"",100,100]
[null,"No. 4",65,90]
[null,"No. 10",20,40]
[null,"No. 40",10,30]
[null,"No. 80",0,15]
[null,"No. 200",0,5]

{"sheet":"AggSource","index":2,"n_rows":49,"n_cols":12,"rows_kept":49,"cut":false,"hidden":true,"merged":[[2,1,2,2],[2,3,2,4],[2,5,2,6],[2,7,2,8],[2,9,2,10]]}
[]
[null,"Version:08/1/2012"]
[null,"Sandstone",null,"Limestone-Dolomite",null,"Gravel",null,"Igneous",null,"Lightweight",null,"Aggregate Code"]
[null,"Apple (Sawyer, OK)","0050437",1604,1501506,"Aztec Canyon","0418814","Bird Hill",1523213,"Streetman",1817502,{"$f":"IF(ISERROR(VLOOKUP('Design Gradation'!$E$20,INDIRECT(Bin1Source & \"Table\"),2,FALSE)),\"\",VLOOKUP('Design Gradation'!$E$20,INDIRECT(Bin1Source & \"Table\"),2,FALSE))","v":""}]
[null,"Brownlee",1402704,"Ardmore, OK","0050412","Beck",2110901,"Cinder Mountain","0050313",null,null,{"$f":"IF(ISERROR(VLOOKUP('Design Gradation'!$G$20,INDIRECT(Bin2Source & \"Table\"),2,FALSE)),\"\",VLOOKUP('Design Gradation'!$G$20,INDIRECT(Bin2Source & \"Table\"),2,FALSE))","v":""}]
[null,"Byrd Pit","0050447","Balcones Quarry",1504602,"Big Creek","0411807","Davis, OK.","0050439",null,null,{"$f":"IF(ISERROR(VLOOKUP('Design Gradation'!$I$20,INDIRECT(Bin3Source & \"Table\"),2,FALSE)),\"\",VLOOKUP('Design Gradation'!$I$20,INDIRECT(Bin3Source & \"Table\"),2,FALSE))","v":""}]
[null,null,null,"Beckmann",1501503,"Boys Ranch","0418008","Jones Mill","0050122",null,null,{"$f":"IF(ISERROR(VLOOKUP('Design Gradation'!$K$20,INDIRECT(Bin4Source & \"Table\"),2,FALSE)),\"\",VLOOKUP('Design Gradation'!$K$20,INDIRECT(Bin4Source & \"Table\"),2,FALSE))","v":""}]
[null,null,null,"Bridgeport","0224904","Broken Bow S & G","0050451","Knippa",1523206,null,null,{"$f":"IF(ISERROR(VLOOKUP('Design Gradation'!$M$20,INDIRECT(Bin5Source&\"Table\"),2,FALSE)),\"\",VLOOKUP('Design Gradation'!$M$20,INDIRECT(Bin5Source&\"Table\"),2,FALSE))","v":""}]
[null,null,null,"Brownwood",2302501,"D and D",2215905,"McKelligon-Granite",2407206,null,null,{"$f":"IF(ISERROR(VLOOKUP('Design Gradation'!$O$20,INDIRECT(Bin6Source & \"Table\"),2,FALSE)),\"\",VLOOKUP('Design Gradation'!$O$20,INDIRECT(Bin6Source & \"Table\"),2,FALSE))","v":""}]
[null,null,null,"Burnet",1402701,"Fletcher Pit","2506508","Mill Creek (Grnt), OK.","0050433",null,null,{"$f":"IF(ISERROR(VLOOKUP('Design Gradation'!$Q$20,INDIRECT(Bin7Source & \"Table\"),2,FALSE)),\"\",VLOOKUP('Design Gradation'!$Q$20,INDIRECT(Bin7Source & \"Table\"),2,FALSE))","v":""}]
[null,null,null,"Butterfield",2407220,"Frasier Pit","2506509","Padre Canyon",2411613]
[null,null,null,"Chambers","0224921","Galo",2224019,"Plant 1 ","0050106"]
[null,null,null,"Chapman",1523211,"Hoban","0619502","Porcupine Mountain","0040105"]
[null,null,null,"Coleman, OK","0050414","Kritser-Fain","0418812","Snyder, OK.","0050435"]
[null,null,null,"Cooperton, OK","0050415","Las Viboras",2110905,"Vado","0050310"]
[null,null,null,"Eastland",2306805,"Little River","0050114"]
[null,null,null,"Feld",1424602,"LS Pit","0418002"]
[null,null,null,"FM 1283 Ranch","1516317","Luckett","0916104"]
[null,null,null,"Forbes Pit","0505803","Matador",2517309]
[null,null,null,"Gibbs","0901408","Mitchell Pit","0907401"]
[null,null,null,"Helotes",1501514,"Murphy ",1323505]
[null,null,null,"Huebner Road",1501507,"Pit 424",1716611]
[null,null,null,"Hunter",1504605,"Realitos",2106701]
[null,null,null,"I-35 @ Solms Rd.",1504606,"Reavis",2110906]
[null,null,null,"Lampasas Quarry",1402706,"Sawyer","0406510"]
[null,null,null,"Leach","0212001","Showers",2110904]
[null,null,null,"Lone Star",1504607,"Smith","0325205"]
[null,null,null,"Marble Falls",1402702,"South Noodle","0812803"]
[null,null,null,"Matrimar","0040103","Stockett","0400604"]
[null,null,null,"McKelligon Dolo",2407201,"Sweet 16",2206706]
[null,null,null,"Mico # 68",1516315,"Thrasher",2517302]
[null,null,null,"Mill Creek, OK","0050445","Woods","0505402"]
[null,null,null,"Naruna",1402711,"XIT S & G Pit","0418010"]
[null,null,null,"Nehemiah Pit","1410608"]
[null,null,null,"North Troy","0050448"]
[null,null,null,"Pate","0914710"]
[null,null,null,"Perch-Hill","0224901"]
[null,null,null,"Ramming","1424608"]
[null,null,null,"Rankin","0623102"]
[null,null,null,"Richards Spur","0050405"]
[null,null,null,"Ruby",1410607]
[null,null,null,"Servtex",1504603]
[null,null,null,"South Quarry","2407213"]
[null,null,null,"Spicewood",1402710]
[null,null,null,"Stringtown, OK","0050407"]
[null,null,null,"Tehuacana","0914708"]
[null,null,null,"Turner","0722611"]
[null,null,null,"Weatherford","0218409"]
[null,null,null,"Weir",1424603]

{"sheet":"Custom Gradation","index":3,"n_rows":13,"n_cols":8,"rows_kept":13,"cut":false,"hidden":true,"merged":[[1,4,1,5],[1,2,2,2],[1,3,2,3]]}
[]
[null,null,"Sieve Size",null,"Specification Limits"]
[null,null,null,null,"Lower","Upper "]
[null,{"$f":"IF(LEFT(CustomSieve1,2)=\"No\",CustomSieve1,LEFT(CustomSieve1,LEN(CustomSieve1)-1))","v":{"$error":"#VALUE!"}},null,{"$f":"IF(LEFT(CustomSieve1,1)=\"2\",50,VLOOKUP(C4,'Patching Mix Gradations'!O5:P30,2,FALSE))","v":{"$error":"#N/A"}},null,null,null,{"$f":"IF(Field1=\"Custom_Gradation\",\"Click Here\",\"\")","v":""}]
[null,{"$f":"IF(LEFT(CustomSieve2,2)=\"No\",CustomSieve2,LEFT(CustomSieve2,LEN(CustomSieve2)-1))","v":{"$error":"#VALUE!"}},null,{"$f":"IF(LEFT(CustomSieve2,1)=\"2\",50,VLOOKUP(C5,'Patching Mix Gradations'!O6:P31,2,FALSE))","v":{"$error":"#N/A"}}]
[null,{"$f":"IF(LEFT(CustomSieve3,2)=\"No\",CustomSieve3,LEFT(CustomSieve3,LEN(CustomSieve3)-1))","v":{"$error":"#VALUE!"}},null,{"$f":"IF(LEFT(CustomSieve3,1)=\"2\",50,VLOOKUP(C6,'Patching Mix Gradations'!O7:P32,2,FALSE))","v":{"$error":"#N/A"}}]
[null,{"$f":"IF(LEFT(CustomSieve4,2)=\"No\",CustomSieve4,LEFT(CustomSieve4,LEN(CustomSieve4)-1))","v":{"$error":"#VALUE!"}},null,{"$f":"IF(LEFT(CustomSieve4,1)=\"2\",50,VLOOKUP(C7,'Patching Mix Gradations'!O8:P33,2,FALSE))","v":{"$error":"#N/A"}}]
[null,{"$f":"IF(LEFT(CustomSieve5,2)=\"No\",CustomSieve5,LEFT(CustomSieve5,LEN(CustomSieve5)-1))","v":{"$error":"#VALUE!"}},null,{"$f":"IF(LEFT(CustomSieve5,1)=\"2\",50,VLOOKUP(C8,'Patching Mix Gradations'!O9:P34,2,FALSE))","v":{"$error":"#N/A"}}]
[null,{"$f":"IF(LEFT(CustomSieve6,2)=\"No\",CustomSieve6,LEFT(CustomSieve6,LEN(CustomSieve6)-1))","v":{"$error":"#VALUE!"}},null,{"$f":"IF(LEFT(CustomSieve6,1)=\"2\",50,VLOOKUP(C9,'Patching Mix Gradations'!O10:P35,2,FALSE))","v":{"$error":"#N/A"}}]
[null,{"$f":"IF(LEFT(CustomSieve7,2)=\"No\",CustomSieve7,LEFT(CustomSieve7,LEN(CustomSieve7)-1))","v":{"$error":"#VALUE!"}},null,{"$f":"IF(LEFT(CustomSieve7,1)=\"2\",50,VLOOKUP(C10,'Patching Mix Gradations'!O11:P36,2,FALSE))","v":{"$error":"#N/A"}}]
[null,{"$f":"IF(LEFT(CustomSieve8,2)=\"No\",CustomSieve8,LEFT(CustomSieve8,LEN(CustomSieve8)-1))","v":{"$error":"#VALUE!"}},null,{"$f":"IF(LEFT(CustomSieve8,1)=\"2\",50,VLOOKUP(C11,'Patching Mix Gradations'!O12:P37,2,FALSE))","v":{"$error":"#N/A"}}]
[null,{"$f":"IF(LEFT(CustomSieve9,2)=\"No\",CustomSieve9,LEFT(CustomSieve9,LEN(CustomSieve9)-1))","v":{"$error":"#VALUE!"}},null,{"$f":"IF(LEFT(CustomSieve9,1)=\"2\",50,VLOOKUP(C12,'Patching Mix Gradations'!O13:P38,2,FALSE))","v":{"$error":"#N/A"}}]
[null,{"$f":"IF(LEFT(CustomSieve10,2)=\"No\",CustomSieve10,LEFT(CustomSieve10,LEN(CustomSieve10)-1))","v":{"$error":"#VALUE!"}},null,{"$f":"IF(LEFT(CustomSieve10,1)=\"2\",50,VLOOKUP(C13,'Patching Mix Gradations'!O14:P39,2,FALSE))","v":{"$error":"#N/A"}}]

{"sheet":"9202-ASPPM Approval","index":4,"n_rows":55,"n_cols":7,"rows_kept":55,"cut":false,"hidden":false,"merged":[[54,6,54,7],[46,3,46,4],[49,3,49,4],[47,3,47,4],[51,3,51,4],[52,3,52,4],[0,1,1,6],[4,6,5,6],[28,1,29,1],[28,2,28,4],[2,2,2,6],[21,1,21,6],[7,1,7,6],[4,3,5,3],[4,4,5,4],[4,5,5,5],[3,1,3,6],[4,1,6,2],[27,1,27,6],[28,5,29,5],[28,6,29,6],[29,3,29,4],[44,1,44,6],[40,1,40,6],[41,1,41,2],[30,3,30,4],[36,3,36,4],[35,3,35,4],[34,3,34,4],[42,1,42,2],[41,3,41,5],[42,3,42,5],[33,3,33,4],[32,3,32,4],[31,3,31,4],[37,1,37,6],[38,2,38,4],[39,2,39,4]]}
[null,"DMS - 9202 ASPPM\nAsphaltic Concrete Patching Material (Stockpile Storage or Bagged)"]
[]
[null,"Sample ID:"]
[null,"All Season Pre-Coated Patching Mixture (ASPPM)"]
[null,"Asphalt pre-coat content on the coarse and fine aggregates. Must use AC-10, PG 64-22, or equivalent material in accordance with Item 300.",null,"Min","Max","Amount of\n Pre-coat","Meet\nRequirement?"]
[]
[null,null,null,1,null,null,{"$f":"IF(F7=\"\",\"\",IF(F7<1,\"FAIL\",\"PASS\"))","v":""}]
[null,"Asphalt Material Properties for ASPPM Binder"]
[null,"Property","Test Procedure","Min","Max","Sample Data","Meet\nRequirement?"]
[null,"Kinematic viscosity, 140°F, cSt","T 201",300,700,null,{"$f":"IF(F10=\"\",\"\",IF(F10<D10,\"FAIL\",IF(F10>E10,\"FAIL\",\"PASS\")))","v":""}]
[null,"Water, %","T 55","--",0.1,null,{"$f":"IF(F11=\"\",\"\",IF(F11>E11,\"FAIL\",\"PASS\"))","v":""}]
[null,"Flash point, T.O.C., °F","T 79",250,"--",null,{"$f":"IF(F12=\"\",\"\",IF(F12<D12,\"FAIL\",\"PASS\"))","v":""}]
[null,"Distillation test:","T 78"]
[null,"  Distillate, percentage by volume of total\n  distillate to 680°F"]
[null,"        to 437°F",null,0,0,null,{"$f":"IF(F15=\"\",\"\",IF(F15=0,\"PASS\",\"FAIL\"))","v":""}]
[null,"        to 500°F",null,0,5,null,{"$f":"IF(F16=\"\",\"\",IF(F16>E16,\"FAIL\", IF(F16<0,\"FAIL\",\"PASS\")))","v":""}]
[null,"        to 600°F",null,55,"--",null,{"$f":"IF(F17=\"\",\"\",IF(F17<D17,\"FAIL\",\"PASS\"))","v":""}]
[null,"  Residue from distillation, volume %",null,73,100,null,{"$f":"IF(F18=\"\",\"\",IF(F18<D18,\"FAIL\",IF(F18>E18,\"FAIL\",\"PASS\")))","v":""}]
[null,"Tests on distillation residue:"]
[null,"  Penetration, 100 g, 5 sec., 77°F","T 49",200,"--",null,{"$f":"IF(F20=\"\",\"\",IF(F20<D20,\"FAIL\",\"PASS\"))","v":""}]
[null,"  Solubility in trichloroethylene, %","T 44",99,"--",null,{"$f":"IF(F21=\"\",\"\",IF(F21<D21,\"FAIL\",\"PASS\"))","v":""}]
[null,"Mixture Property Testing Requirements"]
[null,"Residual Asphalt Content, exclusive of\nvolatiles, percent by weight","Tex-210-F",4,6,null,{"$f":"IF(F23=\"\",\"\",IF(F23<D23,\"FAIL\",IF(F23>E23,\"FAIL\",\"PASS\")))","v":""}]
[null,"Hydrocarbon Volatile Content of mix,\npercent by weight","Tex-213-F",0.3,1,null,{"$f":"IF(F24=\"\",\"\",IF(F24<D24,\"FAIL\",IF(F24>E24,\"FAIL\",\"PASS\")))","v":""}]
[null,"Moisture Content of mix (this requirement does not apply to mixtures produced at\nmixing temperatures of 174°F or less),\npercent by weight","Tex-212-F, Part I",null,2,null,{"$f":"IF(F25=\"\",\"\",IF(F25>E25,\"FAIL\",\"PASS\"))","v":""}]
[null,"Hveem Stability of as-received mix (no curing) at 77 ± 2°F, (molded at 77 ± 2°F)","Tex-208-F",35,null,null,{"$f":"IF(F26=\"\",\"\",IF(F26<D26,\"FAIL\",\"PASS\"))","v":""}]
[null,"Hveem Stability at 140°F, percent (cured and molded in accordance with Tex-206-F)","Tex-208-F",35,null,null,{"$f":"IF(F27=\"\",\"\",IF(F27<D27,\"FAIL\",\"PASS\"))","v":""}]
[null,"Aggregate Gradation Requirements (% Passing by Weight or Volume)1"]
[null,"Sieve Size","Gradation IV",null,null,"Sample\nGradation"]
[null,null,"Min","Max"]
[null,"3/8\"",100,100,null,null,{"$f":"IF(F31=\"\",\"\",IF(F31=D31,\"PASS\",\"FAIL\"))","v":""}]
[null,"No. 4",65,90,null,null,{"$f":"IF(F32=\"\",\"\",IF(F32<C32,\"FAIL\",IF(F32>D32,\"FAIL\",\"PASS\")))","v":""}]
[null,"No. 10",20,40,null,null,""]
[null,"No. 40",10,30,null,null,""]
[null,"No. 80",0,15,null,null,""]
[null,"No. 200",0,5,null,null,""]
[null,"AC %2",5,7,null,null,""]
[null,"Laboratory-Molded Density Requirements"]
[null,"Minimum","Maximum",null,null,"Sample Data"]
[null,90,96,null,null,null,{"$f":"IF(F40=\"\",\"\",IF(F40<B40,\"FAIL\",IF(F40>C40,\"FAIL\",\"PASS\")))","v":""}]
[null,"Resistance to Water Damage"]
[null,"Property",null,"Amount of Stripping"]
[null,"Resistance to water damage of as-received mix at 140 ± 2°F\nfor 24 ± 2 hours. No evidence of stripping is allowed.",null,null,null,null,{"$f":"IF(D43=\"\",\"\",IF(D43>0,\"FAIL\",\"PASS\"))","v":""}]
[null,"1. Determine percent passing in accordance with Tex-200-F, Part II."]
[null,"2. Allowed range for asphalt content as measured according to Tex-210-F. \n    This asphalt content includes volatiles."]
[]
[null,"Tested By:","Tech Cert No:","Tested Date:"]
[]
[]
[]
[]
[null,"Licensed Professional Engineer:","License No:","Authorized Date:"]
[]
[]
[null,null,null,null,null,null,"Professional Engineer Stamp"]

{"sheet":"9202-SCM I Approval","index":5,"n_rows":52,"n_cols":7,"rows_kept":52,"cut":false,"hidden":false,"merged":[[46,3,46,4],[48,3,48,4],[49,3,49,4],[51,6,51,7],[39,1,39,2],[39,3,39,5],[40,1,40,6],[41,1,41,6],[43,3,43,4],[44,3,44,4],[38,1,38,2],[38,3,38,5],[27,3,27,4],[28,3,28,4],[29,3,29,4],[30,3,30,4],[31,3,31,4],[32,3,32,4],[33,3,33,4],[34,1,34,6],[35,2,35,4],[36,2,36,4],[37,1,37,6],[0,1,1,6],[2,2,2,6],[3,1,3,6],[17,1,17,6],[23,1,23,6],[26,3,26,4],[24,1,25,1],[24,2,24,4],[24,5,25,5],[24,6,25,6],[25,3,25,4]]}
[null,"DMS - 9202 SCM I (Special Cutback Material I)\nAsphaltic Concrete Patching Material (Stockpile Storage or Bagged)"]
[]
[null,"Sample ID:"]
[null,"Asphalt Material Properties for SCM I Binder"]
[null,"Property","Test Procedure","Min","Max","Sample Data","Meet\nRequirement?"]
[null,"Kinematic viscosity, 140°F, cSt","T 201",500,1000,null,{"$f":"IF(F6=\"\",\"\",IF(F6<D6,\"FAIL\",IF(F6>E6,\"FAIL\",\"PASS\")))","v":""}]
[null,"Water, %","T 55","--",0.2,null,{"$f":"IF(F7=\"\",\"\",IF(F7>E7,\"FAIL\",\"PASS\"))","v":""}]
[null,"Flash point, T.O.C., °F","T 79",174,"--",null,{"$f":"IF(F8=\"\",\"\",IF(F8<D8,\"FAIL\",\"PASS\"))","v":""}]
[null,"Distillation test:","T 78"]
[null,"  Distillate, percentage by volume of total\n  distillate to 680°F"]
[null,"        to 437°F",null,0,0,null,{"$f":"IF(F11=\"\",\"\",IF(F11=0,\"PASS\",\"FAIL\"))","v":""}]
[null,"        to 500°F",null,0,0.5,null,{"$f":"IF(F12=\"\",\"\",IF(F12>E12,\"FAIL\", IF(F12<0,\"FAIL\",\"PASS\")))","v":""}]
[null,"        to 600°F",null,20,60,null,{"$f":"IF(F13=\"\",\"\",IF(F13<D13,\"FAIL\",IF(F13>E13,\"FAIL\",\"PASS\")))","v":""}]
[null,"  Residue from distillation, volume %",null,76,100,null,{"$f":"IF(F14=\"\",\"\",IF(F14<D14,\"FAIL\",IF(F14>E14,\"FAIL\",\"PASS\")))","v":""}]
[null,"Tests on distillation residue:"]
[null,"  Penetration, 100 g, 5 sec., 77°F","D 51",180,"--",null,{"$f":"IF(F16=\"\",\"\",IF(F16<D16,\"FAIL\",\"PASS\"))","v":""}]
[null,"  Solubility in trichloroethylene2, %","T 44",99,"--",null,{"$f":"IF(F17=\"\",\"\",IF(F17<D17,\"FAIL\",\"PASS\"))","v":""}]
[null,"Mixture Property Testing Requirements"]
[null,"Residual Asphalt Content, exclusive of\nvolatiles, percent by weight","Tex-210-F",3,7,null,{"$f":"IF(F19=\"\",\"\",IF(F19<D19,\"FAIL\",IF(F19>E19,\"FAIL\",\"PASS\")))","v":""}]
[null,"Hydrocarbon Volatile Content of mix,\npercent by weight","Tex-213-F",0.3,1,null,{"$f":"IF(F20=\"\",\"\",IF(F20<D20,\"FAIL\",IF(F20>E20,\"FAIL\",\"PASS\")))","v":""}]
[null,"Moisture Content of mix (this requirement does not apply to mixtures produced at\nmixing temperatures of 174°F or less),\npercent by weight","Tex-212-F, Part I",null,2,null,{"$f":"IF(F21=\"\",\"\",IF(F21>E21,\"FAIL\",\"PASS\"))","v":""}]
[null,"Hveem Stability of as-received mix (no curing) at 77 ± 2°F, (molded at 77 ± 2°F)","Tex-208-F",35,null,null,{"$f":"IF(F22=\"\",\"\",IF(F22<D22,\"FAIL\",\"PASS\"))","v":""}]
[null,"Hveem Stability at 140°F, percent (cured and molded in accordance with Tex-206-F)","Tex-208-F",35,null,null,{"$f":"IF(F23=\"\",\"\",IF(F23<D23,\"FAIL\",\"PASS\"))","v":""}]
[null,"Aggregate Gradation Requirements (% Passing by Weight or Volume)"]
[null,"Sieve Size",null,null,null,"Sample\nGradation"]
[null,null,"Min","Max"]
[null,"1/2\"",{"$f":"IF(ISERROR(INDEX(INDIRECT(Grade_1),2,2)),\"\",INDEX(INDIRECT(Grade_1),2,2))","v":""},{"$f":"IF(ISERROR(INDEX(INDIRECT(Grade_1),2,3)),\"\",INDEX(INDIRECT(Grade_1),2,3))","v":""},null,null,{"$f":"IF(F27=\"\",\"\",IF(F27<C27,\"FAIL\",IF(F27>D27,\"FAIL\",\"PASS\")))","v":""}]
[null,"3/8\"",{"$f":"IF(ISERROR(INDEX(INDIRECT(Grade_1),3,2)),\"\",INDEX(INDIRECT(Grade_1),3,2))","v":""},{"$f":"IF(ISERROR(INDEX(INDIRECT(Grade_1),3,3)),\"\",INDEX(INDIRECT(Grade_1),3,3))","v":""},null,null,{"$f":"IF(F28=\"\",\"\",IF(F28<C28,\"FAIL\",IF(F28>D28,\"FAIL\",\"PASS\")))","v":""}]
[null,"No. 4",{"$f":"IF(ISERROR(INDEX(INDIRECT(Grade_1),4,2)),\"\",INDEX(INDIRECT(Grade_1),4,2))","v":""},{"$f":"IF(ISERROR(INDEX(INDIRECT(Grade_1),4,3)),\"\",INDEX(INDIRECT(Grade_1),4,3))","v":""},null,null,""]
[null,"No. 10",{"$f":"IF(ISERROR(INDEX(INDIRECT(Grade_1),5,2)),\"\",INDEX(INDIRECT(Grade_1),5,2))","v":""},{"$f":"IF(ISERROR(INDEX(INDIRECT(Grade_1),5,3)),\"\",INDEX(INDIRECT(Grade_1),5,3))","v":""},null,null,""]
[null,"No. 40",{"$f":"IF(ISERROR(INDEX(INDIRECT(Grade_1),6,2)),\"\",INDEX(INDIRECT(Grade_1),6,2))","v":""},{"$f":"IF(ISERROR(INDEX(INDIRECT(Grade_1),6,3)),\"\",INDEX(INDIRECT(Grade_1),6,3))","v":""},null,null,""]
[null,"No. 80",{"$f":"IF(ISERROR(INDEX(INDIRECT(Grade_1),7,2)),\"\",INDEX(INDIRECT(Grade_1),7,2))","v":""},{"$f":"IF(ISERROR(INDEX(INDIRECT(Grade_1),7,3)),\"\",INDEX(INDIRECT(Grade_1),7,3))","v":""},null,null,""]
[null,"No. 200",{"$f":"IF(ISERROR(INDEX(INDIRECT(Grade_1),8,2)),\"\",INDEX(INDIRECT(Grade_1),8,2))","v":""},{"$f":"IF(ISERROR(INDEX(INDIRECT(Grade_1),8,3)),\"\",INDEX(INDIRECT(Grade_1),8,3))","v":""},null,null,""]
[null,"AC %3",{"$f":"IF(ISERROR(INDEX(INDIRECT(Grade_1),1,4)),\"\",INDEX(INDIRECT(Grade_1),1,4))","v":""},{"$f":"IF(ISERROR(INDEX(INDIRECT(Grade_1),1,5)),\"\",INDEX(INDIRECT(Grade_1),1,5))","v":""},null,null,{"$f":"IF(OR(F34=\"\",C34=\"-\"),\"\",IF(F34<C34,\"FAIL\",IF(F34>D34,\"FAIL\",\"PASS\")))","v":""}]
[null,"Laboratory-Molded Density Requirements"]
[null,"Minimum","Maximum",null,null,"Sample Data"]
[null,90,96,null,null,null,{"$f":"IF(F37=\"\",\"\",IF(F37<B37,\"FAIL\",IF(F37>C37,\"FAIL\",\"PASS\")))","v":""}]
[null,"Resistance to Water Damage"]
[null,"Property",null,"Amount of Stripping"]
[null,"Resistance to water damage of as-received mix at 140 ± 2°F\nfor 24 ± 2 hours. No evidence of stripping is allowed.",null,null,null,null,{"$f":"IF(D40=\"\",\"\",IF(D40>0,\"FAIL\",\"PASS\"))","v":""}]
[null,"1. Use cone conforming to ASTM D 217. Lower the level of water in the transfer dish to less than the height of the sample, and decant water from top of the sample before transferring from the bath to the penetrometer."]
[null,"2. Only perform this test if the binder does not appear homogenous."]
[null,"3. Allowed range for asphalt content as measured according to Tex-210-F. This asphalt content includes volatiles."]
[null,"Tested By:","Tech Cert No:","Tested Date:"]
[]
[]
[]
[]
[null,"Licensed Professional Engineer:","License No:","Authorized Date:"]
[]
[]
[null,null,null,null,null,null,"Professional Engineer Stamp"]

{"sheet":"9202-SCM II Approval","index":6,"n_rows":52,"n_cols":7,"rows_kept":52,"cut":false,"hidden":false,"merged":[[49,3,49,4],[51,6,51,7],[40,1,40,6],[41,1,41,6],[43,3,43,4],[44,3,44,4],[46,3,46,4],[48,3,48,4],[0,1,1,6],[2,2,2,6],[3,1,3,6],[17,1,17,6],[34,1,34,6],[32,3,32,4],[27,3,27,4],[28,3,28,4],[29,3,29,4],[30,3,30,4],[31,3,31,4],[23,1,23,6],[24,1,25,1],[24,2,24,4],[24,5,25,5],[24,6,25,6],[25,3,25,4],[39,1,39,2],[39,3,39,5],[33,3,33,4],[35,2,35,4],[37,1,37,6],[38,1,38,2],[38,3,38,5],[36,2,36,4],[26,3,26,4]]}
[null,"DMS - 9202 SCM II (Special Cutback Material II)\nAsphaltic Concrete Patching Material (Stockpile Storage or Bagged)"]
[]
[null,"Sample ID:"]
[null,"Asphalt Material Properties for SCM II Binder"]
[null,"Property","Test Procedure","Min","Max","Sample Data","Meet\nRequirement?"]
[null,"Kinematic viscosity, 140°F, cSt","T 201",1000,2000,null,{"$f":"IF(F6=\"\",\"\",IF(F6<D6,\"FAIL\",IF(F6>E6,\"FAIL\",\"PASS\")))","v":""}]
[null,"Water, %","T 55","--",0.2,null,{"$f":"IF(F7=\"\",\"\",IF(F7>E7,\"FAIL\",\"PASS\"))","v":""}]
[null,"Flash point, T.O.C., °F","T 79",174,"--",null,{"$f":"IF(F8=\"\",\"\",IF(F8<D8,\"FAIL\",\"PASS\"))","v":""}]
[null,"Distillation test:","T 78"]
[null,"  Distillate, percentage by volume of total\n  distillate to 680°F"]
[null,"        to 437°F",null,0,0,null,{"$f":"IF(F11=\"\",\"\",IF(F11=0,\"PASS\",\"FAIL\"))","v":""}]
[null,"        to 500°F",null,0,0.5,null,{"$f":"IF(F12=\"\",\"\",IF(F12>E12,\"FAIL\", IF(F12<0,\"FAIL\",\"PASS\")))","v":""}]
[null,"        to 600°F",null,15,50,null,{"$f":"IF(F13=\"\",\"\",IF(F13<D13,\"FAIL\",IF(F13>E13,\"FAIL\",\"PASS\")))","v":""}]
[null,"  Residue from distillation, volume %",null,82,100,null,{"$f":"IF(F14=\"\",\"\",IF(F14<D14,\"FAIL\",IF(F14>E14,\"FAIL\",\"PASS\")))","v":""}]
[null,"Tests on distillation residue:"]
[null,"  Penetration, 100 g, 5 sec., 77°F","D 51",180,"--",null,{"$f":"IF(F16=\"\",\"\",IF(F16<D16,\"FAIL\",\"PASS\"))","v":""}]
[null,"  Solubility in trichloroethylene2, %","T 44",99,"--",null,{"$f":"IF(F17=\"\",\"\",IF(F17<D17,\"FAIL\",\"PASS\"))","v":""}]
[null,"Mixture Property Testing Requirements"]
[null,"Residual Asphalt Content, exclusive of\nvolatiles, percent by weight","Tex-210-F",3,7,null,{"$f":"IF(F19=\"\",\"\",IF(F19<D19,\"FAIL\",IF(F19>E19,\"FAIL\",\"PASS\")))","v":""}]
[null,"Hydrocarbon Volatile Content of mix,\npercent by weight","Tex-213-F",0.3,1,null,{"$f":"IF(F20=\"\",\"\",IF(F20<D20,\"FAIL\",IF(F20>E20,\"FAIL\",\"PASS\")))","v":""}]
[null,"Moisture Content of mix (this requirement does not apply to mixtures produced at\nmixing temperatures of 174°F or less),\npercent by weight","Tex-212-F, Part I",null,2,null,{"$f":"IF(F21=\"\",\"\",IF(F21>E21,\"FAIL\",\"PASS\"))","v":""}]
[null,"Hveem Stability of as-received mix (no curing) at 77 ± 2°F, (molded at 77 ± 2°F)","Tex-208-F",35,null,null,{"$f":"IF(F22=\"\",\"\",IF(F22<D22,\"FAIL\",\"PASS\"))","v":""}]
[null,"Hveem Stability at 140°F, percent (cured and molded in accordance with Tex-206-F)","Tex-208-F",35,null,null,{"$f":"IF(F23=\"\",\"\",IF(F23<D23,\"FAIL\",\"PASS\"))","v":""}]
[null,"Aggregate Gradation Requirements (% Passing by Weight or Volume)"]
[null,"Sieve Size",null,null,null,"Sample\nGradation"]
[null,null,"Min","Max"]
[null,"1/2\"",{"$f":"IF(ISERROR(INDEX(INDIRECT(Grade2),2,2)),\"\",INDEX(INDIRECT(Grade2),2,2))","v":""},{"$f":"IF(ISERROR(INDEX(INDIRECT(Grade2),2,3)),\"\",INDEX(INDIRECT(Grade2),2,3))","v":""},null,null,{"$f":"IF(F27=\"\",\"\",IF(F27<C27,\"FAIL\",IF(F27>D27,\"FAIL\",\"PASS\")))","v":""}]
[null,"3/8\"",{"$f":"IF(ISERROR(INDEX(INDIRECT(Grade2),3,2)),\"\",INDEX(INDIRECT(Grade2),3,2))","v":""},{"$f":"IF(ISERROR(INDEX(INDIRECT(Grade2),3,3)),\"\",INDEX(INDIRECT(Grade2),3,3))","v":""},null,null,{"$f":"IF(F28=\"\",\"\",IF(F28<C28,\"FAIL\",IF(F28>D28,\"FAIL\",\"PASS\")))","v":""}]
[null,"No. 4",{"$f":"IF(ISERROR(INDEX(INDIRECT(Grade2),4,2)),\"\",INDEX(INDIRECT(Grade2),4,2))","v":""},{"$f":"IF(ISERROR(INDEX(INDIRECT(Grade2),4,3)),\"\",INDEX(INDIRECT(Grade2),4,3))","v":""},null,null,""]
[null,"No. 10",{"$f":"IF(ISERROR(INDEX(INDIRECT(Grade2),5,2)),\"\",INDEX(INDIRECT(Grade2),5,2))","v":""},{"$f":"IF(ISERROR(INDEX(INDIRECT(Grade2),5,3)),\"\",INDEX(INDIRECT(Grade2),5,3))","v":""},null,null,""]
[null,"No. 40",{"$f":"IF(ISERROR(INDEX(INDIRECT(Grade2),6,2)),\"\",INDEX(INDIRECT(Grade2),6,2))","v":""},{"$f":"IF(ISERROR(INDEX(INDIRECT(Grade2),6,3)),\"\",INDEX(INDIRECT(Grade2),6,3))","v":""},null,null,""]
[null,"No. 80",{"$f":"IF(ISERROR(INDEX(INDIRECT(Grade2),7,2)),\"\",INDEX(INDIRECT(Grade2),7,2))","v":""},{"$f":"IF(ISERROR(INDEX(INDIRECT(Grade2),7,3)),\"\",INDEX(INDIRECT(Grade2),7,3))","v":""},null,null,""]
[null,"No. 200",{"$f":"IF(ISERROR(INDEX(INDIRECT(Grade2),8,2)),\"\",INDEX(INDIRECT(Grade2),8,2))","v":""},{"$f":"IF(ISERROR(INDEX(INDIRECT(Grade2),8,3)),\"\",INDEX(INDIRECT(Grade2),8,3))","v":""},null,null,""]
[null,"AC %3",{"$f":"IF(ISERROR(INDEX(INDIRECT(Grade2),1,4)),\"\",INDEX(INDIRECT(Grade2),1,4))","v":""},{"$f":"IF(ISERROR(INDEX(INDIRECT(Grade2),1,5)),\"\",INDEX(INDIRECT(Grade2),1,5))","v":""},null,null,{"$f":"IF(OR(F34=\"\",C34=\"-\"),\"\",IF(F34<C34,\"FAIL\",IF(F34>D34,\"FAIL\",\"PASS\")))","v":""}]
[null,"Laboratory-Molded Density Requirements"]
[null,"Minimum","Maximum",null,null,"Sample Data"]
[null,90,96,null,null,null,{"$f":"IF(F37=\"\",\"\",IF(F37<B37,\"FAIL\",IF(F37>C37,\"FAIL\",\"PASS\")))","v":""}]
[null,"Resistance to Water Damage"]
[null,"Property",null,"Amount of Stripping"]
[null,"Resistance to water damage of as-received mix at 140 ± 2°F\nfor 24 ± 2 hours. No evidence of stripping is allowed.",null,null,null,null,{"$f":"IF(D40=\"\",\"\",IF(D40>0,\"FAIL\",\"PASS\"))","v":""}]
[null,"1. Use cone conforming to ASTM D 217. Lower the level of water in the transfer dish to less than the height of the sample, and decant water from top of the sample before transferring from the bath to the penetrometer."]
[null,"2. Only perform this test if the binder does not appear homogenous."]
[null,"3. Allowed range for asphalt content as measured according to Tex-210-F. This asphalt content includes volatiles."]
[null,"Tested By:","Tech Cert No:","Tested Date:"]
[]
[]
[]
[]
[null,"Licensed Professional Engineer:","License No:","Authorized Date:"]
[]
[]
[null,null,null,null,null,null,"Professional Engineer Stamp"]

{"sheet":"9202-CMA-SG","index":7,"n_rows":54,"n_cols":7,"rows_kept":54,"cut":false,"hidden":false,"merged":[[53,6,53,7],[43,1,43,6],[45,3,45,4],[46,3,46,4],[48,3,48,4],[50,3,50,4],[51,3,51,4],[42,1,42,6],[33,3,33,4],[34,3,34,4],[35,3,35,4],[36,1,36,6],[37,2,37,4],[38,2,38,4],[39,1,39,6],[40,1,40,2],[40,3,40,5],[41,1,41,2],[41,3,41,5],[32,3,32,4],[0,1,1,6],[2,2,2,6],[3,1,3,6],[18,1,18,6],[24,1,24,6],[25,1,26,1],[25,2,25,4],[25,5,26,5],[25,6,26,6],[26,3,26,4],[27,3,27,4],[28,3,28,4],[29,3,29,4],[30,3,30,4],[31,3,31,4]]}
[null,"DMS - 9202 CMA-SG (Cold Mix Summer Grade)\nAsphaltic Concrete Patching Material (Stockpile Storage or Bagged)"]
[]
[null,"Sample ID:"]
[null,"Asphalt Material Properties for CMA-SG Binder"]
[null,"Property","Test Procedure","Min","Max","Sample Data","Meet\nRequirement?"]
[null,"Viscosity, 77°F, Poises","D 49571",3000,5000,null,{"$f":"IF(F6=\"\",\"\",IF(F6<D6,\"FAIL\",IF(F6>E6,\"FAIL\",\"PASS\")))","v":""}]
[null,"Water, %","T 55","--",1,null,{"$f":"IF(F7=\"\",\"\",IF(F7>E7,\"FAIL\",\"PASS\"))","v":""}]
[null,"Flash point, T.O.C., °F","T 79",158,"--",null,{"$f":"IF(F8=\"\",\"\",IF(F8<D8,\"FAIL\",\"PASS\"))","v":""}]
[null,"Distillation test:","T 78"]
[null,"  Distillate, percentage by volume of total\n  distillate to 680°F"]
[null,"        to 437°F",null,0,0,null,{"$f":"IF(F11=\"\",\"\",IF(F11=0,\"PASS\",\"FAIL\"))","v":""}]
[null,"        to 500°F",null,0,5,null,{"$f":"IF(F12=\"\",\"\",IF(F12>E12,\"FAIL\", IF(F12<0,\"FAIL\",\"PASS\")))","v":""}]
[null,"        to 600°F",null,30,70,null,{"$f":"IF(F13=\"\",\"\",IF(F13<D13,\"FAIL\",IF(F13>E13,\"FAIL\",\"PASS\")))","v":""}]
[null,"  Residue from distillation, volume %",null,78,100,null,{"$f":"IF(F14=\"\",\"\",IF(F14<D14,\"FAIL\",IF(F14>E14,\"FAIL\",\"PASS\")))","v":""}]
[null,"Tests on distillation residue:"]
[null,"  Penetration, 100 g, 5 sec., 77°F","T 49",100,250,null,{"$f":"IF(F16=\"\",\"\",IF(F16<D16,\"FAIL\",(IF(F16>E16,\"FAIL\",\"PASS\"))))","v":""}]
[null,"  Float test, 140°F, sec.","T 50",1200,"--",null,{"$f":"IF(F17=\"\",\"\",IF(F17<D17,\"FAIL\",\"PASS\"))","v":""}]
[null,"  Solubility in trichloroethylene2, %","T 44",99,"--",null,{"$f":"IF(F18=\"\",\"\",IF(F18<D18,\"FAIL\",\"PASS\"))","v":""}]
[null,"Mixture Property Testing Requirements"]
[null,"Residual Asphalt Content, exclusive of\nvolatiles, percent by weight","Tex-210-F",3,7,null,{"$f":"IF(F20=\"\",\"\",IF(F20<D20,\"FAIL\",IF(F20>E20,\"FAIL\",\"PASS\")))","v":""}]
[null,"Hydrocarbon Volatile Content of mix,\npercent by weight","Tex-213-F",0.3,1,null,{"$f":"IF(F21=\"\",\"\",IF(F21<D21,\"FAIL\",IF(F21>E21,\"FAIL\",\"PASS\")))","v":""}]
[null,"Moisture Content of mix (this requirement does not apply to mixtures produced at\nmixing temperatures of 174°F or less),\npercent by weight","Tex-212-F, Part I",null,2,null,{"$f":"IF(F22=\"\",\"\",IF(F22>E22,\"FAIL\",\"PASS\"))","v":""}]
[null,"Hveem Stability of as-received mix (no curing) at 77 ± 2°F, (molded at 77 ± 2°F)","Tex-208-F",35,null,null,{"$f":"IF(F23=\"\",\"\",IF(F23<D23,\"FAIL\",\"PASS\"))","v":""}]
[null,"Hveem Stability at 140°F, percent (cured and molded in accordance with Tex-206-F)","Tex-208-F",35,null,null,{"$f":"IF(F24=\"\",\"\",IF(F24<D24,\"FAIL\",\"PASS\"))","v":""}]
[null,"Aggregate Gradation Requirements (% Passing by Weight or Volume)"]
[null,"Sieve Size",null,null,null,"Sample\nGradation"]
[null,null,"Min","Max"]
[null,"3/4\"",{"$f":"IF(ISERROR(INDEX(INDIRECT(Grade2),1,2)),\"\",INDEX(INDIRECT(Grade2),1,2))","v":""},{"$f":"IF(ISERROR(INDEX(INDIRECT(Grade2),1,3)),\"\",INDEX(INDIRECT(Grade2),1,3))","v":""},null,null,{"$f":"IF(F28=\"\",\"\",IF(F28<C28,\"FAIL\",IF(F28>D28,\"FAIL\",\"PASS\")))","v":""}]
[null,"1/2\"",{"$f":"IF(ISERROR(INDEX(INDIRECT(Grade2),2,2)),\"\",INDEX(INDIRECT(Grade2),2,2))","v":""},{"$f":"IF(ISERROR(INDEX(INDIRECT(Grade2),2,3)),\"\",INDEX(INDIRECT(Grade2),2,3))","v":""},null,null,{"$f":"IF(F29=\"\",\"\",IF(F29<C29,\"FAIL\",IF(F29>D29,\"FAIL\",\"PASS\")))","v":""}]
[null,"3/8\"",{"$f":"IF(ISERROR(INDEX(INDIRECT(Grade2),3,2)),\"\",INDEX(INDIRECT(Grade2),3,2))","v":""},{"$f":"IF(ISERROR(INDEX(INDIRECT(Grade2),3,3)),\"\",INDEX(INDIRECT(Grade2),3,3))","v":""},null,null,{"$f":"IF(F30=\"\",\"\",IF(F30<C30,\"FAIL\",IF(F30>D30,\"FAIL\",\"PASS\")))","v":""}]
[null,"No. 4",{"$f":"IF(ISERROR(INDEX(INDIRECT(Grade2),4,2)),\"\",INDEX(INDIRECT(Grade2),4,2))","v":""},{"$f":"IF(ISERROR(INDEX(INDIRECT(Grade2),4,3)),\"\",INDEX(INDIRECT(Grade2),4,3))","v":""},null,null,{"$f":"IF(F31=\"\",\"\",IF(F31<C31,\"FAIL\",IF(F31>D31,\"FAIL\",\"PASS\")))","v":""}]
[null,"No. 10",{"$f":"IF(ISERROR(INDEX(INDIRECT(Grade2),5,2)),\"\",INDEX(INDIRECT(Grade2),5,2))","v":""},{"$f":"IF(ISERROR(INDEX(INDIRECT(Grade2),5,3)),\"\",INDEX(INDIRECT(Grade2),5,3))","v":""},null,null,""]
[null,"No. 40",{"$f":"IF(ISERROR(INDEX(INDIRECT(Grade2),6,2)),\"\",INDEX(INDIRECT(Grade2),6,2))","v":""},{"$f":"IF(ISERROR(INDEX(INDIRECT(Grade2),6,3)),\"\",INDEX(INDIRECT(Grade2),6,3))","v":""},null,null,""]
[null,"No. 80",{"$f":"IF(ISERROR(INDEX(INDIRECT(Grade2),7,2)),\"\",INDEX(INDIRECT(Grade2),7,2))","v":""},{"$f":"IF(ISERROR(INDEX(INDIRECT(Grade2),7,3)),\"\",INDEX(INDIRECT(Grade2),7,3))","v":""},null,null,""]
[null,"No. 200",{"$f":"IF(ISERROR(INDEX(INDIRECT(Grade2),8,2)),\"\",INDEX(INDIRECT(Grade2),8,2))","v":""},{"$f":"IF(ISERROR(INDEX(INDIRECT(Grade2),8,3)),\"\",INDEX(INDIRECT(Grade2),8,3))","v":""},null,null,""]
[null,"AC %3",{"$f":"IF(ISERROR(INDEX(INDIRECT(Grade2),1,4)),\"\",INDEX(INDIRECT(Grade2),1,4))","v":""},{"$f":"IF(ISERROR(INDEX(INDIRECT(Grade2),1,5)),\"\",INDEX(INDIRECT(Grade2),1,5))","v":""},null,null,{"$f":"IF(OR(F36=\"\",C36=\"-\"),\"\",IF(F36<C36,\"FAIL\",IF(F36>D36,\"FAIL\",\"PASS\")))","v":""}]
[null,"Laboratory-Molded Density Requirements"]
[null,"Minimum","Maximum",null,null,"Sample Data"]
[null,90,96,null,null,null,{"$f":"IF(F39=\"\",\"\",IF(F39<B39,\"FAIL\",IF(F39>C39,\"FAIL\",\"PASS\")))","v":""}]
[null,"Resistance to Water Damage"]
[null,"Property",null,"Amount of Stripping"]
[null,"Resistance to water damage of as-received mix at 140 ± 2°F\nfor 24 ± 2 hours. No evidence of stripping is allowed.",null,null,null,null,{"$f":"IF(D42=\"\",\"\",IF(D42>0,\"FAIL\",\"PASS\"))","v":""}]
[null,"1. Use a #200 modified Koppers viscometer at 300 mm of vacuum."]
[null,"2. Only perform this test if the binder does not appear homogenous."]
[null,"3. Allowed range for asphalt content as measured according to Tex-210-F. This asphalt content includes volatiles."]
[null,"Tested By:","Tech Cert No:","Tested Date:"]
[]
[]
[]
[]
[null,"Licensed Professional Engineer:","License No:","Authorized Date:"]
[]
[]
[null,null,null,null,null,null,"Professional Engineer Stamp"]

{"sheet":"9202-CMA-WG","index":8,"n_rows":54,"n_cols":7,"rows_kept":54,"cut":false,"hidden":false,"merged":[[25,1,26,1],[25,2,25,4],[25,5,26,5],[25,6,26,6],[26,3,26,4],[0,1,1,6],[2,2,2,6],[3,1,3,6],[18,1,18,6],[24,1,24,6],[27,3,27,4],[41,1,41,2],[41,3,41,5],[42,1,42,6],[43,1,43,6],[35,3,35,4],[36,1,36,6],[37,2,37,4],[38,2,38,4],[39,1,39,6],[40,1,40,2],[40,3,40,5],[29,3,29,4],[30,3,30,4],[31,3,31,4],[32,3,32,4],[48,3,48,4],[50,3,50,4],[51,3,51,4],[53,6,53,7],[28,3,28,4],[45,3,45,4],[46,3,46,4],[33,3,33,4],[34,3,34,4]]}
[null,"DMS - 9202 CMA-WG (Cold Mix Winter Grade)\nAsphaltic Concrete Patching Material (Stockpile Storage or Bagged)"]
[]
[null,"Sample ID:"]
[null,"Asphalt Material Properties for CMA-WG Binder"]
[null,"Property","Test Procedure","Min","Max","Sample Data","Meet\nRequirement?"]
[null,"Viscosity, 77°F, Poises","D 49571",1500,4000,null,{"$f":"IF(F6=\"\",\"\",IF(F6<D6,\"FAIL\",IF(F6>E6,\"FAIL\",\"PASS\")))","v":""}]
[null,"Water, %","T 55","--",1,null,{"$f":"IF(F7=\"\",\"\",IF(F7>E7,\"FAIL\",\"PASS\"))","v":""}]
[null,"Flash point, T.O.C., °F","T 79",158,"--",null,{"$f":"IF(F8=\"\",\"\",IF(F8<D8,\"FAIL\",\"PASS\"))","v":""}]
[null,"Distillation test:","T 78"]
[null,"  Distillate, percentage by volume of total\n  distillate to 680°F"]
[null,"        to 437°F",null,0,0,null,{"$f":"IF(F11=\"\",\"\",IF(F11=0,\"PASS\",\"FAIL\"))","v":""}]
[null,"        to 500°F",null,0,5,null,{"$f":"IF(F12=\"\",\"\",IF(F12>E12,\"FAIL\", IF(F12<0,\"FAIL\",\"PASS\")))","v":""}]
[null,"        to 600°F",null,30,70,null,{"$f":"IF(F13=\"\",\"\",IF(F13<D13,\"FAIL\",IF(F13>E13,\"FAIL\",\"PASS\")))","v":""}]
[null,"  Residue from distillation, volume %",null,78,100,null,{"$f":"IF(F14=\"\",\"\",IF(F14<D14,\"FAIL\",IF(F14>E14,\"FAIL\",\"PASS\")))","v":""}]
[null,"Tests on distillation residue:"]
[null,"  Penetration, 100 g, 5 sec., 77°F","T 49",100,250,null,{"$f":"IF(F16=\"\",\"\",IF(F16<D16,\"FAIL\",(IF(F16>E16,\"FAIL\",\"PASS\"))))","v":""}]
[null,"  Float test, 140°F, sec.","T 50",1200,"--",null,{"$f":"IF(F17=\"\",\"\",IF(F17<D17,\"FAIL\",\"PASS\"))","v":""}]
[null,"  Solubility in trichloroethylene2, %","T 44",99,"--",null,{"$f":"IF(F18=\"\",\"\",IF(F18<D18,\"FAIL\",\"PASS\"))","v":""}]
[null,"Mixture Property Testing Requirements"]
[null,"Residual Asphalt Content, exclusive of\nvolatiles, percent by weight","Tex-210-F",3,7,null,{"$f":"IF(F20=\"\",\"\",IF(F20<D20,\"FAIL\",IF(F20>E20,\"FAIL\",\"PASS\")))","v":""}]
[null,"Hydrocarbon Volatile Content of mix,\npercent by weight","Tex-213-F",0.3,1,null,{"$f":"IF(F21=\"\",\"\",IF(F21<D21,\"FAIL\",IF(F21>E21,\"FAIL\",\"PASS\")))","v":""}]
[null,"Moisture Content of mix (this requirement does not apply to mixtures produced at\nmixing temperatures of 174°F or less),\npercent by weight","Tex-212-F, Part I",null,2,null,{"$f":"IF(F22=\"\",\"\",IF(F22>E22,\"FAIL\",\"PASS\"))","v":""}]
[null,"Hveem Stability of as-received mix (no curing) at 77 ± 2°F, (molded at 77 ± 2°F)","Tex-208-F",35,null,null,{"$f":"IF(F23=\"\",\"\",IF(F23<D23,\"FAIL\",\"PASS\"))","v":""}]
[null,"Hveem Stability at 140°F, percent (cured and molded in accordance with Tex-206-F)","Tex-208-F",35,null,null,{"$f":"IF(F24=\"\",\"\",IF(F24<D24,\"FAIL\",\"PASS\"))","v":""}]
[null,"Aggregate Gradation Requirements (% Passing by Weight or Volume)"]
[null,"Sieve Size",null,null,null,"Sample\nGradation"]
[null,null,"Min","Max"]
[null,"3/4\"",{"$f":"IF(ISERROR(INDEX(INDIRECT(Grade2),1,2)),\"\",INDEX(INDIRECT(Grade2),1,2))","v":""},{"$f":"IF(ISERROR(INDEX(INDIRECT(Grade2),1,3)),\"\",INDEX(INDIRECT(Grade2),1,3))","v":""},null,null,{"$f":"IF(F28=\"\",\"\",IF(F28<C28,\"FAIL\",IF(F28>D28,\"FAIL\",\"PASS\")))","v":""}]
[null,"1/2\"",{"$f":"IF(ISERROR(INDEX(INDIRECT(Grade2),2,2)),\"\",INDEX(INDIRECT(Grade2),2,2))","v":""},{"$f":"IF(ISERROR(INDEX(INDIRECT(Grade2),2,3)),\"\",INDEX(INDIRECT(Grade2),2,3))","v":""},null,null,{"$f":"IF(F29=\"\",\"\",IF(F29<C29,\"FAIL\",IF(F29>D29,\"FAIL\",\"PASS\")))","v":""}]
[null,"3/8\"",{"$f":"IF(ISERROR(INDEX(INDIRECT(Grade2),3,2)),\"\",INDEX(INDIRECT(Grade2),3,2))","v":""},{"$f":"IF(ISERROR(INDEX(INDIRECT(Grade2),3,3)),\"\",INDEX(INDIRECT(Grade2),3,3))","v":""},null,null,{"$f":"IF(F30=\"\",\"\",IF(F30<C30,\"FAIL\",IF(F30>D30,\"FAIL\",\"PASS\")))","v":""}]
[null,"No. 4",{"$f":"IF(ISERROR(INDEX(INDIRECT(Grade2),4,2)),\"\",INDEX(INDIRECT(Grade2),4,2))","v":""},{"$f":"IF(ISERROR(INDEX(INDIRECT(Grade2),4,3)),\"\",INDEX(INDIRECT(Grade2),4,3))","v":""},null,null,{"$f":"IF(F31=\"\",\"\",IF(F31<C31,\"FAIL\",IF(F31>D31,\"FAIL\",\"PASS\")))","v":""}]
[null,"No. 10",{"$f":"IF(ISERROR(INDEX(INDIRECT(Grade2),5,2)),\"\",INDEX(INDIRECT(Grade2),5,2))","v":""},{"$f":"IF(ISERROR(INDEX(INDIRECT(Grade2),5,3)),\"\",INDEX(INDIRECT(Grade2),5,3))","v":""},null,null,""]
[null,"No. 40",{"$f":"IF(ISERROR(INDEX(INDIRECT(Grade2),6,2)),\"\",INDEX(INDIRECT(Grade2),6,2))","v":""},{"$f":"IF(ISERROR(INDEX(INDIRECT(Grade2),6,3)),\"\",INDEX(INDIRECT(Grade2),6,3))","v":""},null,null,""]
[null,"No. 80",{"$f":"IF(ISERROR(INDEX(INDIRECT(Grade2),7,2)),\"\",INDEX(INDIRECT(Grade2),7,2))","v":""},{"$f":"IF(ISERROR(INDEX(INDIRECT(Grade2),7,3)),\"\",INDEX(INDIRECT(Grade2),7,3))","v":""},null,null,""]
[null,"No. 200",{"$f":"IF(ISERROR(INDEX(INDIRECT(Grade2),8,2)),\"\",INDEX(INDIRECT(Grade2),8,2))","v":""},{"$f":"IF(ISERROR(INDEX(INDIRECT(Grade2),8,3)),\"\",INDEX(INDIRECT(Grade2),8,3))","v":""},null,null,""]
[null,"AC %3",{"$f":"IF(ISERROR(INDEX(INDIRECT(Grade2),1,4)),\"\",INDEX(INDIRECT(Grade2),1,4))","v":""},{"$f":"IF(ISERROR(INDEX(INDIRECT(Grade2),1,5)),\"\",INDEX(INDIRECT(Grade2),1,5))","v":""},null,null,{"$f":"IF(OR(F36=\"\",C36=\"-\"),\"\",IF(F36<C36,\"FAIL\",IF(F36>D36,\"FAIL\",\"PASS\")))","v":""}]
[null,"Laboratory-Molded Density Requirements"]
[null,"Minimum","Maximum",null,null,"Sample Data"]
[null,90,96,null,null,null,{"$f":"IF(F39=\"\",\"\",IF(F39<B39,\"FAIL\",IF(F39>C39,\"FAIL\",\"PASS\")))","v":""}]
[null,"Resistance to Water Damage"]
[null,"Property",null,"Amount of Stripping"]
[null,"Resistance to water damage of as-received mix at 140 ± 2°F\nfor 24 ± 2 hours. No evidence of stripping is allowed.",null,null,null,null,{"$f":"IF(D42=\"\",\"\",IF(D42>0,\"FAIL\",\"PASS\"))","v":""}]
[null,"1. Use a #200 modified Koppers viscometer at 300 mm of vacuum."]
[null,"2. Only perform this test if the binder does not appear homogenous."]
[null,"3. Allowed range for asphalt content as measured according to Tex-210-F. This asphalt content includes volatiles."]
[null,"Tested By:","Tech Cert No:","Tested Date:"]
[]
[]
[]
[]
[null,"Licensed Professional Engineer:","License No:","Authorized Date:"]
[]
[]
[null,null,null,null,null,null,"Professional Engineer Stamp"]

{"sheet":"9202-NVM Approval","index":9,"n_rows":49,"n_cols":7,"rows_kept":49,"cut":false,"hidden":false,"merged":[[48,6,48,7],[36,1,36,2],[36,3,36,5],[37,1,37,2],[37,3,37,5],[38,1,38,6],[40,3,40,4],[41,3,41,4],[43,3,43,4],[45,3,45,4],[46,3,46,4],[35,1,35,6],[24,3,24,4],[25,3,25,4],[26,3,26,4],[27,3,27,4],[28,3,28,4],[29,3,29,4],[30,3,30,4],[31,3,31,4],[32,1,32,6],[33,2,33,4],[34,2,34,4],[0,1,1,6],[2,2,2,6],[3,1,3,6],[15,1,15,6],[21,1,21,6],[22,1,23,1],[22,2,22,4],[22,5,23,5],[22,6,23,6],[23,3,23,4]]}
[null,"DMS - 9202 NVM (Non-Volatile Material)\nAsphaltic Concrete Patching Material (Stockpile Storage or Bagged)"]
[]
[null,"Sample ID:"]
[null,"Asphalt Material Properties for NVM Binder"]
[null,"Property","Test Procedure","Min","Max","Sample Data","Meet\nRequirement?"]
[null,"Flash point, T.O.C., °F","T 79",174,"--",null,{"$f":"IF(F6=\"\",\"\",IF(F6<D6,\"FAIL\",\"PASS\"))","v":""}]
[null,"Distillation test:","T 78"]
[null,"  Distillate, percentage by volume of total\n  distillate to 680°F"]
[null,"        to 437°F",null,0,0,null,{"$f":"IF(F9=\"\",\"\",IF(F9=0,\"PASS\",\"FAIL\"))","v":""}]
[null,"        to 500°F",null,0,0,null,{"$f":"IF(F10=\"\",\"\",IF(F10>E10,\"FAIL\", IF(F10<0,\"FAIL\",\"PASS\")))","v":""}]
[null,"        to 600°F",null,0,0,null,{"$f":"IF(F11=\"\",\"\",IF(F11<D11,\"FAIL\",IF(F11>E11,\"FAIL\",\"PASS\")))","v":""}]
[null,"  Residue from distillation, volume %",null,82,100,null,{"$f":"IF(F12=\"\",\"\",IF(F12<D12,\"FAIL\",IF(F12>E12,\"FAIL\",\"PASS\")))","v":""}]
[null,"Tests on distillation residue:"]
[null,"  Penetration, 100 g, 5 sec., 77°F","T 49",180,"--",null,{"$f":"IF(F14=\"\",\"\",IF(F14<D14,\"FAIL\",\"PASS\"))","v":""}]
[null,"  Solubility in trichloroethylene1, %","T 44",99,"--",null,{"$f":"IF(F15=\"\",\"\",IF(F15<D15,\"FAIL\",\"PASS\"))","v":""}]
[null,"Mixture Property Testing Requirements"]
[null,"Residual Asphalt Content, exclusive of\nvolatiles, percent by weight","Tex-210-F",3,7,null,{"$f":"IF(F17=\"\",\"\",IF(F17<D17,\"FAIL\",IF(F17>E17,\"FAIL\",\"PASS\")))","v":""}]
[null,"Hydrocarbon Volatile Content of mix,\npercent by weight","Tex-213-F",0,0,null,{"$f":"IF(F18=\"\",\"\",IF(F18<D18,\"FAIL\",IF(F18>E18,\"FAIL\",\"PASS\")))","v":""}]
[null,"Moisture Content of mix (this requirement does not apply to mixtures produced at\nmixing temperatures of 174°F or less),\npercent by weight","Tex-212-F, Part I",null,2,null,{"$f":"IF(F19=\"\",\"\",IF(F19>E19,\"FAIL\",\"PASS\"))","v":""}]
[null,"Hveem Stability of as-received mix (no curing) at 77 ± 2°F, (molded at 77 ± 2°F)","Tex-208-F",35,null,null,{"$f":"IF(F20=\"\",\"\",IF(F20<D20,\"FAIL\",\"PASS\"))","v":""}]
[null,"Hveem Stability at 140°F, percent (cured and molded in accordance with Tex-206-F)","Tex-208-F",35,null,null,{"$f":"IF(F21=\"\",\"\",IF(F21<D21,\"FAIL\",\"PASS\"))","v":""}]
[null,"Aggregate Gradation Requirements (% Passing by Weight or Volume)"]
[null,"Sieve Size",null,null,null,"Sample\nGradation"]
[null,null,"Min","Max"]
[null,"1/2\"",{"$f":"IF(ISERROR(INDEX(INDIRECT(Grade2),2,2)),\"\",INDEX(INDIRECT(Grade2),2,2))","v":""},{"$f":"IF(ISERROR(INDEX(INDIRECT(Grade2),2,3)),\"\",INDEX(INDIRECT(Grade2),2,3))","v":""},null,null,{"$f":"IF(F25=\"\",\"\",IF(F25<C25,\"FAIL\",IF(F25>D25,\"FAIL\",\"PASS\")))","v":""}]
[null,"3/8\"",{"$f":"IF(ISERROR(INDEX(INDIRECT(Grade2),3,2)),\"\",INDEX(INDIRECT(Grade2),3,2))","v":""},{"$f":"IF(ISERROR(INDEX(INDIRECT(Grade2),3,3)),\"\",INDEX(INDIRECT(Grade2),3,3))","v":""},null,null,{"$f":"IF(F26=\"\",\"\",IF(F26<C26,\"FAIL\",IF(F26>D26,\"FAIL\",\"PASS\")))","v":""}]
[null,"No. 4",{"$f":"IF(ISERROR(INDEX(INDIRECT(Grade2),4,2)),\"\",INDEX(INDIRECT(Grade2),4,2))","v":""},{"$f":"IF(ISERROR(INDEX(INDIRECT(Grade2),4,3)),\"\",INDEX(INDIRECT(Grade2),4,3))","v":""},null,null,""]
[null,"No. 10",{"$f":"IF(ISERROR(INDEX(INDIRECT(Grade2),5,2)),\"\",INDEX(INDIRECT(Grade2),5,2))","v":""},{"$f":"IF(ISERROR(INDEX(INDIRECT(Grade2),5,3)),\"\",INDEX(INDIRECT(Grade2),5,3))","v":""},null,null,""]
[null,"No. 40",{"$f":"IF(ISERROR(INDEX(INDIRECT(Grade2),6,2)),\"\",INDEX(INDIRECT(Grade2),6,2))","v":""},{"$f":"IF(ISERROR(INDEX(INDIRECT(Grade2),6,3)),\"\",INDEX(INDIRECT(Grade2),6,3))","v":""},null,null,""]
[null,"No. 80",{"$f":"IF(ISERROR(INDEX(INDIRECT(Grade2),7,2)),\"\",INDEX(INDIRECT(Grade2),7,2))","v":""},{"$f":"IF(ISERROR(INDEX(INDIRECT(Grade2),7,3)),\"\",INDEX(INDIRECT(Grade2),7,3))","v":""},null,null,""]
[null,"No. 200",{"$f":"IF(ISERROR(INDEX(INDIRECT(Grade2),8,2)),\"\",INDEX(INDIRECT(Grade2),8,2))","v":""},{"$f":"IF(ISERROR(INDEX(INDIRECT(Grade2),8,3)),\"\",INDEX(INDIRECT(Grade2),8,3))","v":""},null,null,""]
[null,"AC %2",{"$f":"IF(ISERROR(INDEX(INDIRECT(Grade2),1,4)),\"\",INDEX(INDIRECT(Grade2),1,4))","v":""},{"$f":"IF(ISERROR(INDEX(INDIRECT(Grade2),1,5)),\"\",INDEX(INDIRECT(Grade2),1,5))","v":""},null,null,{"$f":"IF(OR(F32=\"\",C32=\"-\"),\"\",IF(F32<C32,\"FAIL\",IF(F32>D32,\"FAIL\",\"PASS\")))","v":""}]
[null,"Laboratory-Molded Density Requirements"]
[null,"Minimum","Maximum",null,null,"Sample Data"]
[null,90,96,null,null,null,{"$f":"IF(F35=\"\",\"\",IF(F35<B35,\"FAIL\",IF(F35>C35,\"FAIL\",\"PASS\")))","v":""}]
[null,"Resistance to Water Damage"]
[null,"Property",null,"Amount of Stripping"]
[null,"Resistance to water damage of as-received mix at 140 ± 2°F\nfor 24 ± 2 hours. No evidence of stripping is allowed.",null,null,null,null,{"$f":"IF(D38=\"\",\"\",IF(D38>0,\"FAIL\",\"PASS\"))","v":""}]
[null,"1. Only perform this test if the binder does not appear homogenous."]
[null,"2. Allowed range for asphalt content as measured according to Tex-210-F. This asphalt content includes volatiles."]
[null,"Tested By:","Tech Cert No:","Tested Date:"]
[]
[]
[]
[]
[null,"Licensed Professional Engineer:","License No:","Authorized Date:"]
[]
[]
[null,null,null,null,null,null,"Professional Engineer Stamp"]

{"sheet":"9203 Approval","index":10,"n_rows":49,"n_cols":6,"rows_kept":49,"cut":false,"hidden":false,"merged":[[39,3,39,4],[41,3,41,4],[43,3,43,4],[44,3,44,4],[48,5,48,7],[38,3,38,4],[17,1,17,5],[19,1,19,5],[20,1,20,5],[25,1,25,5],[28,1,28,5],[32,1,32,5],[34,1,35,1],[34,2,35,2],[34,3,35,3],[34,4,35,4],[34,5,35,5],[15,1,15,5],[0,1,1,5],[2,2,2,5],[3,1,3,5],[6,1,6,5],[7,2,7,3]]}
[null,"9203 - Table 1\nClass I Dense Graded Rapid-Curing Asphalt Concrete"]
[]
[null,"Sample ID:"]
[null,"Asphalt Content Exclusive of Volatiles"]
[null,null,"Min","Max","Sample Data","Meet\nSpecification?"]
[null,"% by Weight",4,6.5,null,{"$f":"IF(E6=\"\",\"\",IF(E6<C6,\"FAIL\",IF(E6>D6,\"FAIL\",\"PASS\")))","v":""}]
[null,"Aggregate Gradation (% Passing by Weight)"]
[null,"Sieve Size","Gradation",null,"Sample\nGradation","Meet\nSpecification?"]
[null,"1/2\"",100,100,null,{"$f":"IF(E9=\"\",\"\",IF(E9<C9,\"FAIL\",IF(E9>D9,\"FAIL\",\"PASS\")))","v":""}]
[null,"3/8\"",95,100,null,""]
[null,"1/4\"",80,95,null,""]
[null,"No. 10",30,45,null,""]
[null,"No. 40",8,20,null,""]
[null,"No. 80",5,10,null,""]
[null,"No. 200",2,8,null,""]
[null,"Hydrocarbon Volatile Content of Mix"]
[null,"% by Weight",0.4,1,null,{"$f":"IF(E17=\"\",\"\",IF(E17<C17,\"FAIL\",IF(E17>D17,\"FAIL\",\"PASS\")))","v":""}]
[null,"Moisture Content of the Mix"]
[null,"% by Weight",null,0.2,null,{"$f":"IF(E19=\"\",\"\",IF(E19>D19,\"FAIL\",\"PASS\"))","v":""}]
[null,"Distillation Range of Volatiles Recovered from Mix"]
[null,"Distillate, expressed as percent by volume of total volatiles recovered from mix when\ntested by ASTM D 86"]
[null,"    -   Off at 300°F (149°C)",0,15,null,{"$f":"IF(E22=\"\",\"\",IF(E22<C22,\"FAIL\",IF(E22>D22,\"FAIL\",\"PASS\")))","v":""}]
[null,"    -   Off at 350°F (177°C)",25,90,null,{"$f":"IF(E23=\"\",\"\",IF(E23<C23,\"FAIL\",IF(E23>D23,\"FAIL\",\"PASS\")))","v":""}]
[null,"    -   Off at 400°F (204°C)",65,100,null,{"$f":"IF(E24=\"\",\"\",IF(E24<C24,\"FAIL\",IF(E24>D24,\"FAIL\",\"PASS\")))","v":""}]
[null,"    -   Off at 450°F (232°C)",75,100,null,{"$f":"IF(E25=\"\",\"\",IF(E25<C25,\"FAIL\",IF(E25>D25,\"FAIL\",\"PASS\")))","v":""}]
[null,"Properties of Asphalt Extracted from the Mix"]
[null,"Penetration, 77°F (25°C), 100g, 5 sec",60,120,null,{"$f":"IF(E27=\"\",\"\",IF(E27<C27,\"FAIL\",IF(E27>D27,\"FAIL\",\"PASS\")))","v":""}]
[null,"Ductility, 77°F (25°C), 5 cm/min., cm",100,null,null,{"$f":"IF(E28=\"\",\"\",IF(E28<C28,\"FAIL\",\"PASS\"))","v":""}]
[null,"Stability and Density Properties"]
[null,"Stability of as-received mix (no curing) at\n77 ±2°F (25 ±1°C), (molded at 77 ±2°F [25 ±1°C])",0.35,null,null,{"$f":"IF(E30=\"\",\"\",IF(E30<C30,\"FAIL\",\"PASS\"))","v":""}]
[null,"Stability of Cured Mix at\n140°F (60°C), (cured and molded at 140°F [60°C])",0.4,null,null,{"$f":"IF(E31=\"\",\"\",IF(E31<C31,\"FAIL\",\"PASS\"))","v":""}]
[null,"Density (Mixed, cured, and molded at 140°F\n(60°C) - Percent density is the ratio of the\ncompacted specific gravity to the theoretical\nmaximum specific gravity determined by\nTex-227-F.)",0.9,0.96,null,{"$f":"IF(E32=\"\",\"\",IF(E32<C32,\"FAIL\",IF(E32>D32,\"FAIL\",\"PASS\")))","v":""}]
[null,"Resistance to Water Damage"]
[null,"Property","Min","Max","Stripping\nAmount","Meet\nSpecification?"]
[null,"The as-received mix is evaluated by Tex-530-C. It will not show evidence of more than 10% stripping of the aggregate surfaces.",null,0.1,null,{"$f":"IF(E35=\"\",\"\",IF(E35>10%,\"FAIL\",\"PASS\"))","v":""}]
[]
[]
[]
[null,"Tested By:","Tech Cert No:","Tested Date:"]
[]
[]
[]
[]
[null,"Licensed Professional Engineer:","License No:","Authorized Date:"]
[]
[]
[]
[]
[null,null,null,null,null,"Professional Engineer Stamp"]