{"text_format":"1","workbook":"xlsx","n_sheets":50,"sheets":["DATA_GRAD","INSTRUCTIONS","DATA_AC","GENERAL","DESIGN","DESIGN_GRAD","PROD_SAMPLE","WORK_PROD","PLACE_SAMPLE","WORK_DENSITY","DATA_MIX","DATA_WMA","DATA_MISC","DATA_NAMES","DATA_TOL","WORK_GRAD","DATA_CHART","DATA_PROD","DATA_PLACE","DATA_EXPORT","DATA_REVISIONS","DOT1_PROD","DOT1_GRAD","DOT1_DENSITY","DOT2_PROD","DOT2_GRAD","DOT2_DENSITY","DOT3_PROD","DOT3_GRAD","DOT3_DENSITY","DOT4_PROD","DOT4_GRAD","DOT4_DENSITY","CON1_PROD","CON1_GRAD","CON1_DENSITY","CON2_PROD","CON2_GRAD","CON2_DENSITY","CON3_PROD","CON3_GRAD","CON3_DENSITY","CON4_PROD","CON4_GRAD","CON4_DENSITY","SUMMARY","PAYMENT","RX","CHART","SummarySheet"],"not_rendered":{"charts":1,"images":2,"macros":1,"external_links":0,"defined_names":1764,"comments":35,"pivot_tables":0},"unopened":[],"bounds":{"document_bytes":16777216,"sheet_cells":100000,"rows_first":2000,"rows_last":500,"rows_between":2000,"halvings":0,"cell_chars":16384,"cell_head_chars":4096},"cells_cut":0,"cells_raw":0,"read":"whole","date_system":"1900"}

{"sheet":"DATA_GRAD","index":0,"n_rows":261,"n_cols":26,"rows_kept":261,"cut":false,"hidden":true,"merged":[[127,14,136,14],[116,14,125,14],[94,19,103,19],[94,24,103,24],[105,1,114,1],[105,7,114,7],[105,8,114,8],[105,13,114,13],[105,14,114,14],[105,15,114,15],[105,16,114,16],[105,17,114,17],[105,18,114,18],[105,19,114,19],[105,24,114,24],[94,1,103,1],[94,7,103,7],[94,8,103,8],[94,13,103,13],[94,14,103,14],[94,15,103,15],[94,16,103,16],[94,17,103,17],[94,18,103,18],[50,19,59,19],[50,20,59,20],[50,21,59,21],[50,24,59,24],[50,1,59,1],[50,7,59,7],[50,8,59,8],[50,13,59,13],[50,14,59,14],[50,15,59,15],[50,16,59,16],[50,17,59,17],[50,18,59,18],[83,19,92,19],[83,24,92,24],[83,1,92,1],[83,7,92,7],[83,8,92,8],[83,13,92,13],[83,14,92,14],[83,15,92,15],[83,16,92,16],[83,17,92,17],[83,18,92,18],[28,21,37,21],[28,24,37,24],[39,1,48,1],[39,7,48,7],[39,8,48,8],[39,13,48,13],[39,14,48,14],[39,15,48,15],[39,16,48,16],[39,17,48,17],[39,18,48,18],[39,19,48,19],[39,20,48,20],[39,21,48,21],[39,24,48,24],[17,19,26,19],[17,20,26,20],[17,21,26,21],[17,24,26,24],[28,1,37,1],[28,7,37,7],[28,8,37,8],[28,13,37,13],[28,14,37,14],[28,15,37,15],[28,16,37,16],[28,17,37,17],[28,18,37,18],[17,1,26,1],[17,7,26,7],[17,8,26,8],[17,13,26,13],[17,14,26,14],[17,15,26,15],[17,16,26,16],[17,17,26,17],[17,18,26,18],[28,19,37,19],[28,20,37,20],[61,19,70,19],[61,24,70,24],[72,1,81,1],[72,7,81,7],[72,8,81,8],[72,13,81,13],[72,14,81,14],[72,15,81,15],[72,16,81,16],[72,17,81,17],[72,18,81,18],[72,19,81,19],[72,24,81,24],[61,1,70,1],[61,7,70,7],[61,8,70,8],[61,13,70,13],[61,14,70,14],[61,15,70,15],[61,16,70,16],[61,17,70,17],[61,18,70,18],[61,20,70,20],[61,21,70,21],[6,24,15,24],[6,20,15,20],[6,21,15,21],[1,20,1,21],[1,18,1,19],[6,1,15,1],[6,13,15,13],[6,17,15,17],[6,7,15,7],[6,18,15,18],[6,19,15,19],[2,5,2,6],[1,2,1,3],[1,11,1,12],[1,13,1,14],[2,9,2,10],[1,15,1,16],[116,22,125,22],[116,23,125,23],[116,24,125,24],[127,1,136,1],[127,13,136,13],[127,15,132,15],[127,16,132,16],[127,17,132,17],[127,18,136,18],[127,19,136,19],[127,20,136,20],[127,21,136,21],[127,22,136,22],[127,23,136,23],[127,24,136,24],[116,1,125,1],[116,13,125,13],[116,15,120,15],[116,16,120,16],[116,17,120,17],[116,18,125,18],[116,19,125,19],[116,20,125,20],[116,21,125,21],[141,19,150,19],[141,22,150,22],[141,24,150,24],[152,1,161,1],[152,7,161,7],[152,8,161,8],[152,13,161,13],[152,14,161,14],[152,15,161,15],[152,16,161,16],[152,17,161,17],[152,18,161,18],[152,19,161,19],[152,22,161,22],[152,24,161,24],[141,1,150,1],[141,7,150,7],[141,8,150,8],[141,13,150,13],[141,14,150,14],[141,15,150,15],[141,16,150,16],[141,17,150,17],[141,18,150,18],[163,19,172,19],[163,22,172,22],[163,24,172,24],[163,1,172,1],[163,7,172,7],[163,8,172,8],[163,13,172,13],[163,14,172,14],[163,15,172,15],[163,16,172,16],[163,17,172,17],[163,18,172,18],[175,19,184,19],[175,22,184,22],[175,24,184,24],[186,1,195,1],[186,13,195,13],[186,14,195,14],[186,15,195,15],[186,16,195,16],[186,17,193,17],[186,18,195,18],[186,19,195,19],[186,20,195,20],[186,21,195,21],[186,22,195,22],[186,24,195,24],[175,1,184,1],[175,7,184,7],[175,8,184,8],[175,13,184,13],[175,14,184,14],[175,15,184,15],[175,16,184,16],[175,17,184,17],[175,18,184,18],[197,1,206,1],[197,13,206,13],[197,14,206,14],[197,15,206,15],[197,16,206,16],[197,17,204,17],[197,18,206,18],[197,19,206,19],[197,20,206,20],[208,1,217,1],[208,13,217,13],[208,15,212,15],[208,16,212,16],[208,17,212,17],[208,18,217,18],[208,19,217,19],[208,20,217,20],[208,21,217,21],[208,14,217,14],[219,1,228,1],[219,13,228,13],[219,15,224,15],[219,16,224,16],[219,17,224,17],[219,18,228,18],[219,19,228,19],[219,20,228,20],[219,21,228,21],[219,14,228,14],[253,22,262,22],[253,23,262,23],[253,24,262,24],[242,1,251,1],[242,13,251,13],[242,18,251,18],[242,19,251,19],[242,20,251,20],[242,21,251,21],[242,22,251,22],[242,23,251,23],[242,24,251,24],[253,14,262,14],[242,14,251,14],[231,1,240,1],[231,13,240,13],[231,18,240,18],[231,19,240,19],[231,20,240,20],[231,21,240,21],[253,1,262,1],[253,13,262,13],[253,18,262,18],[253,19,262,19],[253,20,262,20],[253,21,262,21],[231,14,240,14],[186,7,195,7],[186,8,195,8],[197,7,206,7],[197,8,206,8],[231,22,240,22],[231,23,240,23],[231,24,240,24],[219,22,228,22],[219,23,228,23],[219,24,228,24],[197,21,206,21],[197,22,206,22],[197,24,206,24],[208,22,217,22],[208,23,217,23],[208,24,217,24],[72,20,81,20],[72,21,81,21],[83,20,92,20],[83,21,92,21],[175,20,184,20],[175,21,184,21],[163,20,172,20],[163,21,172,21],[152,20,161,20],[152,21,161,21]]}
[null,1,2,3,4,5,6,7,8,9,10,11,12,13,14,15,16,17,18,19,20,21,22,23,24,25]
[null,null,"Sieve size",null,null,null,null,"Design","Plant",null,null,"Grad",null,"Grad Pan",null,"Lift thickness",null,"Untrimmed Core","AC Content",null,"Lab-molded Density",null,"Drain-down","Cantabro loss","Trial AC","FT:SA"]
[null,null,"English","Metric",null,"Limits",null,"VMA","VMA","Restricted zone",null,"Tol 1","Tol 2","Tol 1","Tol 2","min","max","min","min","max","min","max","max","max"]
[null,null,"in","mm",null,"min","max","min","min","min","max"]
[]
[]
[null,"SS-CAM","1/2\"",12.5,12.5,100,100,17,null,null,null,0,null,2,null,null,null,0.75,7,10,98,98,null,null,0.30099999999999999]
[null,null,"3/8\"",9.5,9.5,98,100,null,null,null,null,3]
[null,null,"#4",4.75,4.75,70,90,null,null,null,null,3]
[null,null,"#8",2.36,2.36,40,65,null,null,null,null,3]
[null,null,"#16",1.18,1.18,20,45,null,null,null,null,3]
[null,null,"#30",0.6,0.6,10,30,null,null,null,null,3]
[null,null,"#50",0.3,0.3,10,20,null,null,null,null,3]
[null,null,"#200",7.4999999999999997E-2,7.4999999999999997E-2,2,10,null,null,null,null,3]
[]
[]
[]
[null,"341-DG-B","1-1/2\"",37.5,37.5,100,100,13,12.5,null,null,0,0,2,1.6,2.5,5,1.75,0,100,95,97,null,null,0.501]
[null,null,"1\"",25,25,98,100,null,null,null,null,5,5]
[null,null,"3/4\"",19,19,84,98,null,null,null,null,5,5]
[null,null,"3/8\"",9.5,9.5,60,80,null,null,null,null,5,5]
[null,null,"#4",4.75,4.75,40,60,null,null,null,null,5,5]
[null,null,"#8",2.36,2.36,29,43,null,null,null,null,5,5]
[null,null,"#30",0.6,0.6,13,28,null,null,null,null,3,3]
[null,null,"#50",0.3,0.3,6,20,null,null,null,null,3,3]
[null,null,"#200",7.4999999999999997E-2,7.4999999999999997E-2,2,7,null,null,null,null,3,3]
[]
[]
[null,"341-DG-C","1\"",25,25,100,100,14,13.5,null,null,0,0,2,1.6,2,4,1.5,0,100,95,97,null,null,0.501]
[null,null,"3/4\"",19,19,95,100,null,null,null,null,5,5]
[null,null,"3/8\"",9.5,9.5,70,85,null,null,null,null,5,5]
[null,null,"#4",4.75,4.75,43,63,null,null,null,null,5,5]
[null,null,"#8",2.36,2.36,32,44,null,null,null,null,5,5]
[null,null,"#30",0.6,0.6,14,28,null,null,null,null,3,3]
[null,null,"#50",0.3,0.3,7,21,null,null,null,null,3,3]
[null,null,"#200",7.4999999999999997E-2,7.4999999999999997E-2,2,7,null,null,null,null,3,3]
[]
[]
[]
[null,"341-DG-D","3/4\"",19,19,100,100,15,14.5,null,null,0,0,2,1.6,1.5,3,1.25,0,100,95,97,null,null,0.501]
[null,null,"1/2\"",12.5,12.5,98,100,null,null,null,null,5,5]
[null,null,"3/8\"",9.5,9.5,85,100,null,null,null,null,5,5]
[null,null,"#4",4.75,4.75,50,70,null,null,null,null,5,5]
[null,null,"#8",2.36,2.36,35,46,null,null,null,null,5,5]
[null,null,"#30",0.6,0.6,15,29,null,null,null,null,3,3]
[null,null,"#50",0.3,0.3,7,20,null,null,null,null,3,3]
[null,null,"#200",7.4999999999999997E-2,7.4999999999999997E-2,2,7,null,null,null,null,3,3]
[]
[]
[]
[null,"341-DG-F","1/2\"",12.5,12.5,100,100,16,15.5,null,null,0,0,2,1.6,1.25,2.5,1.25,0,100,95,97,null,null,0.501]
[null,null,"3/8\"",9.5,9.5,98,100,null,null,null,null,5,5]
[null,null,"#4",4.75,4.75,70,90,null,null,null,null,5,5]
[null,null,"#8",2.36,2.36,38,48,null,null,null,null,5,5]
[null,null,"#30",0.6,0.6,12,27,null,null,null,null,3,3]
[null,null,"#50",0.3,0.3,6,19,null,null,null,null,3,3]
[null,null,"#200",7.4999999999999997E-2,7.4999999999999997E-2,2,7,null,null,null,null,3,3]
[]
[]
[]
[]
[null,"344-SP-B","1-1/2\"",37.5,37.5,100,100,14,13.5,null,null,0,0,2,1.6,2.5,4,2,0,100,95,97,null,null,0.501]
[null,null,"1\"",25,25,98,100,null,null,null,null,5,5]
[null,null,"3/4\"",19,19,90,100,null,null,null,null,5,5]
[null,null,"1/2\"",12.5,12.5,23,90,null,null,null,null,5,5]
[null,null,"#4",4.75,4.75,23,90,null,null,null,null,5,5]
[null,null,"#8",2.36,2.36,23,34.6,null,null,null,null,5,5]
[null,null,"#16",1.18,1.18,2,28.3,null,null,null,null,3,3]
[null,null,"#30",0.6,0.6,2,20.7,null,null,null,null,3,3]
[null,null,"#50",0.3,0.3,2,13.7,null,null,null,null,3,3]
[null,null,"#200",7.4999999999999997E-2,7.4999999999999997E-2,2,8,null,null,null,null,3,3]
[]
[null,"344-SP-C","1\"",25,25,100,100,15,14.5,null,null,0,0,2,1.6,2,3,1.25,0,100,95,97,null,null,0.501]
[null,null,"3/4\"",19,19,98,100,null,null,null,null,5,5]
[null,null,"1/2\"",12.5,12.5,90,100,null,null,null,null,5,5]
[null,null,"3/8\"",9.5,9.5,28,90,null,null,null,null,5,5]
[null,null,"#4",4.75,4.75,28,90,null,null,null,null,5,5]
[null,null,"#8",2.36,2.36,28,37,null,null,null,null,5,5]
[null,null,"#16",1.18,1.18,2,31.6,null,null,null,null,3,3]
[null,null,"#30",0.6,0.6,2,23.1,null,null,null,null,3,3]
[null,null,"#50",0.3,0.3,2,15.5,null,null,null,null,3,3]
[null,null,"#200",7.4999999999999997E-2,7.4999999999999997E-2,2,10,null,null,null,null,3,3]
[]
[null,"344-SP-D","3/4\"",19,19,100,100,16,15.5,null,null,0,0,2,1.6,1.25,2,1.25,0,100,95,97,null,null,0.501]
[null,null,"1/2\"",12.5,12.5,98,100,null,null,null,null,5,5]
[null,null,"3/8\"",9.5,9.5,90,100,null,null,null,null,5,5]
[null,null,"#4",4.75,4.75,32,90,null,null,null,null,5,5]
[null,null,"#8",2.36,2.36,32,40,null,null,null,null,5,5]
[null,null,"#16",1.18,1.18,2,37.6,null,null,null,null,3,3]
[null,null,"#30",0.6,0.6,2,27.5,null,null,null,null,3,3]
[null,null,"#50",0.3,0.3,2,18.7,null,null,null,null,3,3]
[null,null,"#200",7.4999999999999997E-2,7.4999999999999997E-2,2,10,null,null,null,null,3,3]
[]
[]
[null,"SS-3074-BMD-SP-C","1\"",25,25,100,100,15,14.5,null,null,0,0,2,1.6,2,3,1.25,0,100,null,null,null,null,0.501]
[null,null,"3/4\"",19,19,98,100,null,null,null,null,5,5]
[null,null,"1/2\"",12.5,12.5,90,100,null,null,null,null,5,5]
[null,null,"3/8\"",9.5,9.5,28,90,null,null,null,null,5,5]
[null,null,"#4",4.75,4.75,28,90,null,null,null,null,5,5]
[null,null,"#8",2.36,2.36,28,58,null,null,39.1,39.1,5,5]
[null,null,"#16",1.18,1.18,2,58,null,null,25.6,31.6,3,3]
[null,null,"#30",0.6,0.6,2,58,null,null,19.100000000000001,23.1,3,3]
[null,null,"#50",0.3,0.3,2,58,null,null,15.5,15.5,3,3]
[null,null,"#200",7.4999999999999997E-2,7.4999999999999997E-2,2,10,null,null,null,null,3,3]
[]
[null,"SS-3074-BMD-SP-D","3/4\"",19,19,100,100,16,15.5,null,null,0,0,2,1.6,1.25,2,1.25,0,100,null,null,null,null,0.501]
[null,null,"1/2\"",12.5,12.5,98,100,null,null,null,null,5,5]
[null,null,"3/8\"",9.5,9.5,90,100,null,null,null,null,5,5]
[null,null,"#4",4.75,4.75,32,90,null,null,null,null,5,5]
[null,null,"#8",2.36,2.36,32,67,null,null,47.2,47.2,5,5]
[null,null,"#16",1.18,1.18,2,67,null,null,31.6,37.6,3,3]
[null,null,"#30",0.6,0.6,2,67,null,null,23.5,27.5,3,3]
[null,null,"#50",0.3,0.3,2,67,null,null,18.7,18.7,3,3]
[null,null,"#200",7.4999999999999997E-2,7.4999999999999997E-2,2,10,null,null,null,null,3,3]
[]
[]
[null,"342-PFC-F","1/2\"",12.5,12.5,100,100,null,null,null,null,0,0,3,2,null,null,null,6,7,0,78,0.1,20,0.30099999999999999]
[null,null,"3/8\"",9.5,9.5,95,100,null,null,null,null,3,5]
[null,null,"#4",4.75,4.75,20,55,null,null,null,null,3,5]
[null,null,"#8",2.36,2.36,1,10,null,null,null,null,3,5]
[null,null,"#200",7.4999999999999997E-2,7.4999999999999997E-2,1,4,null,null,null,null,3,5]
[]
[]
[]
[]
[]
[]
[null,"342-PFC-C","3/4\"",19,19,100,100,null,null,null,null,0,0,3,2,null,null,null,6,7,0,82,0.1,20,0.30099999999999999]
[null,null,"1/2\"",12.5,12.5,80,100,null,null,null,null,3,5]
[null,null,"3/8\"",9.5,9.5,35,60,null,null,null,null,3,5]
[null,null,"#4",4.75,4.75,1,20,null,null,null,null,3,5]
[null,null,"#8",2.36,2.36,1,10,null,null,null,null,3,5]
[null,null,"#200",7.4999999999999997E-2,7.4999999999999997E-2,1,4,null,null,null,null,3,5]
[]
[]
[]
[]
[]
[]
[]
[]
[null,"346-SMA-C","3/4\"",19,19,100,100,17.5,17,null,null,0,0,2,1.6,2.25,4,1.75,6,7,null,null,0.1,null,0.501]
[null,null,"1/2\"",12.5,12.5,80,90,null,null,null,null,3,5]
[null,null,"3/8\"",9.5,9.5,25,60,null,null,null,null,3,5]
[null,null,"#4",4.75,4.75,20,28,null,null,null,null,3,5]
[null,null,"#8",2.36,2.36,14,20,null,null,null,null,3,5]
[null,null,"#16",1.18,1.18,8,20,null,null,null,null,3,3]
[null,null,"#30",0.6,0.6,8,20,null,null,null,null,3,3]
[null,null,"#50",0.3,0.3,8,20,null,null,null,null,3,3]
[null,null,"#200",7.4999999999999997E-2,7.4999999999999997E-2,8,12,null,null,null,null,3,3]
[]
[]
[null,"346-SMA-D","3/4\"",19,19,100,100,17.5,17,null,null,0,0,2,1.6,1.5,3,1.25,6,7,95,97,0.1,null,0.501]
[null,null,"1/2\"",12.5,12.5,85,99,null,null,null,null,3,5]
[null,null,"3/8\"",9.5,9.5,50,75,null,null,null,null,3,5]
[null,null,"#4",4.75,4.75,20,32,null,null,null,null,3,5]
[null,null,"#8",2.36,2.36,16,28,null,null,null,null,3,5]
[null,null,"#16",1.18,1.18,8,28,null,null,null,null,3,3]
[null,null,"#30",0.6,0.6,8,28,null,null,null,null,3,3]
[null,null,"#50",0.3,0.3,8,28,null,null,null,null,3,3]
[null,null,"#200",7.4999999999999997E-2,7.4999999999999997E-2,8,12,null,null,null,null,3,3]
[]
[]
[null,"346-SMA-F","1/2\"",12.5,12.5,100,100,17.5,17,null,null,0,0,2,1.6,1.25,2,1.25,6,7,95,97,0.1,null,0.501]
[null,null,"3/8\"",9.5,9.5,70,100,null,null,null,null,3,5]
[null,null,"#4",4.75,4.75,30,60,null,null,null,null,3,5]
[null,null,"#8",2.36,2.36,20,40,null,null,null,null,3,5]
[null,null,"#16",1.18,1.18,6,30,null,null,null,null,3,3]
[null,null,"#30",0.6,0.6,6,30,null,null,null,null,3,3]
[null,null,"#50",0.3,0.3,6,30,null,null,null,null,3,3]
[null,null,"#200",7.4999999999999997E-2,7.4999999999999997E-2,4,12,null,null,null,null,3,3]
[]
[]
[]
[]
[null,"346-SMAR-F","1/2\"",12.5,12.5,100,100,19,18.5,null,null,0,0,2,1.6,1.5,3,1.25,7,10,95,97,0.1,null,0.501]
[null,null,"3/8\"",9.5,9.5,95,100,null,null,null,null,3,5]
[null,null,"#4",4.75,4.75,40,50,null,null,null,null,3,5]
[null,null,"#8",2.36,2.36,17,27,null,null,null,null,3,5]
[null,null,"#16",1.18,1.18,12,22,null,null,null,null,3,3]
[null,null,"#30",0.6,0.6,8,20,null,null,null,null,3,3]
[null,null,"#50",0.3,0.3,6,15,null,null,null,null,3,3]
[null,null,"#200",7.4999999999999997E-2,7.4999999999999997E-2,5,9,null,null,null,null,3,3]
[]
[]
[]
[null,"347-TOM-C","1/2\"",12.5,12.5,100,100,16,15.5,null,null,0,0,2,1.6,0.75,1.25,null,6,100,95,98,0.2,null,0.30099999999999999]
[null,null,"3/8\"",9.5,9.5,95,100,null,null,null,null,3,5]
[null,null,"#4",4.75,4.75,40,60,null,null,null,null,3,5]
[null,null,"#8",2.36,2.36,17,27,null,null,null,null,3,5]
[null,null,"#16",1.18,1.18,5,27,null,null,null,null,3,3]
[null,null,"#30",0.6,0.6,5,27,null,null,null,null,3,3]
[null,null,"#50",0.3,0.3,5,27,null,null,null,null,3,3]
[null,null,"#200",7.4999999999999997E-2,7.4999999999999997E-2,5,9,null,null,null,null,3,3]
[]
[]
[]
[null,"347-TOM-F","1/2\"",12.5,12.5,100,100,16.5,16,null,null,0,0,2,1.6,0.5,1,null,6.5,100,95,98,0.2,null,0.30099999999999999]
[null,null,"3/8\"",9.5,9.5,98,100,null,null,null,null,3,5]
[null,null,"#4",4.75,4.75,70,95,null,null,null,null,3,5]
[null,null,"#8",2.36,2.36,40,65,null,null,null,null,3,5]
[null,null,"#16",1.18,1.18,20,45,null,null,null,null,3,3]
[null,null,"#30",0.6,0.6,10,35,null,null,null,null,3,3]
[null,null,"#50",0.3,0.3,10,20,null,null,null,null,3,3]
[null,null,"#200",7.4999999999999997E-2,7.4999999999999997E-2,2,12,null,null,null,null,3,3]
[]
[]
[]
[null,"348-PFC-F","1/2\"",12.5,12.5,100,100,null,null,null,null,0,0,2,3,null,null,null,6,7,0,78,0.1,20,0.30099999999999999]
[null,null,"3/8\"",9.5,9.5,95,100,null,null,null,null,3,5]
[null,null,"#4",4.75,4.75,20,55,null,null,null,null,3,5]
[null,null,"#8",2.36,2.36,1,10,null,null,null,null,3,5]
[null,null,"#200",7.4999999999999997E-2,7.4999999999999997E-2,1,4,null,null,null,null,3,5]
[]
[]
[]
[]
[]
[]
[null,"348-PFC-C","3/4\"",19,19,100,100,null,null,null,null,0,0,2,3,null,null,null,6,7,0,82,0.1,20,0.30099999999999999]
[null,null,"1/2\"",12.5,12.5,80,100,null,null,null,null,3,5]
[null,null,"3/8\"",9.5,9.5,35,60,null,null,null,null,3,5]
[null,null,"#4",4.75,4.75,1,20,null,null,null,null,3,5]
[null,null,"#8",2.36,2.36,1,10,null,null,null,null,3,5]
[null,null,"#200",7.4999999999999997E-2,7.4999999999999997E-2,1,4,null,null,null,null,3,5]
[]
[]
[]
[]
[]
[]
[null,"348-TBWC-A","3/8\"",9.5,9.5,100,100,null,null,null,null,0,0,2,3,null,null,null,5,5.8,0,92,0.1,20,0.30099999999999999,0.41]
[null,null,"#4",4.75,4.75,35,55,null,null,null,null,3,5]
[null,null,"#8",2.36,2.36,19,30,null,null,null,null,3,5]
[null,null,"#16",1.18,1.18,14,25,null,null,null,null,3,5]
[null,null,"#50",0.3,0.3,7,14,null,null,null,null,3,5,null,null,null,null,null,null,null,null,null,null,null,null,0.82]
[null,null,"#200",7.4999999999999997E-2,7.4999999999999997E-2,4,6,null,null,null,null,3,5,null,null,null,null,null,null,null,null,null,null,null,null,1.64]
[null,null,null,null,null,null,null,null,null,null,null,null,null,null,null,null,null,null,null,null,null,null,null,null,null,6.14]
[null,null,null,null,null,null,null,null,null,null,null,null,null,null,null,null,null,null,null,null,null,null,null,null,null,32.770000000000003]
[]
[]
[]
[null,"348-TBWC-B","1/2\"",12.5,12.5,100,100,null,null,null,null,0,0,2,3,null,null,null,4.8,5.6,0,92,0.1,20,0.30099999999999999,0.41]
[null,null,"3/8\"",9.5,9.5,75,100,null,null,null,null,3,5]
[null,null,"#4",4.75,4.75,22,36,null,null,null,null,3,5]
[null,null,"#8",2.36,2.36,19,30,null,null,null,null,3,5,null,null,null,null,null,null,null,null,null,null,null,null,0.82]
[null,null,"#16",1.18,1.18,14,24,null,null,null,null,3,5,null,null,null,null,null,null,null,null,null,null,null,null,1.64]
[null,null,"#50",0.3,0.3,7,14,null,null,null,null,3,5,null,null,null,null,null,null,null,null,null,null,null,null,6.14]
[null,null,"#200",7.4999999999999997E-2,7.4999999999999997E-2,4,6,null,null,null,null,3,5,null,null,null,null,null,null,null,null,null,null,null,null,32.770000000000003]
[]
[]
[]
[]
[null,"348-TBWC-C","3/4\"",19,19,100,100,null,null,null,null,0,0,2,3,null,null,null,4.8,5.6,0,92,0.1,20,0.30099999999999999,0.41]
[null,null,"1/2\"",12.5,12.5,75,100,null,null,null,null,3,5]
[null,null,"3/8\"",9.5,9.5,55,80,null,null,null,null,3,5]
[null,null,"#4",4.75,4.75,22,36,null,null,null,null,3,5]
[null,null,"#8",2.36,2.36,19,30,null,null,null,null,3,5,null,null,null,null,null,null,null,null,null,null,null,null,0.82]
[null,null,"#16",1.18,1.18,14,24,null,null,null,null,3,5,null,null,null,null,null,null,null,null,null,null,null,null,1.64]
[null,null,"#50",0.3,0.3,7,14,null,null,null,null,3,5,null,null,null,null,null,null,null,null,null,null,null,null,6.14]
[null,null,"#200",7.4999999999999997E-2,7.4999999999999997E-2,4,6,null,null,null,null,3,5,null,null,null,null,null,null,null,null,null,null,null,null,32.770000000000003]

{"sheet":"INSTRUCTIONS","index":1,"n_rows":19,"n_cols":4,"rows_kept":19,"cut":false,"hidden":false,"merged":[[1,2,1,3],[4,2,4,3],[9,1,9,4],[12,1,12,4],[10,2,11,3],[5,1,5,4],[6,2,6,3],[7,1,7,4],[8,2,8,3],[13,2,13,3],[15,1,15,4],[16,2,16,3],[17,1,17,4],[18,2,18,3]]}
[]
[null,null,"ENABLE MACROS TO CONTINUE"]
[]
[null,null,null,"TXDOT QCQA\nQuality Control & Assurance"]
[null,null,"\nUse this template in conjunction with the QC/QA specifications for Hot Mix Asphalt or Warm Mix Asphalt mixtures according to the 2024 Specifications handbook.\n\nIf you have questions or comments concerning this template or the QC/QA procedures, please call Travis Patton at (512)506-5841 or (512)221-7408 of the Flexible Pavements Branch of the Materials & Pavements Section within the Construction Division. \n\nIf you would like to obtain an updated version of this Site Manager template go to: \nhttp://www.txdot.gov/inside-txdot/forms-publications/consultants-contractors/forms/site-manager.html\n\nThis program uses macros that must be enabled when the program starts.\n\nThe summary sheet provides notes when operational requirements are not met."]
[null,"CONTROL PANEL"]
[null,null,"\nClick the button above for the Control Panel. The QCQA Control Panel is used for navigation and to refresh or import workbooks.\n\nClick on the navigation buttons to move to the next or previous worksheet. The dropdown box may be used to jump to a specific worksheet within the workbook.\n\nTwo refresh buttons are available. These clear all the input fields in either the current worksheet or the entire workbook.\n\nTo import TxDOT or Contractor data, toggle the appropriate radio button and click the Select Book button. You will be prompted for the file to import."]
[null,"GENERAL"]
[null,null,"\nThe COURSE/LIFT field will provide appropriate options based on the mixture type selection. "]
[null,"MIX DESIGN"]
[null,null,"\nThe following is a list of the input fields:\n\nTrial?: Trial batches.\nLevel up?: \n1.0 pay factor?:\nExempt production?:\nDate lot opened (MM/DD/YYYY): Indicate the date the lot was opened using the date format as indicated i.e. month/day/year.\nMix uses WMA ?: Indicate if the mix uses warm mix asphalt (WMA) additives or processes. \nMix uses RAP/RAS?: Indicate if the mix uses recycled asphalt pavement (RAP) or recycled asphalt shingles (RAS).\nBinder substitution?: Indicate if binder substitution was applied - typically when using RAP/RAS.\nCourse/Lift: Indicate if the mix is used for the surface, intermediate or base layer in the pavement structure.\nGyratory compactor: Select either Superpave (SGC) or Texas (TGC) gyratory compactor\nRoadway Rice for base mixes?:\nMethod for gradation:\nDry or wet gradation:\nMethod used for asphalt content:\nEquipment used for thermal profile:\nRemarks:\n"]
[]
[null,"SAMPLING"]
[null,null,"\nThere are two worksheets on which to fill out sampling information and core locations.\n\nOn the first:\nThe sublot from which the blind sample is collected can be checked.\nEnter the random numbers for each sublot for Production and Placement Sampling. Use TxRandNum.xls template to generate random numbers for the entire project. The template will automatically adjust the width offset for the coring location to 2-ft. if the randomly generated sample location is within 2 ft of a joint or pavement edge.  \nEnter the date in format month/day/year when samples where collected on the respective sublots.\n\nOn the second:\nPlacement Data for Lot: It is suggested to use the following procedure for describing where the mix was laid.  \nDirection of Lane: NB, SB, EB, and WB for north, east, south, and west bound. \nDescription of Lane: Referencing out from the center line of the median. Example: L1,L2,L3 etc. where L1 is the lane closest to the centerline. For shoulders, use IS for inside shoulder and OS for outside shoulder.  \n  \nDescription of the lift if mix is placed in multiple lifts. Example: C1, C2, C3 etc. for course 1, 2, 3, etc. (from the bottom course up). \nExamples: \nNBL2: North bound, driving lane (outside lane)\nSBIS: South bound inside shoulder\nWBL1C2: West bound passing lane (inside lane) second course\nEBL1: East bound inside lane\nCore Locations are calculated for each sublot after the laboratory density test results are entered OR after the Quantity Actually Placed is entered in the Pay sheet. \n"]
[]
[null,"QCQA"]
[null,null,"\nUse these worksheets to enter all pertinent information referenced in the 2004 Specification Book; including Estimated Percent of Stripping, Thermal Segregation, Density Profile, Draindown, Binder Sample, and DSR Testing whenever specified.  \n• WARNING: Do not enter data or information for any sublot that has not been started. This affects the Bonus/Penalty calculations in the Pay Sheet. \n• Thermal Profile, Mat Segregation, & Joint Density: Ensure that all thermal profile, segregation density profile, and longitudinal joint density information is entered. If this information is missing, no pay factors will be calculated. When using the Pave-IR system for specification compliance, thermal profiles or segregation density profiles are not required.  \n Select \"Pass\" if the Engineer didn't performed a thermal profile, density profile, or joint density evaluation for that sublot. \n• Referee Results:  Enter the referee results in the SUMMARY sheet. For example, the referee in-place air voids should be entered in the DENSITY REFEREE section.  \n• Untrimmed Core Height: If the untrimmed core height is less than the minimum requirement and it is decided not to have the core included in air void determination, enter the untrimmed core height in the TxDOT sheet. This will allow the user to select an auto 1.000 placement pay factor in the Pay sheet. \n• Notes: Warning notes are provided in each sublot sheet when test results or core heights are out of operational tolerance.  \n• Remark boxes are provided in each sublot sheet for any miscellaneous information or additional test results."]
[null,"PAY"]
[null,null,"\nEnter the quantity actually placed in the lot and the bid price per ton. This worksheet calculates Payment for Item, Pay Adjustments, and Total Pay.  \n• Quantity Placed But No Air Void Testing Was Required, Tons: Enter tonnage for 'Miscellaneous Areas' only. See the specification for the definition of 'Miscellaneous Areas'. \n• Auto 1.000 Pay Factor: Select 'Yes' from the dropdown list or type in the word 'Yes', if it is not available, to assign a 1.000 pay factor for that sublot. \n• Pay Factor: No pay factors are calculated when not using the Pave-IR system and no thermal segregation, segregation density profile, or longitudinal joint density test results are entered in each individual TxDOT & CON sublot worksheet. \n• Remove and Replace Condition: When the production and/or placement test results resulted in remove and replace condition, the program automatically assigns a no-pay for the other QA or QC results. The production and placement pay factors must be no-pay if the Engineer elects to leave in place without payment. Do not select auto 1.000 pay factors in this situation. \n"]

{"sheet":"DATA_AC","index":2,"n_rows":41,"n_cols":24,"rows_kept":41,"cut":false,"hidden":true,"merged":[[25,11,26,11],[1,3,1,9],[21,8,21,9],[25,5,25,7],[21,3,21,6],[2,3,2,6],[2,8,2,9],[25,8,25,10],[25,2,25,4]]}
[]
[null,null,null,null,null,null,null,null,null,null,null,null,null,null,null,null,null,"Subtitute Binders"]
[null,"#","AC GRADES",null,null,null,null,null,null,null,null,null,null,null,null,null,"#","AC GRADES","Surface","Intermediate","Base",null,null,"Special Spec Substitute Binder"]
[null,1,"PG 58-22",null,null,null,null,null,null,null,null,null,null,null,null,null,1,"PG 58-22","NA","NA","NA",null,null,{"$f":"IF(MIX_SUB=\"Yes\",INDEX(S4:U20,MATCH(AC_ORIG,R4:R20,0),MATCH(CourseLift,S3:U3,0)),\"NA\")","v":"NA"}]
[null,2,"PG 58-28",null,null,null,null,null,null,null,null,null,null,null,null,null,2,"PG 58-28","NA","NA","NA"]
[null,3,"PG 58-34",null,null,null,null,null,null,null,null,null,null,null,null,null,3,"PG 58-34","NA","NA","NA"]
[null,4,"PG 64-22",null,null,null,null,null,null,null,null,null,null,null,null,null,4,"PG 64-22","NA","NA","NA"]
[null,5,"PG 64-28",null,null,null,null,null,null,null,null,null,null,null,null,null,5,"PG 64-28","NA","NA","NA"]
[null,6,"PG 64-34",null,null,null,null,null,null,null,null,null,null,null,null,null,6,"PG 64-34","NA","NA","NA"]
[null,7,"PG 70-22",null,null,null,null,null,null,null,null,null,null,null,null,null,7,"PG 70-22","NA","PG 64-22","PG 64-22"]
[null,8,"PG 70-28",null,null,null,null,null,null,null,null,null,null,null,null,null,8,"PG 70-28","NA","PG 64-28","PG 64-28"]
[null,9,"PG 70-34",null,null,null,null,null,null,null,null,null,null,null,null,null,9,"PG 70-34","NA","NA","NA"]
[null,10,"PG 76-22",null,null,null,null,null,null,null,null,null,null,null,null,null,10,"PG 76-22","PG 70-22","PG 70-22","PG 70-22"]
[null,11,"PG 76-28",null,null,null,null,null,null,null,null,null,null,null,null,null,11,"PG 76-28","PG 70-28","PG 70-28","PG 70-28"]
[null,12,"PG 76-34",null,null,null,null,null,null,null,null,null,null,null,null,null,12,"PG 76-34","NA","NA","NA"]
[null,13,"PG 82-22",null,null,null,null,null,null,null,null,null,null,null,null,null,13,"PG 82-22","NA","NA","NA"]
[null,14,"PG 82-28",null,null,null,null,null,null,null,null,null,null,null,null,null,14,"PG 82-28","NA","NA","NA"]
[null,15,"HPG",null,null,null,null,null,null,null,null,null,null,null,null,null,15,"HPG","NA","NA","NA"]
[null,16,"AR TYPE I",null,null,null,null,null,null,null,null,null,null,null,null,null,16,"AR TYPE I","NA","NA","NA"]
[null,17,"AR TYPE II",null,null,null,null,null,null,null,null,null,null,null,null,null,17,"AR TYPE II","NA","NA","NA"]
[]
[]
[]
[]
[null,1,2,3,4,5,6,7,8,9,10,11]
[null,null,"Max frac RAP",null,null,"Max unfrac RAP",null,null,"Max ratio recyc to total binder",null,null,"RAS"]
[null,null,"Surface","Intermediate","Base","Surface","Intermediate","Base","Surface","Intermediate","Base"]
[null,341,20,30,35,0,0,0,15,25,30,{"$f":"IF(CourseLift=\"Surface\",0,3)","v":3}]
[null,342,0,0,0,0,0,0,0,0,0,0]
[null,344,20,30,35,0,0,0,15,25,30,{"$f":"IF(CourseLift=\"Surface\",0,3)","v":3}]
[null,346,20,25,25,0,0,0,15,20,20,{"$f":"IF(CourseLift=\"Surface\",0,3)","v":3}]
[null,347,0,0,0,0,0,0,0,0,0,0]
[null,348,0,0,0,0,0,0,0,0,0,0]
[null,3074,35,0,0,0,0,0,30,0,0,5]
[null,"SSC",0,0,0,0,0,0,0,0,0,0]
[]
[null,"HIGH_ITEMS"]
[null,342]
[null,346]
[null,347]
[null,348]

{"sheet":"GENERAL","index":3,"n_rows":67,"n_cols":10,"rows_kept":67,"cut":false,"hidden":false,"merged":[[9,3,9,4],[0,0,0,1],[7,3,7,4],[8,3,8,4],[14,3,14,7],[10,3,10,4],[11,3,11,4],[12,3,12,4],[47,2,47,5],[35,2,35,5],[49,2,49,5],[27,2,27,5],[29,2,29,5],[31,2,31,5],[33,2,33,5],[41,2,41,5],[51,2,51,5],[64,1,64,3],[13,3,13,4],[16,3,16,4],[60,1,60,3],[15,3,15,7],[21,1,22,7],[60,6,60,7],[25,2,25,5],[37,2,37,5],[39,2,39,5],[43,2,43,5],[45,2,45,5],[57,2,57,5],[55,2,55,5],[53,2,53,5]]}
["TxDOT Manuals >"]
[null,"TEXAS DEPARTMENT OF TRANSPORTATION",null,null,null,null,null,null,"UPLC:",1342]
[null,null,null,null,null,null,null,null,"DLT:",17]
[null,null,null,null,null,null,null,null,"SN:","tx2qcqa24.xlsm::45590.689294"]
[null,null,null,null,null,null,null,null,"Legend:",101]
[null,"2024 QC/QA Design Data"]
[null,null,null,null,null,null,null,{"$f":"\"TX2QCQA24 - File Version: \" & TEXT(MID(sn,SEARCH(\"::\",sn,1)+2,20),\"mm/dd/yy hh:mm:ss\")","v":"TX2QCQA24 - File Version: 10/25/24 16:32:35"}]
[null,null,"SAMPLE ID:",null,null,null,"SAMPLED DATE:"]
[null,null,"LOT NUMBER:",null,null,null,"LETTING DATE:"]
[null,null,"SAMPLE STATUS:",null,null,null,"CONTROLLING CSJ:"]
[null,null,"COUNTY:",null,null,null,"SPEC YEAR:"]
[null,null,"SAMPLED BY:",null,null,null,"SPEC ITEM:"]
[null,null,"SAMPLE LOCATION:",null,null,null,"SPECIAL PROVISION:"]
[null,null,"MATERIAL CODE:",null,null,null,"MIX TYPE:"]
[null,null,"MATERIAL NAME:"]
[null,null,"PRODUCER:"]
[null,null,"AREA ENGINEER:",null,null,null,"PROJECT MANAGER:"]
[]
[null,null,"COURSE\\LIFT:",null,"STATION:",null,"DIST. FROM CL:"]
[]
[null,"Remarks:",{"$f":"NOW()","v":"2025-03-26T15:30:16.960"}]
[]
[]
[]
[null,"Test Method:","Tested By:",null,null,null,"Tested Date:"]
[null,"TX207"]
[]
[null,"TX207PI"]
[]
[null,"TX207PV"]
[]
[null,"TX207PVI"]
[]
[null,"TX207PVII"]
[]
[null,"TX207PVIII"]
[]
[null,"TX226"]
[]
[null,"TX227"]
[]
[null,"TX227PII"]
[]
[null,"TX228"]
[]
[null,"TX229"]
[]
[null,"TX236"]
[]
[null,"TX236PI"]
[]
[null,"TX236PII"]
[]
[null,"TX242"]
[]
[null,"TX248"]
[]
[null,"TX530"]
[]
[null,"Test Stamp Code:",null,null,"Omit Test:","Completed Date:","Reviewed By:"]
[]
[null,"Locked By:","TxDOT:","District:","Area:"]
[null,null,null,"",""]
[null,"Authorized By:",null,null,"Authorized Date:"]
[null,null,null,null,null,0]
[]
[null,null,null,null,{"$f":"AuthorizedDate","v":0}]

{"sheet":"DESIGN","index":4,"n_rows":89,"n_cols":15,"rows_kept":89,"cut":false,"hidden":false,"merged":[[0,1,0,3],[61,1,61,2],[67,1,67,2],[79,1,79,2],[84,1,84,2],[1,1,1,2],[23,1,23,2],[31,1,31,2],[39,1,39,2],[55,1,55,2]]}
[null,{"$f":"header","v":"SAMPLE ID:    ______________________________    SAMPLED DATE: ___________________________\nLOT NUMBER:    _____________________________    LETTING DATE: ___________________________\nSAMPLE STATUS:    __________________________    CONTROLLING CSJ: ________________________\nCOUNTY:    _________________________________    SPEC YEAR: ______________________________\nSAMPLED BY:    __________________________________    SPEC ITEM: ______________________________\nSAMPLE LOCATION:    ________________________    SPECIAL PROVISION: ______________________\nMATERIAL CODE:    __________________________    MIX TYPE: _______________________________\nMATERIAL NAME: __________________________________________________________________\nPRODUCER: _______________________________________________________________________\nAREA ENGINEER:    __________________________    PROJECT MANAGER: _____________________________\nCOURSE\\LIFT:    __________________    STATION: ______________________    DIST. FROM CL: ______\n"}]
[null,"MIXTURE DATA",null,null,0]
[null,"Specification year:",{"$f":"IF(ISBLANK(GENERAL!H11),\"\",GENERAL!H11)","v":""}]
[null,"Special provision:",null,null,"Hide this row for now"]
[null,"Mix type:",{"$f":"IF(ISBLANK(GENERAL!H14),\"\",GENERAL!H14)","v":""},null,null,null,null,null,null,null,null,null,{"$f":"\"HMA\" & SUBSTITUTE(C5,\"-\",\"\")","v":"HMA"},{"$f":"MATCH(C5,MIXTYPES,0)","v":{"$error":"#N/A"}},{"$f":"IF(LEN(Grade)>10,RIGHT(LEFT(MIX_NAME,9),4),RIGHT(LEFT(MIX_NAME,6),3))","v":"HMA"}]
[null,"Trial batch?:"]
[null,"Level up?:"]
[null,"1.0 pay factor?:",null,null,"Hide this row for now"]
[null,"Exempt production?:"]
[null,"First lot?:"]
[null,"Date lot opened (MM/DD/YYYY):"]
[null,"Mix uses WMA ?:"]
[null,"Mix uses RAP/RAS?:",null,{"$f":"IFERROR(IF(INDEX(CHK_RAPRAS,MIX_ID),\"\",IF(MIX_RAP=\"Yes\",\"Recycled materials are not allowed\",\"\")),\"\")","v":""}]
[null,"Binder substitution?:",null,{"$f":"IFERROR(IF(INDEX(CHK_SUBST,MIX_ID),IF(AND(MIX_RAP=\"No\",MIX_SUB=\"Yes\"),\"Reselect binder substitution\",\"\"),IF(MIX_SUB=\"Yes\",\"Binder substitution is not allowed\",\"\")),\"\")","v":""}]
[null,"Course/Lift:",{"$f":"IF(ISBLANK(CourseLift),\"\",CourseLift)","v":""},null,null,null,null,null,null,null,null,null,{"$f":"MATCH(C15,COURSE3,0)","v":{"$error":"#N/A"}}]
[null,"Gyratory compactor:",null,null,null,null,null,null,{"$f":"Field32","v":0}]
[null,"Roadway Rice for base mixes?:",null,null,"needs to be removed"]
[null,"Method for gradation:"]
[null,"Dry or wet gradation:"]
[null,"Method used for asphalt content:"]
[null,"Equipment used for thermal profile:"]
[null,"Remarks:"]
[]
[null,"WARM MIX ASPHALT (WMA)"]
[null,"For compaction aid only:"]
[null,"Technology:"]
[null,"Rate:"]
[null,"Units:"]
[null,"Target discharge temperature, °F:"]
[null,"Mix treated as WMA?:",{"$f":"IF(AND(C25=\"No\",C29>=215,C29<=275),\"Yes\",\"No\")","v":"No"}]
[]
[null,"PRODUCTION"]
[null,"Lot size, tons:"]
[null,"Sublot size, tons:",{"$f":"IF(C33<>\"\",C33/4,\"\")","v":""}]
[null,"Current JMF #:"]
[null,"Design JMF #:",{"$f":"IF(C35>2,2,1)","v":1}]
[null,"Lift thickness, inches:"]
[null,"Mix design ID:"]
[]
[null,"ASPHALT CEMENT"]
[null,"Binder originally specified:",null,{"$f":"IFERROR(IF(RIGHT(MIX_NAME,5)=\"SMARF\",IF(LEFT(AC_ORIG,2)<>\"AR\",\"Only AR binder is allowed\",\"\"),IF(INDEX(CHK_PG76,MIX_ID),IF(LEFT(AC_ORIG,5)<>\"PG 76\",\"Only PG 76 binder is allowed\",\"\"),IF(RIGHT(MIX_NAME,5)<>\"SMARF\",IF(LEFT(AC_ORIG,2)=\"AR\",\"Only PG or HPG grade is allowed\",\"\"),\"\"))),\"\")","v":""},null,null,null,null,null,null,null,null,{"$f":"MATCH(C41,GRADES)-1","v":{"$error":"#N/A"}}]
[null,"Base binder grade:"]
[null,"Substitute binder:",null,{"$f":"IF(AC_SUB<>\"\",IF(AC_SUB<>\"NA\",IF(AC_SUB<>AC_SUB_GRADE,\"Out of spec\",\"\"),\"\"),\"\")","v":""}]
[null,"AC Producer:"]
[null,{"$f":"IF(DESIGN_JMF<>2,\"Design asphalt content (AC), %:\",\"JMF2 asphalt content (AC), %:\")","v":"Design asphalt content (AC), %:"}]
[null,"Current JMF AC, %:"]
[null,"Recycled binder from mix design, %:"]
[null,"Maximum recycled binder ratio:",{"$f":"IFERROR(VLOOKUP(IFERROR(VALUE(MIX_ITEM),MIX_ITEM),RAP_RATIOS,7+COURSE_COL,FALSE),\"Select mix and course on the General sheet\")","v":"Select mix and course on the General sheet"}]
[null,"Tex-236-F Part II ignition oven test date, TxDOT:",null,{"$f":"IF(AND(ISBLANK(COR_DT_T),AC_T_COR<>\"\"),\"Enter ignition oven test date\",\"\")","v":""}]
[null,"Ignition oven correction factor, TxDOT:",null,{"$f":"IF(ISBLANK(COR_DT_T),\"\",IF(ISBLANK(AuthorizedDate),IF(TodaysDate-COR_DT_T>365,\"Correction factor too old\",\"\"),IF(AuthorizedDate-COR_DT_T>365,\"Correction factor too old\",\"\")))","v":""}]
[null,"Tex-236-F Part II ignition oven effective gravity, TxDOT:",null,{"$f":"IF(ABS(AC_T_COR)>0.35,IF(ISBLANK(EFFGR_T),\"Enter effective gravity\",\"\"),\"\")","v":""}]
[null,"Tex-236-F Part II ignition oven test date, Contractor:",null,{"$f":"IF(AND(ISBLANK(COR_DT_C),AC_C_COR<>\"\"),\"Enter ignition oven test date\",\"\")","v":""}]
[null,"Ignition oven correction factor, Contractor:",null,{"$f":"IF(ISBLANK(COR_DT_C),\"\",IF(ISBLANK(AuthorizedDate),IF(TodaysDate-COR_DT_C>365,\"Correction factor too old\",\"\"),IF(AuthorizedDate-COR_DT_C>365,\"Correction factor too old\",\"\")))","v":""}]
[null,"Tex-236-F Part II ignition oven effective gravity, Contractor:",null,{"$f":"IF(ABS(AC_C_COR)>0.35,IF(ISBLANK(EFFGR_C),\"Enter effective gravity\",\"\"),\"\")","v":""}]
[]
[null,"DENSITY & PROPERTIES OF BITUMINOUS MIXTURES",null,null,null,null,null,null,null,null,null,null,{"$f":"INDEX(CHK_GE,MIX_ID)","v":{"$error":"#N/A"}}]
[null,"Design number of gyrations:"]
[null,{"$f":"IF(INDEX(CHK_GE,MIX_ID),\"Effective Specific Gravity (Ge):\",\"Mix specific gravity (Ga):\")","v":{"$error":"#N/A"}}]
[null,"Asphalt specific gravity (G1):"]
[null,"Rice gravity (Gr):"]
[null,"Target laboratory molded density, %:"]
[null," Tex-206-F: Press correlations"]
[null,"TxDOT Press correlation factor:"]
[null,"TxDOT Press ID & serial number:"]
[null,"Contractor Press correlation factor:"]
[null,"Contractor Press ID & serial number:"]
[]
[null,"PERFORMANCE PROPERTIES OF BITUMINOUS MIXTURES"]
[null,"Tex-248-F Overlay test number of cycles: "]
[null,"Tex-248-F Overlay test critical fracture energy, in-lb/in2:"]
[null,"Tex-248-F Overlay test crack progression rate:"]
[null,"Tex-245-F Cantabro loss content, %:"]
[null,"CRM content, %:"]
[null,"Tex-235-F Binder draindown, %:"]
[null,"Fiber content, %:"]
[null,"Design membrane application rate, gal/sy:"]
[null,"Current JMF membrane application rate, gal/sy:"]
[null,"Design VMA, %:"]
[null,"Tex-530-C Boil test percent stripping, %:"]
[null,"Trial batch"]
[null,"Tex-242-F Hamburg number of cycles:"]
[null,"Tex-242-F Hamburg rut depth, mm:"]
[null,"Tex-226-F Indirect tensile strength, psi:"]
[null,"Tex-250-F IDEAL cracking index:"]
[null,"Production"]
[null,"Tex-242-F Hamburg number of cycles:"]
[null,"Tex-242-F Hamburg rut depth, mm:"]
[null,"Tex-226-F Indirect tensile strength, psi:"]
[null,"Tex-250-F IDEAL cracking index:"]

{"sheet":"DESIGN_GRAD","index":5,"n_rows":65,"n_cols":36,"rows_kept":65,"cut":false,"hidden":false,"merged":[[0,1,0,18],[1,14,2,15],[64,14,64,16],[2,1,3,1],[1,1,1,12],[2,2,3,4],[2,5,3,7],[2,9,3,11],[2,8,3,8],[2,12,3,12]]}
[null,{"$f":"header","v":"SAMPLE ID:    ______________________________    SAMPLED DATE: ___________________________\nLOT NUMBER:    _____________________________    LETTING DATE: ___________________________\nSAMPLE STATUS:    __________________________    CONTROLLING CSJ: ________________________\nCOUNTY:    _________________________________    SPEC YEAR: ______________________________\nSAMPLED BY:    __________________________________    SPEC ITEM: ______________________________\nSAMPLE LOCATION:    ________________________    SPECIAL PROVISION: ______________________\nMATERIAL CODE:    __________________________    MIX TYPE: _______________________________\nMATERIAL NAME: __________________________________________________________________\nPRODUCER: _______________________________________________________________________\nAREA ENGINEER:    __________________________    PROJECT MANAGER: _____________________________\nCOURSE\\LIFT:    __________________    STATION: ______________________    DIST. FROM CL: ______\n"}]
[null,"COMBINED AGGREGATE GRADATION",null,null,null,null,null,null,null,null,null,null,null,null,"IGNITION OVEN CORRECTION FACTORS",null,null,"TOLERANCES"]
[null,"Sieve size","Master gradation limits % passing",null,null,"Gradation % passing restricted zone",null,null,{"$f":"IF(DESIGN_JMF<>2,\"Design JMF Cumulative % passing\",\"JMF 2 Cumulative % passing\")","v":"Design JMF Cumulative % passing"},"Current JMF design % passing tolerances",null,null,"Current JMF Cumulative % passing",null,null,null,null,"Gradation",null,"Reference zone"]
[null,null,null,null,null,null,null,null,null,null,null,null,null,null,"TxDOT,         %:","Contractor, %:",null,{"$f":"IF(DESIGN_JMF<>2,\"Design  JMF\",\"JMF 2\")","v":"Design  JMF"},"Current    JMF",{"$f":"IF(DESIGN_JMF<>2,\"Design  JMF\",\"JMF 2\")","v":"Design  JMF"},"Current    JMF"]
[null,{"$f":"IFERROR(IF(X5,INDEX(INDIRECT(MIX_NAME),1,2),\"\"),\"\")","v":""},{"$f":"IFERROR(IF(X5,INDEX(INDIRECT(MIX_NAME),W5,5),\"\"),\"\")","v":""},{"$f":"IFERROR(IF(X5,\"-\",\"\"),\"\")","v":""},{"$f":"IFERROR(IF(X5,INDEX(INDIRECT(MIX_NAME),W5,6),\"\"),\"\")","v":""},{"$f":"IFERROR(IF(Y5,INDEX(INDIRECT(MIX_NAME),W5,9),\"\"),\"\")","v":""},{"$f":"IFERROR(IF(Y5,\"-\",\"\"),\"\")","v":""},{"$f":"IFERROR(IF(Y5,INDEX(INDIRECT(MIX_NAME),W5,10),\"\"),\"\")","v":""},null,{"$f":"IFERROR(IF(X5,DATA_TOL!I4,\"\"),\"\")","v":""},{"$f":"D5","v":""},{"$f":"IFERROR(IF(X5,DATA_TOL!J4,\"\"),\"\")","v":""},null,null,null,null,null,{"$f":"IFERROR(IF(X5,IF(AND(I5>=C5,I5<=E5),1,0),\"\"),\"\")","v":""},{"$f":"IFERROR(IF(X5,IF(N_TRIAL=\"Yes\",IF(AND(M5>=C5,M5<=E5),1,0),IF(AH5,1,0)),\"\"),\"\")","v":""},{"$f":"IFERROR(IF(Y5,IF(AND(I5>=F5,I5<=H5),0,1),\"\"),\"\")","v":""},{"$f":"IFERROR(IF(Y5,IF(AND(M5>=F5,M5<=H5),0,1),\"\"),\"\")","v":""},null,1,{"$f":"IF(LEN(INDEX(INDIRECT(MIX_NAME),W5,2))>0,-1,0)","v":{"$error":"#REF!"}},{"$f":"IF(LEN(INDEX(INDIRECT(MIX_NAME),W5,9))>0,-1,0)","v":{"$error":"#REF!"}},null,{"$f":"IF(AND(M5>=J5,M5<=L5),1,0)","v":1},null,null,null,{"$f":"IF(Z6=$B$21,AD6,\"\")","v":""},{"$f":"IF(W5=$B$21,INDEX(INDIRECT(MIX_NAME),1,13),INDEX(INDIRECT(MIX_NAME),W5,11))","v":{"$error":"#REF!"}},null,{"$f":"AND(AA5,AG5)","v":true},{"$f":"IF(X5,IF(AH5,1,0),\"\")","v":{"$error":"#REF!"}},{"$f":"IF(AND(M5>=C5,M5<=E5),1,0)","v":1}]
[null,{"$f":"IFERROR(IF(X6,INDEX(INDIRECT(MIX_NAME),2,2),\"\"),\"\")","v":""},"","","","","","",null,{"$f":"IFERROR(IF(X6,DATA_TOL!I5,\"\"),\"\")","v":""},{"$f":"D6","v":""},{"$f":"IFERROR(IF(X6,DATA_TOL!J5,\"\"),\"\")","v":""},null,null,null,null,null,"","","","",null,2,{"$error":"#REF!"},{"$error":"#REF!"},1,1,{"$f":"I5-I6","v":0},{"$f":"M5-M6","v":0},{"$f":"ABS(AB6-AC6)","v":0},{"$f":"IF(Z7=$B$21,AD7,AD6)","v":0},{"$error":"#REF!"},{"$f":"IF(AF6>0,IF(AE6>AF6,0,1),\"\")","v":{"$error":"#REF!"}},{"$error":"#REF!"},{"$error":"#REF!"},{"$f":"IF(AND(M6>=C6,M6<=E6),1,0)","v":1}]
[null,{"$f":"IFERROR(IF(X7,INDEX(INDIRECT(MIX_NAME),3,2),\"\"),\"\")","v":""},"","","","","","",null,{"$f":"IFERROR(IF(X7,DATA_TOL!I6,\"\"),\"\")","v":""},"",{"$f":"IFERROR(IF(X7,DATA_TOL!J6,\"\"),\"\")","v":""},null,null,null,null,null,"","","","",null,3,{"$error":"#REF!"},{"$error":"#REF!"},2,1,0,0,0,0,{"$error":"#REF!"},{"$error":"#REF!"},{"$error":"#REF!"},{"$error":"#REF!"},1]
[null,{"$f":"IFERROR(IF(X8,INDEX(INDIRECT(MIX_NAME),4,2),\"\"),\"\")","v":""},"","","","","","",null,{"$f":"IFERROR(IF(X8,DATA_TOL!I7,\"\"),\"\")","v":""},"",{"$f":"IFERROR(IF(X8,DATA_TOL!J7,\"\"),\"\")","v":""},null,null,null,null,null,"","","","",null,4,{"$error":"#REF!"},{"$error":"#REF!"},3,1,0,0,0,0,{"$error":"#REF!"},{"$error":"#REF!"},{"$error":"#REF!"},{"$error":"#REF!"},1]
[null,{"$f":"IFERROR(IF(X9,INDEX(INDIRECT(MIX_NAME),5,2),\"\"),\"\")","v":""},"","","","","","",null,{"$f":"IFERROR(IF(X9,DATA_TOL!I8,\"\"),\"\")","v":""},"",{"$f":"IFERROR(IF(X9,DATA_TOL!J8,\"\"),\"\")","v":""},null,null,null,null,null,"","","","",null,5,{"$error":"#REF!"},{"$error":"#REF!"},4,1,0,0,0,0,{"$error":"#REF!"},{"$error":"#REF!"},{"$error":"#REF!"},{"$error":"#REF!"},1]
[null,{"$f":"IFERROR(IF(X10,INDEX(INDIRECT(MIX_NAME),6,2),\"\"),\"\")","v":""},"","","","","","",null,{"$f":"IFERROR(IF(X10,DATA_TOL!I9,\"\"),\"\")","v":""},"",{"$f":"IFERROR(IF(X10,DATA_TOL!J9,\"\"),\"\")","v":""},null,null,null,null,null,"","","","",null,6,{"$error":"#REF!"},{"$error":"#REF!"},5,1,0,0,0,0,{"$error":"#REF!"},{"$error":"#REF!"},{"$error":"#REF!"},{"$error":"#REF!"},1]
[null,{"$f":"IFERROR(IF(X11,INDEX(INDIRECT(MIX_NAME),7,2),\"\"),\"\")","v":""},"","","","","","",null,{"$f":"IFERROR(IF(X11,DATA_TOL!I10,\"\"),\"\")","v":""},"",{"$f":"IFERROR(IF(X11,DATA_TOL!J10,\"\"),\"\")","v":""},null,null,null,null,null,"","","","",null,7,{"$error":"#REF!"},{"$error":"#REF!"},6,1,0,0,0,0,{"$error":"#REF!"},{"$error":"#REF!"},{"$error":"#REF!"},{"$error":"#REF!"},1]
[null,{"$f":"IFERROR(IF(X12,INDEX(INDIRECT(MIX_NAME),8,2),\"\"),\"\")","v":""},"","","","","","",null,{"$f":"IFERROR(IF(X12,DATA_TOL!I11,\"\"),\"\")","v":""},"",{"$f":"IFERROR(IF(X12,DATA_TOL!J11,\"\"),\"\")","v":""},null,null,null,null,null,"","","","",null,8,{"$error":"#REF!"},{"$error":"#REF!"},7,1,0,0,0,0,{"$error":"#REF!"},{"$error":"#REF!"},{"$error":"#REF!"},{"$error":"#REF!"},1]
[null,{"$f":"IFERROR(IF(X13,INDEX(INDIRECT(MIX_NAME),9,2),\"\"),\"\")","v":""},"","","","","","",null,{"$f":"IFERROR(IF(X13,DATA_TOL!I12,\"\"),\"\")","v":""},"",{"$f":"IFERROR(IF(X13,DATA_TOL!J12,\"\"),\"\")","v":""},null,null,null,null,null,"","","","",null,9,{"$error":"#REF!"},{"$error":"#REF!"},8,1,0,0,0,0,{"$error":"#REF!"},{"$error":"#REF!"},{"$error":"#REF!"},{"$error":"#REF!"},1]
[null,{"$f":"IFERROR(IF(X14,INDEX(INDIRECT(MIX_NAME),10,2),\"\"),\"\")","v":""},{"$f":"IFERROR(IF(X14,INDEX(INDIRECT(MIX_NAME),W14,5),\"\"),\"\")","v":""},{"$f":"IFERROR(IF(X14,\"-\",\"\"),\"\")","v":""},{"$f":"IFERROR(IF(X14,INDEX(INDIRECT(MIX_NAME),W14,6),\"\"),\"\")","v":""},{"$f":"IFERROR(IF(Y14,INDEX(INDIRECT(MIX_NAME),W14,9),\"\"),\"\")","v":""},{"$f":"IFERROR(IF(Y14,\"-\",\"\"),\"\")","v":""},{"$f":"IFERROR(IF(Y14,INDEX(INDIRECT(MIX_NAME),W14,10),\"\"),\"\")","v":""},null,{"$f":"IFERROR(IF(X14,DATA_TOL!I13,\"\"),\"\")","v":""},"",{"$f":"IFERROR(IF(X14,DATA_TOL!J13,\"\"),\"\")","v":""},null,null,null,null,null,{"$f":"IFERROR(IF(X14,IF(AND(I14>=C14,I14<=E14),1,0),\"\"),\"\")","v":""},"",{"$f":"IFERROR(IF(Y14,IF(AND(I14>=F14,I14<=H14),0,1),\"\"),\"\")","v":""},{"$f":"IFERROR(IF(Y14,IF(AND(M14>=F14,M14<=H14),0,1),\"\"),\"\")","v":""},null,10,{"$f":"IF(LEN(INDEX(INDIRECT(MIX_NAME),W14,2))>0,-1,0)","v":{"$error":"#REF!"}},{"$f":"IF(LEN(INDEX(INDIRECT(MIX_NAME),W14,9))>0,-1,0)","v":{"$error":"#REF!"}},9,{"$f":"IF(AND(M14>=J14,M14<=L14),1,0)","v":1},{"$f":"I13-I14","v":0},{"$f":"M13-M14","v":0},{"$f":"ABS(AB14-AC14)","v":0},{"$f":"IF(Z15=$B$21,AD15,AD14)","v":0},{"$f":"IF(W14=$B$21,INDEX(INDIRECT(MIX_NAME),1,13),INDEX(INDIRECT(MIX_NAME),W14,11))","v":{"$error":"#REF!"}},{"$f":"IF(AF14>0,IF(AE14>AF14,0,1),\"\")","v":{"$error":"#REF!"}},{"$f":"AND(AA14,AG14)","v":{"$error":"#REF!"}},{"$f":"IF(X14,IF(AH14,1,0),\"\")","v":{"$error":"#REF!"}},1]
[null,null,null,null,null,null,null,null,null,null,null,null,null,null,null,null,null,null,null,null,null,null,null,null,null,10,null,{"$f":"I14-I15","v":0},{"$f":"M14-M15","v":0},{"$f":"ABS(AB15-AC15)","v":0}]
[null,{"$f":"IFERROR(IF(AND(NOT(N_TRIAL=\"Yes\"),NOT(LEN(INDEX(M5:M14,B$21))=0),INDEX(AG5:AG14,B$21)=0),\"% passing  #200 falls outside the operational tolerances\",\"\"),\"\")","v":""}]
[null,{"$f":"IFERROR(IF(AND(NOT(N_TRIAL=\"Yes\"),NOT(LEN(INDEX(M5:M14,B$21))=0),INDEX(AJ5:AJ14,B$21)=0),\"% passing  #200 falls outside the master gradation limits\",\"\"),\"\")","v":""}]
[null,{"$f":"IFERROR(IF(AND(NOT(N_TRIAL=\"Yes\"),NOT(LEN(INDEX(M5:M14,B$21))=0)),IF(INDEX(AD5:AD14,B$21)>INDEX(AF5:AF14,B$21-1),\"% retained on  #200 falls outside the operational tolerances\",\"\"),\"\"),\"\")","v":""}]
[null,{"$f":"IF(LEN(MIX_ITEM)>=4,IF(ISBLANK(COR_DT_T),\"\",IF(ISBLANK(AuthorizedDate),IF(TodaysDate-COR_DT_T>365,\"TxDOT correction factors are more than 12 months old\",\"\"),IF(AuthorizedDate-COR_DT_T>365,\"TxDOT correction factors are more than 12 months old\",\"\"))),\"\")","v":""}]
[null,{"$f":"IF(LEN(MIX_ITEM)>=4,IF(ISBLANK(COR_DT_C),\"\",IF(ISBLANK(AuthorizedDate),IF(TodaysDate-COR_DT_C>365,\"Contractor correction factors are more than 12 months old\",\"\"),IF(AuthorizedDate-COR_DT_C>365,\"Contractor correction factors are more than 12 months old\",\"\"))),\"\")","v":""}]
[null,{"$f":"10-COUNTBLANK(B5:B14)","v":0}]
[]
[]
[]
[]
[]
[]
[]
[]
[]
[]
[]
[]
[]
[]
[]
[]
[]
[]
[]
[]
[]
[]
[]
[]
[]
[]
[]
[]
[]
[]
[]
[]
[]
[]
[]
[]
[]
[]
[]
[]
[]
[]
[]
[null,{"$f":"COUNTBLANK(B5:B14)","v":10},null,null,null,{"$f":"INDEX(CHK_RZ,MIX_ID)","v":{"$error":"#N/A"}}]

{"sheet":"PROD_SAMPLE","index":6,"n_rows":19,"n_cols":6,"rows_kept":19,"cut":false,"hidden":false,"merged":[[1,1,1,5],[13,1,13,5],[5,1,5,5],[0,1,0,7]]}
[null,{"$f":"header","v":"SAMPLE ID:    ______________________________    SAMPLED DATE: ___________________________\nLOT NUMBER:    _____________________________    LETTING DATE: ___________________________\nSAMPLE STATUS:    __________________________    CONTROLLING CSJ: ________________________\nCOUNTY:    _________________________________    SPEC YEAR: ______________________________\nSAMPLED BY:    __________________________________    SPEC ITEM: ______________________________\nSAMPLE LOCATION:    ________________________    SPECIAL PROVISION: ______________________\nMATERIAL CODE:    __________________________    MIX TYPE: _______________________________\nMATERIAL NAME: __________________________________________________________________\nPRODUCER: _______________________________________________________________________\nAREA ENGINEER:    __________________________    PROJECT MANAGER: _____________________________\nCOURSE\\LIFT:    __________________    STATION: ______________________    DIST. FROM CL: ______\n"}]
[null,"PRODUCTION SAMPLE LOCATIONS"]
[]
[null,"Running production total (optional):"]
[]
[null,"TxDOT PRODUCTION SAMPLE LOCATIONS FOR LOT "]
[null,"Sublot:",1,2,3,4]
[null,"Blind sample:",{"$f":"IF(G8=1,\"TRUE\",\"FALSE\")","v":"FALSE"},{"$f":"IF(G8=2,\"TRUE\",\"FALSE\")","v":"FALSE"},{"$f":"IF(G8=3,\"TRUE\",\"FALSE\")","v":"FALSE"},{"$f":"IF(G8=4,\"TRUE\",\"FALSE\")","v":"FALSE"}]
[null,"Random number:"]
[null,"Sublot sample date (MM/DD/YYYY):"]
[null,"Sublot locations, Tons:",{"$f":"IF(ISBLANK(C9),\"\",SUBLOT_SIZE*C9)","v":""},{"$f":"IF(ISBLANK(D9),\"\",SUBLOT_SIZE*D9)","v":""},{"$f":"IF(ISBLANK(E9),\"\",SUBLOT_SIZE*E9)","v":""},{"$f":"IF(ISBLANK(F9),\"\",SUBLOT_SIZE*F9)","v":""}]
[null,"Production locations, Tons:",{"$f":"IFERROR(C11+$C$4,\"\")","v":""},{"$f":"IFERROR(SUBLOT_SIZE+D11+$C$4,\"\")","v":""},{"$f":"IFERROR(SUBLOT_SIZE*2+E11+$C$4,\"\")","v":""},{"$f":"IFERROR(SUBLOT_SIZE*3+F11+$C$4,\"\")","v":""}]
[]
[null,"CONTRACTOR PRODUCTION SAMPLE LOCATIONS FOR LOT "]
[null,"Sublot:",1,2,3,4]
[null,"Random Number:"]
[null,"Sublot sample date (MM/DD/YYYY):"]
[null,"Sublot Locations, Tons:",{"$f":"IF(ISBLANK(C16),\"\",SUBLOT_SIZE*C16)","v":""},{"$f":"IF(ISBLANK(D16),\"\",SUBLOT_SIZE*D16)","v":""},{"$f":"IF(ISBLANK(E16),\"\",SUBLOT_SIZE*E16)","v":""},{"$f":"IF(ISBLANK(F16),\"\",SUBLOT_SIZE*F16)","v":""}]
[null,"Production Locations, Tons:",{"$f":"IFERROR(C18+$C$4,\"\")","v":""},{"$f":"IFERROR(SUBLOT_SIZE+D18+$C$4,\"\")","v":""},{"$f":"IFERROR(SUBLOT_SIZE*2+E18+$C$4,\"\")","v":""},{"$f":"IFERROR(SUBLOT_SIZE*3+F18+$C$4,\"\")","v":""}]

{"sheet":"WORK_PROD","index":7,"n_rows":67,"n_cols":3,"rows_kept":67,"cut":false,"hidden":true,"merged":[[65,1,65,2],[0,1,0,2],[58,1,58,2],[43,1,43,2],[1,1,1,2],[6,1,6,2],[7,1,7,2],[21,1,21,2],[32,1,32,2]]}
[null,{"$f":"header","v":"SAMPLE ID:    ______________________________    SAMPLED DATE: ___________________________\nLOT NUMBER:    _____________________________    LETTING DATE: ___________________________\nSAMPLE STATUS:    __________________________    CONTROLLING CSJ: ________________________\nCOUNTY:    _________________________________    SPEC YEAR: ______________________________\nSAMPLED BY:    __________________________________    SPEC ITEM: ______________________________\nSAMPLE LOCATION:    ________________________    SPECIAL PROVISION: ______________________\nMATERIAL CODE:    __________________________    MIX TYPE: _______________________________\nMATERIAL NAME: __________________________________________________________________\nPRODUCER: _______________________________________________________________________\nAREA ENGINEER:    __________________________    PROJECT MANAGER: _____________________________\nCOURSE\\LIFT:    __________________    STATION: ______________________    DIST. FROM CL: ______\n"}]
[null,{"$f":"LEFT(REPLACE(CELL(\"filename\",A1),1,FIND(\"]\",CELL(\"filename\",A1)),\"\"),4) & \" PRODUCTION DATA\"","v":"WORK PRODUCTION DATA"}]
[null,"Sublot sample date:",{"$f":"IFERROR(IF(LEN(INDIRECT(\"DATE_\"&LEFT($B$2,4)))>0,INDIRECT(\"DATE_\"&LEFT($B$2,4)),\"\"),\"\")","v":""}]
[null,"Sublot location, Tons:",{"$f":"IFERROR(INDIRECT(\"SLOC_\"&LEFT($B$2,4)),\"\")","v":""}]
[null,"Production location, Tons:",{"$f":"IFERROR(INDIRECT(\"PLOC_\"&LEFT($B$2,4)),\"\")","v":""}]
[]
[null,"DETERMINATION OF ASPHALT CONTENT"]
[null,{"$f":"\"Method: \" & AC_METHOD","v":"Method: "}]
[null,"Weight of sample and basket before ignition, g:"]
[null,"Weight of sample and basket after ignition, g:"]
[null,"Weight of basket, g:"]
[null,"Ignition oven AC, %:",{"$f":"IFERROR(100*(C9-C10)/(C9-C11),\"\")","v":""}]
[null,"AC, % :",4]
[null,"Nuclear testing gauge number:"]
[null,"Nuclear testing gauge calibration reference number:"]
[null,"Nuclear testing gauge time (hh:mm:ss):"]
[null,"Corrected AC, %:",{"$f":"IF(AND(C12=\"\",ISBLANK(C13)),\"\",IF(AC_METHOD=\"Ignition oven\",ROUND(C12,1)+IF(LEFT($B$2,1)=\"D\",AC_T_COR,AC_C_COR),ROUND(C13,1)))","v":4}]
[null,"Ratio of recycled to total binder:",{"$f":"IFERROR(100*REC_AC/C17,\"\")","v":0}]
[null,"Binder sample received?:"]
[null,"DSR aging ratio:"]
[]
[null,"LAB DETERMINATION OF RICE SPECIFIC GRAVITY Tex-227-F"]
[null," (A) Weight of  dry sample in air, g:"]
[null," (D) Weight of calibrated pyc. with water, g:"]
[null,"(E) Weight of sample, pyc. and water, g:"]
[null,"A/(D+A-E) Rice specific gravity (Gr):",{"$f":"IFERROR(ROUND(C23/(C24+C23-C25),3),\"\")","v":""}]
[null,"(Asd) Weight of surface dry sample in air, g:"]
[null,"A/(D+Asd-E) Rice Specific Gravity (Grc):",{"$f":"IFERROR(ROUND(C23/(C24+C27-C25),3),\"\")","v":""}]
[null,"(Gr-Grc)/Grc Percentage Difference:",{"$f":"IF(C26=\"\",\"\",IF(C28=\"\",\"\",(C26-C28)/C28))","v":""}]
[null,{"$f":"IF(C29>0.003,\"A/(D+Asd-E)\",\"A/(D+A-E)\") & \" Rice Specific Gravity \" & IF(C29>0.003,\"(Grc):\",\"(Gr):\")","v":"A/(D+Asd-E) Rice Specific Gravity (Grc):"},{"$f":"IF(C29>0.003,C28,C26)","v":""}]
[]
[]
[null,"ROAD DETERMINATION OF RICE SPECIFIC GRAVITY Tex-227-F"]
[null," (A) Weight of  dry sample in air, g:"]
[null," (D) Weight of calibrated pyc. with water, g:"]
[null,"(E) Weight of sample, pyc. and water, g:"]
[null,"A/(D+A-E) Rice specific gravity (Gr):",{"$f":"IF(ISERROR(C34/(C35+C34-C36)),\"\",ROUND(C34/(C35+C34-C36),3))","v":""}]
[null,"(Asd) Weight of surface dry sample in air, g:"]
[null,"A/(D+Asd-E) Rice Specific Gravity (Grc):",{"$f":"IFERROR(ROUND(C34/(C35+C38-C36),3),\"\")","v":""}]
[null,"(Gr-Grc)/Grc Percentage Difference:",{"$f":"IF(C37=\"\",\"\",IF(C39=\"\",\"\",(C37-C39)/C39))","v":""}]
[null,{"$f":"IF(C40>0.003,\"A/(D+Asd-E)\",\"A/(D+A-E)\") & \" Rice Specific Gravity \" & IF(C40>0.003,\"(Grc):\",\"(Gr):\")","v":"A/(D+Asd-E) Rice Specific Gravity (Grc):"},{"$f":"IF(C40>0.003,C39,C37)","v":""}]
[]
[]
[null,"PRODUCTION PERFORMANCE PROPERTIES OF BITUMINOUS MIXTURES"]
[null,"Tex-248-F Overlay test number of cycles: "]
[null,"Tex-245-F Cantabro loss content, %:"]
[null,"CRM content, %:"]
[null,"Tex-235-F Binder draindown, %:"]
[null,"Fiber content, %:"]
[null,"Membrane application rate, gal/sy:"]
[null,"Tex 246-F Permeability or Water flow, sec:"]
[null,"Tex 212-F Moisture content, %:"]
[null,"Tex-530-C Boil test estimated percent stripping, %:"]
[null,"Tex-244-F Thermal profile segregation:"]
[null,"Tex 207-F, Part V Mat segregation density profile:"]
[null,"Tex 207-F, Part VII Longitudinal joint density:"]
[]
[]
[null,"ESTIMATED FILM THICKNESS (based on gradation and asphalt content)"]
[null,"Combined bulk specific gravity (Gsb): "]
[null,"Effective specific gravity:",{"$f":"IFERROR((100-C17)/((100/C30)-C17/MIX_GSB),\"\")","v":""}]
[null,"Asphalt absorption, %:",{"$f":"IFERROR((C61-C60)/(C61*C60)*MIX_GSB*100,\"\")","v":""}]
[null,"Effective asphalt content:",{"$f":"IFERROR(C17-(C62*(100-C17))/100,\"\")","v":""}]
[null,"Film thickness, micron:",{"$f":"IFERROR(1000000*(C63/100)/(1-(C63/100))/(INDIRECT(LEFT($B$2,4) & \"_GRAD!Q24\")*MIX_GSB*1000),\"\")","v":""}]
[]
[null,"BACK CALCULATED ASPHALT CONTENT"]
[null,"Back calculated AC, %:",{"$f":"IF(NOT(OR(C17=\"\",IF(LEFT(B2,1)=\"D\",EFFGR_T,EFFGR_C)=\"\")),IFERROR(ROUND((((IF(LEFT(B2,1)=\"D\",EFFGR_T,EFFGR_C)*100)/C26)-100)/((IF(LEFT(B2,1)=\"D\",EFFGR_T,EFFGR_C)/MIX_GSB)-1),1),\"\"),\"\")","v":""}]

{"sheet":"PLACE_SAMPLE","index":8,"n_rows":33,"n_cols":22,"rows_kept":33,"cut":false,"hidden":false,"merged":[[29,9,30,9],[3,19,3,20],[25,21,26,21],[32,3,32,4],[31,16,31,17],[32,16,32,17],[31,18,31,20],[32,18,32,20],[32,11,32,13],[31,14,31,15],[32,14,32,15],[3,15,3,16],[31,3,31,4],[29,10,30,10],[29,11,30,13],[29,14,30,15],[0,1,0,10],[1,1,1,20],[31,11,31,13],[29,16,30,17],[29,1,29,3],[5,1,5,11],[4,1,4,11],[27,1,27,12],[29,18,30,20],[2,13,2,20],[3,13,3,14],[3,17,3,18],[29,5,30,5],[29,6,30,6],[29,7,30,7],[29,8,30,8]]}
[null,{"$f":"header","v":"SAMPLE ID:    ______________________________    SAMPLED DATE: ___________________________\nLOT NUMBER:    _____________________________    LETTING DATE: ___________________________\nSAMPLE STATUS:    __________________________    CONTROLLING CSJ: ________________________\nCOUNTY:    _________________________________    SPEC YEAR: ______________________________\nSAMPLED BY:    __________________________________    SPEC ITEM: ______________________________\nSAMPLE LOCATION:    ________________________    SPECIAL PROVISION: ______________________\nMATERIAL CODE:    __________________________    MIX TYPE: _______________________________\nMATERIAL NAME: __________________________________________________________________\nPRODUCER: _______________________________________________________________________\nAREA ENGINEER:    __________________________    PROJECT MANAGER: _____________________________\nCOURSE\\LIFT:    __________________    STATION: ______________________    DIST. FROM CL: ______\n"}]
[null,"PLACEMENT SAMPLE LOCATIONS"]
[null,{"$f":"IF(OR(AND(SUM(O8:O27)=0,O6<>\"\"),AND(SUM(Q8:Q27)=0,Q6<>\"\"),AND(SUM(S8:S27),S6<>\"\"),AND(SUM(U8:U27),U6<>\"\")),\"*-The Core Offset has been moved to 2.0 ft from the edge of the mat\",\"\")","v":""},null,null,null,null,null,null,null,null,null,null,null,"CALCULATED CORE LOCATION"]
[null,null,null,null,null,null,null,null,null,null,null,null,null,"Sublot 1",null,"Sublot 2",null,"Sublot 3",null,"Sublot 4"]
[null,"PLACEMENT DATA FOR LOT",null,null,null,null,null,null,null,null,null,null,null,"Rand. no. (L):",null,"Rand. no. (L):",null,"Rand. no. (L):",null,"Rand. no. (L):"]
[null,"Enter Sta. In Feet (Ex. 12+34.34 is entered as 1234.34)",null,null,null,null,null,null,null,null,null,null,null,"Rand. no. (W):",null,"Rand. no. (W):",null,"Rand. no. (W):",null,"Rand. no. (W):"]
[null,"Local ID","Sublot #","From station",null,"To station","Width,   ft","From Latitude","From Longitude","To Latitude","To Longitude","Area,  sq. ft","Length,  ft","Random core STA.","Random core offset","Random core STA.","Random core offset","Random core STA.","Random core offset","Random core STA.","Random core offset"]
[1,null,null,null,{"$f":"IF(D8=\"\",\"\",\"-\")","v":""},null,null,null,null,null,null,{"$f":"IF(ISBLANK(G8),\"\",G8*(ABS(D8-F8)))","v":""},{"$f":"IF(AND(ISBLANK(F8),ISBLANK(D8)),\"\",ABS(F8-D8))","v":""},{"$f":"IF(AND(O5<>0,SUMIF($C$8:$C$27,\"=1\",$M$8:$M$27)*O5<=SUMIF($C$8:$C$8,\"=1\",$M$8:$M$8)),IF($D$8<$F$8,$D$8+SUMIF($C$8:$C$27,\"=1\",M$8:$M$27)*O5,$D$8-SUMIF($C$8:$C$27,\"=1\",$M$8:$M$27)*O5),\"\")","v":""},{"$f":"IF(N8=\"\",\"\",IF($G8*O$6<2,\"*2\",IF($G8-$G8*O$6<2,\"*\"&$G8-2,$G8*O$6)))","v":""},{"$f":"IF(AND(Q5<>0,SUMIF($C$8:$C$27,\"=2\",$M$8:$M$27)*Q5<=SUMIF($C$8:$C$8,\"=2\",$M$8:$M$8)),IF($D$8<$F$8,$D$8+SUMIF($C$8:$C$27,\"=2\",$M$8:O$27)*Q5,$D$8-SUMIF($C$8:$C$27,\"=2\",$M$8:$M$27)*Q5),\"\")","v":""},{"$f":"IF(P8=\"\",\"\",IF($G8*Q$6<2,\"*2\",IF($G8-$G8*Q$6<2,\"*\"&$G8-2,$G8*Q$6)))","v":""},{"$f":"IF(AND(S5<>0,SUMIF($C$8:$C$27,\"=3\",$M$8:$M$27)*S5<=SUMIF($C$8:$C$8,\"=3\",$M$8:$M$8)),IF($D$8<$F$8,$D$8+SUMIF($C$8:$C$27,\"=3\",$M$8:Q$27)*S5,$D$8-SUMIF($C$8:$C$27,\"=3\",$M$8:$M$27)*S5),\"\")","v":""},{"$f":"IF(R8=\"\",\"\",IF($G8*S$6<2,\"*2\",IF($G8-$G8*S$6<2,\"*\"&$G8-2,$G8*S$6)))","v":""},{"$f":"IF(AND(U5<>0,SUMIF($C$8:$C$27,\"=4\",$M$8:$M$27)*U5<=SUMIF($C$8:$C$8,\"=4\",$M$8:$M$8)),IF($D$8<$F$8,$D$8+SUMIF($C$8:$C$27,\"=4\",$M$8:S$27)*U5,$D$8-SUMIF($C$8:$C$27,\"=4\",$M$8:$M$27)*U5),\"\")","v":""},{"$f":"IF(T8=\"\",\"\",IF($G8*U$6<2,\"*2\",IF($G8-$G8*U$6<2,\"*\"&$G8-2,$G8*U$6)))","v":""}]
[2,null,null,null,{"$f":"IF(D9=\"\",\"\",\"-\")","v":""},null,null,null,null,null,null,{"$f":"IF(ISBLANK(G9),\"\",G9*(ABS(D9-F9)))","v":""},{"$f":"IF(AND(ISBLANK(F9),ISBLANK(D9)),\"\",ABS(F9-D9))","v":""},{"$f":"IF(AND(O5<>0,N8=\"\",SUMIF($C$8:$C$27,\"=1\",$M$8:$M$27)*O5<=SUMIF($C$8:$C$9,\"=1\",$M$8:$M$9)),IF($D9<$F9,$D9+SUMIF($C$8:$C$27,\"=1\",$M$8:$M$27)*O5-SUMIF($C$8:$C$8,\"=1\",$M$8:$M$8),$D9-SUMIF($C$8:$C$27,\"=1\",$M$8:$M$27)*O5+SUMIF($C$8:$C$8,\"=1\",$M$8:$M$8)),\"\")","v":""},"",{"$f":"IF(AND(Q5<>0,P8=\"\",SUMIF($C$8:$C$27,\"=2\",$M$8:$M$27)*Q5<=SUMIF($C$8:$C$9,\"=2\",$M$8:$M$9)),IF($D9<$F9,$D9+SUMIF($C$8:$C$27,\"=2\",$M$8:$M$27)*Q5-SUMIF($C$8:$C$8,\"=2\",$M$8:$M$8),$D9-SUMIF($C$8:$C$27,\"=2\",$M$8:$M$27)*Q5+SUMIF($C$8:$C$8,\"=2\",$M$8:$M$8)),\"\")","v":""},"",{"$f":"IF(AND(S5<>0,R8=\"\",SUMIF($C$8:$C$27,\"=3\",$M$8:$M$27)*S5<=SUMIF($C$8:$C$9,\"=3\",$M$8:$M$9)),IF($D9<$F9,$D9+SUMIF($C$8:$C$27,\"=3\",$M$8:$M$27)*S5-SUMIF($C$8:$C$8,\"=3\",$M$8:$M$8),$D9-SUMIF($C$8:$C$27,\"=3\",$M$8:$M$27)*S5+SUMIF($C$8:$C$8,\"=3\",$M$8:$M$8)),\"\")","v":""},"",{"$f":"IF(AND(U5<>0,T8=\"\",SUMIF($C$8:$C$27,\"=1\",$M$8:$M$27)*U5<=SUMIF($C$8:$C$9,\"=4\",$M$8:$M$9)),IF($D9<$F9,$D9+SUMIF($C$8:$C$27,\"=4\",$M$8:$M$27)*U5-SUMIF($C$8:$C$8,\"=4\",$M$8:$M$8),$D9-SUMIF($C$8:$C$27,\"=4\",$M$8:$M$27)*U5+SUMIF($C$8:$C$8,\"=4\",$M$8:$M$8)),\"\")","v":""},""]
[3,null,null,null,"",null,null,null,null,null,null,"","",{"$f":"IF(AND(O$5<>0,SUM(N$8:N9)=0,SUMIF($C$8:$C$27,\"=1\",$M$8:$M$27)*O$5<=SUMIF($C$8:$C10,\"=1\",$M$8:$M10)),IF($D10<$F10,$D10+SUMIF($C$8:$C$27,\"=1\",$M$8:$M$27)*O$5-SUMIF($C$8:$C9,\"=1\",$M$8:$M9),$D10-SUMIF($C$8:$C$27,\"=1\",$M$8:$M$27)*O$5+SUMIF($C$8:$C9,\"=1\",$M$8:$M9)),\"\")","v":""},"",{"$f":"IF(AND(Q$5<>0,SUM(P$8:P9)=0,SUMIF($C$8:$C$27,\"=2\",$M$8:$M$27)*Q$5<=SUMIF($C$8:$C10,\"=2\",$M$8:$M10)),IF($D10<$F10,$D10+SUMIF($C$8:$C$27,\"=2\",$M$8:$M$27)*Q$5-SUMIF($C$8:$C9,\"=2\",$M$8:$M9),$D10-SUMIF($C$8:$C$27,\"=2\",$M$8:$M$27)*Q$5+SUMIF($C$8:$C9,\"=2\",$M$8:$M9)),\"\")","v":""},"",{"$f":"IF(AND(S$5<>0,SUM(R$8:R9)=0,SUMIF($C$8:$C$27,\"=3\",$M$8:$M$27)*S$5<=SUMIF($C$8:$C10,\"=3\",$M$8:$M10)),IF($D10<$F10,$D10+SUMIF($C$8:$C$27,\"=3\",$M$8:$M$27)*S$5-SUMIF($C$8:$C9,\"=3\",$M$8:$M9),$D10-SUMIF($C$8:$C$27,\"=3\",$M$8:$M$27)*S$5+SUMIF($C$8:$C9,\"=3\",$M$8:$M9)),\"\")","v":""},"",{"$f":"IF(AND(U$5<>0,SUM(T$8:T9)=0,SUMIF($C$8:$C$27,\"=4\",$M$8:$M$27)*U$5<=SUMIF($C$8:$C10,\"=4\",$M$8:$M10)),IF($D10<$F10,$D10+SUMIF($C$8:$C$27,\"=4\",$M$8:$M$27)*U$5-SUMIF($C$8:$C9,\"=4\",$M$8:$M9),$D10-SUMIF($C$8:$C$27,\"=4\",$M$8:$M$27)*U$5+SUMIF($C$8:$C9,\"=4\",$M$8:$M9)),\"\")","v":""},""]
[4,null,null,null,"",null,null,null,null,null,null,"","",{"$f":"IF(AND(O$5<>0,SUM(N$8:N10)=0,SUMIF($C$8:$C$27,\"=1\",$M$8:$M$27)*O$5<=SUMIF($C$8:$C11,\"=1\",$M$8:$M11)),IF($D11<$F11,$D11+SUMIF($C$8:$C$27,\"=1\",$M$8:$M$27)*O$5-SUMIF($C$8:$C10,\"=1\",$M$8:$M10),$D11-SUMIF($C$8:$C$27,\"=1\",$M$8:$M$27)*O$5+SUMIF($C$8:$C10,\"=1\",$M$8:$M10)),\"\")","v":""},"",{"$f":"IF(AND(Q$5<>0,SUM(P$8:P10)=0,SUMIF($C$8:$C$27,\"=2\",$M$8:$M$27)*Q$5<=SUMIF($C$8:$C11,\"=2\",$M$8:$M11)),IF($D11<$F11,$D11+SUMIF($C$8:$C$27,\"=2\",$M$8:$M$27)*Q$5-SUMIF($C$8:$C10,\"=2\",$M$8:$M10),$D11-SUMIF($C$8:$C$27,\"=2\",$M$8:$M$27)*Q$5+SUMIF($C$8:$C10,\"=2\",$M$8:$M10)),\"\")","v":""},"",{"$f":"IF(AND(S$5<>0,SUM(R$8:R10)=0,SUMIF($C$8:$C$27,\"=3\",$M$8:$M$27)*S$5<=SUMIF($C$8:$C11,\"=3\",$M$8:$M11)),IF($D11<$F11,$D11+SUMIF($C$8:$C$27,\"=3\",$M$8:$M$27)*S$5-SUMIF($C$8:$C10,\"=3\",$M$8:$M10),$D11-SUMIF($C$8:$C$27,\"=3\",$M$8:$M$27)*S$5+SUMIF($C$8:$C10,\"=3\",$M$8:$M10)),\"\")","v":""},"",{"$f":"IF(AND(U$5<>0,SUM(T$8:T10)=0,SUMIF($C$8:$C$27,\"=4\",$M$8:$M$27)*U$5<=SUMIF($C$8:$C11,\"=4\",$M$8:$M11)),IF($D11<$F11,$D11+SUMIF($C$8:$C$27,\"=4\",$M$8:$M$27)*U$5-SUMIF($C$8:$C10,\"=4\",$M$8:$M10),$D11-SUMIF($C$8:$C$27,\"=4\",$M$8:$M$27)*U$5+SUMIF($C$8:$C10,\"=4\",$M$8:$M10)),\"\")","v":""},""]
[5,null,null,null,"",null,null,null,null,null,null,"","",{"$f":"IF(AND(O$5<>0,SUM(N$8:N11)=0,SUMIF($C$8:$C$27,\"=1\",$M$8:$M$27)*O$5<=SUMIF($C$8:$C12,\"=1\",$M$8:$M12)),IF($D12<$F12,$D12+SUMIF($C$8:$C$27,\"=1\",$M$8:$M$27)*O$5-SUMIF($C$8:$C11,\"=1\",$M$8:$M11),$D12-SUMIF($C$8:$C$27,\"=1\",$M$8:$M$27)*O$5+SUMIF($C$8:$C11,\"=1\",$M$8:$M11)),\"\")","v":""},"",{"$f":"IF(AND(Q$5<>0,SUM(P$8:P11)=0,SUMIF($C$8:$C$27,\"=2\",$M$8:$M$27)*Q$5<=SUMIF($C$8:$C12,\"=2\",$M$8:$M12)),IF($D12<$F12,$D12+SUMIF($C$8:$C$27,\"=2\",$M$8:$M$27)*Q$5-SUMIF($C$8:$C11,\"=2\",$M$8:$M11),$D12-SUMIF($C$8:$C$27,\"=2\",$M$8:$M$27)*Q$5+SUMIF($C$8:$C11,\"=2\",$M$8:$M11)),\"\")","v":""},"",{"$f":"IF(AND(S$5<>0,SUM(R$8:R11)=0,SUMIF($C$8:$C$27,\"=3\",$M$8:$M$27)*S$5<=SUMIF($C$8:$C12,\"=3\",$M$8:$M12)),IF($D12<$F12,$D12+SUMIF($C$8:$C$27,\"=3\",$M$8:$M$27)*S$5-SUMIF($C$8:$C11,\"=3\",$M$8:$M11),$D12-SUMIF($C$8:$C$27,\"=3\",$M$8:$M$27)*S$5+SUMIF($C$8:$C11,\"=3\",$M$8:$M11)),\"\")","v":""},"",{"$f":"IF(AND(U$5<>0,SUM(T$8:T11)=0,SUMIF($C$8:$C$27,\"=4\",$M$8:$M$27)*U$5<=SUMIF($C$8:$C12,\"=4\",$M$8:$M12)),IF($D12<$F12,$D12+SUMIF($C$8:$C$27,\"=4\",$M$8:$M$27)*U$5-SUMIF($C$8:$C11,\"=4\",$M$8:$M11),$D12-SUMIF($C$8:$C$27,\"=4\",$M$8:$M$27)*U$5+SUMIF($C$8:$C11,\"=4\",$M$8:$M11)),\"\")","v":""},""]
[6,null,null,null,"",null,null,null,null,null,null,"","",{"$f":"IF(AND(O$5<>0,SUM(N$8:N12)=0,SUMIF($C$8:$C$27,\"=1\",$M$8:$M$27)*O$5<=SUMIF($C$8:$C13,\"=1\",$M$8:$M13)),IF($D13<$F13,$D13+SUMIF($C$8:$C$27,\"=1\",$M$8:$M$27)*O$5-SUMIF($C$8:$C12,\"=1\",$M$8:$M12),$D13-SUMIF($C$8:$C$27,\"=1\",$M$8:$M$27)*O$5+SUMIF($C$8:$C12,\"=1\",$M$8:$M12)),\"\")","v":""},"",{"$f":"IF(AND(Q$5<>0,SUM(P$8:P12)=0,SUMIF($C$8:$C$27,\"=2\",$M$8:$M$27)*Q$5<=SUMIF($C$8:$C13,\"=2\",$M$8:$M13)),IF($D13<$F13,$D13+SUMIF($C$8:$C$27,\"=2\",$M$8:$M$27)*Q$5-SUMIF($C$8:$C12,\"=2\",$M$8:$M12),$D13-SUMIF($C$8:$C$27,\"=2\",$M$8:$M$27)*Q$5+SUMIF($C$8:$C12,\"=2\",$M$8:$M12)),\"\")","v":""},"",{"$f":"IF(AND(S$5<>0,SUM(R$8:R12)=0,SUMIF($C$8:$C$27,\"=3\",$M$8:$M$27)*S$5<=SUMIF($C$8:$C13,\"=3\",$M$8:$M13)),IF($D13<$F13,$D13+SUMIF($C$8:$C$27,\"=3\",$M$8:$M$27)*S$5-SUMIF($C$8:$C12,\"=3\",$M$8:$M12),$D13-SUMIF($C$8:$C$27,\"=3\",$M$8:$M$27)*S$5+SUMIF($C$8:$C12,\"=3\",$M$8:$M12)),\"\")","v":""},"",{"$f":"IF(AND(U$5<>0,SUM(T$8:T12)=0,SUMIF($C$8:$C$27,\"=4\",$M$8:$M$27)*U$5<=SUMIF($C$8:$C13,\"=4\",$M$8:$M13)),IF($D13<$F13,$D13+SUMIF($C$8:$C$27,\"=4\",$M$8:$M$27)*U$5-SUMIF($C$8:$C12,\"=4\",$M$8:$M12),$D13-SUMIF($C$8:$C$27,\"=4\",$M$8:$M$27)*U$5+SUMIF($C$8:$C12,\"=4\",$M$8:$M12)),\"\")","v":""},""]
[7,null,null,null,"",null,null,null,null,null,null,"","",{"$f":"IF(AND(O$5<>0,SUM(N$8:N13)=0,SUMIF($C$8:$C$27,\"=1\",$M$8:$M$27)*O$5<=SUMIF($C$8:$C14,\"=1\",$M$8:$M14)),IF($D14<$F14,$D14+SUMIF($C$8:$C$27,\"=1\",$M$8:$M$27)*O$5-SUMIF($C$8:$C13,\"=1\",$M$8:$M13),$D14-SUMIF($C$8:$C$27,\"=1\",$M$8:$M$27)*O$5+SUMIF($C$8:$C13,\"=1\",$M$8:$M13)),\"\")","v":""},"",{"$f":"IF(AND(Q$5<>0,SUM(P$8:P13)=0,SUMIF($C$8:$C$27,\"=2\",$M$8:$M$27)*Q$5<=SUMIF($C$8:$C14,\"=2\",$M$8:$M14)),IF($D14<$F14,$D14+SUMIF($C$8:$C$27,\"=2\",$M$8:$M$27)*Q$5-SUMIF($C$8:$C13,\"=2\",$M$8:$M13),$D14-SUMIF($C$8:$C$27,\"=2\",$M$8:$M$27)*Q$5+SUMIF($C$8:$C13,\"=2\",$M$8:$M13)),\"\")","v":""},"",{"$f":"IF(AND(S$5<>0,SUM(R$8:R13)=0,SUMIF($C$8:$C$27,\"=3\",$M$8:$M$27)*S$5<=SUMIF($C$8:$C14,\"=3\",$M$8:$M14)),IF($D14<$F14,$D14+SUMIF($C$8:$C$27,\"=3\",$M$8:$M$27)*S$5-SUMIF($C$8:$C13,\"=3\",$M$8:$M13),$D14-SUMIF($C$8:$C$27,\"=3\",$M$8:$M$27)*S$5+SUMIF($C$8:$C13,\"=3\",$M$8:$M13)),\"\")","v":""},"",{"$f":"IF(AND(U$5<>0,SUM(T$8:T13)=0,SUMIF($C$8:$C$27,\"=4\",$M$8:$M$27)*U$5<=SUMIF($C$8:$C14,\"=4\",$M$8:$M14)),IF($D14<$F14,$D14+SUMIF($C$8:$C$27,\"=4\",$M$8:$M$27)*U$5-SUMIF($C$8:$C13,\"=4\",$M$8:$M13),$D14-SUMIF($C$8:$C$27,\"=4\",$M$8:$M$27)*U$5+SUMIF($C$8:$C13,\"=4\",$M$8:$M13)),\"\")","v":""},""]
[8,null,null,null,"",null,null,null,null,null,null,"","",{"$f":"IF(AND(O$5<>0,SUM(N$8:N14)=0,SUMIF($C$8:$C$27,\"=1\",$M$8:$M$27)*O$5<=SUMIF($C$8:$C15,\"=1\",$M$8:$M15)),IF($D15<$F15,$D15+SUMIF($C$8:$C$27,\"=1\",$M$8:$M$27)*O$5-SUMIF($C$8:$C14,\"=1\",$M$8:$M14),$D15-SUMIF($C$8:$C$27,\"=1\",$M$8:$M$27)*O$5+SUMIF($C$8:$C14,\"=1\",$M$8:$M14)),\"\")","v":""},"",{"$f":"IF(AND(Q$5<>0,SUM(P$8:P14)=0,SUMIF($C$8:$C$27,\"=2\",$M$8:$M$27)*Q$5<=SUMIF($C$8:$C15,\"=2\",$M$8:$M15)),IF($D15<$F15,$D15+SUMIF($C$8:$C$27,\"=2\",$M$8:$M$27)*Q$5-SUMIF($C$8:$C14,\"=2\",$M$8:$M14),$D15-SUMIF($C$8:$C$27,\"=2\",$M$8:$M$27)*Q$5+SUMIF($C$8:$C14,\"=2\",$M$8:$M14)),\"\")","v":""},"",{"$f":"IF(AND(S$5<>0,SUM(R$8:R14)=0,SUMIF($C$8:$C$27,\"=3\",$M$8:$M$27)*S$5<=SUMIF($C$8:$C15,\"=3\",$M$8:$M15)),IF($D15<$F15,$D15+SUMIF($C$8:$C$27,\"=3\",$M$8:$M$27)*S$5-SUMIF($C$8:$C14,\"=3\",$M$8:$M14),$D15-SUMIF($C$8:$C$27,\"=3\",$M$8:$M$27)*S$5+SUMIF($C$8:$C14,\"=3\",$M$8:$M14)),\"\")","v":""},"",{"$f":"IF(AND(U$5<>0,SUM(T$8:T14)=0,SUMIF($C$8:$C$27,\"=4\",$M$8:$M$27)*U$5<=SUMIF($C$8:$C15,\"=4\",$M$8:$M15)),IF($D15<$F15,$D15+SUMIF($C$8:$C$27,\"=4\",$M$8:$M$27)*U$5-SUMIF($C$8:$C14,\"=4\",$M$8:$M14),$D15-SUMIF($C$8:$C$27,\"=4\",$M$8:$M$27)*U$5+SUMIF($C$8:$C14,\"=4\",$M$8:$M14)),\"\")","v":""},""]
[9,null,null,null,"",null,null,null,null,null,null,"","",{"$f":"IF(AND(O$5<>0,SUM(N$8:N15)=0,SUMIF($C$8:$C$27,\"=1\",$M$8:$M$27)*O$5<=SUMIF($C$8:$C16,\"=1\",$M$8:$M16)),IF($D16<$F16,$D16+SUMIF($C$8:$C$27,\"=1\",$M$8:$M$27)*O$5-SUMIF($C$8:$C15,\"=1\",$M$8:$M15),$D16-SUMIF($C$8:$C$27,\"=1\",$M$8:$M$27)*O$5+SUMIF($C$8:$C15,\"=1\",$M$8:$M15)),\"\")","v":""},"",{"$f":"IF(AND(Q$5<>0,SUM(P$8:P15)=0,SUMIF($C$8:$C$27,\"=2\",$M$8:$M$27)*Q$5<=SUMIF($C$8:$C16,\"=2\",$M$8:$M16)),IF($D16<$F16,$D16+SUMIF($C$8:$C$27,\"=2\",$M$8:$M$27)*Q$5-SUMIF($C$8:$C15,\"=2\",$M$8:$M15),$D16-SUMIF($C$8:$C$27,\"=2\",$M$8:$M$27)*Q$5+SUMIF($C$8:$C15,\"=2\",$M$8:$M15)),\"\")","v":""},"",{"$f":"IF(AND(S$5<>0,SUM(R$8:R15)=0,SUMIF($C$8:$C$27,\"=3\",$M$8:$M$27)*S$5<=SUMIF($C$8:$C16,\"=3\",$M$8:$M16)),IF($D16<$F16,$D16+SUMIF($C$8:$C$27,\"=3\",$M$8:$M$27)*S$5-SUMIF($C$8:$C15,\"=3\",$M$8:$M15),$D16-SUMIF($C$8:$C$27,\"=3\",$M$8:$M$27)*S$5+SUMIF($C$8:$C15,\"=3\",$M$8:$M15)),\"\")","v":""},"",{"$f":"IF(AND(U$5<>0,SUM(T$8:T15)=0,SUMIF($C$8:$C$27,\"=4\",$M$8:$M$27)*U$5<=SUMIF($C$8:$C16,\"=4\",$M$8:$M16)),IF($D16<$F16,$D16+SUMIF($C$8:$C$27,\"=4\",$M$8:$M$27)*U$5-SUMIF($C$8:$C15,\"=4\",$M$8:$M15),$D16-SUMIF($C$8:$C$27,\"=4\",$M$8:$M$27)*U$5+SUMIF($C$8:$C15,\"=4\",$M$8:$M15)),\"\")","v":""},""]
[10,null,null,null,"",null,null,null,null,null,null,"","",{"$f":"IF(AND(O$5<>0,SUM(N$8:N16)=0,SUMIF($C$8:$C$27,\"=1\",$M$8:$M$27)*O$5<=SUMIF($C$8:$C17,\"=1\",$M$8:$M17)),IF($D17<$F17,$D17+SUMIF($C$8:$C$27,\"=1\",$M$8:$M$27)*O$5-SUMIF($C$8:$C16,\"=1\",$M$8:$M16),$D17-SUMIF($C$8:$C$27,\"=1\",$M$8:$M$27)*O$5+SUMIF($C$8:$C16,\"=1\",$M$8:$M16)),\"\")","v":""},"",{"$f":"IF(AND(Q$5<>0,SUM(P$8:P16)=0,SUMIF($C$8:$C$27,\"=2\",$M$8:$M$27)*Q$5<=SUMIF($C$8:$C17,\"=2\",$M$8:$M17)),IF($D17<$F17,$D17+SUMIF($C$8:$C$27,\"=2\",$M$8:$M$27)*Q$5-SUMIF($C$8:$C16,\"=2\",$M$8:$M16),$D17-SUMIF($C$8:$C$27,\"=2\",$M$8:$M$27)*Q$5+SUMIF($C$8:$C16,\"=2\",$M$8:$M16)),\"\")","v":""},"",{"$f":"IF(AND(S$5<>0,SUM(R$8:R16)=0,SUMIF($C$8:$C$27,\"=3\",$M$8:$M$27)*S$5<=SUMIF($C$8:$C17,\"=3\",$M$8:$M17)),IF($D17<$F17,$D17+SUMIF($C$8:$C$27,\"=3\",$M$8:$M$27)*S$5-SUMIF($C$8:$C16,\"=3\",$M$8:$M16),$D17-SUMIF($C$8:$C$27,\"=3\",$M$8:$M$27)*S$5+SUMIF($C$8:$C16,\"=3\",$M$8:$M16)),\"\")","v":""},"",{"$f":"IF(AND(U$5<>0,SUM(T$8:T16)=0,SUMIF($C$8:$C$27,\"=4\",$M$8:$M$27)*U$5<=SUMIF($C$8:$C17,\"=4\",$M$8:$M17)),IF($D17<$F17,$D17+SUMIF($C$8:$C$27,\"=4\",$M$8:$M$27)*U$5-SUMIF($C$8:$C16,\"=4\",$M$8:$M16),$D17-SUMIF($C$8:$C$27,\"=4\",$M$8:$M$27)*U$5+SUMIF($C$8:$C16,\"=4\",$M$8:$M16)),\"\")","v":""},""]
[11,null,null,null,"",null,null,null,null,null,null,"","",{"$f":"IF(AND(O$5<>0,SUM(N$8:N17)=0,SUMIF($C$8:$C$27,\"=1\",$M$8:$M$27)*O$5<=SUMIF($C$8:$C18,\"=1\",$M$8:$M18)),IF($D18<$F18,$D18+SUMIF($C$8:$C$27,\"=1\",$M$8:$M$27)*O$5-SUMIF($C$8:$C17,\"=1\",$M$8:$M17),$D18-SUMIF($C$8:$C$27,\"=1\",$M$8:$M$27)*O$5+SUMIF($C$8:$C17,\"=1\",$M$8:$M17)),\"\")","v":""},"",{"$f":"IF(AND(Q$5<>0,SUM(P$8:P17)=0,SUMIF($C$8:$C$27,\"=2\",$M$8:$M$27)*Q$5<=SUMIF($C$8:$C18,\"=2\",$M$8:$M18)),IF($D18<$F18,$D18+SUMIF($C$8:$C$27,\"=2\",$M$8:$M$27)*Q$5-SUMIF($C$8:$C17,\"=2\",$M$8:$M17),$D18-SUMIF($C$8:$C$27,\"=2\",$M$8:$M$27)*Q$5+SUMIF($C$8:$C17,\"=2\",$M$8:$M17)),\"\")","v":""},"",{"$f":"IF(AND(S$5<>0,SUM(R$8:R17)=0,SUMIF($C$8:$C$27,\"=3\",$M$8:$M$27)*S$5<=SUMIF($C$8:$C18,\"=3\",$M$8:$M18)),IF($D18<$F18,$D18+SUMIF($C$8:$C$27,\"=3\",$M$8:$M$27)*S$5-SUMIF($C$8:$C17,\"=3\",$M$8:$M17),$D18-SUMIF($C$8:$C$27,\"=3\",$M$8:$M$27)*S$5+SUMIF($C$8:$C17,\"=3\",$M$8:$M17)),\"\")","v":""},"",{"$f":"IF(AND(U$5<>0,SUM(T$8:T17)=0,SUMIF($C$8:$C$27,\"=4\",$M$8:$M$27)*U$5<=SUMIF($C$8:$C18,\"=4\",$M$8:$M18)),IF($D18<$F18,$D18+SUMIF($C$8:$C$27,\"=4\",$M$8:$M$27)*U$5-SUMIF($C$8:$C17,\"=4\",$M$8:$M17),$D18-SUMIF($C$8:$C$27,\"=4\",$M$8:$M$27)*U$5+SUMIF($C$8:$C17,\"=4\",$M$8:$M17)),\"\")","v":""},""]
[12,null,null,null,"",null,null,null,null,null,null,"","",{"$f":"IF(AND(O$5<>0,SUM(N$8:N18)=0,SUMIF($C$8:$C$27,\"=1\",$M$8:$M$27)*O$5<=SUMIF($C$8:$C19,\"=1\",$M$8:$M19)),IF($D19<$F19,$D19+SUMIF($C$8:$C$27,\"=1\",$M$8:$M$27)*O$5-SUMIF($C$8:$C18,\"=1\",$M$8:$M18),$D19-SUMIF($C$8:$C$27,\"=1\",$M$8:$M$27)*O$5+SUMIF($C$8:$C18,\"=1\",$M$8:$M18)),\"\")","v":""},"",{"$f":"IF(AND(Q$5<>0,SUM(P$8:P18)=0,SUMIF($C$8:$C$27,\"=2\",$M$8:$M$27)*Q$5<=SUMIF($C$8:$C19,\"=2\",$M$8:$M19)),IF($D19<$F19,$D19+SUMIF($C$8:$C$27,\"=2\",$M$8:$M$27)*Q$5-SUMIF($C$8:$C18,\"=2\",$M$8:$M18),$D19-SUMIF($C$8:$C$27,\"=2\",$M$8:$M$27)*Q$5+SUMIF($C$8:$C18,\"=2\",$M$8:$M18)),\"\")","v":""},"",{"$f":"IF(AND(S$5<>0,SUM(R$8:R18)=0,SUMIF($C$8:$C$27,\"=3\",$M$8:$M$27)*S$5<=SUMIF($C$8:$C19,\"=3\",$M$8:$M19)),IF($D19<$F19,$D19+SUMIF($C$8:$C$27,\"=3\",$M$8:$M$27)*S$5-SUMIF($C$8:$C18,\"=3\",$M$8:$M18),$D19-SUMIF($C$8:$C$27,\"=3\",$M$8:$M$27)*S$5+SUMIF($C$8:$C18,\"=3\",$M$8:$M18)),\"\")","v":""},"",{"$f":"IF(AND(U$5<>0,SUM(T$8:T18)=0,SUMIF($C$8:$C$27,\"=4\",$M$8:$M$27)*U$5<=SUMIF($C$8:$C19,\"=4\",$M$8:$M19)),IF($D19<$F19,$D19+SUMIF($C$8:$C$27,\"=4\",$M$8:$M$27)*U$5-SUMIF($C$8:$C18,\"=4\",$M$8:$M18),$D19-SUMIF($C$8:$C$27,\"=4\",$M$8:$M$27)*U$5+SUMIF($C$8:$C18,\"=4\",$M$8:$M18)),\"\")","v":""},""]
[13,null,null,null,"",null,null,null,null,null,null,"","",{"$f":"IF(AND(O$5<>0,SUM(N$8:N19)=0,SUMIF($C$8:$C$27,\"=1\",$M$8:$M$27)*O$5<=SUMIF($C$8:$C20,\"=1\",$M$8:$M20)),IF($D20<$F20,$D20+SUMIF($C$8:$C$27,\"=1\",$M$8:$M$27)*O$5-SUMIF($C$8:$C19,\"=1\",$M$8:$M19),$D20-SUMIF($C$8:$C$27,\"=1\",$M$8:$M$27)*O$5+SUMIF($C$8:$C19,\"=1\",$M$8:$M19)),\"\")","v":""},"",{"$f":"IF(AND(Q$5<>0,SUM(P$8:P19)=0,SUMIF($C$8:$C$27,\"=2\",$M$8:$M$27)*Q$5<=SUMIF($C$8:$C20,\"=2\",$M$8:$M20)),IF($D20<$F20,$D20+SUMIF($C$8:$C$27,\"=2\",$M$8:$M$27)*Q$5-SUMIF($C$8:$C19,\"=2\",$M$8:$M19),$D20-SUMIF($C$8:$C$27,\"=2\",$M$8:$M$27)*Q$5+SUMIF($C$8:$C19,\"=2\",$M$8:$M19)),\"\")","v":""},"",{"$f":"IF(AND(S$5<>0,SUM(R$8:R19)=0,SUMIF($C$8:$C$27,\"=3\",$M$8:$M$27)*S$5<=SUMIF($C$8:$C20,\"=3\",$M$8:$M20)),IF($D20<$F20,$D20+SUMIF($C$8:$C$27,\"=3\",$M$8:$M$27)*S$5-SUMIF($C$8:$C19,\"=3\",$M$8:$M19),$D20-SUMIF($C$8:$C$27,\"=3\",$M$8:$M$27)*S$5+SUMIF($C$8:$C19,\"=3\",$M$8:$M19)),\"\")","v":""},"",{"$f":"IF(AND(U$5<>0,SUM(T$8:T19)=0,SUMIF($C$8:$C$27,\"=4\",$M$8:$M$27)*U$5<=SUMIF($C$8:$C20,\"=4\",$M$8:$M20)),IF($D20<$F20,$D20+SUMIF($C$8:$C$27,\"=4\",$M$8:$M$27)*U$5-SUMIF($C$8:$C19,\"=4\",$M$8:$M19),$D20-SUMIF($C$8:$C$27,\"=4\",$M$8:$M$27)*U$5+SUMIF($C$8:$C19,\"=4\",$M$8:$M19)),\"\")","v":""},""]
[14,null,null,null,"",null,null,null,null,null,null,"","",{"$f":"IF(AND(O$5<>0,SUM(N$8:N20)=0,SUMIF($C$8:$C$27,\"=1\",$M$8:$M$27)*O$5<=SUMIF($C$8:$C21,\"=1\",$M$8:$M21)),IF($D21<$F21,$D21+SUMIF($C$8:$C$27,\"=1\",$M$8:$M$27)*O$5-SUMIF($C$8:$C20,\"=1\",$M$8:$M20),$D21-SUMIF($C$8:$C$27,\"=1\",$M$8:$M$27)*O$5+SUMIF($C$8:$C20,\"=1\",$M$8:$M20)),\"\")","v":""},"",{"$f":"IF(AND(Q$5<>0,SUM(P$8:P20)=0,SUMIF($C$8:$C$27,\"=2\",$M$8:$M$27)*Q$5<=SUMIF($C$8:$C21,\"=2\",$M$8:$M21)),IF($D21<$F21,$D21+SUMIF($C$8:$C$27,\"=2\",$M$8:$M$27)*Q$5-SUMIF($C$8:$C20,\"=2\",$M$8:$M20),$D21-SUMIF($C$8:$C$27,\"=2\",$M$8:$M$27)*Q$5+SUMIF($C$8:$C20,\"=2\",$M$8:$M20)),\"\")","v":""},"",{"$f":"IF(AND(S$5<>0,SUM(R$8:R20)=0,SUMIF($C$8:$C$27,\"=3\",$M$8:$M$27)*S$5<=SUMIF($C$8:$C21,\"=3\",$M$8:$M21)),IF($D21<$F21,$D21+SUMIF($C$8:$C$27,\"=3\",$M$8:$M$27)*S$5-SUMIF($C$8:$C20,\"=3\",$M$8:$M20),$D21-SUMIF($C$8:$C$27,\"=3\",$M$8:$M$27)*S$5+SUMIF($C$8:$C20,\"=3\",$M$8:$M20)),\"\")","v":""},"",{"$f":"IF(AND(U$5<>0,SUM(T$8:T20)=0,SUMIF($C$8:$C$27,\"=4\",$M$8:$M$27)*U$5<=SUMIF($C$8:$C21,\"=4\",$M$8:$M21)),IF($D21<$F21,$D21+SUMIF($C$8:$C$27,\"=4\",$M$8:$M$27)*U$5-SUMIF($C$8:$C20,\"=4\",$M$8:$M20),$D21-SUMIF($C$8:$C$27,\"=4\",$M$8:$M$27)*U$5+SUMIF($C$8:$C20,\"=4\",$M$8:$M20)),\"\")","v":""},""]
[15,null,null,null,"",null,null,null,null,null,null,"","",{"$f":"IF(AND(O$5<>0,SUM(N$8:N21)=0,SUMIF($C$8:$C$27,\"=1\",$M$8:$M$27)*O$5<=SUMIF($C$8:$C22,\"=1\",$M$8:$M22)),IF($D22<$F22,$D22+SUMIF($C$8:$C$27,\"=1\",$M$8:$M$27)*O$5-SUMIF($C$8:$C21,\"=1\",$M$8:$M21),$D22-SUMIF($C$8:$C$27,\"=1\",$M$8:$M$27)*O$5+SUMIF($C$8:$C21,\"=1\",$M$8:$M21)),\"\")","v":""},"",{"$f":"IF(AND(Q$5<>0,SUM(P$8:P21)=0,SUMIF($C$8:$C$27,\"=2\",$M$8:$M$27)*Q$5<=SUMIF($C$8:$C22,\"=2\",$M$8:$M22)),IF($D22<$F22,$D22+SUMIF($C$8:$C$27,\"=2\",$M$8:$M$27)*Q$5-SUMIF($C$8:$C21,\"=2\",$M$8:$M21),$D22-SUMIF($C$8:$C$27,\"=2\",$M$8:$M$27)*Q$5+SUMIF($C$8:$C21,\"=2\",$M$8:$M21)),\"\")","v":""},"",{"$f":"IF(AND(S$5<>0,SUM(R$8:R21)=0,SUMIF($C$8:$C$27,\"=3\",$M$8:$M$27)*S$5<=SUMIF($C$8:$C22,\"=3\",$M$8:$M22)),IF($D22<$F22,$D22+SUMIF($C$8:$C$27,\"=3\",$M$8:$M$27)*S$5-SUMIF($C$8:$C21,\"=3\",$M$8:$M21),$D22-SUMIF($C$8:$C$27,\"=3\",$M$8:$M$27)*S$5+SUMIF($C$8:$C21,\"=3\",$M$8:$M21)),\"\")","v":""},"",{"$f":"IF(AND(U$5<>0,SUM(T$8:T21)=0,SUMIF($C$8:$C$27,\"=4\",$M$8:$M$27)*U$5<=SUMIF($C$8:$C22,\"=4\",$M$8:$M22)),IF($D22<$F22,$D22+SUMIF($C$8:$C$27,\"=4\",$M$8:$M$27)*U$5-SUMIF($C$8:$C21,\"=4\",$M$8:$M21),$D22-SUMIF($C$8:$C$27,\"=4\",$M$8:$M$27)*U$5+SUMIF($C$8:$C21,\"=4\",$M$8:$M21)),\"\")","v":""},""]
[16,null,null,null,"",null,null,null,null,null,null,"","",{"$f":"IF(AND(O$5<>0,SUM(N$8:N22)=0,SUMIF($C$8:$C$27,\"=1\",$M$8:$M$27)*O$5<=SUMIF($C$8:$C23,\"=1\",$M$8:$M23)),IF($D23<$F23,$D23+SUMIF($C$8:$C$27,\"=1\",$M$8:$M$27)*O$5-SUMIF($C$8:$C22,\"=1\",$M$8:$M22),$D23-SUMIF($C$8:$C$27,\"=1\",$M$8:$M$27)*O$5+SUMIF($C$8:$C22,\"=1\",$M$8:$M22)),\"\")","v":""},"",{"$f":"IF(AND(Q$5<>0,SUM(P$8:P22)=0,SUMIF($C$8:$C$27,\"=2\",$M$8:$M$27)*Q$5<=SUMIF($C$8:$C23,\"=2\",$M$8:$M23)),IF($D23<$F23,$D23+SUMIF($C$8:$C$27,\"=2\",$M$8:$M$27)*Q$5-SUMIF($C$8:$C22,\"=2\",$M$8:$M22),$D23-SUMIF($C$8:$C$27,\"=2\",$M$8:$M$27)*Q$5+SUMIF($C$8:$C22,\"=2\",$M$8:$M22)),\"\")","v":""},"",{"$f":"IF(AND(S$5<>0,SUM(R$8:R22)=0,SUMIF($C$8:$C$27,\"=3\",$M$8:$M$27)*S$5<=SUMIF($C$8:$C23,\"=3\",$M$8:$M23)),IF($D23<$F23,$D23+SUMIF($C$8:$C$27,\"=3\",$M$8:$M$27)*S$5-SUMIF($C$8:$C22,\"=3\",$M$8:$M22),$D23-SUMIF($C$8:$C$27,\"=3\",$M$8:$M$27)*S$5+SUMIF($C$8:$C22,\"=3\",$M$8:$M22)),\"\")","v":""},"",{"$f":"IF(AND(U$5<>0,SUM(T$8:T22)=0,SUMIF($C$8:$C$27,\"=4\",$M$8:$M$27)*U$5<=SUMIF($C$8:$C23,\"=4\",$M$8:$M23)),IF($D23<$F23,$D23+SUMIF($C$8:$C$27,\"=4\",$M$8:$M$27)*U$5-SUMIF($C$8:$C22,\"=4\",$M$8:$M22),$D23-SUMIF($C$8:$C$27,\"=4\",$M$8:$M$27)*U$5+SUMIF($C$8:$C22,\"=4\",$M$8:$M22)),\"\")","v":""},""]
[17,null,null,null,"",null,null,null,null,null,null,"","",{"$f":"IF(AND(O$5<>0,SUM(N$8:N23)=0,SUMIF($C$8:$C$27,\"=1\",$M$8:$M$27)*O$5<=SUMIF($C$8:$C24,\"=1\",$M$8:$M24)),IF($D24<$F24,$D24+SUMIF($C$8:$C$27,\"=1\",$M$8:$M$27)*O$5-SUMIF($C$8:$C23,\"=1\",$M$8:$M23),$D24-SUMIF($C$8:$C$27,\"=1\",$M$8:$M$27)*O$5+SUMIF($C$8:$C23,\"=1\",$M$8:$M23)),\"\")","v":""},"",{"$f":"IF(AND(Q$5<>0,SUM(P$8:P23)=0,SUMIF($C$8:$C$27,\"=2\",$M$8:$M$27)*Q$5<=SUMIF($C$8:$C24,\"=2\",$M$8:$M24)),IF($D24<$F24,$D24+SUMIF($C$8:$C$27,\"=2\",$M$8:$M$27)*Q$5-SUMIF($C$8:$C23,\"=2\",$M$8:$M23),$D24-SUMIF($C$8:$C$27,\"=2\",$M$8:$M$27)*Q$5+SUMIF($C$8:$C23,\"=2\",$M$8:$M23)),\"\")","v":""},"",{"$f":"IF(AND(S$5<>0,SUM(R$8:R23)=0,SUMIF($C$8:$C$27,\"=3\",$M$8:$M$27)*S$5<=SUMIF($C$8:$C24,\"=3\",$M$8:$M24)),IF($D24<$F24,$D24+SUMIF($C$8:$C$27,\"=3\",$M$8:$M$27)*S$5-SUMIF($C$8:$C23,\"=3\",$M$8:$M23),$D24-SUMIF($C$8:$C$27,\"=3\",$M$8:$M$27)*S$5+SUMIF($C$8:$C23,\"=3\",$M$8:$M23)),\"\")","v":""},"",{"$f":"IF(AND(U$5<>0,SUM(T$8:T23)=0,SUMIF($C$8:$C$27,\"=4\",$M$8:$M$27)*U$5<=SUMIF($C$8:$C24,\"=4\",$M$8:$M24)),IF($D24<$F24,$D24+SUMIF($C$8:$C$27,\"=4\",$M$8:$M$27)*U$5-SUMIF($C$8:$C23,\"=4\",$M$8:$M23),$D24-SUMIF($C$8:$C$27,\"=4\",$M$8:$M$27)*U$5+SUMIF($C$8:$C23,\"=4\",$M$8:$M23)),\"\")","v":""},""]
[18,null,null,null,"",null,null,null,null,null,null,"","",{"$f":"IF(AND(O$5<>0,SUM(N$8:N24)=0,SUMIF($C$8:$C$27,\"=1\",$M$8:$M$27)*O$5<=SUMIF($C$8:$C25,\"=1\",$M$8:$M25)),IF($D25<$F25,$D25+SUMIF($C$8:$C$27,\"=1\",$M$8:$M$27)*O$5-SUMIF($C$8:$C24,\"=1\",$M$8:$M24),$D25-SUMIF($C$8:$C$27,\"=1\",$M$8:$M$27)*O$5+SUMIF($C$8:$C24,\"=1\",$M$8:$M24)),\"\")","v":""},"",{"$f":"IF(AND(Q$5<>0,SUM(P$8:P24)=0,SUMIF($C$8:$C$27,\"=2\",$M$8:$M$27)*Q$5<=SUMIF($C$8:$C25,\"=2\",$M$8:$M25)),IF($D25<$F25,$D25+SUMIF($C$8:$C$27,\"=2\",$M$8:$M$27)*Q$5-SUMIF($C$8:$C24,\"=2\",$M$8:$M24),$D25-SUMIF($C$8:$C$27,\"=2\",$M$8:$M$27)*Q$5+SUMIF($C$8:$C24,\"=2\",$M$8:$M24)),\"\")","v":""},"",{"$f":"IF(AND(S$5<>0,SUM(R$8:R24)=0,SUMIF($C$8:$C$27,\"=3\",$M$8:$M$27)*S$5<=SUMIF($C$8:$C25,\"=3\",$M$8:$M25)),IF($D25<$F25,$D25+SUMIF($C$8:$C$27,\"=3\",$M$8:$M$27)*S$5-SUMIF($C$8:$C24,\"=3\",$M$8:$M24),$D25-SUMIF($C$8:$C$27,\"=3\",$M$8:$M$27)*S$5+SUMIF($C$8:$C24,\"=3\",$M$8:$M24)),\"\")","v":""},"",{"$f":"IF(AND(U$5<>0,SUM(T$8:T24)=0,SUMIF($C$8:$C$27,\"=4\",$M$8:$M$27)*U$5<=SUMIF($C$8:$C25,\"=4\",$M$8:$M25)),IF($D25<$F25,$D25+SUMIF($C$8:$C$27,\"=4\",$M$8:$M$27)*U$5-SUMIF($C$8:$C24,\"=4\",$M$8:$M24),$D25-SUMIF($C$8:$C$27,\"=4\",$M$8:$M$27)*U$5+SUMIF($C$8:$C24,\"=4\",$M$8:$M24)),\"\")","v":""},""]
[19,null,null,null,"",null,null,null,null,null,null,"","",{"$f":"IF(AND(O$5<>0,SUM(N$8:N25)=0,SUMIF($C$8:$C$27,\"=1\",$M$8:$M$27)*O$5<=SUMIF($C$8:$C26,\"=1\",$M$8:$M26)),IF($D26<$F26,$D26+SUMIF($C$8:$C$27,\"=1\",$M$8:$M$27)*O$5-SUMIF($C$8:$C25,\"=1\",$M$8:$M25),$D26-SUMIF($C$8:$C$27,\"=1\",$M$8:$M$27)*O$5+SUMIF($C$8:$C25,\"=1\",$M$8:$M25)),\"\")","v":""},"",{"$f":"IF(AND(Q$5<>0,SUM(P$8:P25)=0,SUMIF($C$8:$C$27,\"=2\",$M$8:$M$27)*Q$5<=SUMIF($C$8:$C26,\"=2\",$M$8:$M26)),IF($D26<$F26,$D26+SUMIF($C$8:$C$27,\"=2\",$M$8:$M$27)*Q$5-SUMIF($C$8:$C25,\"=2\",$M$8:$M25),$D26-SUMIF($C$8:$C$27,\"=2\",$M$8:$M$27)*Q$5+SUMIF($C$8:$C25,\"=2\",$M$8:$M25)),\"\")","v":""},"",{"$f":"IF(AND(S$5<>0,SUM(R$8:R25)=0,SUMIF($C$8:$C$27,\"=3\",$M$8:$M$27)*S$5<=SUMIF($C$8:$C26,\"=3\",$M$8:$M26)),IF($D26<$F26,$D26+SUMIF($C$8:$C$27,\"=3\",$M$8:$M$27)*S$5-SUMIF($C$8:$C25,\"=3\",$M$8:$M25),$D26-SUMIF($C$8:$C$27,\"=3\",$M$8:$M$27)*S$5+SUMIF($C$8:$C25,\"=3\",$M$8:$M25)),\"\")","v":""},"",{"$f":"IF(AND(U$5<>0,SUM(T$8:T25)=0,SUMIF($C$8:$C$27,\"=4\",$M$8:$M$27)*U$5<=SUMIF($C$8:$C26,\"=4\",$M$8:$M26)),IF($D26<$F26,$D26+SUMIF($C$8:$C$27,\"=4\",$M$8:$M$27)*U$5-SUMIF($C$8:$C25,\"=4\",$M$8:$M25),$D26-SUMIF($C$8:$C$27,\"=4\",$M$8:$M$27)*U$5+SUMIF($C$8:$C25,\"=4\",$M$8:$M25)),\"\")","v":""},"","Whole lot"]
[20,null,null,null,"",null,null,null,null,null,null,"","",{"$f":"IF(AND(O$5<>0,SUM(N$8:N26)=0,SUMIF($C$8:$C$27,\"=1\",$M$8:$M$27)*O$5<=SUMIF($C$8:$C27,\"=1\",$M$8:$M27)),IF($D27<$F27,$D27+SUMIF($C$8:$C$27,\"=1\",$M$8:$M$27)*O$5-SUMIF($C$8:$C26,\"=1\",$M$8:$M26),$D27-SUMIF($C$8:$C$27,\"=1\",$M$8:$M$27)*O$5+SUMIF($C$8:$C26,\"=1\",$M$8:$M26)),\"\")","v":""},"",{"$f":"IF(AND(Q$5<>0,SUM(P$8:P26)=0,SUMIF($C$8:$C$27,\"=2\",$M$8:$M$27)*Q$5<=SUMIF($C$8:$C27,\"=2\",$M$8:$M27)),IF($D27<$F27,$D27+SUMIF($C$8:$C$27,\"=2\",$M$8:$M$27)*Q$5-SUMIF($C$8:$C26,\"=2\",$M$8:$M26),$D27-SUMIF($C$8:$C$27,\"=2\",$M$8:$M$27)*Q$5+SUMIF($C$8:$C26,\"=2\",$M$8:$M26)),\"\")","v":""},"",{"$f":"IF(AND(S$5<>0,SUM(R$8:R26)=0,SUMIF($C$8:$C$27,\"=3\",$M$8:$M$27)*S$5<=SUMIF($C$8:$C27,\"=3\",$M$8:$M27)),IF($D27<$F27,$D27+SUMIF($C$8:$C$27,\"=3\",$M$8:$M$27)*S$5-SUMIF($C$8:$C26,\"=3\",$M$8:$M26),$D27-SUMIF($C$8:$C$27,\"=3\",$M$8:$M$27)*S$5+SUMIF($C$8:$C26,\"=3\",$M$8:$M26)),\"\")","v":""},"",{"$f":"IF(AND(U$5<>0,SUM(T$8:T26)=0,SUMIF($C$8:$C$27,\"=4\",$M$8:$M$27)*U$5<=SUMIF($C$8:$C27,\"=4\",$M$8:$M27)),IF($D27<$F27,$D27+SUMIF($C$8:$C$27,\"=4\",$M$8:$M$27)*U$5-SUMIF($C$8:$C26,\"=4\",$M$8:$M26),$D27-SUMIF($C$8:$C$27,\"=4\",$M$8:$M$27)*U$5+SUMIF($C$8:$C26,\"=4\",$M$8:$M26)),\"\")","v":""},""]
[null,"Total area, sq ft:",null,null,null,null,null,null,null,null,null,null,null,{"$f":"IF(COUNTBLANK(G8:G27)=20,\"\",TEXT(SUMIF(C8:C27,\"=1\",L8:L27),\"#,###,##0.0\"))","v":""},null,{"$f":"IF(COUNTBLANK(G8:G27)=20,\"\",TEXT(SUMIF(C8:C27,\"=2\",L8:L27),\"#,###,##0.0\"))","v":""},null,{"$f":"IF(COUNTBLANK(G8:G27)=20,\"\",TEXT(SUMIF(C8:C27,\"=3\",L8:L27),\"#,###,##0.0\"))","v":""},null,{"$f":"IF(COUNTBLANK(G8:G27)=20,\"\",TEXT(SUMIF(C8:C27,\"=4\",L8:L27),\"#,###,##0.0\"))","v":""},null,{"$f":"IF(SUM(L8:L27)>0,ROUND(SUM(L8:L27),0),0)","v":0}]
[]
[null,"YIELD CALCULATIONS",null,null,null,"Misc. area, sq. yd","Reg. Area Sq. Yards","Total Area Sq. Yards","Total Tons","Rate Lbs./Sq.Yd."]
[]
[null,null,null,"This lot",null,null,{"$f":"IF(ISBLANK($F$32),\"\",$V$28/9)","v":""},{"$f":"IF(ISBLANK($F$32),\"\",$F$32+$G$32)","v":""},{"$f":"IF(ISBLANK($F$32),\"\",QUANTITY_PLACED)","v":""},{"$f":"IF(ISBLANK($F$32),\"\",(($I$32*2000)/$H$32))","v":""}]
[null,null,null,"Total to date",null,null,null,{"$f":"IF(ISBLANK($G$33),\"\",$G$33+$F$33)","v":""},null,{"$f":"IF(ISBLANK($F$33),\"\",(($I$33*2000)/$H$33))","v":""}]

{"sheet":"WORK_DENSITY","index":9,"n_rows":37,"n_cols":13,"rows_kept":37,"cut":false,"hidden":true,"merged":[[31,2,31,4],[31,5,31,6],[15,1,15,6],[24,1,24,6],[36,5,36,6],[32,2,32,4],[33,2,33,4],[34,2,34,4],[35,2,35,4],[36,2,36,4],[32,5,32,6],[33,5,33,6],[34,5,34,6],[35,5,35,6],[1,1,1,6],[30,1,30,6],[2,2,2,4],[2,5,2,6],[0,1,0,8]]}
[null,{"$f":"header","v":"SAMPLE ID:    ______________________________    SAMPLED DATE: ___________________________\nLOT NUMBER:    _____________________________    LETTING DATE: ___________________________\nSAMPLE STATUS:    __________________________    CONTROLLING CSJ: ________________________\nCOUNTY:    _________________________________    SPEC YEAR: ______________________________\nSAMPLED BY:    __________________________________    SPEC ITEM: ______________________________\nSAMPLE LOCATION:    ________________________    SPECIAL PROVISION: ______________________\nMATERIAL CODE:    __________________________    MIX TYPE: _______________________________\nMATERIAL NAME: __________________________________________________________________\nPRODUCER: _______________________________________________________________________\nAREA ENGINEER:    __________________________    PROJECT MANAGER: _____________________________\nCOURSE\\LIFT:    __________________    STATION: ______________________    DIST. FROM CL: ______\n"}]
[null,{"$f":"LEFT(REPLACE(CELL(\"filename\",A1),1,FIND(\"]\",CELL(\"filename\",A1)),\"\"),4) &  \" DETERMINING PROPERTIES OF BITUMINOUS MIXTURES-Tex-207-F\"","v":"WORK DETERMINING PROPERTIES OF BITUMINOUS MIXTURES-Tex-207-F"}]
[null,"Specimen type:","Laboratory",null,null,"Roadway"]
[null,"Specimen number:","1(1)","1(2)","1(3)","1(A)","1(B)"]
[null,"Note to developer - hide this row Specimen radius, mm:"]
[null,{"$f":"IF(DESIGN_GE,\"Specimen height, mm:\",\"Untrimmed specimen/Core height, in:\")","v":{"$error":"#N/A"}}]
[null,"Trimmed core height, in:"]
[null,"Weight of specimen in air, g:"]
[null,"Weight of specimen in water, g:"]
[null,"SSD weight of specimen in air, g:"]
[null,"Volume of specimen:",{"$f":"IF(AND(ISBLANK(C10),ISBLANK(C9)),\"\",C10-C9)","v":""},{"$f":"IF(AND(ISBLANK(D10),ISBLANK(D9)),\"\",D10-D9)","v":""},{"$f":"IF(AND(ISBLANK(E10),ISBLANK(E9)),\"\",E10-E9)","v":""},{"$f":"IF(AND(ISBLANK(F10),ISBLANK(F9)),\"\",F10-F9)","v":""},{"$f":"IF(AND(ISBLANK(G10),ISBLANK(G9)),\"\",G10-G9)","v":""}]
[null,"Note to developer - hide this row SSD Density:",{"$f":"IFERROR(C8/C11,\"\")","v":""},{"$f":"IFERROR(D8/D11,\"\")","v":""},{"$f":"IFERROR(E8/E11,\"\")","v":""},{"$f":"IFERROR(F8/F11,\"\")","v":""},{"$f":"IFERROR(G8/G11,\"\")","v":""}]
[null,"Percent absorption, %:",{"$f":"IFERROR(ROUND(100*((C10-C8)/(C10-C9)),1),\"\")","v":""},{"$f":"IFERROR(ROUND(100*((D10-D8)/(D10-D9)),1),\"\")","v":""},{"$f":"IFERROR(ROUND(100*((E10-E8)/(E10-E9)),1),\"\")","v":""},{"$f":"IFERROR(ROUND(100*((F10-F8)/(F10-F9)),1),\"\")","v":""},{"$f":"IFERROR(ROUND(100*((G10-G8)/(G10-G9)),1),\"\")","v":""}]
[null,"Bag required for Ga:",{"$f":"IF(ISNUMBER(C13),IF(C13>2,\"Yes\",\"No\"),\"\")","v":""},{"$f":"IF(ISNUMBER(D13),IF(D13>2,\"Yes\",\"No\"),\"\")","v":""},{"$f":"IF(ISNUMBER(E13),IF(E13>2,\"Yes\",\"No\"),\"\")","v":""},{"$f":"IF(ISNUMBER(F13),IF(F13>2,\"Yes\",\"No\"),\"\")","v":""},{"$f":"IF(ISNUMBER(G13),IF(G13>2,\"Yes\",\"No\"),\"\")","v":""}]
[null,"Bag Used for Ga:"]
[null,"Vacuum bag inputs"]
[null,"Vacuum bag method used:"]
[null,"Weight of specimen in air, g:"]
[null,"Sealed weight of specimen in water, g:",null,null,null,null,null,null,{"$f":"IF(OR(ISBLANK(C20),ISBLANK(C18)),\"\",IF(ABS(C20-C18)>5,-1,0))","v":""},{"$f":"IF(OR(ISBLANK(D20),ISBLANK(D18)),\"\",IF(ABS(D20-D18)>5,-1,0))","v":""},{"$f":"IF(OR(ISBLANK(E20),ISBLANK(E18)),\"\",IF(ABS(E20-E18)>5,-1,0))","v":""},{"$f":"IF(OR(ISBLANK(F20),ISBLANK(F18)),\"\",IF(ABS(F20-F18)>5,-1,0))","v":""},{"$f":"IF(OR(ISBLANK(G20),ISBLANK(G18)),\"\",IF(ABS(G20-G18)>5,-1,0))","v":""}]
[null,"Dry specimen weight after submersion, g:",null,null,null,null,null,null,{"$f":"IFERROR(IF(OR(I19:M19),\"> 5g. Repeat test, a leak may have occurred.\",\"\"),\"\")","v":""}]
[null,"Weight of vacuum bag(s), g:"]
[null,"Vacuum bag volume correction factor:",{"$f":"IFERROR(IF(LEFT(C17,1)=\"L\",-0.00166*(C18/C21)+0.8596,IF(LEFT(C17,1)=\"S\",-0.000566*(C18/C21)+0.8121,IF(LEFT(C17,1)=\"D\",-0.0022448*(C18/C21)+0.85818,\"\"))),\"\")","v":""},{"$f":"IFERROR(IF(LEFT(D17,1)=\"L\",-0.00166*(D18/D21)+0.8596,IF(LEFT(D17,1)=\"S\",-0.000566*(D18/D21)+0.8121,IF(LEFT(D17,1)=\"D\",-0.0022448*(D18/D21)+0.85818,\"\"))),\"\")","v":""},{"$f":"IFERROR(IF(LEFT(E17,1)=\"L\",-0.00166*(E18/E21)+0.8596,IF(LEFT(E17,1)=\"S\",-0.000566*(E18/E21)+0.8121,IF(LEFT(E17,1)=\"D\",-0.0022448*(E18/E21)+0.85818,\"\"))),\"\")","v":""},{"$f":"IFERROR(IF(LEFT(F17,1)=\"L\",-0.00166*(F18/F21)+0.8596,IF(LEFT(F17,1)=\"S\",-0.000566*(F18/F21)+0.8121,IF(LEFT(F17,1)=\"D\",-0.0022448*(F18/F21)+0.85818,\"\"))),\"\")","v":""},{"$f":"IFERROR(IF(LEFT(G17,1)=\"L\",-0.00166*(G18/G21)+0.8596,IF(LEFT(G17,1)=\"S\",-0.000566*(G18/G21)+0.8121,IF(LEFT(G17,1)=\"D\",-0.0022448*(G18/G21)+0.85818,\"\"))),\"\")","v":""}]
[null,"Vacuum bag density:",{"$f":"IFERROR(C18/(C21+C18-C19-(C21/C22)),\"\")","v":""},{"$f":"IFERROR(D18/(D21+D18-D19-(D21/D22)),\"\")","v":""},{"$f":"IFERROR(E18/(E21+E18-E19-(E21/E22)),\"\")","v":""},{"$f":"IFERROR(F18/(F21+F18-F19-(F21/F22)),\"\")","v":""},{"$f":"IFERROR(G18/(G21+G18-G19-(G21/G22)),\"\")","v":""}]
[null,"Note to developer - hide this row",{"$f":"IF(LEFT($B$2,1)=\"D\",PRESS_T,PRESS_C)+IF(INDEX(CHK_GE,MIX_ID),IF(ISERROR(C8*1000/(3.14*75^2*C6)),\"\",C8*1000/(3.14*75^2*C6)),IF(C15<>\"Yes\",IF(ISERROR(C12),\"\",ROUND(C12,3)),IF(ISERROR(MIN(C12,C23)),\"\",ROUND(MIN(C12,C23),3))))","v":{"$error":"#N/A"}},{"$f":"IF(LEFT($B$2,1)=\"D\",PRESS_T,PRESS_C)+IF(INDEX(CHK_GE,MIX_ID),IF(ISERROR(D8*1000/(3.14*75^2*D6)),\"\",D8*1000/(3.14*75^2*D6)),IF(D15<>\"Yes\",IF(ISERROR(D12),\"\",ROUND(D12,3)),IF(ISERROR(MIN(D12,D23)),\"\",ROUND(MIN(D12,D23),3))))","v":{"$error":"#N/A"}},{"$f":"IF(LEFT($B$2,1)=\"D\",PRESS_T,PRESS_C)+IF(INDEX(CHK_GE,MIX_ID),IF(ISERROR(E8*1000/(3.14*75^2*E6)),\"\",E8*1000/(3.14*75^2*E6)),IF(E15<>\"Yes\",IF(ISERROR(E12),\"\",ROUND(E12,3)),IF(ISERROR(MIN(E12,E23)),\"\",ROUND(MIN(E12,E23),3))))","v":{"$error":"#N/A"}},{"$f":"IF(INDEX(CHK_GE,MIX_ID),IF(ISERROR(F8*1000/(3.14*F5^2*F6)),\"\",F8*1000/(3.14*F5^2*F6)),IF(F15<>\"Yes\",IF(ISERROR(F12),\"\",ROUND(F12,3)),IF(ISERROR(MIN(F12,F23)),\"\",ROUND(MIN(F12,F23),3))))","v":{"$error":"#N/A"}},{"$f":"IF(INDEX(CHK_GE,MIX_ID),IF(ISERROR(G8*1000/(3.14*G5^2*G6)),\"\",G8*1000/(3.14*G5^2*G6)),IF(G15<>\"Yes\",IF(ISERROR(G12),\"\",ROUND(G12,3)),IF(ISERROR(MIN(G12,G23)),\"\",ROUND(MIN(G12,G23),3))))","v":{"$error":"#N/A"}}]
[null,"Volumetric properties"]
[null,"Bulk specific gravity, Ga:",{"$f":"IFERROR(ROUND(C24,3),\"\")","v":""},{"$f":"IFERROR(ROUND(D24,3),\"\")","v":""},{"$f":"IFERROR(ROUND(E24,3),\"\")","v":""},{"$f":"IFERROR(ROUND(F24,3),\"\")","v":""},{"$f":"IFERROR(ROUND(G24,3),\"\")","v":""}]
[null,"Percent density, %:",{"$f":"IFERROR(ROUND(100*C26/$C$33,1),\"\")","v":""},{"$f":"IFERROR(ROUND(100*D26/$C$33,1),\"\")","v":""},{"$f":"IFERROR(ROUND(100*E26/$C$33,1),\"\")","v":""},{"$f":"IFERROR(ROUND(100*F26/$F$33,1),\"\")","v":""},{"$f":"IFERROR(ROUND(100*G26/$F$33,1),\"\")","v":""}]
[null,"Percent air voids, %:",{"$f":"IFERROR(ROUND(100-C27,1),\"\")","v":""},{"$f":"IFERROR(ROUND(100-D27,1),\"\")","v":""},{"$f":"IFERROR(ROUND(100-E27,1),\"\")","v":""},{"$f":"IFERROR(ROUND(100-F27,1),\"\")","v":""},{"$f":"IFERROR(ROUND(100-G27,1),\"\")","v":""}]
[null,"Percent VMA, %:",{"$f":"IFERROR(ROUND(100-(100*(C26/INDIRECT(LEFT($B$2,4) & \"_PROD!$C$30\")))+((C26*$C$32)/MIX_GSB),1),\"\")","v":""},{"$f":"IFERROR(ROUND(100-(100*(D26/INDIRECT(LEFT($B$2,4) & \"_PROD!$C$30\")))+((D26*$C$32)/MIX_GSB),1),\"\")","v":""},{"$f":"IFERROR(ROUND(100-(100*(E26/INDIRECT(LEFT($B$2,4) & \"_PROD!$C$30\")))+((E26*$C$32)/MIX_GSB),1),\"\")","v":""},{"$f":"IFERROR(ROUND(100-(100*(F26/INDIRECT(LEFT($B$2,4) & \"_PROD!$C$30\")))+((F26*$F$32)/MIX_GSB),1),\"\")","v":""},{"$f":"IFERROR(ROUND(100-(100*(G26/INDIRECT(LEFT($B$2,4) & \"_PROD!$C$30\")))+((G26*$F$32)/MIX_GSB),1),\"\")","v":""}]
[]
[null,"MEAN VOLUMETRIC PROPERTIES"]
[null,{"$f":"IF(AND(LEFT($B$2,1)=\"D\",INDIRECT(LEFT($B$2,4) & \"_PROD!C17\")=\"\",INDIRECT(SUBSTITUTE(LEFT($B$2,4),\"DOT\",\"CON\") & \"_PROD!C17\")<>\"\"),\"Contractor's asphalt content, %:\",\"Asphalt content, %:\")","v":"Asphalt content, %:"},{"$f":"IFERROR(IF(AND(LEFT($B$2,1)=\"D\",INDIRECT(LEFT($B$2,4) & \"_PROD!C17\")=\"\",INDIRECT(SUBSTITUTE(LEFT($B$2,4),\"DOT\",\"CON\") & \"_PROD!C17\")<>\"\"),ROUND(INDIRECT(SUBSTITUTE(LEFT($B$2,4),\"DOT\",\"CON\") & \"_PROD!C17\"),1),ROUND(INDIRECT(LEFT($B$2,4) & \"_PROD!C17\"),1)),\"\")","v":4},null,null,{"$f":"IFERROR(IF(AND(LEFT($B$2,1)=\"D\",INDIRECT(LEFT($B$2,4) & \"_PROD!C17\")=\"\",INDIRECT(SUBSTITUTE(LEFT($B$2,4),\"DOT\",\"CON\") & \"_PROD!C17\")<>\"\"),ROUND(INDIRECT(SUBSTITUTE(LEFT($B$2,4),\"DOT\",\"CON\") & \"_PROD!C17\"),1),ROUND(INDIRECT(LEFT($B$2,4) & \"_PROD!C17\"),1)),\"\")","v":4}]
[null,{"$f":"IF(AND(INDIRECT(LEFT($B$2,4) & \"_PROD!C27\")<>\"\",INDIRECT(LEFT($B$2,4) & \"_PROD!C27\")>0.01),\"Corrected Rice specific gravity, Grc:\",\"Rice specific gravity, Gr:\")","v":"Rice specific gravity, Gr:"},{"$f":"IFERROR(ROUND(IF(DESIGN_GE,100/((100-C32)/MIX_GMB+(C32/MIX_GSB)),INDIRECT(LEFT($B$2,4) & \"_PROD!C30\")),3),\"\")","v":""},null,null,{"$f":"IF(LEFT($B$2,1)=\"D\",IFERROR(ROUND(AVERAGE(INDIRECT(\"DOT1_PROD!C30\"),INDIRECT(\"DOT2_PROD!C30\"),INDIRECT(\"DOT3_PROD!C30\"),INDIRECT(\"DOT4_PROD!C30\")),3),\"\"),IFERROR(ROUND(AVERAGE(INDIRECT(\"CON1_PROD!C30\"),INDIRECT(\"CON2_PROD!C30\"),INDIRECT(\"CON3_PROD!C30\"),INDIRECT(\"CON4_PROD!C30\")),3),\"\"))","v":""}]
[null,"Percent density, %:",{"$f":"IFERROR(ROUND(AVERAGE(C27:E27),1),\"\")","v":""},null,null,{"$f":"IFERROR(ROUND(AVERAGE(F27:G27),1),\"\")","v":""}]
[null,"Actual specific gravity:",{"$f":"IFERROR(ROUND(AVERAGE(C26:E26),3),\"\")","v":""},null,null,{"$f":"IFERROR(ROUND(AVERAGE(F26:G26),3),\"\")","v":""}]
[null,"Percent air voids, %:",{"$f":"IFERROR(ROUND(AVERAGE(C28:E28),1),\"\")","v":""},null,null,{"$f":"IFERROR(ROUND(AVERAGE(F28:G28),1),\"\")","v":""}]
[null,"Percent VMA, %:",{"$f":"IFERROR(ROUND(AVERAGE(C29:E29),1),\"\")","v":""},null,null,{"$f":"IFERROR(ROUND(AVERAGE(F29:G29),1),\"\")","v":""}]

{"sheet":"DATA_MIX","index":10,"n_rows":25,"n_cols":31,"rows_kept":25,"cut":false,"hidden":true,"merged":[]}
[]
[null,"MIXTYPES","CHK_TBWC","CHK_MGL","CHK_GE","CHK_RAPRAS","CHK_LIFT","CHK_GYR","CHK_RR","CHK_RZ","CHK_FLOW","CHK_SP","CHK_PAY1","CHK_SUBST","CHK_DRAIN","CHK_CANT","CHK_PLAC","CHK_MEM","CHK_FT","CHK_CRM","CHK_FIBER","CHK_OVD","CHK_WF","CHK_207","CHK_PAY2","CHK_MGL200","CHK_EXMPT","CHK_EXMPT_TST","CHK_DB","CHK_PG76","CHK_GE_OT"]
[null,"341-DG-B",-1,0,0,-1,2,1,0,0,0,0,0,-1,0,0,-1,0,0,0,0,0,0,-1,0,-1,-1,{"$f":"IF(AND(AA3,Field1220>=100),-1,0)","v":0},0,0,0]
[null,"341-DG-C",-1,0,0,-1,3,1,0,0,0,0,0,-1,0,0,-1,0,0,0,0,0,0,-1,0,-1,-1,0,0,0,0]
[null,"341-DG-D",-1,0,0,-1,4,1,0,0,0,0,0,-1,0,0,-1,0,0,0,0,0,0,-1,0,-1,-1,0,0,0,0]
[null,"341-DG-F",-1,0,0,-1,4,1,0,0,0,0,0,-1,0,0,-1,0,0,0,0,0,0,-1,0,-1,-1,0,0,0,0]
[null,"342-PFC-C",-1,-1,-1,0,1,1,0,0,-1,0,-1,0,-1,-1,0,0,0,0,-1,-1,-1,0,0,-1,0,0,0,-1,-1]
[null,"342-PFC-F",-1,-1,-1,0,1,1,0,0,-1,0,-1,0,-1,-1,0,0,0,0,-1,-1,-1,0,0,-1,0,0,0,-1,-1]
[null,"344-SP-B",-1,0,0,-1,2,1,0,0,0,-1,0,-1,0,0,-1,0,0,0,0,0,0,-1,0,-1,-1,0,-1,0,0]
[null,"344-SP-C",-1,0,0,-1,3,1,0,0,0,-1,0,-1,0,0,-1,0,0,0,0,0,0,-1,0,-1,-1,0,-1,0,0]
[null,"344-SP-D",-1,0,0,-1,4,1,0,0,0,-1,0,-1,0,0,-1,0,0,0,0,0,0,-1,0,-1,-1,0,-1,0,0]
[null,"346-SMA-C",-1,0,0,-1,4,1,0,0,-1,0,0,0,-1,0,-1,0,0,0,-1,-1,0,-1,0,-1,-1,0,0,-1,0]
[null,"346-SMA-D",-1,0,0,-1,4,1,0,0,-1,0,0,0,-1,0,-1,0,0,0,-1,-1,0,-1,0,-1,-1,0,0,-1,0]
[null,"346-SMA-F",-1,0,0,-1,4,1,0,0,-1,0,0,0,-1,0,-1,0,0,0,-1,-1,0,-1,0,-1,-1,0,0,-1,0]
[null,"346-SMAR-F",-1,0,0,-1,4,1,0,0,-1,0,0,0,-1,0,-1,0,0,-1,0,-1,0,-1,0,-1,-1,0,0,0,0]
[null,"347-TOM-C",-1,0,0,0,1,1,0,0,-1,0,-1,0,-1,0,0,0,0,0,0,-1,-1,0,0,-1,0,0,0,-1,0]
[null,"347-TOM-F",-1,0,0,0,1,1,0,0,-1,0,-1,0,-1,0,0,0,0,0,0,-1,-1,0,0,-1,0,0,0,-1,0]
[null,"348-PFC-C",-1,-1,-1,0,1,1,0,0,-1,0,-1,0,-1,-1,0,-1,0,0,-1,-1,-1,0,0,0,0,0,0,-1,-1]
[null,"348-PFC-F",-1,-1,-1,0,1,1,0,0,-1,0,-1,0,-1,-1,0,-1,0,0,-1,-1,-1,0,0,0,0,0,0,-1,-1]
[null,"348-TBWC-A",-1,-1,-1,0,1,1,0,0,-1,0,-1,0,-1,-1,0,-1,-1,0,0,-1,-1,0,0,0,0,0,0,-1,-1]
[null,"348-TBWC-B",-1,-1,-1,0,1,1,0,0,-1,0,-1,0,-1,-1,0,-1,-1,0,0,-1,-1,0,0,0,0,0,0,-1,-1]
[null,"348-TBWC-C",-1,-1,-1,0,1,1,0,0,-1,0,-1,0,-1,-1,0,-1,-1,0,0,-1,-1,0,0,0,0,0,0,-1,-1]
[null,"SS-3074-BMD-SP-C",-1,0,0,-1,1,1,0,-1,0,-1,0,-1,0,0,-1,0,0,0,0,-1,0,-1,0,-1,-1,0,-1,0,0]
[null,"SS-3074-BMD-SP-D",-1,0,0,-1,1,1,0,-1,0,-1,0,-1,0,0,-1,0,0,0,0,-1,0,-1,0,-1,-1,0,-1,0,0]
[null,"SS-CAM",-1,0,0,-1,4,3,0,0,-1,0,-1,0,0,0,-1,0,0,0,0,-1,0,-1,0,0,0,0,-1,0,0]

{"sheet":"DATA_WMA","index":11,"n_rows":20,"n_cols":3,"rows_kept":20,"cut":false,"hidden":true,"merged":[]}
[]
[null,"WMA TECHNOLOGY","UNITS"]
[null,"Advera (PQ Corporation)","% by weight of mix"]
[null,"ALmix WarmWare (ALmix)","% by weight of asphalt"]
[null,"Aspha-Min (Aspha-Min)","lb/gal of asphalt"]
[null,"Astech PER (Meridian Tech)","lb/ton of mix"]
[null,"Cecabase RT (Arkema)"]
[null,"Double Barrel Green (Astec)"]
[null,"Evoflex (MeadWestvaco)"]
[null,"Evotherm (MeadWestvaco)"]
[null,"HydroFoam IEQ (East Texas Asphalt)"]
[null,"QPR QualiTherm (QPR)"]
[null,"Redi-Set WMX (AkzoNobel)"]
[null,"Rediset LQ (AkzoNobel)"]
[null,"Sasobit (Sasol Wax Americas)"]
[null,"Terex (Terex Roadbuilding)"]
[null,"Maxam (Maxam Equipment)"]
[null,"Ultrafoam GX (Gencor Ind)"]
[null,"ZycoTherm (Zydex Ind)"]
[null,"Other"]

{"sheet":"DATA_MISC","index":12,"n_rows":5,"n_cols":15,"rows_kept":5,"cut":false,"hidden":true,"merged":[]}
[]
[null,"YESNO","NA","YESNONA","COURSE1","COURSE2","COURSE3","COURSE4","NO","GYR1","GYR2","GYR3","FLOWYES","FLOWNO","NOW"]
[null,"Yes","NA","Yes","Surface","Intermediate","Surface","Surface","No","SGC","TGC","SGC","Ignition oven","Ignition oven",{"$f":"NOW()","v":"2025-03-26T15:30:16.960"}]
[null,"No",null,"No",null,"Base","Intermediate","Intermediate",null,null,null,"TGC","Nuclear testing gauge","Nuclear testing gauge"]
[null,null,null,"NA",null,null,"Base",null,null,null,null,null,"Flow meter"]

{"sheet":"DATA_NAMES","index":13,"n_rows":908,"n_cols":9,"rows_kept":908,"cut":false,"hidden":true,"merged":[[899,2,899,3],[900,2,900,3],[901,2,901,3],[902,2,902,3],[903,2,903,3],[904,2,904,3],[905,2,905,3],[906,2,906,3],[699,2,699,3],[799,2,799,3],[898,2,898,3],[880,2,880,3],[869,2,869,3],[870,2,870,3],[871,2,871,3],[872,2,872,3],[873,2,873,3],[874,2,874,3],[863,2,863,3],[864,2,864,3],[865,2,865,3],[866,2,866,3],[867,2,867,3],[868,2,868,3],[100,0,907,0],[893,2,893,3],[894,2,894,3],[895,2,895,3],[896,2,896,3],[897,2,897,3],[907,2,907,3],[887,2,887,3],[888,2,888,3],[889,2,889,3],[890,2,890,3],[891,2,891,3],[892,2,892,3],[881,2,881,3],[882,2,882,3],[883,2,883,3],[884,2,884,3],[885,2,885,3],[886,2,886,3],[875,2,875,3],[876,2,876,3],[877,2,877,3],[878,2,878,3],[879,2,879,3],[857,2,857,3],[858,2,858,3],[859,2,859,3],[860,2,860,3],[861,2,861,3],[862,2,862,3],[851,2,851,3],[852,2,852,3],[853,2,853,3],[854,2,854,3],[855,2,855,3],[856,2,856,3],[845,2,845,3],[846,2,846,3],[847,2,847,3],[848,2,848,3],[849,2,849,3],[850,2,850,3],[839,2,839,3],[840,2,840,3],[841,2,841,3],[842,2,842,3],[843,2,843,3],[844,2,844,3],[833,2,833,3],[834,2,834,3],[835,2,835,3],[836,2,836,3],[837,2,837,3],[838,2,838,3],[827,2,827,3],[828,2,828,3],[829,2,829,3],[830,2,830,3],[831,2,831,3],[832,2,832,3],[821,2,821,3],[822,2,822,3],[823,2,823,3],[824,2,824,3],[825,2,825,3],[826,2,826,3],[815,2,815,3],[816,2,816,3],[817,2,817,3],[818,2,818,3],[819,2,819,3],[820,2,820,3],[809,2,809,3],[810,2,810,3],[811,2,811,3],[812,2,812,3],[813,2,813,3],[814,2,814,3],[803,2,803,3],[804,2,804,3],[805,2,805,3],[806,2,806,3],[807,2,807,3],[808,2,808,3],[796,2,796,3],[797,2,797,3],[798,2,798,3],[800,2,800,3],[801,2,801,3],[802,2,802,3],[790,2,790,3],[791,2,791,3],[792,2,792,3],[793,2,793,3],[794,2,794,3],[795,2,795,3],[784,2,784,3],[785,2,785,3],[786,2,786,3],[787,2,787,3],[788,2,788,3],[789,2,789,3],[778,2,778,3],[779,2,779,3],[780,2,780,3],[781,2,781,3],[782,2,782,3],[783,2,783,3],[772,2,772,3],[773,2,773,3],[774,2,774,3],[775,2,775,3],[776,2,776,3],[777,2,777,3],[766,2,766,3],[767,2,767,3],[768,2,768,3],[769,2,769,3],[770,2,770,3],[771,2,771,3],[760,2,760,3],[761,2,761,3],[762,2,762,3],[763,2,763,3],[764,2,764,3],[765,2,765,3],[754,2,754,3],[755,2,755,3],[756,2,756,3],[757,2,757,3],[758,2,758,3],[759,2,759,3],[748,2,748,3],[749,2,749,3],[750,2,750,3],[751,2,751,3],[752,2,752,3],[753,2,753,3],[742,2,742,3],[743,2,743,3],[744,2,744,3],[745,2,745,3],[746,2,746,3],[747,2,747,3],[736,2,736,3],[737,2,737,3],[738,2,738,3],[739,2,739,3],[740,2,740,3],[741,2,741,3],[730,2,730,3],[731,2,731,3],[732,2,732,3],[733,2,733,3],[734,2,734,3],[735,2,735,3],[724,2,724,3],[725,2,725,3],[726,2,726,3],[727,2,727,3],[728,2,728,3],[729,2,729,3],[718,2,718,3],[719,2,719,3],[720,2,720,3],[721,2,721,3],[722,2,722,3],[723,2,723,3],[712,2,712,3],[713,2,713,3],[714,2,714,3],[715,2,715,3],[716,2,716,3],[717,2,717,3],[706,2,706,3],[707,2,707,3],[708,2,708,3],[709,2,709,3],[710,2,710,3],[711,2,711,3],[700,2,700,3],[701,2,701,3],[702,2,702,3],[703,2,703,3],[704,2,704,3],[705,2,705,3],[693,2,693,3],[694,2,694,3],[695,2,695,3],[696,2,696,3],[697,2,697,3],[698,2,698,3],[687,2,687,3],[688,2,688,3],[689,2,689,3],[690,2,690,3],[691,2,691,3],[692,2,692,3],[681,2,681,3],[682,2,682,3],[683,2,683,3],[684,2,684,3],[685,2,685,3],[686,2,686,3],[675,2,675,3],[676,2,676,3],[677,2,677,3],[678,2,678,3],[679,2,679,3],[680,2,680,3],[669,2,669,3],[670,2,670,3],[671,2,671,3],[672,2,672,3],[673,2,673,3],[674,2,674,3],[663,2,663,3],[664,2,664,3],[665,2,665,3],[666,2,666,3],[667,2,667,3],[668,2,668,3],[657,2,657,3],[658,2,658,3],[659,2,659,3],[660,2,660,3],[661,2,661,3],[662,2,662,3],[651,2,651,3],[652,2,652,3],[653,2,653,3],[654,2,654,3],[655,2,655,3],[656,2,656,3],[645,2,645,3],[646,2,646,3],[647,2,647,3],[648,2,648,3],[649,2,649,3],[650,2,650,3],[639,2,639,3],[640,2,640,3],[641,2,641,3],[642,2,642,3],[643,2,643,3],[644,2,644,3],[633,2,633,3],[634,2,634,3],[635,2,635,3],[636,2,636,3],[637,2,637,3],[638,2,638,3],[627,2,627,3],[628,2,628,3],[629,2,629,3],[630,2,630,3],[631,2,631,3],[632,2,632,3],[621,2,621,3],[622,2,622,3],[623,2,623,3],[624,2,624,3],[625,2,625,3],[626,2,626,3],[615,2,615,3],[616,2,616,3],[617,2,617,3],[618,2,618,3],[619,2,619,3],[620,2,620,3],[609,2,609,3],[610,2,610,3],[611,2,611,3],[612,2,612,3],[613,2,613,3],[614,2,614,3],[603,2,603,3],[604,2,604,3],[605,2,605,3],[606,2,606,3],[607,2,607,3],[608,2,608,3],[596,2,596,3],[597,2,597,3],[598,2,598,3],[600,2,600,3],[601,2,601,3],[602,2,602,3],[590,2,590,3],[591,2,591,3],[592,2,592,3],[593,2,593,3],[594,2,594,3],[595,2,595,3],[599,2,599,3],[584,2,584,3],[585,2,585,3],[586,2,586,3],[587,2,587,3],[588,2,588,3],[589,2,589,3],[578,2,578,3],[579,2,579,3],[580,2,580,3],[581,2,581,3],[582,2,582,3],[583,2,583,3],[572,2,572,3],[573,2,573,3],[574,2,574,3],[575,2,575,3],[576,2,576,3],[577,2,577,3],[566,2,566,3],[567,2,567,3],[568,2,568,3],[569,2,569,3],[570,2,570,3],[571,2,571,3],[560,2,560,3],[561,2,561,3],[562,2,562,3],[563,2,563,3],[564,2,564,3],[565,2,565,3],[554,2,554,3],[555,2,555,3],[556,2,556,3],[557,2,557,3],[558,2,558,3],[559,2,559,3],[548,2,548,3],[549,2,549,3],[550,2,550,3],[551,2,551,3],[552,2,552,3],[553,2,553,3],[542,2,542,3],[543,2,543,3],[544,2,544,3],[545,2,545,3],[546,2,546,3],[547,2,547,3],[536,2,536,3],[537,2,537,3],[538,2,538,3],[539,2,539,3],[540,2,540,3],[541,2,541,3],[530,2,530,3],[531,2,531,3],[532,2,532,3],[533,2,533,3],[534,2,534,3],[535,2,535,3],[524,2,524,3],[525,2,525,3],[526,2,526,3],[527,2,527,3],[528,2,528,3],[529,2,529,3],[518,2,518,3],[519,2,519,3],[520,2,520,3],[521,2,521,3],[522,2,522,3],[523,2,523,3],[512,2,512,3],[513,2,513,3],[514,2,514,3],[515,2,515,3],[516,2,516,3],[517,2,517,3],[506,2,506,3],[507,2,507,3],[508,2,508,3],[509,2,509,3],[510,2,510,3],[511,2,511,3],[500,2,500,3],[501,2,501,3],[502,2,502,3],[503,2,503,3],[504,2,504,3],[505,2,505,3],[493,2,493,3],[494,2,494,3],[495,2,495,3],[496,2,496,3],[497,2,497,3],[498,2,498,3],[499,2,499,3],[487,2,487,3],[488,2,488,3],[489,2,489,3],[490,2,490,3],[491,2,491,3],[492,2,492,3],[481,2,481,3],[482,2,482,3],[483,2,483,3],[484,2,484,3],[485,2,485,3],[486,2,486,3],[475,2,475,3],[476,2,476,3],[477,2,477,3],[478,2,478,3],[479,2,479,3],[480,2,480,3],[469,2,469,3],[470,2,470,3],[471,2,471,3],[472,2,472,3],[473,2,473,3],[474,2,474,3],[463,2,463,3],[464,2,464,3],[465,2,465,3],[466,2,466,3],[467,2,467,3],[468,2,468,3],[457,2,457,3],[458,2,458,3],[459,2,459,3],[460,2,460,3],[461,2,461,3],[462,2,462,3],[451,2,451,3],[452,2,452,3],[453,2,453,3],[454,2,454,3],[455,2,455,3],[456,2,456,3],[445,2,445,3],[446,2,446,3],[447,2,447,3],[448,2,448,3],[449,2,449,3],[450,2,450,3],[439,2,439,3],[440,2,440,3],[441,2,441,3],[442,2,442,3],[443,2,443,3],[444,2,444,3],[433,2,433,3],[434,2,434,3],[435,2,435,3],[436,2,436,3],[437,2,437,3],[438,2,438,3],[427,2,427,3],[428,2,428,3],[429,2,429,3],[430,2,430,3],[431,2,431,3],[432,2,432,3],[421,2,421,3],[422,2,422,3],[423,2,423,3],[424,2,424,3],[425,2,425,3],[426,2,426,3],[415,2,415,3],[416,2,416,3],[417,2,417,3],[418,2,418,3],[419,2,419,3],[420,2,420,3],[409,2,409,3],[410,2,410,3],[411,2,411,3],[412,2,412,3],[413,2,413,3],[414,2,414,3],[403,2,403,3],[404,2,404,3],[405,2,405,3],[406,2,406,3],[407,2,407,3],[408,2,408,3],[396,2,396,3],[397,2,397,3],[398,2,398,3],[400,2,400,3],[401,2,401,3],[402,2,402,3],[390,2,390,3],[391,2,391,3],[392,2,392,3],[393,2,393,3],[394,2,394,3],[395,2,395,3],[399,2,399,3],[384,2,384,3],[385,2,385,3],[386,2,386,3],[387,2,387,3],[388,2,388,3],[389,2,389,3],[378,2,378,3],[379,2,379,3],[380,2,380,3],[381,2,381,3],[382,2,382,3],[383,2,383,3],[372,2,372,3],[373,2,373,3],[374,2,374,3],[375,2,375,3],[376,2,376,3],[377,2,377,3],[366,2,366,3],[367,2,367,3],[368,2,368,3],[369,2,369,3],[370,2,370,3],[371,2,371,3],[360,2,360,3],[361,2,361,3],[362,2,362,3],[363,2,363,3],[364,2,364,3],[365,2,365,3],[354,2,354,3],[355,2,355,3],[356,2,356,3],[357,2,357,3],[358,2,358,3],[359,2,359,3],[348,2,348,3],[349,2,349,3],[350,2,350,3],[351,2,351,3],[352,2,352,3],[353,2,353,3],[342,2,342,3],[343,2,343,3],[344,2,344,3],[345,2,345,3],[346,2,346,3],[347,2,347,3],[336,2,336,3],[337,2,337,3],[338,2,338,3],[339,2,339,3],[340,2,340,3],[341,2,341,3],[330,2,330,3],[331,2,331,3],[332,2,332,3],[333,2,333,3],[334,2,334,3],[335,2,335,3],[324,2,324,3],[325,2,325,3],[326,2,326,3],[327,2,327,3],[328,2,328,3],[329,2,329,3],[318,2,318,3],[319,2,319,3],[320,2,320,3],[321,2,321,3],[322,2,322,3],[323,2,323,3],[312,2,312,3],[313,2,313,3],[314,2,314,3],[315,2,315,3],[316,2,316,3],[317,2,317,3],[306,2,306,3],[307,2,307,3],[308,2,308,3],[309,2,309,3],[310,2,310,3],[311,2,311,3],[300,2,300,3],[301,2,301,3],[302,2,302,3],[303,2,303,3],[304,2,304,3],[305,2,305,3],[293,2,293,3],[294,2,294,3],[295,2,295,3],[296,2,296,3],[297,2,297,3],[298,2,298,3],[299,2,299,3],[287,2,287,3],[288,2,288,3],[289,2,289,3],[290,2,290,3],[291,2,291,3],[292,2,292,3],[281,2,281,3],[282,2,282,3],[283,2,283,3],[284,2,284,3],[285,2,285,3],[286,2,286,3],[275,2,275,3],[276,2,276,3],[277,2,277,3],[278,2,278,3],[279,2,279,3],[280,2,280,3],[269,2,269,3],[270,2,270,3],[271,2,271,3],[272,2,272,3],[273,2,273,3],[274,2,274,3],[263,2,263,3],[264,2,264,3],[265,2,265,3],[266,2,266,3],[267,2,267,3],[268,2,268,3],[257,2,257,3],[258,2,258,3],[259,2,259,3],[260,2,260,3],[261,2,261,3],[262,2,262,3],[251,2,251,3],[252,2,252,3],[253,2,253,3],[254,2,254,3],[255,2,255,3],[256,2,256,3],[245,2,245,3],[246,2,246,3],[247,2,247,3],[248,2,248,3],[249,2,249,3],[250,2,250,3],[239,2,239,3],[240,2,240,3],[241,2,241,3],[242,2,242,3],[243,2,243,3],[244,2,244,3],[233,2,233,3],[234,2,234,3],[235,2,235,3],[236,2,236,3],[237,2,237,3],[238,2,238,3],[227,2,227,3],[228,2,228,3],[229,2,229,3],[230,2,230,3],[231,2,231,3],[232,2,232,3],[221,2,221,3],[222,2,222,3],[223,2,223,3],[224,2,224,3],[225,2,225,3],[226,2,226,3],[215,2,215,3],[216,2,216,3],[217,2,217,3],[218,2,218,3],[219,2,219,3],[220,2,220,3],[209,2,209,3],[210,2,210,3],[211,2,211,3],[212,2,212,3],[213,2,213,3],[214,2,214,3],[203,2,203,3],[204,2,204,3],[205,2,205,3],[206,2,206,3],[207,2,207,3],[208,2,208,3],[196,2,196,3],[197,2,197,3],[198,2,198,3],[200,2,200,3],[201,2,201,3],[202,2,202,3],[199,2,199,3],[190,2,190,3],[191,2,191,3],[192,2,192,3],[193,2,193,3],[194,2,194,3],[195,2,195,3],[184,2,184,3],[185,2,185,3],[186,2,186,3],[187,2,187,3],[188,2,188,3],[189,2,189,3],[178,2,178,3],[179,2,179,3],[180,2,180,3],[181,2,181,3],[182,2,182,3],[183,2,183,3],[172,2,172,3],[173,2,173,3],[174,2,174,3],[175,2,175,3],[176,2,176,3],[177,2,177,3],[166,2,166,3],[167,2,167,3],[168,2,168,3],[169,2,169,3],[170,2,170,3],[171,2,171,3],[160,2,160,3],[161,2,161,3],[162,2,162,3],[163,2,163,3],[164,2,164,3],[165,2,165,3],[154,2,154,3],[155,2,155,3],[156,2,156,3],[157,2,157,3],[158,2,158,3],[159,2,159,3],[148,2,148,3],[149,2,149,3],[150,2,150,3],[151,2,151,3],[152,2,152,3],[153,2,153,3],[142,2,142,3],[143,2,143,3],[144,2,144,3],[145,2,145,3],[146,2,146,3],[147,2,147,3],[136,2,136,3],[137,2,137,3],[138,2,138,3],[139,2,139,3],[140,2,140,3],[141,2,141,3],[133,2,133,3],[134,2,134,3],[135,2,135,3],[124,2,124,3],[125,2,125,3],[126,2,126,3],[127,2,127,3],[128,2,128,3],[129,2,129,3],[121,2,121,3],[122,2,122,3],[123,2,123,3],[115,2,115,3],[116,2,116,3],[117,2,117,3],[130,2,130,3],[131,2,131,3],[132,2,132,3],[100,2,100,3],[101,2,101,3],[102,2,102,3],[103,2,103,3],[104,2,104,3],[105,2,105,3],[118,2,118,3],[119,2,119,3],[120,2,120,3],[112,2,112,3],[113,2,113,3],[114,2,114,3],[106,2,106,3],[107,2,107,3],[108,2,108,3],[109,2,109,3],[110,2,110,3],[111,2,111,3]]}
[null,null,null,"Name","RefersToLocal"]
[null,null,null,"Field329","lgnd1",null,{"$f":"GENERAL!C8&\"    \"&GENERAL!D8&REPT(\"_\",40-(LEN(GENERAL!D8)+LEN(GENERAL!C8)))&\"    \"&GENERAL!G8&\" \"&IF(GENERAL!H8>0,TEXT(GENERAL!H8,\"MM-DD-YYYY\")&REPT(\"_\",40-(LEN(GENERAL!G8)+10)),REPT(\"_\",40-LEN(GENERAL!G8)))\n&CHAR(10)&GENERAL!C9&\"    \"&GENERAL!D9&REPT(\"_\",40-(LEN(GENERAL!D9)+LEN(GENERAL!C9)))&\"    \"&GENERAL!G9&\" \"&IF(GENERAL!H9>0,TEXT(GENERAL!H9,\"MM-DD-YYYY\")&REPT(\"_\",40-(LEN(GENERAL!G9)+10)),REPT(\"_\",40-LEN(GENERAL!G9)))\n&CHAR(10)&GENERAL!C10&\"    \"&GENERAL!D10&REPT(\"_\",40-(LEN(GENERAL!D10)+LEN(GENERAL!C10)))&\"    \"&GENERAL!G10&\" \"&GENERAL!H10&REPT(\"_\",40-(LEN(GENERAL!G10)+LEN(GENERAL!H10)))\n&CHAR(10)&GENERAL!C11&\"    \"&GENERAL!D11&REPT(\"_\",40-(LEN(GENERAL!D11)+LEN(GENERAL!C11)))&\"    \"&GENERAL!G11&\" \"&GENERAL!H11&REPT(\"_\",40-(LEN(GENERAL!G11)+LEN(GENERAL!H11)))\n&CHAR(10)&GENERAL!C12&\"    \"&GENERAL!D12&REPT(\"_\",45-(LEN(GENERAL!D12)+LEN(GENERAL!C12)))&\"    \"&GENERAL!G12&\" \"&GENERAL!H12&REPT(\"_\",40-(LEN(GENERAL!G12)+LEN(GENERAL!H12)))\n&CHAR(10)&GENERAL!C13&\"    \"&LEFT(GENERAL!D13,24)&REPT(\"_\",40-(LEN(LEFT(GENERAL!D13,24))+LEN(GENERAL!C13)))&\"    \"&GENERAL!G13&\" \"&GENERAL!H13&REPT(\"_\",40-(LEN(GENERAL!G13)+LEN(GENERAL!H13)))\n&CHAR(10)&GENERAL!C14&\"    \"&GENERAL!D14&REPT(\"_\",40-(LEN(GENERAL!D14)+LEN(GENERAL!C14)))&\"    \"&GENERAL!G14&\" \"&GENERAL!H14&REPT(\"_\",40-(LEN(GENERAL!G14)+LEN(GENERAL!H14)))\n&CHAR(10)&GENERAL!C15&\" \"&GENERAL!D15&REPT(\"_\",80-(LEN(GENERAL!C15)+LEN(GENERAL!D15)))\n&CHAR(10)&GENERAL!C16&\" \"&GENERAL!D16&REPT(\"_\",80-(LEN(GENERAL!C16)+LEN(GENERAL!D16)))\n&CHAR(10)&GENERAL!C17&\"    \"&GENERAL!D17&REPT(\"_\",40-(LEN(GENERAL!D17)+LEN(GENERAL!C17)))&\"    \"&GENERAL!G17&\" \"&GENERAL!H17&REPT(\"_\",45-(LEN(GENERAL!G17)+LEN(GENERAL!H17)))\n&CHAR(10)&GENERAL!C19&\"    \"&GENERAL!D19&REPT(\"_\",30-(LEN(GENERAL!D19)+LEN(GENERAL!C19)))&\"    \"&GENERAL!E19&\" \"&GENERAL!F19&REPT(\"_\",30-(LEN(GENERAL!E19)+LEN(GENERAL!F19)))&\"    \"&GENERAL!G19&\" \"&GENERAL!H19&REPT(\"_\",20-(LEN(GENERAL!G19)+LEN(GENERAL!H19)))\n&CHAR(10)","v":"SAMPLE ID:    ______________________________    SAMPLED DATE: ___________________________\nLOT NUMBER:    _____________________________    LETTING DATE: ___________________________\nSAMPLE STATUS:    __________________________    CONTROLLING CSJ: ________________________\nCOUNTY:    _________________________________    SPEC YEAR: ______________________________\nSAMPLED BY:    __________________________________    SPEC ITEM: ______________________________\nSAMPLE LOCATION:    ________________________    SPECIAL PROVISION: ______________________\nMATERIAL CODE:    __________________________    MIX TYPE: _______________________________\nMATERIAL NAME: __________________________________________________________________\nPRODUCER: _______________________________________________________________________\nAREA ENGINEER:    __________________________    PROJECT MANAGER: _____________________________\nCOURSE\\LIFT:    __________________    STATION: ______________________    DIST. FROM CL: ______\n"},null,"HEADER"]
[null,null,null,"Field330","lgnd2"]
[null,null,null,"Field331","lgnd3"]
[null,null,null,"Field332","lgnd4"]
[null,null,null,"Field333","lgnd5"]
[null,null,null,"Field334","lgnd6"]
[null,null,null,"Field335","lgnd7"]
[null,null,null,"Field336","lgnd8"]
[null,null,null,"Field337","lgnd9"]
[null,null,null,"Field338","lgnd10"]
[null,null,null,"Field339","lgnd11"]
[null,null,null,"Field340","lgnd12"]
[null,null,null,"Field341","lgnd13"]
[null,null,null,"Field342","lgnd14"]
[null,null,null,"Field343","lgnd15"]
[null,null,null,"Field344","lgnd16"]
[null,null,null,"Field345","lgnd17"]
[null,null,null,"Field346","lgnd18"]
[null,null,null,"Field347","lgnd19"]
[null,null,null,"Field348","lgnd20"]
[null,null,null,"Field349","lgnd21"]
[null,null,null,"Field350","lgnd22"]
[null,null,null,"Field351","lgnd23"]
[null,null,null,"Field352","lgnd24"]
[null,null,null,"Field353","lgnd25"]
[null,null,null,"Field354","lgnd26"]
[null,null,null,"Field355","lgnd27"]
[null,null,null,"Field356","lgnd28"]
[null,null,null,"Field357","lgnd29"]
[null,null,null,"Field358","lgnd30"]
[null,null,null,"Field359","lgnd31"]
[null,null,null,"Field360","lgnd32"]
[null,null,null,"Field361","lgnd33"]
[null,null,null,"Field362","lgnd34"]
[null,null,null,"Field363","lgnd35"]
[null,null,null,"Field364","lgnd36"]
[null,null,null,"Field365","lgnd37"]
[null,null,null,"Field366","lgnd38"]
[null,null,null,"Field367","lgnd39"]
[null,null,null,"Field368","lgnd40"]
[null,null,null,"Field369","lgnd41"]
[null,null,null,"Field370","lgnd42"]
[null,null,null,"Field371","lgnd43"]
[null,null,null,"Field372","lgnd44"]
[null,null,null,"Field373","lgnd45"]
[null,null,null,"Field374","lgnd46"]
[null,null,null,"Field375","lgnd47"]
[null,null,null,"Field376","lgnd48"]
[null,null,null,"Field377","lgnd49"]
[null,null,null,"Field378","lgnd50"]
[null,null,null,"Field379","lgnd51"]
[null,null,null,"Field380","lgnd52"]
[null,null,null,"Field381","lgnd53"]
[null,null,null,"Field382","lgnd54"]
[null,null,null,"Field383","lgnd55"]
[null,null,null,"Field384","lgnd56"]
[null,null,null,"Field385","lgnd57"]
[null,null,null,"Field386","lgnd58"]
[null,null,null,"Field387","lgnd59"]
[null,null,null,"Field388","lgnd60"]
[null,null,null,"Field389","lgnd61"]
[null,null,null,"Field390","lgnd62"]
[null,null,null,"Field391","lgnd63"]
[null,null,null,"Field392","lgnd64"]
[null,null,null,"Field393","lgnd65"]
[null,null,null,"Field394","lgnd66"]
[null,null,null,"Field395","lgnd67"]
[null,null,null,"Field396","lgnd68"]
[null,null,null,"Field397","lgnd69"]
[null,null,null,"Field398","lgnd70"]
[null,null,null,"Field399","lgnd71"]
[null,null,null,"Field400","lgnd72"]
[null,null,null,"Field401","lgnd73"]
[null,null,null,"Field402","lgnd74"]
[null,null,null,"Field403","lgnd75"]
[null,null,null,"Field404","lgnd76"]
[null,null,null,"Field405","lgnd77"]
[null,null,null,"Field406","lgnd78"]
[null,null,null,"Field407","lgnd79"]
[null,null,null,"Field408","lgnd80"]
[null,null,null,"Field409","lgnd81"]
[null,null,null,"Field410","lgnd82"]
[null,null,null,"Field411","lgnd83"]
[null,null,null,"Field412","lgnd84"]
[null,null,null,"Field413","lgnd85"]
[null,null,null,"Field414","lgnd86"]
[null,null,null,"Field415","lgnd87"]
[null,null,null,"Field416","lgnd88"]
[null,null,null,"Field417","lgnd89"]
[null,null,null,"Field418","lgnd90"]
[null,null,null,"Field419","lgnd91"]
[null,null,null,"Field420","lgnd92"]
[null,null,null,"Field421","lgnd93"]
[null,null,null,"Field422","lgnd94"]
[null,null,null,"Field423","lgnd95"]
[null,null,null,"Field424","lgnd96"]
[null,null,null,"Field425","lgnd97"]
[null,null,null,"Field426","lgnd98"]
[null,null,null,"Field427","lgnd99"]
["FIELD NAMES\nThese field associations should never be altered. New rows can be inserted. New rows should include a legend field and sheet name reference and this cell reference should be within the \"fieldnames\" named range.","DOT1","Field428",null,"lgnd1",null,null,null,{"$f":"INDEX(FIELDLGNDS, MATCH(\"Field1000\", FIELDNAMES, 0), 1)","v":{"$error":"#NAME?"}}]
[null,"DOT1","Field429",null,"lgnd2"]
[null,"DOT1","Field430",null,"lgnd3"]
[null,"DOT1","Field431",null,"lgnd4"]
[null,"DOT1","Field432",null,"lgnd5"]
[null,"DOT1","Field433",null,"lgnd6"]
[null,"DOT1","Field434",null,"lgnd7"]
[null,"DOT1","Field435",null,"lgnd8"]
[null,"DOT1","Field436",null,"lgnd9"]
[null,"DOT1","Field437",null,"lgnd10"]
[null,"DOT1","Field438",null,"lgnd11"]
[null,"DOT1","Field439",null,"lgnd12"]
[null,"DOT1","Field440",null,"lgnd13"]
[null,"DOT1","Field441",null,"lgnd14"]
[null,"DOT1","Field442",null,"lgnd15"]
[null,"DOT1","Field443",null,"lgnd16"]
[null,"DOT1","Field444",null,"lgnd17"]
[null,"DOT1","Field445",null,"lgnd18"]
[null,"DOT1","Field446",null,"lgnd19"]
[null,"DOT1","Field447",null,"lgnd20"]
[null,"DOT1","Field448",null,"lgnd21"]
[null,"DOT1","Field449",null,"lgnd22"]
[null,"DOT1","Field450",null,"lgnd23"]
[null,"DOT1","Field451",null,"lgnd24"]
[null,"DOT1","Field452",null,"lgnd25"]
[null,"DOT1","Field453",null,"lgnd26"]
[null,"DOT1","Field454",null,"lgnd27"]
[null,"DOT1","Field455",null,"lgnd28"]
[null,"DOT1","Field456",null,"lgnd29"]
[null,"DOT1","Field457",null,"lgnd30"]
[null,"DOT1","Field458",null,"lgnd31"]
[null,"DOT1","Field459",null,"lgnd32"]
[null,"DOT1","Field460",null,"lgnd33"]
[null,"DOT1","Field461",null,"lgnd34"]
[null,"DOT1","Field462",null,"lgnd35"]
[null,"DOT1","Field463",null,"lgnd36"]
[null,"DOT1","Field464",null,"lgnd37"]
[null,"DOT1","Field465",null,"lgnd38"]
[null,"DOT1","Field466",null,"lgnd39"]
[null,"DOT1","Field467",null,"lgnd40"]
[null,"DOT1","Field468",null,"lgnd41"]
[null,"DOT1","Field469",null,"lgnd42"]
[null,"DOT1","Field470",null,"lgnd43"]
[null,"DOT1","Field471",null,"lgnd44"]
[null,"DOT1","Field472",null,"lgnd45"]
[null,"DOT1","Field473",null,"lgnd46"]
[null,"DOT1","Field474",null,"lgnd47"]
[null,"DOT1","Field475",null,"lgnd48"]
[null,"DOT1","Field476",null,"lgnd49"]
[null,"DOT1","Field477",null,"lgnd50"]
[null,"DOT1","Field478",null,"lgnd51"]
[null,"DOT1","Field479",null,"lgnd52"]
[null,"DOT1","Field480",null,"lgnd53"]
[null,"DOT1","Field481",null,"lgnd54"]
[null,"DOT1","Field482",null,"lgnd55"]
[null,"DOT1","Field483",null,"lgnd56"]
[null,"DOT1","Field484",null,"lgnd57"]
[null,"DOT1","Field485",null,"lgnd58"]
[null,"DOT1","Field486",null,"lgnd59"]
[null,"DOT1","Field487",null,"lgnd60"]
[null,"DOT1","Field488",null,"lgnd61"]
[null,"DOT1","Field489",null,"lgnd62"]
[null,"DOT1","Field490",null,"lgnd63"]
[null,"DOT1","Field491",null,"lgnd64"]
[null,"DOT1","Field492",null,"lgnd65"]
[null,"DOT1","Field493",null,"lgnd66"]
[null,"DOT1","Field494",null,"lgnd67"]
[null,"DOT1","Field495",null,"lgnd68"]
[null,"DOT1","Field496",null,"lgnd69"]
[null,"DOT1","Field497",null,"lgnd70"]
[null,"DOT1","Field498",null,"lgnd71"]
[null,"DOT1","Field499",null,"lgnd72"]
[null,"DOT1","Field500",null,"lgnd73"]
[null,"DOT1","Field501",null,"lgnd74"]
[null,"DOT1","Field502",null,"lgnd75"]
[null,"DOT1","Field503",null,"lgnd76"]
[null,"DOT1","Field504",null,"lgnd77"]
[null,"DOT1","Field505",null,"lgnd78"]
[null,"DOT1","Field506",null,"lgnd79"]
[null,"DOT1","Field507",null,"lgnd80"]
[null,"DOT1","Field508",null,"lgnd81"]
[null,"DOT1","Field509",null,"lgnd82"]
[null,"DOT1","Field510",null,"lgnd83"]
[null,"DOT1","Field511",null,"lgnd84"]
[null,"DOT1","Field512",null,"lgnd85"]
[null,"DOT1","Field513",null,"lgnd86"]
[null,"DOT1","Field514",null,"lgnd87"]
[null,"DOT1","Field515",null,"lgnd88"]
[null,"DOT1","Field516",null,"lgnd89"]
[null,"DOT1","Field517",null,"lgnd90"]
[null,"DOT1","Field518",null,"lgnd91"]
[null,"DOT1","Field519",null,"lgnd92"]
[null,"DOT1","Field520",null,"lgnd93"]
[null,"DOT1","Field521",null,"lgnd94"]
[null,"DOT1","Field522",null,"lgnd95"]
[null,"DOT1","Field523",null,"lgnd96"]
[null,"DOT1","Field524",null,"lgnd97"]
[null,"DOT1","Field525",null,"lgnd98"]
[null,"DOT1","Field526",null,"lgnd99"]
[null,"DOT1","Field1237",null,"lgnd100"]
[null,"DOT2","Field527",null,"lgnd1"]
[null,"DOT2","Field528",null,"lgnd2"]
[null,"DOT2","Field529",null,"lgnd3"]
[null,"DOT2","Field530",null,"lgnd4"]
[null,"DOT2","Field531",null,"lgnd5"]
[null,"DOT2","Field532",null,"lgnd6"]
[null,"DOT2","Field533",null,"lgnd7"]
[null,"DOT2","Field534",null,"lgnd8"]
[null,"DOT2","Field535",null,"lgnd9"]
[null,"DOT2","Field536",null,"lgnd10"]
[null,"DOT2","Field537",null,"lgnd11"]
[null,"DOT2","Field538",null,"lgnd12"]
[null,"DOT2","Field539",null,"lgnd13"]
[null,"DOT2","Field540",null,"lgnd14"]
[null,"DOT2","Field541",null,"lgnd15"]
[null,"DOT2","Field542",null,"lgnd16"]
[null,"DOT2","Field543",null,"lgnd17"]
[null,"DOT2","Field544",null,"lgnd18"]
[null,"DOT2","Field545",null,"lgnd19"]
[null,"DOT2","Field546",null,"lgnd20"]
[null,"DOT2","Field547",null,"lgnd21"]
[null,"DOT2","Field548",null,"lgnd22"]
[null,"DOT2","Field549",null,"lgnd23"]
[null,"DOT2","Field550",null,"lgnd24"]
[null,"DOT2","Field551",null,"lgnd25"]
[null,"DOT2","Field552",null,"lgnd26"]
[null,"DOT2","Field553",null,"lgnd27"]
[null,"DOT2","Field554",null,"lgnd28"]
[null,"DOT2","Field555",null,"lgnd29"]
[null,"DOT2","Field556",null,"lgnd30"]
[null,"DOT2","Field557",null,"lgnd31"]
[null,"DOT2","Field558",null,"lgnd32"]
[null,"DOT2","Field559",null,"lgnd33"]
[null,"DOT2","Field560",null,"lgnd34"]
[null,"DOT2","Field561",null,"lgnd35"]
[null,"DOT2","Field562",null,"lgnd36"]
[null,"DOT2","Field563",null,"lgnd37"]
[null,"DOT2","Field564",null,"lgnd38"]
[null,"DOT2","Field565",null,"lgnd39"]
[null,"DOT2","Field566",null,"lgnd40"]
[null,"DOT2","Field567",null,"lgnd41"]
[null,"DOT2","Field568",null,"lgnd42"]
[null,"DOT2","Field569",null,"lgnd43"]
[null,"DOT2","Field570",null,"lgnd44"]
[null,"DOT2","Field571",null,"lgnd45"]
[null,"DOT2","Field572",null,"lgnd46"]
[null,"DOT2","Field573",null,"lgnd47"]
[null,"DOT2","Field574",null,"lgnd48"]
[null,"DOT2","Field575",null,"lgnd49"]
[null,"DOT2","Field576",null,"lgnd50"]
[null,"DOT2","Field577",null,"lgnd51"]
[null,"DOT2","Field578",null,"lgnd52"]
[null,"DOT2","Field579",null,"lgnd53"]
[null,"DOT2","Field580",null,"lgnd54"]
[null,"DOT2","Field581",null,"lgnd55"]
[null,"DOT2","Field582",null,"lgnd56"]
[null,"DOT2","Field583",null,"lgnd57"]
[null,"DOT2","Field584",null,"lgnd58"]
[null,"DOT2","Field585",null,"lgnd59"]
[null,"DOT2","Field586",null,"lgnd60"]
[null,"DOT2","Field587",null,"lgnd61"]
[null,"DOT2","Field588",null,"lgnd62"]
[null,"DOT2","Field589",null,"lgnd63"]
[null,"DOT2","Field590",null,"lgnd64"]
[null,"DOT2","Field591",null,"lgnd65"]
[null,"DOT2","Field592",null,"lgnd66"]
[null,"DOT2","Field593",null,"lgnd67"]
[null,"DOT2","Field594",null,"lgnd68"]
[null,"DOT2","Field595",null,"lgnd69"]
[null,"DOT2","Field596",null,"lgnd70"]
[null,"DOT2","Field597",null,"lgnd71"]
[null,"DOT2","Field598",null,"lgnd72"]
[null,"DOT2","Field599",null,"lgnd73"]
[null,"DOT2","Field600",null,"lgnd74"]
[null,"DOT2","Field601",null,"lgnd75"]
[null,"DOT2","Field602",null,"lgnd76"]
[null,"DOT2","Field603",null,"lgnd77"]
[null,"DOT2","Field604",null,"lgnd78"]
[null,"DOT2","Field605",null,"lgnd79"]
[null,"DOT2","Field606",null,"lgnd80"]
[null,"DOT2","Field607",null,"lgnd81"]
[null,"DOT2","Field608",null,"lgnd82"]
[null,"DOT2","Field609",null,"lgnd83"]
[null,"DOT2","Field610",null,"lgnd84"]
[null,"DOT2","Field611",null,"lgnd85"]
[null,"DOT2","Field612",null,"lgnd86"]
[null,"DOT2","Field613",null,"lgnd87"]
[null,"DOT2","Field614",null,"lgnd88"]
[null,"DOT2","Field615",null,"lgnd89"]
[null,"DOT2","Field616",null,"lgnd90"]
[null,"DOT2","Field617",null,"lgnd91"]
[null,"DOT2","Field618",null,"lgnd92"]
[null,"DOT2","Field619",null,"lgnd93"]
[null,"DOT2","Field620",null,"lgnd94"]
[null,"DOT2","Field621",null,"lgnd95"]
[null,"DOT2","Field622",null,"lgnd96"]
[null,"DOT2","Field623",null,"lgnd97"]
[null,"DOT2","Field624",null,"lgnd98"]
[null,"DOT2","Field625",null,"lgnd99"]
[null,"DOT2","Field1238",null,"lgnd100"]
[null,"DOT3","Field626",null,"lgnd1"]
[null,"DOT3","Field627",null,"lgnd2"]
[null,"DOT3","Field628",null,"lgnd3"]
[null,"DOT3","Field629",null,"lgnd4"]
[null,"DOT3","Field630",null,"lgnd5"]
[null,"DOT3","Field631",null,"lgnd6"]
[null,"DOT3","Field632",null,"lgnd7"]
[null,"DOT3","Field633",null,"lgnd8"]
[null,"DOT3","Field634",null,"lgnd9"]
[null,"DOT3","Field635",null,"lgnd10"]
[null,"DOT3","Field636",null,"lgnd11"]
[null,"DOT3","Field637",null,"lgnd12"]
[null,"DOT3","Field638",null,"lgnd13"]
[null,"DOT3","Field639",null,"lgnd14"]
[null,"DOT3","Field640",null,"lgnd15"]
[null,"DOT3","Field641",null,"lgnd16"]
[null,"DOT3","Field642",null,"lgnd17"]
[null,"DOT3","Field643",null,"lgnd18"]
[null,"DOT3","Field644",null,"lgnd19"]
[null,"DOT3","Field645",null,"lgnd20"]
[null,"DOT3","Field646",null,"lgnd21"]
[null,"DOT3","Field647",null,"lgnd22"]
[null,"DOT3","Field648",null,"lgnd23"]
[null,"DOT3","Field649",null,"lgnd24"]
[null,"DOT3","Field650",null,"lgnd25"]
[null,"DOT3","Field651",null,"lgnd26"]
[null,"DOT3","Field652",null,"lgnd27"]
[null,"DOT3","Field653",null,"lgnd28"]
[null,"DOT3","Field654",null,"lgnd29"]
[null,"DOT3","Field655",null,"lgnd30"]
[null,"DOT3","Field656",null,"lgnd31"]
[null,"DOT3","Field657",null,"lgnd32"]
[null,"DOT3","Field658",null,"lgnd33"]
[null,"DOT3","Field659",null,"lgnd34"]
[null,"DOT3","Field660",null,"lgnd35"]
[null,"DOT3","Field661",null,"lgnd36"]
[null,"DOT3","Field662",null,"lgnd37"]
[null,"DOT3","Field663",null,"lgnd38"]
[null,"DOT3","Field664",null,"lgnd39"]
[null,"DOT3","Field665",null,"lgnd40"]
[null,"DOT3","Field666",null,"lgnd41"]
[null,"DOT3","Field667",null,"lgnd42"]
[null,"DOT3","Field668",null,"lgnd43"]
[null,"DOT3","Field669",null,"lgnd44"]
[null,"DOT3","Field670",null,"lgnd45"]
[null,"DOT3","Field671",null,"lgnd46"]
[null,"DOT3","Field672",null,"lgnd47"]
[null,"DOT3","Field673",null,"lgnd48"]
[null,"DOT3","Field674",null,"lgnd49"]
[null,"DOT3","Field675",null,"lgnd50"]
[null,"DOT3","Field676",null,"lgnd51"]
[null,"DOT3","Field677",null,"lgnd52"]
[null,"DOT3","Field678",null,"lgnd53"]
[null,"DOT3","Field679",null,"lgnd54"]
[null,"DOT3","Field680",null,"lgnd55"]
[null,"DOT3","Field681",null,"lgnd56"]
[null,"DOT3","Field682",null,"lgnd57"]
[null,"DOT3","Field683",null,"lgnd58"]
[null,"DOT3","Field684",null,"lgnd59"]
[null,"DOT3","Field685",null,"lgnd60"]
[null,"DOT3","Field686",null,"lgnd61"]
[null,"DOT3","Field687",null,"lgnd62"]
[null,"DOT3","Field688",null,"lgnd63"]
[null,"DOT3","Field689",null,"lgnd64"]
[null,"DOT3","Field690",null,"lgnd65"]
[null,"DOT3","Field691",null,"lgnd66"]
[null,"DOT3","Field692",null,"lgnd67"]
[null,"DOT3","Field693",null,"lgnd68"]
[null,"DOT3","Field694",null,"lgnd69"]
[null,"DOT3","Field695",null,"lgnd70"]
[null,"DOT3","Field696",null,"lgnd71"]
[null,"DOT3","Field697",null,"lgnd72"]
[null,"DOT3","Field698",null,"lgnd73"]
[null,"DOT3","Field699",null,"lgnd74"]
[null,"DOT3","Field700",null,"lgnd75"]
[null,"DOT3","Field701",null,"lgnd76"]
[null,"DOT3","Field702",null,"lgnd77"]
[null,"DOT3","Field703",null,"lgnd78"]
[null,"DOT3","Field704",null,"lgnd79"]
[null,"DOT3","Field705",null,"lgnd80"]
[null,"DOT3","Field706",null,"lgnd81"]
[null,"DOT3","Field707",null,"lgnd82"]
[null,"DOT3","Field708",null,"lgnd83"]
[null,"DOT3","Field709",null,"lgnd84"]
[null,"DOT3","Field710",null,"lgnd85"]
[null,"DOT3","Field711",null,"lgnd86"]
[null,"DOT3","Field712",null,"lgnd87"]
[null,"DOT3","Field713",null,"lgnd88"]
[null,"DOT3","Field714",null,"lgnd89"]
[null,"DOT3","Field715",null,"lgnd90"]
[null,"DOT3","Field716",null,"lgnd91"]
[null,"DOT3","Field717",null,"lgnd92"]
[null,"DOT3","Field718",null,"lgnd93"]
[null,"DOT3","Field719",null,"lgnd94"]
[null,"DOT3","Field720",null,"lgnd95"]
[null,"DOT3","Field721",null,"lgnd96"]
[null,"DOT3","Field722",null,"lgnd97"]
[null,"DOT3","Field723",null,"lgnd98"]
[null,"DOT3","Field724",null,"lgnd99"]
[null,"DOT3","Field1239",null,"lgnd100"]
[null,"DOT4","Field725",null,"lgnd1"]
[null,"DOT4","Field726",null,"lgnd2"]
[null,"DOT4","Field727",null,"lgnd3"]
[null,"DOT4","Field728",null,"lgnd4"]
[null,"DOT4","Field729",null,"lgnd5"]
[null,"DOT4","Field730",null,"lgnd6"]
[null,"DOT4","Field731",null,"lgnd7"]
[null,"DOT4","Field732",null,"lgnd8"]
[null,"DOT4","Field733",null,"lgnd9"]
[null,"DOT4","Field734",null,"lgnd10"]
[null,"DOT4","Field735",null,"lgnd11"]
[null,"DOT4","Field736",null,"lgnd12"]
[null,"DOT4","Field737",null,"lgnd13"]
[null,"DOT4","Field738",null,"lgnd14"]
[null,"DOT4","Field739",null,"lgnd15"]
[null,"DOT4","Field740",null,"lgnd16"]
[null,"DOT4","Field741",null,"lgnd17"]
[null,"DOT4","Field742",null,"lgnd18"]
[null,"DOT4","Field743",null,"lgnd19"]
[null,"DOT4","Field744",null,"lgnd20"]
[null,"DOT4","Field745",null,"lgnd21"]
[null,"DOT4","Field746",null,"lgnd22"]
[null,"DOT4","Field747",null,"lgnd23"]
[null,"DOT4","Field748",null,"lgnd24"]
[null,"DOT4","Field749",null,"lgnd25"]
[null,"DOT4","Field750",null,"lgnd26"]
[null,"DOT4","Field751",null,"lgnd27"]
[null,"DOT4","Field752",null,"lgnd28"]
[null,"DOT4","Field753",null,"lgnd29"]
[null,"DOT4","Field754",null,"lgnd30"]
[null,"DOT4","Field755",null,"lgnd31"]
[null,"DOT4","Field756",null,"lgnd32"]
[null,"DOT4","Field757",null,"lgnd33"]
[null,"DOT4","Field758",null,"lgnd34"]
[null,"DOT4","Field759",null,"lgnd35"]
[null,"DOT4","Field760",null,"lgnd36"]
[null,"DOT4","Field761",null,"lgnd37"]
[null,"DOT4","Field762",null,"lgnd38"]
[null,"DOT4","Field763",null,"lgnd39"]
[null,"DOT4","Field764",null,"lgnd40"]
[null,"DOT4","Field765",null,"lgnd41"]
[null,"DOT4","Field766",null,"lgnd42"]
[null,"DOT4","Field767",null,"lgnd43"]
[null,"DOT4","Field768",null,"lgnd44"]
[null,"DOT4","Field769",null,"lgnd45"]
[null,"DOT4","Field770",null,"lgnd46"]
[null,"DOT4","Field771",null,"lgnd47"]
[null,"DOT4","Field772",null,"lgnd48"]
[null,"DOT4","Field773",null,"lgnd49"]
[null,"DOT4","Field774",null,"lgnd50"]
[null,"DOT4","Field775",null,"lgnd51"]
[null,"DOT4","Field776",null,"lgnd52"]
[null,"DOT4","Field777",null,"lgnd53"]
[null,"DOT4","Field778",null,"lgnd54"]
[null,"DOT4","Field779",null,"lgnd55"]
[null,"DOT4","Field780",null,"lgnd56"]
[null,"DOT4","Field781",null,"lgnd57"]
[null,"DOT4","Field782",null,"lgnd58"]
[null,"DOT4","Field783",null,"lgnd59"]
[null,"DOT4","Field784",null,"lgnd60"]
[null,"DOT4","Field785",null,"lgnd61"]
[null,"DOT4","Field786",null,"lgnd62"]
[null,"DOT4","Field787",null,"lgnd63"]
[null,"DOT4","Field788",null,"lgnd64"]
[null,"DOT4","Field789",null,"lgnd65"]
[null,"DOT4","Field790",null,"lgnd66"]
[null,"DOT4","Field791",null,"lgnd67"]
[null,"DOT4","Field792",null,"lgnd68"]
[null,"DOT4","Field793",null,"lgnd69"]
[null,"DOT4","Field794",null,"lgnd70"]
[null,"DOT4","Field795",null,"lgnd71"]
[null,"DOT4","Field796",null,"lgnd72"]
[null,"DOT4","Field797",null,"lgnd73"]
[null,"DOT4","Field798",null,"lgnd74"]
[null,"DOT4","Field799",null,"lgnd75"]
[null,"DOT4","Field800",null,"lgnd76"]
[null,"DOT4","Field801",null,"lgnd77"]
[null,"DOT4","Field802",null,"lgnd78"]
[null,"DOT4","Field803",null,"lgnd79"]
[null,"DOT4","Field804",null,"lgnd80"]
[null,"DOT4","Field805",null,"lgnd81"]
[null,"DOT4","Field806",null,"lgnd82"]
[null,"DOT4","Field807",null,"lgnd83"]
[null,"DOT4","Field808",null,"lgnd84"]
[null,"DOT4","Field809",null,"lgnd85"]
[null,"DOT4","Field810",null,"lgnd86"]
[null,"DOT4","Field811",null,"lgnd87"]
[null,"DOT4","Field812",null,"lgnd88"]
[null,"DOT4","Field813",null,"lgnd89"]
[null,"DOT4","Field814",null,"lgnd90"]
[null,"DOT4","Field815",null,"lgnd91"]
[null,"DOT4","Field816",null,"lgnd92"]
[null,"DOT4","Field817",null,"lgnd93"]
[null,"DOT4","Field818",null,"lgnd94"]
[null,"DOT4","Field819",null,"lgnd95"]
[null,"DOT4","Field820",null,"lgnd96"]
[null,"DOT4","Field821",null,"lgnd97"]
[null,"DOT4","Field822",null,"lgnd98"]
[null,"DOT4","Field823",null,"lgnd99"]
[null,"DOT4","Field1240",null,"lgnd100"]
[null,"CON1","Field824",null,"lgnd1"]
[null,"CON1","Field825",null,"lgnd2"]
[null,"CON1","Field826",null,"lgnd3"]
[null,"CON1","Field827",null,"lgnd4"]
[null,"CON1","Field828",null,"lgnd5"]
[null,"CON1","Field829",null,"lgnd6"]
[null,"CON1","Field830",null,"lgnd7"]
[null,"CON1","Field831",null,"lgnd8"]
[null,"CON1","Field832",null,"lgnd9"]
[null,"CON1","Field833",null,"lgnd10"]
[null,"CON1","Field834",null,"lgnd11"]
[null,"CON1","Field835",null,"lgnd12"]
[null,"CON1","Field836",null,"lgnd13"]
[null,"CON1","Field837",null,"lgnd14"]
[null,"CON1","Field838",null,"lgnd15"]
[null,"CON1","Field839",null,"lgnd16"]
[null,"CON1","Field840",null,"lgnd17"]
[null,"CON1","Field841",null,"lgnd18"]
[null,"CON1","Field842",null,"lgnd19"]
[null,"CON1","Field843",null,"lgnd20"]
[null,"CON1","Field844",null,"lgnd21"]
[null,"CON1","Field845",null,"lgnd22"]
[null,"CON1","Field846",null,"lgnd23"]
[null,"CON1","Field847",null,"lgnd24"]
[null,"CON1","Field848",null,"lgnd25"]
[null,"CON1","Field849",null,"lgnd26"]
[null,"CON1","Field850",null,"lgnd27"]
[null,"CON1","Field851",null,"lgnd28"]
[null,"CON1","Field852",null,"lgnd29"]
[null,"CON1","Field853",null,"lgnd30"]
[null,"CON1","Field854",null,"lgnd31"]
[null,"CON1","Field855",null,"lgnd32"]
[null,"CON1","Field856",null,"lgnd33"]
[null,"CON1","Field857",null,"lgnd34"]
[null,"CON1","Field858",null,"lgnd35"]
[null,"CON1","Field859",null,"lgnd36"]
[null,"CON1","Field860",null,"lgnd37"]
[null,"CON1","Field861",null,"lgnd38"]
[null,"CON1","Field862",null,"lgnd39"]
[null,"CON1","Field863",null,"lgnd40"]
[null,"CON1","Field864",null,"lgnd41"]
[null,"CON1","Field865",null,"lgnd42"]
[null,"CON1","Field866",null,"lgnd43"]
[null,"CON1","Field867",null,"lgnd44"]
[null,"CON1","Field868",null,"lgnd45"]
[null,"CON1","Field869",null,"lgnd46"]
[null,"CON1","Field870",null,"lgnd47"]
[null,"CON1","Field871",null,"lgnd48"]
[null,"CON1","Field872",null,"lgnd49"]
[null,"CON1","Field873",null,"lgnd50"]
[null,"CON1","Field874",null,"lgnd51"]
[null,"CON1","Field875",null,"lgnd52"]
[null,"CON1","Field876",null,"lgnd53"]
[null,"CON1","Field877",null,"lgnd54"]
[null,"CON1","Field878",null,"lgnd55"]
[null,"CON1","Field879",null,"lgnd56"]
[null,"CON1","Field880",null,"lgnd57"]
[null,"CON1","Field881",null,"lgnd58"]
[null,"CON1","Field882",null,"lgnd59"]
[null,"CON1","Field883",null,"lgnd60"]
[null,"CON1","Field884",null,"lgnd61"]
[null,"CON1","Field885",null,"lgnd62"]
[null,"CON1","Field886",null,"lgnd63"]
[null,"CON1","Field887",null,"lgnd64"]
[null,"CON1","Field888",null,"lgnd65"]
[null,"CON1","Field889",null,"lgnd66"]
[null,"CON1","Field890",null,"lgnd67"]
[null,"CON1","Field891",null,"lgnd68"]
[null,"CON1","Field892",null,"lgnd69"]
[null,"CON1","Field893",null,"lgnd70"]
[null,"CON1","Field894",null,"lgnd71"]
[null,"CON1","Field895",null,"lgnd72"]
[null,"CON1","Field896",null,"lgnd73"]
[null,"CON1","Field897",null,"lgnd74"]
[null,"CON1","Field898",null,"lgnd75"]
[null,"CON1","Field899",null,"lgnd76"]
[null,"CON1","Field900",null,"lgnd77"]
[null,"CON1","Field901",null,"lgnd78"]
[null,"CON1","Field902",null,"lgnd79"]
[null,"CON1","Field903",null,"lgnd80"]
[null,"CON1","Field904",null,"lgnd81"]
[null,"CON1","Field905",null,"lgnd82"]
[null,"CON1","Field906",null,"lgnd83"]
[null,"CON1","Field907",null,"lgnd84"]
[null,"CON1","Field908",null,"lgnd85"]
[null,"CON1","Field909",null,"lgnd86"]
[null,"CON1","Field910",null,"lgnd87"]
[null,"CON1","Field911",null,"lgnd88"]
[null,"CON1","Field912",null,"lgnd89"]
[null,"CON1","Field913",null,"lgnd90"]
[null,"CON1","Field914",null,"lgnd91"]
[null,"CON1","Field915",null,"lgnd92"]
[null,"CON1","Field916",null,"lgnd93"]
[null,"CON1","Field917",null,"lgnd94"]
[null,"CON1","Field918",null,"lgnd95"]
[null,"CON1","Field919",null,"lgnd96"]
[null,"CON1","Field920",null,"lgnd97"]
[null,"CON1","Field921",null,"lgnd98"]
[null,"CON1","Field922",null,"lgnd99"]
[null,"CON1","Field1241",null,"lgnd100"]
[null,"CON2","Field923",null,"lgnd1"]
[null,"CON2","Field924",null,"lgnd2"]
[null,"CON2","Field925",null,"lgnd3"]
[null,"CON2","Field926",null,"lgnd4"]
[null,"CON2","Field927",null,"lgnd5"]
[null,"CON2","Field928",null,"lgnd6"]
[null,"CON2","Field929",null,"lgnd7"]
[null,"CON2","Field930",null,"lgnd8"]
[null,"CON2","Field931",null,"lgnd9"]
[null,"CON2","Field932",null,"lgnd10"]
[null,"CON2","Field933",null,"lgnd11"]
[null,"CON2","Field934",null,"lgnd12"]
[null,"CON2","Field935",null,"lgnd13"]
[null,"CON2","Field936",null,"lgnd14"]
[null,"CON2","Field937",null,"lgnd15"]
[null,"CON2","Field938",null,"lgnd16"]
[null,"CON2","Field939",null,"lgnd17"]
[null,"CON2","Field940",null,"lgnd18"]
[null,"CON2","Field941",null,"lgnd19"]
[null,"CON2","Field942",null,"lgnd20"]
[null,"CON2","Field943",null,"lgnd21"]
[null,"CON2","Field944",null,"lgnd22"]
[null,"CON2","Field945",null,"lgnd23"]
[null,"CON2","Field946",null,"lgnd24"]
[null,"CON2","Field947",null,"lgnd25"]
[null,"CON2","Field948",null,"lgnd26"]
[null,"CON2","Field949",null,"lgnd27"]
[null,"CON2","Field950",null,"lgnd28"]
[null,"CON2","Field951",null,"lgnd29"]
[null,"CON2","Field952",null,"lgnd30"]
[null,"CON2","Field953",null,"lgnd31"]
[null,"CON2","Field954",null,"lgnd32"]
[null,"CON2","Field955",null,"lgnd33"]
[null,"CON2","Field956",null,"lgnd34"]
[null,"CON2","Field957",null,"lgnd35"]
[null,"CON2","Field958",null,"lgnd36"]
[null,"CON2","Field959",null,"lgnd37"]
[null,"CON2","Field960",null,"lgnd38"]
[null,"CON2","Field961",null,"lgnd39"]
[null,"CON2","Field962",null,"lgnd40"]
[null,"CON2","Field963",null,"lgnd41"]
[null,"CON2","Field964",null,"lgnd42"]
[null,"CON2","Field965",null,"lgnd43"]
[null,"CON2","Field966",null,"lgnd44"]
[null,"CON2","Field967",null,"lgnd45"]
[null,"CON2","Field968",null,"lgnd46"]
[null,"CON2","Field969",null,"lgnd47"]
[null,"CON2","Field970",null,"lgnd48"]
[null,"CON2","Field971",null,"lgnd49"]
[null,"CON2","Field972",null,"lgnd50"]
[null,"CON2","Field973",null,"lgnd51"]
[null,"CON2","Field974",null,"lgnd52"]
[null,"CON2","Field975",null,"lgnd53"]
[null,"CON2","Field976",null,"lgnd54"]
[null,"CON2","Field977",null,"lgnd55"]
[null,"CON2","Field978",null,"lgnd56"]
[null,"CON2","Field979",null,"lgnd57"]
[null,"CON2","Field980",null,"lgnd58"]
[null,"CON2","Field981",null,"lgnd59"]
[null,"CON2","Field982",null,"lgnd60"]
[null,"CON2","Field983",null,"lgnd61"]
[null,"CON2","Field984",null,"lgnd62"]
[null,"CON2","Field985",null,"lgnd63"]
[null,"CON2","Field986",null,"lgnd64"]
[null,"CON2","Field987",null,"lgnd65"]
[null,"CON2","Field988",null,"lgnd66"]
[null,"CON2","Field989",null,"lgnd67"]
[null,"CON2","Field990",null,"lgnd68"]
[null,"CON2","Field991",null,"lgnd69"]
[null,"CON2","Field992",null,"lgnd70"]
[null,"CON2","Field993",null,"lgnd71"]
[null,"CON2","Field994",null,"lgnd72"]
[null,"CON2","Field995",null,"lgnd73"]
[null,"CON2","Field996",null,"lgnd74"]
[null,"CON2","Field997",null,"lgnd75"]
[null,"CON2","Field998",null,"lgnd76"]
[null,"CON2","Field999",null,"lgnd77"]
[null,"CON2","Field1000",null,"lgnd78"]
[null,"CON2","Field1001",null,"lgnd79"]
[null,"CON2","Field1002",null,"lgnd80"]
[null,"CON2","Field1003",null,"lgnd81"]
[null,"CON2","Field1004",null,"lgnd82"]
[null,"CON2","Field1005",null,"lgnd83"]
[null,"CON2","Field1006",null,"lgnd84"]
[null,"CON2","Field1007",null,"lgnd85"]
[null,"CON2","Field1008",null,"lgnd86"]
[null,"CON2","Field1009",null,"lgnd87"]
[null,"CON2","Field1010",null,"lgnd88"]
[null,"CON2","Field1011",null,"lgnd89"]
[null,"CON2","Field1012",null,"lgnd90"]
[null,"CON2","Field1013",null,"lgnd91"]
[null,"CON2","Field1014",null,"lgnd92"]
[null,"CON2","Field1015",null,"lgnd93"]
[null,"CON2","Field1016",null,"lgnd94"]
[null,"CON2","Field1017",null,"lgnd95"]
[null,"CON2","Field1018",null,"lgnd96"]
[null,"CON2","Field1019",null,"lgnd97"]
[null,"CON2","Field1020",null,"lgnd98"]
[null,"CON2","Field1021",null,"lgnd99"]
[null,"CON2","Field1242",null,"lgnd100"]
[null,"CON3","Field1022",null,"lgnd1"]
[null,"CON3","Field1023",null,"lgnd2"]
[null,"CON3","Field1024",null,"lgnd3"]
[null,"CON3","Field1025",null,"lgnd4"]
[null,"CON3","Field1026",null,"lgnd5"]
[null,"CON3","Field1027",null,"lgnd6"]
[null,"CON3","Field1028",null,"lgnd7"]
[null,"CON3","Field1029",null,"lgnd8"]
[null,"CON3","Field1030",null,"lgnd9"]
[null,"CON3","Field1031",null,"lgnd10"]
[null,"CON3","Field1032",null,"lgnd11"]
[null,"CON3","Field1033",null,"lgnd12"]
[null,"CON3","Field1034",null,"lgnd13"]
[null,"CON3","Field1035",null,"lgnd14"]
[null,"CON3","Field1036",null,"lgnd15"]
[null,"CON3","Field1037",null,"lgnd16"]
[null,"CON3","Field1038",null,"lgnd17"]
[null,"CON3","Field1039",null,"lgnd18"]
[null,"CON3","Field1040",null,"lgnd19"]
[null,"CON3","Field1041",null,"lgnd20"]
[null,"CON3","Field1042",null,"lgnd21"]
[null,"CON3","Field1043",null,"lgnd22"]
[null,"CON3","Field1044",null,"lgnd23"]
[null,"CON3","Field1045",null,"lgnd24"]
[null,"CON3","Field1046",null,"lgnd25"]
[null,"CON3","Field1047",null,"lgnd26"]
[null,"CON3","Field1048",null,"lgnd27"]
[null,"CON3","Field1049",null,"lgnd28"]
[null,"CON3","Field1050",null,"lgnd29"]
[null,"CON3","Field1051",null,"lgnd30"]
[null,"CON3","Field1052",null,"lgnd31"]
[null,"CON3","Field1053",null,"lgnd32"]
[null,"CON3","Field1054",null,"lgnd33"]
[null,"CON3","Field1055",null,"lgnd34"]
[null,"CON3","Field1056",null,"lgnd35"]
[null,"CON3","Field1057",null,"lgnd36"]
[null,"CON3","Field1058",null,"lgnd37"]
[null,"CON3","Field1059",null,"lgnd38"]
[null,"CON3","Field1060",null,"lgnd39"]
[null,"CON3","Field1061",null,"lgnd40"]
[null,"CON3","Field1062",null,"lgnd41"]
[null,"CON3","Field1063",null,"lgnd42"]
[null,"CON3","Field1064",null,"lgnd43"]
[null,"CON3","Field1065",null,"lgnd44"]
[null,"CON3","Field1066",null,"lgnd45"]
[null,"CON3","Field1067",null,"lgnd46"]
[null,"CON3","Field1068",null,"lgnd47"]
[null,"CON3","Field1069",null,"lgnd48"]
[null,"CON3","Field1070",null,"lgnd49"]
[null,"CON3","Field1071",null,"lgnd50"]
[null,"CON3","Field1072",null,"lgnd51"]
[null,"CON3","Field1073",null,"lgnd52"]
[null,"CON3","Field1074",null,"lgnd53"]
[null,"CON3","Field1075",null,"lgnd54"]
[null,"CON3","Field1076",null,"lgnd55"]
[null,"CON3","Field1077",null,"lgnd56"]
[null,"CON3","Field1078",null,"lgnd57"]
[null,"CON3","Field1079",null,"lgnd58"]
[null,"CON3","Field1080",null,"lgnd59"]
[null,"CON3","Field1081",null,"lgnd60"]
[null,"CON3","Field1082",null,"lgnd61"]
[null,"CON3","Field1083",null,"lgnd62"]
[null,"CON3","Field1084",null,"lgnd63"]
[null,"CON3","Field1085",null,"lgnd64"]
[null,"CON3","Field1086",null,"lgnd65"]
[null,"CON3","Field1087",null,"lgnd66"]
[null,"CON3","Field1088",null,"lgnd67"]
[null,"CON3","Field1089",null,"lgnd68"]
[null,"CON3","Field1090",null,"lgnd69"]
[null,"CON3","Field1091",null,"lgnd70"]
[null,"CON3","Field1092",null,"lgnd71"]
[null,"CON3","Field1093",null,"lgnd72"]
[null,"CON3","Field1094",null,"lgnd73"]
[null,"CON3","Field1095",null,"lgnd74"]
[null,"CON3","Field1096",null,"lgnd75"]
[null,"CON3","Field1097",null,"lgnd76"]
[null,"CON3","Field1098",null,"lgnd77"]
[null,"CON3","Field1099",null,"lgnd78"]
[null,"CON3","Field1100",null,"lgnd79"]
[null,"CON3","Field1101",null,"lgnd80"]
[null,"CON3","Field1102",null,"lgnd81"]
[null,"CON3","Field1103",null,"lgnd82"]
[null,"CON3","Field1104",null,"lgnd83"]
[null,"CON3","Field1105",null,"lgnd84"]
[null,"CON3","Field1106",null,"lgnd85"]
[null,"CON3","Field1107",null,"lgnd86"]
[null,"CON3","Field1108",null,"lgnd87"]
[null,"CON3","Field1109",null,"lgnd88"]
[null,"CON3","Field1110",null,"lgnd89"]
[null,"CON3","Field1111",null,"lgnd90"]
[null,"CON3","Field1112",null,"lgnd91"]
[null,"CON3","Field1113",null,"lgnd92"]
[null,"CON3","Field1114",null,"lgnd93"]
[null,"CON3","Field1115",null,"lgnd94"]
[null,"CON3","Field1116",null,"lgnd95"]
[null,"CON3","Field1117",null,"lgnd96"]
[null,"CON3","Field1118",null,"lgnd97"]
[null,"CON3","Field1119",null,"lgnd98"]
[null,"CON3","Field1120",null,"lgnd99"]
[null,"CON3","Field1243",null,"lgnd100"]
[null,"CON4","Field1121",null,"lgnd1"]
[null,"CON4","Field1122",null,"lgnd2"]
[null,"CON4","Field1123",null,"lgnd3"]
[null,"CON4","Field1124",null,"lgnd4"]
[null,"CON4","Field1125",null,"lgnd5"]
[null,"CON4","Field1126",null,"lgnd6"]
[null,"CON4","Field1127",null,"lgnd7"]
[null,"CON4","Field1128",null,"lgnd8"]
[null,"CON4","Field1129",null,"lgnd9"]
[null,"CON4","Field1130",null,"lgnd10"]
[null,"CON4","Field1131",null,"lgnd11"]
[null,"CON4","Field1132",null,"lgnd12"]
[null,"CON4","Field1133",null,"lgnd13"]
[null,"CON4","Field1134",null,"lgnd14"]
[null,"CON4","Field1135",null,"lgnd15"]
[null,"CON4","Field1136",null,"lgnd16"]
[null,"CON4","Field1137",null,"lgnd17"]
[null,"CON4","Field1138",null,"lgnd18"]
[null,"CON4","Field1139",null,"lgnd19"]
[null,"CON4","Field1140",null,"lgnd20"]
[null,"CON4","Field1141",null,"lgnd21"]
[null,"CON4","Field1142",null,"lgnd22"]
[null,"CON4","Field1143",null,"lgnd23"]
[null,"CON4","Field1144",null,"lgnd24"]
[null,"CON4","Field1145",null,"lgnd25"]
[null,"CON4","Field1146",null,"lgnd26"]
[null,"CON4","Field1147",null,"lgnd27"]
[null,"CON4","Field1148",null,"lgnd28"]
[null,"CON4","Field1149",null,"lgnd29"]
[null,"CON4","Field1150",null,"lgnd30"]
[null,"CON4","Field1151",null,"lgnd31"]
[null,"CON4","Field1152",null,"lgnd32"]
[null,"CON4","Field1153",null,"lgnd33"]
[null,"CON4","Field1154",null,"lgnd34"]
[null,"CON4","Field1155",null,"lgnd35"]
[null,"CON4","Field1156",null,"lgnd36"]
[null,"CON4","Field1157",null,"lgnd37"]
[null,"CON4","Field1158",null,"lgnd38"]
[null,"CON4","Field1159",null,"lgnd39"]
[null,"CON4","Field1160",null,"lgnd40"]
[null,"CON4","Field1161",null,"lgnd41"]
[null,"CON4","Field1162",null,"lgnd42"]
[null,"CON4","Field1163",null,"lgnd43"]
[null,"CON4","Field1164",null,"lgnd44"]
[null,"CON4","Field1165",null,"lgnd45"]
[null,"CON4","Field1166",null,"lgnd46"]
[null,"CON4","Field1167",null,"lgnd47"]
[null,"CON4","Field1168",null,"lgnd48"]
[null,"CON4","Field1169",null,"lgnd49"]
[null,"CON4","Field1170",null,"lgnd50"]
[null,"CON4","Field1171",null,"lgnd51"]
[null,"CON4","Field1172",null,"lgnd52"]
[null,"CON4","Field1173",null,"lgnd53"]
[null,"CON4","Field1174",null,"lgnd54"]
[null,"CON4","Field1175",null,"lgnd55"]
[null,"CON4","Field1176",null,"lgnd56"]
[null,"CON4","Field1177",null,"lgnd57"]
[null,"CON4","Field1178",null,"lgnd58"]
[null,"CON4","Field1179",null,"lgnd59"]
[null,"CON4","Field1180",null,"lgnd60"]
[null,"CON4","Field1181",null,"lgnd61"]
[null,"CON4","Field1182",null,"lgnd62"]
[null,"CON4","Field1183",null,"lgnd63"]
[null,"CON4","Field1184",null,"lgnd64"]
[null,"CON4","Field1185",null,"lgnd65"]
[null,"CON4","Field1186",null,"lgnd66"]
[null,"CON4","Field1187",null,"lgnd67"]
[null,"CON4","Field1188",null,"lgnd68"]
[null,"CON4","Field1189",null,"lgnd69"]
[null,"CON4","Field1190",null,"lgnd70"]
[null,"CON4","Field1191",null,"lgnd71"]
[null,"CON4","Field1192",null,"lgnd72"]
[null,"CON4","Field1193",null,"lgnd73"]
[null,"CON4","Field1194",null,"lgnd74"]
[null,"CON4","Field1195",null,"lgnd75"]
[null,"CON4","Field1196",null,"lgnd76"]
[null,"CON4","Field1197",null,"lgnd77"]
[null,"CON4","Field1198",null,"lgnd78"]
[null,"CON4","Field1199",null,"lgnd79"]
[null,"CON4","Field1200",null,"lgnd80"]
[null,"CON4","Field1201",null,"lgnd81"]
[null,"CON4","Field1202",null,"lgnd82"]
[null,"CON4","Field1203",null,"lgnd83"]
[null,"CON4","Field1204",null,"lgnd84"]
[null,"CON4","Field1205",null,"lgnd85"]
[null,"CON4","Field1206",null,"lgnd86"]
[null,"CON4","Field1207",null,"lgnd87"]
[null,"CON4","Field1208",null,"lgnd88"]
[null,"CON4","Field1209",null,"lgnd89"]
[null,"CON4","Field1210",null,"lgnd90"]
[null,"CON4","Field1211",null,"lgnd91"]
[null,"CON4","Field1212",null,"lgnd92"]
[null,"CON4","Field1213",null,"lgnd93"]
[null,"CON4","Field1214",null,"lgnd94"]
[null,"CON4","Field1215",null,"lgnd95"]
[null,"CON4","Field1216",null,"lgnd96"]
[null,"CON4","Field1217",null,"lgnd97"]
[null,"CON4","Field1218",null,"lgnd98"]
[null,"CON4","Field1219",null,"lgnd99"]
[null,"CON4","Field1244",null,"lgnd100"]
[null,"DOT1","Field1309",null,"lgnd101"]
[null,"DOT2","Field1310",null,"lgnd101"]
[null,"DOT3","Field1311",null,"lgnd101"]
[null,"DOT4","Field1312",null,"lgnd101"]
[null,"CON1","Field1313",null,"lgnd101"]
[null,"CON2","Field1314",null,"lgnd101"]
[null,"CON3","Field1315",null,"lgnd101"]
[null,"CON4","Field1316",null,"lgnd101"]

{"sheet":"DATA_TOL","index":14,"n_rows":36,"n_cols":21,"rows_kept":36,"cut":false,"hidden":true,"merged":[[1,17,1,18],[1,2,1,3],[1,8,1,9],[1,10,1,11],[1,12,1,13],[1,14,1,15]]}
[]
[null,null,"MGL",null,null,null,null,null,"DESIGN",null,"JMF"]
[null,"DES","DLO","DHI","TOL","JMF","TCOR","CCOR","LO","HI","LO","HI"]
[1,{"$f":"DESIGN_GRAD!I5","v":0},{"$f":"DESIGN_GRAD!C5","v":""},{"$f":"DESIGN_GRAD!E5","v":""},{"$f":"INDEX(INDIRECT(MIX_NAME),1,11)","v":{"$error":"#REF!"}},{"$f":"DESIGN_GRAD!M5","v":0},{"$f":"DESIGN_GRAD!O5","v":0},{"$f":"DESIGN_GRAD!P5","v":0},{"$f":"IF(N_TRIAL=\"Yes\",C4,IF(OR(C4>100-((100-B4)-E4),D4<100-((100-B4)+E4)),\"O U T\",IF(C4>100-((100-B4)+E4),C4,100-((100-B4)+E4))))","v":{"$error":"#REF!"}},{"$f":"IF(N_TRIAL=\"Yes\",D4,IF(OR(C4>100-((100-B4)-E4),D4<100-((100-B4)+E4)),\"O U T\",IF(D4<100-((100-B4)-E4),D4,100-((100-B4)-E4))))","v":{"$error":"#REF!"}},{"$f":"IF(N_TRIAL=\"Yes\",C4,IF(100-F4-E4<0,0,100-F4-E4))","v":{"$error":"#REF!"}},{"$f":"IF(N_TRIAL=\"Yes\",D4,IF(100-F4+E4<0,0,100-F4+E4))","v":{"$error":"#REF!"}},null,null,null,null,null,null,null,null,{"$f":"DESIGN_GRAD!B5","v":""}]
[2,{"$f":"DESIGN_GRAD!I6","v":0},{"$f":"DESIGN_GRAD!C6","v":""},{"$f":"DESIGN_GRAD!E6","v":""},{"$f":"INDEX(INDIRECT(MIX_NAME),2,11)","v":{"$error":"#REF!"}},{"$f":"DESIGN_GRAD!M6","v":0},{"$f":"DESIGN_GRAD!O6","v":0},{"$f":"DESIGN_GRAD!P6","v":0},{"$f":"IF(N_TRIAL=\"Yes\",C5,IF(OR(C5>F4-((B4-B5)-E5),D5<F4-((B4-B5)+E5)),\"O U T\",IF(C5>F4-((B4-B5)+E5),C5,F4-((B4-B5)+E5))))","v":{"$error":"#REF!"}},{"$f":"IF(N_TRIAL=\"Yes\",D5,IF(OR(C5>F4-((B4-B5)-E5),D5<F4-((B4-B5)+E5)),\"O U T\",IF(D5<F4-((B4-B5)-E5),D5,F4-((B4-B5)-E5))))","v":{"$error":"#REF!"}},{"$f":"IF(N_TRIAL=\"Yes\",C5,IF(AND(F4-F5-E5>=0,F4-F5-E5<=100),F4-F5-E5, IF(F4-F5-E5>100,100,0)))","v":{"$error":"#REF!"}},{"$f":"IF(N_TRIAL=\"Yes\",D5,IF(AND(F4-F5+E5>=0,F4-F5+E5<=100),F4-F5+E5, IF(F4-F5+E5>100,100,0)))","v":{"$error":"#REF!"}},null,null,null,null,null,null,null,null,{"$f":"DESIGN_GRAD!B6","v":""}]
[3,{"$f":"DESIGN_GRAD!I7","v":0},{"$f":"DESIGN_GRAD!C7","v":""},{"$f":"DESIGN_GRAD!E7","v":""},{"$f":"INDEX(INDIRECT(MIX_NAME),3,11)","v":{"$error":"#REF!"}},{"$f":"DESIGN_GRAD!M7","v":0},{"$f":"DESIGN_GRAD!O7","v":0},{"$f":"DESIGN_GRAD!P7","v":0},{"$error":"#REF!"},{"$error":"#REF!"},{"$error":"#REF!"},{"$error":"#REF!"},null,null,null,null,null,null,null,null,{"$f":"DESIGN_GRAD!B7","v":""}]
[4,{"$f":"DESIGN_GRAD!I8","v":0},{"$f":"DESIGN_GRAD!C8","v":""},{"$f":"DESIGN_GRAD!E8","v":""},{"$f":"INDEX(INDIRECT(MIX_NAME),4,11)","v":{"$error":"#REF!"}},{"$f":"DESIGN_GRAD!M8","v":0},{"$f":"DESIGN_GRAD!O8","v":0},{"$f":"DESIGN_GRAD!P8","v":0},{"$error":"#REF!"},{"$error":"#REF!"},{"$error":"#REF!"},{"$error":"#REF!"},null,null,null,null,null,null,null,null,{"$f":"DESIGN_GRAD!B8","v":""}]
[5,{"$f":"DESIGN_GRAD!I9","v":0},{"$f":"DESIGN_GRAD!C9","v":""},{"$f":"DESIGN_GRAD!E9","v":""},{"$f":"INDEX(INDIRECT(MIX_NAME),5,11)","v":{"$error":"#REF!"}},{"$f":"DESIGN_GRAD!M9","v":0},{"$f":"DESIGN_GRAD!O9","v":0},{"$f":"DESIGN_GRAD!P9","v":0},{"$error":"#REF!"},{"$error":"#REF!"},{"$error":"#REF!"},{"$error":"#REF!"},null,null,null,null,null,null,null,null,{"$f":"DESIGN_GRAD!B9","v":""}]
[6,{"$f":"DESIGN_GRAD!I10","v":0},{"$f":"DESIGN_GRAD!C10","v":""},{"$f":"DESIGN_GRAD!E10","v":""},{"$f":"INDEX(INDIRECT(MIX_NAME),6,11)","v":{"$error":"#REF!"}},{"$f":"DESIGN_GRAD!M10","v":0},{"$f":"DESIGN_GRAD!O10","v":0},{"$f":"DESIGN_GRAD!P10","v":0},{"$error":"#REF!"},{"$error":"#REF!"},{"$error":"#REF!"},{"$error":"#REF!"},null,null,null,null,null,null,null,null,{"$f":"DESIGN_GRAD!B10","v":""}]
[7,{"$f":"DESIGN_GRAD!I11","v":0},{"$f":"DESIGN_GRAD!C11","v":""},{"$f":"DESIGN_GRAD!E11","v":""},{"$f":"INDEX(INDIRECT(MIX_NAME),7,11)","v":{"$error":"#REF!"}},{"$f":"DESIGN_GRAD!M11","v":0},{"$f":"DESIGN_GRAD!O11","v":0},{"$f":"DESIGN_GRAD!P11","v":0},{"$error":"#REF!"},{"$error":"#REF!"},{"$error":"#REF!"},{"$error":"#REF!"},null,null,null,null,null,null,null,null,{"$f":"DESIGN_GRAD!B11","v":""}]
[8,{"$f":"DESIGN_GRAD!I12","v":0},{"$f":"DESIGN_GRAD!C12","v":""},{"$f":"DESIGN_GRAD!E12","v":""},{"$f":"INDEX(INDIRECT(MIX_NAME),8,11)","v":{"$error":"#REF!"}},{"$f":"DESIGN_GRAD!M12","v":0},{"$f":"DESIGN_GRAD!O12","v":0},{"$f":"DESIGN_GRAD!P12","v":0},{"$error":"#REF!"},{"$error":"#REF!"},{"$error":"#REF!"},{"$error":"#REF!"},null,null,null,null,null,null,null,null,{"$f":"DESIGN_GRAD!B12","v":""}]
[9,{"$f":"DESIGN_GRAD!I13","v":0},{"$f":"DESIGN_GRAD!C13","v":""},{"$f":"DESIGN_GRAD!E13","v":""},{"$f":"INDEX(INDIRECT(MIX_NAME),9,11)","v":{"$error":"#REF!"}},{"$f":"DESIGN_GRAD!M13","v":0},{"$f":"DESIGN_GRAD!O13","v":0},{"$f":"DESIGN_GRAD!P13","v":0},{"$error":"#REF!"},{"$error":"#REF!"},{"$error":"#REF!"},{"$error":"#REF!"},null,null,null,null,null,null,null,null,{"$f":"DESIGN_GRAD!B13","v":""}]
[10,{"$f":"DESIGN_GRAD!I14","v":0},{"$f":"DESIGN_GRAD!C14","v":""},{"$f":"DESIGN_GRAD!E14","v":""},{"$f":"INDEX(INDIRECT(MIX_NAME),10,11)","v":{"$error":"#REF!"}},{"$f":"DESIGN_GRAD!M14","v":0},{"$f":"DESIGN_GRAD!O14","v":0},{"$f":"DESIGN_GRAD!P14","v":0},{"$error":"#REF!"},{"$error":"#REF!"},{"$error":"#REF!"},{"$error":"#REF!"},null,null,null,null,null,null,null,null,{"$f":"DESIGN_GRAD!B14","v":""}]
[null,null,null,null,{"$f":"INDEX(INDIRECT(MIX_NAME),1,13)","v":{"$error":"#REF!"}},{"$f":"SMALL(F4:F13,COUNTIF(F4:F13,0)+1)","v":{"$error":"#NUM!"}},null,null,null,null,{"$f":"IF(N_TRIAL=\"Yes\",0,F14-E14)","v":{"$error":"#NUM!"}},{"$f":"IF(N_TRIAL=\"Yes\",0,F14+E14)","v":{"$error":"#NUM!"}}]
[]
[]
[]
[]
[null,null,null,null,null,null,null,null,null,null,null,null,null,null,null,null,null,{"$f":"INDEX(CHK_TBWC,MIX_ID)","v":{"$error":"#N/A"}}]
[]
[]
[]
[]
[]
[null,null,null,null,null,null,"Density Tolerence",null,null,null,null,null,null,null,null,null,"Dust/Binder Tolerance"]
[null,null,null,null,null,1,2,3,null,null,null,null,null,null,null,null,1,2,3]
[null,null,null,null,null,null,"max","min",null,null,null,null,null,null,null,null,null,"min","max"]
[null,null,null,null,null,null,null,null,{"$f":"IF(VLOOKUP(IFERROR(VALUE(MIX_ITEM),MIX_ITEM & \"\"),F28:H36,2,0)=0,\"\",VLOOKUP(IFERROR(VALUE(MIX_ITEM),MIX_ITEM),F28:H36,2,0))","v":{"$error":"#N/A"}},{"$f":"IF(VLOOKUP(IFERROR(VALUE(MIX_ITEM),MIX_ITEM),F28:H36,3,0)=0,\"\",VLOOKUP(IFERROR(VALUE(MIX_ITEM),MIX_ITEM),F28:H36,3,0))","v":{"$error":"#N/A"}},null,null,null,null,null,null,null,null,null,{"$f":"VLOOKUP(IFERROR(VALUE(MIX_ITEM),MIX_ITEM),Q28:S36,2,0)","v":{"$error":"#N/A"}},{"$f":"VLOOKUP(IFERROR(VALUE(MIX_ITEM),MIX_ITEM),Q28:S36,3,0)","v":{"$error":"#N/A"}}]
[null,null,null,null,null,341,97,95,null,null,null,null,null,null,null,null,341,0,100]
[null,null,null,null,null,342,{"$f":"IFERROR(INDEX(INDIRECT(MIX_NAME),1,21),\"\")","v":""},{"$f":"IFERROR(INDEX(INDIRECT(MIX_NAME),1,20),\"\")","v":""},null,null,null,null,null,null,null,null,342,0,100]
[null,null,null,null,null,344,97,95,null,null,null,null,null,null,null,null,344,0.6,1.4]
[null,null,null,null,null,346,97,95,null,null,null,null,null,null,null,null,346,0,100]
[null,null,null,null,null,347,98,{"$f":"95","v":95},null,null,null,null,null,null,null,null,347,0,100]
[null,null,null,null,null,348,{"$f":"IFERROR(INDEX(INDIRECT(MIX_NAME),1,21),\"\")","v":""},{"$f":"IFERROR(INDEX(INDIRECT(MIX_NAME),1,20),\"\")","v":""},null,null,null,null,null,null,null,null,348,0,100]
[null,null,null,null,null,3074,97,95,null,null,null,null,null,null,null,null,3074,0.6,1.6]
[null,null,null,null,null,"SSC",99,96.5,null,null,null,null,null,null,null,null,"SSC",0,1.4]

{"sheet":"WORK_GRAD","index":15,"n_rows":25,"n_cols":35,"rows_kept":25,"cut":false,"hidden":true,"merged":[[0,1,0,11],[6,11,7,11],[6,12,7,12],[7,7,7,9],[1,1,1,9],[2,1,2,9],[3,1,3,5],[4,1,4,5],[5,1,5,5],[3,11,3,12]]}
[null,{"$f":"header","v":"SAMPLE ID:    ______________________________    SAMPLED DATE: ___________________________\nLOT NUMBER:    _____________________________    LETTING DATE: ___________________________\nSAMPLE STATUS:    __________________________    CONTROLLING CSJ: ________________________\nCOUNTY:    _________________________________    SPEC YEAR: ______________________________\nSAMPLED BY:    __________________________________    SPEC ITEM: ______________________________\nSAMPLE LOCATION:    ________________________    SPECIAL PROVISION: ______________________\nMATERIAL CODE:    __________________________    MIX TYPE: _______________________________\nMATERIAL NAME: __________________________________________________________________\nPRODUCER: _______________________________________________________________________\nAREA ENGINEER:    __________________________    PROJECT MANAGER: _____________________________\nCOURSE\\LIFT:    __________________    STATION: ______________________    DIST. FROM CL: ______\n"}]
[null,{"$f":"LEFT(REPLACE(CELL(\"filename\",A1),1,FIND(\"]\",CELL(\"filename\",A1)),\"\"),4) &  \" GRADATION OF EXTRACTED AGGREGATE: Tex-200-F\"","v":"WORK GRADATION OF EXTRACTED AGGREGATE: Tex-200-F"}]
[null,{"$f":"\"Method: \" & GRAD_METHOD","v":"Method: "}]
[null,{"$f":"IF(GRAD_METHOD=\"Belt sample\",\"Belt sample original dry weight, g:\",\"Ignited sample original dry weight, g:\")","v":"Ignited sample original dry weight, g:"},null,null,null,null,null,null,null,null,null,"TOLERANCES"]
[null,"Dry weight after washing, g:"]
[null,"Sieve analysis:",null,null,null,null,"Individual",null,null,null,null,"Gradation","RZ"]
[null,null,null,null,{"$f":"IF(LEFT(B2,1)=\"T\",IF(COUNT(DES_IG_CF_T)>0,\"*Adjusted\",\"\"),IF(COUNT(DES_IG_CF_C)>0,\"*Adjusted\",\"\"))","v":""},{"$f":"E7","v":""},{"$f":"F7","v":""},null,null,null,null,"JMF","Current JMF"]
[null,"Sieve Size",{"$f":"IF(G6=\"Cumulative\",\"Cumulative\",\"Individual\") & \" weight retained, g\"","v":"Individual weight retained, g"},{"$f":"IF(G6=\"Cumulative\",\"Individual\",\"Cumulative\") & \" weight retained, g\"","v":"Cumulative weight retained, g"},"Individual percent retained, %","Cumulative percent retained, %","Cumulative percent passing, %",{"$f":"IF(N_TRIAL=\"Yes\",\"JMF cumulative percentage limits\",\"JMF individual retained limits\")","v":"JMF individual retained limits"}]
[null,{"$f":"IFERROR(DESIGN_GRAD!B5,\"\")","v":""},null,{"$f":"IF(ISBLANK(C9),\"\",C9)","v":""},{"$f":"IF(ISERROR(100-G9),\"\",100-G9)","v":""},{"$f":"IF(ISERROR(E9),\"\",E9)","v":""},{"$f":"IF(ISBLANK(C9),\"\",Q9)","v":""},{"$f":"IF(ISBLANK(C9),\"\",DATA_TOL!K4)","v":""},{"$f":"IF(LEN(H9)>0,\"-\",\"\")","v":""},{"$f":"IF(ISBLANK(C9),\"\",DATA_TOL!L4)","v":""},null,{"$f":"IF(AND(LEN(C9)>0,NOT(N_TRIAL=\"Yes\"),IF(MIX_NAME=\"HMA\",FALSE,INDEX(CHK_MGL,MIX_ID))),IF(AND(G9>=$Y$9,G9<=$Z$9,E9>=H9,E9<=J9),1,0),IF(AND(LEN(C9)>0,IF(MIX_NAME=\"HMA\",FALSE,INDEX(CHK_MGL200,MIX_ID)),B9=\"#200\",N_TRIAL=\"Yes\"),IF(AND(G9>=$Y$19,G9<=$Z$19),1,0),IF(AND(LEN(C9)>0,IF(MIX_NAME=\"HMA\",FALSE,INDEX(CHK_MGL200,MIX_ID)),B9=\"#200\"),IF(AND(G9>=$Y$19,G9<=$Z$19,E9>=H9,E9<=J9),1,0),IF(LEN(E9)=0,\"\",IF(N_TRIAL=\"Yes\",IF(AND(G9>=H9,G9<=J9),1,0),IF(AND(E9>=H9,E9<=J9),1,0))))))","v":""},{"$f":"IFERROR(IF(AND(AI9,C9<>\"\"),IF(AND(G9>=DESIGN_GRAD!F5,G9<=DESIGN_GRAD!H5),0,1),\"\"),\"\")","v":""},{"$f":"IF(AND(LEN(C9)>0,NOT(N_TRIAL=\"Yes\")),IF(OR(INDEX(CHK_MGL,MIX_ID),AND(IF(MIX_NAME=\"HMA\",FALSE,INDEX(CHK_MGL200,MIX_ID)),B9=\"#200\")),IF(AND(OR(G9<Y9,G9>Z9),OR(E9<H9,E9>J9)),\"% retained fails JMF target & % passing fails MGL\",IF(OR(G9<Y9,G9>Z9),\"% passing fails MGL\",IF(OR(E9<H9,E9>J9),\"% retained fails JMF target\",\"\"))),IF(OR(E9<H9,E9>J9),\"% retained fails JMF target\",\"\")),\"\")","v":""},null,{"$f":"ROUND(O9+100-IF($G$6=\"Cumulative\",C9,D9)/$C$22*100,1)","v":{"$error":"#VALUE!"}},{"$f":"P9","v":{"$error":"#VALUE!"}},null,{"$f":"INDEX(INDIRECT(MIX_NAME),1,25)","v":{"$error":"#REF!"}},{"$f":"IFERROR(S9*G9/100,\"\")","v":""},null,null,null,null,{"$f":"DESIGN_GRAD!C5","v":""},{"$f":"DESIGN_GRAD!E5","v":""},null,null,null,null,null,null,1,{"$f":"IF(LEN(INDEX(INDIRECT(MIX_NAME),AG9,2))>0,-1,0)","v":{"$error":"#REF!"}},{"$f":"IF(LEN(INDEX(INDIRECT(MIX_NAME),AG9,9))>0,-1,0)","v":{"$error":"#REF!"}}]
[null,{"$f":"IFERROR(DESIGN_GRAD!B6,\"\")","v":""},null,{"$f":"IF(ISBLANK(C10),\"\",IF($G$6=\"Cumulative\",(C10-SUM(D$9:D9)),SUM(C$9:C10)))","v":""},{"$f":"IF(ISERROR(G9-G10),\"\",G9-G10)","v":""},{"$f":"IF(ISERROR(F9+E10),\"\",F9+E10)","v":""},"",{"$f":"IF(ISBLANK(C10),\"\",DATA_TOL!K5)","v":""},"",{"$f":"IF(ISBLANK(C10),\"\",DATA_TOL!L5)","v":""},null,{"$f":"IF(AND(LEN(C10)>0,NOT(N_TRIAL=\"Yes\"),IF(MIX_NAME=\"HMA\",FALSE,INDEX(CHK_MGL,MIX_ID))),IF(AND(G10>=$Y$10,G10<=$Z$10,E10>=H10,E10<=J10),1,0),IF(AND(LEN(C10)>0,IF(MIX_NAME=\"HMA\",FALSE,INDEX(CHK_MGL200,MIX_ID)),B10=\"#200\",N_TRIAL=\"Yes\"),IF(AND(G10>=$Y$19,G10<=$Z$19),1,0),IF(AND(LEN(C10)>0,IF(MIX_NAME=\"HMA\",FALSE,INDEX(CHK_MGL200,MIX_ID)),B10=\"#200\"),IF(AND(G10>=$Y$19,G10<=$Z$19,E10>=H10,E10<=J10),1,0),IF(LEN(E10)=0,\"\",IF(N_TRIAL=\"Yes\",IF(AND(G10>=H10,G10<=J10),1,0),IF(AND(E10>=H10,E10<=J10),1,0))))))","v":""},{"$f":"IFERROR(IF(AND(AI10,C10<>\"\"),IF(AND(G10>=DESIGN_GRAD!F6,G10<=DESIGN_GRAD!H6),0,1),\"\"),\"\")","v":""},"",{"$f":"IF(LEFT($B$2,1)=\"C\",DESIGN_GRAD!P6,DESIGN_GRAD!O6)","v":0},{"$error":"#VALUE!"},{"$f":"MIN(Q9,P10)","v":{"$error":"#VALUE!"}},null,{"$f":"INDEX(INDIRECT(MIX_NAME),2,25)","v":{"$error":"#REF!"}},"",null,null,null,null,{"$f":"DESIGN_GRAD!C6","v":""},{"$f":"DESIGN_GRAD!E6","v":""},null,null,null,null,null,null,2,{"$error":"#REF!"},{"$error":"#REF!"}]
[null,{"$f":"IFERROR(DESIGN_GRAD!B7,\"\")","v":""},null,{"$f":"IF(ISBLANK(C11),\"\",IF($G$6=\"Cumulative\",(C11-SUM(D$9:D10)),SUM(C$9:C11)))","v":""},{"$f":"IF(ISERROR(G10-G11),\"\",G10-G11)","v":""},"","",{"$f":"IF(ISBLANK(C11),\"\",DATA_TOL!K6)","v":""},"",{"$f":"IF(ISBLANK(C11),\"\",DATA_TOL!L6)","v":""},null,{"$f":"IF(AND(LEN(C11)>0,NOT(N_TRIAL=\"Yes\"),IF(MIX_NAME=\"HMA\",FALSE,INDEX(CHK_MGL,MIX_ID))),IF(AND(G11>=$Y$11,G11<=$Z$11,E11>=H11,E11<=J11),1,0),IF(AND(LEN(C11)>0,IF(MIX_NAME=\"HMA\",FALSE,INDEX(CHK_MGL200,MIX_ID)),B11=\"#200\",N_TRIAL=\"Yes\"),IF(AND(G11>=$Y$19,G11<=$Z$19),1,0),IF(AND(LEN(C11)>0,IF(MIX_NAME=\"HMA\",FALSE,INDEX(CHK_MGL200,MIX_ID)),B11=\"#200\"),IF(AND(G11>=$Y$19,G11<=$Z$19,E11>=H11,E11<=J11),1,0),IF(LEN(E11)=0,\"\",IF(N_TRIAL=\"Yes\",IF(AND(G11>=H11,G11<=J11),1,0),IF(AND(E11>=H11,E11<=J11),1,0))))))","v":""},{"$f":"IFERROR(IF(AND(AI11,C11<>\"\"),IF(AND(G11>=DESIGN_GRAD!F7,G11<=DESIGN_GRAD!H7),0,1),\"\"),\"\")","v":""},"",{"$f":"IF(LEFT($B$2,1)=\"C\",DESIGN_GRAD!P7,DESIGN_GRAD!O7)","v":0},{"$error":"#VALUE!"},{"$f":"MIN(Q10,P11)","v":{"$error":"#VALUE!"}},null,{"$f":"INDEX(INDIRECT(MIX_NAME),3,25)","v":{"$error":"#REF!"}},"",null,null,null,null,{"$f":"DESIGN_GRAD!C7","v":""},{"$f":"DESIGN_GRAD!E7","v":""},null,null,null,null,null,null,3,{"$error":"#REF!"},{"$error":"#REF!"}]
[null,{"$f":"IFERROR(DESIGN_GRAD!B8,\"\")","v":""},null,{"$f":"IF(ISBLANK(C12),\"\",IF($G$6=\"Cumulative\",(C12-SUM(D$9:D11)),SUM(C$9:C12)))","v":""},"","","",{"$f":"IF(ISBLANK(C12),\"\",DATA_TOL!K7)","v":""},"",{"$f":"IF(ISBLANK(C12),\"\",DATA_TOL!L7)","v":""},null,{"$f":"IF(AND(LEN(C12)>0,NOT(N_TRIAL=\"Yes\"),IF(MIX_NAME=\"HMA\",FALSE,INDEX(CHK_MGL,MIX_ID))),IF(AND(G12>=$Y$12,G12<=$Z$12,E12>=H12,E12<=J12),1,0),IF(AND(LEN(C12)>0,IF(MIX_NAME=\"HMA\",FALSE,INDEX(CHK_MGL200,MIX_ID)),B12=\"#200\",N_TRIAL=\"Yes\"),IF(AND(G12>=$Y$19,G12<=$Z$19),1,0),IF(AND(LEN(C12)>0,IF(MIX_NAME=\"HMA\",FALSE,INDEX(CHK_MGL200,MIX_ID)),B12=\"#200\"),IF(AND(G12>=$Y$19,G12<=$Z$19,E12>=H12,E12<=J12),1,0),IF(LEN(E12)=0,\"\",IF(N_TRIAL=\"Yes\",IF(AND(G12>=H12,G12<=J12),1,0),IF(AND(E12>=H12,E12<=J12),1,0))))))","v":""},{"$f":"IFERROR(IF(AND(AI12,C12<>\"\"),IF(AND(G12>=DESIGN_GRAD!F8,G12<=DESIGN_GRAD!H8),0,1),\"\"),\"\")","v":""},"",{"$f":"IF(LEFT($B$2,1)=\"C\",DESIGN_GRAD!P8,DESIGN_GRAD!O8)","v":0},{"$error":"#VALUE!"},{"$error":"#VALUE!"},null,{"$f":"INDEX(INDIRECT(MIX_NAME),4,25)","v":{"$error":"#REF!"}},"",null,null,null,null,{"$f":"DESIGN_GRAD!C8","v":""},{"$f":"DESIGN_GRAD!E8","v":""},null,null,null,null,null,null,4,{"$error":"#REF!"},{"$error":"#REF!"}]
[null,{"$f":"IFERROR(DESIGN_GRAD!B9,\"\")","v":""},null,{"$f":"IF(ISBLANK(C13),\"\",IF($G$6=\"Cumulative\",(C13-SUM(D$9:D12)),SUM(C$9:C13)))","v":""},"","","",{"$f":"IF(ISBLANK(C13),\"\",DATA_TOL!K8)","v":""},"",{"$f":"IF(ISBLANK(C13),\"\",DATA_TOL!L8)","v":""},null,{"$f":"IF(AND(LEN(C13)>0,NOT(N_TRIAL=\"Yes\"),IF(MIX_NAME=\"HMA\",FALSE,INDEX(CHK_MGL,MIX_ID))),IF(AND(G13>=$Y$13,G13<=$Z$13,E13>=H13,E13<=J13),1,0),IF(AND(LEN(C13)>0,IF(MIX_NAME=\"HMA\",FALSE,INDEX(CHK_MGL200,MIX_ID)),B13=\"#200\",N_TRIAL=\"Yes\"),IF(AND(G13>=$Y$19,G13<=$Z$19),1,0),IF(AND(LEN(C13)>0,IF(MIX_NAME=\"HMA\",FALSE,INDEX(CHK_MGL200,MIX_ID)),B13=\"#200\"),IF(AND(G13>=$Y$19,G13<=$Z$19,E13>=H13,E13<=J13),1,0),IF(LEN(E13)=0,\"\",IF(N_TRIAL=\"Yes\",IF(AND(G13>=H13,G13<=J13),1,0),IF(AND(E13>=H13,E13<=J13),1,0))))))","v":""},{"$f":"IFERROR(IF(AND(AI13,C13<>\"\"),IF(AND(G13>=DESIGN_GRAD!F9,G13<=DESIGN_GRAD!H9),0,1),\"\"),\"\")","v":""},"",{"$f":"IF(LEFT($B$2,1)=\"C\",DESIGN_GRAD!P9,DESIGN_GRAD!O9)","v":0},{"$error":"#VALUE!"},{"$error":"#VALUE!"},null,{"$f":"INDEX(INDIRECT(MIX_NAME),5,25)","v":{"$error":"#REF!"}},"",null,null,null,null,{"$f":"DESIGN_GRAD!C9","v":""},{"$f":"DESIGN_GRAD!E9","v":""},null,null,null,null,null,null,5,{"$error":"#REF!"},{"$error":"#REF!"}]
[null,{"$f":"IFERROR(DESIGN_GRAD!B10,\"\")","v":""},null,{"$f":"IF(ISBLANK(C14),\"\",IF($G$6=\"Cumulative\",(C14-SUM(D$9:D13)),SUM(C$9:C14)))","v":""},"","","",{"$f":"IF(ISBLANK(C14),\"\",DATA_TOL!K9)","v":""},"",{"$f":"IF(ISBLANK(C14),\"\",DATA_TOL!L9)","v":""},null,{"$f":"IF(AND(LEN(C14)>0,NOT(N_TRIAL=\"Yes\"),IF(MIX_NAME=\"HMA\",FALSE,INDEX(CHK_MGL,MIX_ID))),IF(AND(G14>=$Y$14,G14<=$Z$14,E14>=H14,E14<=J14),1,0),IF(AND(,LEN(C14)>0,IF(MIX_NAME=\"HMA\",FALSE,INDEX(CHK_MGL200,MIX_ID)),B14=\"#200\",N_TRIAL=\"Yes\"),IF(AND(G14>=$Y$19,G14<=$Z$19),1,0),IF(AND(,LEN(C14)>0,IF(MIX_NAME=\"HMA\",FALSE,INDEX(CHK_MGL200,MIX_ID)),B14=\"#200\"),IF(AND(G14>=$Y$19,G14<=$Z$19,E14>=H14,E14<=J14),1,0),IF(LEN(E14)=0,\"\",IF(N_TRIAL=\"Yes\",IF(AND(G14>=H14,G14<=J14),1,0),IF(AND(E14>=H14,E14<=J14),1,0))))))","v":""},{"$f":"IFERROR(IF(AND(AI14,C14<>\"\"),IF(AND(G14>=DESIGN_GRAD!F10,G14<=DESIGN_GRAD!H10),0,1),\"\"),\"\")","v":""},"",{"$f":"IF(LEFT($B$2,1)=\"C\",DESIGN_GRAD!P10,DESIGN_GRAD!O10)","v":0},{"$error":"#VALUE!"},{"$error":"#VALUE!"},null,{"$f":"INDEX(INDIRECT(MIX_NAME),6,25)","v":{"$error":"#REF!"}},"",null,null,null,null,{"$f":"DESIGN_GRAD!C10","v":""},{"$f":"DESIGN_GRAD!E10","v":""},null,null,null,null,null,null,6,{"$error":"#REF!"},{"$error":"#REF!"}]
[null,{"$f":"IFERROR(DESIGN_GRAD!B11,\"\")","v":""},null,{"$f":"IF(ISBLANK(C15),\"\",IF($G$6=\"Cumulative\",(C15-SUM(D$9:D14)),SUM(C$9:C15)))","v":""},"","","",{"$f":"IF(ISBLANK(C15),\"\",DATA_TOL!K10)","v":""},"",{"$f":"IF(ISBLANK(C15),\"\",DATA_TOL!L10)","v":""},null,{"$f":"IF(AND(LEN(C15)>0,NOT(N_TRIAL=\"Yes\"),IF(MIX_NAME=\"HMA\",FALSE,INDEX(CHK_MGL,MIX_ID))),IF(AND(G15>=$Y$15,G15<=$Z$15,E15>=H15,E15<=J15),1,0),IF(AND(LEN(C15)>0,IF(MIX_NAME=\"HMA\",FALSE,INDEX(CHK_MGL200,MIX_ID)),B15=\"#200\",N_TRIAL=\"Yes\"),IF(AND(G15>=$Y$19,G15<=$Z$19),1,0),IF(AND(LEN(C15)>0,IF(MIX_NAME=\"HMA\",FALSE,INDEX(CHK_MGL200,MIX_ID)),B15=\"#200\"),IF(AND(G15>=$Y$19,G15<=$Z$19,E15>=H15,E15<=J15),1,0),IF(LEN(E15)=0,\"\",IF(N_TRIAL=\"Yes\",IF(AND(G15>=H15,G15<=J15),1,0),IF(AND(E15>=H15,E15<=J15),1,0))))))","v":""},{"$f":"IFERROR(IF(AND(AI15,C15<>\"\"),IF(AND(G15>=DESIGN_GRAD!F11,G15<=DESIGN_GRAD!H11),0,1),\"\"),\"\")","v":""},"",{"$f":"IF(LEFT($B$2,1)=\"C\",DESIGN_GRAD!P11,DESIGN_GRAD!O11)","v":0},{"$error":"#VALUE!"},{"$error":"#VALUE!"},null,{"$f":"INDEX(INDIRECT(MIX_NAME),7,25)","v":{"$error":"#REF!"}},"",null,null,null,null,{"$f":"DESIGN_GRAD!C11","v":""},{"$f":"DESIGN_GRAD!E11","v":""},null,null,null,null,null,null,7,{"$error":"#REF!"},{"$error":"#REF!"}]
[null,{"$f":"IFERROR(DESIGN_GRAD!B12,\"\")","v":""},null,{"$f":"IF(ISBLANK(C16),\"\",IF($G$6=\"Cumulative\",(C16-SUM(D$9:D15)),SUM(C$9:C16)))","v":""},"","","",{"$f":"IF(ISBLANK(C16),\"\",DATA_TOL!K11)","v":""},"",{"$f":"IF(ISBLANK(C16),\"\",DATA_TOL!L11)","v":""},null,{"$f":"IF(AND(LEN(C16)>0,NOT(N_TRIAL=\"Yes\"),IF(MIX_NAME=\"HMA\",FALSE,INDEX(CHK_MGL,MIX_ID))),IF(AND(G16>=$Y$16,G16<=$Z$16,E16>=H16,E16<=J16),1,0),IF(AND(LEN(C16)>0,IF(MIX_NAME=\"HMA\",FALSE,INDEX(CHK_MGL200,MIX_ID)),B16=\"#200\",N_TRIAL=\"Yes\"),IF(AND(G16>=$Y$19,G16<=$Z$19),1,0),IF(AND(LEN(C16)>0,IF(MIX_NAME=\"HMA\",FALSE,INDEX(CHK_MGL200,MIX_ID)),B16=\"#200\"),IF(AND(G16>=$Y$19,G16<=$Z$19,E16>=H16,E16<=J16),1,0),IF(LEN(E16)=0,\"\",IF(N_TRIAL=\"Yes\",IF(AND(G16>=H16,G16<=J16),1,0),IF(AND(E16>=H16,E16<=J16),1,0))))))","v":""},{"$f":"IFERROR(IF(AND(AI16,C16<>\"\"),IF(AND(G16>=DESIGN_GRAD!F12,G16<=DESIGN_GRAD!H12),0,1),\"\"),\"\")","v":""},"",{"$f":"IF(LEFT($B$2,1)=\"C\",DESIGN_GRAD!P12,DESIGN_GRAD!O12)","v":0},{"$error":"#VALUE!"},{"$error":"#VALUE!"},null,{"$f":"INDEX(INDIRECT(MIX_NAME),8,25)","v":{"$error":"#REF!"}},"",null,null,null,null,{"$f":"DESIGN_GRAD!C12","v":""},{"$f":"DESIGN_GRAD!E12","v":""},null,null,null,null,null,null,8,{"$error":"#REF!"},{"$error":"#REF!"}]
[null,{"$f":"IFERROR(DESIGN_GRAD!B13,\"\")","v":""},null,{"$f":"IF(C17=\"\",\"\",IF($G$6=\"Cumulative\",(C17-SUM(D$9:D16)),SUM(C$9:C17)))","v":""},"","","",{"$f":"IF(ISBLANK(C17),\"\",DATA_TOL!K12)","v":""},"",{"$f":"IF(ISBLANK(C17),\"\",DATA_TOL!L12)","v":""},null,{"$f":"IF(AND(LEN(C17)>0,NOT(N_TRIAL=\"Yes\"),IF(MIX_NAME=\"HMA\",FALSE,INDEX(CHK_MGL,MIX_ID))),IF(AND(G17>=$Y$17,G17<=$Z$17,E17>=H17,E17<=J17),1,0),IF(AND(LEN(C17)>0,IF(MIX_NAME=\"HMA\",FALSE,INDEX(CHK_MGL200,MIX_ID)),B17=\"#200\",N_TRIAL=\"Yes\"),IF(AND(G17>=$Y$19,G17<=$Z$19),1,0),IF(AND(LEN(C17)>0,IF(MIX_NAME=\"HMA\",FALSE,INDEX(CHK_MGL200,MIX_ID)),B17=\"#200\"),IF(AND(G17>=$Y$19,G17<=$Z$19,E17>=H17,E17<=J17),1,0),IF(LEN(E17)=0,\"\",IF(N_TRIAL=\"Yes\",IF(AND(G17>=H17,G17<=J17),1,0),IF(AND(E17>=H17,E17<=J17),1,0))))))","v":""},{"$f":"IFERROR(IF(AND(AI17,C17<>\"\"),IF(AND(G17>=DESIGN_GRAD!F13,G17<=DESIGN_GRAD!H13),0,1),\"\"),\"\")","v":""},"",{"$f":"IF(LEFT($B$2,1)=\"C\",DESIGN_GRAD!P13,DESIGN_GRAD!O13)","v":0},{"$error":"#VALUE!"},{"$error":"#VALUE!"},null,{"$f":"INDEX(INDIRECT(MIX_NAME),9,25)","v":{"$error":"#REF!"}},"",null,null,null,null,{"$f":"DESIGN_GRAD!C13","v":""},{"$f":"DESIGN_GRAD!E13","v":""},null,null,null,null,null,null,9,{"$error":"#REF!"},{"$error":"#REF!"}]
[null,{"$f":"IFERROR(DESIGN_GRAD!B14,\"\")","v":""},null,{"$f":"IF(C18=\"\",\"\",IF($G$6=\"Cumulative\",(C18-SUM(D$9:D17)),SUM(C$9:C18)))","v":""},"","","",{"$f":"IF(ISBLANK(C18),\"\",DATA_TOL!K13)","v":""},"",{"$f":"IF(ISBLANK(C18),\"\",DATA_TOL!L13)","v":""},null,{"$f":"IF(AND(LEN(C18)>0,NOT(N_TRIAL=\"Yes\"),IF(MIX_NAME=\"HMA\",FALSE,INDEX(CHK_MGL,MIX_ID))),IF(AND(G18>=$Y$18,G18<=$Z$18,E18>=H18,E18<=J18),1,0),IF(AND(LEN(C18)>0,IF(MIX_NAME=\"HMA\",FALSE,INDEX(CHK_MGL200,MIX_ID)),B18=\"#200\",N_TRIAL=\"Yes\"),IF(AND(G18>=$Y$19,G18<=$Z$19),1,0),IF(AND(LEN(C18)>0,IF(MIX_NAME=\"HMA\",FALSE,INDEX(CHK_MGL200,MIX_ID)),B18=\"#200\"),IF(AND(G18>=$Y$19,G18<=$Z$19,E18>=H18,E18<=J18),1,0),IF(LEN(E18)=0,\"\",IF(N_TRIAL=\"Yes\",IF(AND(G18>=H18,G18<=J18),1,0),IF(AND(E18>=H18,E18<=J18),1,0))))))","v":""},{"$f":"IFERROR(IF(AND(AI18,C18<>\"\"),IF(AND(G18>=DESIGN_GRAD!F14,G18<=DESIGN_GRAD!H14),0,1),\"\"),\"\")","v":""},"",{"$f":"IF(LEFT($B$2,1)=\"C\",DESIGN_GRAD!P14,DESIGN_GRAD!O14)","v":0},{"$error":"#VALUE!"},{"$error":"#VALUE!"},null,{"$f":"INDEX(INDIRECT(MIX_NAME),10,25)","v":{"$error":"#REF!"}},"",null,null,null,null,{"$f":"DESIGN_GRAD!C14","v":""},{"$f":"DESIGN_GRAD!E14","v":""},null,null,null,null,null,null,10,{"$error":"#REF!"},{"$error":"#REF!"}]
[null,"- #200",null,null,null,null,null,null,null,null,null,null,null,null,null,null,null,"#16",null,null,1.18,{"$f":"VLOOKUP(\"#16\",$B$9:$G$18,6,0)","v":{"$error":"#N/A"}},{"$f":"LOG(U19)","v":7.1882007306125359E-2},{"$error":"#N/A"},{"$f":"MIN(Y9:Y18)","v":0},{"$f":"MIN(Z9:Z18)","v":0}]
[null,null,{"$f":"IF(G4>0,G4-IF(G6=\"Cumulative\",LARGE(C9:C19,1),SUM(C9:C19)),IF(SUM(C9:C19)=0,\"\",0))","v":""},{"$f":"IF(G4<>\"\",IF(G5<>\"\",\"Wash Loss\" & IF(C23>0,\" - \",\" + \"),\"\")&IF(C23>0,\"Sieving Gain (g)\",IF(C23<0,\"Sieving Loss (g)\",\"\")),\"\")","v":""},null,null,null,null,null,null,null,null,null,null,null,null,null,"#50",null,null,0.3,{"$f":"VLOOKUP(\"#50\",$B$9:$G$18,6,0)","v":{"$error":"#N/A"}},-0.52287874528033762,{"$error":"#N/A"}]
[null,"Total - #200",{"$f":"IF(ISERROR(IF(G6=\"Cumulative\",LARGE(C9:C19,1),C19)+C20),\"\",IF(G6=\"Cumulative\",LARGE(C9:C19,1),C19)+C20)","v":""},{"$f":"IF(ISBLANK(C19),\"\",IF(G6=\"Cumulative\",(C21-SUM(D$9:D18)),SUM(C$9:C18,C21)))","v":""},{"$f":"IF(ISERROR(OFFSET(G19,-COUNTBLANK(B9:B18)-1,0)-G21),\"\",OFFSET(G19,-COUNTBLANK(B9:B18)-1,0)-G21)","v":""},{"$f":"IF(ISERROR(OFFSET(F19,-COUNTBLANK(B9:B18)-1,0)+E21),\"\",OFFSET(F19,-COUNTBLANK(B9:B18)-1,0)+E21)","v":""},{"$f":"IF(ISERROR(100-IF(G6=\"Cumulative\",C21/C22*100,D21/C22*100)),\"\",ROUND(100-IF(G6=\"Cumulative\",C21/C22*100,D21/C22*100),1))","v":""},{"$f":"IF(C21=\"\",\"\",DATA_TOL!K14)","v":""},{"$f":"IF(LEN(H21)>0,\"-\",\"\")","v":""},{"$f":"IF(C21=\"\",\"\",DATA_TOL!L14)","v":""},null,{"$f":"IF(LEN(E21)=0,\"\",IF(N_TRIAL=\"Yes\",IF(AND(G21>=H21,G21<=J21),1,0),IF(AND(E21>=H21,E21<=J21),1,0)))","v":""},null,{"$f":"IF(AND(LEN(C21)>0,NOT(LEN(E21)=0),NOT(N_TRIAL=\"Yes\")),IF(OR(E21<H21,E21>J21),\"% passing #200 fails JMF target\",\"\"),\"\")","v":""},null,null,null,"#200",null,null,7.4999999999999997E-2,{"$f":"VLOOKUP(\"#200\",$B$9:$G$18,6,0)","v":{"$error":"#N/A"}},-1.1249387366082999,{"$error":"#N/A"}]
[null,"Total weight, g",{"$f":"IF(ISERROR(IF(G6=\"Cumulative\",C21,SUM(C9:C18)+C21)),\"\",IF(G6=\"Cumulative\",C21,SUM(C9:C18)+C21))","v":""},null,null,null,null,null,null,null,null,null,null,null,null,null,null,"#30",2.87,{"$f":"S22*V22/100","v":{"$error":"#N/A"}},0.6,{"$f":"10^X22","v":{"$error":"#N/A"}},{"$f":"LOG(U22)","v":-0.22184874961635639},{"$f":"FORECAST(W22,X19:X20,W19:W20)","v":{"$error":"#N/A"}}]
[null,null,{"$f":"IF(G5<>\"\",IF(G6=\"Cumulative\",IF(ISERROR(LARGE(C9:C19,1)),0,LARGE(C9:C19,1)),SUM(C9:C19))-G5,IF(G4<>\"\",IF(G6=\"Cumulative\",IF(ISERROR(LARGE(C9:C19,1)),0,LARGE(C9:C19,1)),SUM(C9:C19))-G4,IF(B23<>\"\",IF(G6=\"Cumulative\",IF(ISERROR(LARGE(C9:C19,1)),0,LARGE(C9:C19,1)),SUM(C9:C19))-B23,\"\")))","v":""},{"$f":"IF(AND(C22<>\"\",C23<>\"\"),IF(C25>0.2,\"Discrepancy too large - rerun analysis\",\"Sieving \" & IF(C23>0, \"Gain\", \"Loss\") & \" (g), from \" & IF(G5<>\"\", \"dry weight after washing\", \"original dry sample\")),\"\")","v":""},null,null,null,null,null,null,null,null,null,null,null,null,null,"#100",12.29,{"$f":"S23*V23/100","v":{"$error":"#N/A"}},0.15,{"$f":"10^X23","v":{"$error":"#N/A"}},{"$f":"LOG(U23)","v":-0.82390874094431876},{"$f":"FORECAST(W23,X20:X21,W20:W21)","v":{"$error":"#N/A"}}]
[null,null,null,null,null,null,null,null,null,null,null,null,null,null,null,null,null,null,null,{"$f":"SUM(T9:T18)+T22+T23","v":{"$error":"#N/A"}}]
[null,null,{"$f":"ABS(100*C23/C22)","v":{"$error":"#VALUE!"}}]

{"sheet":"DATA_CHART","index":16,"n_rows":13,"n_cols":23,"rows_kept":13,"cut":false,"hidden":true,"merged":[]}
[]
[null,null,null,null,null,null,null,null,null,null,null,null,null,null,null,"MDL",null,null,"nom","max",0,0]
[null,null,null,null,"DOT1","DOT2","DOT3","DOT4","CON1","CON2","CON3","CON4",null,null,null,null,null,null,{"$f":"MATCH(TRUE,INDEX($R$4:$R$13>10,0),0)-1","v":{"$error":"#N/A"}},{"$f":"S3-1","v":{"$error":"#N/A"}},{"$f":"INDEX(C4:C13,T3)","v":{"$error":"#N/A"}},100]
[null,{"$f":"INDEX(INDIRECT(MIX_NAME),1,3)","v":{"$error":"#REF!"}},{"$f":"B4^0.45","v":{"$error":"#REF!"}},0,{"$f":"INDIRECT(\"DOT1_GRAD!G9\")","v":""},{"$f":"INDIRECT(\"DOT2_GRAD!G9\")","v":""},{"$f":"INDIRECT(\"DOT3_GRAD!G9\")","v":""},{"$f":"INDIRECT(\"DOT4_GRAD!G9\")","v":""},{"$f":"INDIRECT(\"CON1_GRAD!G9\")","v":""},{"$f":"INDIRECT(\"CON2_GRAD!G9\")","v":""},{"$f":"INDIRECT(\"CON3_GRAD!G9\")","v":""},{"$f":"INDIRECT(\"CON4_GRAD!G9\")","v":""},{"$f":"DESIGN_GRAD!I5","v":0},{"$f":"DESIGN_GRAD!C5","v":""},{"$f":"DESIGN_GRAD!E5","v":""},{"$f":"TREND($V$2:$V$3,$U$2:$U$3,C4)","v":{"$error":"#VALUE!"}}]
[null,{"$f":"INDEX(INDIRECT(MIX_NAME),2,3)","v":{"$error":"#REF!"}},{"$error":"#REF!"},0,{"$f":"INDIRECT(\"DOT1_GRAD!G10\")","v":""},{"$f":"INDIRECT(\"DOT2_GRAD!G10\")","v":""},{"$f":"INDIRECT(\"DOT3_GRAD!G10\")","v":""},{"$f":"INDIRECT(\"DOT4_GRAD!G10\")","v":""},{"$f":"INDIRECT(\"CON1_GRAD!G10\")","v":""},{"$f":"INDIRECT(\"CON2_GRAD!G10\")","v":""},{"$f":"INDIRECT(\"CON3_GRAD!G10\")","v":""},{"$f":"INDIRECT(\"CON4_GRAD!G10\")","v":""},{"$f":"DESIGN_GRAD!I6","v":0},{"$f":"DESIGN_GRAD!C6","v":""},{"$f":"DESIGN_GRAD!E6","v":""},{"$f":"TREND($V$2:$V$3,$U$2:$U$3,C5)","v":{"$error":"#VALUE!"}},null,{"$f":"M$4-M5","v":0},null,true,true,null,"These cells hide/show"]
[null,{"$f":"INDEX(INDIRECT(MIX_NAME),3,3)","v":{"$error":"#REF!"}},{"$error":"#REF!"},0,{"$f":"INDIRECT(\"DOT1_GRAD!G11\")","v":""},{"$f":"INDIRECT(\"DOT2_GRAD!G11\")","v":""},{"$f":"INDIRECT(\"DOT3_GRAD!G11\")","v":""},{"$f":"INDIRECT(\"DOT4_GRAD!G11\")","v":""},{"$f":"INDIRECT(\"CON1_GRAD!G11\")","v":""},{"$f":"INDIRECT(\"CON2_GRAD!G11\")","v":""},{"$f":"INDIRECT(\"CON3_GRAD!G11\")","v":""},{"$f":"INDIRECT(\"CON4_GRAD!G11\")","v":""},{"$f":"DESIGN_GRAD!I7","v":0},{"$f":"DESIGN_GRAD!C7","v":""},{"$f":"DESIGN_GRAD!E7","v":""},{"$error":"#VALUE!"},null,0,null,false,true]
[null,{"$f":"INDEX(INDIRECT(MIX_NAME),4,3)","v":{"$error":"#REF!"}},{"$error":"#REF!"},0,{"$f":"INDIRECT(\"DOT1_GRAD!G12\")","v":""},{"$f":"INDIRECT(\"DOT2_GRAD!G12\")","v":""},{"$f":"INDIRECT(\"DOT3_GRAD!G12\")","v":""},{"$f":"INDIRECT(\"DOT4_GRAD!G12\")","v":""},{"$f":"INDIRECT(\"CON1_GRAD!G12\")","v":""},{"$f":"INDIRECT(\"CON2_GRAD!G12\")","v":""},{"$f":"INDIRECT(\"CON3_GRAD!G12\")","v":""},{"$f":"INDIRECT(\"CON4_GRAD!G12\")","v":""},{"$f":"DESIGN_GRAD!I8","v":0},{"$f":"DESIGN_GRAD!C8","v":""},{"$f":"DESIGN_GRAD!E8","v":""},{"$error":"#VALUE!"},null,0,null,false,true]
[null,{"$f":"INDEX(INDIRECT(MIX_NAME),5,3)","v":{"$error":"#REF!"}},{"$error":"#REF!"},0,{"$f":"INDIRECT(\"DOT1_GRAD!G13\")","v":""},{"$f":"INDIRECT(\"DOT2_GRAD!G13\")","v":""},{"$f":"INDIRECT(\"DOT3_GRAD!G13\")","v":""},{"$f":"INDIRECT(\"DOT4_GRAD!G13\")","v":""},{"$f":"INDIRECT(\"CON1_GRAD!G13\")","v":""},{"$f":"INDIRECT(\"CON2_GRAD!G13\")","v":""},{"$f":"INDIRECT(\"CON3_GRAD!G13\")","v":""},{"$f":"INDIRECT(\"CON4_GRAD!G13\")","v":""},{"$f":"DESIGN_GRAD!I9","v":0},{"$f":"DESIGN_GRAD!C9","v":""},{"$f":"DESIGN_GRAD!E9","v":""},{"$error":"#VALUE!"},null,0,null,false,true]
[null,{"$f":"INDEX(INDIRECT(MIX_NAME),6,3)","v":{"$error":"#REF!"}},{"$error":"#REF!"},0,{"$f":"INDIRECT(\"DOT1_GRAD!G14\")","v":""},{"$f":"INDIRECT(\"DOT2_GRAD!G14\")","v":""},{"$f":"INDIRECT(\"DOT3_GRAD!G14\")","v":""},{"$f":"INDIRECT(\"DOT4_GRAD!G14\")","v":""},{"$f":"INDIRECT(\"CON1_GRAD!G14\")","v":""},{"$f":"INDIRECT(\"CON2_GRAD!G14\")","v":""},{"$f":"INDIRECT(\"CON3_GRAD!G14\")","v":""},{"$f":"INDIRECT(\"CON4_GRAD!G14\")","v":""},{"$f":"DESIGN_GRAD!I10","v":0},{"$f":"DESIGN_GRAD!C10","v":""},{"$f":"DESIGN_GRAD!E10","v":""},{"$error":"#VALUE!"},null,0]
[null,{"$f":"INDEX(INDIRECT(MIX_NAME),7,3)","v":{"$error":"#REF!"}},{"$error":"#REF!"},0,{"$f":"INDIRECT(\"DOT1_GRAD!G15\")","v":""},{"$f":"INDIRECT(\"DOT2_GRAD!G15\")","v":""},{"$f":"INDIRECT(\"DOT3_GRAD!G15\")","v":""},{"$f":"INDIRECT(\"DOT4_GRAD!G15\")","v":""},{"$f":"INDIRECT(\"CON1_GRAD!G15\")","v":""},{"$f":"INDIRECT(\"CON2_GRAD!G15\")","v":""},{"$f":"INDIRECT(\"CON3_GRAD!G15\")","v":""},{"$f":"INDIRECT(\"CON4_GRAD!G15\")","v":""},{"$f":"DESIGN_GRAD!I11","v":0},{"$f":"DESIGN_GRAD!C11","v":""},{"$f":"DESIGN_GRAD!E11","v":""},{"$error":"#VALUE!"},null,0]
[null,{"$f":"INDEX(INDIRECT(MIX_NAME),8,3)","v":{"$error":"#REF!"}},{"$error":"#REF!"},0,{"$f":"INDIRECT(\"DOT1_GRAD!G16\")","v":""},{"$f":"INDIRECT(\"DOT2_GRAD!G16\")","v":""},{"$f":"INDIRECT(\"DOT3_GRAD!G16\")","v":""},{"$f":"INDIRECT(\"DOT4_GRAD!G16\")","v":""},{"$f":"INDIRECT(\"CON1_GRAD!G16\")","v":""},{"$f":"INDIRECT(\"CON2_GRAD!G16\")","v":""},{"$f":"INDIRECT(\"CON3_GRAD!G16\")","v":""},{"$f":"INDIRECT(\"CON4_GRAD!G16\")","v":""},{"$f":"DESIGN_GRAD!I12","v":0},{"$f":"DESIGN_GRAD!C12","v":""},{"$f":"DESIGN_GRAD!E12","v":""},{"$error":"#VALUE!"},null,0]
[null,{"$f":"INDEX(INDIRECT(MIX_NAME),9,3)","v":{"$error":"#REF!"}},{"$error":"#REF!"},0,{"$f":"INDIRECT(\"DOT1_GRAD!G17\")","v":""},{"$f":"INDIRECT(\"DOT2_GRAD!G17\")","v":""},{"$f":"INDIRECT(\"DOT3_GRAD!G17\")","v":""},{"$f":"INDIRECT(\"DOT4_GRAD!G17\")","v":""},{"$f":"INDIRECT(\"CON1_GRAD!G17\")","v":""},{"$f":"INDIRECT(\"CON2_GRAD!G17\")","v":""},{"$f":"INDIRECT(\"CON3_GRAD!G17\")","v":""},{"$f":"INDIRECT(\"CON4_GRAD!G17\")","v":""},{"$f":"DESIGN_GRAD!I13","v":0},{"$f":"DESIGN_GRAD!C13","v":""},{"$f":"DESIGN_GRAD!E13","v":""},{"$error":"#VALUE!"},null,0]
[null,{"$f":"INDEX(INDIRECT(MIX_NAME),10,3)","v":{"$error":"#REF!"}},{"$f":"B13^0.45","v":{"$error":"#REF!"}},0,{"$f":"INDIRECT(\"DOT1_GRAD!G18\")","v":""},{"$f":"INDIRECT(\"DOT2_GRAD!G18\")","v":""},{"$f":"INDIRECT(\"DOT3_GRAD!G18\")","v":""},{"$f":"INDIRECT(\"DOT4_GRAD!G18\")","v":""},{"$f":"INDIRECT(\"CON1_GRAD!G18\")","v":""},{"$f":"INDIRECT(\"CON2_GRAD!G18\")","v":""},{"$f":"INDIRECT(\"CON3_GRAD!G18\")","v":""},{"$f":"INDIRECT(\"CON4_GRAD!G18\")","v":""},{"$f":"DESIGN_GRAD!I14","v":0},{"$f":"DESIGN_GRAD!C14","v":""},{"$f":"DESIGN_GRAD!E14","v":""},{"$error":"#VALUE!"},null,0]

{"sheet":"DATA_PROD","index":17,"n_rows":21,"n_cols":9,"rows_kept":21,"cut":false,"hidden":true,"merged":[[1,1,1,2],[1,4,1,5],[1,7,1,8]]}
[]
[null,341,null,null,344,null,null,346]
[null,0,1.05,null,0,1.075,null,0,1.1000000000000001]
[null,0.1,1.05,null,0.1,1.075,null,0.1,1.1000000000000001]
[null,0.2,1.05,null,0.2,1.075,null,0.2,1.1000000000000001]
[null,0.3,1.044,null,0.3,1.0660000000000001,null,0.3,1.0860000000000001]
[null,0.4,1.038,null,0.4,1.0569999999999999,null,0.4,1.075]
[null,0.5,1.0309999999999999,null,0.5,1.0469999999999999,null,0.5,1.0629999999999999]
[null,0.6,1.0249999999999999,null,0.6,1.038,null,0.6,1.05]
[null,0.7,1.0189999999999999,null,0.7,1.0289999999999999,null,0.7,1.038]
[null,0.8,1.0129999999999999,null,0.8,1.0189999999999999,null,0.8,1.0249999999999999]
[null,0.9,1.006,null,0.9,1.01,null,0.9,1.0129999999999999]
[null,1,1,null,1,1,null,1,1]
[null,1.1000000000000001,0.96499999999999997,null,1.1000000000000001,0.9,null,1.1000000000000001,0.9]
[null,1.2,0.93,null,1.2,0.8,null,1.2,0.8]
[null,1.3,0.89500000000000002,null,1.3,0.7,null,1.3,0.7]
[null,1.4,0.86]
[null,1.5,0.82499999999999996]
[null,1.6,0.79]
[null,1.7,0.755]
[null,1.8,0.72]

{"sheet":"DATA_PLACE","index":18,"n_rows":75,"n_cols":9,"rows_kept":75,"cut":false,"hidden":true,"merged":[[1,1,1,2],[1,4,1,5],[1,7,1,8]]}
[]
[null,341,null,null,344,null,null,346]
[null,2.7,0.71,null,2.7,0.71,null,2.7,0.71]
[null,2.8,0.74,null,2.8,0.74,null,2.8,0.74]
[null,2.9,0.77,null,2.9,0.77,null,2.9,0.77]
[null,3,0.8,null,3,0.8,null,3,0.8]
[null,3.1,0.83,null,3.1,0.83,null,3.1,0.83]
[null,3.2,0.86,null,3.2,0.86,null,3.2,0.86]
[null,3.3,0.89,null,3.3,0.89,null,3.3,0.89]
[null,3.4,0.92,null,3.4,0.92,null,3.4,0.92]
[null,3.5,0.95,null,3.5,0.95,null,3.5,0.95]
[null,3.6,0.98,null,3.6,0.98,null,3.6,0.98]
[null,3.7,0.998,null,3.7,1,null,3.7,1.01]
[null,3.8,1.002,null,3.8,1.0149999999999999,null,3.8,1.04]
[null,3.9,1.006,null,3.9,1.03,null,3.9,1.07]
[null,4,1.01,null,4,1.0449999999999999,null,4,1.1000000000000001]
[null,4.0999999999999996,1.014,null,4.0999999999999996,1.06,null,4.0999999999999996,1.1000000000000001]
[null,4.2,1.018,null,4.2,1.075,null,4.2,1.1000000000000001]
[null,4.3,1.022,null,4.3,1.075,null,4.3,1.1000000000000001]
[null,4.4000000000000004,1.026,null,4.4000000000000004,1.075,null,4.4000000000000004,1.1000000000000001]
[null,4.5,1.03,null,4.5,1.075,null,4.5,1.1000000000000001]
[null,4.5999999999999996,1.034,null,4.5999999999999996,1.075,null,4.5999999999999996,1.1000000000000001]
[null,4.7,1.038,null,4.7,1.075,null,4.7,1.1000000000000001]
[null,4.8,1.042,null,4.8,1.075,null,4.8,1.1000000000000001]
[null,4.9000000000000004,1.046,null,4.9000000000000004,1.075,null,4.9000000000000004,1.1000000000000001]
[null,5,1.05,null,5,1.075,null,5,1.1000000000000001]
[null,5.0999999999999996,1.05,null,5.0999999999999996,1.0720000000000001,null,5.0999999999999996,1.095]
[null,5.2,1.05,null,5.2,1.069,null,5.2,1.0900000000000001]
[null,5.3,1.05,null,5.3,1.0660000000000001,null,5.3,1.085]
[null,5.4,1.05,null,5.4,1.0629999999999999,null,5.4,1.08]
[null,5.5,1.05,null,5.5,1.06,null,5.5,1.075]
[null,5.6,1.05,null,5.6,1.0569999999999999,null,5.6,1.07]
[null,5.7,1.05,null,5.7,1.054,null,5.7,1.0649999999999999]
[null,5.8,1.05,null,5.8,1.0509999999999999,null,5.8,1.06]
[null,5.9,1.05,null,5.9,1.048,null,5.9,1.0549999999999999]
[null,6,1.05,null,6,1.0449999999999999,null,6,1.05]
[null,6.1,1.048,null,6.1,1.042,null,6.1,1.0449999999999999]
[null,6.2,1.046,null,6.2,1.0389999999999999,null,6.2,1.04]
[null,6.3,1.044,null,6.3,1.036,null,6.3,1.0349999999999999]
[null,6.4,1.042,null,6.4,1.0329999999999999,null,6.4,1.03]
[null,6.5,1.04,null,6.5,1.03,null,6.5,1.0249999999999999]
[null,6.6,1.038,null,6.6,1.0269999999999999,null,6.6,1.02]
[null,6.7,1.036,null,6.7,1.024,null,6.7,1.0149999999999999]
[null,6.8,1.034,null,6.8,1.0209999999999999,null,6.8,1.01]
[null,6.9,1.032,null,6.9,1.018,null,6.9,1.0049999999999999]
[null,7,1.03,null,7,1.0149999999999999,null,7,1]
[null,7.1,1.028,null,7.1,1.012,null,7.1,0.97]
[null,7.2,1.026,null,7.2,1.0089999999999999,null,7.2,0.94]
[null,7.3,1.024,null,7.3,1.006,null,7.3,0.91]
[null,7.4,1.022,null,7.4,1.0029999999999999,null,7.4,0.88]
[null,7.5,1.02,null,7.5,1,null,7.5,0.85]
[null,7.6,1.018,null,7.6,0.98,null,7.6,0.82]
[null,7.7,1.016,null,7.7,0.96,null,7.7,0.79]
[null,7.8,1.014,null,7.8,0.94,null,7.8,0.76]
[null,7.9,1.012,null,7.9,0.92,null,7.9,0.73]
[null,8,1.01,null,8,0.9,null,8,0.7]
[null,8.1,1.008,null,8.1,0.88]
[null,8.1999999999999993,1.006,null,8.1999999999999993,0.86]
[null,8.3000000000000007,1.004,null,8.3000000000000007,0.84]
[null,8.4,1.002,null,8.4,0.82]
[null,8.5,1,null,8.5,0.8]
[null,8.6,0.998,null,8.6,0.78]
[null,8.6999999999999993,0.996,null,8.6999999999999993,0.76]
[null,8.8000000000000007,0.99399999999999999,null,8.8000000000000007,0.74]
[null,8.9,0.99199999999999999,null,8.9,0.72]
[null,9,0.99,null,9,0.7]
[null,9.1,0.96]
[null,9.1999999999999993,0.93]
[null,9.3000000000000007,0.9]
[null,9.4,0.87]
[null,9.5,0.84]
[null,9.6,0.81]
[null,9.6999999999999993,0.78]
[null,9.8000000000000007,0.75]
[null,9.9,0.72]

{"sheet":"DATA_EXPORT","index":19,"n_rows":20,"n_cols":14,"rows_kept":20,"cut":false,"hidden":true,"merged":[]}
[{"$f":"IF(SampleId<>\"\",SampleId,\"\")","v":""},{"$f":"IF(SampledDate<>\"\",SampledDate,\"\")","v":""},"Sieve1",{"$f":"DESIGN_GRAD!B5","v":""},{"$f":"DATA_TOL!R4","v":0},{"$f":"DATA_TOL!S4","v":0},{"$f":"INDIRECT(\"DOT1_GRAD!E9\")","v":""},{"$f":"INDIRECT(\"DOT2_GRAD!E9\")","v":""},{"$f":"INDIRECT(\"DOT3_GRAD!E9\")","v":""},{"$f":"INDIRECT(\"DOT4_GRAD!E9\")","v":""},{"$f":"INDIRECT(\"CON1_GRAD!E9\")","v":""},{"$f":"INDIRECT(\"CON2_GRAD!E9\")","v":""},{"$f":"INDIRECT(\"CON3_GRAD!E9\")","v":""},{"$f":"INDIRECT(\"CON4_GRAD!E9\")","v":""}]
[{"$f":"IF(TestNumber<>\"\",TestNumber,\"\")","v":""},{"$f":"IF(LettingDate<>\"\",LettingDate,\"\")","v":""},"Sieve2",{"$f":"DESIGN_GRAD!B6","v":""},{"$f":"DATA_TOL!R5","v":0},{"$f":"DATA_TOL!S5","v":0},{"$f":"INDIRECT(\"DOT1_GRAD!E10\")","v":""},{"$f":"INDIRECT(\"DOT2_GRAD!E10\")","v":""},{"$f":"INDIRECT(\"DOT3_GRAD!E10\")","v":""},{"$f":"INDIRECT(\"DOT4_GRAD!E10\")","v":""},{"$f":"INDIRECT(\"CON1_GRAD!E10\")","v":""},{"$f":"INDIRECT(\"CON2_GRAD!E10\")","v":""},{"$f":"INDIRECT(\"CON3_GRAD!E10\")","v":""},{"$f":"INDIRECT(\"CON4_GRAD!E10\")","v":""}]
[{"$f":"IF(Status<>\"\",Status,\"\")","v":""},{"$f":"IF(CCSJ<>\"\",CCSJ,\"\")","v":""},"Sieve3",{"$f":"DESIGN_GRAD!B7","v":""},{"$f":"DATA_TOL!R6","v":0},{"$f":"DATA_TOL!S6","v":0},{"$f":"INDIRECT(\"DOT1_GRAD!E11\")","v":""},{"$f":"INDIRECT(\"DOT2_GRAD!E11\")","v":""},{"$f":"INDIRECT(\"DOT3_GRAD!E11\")","v":""},{"$f":"INDIRECT(\"DOT4_GRAD!E11\")","v":""},{"$f":"INDIRECT(\"CON1_GRAD!E11\")","v":""},{"$f":"INDIRECT(\"CON2_GRAD!E11\")","v":""},{"$f":"INDIRECT(\"CON3_GRAD!E11\")","v":""},{"$f":"INDIRECT(\"CON4_GRAD!E11\")","v":""}]
[{"$f":"IF(County<>\"\",County,\"\")","v":""},{"$f":"IF(specyear<>\"\",specyear,\"\")","v":""},"Sieve4",{"$f":"DESIGN_GRAD!B8","v":""},{"$f":"DATA_TOL!R7","v":0},{"$f":"DATA_TOL!S7","v":0},{"$f":"INDIRECT(\"DOT1_GRAD!E12\")","v":""},{"$f":"INDIRECT(\"DOT2_GRAD!E12\")","v":""},{"$f":"INDIRECT(\"DOT3_GRAD!E12\")","v":""},{"$f":"INDIRECT(\"DOT4_GRAD!E12\")","v":""},{"$f":"INDIRECT(\"CON1_GRAD!E12\")","v":""},{"$f":"INDIRECT(\"CON2_GRAD!E12\")","v":""},{"$f":"INDIRECT(\"CON3_GRAD!E12\")","v":""},{"$f":"INDIRECT(\"CON4_GRAD!E12\")","v":""}]
[{"$f":"IF(SampledBy<>\"\",SampledBy,\"\")","v":""},{"$f":"IF(SpecItem<>\"\",SpecItem,\"\")","v":""},"Sieve5",{"$f":"DESIGN_GRAD!B9","v":""},{"$f":"DATA_TOL!R8","v":0},{"$f":"DATA_TOL!S8","v":0},{"$f":"INDIRECT(\"DOT1_GRAD!E13\")","v":""},{"$f":"INDIRECT(\"DOT2_GRAD!E13\")","v":""},{"$f":"INDIRECT(\"DOT3_GRAD!E13\")","v":""},{"$f":"INDIRECT(\"DOT4_GRAD!E13\")","v":""},{"$f":"INDIRECT(\"CON1_GRAD!E13\")","v":""},{"$f":"INDIRECT(\"CON2_GRAD!E13\")","v":""},{"$f":"INDIRECT(\"CON3_GRAD!E13\")","v":""},{"$f":"INDIRECT(\"CON4_GRAD!E13\")","v":""}]
[{"$f":"IF(SampleLocation<>\"\",SampleLocation,\"\")","v":""},{"$f":"IF(specialprovision<>\"\",specialprovision,\"\")","v":""},"Sieve6",{"$f":"DESIGN_GRAD!B10","v":""},{"$f":"DATA_TOL!R9","v":0},{"$f":"DATA_TOL!S9","v":0},{"$f":"INDIRECT(\"DOT1_GRAD!E14\")","v":""},{"$f":"INDIRECT(\"DOT2_GRAD!E14\")","v":""},{"$f":"INDIRECT(\"DOT3_GRAD!E14\")","v":""},{"$f":"INDIRECT(\"DOT4_GRAD!E14\")","v":""},{"$f":"INDIRECT(\"CON1_GRAD!E14\")","v":""},{"$f":"INDIRECT(\"CON2_GRAD!E14\")","v":""},{"$f":"INDIRECT(\"CON3_GRAD!E14\")","v":""},{"$f":"INDIRECT(\"CON4_GRAD!E14\")","v":""}]
[{"$f":"IF(Material<>\"\",Material,\"\")","v":""},{"$f":"IF(Grade<>\"\",Grade,\"\")","v":""},"Sieve7",{"$f":"DESIGN_GRAD!B11","v":""},{"$f":"DATA_TOL!R10","v":0},{"$f":"DATA_TOL!S10","v":0},{"$f":"INDIRECT(\"DOT1_GRAD!E15\")","v":""},{"$f":"INDIRECT(\"DOT2_GRAD!E15\")","v":""},{"$f":"INDIRECT(\"DOT3_GRAD!E15\")","v":""},{"$f":"INDIRECT(\"DOT4_GRAD!E15\")","v":""},{"$f":"INDIRECT(\"CON1_GRAD!E15\")","v":""},{"$f":"INDIRECT(\"CON2_GRAD!E15\")","v":""},{"$f":"INDIRECT(\"CON3_GRAD!E15\")","v":""},{"$f":"INDIRECT(\"CON4_GRAD!E15\")","v":""}]
[{"$f":"IF(matl_nm<>\"\",matl_nm,\"\")","v":""},{"$f":"IF(ProjectManager<>\"\",ProjectManager,\"\")","v":""},"Sieve8",{"$f":"DESIGN_GRAD!B12","v":""},{"$f":"DATA_TOL!R11","v":0},{"$f":"DATA_TOL!S11","v":0},{"$f":"INDIRECT(\"DOT1_GRAD!E16\")","v":""},{"$f":"INDIRECT(\"DOT2_GRAD!E16\")","v":""},{"$f":"INDIRECT(\"DOT3_GRAD!E16\")","v":""},{"$f":"INDIRECT(\"DOT4_GRAD!E16\")","v":""},{"$f":"INDIRECT(\"CON1_GRAD!E16\")","v":""},{"$f":"INDIRECT(\"CON2_GRAD!E16\")","v":""},{"$f":"INDIRECT(\"CON3_GRAD!E16\")","v":""},{"$f":"INDIRECT(\"CON4_GRAD!E16\")","v":""}]
[{"$f":"IF(Producer<>\"\",Producer,\"\")","v":""},{"$f":"IF(CourseLift<>\"\",CourseLift,\"\")","v":""},"Sieve9",{"$f":"DESIGN_GRAD!B13","v":""},{"$f":"DATA_TOL!R12","v":0},{"$f":"DATA_TOL!S12","v":0},{"$f":"INDIRECT(\"DOT1_GRAD!E17\")","v":""},{"$f":"INDIRECT(\"DOT2_GRAD!E17\")","v":""},{"$f":"INDIRECT(\"DOT3_GRAD!E17\")","v":""},{"$f":"INDIRECT(\"DOT4_GRAD!E17\")","v":""},{"$f":"INDIRECT(\"CON1_GRAD!E17\")","v":""},{"$f":"INDIRECT(\"CON2_GRAD!E17\")","v":""},{"$f":"INDIRECT(\"CON3_GRAD!E17\")","v":""},{"$f":"INDIRECT(\"CON4_GRAD!E17\")","v":""}]
[{"$f":"IF(AreaEngineer<>\"\",AreaEngineer,\"\")","v":""},{"$f":"IF(Station<>\"\",Station,\"\")","v":""},"Sieve10",{"$f":"DESIGN_GRAD!B14","v":""},{"$f":"DATA_TOL!R13","v":0},{"$f":"DATA_TOL!S13","v":0},{"$f":"INDIRECT(\"DOT1_GRAD!E18\")","v":""},{"$f":"INDIRECT(\"DOT2_GRAD!E18\")","v":""},{"$f":"INDIRECT(\"DOT3_GRAD!E18\")","v":""},{"$f":"INDIRECT(\"DOT4_GRAD!E18\")","v":""},{"$f":"INDIRECT(\"CON1_GRAD!E18\")","v":""},{"$f":"INDIRECT(\"CON2_GRAD!E18\")","v":""},{"$f":"INDIRECT(\"CON3_GRAD!E18\")","v":""},{"$f":"INDIRECT(\"CON4_GRAD!E18\")","v":""}]
[null,{"$f":"IF(DistFromCL<>\"\",DistFromCL,\"\")","v":""},"Pan",null,{"$f":"DATA_TOL!R14","v":0},{"$f":"DATA_TOL!S14","v":0},{"$f":"INDIRECT(\"DOT1_GRAD!E21\")","v":""},{"$f":"INDIRECT(\"DOT2_GRAD!E21\")","v":""},{"$f":"INDIRECT(\"DOT3_GRAD!E21\")","v":""},{"$f":"INDIRECT(\"DOT4_GRAD!E21\")","v":""},{"$f":"INDIRECT(\"CON1_GRAD!E21\")","v":""},{"$f":"INDIRECT(\"CON2_GRAD!E21\")","v":""},{"$f":"INDIRECT(\"CON3_GRAD!E21\")","v":""},{"$f":"INDIRECT(\"CON4_GRAD!E21\")","v":""}]
[null,null,"AC",{"$f":"DES_AC","v":0},{"$f":"D12-0.3","v":-0.3},{"$f":"D12+0.3","v":0.3},{"$f":"INDIRECT(\"DOT1_DENSITY!C32\")","v":""},{"$f":"INDIRECT(\"DOT2_DENSITY!C32\")","v":""},{"$f":"INDIRECT(\"DOT3_DENSITY!C32\")","v":""},{"$f":"INDIRECT(\"DOT4_DENSITY!C32\")","v":""},{"$f":"INDIRECT(\"CON1_DENSITY!C32\")","v":""},{"$f":"INDIRECT(\"CON2_DENSITY!C32\")","v":""},{"$f":"INDIRECT(\"CON3_DENSITY!C32\")","v":""},{"$f":"INDIRECT(\"CON4_DENSITY!C32\")","v":""}]
[null,null,"Rice",null,null,null,{"$f":"INDIRECT(\"DOT1_DENSITY!C33\")","v":""},{"$f":"INDIRECT(\"DOT2_DENSITY!C33\")","v":""},{"$f":"INDIRECT(\"DOT3_DENSITY!C33\")","v":""},{"$f":"INDIRECT(\"DOT4_DENSITY!C33\")","v":""},{"$f":"INDIRECT(\"CON1_DENSITY!C33\")","v":""},{"$f":"INDIRECT(\"CON2_DENSITY!C33\")","v":""},{"$f":"INDIRECT(\"CON3_DENSITY!C33\")","v":""},{"$f":"INDIRECT(\"CON4_DENSITY!C33\")","v":""}]
[null,null,"Density",{"$f":"MIX_PMB","v":0},{"$f":"IF(INDEX(CHK_MGL,MIX_ID),IF(N_GYR=\"SGC\", 96, INDEX(INDIRECT(MIX_NAME),1,20)),$D$14-1)","v":{"$error":"#N/A"}},{"$f":"IF(INDEX(CHK_MGL,MIX_ID),IF(N_GYR=\"SGC\", 96, INDEX(INDIRECT(MIX_NAME),1,21)),$D$14+1)","v":{"$error":"#N/A"}},{"$f":"INDIRECT(\"DOT1_DENSITY!C34\")","v":""},{"$f":"INDIRECT(\"DOT2_DENSITY!C34\")","v":""},{"$f":"INDIRECT(\"DOT3_DENSITY!C34\")","v":""},{"$f":"INDIRECT(\"DOT4_DENSITY!C34\")","v":""},{"$f":"INDIRECT(\"CON1_DENSITY!C34\")","v":""},{"$f":"INDIRECT(\"CON2_DENSITY!C34\")","v":""},{"$f":"INDIRECT(\"CON3_DENSITY!C34\")","v":""},{"$f":"INDIRECT(\"CON4_DENSITY!C34\")","v":""}]
[null,null,"SG",null,null,null,{"$f":"INDIRECT(\"DOT1_DENSITY!C35\")","v":""},{"$f":"INDIRECT(\"DOT2_DENSITY!C35\")","v":""},{"$f":"INDIRECT(\"DOT3_DENSITY!C35\")","v":""},{"$f":"INDIRECT(\"DOT4_DENSITY!C35\")","v":""},{"$f":"INDIRECT(\"CON1_DENSITY!C35\")","v":""},{"$f":"INDIRECT(\"CON2_DENSITY!C35\")","v":""},{"$f":"INDIRECT(\"CON3_DENSITY!C35\")","v":""},{"$f":"INDIRECT(\"CON4_DENSITY!C35\")","v":""}]
[null,null,"VIM",null,null,null,{"$f":"INDIRECT(\"DOT1_DENSITY!C36\")","v":""},{"$f":"INDIRECT(\"DOT2_DENSITY!C36\")","v":""},{"$f":"INDIRECT(\"DOT3_DENSITY!C36\")","v":""},{"$f":"INDIRECT(\"DOT4_DENSITY!C36\")","v":""},{"$f":"INDIRECT(\"CON1_DENSITY!C36\")","v":""},{"$f":"INDIRECT(\"CON2_DENSITY!C36\")","v":""},{"$f":"INDIRECT(\"CON3_DENSITY!C36\")","v":""},{"$f":"INDIRECT(\"CON4_DENSITY!C36\")","v":""}]
[null,null,"VMA",null,{"$f":"INDEX(INDIRECT(MIX_NAME),1,8)","v":{"$error":"#REF!"}},null,{"$f":"INDIRECT(\"DOT1_DENSITY!C37\")","v":""},{"$f":"INDIRECT(\"DOT2_DENSITY!C37\")","v":""},{"$f":"INDIRECT(\"DOT3_DENSITY!C37\")","v":""},{"$f":"INDIRECT(\"DOT4_DENSITY!C37\")","v":""},{"$f":"INDIRECT(\"CON1_DENSITY!C37\")","v":""},{"$f":"INDIRECT(\"CON2_DENSITY!C37\")","v":""},{"$f":"INDIRECT(\"CON3_DENSITY!C37\")","v":""},{"$f":"INDIRECT(\"CON4_DENSITY!C37\")","v":""}]
[null,null,"Drain down",null,null,{"$f":"IF(INDEX(CHK_DRAIN,MIX_ID),INDEX(INDIRECT(MIX_NAME),1,22),\"\")","v":{"$error":"#N/A"}},{"$f":"INDIRECT(\"DOT1_PROD!C48\")","v":0},{"$f":"INDIRECT(\"DOT2_PROD!C48\")","v":0},{"$f":"INDIRECT(\"DOT3_PROD!C48\")","v":0},{"$f":"INDIRECT(\"DOT4_PROD!C48\")","v":0},{"$f":"INDIRECT(\"CON1_PROD!C48\")","v":0},{"$f":"INDIRECT(\"CON2_PROD!C48\")","v":0},{"$f":"INDIRECT(\"CON3_PROD!C48\")","v":0},{"$f":"INDIRECT(\"CON4_PROD!C48\")","v":0}]
[null,null,"Cantabro loss",null,null,{"$f":"IF(INDEX(CHK_CANT,MIX_ID),INDEX(INDIRECT(MIX_NAME),1,23),\"\")","v":{"$error":"#N/A"}},{"$f":"INDIRECT(\"DOT1_PROD!C46\")","v":0},{"$f":"INDIRECT(\"DOT2_PROD!C46\")","v":0},{"$f":"INDIRECT(\"DOT3_PROD!C46\")","v":0},{"$f":"INDIRECT(\"DOT4_PROD!C46\")","v":0},{"$f":"INDIRECT(\"CON1_PROD!C46\")","v":0},{"$f":"INDIRECT(\"CON2_PROD!C46\")","v":0},{"$f":"INDIRECT(\"CON3_PROD!C46\")","v":0},{"$f":"INDIRECT(\"CON4_PROD!C46\")","v":0}]
[null,null,"Membrane app. Rate",{"$f":"JMF_MEM","v":0},{"$f":"D20-0.02","v":-0.02},{"$f":"D20+0.02","v":0.02},{"$f":"INDIRECT(\"DOT1_PROD!C51\")","v":0},{"$f":"INDIRECT(\"DOT2_PROD!C51\")","v":0},{"$f":"INDIRECT(\"DOT3_PROD!C51\")","v":0},{"$f":"INDIRECT(\"DOT4_PROD!C51\")","v":0},{"$f":"INDIRECT(\"CON1_PROD!C51\")","v":0},{"$f":"INDIRECT(\"CON2_PROD!C51\")","v":0},{"$f":"INDIRECT(\"CON3_PROD!C51\")","v":0},{"$f":"INDIRECT(\"CON4_PROD!C51\")","v":0}]

{"sheet":"DATA_REVISIONS","index":20,"n_rows":3,"n_cols":4,"rows_kept":3,"cut":false,"hidden":true,"merged":[]}
[]
[null,"WHEN","WHAT","WHO"]
[null,"2025-03-26","Added FINAL QUANTITIES fields for sublots from the Payment sheet for RX mapping","Syeda Rahman"]

{"sheet":"DOT1_PROD","index":21,"n_rows":67,"n_cols":3,"rows_kept":67,"cut":false,"hidden":false,"merged":[[43,1,43,2],[58,1,58,2],[65,1,65,2],[0,1,0,2],[1,1,1,2],[6,1,6,2],[7,1,7,2],[21,1,21,2],[32,1,32,2]]}
[null,{"$f":"header","v":"SAMPLE ID:    ______________________________    SAMPLED DATE: ___________________________\nLOT NUMBER:    _____________________________    LETTING DATE: ___________________________\nSAMPLE STATUS:    __________________________    CONTROLLING CSJ: ________________________\nCOUNTY:    _________________________________    SPEC YEAR: ______________________________\nSAMPLED BY:    __________________________________    SPEC ITEM: ______________________________\nSAMPLE LOCATION:    ________________________    SPECIAL PROVISION: ______________________\nMATERIAL CODE:    __________________________    MIX TYPE: _______________________________\nMATERIAL NAME: __________________________________________________________________\nPRODUCER: _______________________________________________________________________\nAREA ENGINEER:    __________________________    PROJECT MANAGER: _____________________________\nCOURSE\\LIFT:    __________________    STATION: ______________________    DIST. FROM CL: ______\n"}]
[null,{"$f":"LEFT(REPLACE(CELL(\"filename\",A1),1,FIND(\"]\",CELL(\"filename\",A1)),\"\"),4) & \" PRODUCTION DATA\"","v":"DOT1 PRODUCTION DATA"}]
[null,"Sublot sample date:",{"$f":"IFERROR(IF(LEN(INDIRECT(\"DATE_\"&LEFT($B$2,4)))>0,INDIRECT(\"DATE_\"&LEFT($B$2,4)),\"\"),\"\")","v":""}]
[null,"Sublot location, Tons:",{"$f":"IFERROR(INDIRECT(\"SLOC_\"&LEFT($B$2,4)),\"\")","v":""}]
[null,"Production location, Tons:",{"$f":"IFERROR(INDIRECT(\"PLOC_\"&LEFT($B$2,4)),\"\")","v":""}]
[]
[null,"DETERMINATION OF ASPHALT CONTENT"]
[null,{"$f":"\"Method: \" & AC_METHOD","v":"Method: "}]
[null,"Weight of sample and basket before ignition, g:"]
[null,"Weight of sample and basket after ignition, g:"]
[null,"Weight of basket, g:"]
[null,"Ignition oven AC, %:",{"$f":"IFERROR(100*(C9-C10)/(C9-C11),\"\")","v":""}]
[null,"AC, % :"]
[null,"Nuclear testing gauge number:"]
[null,"Nuclear testing gauge calibration reference number:"]
[null,"Nuclear testing gauge time (hh:mm:ss):"]
[null,"Corrected AC, %:",{"$f":"IF(AND(C12=\"\",ISBLANK(C13)),\"\",IF(AC_METHOD=\"Ignition oven\",ROUND(C12,1)+IF(LEFT($B$2,1)=\"D\",AC_T_COR,AC_C_COR),ROUND(C13,1)))","v":""}]
[null,"Ratio of recycled to total binder:",{"$f":"IFERROR(100*REC_AC/C17,\"\")","v":""}]
[null,"Binder sample received?:"]
[null,"DSR aging ratio:"]
[]
[null,"LAB DETERMINATION OF RICE SPECIFIC GRAVITY Tex-227-F"]
[null," (A) Weight of  dry sample in air, g:"]
[null," (D) Weight of calibrated pyc. with water, g:"]
[null,"(E) Weight of sample, pyc. and water, g:"]
[null,"A/(D+A-E) Rice specific gravity (Gr):",{"$f":"IFERROR(ROUND(C23/(C24+C23-C25),3),\"\")","v":""}]
[null,"(Asd) Weight of surface dry sample in air, g:"]
[null,"A/(D+Asd-E) Rice Specific Gravity (Grc):",{"$f":"IFERROR(ROUND(C23/(C24+C27-C25),3),\"\")","v":""}]
[null,"(Gr-Grc)/Grc Percentage Difference:",{"$f":"IF(C26=\"\",\"\",IF(C28=\"\",\"\",(C26-C28)/C28))","v":""}]
[null,{"$f":"IF(C29>0.003,\"A/(D+Asd-E)\",\"A/(D+A-E)\") & \" Rice Specific Gravity \" & IF(C29>0.003,\"(Grc):\",\"(Gr):\")","v":"A/(D+Asd-E) Rice Specific Gravity (Grc):"},{"$f":"IF(C29>0.003,C28,C26)","v":""}]
[]
[]
[null,"ROAD DETERMINATION OF RICE SPECIFIC GRAVITY Tex-227-F"]
[null," (A) Weight of  dry sample in air, g:"]
[null," (D) Weight of calibrated pyc. with water, g:"]
[null,"(E) Weight of sample, pyc. and water, g:"]
[null,"A/(D+A-E) Rice specific gravity (Gr):",{"$f":"IF(ISERROR(C34/(C35+C34-C36)),\"\",ROUND(C34/(C35+C34-C36),3))","v":""}]
[null,"(Asd) Weight of surface dry sample in air, g:"]
[null,"A/(D+Asd-E) Rice Specific Gravity (Grc):",{"$f":"IFERROR(ROUND(C34/(C35+C38-C36),3),\"\")","v":""}]
[null,"(Gr-Grc)/Grc Percentage Difference:",{"$f":"IF(C37=\"\",\"\",IF(C39=\"\",\"\",(C37-C39)/C39))","v":""}]
[null,{"$f":"IF(C40>0.003,\"A/(D+Asd-E)\",\"A/(D+A-E)\") & \" Rice Specific Gravity \" & IF(C40>0.003,\"(Grc):\",\"(Gr):\")","v":"A/(D+Asd-E) Rice Specific Gravity (Grc):"},{"$f":"IF(C40>0.003,C39,C37)","v":""}]
[]
[]
[null,"PRODUCTION PERFORMANCE PROPERTIES OF BITUMINOUS MIXTURES"]
[null,"Tex-248-F Overlay test number of cycles: "]
[null,"Tex-245-F Cantabro loss content, %:"]
[null,"CRM content, %:"]
[null,"Tex-235-F Binder draindown, %:"]
[null,"Fiber content, %:"]
[null,"Membrane application rate, gal/sy:"]
[null,"Tex 246-F Permeability or Water flow, sec:"]
[null,"Tex 212-F Moisture content, %:"]
[null,"Tex-530-C Boil test estimated percent stripping, %:"]
[null,"Tex-244-F Thermal profile segregation:"]
[null,"Tex 207-F, Part V Mat segregation density profile:"]
[null,"Tex 207-F, Part VII Longitudinal joint density:"]
[]
[]
[null,"ESTIMATED FILM THICKNESS (based on gradation and asphalt content)"]
[null,"Combined bulk specific gravity (Gsb): "]
[null,"Effective specific gravity:",{"$f":"IFERROR((100-C17)/((100/C30)-C17/MIX_GSB),\"\")","v":""}]
[null,"Asphalt absorption, %:",{"$f":"IFERROR((C61-C60)/(C61*C60)*MIX_GSB*100,\"\")","v":""}]
[null,"Effective asphalt content:",{"$f":"IFERROR(C17-(C62*(100-C17))/100,\"\")","v":""}]
[null,"Film thickness, micron:",{"$f":"IFERROR(1000000*(C63/100)/(1-(C63/100))/(INDIRECT(LEFT($B$2,4) & \"_GRAD!Q24\")*MIX_GSB*1000),\"\")","v":""}]
[]
[null,"BACK CALCULATED ASPHALT CONTENT"]
[null,"Back calculated AC, %:",{"$f":"IF(NOT(OR(C17=\"\",IF(LEFT(B2,1)=\"D\",EFFGR_T,EFFGR_C)=\"\")),IFERROR(ROUND((((IF(LEFT(B2,1)=\"D\",EFFGR_T,EFFGR_C)*100)/C26)-100)/((IF(LEFT(B2,1)=\"D\",EFFGR_T,EFFGR_C)/MIX_GSB)-1),1),\"\"),\"\")","v":""}]

{"sheet":"DOT1_GRAD","index":22,"n_rows":25,"n_cols":35,"rows_kept":25,"cut":false,"hidden":false,"merged":[[5,1,5,5],[6,11,7,11],[6,12,7,12],[7,7,7,9],[0,1,0,11],[1,1,1,9],[2,1,2,9],[3,1,3,5],[3,11,3,12],[4,1,4,5]]}
[null,{"$f":"header","v":"SAMPLE ID:    ______________________________    SAMPLED DATE: ___________________________\nLOT NUMBER:    _____________________________    LETTING DATE: ___________________________\nSAMPLE STATUS:    __________________________    CONTROLLING CSJ: ________________________\nCOUNTY:    _________________________________    SPEC YEAR: ______________________________\nSAMPLED BY:    __________________________________    SPEC ITEM: ______________________________\nSAMPLE LOCATION:    ________________________    SPECIAL PROVISION: ______________________\nMATERIAL CODE:    __________________________    MIX TYPE: _______________________________\nMATERIAL NAME: __________________________________________________________________\nPRODUCER: _______________________________________________________________________\nAREA ENGINEER:    __________________________    PROJECT MANAGER: _____________________________\nCOURSE\\LIFT:    __________________    STATION: ______________________    DIST. FROM CL: ______\n"}]
[null,{"$f":"LEFT(REPLACE(CELL(\"filename\",A1),1,FIND(\"]\",CELL(\"filename\",A1)),\"\"),4) &  \" GRADATION OF EXTRACTED AGGREGATE: Tex-200-F\"","v":"DOT1 GRADATION OF EXTRACTED AGGREGATE: Tex-200-F"}]
[null,{"$f":"\"Method: \" & GRAD_METHOD","v":"Method: "}]
[null,{"$f":"IF(GRAD_METHOD=\"Belt sample\",\"Belt sample original dry weight, g:\",\"Ignited sample original dry weight, g:\")","v":"Ignited sample original dry weight, g:"},null,null,null,null,null,null,null,null,null,"TOLERANCES"]
[null,"Dry weight after washing, g:"]
[null,"Sieve analysis:",null,null,null,null,null,null,null,null,null,"Gradation","RZ"]
[null,null,null,null,{"$f":"IF(LEFT(B2,1)=\"T\",IF(COUNT(DES_IG_CF_T)>0,\"*Adjusted\",\"\"),IF(COUNT(DES_IG_CF_C)>0,\"*Adjusted\",\"\"))","v":""},{"$f":"E7","v":""},{"$f":"F7","v":""},null,null,null,null,"JMF","Current JMF"]
[null,"Sieve Size",{"$f":"IF(G6=\"Cumulative\",\"Cumulative\",\"Individual\") & \" weight retained, g\"","v":"Individual weight retained, g"},{"$f":"IF(G6=\"Cumulative\",\"Individual\",\"Cumulative\") & \" weight retained, g\"","v":"Cumulative weight retained, g"},"Individual percent retained, %","Cumulative percent retained, %","Cumulative percent passing, %",{"$f":"IF(N_TRIAL=\"Yes\",\"JMF cumulative percentage limits\",\"JMF individual retained limits\")","v":"JMF individual retained limits"}]
[null,{"$f":"IFERROR(DESIGN_GRAD!B5,\"\")","v":""},null,{"$f":"IF(ISBLANK(C9),\"\",C9)","v":""},{"$f":"IF(ISERROR(100-G9),\"\",100-G9)","v":""},{"$f":"IF(ISERROR(E9),\"\",E9)","v":""},{"$f":"IF(ISBLANK(C9),\"\",Q9)","v":""},{"$f":"IF(ISBLANK(C9),\"\",DATA_TOL!K4)","v":""},{"$f":"IF(LEN(H9)>0,\"-\",\"\")","v":""},{"$f":"IF(ISBLANK(C9),\"\",DATA_TOL!L4)","v":""},null,{"$f":"IF(AND(LEN(C9)>0,NOT(N_TRIAL=\"Yes\"),IF(MIX_NAME=\"HMA\",FALSE,INDEX(CHK_MGL,MIX_ID))),IF(AND(G9>=$Y$9,G9<=$Z$9,E9>=H9,E9<=J9),1,0),IF(AND(LEN(C9)>0,IF(MIX_NAME=\"HMA\",FALSE,INDEX(CHK_MGL200,MIX_ID)),B9=\"#200\",N_TRIAL=\"Yes\"),IF(AND(G9>=$Y$19,G9<=$Z$19),1,0),IF(AND(LEN(C9)>0,IF(MIX_NAME=\"HMA\",FALSE,INDEX(CHK_MGL200,MIX_ID)),B9=\"#200\"),IF(AND(G9>=$Y$19,G9<=$Z$19,E9>=H9,E9<=J9),1,0),IF(LEN(E9)=0,\"\",IF(N_TRIAL=\"Yes\",IF(AND(G9>=H9,G9<=J9),1,0),IF(AND(E9>=H9,E9<=J9),1,0))))))","v":""},{"$f":"IFERROR(IF(AND(AI9,C9<>\"\"),IF(AND(G9>=DESIGN_GRAD!F5,G9<=DESIGN_GRAD!H5),0,1),\"\"),\"\")","v":""},{"$f":"IF(AND(LEN(C9)>0,NOT(N_TRIAL=\"Yes\")),IF(OR(INDEX(CHK_MGL,MIX_ID),AND(IF(MIX_NAME=\"HMA\",FALSE,INDEX(CHK_MGL200,MIX_ID)),B9=\"#200\")),IF(AND(OR(G9<Y9,G9>Z9),OR(E9<H9,E9>J9)),\"% retained fails JMF target & % passing fails MGL\",IF(OR(G9<Y9,G9>Z9),\"% passing fails MGL\",IF(OR(E9<H9,E9>J9),\"% retained fails JMF target\",\"\"))),IF(OR(E9<H9,E9>J9),\"% retained fails JMF target\",\"\")),\"\")","v":""},null,{"$f":"ROUND(O9+100-IF($G$6=\"Cumulative\",C9,D9)/$C$22*100,1)","v":{"$error":"#VALUE!"}},{"$f":"P9","v":{"$error":"#VALUE!"}},null,{"$f":"INDEX(INDIRECT(MIX_NAME),1,25)","v":{"$error":"#REF!"}},{"$f":"IFERROR(S9*G9/100,\"\")","v":""},null,null,null,null,{"$f":"DESIGN_GRAD!C5","v":""},{"$f":"DESIGN_GRAD!E5","v":""},null,null,null,null,null,null,1,{"$f":"IF(LEN(INDEX(INDIRECT(MIX_NAME),AG9,2))>0,-1,0)","v":{"$error":"#REF!"}},{"$f":"IF(LEN(INDEX(INDIRECT(MIX_NAME),AG9,9))>0,-1,0)","v":{"$error":"#REF!"}}]
[null,{"$f":"IFERROR(DESIGN_GRAD!B6,\"\")","v":""},null,{"$f":"IF(ISBLANK(C10),\"\",IF($G$6=\"Cumulative\",(C10-SUM(D$9:D9)),SUM(C$9:C10)))","v":""},{"$f":"IF(ISERROR(G9-G10),\"\",G9-G10)","v":""},{"$f":"IF(ISERROR(F9+E10),\"\",F9+E10)","v":""},"",{"$f":"IF(ISBLANK(C10),\"\",DATA_TOL!K5)","v":""},"",{"$f":"IF(ISBLANK(C10),\"\",DATA_TOL!L5)","v":""},null,{"$f":"IF(AND(LEN(C10)>0,NOT(N_TRIAL=\"Yes\"),IF(MIX_NAME=\"HMA\",FALSE,INDEX(CHK_MGL,MIX_ID))),IF(AND(G10>=$Y$10,G10<=$Z$10,E10>=H10,E10<=J10),1,0),IF(AND(LEN(C10)>0,IF(MIX_NAME=\"HMA\",FALSE,INDEX(CHK_MGL200,MIX_ID)),B10=\"#200\",N_TRIAL=\"Yes\"),IF(AND(G10>=$Y$19,G10<=$Z$19),1,0),IF(AND(LEN(C10)>0,IF(MIX_NAME=\"HMA\",FALSE,INDEX(CHK_MGL200,MIX_ID)),B10=\"#200\"),IF(AND(G10>=$Y$19,G10<=$Z$19,E10>=H10,E10<=J10),1,0),IF(LEN(E10)=0,\"\",IF(N_TRIAL=\"Yes\",IF(AND(G10>=H10,G10<=J10),1,0),IF(AND(E10>=H10,E10<=J10),1,0))))))","v":""},{"$f":"IFERROR(IF(AND(AI10,C10<>\"\"),IF(AND(G10>=DESIGN_GRAD!F6,G10<=DESIGN_GRAD!H6),0,1),\"\"),\"\")","v":""},"",{"$f":"IF(LEFT($B$2,1)=\"C\",DESIGN_GRAD!P6,DESIGN_GRAD!O6)","v":0},{"$error":"#VALUE!"},{"$f":"MIN(Q9,P10)","v":{"$error":"#VALUE!"}},null,{"$f":"INDEX(INDIRECT(MIX_NAME),2,25)","v":{"$error":"#REF!"}},"",null,null,null,null,{"$f":"DESIGN_GRAD!C6","v":""},{"$f":"DESIGN_GRAD!E6","v":""},null,null,null,null,null,null,2,{"$error":"#REF!"},{"$error":"#REF!"}]
[null,{"$f":"IFERROR(DESIGN_GRAD!B7,\"\")","v":""},null,{"$f":"IF(ISBLANK(C11),\"\",IF($G$6=\"Cumulative\",(C11-SUM(D$9:D10)),SUM(C$9:C11)))","v":""},{"$f":"IF(ISERROR(G10-G11),\"\",G10-G11)","v":""},"","",{"$f":"IF(ISBLANK(C11),\"\",DATA_TOL!K6)","v":""},"",{"$f":"IF(ISBLANK(C11),\"\",DATA_TOL!L6)","v":""},null,{"$f":"IF(AND(LEN(C11)>0,NOT(N_TRIAL=\"Yes\"),IF(MIX_NAME=\"HMA\",FALSE,INDEX(CHK_MGL,MIX_ID))),IF(AND(G11>=$Y$11,G11<=$Z$11,E11>=H11,E11<=J11),1,0),IF(AND(LEN(C11)>0,IF(MIX_NAME=\"HMA\",FALSE,INDEX(CHK_MGL200,MIX_ID)),B11=\"#200\",N_TRIAL=\"Yes\"),IF(AND(G11>=$Y$19,G11<=$Z$19),1,0),IF(AND(LEN(C11)>0,IF(MIX_NAME=\"HMA\",FALSE,INDEX(CHK_MGL200,MIX_ID)),B11=\"#200\"),IF(AND(G11>=$Y$19,G11<=$Z$19,E11>=H11,E11<=J11),1,0),IF(LEN(E11)=0,\"\",IF(N_TRIAL=\"Yes\",IF(AND(G11>=H11,G11<=J11),1,0),IF(AND(E11>=H11,E11<=J11),1,0))))))","v":""},{"$f":"IFERROR(IF(AND(AI11,C11<>\"\"),IF(AND(G11>=DESIGN_GRAD!F7,G11<=DESIGN_GRAD!H7),0,1),\"\"),\"\")","v":""},"",{"$f":"IF(LEFT($B$2,1)=\"C\",DESIGN_GRAD!P7,DESIGN_GRAD!O7)","v":0},{"$error":"#VALUE!"},{"$f":"MIN(Q10,P11)","v":{"$error":"#VALUE!"}},null,{"$f":"INDEX(INDIRECT(MIX_NAME),3,25)","v":{"$error":"#REF!"}},"",null,null,null,null,{"$f":"DESIGN_GRAD!C7","v":""},{"$f":"DESIGN_GRAD!E7","v":""},null,null,null,null,null,null,3,{"$error":"#REF!"},{"$error":"#REF!"}]
[null,{"$f":"IFERROR(DESIGN_GRAD!B8,\"\")","v":""},null,{"$f":"IF(ISBLANK(C12),\"\",IF($G$6=\"Cumulative\",(C12-SUM(D$9:D11)),SUM(C$9:C12)))","v":""},"","","",{"$f":"IF(ISBLANK(C12),\"\",DATA_TOL!K7)","v":""},"",{"$f":"IF(ISBLANK(C12),\"\",DATA_TOL!L7)","v":""},null,{"$f":"IF(AND(LEN(C12)>0,NOT(N_TRIAL=\"Yes\"),IF(MIX_NAME=\"HMA\",FALSE,INDEX(CHK_MGL,MIX_ID))),IF(AND(G12>=$Y$12,G12<=$Z$12,E12>=H12,E12<=J12),1,0),IF(AND(LEN(C12)>0,IF(MIX_NAME=\"HMA\",FALSE,INDEX(CHK_MGL200,MIX_ID)),B12=\"#200\",N_TRIAL=\"Yes\"),IF(AND(G12>=$Y$19,G12<=$Z$19),1,0),IF(AND(LEN(C12)>0,IF(MIX_NAME=\"HMA\",FALSE,INDEX(CHK_MGL200,MIX_ID)),B12=\"#200\"),IF(AND(G12>=$Y$19,G12<=$Z$19,E12>=H12,E12<=J12),1,0),IF(LEN(E12)=0,\"\",IF(N_TRIAL=\"Yes\",IF(AND(G12>=H12,G12<=J12),1,0),IF(AND(E12>=H12,E12<=J12),1,0))))))","v":""},{"$f":"IFERROR(IF(AND(AI12,C12<>\"\"),IF(AND(G12>=DESIGN_GRAD!F8,G12<=DESIGN_GRAD!H8),0,1),\"\"),\"\")","v":""},"",{"$f":"IF(LEFT($B$2,1)=\"C\",DESIGN_GRAD!P8,DESIGN_GRAD!O8)","v":0},{"$error":"#VALUE!"},{"$error":"#VALUE!"},null,{"$f":"INDEX(INDIRECT(MIX_NAME),4,25)","v":{"$error":"#REF!"}},"",null,null,null,null,{"$f":"DESIGN_GRAD!C8","v":""},{"$f":"DESIGN_GRAD!E8","v":""},null,null,null,null,null,null,4,{"$error":"#REF!"},{"$error":"#REF!"}]
[null,{"$f":"IFERROR(DESIGN_GRAD!B9,\"\")","v":""},null,{"$f":"IF(ISBLANK(C13),\"\",IF($G$6=\"Cumulative\",(C13-SUM(D$9:D12)),SUM(C$9:C13)))","v":""},"","","",{"$f":"IF(ISBLANK(C13),\"\",DATA_TOL!K8)","v":""},"",{"$f":"IF(ISBLANK(C13),\"\",DATA_TOL!L8)","v":""},null,{"$f":"IF(AND(LEN(C13)>0,NOT(N_TRIAL=\"Yes\"),IF(MIX_NAME=\"HMA\",FALSE,INDEX(CHK_MGL,MIX_ID))),IF(AND(G13>=$Y$13,G13<=$Z$13,E13>=H13,E13<=J13),1,0),IF(AND(LEN(C13)>0,IF(MIX_NAME=\"HMA\",FALSE,INDEX(CHK_MGL200,MIX_ID)),B13=\"#200\",N_TRIAL=\"Yes\"),IF(AND(G13>=$Y$19,G13<=$Z$19),1,0),IF(AND(LEN(C13)>0,IF(MIX_NAME=\"HMA\",FALSE,INDEX(CHK_MGL200,MIX_ID)),B13=\"#200\"),IF(AND(G13>=$Y$19,G13<=$Z$19,E13>=H13,E13<=J13),1,0),IF(LEN(E13)=0,\"\",IF(N_TRIAL=\"Yes\",IF(AND(G13>=H13,G13<=J13),1,0),IF(AND(E13>=H13,E13<=J13),1,0))))))","v":""},{"$f":"IFERROR(IF(AND(AI13,C13<>\"\"),IF(AND(G13>=DESIGN_GRAD!F9,G13<=DESIGN_GRAD!H9),0,1),\"\"),\"\")","v":""},"",{"$f":"IF(LEFT($B$2,1)=\"C\",DESIGN_GRAD!P9,DESIGN_GRAD!O9)","v":0},{"$error":"#VALUE!"},{"$error":"#VALUE!"},null,{"$f":"INDEX(INDIRECT(MIX_NAME),5,25)","v":{"$error":"#REF!"}},"",null,null,null,null,{"$f":"DESIGN_GRAD!C9","v":""},{"$f":"DESIGN_GRAD!E9","v":""},null,null,null,null,null,null,5,{"$error":"#REF!"},{"$error":"#REF!"}]
[null,{"$f":"IFERROR(DESIGN_GRAD!B10,\"\")","v":""},null,{"$f":"IF(ISBLANK(C14),\"\",IF($G$6=\"Cumulative\",(C14-SUM(D$9:D13)),SUM(C$9:C14)))","v":""},"","","",{"$f":"IF(ISBLANK(C14),\"\",DATA_TOL!K9)","v":""},"",{"$f":"IF(ISBLANK(C14),\"\",DATA_TOL!L9)","v":""},null,{"$f":"IF(AND(LEN(C14)>0,NOT(N_TRIAL=\"Yes\"),IF(MIX_NAME=\"HMA\",FALSE,INDEX(CHK_MGL,MIX_ID))),IF(AND(G14>=$Y$14,G14<=$Z$14,E14>=H14,E14<=J14),1,0),IF(AND(,LEN(C14)>0,IF(MIX_NAME=\"HMA\",FALSE,INDEX(CHK_MGL200,MIX_ID)),B14=\"#200\",N_TRIAL=\"Yes\"),IF(AND(G14>=$Y$19,G14<=$Z$19),1,0),IF(AND(,LEN(C14)>0,IF(MIX_NAME=\"HMA\",FALSE,INDEX(CHK_MGL200,MIX_ID)),B14=\"#200\"),IF(AND(G14>=$Y$19,G14<=$Z$19,E14>=H14,E14<=J14),1,0),IF(LEN(E14)=0,\"\",IF(N_TRIAL=\"Yes\",IF(AND(G14>=H14,G14<=J14),1,0),IF(AND(E14>=H14,E14<=J14),1,0))))))","v":""},{"$f":"IFERROR(IF(AND(AI14,C14<>\"\"),IF(AND(G14>=DESIGN_GRAD!F10,G14<=DESIGN_GRAD!H10),0,1),\"\"),\"\")","v":""},"",{"$f":"IF(LEFT($B$2,1)=\"C\",DESIGN_GRAD!P10,DESIGN_GRAD!O10)","v":0},{"$error":"#VALUE!"},{"$error":"#VALUE!"},null,{"$f":"INDEX(INDIRECT(MIX_NAME),6,25)","v":{"$error":"#REF!"}},"",null,null,null,null,{"$f":"DESIGN_GRAD!C10","v":""},{"$f":"DESIGN_GRAD!E10","v":""},null,null,null,null,null,null,6,{"$error":"#REF!"},{"$error":"#REF!"}]
[null,{"$f":"IFERROR(DESIGN_GRAD!B11,\"\")","v":""},null,{"$f":"IF(ISBLANK(C15),\"\",IF($G$6=\"Cumulative\",(C15-SUM(D$9:D14)),SUM(C$9:C15)))","v":""},"","","",{"$f":"IF(ISBLANK(C15),\"\",DATA_TOL!K10)","v":""},"",{"$f":"IF(ISBLANK(C15),\"\",DATA_TOL!L10)","v":""},null,{"$f":"IF(AND(LEN(C15)>0,NOT(N_TRIAL=\"Yes\"),IF(MIX_NAME=\"HMA\",FALSE,INDEX(CHK_MGL,MIX_ID))),IF(AND(G15>=$Y$15,G15<=$Z$15,E15>=H15,E15<=J15),1,0),IF(AND(LEN(C15)>0,IF(MIX_NAME=\"HMA\",FALSE,INDEX(CHK_MGL200,MIX_ID)),B15=\"#200\",N_TRIAL=\"Yes\"),IF(AND(G15>=$Y$19,G15<=$Z$19),1,0),IF(AND(LEN(C15)>0,IF(MIX_NAME=\"HMA\",FALSE,INDEX(CHK_MGL200,MIX_ID)),B15=\"#200\"),IF(AND(G15>=$Y$19,G15<=$Z$19,E15>=H15,E15<=J15),1,0),IF(LEN(E15)=0,\"\",IF(N_TRIAL=\"Yes\",IF(AND(G15>=H15,G15<=J15),1,0),IF(AND(E15>=H15,E15<=J15),1,0))))))","v":""},{"$f":"IFERROR(IF(AND(AI15,C15<>\"\"),IF(AND(G15>=DESIGN_GRAD!F11,G15<=DESIGN_GRAD!H11),0,1),\"\"),\"\")","v":""},"",{"$f":"IF(LEFT($B$2,1)=\"C\",DESIGN_GRAD!P11,DESIGN_GRAD!O11)","v":0},{"$error":"#VALUE!"},{"$error":"#VALUE!"},null,{"$f":"INDEX(INDIRECT(MIX_NAME),7,25)","v":{"$error":"#REF!"}},"",null,null,null,null,{"$f":"DESIGN_GRAD!C11","v":""},{"$f":"DESIGN_GRAD!E11","v":""},null,null,null,null,null,null,7,{"$error":"#REF!"},{"$error":"#REF!"}]
[null,{"$f":"IFERROR(DESIGN_GRAD!B12,\"\")","v":""},null,{"$f":"IF(ISBLANK(C16),\"\",IF($G$6=\"Cumulative\",(C16-SUM(D$9:D15)),SUM(C$9:C16)))","v":""},"","","",{"$f":"IF(ISBLANK(C16),\"\",DATA_TOL!K11)","v":""},"",{"$f":"IF(ISBLANK(C16),\"\",DATA_TOL!L11)","v":""},null,{"$f":"IF(AND(LEN(C16)>0,NOT(N_TRIAL=\"Yes\"),IF(MIX_NAME=\"HMA\",FALSE,INDEX(CHK_MGL,MIX_ID))),IF(AND(G16>=$Y$16,G16<=$Z$16,E16>=H16,E16<=J16),1,0),IF(AND(LEN(C16)>0,IF(MIX_NAME=\"HMA\",FALSE,INDEX(CHK_MGL200,MIX_ID)),B16=\"#200\",N_TRIAL=\"Yes\"),IF(AND(G16>=$Y$19,G16<=$Z$19),1,0),IF(AND(LEN(C16)>0,IF(MIX_NAME=\"HMA\",FALSE,INDEX(CHK_MGL200,MIX_ID)),B16=\"#200\"),IF(AND(G16>=$Y$19,G16<=$Z$19,E16>=H16,E16<=J16),1,0),IF(LEN(E16)=0,\"\",IF(N_TRIAL=\"Yes\",IF(AND(G16>=H16,G16<=J16),1,0),IF(AND(E16>=H16,E16<=J16),1,0))))))","v":""},{"$f":"IFERROR(IF(AND(AI16,C16<>\"\"),IF(AND(G16>=DESIGN_GRAD!F12,G16<=DESIGN_GRAD!H12),0,1),\"\"),\"\")","v":""},"",{"$f":"IF(LEFT($B$2,1)=\"C\",DESIGN_GRAD!P12,DESIGN_GRAD!O12)","v":0},{"$error":"#VALUE!"},{"$error":"#VALUE!"},null,{"$f":"INDEX(INDIRECT(MIX_NAME),8,25)","v":{"$error":"#REF!"}},"",null,null,null,null,{"$f":"DESIGN_GRAD!C12","v":""},{"$f":"DESIGN_GRAD!E12","v":""},null,null,null,null,null,null,8,{"$error":"#REF!"},{"$error":"#REF!"}]
[null,{"$f":"IFERROR(DESIGN_GRAD!B13,\"\")","v":""},null,{"$f":"IF(C17=\"\",\"\",IF($G$6=\"Cumulative\",(C17-SUM(D$9:D16)),SUM(C$9:C17)))","v":""},"","","",{"$f":"IF(ISBLANK(C17),\"\",DATA_TOL!K12)","v":""},"",{"$f":"IF(ISBLANK(C17),\"\",DATA_TOL!L12)","v":""},null,{"$f":"IF(AND(LEN(C17)>0,NOT(N_TRIAL=\"Yes\"),IF(MIX_NAME=\"HMA\",FALSE,INDEX(CHK_MGL,MIX_ID))),IF(AND(G17>=$Y$17,G17<=$Z$17,E17>=H17,E17<=J17),1,0),IF(AND(LEN(C17)>0,IF(MIX_NAME=\"HMA\",FALSE,INDEX(CHK_MGL200,MIX_ID)),B17=\"#200\",N_TRIAL=\"Yes\"),IF(AND(G17>=$Y$19,G17<=$Z$19),1,0),IF(AND(LEN(C17)>0,IF(MIX_NAME=\"HMA\",FALSE,INDEX(CHK_MGL200,MIX_ID)),B17=\"#200\"),IF(AND(G17>=$Y$19,G17<=$Z$19,E17>=H17,E17<=J17),1,0),IF(LEN(E17)=0,\"\",IF(N_TRIAL=\"Yes\",IF(AND(G17>=H17,G17<=J17),1,0),IF(AND(E17>=H17,E17<=J17),1,0))))))","v":""},{"$f":"IFERROR(IF(AND(AI17,C17<>\"\"),IF(AND(G17>=DESIGN_GRAD!F13,G17<=DESIGN_GRAD!H13),0,1),\"\"),\"\")","v":""},"",{"$f":"IF(LEFT($B$2,1)=\"C\",DESIGN_GRAD!P13,DESIGN_GRAD!O13)","v":0},{"$error":"#VALUE!"},{"$error":"#VALUE!"},null,{"$f":"INDEX(INDIRECT(MIX_NAME),9,25)","v":{"$error":"#REF!"}},"",null,null,null,null,{"$f":"DESIGN_GRAD!C13","v":""},{"$f":"DESIGN_GRAD!E13","v":""},null,null,null,null,null,null,9,{"$error":"#REF!"},{"$error":"#REF!"}]
[null,{"$f":"IFERROR(DESIGN_GRAD!B14,\"\")","v":""},null,{"$f":"IF(C18=\"\",\"\",IF($G$6=\"Cumulative\",(C18-SUM(D$9:D17)),SUM(C$9:C18)))","v":""},"","","",{"$f":"IF(ISBLANK(C18),\"\",DATA_TOL!K13)","v":""},"",{"$f":"IF(ISBLANK(C18),\"\",DATA_TOL!L13)","v":""},null,{"$f":"IF(AND(LEN(C18)>0,NOT(N_TRIAL=\"Yes\"),IF(MIX_NAME=\"HMA\",FALSE,INDEX(CHK_MGL,MIX_ID))),IF(AND(G18>=$Y$18,G18<=$Z$18,E18>=H18,E18<=J18),1,0),IF(AND(LEN(C18)>0,IF(MIX_NAME=\"HMA\",FALSE,INDEX(CHK_MGL200,MIX_ID)),B18=\"#200\",N_TRIAL=\"Yes\"),IF(AND(G18>=$Y$19,G18<=$Z$19),1,0),IF(AND(LEN(C18)>0,IF(MIX_NAME=\"HMA\",FALSE,INDEX(CHK_MGL200,MIX_ID)),B18=\"#200\"),IF(AND(G18>=$Y$19,G18<=$Z$19,E18>=H18,E18<=J18),1,0),IF(LEN(E18)=0,\"\",IF(N_TRIAL=\"Yes\",IF(AND(G18>=H18,G18<=J18),1,0),IF(AND(E18>=H18,E18<=J18),1,0))))))","v":""},{"$f":"IFERROR(IF(AND(AI18,C18<>\"\"),IF(AND(G18>=DESIGN_GRAD!F14,G18<=DESIGN_GRAD!H14),0,1),\"\"),\"\")","v":""},"",{"$f":"IF(LEFT($B$2,1)=\"C\",DESIGN_GRAD!P14,DESIGN_GRAD!O14)","v":0},{"$error":"#VALUE!"},{"$error":"#VALUE!"},null,{"$f":"INDEX(INDIRECT(MIX_NAME),10,25)","v":{"$error":"#REF!"}},"",null,null,null,null,{"$f":"DESIGN_GRAD!C14","v":""},{"$f":"DESIGN_GRAD!E14","v":""},null,null,null,null,null,null,10,{"$error":"#REF!"},{"$error":"#REF!"}]
[null,"- #200",null,null,null,null,null,null,null,null,null,null,null,null,null,null,null,"#16",null,null,1.18,{"$f":"VLOOKUP(\"#16\",$B$9:$G$18,6,0)","v":{"$error":"#N/A"}},{"$f":"LOG(U19)","v":7.1882007306125359E-2},{"$error":"#N/A"},{"$f":"MIN(Y9:Y18)","v":0},{"$f":"MIN(Z9:Z18)","v":0}]
[null,null,{"$f":"IF(G4>0,G4-IF(G6=\"Cumulative\",LARGE(C9:C19,1),SUM(C9:C19)),IF(SUM(C9:C19)=0,\"\",0))","v":""},{"$f":"IF(G4<>\"\",IF(G5<>\"\",\"Wash Loss\" & IF(C23>0,\" - \",\" + \"),\"\")&IF(C23>0,\"Sieving Gain (g)\",IF(C23<0,\"Sieving Loss (g)\",\"\")),\"\")","v":""},null,null,null,null,null,null,null,null,null,null,null,null,null,"#50",null,null,0.3,{"$f":"VLOOKUP(\"#50\",$B$9:$G$18,6,0)","v":{"$error":"#N/A"}},-0.52287874528033762,{"$error":"#N/A"}]
[null,"Total - #200",{"$f":"IF(ISERROR(IF(G6=\"Cumulative\",LARGE(C9:C19,1),C19)+C20),\"\",IF(G6=\"Cumulative\",LARGE(C9:C19,1),C19)+C20)","v":""},{"$f":"IF(ISBLANK(C19),\"\",IF(G6=\"Cumulative\",(C21-SUM(D$9:D18)),SUM(C$9:C18,C21)))","v":""},{"$f":"IF(ISERROR(OFFSET(G19,-COUNTBLANK(B9:B18)-1,0)-G21),\"\",OFFSET(G19,-COUNTBLANK(B9:B18)-1,0)-G21)","v":""},{"$f":"IF(ISERROR(OFFSET(F19,-COUNTBLANK(B9:B18)-1,0)+E21),\"\",OFFSET(F19,-COUNTBLANK(B9:B18)-1,0)+E21)","v":""},{"$f":"IF(ISERROR(100-IF(G6=\"Cumulative\",C21/C22*100,D21/C22*100)),\"\",ROUND(100-IF(G6=\"Cumulative\",C21/C22*100,D21/C22*100),1))","v":""},{"$f":"IF(C21=\"\",\"\",DATA_TOL!K14)","v":""},{"$f":"IF(LEN(H21)>0,\"-\",\"\")","v":""},{"$f":"IF(C21=\"\",\"\",DATA_TOL!L14)","v":""},null,{"$f":"IF(LEN(E21)=0,\"\",IF(N_TRIAL=\"Yes\",IF(AND(G21>=H21,G21<=J21),1,0),IF(AND(E21>=H21,E21<=J21),1,0)))","v":""},null,{"$f":"IF(AND(LEN(C21)>0,NOT(LEN(E21)=0),NOT(N_TRIAL=\"Yes\")),IF(OR(E21<H21,E21>J21),\"% passing #200 fails JMF target\",\"\"),\"\")","v":""},null,null,null,"#200",null,null,7.4999999999999997E-2,{"$f":"VLOOKUP(\"#200\",$B$9:$G$18,6,0)","v":{"$error":"#N/A"}},-1.1249387366082999,{"$error":"#N/A"}]
[null,"Total weight, g",{"$f":"IF(ISERROR(IF(G6=\"Cumulative\",C21,SUM(C9:C18)+C21)),\"\",IF(G6=\"Cumulative\",C21,SUM(C9:C18)+C21))","v":""},null,null,null,null,null,null,null,null,null,null,null,null,null,null,"#30",2.87,{"$f":"S22*V22/100","v":{"$error":"#N/A"}},0.6,{"$f":"10^X22","v":{"$error":"#N/A"}},{"$f":"LOG(U22)","v":-0.22184874961635639},{"$f":"FORECAST(W22,X19:X20,W19:W20)","v":{"$error":"#N/A"}}]
[null,null,{"$f":"IF(G5<>\"\",IF(G6=\"Cumulative\",IF(ISERROR(LARGE(C9:C19,1)),0,LARGE(C9:C19,1)),SUM(C9:C19))-G5,IF(G4<>\"\",IF(G6=\"Cumulative\",IF(ISERROR(LARGE(C9:C19,1)),0,LARGE(C9:C19,1)),SUM(C9:C19))-G4,IF(B23<>\"\",IF(G6=\"Cumulative\",IF(ISERROR(LARGE(C9:C19,1)),0,LARGE(C9:C19,1)),SUM(C9:C19))-B23,\"\")))","v":""},{"$f":"IF(AND(C22<>\"\",C23<>\"\"),IF(C25>0.2,\"Discrepancy too large - rerun analysis\",\"Sieving \" & IF(C23>0, \"Gain\", \"Loss\") & \" (g), from \" & IF(G5<>\"\", \"dry weight after washing\", \"original dry sample\")),\"\")","v":""},null,null,null,null,null,null,null,null,null,null,null,null,null,"#100",12.29,{"$f":"S23*V23/100","v":{"$error":"#N/A"}},0.15,{"$f":"10^X23","v":{"$error":"#N/A"}},{"$f":"LOG(U23)","v":-0.82390874094431876},{"$f":"FORECAST(W23,X20:X21,W20:W21)","v":{"$error":"#N/A"}}]
[null,null,null,null,null,null,null,null,null,null,null,null,null,null,null,null,null,null,null,{"$f":"SUM(T9:T18)+T22+T23","v":{"$error":"#N/A"}}]
[null,null,{"$f":"ABS(100*C23/C22)","v":{"$error":"#VALUE!"}}]

{"sheet":"DOT1_DENSITY","index":23,"n_rows":37,"n_cols":13,"rows_kept":37,"cut":false,"hidden":false,"merged":[[34,2,34,4],[34,5,34,6],[35,2,35,4],[35,5,35,6],[36,2,36,4],[36,5,36,6],[33,2,33,4],[33,5,33,6],[0,1,0,8],[1,1,1,6],[2,2,2,4],[2,5,2,6],[15,1,15,6],[24,1,24,6],[30,1,30,6],[31,2,31,4],[31,5,31,6],[32,2,32,4],[32,5,32,6]]}
[null,{"$f":"header","v":"SAMPLE ID:    ______________________________    SAMPLED DATE: ___________________________\nLOT NUMBER:    _____________________________    LETTING DATE: ___________________________\nSAMPLE STATUS:    __________________________    CONTROLLING CSJ: ________________________\nCOUNTY:    _________________________________    SPEC YEAR: ______________________________\nSAMPLED BY:    __________________________________    SPEC ITEM: ______________________________\nSAMPLE LOCATION:    ________________________    SPECIAL PROVISION: ______________________\nMATERIAL CODE:    __________________________    MIX TYPE: _______________________________\nMATERIAL NAME: __________________________________________________________________\nPRODUCER: _______________________________________________________________________\nAREA ENGINEER:    __________________________    PROJECT MANAGER: _____________________________\nCOURSE\\LIFT:    __________________    STATION: ______________________    DIST. FROM CL: ______\n"}]
[null,{"$f":"LEFT(REPLACE(CELL(\"filename\",A1),1,FIND(\"]\",CELL(\"filename\",A1)),\"\"),4) &  \" DETERMINING PROPERTIES OF BITUMINOUS MIXTURES-Tex-207-F\"","v":"DOT1 DETERMINING PROPERTIES OF BITUMINOUS MIXTURES-Tex-207-F"}]
[null,"Specimen type:","Laboratory",null,null,"Roadway"]
[null,"Specimen number:","1(1)","1(2)","1(3)","1(A)","1(B)"]
[null,"Note to developer - hide this row Specimen radius, mm:"]
[null,{"$f":"IF(DESIGN_GE,\"Specimen height, mm:\",\"Untrimmed specimen/Core height, in:\")","v":{"$error":"#N/A"}}]
[null,"Trimmed core height, in:"]
[null,"Weight of specimen in air, g:"]
[null,"Weight of specimen in water, g:"]
[null,"SSD weight of specimen in air, g:"]
[null,"Volume of specimen:",{"$f":"IF(AND(ISBLANK(C10),ISBLANK(C9)),\"\",C10-C9)","v":""},{"$f":"IF(AND(ISBLANK(D10),ISBLANK(D9)),\"\",D10-D9)","v":""},{"$f":"IF(AND(ISBLANK(E10),ISBLANK(E9)),\"\",E10-E9)","v":""},{"$f":"IF(AND(ISBLANK(F10),ISBLANK(F9)),\"\",F10-F9)","v":""},{"$f":"IF(AND(ISBLANK(G10),ISBLANK(G9)),\"\",G10-G9)","v":""}]
[null,"Note to developer - hide this row SSD Density:",{"$f":"IFERROR(C8/C11,\"\")","v":""},{"$f":"IFERROR(D8/D11,\"\")","v":""},{"$f":"IFERROR(E8/E11,\"\")","v":""},{"$f":"IFERROR(F8/F11,\"\")","v":""},{"$f":"IFERROR(G8/G11,\"\")","v":""}]
[null,"Percent absorption, %:",{"$f":"IFERROR(ROUND(100*((C10-C8)/(C10-C9)),1),\"\")","v":""},{"$f":"IFERROR(ROUND(100*((D10-D8)/(D10-D9)),1),\"\")","v":""},{"$f":"IFERROR(ROUND(100*((E10-E8)/(E10-E9)),1),\"\")","v":""},{"$f":"IFERROR(ROUND(100*((F10-F8)/(F10-F9)),1),\"\")","v":""},{"$f":"IFERROR(ROUND(100*((G10-G8)/(G10-G9)),1),\"\")","v":""}]
[null,"Bag required for Ga:",{"$f":"IF(ISNUMBER(C13),IF(C13>2,\"Yes\",\"No\"),\"\")","v":""},{"$f":"IF(ISNUMBER(D13),IF(D13>2,\"Yes\",\"No\"),\"\")","v":""},{"$f":"IF(ISNUMBER(E13),IF(E13>2,\"Yes\",\"No\"),\"\")","v":""},{"$f":"IF(ISNUMBER(F13),IF(F13>2,\"Yes\",\"No\"),\"\")","v":""},{"$f":"IF(ISNUMBER(G13),IF(G13>2,\"Yes\",\"No\"),\"\")","v":""}]
[null,"Bag Used for Ga:"]
[null,"Vacuum bag inputs"]
[null,"Vacuum bag method used:"]
[null,"Weight of specimen in air, g:"]
[null,"Sealed weight of specimen in water, g:",null,null,null,null,null,null,{"$f":"IF(OR(ISBLANK(C20),ISBLANK(C18)),\"\",IF(ABS(C20-C18)>5,-1,0))","v":""},{"$f":"IF(OR(ISBLANK(D20),ISBLANK(D18)),\"\",IF(ABS(D20-D18)>5,-1,0))","v":""},{"$f":"IF(OR(ISBLANK(E20),ISBLANK(E18)),\"\",IF(ABS(E20-E18)>5,-1,0))","v":""},{"$f":"IF(OR(ISBLANK(F20),ISBLANK(F18)),\"\",IF(ABS(F20-F18)>5,-1,0))","v":""},{"$f":"IF(OR(ISBLANK(G20),ISBLANK(G18)),\"\",IF(ABS(G20-G18)>5,-1,0))","v":""}]
[null,"Dry specimen weight after submersion, g:",null,null,null,null,null,null,{"$f":"IFERROR(IF(OR(I19:M19),\"> 5g. Repeat test, a leak may have occurred.\",\"\"),\"\")","v":""}]
[null,"Weight of vacuum bag(s), g:"]
[null,"Vacuum bag volume correction factor:",{"$f":"IFERROR(IF(LEFT(C17,1)=\"L\",-0.00166*(C18/C21)+0.8596,IF(LEFT(C17,1)=\"S\",-0.000566*(C18/C21)+0.8121,IF(LEFT(C17,1)=\"D\",-0.0022448*(C18/C21)+0.85818,\"\"))),\"\")","v":""},{"$f":"IFERROR(IF(LEFT(D17,1)=\"L\",-0.00166*(D18/D21)+0.8596,IF(LEFT(D17,1)=\"S\",-0.000566*(D18/D21)+0.8121,IF(LEFT(D17,1)=\"D\",-0.0022448*(D18/D21)+0.85818,\"\"))),\"\")","v":""},{"$f":"IFERROR(IF(LEFT(E17,1)=\"L\",-0.00166*(E18/E21)+0.8596,IF(LEFT(E17,1)=\"S\",-0.000566*(E18/E21)+0.8121,IF(LEFT(E17,1)=\"D\",-0.0022448*(E18/E21)+0.85818,\"\"))),\"\")","v":""},{"$f":"IFERROR(IF(LEFT(F17,1)=\"L\",-0.00166*(F18/F21)+0.8596,IF(LEFT(F17,1)=\"S\",-0.000566*(F18/F21)+0.8121,IF(LEFT(F17,1)=\"D\",-0.0022448*(F18/F21)+0.85818,\"\"))),\"\")","v":""},{"$f":"IFERROR(IF(LEFT(G17,1)=\"L\",-0.00166*(G18/G21)+0.8596,IF(LEFT(G17,1)=\"S\",-0.000566*(G18/G21)+0.8121,IF(LEFT(G17,1)=\"D\",-0.0022448*(G18/G21)+0.85818,\"\"))),\"\")","v":""}]
[null,"Vacuum bag density:",{"$f":"IFERROR(C18/(C21+C18-C19-(C21/C22)),\"\")","v":""},{"$f":"IFERROR(D18/(D21+D18-D19-(D21/D22)),\"\")","v":""},{"$f":"IFERROR(E18/(E21+E18-E19-(E21/E22)),\"\")","v":""},{"$f":"IFERROR(F18/(F21+F18-F19-(F21/F22)),\"\")","v":""},{"$f":"IFERROR(G18/(G21+G18-G19-(G21/G22)),\"\")","v":""}]
[null,"Note to developer - hide this row",{"$f":"IF(LEFT($B$2,1)=\"D\",PRESS_T,PRESS_C)+IF(INDEX(CHK_GE,MIX_ID),IF(ISERROR(C8*1000/(3.14*75^2*C6)),\"\",C8*1000/(3.14*75^2*C6)),IF(C15<>\"Yes\",IF(ISERROR(C12),\"\",ROUND(C12,3)),IF(ISERROR(MIN(C12,C23)),\"\",ROUND(MIN(C12,C23),3))))","v":{"$error":"#N/A"}},{"$f":"IF(LEFT($B$2,1)=\"D\",PRESS_T,PRESS_C)+IF(INDEX(CHK_GE,MIX_ID),IF(ISERROR(D8*1000/(3.14*75^2*D6)),\"\",D8*1000/(3.14*75^2*D6)),IF(D15<>\"Yes\",IF(ISERROR(D12),\"\",ROUND(D12,3)),IF(ISERROR(MIN(D12,D23)),\"\",ROUND(MIN(D12,D23),3))))","v":{"$error":"#N/A"}},{"$f":"IF(LEFT($B$2,1)=\"D\",PRESS_T,PRESS_C)+IF(INDEX(CHK_GE,MIX_ID),IF(ISERROR(E8*1000/(3.14*75^2*E6)),\"\",E8*1000/(3.14*75^2*E6)),IF(E15<>\"Yes\",IF(ISERROR(E12),\"\",ROUND(E12,3)),IF(ISERROR(MIN(E12,E23)),\"\",ROUND(MIN(E12,E23),3))))","v":{"$error":"#N/A"}},{"$f":"IF(INDEX(CHK_GE,MIX_ID),IF(ISERROR(F8*1000/(3.14*F5^2*F6)),\"\",F8*1000/(3.14*F5^2*F6)),IF(F15<>\"Yes\",IF(ISERROR(F12),\"\",ROUND(F12,3)),IF(ISERROR(MIN(F12,F23)),\"\",ROUND(MIN(F12,F23),3))))","v":{"$error":"#N/A"}},{"$f":"IF(INDEX(CHK_GE,MIX_ID),IF(ISERROR(G8*1000/(3.14*G5^2*G6)),\"\",G8*1000/(3.14*G5^2*G6)),IF(G15<>\"Yes\",IF(ISERROR(G12),\"\",ROUND(G12,3)),IF(ISERROR(MIN(G12,G23)),\"\",ROUND(MIN(G12,G23),3))))","v":{"$error":"#N/A"}}]
[null,"Volumetric properties"]
[null,"Bulk specific gravity, Ga:",{"$f":"IFERROR(ROUND(C24,3),\"\")","v":""},{"$f":"IFERROR(ROUND(D24,3),\"\")","v":""},{"$f":"IFERROR(ROUND(E24,3),\"\")","v":""},{"$f":"IFERROR(ROUND(F24,3),\"\")","v":""},{"$f":"IFERROR(ROUND(G24,3),\"\")","v":""}]
[null,"Percent density, %:",{"$f":"IFERROR(ROUND(100*C26/$C$33,1),\"\")","v":""},{"$f":"IFERROR(ROUND(100*D26/$C$33,1),\"\")","v":""},{"$f":"IFERROR(ROUND(100*E26/$C$33,1),\"\")","v":""},{"$f":"IFERROR(ROUND(100*F26/$F$33,1),\"\")","v":""},{"$f":"IFERROR(ROUND(100*G26/$F$33,1),\"\")","v":""}]
[null,"Percent air voids, %:",{"$f":"IFERROR(ROUND(100-C27,1),\"\")","v":""},{"$f":"IFERROR(ROUND(100-D27,1),\"\")","v":""},{"$f":"IFERROR(ROUND(100-E27,1),\"\")","v":""},{"$f":"IFERROR(ROUND(100-F27,1),\"\")","v":""},{"$f":"IFERROR(ROUND(100-G27,1),\"\")","v":""}]
[null,"Percent VMA, %:",{"$f":"IFERROR(ROUND(100-(100*(C26/INDIRECT(LEFT($B$2,4) & \"_PROD!$C$30\")))+((C26*$C$32)/MIX_GSB),1),\"\")","v":""},{"$f":"IFERROR(ROUND(100-(100*(D26/INDIRECT(LEFT($B$2,4) & \"_PROD!$C$30\")))+((D26*$C$32)/MIX_GSB),1),\"\")","v":""},{"$f":"IFERROR(ROUND(100-(100*(E26/INDIRECT(LEFT($B$2,4) & \"_PROD!$C$30\")))+((E26*$C$32)/MIX_GSB),1),\"\")","v":""},{"$f":"IFERROR(ROUND(100-(100*(F26/INDIRECT(LEFT($B$2,4) & \"_PROD!$C$30\")))+((F26*$F$32)/MIX_GSB),1),\"\")","v":""},{"$f":"IFERROR(ROUND(100-(100*(G26/INDIRECT(LEFT($B$2,4) & \"_PROD!$C$30\")))+((G26*$F$32)/MIX_GSB),1),\"\")","v":""}]
[]
[null,"MEAN VOLUMETRIC PROPERTIES"]
[null,{"$f":"IF(AND(LEFT($B$2,1)=\"D\",INDIRECT(LEFT($B$2,4) & \"_PROD!C17\")=\"\",INDIRECT(SUBSTITUTE(LEFT($B$2,4),\"DOT\",\"CON\") & \"_PROD!C17\")<>\"\"),\"Contractor's asphalt content, %:\",\"Asphalt content, %:\")","v":"Asphalt content, %:"},{"$f":"IFERROR(IF(AND(LEFT($B$2,1)=\"D\",INDIRECT(LEFT($B$2,4) & \"_PROD!C17\")=\"\",INDIRECT(SUBSTITUTE(LEFT($B$2,4),\"DOT\",\"CON\") & \"_PROD!C17\")<>\"\"),ROUND(INDIRECT(SUBSTITUTE(LEFT($B$2,4),\"DOT\",\"CON\") & \"_PROD!C17\"),1),ROUND(INDIRECT(LEFT($B$2,4) & \"_PROD!C17\"),1)),\"\")","v":""},null,null,{"$f":"IFERROR(IF(AND(LEFT($B$2,1)=\"D\",INDIRECT(LEFT($B$2,4) & \"_PROD!C17\")=\"\",INDIRECT(SUBSTITUTE(LEFT($B$2,4),\"DOT\",\"CON\") & \"_PROD!C17\")<>\"\"),ROUND(INDIRECT(SUBSTITUTE(LEFT($B$2,4),\"DOT\",\"CON\") & \"_PROD!C17\"),1),ROUND(INDIRECT(LEFT($B$2,4) & \"_PROD!C17\"),1)),\"\")","v":""}]
[null,{"$f":"IF(AND(INDIRECT(LEFT($B$2,4) & \"_PROD!C27\")<>\"\",INDIRECT(LEFT($B$2,4) & \"_PROD!C27\")>0.01),\"Corrected Rice specific gravity, Grc:\",\"Rice specific gravity, Gr:\")","v":"Rice specific gravity, Gr:"},{"$f":"IFERROR(ROUND(IF(DESIGN_GE,100/((100-C32)/MIX_GMB+(C32/MIX_GSB)),INDIRECT(LEFT($B$2,4) & \"_PROD!C30\")),3),\"\")","v":""},null,null,{"$f":"IF(LEFT($B$2,1)=\"D\",IFERROR(ROUND(AVERAGE(INDIRECT(\"DOT1_PROD!C30\"),INDIRECT(\"DOT2_PROD!C30\"),INDIRECT(\"DOT3_PROD!C30\"),INDIRECT(\"DOT4_PROD!C30\")),3),\"\"),IFERROR(ROUND(AVERAGE(INDIRECT(\"CON1_PROD!C30\"),INDIRECT(\"CON2_PROD!C30\"),INDIRECT(\"CON3_PROD!C30\"),INDIRECT(\"CON4_PROD!C30\")),3),\"\"))","v":""}]
[null,"Percent density, %:",{"$f":"IFERROR(ROUND(AVERAGE(C27:E27),1),\"\")","v":""},null,null,{"$f":"IFERROR(ROUND(AVERAGE(F27:G27),1),\"\")","v":""}]
[null,"Actual specific gravity:",{"$f":"IFERROR(ROUND(AVERAGE(C26:E26),3),\"\")","v":""},null,null,{"$f":"IFERROR(ROUND(AVERAGE(F26:G26),3),\"\")","v":""}]
[null,"Percent air voids, %:",{"$f":"IFERROR(ROUND(AVERAGE(C28:E28),1),\"\")","v":""},null,null,{"$f":"IFERROR(ROUND(AVERAGE(F28:G28),1),\"\")","v":""}]
[null,"Percent VMA, %:",{"$f":"IFERROR(ROUND(AVERAGE(C29:E29),1),\"\")","v":""},null,null,{"$f":"IFERROR(ROUND(AVERAGE(F29:G29),1),\"\")","v":""}]

{"sheet":"DOT2_PROD","index":24,"n_rows":67,"n_cols":3,"rows_kept":67,"cut":false,"hidden":false,"merged":[[43,1,43,2],[58,1,58,2],[65,1,65,2],[0,1,0,2],[1,1,1,2],[6,1,6,2],[7,1,7,2],[21,1,21,2],[32,1,32,2]]}
[null,{"$f":"header","v":"SAMPLE ID:    ______________________________    SAMPLED DATE: ___________________________\nLOT NUMBER:    _____________________________    LETTING DATE: ___________________________\nSAMPLE STATUS:    __________________________    CONTROLLING CSJ: ________________________\nCOUNTY:    _________________________________    SPEC YEAR: ______________________________\nSAMPLED BY:    __________________________________    SPEC ITEM: ______________________________\nSAMPLE LOCATION:    ________________________    SPECIAL PROVISION: ______________________\nMATERIAL CODE:    __________________________    MIX TYPE: _______________________________\nMATERIAL NAME: __________________________________________________________________\nPRODUCER: _______________________________________________________________________\nAREA ENGINEER:    __________________________    PROJECT MANAGER: _____________________________\nCOURSE\\LIFT:    __________________    STATION: ______________________    DIST. FROM CL: ______\n"}]
[null,{"$f":"LEFT(REPLACE(CELL(\"filename\",A1),1,FIND(\"]\",CELL(\"filename\",A1)),\"\"),4) & \" PRODUCTION DATA\"","v":"DOT2 PRODUCTION DATA"}]
[null,"Sublot sample date:",{"$f":"IFERROR(IF(LEN(INDIRECT(\"DATE_\"&LEFT($B$2,4)))>0,INDIRECT(\"DATE_\"&LEFT($B$2,4)),\"\"),\"\")","v":""}]
[null,"Sublot location, Tons:",{"$f":"IFERROR(INDIRECT(\"SLOC_\"&LEFT($B$2,4)),\"\")","v":""}]
[null,"Production location, Tons:",{"$f":"IFERROR(INDIRECT(\"PLOC_\"&LEFT($B$2,4)),\"\")","v":""}]
[]
[null,"DETERMINATION OF ASPHALT CONTENT"]
[null,{"$f":"\"Method: \" & AC_METHOD","v":"Method: "}]
[null,"Weight of sample and basket before ignition, g:"]
[null,"Weight of sample and basket after ignition, g:"]
[null,"Weight of basket, g:"]
[null,"Ignition oven AC, %:",{"$f":"IFERROR(100*(C9-C10)/(C9-C11),\"\")","v":""}]
[null,"AC, % :"]
[null,"Nuclear testing gauge number:"]
[null,"Nuclear testing gauge calibration reference number:"]
[null,"Nuclear testing gauge time (hh:mm:ss):"]
[null,"Corrected AC, %:",{"$f":"IF(AND(C12=\"\",ISBLANK(C13)),\"\",IF(AC_METHOD=\"Ignition oven\",ROUND(C12,1)+IF(LEFT($B$2,1)=\"D\",AC_T_COR,AC_C_COR),ROUND(C13,1)))","v":""}]
[null,"Ratio of recycled to total binder:",{"$f":"IFERROR(100*REC_AC/C17,\"\")","v":""}]
[null,"Binder sample received?:"]
[null,"DSR aging ratio:"]
[]
[null,"LAB DETERMINATION OF RICE SPECIFIC GRAVITY Tex-227-F"]
[null," (A) Weight of  dry sample in air, g:"]
[null," (D) Weight of calibrated pyc. with water, g:"]
[null,"(E) Weight of sample, pyc. and water, g:"]
[null,"A/(D+A-E) Rice specific gravity (Gr):",{"$f":"IFERROR(ROUND(C23/(C24+C23-C25),3),\"\")","v":""}]
[null,"(Asd) Weight of surface dry sample in air, g:"]
[null,"A/(D+Asd-E) Rice Specific Gravity (Grc):",{"$f":"IFERROR(ROUND(C23/(C24+C27-C25),3),\"\")","v":""}]
[null,"(Gr-Grc)/Grc Percentage Difference:",{"$f":"IF(C26=\"\",\"\",IF(C28=\"\",\"\",(C26-C28)/C28))","v":""}]
[null,{"$f":"IF(C29>0.003,\"A/(D+Asd-E)\",\"A/(D+A-E)\") & \" Rice Specific Gravity \" & IF(C29>0.003,\"(Grc):\",\"(Gr):\")","v":"A/(D+Asd-E) Rice Specific Gravity (Grc):"},{"$f":"IF(C29>0.003,C28,C26)","v":""}]
[]
[]
[null,"ROAD DETERMINATION OF RICE SPECIFIC GRAVITY Tex-227-F"]
[null," (A) Weight of  dry sample in air, g:"]
[null," (D) Weight of calibrated pyc. with water, g:"]
[null,"(E) Weight of sample, pyc. and water, g:"]
[null,"A/(D+A-E) Rice specific gravity (Gr):",{"$f":"IF(ISERROR(C34/(C35+C34-C36)),\"\",ROUND(C34/(C35+C34-C36),3))","v":""}]
[null,"(Asd) Weight of surface dry sample in air, g:"]
[null,"A/(D+Asd-E) Rice Specific Gravity (Grc):",{"$f":"IFERROR(ROUND(C34/(C35+C38-C36),3),\"\")","v":""}]
[null,"(Gr-Grc)/Grc Percentage Difference:",{"$f":"IF(C37=\"\",\"\",IF(C39=\"\",\"\",(C37-C39)/C39))","v":""}]
[null,{"$f":"IF(C40>0.003,\"A/(D+Asd-E)\",\"A/(D+A-E)\") & \" Rice Specific Gravity \" & IF(C40>0.003,\"(Grc):\",\"(Gr):\")","v":"A/(D+Asd-E) Rice Specific Gravity (Grc):"},{"$f":"IF(C40>0.003,C39,C37)","v":""}]
[]
[]
[null,"PRODUCTION PERFORMANCE PROPERTIES OF BITUMINOUS MIXTURES"]
[null,"Tex-248-F Overlay test number of cycles: "]
[null,"Tex-245-F Cantabro loss content, %:"]
[null,"CRM content, %:"]
[null,"Tex-235-F Binder draindown, %:"]
[null,"Fiber content, %:"]
[null,"Membrane application rate, gal/sy:"]
[null,"Tex 246-F Permeability or Water flow, sec:"]
[null,"Tex 212-F Moisture content, %:"]
[null,"Tex-530-C Boil test estimated percent stripping, %:"]
[null,"Tex-244-F Thermal profile segregation:"]
[null,"Tex 207-F, Part V Mat segregation density profile:"]
[null,"Tex 207-F, Part VII Longitudinal joint density:"]
[]
[]
[null,"ESTIMATED FILM THICKNESS (based on gradation and asphalt content)"]
[null,"Combined bulk specific gravity (Gsb): "]
[null,"Effective specific gravity:",{"$f":"IFERROR((100-C17)/((100/C30)-C17/MIX_GSB),\"\")","v":""}]
[null,"Asphalt absorption, %:",{"$f":"IFERROR((C61-C60)/(C61*C60)*MIX_GSB*100,\"\")","v":""}]
[null,"Effective asphalt content:",{"$f":"IFERROR(C17-(C62*(100-C17))/100,\"\")","v":""}]
[null,"Film thickness, micron:",{"$f":"IFERROR(1000000*(C63/100)/(1-(C63/100))/(INDIRECT(LEFT($B$2,4) & \"_GRAD!Q24\")*MIX_GSB*1000),\"\")","v":""}]
[]
[null,"BACK CALCULATED ASPHALT CONTENT"]
[null,"Back calculated AC, %:",{"$f":"IF(NOT(OR(C17=\"\",IF(LEFT(B2,1)=\"D\",EFFGR_T,EFFGR_C)=\"\")),IFERROR(ROUND((((IF(LEFT(B2,1)=\"D\",EFFGR_T,EFFGR_C)*100)/C26)-100)/((IF(LEFT(B2,1)=\"D\",EFFGR_T,EFFGR_C)/MIX_GSB)-1),1),\"\"),\"\")","v":""}]

{"sheet":"DOT2_GRAD","index":25,"n_rows":25,"n_cols":35,"rows_kept":25,"cut":false,"hidden":false,"merged":[[5,1,5,5],[6,11,7,11],[6,12,7,12],[7,7,7,9],[0,1,0,11],[1,1,1,9],[2,1,2,9],[3,1,3,5],[3,11,3,12],[4,1,4,5]]}
[null,{"$f":"header","v":"SAMPLE ID:    ______________________________    SAMPLED DATE: ___________________________\nLOT NUMBER:    _____________________________    LETTING DATE: ___________________________\nSAMPLE STATUS:    __________________________    CONTROLLING CSJ: ________________________\nCOUNTY:    _________________________________    SPEC YEAR: ______________________________\nSAMPLED BY:    __________________________________    SPEC ITEM: ______________________________\nSAMPLE LOCATION:    ________________________    SPECIAL PROVISION: ______________________\nMATERIAL CODE:    __________________________    MIX TYPE: _______________________________\nMATERIAL NAME: __________________________________________________________________\nPRODUCER: _______________________________________________________________________\nAREA ENGINEER:    __________________________    PROJECT MANAGER: _____________________________\nCOURSE\\LIFT:    __________________    STATION: ______________________    DIST. FROM CL: ______\n"}]
[null,{"$f":"LEFT(REPLACE(CELL(\"filename\",A1),1,FIND(\"]\",CELL(\"filename\",A1)),\"\"),4) &  \" GRADATION OF EXTRACTED AGGREGATE: Tex-200-F\"","v":"DOT2 GRADATION OF EXTRACTED AGGREGATE: Tex-200-F"}]
[null,{"$f":"\"Method: \" & GRAD_METHOD","v":"Method: "}]
[null,{"$f":"IF(GRAD_METHOD=\"Belt sample\",\"Belt sample original dry weight, g:\",\"Ignited sample original dry weight, g:\")","v":"Ignited sample original dry weight, g:"},null,null,null,null,null,null,null,null,null,"TOLERANCES"]
[null,"Dry weight after washing, g:"]
[null,"Sieve analysis:",null,null,null,null,null,null,null,null,null,"Gradation","RZ"]
[null,null,null,null,{"$f":"IF(LEFT(B2,1)=\"T\",IF(COUNT(DES_IG_CF_T)>0,\"*Adjusted\",\"\"),IF(COUNT(DES_IG_CF_C)>0,\"*Adjusted\",\"\"))","v":""},{"$f":"E7","v":""},{"$f":"F7","v":""},null,null,null,null,"JMF","Current JMF"]
[null,"Sieve Size",{"$f":"IF(G6=\"Cumulative\",\"Cumulative\",\"Individual\") & \" weight retained, g\"","v":"Individual weight retained, g"},{"$f":"IF(G6=\"Cumulative\",\"Individual\",\"Cumulative\") & \" weight retained, g\"","v":"Cumulative weight retained, g"},"Individual percent retained, %","Cumulative percent retained, %","Cumulative percent passing, %",{"$f":"IF(N_TRIAL=\"Yes\",\"JMF cumulative percentage limits\",\"JMF individual retained limits\")","v":"JMF individual retained limits"}]
[null,{"$f":"IFERROR(DESIGN_GRAD!B5,\"\")","v":""},null,{"$f":"IF(ISBLANK(C9),\"\",C9)","v":""},{"$f":"IF(ISERROR(100-G9),\"\",100-G9)","v":""},{"$f":"IF(ISERROR(E9),\"\",E9)","v":""},{"$f":"IF(ISBLANK(C9),\"\",Q9)","v":""},{"$f":"IF(ISBLANK(C9),\"\",DATA_TOL!K4)","v":""},{"$f":"IF(LEN(H9)>0,\"-\",\"\")","v":""},{"$f":"IF(ISBLANK(C9),\"\",DATA_TOL!L4)","v":""},null,{"$f":"IF(AND(LEN(C9)>0,NOT(N_TRIAL=\"Yes\"),IF(MIX_NAME=\"HMA\",FALSE,INDEX(CHK_MGL,MIX_ID))),IF(AND(G9>=$Y$9,G9<=$Z$9,E9>=H9,E9<=J9),1,0),IF(AND(LEN(C9)>0,IF(MIX_NAME=\"HMA\",FALSE,INDEX(CHK_MGL200,MIX_ID)),B9=\"#200\",N_TRIAL=\"Yes\"),IF(AND(G9>=$Y$19,G9<=$Z$19),1,0),IF(AND(LEN(C9)>0,IF(MIX_NAME=\"HMA\",FALSE,INDEX(CHK_MGL200,MIX_ID)),B9=\"#200\"),IF(AND(G9>=$Y$19,G9<=$Z$19,E9>=H9,E9<=J9),1,0),IF(LEN(E9)=0,\"\",IF(N_TRIAL=\"Yes\",IF(AND(G9>=H9,G9<=J9),1,0),IF(AND(E9>=H9,E9<=J9),1,0))))))","v":""},{"$f":"IFERROR(IF(AND(AI9,C9<>\"\"),IF(AND(G9>=DESIGN_GRAD!F5,G9<=DESIGN_GRAD!H5),0,1),\"\"),\"\")","v":""},{"$f":"IF(AND(LEN(C9)>0,NOT(N_TRIAL=\"Yes\")),IF(OR(INDEX(CHK_MGL,MIX_ID),AND(IF(MIX_NAME=\"HMA\",FALSE,INDEX(CHK_MGL200,MIX_ID)),B9=\"#200\")),IF(AND(OR(G9<Y9,G9>Z9),OR(E9<H9,E9>J9)),\"% retained fails JMF target & % passing fails MGL\",IF(OR(G9<Y9,G9>Z9),\"% passing fails MGL\",IF(OR(E9<H9,E9>J9),\"% retained fails JMF target\",\"\"))),IF(OR(E9<H9,E9>J9),\"% retained fails JMF target\",\"\")),\"\")","v":""},null,{"$f":"ROUND(O9+100-IF($G$6=\"Cumulative\",C9,D9)/$C$22*100,1)","v":{"$error":"#VALUE!"}},{"$f":"P9","v":{"$error":"#VALUE!"}},null,{"$f":"INDEX(INDIRECT(MIX_NAME),1,25)","v":{"$error":"#REF!"}},{"$f":"IFERROR(S9*G9/100,\"\")","v":""},null,null,null,null,{"$f":"DESIGN_GRAD!C5","v":""},{"$f":"DESIGN_GRAD!E5","v":""},null,null,null,null,null,null,1,{"$f":"IF(LEN(INDEX(INDIRECT(MIX_NAME),AG9,2))>0,-1,0)","v":{"$error":"#REF!"}},{"$f":"IF(LEN(INDEX(INDIRECT(MIX_NAME),AG9,9))>0,-1,0)","v":{"$error":"#REF!"}}]
[null,{"$f":"IFERROR(DESIGN_GRAD!B6,\"\")","v":""},null,{"$f":"IF(ISBLANK(C10),\"\",IF($G$6=\"Cumulative\",(C10-SUM(D$9:D9)),SUM(C$9:C10)))","v":""},{"$f":"IF(ISERROR(G9-G10),\"\",G9-G10)","v":""},{"$f":"IF(ISERROR(F9+E10),\"\",F9+E10)","v":""},"",{"$f":"IF(ISBLANK(C10),\"\",DATA_TOL!K5)","v":""},"",{"$f":"IF(ISBLANK(C10),\"\",DATA_TOL!L5)","v":""},null,{"$f":"IF(AND(LEN(C10)>0,NOT(N_TRIAL=\"Yes\"),IF(MIX_NAME=\"HMA\",FALSE,INDEX(CHK_MGL,MIX_ID))),IF(AND(G10>=$Y$10,G10<=$Z$10,E10>=H10,E10<=J10),1,0),IF(AND(LEN(C10)>0,IF(MIX_NAME=\"HMA\",FALSE,INDEX(CHK_MGL200,MIX_ID)),B10=\"#200\",N_TRIAL=\"Yes\"),IF(AND(G10>=$Y$19,G10<=$Z$19),1,0),IF(AND(LEN(C10)>0,IF(MIX_NAME=\"HMA\",FALSE,INDEX(CHK_MGL200,MIX_ID)),B10=\"#200\"),IF(AND(G10>=$Y$19,G10<=$Z$19,E10>=H10,E10<=J10),1,0),IF(LEN(E10)=0,\"\",IF(N_TRIAL=\"Yes\",IF(AND(G10>=H10,G10<=J10),1,0),IF(AND(E10>=H10,E10<=J10),1,0))))))","v":""},{"$f":"IFERROR(IF(AND(AI10,C10<>\"\"),IF(AND(G10>=DESIGN_GRAD!F6,G10<=DESIGN_GRAD!H6),0,1),\"\"),\"\")","v":""},"",{"$f":"IF(LEFT($B$2,1)=\"C\",DESIGN_GRAD!P6,DESIGN_GRAD!O6)","v":0},{"$error":"#VALUE!"},{"$f":"MIN(Q9,P10)","v":{"$error":"#VALUE!"}},null,{"$f":"INDEX(INDIRECT(MIX_NAME),2,25)","v":{"$error":"#REF!"}},"",null,null,null,null,{"$f":"DESIGN_GRAD!C6","v":""},{"$f":"DESIGN_GRAD!E6","v":""},null,null,null,null,null,null,2,{"$error":"#REF!"},{"$error":"#REF!"}]
[null,{"$f":"IFERROR(DESIGN_GRAD!B7,\"\")","v":""},null,{"$f":"IF(ISBLANK(C11),\"\",IF($G$6=\"Cumulative\",(C11-SUM(D$9:D10)),SUM(C$9:C11)))","v":""},{"$f":"IF(ISERROR(G10-G11),\"\",G10-G11)","v":""},"","",{"$f":"IF(ISBLANK(C11),\"\",DATA_TOL!K6)","v":""},"",{"$f":"IF(ISBLANK(C11),\"\",DATA_TOL!L6)","v":""},null,{"$f":"IF(AND(LEN(C11)>0,NOT(N_TRIAL=\"Yes\"),IF(MIX_NAME=\"HMA\",FALSE,INDEX(CHK_MGL,MIX_ID))),IF(AND(G11>=$Y$11,G11<=$Z$11,E11>=H11,E11<=J11),1,0),IF(AND(LEN(C11)>0,IF(MIX_NAME=\"HMA\",FALSE,INDEX(CHK_MGL200,MIX_ID)),B11=\"#200\",N_TRIAL=\"Yes\"),IF(AND(G11>=$Y$19,G11<=$Z$19),1,0),IF(AND(LEN(C11)>0,IF(MIX_NAME=\"HMA\",FALSE,INDEX(CHK_MGL200,MIX_ID)),B11=\"#200\"),IF(AND(G11>=$Y$19,G11<=$Z$19,E11>=H11,E11<=J11),1,0),IF(LEN(E11)=0,\"\",IF(N_TRIAL=\"Yes\",IF(AND(G11>=H11,G11<=J11),1,0),IF(AND(E11>=H11,E11<=J11),1,0))))))","v":""},{"$f":"IFERROR(IF(AND(AI11,C11<>\"\"),IF(AND(G11>=DESIGN_GRAD!F7,G11<=DESIGN_GRAD!H7),0,1),\"\"),\"\")","v":""},"",{"$f":"IF(LEFT($B$2,1)=\"C\",DESIGN_GRAD!P7,DESIGN_GRAD!O7)","v":0},{"$error":"#VALUE!"},{"$f":"MIN(Q10,P11)","v":{"$error":"#VALUE!"}},null,{"$f":"INDEX(INDIRECT(MIX_NAME),3,25)","v":{"$error":"#REF!"}},"",null,null,null,null,{"$f":"DESIGN_GRAD!C7","v":""},{"$f":"DESIGN_GRAD!E7","v":""},null,null,null,null,null,null,3,{"$error":"#REF!"},{"$error":"#REF!"}]
[null,{"$f":"IFERROR(DESIGN_GRAD!B8,\"\")","v":""},null,{"$f":"IF(ISBLANK(C12),\"\",IF($G$6=\"Cumulative\",(C12-SUM(D$9:D11)),SUM(C$9:C12)))","v":""},"","","",{"$f":"IF(ISBLANK(C12),\"\",DATA_TOL!K7)","v":""},"",{"$f":"IF(ISBLANK(C12),\"\",DATA_TOL!L7)","v":""},null,{"$f":"IF(AND(LEN(C12)>0,NOT(N_TRIAL=\"Yes\"),IF(MIX_NAME=\"HMA\",FALSE,INDEX(CHK_MGL,MIX_ID))),IF(AND(G12>=$Y$12,G12<=$Z$12,E12>=H12,E12<=J12),1,0),IF(AND(LEN(C12)>0,IF(MIX_NAME=\"HMA\",FALSE,INDEX(CHK_MGL200,MIX_ID)),B12=\"#200\",N_TRIAL=\"Yes\"),IF(AND(G12>=$Y$19,G12<=$Z$19),1,0),IF(AND(LEN(C12)>0,IF(MIX_NAME=\"HMA\",FALSE,INDEX(CHK_MGL200,MIX_ID)),B12=\"#200\"),IF(AND(G12>=$Y$19,G12<=$Z$19,E12>=H12,E12<=J12),1,0),IF(LEN(E12)=0,\"\",IF(N_TRIAL=\"Yes\",IF(AND(G12>=H12,G12<=J12),1,0),IF(AND(E12>=H12,E12<=J12),1,0))))))","v":""},{"$f":"IFERROR(IF(AND(AI12,C12<>\"\"),IF(AND(G12>=DESIGN_GRAD!F8,G12<=DESIGN_GRAD!H8),0,1),\"\"),\"\")","v":""},"",{"$f":"IF(LEFT($B$2,1)=\"C\",DESIGN_GRAD!P8,DESIGN_GRAD!O8)","v":0},{"$error":"#VALUE!"},{"$error":"#VALUE!"},null,{"$f":"INDEX(INDIRECT(MIX_NAME),4,25)","v":{"$error":"#REF!"}},"",null,null,null,null,{"$f":"DESIGN_GRAD!C8","v":""},{"$f":"DESIGN_GRAD!E8","v":""},null,null,null,null,null,null,4,{"$error":"#REF!"},{"$error":"#REF!"}]
[null,{"$f":"IFERROR(DESIGN_GRAD!B9,\"\")","v":""},null,{"$f":"IF(ISBLANK(C13),\"\",IF($G$6=\"Cumulative\",(C13-SUM(D$9:D12)),SUM(C$9:C13)))","v":""},"","","",{"$f":"IF(ISBLANK(C13),\"\",DATA_TOL!K8)","v":""},"",{"$f":"IF(ISBLANK(C13),\"\",DATA_TOL!L8)","v":""},null,{"$f":"IF(AND(LEN(C13)>0,NOT(N_TRIAL=\"Yes\"),IF(MIX_NAME=\"HMA\",FALSE,INDEX(CHK_MGL,MIX_ID))),IF(AND(G13>=$Y$13,G13<=$Z$13,E13>=H13,E13<=J13),1,0),IF(AND(LEN(C13)>0,IF(MIX_NAME=\"HMA\",FALSE,INDEX(CHK_MGL200,MIX_ID)),B13=\"#200\",N_TRIAL=\"Yes\"),IF(AND(G13>=$Y$19,G13<=$Z$19),1,0),IF(AND(LEN(C13)>0,IF(MIX_NAME=\"HMA\",FALSE,INDEX(CHK_MGL200,MIX_ID)),B13=\"#200\"),IF(AND(G13>=$Y$19,G13<=$Z$19,E13>=H13,E13<=J13),1,0),IF(LEN(E13)=0,\"\",IF(N_TRIAL=\"Yes\",IF(AND(G13>=H13,G13<=J13),1,0),IF(AND(E13>=H13,E13<=J13),1,0))))))","v":""},{"$f":"IFERROR(IF(AND(AI13,C13<>\"\"),IF(AND(G13>=DESIGN_GRAD!F9,G13<=DESIGN_GRAD!H9),0,1),\"\"),\"\")","v":""},"",{"$f":"IF(LEFT($B$2,1)=\"C\",DESIGN_GRAD!P9,DESIGN_GRAD!O9)","v":0},{"$error":"#VALUE!"},{"$error":"#VALUE!"},null,{"$f":"INDEX(INDIRECT(MIX_NAME),5,25)","v":{"$error":"#REF!"}},"",null,null,null,null,{"$f":"DESIGN_GRAD!C9","v":""},{"$f":"DESIGN_GRAD!E9","v":""},null,null,null,null,null,null,5,{"$error":"#REF!"},{"$error":"#REF!"}]
[null,{"$f":"IFERROR(DESIGN_GRAD!B10,\"\")","v":""},null,{"$f":"IF(ISBLANK(C14),\"\",IF($G$6=\"Cumulative\",(C14-SUM(D$9:D13)),SUM(C$9:C14)))","v":""},"","","",{"$f":"IF(ISBLANK(C14),\"\",DATA_TOL!K9)","v":""},"",{"$f":"IF(ISBLANK(C14),\"\",DATA_TOL!L9)","v":""},null,{"$f":"IF(AND(LEN(C14)>0,NOT(N_TRIAL=\"Yes\"),IF(MIX_NAME=\"HMA\",FALSE,INDEX(CHK_MGL,MIX_ID))),IF(AND(G14>=$Y$14,G14<=$Z$14,E14>=H14,E14<=J14),1,0),IF(AND(,LEN(C14)>0,IF(MIX_NAME=\"HMA\",FALSE,INDEX(CHK_MGL200,MIX_ID)),B14=\"#200\",N_TRIAL=\"Yes\"),IF(AND(G14>=$Y$19,G14<=$Z$19),1,0),IF(AND(,LEN(C14)>0,IF(MIX_NAME=\"HMA\",FALSE,INDEX(CHK_MGL200,MIX_ID)),B14=\"#200\"),IF(AND(G14>=$Y$19,G14<=$Z$19,E14>=H14,E14<=J14),1,0),IF(LEN(E14)=0,\"\",IF(N_TRIAL=\"Yes\",IF(AND(G14>=H14,G14<=J14),1,0),IF(AND(E14>=H14,E14<=J14),1,0))))))","v":""},{"$f":"IFERROR(IF(AND(AI14,C14<>\"\"),IF(AND(G14>=DESIGN_GRAD!F10,G14<=DESIGN_GRAD!H10),0,1),\"\"),\"\")","v":""},"",{"$f":"IF(LEFT($B$2,1)=\"C\",DESIGN_GRAD!P10,DESIGN_GRAD!O10)","v":0},{"$error":"#VALUE!"},{"$error":"#VALUE!"},null,{"$f":"INDEX(INDIRECT(MIX_NAME),6,25)","v":{"$error":"#REF!"}},"",null,null,null,null,{"$f":"DESIGN_GRAD!C10","v":""},{"$f":"DESIGN_GRAD!E10","v":""},null,null,null,null,null,null,6,{"$error":"#REF!"},{"$error":"#REF!"}]
[null,{"$f":"IFERROR(DESIGN_GRAD!B11,\"\")","v":""},null,{"$f":"IF(ISBLANK(C15),\"\",IF($G$6=\"Cumulative\",(C15-SUM(D$9:D14)),SUM(C$9:C15)))","v":""},"","","",{"$f":"IF(ISBLANK(C15),\"\",DATA_TOL!K10)","v":""},"",{"$f":"IF(ISBLANK(C15),\"\",DATA_TOL!L10)","v":""},null,{"$f":"IF(AND(LEN(C15)>0,NOT(N_TRIAL=\"Yes\"),IF(MIX_NAME=\"HMA\",FALSE,INDEX(CHK_MGL,MIX_ID))),IF(AND(G15>=$Y$15,G15<=$Z$15,E15>=H15,E15<=J15),1,0),IF(AND(LEN(C15)>0,IF(MIX_NAME=\"HMA\",FALSE,INDEX(CHK_MGL200,MIX_ID)),B15=\"#200\",N_TRIAL=\"Yes\"),IF(AND(G15>=$Y$19,G15<=$Z$19),1,0),IF(AND(LEN(C15)>0,IF(MIX_NAME=\"HMA\",FALSE,INDEX(CHK_MGL200,MIX_ID)),B15=\"#200\"),IF(AND(G15>=$Y$19,G15<=$Z$19,E15>=H15,E15<=J15),1,0),IF(LEN(E15)=0,\"\",IF(N_TRIAL=\"Yes\",IF(AND(G15>=H15,G15<=J15),1,0),IF(AND(E15>=H15,E15<=J15),1,0))))))","v":""},{"$f":"IFERROR(IF(AND(AI15,C15<>\"\"),IF(AND(G15>=DESIGN_GRAD!F11,G15<=DESIGN_GRAD!H11),0,1),\"\"),\"\")","v":""},"",{"$f":"IF(LEFT($B$2,1)=\"C\",DESIGN_GRAD!P11,DESIGN_GRAD!O11)","v":0},{"$error":"#VALUE!"},{"$error":"#VALUE!"},null,{"$f":"INDEX(INDIRECT(MIX_NAME),7,25)","v":{"$error":"#REF!"}},"",null,null,null,null,{"$f":"DESIGN_GRAD!C11","v":""},{"$f":"DESIGN_GRAD!E11","v":""},null,null,null,null,null,null,7,{"$error":"#REF!"},{"$error":"#REF!"}]
[null,{"$f":"IFERROR(DESIGN_GRAD!B12,\"\")","v":""},null,{"$f":"IF(ISBLANK(C16),\"\",IF($G$6=\"Cumulative\",(C16-SUM(D$9:D15)),SUM(C$9:C16)))","v":""},"","","",{"$f":"IF(ISBLANK(C16),\"\",DATA_TOL!K11)","v":""},"",{"$f":"IF(ISBLANK(C16),\"\",DATA_TOL!L11)","v":""},null,{"$f":"IF(AND(LEN(C16)>0,NOT(N_TRIAL=\"Yes\"),IF(MIX_NAME=\"HMA\",FALSE,INDEX(CHK_MGL,MIX_ID))),IF(AND(G16>=$Y$16,G16<=$Z$16,E16>=H16,E16<=J16),1,0),IF(AND(LEN(C16)>0,IF(MIX_NAME=\"HMA\",FALSE,INDEX(CHK_MGL200,MIX_ID)),B16=\"#200\",N_TRIAL=\"Yes\"),IF(AND(G16>=$Y$19,G16<=$Z$19),1,0),IF(AND(LEN(C16)>0,IF(MIX_NAME=\"HMA\",FALSE,INDEX(CHK_MGL200,MIX_ID)),B16=\"#200\"),IF(AND(G16>=$Y$19,G16<=$Z$19,E16>=H16,E16<=J16),1,0),IF(LEN(E16)=0,\"\",IF(N_TRIAL=\"Yes\",IF(AND(G16>=H16,G16<=J16),1,0),IF(AND(E16>=H16,E16<=J16),1,0))))))","v":""},{"$f":"IFERROR(IF(AND(AI16,C16<>\"\"),IF(AND(G16>=DESIGN_GRAD!F12,G16<=DESIGN_GRAD!H12),0,1),\"\"),\"\")","v":""},"",{"$f":"IF(LEFT($B$2,1)=\"C\",DESIGN_GRAD!P12,DESIGN_GRAD!O12)","v":0},{"$error":"#VALUE!"},{"$error":"#VALUE!"},null,{"$f":"INDEX(INDIRECT(MIX_NAME),8,25)","v":{"$error":"#REF!"}},"",null,null,null,null,{"$f":"DESIGN_GRAD!C12","v":""},{"$f":"DESIGN_GRAD!E12","v":""},null,null,null,null,null,null,8,{"$error":"#REF!"},{"$error":"#REF!"}]
[null,{"$f":"IFERROR(DESIGN_GRAD!B13,\"\")","v":""},null,{"$f":"IF(C17=\"\",\"\",IF($G$6=\"Cumulative\",(C17-SUM(D$9:D16)),SUM(C$9:C17)))","v":""},"","","",{"$f":"IF(ISBLANK(C17),\"\",DATA_TOL!K12)","v":""},"",{"$f":"IF(ISBLANK(C17),\"\",DATA_TOL!L12)","v":""},null,{"$f":"IF(AND(LEN(C17)>0,NOT(N_TRIAL=\"Yes\"),IF(MIX_NAME=\"HMA\",FALSE,INDEX(CHK_MGL,MIX_ID))),IF(AND(G17>=$Y$17,G17<=$Z$17,E17>=H17,E17<=J17),1,0),IF(AND(LEN(C17)>0,IF(MIX_NAME=\"HMA\",FALSE,INDEX(CHK_MGL200,MIX_ID)),B17=\"#200\",N_TRIAL=\"Yes\"),IF(AND(G17>=$Y$19,G17<=$Z$19),1,0),IF(AND(LEN(C17)>0,IF(MIX_NAME=\"HMA\",FALSE,INDEX(CHK_MGL200,MIX_ID)),B17=\"#200\"),IF(AND(G17>=$Y$19,G17<=$Z$19,E17>=H17,E17<=J17),1,0),IF(LEN(E17)=0,\"\",IF(N_TRIAL=\"Yes\",IF(AND(G17>=H17,G17<=J17),1,0),IF(AND(E17>=H17,E17<=J17),1,0))))))","v":""},{"$f":"IFERROR(IF(AND(AI17,C17<>\"\"),IF(AND(G17>=DESIGN_GRAD!F13,G17<=DESIGN_GRAD!H13),0,1),\"\"),\"\")","v":""},"",{"$f":"IF(LEFT($B$2,1)=\"C\",DESIGN_GRAD!P13,DESIGN_GRAD!O13)","v":0},{"$error":"#VALUE!"},{"$error":"#VALUE!"},null,{"$f":"INDEX(INDIRECT(MIX_NAME),9,25)","v":{"$error":"#REF!"}},"",null,null,null,null,{"$f":"DESIGN_GRAD!C13","v":""},{"$f":"DESIGN_GRAD!E13","v":""},null,null,null,null,null,null,9,{"$error":"#REF!"},{"$error":"#REF!"}]
[null,{"$f":"IFERROR(DESIGN_GRAD!B14,\"\")","v":""},null,{"$f":"IF(C18=\"\",\"\",IF($G$6=\"Cumulative\",(C18-SUM(D$9:D17)),SUM(C$9:C18)))","v":""},"","","",{"$f":"IF(ISBLANK(C18),\"\",DATA_TOL!K13)","v":""},"",{"$f":"IF(ISBLANK(C18),\"\",DATA_TOL!L13)","v":""},null,{"$f":"IF(AND(LEN(C18)>0,NOT(N_TRIAL=\"Yes\"),IF(MIX_NAME=\"HMA\",FALSE,INDEX(CHK_MGL,MIX_ID))),IF(AND(G18>=$Y$18,G18<=$Z$18,E18>=H18,E18<=J18),1,0),IF(AND(LEN(C18)>0,IF(MIX_NAME=\"HMA\",FALSE,INDEX(CHK_MGL200,MIX_ID)),B18=\"#200\",N_TRIAL=\"Yes\"),IF(AND(G18>=$Y$19,G18<=$Z$19),1,0),IF(AND(LEN(C18)>0,IF(MIX_NAME=\"HMA\",FALSE,INDEX(CHK_MGL200,MIX_ID)),B18=\"#200\"),IF(AND(G18>=$Y$19,G18<=$Z$19,E18>=H18,E18<=J18),1,0),IF(LEN(E18)=0,\"\",IF(N_TRIAL=\"Yes\",IF(AND(G18>=H18,G18<=J18),1,0),IF(AND(E18>=H18,E18<=J18),1,0))))))","v":""},{"$f":"IFERROR(IF(AND(AI18,C18<>\"\"),IF(AND(G18>=DESIGN_GRAD!F14,G18<=DESIGN_GRAD!H14),0,1),\"\"),\"\")","v":""},"",{"$f":"IF(LEFT($B$2,1)=\"C\",DESIGN_GRAD!P14,DESIGN_GRAD!O14)","v":0},{"$error":"#VALUE!"},{"$error":"#VALUE!"},null,{"$f":"INDEX(INDIRECT(MIX_NAME),10,25)","v":{"$error":"#REF!"}},"",null,null,null,null,{"$f":"DESIGN_GRAD!C14","v":""},{"$f":"DESIGN_GRAD!E14","v":""},null,null,null,null,null,null,10,{"$error":"#REF!"},{"$error":"#REF!"}]
[null,"- #200",null,null,null,null,null,null,null,null,null,null,null,null,null,null,null,"#16",null,null,1.18,{"$f":"VLOOKUP(\"#16\",$B$9:$G$18,6,0)","v":{"$error":"#N/A"}},{"$f":"LOG(U19)","v":7.1882007306125359E-2},{"$error":"#N/A"},{"$f":"MIN(Y9:Y18)","v":0},{"$f":"MIN(Z9:Z18)","v":0}]
[null,null,{"$f":"IF(G4>0,G4-IF(G6=\"Cumulative\",LARGE(C9:C19,1),SUM(C9:C19)),IF(SUM(C9:C19)=0,\"\",0))","v":""},{"$f":"IF(G4<>\"\",IF(G5<>\"\",\"Wash Loss\" & IF(C23>0,\" - \",\" + \"),\"\")&IF(C23>0,\"Sieving Gain (g)\",IF(C23<0,\"Sieving Loss (g)\",\"\")),\"\")","v":""},null,null,null,null,null,null,null,null,null,null,null,null,null,"#50",null,null,0.3,{"$f":"VLOOKUP(\"#50\",$B$9:$G$18,6,0)","v":{"$error":"#N/A"}},-0.52287874528033762,{"$error":"#N/A"}]
[null,"Total - #200",{"$f":"IF(ISERROR(IF(G6=\"Cumulative\",LARGE(C9:C19,1),C19)+C20),\"\",IF(G6=\"Cumulative\",LARGE(C9:C19,1),C19)+C20)","v":""},{"$f":"IF(ISBLANK(C19),\"\",IF(G6=\"Cumulative\",(C21-SUM(D$9:D18)),SUM(C$9:C18,C21)))","v":""},{"$f":"IF(ISERROR(OFFSET(G19,-COUNTBLANK(B9:B18)-1,0)-G21),\"\",OFFSET(G19,-COUNTBLANK(B9:B18)-1,0)-G21)","v":""},{"$f":"IF(ISERROR(OFFSET(F19,-COUNTBLANK(B9:B18)-1,0)+E21),\"\",OFFSET(F19,-COUNTBLANK(B9:B18)-1,0)+E21)","v":""},{"$f":"IF(ISERROR(100-IF(G6=\"Cumulative\",C21/C22*100,D21/C22*100)),\"\",ROUND(100-IF(G6=\"Cumulative\",C21/C22*100,D21/C22*100),1))","v":""},{"$f":"IF(C21=\"\",\"\",DATA_TOL!K14)","v":""},{"$f":"IF(LEN(H21)>0,\"-\",\"\")","v":""},{"$f":"IF(C21=\"\",\"\",DATA_TOL!L14)","v":""},null,{"$f":"IF(LEN(E21)=0,\"\",IF(N_TRIAL=\"Yes\",IF(AND(G21>=H21,G21<=J21),1,0),IF(AND(E21>=H21,E21<=J21),1,0)))","v":""},null,{"$f":"IF(AND(LEN(C21)>0,NOT(LEN(E21)=0),NOT(N_TRIAL=\"Yes\")),IF(OR(E21<H21,E21>J21),\"% passing #200 fails JMF target\",\"\"),\"\")","v":""},null,null,null,"#200",null,null,7.4999999999999997E-2,{"$f":"VLOOKUP(\"#200\",$B$9:$G$18,6,0)","v":{"$error":"#N/A"}},-1.1249387366082999,{"$error":"#N/A"}]
[null,"Total weight, g",{"$f":"IF(ISERROR(IF(G6=\"Cumulative\",C21,SUM(C9:C18)+C21)),\"\",IF(G6=\"Cumulative\",C21,SUM(C9:C18)+C21))","v":""},null,null,null,null,null,null,null,null,null,null,null,null,null,null,"#30",2.87,{"$f":"S22*V22/100","v":{"$error":"#N/A"}},0.6,{"$f":"10^X22","v":{"$error":"#N/A"}},{"$f":"LOG(U22)","v":-0.22184874961635639},{"$f":"FORECAST(W22,X19:X20,W19:W20)","v":{"$error":"#N/A"}}]
[null,null,{"$f":"IF(G5<>\"\",IF(G6=\"Cumulative\",IF(ISERROR(LARGE(C9:C19,1)),0,LARGE(C9:C19,1)),SUM(C9:C19))-G5,IF(G4<>\"\",IF(G6=\"Cumulative\",IF(ISERROR(LARGE(C9:C19,1)),0,LARGE(C9:C19,1)),SUM(C9:C19))-G4,IF(B23<>\"\",IF(G6=\"Cumulative\",IF(ISERROR(LARGE(C9:C19,1)),0,LARGE(C9:C19,1)),SUM(C9:C19))-B23,\"\")))","v":""},{"$f":"IF(AND(C22<>\"\",C23<>\"\"),IF(C25>0.2,\"Discrepancy too large - rerun analysis\",\"Sieving \" & IF(C23>0, \"Gain\", \"Loss\") & \" (g), from \" & IF(G5<>\"\", \"dry weight after washing\", \"original dry sample\")),\"\")","v":""},null,null,null,null,null,null,null,null,null,null,null,null,null,"#100",12.29,{"$f":"S23*V23/100","v":{"$error":"#N/A"}},0.15,{"$f":"10^X23","v":{"$error":"#N/A"}},{"$f":"LOG(U23)","v":-0.82390874094431876},{"$f":"FORECAST(W23,X20:X21,W20:W21)","v":{"$error":"#N/A"}}]
[null,null,null,null,null,null,null,null,null,null,null,null,null,null,null,null,null,null,null,{"$f":"SUM(T9:T18)+T22+T23","v":{"$error":"#N/A"}}]
[null,null,{"$f":"ABS(100*C23/C22)","v":{"$error":"#VALUE!"}}]

{"sheet":"DOT2_DENSITY","index":26,"n_rows":37,"n_cols":13,"rows_kept":37,"cut":false,"hidden":false,"merged":[[34,2,34,4],[34,5,34,6],[35,2,35,4],[35,5,35,6],[36,2,36,4],[36,5,36,6],[33,2,33,4],[33,5,33,6],[0,1,0,8],[1,1,1,6],[2,2,2,4],[2,5,2,6],[15,1,15,6],[24,1,24,6],[30,1,30,6],[31,2,31,4],[31,5,31,6],[32,2,32,4],[32,5,32,6]]}
[null,{"$f":"header","v":"SAMPLE ID:    ______________________________    SAMPLED DATE: ___________________________\nLOT NUMBER:    _____________________________    LETTING DATE: ___________________________\nSAMPLE STATUS:    __________________________    CONTROLLING CSJ: ________________________\nCOUNTY:    _________________________________    SPEC YEAR: ______________________________\nSAMPLED BY:    __________________________________    SPEC ITEM: ______________________________\nSAMPLE LOCATION:    ________________________    SPECIAL PROVISION: ______________________\nMATERIAL CODE:    __________________________    MIX TYPE: _______________________________\nMATERIAL NAME: __________________________________________________________________\nPRODUCER: _______________________________________________________________________\nAREA ENGINEER:    __________________________    PROJECT MANAGER: _____________________________\nCOURSE\\LIFT:    __________________    STATION: ______________________    DIST. FROM CL: ______\n"}]
[null,{"$f":"LEFT(REPLACE(CELL(\"filename\",A1),1,FIND(\"]\",CELL(\"filename\",A1)),\"\"),4) &  \" DETERMINING PROPERTIES OF BITUMINOUS MIXTURES-Tex-207-F\"","v":"DOT2 DETERMINING PROPERTIES OF BITUMINOUS MIXTURES-Tex-207-F"}]
[null,"Specimen type:","Laboratory",null,null,"Roadway"]
[null,"Specimen number:","1(1)","1(2)","1(3)","1(A)","1(B)"]
[null,"Note to developer - hide this row Specimen radius, mm:"]
[null,{"$f":"IF(DESIGN_GE,\"Specimen height, mm:\",\"Untrimmed specimen/Core height, in:\")","v":{"$error":"#N/A"}}]
[null,"Trimmed core height, in:"]
[null,"Weight of specimen in air, g:"]
[null,"Weight of specimen in water, g:"]
[null,"SSD weight of specimen in air, g:"]
[null,"Volume of specimen:",{"$f":"IF(AND(ISBLANK(C10),ISBLANK(C9)),\"\",C10-C9)","v":""},{"$f":"IF(AND(ISBLANK(D10),ISBLANK(D9)),\"\",D10-D9)","v":""},{"$f":"IF(AND(ISBLANK(E10),ISBLANK(E9)),\"\",E10-E9)","v":""},{"$f":"IF(AND(ISBLANK(F10),ISBLANK(F9)),\"\",F10-F9)","v":""},{"$f":"IF(AND(ISBLANK(G10),ISBLANK(G9)),\"\",G10-G9)","v":""}]
[null,"Note to developer - hide this row SSD Density:",{"$f":"IFERROR(C8/C11,\"\")","v":""},{"$f":"IFERROR(D8/D11,\"\")","v":""},{"$f":"IFERROR(E8/E11,\"\")","v":""},{"$f":"IFERROR(F8/F11,\"\")","v":""},{"$f":"IFERROR(G8/G11,\"\")","v":""}]
[null,"Percent absorption, %:",{"$f":"IFERROR(ROUND(100*((C10-C8)/(C10-C9)),1),\"\")","v":""},{"$f":"IFERROR(ROUND(100*((D10-D8)/(D10-D9)),1),\"\")","v":""},{"$f":"IFERROR(ROUND(100*((E10-E8)/(E10-E9)),1),\"\")","v":""},{"$f":"IFERROR(ROUND(100*((F10-F8)/(F10-F9)),1),\"\")","v":""},{"$f":"IFERROR(ROUND(100*((G10-G8)/(G10-G9)),1),\"\")","v":""}]
[null,"Bag required for Ga:",{"$f":"IF(ISNUMBER(C13),IF(C13>2,\"Yes\",\"No\"),\"\")","v":""},{"$f":"IF(ISNUMBER(D13),IF(D13>2,\"Yes\",\"No\"),\"\")","v":""},{"$f":"IF(ISNUMBER(E13),IF(E13>2,\"Yes\",\"No\"),\"\")","v":""},{"$f":"IF(ISNUMBER(F13),IF(F13>2,\"Yes\",\"No\"),\"\")","v":""},{"$f":"IF(ISNUMBER(G13),IF(G13>2,\"Yes\",\"No\"),\"\")","v":""}]
[null,"Bag Used for Ga:"]
[null,"Vacuum bag inputs"]
[null,"Vacuum bag method used:"]
[null,"Weight of specimen in air, g:"]
[null,"Sealed weight of specimen in water, g:",null,null,null,null,null,null,{"$f":"IF(OR(ISBLANK(C20),ISBLANK(C18)),\"\",IF(ABS(C20-C18)>5,-1,0))","v":""},{"$f":"IF(OR(ISBLANK(D20),ISBLANK(D18)),\"\",IF(ABS(D20-D18)>5,-1,0))","v":""},{"$f":"IF(OR(ISBLANK(E20),ISBLANK(E18)),\"\",IF(ABS(E20-E18)>5,-1,0))","v":""},{"$f":"IF(OR(ISBLANK(F20),ISBLANK(F18)),\"\",IF(ABS(F20-F18)>5,-1,0))","v":""},{"$f":"IF(OR(ISBLANK(G20),ISBLANK(G18)),\"\",IF(ABS(G20-G18)>5,-1,0))","v":""}]
[null,"Dry specimen weight after submersion, g:",null,null,null,null,null,null,{"$f":"IFERROR(IF(OR(I19:M19),\"> 5g. Repeat test, a leak may have occurred.\",\"\"),\"\")","v":""}]
[null,"Weight of vacuum bag(s), g:"]
[null,"Vacuum bag volume correction factor:",{"$f":"IFERROR(IF(LEFT(C17,1)=\"L\",-0.00166*(C18/C21)+0.8596,IF(LEFT(C17,1)=\"S\",-0.000566*(C18/C21)+0.8121,IF(LEFT(C17,1)=\"D\",-0.0022448*(C18/C21)+0.85818,\"\"))),\"\")","v":""},{"$f":"IFERROR(IF(LEFT(D17,1)=\"L\",-0.00166*(D18/D21)+0.8596,IF(LEFT(D17,1)=\"S\",-0.000566*(D18/D21)+0.8121,IF(LEFT(D17,1)=\"D\",-0.0022448*(D18/D21)+0.85818,\"\"))),\"\")","v":""},{"$f":"IFERROR(IF(LEFT(E17,1)=\"L\",-0.00166*(E18/E21)+0.8596,IF(LEFT(E17,1)=\"S\",-0.000566*(E18/E21)+0.8121,IF(LEFT(E17,1)=\"D\",-0.0022448*(E18/E21)+0.85818,\"\"))),\"\")","v":""},{"$f":"IFERROR(IF(LEFT(F17,1)=\"L\",-0.00166*(F18/F21)+0.8596,IF(LEFT(F17,1)=\"S\",-0.000566*(F18/F21)+0.8121,IF(LEFT(F17,1)=\"D\",-0.0022448*(F18/F21)+0.85818,\"\"))),\"\")","v":""},{"$f":"IFERROR(IF(LEFT(G17,1)=\"L\",-0.00166*(G18/G21)+0.8596,IF(LEFT(G17,1)=\"S\",-0.000566*(G18/G21)+0.8121,IF(LEFT(G17,1)=\"D\",-0.0022448*(G18/G21)+0.85818,\"\"))),\"\")","v":""}]
[null,"Vacuum bag density:",{"$f":"IFERROR(C18/(C21+C18-C19-(C21/C22)),\"\")","v":""},{"$f":"IFERROR(D18/(D21+D18-D19-(D21/D22)),\"\")","v":""},{"$f":"IFERROR(E18/(E21+E18-E19-(E21/E22)),\"\")","v":""},{"$f":"IFERROR(F18/(F21+F18-F19-(F21/F22)),\"\")","v":""},{"$f":"IFERROR(G18/(G21+G18-G19-(G21/G22)),\"\")","v":""}]
[null,"Note to developer - hide this row",{"$f":"IF(LEFT($B$2,1)=\"D\",PRESS_T,PRESS_C)+IF(INDEX(CHK_GE,MIX_ID),IF(ISERROR(C8*1000/(3.14*75^2*C6)),\"\",C8*1000/(3.14*75^2*C6)),IF(C15<>\"Yes\",IF(ISERROR(C12),\"\",ROUND(C12,3)),IF(ISERROR(MIN(C12,C23)),\"\",ROUND(MIN(C12,C23),3))))","v":{"$error":"#N/A"}},{"$f":"IF(LEFT($B$2,1)=\"D\",PRESS_T,PRESS_C)+IF(INDEX(CHK_GE,MIX_ID),IF(ISERROR(D8*1000/(3.14*75^2*D6)),\"\",D8*1000/(3.14*75^2*D6)),IF(D15<>\"Yes\",IF(ISERROR(D12),\"\",ROUND(D12,3)),IF(ISERROR(MIN(D12,D23)),\"\",ROUND(MIN(D12,D23),3))))","v":{"$error":"#N/A"}},{"$f":"IF(LEFT($B$2,1)=\"D\",PRESS_T,PRESS_C)+IF(INDEX(CHK_GE,MIX_ID),IF(ISERROR(E8*1000/(3.14*75^2*E6)),\"\",E8*1000/(3.14*75^2*E6)),IF(E15<>\"Yes\",IF(ISERROR(E12),\"\",ROUND(E12,3)),IF(ISERROR(MIN(E12,E23)),\"\",ROUND(MIN(E12,E23),3))))","v":{"$error":"#N/A"}},{"$f":"IF(INDEX(CHK_GE,MIX_ID),IF(ISERROR(F8*1000/(3.14*F5^2*F6)),\"\",F8*1000/(3.14*F5^2*F6)),IF(F15<>\"Yes\",IF(ISERROR(F12),\"\",ROUND(F12,3)),IF(ISERROR(MIN(F12,F23)),\"\",ROUND(MIN(F12,F23),3))))","v":{"$error":"#N/A"}},{"$f":"IF(INDEX(CHK_GE,MIX_ID),IF(ISERROR(G8*1000/(3.14*G5^2*G6)),\"\",G8*1000/(3.14*G5^2*G6)),IF(G15<>\"Yes\",IF(ISERROR(G12),\"\",ROUND(G12,3)),IF(ISERROR(MIN(G12,G23)),\"\",ROUND(MIN(G12,G23),3))))","v":{"$error":"#N/A"}}]
[null,"Volumetric properties"]
[null,"Bulk specific gravity, Ga:",{"$f":"IFERROR(ROUND(C24,3),\"\")","v":""},{"$f":"IFERROR(ROUND(D24,3),\"\")","v":""},{"$f":"IFERROR(ROUND(E24,3),\"\")","v":""},{"$f":"IFERROR(ROUND(F24,3),\"\")","v":""},{"$f":"IFERROR(ROUND(G24,3),\"\")","v":""}]
[null,"Percent density, %:",{"$f":"IFERROR(ROUND(100*C26/$C$33,1),\"\")","v":""},{"$f":"IFERROR(ROUND(100*D26/$C$33,1),\"\")","v":""},{"$f":"IFERROR(ROUND(100*E26/$C$33,1),\"\")","v":""},{"$f":"IFERROR(ROUND(100*F26/$F$33,1),\"\")","v":""},{"$f":"IFERROR(ROUND(100*G26/$F$33,1),\"\")","v":""}]
[null,"Percent air voids, %:",{"$f":"IFERROR(ROUND(100-C27,1),\"\")","v":""},{"$f":"IFERROR(ROUND(100-D27,1),\"\")","v":""},{"$f":"IFERROR(ROUND(100-E27,1),\"\")","v":""},{"$f":"IFERROR(ROUND(100-F27,1),\"\")","v":""},{"$f":"IFERROR(ROUND(100-G27,1),\"\")","v":""}]
[null,"Percent VMA, %:",{"$f":"IFERROR(ROUND(100-(100*(C26/INDIRECT(LEFT($B$2,4) & \"_PROD!$C$30\")))+((C26*$C$32)/MIX_GSB),1),\"\")","v":""},{"$f":"IFERROR(ROUND(100-(100*(D26/INDIRECT(LEFT($B$2,4) & \"_PROD!$C$30\")))+((D26*$C$32)/MIX_GSB),1),\"\")","v":""},{"$f":"IFERROR(ROUND(100-(100*(E26/INDIRECT(LEFT($B$2,4) & \"_PROD!$C$30\")))+((E26*$C$32)/MIX_GSB),1),\"\")","v":""},{"$f":"IFERROR(ROUND(100-(100*(F26/INDIRECT(LEFT($B$2,4) & \"_PROD!$C$30\")))+((F26*$F$32)/MIX_GSB),1),\"\")","v":""},{"$f":"IFERROR(ROUND(100-(100*(G26/INDIRECT(LEFT($B$2,4) & \"_PROD!$C$30\")))+((G26*$F$32)/MIX_GSB),1),\"\")","v":""}]
[]
[null,"MEAN VOLUMETRIC PROPERTIES"]
[null,{"$f":"IF(AND(LEFT($B$2,1)=\"D\",INDIRECT(LEFT($B$2,4) & \"_PROD!C17\")=\"\",INDIRECT(SUBSTITUTE(LEFT($B$2,4),\"DOT\",\"CON\") & \"_PROD!C17\")<>\"\"),\"Contractor's asphalt content, %:\",\"Asphalt content, %:\")","v":"Asphalt content, %:"},{"$f":"IFERROR(IF(AND(LEFT($B$2,1)=\"D\",INDIRECT(LEFT($B$2,4) & \"_PROD!C17\")=\"\",INDIRECT(SUBSTITUTE(LEFT($B$2,4),\"DOT\",\"CON\") & \"_PROD!C17\")<>\"\"),ROUND(INDIRECT(SUBSTITUTE(LEFT($B$2,4),\"DOT\",\"CON\") & \"_PROD!C17\"),1),ROUND(INDIRECT(LEFT($B$2,4) & \"_PROD!C17\"),1)),\"\")","v":""},null,null,{"$f":"IFERROR(IF(AND(LEFT($B$2,1)=\"D\",INDIRECT(LEFT($B$2,4) & \"_PROD!C17\")=\"\",INDIRECT(SUBSTITUTE(LEFT($B$2,4),\"DOT\",\"CON\") & \"_PROD!C17\")<>\"\"),ROUND(INDIRECT(SUBSTITUTE(LEFT($B$2,4),\"DOT\",\"CON\") & \"_PROD!C17\"),1),ROUND(INDIRECT(LEFT($B$2,4) & \"_PROD!C17\"),1)),\"\")","v":""}]
[null,{"$f":"IF(AND(INDIRECT(LEFT($B$2,4) & \"_PROD!C27\")<>\"\",INDIRECT(LEFT($B$2,4) & \"_PROD!C27\")>0.01),\"Corrected Rice specific gravity, Grc:\",\"Rice specific gravity, Gr:\")","v":"Rice specific gravity, Gr:"},{"$f":"IFERROR(ROUND(IF(DESIGN_GE,100/((100-C32)/MIX_GMB+(C32/MIX_GSB)),INDIRECT(LEFT($B$2,4) & \"_PROD!C30\")),3),\"\")","v":""},null,null,{"$f":"IF(LEFT($B$2,1)=\"D\",IFERROR(ROUND(AVERAGE(INDIRECT(\"DOT1_PROD!C30\"),INDIRECT(\"DOT2_PROD!C30\"),INDIRECT(\"DOT3_PROD!C30\"),INDIRECT(\"DOT4_PROD!C30\")),3),\"\"),IFERROR(ROUND(AVERAGE(INDIRECT(\"CON1_PROD!C30\"),INDIRECT(\"CON2_PROD!C30\"),INDIRECT(\"CON3_PROD!C30\"),INDIRECT(\"CON4_PROD!C30\")),3),\"\"))","v":""}]
[null,"Percent density, %:",{"$f":"IFERROR(ROUND(AVERAGE(C27:E27),1),\"\")","v":""},null,null,{"$f":"IFERROR(ROUND(AVERAGE(F27:G27),1),\"\")","v":""}]
[null,"Actual specific gravity:",{"$f":"IFERROR(ROUND(AVERAGE(C26:E26),3),\"\")","v":""},null,null,{"$f":"IFERROR(ROUND(AVERAGE(F26:G26),3),\"\")","v":""}]
[null,"Percent air voids, %:",{"$f":"IFERROR(ROUND(AVERAGE(C28:E28),1),\"\")","v":""},null,null,{"$f":"IFERROR(ROUND(AVERAGE(F28:G28),1),\"\")","v":""}]
[null,"Percent VMA, %:",{"$f":"IFERROR(ROUND(AVERAGE(C29:E29),1),\"\")","v":""},null,null,{"$f":"IFERROR(ROUND(AVERAGE(F29:G29),1),\"\")","v":""}]

{"sheet":"DOT3_PROD","index":27,"n_rows":67,"n_cols":3,"rows_kept":67,"cut":false,"hidden":false,"merged":[[43,1,43,2],[58,1,58,2],[65,1,65,2],[0,1,0,2],[1,1,1,2],[6,1,6,2],[7,1,7,2],[21,1,21,2],[32,1,32,2]]}
[null,{"$f":"header","v":"SAMPLE ID:    ______________________________    SAMPLED DATE: ___________________________\nLOT NUMBER:    _____________________________    LETTING DATE: ___________________________\nSAMPLE STATUS:    __________________________    CONTROLLING CSJ: ________________________\nCOUNTY:    _________________________________    SPEC YEAR: ______________________________\nSAMPLED BY:    __________________________________    SPEC ITEM: ______________________________\nSAMPLE LOCATION:    ________________________    SPECIAL PROVISION: ______________________\nMATERIAL CODE:    __________________________    MIX TYPE: _______________________________\nMATERIAL NAME: __________________________________________________________________\nPRODUCER: _______________________________________________________________________\nAREA ENGINEER:    __________________________    PROJECT MANAGER: _____________________________\nCOURSE\\LIFT:    __________________    STATION: ______________________    DIST. FROM CL: ______\n"}]
[null,{"$f":"LEFT(REPLACE(CELL(\"filename\",A1),1,FIND(\"]\",CELL(\"filename\",A1)),\"\"),4) & \" PRODUCTION DATA\"","v":"DOT3 PRODUCTION DATA"}]
[null,"Sublot sample date:",{"$f":"IFERROR(IF(LEN(INDIRECT(\"DATE_\"&LEFT($B$2,4)))>0,INDIRECT(\"DATE_\"&LEFT($B$2,4)),\"\"),\"\")","v":""}]
[null,"Sublot location, Tons:",{"$f":"IFERROR(INDIRECT(\"SLOC_\"&LEFT($B$2,4)),\"\")","v":""}]
[null,"Production location, Tons:",{"$f":"IFERROR(INDIRECT(\"PLOC_\"&LEFT($B$2,4)),\"\")","v":""}]
[]
[null,"DETERMINATION OF ASPHALT CONTENT"]
[null,{"$f":"\"Method: \" & AC_METHOD","v":"Method: "}]
[null,"Weight of sample and basket before ignition, g:"]
[null,"Weight of sample and basket after ignition, g:"]
[null,"Weight of basket, g:"]
[null,"Ignition oven AC, %:",{"$f":"IFERROR(100*(C9-C10)/(C9-C11),\"\")","v":""}]
[null,"AC, % :"]
[null,"Nuclear testing gauge number:"]
[null,"Nuclear testing gauge calibration reference number:"]
[null,"Nuclear testing gauge time (hh:mm:ss):"]
[null,"Corrected AC, %:",{"$f":"IF(AND(C12=\"\",ISBLANK(C13)),\"\",IF(AC_METHOD=\"Ignition oven\",ROUND(C12,1)+IF(LEFT($B$2,1)=\"D\",AC_T_COR,AC_C_COR),ROUND(C13,1)))","v":""}]
[null,"Ratio of recycled to total binder:",{"$f":"IFERROR(100*REC_AC/C17,\"\")","v":""}]
[null,"Binder sample received?:"]
[null,"DSR aging ratio:"]
[]
[null,"LAB DETERMINATION OF RICE SPECIFIC GRAVITY Tex-227-F"]
[null," (A) Weight of  dry sample in air, g:"]
[null," (D) Weight of calibrated pyc. with water, g:"]
[null,"(E) Weight of sample, pyc. and water, g:"]
[null,"A/(D+A-E) Rice specific gravity (Gr):",{"$f":"IFERROR(ROUND(C23/(C24+C23-C25),3),\"\")","v":""}]
[null,"(Asd) Weight of surface dry sample in air, g:"]
[null,"A/(D+Asd-E) Rice Specific Gravity (Grc):",{"$f":"IFERROR(ROUND(C23/(C24+C27-C25),3),\"\")","v":""}]
[null,"(Gr-Grc)/Grc Percentage Difference:",{"$f":"IF(C26=\"\",\"\",IF(C28=\"\",\"\",(C26-C28)/C28))","v":""}]
[null,{"$f":"IF(C29>0.003,\"A/(D+Asd-E)\",\"A/(D+A-E)\") & \" Rice Specific Gravity \" & IF(C29>0.003,\"(Grc):\",\"(Gr):\")","v":"A/(D+Asd-E) Rice Specific Gravity (Grc):"},{"$f":"IF(C29>0.003,C28,C26)","v":""}]
[]
[]
[null,"ROAD DETERMINATION OF RICE SPECIFIC GRAVITY Tex-227-F"]
[null," (A) Weight of  dry sample in air, g:"]
[null," (D) Weight of calibrated pyc. with water, g:"]
[null,"(E) Weight of sample, pyc. and water, g:"]
[null,"A/(D+A-E) Rice specific gravity (Gr):",{"$f":"IF(ISERROR(C34/(C35+C34-C36)),\"\",ROUND(C34/(C35+C34-C36),3))","v":""}]
[null,"(Asd) Weight of surface dry sample in air, g:"]
[null,"A/(D+Asd-E) Rice Specific Gravity (Grc):",{"$f":"IFERROR(ROUND(C34/(C35+C38-C36),3),\"\")","v":""}]
[null,"(Gr-Grc)/Grc Percentage Difference:",{"$f":"IF(C37=\"\",\"\",IF(C39=\"\",\"\",(C37-C39)/C39))","v":""}]
[null,{"$f":"IF(C40>0.003,\"A/(D+Asd-E)\",\"A/(D+A-E)\") & \" Rice Specific Gravity \" & IF(C40>0.003,\"(Grc):\",\"(Gr):\")","v":"A/(D+Asd-E) Rice Specific Gravity (Grc):"},{"$f":"IF(C40>0.003,C39,C37)","v":""}]
[]
[]
[null,"PRODUCTION PERFORMANCE PROPERTIES OF BITUMINOUS MIXTURES"]
[null,"Tex-248-F Overlay test number of cycles: "]
[null,"Tex-245-F Cantabro loss content, %:"]
[null,"CRM content, %:"]
[null,"Tex-235-F Binder draindown, %:"]
[null,"Fiber content, %:"]
[null,"Membrane application rate, gal/sy:"]
[null,"Tex 246-F Permeability or Water flow, sec:"]
[null,"Tex 212-F Moisture content, %:"]
[null,"Tex-530-C Boil test estimated percent stripping, %:"]
[null,"Tex-244-F Thermal profile segregation:"]
[null,"Tex 207-F, Part V Mat segregation density profile:"]
[null,"Tex 207-F, Part VII Longitudinal joint density:"]
[]
[]
[null,"ESTIMATED FILM THICKNESS (based on gradation and asphalt content)"]
[null,"Combined bulk specific gravity (Gsb): "]
[null,"Effective specific gravity:",{"$f":"IFERROR((100-C17)/((100/C30)-C17/MIX_GSB),\"\")","v":""}]
[null,"Asphalt absorption, %:",{"$f":"IFERROR((C61-C60)/(C61*C60)*MIX_GSB*100,\"\")","v":""}]
[null,"Effective asphalt content:",{"$f":"IFERROR(C17-(C62*(100-C17))/100,\"\")","v":""}]
[null,"Film thickness, micron:",{"$f":"IFERROR(1000000*(C63/100)/(1-(C63/100))/(INDIRECT(LEFT($B$2,4) & \"_GRAD!Q24\")*MIX_GSB*1000),\"\")","v":""}]
[]
[null,"BACK CALCULATED ASPHALT CONTENT"]
[null,"Back calculated AC, %:",{"$f":"IF(NOT(OR(C17=\"\",IF(LEFT(B2,1)=\"D\",EFFGR_T,EFFGR_C)=\"\")),IFERROR(ROUND((((IF(LEFT(B2,1)=\"D\",EFFGR_T,EFFGR_C)*100)/C26)-100)/((IF(LEFT(B2,1)=\"D\",EFFGR_T,EFFGR_C)/MIX_GSB)-1),1),\"\"),\"\")","v":""}]

{"sheet":"DOT3_GRAD","index":28,"n_rows":25,"n_cols":35,"rows_kept":25,"cut":false,"hidden":false,"merged":[[5,1,5,5],[6,11,7,11],[6,12,7,12],[7,7,7,9],[0,1,0,11],[1,1,1,9],[2,1,2,9],[3,1,3,5],[3,11,3,12],[4,1,4,5]]}
[null,{"$f":"header","v":"SAMPLE ID:    ______________________________    SAMPLED DATE: ___________________________\nLOT NUMBER:    _____________________________    LETTING DATE: ___________________________\nSAMPLE STATUS:    __________________________    CONTROLLING CSJ: ________________________\nCOUNTY:    _________________________________    SPEC YEAR: ______________________________\nSAMPLED BY:    __________________________________    SPEC ITEM: ______________________________\nSAMPLE LOCATION:    ________________________    SPECIAL PROVISION: ______________________\nMATERIAL CODE:    __________________________    MIX TYPE: _______________________________\nMATERIAL NAME: __________________________________________________________________\nPRODUCER: _______________________________________________________________________\nAREA ENGINEER:    __________________________    PROJECT MANAGER: _____________________________\nCOURSE\\LIFT:    __________________    STATION: ______________________    DIST. FROM CL: ______\n"}]
[null,{"$f":"LEFT(REPLACE(CELL(\"filename\",A1),1,FIND(\"]\",CELL(\"filename\",A1)),\"\"),4) &  \" GRADATION OF EXTRACTED AGGREGATE: Tex-200-F\"","v":"DOT3 GRADATION OF EXTRACTED AGGREGATE: Tex-200-F"}]
[null,{"$f":"\"Method: \" & GRAD_METHOD","v":"Method: "}]
[null,{"$f":"IF(GRAD_METHOD=\"Belt sample\",\"Belt sample original dry weight, g:\",\"Ignited sample original dry weight, g:\")","v":"Ignited sample original dry weight, g:"},null,null,null,null,null,null,null,null,null,"TOLERANCES"]
[null,"Dry weight after washing, g:"]
[null,"Sieve analysis:",null,null,null,null,null,null,null,null,null,"Gradation","RZ"]
[null,null,null,null,{"$f":"IF(LEFT(B2,1)=\"T\",IF(COUNT(DES_IG_CF_T)>0,\"*Adjusted\",\"\"),IF(COUNT(DES_IG_CF_C)>0,\"*Adjusted\",\"\"))","v":""},{"$f":"E7","v":""},{"$f":"F7","v":""},null,null,null,null,"JMF","Current JMF"]
[null,"Sieve Size",{"$f":"IF(G6=\"Cumulative\",\"Cumulative\",\"Individual\") & \" weight retained, g\"","v":"Individual weight retained, g"},{"$f":"IF(G6=\"Cumulative\",\"Individual\",\"Cumulative\") & \" weight retained, g\"","v":"Cumulative weight retained, g"},"Individual percent retained, %","Cumulative percent retained, %","Cumulative percent passing, %",{"$f":"IF(N_TRIAL=\"Yes\",\"JMF cumulative percentage limits\",\"JMF individual retained limits\")","v":"JMF individual retained limits"}]
[null,{"$f":"IFERROR(DESIGN_GRAD!B5,\"\")","v":""},null,{"$f":"IF(ISBLANK(C9),\"\",C9)","v":""},{"$f":"IF(ISERROR(100-G9),\"\",100-G9)","v":""},{"$f":"IF(ISERROR(E9),\"\",E9)","v":""},{"$f":"IF(ISBLANK(C9),\"\",Q9)","v":""},{"$f":"IF(ISBLANK(C9),\"\",DATA_TOL!K4)","v":""},{"$f":"IF(LEN(H9)>0,\"-\",\"\")","v":""},{"$f":"IF(ISBLANK(C9),\"\",DATA_TOL!L4)","v":""},null,{"$f":"IF(AND(LEN(C9)>0,NOT(N_TRIAL=\"Yes\"),IF(MIX_NAME=\"HMA\",FALSE,INDEX(CHK_MGL,MIX_ID))),IF(AND(G9>=$Y$9,G9<=$Z$9,E9>=H9,E9<=J9),1,0),IF(AND(LEN(C9)>0,IF(MIX_NAME=\"HMA\",FALSE,INDEX(CHK_MGL200,MIX_ID)),B9=\"#200\",N_TRIAL=\"Yes\"),IF(AND(G9>=$Y$19,G9<=$Z$19),1,0),IF(AND(LEN(C9)>0,IF(MIX_NAME=\"HMA\",FALSE,INDEX(CHK_MGL200,MIX_ID)),B9=\"#200\"),IF(AND(G9>=$Y$19,G9<=$Z$19,E9>=H9,E9<=J9),1,0),IF(LEN(E9)=0,\"\",IF(N_TRIAL=\"Yes\",IF(AND(G9>=H9,G9<=J9),1,0),IF(AND(E9>=H9,E9<=J9),1,0))))))","v":""},{"$f":"IFERROR(IF(AND(AI9,C9<>\"\"),IF(AND(G9>=DESIGN_GRAD!F5,G9<=DESIGN_GRAD!H5),0,1),\"\"),\"\")","v":""},{"$f":"IF(AND(LEN(C9)>0,NOT(N_TRIAL=\"Yes\")),IF(OR(INDEX(CHK_MGL,MIX_ID),AND(IF(MIX_NAME=\"HMA\",FALSE,INDEX(CHK_MGL200,MIX_ID)),B9=\"#200\")),IF(AND(OR(G9<Y9,G9>Z9),OR(E9<H9,E9>J9)),\"% retained fails JMF target & % passing fails MGL\",IF(OR(G9<Y9,G9>Z9),\"% passing fails MGL\",IF(OR(E9<H9,E9>J9),\"% retained fails JMF target\",\"\"))),IF(OR(E9<H9,E9>J9),\"% retained fails JMF target\",\"\")),\"\")","v":""},null,{"$f":"ROUND(O9+100-IF($G$6=\"Cumulative\",C9,D9)/$C$22*100,1)","v":{"$error":"#VALUE!"}},{"$f":"P9","v":{"$error":"#VALUE!"}},null,{"$f":"INDEX(INDIRECT(MIX_NAME),1,25)","v":{"$error":"#REF!"}},{"$f":"IFERROR(S9*G9/100,\"\")","v":""},null,null,null,null,{"$f":"DESIGN_GRAD!C5","v":""},{"$f":"DESIGN_GRAD!E5","v":""},null,null,null,null,null,null,1,{"$f":"IF(LEN(INDEX(INDIRECT(MIX_NAME),AG9,2))>0,-1,0)","v":{"$error":"#REF!"}},{"$f":"IF(LEN(INDEX(INDIRECT(MIX_NAME),AG9,9))>0,-1,0)","v":{"$error":"#REF!"}}]
[null,{"$f":"IFERROR(DESIGN_GRAD!B6,\"\")","v":""},null,{"$f":"IF(ISBLANK(C10),\"\",IF($G$6=\"Cumulative\",(C10-SUM(D$9:D9)),SUM(C$9:C10)))","v":""},{"$f":"IF(ISERROR(G9-G10),\"\",G9-G10)","v":""},{"$f":"IF(ISERROR(F9+E10),\"\",F9+E10)","v":""},"",{"$f":"IF(ISBLANK(C10),\"\",DATA_TOL!K5)","v":""},"",{"$f":"IF(ISBLANK(C10),\"\",DATA_TOL!L5)","v":""},null,{"$f":"IF(AND(LEN(C10)>0,NOT(N_TRIAL=\"Yes\"),IF(MIX_NAME=\"HMA\",FALSE,INDEX(CHK_MGL,MIX_ID))),IF(AND(G10>=$Y$10,G10<=$Z$10,E10>=H10,E10<=J10),1,0),IF(AND(LEN(C10)>0,IF(MIX_NAME=\"HMA\",FALSE,INDEX(CHK_MGL200,MIX_ID)),B10=\"#200\",N_TRIAL=\"Yes\"),IF(AND(G10>=$Y$19,G10<=$Z$19),1,0),IF(AND(LEN(C10)>0,IF(MIX_NAME=\"HMA\",FALSE,INDEX(CHK_MGL200,MIX_ID)),B10=\"#200\"),IF(AND(G10>=$Y$19,G10<=$Z$19,E10>=H10,E10<=J10),1,0),IF(LEN(E10)=0,\"\",IF(N_TRIAL=\"Yes\",IF(AND(G10>=H10,G10<=J10),1,0),IF(AND(E10>=H10,E10<=J10),1,0))))))","v":""},{"$f":"IFERROR(IF(AND(AI10,C10<>\"\"),IF(AND(G10>=DESIGN_GRAD!F6,G10<=DESIGN_GRAD!H6),0,1),\"\"),\"\")","v":""},"",{"$f":"IF(LEFT($B$2,1)=\"C\",DESIGN_GRAD!P6,DESIGN_GRAD!O6)","v":0},{"$error":"#VALUE!"},{"$f":"MIN(Q9,P10)","v":{"$error":"#VALUE!"}},null,{"$f":"INDEX(INDIRECT(MIX_NAME),2,25)","v":{"$error":"#REF!"}},"",null,null,null,null,{"$f":"DESIGN_GRAD!C6","v":""},{"$f":"DESIGN_GRAD!E6","v":""},null,null,null,null,null,null,2,{"$error":"#REF!"},{"$error":"#REF!"}]
[null,{"$f":"IFERROR(DESIGN_GRAD!B7,\"\")","v":""},null,{"$f":"IF(ISBLANK(C11),\"\",IF($G$6=\"Cumulative\",(C11-SUM(D$9:D10)),SUM(C$9:C11)))","v":""},{"$f":"IF(ISERROR(G10-G11),\"\",G10-G11)","v":""},"","",{"$f":"IF(ISBLANK(C11),\"\",DATA_TOL!K6)","v":""},"",{"$f":"IF(ISBLANK(C11),\"\",DATA_TOL!L6)","v":""},null,{"$f":"IF(AND(LEN(C11)>0,NOT(N_TRIAL=\"Yes\"),IF(MIX_NAME=\"HMA\",FALSE,INDEX(CHK_MGL,MIX_ID))),IF(AND(G11>=$Y$11,G11<=$Z$11,E11>=H11,E11<=J11),1,0),IF(AND(LEN(C11)>0,IF(MIX_NAME=\"HMA\",FALSE,INDEX(CHK_MGL200,MIX_ID)),B11=\"#200\",N_TRIAL=\"Yes\"),IF(AND(G11>=$Y$19,G11<=$Z$19),1,0),IF(AND(LEN(C11)>0,IF(MIX_NAME=\"HMA\",FALSE,INDEX(CHK_MGL200,MIX_ID)),B11=\"#200\"),IF(AND(G11>=$Y$19,G11<=$Z$19,E11>=H11,E11<=J11),1,0),IF(LEN(E11)=0,\"\",IF(N_TRIAL=\"Yes\",IF(AND(G11>=H11,G11<=J11),1,0),IF(AND(E11>=H11,E11<=J11),1,0))))))","v":""},{"$f":"IFERROR(IF(AND(AI11,C11<>\"\"),IF(AND(G11>=DESIGN_GRAD!F7,G11<=DESIGN_GRAD!H7),0,1),\"\"),\"\")","v":""},"",{"$f":"IF(LEFT($B$2,1)=\"C\",DESIGN_GRAD!P7,DESIGN_GRAD!O7)","v":0},{"$error":"#VALUE!"},{"$f":"MIN(Q10,P11)","v":{"$error":"#VALUE!"}},null,{"$f":"INDEX(INDIRECT(MIX_NAME),3,25)","v":{"$error":"#REF!"}},"",null,null,null,null,{"$f":"DESIGN_GRAD!C7","v":""},{"$f":"DESIGN_GRAD!E7","v":""},null,null,null,null,null,null,3,{"$error":"#REF!"},{"$error":"#REF!"}]
[null,{"$f":"IFERROR(DESIGN_GRAD!B8,\"\")","v":""},null,{"$f":"IF(ISBLANK(C12),\"\",IF($G$6=\"Cumulative\",(C12-SUM(D$9:D11)),SUM(C$9:C12)))","v":""},"","","",{"$f":"IF(ISBLANK(C12),\"\",DATA_TOL!K7)","v":""},"",{"$f":"IF(ISBLANK(C12),\"\",DATA_TOL!L7)","v":""},null,{"$f":"IF(AND(LEN(C12)>0,NOT(N_TRIAL=\"Yes\"),IF(MIX_NAME=\"HMA\",FALSE,INDEX(CHK_MGL,MIX_ID))),IF(AND(G12>=$Y$12,G12<=$Z$12,E12>=H12,E12<=J12),1,0),IF(AND(LEN(C12)>0,IF(MIX_NAME=\"HMA\",FALSE,INDEX(CHK_MGL200,MIX_ID)),B12=\"#200\",N_TRIAL=\"Yes\"),IF(AND(G12>=$Y$19,G12<=$Z$19),1,0),IF(AND(LEN(C12)>0,IF(MIX_NAME=\"HMA\",FALSE,INDEX(CHK_MGL200,MIX_ID)),B12=\"#200\"),IF(AND(G12>=$Y$19,G12<=$Z$19,E12>=H12,E12<=J12),1,0),IF(LEN(E12)=0,\"\",IF(N_TRIAL=\"Yes\",IF(AND(G12>=H12,G12<=J12),1,0),IF(AND(E12>=H12,E12<=J12),1,0))))))","v":""},{"$f":"IFERROR(IF(AND(AI12,C12<>\"\"),IF(AND(G12>=DESIGN_GRAD!F8,G12<=DESIGN_GRAD!H8),0,1),\"\"),\"\")","v":""},"",{"$f":"IF(LEFT($B$2,1)=\"C\",DESIGN_GRAD!P8,DESIGN_GRAD!O8)","v":0},{"$error":"#VALUE!"},{"$error":"#VALUE!"},null,{"$f":"INDEX(INDIRECT(MIX_NAME),4,25)","v":{"$error":"#REF!"}},"",null,null,null,null,{"$f":"DESIGN_GRAD!C8","v":""},{"$f":"DESIGN_GRAD!E8","v":""},null,null,null,null,null,null,4,{"$error":"#REF!"},{"$error":"#REF!"}]
[null,{"$f":"IFERROR(DESIGN_GRAD!B9,\"\")","v":""},null,{"$f":"IF(ISBLANK(C13),\"\",IF($G$6=\"Cumulative\",(C13-SUM(D$9:D12)),SUM(C$9:C13)))","v":""},"","","",{"$f":"IF(ISBLANK(C13),\"\",DATA_TOL!K8)","v":""},"",{"$f":"IF(ISBLANK(C13),\"\",DATA_TOL!L8)","v":""},null,{"$f":"IF(AND(LEN(C13)>0,NOT(N_TRIAL=\"Yes\"),IF(MIX_NAME=\"HMA\",FALSE,INDEX(CHK_MGL,MIX_ID))),IF(AND(G13>=$Y$13,G13<=$Z$13,E13>=H13,E13<=J13),1,0),IF(AND(LEN(C13)>0,IF(MIX_NAME=\"HMA\",FALSE,INDEX(CHK_MGL200,MIX_ID)),B13=\"#200\",N_TRIAL=\"Yes\"),IF(AND(G13>=$Y$19,G13<=$Z$19),1,0),IF(AND(LEN(C13)>0,IF(MIX_NAME=\"HMA\",FALSE,INDEX(CHK_MGL200,MIX_ID)),B13=\"#200\"),IF(AND(G13>=$Y$19,G13<=$Z$19,E13>=H13,E13<=J13),1,0),IF(LEN(E13)=0,\"\",IF(N_TRIAL=\"Yes\",IF(AND(G13>=H13,G13<=J13),1,0),IF(AND(E13>=H13,E13<=J13),1,0))))))","v":""},{"$f":"IFERROR(IF(AND(AI13,C13<>\"\"),IF(AND(G13>=DESIGN_GRAD!F9,G13<=DESIGN_GRAD!H9),0,1),\"\"),\"\")","v":""},"",{"$f":"IF(LEFT($B$2,1)=\"C\",DESIGN_GRAD!P9,DESIGN_GRAD!O9)","v":0},{"$error":"#VALUE!"},{"$error":"#VALUE!"},null,{"$f":"INDEX(INDIRECT(MIX_NAME),5,25)","v":{"$error":"#REF!"}},"",null,null,null,null,{"$f":"DESIGN_GRAD!C9","v":""},{"$f":"DESIGN_GRAD!E9","v":""},null,null,null,null,null,null,5,{"$error":"#REF!"},{"$error":"#REF!"}]
[null,{"$f":"IFERROR(DESIGN_GRAD!B10,\"\")","v":""},null,{"$f":"IF(ISBLANK(C14),\"\",IF($G$6=\"Cumulative\",(C14-SUM(D$9:D13)),SUM(C$9:C14)))","v":""},"","","",{"$f":"IF(ISBLANK(C14),\"\",DATA_TOL!K9)","v":""},"",{"$f":"IF(ISBLANK(C14),\"\",DATA_TOL!L9)","v":""},null,{"$f":"IF(AND(LEN(C14)>0,NOT(N_TRIAL=\"Yes\"),IF(MIX_NAME=\"HMA\",FALSE,INDEX(CHK_MGL,MIX_ID))),IF(AND(G14>=$Y$14,G14<=$Z$14,E14>=H14,E14<=J14),1,0),IF(AND(,LEN(C14)>0,IF(MIX_NAME=\"HMA\",FALSE,INDEX(CHK_MGL200,MIX_ID)),B14=\"#200\",N_TRIAL=\"Yes\"),IF(AND(G14>=$Y$19,G14<=$Z$19),1,0),IF(AND(,LEN(C14)>0,IF(MIX_NAME=\"HMA\",FALSE,INDEX(CHK_MGL200,MIX_ID)),B14=\"#200\"),IF(AND(G14>=$Y$19,G14<=$Z$19,E14>=H14,E14<=J14),1,0),IF(LEN(E14)=0,\"\",IF(N_TRIAL=\"Yes\",IF(AND(G14>=H14,G14<=J14),1,0),IF(AND(E14>=H14,E14<=J14),1,0))))))","v":""},{"$f":"IFERROR(IF(AND(AI14,C14<>\"\"),IF(AND(G14>=DESIGN_GRAD!F10,G14<=DESIGN_GRAD!H10),0,1),\"\"),\"\")","v":""},"",{"$f":"IF(LEFT($B$2,1)=\"C\",DESIGN_GRAD!P10,DESIGN_GRAD!O10)","v":0},{"$error":"#VALUE!"},{"$error":"#VALUE!"},null,{"$f":"INDEX(INDIRECT(MIX_NAME),6,25)","v":{"$error":"#REF!"}},"",null,null,null,null,{"$f":"DESIGN_GRAD!C10","v":""},{"$f":"DESIGN_GRAD!E10","v":""},null,null,null,null,null,null,6,{"$error":"#REF!"},{"$error":"#REF!"}]
[null,{"$f":"IFERROR(DESIGN_GRAD!B11,\"\")","v":""},null,{"$f":"IF(ISBLANK(C15),\"\",IF($G$6=\"Cumulative\",(C15-SUM(D$9:D14)),SUM(C$9:C15)))","v":""},"","","",{"$f":"IF(ISBLANK(C15),\"\",DATA_TOL!K10)","v":""},"",{"$f":"IF(ISBLANK(C15),\"\",DATA_TOL!L10)","v":""},null,{"$f":"IF(AND(LEN(C15)>0,NOT(N_TRIAL=\"Yes\"),IF(MIX_NAME=\"HMA\",FALSE,INDEX(CHK_MGL,MIX_ID))),IF(AND(G15>=$Y$15,G15<=$Z$15,E15>=H15,E15<=J15),1,0),IF(AND(LEN(C15)>0,IF(MIX_NAME=\"HMA\",FALSE,INDEX(CHK_MGL200,MIX_ID)),B15=\"#200\",N_TRIAL=\"Yes\"),IF(AND(G15>=$Y$19,G15<=$Z$19),1,0),IF(AND(LEN(C15)>0,IF(MIX_NAME=\"HMA\",FALSE,INDEX(CHK_MGL200,MIX_ID)),B15=\"#200\"),IF(AND(G15>=$Y$19,G15<=$Z$19,E15>=H15,E15<=J15),1,0),IF(LEN(E15)=0,\"\",IF(N_TRIAL=\"Yes\",IF(AND(G15>=H15,G15<=J15),1,0),IF(AND(E15>=H15,E15<=J15),1,0))))))","v":""},{"$f":"IFERROR(IF(AND(AI15,C15<>\"\"),IF(AND(G15>=DESIGN_GRAD!F11,G15<=DESIGN_GRAD!H11),0,1),\"\"),\"\")","v":""},"",{"$f":"IF(LEFT($B$2,1)=\"C\",DESIGN_GRAD!P11,DESIGN_GRAD!O11)","v":0},{"$error":"#VALUE!"},{"$error":"#VALUE!"},null,{"$f":"INDEX(INDIRECT(MIX_NAME),7,25)","v":{"$error":"#REF!"}},"",null,null,null,null,{"$f":"DESIGN_GRAD!C11","v":""},{"$f":"DESIGN_GRAD!E11","v":""},null,null,null,null,null,null,7,{"$error":"#REF!"},{"$error":"#REF!"}]
[null,{"$f":"IFERROR(DESIGN_GRAD!B12,\"\")","v":""},null,{"$f":"IF(ISBLANK(C16),\"\",IF($G$6=\"Cumulative\",(C16-SUM(D$9:D15)),SUM(C$9:C16)))","v":""},"","","",{"$f":"IF(ISBLANK(C16),\"\",DATA_TOL!K11)","v":""},"",{"$f":"IF(ISBLANK(C16),\"\",DATA_TOL!L11)","v":""},null,{"$f":"IF(AND(LEN(C16)>0,NOT(N_TRIAL=\"Yes\"),IF(MIX_NAME=\"HMA\",FALSE,INDEX(CHK_MGL,MIX_ID))),IF(AND(G16>=$Y$16,G16<=$Z$16,E16>=H16,E16<=J16),1,0),IF(AND(LEN(C16)>0,IF(MIX_NAME=\"HMA\",FALSE,INDEX(CHK_MGL200,MIX_ID)),B16=\"#200\",N_TRIAL=\"Yes\"),IF(AND(G16>=$Y$19,G16<=$Z$19),1,0),IF(AND(LEN(C16)>0,IF(MIX_NAME=\"HMA\",FALSE,INDEX(CHK_MGL200,MIX_ID)),B16=\"#200\"),IF(AND(G16>=$Y$19,G16<=$Z$19,E16>=H16,E16<=J16),1,0),IF(LEN(E16)=0,\"\",IF(N_TRIAL=\"Yes\",IF(AND(G16>=H16,G16<=J16),1,0),IF(AND(E16>=H16,E16<=J16),1,0))))))","v":""},{"$f":"IFERROR(IF(AND(AI16,C16<>\"\"),IF(AND(G16>=DESIGN_GRAD!F12,G16<=DESIGN_GRAD!H12),0,1),\"\"),\"\")","v":""},"",{"$f":"IF(LEFT($B$2,1)=\"C\",DESIGN_GRAD!P12,DESIGN_GRAD!O12)","v":0},{"$error":"#VALUE!"},{"$error":"#VALUE!"},null,{"$f":"INDEX(INDIRECT(MIX_NAME),8,25)","v":{"$error":"#REF!"}},"",null,null,null,null,{"$f":"DESIGN_GRAD!C12","v":""},{"$f":"DESIGN_GRAD!E12","v":""},null,null,null,null,null,null,8,{"$error":"#REF!"},{"$error":"#REF!"}]
[null,{"$f":"IFERROR(DESIGN_GRAD!B13,\"\")","v":""},null,{"$f":"IF(C17=\"\",\"\",IF($G$6=\"Cumulative\",(C17-SUM(D$9:D16)),SUM(C$9:C17)))","v":""},"","","",{"$f":"IF(ISBLANK(C17),\"\",DATA_TOL!K12)","v":""},"",{"$f":"IF(ISBLANK(C17),\"\",DATA_TOL!L12)","v":""},null,{"$f":"IF(AND(LEN(C17)>0,NOT(N_TRIAL=\"Yes\"),IF(MIX_NAME=\"HMA\",FALSE,INDEX(CHK_MGL,MIX_ID))),IF(AND(G17>=$Y$17,G17<=$Z$17,E17>=H17,E17<=J17),1,0),IF(AND(LEN(C17)>0,IF(MIX_NAME=\"HMA\",FALSE,INDEX(CHK_MGL200,MIX_ID)),B17=\"#200\",N_TRIAL=\"Yes\"),IF(AND(G17>=$Y$19,G17<=$Z$19),1,0),IF(AND(LEN(C17)>0,IF(MIX_NAME=\"HMA\",FALSE,INDEX(CHK_MGL200,MIX_ID)),B17=\"#200\"),IF(AND(G17>=$Y$19,G17<=$Z$19,E17>=H17,E17<=J17),1,0),IF(LEN(E17)=0,\"\",IF(N_TRIAL=\"Yes\",IF(AND(G17>=H17,G17<=J17),1,0),IF(AND(E17>=H17,E17<=J17),1,0))))))","v":""},{"$f":"IFERROR(IF(AND(AI17,C17<>\"\"),IF(AND(G17>=DESIGN_GRAD!F13,G17<=DESIGN_GRAD!H13),0,1),\"\"),\"\")","v":""},"",{"$f":"IF(LEFT($B$2,1)=\"C\",DESIGN_GRAD!P13,DESIGN_GRAD!O13)","v":0},{"$error":"#VALUE!"},{"$error":"#VALUE!"},null,{"$f":"INDEX(INDIRECT(MIX_NAME),9,25)","v":{"$error":"#REF!"}},"",null,null,null,null,{"$f":"DESIGN_GRAD!C13","v":""},{"$f":"DESIGN_GRAD!E13","v":""},null,null,null,null,null,null,9,{"$error":"#REF!"},{"$error":"#REF!"}]
[null,{"$f":"IFERROR(DESIGN_GRAD!B14,\"\")","v":""},null,{"$f":"IF(C18=\"\",\"\",IF($G$6=\"Cumulative\",(C18-SUM(D$9:D17)),SUM(C$9:C18)))","v":""},"","","",{"$f":"IF(ISBLANK(C18),\"\",DATA_TOL!K13)","v":""},"",{"$f":"IF(ISBLANK(C18),\"\",DATA_TOL!L13)","v":""},null,{"$f":"IF(AND(LEN(C18)>0,NOT(N_TRIAL=\"Yes\"),IF(MIX_NAME=\"HMA\",FALSE,INDEX(CHK_MGL,MIX_ID))),IF(AND(G18>=$Y$18,G18<=$Z$18,E18>=H18,E18<=J18),1,0),IF(AND(LEN(C18)>0,IF(MIX_NAME=\"HMA\",FALSE,INDEX(CHK_MGL200,MIX_ID)),B18=\"#200\",N_TRIAL=\"Yes\"),IF(AND(G18>=$Y$19,G18<=$Z$19),1,0),IF(AND(LEN(C18)>0,IF(MIX_NAME=\"HMA\",FALSE,INDEX(CHK_MGL200,MIX_ID)),B18=\"#200\"),IF(AND(G18>=$Y$19,G18<=$Z$19,E18>=H18,E18<=J18),1,0),IF(LEN(E18)=0,\"\",IF(N_TRIAL=\"Yes\",IF(AND(G18>=H18,G18<=J18),1,0),IF(AND(E18>=H18,E18<=J18),1,0))))))","v":""},{"$f":"IFERROR(IF(AND(AI18,C18<>\"\"),IF(AND(G18>=DESIGN_GRAD!F14,G18<=DESIGN_GRAD!H14),0,1),\"\"),\"\")","v":""},"",{"$f":"IF(LEFT($B$2,1)=\"C\",DESIGN_GRAD!P14,DESIGN_GRAD!O14)","v":0},{"$error":"#VALUE!"},{"$error":"#VALUE!"},null,{"$f":"INDEX(INDIRECT(MIX_NAME),10,25)","v":{"$error":"#REF!"}},"",null,null,null,null,{"$f":"DESIGN_GRAD!C14","v":""},{"$f":"DESIGN_GRAD!E14","v":""},null,null,null,null,null,null,10,{"$error":"#REF!"},{"$error":"#REF!"}]
[null,"- #200",null,null,null,null,null,null,null,null,null,null,null,null,null,null,null,"#16",null,null,1.18,{"$f":"VLOOKUP(\"#16\",$B$9:$G$18,6,0)","v":{"$error":"#N/A"}},{"$f":"LOG(U19)","v":7.1882007306125359E-2},{"$error":"#N/A"},{"$f":"MIN(Y9:Y18)","v":0},{"$f":"MIN(Z9:Z18)","v":0}]
[null,null,{"$f":"IF(G4>0,G4-IF(G6=\"Cumulative\",LARGE(C9:C19,1),SUM(C9:C19)),IF(SUM(C9:C19)=0,\"\",0))","v":""},{"$f":"IF(G4<>\"\",IF(G5<>\"\",\"Wash Loss\" & IF(C23>0,\" - \",\" + \"),\"\")&IF(C23>0,\"Sieving Gain (g)\",IF(C23<0,\"Sieving Loss (g)\",\"\")),\"\")","v":""},null,null,null,null,null,null,null,null,null,null,null,null,null,"#50",null,null,0.3,{"$f":"VLOOKUP(\"#50\",$B$9:$G$18,6,0)","v":{"$error":"#N/A"}},-0.52287874528033762,{"$error":"#N/A"}]
[null,"Total - #200",{"$f":"IF(ISERROR(IF(G6=\"Cumulative\",LARGE(C9:C19,1),C19)+C20),\"\",IF(G6=\"Cumulative\",LARGE(C9:C19,1),C19)+C20)","v":""},{"$f":"IF(ISBLANK(C19),\"\",IF(G6=\"Cumulative\",(C21-SUM(D$9:D18)),SUM(C$9:C18,C21)))","v":""},{"$f":"IF(ISERROR(OFFSET(G19,-COUNTBLANK(B9:B18)-1,0)-G21),\"\",OFFSET(G19,-COUNTBLANK(B9:B18)-1,0)-G21)","v":""},{"$f":"IF(ISERROR(OFFSET(F19,-COUNTBLANK(B9:B18)-1,0)+E21),\"\",OFFSET(F19,-COUNTBLANK(B9:B18)-1,0)+E21)","v":""},{"$f":"IF(ISERROR(100-IF(G6=\"Cumulative\",C21/C22*100,D21/C22*100)),\"\",ROUND(100-IF(G6=\"Cumulative\",C21/C22*100,D21/C22*100),1))","v":""},{"$f":"IF(C21=\"\",\"\",DATA_TOL!K14)","v":""},{"$f":"IF(LEN(H21)>0,\"-\",\"\")","v":""},{"$f":"IF(C21=\"\",\"\",DATA_TOL!L14)","v":""},null,{"$f":"IF(LEN(E21)=0,\"\",IF(N_TRIAL=\"Yes\",IF(AND(G21>=H21,G21<=J21),1,0),IF(AND(E21>=H21,E21<=J21),1,0)))","v":""},null,{"$f":"IF(AND(LEN(C21)>0,NOT(LEN(E21)=0),NOT(N_TRIAL=\"Yes\")),IF(OR(E21<H21,E21>J21),\"% passing #200 fails JMF target\",\"\"),\"\")","v":""},null,null,null,"#200",null,null,7.4999999999999997E-2,{"$f":"VLOOKUP(\"#200\",$B$9:$G$18,6,0)","v":{"$error":"#N/A"}},-1.1249387366082999,{"$error":"#N/A"}]
[null,"Total weight, g",{"$f":"IF(ISERROR(IF(G6=\"Cumulative\",C21,SUM(C9:C18)+C21)),\"\",IF(G6=\"Cumulative\",C21,SUM(C9:C18)+C21))","v":""},null,null,null,null,null,null,null,null,null,null,null,null,null,null,"#30",2.87,{"$f":"S22*V22/100","v":{"$error":"#N/A"}},0.6,{"$f":"10^X22","v":{"$error":"#N/A"}},{"$f":"LOG(U22)","v":-0.22184874961635639},{"$f":"FORECAST(W22,X19:X20,W19:W20)","v":{"$error":"#N/A"}}]
[null,null,{"$f":"IF(G5<>\"\",IF(G6=\"Cumulative\",IF(ISERROR(LARGE(C9:C19,1)),0,LARGE(C9:C19,1)),SUM(C9:C19))-G5,IF(G4<>\"\",IF(G6=\"Cumulative\",IF(ISERROR(LARGE(C9:C19,1)),0,LARGE(C9:C19,1)),SUM(C9:C19))-G4,IF(B23<>\"\",IF(G6=\"Cumulative\",IF(ISERROR(LARGE(C9:C19,1)),0,LARGE(C9:C19,1)),SUM(C9:C19))-B23,\"\")))","v":""},{"$f":"IF(AND(C22<>\"\",C23<>\"\"),IF(C25>0.2,\"Discrepancy too large - rerun analysis\",\"Sieving \" & IF(C23>0, \"Gain\", \"Loss\") & \" (g), from \" & IF(G5<>\"\", \"dry weight after washing\", \"original dry sample\")),\"\")","v":""},null,null,null,null,null,null,null,null,null,null,null,null,null,"#100",12.29,{"$f":"S23*V23/100","v":{"$error":"#N/A"}},0.15,{"$f":"10^X23","v":{"$error":"#N/A"}},{"$f":"LOG(U23)","v":-0.82390874094431876},{"$f":"FORECAST(W23,X20:X21,W20:W21)","v":{"$error":"#N/A"}}]
[null,null,null,null,null,null,null,null,null,null,null,null,null,null,null,null,null,null,null,{"$f":"SUM(T9:T18)+T22+T23","v":{"$error":"#N/A"}}]
[null,null,{"$f":"ABS(100*C23/C22)","v":{"$error":"#VALUE!"}}]

{"sheet":"DOT3_DENSITY","index":29,"n_rows":37,"n_cols":13,"rows_kept":37,"cut":false,"hidden":false,"merged":[[34,2,34,4],[34,5,34,6],[35,2,35,4],[35,5,35,6],[36,2,36,4],[36,5,36,6],[33,2,33,4],[33,5,33,6],[0,1,0,8],[1,1,1,6],[2,2,2,4],[2,5,2,6],[15,1,15,6],[24,1,24,6],[30,1,30,6],[31,2,31,4],[31,5,31,6],[32,2,32,4],[32,5,32,6]]}
[null,{"$f":"header","v":"SAMPLE ID:    ______________________________    SAMPLED DATE: ___________________________\nLOT NUMBER:    _____________________________    LETTING DATE: ___________________________\nSAMPLE STATUS:    __________________________    CONTROLLING CSJ: ________________________\nCOUNTY:    _________________________________    SPEC YEAR: ______________________________\nSAMPLED BY:    __________________________________    SPEC ITEM: ______________________________\nSAMPLE LOCATION:    ________________________    SPECIAL PROVISION: ______________________\nMATERIAL CODE:    __________________________    MIX TYPE: _______________________________\nMATERIAL NAME: __________________________________________________________________\nPRODUCER: _______________________________________________________________________\nAREA ENGINEER:    __________________________    PROJECT MANAGER: _____________________________\nCOURSE\\LIFT:    __________________    STATION: ______________________    DIST. FROM CL: ______\n"}]
[null,{"$f":"LEFT(REPLACE(CELL(\"filename\",A1),1,FIND(\"]\",CELL(\"filename\",A1)),\"\"),4) &  \" DETERMINING PROPERTIES OF BITUMINOUS MIXTURES-Tex-207-F\"","v":"DOT3 DETERMINING PROPERTIES OF BITUMINOUS MIXTURES-Tex-207-F"}]
[null,"Specimen type:","Laboratory",null,null,"Roadway"]
[null,"Specimen number:","1(1)","1(2)","1(3)","1(A)","1(B)"]
[null,"Note to developer - hide this row Specimen radius, mm:"]
[null,{"$f":"IF(DESIGN_GE,\"Specimen height, mm:\",\"Untrimmed specimen/Core height, in:\")","v":{"$error":"#N/A"}}]
[null,"Trimmed core height, in:"]
[null,"Weight of specimen in air, g:"]
[null,"Weight of specimen in water, g:"]
[null,"SSD weight of specimen in air, g:"]
[null,"Volume of specimen:",{"$f":"IF(AND(ISBLANK(C10),ISBLANK(C9)),\"\",C10-C9)","v":""},{"$f":"IF(AND(ISBLANK(D10),ISBLANK(D9)),\"\",D10-D9)","v":""},{"$f":"IF(AND(ISBLANK(E10),ISBLANK(E9)),\"\",E10-E9)","v":""},{"$f":"IF(AND(ISBLANK(F10),ISBLANK(F9)),\"\",F10-F9)","v":""},{"$f":"IF(AND(ISBLANK(G10),ISBLANK(G9)),\"\",G10-G9)","v":""}]
[null,"Note to developer - hide this row SSD Density:",{"$f":"IFERROR(C8/C11,\"\")","v":""},{"$f":"IFERROR(D8/D11,\"\")","v":""},{"$f":"IFERROR(E8/E11,\"\")","v":""},{"$f":"IFERROR(F8/F11,\"\")","v":""},{"$f":"IFERROR(G8/G11,\"\")","v":""}]
[null,"Percent absorption, %:",{"$f":"IFERROR(ROUND(100*((C10-C8)/(C10-C9)),1),\"\")","v":""},{"$f":"IFERROR(ROUND(100*((D10-D8)/(D10-D9)),1),\"\")","v":""},{"$f":"IFERROR(ROUND(100*((E10-E8)/(E10-E9)),1),\"\")","v":""},{"$f":"IFERROR(ROUND(100*((F10-F8)/(F10-F9)),1),\"\")","v":""},{"$f":"IFERROR(ROUND(100*((G10-G8)/(G10-G9)),1),\"\")","v":""}]
[null,"Bag required for Ga:",{"$f":"IF(ISNUMBER(C13),IF(C13>2,\"Yes\",\"No\"),\"\")","v":""},{"$f":"IF(ISNUMBER(D13),IF(D13>2,\"Yes\",\"No\"),\"\")","v":""},{"$f":"IF(ISNUMBER(E13),IF(E13>2,\"Yes\",\"No\"),\"\")","v":""},{"$f":"IF(ISNUMBER(F13),IF(F13>2,\"Yes\",\"No\"),\"\")","v":""},{"$f":"IF(ISNUMBER(G13),IF(G13>2,\"Yes\",\"No\"),\"\")","v":""}]
[null,"Bag Used for Ga:"]
[null,"Vacuum bag inputs"]
[null,"Vacuum bag method used:"]
[null,"Weight of specimen in air, g:"]
[null,"Sealed weight of specimen in water, g:",null,null,null,null,null,null,{"$f":"IF(OR(ISBLANK(C20),ISBLANK(C18)),\"\",IF(ABS(C20-C18)>5,-1,0))","v":""},{"$f":"IF(OR(ISBLANK(D20),ISBLANK(D18)),\"\",IF(ABS(D20-D18)>5,-1,0))","v":""},{"$f":"IF(OR(ISBLANK(E20),ISBLANK(E18)),\"\",IF(ABS(E20-E18)>5,-1,0))","v":""},{"$f":"IF(OR(ISBLANK(F20),ISBLANK(F18)),\"\",IF(ABS(F20-F18)>5,-1,0))","v":""},{"$f":"IF(OR(ISBLANK(G20),ISBLANK(G18)),\"\",IF(ABS(G20-G18)>5,-1,0))","v":""}]
[null,"Dry specimen weight after submersion, g:",null,null,null,null,null,null,{"$f":"IFERROR(IF(OR(I19:M19),\"> 5g. Repeat test, a leak may have occurred.\",\"\"),\"\")","v":""}]
[null,"Weight of vacuum bag(s), g:"]
[null,"Vacuum bag volume correction factor:",{"$f":"IFERROR(IF(LEFT(C17,1)=\"L\",-0.00166*(C18/C21)+0.8596,IF(LEFT(C17,1)=\"S\",-0.000566*(C18/C21)+0.8121,IF(LEFT(C17,1)=\"D\",-0.0022448*(C18/C21)+0.85818,\"\"))),\"\")","v":""},{"$f":"IFERROR(IF(LEFT(D17,1)=\"L\",-0.00166*(D18/D21)+0.8596,IF(LEFT(D17,1)=\"S\",-0.000566*(D18/D21)+0.8121,IF(LEFT(D17,1)=\"D\",-0.0022448*(D18/D21)+0.85818,\"\"))),\"\")","v":""},{"$f":"IFERROR(IF(LEFT(E17,1)=\"L\",-0.00166*(E18/E21)+0.8596,IF(LEFT(E17,1)=\"S\",-0.000566*(E18/E21)+0.8121,IF(LEFT(E17,1)=\"D\",-0.0022448*(E18/E21)+0.85818,\"\"))),\"\")","v":""},{"$f":"IFERROR(IF(LEFT(F17,1)=\"L\",-0.00166*(F18/F21)+0.8596,IF(LEFT(F17,1)=\"S\",-0.000566*(F18/F21)+0.8121,IF(LEFT(F17,1)=\"D\",-0.0022448*(F18/F21)+0.85818,\"\"))),\"\")","v":""},{"$f":"IFERROR(IF(LEFT(G17,1)=\"L\",-0.00166*(G18/G21)+0.8596,IF(LEFT(G17,1)=\"S\",-0.000566*(G18/G21)+0.8121,IF(LEFT(G17,1)=\"D\",-0.0022448*(G18/G21)+0.85818,\"\"))),\"\")","v":""}]
[null,"Vacuum bag density:",{"$f":"IFERROR(C18/(C21+C18-C19-(C21/C22)),\"\")","v":""},{"$f":"IFERROR(D18/(D21+D18-D19-(D21/D22)),\"\")","v":""},{"$f":"IFERROR(E18/(E21+E18-E19-(E21/E22)),\"\")","v":""},{"$f":"IFERROR(F18/(F21+F18-F19-(F21/F22)),\"\")","v":""},{"$f":"IFERROR(G18/(G21+G18-G19-(G21/G22)),\"\")","v":""}]
[null,"Note to developer - hide this row",{"$f":"IF(LEFT($B$2,1)=\"D\",PRESS_T,PRESS_C)+IF(INDEX(CHK_GE,MIX_ID),IF(ISERROR(C8*1000/(3.14*75^2*C6)),\"\",C8*1000/(3.14*75^2*C6)),IF(C15<>\"Yes\",IF(ISERROR(C12),\"\",ROUND(C12,3)),IF(ISERROR(MIN(C12,C23)),\"\",ROUND(MIN(C12,C23),3))))","v":{"$error":"#N/A"}},{"$f":"IF(LEFT($B$2,1)=\"D\",PRESS_T,PRESS_C)+IF(INDEX(CHK_GE,MIX_ID),IF(ISERROR(D8*1000/(3.14*75^2*D6)),\"\",D8*1000/(3.14*75^2*D6)),IF(D15<>\"Yes\",IF(ISERROR(D12),\"\",ROUND(D12,3)),IF(ISERROR(MIN(D12,D23)),\"\",ROUND(MIN(D12,D23),3))))","v":{"$error":"#N/A"}},{"$f":"IF(LEFT($B$2,1)=\"D\",PRESS_T,PRESS_C)+IF(INDEX(CHK_GE,MIX_ID),IF(ISERROR(E8*1000/(3.14*75^2*E6)),\"\",E8*1000/(3.14*75^2*E6)),IF(E15<>\"Yes\",IF(ISERROR(E12),\"\",ROUND(E12,3)),IF(ISERROR(MIN(E12,E23)),\"\",ROUND(MIN(E12,E23),3))))","v":{"$error":"#N/A"}},{"$f":"IF(INDEX(CHK_GE,MIX_ID),IF(ISERROR(F8*1000/(3.14*F5^2*F6)),\"\",F8*1000/(3.14*F5^2*F6)),IF(F15<>\"Yes\",IF(ISERROR(F12),\"\",ROUND(F12,3)),IF(ISERROR(MIN(F12,F23)),\"\",ROUND(MIN(F12,F23),3))))","v":{"$error":"#N/A"}},{"$f":"IF(INDEX(CHK_GE,MIX_ID),IF(ISERROR(G8*1000/(3.14*G5^2*G6)),\"\",G8*1000/(3.14*G5^2*G6)),IF(G15<>\"Yes\",IF(ISERROR(G12),\"\",ROUND(G12,3)),IF(ISERROR(MIN(G12,G23)),\"\",ROUND(MIN(G12,G23),3))))","v":{"$error":"#N/A"}}]
[null,"Volumetric properties"]
[null,"Bulk specific gravity, Ga:",{"$f":"IFERROR(ROUND(C24,3),\"\")","v":""},{"$f":"IFERROR(ROUND(D24,3),\"\")","v":""},{"$f":"IFERROR(ROUND(E24,3),\"\")","v":""},{"$f":"IFERROR(ROUND(F24,3),\"\")","v":""},{"$f":"IFERROR(ROUND(G24,3),\"\")","v":""}]
[null,"Percent density, %:",{"$f":"IFERROR(ROUND(100*C26/$C$33,1),\"\")","v":""},{"$f":"IFERROR(ROUND(100*D26/$C$33,1),\"\")","v":""},{"$f":"IFERROR(ROUND(100*E26/$C$33,1),\"\")","v":""},{"$f":"IFERROR(ROUND(100*F26/$F$33,1),\"\")","v":""},{"$f":"IFERROR(ROUND(100*G26/$F$33,1),\"\")","v":""}]
[null,"Percent air voids, %:",{"$f":"IFERROR(ROUND(100-C27,1),\"\")","v":""},{"$f":"IFERROR(ROUND(100-D27,1),\"\")","v":""},{"$f":"IFERROR(ROUND(100-E27,1),\"\")","v":""},{"$f":"IFERROR(ROUND(100-F27,1),\"\")","v":""},{"$f":"IFERROR(ROUND(100-G27,1),\"\")","v":""}]
[null,"Percent VMA, %:",{"$f":"IFERROR(ROUND(100-(100*(C26/INDIRECT(LEFT($B$2,4) & \"_PROD!$C$30\")))+((C26*$C$32)/MIX_GSB),1),\"\")","v":""},{"$f":"IFERROR(ROUND(100-(100*(D26/INDIRECT(LEFT($B$2,4) & \"_PROD!$C$30\")))+((D26*$C$32)/MIX_GSB),1),\"\")","v":""},{"$f":"IFERROR(ROUND(100-(100*(E26/INDIRECT(LEFT($B$2,4) & \"_PROD!$C$30\")))+((E26*$C$32)/MIX_GSB),1),\"\")","v":""},{"$f":"IFERROR(ROUND(100-(100*(F26/INDIRECT(LEFT($B$2,4) & \"_PROD!$C$30\")))+((F26*$F$32)/MIX_GSB),1),\"\")","v":""},{"$f":"IFERROR(ROUND(100-(100*(G26/INDIRECT(LEFT($B$2,4) & \"_PROD!$C$30\")))+((G26*$F$32)/MIX_GSB),1),\"\")","v":""}]
[]
[null,"MEAN VOLUMETRIC PROPERTIES"]
[null,{"$f":"IF(AND(LEFT($B$2,1)=\"D\",INDIRECT(LEFT($B$2,4) & \"_PROD!C17\")=\"\",INDIRECT(SUBSTITUTE(LEFT($B$2,4),\"DOT\",\"CON\") & \"_PROD!C17\")<>\"\"),\"Contractor's asphalt content, %:\",\"Asphalt content, %:\")","v":"Asphalt content, %:"},{"$f":"IFERROR(IF(AND(LEFT($B$2,1)=\"D\",INDIRECT(LEFT($B$2,4) & \"_PROD!C17\")=\"\",INDIRECT(SUBSTITUTE(LEFT($B$2,4),\"DOT\",\"CON\") & \"_PROD!C17\")<>\"\"),ROUND(INDIRECT(SUBSTITUTE(LEFT($B$2,4),\"DOT\",\"CON\") & \"_PROD!C17\"),1),ROUND(INDIRECT(LEFT($B$2,4) & \"_PROD!C17\"),1)),\"\")","v":""},null,null,{"$f":"IFERROR(IF(AND(LEFT($B$2,1)=\"D\",INDIRECT(LEFT($B$2,4) & \"_PROD!C17\")=\"\",INDIRECT(SUBSTITUTE(LEFT($B$2,4),\"DOT\",\"CON\") & \"_PROD!C17\")<>\"\"),ROUND(INDIRECT(SUBSTITUTE(LEFT($B$2,4),\"DOT\",\"CON\") & \"_PROD!C17\"),1),ROUND(INDIRECT(LEFT($B$2,4) & \"_PROD!C17\"),1)),\"\")","v":""}]
[null,{"$f":"IF(AND(INDIRECT(LEFT($B$2,4) & \"_PROD!C27\")<>\"\",INDIRECT(LEFT($B$2,4) & \"_PROD!C27\")>0.01),\"Corrected Rice specific gravity, Grc:\",\"Rice specific gravity, Gr:\")","v":"Rice specific gravity, Gr:"},{"$f":"IFERROR(ROUND(IF(DESIGN_GE,100/((100-C32)/MIX_GMB+(C32/MIX_GSB)),INDIRECT(LEFT($B$2,4) & \"_PROD!C30\")),3),\"\")","v":""},null,null,{"$f":"IF(LEFT($B$2,1)=\"D\",IFERROR(ROUND(AVERAGE(INDIRECT(\"DOT1_PROD!C30\"),INDIRECT(\"DOT2_PROD!C30\"),INDIRECT(\"DOT3_PROD!C30\"),INDIRECT(\"DOT4_PROD!C30\")),3),\"\"),IFERROR(ROUND(AVERAGE(INDIRECT(\"CON1_PROD!C30\"),INDIRECT(\"CON2_PROD!C30\"),INDIRECT(\"CON3_PROD!C30\"),INDIRECT(\"CON4_PROD!C30\")),3),\"\"))","v":""}]
[null,"Percent density, %:",{"$f":"IFERROR(ROUND(AVERAGE(C27:E27),1),\"\")","v":""},null,null,{"$f":"IFERROR(ROUND(AVERAGE(F27:G27),1),\"\")","v":""}]
[null,"Actual specific gravity:",{"$f":"IFERROR(ROUND(AVERAGE(C26:E26),3),\"\")","v":""},null,null,{"$f":"IFERROR(ROUND(AVERAGE(F26:G26),3),\"\")","v":""}]
[null,"Percent air voids, %:",{"$f":"IFERROR(ROUND(AVERAGE(C28:E28),1),\"\")","v":""},null,null,{"$f":"IFERROR(ROUND(AVERAGE(F28:G28),1),\"\")","v":""}]
[null,"Percent VMA, %:",{"$f":"IFERROR(ROUND(AVERAGE(C29:E29),1),\"\")","v":""},null,null,{"$f":"IFERROR(ROUND(AVERAGE(F29:G29),1),\"\")","v":""}]

{"sheet":"DOT4_PROD","index":30,"n_rows":67,"n_cols":3,"rows_kept":67,"cut":false,"hidden":false,"merged":[[43,1,43,2],[58,1,58,2],[65,1,65,2],[0,1,0,2],[1,1,1,2],[6,1,6,2],[7,1,7,2],[21,1,21,2],[32,1,32,2]]}
[null,{"$f":"header","v":"SAMPLE ID:    ______________________________    SAMPLED DATE: ___________________________\nLOT NUMBER:    _____________________________    LETTING DATE: ___________________________\nSAMPLE STATUS:    __________________________    CONTROLLING CSJ: ________________________\nCOUNTY:    _________________________________    SPEC YEAR: ______________________________\nSAMPLED BY:    __________________________________    SPEC ITEM: ______________________________\nSAMPLE LOCATION:    ________________________    SPECIAL PROVISION: ______________________\nMATERIAL CODE:    __________________________    MIX TYPE: _______________________________\nMATERIAL NAME: __________________________________________________________________\nPRODUCER: _______________________________________________________________________\nAREA ENGINEER:    __________________________    PROJECT MANAGER: _____________________________\nCOURSE\\LIFT:    __________________    STATION: ______________________    DIST. FROM CL: ______\n"}]
[null,{"$f":"LEFT(REPLACE(CELL(\"filename\",A1),1,FIND(\"]\",CELL(\"filename\",A1)),\"\"),4) & \" PRODUCTION DATA\"","v":"DOT4 PRODUCTION DATA"}]
[null,"Sublot sample date:",{"$f":"IFERROR(IF(LEN(INDIRECT(\"DATE_\"&LEFT($B$2,4)))>0,INDIRECT(\"DATE_\"&LEFT($B$2,4)),\"\"),\"\")","v":""}]
[null,"Sublot location, Tons:",{"$f":"IFERROR(INDIRECT(\"SLOC_\"&LEFT($B$2,4)),\"\")","v":""}]
[null,"Production location, Tons:",{"$f":"IFERROR(INDIRECT(\"PLOC_\"&LEFT($B$2,4)),\"\")","v":""}]
[]
[null,"DETERMINATION OF ASPHALT CONTENT"]
[null,{"$f":"\"Method: \" & AC_METHOD","v":"Method: "}]
[null,"Weight of sample and basket before ignition, g:"]
[null,"Weight of sample and basket after ignition, g:"]
[null,"Weight of basket, g:"]
[null,"Ignition oven AC, %:",{"$f":"IFERROR(100*(C9-C10)/(C9-C11),\"\")","v":""}]
[null,"AC, % :"]
[null,"Nuclear testing gauge number:"]
[null,"Nuclear testing gauge calibration reference number:"]
[null,"Nuclear testing gauge time (hh:mm:ss):"]
[null,"Corrected AC, %:",{"$f":"IF(AND(C12=\"\",ISBLANK(C13)),\"\",IF(AC_METHOD=\"Ignition oven\",ROUND(C12,1)+IF(LEFT($B$2,1)=\"D\",AC_T_COR,AC_C_COR),ROUND(C13,1)))","v":""}]
[null,"Ratio of recycled to total binder:",{"$f":"IFERROR(100*REC_AC/C17,\"\")","v":""}]
[null,"Binder sample received?:"]
[null,"DSR aging ratio:"]
[]
[null,"LAB DETERMINATION OF RICE SPECIFIC GRAVITY Tex-227-F"]
[null," (A) Weight of  dry sample in air, g:"]
[null," (D) Weight of calibrated pyc. with water, g:"]
[null,"(E) Weight of sample, pyc. and water, g:"]
[null,"A/(D+A-E) Rice specific gravity (Gr):",{"$f":"IFERROR(ROUND(C23/(C24+C23-C25),3),\"\")","v":""}]
[null,"(Asd) Weight of surface dry sample in air, g:"]
[null,"A/(D+Asd-E) Rice Specific Gravity (Grc):",{"$f":"IFERROR(ROUND(C23/(C24+C27-C25),3),\"\")","v":""}]
[null,"(Gr-Grc)/Grc Percentage Difference:",{"$f":"IF(C26=\"\",\"\",IF(C28=\"\",\"\",(C26-C28)/C28))","v":""}]
[null,{"$f":"IF(C29>0.003,\"A/(D+Asd-E)\",\"A/(D+A-E)\") & \" Rice Specific Gravity \" & IF(C29>0.003,\"(Grc):\",\"(Gr):\")","v":"A/(D+Asd-E) Rice Specific Gravity (Grc):"},{"$f":"IF(C29>0.003,C28,C26)","v":""}]
[]
[]
[null,"ROAD DETERMINATION OF RICE SPECIFIC GRAVITY Tex-227-F"]
[null," (A) Weight of  dry sample in air, g:"]
[null," (D) Weight of calibrated pyc. with water, g:"]
[null,"(E) Weight of sample, pyc. and water, g:"]
[null,"A/(D+A-E) Rice specific gravity (Gr):",{"$f":"IF(ISERROR(C34/(C35+C34-C36)),\"\",ROUND(C34/(C35+C34-C36),3))","v":""}]
[null,"(Asd) Weight of surface dry sample in air, g:"]
[null,"A/(D+Asd-E) Rice Specific Gravity (Grc):",{"$f":"IFERROR(ROUND(C34/(C35+C38-C36),3),\"\")","v":""}]
[null,"(Gr-Grc)/Grc Percentage Difference:",{"$f":"IF(C37=\"\",\"\",IF(C39=\"\",\"\",(C37-C39)/C39))","v":""}]
[null,{"$f":"IF(C40>0.003,\"A/(D+Asd-E)\",\"A/(D+A-E)\") & \" Rice Specific Gravity \" & IF(C40>0.003,\"(Grc):\",\"(Gr):\")","v":"A/(D+Asd-E) Rice Specific Gravity (Grc):"},{"$f":"IF(C40>0.003,C39,C37)","v":""}]
[]
[]
[null,"PRODUCTION PERFORMANCE PROPERTIES OF BITUMINOUS MIXTURES"]
[null,"Tex-248-F Overlay test number of cycles: "]
[null,"Tex-245-F Cantabro loss content, %:"]
[null,"CRM content, %:"]
[null,"Tex-235-F Binder draindown, %:"]
[null,"Fiber content, %:"]
[null,"Membrane application rate, gal/sy:"]
[null,"Tex 246-F Permeability or Water flow, sec:"]
[null,"Tex 212-F Moisture content, %:"]
[null,"Tex-530-C Boil test estimated percent stripping, %:"]
[null,"Tex-244-F Thermal profile segregation:"]
[null,"Tex 207-F, Part V Mat segregation density profile:"]
[null,"Tex 207-F, Part VII Longitudinal joint density:"]
[]
[]
[null,"ESTIMATED FILM THICKNESS (based on gradation and asphalt content)"]
[null,"Combined bulk specific gravity (Gsb): "]
[null,"Effective specific gravity:",{"$f":"IFERROR((100-C17)/((100/C30)-C17/MIX_GSB),\"\")","v":""}]
[null,"Asphalt absorption, %:",{"$f":"IFERROR((C61-C60)/(C61*C60)*MIX_GSB*100,\"\")","v":""}]
[null,"Effective asphalt content:",{"$f":"IFERROR(C17-(C62*(100-C17))/100,\"\")","v":""}]
[null,"Film thickness, micron:",{"$f":"IFERROR(1000000*(C63/100)/(1-(C63/100))/(INDIRECT(LEFT($B$2,4) & \"_GRAD!Q24\")*MIX_GSB*1000),\"\")","v":""}]
[]
[null,"BACK CALCULATED ASPHALT CONTENT"]
[null,"Back calculated AC, %:",{"$f":"IF(NOT(OR(C17=\"\",IF(LEFT(B2,1)=\"D\",EFFGR_T,EFFGR_C)=\"\")),IFERROR(ROUND((((IF(LEFT(B2,1)=\"D\",EFFGR_T,EFFGR_C)*100)/C26)-100)/((IF(LEFT(B2,1)=\"D\",EFFGR_T,EFFGR_C)/MIX_GSB)-1),1),\"\"),\"\")","v":""}]

{"sheet":"DOT4_GRAD","index":31,"n_rows":25,"n_cols":35,"rows_kept":25,"cut":false,"hidden":false,"merged":[[5,1,5,5],[6,11,7,11],[6,12,7,12],[7,7,7,9],[0,1,0,11],[1,1,1,9],[2,1,2,9],[3,1,3,5],[3,11,3,12],[4,1,4,5]]}
[null,{"$f":"header","v":"SAMPLE ID:    ______________________________    SAMPLED DATE: ___________________________\nLOT NUMBER:    _____________________________    LETTING DATE: ___________________________\nSAMPLE STATUS:    __________________________    CONTROLLING CSJ: ________________________\nCOUNTY:    _________________________________    SPEC YEAR: ______________________________\nSAMPLED BY:    __________________________________    SPEC ITEM: ______________________________\nSAMPLE LOCATION:    ________________________    SPECIAL PROVISION: ______________________\nMATERIAL CODE:    __________________________    MIX TYPE: _______________________________\nMATERIAL NAME: __________________________________________________________________\nPRODUCER: _______________________________________________________________________\nAREA ENGINEER:    __________________________    PROJECT MANAGER: _____________________________\nCOURSE\\LIFT:    __________________    STATION: ______________________    DIST. FROM CL: ______\n"}]
[null,{"$f":"LEFT(REPLACE(CELL(\"filename\",A1),1,FIND(\"]\",CELL(\"filename\",A1)),\"\"),4) &  \" GRADATION OF EXTRACTED AGGREGATE: Tex-200-F\"","v":"DOT4 GRADATION OF EXTRACTED AGGREGATE: Tex-200-F"}]
[null,{"$f":"\"Method: \" & GRAD_METHOD","v":"Method: "}]
[null,{"$f":"IF(GRAD_METHOD=\"Belt sample\",\"Belt sample original dry weight, g:\",\"Ignited sample original dry weight, g:\")","v":"Ignited sample original dry weight, g:"},null,null,null,null,null,null,null,null,null,"TOLERANCES"]
[null,"Dry weight after washing, g:"]
[null,"Sieve analysis:",null,null,null,null,null,null,null,null,null,"Gradation","RZ"]
[null,null,null,null,{"$f":"IF(LEFT(B2,1)=\"T\",IF(COUNT(DES_IG_CF_T)>0,\"*Adjusted\",\"\"),IF(COUNT(DES_IG_CF_C)>0,\"*Adjusted\",\"\"))","v":""},{"$f":"E7","v":""},{"$f":"F7","v":""},null,null,null,null,"JMF","Current JMF"]
[null,"Sieve Size",{"$f":"IF(G6=\"Cumulative\",\"Cumulative\",\"Individual\") & \" weight retained, g\"","v":"Individual weight retained, g"},{"$f":"IF(G6=\"Cumulative\",\"Individual\",\"Cumulative\") & \" weight retained, g\"","v":"Cumulative weight retained, g"},"Individual percent retained, %","Cumulative percent retained, %","Cumulative percent passing, %",{"$f":"IF(N_TRIAL=\"Yes\",\"JMF cumulative percentage limits\",\"JMF individual retained limits\")","v":"JMF individual retained limits"}]
[null,{"$f":"IFERROR(DESIGN_GRAD!B5,\"\")","v":""},null,{"$f":"IF(ISBLANK(C9),\"\",C9)","v":""},{"$f":"IF(ISERROR(100-G9),\"\",100-G9)","v":""},{"$f":"IF(ISERROR(E9),\"\",E9)","v":""},{"$f":"IF(ISBLANK(C9),\"\",Q9)","v":""},{"$f":"IF(ISBLANK(C9),\"\",DATA_TOL!K4)","v":""},{"$f":"IF(LEN(H9)>0,\"-\",\"\")","v":""},{"$f":"IF(ISBLANK(C9),\"\",DATA_TOL!L4)","v":""},null,{"$f":"IF(AND(LEN(C9)>0,NOT(N_TRIAL=\"Yes\"),IF(MIX_NAME=\"HMA\",FALSE,INDEX(CHK_MGL,MIX_ID))),IF(AND(G9>=$Y$9,G9<=$Z$9,E9>=H9,E9<=J9),1,0),IF(AND(LEN(C9)>0,IF(MIX_NAME=\"HMA\",FALSE,INDEX(CHK_MGL200,MIX_ID)),B9=\"#200\",N_TRIAL=\"Yes\"),IF(AND(G9>=$Y$19,G9<=$Z$19),1,0),IF(AND(LEN(C9)>0,IF(MIX_NAME=\"HMA\",FALSE,INDEX(CHK_MGL200,MIX_ID)),B9=\"#200\"),IF(AND(G9>=$Y$19,G9<=$Z$19,E9>=H9,E9<=J9),1,0),IF(LEN(E9)=0,\"\",IF(N_TRIAL=\"Yes\",IF(AND(G9>=H9,G9<=J9),1,0),IF(AND(E9>=H9,E9<=J9),1,0))))))","v":""},{"$f":"IFERROR(IF(AND(AI9,C9<>\"\"),IF(AND(G9>=DESIGN_GRAD!F5,G9<=DESIGN_GRAD!H5),0,1),\"\"),\"\")","v":""},{"$f":"IF(AND(LEN(C9)>0,NOT(N_TRIAL=\"Yes\")),IF(OR(INDEX(CHK_MGL,MIX_ID),AND(IF(MIX_NAME=\"HMA\",FALSE,INDEX(CHK_MGL200,MIX_ID)),B9=\"#200\")),IF(AND(OR(G9<Y9,G9>Z9),OR(E9<H9,E9>J9)),\"% retained fails JMF target & % passing fails MGL\",IF(OR(G9<Y9,G9>Z9),\"% passing fails MGL\",IF(OR(E9<H9,E9>J9),\"% retained fails JMF target\",\"\"))),IF(OR(E9<H9,E9>J9),\"% retained fails JMF target\",\"\")),\"\")","v":""},null,{"$f":"ROUND(O9+100-IF($G$6=\"Cumulative\",C9,D9)/$C$22*100,1)","v":{"$error":"#VALUE!"}},{"$f":"P9","v":{"$error":"#VALUE!"}},null,{"$f":"INDEX(INDIRECT(MIX_NAME),1,25)","v":{"$error":"#REF!"}},{"$f":"IFERROR(S9*G9/100,\"\")","v":""},null,null,null,null,{"$f":"DESIGN_GRAD!C5","v":""},{"$f":"DESIGN_GRAD!E5","v":""},null,null,null,null,null,null,1,{"$f":"IF(LEN(INDEX(INDIRECT(MIX_NAME),AG9,2))>0,-1,0)","v":{"$error":"#REF!"}},{"$f":"IF(LEN(INDEX(INDIRECT(MIX_NAME),AG9,9))>0,-1,0)","v":{"$error":"#REF!"}}]
[null,{"$f":"IFERROR(DESIGN_GRAD!B6,\"\")","v":""},null,{"$f":"IF(ISBLANK(C10),\"\",IF($G$6=\"Cumulative\",(C10-SUM(D$9:D9)),SUM(C$9:C10)))","v":""},{"$f":"IF(ISERROR(G9-G10),\"\",G9-G10)","v":""},{"$f":"IF(ISERROR(F9+E10),\"\",F9+E10)","v":""},"",{"$f":"IF(ISBLANK(C10),\"\",DATA_TOL!K5)","v":""},"",{"$f":"IF(ISBLANK(C10),\"\",DATA_TOL!L5)","v":""},null,{"$f":"IF(AND(LEN(C10)>0,NOT(N_TRIAL=\"Yes\"),IF(MIX_NAME=\"HMA\",FALSE,INDEX(CHK_MGL,MIX_ID))),IF(AND(G10>=$Y$10,G10<=$Z$10,E10>=H10,E10<=J10),1,0),IF(AND(LEN(C10)>0,IF(MIX_NAME=\"HMA\",FALSE,INDEX(CHK_MGL200,MIX_ID)),B10=\"#200\",N_TRIAL=\"Yes\"),IF(AND(G10>=$Y$19,G10<=$Z$19),1,0),IF(AND(LEN(C10)>0,IF(MIX_NAME=\"HMA\",FALSE,INDEX(CHK_MGL200,MIX_ID)),B10=\"#200\"),IF(AND(G10>=$Y$19,G10<=$Z$19,E10>=H10,E10<=J10),1,0),IF(LEN(E10)=0,\"\",IF(N_TRIAL=\"Yes\",IF(AND(G10>=H10,G10<=J10),1,0),IF(AND(E10>=H10,E10<=J10),1,0))))))","v":""},{"$f":"IFERROR(IF(AND(AI10,C10<>\"\"),IF(AND(G10>=DESIGN_GRAD!F6,G10<=DESIGN_GRAD!H6),0,1),\"\"),\"\")","v":""},"",{"$f":"IF(LEFT($B$2,1)=\"C\",DESIGN_GRAD!P6,DESIGN_GRAD!O6)","v":0},{"$error":"#VALUE!"},{"$f":"MIN(Q9,P10)","v":{"$error":"#VALUE!"}},null,{"$f":"INDEX(INDIRECT(MIX_NAME),2,25)","v":{"$error":"#REF!"}},"",null,null,null,null,{"$f":"DESIGN_GRAD!C6","v":""},{"$f":"DESIGN_GRAD!E6","v":""},null,null,null,null,null,null,2,{"$error":"#REF!"},{"$error":"#REF!"}]
[null,{"$f":"IFERROR(DESIGN_GRAD!B7,\"\")","v":""},null,{"$f":"IF(ISBLANK(C11),\"\",IF($G$6=\"Cumulative\",(C11-SUM(D$9:D10)),SUM(C$9:C11)))","v":""},{"$f":"IF(ISERROR(G10-G11),\"\",G10-G11)","v":""},"","",{"$f":"IF(ISBLANK(C11),\"\",DATA_TOL!K6)","v":""},"",{"$f":"IF(ISBLANK(C11),\"\",DATA_TOL!L6)","v":""},null,{"$f":"IF(AND(LEN(C11)>0,NOT(N_TRIAL=\"Yes\"),IF(MIX_NAME=\"HMA\",FALSE,INDEX(CHK_MGL,MIX_ID))),IF(AND(G11>=$Y$11,G11<=$Z$11,E11>=H11,E11<=J11),1,0),IF(AND(LEN(C11)>0,IF(MIX_NAME=\"HMA\",FALSE,INDEX(CHK_MGL200,MIX_ID)),B11=\"#200\",N_TRIAL=\"Yes\"),IF(AND(G11>=$Y$19,G11<=$Z$19),1,0),IF(AND(LEN(C11)>0,IF(MIX_NAME=\"HMA\",FALSE,INDEX(CHK_MGL200,MIX_ID)),B11=\"#200\"),IF(AND(G11>=$Y$19,G11<=$Z$19,E11>=H11,E11<=J11),1,0),IF(LEN(E11)=0,\"\",IF(N_TRIAL=\"Yes\",IF(AND(G11>=H11,G11<=J11),1,0),IF(AND(E11>=H11,E11<=J11),1,0))))))","v":""},{"$f":"IFERROR(IF(AND(AI11,C11<>\"\"),IF(AND(G11>=DESIGN_GRAD!F7,G11<=DESIGN_GRAD!H7),0,1),\"\"),\"\")","v":""},"",{"$f":"IF(LEFT($B$2,1)=\"C\",DESIGN_GRAD!P7,DESIGN_GRAD!O7)","v":0},{"$error":"#VALUE!"},{"$f":"MIN(Q10,P11)","v":{"$error":"#VALUE!"}},null,{"$f":"INDEX(INDIRECT(MIX_NAME),3,25)","v":{"$error":"#REF!"}},"",null,null,null,null,{"$f":"DESIGN_GRAD!C7","v":""},{"$f":"DESIGN_GRAD!E7","v":""},null,null,null,null,null,null,3,{"$error":"#REF!"},{"$error":"#REF!"}]
[null,{"$f":"IFERROR(DESIGN_GRAD!B8,\"\")","v":""},null,{"$f":"IF(ISBLANK(C12),\"\",IF($G$6=\"Cumulative\",(C12-SUM(D$9:D11)),SUM(C$9:C12)))","v":""},"","","",{"$f":"IF(ISBLANK(C12),\"\",DATA_TOL!K7)","v":""},"",{"$f":"IF(ISBLANK(C12),\"\",DATA_TOL!L7)","v":""},null,{"$f":"IF(AND(LEN(C12)>0,NOT(N_TRIAL=\"Yes\"),IF(MIX_NAME=\"HMA\",FALSE,INDEX(CHK_MGL,MIX_ID))),IF(AND(G12>=$Y$12,G12<=$Z$12,E12>=H12,E12<=J12),1,0),IF(AND(LEN(C12)>0,IF(MIX_NAME=\"HMA\",FALSE,INDEX(CHK_MGL200,MIX_ID)),B12=\"#200\",N_TRIAL=\"Yes\"),IF(AND(G12>=$Y$19,G12<=$Z$19),1,0),IF(AND(LEN(C12)>0,IF(MIX_NAME=\"HMA\",FALSE,INDEX(CHK_MGL200,MIX_ID)),B12=\"#200\"),IF(AND(G12>=$Y$19,G12<=$Z$19,E12>=H12,E12<=J12),1,0),IF(LEN(E12)=0,\"\",IF(N_TRIAL=\"Yes\",IF(AND(G12>=H12,G12<=J12),1,0),IF(AND(E12>=H12,E12<=J12),1,0))))))","v":""},{"$f":"IFERROR(IF(AND(AI12,C12<>\"\"),IF(AND(G12>=DESIGN_GRAD!F8,G12<=DESIGN_GRAD!H8),0,1),\"\"),\"\")","v":""},"",{"$f":"IF(LEFT($B$2,1)=\"C\",DESIGN_GRAD!P8,DESIGN_GRAD!O8)","v":0},{"$error":"#VALUE!"},{"$error":"#VALUE!"},null,{"$f":"INDEX(INDIRECT(MIX_NAME),4,25)","v":{"$error":"#REF!"}},"",null,null,null,null,{"$f":"DESIGN_GRAD!C8","v":""},{"$f":"DESIGN_GRAD!E8","v":""},null,null,null,null,null,null,4,{"$error":"#REF!"},{"$error":"#REF!"}]
[null,{"$f":"IFERROR(DESIGN_GRAD!B9,\"\")","v":""},null,{"$f":"IF(ISBLANK(C13),\"\",IF($G$6=\"Cumulative\",(C13-SUM(D$9:D12)),SUM(C$9:C13)))","v":""},"","","",{"$f":"IF(ISBLANK(C13),\"\",DATA_TOL!K8)","v":""},"",{"$f":"IF(ISBLANK(C13),\"\",DATA_TOL!L8)","v":""},null,{"$f":"IF(AND(LEN(C13)>0,NOT(N_TRIAL=\"Yes\"),IF(MIX_NAME=\"HMA\",FALSE,INDEX(CHK_MGL,MIX_ID))),IF(AND(G13>=$Y$13,G13<=$Z$13,E13>=H13,E13<=J13),1,0),IF(AND(LEN(C13)>0,IF(MIX_NAME=\"HMA\",FALSE,INDEX(CHK_MGL200,MIX_ID)),B13=\"#200\",N_TRIAL=\"Yes\"),IF(AND(G13>=$Y$19,G13<=$Z$19),1,0),IF(AND(LEN(C13)>0,IF(MIX_NAME=\"HMA\",FALSE,INDEX(CHK_MGL200,MIX_ID)),B13=\"#200\"),IF(AND(G13>=$Y$19,G13<=$Z$19,E13>=H13,E13<=J13),1,0),IF(LEN(E13)=0,\"\",IF(N_TRIAL=\"Yes\",IF(AND(G13>=H13,G13<=J13),1,0),IF(AND(E13>=H13,E13<=J13),1,0))))))","v":""},{"$f":"IFERROR(IF(AND(AI13,C13<>\"\"),IF(AND(G13>=DESIGN_GRAD!F9,G13<=DESIGN_GRAD!H9),0,1),\"\"),\"\")","v":""},"",{"$f":"IF(LEFT($B$2,1)=\"C\",DESIGN_GRAD!P9,DESIGN_GRAD!O9)","v":0},{"$error":"#VALUE!"},{"$error":"#VALUE!"},null,{"$f":"INDEX(INDIRECT(MIX_NAME),5,25)","v":{"$error":"#REF!"}},"",null,null,null,null,{"$f":"DESIGN_GRAD!C9","v":""},{"$f":"DESIGN_GRAD!E9","v":""},null,null,null,null,null,null,5,{"$error":"#REF!"},{"$error":"#REF!"}]
[null,{"$f":"IFERROR(DESIGN_GRAD!B10,\"\")","v":""},null,{"$f":"IF(ISBLANK(C14),\"\",IF($G$6=\"Cumulative\",(C14-SUM(D$9:D13)),SUM(C$9:C14)))","v":""},"","","",{"$f":"IF(ISBLANK(C14),\"\",DATA_TOL!K9)","v":""},"",{"$f":"IF(ISBLANK(C14),\"\",DATA_TOL!L9)","v":""},null,{"$f":"IF(AND(LEN(C14)>0,NOT(N_TRIAL=\"Yes\"),IF(MIX_NAME=\"HMA\",FALSE,INDEX(CHK_MGL,MIX_ID))),IF(AND(G14>=$Y$14,G14<=$Z$14,E14>=H14,E14<=J14),1,0),IF(AND(,LEN(C14)>0,IF(MIX_NAME=\"HMA\",FALSE,INDEX(CHK_MGL200,MIX_ID)),B14=\"#200\",N_TRIAL=\"Yes\"),IF(AND(G14>=$Y$19,G14<=$Z$19),1,0),IF(AND(,LEN(C14)>0,IF(MIX_NAME=\"HMA\",FALSE,INDEX(CHK_MGL200,MIX_ID)),B14=\"#200\"),IF(AND(G14>=$Y$19,G14<=$Z$19,E14>=H14,E14<=J14),1,0),IF(LEN(E14)=0,\"\",IF(N_TRIAL=\"Yes\",IF(AND(G14>=H14,G14<=J14),1,0),IF(AND(E14>=H14,E14<=J14),1,0))))))","v":""},{"$f":"IFERROR(IF(AND(AI14,C14<>\"\"),IF(AND(G14>=DESIGN_GRAD!F10,G14<=DESIGN_GRAD!H10),0,1),\"\"),\"\")","v":""},"",{"$f":"IF(LEFT($B$2,1)=\"C\",DESIGN_GRAD!P10,DESIGN_GRAD!O10)","v":0},{"$error":"#VALUE!"},{"$error":"#VALUE!"},null,{"$f":"INDEX(INDIRECT(MIX_NAME),6,25)","v":{"$error":"#REF!"}},"",null,null,null,null,{"$f":"DESIGN_GRAD!C10","v":""},{"$f":"DESIGN_GRAD!E10","v":""},null,null,null,null,null,null,6,{"$error":"#REF!"},{"$error":"#REF!"}]
[null,{"$f":"IFERROR(DESIGN_GRAD!B11,\"\")","v":""},null,{"$f":"IF(ISBLANK(C15),\"\",IF($G$6=\"Cumulative\",(C15-SUM(D$9:D14)),SUM(C$9:C15)))","v":""},"","","",{"$f":"IF(ISBLANK(C15),\"\",DATA_TOL!K10)","v":""},"",{"$f":"IF(ISBLANK(C15),\"\",DATA_TOL!L10)","v":""},null,{"$f":"IF(AND(LEN(C15)>0,NOT(N_TRIAL=\"Yes\"),IF(MIX_NAME=\"HMA\",FALSE,INDEX(CHK_MGL,MIX_ID))),IF(AND(G15>=$Y$15,G15<=$Z$15,E15>=H15,E15<=J15),1,0),IF(AND(LEN(C15)>0,IF(MIX_NAME=\"HMA\",FALSE,INDEX(CHK_MGL200,MIX_ID)),B15=\"#200\",N_TRIAL=\"Yes\"),IF(AND(G15>=$Y$19,G15<=$Z$19),1,0),IF(AND(LEN(C15)>0,IF(MIX_NAME=\"HMA\",FALSE,INDEX(CHK_MGL200,MIX_ID)),B15=\"#200\"),IF(AND(G15>=$Y$19,G15<=$Z$19,E15>=H15,E15<=J15),1,0),IF(LEN(E15)=0,\"\",IF(N_TRIAL=\"Yes\",IF(AND(G15>=H15,G15<=J15),1,0),IF(AND(E15>=H15,E15<=J15),1,0))))))","v":""},{"$f":"IFERROR(IF(AND(AI15,C15<>\"\"),IF(AND(G15>=DESIGN_GRAD!F11,G15<=DESIGN_GRAD!H11),0,1),\"\"),\"\")","v":""},"",{"$f":"IF(LEFT($B$2,1)=\"C\",DESIGN_GRAD!P11,DESIGN_GRAD!O11)","v":0},{"$error":"#VALUE!"},{"$error":"#VALUE!"},null,{"$f":"INDEX(INDIRECT(MIX_NAME),7,25)","v":{"$error":"#REF!"}},"",null,null,null,null,{"$f":"DESIGN_GRAD!C11","v":""},{"$f":"DESIGN_GRAD!E11","v":""},null,null,null,null,null,null,7,{"$error":"#REF!"},{"$error":"#REF!"}]
[null,{"$f":"IFERROR(DESIGN_GRAD!B12,\"\")","v":""},null,{"$f":"IF(ISBLANK(C16),\"\",IF($G$6=\"Cumulative\",(C16-SUM(D$9:D15)),SUM(C$9:C16)))","v":""},"","","",{"$f":"IF(ISBLANK(C16),\"\",DATA_TOL!K11)","v":""},"",{"$f":"IF(ISBLANK(C16),\"\",DATA_TOL!L11)","v":""},null,{"$f":"IF(AND(LEN(C16)>0,NOT(N_TRIAL=\"Yes\"),IF(MIX_NAME=\"HMA\",FALSE,INDEX(CHK_MGL,MIX_ID))),IF(AND(G16>=$Y$16,G16<=$Z$16,E16>=H16,E16<=J16),1,0),IF(AND(LEN(C16)>0,IF(MIX_NAME=\"HMA\",FALSE,INDEX(CHK_MGL200,MIX_ID)),B16=\"#200\",N_TRIAL=\"Yes\"),IF(AND(G16>=$Y$19,G16<=$Z$19),1,0),IF(AND(LEN(C16)>0,IF(MIX_NAME=\"HMA\",FALSE,INDEX(CHK_MGL200,MIX_ID)),B16=\"#200\"),IF(AND(G16>=$Y$19,G16<=$Z$19,E16>=H16,E16<=J16),1,0),IF(LEN(E16)=0,\"\",IF(N_TRIAL=\"Yes\",IF(AND(G16>=H16,G16<=J16),1,0),IF(AND(E16>=H16,E16<=J16),1,0))))))","v":""},{"$f":"IFERROR(IF(AND(AI16,C16<>\"\"),IF(AND(G16>=DESIGN_GRAD!F12,G16<=DESIGN_GRAD!H12),0,1),\"\"),\"\")","v":""},"",{"$f":"IF(LEFT($B$2,1)=\"C\",DESIGN_GRAD!P12,DESIGN_GRAD!O12)","v":0},{"$error":"#VALUE!"},{"$error":"#VALUE!"},null,{"$f":"INDEX(INDIRECT(MIX_NAME),8,25)","v":{"$error":"#REF!"}},"",null,null,null,null,{"$f":"DESIGN_GRAD!C12","v":""},{"$f":"DESIGN_GRAD!E12","v":""},null,null,null,null,null,null,8,{"$error":"#REF!"},{"$error":"#REF!"}]
[null,{"$f":"IFERROR(DESIGN_GRAD!B13,\"\")","v":""},null,{"$f":"IF(C17=\"\",\"\",IF($G$6=\"Cumulative\",(C17-SUM(D$9:D16)),SUM(C$9:C17)))","v":""},"","","",{"$f":"IF(ISBLANK(C17),\"\",DATA_TOL!K12)","v":""},"",{"$f":"IF(ISBLANK(C17),\"\",DATA_TOL!L12)","v":""},null,{"$f":"IF(AND(LEN(C17)>0,NOT(N_TRIAL=\"Yes\"),IF(MIX_NAME=\"HMA\",FALSE,INDEX(CHK_MGL,MIX_ID))),IF(AND(G17>=$Y$17,G17<=$Z$17,E17>=H17,E17<=J17),1,0),IF(AND(LEN(C17)>0,IF(MIX_NAME=\"HMA\",FALSE,INDEX(CHK_MGL200,MIX_ID)),B17=\"#200\",N_TRIAL=\"Yes\"),IF(AND(G17>=$Y$19,G17<=$Z$19),1,0),IF(AND(LEN(C17)>0,IF(MIX_NAME=\"HMA\",FALSE,INDEX(CHK_MGL200,MIX_ID)),B17=\"#200\"),IF(AND(G17>=$Y$19,G17<=$Z$19,E17>=H17,E17<=J17),1,0),IF(LEN(E17)=0,\"\",IF(N_TRIAL=\"Yes\",IF(AND(G17>=H17,G17<=J17),1,0),IF(AND(E17>=H17,E17<=J17),1,0))))))","v":""},{"$f":"IFERROR(IF(AND(AI17,C17<>\"\"),IF(AND(G17>=DESIGN_GRAD!F13,G17<=DESIGN_GRAD!H13),0,1),\"\"),\"\")","v":""},"",{"$f":"IF(LEFT($B$2,1)=\"C\",DESIGN_GRAD!P13,DESIGN_GRAD!O13)","v":0},{"$error":"#VALUE!"},{"$error":"#VALUE!"},null,{"$f":"INDEX(INDIRECT(MIX_NAME),9,25)","v":{"$error":"#REF!"}},"",null,null,null,null,{"$f":"DESIGN_GRAD!C13","v":""},{"$f":"DESIGN_GRAD!E13","v":""},null,null,null,null,null,null,9,{"$error":"#REF!"},{"$error":"#REF!"}]
[null,{"$f":"IFERROR(DESIGN_GRAD!B14,\"\")","v":""},null,{"$f":"IF(C18=\"\",\"\",IF($G$6=\"Cumulative\",(C18-SUM(D$9:D17)),SUM(C$9:C18)))","v":""},"","","",{"$f":"IF(ISBLANK(C18),\"\",DATA_TOL!K13)","v":""},"",{"$f":"IF(ISBLANK(C18),\"\",DATA_TOL!L13)","v":""},null,{"$f":"IF(AND(LEN(C18)>0,NOT(N_TRIAL=\"Yes\"),IF(MIX_NAME=\"HMA\",FALSE,INDEX(CHK_MGL,MIX_ID))),IF(AND(G18>=$Y$18,G18<=$Z$18,E18>=H18,E18<=J18),1,0),IF(AND(LEN(C18)>0,IF(MIX_NAME=\"HMA\",FALSE,INDEX(CHK_MGL200,MIX_ID)),B18=\"#200\",N_TRIAL=\"Yes\"),IF(AND(G18>=$Y$19,G18<=$Z$19),1,0),IF(AND(LEN(C18)>0,IF(MIX_NAME=\"HMA\",FALSE,INDEX(CHK_MGL200,MIX_ID)),B18=\"#200\"),IF(AND(G18>=$Y$19,G18<=$Z$19,E18>=H18,E18<=J18),1,0),IF(LEN(E18)=0,\"\",IF(N_TRIAL=\"Yes\",IF(AND(G18>=H18,G18<=J18),1,0),IF(AND(E18>=H18,E18<=J18),1,0))))))","v":""},{"$f":"IFERROR(IF(AND(AI18,C18<>\"\"),IF(AND(G18>=DESIGN_GRAD!F14,G18<=DESIGN_GRAD!H14),0,1),\"\"),\"\")","v":""},"",{"$f":"IF(LEFT($B$2,1)=\"C\",DESIGN_GRAD!P14,DESIGN_GRAD!O14)","v":0},{"$error":"#VALUE!"},{"$error":"#VALUE!"},null,{"$f":"INDEX(INDIRECT(MIX_NAME),10,25)","v":{"$error":"#REF!"}},"",null,null,null,null,{"$f":"DESIGN_GRAD!C14","v":""},{"$f":"DESIGN_GRAD!E14","v":""},null,null,null,null,null,null,10,{"$error":"#REF!"},{"$error":"#REF!"}]
[null,"- #200",null,null,null,null,null,null,null,null,null,null,null,null,null,null,null,"#16",null,null,1.18,{"$f":"VLOOKUP(\"#16\",$B$9:$G$18,6,0)","v":{"$error":"#N/A"}},{"$f":"LOG(U19)","v":7.1882007306125359E-2},{"$error":"#N/A"},{"$f":"MIN(Y9:Y18)","v":0},{"$f":"MIN(Z9:Z18)","v":0}]
[null,null,{"$f":"IF(G4>0,G4-IF(G6=\"Cumulative\",LARGE(C9:C19,1),SUM(C9:C19)),IF(SUM(C9:C19)=0,\"\",0))","v":""},{"$f":"IF(G4<>\"\",IF(G5<>\"\",\"Wash Loss\" & IF(C23>0,\" - \",\" + \"),\"\")&IF(C23>0,\"Sieving Gain (g)\",IF(C23<0,\"Sieving Loss (g)\",\"\")),\"\")","v":""},null,null,null,null,null,null,null,null,null,null,null,null,null,"#50",null,null,0.3,{"$f":"VLOOKUP(\"#50\",$B$9:$G$18,6,0)","v":{"$error":"#N/A"}},-0.52287874528033762,{"$error":"#N/A"}]
[null,"Total - #200",{"$f":"IF(ISERROR(IF(G6=\"Cumulative\",LARGE(C9:C19,1),C19)+C20),\"\",IF(G6=\"Cumulative\",LARGE(C9:C19,1),C19)+C20)","v":""},{"$f":"IF(ISBLANK(C19),\"\",IF(G6=\"Cumulative\",(C21-SUM(D$9:D18)),SUM(C$9:C18,C21)))","v":""},{"$f":"IF(ISERROR(OFFSET(G19,-COUNTBLANK(B9:B18)-1,0)-G21),\"\",OFFSET(G19,-COUNTBLANK(B9:B18)-1,0)-G21)","v":""},{"$f":"IF(ISERROR(OFFSET(F19,-COUNTBLANK(B9:B18)-1,0)+E21),\"\",OFFSET(F19,-COUNTBLANK(B9:B18)-1,0)+E21)","v":""},{"$f":"IF(ISERROR(100-IF(G6=\"Cumulative\",C21/C22*100,D21/C22*100)),\"\",ROUND(100-IF(G6=\"Cumulative\",C21/C22*100,D21/C22*100),1))","v":""},{"$f":"IF(C21=\"\",\"\",DATA_TOL!K14)","v":""},{"$f":"IF(LEN(H21)>0,\"-\",\"\")","v":""},{"$f":"IF(C21=\"\",\"\",DATA_TOL!L14)","v":""},null,{"$f":"IF(LEN(E21)=0,\"\",IF(N_TRIAL=\"Yes\",IF(AND(G21>=H21,G21<=J21),1,0),IF(AND(E21>=H21,E21<=J21),1,0)))","v":""},null,{"$f":"IF(AND(LEN(C21)>0,NOT(LEN(E21)=0),NOT(N_TRIAL=\"Yes\")),IF(OR(E21<H21,E21>J21),\"% passing #200 fails JMF target\",\"\"),\"\")","v":""},null,null,null,"#200",null,null,7.4999999999999997E-2,{"$f":"VLOOKUP(\"#200\",$B$9:$G$18,6,0)","v":{"$error":"#N/A"}},-1.1249387366082999,{"$error":"#N/A"}]
[null,"Total weight, g",{"$f":"IF(ISERROR(IF(G6=\"Cumulative\",C21,SUM(C9:C18)+C21)),\"\",IF(G6=\"Cumulative\",C21,SUM(C9:C18)+C21))","v":""},null,null,null,null,null,null,null,null,null,null,null,null,null,null,"#30",2.87,{"$f":"S22*V22/100","v":{"$error":"#N/A"}},0.6,{"$f":"10^X22","v":{"$error":"#N/A"}},{"$f":"LOG(U22)","v":-0.22184874961635639},{"$f":"FORECAST(W22,X19:X20,W19:W20)","v":{"$error":"#N/A"}}]
[null,null,{"$f":"IF(G5<>\"\",IF(G6=\"Cumulative\",IF(ISERROR(LARGE(C9:C19,1)),0,LARGE(C9:C19,1)),SUM(C9:C19))-G5,IF(G4<>\"\",IF(G6=\"Cumulative\",IF(ISERROR(LARGE(C9:C19,1)),0,LARGE(C9:C19,1)),SUM(C9:C19))-G4,IF(B23<>\"\",IF(G6=\"Cumulative\",IF(ISERROR(LARGE(C9:C19,1)),0,LARGE(C9:C19,1)),SUM(C9:C19))-B23,\"\")))","v":""},{"$f":"IF(AND(C22<>\"\",C23<>\"\"),IF(C25>0.2,\"Discrepancy too large - rerun analysis\",\"Sieving \" & IF(C23>0, \"Gain\", \"Loss\") & \" (g), from \" & IF(G5<>\"\", \"dry weight after washing\", \"original dry sample\")),\"\")","v":""},null,null,null,null,null,null,null,null,null,null,null,null,null,"#100",12.29,{"$f":"S23*V23/100","v":{"$error":"#N/A"}},0.15,{"$f":"10^X23","v":{"$error":"#N/A"}},{"$f":"LOG(U23)","v":-0.82390874094431876},{"$f":"FORECAST(W23,X20:X21,W20:W21)","v":{"$error":"#N/A"}}]
[null,null,null,null,null,null,null,null,null,null,null,null,null,null,null,null,null,null,null,{"$f":"SUM(T9:T18)+T22+T23","v":{"$error":"#N/A"}}]
[null,null,{"$f":"ABS(100*C23/C22)","v":{"$error":"#VALUE!"}}]

{"sheet":"DOT4_DENSITY","index":32,"n_rows":37,"n_cols":13,"rows_kept":37,"cut":false,"hidden":false,"merged":[[34,2,34,4],[34,5,34,6],[35,2,35,4],[35,5,35,6],[36,2,36,4],[36,5,36,6],[33,2,33,4],[33,5,33,6],[0,1,0,8],[1,1,1,6],[2,2,2,4],[2,5,2,6],[15,1,15,6],[24,1,24,6],[30,1,30,6],[31,2,31,4],[31,5,31,6],[32,2,32,4],[32,5,32,6]]}
[null,{"$f":"header","v":"SAMPLE ID:    ______________________________    SAMPLED DATE: ___________________________\nLOT NUMBER:    _____________________________    LETTING DATE: ___________________________\nSAMPLE STATUS:    __________________________    CONTROLLING CSJ: ________________________\nCOUNTY:    _________________________________    SPEC YEAR: ______________________________\nSAMPLED BY:    __________________________________    SPEC ITEM: ______________________________\nSAMPLE LOCATION:    ________________________    SPECIAL PROVISION: ______________________\nMATERIAL CODE:    __________________________    MIX TYPE: _______________________________\nMATERIAL NAME: __________________________________________________________________\nPRODUCER: _______________________________________________________________________\nAREA ENGINEER:    __________________________    PROJECT MANAGER: _____________________________\nCOURSE\\LIFT:    __________________    STATION: ______________________    DIST. FROM CL: ______\n"}]
[null,{"$f":"LEFT(REPLACE(CELL(\"filename\",A1),1,FIND(\"]\",CELL(\"filename\",A1)),\"\"),4) &  \" DETERMINING PROPERTIES OF BITUMINOUS MIXTURES-Tex-207-F\"","v":"DOT4 DETERMINING PROPERTIES OF BITUMINOUS MIXTURES-Tex-207-F"}]
[null,"Specimen type:","Laboratory",null,null,"Roadway"]
[null,"Specimen number:","1(1)","1(2)","1(3)","1(A)","1(B)"]
[null,"Note to developer - hide this row Specimen radius, mm:"]
[null,{"$f":"IF(DESIGN_GE,\"Specimen height, mm:\",\"Untrimmed specimen/Core height, in:\")","v":{"$error":"#N/A"}}]
[null,"Trimmed core height, in:"]
[null,"Weight of specimen in air, g:"]
[null,"Weight of specimen in water, g:"]
[null,"SSD weight of specimen in air, g:"]
[null,"Volume of specimen:",{"$f":"IF(AND(ISBLANK(C10),ISBLANK(C9)),\"\",C10-C9)","v":""},{"$f":"IF(AND(ISBLANK(D10),ISBLANK(D9)),\"\",D10-D9)","v":""},{"$f":"IF(AND(ISBLANK(E10),ISBLANK(E9)),\"\",E10-E9)","v":""},{"$f":"IF(AND(ISBLANK(F10),ISBLANK(F9)),\"\",F10-F9)","v":""},{"$f":"IF(AND(ISBLANK(G10),ISBLANK(G9)),\"\",G10-G9)","v":""}]
[null,"Note to developer - hide this row SSD Density:",{"$f":"IFERROR(C8/C11,\"\")","v":""},{"$f":"IFERROR(D8/D11,\"\")","v":""},{"$f":"IFERROR(E8/E11,\"\")","v":""},{"$f":"IFERROR(F8/F11,\"\")","v":""},{"$f":"IFERROR(G8/G11,\"\")","v":""}]
[null,"Percent absorption, %:",{"$f":"IFERROR(ROUND(100*((C10-C8)/(C10-C9)),1),\"\")","v":""},{"$f":"IFERROR(ROUND(100*((D10-D8)/(D10-D9)),1),\"\")","v":""},{"$f":"IFERROR(ROUND(100*((E10-E8)/(E10-E9)),1),\"\")","v":""},{"$f":"IFERROR(ROUND(100*((F10-F8)/(F10-F9)),1),\"\")","v":""},{"$f":"IFERROR(ROUND(100*((G10-G8)/(G10-G9)),1),\"\")","v":""}]
[null,"Bag required for Ga:",{"$f":"IF(ISNUMBER(C13),IF(C13>2,\"Yes\",\"No\"),\"\")","v":""},{"$f":"IF(ISNUMBER(D13),IF(D13>2,\"Yes\",\"No\"),\"\")","v":""},{"$f":"IF(ISNUMBER(E13),IF(E13>2,\"Yes\",\"No\"),\"\")","v":""},{"$f":"IF(ISNUMBER(F13),IF(F13>2,\"Yes\",\"No\"),\"\")","v":""},{"$f":"IF(ISNUMBER(G13),IF(G13>2,\"Yes\",\"No\"),\"\")","v":""}]
[null,"Bag Used for Ga:"]
[null,"Vacuum bag inputs"]
[null,"Vacuum bag method used:"]
[null,"Weight of specimen in air, g:"]
[null,"Sealed weight of specimen in water, g:",null,null,null,null,null,null,{"$f":"IF(OR(ISBLANK(C20),ISBLANK(C18)),\"\",IF(ABS(C20-C18)>5,-1,0))","v":""},{"$f":"IF(OR(ISBLANK(D20),ISBLANK(D18)),\"\",IF(ABS(D20-D18)>5,-1,0))","v":""},{"$f":"IF(OR(ISBLANK(E20),ISBLANK(E18)),\"\",IF(ABS(E20-E18)>5,-1,0))","v":""},{"$f":"IF(OR(ISBLANK(F20),ISBLANK(F18)),\"\",IF(ABS(F20-F18)>5,-1,0))","v":""},{"$f":"IF(OR(ISBLANK(G20),ISBLANK(G18)),\"\",IF(ABS(G20-G18)>5,-1,0))","v":""}]
[null,"Dry specimen weight after submersion, g:",null,null,null,null,null,null,{"$f":"IFERROR(IF(OR(I19:M19),\"> 5g. Repeat test, a leak may have occurred.\",\"\"),\"\")","v":""}]
[null,"Weight of vacuum bag(s), g:"]
[null,"Vacuum bag volume correction factor:",{"$f":"IFERROR(IF(LEFT(C17,1)=\"L\",-0.00166*(C18/C21)+0.8596,IF(LEFT(C17,1)=\"S\",-0.000566*(C18/C21)+0.8121,IF(LEFT(C17,1)=\"D\",-0.0022448*(C18/C21)+0.85818,\"\"))),\"\")","v":""},{"$f":"IFERROR(IF(LEFT(D17,1)=\"L\",-0.00166*(D18/D21)+0.8596,IF(LEFT(D17,1)=\"S\",-0.000566*(D18/D21)+0.8121,IF(LEFT(D17,1)=\"D\",-0.0022448*(D18/D21)+0.85818,\"\"))),\"\")","v":""},{"$f":"IFERROR(IF(LEFT(E17,1)=\"L\",-0.00166*(E18/E21)+0.8596,IF(LEFT(E17,1)=\"S\",-0.000566*(E18/E21)+0.8121,IF(LEFT(E17,1)=\"D\",-0.0022448*(E18/E21)+0.85818,\"\"))),\"\")","v":""},{"$f":"IFERROR(IF(LEFT(F17,1)=\"L\",-0.00166*(F18/F21)+0.8596,IF(LEFT(F17,1)=\"S\",-0.000566*(F18/F21)+0.8121,IF(LEFT(F17,1)=\"D\",-0.0022448*(F18/F21)+0.85818,\"\"))),\"\")","v":""},{"$f":"IFERROR(IF(LEFT(G17,1)=\"L\",-0.00166*(G18/G21)+0.8596,IF(LEFT(G17,1)=\"S\",-0.000566*(G18/G21)+0.8121,IF(LEFT(G17,1)=\"D\",-0.0022448*(G18/G21)+0.85818,\"\"))),\"\")","v":""}]
[null,"Vacuum bag density:",{"$f":"IFERROR(C18/(C21+C18-C19-(C21/C22)),\"\")","v":""},{"$f":"IFERROR(D18/(D21+D18-D19-(D21/D22)),\"\")","v":""},{"$f":"IFERROR(E18/(E21+E18-E19-(E21/E22)),\"\")","v":""},{"$f":"IFERROR(F18/(F21+F18-F19-(F21/F22)),\"\")","v":""},{"$f":"IFERROR(G18/(G21+G18-G19-(G21/G22)),\"\")","v":""}]
[null,"Note to developer - hide this row",{"$f":"IF(LEFT($B$2,1)=\"D\",PRESS_T,PRESS_C)+IF(INDEX(CHK_GE,MIX_ID),IF(ISERROR(C8*1000/(3.14*75^2*C6)),\"\",C8*1000/(3.14*75^2*C6)),IF(C15<>\"Yes\",IF(ISERROR(C12),\"\",ROUND(C12,3)),IF(ISERROR(MIN(C12,C23)),\"\",ROUND(MIN(C12,C23),3))))","v":{"$error":"#N/A"}},{"$f":"IF(LEFT($B$2,1)=\"D\",PRESS_T,PRESS_C)+IF(INDEX(CHK_GE,MIX_ID),IF(ISERROR(D8*1000/(3.14*75^2*D6)),\"\",D8*1000/(3.14*75^2*D6)),IF(D15<>\"Yes\",IF(ISERROR(D12),\"\",ROUND(D12,3)),IF(ISERROR(MIN(D12,D23)),\"\",ROUND(MIN(D12,D23),3))))","v":{"$error":"#N/A"}},{"$f":"IF(LEFT($B$2,1)=\"D\",PRESS_T,PRESS_C)+IF(INDEX(CHK_GE,MIX_ID),IF(ISERROR(E8*1000/(3.14*75^2*E6)),\"\",E8*1000/(3.14*75^2*E6)),IF(E15<>\"Yes\",IF(ISERROR(E12),\"\",ROUND(E12,3)),IF(ISERROR(MIN(E12,E23)),\"\",ROUND(MIN(E12,E23),3))))","v":{"$error":"#N/A"}},{"$f":"IF(INDEX(CHK_GE,MIX_ID),IF(ISERROR(F8*1000/(3.14*F5^2*F6)),\"\",F8*1000/(3.14*F5^2*F6)),IF(F15<>\"Yes\",IF(ISERROR(F12),\"\",ROUND(F12,3)),IF(ISERROR(MIN(F12,F23)),\"\",ROUND(MIN(F12,F23),3))))","v":{"$error":"#N/A"}},{"$f":"IF(INDEX(CHK_GE,MIX_ID),IF(ISERROR(G8*1000/(3.14*G5^2*G6)),\"\",G8*1000/(3.14*G5^2*G6)),IF(G15<>\"Yes\",IF(ISERROR(G12),\"\",ROUND(G12,3)),IF(ISERROR(MIN(G12,G23)),\"\",ROUND(MIN(G12,G23),3))))","v":{"$error":"#N/A"}}]
[null,"Volumetric properties"]
[null,"Bulk specific gravity, Ga:",{"$f":"IFERROR(ROUND(C24,3),\"\")","v":""},{"$f":"IFERROR(ROUND(D24,3),\"\")","v":""},{"$f":"IFERROR(ROUND(E24,3),\"\")","v":""},{"$f":"IFERROR(ROUND(F24,3),\"\")","v":""},{"$f":"IFERROR(ROUND(G24,3),\"\")","v":""}]
[null,"Percent density, %:",{"$f":"IFERROR(ROUND(100*C26/$C$33,1),\"\")","v":""},{"$f":"IFERROR(ROUND(100*D26/$C$33,1),\"\")","v":""},{"$f":"IFERROR(ROUND(100*E26/$C$33,1),\"\")","v":""},{"$f":"IFERROR(ROUND(100*F26/$F$33,1),\"\")","v":""},{"$f":"IFERROR(ROUND(100*G26/$F$33,1),\"\")","v":""}]
[null,"Percent air voids, %:",{"$f":"IFERROR(ROUND(100-C27,1),\"\")","v":""},{"$f":"IFERROR(ROUND(100-D27,1),\"\")","v":""},{"$f":"IFERROR(ROUND(100-E27,1),\"\")","v":""},{"$f":"IFERROR(ROUND(100-F27,1),\"\")","v":""},{"$f":"IFERROR(ROUND(100-G27,1),\"\")","v":""}]
[null,"Percent VMA, %:",{"$f":"IFERROR(ROUND(100-(100*(C26/INDIRECT(LEFT($B$2,4) & \"_PROD!$C$30\")))+((C26*$C$32)/MIX_GSB),1),\"\")","v":""},{"$f":"IFERROR(ROUND(100-(100*(D26/INDIRECT(LEFT($B$2,4) & \"_PROD!$C$30\")))+((D26*$C$32)/MIX_GSB),1),\"\")","v":""},{"$f":"IFERROR(ROUND(100-(100*(E26/INDIRECT(LEFT($B$2,4) & \"_PROD!$C$30\")))+((E26*$C$32)/MIX_GSB),1),\"\")","v":""},{"$f":"IFERROR(ROUND(100-(100*(F26/INDIRECT(LEFT($B$2,4) & \"_PROD!$C$30\")))+((F26*$F$32)/MIX_GSB),1),\"\")","v":""},{"$f":"IFERROR(ROUND(100-(100*(G26/INDIRECT(LEFT($B$2,4) & \"_PROD!$C$30\")))+((G26*$F$32)/MIX_GSB),1),\"\")","v":""}]
[]
[null,"MEAN VOLUMETRIC PROPERTIES"]
[null,{"$f":"IF(AND(LEFT($B$2,1)=\"D\",INDIRECT(LEFT($B$2,4) & \"_PROD!C17\")=\"\",INDIRECT(SUBSTITUTE(LEFT($B$2,4),\"DOT\",\"CON\") & \"_PROD!C17\")<>\"\"),\"Contractor's asphalt content, %:\",\"Asphalt content, %:\")","v":"Asphalt content, %:"},{"$f":"IFERROR(IF(AND(LEFT($B$2,1)=\"D\",INDIRECT(LEFT($B$2,4) & \"_PROD!C17\")=\"\",INDIRECT(SUBSTITUTE(LEFT($B$2,4),\"DOT\",\"CON\") & \"_PROD!C17\")<>\"\"),ROUND(INDIRECT(SUBSTITUTE(LEFT($B$2,4),\"DOT\",\"CON\") & \"_PROD!C17\"),1),ROUND(INDIRECT(LEFT($B$2,4) & \"_PROD!C17\"),1)),\"\")","v":""},null,null,{"$f":"IFERROR(IF(AND(LEFT($B$2,1)=\"D\",INDIRECT(LEFT($B$2,4) & \"_PROD!C17\")=\"\",INDIRECT(SUBSTITUTE(LEFT($B$2,4),\"DOT\",\"CON\") & \"_PROD!C17\")<>\"\"),ROUND(INDIRECT(SUBSTITUTE(LEFT($B$2,4),\"DOT\",\"CON\") & \"_PROD!C17\"),1),ROUND(INDIRECT(LEFT($B$2,4) & \"_PROD!C17\"),1)),\"\")","v":""}]
[null,{"$f":"IF(AND(INDIRECT(LEFT($B$2,4) & \"_PROD!C27\")<>\"\",INDIRECT(LEFT($B$2,4) & \"_PROD!C27\")>0.01),\"Corrected Rice specific gravity, Grc:\",\"Rice specific gravity, Gr:\")","v":"Rice specific gravity, Gr:"},{"$f":"IFERROR(ROUND(IF(DESIGN_GE,100/((100-C32)/MIX_GMB+(C32/MIX_GSB)),INDIRECT(LEFT($B$2,4) & \"_PROD!C30\")),3),\"\")","v":""},null,null,{"$f":"IF(LEFT($B$2,1)=\"D\",IFERROR(ROUND(AVERAGE(INDIRECT(\"DOT1_PROD!C30\"),INDIRECT(\"DOT2_PROD!C30\"),INDIRECT(\"DOT3_PROD!C30\"),INDIRECT(\"DOT4_PROD!C30\")),3),\"\"),IFERROR(ROUND(AVERAGE(INDIRECT(\"CON1_PROD!C30\"),INDIRECT(\"CON2_PROD!C30\"),INDIRECT(\"CON3_PROD!C30\"),INDIRECT(\"CON4_PROD!C30\")),3),\"\"))","v":""}]
[null,"Percent density, %:",{"$f":"IFERROR(ROUND(AVERAGE(C27:E27),1),\"\")","v":""},null,null,{"$f":"IFERROR(ROUND(AVERAGE(F27:G27),1),\"\")","v":""}]
[null,"Actual specific gravity:",{"$f":"IFERROR(ROUND(AVERAGE(C26:E26),3),\"\")","v":""},null,null,{"$f":"IFERROR(ROUND(AVERAGE(F26:G26),3),\"\")","v":""}]
[null,"Percent air voids, %:",{"$f":"IFERROR(ROUND(AVERAGE(C28:E28),1),\"\")","v":""},null,null,{"$f":"IFERROR(ROUND(AVERAGE(F28:G28),1),\"\")","v":""}]
[null,"Percent VMA, %:",{"$f":"IFERROR(ROUND(AVERAGE(C29:E29),1),\"\")","v":""},null,null,{"$f":"IFERROR(ROUND(AVERAGE(F29:G29),1),\"\")","v":""}]

{"sheet":"CON1_PROD","index":33,"n_rows":67,"n_cols":3,"rows_kept":67,"cut":false,"hidden":false,"merged":[[43,1,43,2],[58,1,58,2],[65,1,65,2],[0,1,0,2],[1,1,1,2],[6,1,6,2],[7,1,7,2],[21,1,21,2],[32,1,32,2]]}
[null,{"$f":"header","v":"SAMPLE ID:    ______________________________    SAMPLED DATE: ___________________________\nLOT NUMBER:    _____________________________    LETTING DATE: ___________________________\nSAMPLE STATUS:    __________________________    CONTROLLING CSJ: ________________________\nCOUNTY:    _________________________________    SPEC YEAR: ______________________________\nSAMPLED BY:    __________________________________    SPEC ITEM: ______________________________\nSAMPLE LOCATION:    ________________________    SPECIAL PROVISION: ______________________\nMATERIAL CODE:    __________________________    MIX TYPE: _______________________________\nMATERIAL NAME: __________________________________________________________________\nPRODUCER: _______________________________________________________________________\nAREA ENGINEER:    __________________________    PROJECT MANAGER: _____________________________\nCOURSE\\LIFT:    __________________    STATION: ______________________    DIST. FROM CL: ______\n"}]
[null,{"$f":"LEFT(REPLACE(CELL(\"filename\",A1),1,FIND(\"]\",CELL(\"filename\",A1)),\"\"),4) & \" PRODUCTION DATA\"","v":"CON1 PRODUCTION DATA"}]
[null,"Sublot sample date:",{"$f":"IFERROR(IF(LEN(INDIRECT(\"DATE_\"&LEFT($B$2,4)))>0,INDIRECT(\"DATE_\"&LEFT($B$2,4)),\"\"),\"\")","v":""}]
[null,"Sublot location, Tons:",{"$f":"IFERROR(INDIRECT(\"SLOC_\"&LEFT($B$2,4)),\"\")","v":""}]
[null,"Production location, Tons:",{"$f":"IFERROR(INDIRECT(\"PLOC_\"&LEFT($B$2,4)),\"\")","v":""}]
[]
[null,"DETERMINATION OF ASPHALT CONTENT"]
[null,{"$f":"\"Method: \" & AC_METHOD","v":"Method: "}]
[null,"Weight of sample and basket before ignition, g:"]
[null,"Weight of sample and basket after ignition, g:"]
[null,"Weight of basket, g:"]
[null,"Ignition oven AC, %:",{"$f":"IFERROR(100*(C9-C10)/(C9-C11),\"\")","v":""}]
[null,"AC, % :"]
[null,"Nuclear testing gauge number:"]
[null,"Nuclear testing gauge calibration reference number:"]
[null,"Nuclear testing gauge time (hh:mm:ss):"]
[null,"Corrected AC, %:",{"$f":"IF(AND(C12=\"\",ISBLANK(C13)),\"\",IF(AC_METHOD=\"Ignition oven\",ROUND(C12,1)+IF(LEFT($B$2,1)=\"D\",AC_T_COR,AC_C_COR),ROUND(C13,1)))","v":""}]
[null,"Ratio of recycled to total binder:",{"$f":"IFERROR(100*REC_AC/C17,\"\")","v":""}]
[null,"Binder sample received?:"]
[null,"DSR aging ratio:"]
[]
[null,"LAB DETERMINATION OF RICE SPECIFIC GRAVITY Tex-227-F"]
[null," (A) Weight of  dry sample in air, g:"]
[null," (D) Weight of calibrated pyc. with water, g:"]
[null,"(E) Weight of sample, pyc. and water, g:"]
[null,"A/(D+A-E) Rice specific gravity (Gr):",{"$f":"IFERROR(ROUND(C23/(C24+C23-C25),3),\"\")","v":""}]
[null,"(Asd) Weight of surface dry sample in air, g:"]
[null,"A/(D+Asd-E) Rice Specific Gravity (Grc):",{"$f":"IFERROR(ROUND(C23/(C24+C27-C25),3),\"\")","v":""}]
[null,"(Gr-Grc)/Grc Percentage Difference:",{"$f":"IF(C26=\"\",\"\",IF(C28=\"\",\"\",(C26-C28)/C28))","v":""}]
[null,{"$f":"IF(C29>0.003,\"A/(D+Asd-E)\",\"A/(D+A-E)\") & \" Rice Specific Gravity \" & IF(C29>0.003,\"(Grc):\",\"(Gr):\")","v":"A/(D+Asd-E) Rice Specific Gravity (Grc):"},{"$f":"IF(C29>0.003,C28,C26)","v":""}]
[]
[]
[null,"ROAD DETERMINATION OF RICE SPECIFIC GRAVITY Tex-227-F"]
[null," (A) Weight of  dry sample in air, g:"]
[null," (D) Weight of calibrated pyc. with water, g:"]
[null,"(E) Weight of sample, pyc. and water, g:"]
[null,"A/(D+A-E) Rice specific gravity (Gr):",{"$f":"IF(ISERROR(C34/(C35+C34-C36)),\"\",ROUND(C34/(C35+C34-C36),3))","v":""}]
[null,"(Asd) Weight of surface dry sample in air, g:"]
[null,"A/(D+Asd-E) Rice Specific Gravity (Grc):",{"$f":"IFERROR(ROUND(C34/(C35+C38-C36),3),\"\")","v":""}]
[null,"(Gr-Grc)/Grc Percentage Difference:",{"$f":"IF(C37=\"\",\"\",IF(C39=\"\",\"\",(C37-C39)/C39))","v":""}]
[null,{"$f":"IF(C40>0.003,\"A/(D+Asd-E)\",\"A/(D+A-E)\") & \" Rice Specific Gravity \" & IF(C40>0.003,\"(Grc):\",\"(Gr):\")","v":"A/(D+Asd-E) Rice Specific Gravity (Grc):"},{"$f":"IF(C40>0.003,C39,C37)","v":""}]
[]
[]
[null,"PRODUCTION PERFORMANCE PROPERTIES OF BITUMINOUS MIXTURES"]
[null,"Tex-248-F Overlay test number of cycles: "]
[null,"Tex-245-F Cantabro loss content, %:"]
[null,"CRM content, %:"]
[null,"Tex-235-F Binder draindown, %:"]
[null,"Fiber content, %:"]
[null,"Membrane application rate, gal/sy:"]
[null,"Tex 246-F Permeability or Water flow, sec:"]
[null,"Tex 212-F Moisture content, %:"]
[null,"Tex-530-C Boil test estimated percent stripping, %:"]
[null,"Tex-244-F Thermal profile segregation:"]
[null,"Tex 207-F, Part V Mat segregation density profile:"]
[null,"Tex 207-F, Part VII Longitudinal joint density:"]
[]
[]
[null,"ESTIMATED FILM THICKNESS (based on gradation and asphalt content)"]
[null,"Combined bulk specific gravity (Gsb): "]
[null,"Effective specific gravity:",{"$f":"IFERROR((100-C17)/((100/C30)-C17/MIX_GSB),\"\")","v":""}]
[null,"Asphalt absorption, %:",{"$f":"IFERROR((C61-C60)/(C61*C60)*MIX_GSB*100,\"\")","v":""}]
[null,"Effective asphalt content:",{"$f":"IFERROR(C17-(C62*(100-C17))/100,\"\")","v":""}]
[null,"Film thickness, micron:",{"$f":"IFERROR(1000000*(C63/100)/(1-(C63/100))/(INDIRECT(LEFT($B$2,4) & \"_GRAD!Q24\")*MIX_GSB*1000),\"\")","v":""}]
[]
[null,"BACK CALCULATED ASPHALT CONTENT"]
[null,"Back calculated AC, %:",{"$f":"IF(NOT(OR(C17=\"\",IF(LEFT(B2,1)=\"D\",EFFGR_T,EFFGR_C)=\"\")),IFERROR(ROUND((((IF(LEFT(B2,1)=\"D\",EFFGR_T,EFFGR_C)*100)/C26)-100)/((IF(LEFT(B2,1)=\"D\",EFFGR_T,EFFGR_C)/MIX_GSB)-1),1),\"\"),\"\")","v":""}]

{"sheet":"CON1_GRAD","index":34,"n_rows":25,"n_cols":35,"rows_kept":25,"cut":false,"hidden":false,"merged":[[5,1,5,5],[6,11,7,11],[6,12,7,12],[7,7,7,9],[0,1,0,11],[1,1,1,9],[2,1,2,9],[3,1,3,5],[3,11,3,12],[4,1,4,5]]}
[null,{"$f":"header","v":"SAMPLE ID:    ______________________________    SAMPLED DATE: ___________________________\nLOT NUMBER:    _____________________________    LETTING DATE: ___________________________\nSAMPLE STATUS:    __________________________    CONTROLLING CSJ: ________________________\nCOUNTY:    _________________________________    SPEC YEAR: ______________________________\nSAMPLED BY:    __________________________________    SPEC ITEM: ______________________________\nSAMPLE LOCATION:    ________________________    SPECIAL PROVISION: ______________________\nMATERIAL CODE:    __________________________    MIX TYPE: _______________________________\nMATERIAL NAME: __________________________________________________________________\nPRODUCER: _______________________________________________________________________\nAREA ENGINEER:    __________________________    PROJECT MANAGER: _____________________________\nCOURSE\\LIFT:    __________________    STATION: ______________________    DIST. FROM CL: ______\n"}]
[null,{"$f":"LEFT(REPLACE(CELL(\"filename\",A1),1,FIND(\"]\",CELL(\"filename\",A1)),\"\"),4) &  \" GRADATION OF EXTRACTED AGGREGATE: Tex-200-F\"","v":"CON1 GRADATION OF EXTRACTED AGGREGATE: Tex-200-F"}]
[null,{"$f":"\"Method: \" & GRAD_METHOD","v":"Method: "}]
[null,{"$f":"IF(GRAD_METHOD=\"Belt sample\",\"Belt sample original dry weight, g:\",\"Ignited sample original dry weight, g:\")","v":"Ignited sample original dry weight, g:"},null,null,null,null,null,null,null,null,null,"TOLERANCES"]
[null,"Dry weight after washing, g:"]
[null,"Sieve analysis:",null,null,null,null,null,null,null,null,null,"Gradation","RZ"]
[null,null,null,null,{"$f":"IF(LEFT(B2,1)=\"T\",IF(COUNT(DES_IG_CF_T)>0,\"*Adjusted\",\"\"),IF(COUNT(DES_IG_CF_C)>0,\"*Adjusted\",\"\"))","v":""},{"$f":"E7","v":""},{"$f":"F7","v":""},null,null,null,null,"JMF","Current JMF"]
[null,"Sieve Size",{"$f":"IF(G6=\"Cumulative\",\"Cumulative\",\"Individual\") & \" weight retained, g\"","v":"Individual weight retained, g"},{"$f":"IF(G6=\"Cumulative\",\"Individual\",\"Cumulative\") & \" weight retained, g\"","v":"Cumulative weight retained, g"},"Individual percent retained, %","Cumulative percent retained, %","Cumulative percent passing, %",{"$f":"IF(N_TRIAL=\"Yes\",\"JMF cumulative percentage limits\",\"JMF individual retained limits\")","v":"JMF individual retained limits"}]
[null,{"$f":"IFERROR(DESIGN_GRAD!B5,\"\")","v":""},null,{"$f":"IF(ISBLANK(C9),\"\",C9)","v":""},{"$f":"IF(ISERROR(100-G9),\"\",100-G9)","v":""},{"$f":"IF(ISERROR(E9),\"\",E9)","v":""},{"$f":"IF(ISBLANK(C9),\"\",Q9)","v":""},{"$f":"IF(ISBLANK(C9),\"\",DATA_TOL!K4)","v":""},{"$f":"IF(LEN(H9)>0,\"-\",\"\")","v":""},{"$f":"IF(ISBLANK(C9),\"\",DATA_TOL!L4)","v":""},null,{"$f":"IF(AND(LEN(C9)>0,NOT(N_TRIAL=\"Yes\"),IF(MIX_NAME=\"HMA\",FALSE,INDEX(CHK_MGL,MIX_ID))),IF(AND(G9>=$Y$9,G9<=$Z$9,E9>=H9,E9<=J9),1,0),IF(AND(LEN(C9)>0,IF(MIX_NAME=\"HMA\",FALSE,INDEX(CHK_MGL200,MIX_ID)),B9=\"#200\",N_TRIAL=\"Yes\"),IF(AND(G9>=$Y$19,G9<=$Z$19),1,0),IF(AND(LEN(C9)>0,IF(MIX_NAME=\"HMA\",FALSE,INDEX(CHK_MGL200,MIX_ID)),B9=\"#200\"),IF(AND(G9>=$Y$19,G9<=$Z$19,E9>=H9,E9<=J9),1,0),IF(LEN(E9)=0,\"\",IF(N_TRIAL=\"Yes\",IF(AND(G9>=H9,G9<=J9),1,0),IF(AND(E9>=H9,E9<=J9),1,0))))))","v":""},{"$f":"IFERROR(IF(AND(AI9,C9<>\"\"),IF(AND(G9>=DESIGN_GRAD!F5,G9<=DESIGN_GRAD!H5),0,1),\"\"),\"\")","v":""},{"$f":"IF(AND(LEN(C9)>0,NOT(N_TRIAL=\"Yes\")),IF(OR(INDEX(CHK_MGL,MIX_ID),AND(IF(MIX_NAME=\"HMA\",FALSE,INDEX(CHK_MGL200,MIX_ID)),B9=\"#200\")),IF(AND(OR(G9<Y9,G9>Z9),OR(E9<H9,E9>J9)),\"% retained fails JMF target & % passing fails MGL\",IF(OR(G9<Y9,G9>Z9),\"% passing fails MGL\",IF(OR(E9<H9,E9>J9),\"% retained fails JMF target\",\"\"))),IF(OR(E9<H9,E9>J9),\"% retained fails JMF target\",\"\")),\"\")","v":""},null,{"$f":"ROUND(O9+100-IF($G$6=\"Cumulative\",C9,D9)/$C$22*100,1)","v":{"$error":"#VALUE!"}},{"$f":"P9","v":{"$error":"#VALUE!"}},null,{"$f":"INDEX(INDIRECT(MIX_NAME),1,25)","v":{"$error":"#REF!"}},{"$f":"IFERROR(S9*G9/100,\"\")","v":""},null,null,null,null,{"$f":"DESIGN_GRAD!C5","v":""},{"$f":"DESIGN_GRAD!E5","v":""},null,null,null,null,null,null,1,{"$f":"IF(LEN(INDEX(INDIRECT(MIX_NAME),AG9,2))>0,-1,0)","v":{"$error":"#REF!"}},{"$f":"IF(LEN(INDEX(INDIRECT(MIX_NAME),AG9,9))>0,-1,0)","v":{"$error":"#REF!"}}]
[null,{"$f":"IFERROR(DESIGN_GRAD!B6,\"\")","v":""},null,{"$f":"IF(ISBLANK(C10),\"\",IF($G$6=\"Cumulative\",(C10-SUM(D$9:D9)),SUM(C$9:C10)))","v":""},{"$f":"IF(ISERROR(G9-G10),\"\",G9-G10)","v":""},{"$f":"IF(ISERROR(F9+E10),\"\",F9+E10)","v":""},"",{"$f":"IF(ISBLANK(C10),\"\",DATA_TOL!K5)","v":""},"",{"$f":"IF(ISBLANK(C10),\"\",DATA_TOL!L5)","v":""},null,{"$f":"IF(AND(LEN(C10)>0,NOT(N_TRIAL=\"Yes\"),IF(MIX_NAME=\"HMA\",FALSE,INDEX(CHK_MGL,MIX_ID))),IF(AND(G10>=$Y$10,G10<=$Z$10,E10>=H10,E10<=J10),1,0),IF(AND(LEN(C10)>0,IF(MIX_NAME=\"HMA\",FALSE,INDEX(CHK_MGL200,MIX_ID)),B10=\"#200\",N_TRIAL=\"Yes\"),IF(AND(G10>=$Y$19,G10<=$Z$19),1,0),IF(AND(LEN(C10)>0,IF(MIX_NAME=\"HMA\",FALSE,INDEX(CHK_MGL200,MIX_ID)),B10=\"#200\"),IF(AND(G10>=$Y$19,G10<=$Z$19,E10>=H10,E10<=J10),1,0),IF(LEN(E10)=0,\"\",IF(N_TRIAL=\"Yes\",IF(AND(G10>=H10,G10<=J10),1,0),IF(AND(E10>=H10,E10<=J10),1,0))))))","v":""},{"$f":"IFERROR(IF(AND(AI10,C10<>\"\"),IF(AND(G10>=DESIGN_GRAD!F6,G10<=DESIGN_GRAD!H6),0,1),\"\"),\"\")","v":""},"",{"$f":"IF(LEFT($B$2,1)=\"C\",DESIGN_GRAD!P6,DESIGN_GRAD!O6)","v":0},{"$error":"#VALUE!"},{"$f":"MIN(Q9,P10)","v":{"$error":"#VALUE!"}},null,{"$f":"INDEX(INDIRECT(MIX_NAME),2,25)","v":{"$error":"#REF!"}},"",null,null,null,null,{"$f":"DESIGN_GRAD!C6","v":""},{"$f":"DESIGN_GRAD!E6","v":""},null,null,null,null,null,null,2,{"$error":"#REF!"},{"$error":"#REF!"}]
[null,{"$f":"IFERROR(DESIGN_GRAD!B7,\"\")","v":""},null,{"$f":"IF(ISBLANK(C11),\"\",IF($G$6=\"Cumulative\",(C11-SUM(D$9:D10)),SUM(C$9:C11)))","v":""},{"$f":"IF(ISERROR(G10-G11),\"\",G10-G11)","v":""},"","",{"$f":"IF(ISBLANK(C11),\"\",DATA_TOL!K6)","v":""},"",{"$f":"IF(ISBLANK(C11),\"\",DATA_TOL!L6)","v":""},null,{"$f":"IF(AND(LEN(C11)>0,NOT(N_TRIAL=\"Yes\"),IF(MIX_NAME=\"HMA\",FALSE,INDEX(CHK_MGL,MIX_ID))),IF(AND(G11>=$Y$11,G11<=$Z$11,E11>=H11,E11<=J11),1,0),IF(AND(LEN(C11)>0,IF(MIX_NAME=\"HMA\",FALSE,INDEX(CHK_MGL200,MIX_ID)),B11=\"#200\",N_TRIAL=\"Yes\"),IF(AND(G11>=$Y$19,G11<=$Z$19),1,0),IF(AND(LEN(C11)>0,IF(MIX_NAME=\"HMA\",FALSE,INDEX(CHK_MGL200,MIX_ID)),B11=\"#200\"),IF(AND(G11>=$Y$19,G11<=$Z$19,E11>=H11,E11<=J11),1,0),IF(LEN(E11)=0,\"\",IF(N_TRIAL=\"Yes\",IF(AND(G11>=H11,G11<=J11),1,0),IF(AND(E11>=H11,E11<=J11),1,0))))))","v":""},{"$f":"IFERROR(IF(AND(AI11,C11<>\"\"),IF(AND(G11>=DESIGN_GRAD!F7,G11<=DESIGN_GRAD!H7),0,1),\"\"),\"\")","v":""},"",{"$f":"IF(LEFT($B$2,1)=\"C\",DESIGN_GRAD!P7,DESIGN_GRAD!O7)","v":0},{"$error":"#VALUE!"},{"$f":"MIN(Q10,P11)","v":{"$error":"#VALUE!"}},null,{"$f":"INDEX(INDIRECT(MIX_NAME),3,25)","v":{"$error":"#REF!"}},"",null,null,null,null,{"$f":"DESIGN_GRAD!C7","v":""},{"$f":"DESIGN_GRAD!E7","v":""},null,null,null,null,null,null,3,{"$error":"#REF!"},{"$error":"#REF!"}]
[null,{"$f":"IFERROR(DESIGN_GRAD!B8,\"\")","v":""},null,{"$f":"IF(ISBLANK(C12),\"\",IF($G$6=\"Cumulative\",(C12-SUM(D$9:D11)),SUM(C$9:C12)))","v":""},"","","",{"$f":"IF(ISBLANK(C12),\"\",DATA_TOL!K7)","v":""},"",{"$f":"IF(ISBLANK(C12),\"\",DATA_TOL!L7)","v":""},null,{"$f":"IF(AND(LEN(C12)>0,NOT(N_TRIAL=\"Yes\"),IF(MIX_NAME=\"HMA\",FALSE,INDEX(CHK_MGL,MIX_ID))),IF(AND(G12>=$Y$12,G12<=$Z$12,E12>=H12,E12<=J12),1,0),IF(AND(LEN(C12)>0,IF(MIX_NAME=\"HMA\",FALSE,INDEX(CHK_MGL200,MIX_ID)),B12=\"#200\",N_TRIAL=\"Yes\"),IF(AND(G12>=$Y$19,G12<=$Z$19),1,0),IF(AND(LEN(C12)>0,IF(MIX_NAME=\"HMA\",FALSE,INDEX(CHK_MGL200,MIX_ID)),B12=\"#200\"),IF(AND(G12>=$Y$19,G12<=$Z$19,E12>=H12,E12<=J12),1,0),IF(LEN(E12)=0,\"\",IF(N_TRIAL=\"Yes\",IF(AND(G12>=H12,G12<=J12),1,0),IF(AND(E12>=H12,E12<=J12),1,0))))))","v":""},{"$f":"IFERROR(IF(AND(AI12,C12<>\"\"),IF(AND(G12>=DESIGN_GRAD!F8,G12<=DESIGN_GRAD!H8),0,1),\"\"),\"\")","v":""},"",{"$f":"IF(LEFT($B$2,1)=\"C\",DESIGN_GRAD!P8,DESIGN_GRAD!O8)","v":0},{"$error":"#VALUE!"},{"$error":"#VALUE!"},null,{"$f":"INDEX(INDIRECT(MIX_NAME),4,25)","v":{"$error":"#REF!"}},"",null,null,null,null,{"$f":"DESIGN_GRAD!C8","v":""},{"$f":"DESIGN_GRAD!E8","v":""},null,null,null,null,null,null,4,{"$error":"#REF!"},{"$error":"#REF!"}]
[null,{"$f":"IFERROR(DESIGN_GRAD!B9,\"\")","v":""},null,{"$f":"IF(ISBLANK(C13),\"\",IF($G$6=\"Cumulative\",(C13-SUM(D$9:D12)),SUM(C$9:C13)))","v":""},"","","",{"$f":"IF(ISBLANK(C13),\"\",DATA_TOL!K8)","v":""},"",{"$f":"IF(ISBLANK(C13),\"\",DATA_TOL!L8)","v":""},null,{"$f":"IF(AND(LEN(C13)>0,NOT(N_TRIAL=\"Yes\"),IF(MIX_NAME=\"HMA\",FALSE,INDEX(CHK_MGL,MIX_ID))),IF(AND(G13>=$Y$13,G13<=$Z$13,E13>=H13,E13<=J13),1,0),IF(AND(LEN(C13)>0,IF(MIX_NAME=\"HMA\",FALSE,INDEX(CHK_MGL200,MIX_ID)),B13=\"#200\",N_TRIAL=\"Yes\"),IF(AND(G13>=$Y$19,G13<=$Z$19),1,0),IF(AND(LEN(C13)>0,IF(MIX_NAME=\"HMA\",FALSE,INDEX(CHK_MGL200,MIX_ID)),B13=\"#200\"),IF(AND(G13>=$Y$19,G13<=$Z$19,E13>=H13,E13<=J13),1,0),IF(LEN(E13)=0,\"\",IF(N_TRIAL=\"Yes\",IF(AND(G13>=H13,G13<=J13),1,0),IF(AND(E13>=H13,E13<=J13),1,0))))))","v":""},{"$f":"IFERROR(IF(AND(AI13,C13<>\"\"),IF(AND(G13>=DESIGN_GRAD!F9,G13<=DESIGN_GRAD!H9),0,1),\"\"),\"\")","v":""},"",{"$f":"IF(LEFT($B$2,1)=\"C\",DESIGN_GRAD!P9,DESIGN_GRAD!O9)","v":0},{"$error":"#VALUE!"},{"$error":"#VALUE!"},null,{"$f":"INDEX(INDIRECT(MIX_NAME),5,25)","v":{"$error":"#REF!"}},"",null,null,null,null,{"$f":"DESIGN_GRAD!C9","v":""},{"$f":"DESIGN_GRAD!E9","v":""},null,null,null,null,null,null,5,{"$error":"#REF!"},{"$error":"#REF!"}]
[null,{"$f":"IFERROR(DESIGN_GRAD!B10,\"\")","v":""},null,{"$f":"IF(ISBLANK(C14),\"\",IF($G$6=\"Cumulative\",(C14-SUM(D$9:D13)),SUM(C$9:C14)))","v":""},"","","",{"$f":"IF(ISBLANK(C14),\"\",DATA_TOL!K9)","v":""},"",{"$f":"IF(ISBLANK(C14),\"\",DATA_TOL!L9)","v":""},null,{"$f":"IF(AND(LEN(C14)>0,NOT(N_TRIAL=\"Yes\"),IF(MIX_NAME=\"HMA\",FALSE,INDEX(CHK_MGL,MIX_ID))),IF(AND(G14>=$Y$14,G14<=$Z$14,E14>=H14,E14<=J14),1,0),IF(AND(,LEN(C14)>0,IF(MIX_NAME=\"HMA\",FALSE,INDEX(CHK_MGL200,MIX_ID)),B14=\"#200\",N_TRIAL=\"Yes\"),IF(AND(G14>=$Y$19,G14<=$Z$19),1,0),IF(AND(,LEN(C14)>0,IF(MIX_NAME=\"HMA\",FALSE,INDEX(CHK_MGL200,MIX_ID)),B14=\"#200\"),IF(AND(G14>=$Y$19,G14<=$Z$19,E14>=H14,E14<=J14),1,0),IF(LEN(E14)=0,\"\",IF(N_TRIAL=\"Yes\",IF(AND(G14>=H14,G14<=J14),1,0),IF(AND(E14>=H14,E14<=J14),1,0))))))","v":""},{"$f":"IFERROR(IF(AND(AI14,C14<>\"\"),IF(AND(G14>=DESIGN_GRAD!F10,G14<=DESIGN_GRAD!H10),0,1),\"\"),\"\")","v":""},"",{"$f":"IF(LEFT($B$2,1)=\"C\",DESIGN_GRAD!P10,DESIGN_GRAD!O10)","v":0},{"$error":"#VALUE!"},{"$error":"#VALUE!"},null,{"$f":"INDEX(INDIRECT(MIX_NAME),6,25)","v":{"$error":"#REF!"}},"",null,null,null,null,{"$f":"DESIGN_GRAD!C10","v":""},{"$f":"DESIGN_GRAD!E10","v":""},null,null,null,null,null,null,6,{"$error":"#REF!"},{"$error":"#REF!"}]
[null,{"$f":"IFERROR(DESIGN_GRAD!B11,\"\")","v":""},null,{"$f":"IF(ISBLANK(C15),\"\",IF($G$6=\"Cumulative\",(C15-SUM(D$9:D14)),SUM(C$9:C15)))","v":""},"","","",{"$f":"IF(ISBLANK(C15),\"\",DATA_TOL!K10)","v":""},"",{"$f":"IF(ISBLANK(C15),\"\",DATA_TOL!L10)","v":""},null,{"$f":"IF(AND(LEN(C15)>0,NOT(N_TRIAL=\"Yes\"),IF(MIX_NAME=\"HMA\",FALSE,INDEX(CHK_MGL,MIX_ID))),IF(AND(G15>=$Y$15,G15<=$Z$15,E15>=H15,E15<=J15),1,0),IF(AND(LEN(C15)>0,IF(MIX_NAME=\"HMA\",FALSE,INDEX(CHK_MGL200,MIX_ID)),B15=\"#200\",N_TRIAL=\"Yes\"),IF(AND(G15>=$Y$19,G15<=$Z$19),1,0),IF(AND(LEN(C15)>0,IF(MIX_NAME=\"HMA\",FALSE,INDEX(CHK_MGL200,MIX_ID)),B15=\"#200\"),IF(AND(G15>=$Y$19,G15<=$Z$19,E15>=H15,E15<=J15),1,0),IF(LEN(E15)=0,\"\",IF(N_TRIAL=\"Yes\",IF(AND(G15>=H15,G15<=J15),1,0),IF(AND(E15>=H15,E15<=J15),1,0))))))","v":""},{"$f":"IFERROR(IF(AND(AI15,C15<>\"\"),IF(AND(G15>=DESIGN_GRAD!F11,G15<=DESIGN_GRAD!H11),0,1),\"\"),\"\")","v":""},"",{"$f":"IF(LEFT($B$2,1)=\"C\",DESIGN_GRAD!P11,DESIGN_GRAD!O11)","v":0},{"$error":"#VALUE!"},{"$error":"#VALUE!"},null,{"$f":"INDEX(INDIRECT(MIX_NAME),7,25)","v":{"$error":"#REF!"}},"",null,null,null,null,{"$f":"DESIGN_GRAD!C11","v":""},{"$f":"DESIGN_GRAD!E11","v":""},null,null,null,null,null,null,7,{"$error":"#REF!"},{"$error":"#REF!"}]
[null,{"$f":"IFERROR(DESIGN_GRAD!B12,\"\")","v":""},null,{"$f":"IF(ISBLANK(C16),\"\",IF($G$6=\"Cumulative\",(C16-SUM(D$9:D15)),SUM(C$9:C16)))","v":""},"","","",{"$f":"IF(ISBLANK(C16),\"\",DATA_TOL!K11)","v":""},"",{"$f":"IF(ISBLANK(C16),\"\",DATA_TOL!L11)","v":""},null,{"$f":"IF(AND(LEN(C16)>0,NOT(N_TRIAL=\"Yes\"),IF(MIX_NAME=\"HMA\",FALSE,INDEX(CHK_MGL,MIX_ID))),IF(AND(G16>=$Y$16,G16<=$Z$16,E16>=H16,E16<=J16),1,0),IF(AND(LEN(C16)>0,IF(MIX_NAME=\"HMA\",FALSE,INDEX(CHK_MGL200,MIX_ID)),B16=\"#200\",N_TRIAL=\"Yes\"),IF(AND(G16>=$Y$19,G16<=$Z$19),1,0),IF(AND(LEN(C16)>0,IF(MIX_NAME=\"HMA\",FALSE,INDEX(CHK_MGL200,MIX_ID)),B16=\"#200\"),IF(AND(G16>=$Y$19,G16<=$Z$19,E16>=H16,E16<=J16),1,0),IF(LEN(E16)=0,\"\",IF(N_TRIAL=\"Yes\",IF(AND(G16>=H16,G16<=J16),1,0),IF(AND(E16>=H16,E16<=J16),1,0))))))","v":""},{"$f":"IFERROR(IF(AND(AI16,C16<>\"\"),IF(AND(G16>=DESIGN_GRAD!F12,G16<=DESIGN_GRAD!H12),0,1),\"\"),\"\")","v":""},"",{"$f":"IF(LEFT($B$2,1)=\"C\",DESIGN_GRAD!P12,DESIGN_GRAD!O12)","v":0},{"$error":"#VALUE!"},{"$error":"#VALUE!"},null,{"$f":"INDEX(INDIRECT(MIX_NAME),8,25)","v":{"$error":"#REF!"}},"",null,null,null,null,{"$f":"DESIGN_GRAD!C12","v":""},{"$f":"DESIGN_GRAD!E12","v":""},null,null,null,null,null,null,8,{"$error":"#REF!"},{"$error":"#REF!"}]
[null,{"$f":"IFERROR(DESIGN_GRAD!B13,\"\")","v":""},null,{"$f":"IF(C17=\"\",\"\",IF($G$6=\"Cumulative\",(C17-SUM(D$9:D16)),SUM(C$9:C17)))","v":""},"","","",{"$f":"IF(ISBLANK(C17),\"\",DATA_TOL!K12)","v":""},"",{"$f":"IF(ISBLANK(C17),\"\",DATA_TOL!L12)","v":""},null,{"$f":"IF(AND(LEN(C17)>0,NOT(N_TRIAL=\"Yes\"),IF(MIX_NAME=\"HMA\",FALSE,INDEX(CHK_MGL,MIX_ID))),IF(AND(G17>=$Y$17,G17<=$Z$17,E17>=H17,E17<=J17),1,0),IF(AND(LEN(C17)>0,IF(MIX_NAME=\"HMA\",FALSE,INDEX(CHK_MGL200,MIX_ID)),B17=\"#200\",N_TRIAL=\"Yes\"),IF(AND(G17>=$Y$19,G17<=$Z$19),1,0),IF(AND(LEN(C17)>0,IF(MIX_NAME=\"HMA\",FALSE,INDEX(CHK_MGL200,MIX_ID)),B17=\"#200\"),IF(AND(G17>=$Y$19,G17<=$Z$19,E17>=H17,E17<=J17),1,0),IF(LEN(E17)=0,\"\",IF(N_TRIAL=\"Yes\",IF(AND(G17>=H17,G17<=J17),1,0),IF(AND(E17>=H17,E17<=J17),1,0))))))","v":""},{"$f":"IFERROR(IF(AND(AI17,C17<>\"\"),IF(AND(G17>=DESIGN_GRAD!F13,G17<=DESIGN_GRAD!H13),0,1),\"\"),\"\")","v":""},"",{"$f":"IF(LEFT($B$2,1)=\"C\",DESIGN_GRAD!P13,DESIGN_GRAD!O13)","v":0},{"$error":"#VALUE!"},{"$error":"#VALUE!"},null,{"$f":"INDEX(INDIRECT(MIX_NAME),9,25)","v":{"$error":"#REF!"}},"",null,null,null,null,{"$f":"DESIGN_GRAD!C13","v":""},{"$f":"DESIGN_GRAD!E13","v":""},null,null,null,null,null,null,9,{"$error":"#REF!"},{"$error":"#REF!"}]
[null,{"$f":"IFERROR(DESIGN_GRAD!B14,\"\")","v":""},null,{"$f":"IF(C18=\"\",\"\",IF($G$6=\"Cumulative\",(C18-SUM(D$9:D17)),SUM(C$9:C18)))","v":""},"","","",{"$f":"IF(ISBLANK(C18),\"\",DATA_TOL!K13)","v":""},"",{"$f":"IF(ISBLANK(C18),\"\",DATA_TOL!L13)","v":""},null,{"$f":"IF(AND(LEN(C18)>0,NOT(N_TRIAL=\"Yes\"),IF(MIX_NAME=\"HMA\",FALSE,INDEX(CHK_MGL,MIX_ID))),IF(AND(G18>=$Y$18,G18<=$Z$18,E18>=H18,E18<=J18),1,0),IF(AND(LEN(C18)>0,IF(MIX_NAME=\"HMA\",FALSE,INDEX(CHK_MGL200,MIX_ID)),B18=\"#200\",N_TRIAL=\"Yes\"),IF(AND(G18>=$Y$19,G18<=$Z$19),1,0),IF(AND(LEN(C18)>0,IF(MIX_NAME=\"HMA\",FALSE,INDEX(CHK_MGL200,MIX_ID)),B18=\"#200\"),IF(AND(G18>=$Y$19,G18<=$Z$19,E18>=H18,E18<=J18),1,0),IF(LEN(E18)=0,\"\",IF(N_TRIAL=\"Yes\",IF(AND(G18>=H18,G18<=J18),1,0),IF(AND(E18>=H18,E18<=J18),1,0))))))","v":""},{"$f":"IFERROR(IF(AND(AI18,C18<>\"\"),IF(AND(G18>=DESIGN_GRAD!F14,G18<=DESIGN_GRAD!H14),0,1),\"\"),\"\")","v":""},"",{"$f":"IF(LEFT($B$2,1)=\"C\",DESIGN_GRAD!P14,DESIGN_GRAD!O14)","v":0},{"$error":"#VALUE!"},{"$error":"#VALUE!"},null,{"$f":"INDEX(INDIRECT(MIX_NAME),10,25)","v":{"$error":"#REF!"}},"",null,null,null,null,{"$f":"DESIGN_GRAD!C14","v":""},{"$f":"DESIGN_GRAD!E14","v":""},null,null,null,null,null,null,10,{"$error":"#REF!"},{"$error":"#REF!"}]
[null,"- #200",null,null,null,null,null,null,null,null,null,null,null,null,null,null,null,"#16",null,null,1.18,{"$f":"VLOOKUP(\"#16\",$B$9:$G$18,6,0)","v":{"$error":"#N/A"}},{"$f":"LOG(U19)","v":7.1882007306125359E-2},{"$error":"#N/A"},{"$f":"MIN(Y9:Y18)","v":0},{"$f":"MIN(Z9:Z18)","v":0}]
[null,null,{"$f":"IF(G4>0,G4-IF(G6=\"Cumulative\",LARGE(C9:C19,1),SUM(C9:C19)),IF(SUM(C9:C19)=0,\"\",0))","v":""},{"$f":"IF(G4<>\"\",IF(G5<>\"\",\"Wash Loss\" & IF(C23>0,\" - \",\" + \"),\"\")&IF(C23>0,\"Sieving Gain (g)\",IF(C23<0,\"Sieving Loss (g)\",\"\")),\"\")","v":""},null,null,null,null,null,null,null,null,null,null,null,null,null,"#50",null,null,0.3,{"$f":"VLOOKUP(\"#50\",$B$9:$G$18,6,0)","v":{"$error":"#N/A"}},-0.52287874528033762,{"$error":"#N/A"}]
[null,"Total - #200",{"$f":"IF(ISERROR(IF(G6=\"Cumulative\",LARGE(C9:C19,1),C19)+C20),\"\",IF(G6=\"Cumulative\",LARGE(C9:C19,1),C19)+C20)","v":""},{"$f":"IF(ISBLANK(C19),\"\",IF(G6=\"Cumulative\",(C21-SUM(D$9:D18)),SUM(C$9:C18,C21)))","v":""},{"$f":"IF(ISERROR(OFFSET(G19,-COUNTBLANK(B9:B18)-1,0)-G21),\"\",OFFSET(G19,-COUNTBLANK(B9:B18)-1,0)-G21)","v":""},{"$f":"IF(ISERROR(OFFSET(F19,-COUNTBLANK(B9:B18)-1,0)+E21),\"\",OFFSET(F19,-COUNTBLANK(B9:B18)-1,0)+E21)","v":""},{"$f":"IF(ISERROR(100-IF(G6=\"Cumulative\",C21/C22*100,D21/C22*100)),\"\",ROUND(100-IF(G6=\"Cumulative\",C21/C22*100,D21/C22*100),1))","v":""},{"$f":"IF(C21=\"\",\"\",DATA_TOL!K14)","v":""},{"$f":"IF(LEN(H21)>0,\"-\",\"\")","v":""},{"$f":"IF(C21=\"\",\"\",DATA_TOL!L14)","v":""},null,{"$f":"IF(LEN(E21)=0,\"\",IF(N_TRIAL=\"Yes\",IF(AND(G21>=H21,G21<=J21),1,0),IF(AND(E21>=H21,E21<=J21),1,0)))","v":""},null,{"$f":"IF(AND(LEN(C21)>0,NOT(LEN(E21)=0),NOT(N_TRIAL=\"Yes\")),IF(OR(E21<H21,E21>J21),\"% passing #200 fails JMF target\",\"\"),\"\")","v":""},null,null,null,"#200",null,null,7.4999999999999997E-2,{"$f":"VLOOKUP(\"#200\",$B$9:$G$18,6,0)","v":{"$error":"#N/A"}},-1.1249387366082999,{"$error":"#N/A"}]
[null,"Total weight, g",{"$f":"IF(ISERROR(IF(G6=\"Cumulative\",C21,SUM(C9:C18)+C21)),\"\",IF(G6=\"Cumulative\",C21,SUM(C9:C18)+C21))","v":""},null,null,null,null,null,null,null,null,null,null,null,null,null,null,"#30",2.87,{"$f":"S22*V22/100","v":{"$error":"#N/A"}},0.6,{"$f":"10^X22","v":{"$error":"#N/A"}},{"$f":"LOG(U22)","v":-0.22184874961635639},{"$f":"FORECAST(W22,X19:X20,W19:W20)","v":{"$error":"#N/A"}}]
[null,null,{"$f":"IF(G5<>\"\",IF(G6=\"Cumulative\",IF(ISERROR(LARGE(C9:C19,1)),0,LARGE(C9:C19,1)),SUM(C9:C19))-G5,IF(G4<>\"\",IF(G6=\"Cumulative\",IF(ISERROR(LARGE(C9:C19,1)),0,LARGE(C9:C19,1)),SUM(C9:C19))-G4,IF(B23<>\"\",IF(G6=\"Cumulative\",IF(ISERROR(LARGE(C9:C19,1)),0,LARGE(C9:C19,1)),SUM(C9:C19))-B23,\"\")))","v":""},{"$f":"IF(AND(C22<>\"\",C23<>\"\"),IF(C25>0.2,\"Discrepancy too large - rerun analysis\",\"Sieving \" & IF(C23>0, \"Gain\", \"Loss\") & \" (g), from \" & IF(G5<>\"\", \"dry weight after washing\", \"original dry sample\")),\"\")","v":""},null,null,null,null,null,null,null,null,null,null,null,null,null,"#100",12.29,{"$f":"S23*V23/100","v":{"$error":"#N/A"}},0.15,{"$f":"10^X23","v":{"$error":"#N/A"}},{"$f":"LOG(U23)","v":-0.82390874094431876},{"$f":"FORECAST(W23,X20:X21,W20:W21)","v":{"$error":"#N/A"}}]
[null,null,null,null,null,null,null,null,null,null,null,null,null,null,null,null,null,null,null,{"$f":"SUM(T9:T18)+T22+T23","v":{"$error":"#N/A"}}]
[null,null,{"$f":"ABS(100*C23/C22)","v":{"$error":"#VALUE!"}}]

{"sheet":"CON1_DENSITY","index":35,"n_rows":37,"n_cols":13,"rows_kept":37,"cut":false,"hidden":false,"merged":[[34,2,34,4],[34,5,34,6],[35,2,35,4],[35,5,35,6],[36,2,36,4],[36,5,36,6],[33,2,33,4],[33,5,33,6],[0,1,0,8],[1,1,1,6],[2,2,2,4],[2,5,2,6],[15,1,15,6],[24,1,24,6],[30,1,30,6],[31,2,31,4],[31,5,31,6],[32,2,32,4],[32,5,32,6]]}
[null,{"$f":"header","v":"SAMPLE ID:    ______________________________    SAMPLED DATE: ___________________________\nLOT NUMBER:    _____________________________    LETTING DATE: ___________________________\nSAMPLE STATUS:    __________________________    CONTROLLING CSJ: ________________________\nCOUNTY:    _________________________________    SPEC YEAR: ______________________________\nSAMPLED BY:    __________________________________    SPEC ITEM: ______________________________\nSAMPLE LOCATION:    ________________________    SPECIAL PROVISION: ______________________\nMATERIAL CODE:    __________________________    MIX TYPE: _______________________________\nMATERIAL NAME: __________________________________________________________________\nPRODUCER: _______________________________________________________________________\nAREA ENGINEER:    __________________________    PROJECT MANAGER: _____________________________\nCOURSE\\LIFT:    __________________    STATION: ______________________    DIST. FROM CL: ______\n"}]
[null,{"$f":"LEFT(REPLACE(CELL(\"filename\",A1),1,FIND(\"]\",CELL(\"filename\",A1)),\"\"),4) &  \" DETERMINING PROPERTIES OF BITUMINOUS MIXTURES-Tex-207-F\"","v":"CON1 DETERMINING PROPERTIES OF BITUMINOUS MIXTURES-Tex-207-F"}]
[null,"Specimen type:","Laboratory",null,null,"Roadway"]
[null,"Specimen number:","1(1)","1(2)","1(3)","1(A)","1(B)"]
[null,"Note to developer - hide this row Specimen radius, mm:"]
[null,{"$f":"IF(DESIGN_GE,\"Specimen height, mm:\",\"Untrimmed specimen/Core height, in:\")","v":{"$error":"#N/A"}}]
[null,"Trimmed core height, in:"]
[null,"Weight of specimen in air, g:"]
[null,"Weight of specimen in water, g:"]
[null,"SSD weight of specimen in air, g:"]
[null,"Volume of specimen:",{"$f":"IF(AND(ISBLANK(C10),ISBLANK(C9)),\"\",C10-C9)","v":""},{"$f":"IF(AND(ISBLANK(D10),ISBLANK(D9)),\"\",D10-D9)","v":""},{"$f":"IF(AND(ISBLANK(E10),ISBLANK(E9)),\"\",E10-E9)","v":""},{"$f":"IF(AND(ISBLANK(F10),ISBLANK(F9)),\"\",F10-F9)","v":""},{"$f":"IF(AND(ISBLANK(G10),ISBLANK(G9)),\"\",G10-G9)","v":""}]
[null,"Note to developer - hide this row SSD Density:",{"$f":"IFERROR(C8/C11,\"\")","v":""},{"$f":"IFERROR(D8/D11,\"\")","v":""},{"$f":"IFERROR(E8/E11,\"\")","v":""},{"$f":"IFERROR(F8/F11,\"\")","v":""},{"$f":"IFERROR(G8/G11,\"\")","v":""}]
[null,"Percent absorption, %:",{"$f":"IFERROR(ROUND(100*((C10-C8)/(C10-C9)),1),\"\")","v":""},{"$f":"IFERROR(ROUND(100*((D10-D8)/(D10-D9)),1),\"\")","v":""},{"$f":"IFERROR(ROUND(100*((E10-E8)/(E10-E9)),1),\"\")","v":""},{"$f":"IFERROR(ROUND(100*((F10-F8)/(F10-F9)),1),\"\")","v":""},{"$f":"IFERROR(ROUND(100*((G10-G8)/(G10-G9)),1),\"\")","v":""}]
[null,"Bag required for Ga:",{"$f":"IF(ISNUMBER(C13),IF(C13>2,\"Yes\",\"No\"),\"\")","v":""},{"$f":"IF(ISNUMBER(D13),IF(D13>2,\"Yes\",\"No\"),\"\")","v":""},{"$f":"IF(ISNUMBER(E13),IF(E13>2,\"Yes\",\"No\"),\"\")","v":""},{"$f":"IF(ISNUMBER(F13),IF(F13>2,\"Yes\",\"No\"),\"\")","v":""},{"$f":"IF(ISNUMBER(G13),IF(G13>2,\"Yes\",\"No\"),\"\")","v":""}]
[null,"Bag Used for Ga:"]
[null,"Vacuum bag inputs"]
[null,"Vacuum bag method used:"]
[null,"Weight of specimen in air, g:"]
[null,"Sealed weight of specimen in water, g:",null,null,null,null,null,null,{"$f":"IF(OR(ISBLANK(C20),ISBLANK(C18)),\"\",IF(ABS(C20-C18)>5,-1,0))","v":""},{"$f":"IF(OR(ISBLANK(D20),ISBLANK(D18)),\"\",IF(ABS(D20-D18)>5,-1,0))","v":""},{"$f":"IF(OR(ISBLANK(E20),ISBLANK(E18)),\"\",IF(ABS(E20-E18)>5,-1,0))","v":""},{"$f":"IF(OR(ISBLANK(F20),ISBLANK(F18)),\"\",IF(ABS(F20-F18)>5,-1,0))","v":""},{"$f":"IF(OR(ISBLANK(G20),ISBLANK(G18)),\"\",IF(ABS(G20-G18)>5,-1,0))","v":""}]
[null,"Dry specimen weight after submersion, g:",null,null,null,null,null,null,{"$f":"IFERROR(IF(OR(I19:M19),\"> 5g. Repeat test, a leak may have occurred.\",\"\"),\"\")","v":""}]
[null,"Weight of vacuum bag(s), g:"]
[null,"Vacuum bag volume correction factor:",{"$f":"IFERROR(IF(LEFT(C17,1)=\"L\",-0.00166*(C18/C21)+0.8596,IF(LEFT(C17,1)=\"S\",-0.000566*(C18/C21)+0.8121,IF(LEFT(C17,1)=\"D\",-0.0022448*(C18/C21)+0.85818,\"\"))),\"\")","v":""},{"$f":"IFERROR(IF(LEFT(D17,1)=\"L\",-0.00166*(D18/D21)+0.8596,IF(LEFT(D17,1)=\"S\",-0.000566*(D18/D21)+0.8121,IF(LEFT(D17,1)=\"D\",-0.0022448*(D18/D21)+0.85818,\"\"))),\"\")","v":""},{"$f":"IFERROR(IF(LEFT(E17,1)=\"L\",-0.00166*(E18/E21)+0.8596,IF(LEFT(E17,1)=\"S\",-0.000566*(E18/E21)+0.8121,IF(LEFT(E17,1)=\"D\",-0.0022448*(E18/E21)+0.85818,\"\"))),\"\")","v":""},{"$f":"IFERROR(IF(LEFT(F17,1)=\"L\",-0.00166*(F18/F21)+0.8596,IF(LEFT(F17,1)=\"S\",-0.000566*(F18/F21)+0.8121,IF(LEFT(F17,1)=\"D\",-0.0022448*(F18/F21)+0.85818,\"\"))),\"\")","v":""},{"$f":"IFERROR(IF(LEFT(G17,1)=\"L\",-0.00166*(G18/G21)+0.8596,IF(LEFT(G17,1)=\"S\",-0.000566*(G18/G21)+0.8121,IF(LEFT(G17,1)=\"D\",-0.0022448*(G18/G21)+0.85818,\"\"))),\"\")","v":""}]
[null,"Vacuum bag density:",{"$f":"IFERROR(C18/(C21+C18-C19-(C21/C22)),\"\")","v":""},{"$f":"IFERROR(D18/(D21+D18-D19-(D21/D22)),\"\")","v":""},{"$f":"IFERROR(E18/(E21+E18-E19-(E21/E22)),\"\")","v":""},{"$f":"IFERROR(F18/(F21+F18-F19-(F21/F22)),\"\")","v":""},{"$f":"IFERROR(G18/(G21+G18-G19-(G21/G22)),\"\")","v":""}]
[null,"Note to developer - hide this row",{"$f":"IF(LEFT($B$2,1)=\"D\",PRESS_T,PRESS_C)+IF(INDEX(CHK_GE,MIX_ID),IF(ISERROR(C8*1000/(3.14*75^2*C6)),\"\",C8*1000/(3.14*75^2*C6)),IF(C15<>\"Yes\",IF(ISERROR(C12),\"\",ROUND(C12,3)),IF(ISERROR(MIN(C12,C23)),\"\",ROUND(MIN(C12,C23),3))))","v":{"$error":"#N/A"}},{"$f":"IF(LEFT($B$2,1)=\"D\",PRESS_T,PRESS_C)+IF(INDEX(CHK_GE,MIX_ID),IF(ISERROR(D8*1000/(3.14*75^2*D6)),\"\",D8*1000/(3.14*75^2*D6)),IF(D15<>\"Yes\",IF(ISERROR(D12),\"\",ROUND(D12,3)),IF(ISERROR(MIN(D12,D23)),\"\",ROUND(MIN(D12,D23),3))))","v":{"$error":"#N/A"}},{"$f":"IF(LEFT($B$2,1)=\"D\",PRESS_T,PRESS_C)+IF(INDEX(CHK_GE,MIX_ID),IF(ISERROR(E8*1000/(3.14*75^2*E6)),\"\",E8*1000/(3.14*75^2*E6)),IF(E15<>\"Yes\",IF(ISERROR(E12),\"\",ROUND(E12,3)),IF(ISERROR(MIN(E12,E23)),\"\",ROUND(MIN(E12,E23),3))))","v":{"$error":"#N/A"}},{"$f":"IF(INDEX(CHK_GE,MIX_ID),IF(ISERROR(F8*1000/(3.14*F5^2*F6)),\"\",F8*1000/(3.14*F5^2*F6)),IF(F15<>\"Yes\",IF(ISERROR(F12),\"\",ROUND(F12,3)),IF(ISERROR(MIN(F12,F23)),\"\",ROUND(MIN(F12,F23),3))))","v":{"$error":"#N/A"}},{"$f":"IF(INDEX(CHK_GE,MIX_ID),IF(ISERROR(G8*1000/(3.14*G5^2*G6)),\"\",G8*1000/(3.14*G5^2*G6)),IF(G15<>\"Yes\",IF(ISERROR(G12),\"\",ROUND(G12,3)),IF(ISERROR(MIN(G12,G23)),\"\",ROUND(MIN(G12,G23),3))))","v":{"$error":"#N/A"}}]
[null,"Volumetric properties"]
[null,"Bulk specific gravity, Ga:",{"$f":"IFERROR(ROUND(C24,3),\"\")","v":""},{"$f":"IFERROR(ROUND(D24,3),\"\")","v":""},{"$f":"IFERROR(ROUND(E24,3),\"\")","v":""},{"$f":"IFERROR(ROUND(F24,3),\"\")","v":""},{"$f":"IFERROR(ROUND(G24,3),\"\")","v":""}]
[null,"Percent density, %:",{"$f":"IFERROR(ROUND(100*C26/$C$33,1),\"\")","v":""},{"$f":"IFERROR(ROUND(100*D26/$C$33,1),\"\")","v":""},{"$f":"IFERROR(ROUND(100*E26/$C$33,1),\"\")","v":""},{"$f":"IFERROR(ROUND(100*F26/$F$33,1),\"\")","v":""},{"$f":"IFERROR(ROUND(100*G26/$F$33,1),\"\")","v":""}]
[null,"Percent air voids, %:",{"$f":"IFERROR(ROUND(100-C27,1),\"\")","v":""},{"$f":"IFERROR(ROUND(100-D27,1),\"\")","v":""},{"$f":"IFERROR(ROUND(100-E27,1),\"\")","v":""},{"$f":"IFERROR(ROUND(100-F27,1),\"\")","v":""},{"$f":"IFERROR(ROUND(100-G27,1),\"\")","v":""}]
[null,"Percent VMA, %:",{"$f":"IFERROR(ROUND(100-(100*(C26/INDIRECT(LEFT($B$2,4) & \"_PROD!$C$30\")))+((C26*$C$32)/MIX_GSB),1),\"\")","v":""},{"$f":"IFERROR(ROUND(100-(100*(D26/INDIRECT(LEFT($B$2,4) & \"_PROD!$C$30\")))+((D26*$C$32)/MIX_GSB),1),\"\")","v":""},{"$f":"IFERROR(ROUND(100-(100*(E26/INDIRECT(LEFT($B$2,4) & \"_PROD!$C$30\")))+((E26*$C$32)/MIX_GSB),1),\"\")","v":""},{"$f":"IFERROR(ROUND(100-(100*(F26/INDIRECT(LEFT($B$2,4) & \"_PROD!$C$30\")))+((F26*$F$32)/MIX_GSB),1),\"\")","v":""},{"$f":"IFERROR(ROUND(100-(100*(G26/INDIRECT(LEFT($B$2,4) & \"_PROD!$C$30\")))+((G26*$F$32)/MIX_GSB),1),\"\")","v":""}]
[]
[null,"MEAN VOLUMETRIC PROPERTIES"]
[null,{"$f":"IF(AND(LEFT($B$2,1)=\"D\",INDIRECT(LEFT($B$2,4) & \"_PROD!C17\")=\"\",INDIRECT(SUBSTITUTE(LEFT($B$2,4),\"DOT\",\"CON\") & \"_PROD!C17\")<>\"\"),\"Contractor's asphalt content, %:\",\"Asphalt content, %:\")","v":"Asphalt content, %:"},{"$f":"IFERROR(IF(AND(LEFT($B$2,1)=\"D\",INDIRECT(LEFT($B$2,4) & \"_PROD!C17\")=\"\",INDIRECT(SUBSTITUTE(LEFT($B$2,4),\"DOT\",\"CON\") & \"_PROD!C17\")<>\"\"),ROUND(INDIRECT(SUBSTITUTE(LEFT($B$2,4),\"DOT\",\"CON\") & \"_PROD!C17\"),1),ROUND(INDIRECT(LEFT($B$2,4) & \"_PROD!C17\"),1)),\"\")","v":""},null,null,{"$f":"IFERROR(IF(AND(LEFT($B$2,1)=\"D\",INDIRECT(LEFT($B$2,4) & \"_PROD!C17\")=\"\",INDIRECT(SUBSTITUTE(LEFT($B$2,4),\"DOT\",\"CON\") & \"_PROD!C17\")<>\"\"),ROUND(INDIRECT(SUBSTITUTE(LEFT($B$2,4),\"DOT\",\"CON\") & \"_PROD!C17\"),1),ROUND(INDIRECT(LEFT($B$2,4) & \"_PROD!C17\"),1)),\"\")","v":""}]
[null,{"$f":"IF(AND(INDIRECT(LEFT($B$2,4) & \"_PROD!C27\")<>\"\",INDIRECT(LEFT($B$2,4) & \"_PROD!C27\")>0.01),\"Corrected Rice specific gravity, Grc:\",\"Rice specific gravity, Gr:\")","v":"Rice specific gravity, Gr:"},{"$f":"IFERROR(ROUND(IF(DESIGN_GE,100/((100-C32)/MIX_GMB+(C32/MIX_GSB)),INDIRECT(LEFT($B$2,4) & \"_PROD!C30\")),3),\"\")","v":""},null,null,{"$f":"IF(LEFT($B$2,1)=\"D\",IFERROR(ROUND(AVERAGE(INDIRECT(\"DOT1_PROD!C30\"),INDIRECT(\"DOT2_PROD!C30\"),INDIRECT(\"DOT3_PROD!C30\"),INDIRECT(\"DOT4_PROD!C30\")),3),\"\"),IFERROR(ROUND(AVERAGE(INDIRECT(\"CON1_PROD!C30\"),INDIRECT(\"CON2_PROD!C30\"),INDIRECT(\"CON3_PROD!C30\"),INDIRECT(\"CON4_PROD!C30\")),3),\"\"))","v":""}]
[null,"Percent density, %:",{"$f":"IFERROR(ROUND(AVERAGE(C27:E27),1),\"\")","v":""},null,null,{"$f":"IFERROR(ROUND(AVERAGE(F27:G27),1),\"\")","v":""}]
[null,"Actual specific gravity:",{"$f":"IFERROR(ROUND(AVERAGE(C26:E26),3),\"\")","v":""},null,null,{"$f":"IFERROR(ROUND(AVERAGE(F26:G26),3),\"\")","v":""}]
[null,"Percent air voids, %:",{"$f":"IFERROR(ROUND(AVERAGE(C28:E28),1),\"\")","v":""},null,null,{"$f":"IFERROR(ROUND(AVERAGE(F28:G28),1),\"\")","v":""}]
[null,"Percent VMA, %:",{"$f":"IFERROR(ROUND(AVERAGE(C29:E29),1),\"\")","v":""},null,null,{"$f":"IFERROR(ROUND(AVERAGE(F29:G29),1),\"\")","v":""}]

{"sheet":"CON2_PROD","index":36,"n_rows":67,"n_cols":3,"rows_kept":67,"cut":false,"hidden":false,"merged":[[43,1,43,2],[58,1,58,2],[65,1,65,2],[0,1,0,2],[1,1,1,2],[6,1,6,2],[7,1,7,2],[21,1,21,2],[32,1,32,2]]}
[null,{"$f":"header","v":"SAMPLE ID:    ______________________________    SAMPLED DATE: ___________________________\nLOT NUMBER:    _____________________________    LETTING DATE: ___________________________\nSAMPLE STATUS:    __________________________    CONTROLLING CSJ: ________________________\nCOUNTY:    _________________________________    SPEC YEAR: ______________________________\nSAMPLED BY:    __________________________________    SPEC ITEM: ______________________________\nSAMPLE LOCATION:    ________________________    SPECIAL PROVISION: ______________________\nMATERIAL CODE:    __________________________    MIX TYPE: _______________________________\nMATERIAL NAME: __________________________________________________________________\nPRODUCER: _______________________________________________________________________\nAREA ENGINEER:    __________________________    PROJECT MANAGER: _____________________________\nCOURSE\\LIFT:    __________________    STATION: ______________________    DIST. FROM CL: ______\n"}]
[null,{"$f":"LEFT(REPLACE(CELL(\"filename\",A1),1,FIND(\"]\",CELL(\"filename\",A1)),\"\"),4) & \" PRODUCTION DATA\"","v":"CON2 PRODUCTION DATA"}]
[null,"Sublot sample date:",{"$f":"IFERROR(IF(LEN(INDIRECT(\"DATE_\"&LEFT($B$2,4)))>0,INDIRECT(\"DATE_\"&LEFT($B$2,4)),\"\"),\"\")","v":""}]
[null,"Sublot location, Tons:",{"$f":"IFERROR(INDIRECT(\"SLOC_\"&LEFT($B$2,4)),\"\")","v":""}]
[null,"Production location, Tons:",{"$f":"IFERROR(INDIRECT(\"PLOC_\"&LEFT($B$2,4)),\"\")","v":""}]
[]
[null,"DETERMINATION OF ASPHALT CONTENT"]
[null,{"$f":"\"Method: \" & AC_METHOD","v":"Method: "}]
[null,"Weight of sample and basket before ignition, g:"]
[null,"Weight of sample and basket after ignition, g:"]
[null,"Weight of basket, g:"]
[null,"Ignition oven AC, %:",{"$f":"IFERROR(100*(C9-C10)/(C9-C11),\"\")","v":""}]
[null,"AC, % :"]
[null,"Nuclear testing gauge number:"]
[null,"Nuclear testing gauge calibration reference number:"]
[null,"Nuclear testing gauge time (hh:mm:ss):"]
[null,"Corrected AC, %:",{"$f":"IF(AND(C12=\"\",ISBLANK(C13)),\"\",IF(AC_METHOD=\"Ignition oven\",ROUND(C12,1)+IF(LEFT($B$2,1)=\"D\",AC_T_COR,AC_C_COR),ROUND(C13,1)))","v":""}]
[null,"Ratio of recycled to total binder:",{"$f":"IFERROR(100*REC_AC/C17,\"\")","v":""}]
[null,"Binder sample received?:"]
[null,"DSR aging ratio:"]
[]
[null,"LAB DETERMINATION OF RICE SPECIFIC GRAVITY Tex-227-F"]
[null," (A) Weight of  dry sample in air, g:"]
[null," (D) Weight of calibrated pyc. with water, g:"]
[null,"(E) Weight of sample, pyc. and water, g:"]
[null,"A/(D+A-E) Rice specific gravity (Gr):",{"$f":"IFERROR(ROUND(C23/(C24+C23-C25),3),\"\")","v":""}]
[null,"(Asd) Weight of surface dry sample in air, g:"]
[null,"A/(D+Asd-E) Rice Specific Gravity (Grc):",{"$f":"IFERROR(ROUND(C23/(C24+C27-C25),3),\"\")","v":""}]
[null,"(Gr-Grc)/Grc Percentage Difference:",{"$f":"IF(C26=\"\",\"\",IF(C28=\"\",\"\",(C26-C28)/C28))","v":""}]
[null,{"$f":"IF(C29>0.003,\"A/(D+Asd-E)\",\"A/(D+A-E)\") & \" Rice Specific Gravity \" & IF(C29>0.003,\"(Grc):\",\"(Gr):\")","v":"A/(D+Asd-E) Rice Specific Gravity (Grc):"},{"$f":"IF(C29>0.003,C28,C26)","v":""}]
[]
[]
[null,"ROAD DETERMINATION OF RICE SPECIFIC GRAVITY Tex-227-F"]
[null," (A) Weight of  dry sample in air, g:"]
[null," (D) Weight of calibrated pyc. with water, g:"]
[null,"(E) Weight of sample, pyc. and water, g:"]
[null,"A/(D+A-E) Rice specific gravity (Gr):",{"$f":"IF(ISERROR(C34/(C35+C34-C36)),\"\",ROUND(C34/(C35+C34-C36),3))","v":""}]
[null,"(Asd) Weight of surface dry sample in air, g:"]
[null,"A/(D+Asd-E) Rice Specific Gravity (Grc):",{"$f":"IFERROR(ROUND(C34/(C35+C38-C36),3),\"\")","v":""}]
[null,"(Gr-Grc)/Grc Percentage Difference:",{"$f":"IF(C37=\"\",\"\",IF(C39=\"\",\"\",(C37-C39)/C39))","v":""}]
[null,{"$f":"IF(C40>0.003,\"A/(D+Asd-E)\",\"A/(D+A-E)\") & \" Rice Specific Gravity \" & IF(C40>0.003,\"(Grc):\",\"(Gr):\")","v":"A/(D+Asd-E) Rice Specific Gravity (Grc):"},{"$f":"IF(C40>0.003,C39,C37)","v":""}]
[]
[]
[null,"PRODUCTION PERFORMANCE PROPERTIES OF BITUMINOUS MIXTURES"]
[null,"Tex-248-F Overlay test number of cycles: "]
[null,"Tex-245-F Cantabro loss content, %:"]
[null,"CRM content, %:"]
[null,"Tex-235-F Binder draindown, %:"]
[null,"Fiber content, %:"]
[null,"Membrane application rate, gal/sy:"]
[null,"Tex 246-F Permeability or Water flow, sec:"]
[null,"Tex 212-F Moisture content, %:"]
[null,"Tex-530-C Boil test estimated percent stripping, %:"]
[null,"Tex-244-F Thermal profile segregation:"]
[null,"Tex 207-F, Part V Mat segregation density profile:"]
[null,"Tex 207-F, Part VII Longitudinal joint density:"]
[]
[]
[null,"ESTIMATED FILM THICKNESS (based on gradation and asphalt content)"]
[null,"Combined bulk specific gravity (Gsb): "]
[null,"Effective specific gravity:",{"$f":"IFERROR((100-C17)/((100/C30)-C17/MIX_GSB),\"\")","v":""}]
[null,"Asphalt absorption, %:",{"$f":"IFERROR((C61-C60)/(C61*C60)*MIX_GSB*100,\"\")","v":""}]
[null,"Effective asphalt content:",{"$f":"IFERROR(C17-(C62*(100-C17))/100,\"\")","v":""}]
[null,"Film thickness, micron:",{"$f":"IFERROR(1000000*(C63/100)/(1-(C63/100))/(INDIRECT(LEFT($B$2,4) & \"_GRAD!Q24\")*MIX_GSB*1000),\"\")","v":""}]
[]
[null,"BACK CALCULATED ASPHALT CONTENT"]
[null,"Back calculated AC, %:",{"$f":"IF(NOT(OR(C17=\"\",IF(LEFT(B2,1)=\"D\",EFFGR_T,EFFGR_C)=\"\")),IFERROR(ROUND((((IF(LEFT(B2,1)=\"D\",EFFGR_T,EFFGR_C)*100)/C26)-100)/((IF(LEFT(B2,1)=\"D\",EFFGR_T,EFFGR_C)/MIX_GSB)-1),1),\"\"),\"\")","v":""}]

{"sheet":"CON2_GRAD","index":37,"n_rows":25,"n_cols":35,"rows_kept":25,"cut":false,"hidden":false,"merged":[[5,1,5,5],[6,11,7,11],[6,12,7,12],[7,7,7,9],[0,1,0,11],[1,1,1,9],[2,1,2,9],[3,1,3,5],[3,11,3,12],[4,1,4,5]]}
[null,{"$f":"header","v":"SAMPLE ID:    ______________________________    SAMPLED DATE: ___________________________\nLOT NUMBER:    _____________________________    LETTING DATE: ___________________________\nSAMPLE STATUS:    __________________________    CONTROLLING CSJ: ________________________\nCOUNTY:    _________________________________    SPEC YEAR: ______________________________\nSAMPLED BY:    __________________________________    SPEC ITEM: ______________________________\nSAMPLE LOCATION:    ________________________    SPECIAL PROVISION: ______________________\nMATERIAL CODE:    __________________________    MIX TYPE: _______________________________\nMATERIAL NAME: __________________________________________________________________\nPRODUCER: _______________________________________________________________________\nAREA ENGINEER:    __________________________    PROJECT MANAGER: _____________________________\nCOURSE\\LIFT:    __________________    STATION: ______________________    DIST. FROM CL: ______\n"}]
[null,{"$f":"LEFT(REPLACE(CELL(\"filename\",A1),1,FIND(\"]\",CELL(\"filename\",A1)),\"\"),4) &  \" GRADATION OF EXTRACTED AGGREGATE: Tex-200-F\"","v":"CON2 GRADATION OF EXTRACTED AGGREGATE: Tex-200-F"}]
[null,{"$f":"\"Method: \" & GRAD_METHOD","v":"Method: "}]
[null,{"$f":"IF(GRAD_METHOD=\"Belt sample\",\"Belt sample original dry weight, g:\",\"Ignited sample original dry weight, g:\")","v":"Ignited sample original dry weight, g:"},null,null,null,null,null,null,null,null,null,"TOLERANCES"]
[null,"Dry weight after washing, g:"]
[null,"Sieve analysis:",null,null,null,null,null,null,null,null,null,"Gradation","RZ"]
[null,null,null,null,{"$f":"IF(LEFT(B2,1)=\"T\",IF(COUNT(DES_IG_CF_T)>0,\"*Adjusted\",\"\"),IF(COUNT(DES_IG_CF_C)>0,\"*Adjusted\",\"\"))","v":""},{"$f":"E7","v":""},{"$f":"F7","v":""},null,null,null,null,"JMF","Current JMF"]
[null,"Sieve Size",{"$f":"IF(G6=\"Cumulative\",\"Cumulative\",\"Individual\") & \" weight retained, g\"","v":"Individual weight retained, g"},{"$f":"IF(G6=\"Cumulative\",\"Individual\",\"Cumulative\") & \" weight retained, g\"","v":"Cumulative weight retained, g"},"Individual percent retained, %","Cumulative percent retained, %","Cumulative percent passing, %",{"$f":"IF(N_TRIAL=\"Yes\",\"JMF cumulative percentage limits\",\"JMF individual retained limits\")","v":"JMF individual retained limits"}]
[null,{"$f":"IFERROR(DESIGN_GRAD!B5,\"\")","v":""},null,{"$f":"IF(ISBLANK(C9),\"\",C9)","v":""},{"$f":"IF(ISERROR(100-G9),\"\",100-G9)","v":""},{"$f":"IF(ISERROR(E9),\"\",E9)","v":""},{"$f":"IF(ISBLANK(C9),\"\",Q9)","v":""},{"$f":"IF(ISBLANK(C9),\"\",DATA_TOL!K4)","v":""},{"$f":"IF(LEN(H9)>0,\"-\",\"\")","v":""},{"$f":"IF(ISBLANK(C9),\"\",DATA_TOL!L4)","v":""},null,{"$f":"IF(AND(LEN(C9)>0,NOT(N_TRIAL=\"Yes\"),IF(MIX_NAME=\"HMA\",FALSE,INDEX(CHK_MGL,MIX_ID))),IF(AND(G9>=$Y$9,G9<=$Z$9,E9>=H9,E9<=J9),1,0),IF(AND(LEN(C9)>0,IF(MIX_NAME=\"HMA\",FALSE,INDEX(CHK_MGL200,MIX_ID)),B9=\"#200\",N_TRIAL=\"Yes\"),IF(AND(G9>=$Y$19,G9<=$Z$19),1,0),IF(AND(LEN(C9)>0,IF(MIX_NAME=\"HMA\",FALSE,INDEX(CHK_MGL200,MIX_ID)),B9=\"#200\"),IF(AND(G9>=$Y$19,G9<=$Z$19,E9>=H9,E9<=J9),1,0),IF(LEN(E9)=0,\"\",IF(N_TRIAL=\"Yes\",IF(AND(G9>=H9,G9<=J9),1,0),IF(AND(E9>=H9,E9<=J9),1,0))))))","v":""},{"$f":"IFERROR(IF(AND(AI9,C9<>\"\"),IF(AND(G9>=DESIGN_GRAD!F5,G9<=DESIGN_GRAD!H5),0,1),\"\"),\"\")","v":""},{"$f":"IF(AND(LEN(C9)>0,NOT(N_TRIAL=\"Yes\")),IF(OR(INDEX(CHK_MGL,MIX_ID),AND(IF(MIX_NAME=\"HMA\",FALSE,INDEX(CHK_MGL200,MIX_ID)),B9=\"#200\")),IF(AND(OR(G9<Y9,G9>Z9),OR(E9<H9,E9>J9)),\"% retained fails JMF target & % passing fails MGL\",IF(OR(G9<Y9,G9>Z9),\"% passing fails MGL\",IF(OR(E9<H9,E9>J9),\"% retained fails JMF target\",\"\"))),IF(OR(E9<H9,E9>J9),\"% retained fails JMF target\",\"\")),\"\")","v":""},null,{"$f":"ROUND(O9+100-IF($G$6=\"Cumulative\",C9,D9)/$C$22*100,1)","v":{"$error":"#VALUE!"}},{"$f":"P9","v":{"$error":"#VALUE!"}},null,{"$f":"INDEX(INDIRECT(MIX_NAME),1,25)","v":{"$error":"#REF!"}},{"$f":"IFERROR(S9*G9/100,\"\")","v":""},null,null,null,null,{"$f":"DESIGN_GRAD!C5","v":""},{"$f":"DESIGN_GRAD!E5","v":""},null,null,null,null,null,null,1,{"$f":"IF(LEN(INDEX(INDIRECT(MIX_NAME),AG9,2))>0,-1,0)","v":{"$error":"#REF!"}},{"$f":"IF(LEN(INDEX(INDIRECT(MIX_NAME),AG9,9))>0,-1,0)","v":{"$error":"#REF!"}}]
[null,{"$f":"IFERROR(DESIGN_GRAD!B6,\"\")","v":""},null,{"$f":"IF(ISBLANK(C10),\"\",IF($G$6=\"Cumulative\",(C10-SUM(D$9:D9)),SUM(C$9:C10)))","v":""},{"$f":"IF(ISERROR(G9-G10),\"\",G9-G10)","v":""},{"$f":"IF(ISERROR(F9+E10),\"\",F9+E10)","v":""},"",{"$f":"IF(ISBLANK(C10),\"\",DATA_TOL!K5)","v":""},"",{"$f":"IF(ISBLANK(C10),\"\",DATA_TOL!L5)","v":""},null,{"$f":"IF(AND(LEN(C10)>0,NOT(N_TRIAL=\"Yes\"),IF(MIX_NAME=\"HMA\",FALSE,INDEX(CHK_MGL,MIX_ID))),IF(AND(G10>=$Y$10,G10<=$Z$10,E10>=H10,E10<=J10),1,0),IF(AND(LEN(C10)>0,IF(MIX_NAME=\"HMA\",FALSE,INDEX(CHK_MGL200,MIX_ID)),B10=\"#200\",N_TRIAL=\"Yes\"),IF(AND(G10>=$Y$19,G10<=$Z$19),1,0),IF(AND(LEN(C10)>0,IF(MIX_NAME=\"HMA\",FALSE,INDEX(CHK_MGL200,MIX_ID)),B10=\"#200\"),IF(AND(G10>=$Y$19,G10<=$Z$19,E10>=H10,E10<=J10),1,0),IF(LEN(E10)=0,\"\",IF(N_TRIAL=\"Yes\",IF(AND(G10>=H10,G10<=J10),1,0),IF(AND(E10>=H10,E10<=J10),1,0))))))","v":""},{"$f":"IFERROR(IF(AND(AI10,C10<>\"\"),IF(AND(G10>=DESIGN_GRAD!F6,G10<=DESIGN_GRAD!H6),0,1),\"\"),\"\")","v":""},"",{"$f":"IF(LEFT($B$2,1)=\"C\",DESIGN_GRAD!P6,DESIGN_GRAD!O6)","v":0},{"$error":"#VALUE!"},{"$f":"MIN(Q9,P10)","v":{"$error":"#VALUE!"}},null,{"$f":"INDEX(INDIRECT(MIX_NAME),2,25)","v":{"$error":"#REF!"}},"",null,null,null,null,{"$f":"DESIGN_GRAD!C6","v":""},{"$f":"DESIGN_GRAD!E6","v":""},null,null,null,null,null,null,2,{"$error":"#REF!"},{"$error":"#REF!"}]
[null,{"$f":"IFERROR(DESIGN_GRAD!B7,\"\")","v":""},null,{"$f":"IF(ISBLANK(C11),\"\",IF($G$6=\"Cumulative\",(C11-SUM(D$9:D10)),SUM(C$9:C11)))","v":""},{"$f":"IF(ISERROR(G10-G11),\"\",G10-G11)","v":""},"","",{"$f":"IF(ISBLANK(C11),\"\",DATA_TOL!K6)","v":""},"",{"$f":"IF(ISBLANK(C11),\"\",DATA_TOL!L6)","v":""},null,{"$f":"IF(AND(LEN(C11)>0,NOT(N_TRIAL=\"Yes\"),IF(MIX_NAME=\"HMA\",FALSE,INDEX(CHK_MGL,MIX_ID))),IF(AND(G11>=$Y$11,G11<=$Z$11,E11>=H11,E11<=J11),1,0),IF(AND(LEN(C11)>0,IF(MIX_NAME=\"HMA\",FALSE,INDEX(CHK_MGL200,MIX_ID)),B11=\"#200\",N_TRIAL=\"Yes\"),IF(AND(G11>=$Y$19,G11<=$Z$19),1,0),IF(AND(LEN(C11)>0,IF(MIX_NAME=\"HMA\",FALSE,INDEX(CHK_MGL200,MIX_ID)),B11=\"#200\"),IF(AND(G11>=$Y$19,G11<=$Z$19,E11>=H11,E11<=J11),1,0),IF(LEN(E11)=0,\"\",IF(N_TRIAL=\"Yes\",IF(AND(G11>=H11,G11<=J11),1,0),IF(AND(E11>=H11,E11<=J11),1,0))))))","v":""},{"$f":"IFERROR(IF(AND(AI11,C11<>\"\"),IF(AND(G11>=DESIGN_GRAD!F7,G11<=DESIGN_GRAD!H7),0,1),\"\"),\"\")","v":""},"",{"$f":"IF(LEFT($B$2,1)=\"C\",DESIGN_GRAD!P7,DESIGN_GRAD!O7)","v":0},{"$error":"#VALUE!"},{"$f":"MIN(Q10,P11)","v":{"$error":"#VALUE!"}},null,{"$f":"INDEX(INDIRECT(MIX_NAME),3,25)","v":{"$error":"#REF!"}},"",null,null,null,null,{"$f":"DESIGN_GRAD!C7","v":""},{"$f":"DESIGN_GRAD!E7","v":""},null,null,null,null,null,null,3,{"$error":"#REF!"},{"$error":"#REF!"}]
[null,{"$f":"IFERROR(DESIGN_GRAD!B8,\"\")","v":""},null,{"$f":"IF(ISBLANK(C12),\"\",IF($G$6=\"Cumulative\",(C12-SUM(D$9:D11)),SUM(C$9:C12)))","v":""},"","","",{"$f":"IF(ISBLANK(C12),\"\",DATA_TOL!K7)","v":""},"",{"$f":"IF(ISBLANK(C12),\"\",DATA_TOL!L7)","v":""},null,{"$f":"IF(AND(LEN(C12)>0,NOT(N_TRIAL=\"Yes\"),IF(MIX_NAME=\"HMA\",FALSE,INDEX(CHK_MGL,MIX_ID))),IF(AND(G12>=$Y$12,G12<=$Z$12,E12>=H12,E12<=J12),1,0),IF(AND(LEN(C12)>0,IF(MIX_NAME=\"HMA\",FALSE,INDEX(CHK_MGL200,MIX_ID)),B12=\"#200\",N_TRIAL=\"Yes\"),IF(AND(G12>=$Y$19,G12<=$Z$19),1,0),IF(AND(LEN(C12)>0,IF(MIX_NAME=\"HMA\",FALSE,INDEX(CHK_MGL200,MIX_ID)),B12=\"#200\"),IF(AND(G12>=$Y$19,G12<=$Z$19,E12>=H12,E12<=J12),1,0),IF(LEN(E12)=0,\"\",IF(N_TRIAL=\"Yes\",IF(AND(G12>=H12,G12<=J12),1,0),IF(AND(E12>=H12,E12<=J12),1,0))))))","v":""},{"$f":"IFERROR(IF(AND(AI12,C12<>\"\"),IF(AND(G12>=DESIGN_GRAD!F8,G12<=DESIGN_GRAD!H8),0,1),\"\"),\"\")","v":""},"",{"$f":"IF(LEFT($B$2,1)=\"C\",DESIGN_GRAD!P8,DESIGN_GRAD!O8)","v":0},{"$error":"#VALUE!"},{"$error":"#VALUE!"},null,{"$f":"INDEX(INDIRECT(MIX_NAME),4,25)","v":{"$error":"#REF!"}},"",null,null,null,null,{"$f":"DESIGN_GRAD!C8","v":""},{"$f":"DESIGN_GRAD!E8","v":""},null,null,null,null,null,null,4,{"$error":"#REF!"},{"$error":"#REF!"}]
[null,{"$f":"IFERROR(DESIGN_GRAD!B9,\"\")","v":""},null,{"$f":"IF(ISBLANK(C13),\"\",IF($G$6=\"Cumulative\",(C13-SUM(D$9:D12)),SUM(C$9:C13)))","v":""},"","","",{"$f":"IF(ISBLANK(C13),\"\",DATA_TOL!K8)","v":""},"",{"$f":"IF(ISBLANK(C13),\"\",DATA_TOL!L8)","v":""},null,{"$f":"IF(AND(LEN(C13)>0,NOT(N_TRIAL=\"Yes\"),IF(MIX_NAME=\"HMA\",FALSE,INDEX(CHK_MGL,MIX_ID))),IF(AND(G13>=$Y$13,G13<=$Z$13,E13>=H13,E13<=J13),1,0),IF(AND(LEN(C13)>0,IF(MIX_NAME=\"HMA\",FALSE,INDEX(CHK_MGL200,MIX_ID)),B13=\"#200\",N_TRIAL=\"Yes\"),IF(AND(G13>=$Y$19,G13<=$Z$19),1,0),IF(AND(LEN(C13)>0,IF(MIX_NAME=\"HMA\",FALSE,INDEX(CHK_MGL200,MIX_ID)),B13=\"#200\"),IF(AND(G13>=$Y$19,G13<=$Z$19,E13>=H13,E13<=J13),1,0),IF(LEN(E13)=0,\"\",IF(N_TRIAL=\"Yes\",IF(AND(G13>=H13,G13<=J13),1,0),IF(AND(E13>=H13,E13<=J13),1,0))))))","v":""},{"$f":"IFERROR(IF(AND(AI13,C13<>\"\"),IF(AND(G13>=DESIGN_GRAD!F9,G13<=DESIGN_GRAD!H9),0,1),\"\"),\"\")","v":""},"",{"$f":"IF(LEFT($B$2,1)=\"C\",DESIGN_GRAD!P9,DESIGN_GRAD!O9)","v":0},{"$error":"#VALUE!"},{"$error":"#VALUE!"},null,{"$f":"INDEX(INDIRECT(MIX_NAME),5,25)","v":{"$error":"#REF!"}},"",null,null,null,null,{"$f":"DESIGN_GRAD!C9","v":""},{"$f":"DESIGN_GRAD!E9","v":""},null,null,null,null,null,null,5,{"$error":"#REF!"},{"$error":"#REF!"}]
[null,{"$f":"IFERROR(DESIGN_GRAD!B10,\"\")","v":""},null,{"$f":"IF(ISBLANK(C14),\"\",IF($G$6=\"Cumulative\",(C14-SUM(D$9:D13)),SUM(C$9:C14)))","v":""},"","","",{"$f":"IF(ISBLANK(C14),\"\",DATA_TOL!K9)","v":""},"",{"$f":"IF(ISBLANK(C14),\"\",DATA_TOL!L9)","v":""},null,{"$f":"IF(AND(LEN(C14)>0,NOT(N_TRIAL=\"Yes\"),IF(MIX_NAME=\"HMA\",FALSE,INDEX(CHK_MGL,MIX_ID))),IF(AND(G14>=$Y$14,G14<=$Z$14,E14>=H14,E14<=J14),1,0),IF(AND(,LEN(C14)>0,IF(MIX_NAME=\"HMA\",FALSE,INDEX(CHK_MGL200,MIX_ID)),B14=\"#200\",N_TRIAL=\"Yes\"),IF(AND(G14>=$Y$19,G14<=$Z$19),1,0),IF(AND(,LEN(C14)>0,IF(MIX_NAME=\"HMA\",FALSE,INDEX(CHK_MGL200,MIX_ID)),B14=\"#200\"),IF(AND(G14>=$Y$19,G14<=$Z$19,E14>=H14,E14<=J14),1,0),IF(LEN(E14)=0,\"\",IF(N_TRIAL=\"Yes\",IF(AND(G14>=H14,G14<=J14),1,0),IF(AND(E14>=H14,E14<=J14),1,0))))))","v":""},{"$f":"IFERROR(IF(AND(AI14,C14<>\"\"),IF(AND(G14>=DESIGN_GRAD!F10,G14<=DESIGN_GRAD!H10),0,1),\"\"),\"\")","v":""},"",{"$f":"IF(LEFT($B$2,1)=\"C\",DESIGN_GRAD!P10,DESIGN_GRAD!O10)","v":0},{"$error":"#VALUE!"},{"$error":"#VALUE!"},null,{"$f":"INDEX(INDIRECT(MIX_NAME),6,25)","v":{"$error":"#REF!"}},"",null,null,null,null,{"$f":"DESIGN_GRAD!C10","v":""},{"$f":"DESIGN_GRAD!E10","v":""},null,null,null,null,null,null,6,{"$error":"#REF!"},{"$error":"#REF!"}]
[null,{"$f":"IFERROR(DESIGN_GRAD!B11,\"\")","v":""},null,{"$f":"IF(ISBLANK(C15),\"\",IF($G$6=\"Cumulative\",(C15-SUM(D$9:D14)),SUM(C$9:C15)))","v":""},"","","",{"$f":"IF(ISBLANK(C15),\"\",DATA_TOL!K10)","v":""},"",{"$f":"IF(ISBLANK(C15),\"\",DATA_TOL!L10)","v":""},null,{"$f":"IF(AND(LEN(C15)>0,NOT(N_TRIAL=\"Yes\"),IF(MIX_NAME=\"HMA\",FALSE,INDEX(CHK_MGL,MIX_ID))),IF(AND(G15>=$Y$15,G15<=$Z$15,E15>=H15,E15<=J15),1,0),IF(AND(LEN(C15)>0,IF(MIX_NAME=\"HMA\",FALSE,INDEX(CHK_MGL200,MIX_ID)),B15=\"#200\",N_TRIAL=\"Yes\"),IF(AND(G15>=$Y$19,G15<=$Z$19),1,0),IF(AND(LEN(C15)>0,IF(MIX_NAME=\"HMA\",FALSE,INDEX(CHK_MGL200,MIX_ID)),B15=\"#200\"),IF(AND(G15>=$Y$19,G15<=$Z$19,E15>=H15,E15<=J15),1,0),IF(LEN(E15)=0,\"\",IF(N_TRIAL=\"Yes\",IF(AND(G15>=H15,G15<=J15),1,0),IF(AND(E15>=H15,E15<=J15),1,0))))))","v":""},{"$f":"IFERROR(IF(AND(AI15,C15<>\"\"),IF(AND(G15>=DESIGN_GRAD!F11,G15<=DESIGN_GRAD!H11),0,1),\"\"),\"\")","v":""},"",{"$f":"IF(LEFT($B$2,1)=\"C\",DESIGN_GRAD!P11,DESIGN_GRAD!O11)","v":0},{"$error":"#VALUE!"},{"$error":"#VALUE!"},null,{"$f":"INDEX(INDIRECT(MIX_NAME),7,25)","v":{"$error":"#REF!"}},"",null,null,null,null,{"$f":"DESIGN_GRAD!C11","v":""},{"$f":"DESIGN_GRAD!E11","v":""},null,null,null,null,null,null,7,{"$error":"#REF!"},{"$error":"#REF!"}]
[null,{"$f":"IFERROR(DESIGN_GRAD!B12,\"\")","v":""},null,{"$f":"IF(ISBLANK(C16),\"\",IF($G$6=\"Cumulative\",(C16-SUM(D$9:D15)),SUM(C$9:C16)))","v":""},"","","",{"$f":"IF(ISBLANK(C16),\"\",DATA_TOL!K11)","v":""},"",{"$f":"IF(ISBLANK(C16),\"\",DATA_TOL!L11)","v":""},null,{"$f":"IF(AND(LEN(C16)>0,NOT(N_TRIAL=\"Yes\"),IF(MIX_NAME=\"HMA\",FALSE,INDEX(CHK_MGL,MIX_ID))),IF(AND(G16>=$Y$16,G16<=$Z$16,E16>=H16,E16<=J16),1,0),IF(AND(LEN(C16)>0,IF(MIX_NAME=\"HMA\",FALSE,INDEX(CHK_MGL200,MIX_ID)),B16=\"#200\",N_TRIAL=\"Yes\"),IF(AND(G16>=$Y$19,G16<=$Z$19),1,0),IF(AND(LEN(C16)>0,IF(MIX_NAME=\"HMA\",FALSE,INDEX(CHK_MGL200,MIX_ID)),B16=\"#200\"),IF(AND(G16>=$Y$19,G16<=$Z$19,E16>=H16,E16<=J16),1,0),IF(LEN(E16)=0,\"\",IF(N_TRIAL=\"Yes\",IF(AND(G16>=H16,G16<=J16),1,0),IF(AND(E16>=H16,E16<=J16),1,0))))))","v":""},{"$f":"IFERROR(IF(AND(AI16,C16<>\"\"),IF(AND(G16>=DESIGN_GRAD!F12,G16<=DESIGN_GRAD!H12),0,1),\"\"),\"\")","v":""},"",{"$f":"IF(LEFT($B$2,1)=\"C\",DESIGN_GRAD!P12,DESIGN_GRAD!O12)","v":0},{"$error":"#VALUE!"},{"$error":"#VALUE!"},null,{"$f":"INDEX(INDIRECT(MIX_NAME),8,25)","v":{"$error":"#REF!"}},"",null,null,null,null,{"$f":"DESIGN_GRAD!C12","v":""},{"$f":"DESIGN_GRAD!E12","v":""},null,null,null,null,null,null,8,{"$error":"#REF!"},{"$error":"#REF!"}]
[null,{"$f":"IFERROR(DESIGN_GRAD!B13,\"\")","v":""},null,{"$f":"IF(C17=\"\",\"\",IF($G$6=\"Cumulative\",(C17-SUM(D$9:D16)),SUM(C$9:C17)))","v":""},"","","",{"$f":"IF(ISBLANK(C17),\"\",DATA_TOL!K12)","v":""},"",{"$f":"IF(ISBLANK(C17),\"\",DATA_TOL!L12)","v":""},null,{"$f":"IF(AND(LEN(C17)>0,NOT(N_TRIAL=\"Yes\"),IF(MIX_NAME=\"HMA\",FALSE,INDEX(CHK_MGL,MIX_ID))),IF(AND(G17>=$Y$17,G17<=$Z$17,E17>=H17,E17<=J17),1,0),IF(AND(LEN(C17)>0,IF(MIX_NAME=\"HMA\",FALSE,INDEX(CHK_MGL200,MIX_ID)),B17=\"#200\",N_TRIAL=\"Yes\"),IF(AND(G17>=$Y$19,G17<=$Z$19),1,0),IF(AND(LEN(C17)>0,IF(MIX_NAME=\"HMA\",FALSE,INDEX(CHK_MGL200,MIX_ID)),B17=\"#200\"),IF(AND(G17>=$Y$19,G17<=$Z$19,E17>=H17,E17<=J17),1,0),IF(LEN(E17)=0,\"\",IF(N_TRIAL=\"Yes\",IF(AND(G17>=H17,G17<=J17),1,0),IF(AND(E17>=H17,E17<=J17),1,0))))))","v":""},{"$f":"IFERROR(IF(AND(AI17,C17<>\"\"),IF(AND(G17>=DESIGN_GRAD!F13,G17<=DESIGN_GRAD!H13),0,1),\"\"),\"\")","v":""},"",{"$f":"IF(LEFT($B$2,1)=\"C\",DESIGN_GRAD!P13,DESIGN_GRAD!O13)","v":0},{"$error":"#VALUE!"},{"$error":"#VALUE!"},null,{"$f":"INDEX(INDIRECT(MIX_NAME),9,25)","v":{"$error":"#REF!"}},"",null,null,null,null,{"$f":"DESIGN_GRAD!C13","v":""},{"$f":"DESIGN_GRAD!E13","v":""},null,null,null,null,null,null,9,{"$error":"#REF!"},{"$error":"#REF!"}]
[null,{"$f":"IFERROR(DESIGN_GRAD!B14,\"\")","v":""},null,{"$f":"IF(C18=\"\",\"\",IF($G$6=\"Cumulative\",(C18-SUM(D$9:D17)),SUM(C$9:C18)))","v":""},"","","",{"$f":"IF(ISBLANK(C18),\"\",DATA_TOL!K13)","v":""},"",{"$f":"IF(ISBLANK(C18),\"\",DATA_TOL!L13)","v":""},null,{"$f":"IF(AND(LEN(C18)>0,NOT(N_TRIAL=\"Yes\"),IF(MIX_NAME=\"HMA\",FALSE,INDEX(CHK_MGL,MIX_ID))),IF(AND(G18>=$Y$18,G18<=$Z$18,E18>=H18,E18<=J18),1,0),IF(AND(LEN(C18)>0,IF(MIX_NAME=\"HMA\",FALSE,INDEX(CHK_MGL200,MIX_ID)),B18=\"#200\",N_TRIAL=\"Yes\"),IF(AND(G18>=$Y$19,G18<=$Z$19),1,0),IF(AND(LEN(C18)>0,IF(MIX_NAME=\"HMA\",FALSE,INDEX(CHK_MGL200,MIX_ID)),B18=\"#200\"),IF(AND(G18>=$Y$19,G18<=$Z$19,E18>=H18,E18<=J18),1,0),IF(LEN(E18)=0,\"\",IF(N_TRIAL=\"Yes\",IF(AND(G18>=H18,G18<=J18),1,0),IF(AND(E18>=H18,E18<=J18),1,0))))))","v":""},{"$f":"IFERROR(IF(AND(AI18,C18<>\"\"),IF(AND(G18>=DESIGN_GRAD!F14,G18<=DESIGN_GRAD!H14),0,1),\"\"),\"\")","v":""},"",{"$f":"IF(LEFT($B$2,1)=\"C\",DESIGN_GRAD!P14,DESIGN_GRAD!O14)","v":0},{"$error":"#VALUE!"},{"$error":"#VALUE!"},null,{"$f":"INDEX(INDIRECT(MIX_NAME),10,25)","v":{"$error":"#REF!"}},"",null,null,null,null,{"$f":"DESIGN_GRAD!C14","v":""},{"$f":"DESIGN_GRAD!E14","v":""},null,null,null,null,null,null,10,{"$error":"#REF!"},{"$error":"#REF!"}]
[null,"- #200",null,null,null,null,null,null,null,null,null,null,null,null,null,null,null,"#16",null,null,1.18,{"$f":"VLOOKUP(\"#16\",$B$9:$G$18,6,0)","v":{"$error":"#N/A"}},{"$f":"LOG(U19)","v":7.1882007306125359E-2},{"$error":"#N/A"},{"$f":"MIN(Y9:Y18)","v":0},{"$f":"MIN(Z9:Z18)","v":0}]
[null,null,{"$f":"IF(G4>0,G4-IF(G6=\"Cumulative\",LARGE(C9:C19,1),SUM(C9:C19)),IF(SUM(C9:C19)=0,\"\",0))","v":""},{"$f":"IF(G4<>\"\",IF(G5<>\"\",\"Wash Loss\" & IF(C23>0,\" - \",\" + \"),\"\")&IF(C23>0,\"Sieving Gain (g)\",IF(C23<0,\"Sieving Loss (g)\",\"\")),\"\")","v":""},null,null,null,null,null,null,null,null,null,null,null,null,null,"#50",null,null,0.3,{"$f":"VLOOKUP(\"#50\",$B$9:$G$18,6,0)","v":{"$error":"#N/A"}},-0.52287874528033762,{"$error":"#N/A"}]
[null,"Total - #200",{"$f":"IF(ISERROR(IF(G6=\"Cumulative\",LARGE(C9:C19,1),C19)+C20),\"\",IF(G6=\"Cumulative\",LARGE(C9:C19,1),C19)+C20)","v":""},{"$f":"IF(ISBLANK(C19),\"\",IF(G6=\"Cumulative\",(C21-SUM(D$9:D18)),SUM(C$9:C18,C21)))","v":""},{"$f":"IF(ISERROR(OFFSET(G19,-COUNTBLANK(B9:B18)-1,0)-G21),\"\",OFFSET(G19,-COUNTBLANK(B9:B18)-1,0)-G21)","v":""},{"$f":"IF(ISERROR(OFFSET(F19,-COUNTBLANK(B9:B18)-1,0)+E21),\"\",OFFSET(F19,-COUNTBLANK(B9:B18)-1,0)+E21)","v":""},{"$f":"IF(ISERROR(100-IF(G6=\"Cumulative\",C21/C22*100,D21/C22*100)),\"\",ROUND(100-IF(G6=\"Cumulative\",C21/C22*100,D21/C22*100),1))","v":""},{"$f":"IF(C21=\"\",\"\",DATA_TOL!K14)","v":""},{"$f":"IF(LEN(H21)>0,\"-\",\"\")","v":""},{"$f":"IF(C21=\"\",\"\",DATA_TOL!L14)","v":""},null,{"$f":"IF(LEN(E21)=0,\"\",IF(N_TRIAL=\"Yes\",IF(AND(G21>=H21,G21<=J21),1,0),IF(AND(E21>=H21,E21<=J21),1,0)))","v":""},null,{"$f":"IF(AND(LEN(C21)>0,NOT(LEN(E21)=0),NOT(N_TRIAL=\"Yes\")),IF(OR(E21<H21,E21>J21),\"% passing #200 fails JMF target\",\"\"),\"\")","v":""},null,null,null,"#200",null,null,7.4999999999999997E-2,{"$f":"VLOOKUP(\"#200\",$B$9:$G$18,6,0)","v":{"$error":"#N/A"}},-1.1249387366082999,{"$error":"#N/A"}]
[null,"Total weight, g",{"$f":"IF(ISERROR(IF(G6=\"Cumulative\",C21,SUM(C9:C18)+C21)),\"\",IF(G6=\"Cumulative\",C21,SUM(C9:C18)+C21))","v":""},null,null,null,null,null,null,null,null,null,null,null,null,null,null,"#30",2.87,{"$f":"S22*V22/100","v":{"$error":"#N/A"}},0.6,{"$f":"10^X22","v":{"$error":"#N/A"}},{"$f":"LOG(U22)","v":-0.22184874961635639},{"$f":"FORECAST(W22,X19:X20,W19:W20)","v":{"$error":"#N/A"}}]
[null,null,{"$f":"IF(G5<>\"\",IF(G6=\"Cumulative\",IF(ISERROR(LARGE(C9:C19,1)),0,LARGE(C9:C19,1)),SUM(C9:C19))-G5,IF(G4<>\"\",IF(G6=\"Cumulative\",IF(ISERROR(LARGE(C9:C19,1)),0,LARGE(C9:C19,1)),SUM(C9:C19))-G4,IF(B23<>\"\",IF(G6=\"Cumulative\",IF(ISERROR(LARGE(C9:C19,1)),0,LARGE(C9:C19,1)),SUM(C9:C19))-B23,\"\")))","v":""},{"$f":"IF(AND(C22<>\"\",C23<>\"\"),IF(C25>0.2,\"Discrepancy too large - rerun analysis\",\"Sieving \" & IF(C23>0, \"Gain\", \"Loss\") & \" (g), from \" & IF(G5<>\"\", \"dry weight after washing\", \"original dry sample\")),\"\")","v":""},null,null,null,null,null,null,null,null,null,null,null,null,null,"#100",12.29,{"$f":"S23*V23/100","v":{"$error":"#N/A"}},0.15,{"$f":"10^X23","v":{"$error":"#N/A"}},{"$f":"LOG(U23)","v":-0.82390874094431876},{"$f":"FORECAST(W23,X20:X21,W20:W21)","v":{"$error":"#N/A"}}]
[null,null,null,null,null,null,null,null,null,null,null,null,null,null,null,null,null,null,null,{"$f":"SUM(T9:T18)+T22+T23","v":{"$error":"#N/A"}}]
[null,null,{"$f":"ABS(100*C23/C22)","v":{"$error":"#VALUE!"}}]

{"sheet":"CON2_DENSITY","index":38,"n_rows":37,"n_cols":13,"rows_kept":37,"cut":false,"hidden":false,"merged":[[34,2,34,4],[34,5,34,6],[35,2,35,4],[35,5,35,6],[36,2,36,4],[36,5,36,6],[33,2,33,4],[33,5,33,6],[0,1,0,8],[1,1,1,6],[2,2,2,4],[2,5,2,6],[15,1,15,6],[24,1,24,6],[30,1,30,6],[31,2,31,4],[31,5,31,6],[32,2,32,4],[32,5,32,6]]}
[null,{"$f":"header","v":"SAMPLE ID:    ______________________________    SAMPLED DATE: ___________________________\nLOT NUMBER:    _____________________________    LETTING DATE: ___________________________\nSAMPLE STATUS:    __________________________    CONTROLLING CSJ: ________________________\nCOUNTY:    _________________________________    SPEC YEAR: ______________________________\nSAMPLED BY:    __________________________________    SPEC ITEM: ______________________________\nSAMPLE LOCATION:    ________________________    SPECIAL PROVISION: ______________________\nMATERIAL CODE:    __________________________    MIX TYPE: _______________________________\nMATERIAL NAME: __________________________________________________________________\nPRODUCER: _______________________________________________________________________\nAREA ENGINEER:    __________________________    PROJECT MANAGER: _____________________________\nCOURSE\\LIFT:    __________________    STATION: ______________________    DIST. FROM CL: ______\n"}]
[null,{"$f":"LEFT(REPLACE(CELL(\"filename\",A1),1,FIND(\"]\",CELL(\"filename\",A1)),\"\"),4) &  \" DETERMINING PROPERTIES OF BITUMINOUS MIXTURES-Tex-207-F\"","v":"CON2 DETERMINING PROPERTIES OF BITUMINOUS MIXTURES-Tex-207-F"}]
[null,"Specimen type:","Laboratory",null,null,"Roadway"]
[null,"Specimen number:","1(1)","1(2)","1(3)","1(A)","1(B)"]
[null,"Note to developer - hide this row Specimen radius, mm:"]
[null,{"$f":"IF(DESIGN_GE,\"Specimen height, mm:\",\"Untrimmed specimen/Core height, in:\")","v":{"$error":"#N/A"}}]
[null,"Trimmed core height, in:"]
[null,"Weight of specimen in air, g:"]
[null,"Weight of specimen in water, g:"]
[null,"SSD weight of specimen in air, g:"]
[null,"Volume of specimen:",{"$f":"IF(AND(ISBLANK(C10),ISBLANK(C9)),\"\",C10-C9)","v":""},{"$f":"IF(AND(ISBLANK(D10),ISBLANK(D9)),\"\",D10-D9)","v":""},{"$f":"IF(AND(ISBLANK(E10),ISBLANK(E9)),\"\",E10-E9)","v":""},{"$f":"IF(AND(ISBLANK(F10),ISBLANK(F9)),\"\",F10-F9)","v":""},{"$f":"IF(AND(ISBLANK(G10),ISBLANK(G9)),\"\",G10-G9)","v":""}]
[null,"Note to developer - hide this row SSD Density:",{"$f":"IFERROR(C8/C11,\"\")","v":""},{"$f":"IFERROR(D8/D11,\"\")","v":""},{"$f":"IFERROR(E8/E11,\"\")","v":""},{"$f":"IFERROR(F8/F11,\"\")","v":""},{"$f":"IFERROR(G8/G11,\"\")","v":""}]
[null,"Percent absorption, %:",{"$f":"IFERROR(ROUND(100*((C10-C8)/(C10-C9)),1),\"\")","v":""},{"$f":"IFERROR(ROUND(100*((D10-D8)/(D10-D9)),1),\"\")","v":""},{"$f":"IFERROR(ROUND(100*((E10-E8)/(E10-E9)),1),\"\")","v":""},{"$f":"IFERROR(ROUND(100*((F10-F8)/(F10-F9)),1),\"\")","v":""},{"$f":"IFERROR(ROUND(100*((G10-G8)/(G10-G9)),1),\"\")","v":""}]
[null,"Bag required for Ga:",{"$f":"IF(ISNUMBER(C13),IF(C13>2,\"Yes\",\"No\"),\"\")","v":""},{"$f":"IF(ISNUMBER(D13),IF(D13>2,\"Yes\",\"No\"),\"\")","v":""},{"$f":"IF(ISNUMBER(E13),IF(E13>2,\"Yes\",\"No\"),\"\")","v":""},{"$f":"IF(ISNUMBER(F13),IF(F13>2,\"Yes\",\"No\"),\"\")","v":""},{"$f":"IF(ISNUMBER(G13),IF(G13>2,\"Yes\",\"No\"),\"\")","v":""}]
[null,"Bag Used for Ga:"]
[null,"Vacuum bag inputs"]
[null,"Vacuum bag method used:"]
[null,"Weight of specimen in air, g:"]
[null,"Sealed weight of specimen in water, g:",null,null,null,null,null,null,{"$f":"IF(OR(ISBLANK(C20),ISBLANK(C18)),\"\",IF(ABS(C20-C18)>5,-1,0))","v":""},{"$f":"IF(OR(ISBLANK(D20),ISBLANK(D18)),\"\",IF(ABS(D20-D18)>5,-1,0))","v":""},{"$f":"IF(OR(ISBLANK(E20),ISBLANK(E18)),\"\",IF(ABS(E20-E18)>5,-1,0))","v":""},{"$f":"IF(OR(ISBLANK(F20),ISBLANK(F18)),\"\",IF(ABS(F20-F18)>5,-1,0))","v":""},{"$f":"IF(OR(ISBLANK(G20),ISBLANK(G18)),\"\",IF(ABS(G20-G18)>5,-1,0))","v":""}]
[null,"Dry specimen weight after submersion, g:",null,null,null,null,null,null,{"$f":"IFERROR(IF(OR(I19:M19),\"> 5g. Repeat test, a leak may have occurred.\",\"\"),\"\")","v":""}]
[null,"Weight of vacuum bag(s), g:"]
[null,"Vacuum bag volume correction factor:",{"$f":"IFERROR(IF(LEFT(C17,1)=\"L\",-0.00166*(C18/C21)+0.8596,IF(LEFT(C17,1)=\"S\",-0.000566*(C18/C21)+0.8121,IF(LEFT(C17,1)=\"D\",-0.0022448*(C18/C21)+0.85818,\"\"))),\"\")","v":""},{"$f":"IFERROR(IF(LEFT(D17,1)=\"L\",-0.00166*(D18/D21)+0.8596,IF(LEFT(D17,1)=\"S\",-0.000566*(D18/D21)+0.8121,IF(LEFT(D17,1)=\"D\",-0.0022448*(D18/D21)+0.85818,\"\"))),\"\")","v":""},{"$f":"IFERROR(IF(LEFT(E17,1)=\"L\",-0.00166*(E18/E21)+0.8596,IF(LEFT(E17,1)=\"S\",-0.000566*(E18/E21)+0.8121,IF(LEFT(E17,1)=\"D\",-0.0022448*(E18/E21)+0.85818,\"\"))),\"\")","v":""},{"$f":"IFERROR(IF(LEFT(F17,1)=\"L\",-0.00166*(F18/F21)+0.8596,IF(LEFT(F17,1)=\"S\",-0.000566*(F18/F21)+0.8121,IF(LEFT(F17,1)=\"D\",-0.0022448*(F18/F21)+0.85818,\"\"))),\"\")","v":""},{"$f":"IFERROR(IF(LEFT(G17,1)=\"L\",-0.00166*(G18/G21)+0.8596,IF(LEFT(G17,1)=\"S\",-0.000566*(G18/G21)+0.8121,IF(LEFT(G17,1)=\"D\",-0.0022448*(G18/G21)+0.85818,\"\"))),\"\")","v":""}]
[null,"Vacuum bag density:",{"$f":"IFERROR(C18/(C21+C18-C19-(C21/C22)),\"\")","v":""},{"$f":"IFERROR(D18/(D21+D18-D19-(D21/D22)),\"\")","v":""},{"$f":"IFERROR(E18/(E21+E18-E19-(E21/E22)),\"\")","v":""},{"$f":"IFERROR(F18/(F21+F18-F19-(F21/F22)),\"\")","v":""},{"$f":"IFERROR(G18/(G21+G18-G19-(G21/G22)),\"\")","v":""}]
[null,"Note to developer - hide this row",{"$f":"IF(LEFT($B$2,1)=\"D\",PRESS_T,PRESS_C)+IF(INDEX(CHK_GE,MIX_ID),IF(ISERROR(C8*1000/(3.14*75^2*C6)),\"\",C8*1000/(3.14*75^2*C6)),IF(C15<>\"Yes\",IF(ISERROR(C12),\"\",ROUND(C12,3)),IF(ISERROR(MIN(C12,C23)),\"\",ROUND(MIN(C12,C23),3))))","v":{"$error":"#N/A"}},{"$f":"IF(LEFT($B$2,1)=\"D\",PRESS_T,PRESS_C)+IF(INDEX(CHK_GE,MIX_ID),IF(ISERROR(D8*1000/(3.14*75^2*D6)),\"\",D8*1000/(3.14*75^2*D6)),IF(D15<>\"Yes\",IF(ISERROR(D12),\"\",ROUND(D12,3)),IF(ISERROR(MIN(D12,D23)),\"\",ROUND(MIN(D12,D23),3))))","v":{"$error":"#N/A"}},{"$f":"IF(LEFT($B$2,1)=\"D\",PRESS_T,PRESS_C)+IF(INDEX(CHK_GE,MIX_ID),IF(ISERROR(E8*1000/(3.14*75^2*E6)),\"\",E8*1000/(3.14*75^2*E6)),IF(E15<>\"Yes\",IF(ISERROR(E12),\"\",ROUND(E12,3)),IF(ISERROR(MIN(E12,E23)),\"\",ROUND(MIN(E12,E23),3))))","v":{"$error":"#N/A"}},{"$f":"IF(INDEX(CHK_GE,MIX_ID),IF(ISERROR(F8*1000/(3.14*F5^2*F6)),\"\",F8*1000/(3.14*F5^2*F6)),IF(F15<>\"Yes\",IF(ISERROR(F12),\"\",ROUND(F12,3)),IF(ISERROR(MIN(F12,F23)),\"\",ROUND(MIN(F12,F23),3))))","v":{"$error":"#N/A"}},{"$f":"IF(INDEX(CHK_GE,MIX_ID),IF(ISERROR(G8*1000/(3.14*G5^2*G6)),\"\",G8*1000/(3.14*G5^2*G6)),IF(G15<>\"Yes\",IF(ISERROR(G12),\"\",ROUND(G12,3)),IF(ISERROR(MIN(G12,G23)),\"\",ROUND(MIN(G12,G23),3))))","v":{"$error":"#N/A"}}]
[null,"Volumetric properties"]
[null,"Bulk specific gravity, Ga:",{"$f":"IFERROR(ROUND(C24,3),\"\")","v":""},{"$f":"IFERROR(ROUND(D24,3),\"\")","v":""},{"$f":"IFERROR(ROUND(E24,3),\"\")","v":""},{"$f":"IFERROR(ROUND(F24,3),\"\")","v":""},{"$f":"IFERROR(ROUND(G24,3),\"\")","v":""}]
[null,"Percent density, %:",{"$f":"IFERROR(ROUND(100*C26/$C$33,1),\"\")","v":""},{"$f":"IFERROR(ROUND(100*D26/$C$33,1),\"\")","v":""},{"$f":"IFERROR(ROUND(100*E26/$C$33,1),\"\")","v":""},{"$f":"IFERROR(ROUND(100*F26/$F$33,1),\"\")","v":""},{"$f":"IFERROR(ROUND(100*G26/$F$33,1),\"\")","v":""}]
[null,"Percent air voids, %:",{"$f":"IFERROR(ROUND(100-C27,1),\"\")","v":""},{"$f":"IFERROR(ROUND(100-D27,1),\"\")","v":""},{"$f":"IFERROR(ROUND(100-E27,1),\"\")","v":""},{"$f":"IFERROR(ROUND(100-F27,1),\"\")","v":""},{"$f":"IFERROR(ROUND(100-G27,1),\"\")","v":""}]
[null,"Percent VMA, %:",{"$f":"IFERROR(ROUND(100-(100*(C26/INDIRECT(LEFT($B$2,4) & \"_PROD!$C$30\")))+((C26*$C$32)/MIX_GSB),1),\"\")","v":""},{"$f":"IFERROR(ROUND(100-(100*(D26/INDIRECT(LEFT($B$2,4) & \"_PROD!$C$30\")))+((D26*$C$32)/MIX_GSB),1),\"\")","v":""},{"$f":"IFERROR(ROUND(100-(100*(E26/INDIRECT(LEFT($B$2,4) & \"_PROD!$C$30\")))+((E26*$C$32)/MIX_GSB),1),\"\")","v":""},{"$f":"IFERROR(ROUND(100-(100*(F26/INDIRECT(LEFT($B$2,4) & \"_PROD!$C$30\")))+((F26*$F$32)/MIX_GSB),1),\"\")","v":""},{"$f":"IFERROR(ROUND(100-(100*(G26/INDIRECT(LEFT($B$2,4) & \"_PROD!$C$30\")))+((G26*$F$32)/MIX_GSB),1),\"\")","v":""}]
[]
[null,"MEAN VOLUMETRIC PROPERTIES"]
[null,{"$f":"IF(AND(LEFT($B$2,1)=\"D\",INDIRECT(LEFT($B$2,4) & \"_PROD!C17\")=\"\",INDIRECT(SUBSTITUTE(LEFT($B$2,4),\"DOT\",\"CON\") & \"_PROD!C17\")<>\"\"),\"Contractor's asphalt content, %:\",\"Asphalt content, %:\")","v":"Asphalt content, %:"},{"$f":"IFERROR(IF(AND(LEFT($B$2,1)=\"D\",INDIRECT(LEFT($B$2,4) & \"_PROD!C17\")=\"\",INDIRECT(SUBSTITUTE(LEFT($B$2,4),\"DOT\",\"CON\") & \"_PROD!C17\")<>\"\"),ROUND(INDIRECT(SUBSTITUTE(LEFT($B$2,4),\"DOT\",\"CON\") & \"_PROD!C17\"),1),ROUND(INDIRECT(LEFT($B$2,4) & \"_PROD!C17\"),1)),\"\")","v":""},null,null,{"$f":"IFERROR(IF(AND(LEFT($B$2,1)=\"D\",INDIRECT(LEFT($B$2,4) & \"_PROD!C17\")=\"\",INDIRECT(SUBSTITUTE(LEFT($B$2,4),\"DOT\",\"CON\") & \"_PROD!C17\")<>\"\"),ROUND(INDIRECT(SUBSTITUTE(LEFT($B$2,4),\"DOT\",\"CON\") & \"_PROD!C17\"),1),ROUND(INDIRECT(LEFT($B$2,4) & \"_PROD!C17\"),1)),\"\")","v":""}]
[null,{"$f":"IF(AND(INDIRECT(LEFT($B$2,4) & \"_PROD!C27\")<>\"\",INDIRECT(LEFT($B$2,4) & \"_PROD!C27\")>0.01),\"Corrected Rice specific gravity, Grc:\",\"Rice specific gravity, Gr:\")","v":"Rice specific gravity, Gr:"},{"$f":"IFERROR(ROUND(IF(DESIGN_GE,100/((100-C32)/MIX_GMB+(C32/MIX_GSB)),INDIRECT(LEFT($B$2,4) & \"_PROD!C30\")),3),\"\")","v":""},null,null,{"$f":"IF(LEFT($B$2,1)=\"D\",IFERROR(ROUND(AVERAGE(INDIRECT(\"DOT1_PROD!C30\"),INDIRECT(\"DOT2_PROD!C30\"),INDIRECT(\"DOT3_PROD!C30\"),INDIRECT(\"DOT4_PROD!C30\")),3),\"\"),IFERROR(ROUND(AVERAGE(INDIRECT(\"CON1_PROD!C30\"),INDIRECT(\"CON2_PROD!C30\"),INDIRECT(\"CON3_PROD!C30\"),INDIRECT(\"CON4_PROD!C30\")),3),\"\"))","v":""}]
[null,"Percent density, %:",{"$f":"IFERROR(ROUND(AVERAGE(C27:E27),1),\"\")","v":""},null,null,{"$f":"IFERROR(ROUND(AVERAGE(F27:G27),1),\"\")","v":""}]
[null,"Actual specific gravity:",{"$f":"IFERROR(ROUND(AVERAGE(C26:E26),3),\"\")","v":""},null,null,{"$f":"IFERROR(ROUND(AVERAGE(F26:G26),3),\"\")","v":""}]
[null,"Percent air voids, %:",{"$f":"IFERROR(ROUND(AVERAGE(C28:E28),1),\"\")","v":""},null,null,{"$f":"IFERROR(ROUND(AVERAGE(F28:G28),1),\"\")","v":""}]
[null,"Percent VMA, %:",{"$f":"IFERROR(ROUND(AVERAGE(C29:E29),1),\"\")","v":""},null,null,{"$f":"IFERROR(ROUND(AVERAGE(F29:G29),1),\"\")","v":""}]

{"sheet":"CON3_PROD","index":39,"n_rows":67,"n_cols":3,"rows_kept":67,"cut":false,"hidden":false,"merged":[[43,1,43,2],[58,1,58,2],[65,1,65,2],[0,1,0,2],[1,1,1,2],[6,1,6,2],[7,1,7,2],[21,1,21,2],[32,1,32,2]]}
[null,{"$f":"header","v":"SAMPLE ID:    ______________________________    SAMPLED DATE: ___________________________\nLOT NUMBER:    _____________________________    LETTING DATE: ___________________________\nSAMPLE STATUS:    __________________________    CONTROLLING CSJ: ________________________\nCOUNTY:    _________________________________    SPEC YEAR: ______________________________\nSAMPLED BY:    __________________________________    SPEC ITEM: ______________________________\nSAMPLE LOCATION:    ________________________    SPECIAL PROVISION: ______________________\nMATERIAL CODE:    __________________________    MIX TYPE: _______________________________\nMATERIAL NAME: __________________________________________________________________\nPRODUCER: _______________________________________________________________________\nAREA ENGINEER:    __________________________    PROJECT MANAGER: _____________________________\nCOURSE\\LIFT:    __________________    STATION: ______________________    DIST. FROM CL: ______\n"}]
[null,{"$f":"LEFT(REPLACE(CELL(\"filename\",A1),1,FIND(\"]\",CELL(\"filename\",A1)),\"\"),4) & \" PRODUCTION DATA\"","v":"CON3 PRODUCTION DATA"}]
[null,"Sublot sample date:",{"$f":"IFERROR(IF(LEN(INDIRECT(\"DATE_\"&LEFT($B$2,4)))>0,INDIRECT(\"DATE_\"&LEFT($B$2,4)),\"\"),\"\")","v":""}]
[null,"Sublot location, Tons:",{"$f":"IFERROR(INDIRECT(\"SLOC_\"&LEFT($B$2,4)),\"\")","v":""}]
[null,"Production location, Tons:",{"$f":"IFERROR(INDIRECT(\"PLOC_\"&LEFT($B$2,4)),\"\")","v":""}]
[]
[null,"DETERMINATION OF ASPHALT CONTENT"]
[null,{"$f":"\"Method: \" & AC_METHOD","v":"Method: "}]
[null,"Weight of sample and basket before ignition, g:"]
[null,"Weight of sample and basket after ignition, g:"]
[null,"Weight of basket, g:"]
[null,"Ignition oven AC, %:",{"$f":"IFERROR(100*(C9-C10)/(C9-C11),\"\")","v":""}]
[null,"AC, % :"]
[null,"Nuclear testing gauge number:"]
[null,"Nuclear testing gauge calibration reference number:"]
[null,"Nuclear testing gauge time (hh:mm:ss):"]
[null,"Corrected AC, %:",{"$f":"IF(AND(C12=\"\",ISBLANK(C13)),\"\",IF(AC_METHOD=\"Ignition oven\",ROUND(C12,1)+IF(LEFT($B$2,1)=\"D\",AC_T_COR,AC_C_COR),ROUND(C13,1)))","v":""}]
[null,"Ratio of recycled to total binder:",{"$f":"IFERROR(100*REC_AC/C17,\"\")","v":""}]
[null,"Binder sample received?:"]
[null,"DSR aging ratio:"]
[]
[null,"LAB DETERMINATION OF RICE SPECIFIC GRAVITY Tex-227-F"]
[null," (A) Weight of  dry sample in air, g:"]
[null," (D) Weight of calibrated pyc. with water, g:"]
[null,"(E) Weight of sample, pyc. and water, g:"]
[null,"A/(D+A-E) Rice specific gravity (Gr):",{"$f":"IFERROR(ROUND(C23/(C24+C23-C25),3),\"\")","v":""}]
[null,"(Asd) Weight of surface dry sample in air, g:"]
[null,"A/(D+Asd-E) Rice Specific Gravity (Grc):",{"$f":"IFERROR(ROUND(C23/(C24+C27-C25),3),\"\")","v":""}]
[null,"(Gr-Grc)/Grc Percentage Difference:",{"$f":"IF(C26=\"\",\"\",IF(C28=\"\",\"\",(C26-C28)/C28))","v":""}]
[null,{"$f":"IF(C29>0.003,\"A/(D+Asd-E)\",\"A/(D+A-E)\") & \" Rice Specific Gravity \" & IF(C29>0.003,\"(Grc):\",\"(Gr):\")","v":"A/(D+Asd-E) Rice Specific Gravity (Grc):"},{"$f":"IF(C29>0.003,C28,C26)","v":""}]
[]
[]
[null,"ROAD DETERMINATION OF RICE SPECIFIC GRAVITY Tex-227-F"]
[null," (A) Weight of  dry sample in air, g:"]
[null," (D) Weight of calibrated pyc. with water, g:"]
[null,"(E) Weight of sample, pyc. and water, g:"]
[null,"A/(D+A-E) Rice specific gravity (Gr):",{"$f":"IF(ISERROR(C34/(C35+C34-C36)),\"\",ROUND(C34/(C35+C34-C36),3))","v":""}]
[null,"(Asd) Weight of surface dry sample in air, g:"]
[null,"A/(D+Asd-E) Rice Specific Gravity (Grc):",{"$f":"IFERROR(ROUND(C34/(C35+C38-C36),3),\"\")","v":""}]
[null,"(Gr-Grc)/Grc Percentage Difference:",{"$f":"IF(C37=\"\",\"\",IF(C39=\"\",\"\",(C37-C39)/C39))","v":""}]
[null,{"$f":"IF(C40>0.003,\"A/(D+Asd-E)\",\"A/(D+A-E)\") & \" Rice Specific Gravity \" & IF(C40>0.003,\"(Grc):\",\"(Gr):\")","v":"A/(D+Asd-E) Rice Specific Gravity (Grc):"},{"$f":"IF(C40>0.003,C39,C37)","v":""}]
[]
[]
[null,"PRODUCTION PERFORMANCE PROPERTIES OF BITUMINOUS MIXTURES"]
[null,"Tex-248-F Overlay test number of cycles: "]
[null,"Tex-245-F Cantabro loss content, %:"]
[null,"CRM content, %:"]
[null,"Tex-235-F Binder draindown, %:"]
[null,"Fiber content, %:"]
[null,"Membrane application rate, gal/sy:"]
[null,"Tex 246-F Permeability or Water flow, sec:"]
[null,"Tex 212-F Moisture content, %:"]
[null,"Tex-530-C Boil test estimated percent stripping, %:"]
[null,"Tex-244-F Thermal profile segregation:"]
[null,"Tex 207-F, Part V Mat segregation density profile:"]
[null,"Tex 207-F, Part VII Longitudinal joint density:"]
[]
[]
[null,"ESTIMATED FILM THICKNESS (based on gradation and asphalt content)"]
[null,"Combined bulk specific gravity (Gsb): "]
[null,"Effective specific gravity:",{"$f":"IFERROR((100-C17)/((100/C30)-C17/MIX_GSB),\"\")","v":""}]
[null,"Asphalt absorption, %:",{"$f":"IFERROR((C61-C60)/(C61*C60)*MIX_GSB*100,\"\")","v":""}]
[null,"Effective asphalt content:",{"$f":"IFERROR(C17-(C62*(100-C17))/100,\"\")","v":""}]
[null,"Film thickness, micron:",{"$f":"IFERROR(1000000*(C63/100)/(1-(C63/100))/(INDIRECT(LEFT($B$2,4) & \"_GRAD!Q24\")*MIX_GSB*1000),\"\")","v":""}]
[]
[null,"BACK CALCULATED ASPHALT CONTENT"]
[null,"Back calculated AC, %:",{"$f":"IF(NOT(OR(C17=\"\",IF(LEFT(B2,1)=\"D\",EFFGR_T,EFFGR_C)=\"\")),IFERROR(ROUND((((IF(LEFT(B2,1)=\"D\",EFFGR_T,EFFGR_C)*100)/C26)-100)/((IF(LEFT(B2,1)=\"D\",EFFGR_T,EFFGR_C)/MIX_GSB)-1),1),\"\"),\"\")","v":""}]

{"sheet":"CON3_GRAD","index":40,"n_rows":25,"n_cols":35,"rows_kept":25,"cut":false,"hidden":false,"merged":[[5,1,5,5],[6,11,7,11],[6,12,7,12],[7,7,7,9],[0,1,0,11],[1,1,1,9],[2,1,2,9],[3,1,3,5],[3,11,3,12],[4,1,4,5]]}
[null,{"$f":"header","v":"SAMPLE ID:    ______________________________    SAMPLED DATE: ___________________________\nLOT NUMBER:    _____________________________    LETTING DATE: ___________________________\nSAMPLE STATUS:    __________________________    CONTROLLING CSJ: ________________________\nCOUNTY:    _________________________________    SPEC YEAR: ______________________________\nSAMPLED BY:    __________________________________    SPEC ITEM: ______________________________\nSAMPLE LOCATION:    ________________________    SPECIAL PROVISION: ______________________\nMATERIAL CODE:    __________________________    MIX TYPE: _______________________________\nMATERIAL NAME: __________________________________________________________________\nPRODUCER: _______________________________________________________________________\nAREA ENGINEER:    __________________________    PROJECT MANAGER: _____________________________\nCOURSE\\LIFT:    __________________    STATION: ______________________    DIST. FROM CL: ______\n"}]
[null,{"$f":"LEFT(REPLACE(CELL(\"filename\",A1),1,FIND(\"]\",CELL(\"filename\",A1)),\"\"),4) &  \" GRADATION OF EXTRACTED AGGREGATE: Tex-200-F\"","v":"CON3 GRADATION OF EXTRACTED AGGREGATE: Tex-200-F"}]
[null,{"$f":"\"Method: \" & GRAD_METHOD","v":"Method: "}]
[null,{"$f":"IF(GRAD_METHOD=\"Belt sample\",\"Belt sample original dry weight, g:\",\"Ignited sample original dry weight, g:\")","v":"Ignited sample original dry weight, g:"},null,null,null,null,null,null,null,null,null,"TOLERANCES"]
[null,"Dry weight after washing, g:"]
[null,"Sieve analysis:",null,null,null,null,null,null,null,null,null,"Gradation","RZ"]
[null,null,null,null,{"$f":"IF(LEFT(B2,1)=\"T\",IF(COUNT(DES_IG_CF_T)>0,\"*Adjusted\",\"\"),IF(COUNT(DES_IG_CF_C)>0,\"*Adjusted\",\"\"))","v":""},{"$f":"E7","v":""},{"$f":"F7","v":""},null,null,null,null,"JMF","Current JMF"]
[null,"Sieve Size",{"$f":"IF(G6=\"Cumulative\",\"Cumulative\",\"Individual\") & \" weight retained, g\"","v":"Individual weight retained, g"},{"$f":"IF(G6=\"Cumulative\",\"Individual\",\"Cumulative\") & \" weight retained, g\"","v":"Cumulative weight retained, g"},"Individual percent retained, %","Cumulative percent retained, %","Cumulative percent passing, %",{"$f":"IF(N_TRIAL=\"Yes\",\"JMF cumulative percentage limits\",\"JMF individual retained limits\")","v":"JMF individual retained limits"}]
[null,{"$f":"IFERROR(DESIGN_GRAD!B5,\"\")","v":""},null,{"$f":"IF(ISBLANK(C9),\"\",C9)","v":""},{"$f":"IF(ISERROR(100-G9),\"\",100-G9)","v":""},{"$f":"IF(ISERROR(E9),\"\",E9)","v":""},{"$f":"IF(ISBLANK(C9),\"\",Q9)","v":""},{"$f":"IF(ISBLANK(C9),\"\",DATA_TOL!K4)","v":""},{"$f":"IF(LEN(H9)>0,\"-\",\"\")","v":""},{"$f":"IF(ISBLANK(C9),\"\",DATA_TOL!L4)","v":""},null,{"$f":"IF(AND(LEN(C9)>0,NOT(N_TRIAL=\"Yes\"),IF(MIX_NAME=\"HMA\",FALSE,INDEX(CHK_MGL,MIX_ID))),IF(AND(G9>=$Y$9,G9<=$Z$9,E9>=H9,E9<=J9),1,0),IF(AND(LEN(C9)>0,IF(MIX_NAME=\"HMA\",FALSE,INDEX(CHK_MGL200,MIX_ID)),B9=\"#200\",N_TRIAL=\"Yes\"),IF(AND(G9>=$Y$19,G9<=$Z$19),1,0),IF(AND(LEN(C9)>0,IF(MIX_NAME=\"HMA\",FALSE,INDEX(CHK_MGL200,MIX_ID)),B9=\"#200\"),IF(AND(G9>=$Y$19,G9<=$Z$19,E9>=H9,E9<=J9),1,0),IF(LEN(E9)=0,\"\",IF(N_TRIAL=\"Yes\",IF(AND(G9>=H9,G9<=J9),1,0),IF(AND(E9>=H9,E9<=J9),1,0))))))","v":""},{"$f":"IFERROR(IF(AND(AI9,C9<>\"\"),IF(AND(G9>=DESIGN_GRAD!F5,G9<=DESIGN_GRAD!H5),0,1),\"\"),\"\")","v":""},{"$f":"IF(AND(LEN(C9)>0,NOT(N_TRIAL=\"Yes\")),IF(OR(INDEX(CHK_MGL,MIX_ID),AND(IF(MIX_NAME=\"HMA\",FALSE,INDEX(CHK_MGL200,MIX_ID)),B9=\"#200\")),IF(AND(OR(G9<Y9,G9>Z9),OR(E9<H9,E9>J9)),\"% retained fails JMF target & % passing fails MGL\",IF(OR(G9<Y9,G9>Z9),\"% passing fails MGL\",IF(OR(E9<H9,E9>J9),\"% retained fails JMF target\",\"\"))),IF(OR(E9<H9,E9>J9),\"% retained fails JMF target\",\"\")),\"\")","v":""},null,{"$f":"ROUND(O9+100-IF($G$6=\"Cumulative\",C9,D9)/$C$22*100,1)","v":{"$error":"#VALUE!"}},{"$f":"P9","v":{"$error":"#VALUE!"}},null,{"$f":"INDEX(INDIRECT(MIX_NAME),1,25)","v":{"$error":"#REF!"}},{"$f":"IFERROR(S9*G9/100,\"\")","v":""},null,null,null,null,{"$f":"DESIGN_GRAD!C5","v":""},{"$f":"DESIGN_GRAD!E5","v":""},null,null,null,null,null,null,1,{"$f":"IF(LEN(INDEX(INDIRECT(MIX_NAME),AG9,2))>0,-1,0)","v":{"$error":"#REF!"}},{"$f":"IF(LEN(INDEX(INDIRECT(MIX_NAME),AG9,9))>0,-1,0)","v":{"$error":"#REF!"}}]
[null,{"$f":"IFERROR(DESIGN_GRAD!B6,\"\")","v":""},null,{"$f":"IF(ISBLANK(C10),\"\",IF($G$6=\"Cumulative\",(C10-SUM(D$9:D9)),SUM(C$9:C10)))","v":""},{"$f":"IF(ISERROR(G9-G10),\"\",G9-G10)","v":""},{"$f":"IF(ISERROR(F9+E10),\"\",F9+E10)","v":""},"",{"$f":"IF(ISBLANK(C10),\"\",DATA_TOL!K5)","v":""},"",{"$f":"IF(ISBLANK(C10),\"\",DATA_TOL!L5)","v":""},null,{"$f":"IF(AND(LEN(C10)>0,NOT(N_TRIAL=\"Yes\"),IF(MIX_NAME=\"HMA\",FALSE,INDEX(CHK_MGL,MIX_ID))),IF(AND(G10>=$Y$10,G10<=$Z$10,E10>=H10,E10<=J10),1,0),IF(AND(LEN(C10)>0,IF(MIX_NAME=\"HMA\",FALSE,INDEX(CHK_MGL200,MIX_ID)),B10=\"#200\",N_TRIAL=\"Yes\"),IF(AND(G10>=$Y$19,G10<=$Z$19),1,0),IF(AND(LEN(C10)>0,IF(MIX_NAME=\"HMA\",FALSE,INDEX(CHK_MGL200,MIX_ID)),B10=\"#200\"),IF(AND(G10>=$Y$19,G10<=$Z$19,E10>=H10,E10<=J10),1,0),IF(LEN(E10)=0,\"\",IF(N_TRIAL=\"Yes\",IF(AND(G10>=H10,G10<=J10),1,0),IF(AND(E10>=H10,E10<=J10),1,0))))))","v":""},{"$f":"IFERROR(IF(AND(AI10,C10<>\"\"),IF(AND(G10>=DESIGN_GRAD!F6,G10<=DESIGN_GRAD!H6),0,1),\"\"),\"\")","v":""},"",{"$f":"IF(LEFT($B$2,1)=\"C\",DESIGN_GRAD!P6,DESIGN_GRAD!O6)","v":0},{"$error":"#VALUE!"},{"$f":"MIN(Q9,P10)","v":{"$error":"#VALUE!"}},null,{"$f":"INDEX(INDIRECT(MIX_NAME),2,25)","v":{"$error":"#REF!"}},"",null,null,null,null,{"$f":"DESIGN_GRAD!C6","v":""},{"$f":"DESIGN_GRAD!E6","v":""},null,null,null,null,null,null,2,{"$error":"#REF!"},{"$error":"#REF!"}]
[null,{"$f":"IFERROR(DESIGN_GRAD!B7,\"\")","v":""},null,{"$f":"IF(ISBLANK(C11),\"\",IF($G$6=\"Cumulative\",(C11-SUM(D$9:D10)),SUM(C$9:C11)))","v":""},{"$f":"IF(ISERROR(G10-G11),\"\",G10-G11)","v":""},"","",{"$f":"IF(ISBLANK(C11),\"\",DATA_TOL!K6)","v":""},"",{"$f":"IF(ISBLANK(C11),\"\",DATA_TOL!L6)","v":""},null,{"$f":"IF(AND(LEN(C11)>0,NOT(N_TRIAL=\"Yes\"),IF(MIX_NAME=\"HMA\",FALSE,INDEX(CHK_MGL,MIX_ID))),IF(AND(G11>=$Y$11,G11<=$Z$11,E11>=H11,E11<=J11),1,0),IF(AND(LEN(C11)>0,IF(MIX_NAME=\"HMA\",FALSE,INDEX(CHK_MGL200,MIX_ID)),B11=\"#200\",N_TRIAL=\"Yes\"),IF(AND(G11>=$Y$19,G11<=$Z$19),1,0),IF(AND(LEN(C11)>0,IF(MIX_NAME=\"HMA\",FALSE,INDEX(CHK_MGL200,MIX_ID)),B11=\"#200\"),IF(AND(G11>=$Y$19,G11<=$Z$19,E11>=H11,E11<=J11),1,0),IF(LEN(E11)=0,\"\",IF(N_TRIAL=\"Yes\",IF(AND(G11>=H11,G11<=J11),1,0),IF(AND(E11>=H11,E11<=J11),1,0))))))","v":""},{"$f":"IFERROR(IF(AND(AI11,C11<>\"\"),IF(AND(G11>=DESIGN_GRAD!F7,G11<=DESIGN_GRAD!H7),0,1),\"\"),\"\")","v":""},"",{"$f":"IF(LEFT($B$2,1)=\"C\",DESIGN_GRAD!P7,DESIGN_GRAD!O7)","v":0},{"$error":"#VALUE!"},{"$f":"MIN(Q10,P11)","v":{"$error":"#VALUE!"}},null,{"$f":"INDEX(INDIRECT(MIX_NAME),3,25)","v":{"$error":"#REF!"}},"",null,null,null,null,{"$f":"DESIGN_GRAD!C7","v":""},{"$f":"DESIGN_GRAD!E7","v":""},null,null,null,null,null,null,3,{"$error":"#REF!"},{"$error":"#REF!"}]
[null,{"$f":"IFERROR(DESIGN_GRAD!B8,\"\")","v":""},null,{"$f":"IF(ISBLANK(C12),\"\",IF($G$6=\"Cumulative\",(C12-SUM(D$9:D11)),SUM(C$9:C12)))","v":""},"","","",{"$f":"IF(ISBLANK(C12),\"\",DATA_TOL!K7)","v":""},"",{"$f":"IF(ISBLANK(C12),\"\",DATA_TOL!L7)","v":""},null,{"$f":"IF(AND(LEN(C12)>0,NOT(N_TRIAL=\"Yes\"),IF(MIX_NAME=\"HMA\",FALSE,INDEX(CHK_MGL,MIX_ID))),IF(AND(G12>=$Y$12,G12<=$Z$12,E12>=H12,E12<=J12),1,0),IF(AND(LEN(C12)>0,IF(MIX_NAME=\"HMA\",FALSE,INDEX(CHK_MGL200,MIX_ID)),B12=\"#200\",N_TRIAL=\"Yes\"),IF(AND(G12>=$Y$19,G12<=$Z$19),1,0),IF(AND(LEN(C12)>0,IF(MIX_NAME=\"HMA\",FALSE,INDEX(CHK_MGL200,MIX_ID)),B12=\"#200\"),IF(AND(G12>=$Y$19,G12<=$Z$19,E12>=H12,E12<=J12),1,0),IF(LEN(E12)=0,\"\",IF(N_TRIAL=\"Yes\",IF(AND(G12>=H12,G12<=J12),1,0),IF(AND(E12>=H12,E12<=J12),1,0))))))","v":""},{"$f":"IFERROR(IF(AND(AI12,C12<>\"\"),IF(AND(G12>=DESIGN_GRAD!F8,G12<=DESIGN_GRAD!H8),0,1),\"\"),\"\")","v":""},"",{"$f":"IF(LEFT($B$2,1)=\"C\",DESIGN_GRAD!P8,DESIGN_GRAD!O8)","v":0},{"$error":"#VALUE!"},{"$error":"#VALUE!"},null,{"$f":"INDEX(INDIRECT(MIX_NAME),4,25)","v":{"$error":"#REF!"}},"",null,null,null,null,{"$f":"DESIGN_GRAD!C8","v":""},{"$f":"DESIGN_GRAD!E8","v":""},null,null,null,null,null,null,4,{"$error":"#REF!"},{"$error":"#REF!"}]
[null,{"$f":"IFERROR(DESIGN_GRAD!B9,\"\")","v":""},null,{"$f":"IF(ISBLANK(C13),\"\",IF($G$6=\"Cumulative\",(C13-SUM(D$9:D12)),SUM(C$9:C13)))","v":""},"","","",{"$f":"IF(ISBLANK(C13),\"\",DATA_TOL!K8)","v":""},"",{"$f":"IF(ISBLANK(C13),\"\",DATA_TOL!L8)","v":""},null,{"$f":"IF(AND(LEN(C13)>0,NOT(N_TRIAL=\"Yes\"),IF(MIX_NAME=\"HMA\",FALSE,INDEX(CHK_MGL,MIX_ID))),IF(AND(G13>=$Y$13,G13<=$Z$13,E13>=H13,E13<=J13),1,0),IF(AND(LEN(C13)>0,IF(MIX_NAME=\"HMA\",FALSE,INDEX(CHK_MGL200,MIX_ID)),B13=\"#200\",N_TRIAL=\"Yes\"),IF(AND(G13>=$Y$19,G13<=$Z$19),1,0),IF(AND(LEN(C13)>0,IF(MIX_NAME=\"HMA\",FALSE,INDEX(CHK_MGL200,MIX_ID)),B13=\"#200\"),IF(AND(G13>=$Y$19,G13<=$Z$19,E13>=H13,E13<=J13),1,0),IF(LEN(E13)=0,\"\",IF(N_TRIAL=\"Yes\",IF(AND(G13>=H13,G13<=J13),1,0),IF(AND(E13>=H13,E13<=J13),1,0))))))","v":""},{"$f":"IFERROR(IF(AND(AI13,C13<>\"\"),IF(AND(G13>=DESIGN_GRAD!F9,G13<=DESIGN_GRAD!H9),0,1),\"\"),\"\")","v":""},"",{"$f":"IF(LEFT($B$2,1)=\"C\",DESIGN_GRAD!P9,DESIGN_GRAD!O9)","v":0},{"$error":"#VALUE!"},{"$error":"#VALUE!"},null,{"$f":"INDEX(INDIRECT(MIX_NAME),5,25)","v":{"$error":"#REF!"}},"",null,null,null,null,{"$f":"DESIGN_GRAD!C9","v":""},{"$f":"DESIGN_GRAD!E9","v":""},null,null,null,null,null,null,5,{"$error":"#REF!"},{"$error":"#REF!"}]
[null,{"$f":"IFERROR(DESIGN_GRAD!B10,\"\")","v":""},null,{"$f":"IF(ISBLANK(C14),\"\",IF($G$6=\"Cumulative\",(C14-SUM(D$9:D13)),SUM(C$9:C14)))","v":""},"","","",{"$f":"IF(ISBLANK(C14),\"\",DATA_TOL!K9)","v":""},"",{"$f":"IF(ISBLANK(C14),\"\",DATA_TOL!L9)","v":""},null,{"$f":"IF(AND(LEN(C14)>0,NOT(N_TRIAL=\"Yes\"),IF(MIX_NAME=\"HMA\",FALSE,INDEX(CHK_MGL,MIX_ID))),IF(AND(G14>=$Y$14,G14<=$Z$14,E14>=H14,E14<=J14),1,0),IF(AND(,LEN(C14)>0,IF(MIX_NAME=\"HMA\",FALSE,INDEX(CHK_MGL200,MIX_ID)),B14=\"#200\",N_TRIAL=\"Yes\"),IF(AND(G14>=$Y$19,G14<=$Z$19),1,0),IF(AND(,LEN(C14)>0,IF(MIX_NAME=\"HMA\",FALSE,INDEX(CHK_MGL200,MIX_ID)),B14=\"#200\"),IF(AND(G14>=$Y$19,G14<=$Z$19,E14>=H14,E14<=J14),1,0),IF(LEN(E14)=0,\"\",IF(N_TRIAL=\"Yes\",IF(AND(G14>=H14,G14<=J14),1,0),IF(AND(E14>=H14,E14<=J14),1,0))))))","v":""},{"$f":"IFERROR(IF(AND(AI14,C14<>\"\"),IF(AND(G14>=DESIGN_GRAD!F10,G14<=DESIGN_GRAD!H10),0,1),\"\"),\"\")","v":""},"",{"$f":"IF(LEFT($B$2,1)=\"C\",DESIGN_GRAD!P10,DESIGN_GRAD!O10)","v":0},{"$error":"#VALUE!"},{"$error":"#VALUE!"},null,{"$f":"INDEX(INDIRECT(MIX_NAME),6,25)","v":{"$error":"#REF!"}},"",null,null,null,null,{"$f":"DESIGN_GRAD!C10","v":""},{"$f":"DESIGN_GRAD!E10","v":""},null,null,null,null,null,null,6,{"$error":"#REF!"},{"$error":"#REF!"}]
[null,{"$f":"IFERROR(DESIGN_GRAD!B11,\"\")","v":""},null,{"$f":"IF(ISBLANK(C15),\"\",IF($G$6=\"Cumulative\",(C15-SUM(D$9:D14)),SUM(C$9:C15)))","v":""},"","","",{"$f":"IF(ISBLANK(C15),\"\",DATA_TOL!K10)","v":""},"",{"$f":"IF(ISBLANK(C15),\"\",DATA_TOL!L10)","v":""},null,{"$f":"IF(AND(LEN(C15)>0,NOT(N_TRIAL=\"Yes\"),IF(MIX_NAME=\"HMA\",FALSE,INDEX(CHK_MGL,MIX_ID))),IF(AND(G15>=$Y$15,G15<=$Z$15,E15>=H15,E15<=J15),1,0),IF(AND(LEN(C15)>0,IF(MIX_NAME=\"HMA\",FALSE,INDEX(CHK_MGL200,MIX_ID)),B15=\"#200\",N_TRIAL=\"Yes\"),IF(AND(G15>=$Y$19,G15<=$Z$19),1,0),IF(AND(LEN(C15)>0,IF(MIX_NAME=\"HMA\",FALSE,INDEX(CHK_MGL200,MIX_ID)),B15=\"#200\"),IF(AND(G15>=$Y$19,G15<=$Z$19,E15>=H15,E15<=J15),1,0),IF(LEN(E15)=0,\"\",IF(N_TRIAL=\"Yes\",IF(AND(G15>=H15,G15<=J15),1,0),IF(AND(E15>=H15,E15<=J15),1,0))))))","v":""},{"$f":"IFERROR(IF(AND(AI15,C15<>\"\"),IF(AND(G15>=DESIGN_GRAD!F11,G15<=DESIGN_GRAD!H11),0,1),\"\"),\"\")","v":""},"",{"$f":"IF(LEFT($B$2,1)=\"C\",DESIGN_GRAD!P11,DESIGN_GRAD!O11)","v":0},{"$error":"#VALUE!"},{"$error":"#VALUE!"},null,{"$f":"INDEX(INDIRECT(MIX_NAME),7,25)","v":{"$error":"#REF!"}},"",null,null,null,null,{"$f":"DESIGN_GRAD!C11","v":""},{"$f":"DESIGN_GRAD!E11","v":""},null,null,null,null,null,null,7,{"$error":"#REF!"},{"$error":"#REF!"}]
[null,{"$f":"IFERROR(DESIGN_GRAD!B12,\"\")","v":""},null,{"$f":"IF(ISBLANK(C16),\"\",IF($G$6=\"Cumulative\",(C16-SUM(D$9:D15)),SUM(C$9:C16)))","v":""},"","","",{"$f":"IF(ISBLANK(C16),\"\",DATA_TOL!K11)","v":""},"",{"$f":"IF(ISBLANK(C16),\"\",DATA_TOL!L11)","v":""},null,{"$f":"IF(AND(LEN(C16)>0,NOT(N_TRIAL=\"Yes\"),IF(MIX_NAME=\"HMA\",FALSE,INDEX(CHK_MGL,MIX_ID))),IF(AND(G16>=$Y$16,G16<=$Z$16,E16>=H16,E16<=J16),1,0),IF(AND(LEN(C16)>0,IF(MIX_NAME=\"HMA\",FALSE,INDEX(CHK_MGL200,MIX_ID)),B16=\"#200\",N_TRIAL=\"Yes\"),IF(AND(G16>=$Y$19,G16<=$Z$19),1,0),IF(AND(LEN(C16)>0,IF(MIX_NAME=\"HMA\",FALSE,INDEX(CHK_MGL200,MIX_ID)),B16=\"#200\"),IF(AND(G16>=$Y$19,G16<=$Z$19,E16>=H16,E16<=J16),1,0),IF(LEN(E16)=0,\"\",IF(N_TRIAL=\"Yes\",IF(AND(G16>=H16,G16<=J16),1,0),IF(AND(E16>=H16,E16<=J16),1,0))))))","v":""},{"$f":"IFERROR(IF(AND(AI16,C16<>\"\"),IF(AND(G16>=DESIGN_GRAD!F12,G16<=DESIGN_GRAD!H12),0,1),\"\"),\"\")","v":""},"",{"$f":"IF(LEFT($B$2,1)=\"C\",DESIGN_GRAD!P12,DESIGN_GRAD!O12)","v":0},{"$error":"#VALUE!"},{"$error":"#VALUE!"},null,{"$f":"INDEX(INDIRECT(MIX_NAME),8,25)","v":{"$error":"#REF!"}},"",null,null,null,null,{"$f":"DESIGN_GRAD!C12","v":""},{"$f":"DESIGN_GRAD!E12","v":""},null,null,null,null,null,null,8,{"$error":"#REF!"},{"$error":"#REF!"}]
[null,{"$f":"IFERROR(DESIGN_GRAD!B13,\"\")","v":""},null,{"$f":"IF(C17=\"\",\"\",IF($G$6=\"Cumulative\",(C17-SUM(D$9:D16)),SUM(C$9:C17)))","v":""},"","","",{"$f":"IF(ISBLANK(C17),\"\",DATA_TOL!K12)","v":""},"",{"$f":"IF(ISBLANK(C17),\"\",DATA_TOL!L12)","v":""},null,{"$f":"IF(AND(LEN(C17)>0,NOT(N_TRIAL=\"Yes\"),IF(MIX_NAME=\"HMA\",FALSE,INDEX(CHK_MGL,MIX_ID))),IF(AND(G17>=$Y$17,G17<=$Z$17,E17>=H17,E17<=J17),1,0),IF(AND(LEN(C17)>0,IF(MIX_NAME=\"HMA\",FALSE,INDEX(CHK_MGL200,MIX_ID)),B17=\"#200\",N_TRIAL=\"Yes\"),IF(AND(G17>=$Y$19,G17<=$Z$19),1,0),IF(AND(LEN(C17)>0,IF(MIX_NAME=\"HMA\",FALSE,INDEX(CHK_MGL200,MIX_ID)),B17=\"#200\"),IF(AND(G17>=$Y$19,G17<=$Z$19,E17>=H17,E17<=J17),1,0),IF(LEN(E17)=0,\"\",IF(N_TRIAL=\"Yes\",IF(AND(G17>=H17,G17<=J17),1,0),IF(AND(E17>=H17,E17<=J17),1,0))))))","v":""},{"$f":"IFERROR(IF(AND(AI17,C17<>\"\"),IF(AND(G17>=DESIGN_GRAD!F13,G17<=DESIGN_GRAD!H13),0,1),\"\"),\"\")","v":""},"",{"$f":"IF(LEFT($B$2,1)=\"C\",DESIGN_GRAD!P13,DESIGN_GRAD!O13)","v":0},{"$error":"#VALUE!"},{"$error":"#VALUE!"},null,{"$f":"INDEX(INDIRECT(MIX_NAME),9,25)","v":{"$error":"#REF!"}},"",null,null,null,null,{"$f":"DESIGN_GRAD!C13","v":""},{"$f":"DESIGN_GRAD!E13","v":""},null,null,null,null,null,null,9,{"$error":"#REF!"},{"$error":"#REF!"}]
[null,{"$f":"IFERROR(DESIGN_GRAD!B14,\"\")","v":""},null,{"$f":"IF(C18=\"\",\"\",IF($G$6=\"Cumulative\",(C18-SUM(D$9:D17)),SUM(C$9:C18)))","v":""},"","","",{"$f":"IF(ISBLANK(C18),\"\",DATA_TOL!K13)","v":""},"",{"$f":"IF(ISBLANK(C18),\"\",DATA_TOL!L13)","v":""},null,{"$f":"IF(AND(LEN(C18)>0,NOT(N_TRIAL=\"Yes\"),IF(MIX_NAME=\"HMA\",FALSE,INDEX(CHK_MGL,MIX_ID))),IF(AND(G18>=$Y$18,G18<=$Z$18,E18>=H18,E18<=J18),1,0),IF(AND(LEN(C18)>0,IF(MIX_NAME=\"HMA\",FALSE,INDEX(CHK_MGL200,MIX_ID)),B18=\"#200\",N_TRIAL=\"Yes\"),IF(AND(G18>=$Y$19,G18<=$Z$19),1,0),IF(AND(LEN(C18)>0,IF(MIX_NAME=\"HMA\",FALSE,INDEX(CHK_MGL200,MIX_ID)),B18=\"#200\"),IF(AND(G18>=$Y$19,G18<=$Z$19,E18>=H18,E18<=J18),1,0),IF(LEN(E18)=0,\"\",IF(N_TRIAL=\"Yes\",IF(AND(G18>=H18,G18<=J18),1,0),IF(AND(E18>=H18,E18<=J18),1,0))))))","v":""},{"$f":"IFERROR(IF(AND(AI18,C18<>\"\"),IF(AND(G18>=DESIGN_GRAD!F14,G18<=DESIGN_GRAD!H14),0,1),\"\"),\"\")","v":""},"",{"$f":"IF(LEFT($B$2,1)=\"C\",DESIGN_GRAD!P14,DESIGN_GRAD!O14)","v":0},{"$error":"#VALUE!"},{"$error":"#VALUE!"},null,{"$f":"INDEX(INDIRECT(MIX_NAME),10,25)","v":{"$error":"#REF!"}},"",null,null,null,null,{"$f":"DESIGN_GRAD!C14","v":""},{"$f":"DESIGN_GRAD!E14","v":""},null,null,null,null,null,null,10,{"$error":"#REF!"},{"$error":"#REF!"}]
[null,"- #200",null,null,null,null,null,null,null,null,null,null,null,null,null,null,null,"#16",null,null,1.18,{"$f":"VLOOKUP(\"#16\",$B$9:$G$18,6,0)","v":{"$error":"#N/A"}},{"$f":"LOG(U19)","v":7.1882007306125359E-2},{"$error":"#N/A"},{"$f":"MIN(Y9:Y18)","v":0},{"$f":"MIN(Z9:Z18)","v":0}]
[null,null,{"$f":"IF(G4>0,G4-IF(G6=\"Cumulative\",LARGE(C9:C19,1),SUM(C9:C19)),IF(SUM(C9:C19)=0,\"\",0))","v":""},{"$f":"IF(G4<>\"\",IF(G5<>\"\",\"Wash Loss\" & IF(C23>0,\" - \",\" + \"),\"\")&IF(C23>0,\"Sieving Gain (g)\",IF(C23<0,\"Sieving Loss (g)\",\"\")),\"\")","v":""},null,null,null,null,null,null,null,null,null,null,null,null,null,"#50",null,null,0.3,{"$f":"VLOOKUP(\"#50\",$B$9:$G$18,6,0)","v":{"$error":"#N/A"}},-0.52287874528033762,{"$error":"#N/A"}]
[null,"Total - #200",{"$f":"IF(ISERROR(IF(G6=\"Cumulative\",LARGE(C9:C19,1),C19)+C20),\"\",IF(G6=\"Cumulative\",LARGE(C9:C19,1),C19)+C20)","v":""},{"$f":"IF(ISBLANK(C19),\"\",IF(G6=\"Cumulative\",(C21-SUM(D$9:D18)),SUM(C$9:C18,C21)))","v":""},{"$f":"IF(ISERROR(OFFSET(G19,-COUNTBLANK(B9:B18)-1,0)-G21),\"\",OFFSET(G19,-COUNTBLANK(B9:B18)-1,0)-G21)","v":""},{"$f":"IF(ISERROR(OFFSET(F19,-COUNTBLANK(B9:B18)-1,0)+E21),\"\",OFFSET(F19,-COUNTBLANK(B9:B18)-1,0)+E21)","v":""},{"$f":"IF(ISERROR(100-IF(G6=\"Cumulative\",C21/C22*100,D21/C22*100)),\"\",ROUND(100-IF(G6=\"Cumulative\",C21/C22*100,D21/C22*100),1))","v":""},{"$f":"IF(C21=\"\",\"\",DATA_TOL!K14)","v":""},{"$f":"IF(LEN(H21)>0,\"-\",\"\")","v":""},{"$f":"IF(C21=\"\",\"\",DATA_TOL!L14)","v":""},null,{"$f":"IF(LEN(E21)=0,\"\",IF(N_TRIAL=\"Yes\",IF(AND(G21>=H21,G21<=J21),1,0),IF(AND(E21>=H21,E21<=J21),1,0)))","v":""},null,{"$f":"IF(AND(LEN(C21)>0,NOT(LEN(E21)=0),NOT(N_TRIAL=\"Yes\")),IF(OR(E21<H21,E21>J21),\"% passing #200 fails JMF target\",\"\"),\"\")","v":""},null,null,null,"#200",null,null,7.4999999999999997E-2,{"$f":"VLOOKUP(\"#200\",$B$9:$G$18,6,0)","v":{"$error":"#N/A"}},-1.1249387366082999,{"$error":"#N/A"}]
[null,"Total weight, g",{"$f":"IF(ISERROR(IF(G6=\"Cumulative\",C21,SUM(C9:C18)+C21)),\"\",IF(G6=\"Cumulative\",C21,SUM(C9:C18)+C21))","v":""},null,null,null,null,null,null,null,null,null,null,null,null,null,null,"#30",2.87,{"$f":"S22*V22/100","v":{"$error":"#N/A"}},0.6,{"$f":"10^X22","v":{"$error":"#N/A"}},{"$f":"LOG(U22)","v":-0.22184874961635639},{"$f":"FORECAST(W22,X19:X20,W19:W20)","v":{"$error":"#N/A"}}]
[null,null,{"$f":"IF(G5<>\"\",IF(G6=\"Cumulative\",IF(ISERROR(LARGE(C9:C19,1)),0,LARGE(C9:C19,1)),SUM(C9:C19))-G5,IF(G4<>\"\",IF(G6=\"Cumulative\",IF(ISERROR(LARGE(C9:C19,1)),0,LARGE(C9:C19,1)),SUM(C9:C19))-G4,IF(B23<>\"\",IF(G6=\"Cumulative\",IF(ISERROR(LARGE(C9:C19,1)),0,LARGE(C9:C19,1)),SUM(C9:C19))-B23,\"\")))","v":""},{"$f":"IF(AND(C22<>\"\",C23<>\"\"),IF(C25>0.2,\"Discrepancy too large - rerun analysis\",\"Sieving \" & IF(C23>0, \"Gain\", \"Loss\") & \" (g), from \" & IF(G5<>\"\", \"dry weight after washing\", \"original dry sample\")),\"\")","v":""},null,null,null,null,null,null,null,null,null,null,null,null,null,"#100",12.29,{"$f":"S23*V23/100","v":{"$error":"#N/A"}},0.15,{"$f":"10^X23","v":{"$error":"#N/A"}},{"$f":"LOG(U23)","v":-0.82390874094431876},{"$f":"FORECAST(W23,X20:X21,W20:W21)","v":{"$error":"#N/A"}}]
[null,null,null,null,null,null,null,null,null,null,null,null,null,null,null,null,null,null,null,{"$f":"SUM(T9:T18)+T22+T23","v":{"$error":"#N/A"}}]
[null,null,{"$f":"ABS(100*C23/C22)","v":{"$error":"#VALUE!"}}]

{"sheet":"CON3_DENSITY","index":41,"n_rows":37,"n_cols":13,"rows_kept":37,"cut":false,"hidden":false,"merged":[[34,2,34,4],[34,5,34,6],[35,2,35,4],[35,5,35,6],[36,2,36,4],[36,5,36,6],[33,2,33,4],[33,5,33,6],[0,1,0,8],[1,1,1,6],[2,2,2,4],[2,5,2,6],[15,1,15,6],[24,1,24,6],[30,1,30,6],[31,2,31,4],[31,5,31,6],[32,2,32,4],[32,5,32,6]]}
[null,{"$f":"header","v":"SAMPLE ID:    ______________________________    SAMPLED DATE: ___________________________\nLOT NUMBER:    _____________________________    LETTING DATE: ___________________________\nSAMPLE STATUS:    __________________________    CONTROLLING CSJ: ________________________\nCOUNTY:    _________________________________    SPEC YEAR: ______________________________\nSAMPLED BY:    __________________________________    SPEC ITEM: ______________________________\nSAMPLE LOCATION:    ________________________    SPECIAL PROVISION: ______________________\nMATERIAL CODE:    __________________________    MIX TYPE: _______________________________\nMATERIAL NAME: __________________________________________________________________\nPRODUCER: _______________________________________________________________________\nAREA ENGINEER:    __________________________    PROJECT MANAGER: _____________________________\nCOURSE\\LIFT:    __________________    STATION: ______________________    DIST. FROM CL: ______\n"}]
[null,{"$f":"LEFT(REPLACE(CELL(\"filename\",A1),1,FIND(\"]\",CELL(\"filename\",A1)),\"\"),4) &  \" DETERMINING PROPERTIES OF BITUMINOUS MIXTURES-Tex-207-F\"","v":"CON3 DETERMINING PROPERTIES OF BITUMINOUS MIXTURES-Tex-207-F"}]
[null,"Specimen type:","Laboratory",null,null,"Roadway"]
[null,"Specimen number:","1(1)","1(2)","1(3)","1(A)","1(B)"]
[null,"Note to developer - hide this row Specimen radius, mm:"]
[null,{"$f":"IF(DESIGN_GE,\"Specimen height, mm:\",\"Untrimmed specimen/Core height, in:\")","v":{"$error":"#N/A"}}]
[null,"Trimmed core height, in:"]
[null,"Weight of specimen in air, g:"]
[null,"Weight of specimen in water, g:"]
[null,"SSD weight of specimen in air, g:"]
[null,"Volume of specimen:",{"$f":"IF(AND(ISBLANK(C10),ISBLANK(C9)),\"\",C10-C9)","v":""},{"$f":"IF(AND(ISBLANK(D10),ISBLANK(D9)),\"\",D10-D9)","v":""},{"$f":"IF(AND(ISBLANK(E10),ISBLANK(E9)),\"\",E10-E9)","v":""},{"$f":"IF(AND(ISBLANK(F10),ISBLANK(F9)),\"\",F10-F9)","v":""},{"$f":"IF(AND(ISBLANK(G10),ISBLANK(G9)),\"\",G10-G9)","v":""}]
[null,"Note to developer - hide this row SSD Density:",{"$f":"IFERROR(C8/C11,\"\")","v":""},{"$f":"IFERROR(D8/D11,\"\")","v":""},{"$f":"IFERROR(E8/E11,\"\")","v":""},{"$f":"IFERROR(F8/F11,\"\")","v":""},{"$f":"IFERROR(G8/G11,\"\")","v":""}]
[null,"Percent absorption, %:",{"$f":"IFERROR(ROUND(100*((C10-C8)/(C10-C9)),1),\"\")","v":""},{"$f":"IFERROR(ROUND(100*((D10-D8)/(D10-D9)),1),\"\")","v":""},{"$f":"IFERROR(ROUND(100*((E10-E8)/(E10-E9)),1),\"\")","v":""},{"$f":"IFERROR(ROUND(100*((F10-F8)/(F10-F9)),1),\"\")","v":""},{"$f":"IFERROR(ROUND(100*((G10-G8)/(G10-G9)),1),\"\")","v":""}]
[null,"Bag required for Ga:",{"$f":"IF(ISNUMBER(C13),IF(C13>2,\"Yes\",\"No\"),\"\")","v":""},{"$f":"IF(ISNUMBER(D13),IF(D13>2,\"Yes\",\"No\"),\"\")","v":""},{"$f":"IF(ISNUMBER(E13),IF(E13>2,\"Yes\",\"No\"),\"\")","v":""},{"$f":"IF(ISNUMBER(F13),IF(F13>2,\"Yes\",\"No\"),\"\")","v":""},{"$f":"IF(ISNUMBER(G13),IF(G13>2,\"Yes\",\"No\"),\"\")","v":""}]
[null,"Bag Used for Ga:"]
[null,"Vacuum bag inputs"]
[null,"Vacuum bag method used:"]
[null,"Weight of specimen in air, g:"]
[null,"Sealed weight of specimen in water, g:",null,null,null,null,null,null,{"$f":"IF(OR(ISBLANK(C20),ISBLANK(C18)),\"\",IF(ABS(C20-C18)>5,-1,0))","v":""},{"$f":"IF(OR(ISBLANK(D20),ISBLANK(D18)),\"\",IF(ABS(D20-D18)>5,-1,0))","v":""},{"$f":"IF(OR(ISBLANK(E20),ISBLANK(E18)),\"\",IF(ABS(E20-E18)>5,-1,0))","v":""},{"$f":"IF(OR(ISBLANK(F20),ISBLANK(F18)),\"\",IF(ABS(F20-F18)>5,-1,0))","v":""},{"$f":"IF(OR(ISBLANK(G20),ISBLANK(G18)),\"\",IF(ABS(G20-G18)>5,-1,0))","v":""}]
[null,"Dry specimen weight after submersion, g:",null,null,null,null,null,null,{"$f":"IFERROR(IF(OR(I19:M19),\"> 5g. Repeat test, a leak may have occurred.\",\"\"),\"\")","v":""}]
[null,"Weight of vacuum bag(s), g:"]
[null,"Vacuum bag volume correction factor:",{"$f":"IFERROR(IF(LEFT(C17,1)=\"L\",-0.00166*(C18/C21)+0.8596,IF(LEFT(C17,1)=\"S\",-0.000566*(C18/C21)+0.8121,IF(LEFT(C17,1)=\"D\",-0.0022448*(C18/C21)+0.85818,\"\"))),\"\")","v":""},{"$f":"IFERROR(IF(LEFT(D17,1)=\"L\",-0.00166*(D18/D21)+0.8596,IF(LEFT(D17,1)=\"S\",-0.000566*(D18/D21)+0.8121,IF(LEFT(D17,1)=\"D\",-0.0022448*(D18/D21)+0.85818,\"\"))),\"\")","v":""},{"$f":"IFERROR(IF(LEFT(E17,1)=\"L\",-0.00166*(E18/E21)+0.8596,IF(LEFT(E17,1)=\"S\",-0.000566*(E18/E21)+0.8121,IF(LEFT(E17,1)=\"D\",-0.0022448*(E18/E21)+0.85818,\"\"))),\"\")","v":""},{"$f":"IFERROR(IF(LEFT(F17,1)=\"L\",-0.00166*(F18/F21)+0.8596,IF(LEFT(F17,1)=\"S\",-0.000566*(F18/F21)+0.8121,IF(LEFT(F17,1)=\"D\",-0.0022448*(F18/F21)+0.85818,\"\"))),\"\")","v":""},{"$f":"IFERROR(IF(LEFT(G17,1)=\"L\",-0.00166*(G18/G21)+0.8596,IF(LEFT(G17,1)=\"S\",-0.000566*(G18/G21)+0.8121,IF(LEFT(G17,1)=\"D\",-0.0022448*(G18/G21)+0.85818,\"\"))),\"\")","v":""}]
[null,"Vacuum bag density:",{"$f":"IFERROR(C18/(C21+C18-C19-(C21/C22)),\"\")","v":""},{"$f":"IFERROR(D18/(D21+D18-D19-(D21/D22)),\"\")","v":""},{"$f":"IFERROR(E18/(E21+E18-E19-(E21/E22)),\"\")","v":""},{"$f":"IFERROR(F18/(F21+F18-F19-(F21/F22)),\"\")","v":""},{"$f":"IFERROR(G18/(G21+G18-G19-(G21/G22)),\"\")","v":""}]
[null,"Note to developer - hide this row",{"$f":"IF(LEFT($B$2,1)=\"D\",PRESS_T,PRESS_C)+IF(INDEX(CHK_GE,MIX_ID),IF(ISERROR(C8*1000/(3.14*75^2*C6)),\"\",C8*1000/(3.14*75^2*C6)),IF(C15<>\"Yes\",IF(ISERROR(C12),\"\",ROUND(C12,3)),IF(ISERROR(MIN(C12,C23)),\"\",ROUND(MIN(C12,C23),3))))","v":{"$error":"#N/A"}},{"$f":"IF(LEFT($B$2,1)=\"D\",PRESS_T,PRESS_C)+IF(INDEX(CHK_GE,MIX_ID),IF(ISERROR(D8*1000/(3.14*75^2*D6)),\"\",D8*1000/(3.14*75^2*D6)),IF(D15<>\"Yes\",IF(ISERROR(D12),\"\",ROUND(D12,3)),IF(ISERROR(MIN(D12,D23)),\"\",ROUND(MIN(D12,D23),3))))","v":{"$error":"#N/A"}},{"$f":"IF(LEFT($B$2,1)=\"D\",PRESS_T,PRESS_C)+IF(INDEX(CHK_GE,MIX_ID),IF(ISERROR(E8*1000/(3.14*75^2*E6)),\"\",E8*1000/(3.14*75^2*E6)),IF(E15<>\"Yes\",IF(ISERROR(E12),\"\",ROUND(E12,3)),IF(ISERROR(MIN(E12,E23)),\"\",ROUND(MIN(E12,E23),3))))","v":{"$error":"#N/A"}},{"$f":"IF(INDEX(CHK_GE,MIX_ID),IF(ISERROR(F8*1000/(3.14*F5^2*F6)),\"\",F8*1000/(3.14*F5^2*F6)),IF(F15<>\"Yes\",IF(ISERROR(F12),\"\",ROUND(F12,3)),IF(ISERROR(MIN(F12,F23)),\"\",ROUND(MIN(F12,F23),3))))","v":{"$error":"#N/A"}},{"$f":"IF(INDEX(CHK_GE,MIX_ID),IF(ISERROR(G8*1000/(3.14*G5^2*G6)),\"\",G8*1000/(3.14*G5^2*G6)),IF(G15<>\"Yes\",IF(ISERROR(G12),\"\",ROUND(G12,3)),IF(ISERROR(MIN(G12,G23)),\"\",ROUND(MIN(G12,G23),3))))","v":{"$error":"#N/A"}}]
[null,"Volumetric properties"]
[null,"Bulk specific gravity, Ga:",{"$f":"IFERROR(ROUND(C24,3),\"\")","v":""},{"$f":"IFERROR(ROUND(D24,3),\"\")","v":""},{"$f":"IFERROR(ROUND(E24,3),\"\")","v":""},{"$f":"IFERROR(ROUND(F24,3),\"\")","v":""},{"$f":"IFERROR(ROUND(G24,3),\"\")","v":""}]
[null,"Percent density, %:",{"$f":"IFERROR(ROUND(100*C26/$C$33,1),\"\")","v":""},{"$f":"IFERROR(ROUND(100*D26/$C$33,1),\"\")","v":""},{"$f":"IFERROR(ROUND(100*E26/$C$33,1),\"\")","v":""},{"$f":"IFERROR(ROUND(100*F26/$F$33,1),\"\")","v":""},{"$f":"IFERROR(ROUND(100*G26/$F$33,1),\"\")","v":""}]
[null,"Percent air voids, %:",{"$f":"IFERROR(ROUND(100-C27,1),\"\")","v":""},{"$f":"IFERROR(ROUND(100-D27,1),\"\")","v":""},{"$f":"IFERROR(ROUND(100-E27,1),\"\")","v":""},{"$f":"IFERROR(ROUND(100-F27,1),\"\")","v":""},{"$f":"IFERROR(ROUND(100-G27,1),\"\")","v":""}]
[null,"Percent VMA, %:",{"$f":"IFERROR(ROUND(100-(100*(C26/INDIRECT(LEFT($B$2,4) & \"_PROD!$C$30\")))+((C26*$C$32)/MIX_GSB),1),\"\")","v":""},{"$f":"IFERROR(ROUND(100-(100*(D26/INDIRECT(LEFT($B$2,4) & \"_PROD!$C$30\")))+((D26*$C$32)/MIX_GSB),1),\"\")","v":""},{"$f":"IFERROR(ROUND(100-(100*(E26/INDIRECT(LEFT($B$2,4) & \"_PROD!$C$30\")))+((E26*$C$32)/MIX_GSB),1),\"\")","v":""},{"$f":"IFERROR(ROUND(100-(100*(F26/INDIRECT(LEFT($B$2,4) & \"_PROD!$C$30\")))+((F26*$F$32)/MIX_GSB),1),\"\")","v":""},{"$f":"IFERROR(ROUND(100-(100*(G26/INDIRECT(LEFT($B$2,4) & \"_PROD!$C$30\")))+((G26*$F$32)/MIX_GSB),1),\"\")","v":""}]
[]
[null,"MEAN VOLUMETRIC PROPERTIES"]
[null,{"$f":"IF(AND(LEFT($B$2,1)=\"D\",INDIRECT(LEFT($B$2,4) & \"_PROD!C17\")=\"\",INDIRECT(SUBSTITUTE(LEFT($B$2,4),\"DOT\",\"CON\") & \"_PROD!C17\")<>\"\"),\"Contractor's asphalt content, %:\",\"Asphalt content, %:\")","v":"Asphalt content, %:"},{"$f":"IFERROR(IF(AND(LEFT($B$2,1)=\"D\",INDIRECT(LEFT($B$2,4) & \"_PROD!C17\")=\"\",INDIRECT(SUBSTITUTE(LEFT($B$2,4),\"DOT\",\"CON\") & \"_PROD!C17\")<>\"\"),ROUND(INDIRECT(SUBSTITUTE(LEFT($B$2,4),\"DOT\",\"CON\") & \"_PROD!C17\"),1),ROUND(INDIRECT(LEFT($B$2,4) & \"_PROD!C17\"),1)),\"\")","v":""},null,null,{"$f":"IFERROR(IF(AND(LEFT($B$2,1)=\"D\",INDIRECT(LEFT($B$2,4) & \"_PROD!C17\")=\"\",INDIRECT(SUBSTITUTE(LEFT($B$2,4),\"DOT\",\"CON\") & \"_PROD!C17\")<>\"\"),ROUND(INDIRECT(SUBSTITUTE(LEFT($B$2,4),\"DOT\",\"CON\") & \"_PROD!C17\"),1),ROUND(INDIRECT(LEFT($B$2,4) & \"_PROD!C17\"),1)),\"\")","v":""}]
[null,{"$f":"IF(AND(INDIRECT(LEFT($B$2,4) & \"_PROD!C27\")<>\"\",INDIRECT(LEFT($B$2,4) & \"_PROD!C27\")>0.01),\"Corrected Rice specific gravity, Grc:\",\"Rice specific gravity, Gr:\")","v":"Rice specific gravity, Gr:"},{"$f":"IFERROR(ROUND(IF(DESIGN_GE,100/((100-C32)/MIX_GMB+(C32/MIX_GSB)),INDIRECT(LEFT($B$2,4) & \"_PROD!C30\")),3),\"\")","v":""},null,null,{"$f":"IF(LEFT($B$2,1)=\"D\",IFERROR(ROUND(AVERAGE(INDIRECT(\"DOT1_PROD!C30\"),INDIRECT(\"DOT2_PROD!C30\"),INDIRECT(\"DOT3_PROD!C30\"),INDIRECT(\"DOT4_PROD!C30\")),3),\"\"),IFERROR(ROUND(AVERAGE(INDIRECT(\"CON1_PROD!C30\"),INDIRECT(\"CON2_PROD!C30\"),INDIRECT(\"CON3_PROD!C30\"),INDIRECT(\"CON4_PROD!C30\")),3),\"\"))","v":""}]
[null,"Percent density, %:",{"$f":"IFERROR(ROUND(AVERAGE(C27:E27),1),\"\")","v":""},null,null,{"$f":"IFERROR(ROUND(AVERAGE(F27:G27),1),\"\")","v":""}]
[null,"Actual specific gravity:",{"$f":"IFERROR(ROUND(AVERAGE(C26:E26),3),\"\")","v":""},null,null,{"$f":"IFERROR(ROUND(AVERAGE(F26:G26),3),\"\")","v":""}]
[null,"Percent air voids, %:",{"$f":"IFERROR(ROUND(AVERAGE(C28:E28),1),\"\")","v":""},null,null,{"$f":"IFERROR(ROUND(AVERAGE(F28:G28),1),\"\")","v":""}]
[null,"Percent VMA, %:",{"$f":"IFERROR(ROUND(AVERAGE(C29:E29),1),\"\")","v":""},null,null,{"$f":"IFERROR(ROUND(AVERAGE(F29:G29),1),\"\")","v":""}]

{"sheet":"CON4_PROD","index":42,"n_rows":67,"n_cols":3,"rows_kept":67,"cut":false,"hidden":false,"merged":[[43,1,43,2],[58,1,58,2],[65,1,65,2],[0,1,0,2],[1,1,1,2],[6,1,6,2],[7,1,7,2],[21,1,21,2],[32,1,32,2]]}
[null,{"$f":"header","v":"SAMPLE ID:    ______________________________    SAMPLED DATE: ___________________________\nLOT NUMBER:    _____________________________    LETTING DATE: ___________________________\nSAMPLE STATUS:    __________________________    CONTROLLING CSJ: ________________________\nCOUNTY:    _________________________________    SPEC YEAR: ______________________________\nSAMPLED BY:    __________________________________    SPEC ITEM: ______________________________\nSAMPLE LOCATION:    ________________________    SPECIAL PROVISION: ______________________\nMATERIAL CODE:    __________________________    MIX TYPE: _______________________________\nMATERIAL NAME: __________________________________________________________________\nPRODUCER: _______________________________________________________________________\nAREA ENGINEER:    __________________________    PROJECT MANAGER: _____________________________\nCOURSE\\LIFT:    __________________    STATION: ______________________    DIST. FROM CL: ______\n"}]
[null,{"$f":"LEFT(REPLACE(CELL(\"filename\",A1),1,FIND(\"]\",CELL(\"filename\",A1)),\"\"),4) & \" PRODUCTION DATA\"","v":"CON4 PRODUCTION DATA"}]
[null,"Sublot sample date:",{"$f":"IFERROR(IF(LEN(INDIRECT(\"DATE_\"&LEFT($B$2,4)))>0,INDIRECT(\"DATE_\"&LEFT($B$2,4)),\"\"),\"\")","v":""}]
[null,"Sublot location, Tons:",{"$f":"IFERROR(INDIRECT(\"SLOC_\"&LEFT($B$2,4)),\"\")","v":""}]
[null,"Production location, Tons:",{"$f":"IFERROR(INDIRECT(\"PLOC_\"&LEFT($B$2,4)),\"\")","v":""}]
[]
[null,"DETERMINATION OF ASPHALT CONTENT"]
[null,{"$f":"\"Method: \" & AC_METHOD","v":"Method: "}]
[null,"Weight of sample and basket before ignition, g:"]
[null,"Weight of sample and basket after ignition, g:"]
[null,"Weight of basket, g:"]
[null,"Ignition oven AC, %:",{"$f":"IFERROR(100*(C9-C10)/(C9-C11),\"\")","v":""}]
[null,"AC, % :"]
[null,"Nuclear testing gauge number:"]
[null,"Nuclear testing gauge calibration reference number:"]
[null,"Nuclear testing gauge time (hh:mm:ss):"]
[null,"Corrected AC, %:",{"$f":"IF(AND(C12=\"\",ISBLANK(C13)),\"\",IF(AC_METHOD=\"Ignition oven\",ROUND(C12,1)+IF(LEFT($B$2,1)=\"D\",AC_T_COR,AC_C_COR),ROUND(C13,1)))","v":""}]
[null,"Ratio of recycled to total binder:",{"$f":"IFERROR(100*REC_AC/C17,\"\")","v":""}]
[null,"Binder sample received?:"]
[null,"DSR aging ratio:"]
[]
[null,"LAB DETERMINATION OF RICE SPECIFIC GRAVITY Tex-227-F"]
[null," (A) Weight of  dry sample in air, g:"]
[null," (D) Weight of calibrated pyc. with water, g:"]
[null,"(E) Weight of sample, pyc. and water, g:"]
[null,"A/(D+A-E) Rice specific gravity (Gr):",{"$f":"IFERROR(ROUND(C23/(C24+C23-C25),3),\"\")","v":""}]
[null,"(Asd) Weight of surface dry sample in air, g:"]
[null,"A/(D+Asd-E) Rice Specific Gravity (Grc):",{"$f":"IFERROR(ROUND(C23/(C24+C27-C25),3),\"\")","v":""}]
[null,"(Gr-Grc)/Grc Percentage Difference:",{"$f":"IF(C26=\"\",\"\",IF(C28=\"\",\"\",(C26-C28)/C28))","v":""}]
[null,{"$f":"IF(C29>0.003,\"A/(D+Asd-E)\",\"A/(D+A-E)\") & \" Rice Specific Gravity \" & IF(C29>0.003,\"(Grc):\",\"(Gr):\")","v":"A/(D+Asd-E) Rice Specific Gravity (Grc):"},{"$f":"IF(C29>0.003,C28,C26)","v":""}]
[]
[]
[null,"ROAD DETERMINATION OF RICE SPECIFIC GRAVITY Tex-227-F"]
[null," (A) Weight of  dry sample in air, g:"]
[null," (D) Weight of calibrated pyc. with water, g:"]
[null,"(E) Weight of sample, pyc. and water, g:"]
[null,"A/(D+A-E) Rice specific gravity (Gr):",{"$f":"IF(ISERROR(C34/(C35+C34-C36)),\"\",ROUND(C34/(C35+C34-C36),3))","v":""}]
[null,"(Asd) Weight of surface dry sample in air, g:"]
[null,"A/(D+Asd-E) Rice Specific Gravity (Grc):",{"$f":"IFERROR(ROUND(C34/(C35+C38-C36),3),\"\")","v":""}]
[null,"(Gr-Grc)/Grc Percentage Difference:",{"$f":"IF(C37=\"\",\"\",IF(C39=\"\",\"\",(C37-C39)/C39))","v":""}]
[null,{"$f":"IF(C40>0.003,\"A/(D+Asd-E)\",\"A/(D+A-E)\") & \" Rice Specific Gravity \" & IF(C40>0.003,\"(Grc):\",\"(Gr):\")","v":"A/(D+Asd-E) Rice Specific Gravity (Grc):"},{"$f":"IF(C40>0.003,C39,C37)","v":""}]
[]
[]
[null,"PRODUCTION PERFORMANCE PROPERTIES OF BITUMINOUS MIXTURES"]
[null,"Tex-248-F Overlay test number of cycles: "]
[null,"Tex-245-F Cantabro loss content, %:"]
[null,"CRM content, %:"]
[null,"Tex-235-F Binder draindown, %:"]
[null,"Fiber content, %:"]
[null,"Membrane application rate, gal/sy:"]
[null,"Tex 246-F Permeability or Water flow, sec:"]
[null,"Tex 212-F Moisture content, %:"]
[null,"Tex-530-C Boil test estimated percent stripping, %:"]
[null,"Tex-244-F Thermal profile segregation:"]
[null,"Tex 207-F, Part V Mat segregation density profile:"]
[null,"Tex 207-F, Part VII Longitudinal joint density:"]
[]
[]
[null,"ESTIMATED FILM THICKNESS (based on gradation and asphalt content)"]
[null,"Combined bulk specific gravity (Gsb): "]
[null,"Effective specific gravity:",{"$f":"IFERROR((100-C17)/((100/C30)-C17/MIX_GSB),\"\")","v":""}]
[null,"Asphalt absorption, %:",{"$f":"IFERROR((C61-C60)/(C61*C60)*MIX_GSB*100,\"\")","v":""}]
[null,"Effective asphalt content:",{"$f":"IFERROR(C17-(C62*(100-C17))/100,\"\")","v":""}]
[null,"Film thickness, micron:",{"$f":"IFERROR(1000000*(C63/100)/(1-(C63/100))/(INDIRECT(LEFT($B$2,4) & \"_GRAD!Q24\")*MIX_GSB*1000),\"\")","v":""}]
[]
[null,"BACK CALCULATED ASPHALT CONTENT"]
[null,"Back calculated AC, %:",{"$f":"IF(NOT(OR(C17=\"\",IF(LEFT(B2,1)=\"D\",EFFGR_T,EFFGR_C)=\"\")),IFERROR(ROUND((((IF(LEFT(B2,1)=\"D\",EFFGR_T,EFFGR_C)*100)/C26)-100)/((IF(LEFT(B2,1)=\"D\",EFFGR_T,EFFGR_C)/MIX_GSB)-1),1),\"\"),\"\")","v":""}]

{"sheet":"CON4_GRAD","index":43,"n_rows":25,"n_cols":35,"rows_kept":25,"cut":false,"hidden":false,"merged":[[5,1,5,5],[6,11,7,11],[6,12,7,12],[7,7,7,9],[0,1,0,11],[1,1,1,9],[2,1,2,9],[3,1,3,5],[3,11,3,12],[4,1,4,5]]}
[null,{"$f":"header","v":"SAMPLE ID:    ______________________________    SAMPLED DATE: ___________________________\nLOT NUMBER:    _____________________________    LETTING DATE: ___________________________\nSAMPLE STATUS:    __________________________    CONTROLLING CSJ: ________________________\nCOUNTY:    _________________________________    SPEC YEAR: ______________________________\nSAMPLED BY:    __________________________________    SPEC ITEM: ______________________________\nSAMPLE LOCATION:    ________________________    SPECIAL PROVISION: ______________________\nMATERIAL CODE:    __________________________    MIX TYPE: _______________________________\nMATERIAL NAME: __________________________________________________________________\nPRODUCER: _______________________________________________________________________\nAREA ENGINEER:    __________________________    PROJECT MANAGER: _____________________________\nCOURSE\\LIFT:    __________________    STATION: ______________________    DIST. FROM CL: ______\n"}]
[null,{"$f":"LEFT(REPLACE(CELL(\"filename\",A1),1,FIND(\"]\",CELL(\"filename\",A1)),\"\"),4) &  \" GRADATION OF EXTRACTED AGGREGATE: Tex-200-F\"","v":"CON4 GRADATION OF EXTRACTED AGGREGATE: Tex-200-F"}]
[null,{"$f":"\"Method: \" & GRAD_METHOD","v":"Method: "}]
[null,{"$f":"IF(GRAD_METHOD=\"Belt sample\",\"Belt sample original dry weight, g:\",\"Ignited sample original dry weight, g:\")","v":"Ignited sample original dry weight, g:"},null,null,null,null,null,null,null,null,null,"TOLERANCES"]
[null,"Dry weight after washing, g:"]
[null,"Sieve analysis:",null,null,null,null,null,null,null,null,null,"Gradation","RZ"]
[null,null,null,null,{"$f":"IF(LEFT(B2,1)=\"T\",IF(COUNT(DES_IG_CF_T)>0,\"*Adjusted\",\"\"),IF(COUNT(DES_IG_CF_C)>0,\"*Adjusted\",\"\"))","v":""},{"$f":"E7","v":""},{"$f":"F7","v":""},null,null,null,null,"JMF","Current JMF"]
[null,"Sieve Size",{"$f":"IF(G6=\"Cumulative\",\"Cumulative\",\"Individual\") & \" weight retained, g\"","v":"Individual weight retained, g"},{"$f":"IF(G6=\"Cumulative\",\"Individual\",\"Cumulative\") & \" weight retained, g\"","v":"Cumulative weight retained, g"},"Individual percent retained, %","Cumulative percent retained, %","Cumulative percent passing, %",{"$f":"IF(N_TRIAL=\"Yes\",\"JMF cumulative percentage limits\",\"JMF individual retained limits\")","v":"JMF individual retained limits"}]
[null,{"$f":"IFERROR(DESIGN_GRAD!B5,\"\")","v":""},null,{"$f":"IF(ISBLANK(C9),\"\",C9)","v":""},{"$f":"IF(ISERROR(100-G9),\"\",100-G9)","v":""},{"$f":"IF(ISERROR(E9),\"\",E9)","v":""},{"$f":"IF(ISBLANK(C9),\"\",Q9)","v":""},{"$f":"IF(ISBLANK(C9),\"\",DATA_TOL!K4)","v":""},{"$f":"IF(LEN(H9)>0,\"-\",\"\")","v":""},{"$f":"IF(ISBLANK(C9),\"\",DATA_TOL!L4)","v":""},null,{"$f":"IF(AND(LEN(C9)>0,NOT(N_TRIAL=\"Yes\"),IF(MIX_NAME=\"HMA\",FALSE,INDEX(CHK_MGL,MIX_ID))),IF(AND(G9>=$Y$9,G9<=$Z$9,E9>=H9,E9<=J9),1,0),IF(AND(LEN(C9)>0,IF(MIX_NAME=\"HMA\",FALSE,INDEX(CHK_MGL200,MIX_ID)),B9=\"#200\",N_TRIAL=\"Yes\"),IF(AND(G9>=$Y$19,G9<=$Z$19),1,0),IF(AND(LEN(C9)>0,IF(MIX_NAME=\"HMA\",FALSE,INDEX(CHK_MGL200,MIX_ID)),B9=\"#200\"),IF(AND(G9>=$Y$19,G9<=$Z$19,E9>=H9,E9<=J9),1,0),IF(LEN(E9)=0,\"\",IF(N_TRIAL=\"Yes\",IF(AND(G9>=H9,G9<=J9),1,0),IF(AND(E9>=H9,E9<=J9),1,0))))))","v":""},{"$f":"IFERROR(IF(AND(AI9,C9<>\"\"),IF(AND(G9>=DESIGN_GRAD!F5,G9<=DESIGN_GRAD!H5),0,1),\"\"),\"\")","v":""},{"$f":"IF(AND(LEN(C9)>0,NOT(N_TRIAL=\"Yes\")),IF(OR(INDEX(CHK_MGL,MIX_ID),AND(IF(MIX_NAME=\"HMA\",FALSE,INDEX(CHK_MGL200,MIX_ID)),B9=\"#200\")),IF(AND(OR(G9<Y9,G9>Z9),OR(E9<H9,E9>J9)),\"% retained fails JMF target & % passing fails MGL\",IF(OR(G9<Y9,G9>Z9),\"% passing fails MGL\",IF(OR(E9<H9,E9>J9),\"% retained fails JMF target\",\"\"))),IF(OR(E9<H9,E9>J9),\"% retained fails JMF target\",\"\")),\"\")","v":""},null,{"$f":"ROUND(O9+100-IF($G$6=\"Cumulative\",C9,D9)/$C$22*100,1)","v":{"$error":"#VALUE!"}},{"$f":"P9","v":{"$error":"#VALUE!"}},null,{"$f":"INDEX(INDIRECT(MIX_NAME),1,25)","v":{"$error":"#REF!"}},{"$f":"IFERROR(S9*G9/100,\"\")","v":""},null,null,null,null,{"$f":"DESIGN_GRAD!C5","v":""},{"$f":"DESIGN_GRAD!E5","v":""},null,null,null,null,null,null,1,{"$f":"IF(LEN(INDEX(INDIRECT(MIX_NAME),AG9,2))>0,-1,0)","v":{"$error":"#REF!"}},{"$f":"IF(LEN(INDEX(INDIRECT(MIX_NAME),AG9,9))>0,-1,0)","v":{"$error":"#REF!"}}]
[null,{"$f":"IFERROR(DESIGN_GRAD!B6,\"\")","v":""},null,{"$f":"IF(ISBLANK(C10),\"\",IF($G$6=\"Cumulative\",(C10-SUM(D$9:D9)),SUM(C$9:C10)))","v":""},{"$f":"IF(ISERROR(G9-G10),\"\",G9-G10)","v":""},{"$f":"IF(ISERROR(F9+E10),\"\",F9+E10)","v":""},"",{"$f":"IF(ISBLANK(C10),\"\",DATA_TOL!K5)","v":""},"",{"$f":"IF(ISBLANK(C10),\"\",DATA_TOL!L5)","v":""},null,{"$f":"IF(AND(LEN(C10)>0,NOT(N_TRIAL=\"Yes\"),IF(MIX_NAME=\"HMA\",FALSE,INDEX(CHK_MGL,MIX_ID))),IF(AND(G10>=$Y$10,G10<=$Z$10,E10>=H10,E10<=J10),1,0),IF(AND(LEN(C10)>0,IF(MIX_NAME=\"HMA\",FALSE,INDEX(CHK_MGL200,MIX_ID)),B10=\"#200\",N_TRIAL=\"Yes\"),IF(AND(G10>=$Y$19,G10<=$Z$19),1,0),IF(AND(LEN(C10)>0,IF(MIX_NAME=\"HMA\",FALSE,INDEX(CHK_MGL200,MIX_ID)),B10=\"#200\"),IF(AND(G10>=$Y$19,G10<=$Z$19,E10>=H10,E10<=J10),1,0),IF(LEN(E10)=0,\"\",IF(N_TRIAL=\"Yes\",IF(AND(G10>=H10,G10<=J10),1,0),IF(AND(E10>=H10,E10<=J10),1,0))))))","v":""},{"$f":"IFERROR(IF(AND(AI10,C10<>\"\"),IF(AND(G10>=DESIGN_GRAD!F6,G10<=DESIGN_GRAD!H6),0,1),\"\"),\"\")","v":""},"",{"$f":"IF(LEFT($B$2,1)=\"C\",DESIGN_GRAD!P6,DESIGN_GRAD!O6)","v":0},{"$error":"#VALUE!"},{"$f":"MIN(Q9,P10)","v":{"$error":"#VALUE!"}},null,{"$f":"INDEX(INDIRECT(MIX_NAME),2,25)","v":{"$error":"#REF!"}},"",null,null,null,null,{"$f":"DESIGN_GRAD!C6","v":""},{"$f":"DESIGN_GRAD!E6","v":""},null,null,null,null,null,null,2,{"$error":"#REF!"},{"$error":"#REF!"}]
[null,{"$f":"IFERROR(DESIGN_GRAD!B7,\"\")","v":""},null,{"$f":"IF(ISBLANK(C11),\"\",IF($G$6=\"Cumulative\",(C11-SUM(D$9:D10)),SUM(C$9:C11)))","v":""},{"$f":"IF(ISERROR(G10-G11),\"\",G10-G11)","v":""},"","",{"$f":"IF(ISBLANK(C11),\"\",DATA_TOL!K6)","v":""},"",{"$f":"IF(ISBLANK(C11),\"\",DATA_TOL!L6)","v":""},null,{"$f":"IF(AND(LEN(C11)>0,NOT(N_TRIAL=\"Yes\"),IF(MIX_NAME=\"HMA\",FALSE,INDEX(CHK_MGL,MIX_ID))),IF(AND(G11>=$Y$11,G11<=$Z$11,E11>=H11,E11<=J11),1,0),IF(AND(LEN(C11)>0,IF(MIX_NAME=\"HMA\",FALSE,INDEX(CHK_MGL200,MIX_ID)),B11=\"#200\",N_TRIAL=\"Yes\"),IF(AND(G11>=$Y$19,G11<=$Z$19),1,0),IF(AND(LEN(C11)>0,IF(MIX_NAME=\"HMA\",FALSE,INDEX(CHK_MGL200,MIX_ID)),B11=\"#200\"),IF(AND(G11>=$Y$19,G11<=$Z$19,E11>=H11,E11<=J11),1,0),IF(LEN(E11)=0,\"\",IF(N_TRIAL=\"Yes\",IF(AND(G11>=H11,G11<=J11),1,0),IF(AND(E11>=H11,E11<=J11),1,0))))))","v":""},{"$f":"IFERROR(IF(AND(AI11,C11<>\"\"),IF(AND(G11>=DESIGN_GRAD!F7,G11<=DESIGN_GRAD!H7),0,1),\"\"),\"\")","v":""},"",{"$f":"IF(LEFT($B$2,1)=\"C\",DESIGN_GRAD!P7,DESIGN_GRAD!O7)","v":0},{"$error":"#VALUE!"},{"$f":"MIN(Q10,P11)","v":{"$error":"#VALUE!"}},null,{"$f":"INDEX(INDIRECT(MIX_NAME),3,25)","v":{"$error":"#REF!"}},"",null,null,null,null,{"$f":"DESIGN_GRAD!C7","v":""},{"$f":"DESIGN_GRAD!E7","v":""},null,null,null,null,null,null,3,{"$error":"#REF!"},{"$error":"#REF!"}]
[null,{"$f":"IFERROR(DESIGN_GRAD!B8,\"\")","v":""},null,{"$f":"IF(ISBLANK(C12),\"\",IF($G$6=\"Cumulative\",(C12-SUM(D$9:D11)),SUM(C$9:C12)))","v":""},"","","",{"$f":"IF(ISBLANK(C12),\"\",DATA_TOL!K7)","v":""},"",{"$f":"IF(ISBLANK(C12),\"\",DATA_TOL!L7)","v":""},null,{"$f":"IF(AND(LEN(C12)>0,NOT(N_TRIAL=\"Yes\"),IF(MIX_NAME=\"HMA\",FALSE,INDEX(CHK_MGL,MIX_ID))),IF(AND(G12>=$Y$12,G12<=$Z$12,E12>=H12,E12<=J12),1,0),IF(AND(LEN(C12)>0,IF(MIX_NAME=\"HMA\",FALSE,INDEX(CHK_MGL200,MIX_ID)),B12=\"#200\",N_TRIAL=\"Yes\"),IF(AND(G12>=$Y$19,G12<=$Z$19),1,0),IF(AND(LEN(C12)>0,IF(MIX_NAME=\"HMA\",FALSE,INDEX(CHK_MGL200,MIX_ID)),B12=\"#200\"),IF(AND(G12>=$Y$19,G12<=$Z$19,E12>=H12,E12<=J12),1,0),IF(LEN(E12)=0,\"\",IF(N_TRIAL=\"Yes\",IF(AND(G12>=H12,G12<=J12),1,0),IF(AND(E12>=H12,E12<=J12),1,0))))))","v":""},{"$f":"IFERROR(IF(AND(AI12,C12<>\"\"),IF(AND(G12>=DESIGN_GRAD!F8,G12<=DESIGN_GRAD!H8),0,1),\"\"),\"\")","v":""},"",{"$f":"IF(LEFT($B$2,1)=\"C\",DESIGN_GRAD!P8,DESIGN_GRAD!O8)","v":0},{"$error":"#VALUE!"},{"$error":"#VALUE!"},null,{"$f":"INDEX(INDIRECT(MIX_NAME),4,25)","v":{"$error":"#REF!"}},"",null,null,null,null,{"$f":"DESIGN_GRAD!C8","v":""},{"$f":"DESIGN_GRAD!E8","v":""},null,null,null,null,null,null,4,{"$error":"#REF!"},{"$error":"#REF!"}]
[null,{"$f":"IFERROR(DESIGN_GRAD!B9,\"\")","v":""},null,{"$f":"IF(ISBLANK(C13),\"\",IF($G$6=\"Cumulative\",(C13-SUM(D$9:D12)),SUM(C$9:C13)))","v":""},"","","",{"$f":"IF(ISBLANK(C13),\"\",DATA_TOL!K8)","v":""},"",{"$f":"IF(ISBLANK(C13),\"\",DATA_TOL!L8)","v":""},null,{"$f":"IF(AND(LEN(C13)>0,NOT(N_TRIAL=\"Yes\"),IF(MIX_NAME=\"HMA\",FALSE,INDEX(CHK_MGL,MIX_ID))),IF(AND(G13>=$Y$13,G13<=$Z$13,E13>=H13,E13<=J13),1,0),IF(AND(LEN(C13)>0,IF(MIX_NAME=\"HMA\",FALSE,INDEX(CHK_MGL200,MIX_ID)),B13=\"#200\",N_TRIAL=\"Yes\"),IF(AND(G13>=$Y$19,G13<=$Z$19),1,0),IF(AND(LEN(C13)>0,IF(MIX_NAME=\"HMA\",FALSE,INDEX(CHK_MGL200,MIX_ID)),B13=\"#200\"),IF(AND(G13>=$Y$19,G13<=$Z$19,E13>=H13,E13<=J13),1,0),IF(LEN(E13)=0,\"\",IF(N_TRIAL=\"Yes\",IF(AND(G13>=H13,G13<=J13),1,0),IF(AND(E13>=H13,E13<=J13),1,0))))))","v":""},{"$f":"IFERROR(IF(AND(AI13,C13<>\"\"),IF(AND(G13>=DESIGN_GRAD!F9,G13<=DESIGN_GRAD!H9),0,1),\"\"),\"\")","v":""},"",{"$f":"IF(LEFT($B$2,1)=\"C\",DESIGN_GRAD!P9,DESIGN_GRAD!O9)","v":0},{"$error":"#VALUE!"},{"$error":"#VALUE!"},null,{"$f":"INDEX(INDIRECT(MIX_NAME),5,25)","v":{"$error":"#REF!"}},"",null,null,null,null,{"$f":"DESIGN_GRAD!C9","v":""},{"$f":"DESIGN_GRAD!E9","v":""},null,null,null,null,null,null,5,{"$error":"#REF!"},{"$error":"#REF!"}]
[null,{"$f":"IFERROR(DESIGN_GRAD!B10,\"\")","v":""},null,{"$f":"IF(ISBLANK(C14),\"\",IF($G$6=\"Cumulative\",(C14-SUM(D$9:D13)),SUM(C$9:C14)))","v":""},"","","",{"$f":"IF(ISBLANK(C14),\"\",DATA_TOL!K9)","v":""},"",{"$f":"IF(ISBLANK(C14),\"\",DATA_TOL!L9)","v":""},null,{"$f":"IF(AND(LEN(C14)>0,NOT(N_TRIAL=\"Yes\"),IF(MIX_NAME=\"HMA\",FALSE,INDEX(CHK_MGL,MIX_ID))),IF(AND(G14>=$Y$14,G14<=$Z$14,E14>=H14,E14<=J14),1,0),IF(AND(,LEN(C14)>0,IF(MIX_NAME=\"HMA\",FALSE,INDEX(CHK_MGL200,MIX_ID)),B14=\"#200\",N_TRIAL=\"Yes\"),IF(AND(G14>=$Y$19,G14<=$Z$19),1,0),IF(AND(,LEN(C14)>0,IF(MIX_NAME=\"HMA\",FALSE,INDEX(CHK_MGL200,MIX_ID)),B14=\"#200\"),IF(AND(G14>=$Y$19,G14<=$Z$19,E14>=H14,E14<=J14),1,0),IF(LEN(E14)=0,\"\",IF(N_TRIAL=\"Yes\",IF(AND(G14>=H14,G14<=J14),1,0),IF(AND(E14>=H14,E14<=J14),1,0))))))","v":""},{"$f":"IFERROR(IF(AND(AI14,C14<>\"\"),IF(AND(G14>=DESIGN_GRAD!F10,G14<=DESIGN_GRAD!H10),0,1),\"\"),\"\")","v":""},"",{"$f":"IF(LEFT($B$2,1)=\"C\",DESIGN_GRAD!P10,DESIGN_GRAD!O10)","v":0},{"$error":"#VALUE!"},{"$error":"#VALUE!"},null,{"$f":"INDEX(INDIRECT(MIX_NAME),6,25)","v":{"$error":"#REF!"}},"",null,null,null,null,{"$f":"DESIGN_GRAD!C10","v":""},{"$f":"DESIGN_GRAD!E10","v":""},null,null,null,null,null,null,6,{"$error":"#REF!"},{"$error":"#REF!"}]
[null,{"$f":"IFERROR(DESIGN_GRAD!B11,\"\")","v":""},null,{"$f":"IF(ISBLANK(C15),\"\",IF($G$6=\"Cumulative\",(C15-SUM(D$9:D14)),SUM(C$9:C15)))","v":""},"","","",{"$f":"IF(ISBLANK(C15),\"\",DATA_TOL!K10)","v":""},"",{"$f":"IF(ISBLANK(C15),\"\",DATA_TOL!L10)","v":""},null,{"$f":"IF(AND(LEN(C15)>0,NOT(N_TRIAL=\"Yes\"),IF(MIX_NAME=\"HMA\",FALSE,INDEX(CHK_MGL,MIX_ID))),IF(AND(G15>=$Y$15,G15<=$Z$15,E15>=H15,E15<=J15),1,0),IF(AND(LEN(C15)>0,IF(MIX_NAME=\"HMA\",FALSE,INDEX(CHK_MGL200,MIX_ID)),B15=\"#200\",N_TRIAL=\"Yes\"),IF(AND(G15>=$Y$19,G15<=$Z$19),1,0),IF(AND(LEN(C15)>0,IF(MIX_NAME=\"HMA\",FALSE,INDEX(CHK_MGL200,MIX_ID)),B15=\"#200\"),IF(AND(G15>=$Y$19,G15<=$Z$19,E15>=H15,E15<=J15),1,0),IF(LEN(E15)=0,\"\",IF(N_TRIAL=\"Yes\",IF(AND(G15>=H15,G15<=J15),1,0),IF(AND(E15>=H15,E15<=J15),1,0))))))","v":""},{"$f":"IFERROR(IF(AND(AI15,C15<>\"\"),IF(AND(G15>=DESIGN_GRAD!F11,G15<=DESIGN_GRAD!H11),0,1),\"\"),\"\")","v":""},"",{"$f":"IF(LEFT($B$2,1)=\"C\",DESIGN_GRAD!P11,DESIGN_GRAD!O11)","v":0},{"$error":"#VALUE!"},{"$error":"#VALUE!"},null,{"$f":"INDEX(INDIRECT(MIX_NAME),7,25)","v":{"$error":"#REF!"}},"",null,null,null,null,{"$f":"DESIGN_GRAD!C11","v":""},{"$f":"DESIGN_GRAD!E11","v":""},null,null,null,null,null,null,7,{"$error":"#REF!"},{"$error":"#REF!"}]
[null,{"$f":"IFERROR(DESIGN_GRAD!B12,\"\")","v":""},null,{"$f":"IF(ISBLANK(C16),\"\",IF($G$6=\"Cumulative\",(C16-SUM(D$9:D15)),SUM(C$9:C16)))","v":""},"","","",{"$f":"IF(ISBLANK(C16),\"\",DATA_TOL!K11)","v":""},"",{"$f":"IF(ISBLANK(C16),\"\",DATA_TOL!L11)","v":""},null,{"$f":"IF(AND(LEN(C16)>0,NOT(N_TRIAL=\"Yes\"),IF(MIX_NAME=\"HMA\",FALSE,INDEX(CHK_MGL,MIX_ID))),IF(AND(G16>=$Y$16,G16<=$Z$16,E16>=H16,E16<=J16),1,0),IF(AND(LEN(C16)>0,IF(MIX_NAME=\"HMA\",FALSE,INDEX(CHK_MGL200,MIX_ID)),B16=\"#200\",N_TRIAL=\"Yes\"),IF(AND(G16>=$Y$19,G16<=$Z$19),1,0),IF(AND(LEN(C16)>0,IF(MIX_NAME=\"HMA\",FALSE,INDEX(CHK_MGL200,MIX_ID)),B16=\"#200\"),IF(AND(G16>=$Y$19,G16<=$Z$19,E16>=H16,E16<=J16),1,0),IF(LEN(E16)=0,\"\",IF(N_TRIAL=\"Yes\",IF(AND(G16>=H16,G16<=J16),1,0),IF(AND(E16>=H16,E16<=J16),1,0))))))","v":""},{"$f":"IFERROR(IF(AND(AI16,C16<>\"\"),IF(AND(G16>=DESIGN_GRAD!F12,G16<=DESIGN_GRAD!H12),0,1),\"\"),\"\")","v":""},"",{"$f":"IF(LEFT($B$2,1)=\"C\",DESIGN_GRAD!P12,DESIGN_GRAD!O12)","v":0},{"$error":"#VALUE!"},{"$error":"#VALUE!"},null,{"$f":"INDEX(INDIRECT(MIX_NAME),8,25)","v":{"$error":"#REF!"}},"",null,null,null,null,{"$f":"DESIGN_GRAD!C12","v":""},{"$f":"DESIGN_GRAD!E12","v":""},null,null,null,null,null,null,8,{"$error":"#REF!"},{"$error":"#REF!"}]
[null,{"$f":"IFERROR(DESIGN_GRAD!B13,\"\")","v":""},null,{"$f":"IF(C17=\"\",\"\",IF($G$6=\"Cumulative\",(C17-SUM(D$9:D16)),SUM(C$9:C17)))","v":""},"","","",{"$f":"IF(ISBLANK(C17),\"\",DATA_TOL!K12)","v":""},"",{"$f":"IF(ISBLANK(C17),\"\",DATA_TOL!L12)","v":""},null,{"$f":"IF(AND(LEN(C17)>0,NOT(N_TRIAL=\"Yes\"),IF(MIX_NAME=\"HMA\",FALSE,INDEX(CHK_MGL,MIX_ID))),IF(AND(G17>=$Y$17,G17<=$Z$17,E17>=H17,E17<=J17),1,0),IF(AND(LEN(C17)>0,IF(MIX_NAME=\"HMA\",FALSE,INDEX(CHK_MGL200,MIX_ID)),B17=\"#200\",N_TRIAL=\"Yes\"),IF(AND(G17>=$Y$19,G17<=$Z$19),1,0),IF(AND(LEN(C17)>0,IF(MIX_NAME=\"HMA\",FALSE,INDEX(CHK_MGL200,MIX_ID)),B17=\"#200\"),IF(AND(G17>=$Y$19,G17<=$Z$19,E17>=H17,E17<=J17),1,0),IF(LEN(E17)=0,\"\",IF(N_TRIAL=\"Yes\",IF(AND(G17>=H17,G17<=J17),1,0),IF(AND(E17>=H17,E17<=J17),1,0))))))","v":""},{"$f":"IFERROR(IF(AND(AI17,C17<>\"\"),IF(AND(G17>=DESIGN_GRAD!F13,G17<=DESIGN_GRAD!H13),0,1),\"\"),\"\")","v":""},"",{"$f":"IF(LEFT($B$2,1)=\"C\",DESIGN_GRAD!P13,DESIGN_GRAD!O13)","v":0},{"$error":"#VALUE!"},{"$error":"#VALUE!"},null,{"$f":"INDEX(INDIRECT(MIX_NAME),9,25)","v":{"$error":"#REF!"}},"",null,null,null,null,{"$f":"DESIGN_GRAD!C13","v":""},{"$f":"DESIGN_GRAD!E13","v":""},null,null,null,null,null,null,9,{"$error":"#REF!"},{"$error":"#REF!"}]
[null,{"$f":"IFERROR(DESIGN_GRAD!B14,\"\")","v":""},null,{"$f":"IF(C18=\"\",\"\",IF($G$6=\"Cumulative\",(C18-SUM(D$9:D17)),SUM(C$9:C18)))","v":""},"","","",{"$f":"IF(ISBLANK(C18),\"\",DATA_TOL!K13)","v":""},"",{"$f":"IF(ISBLANK(C18),\"\",DATA_TOL!L13)","v":""},null,{"$f":"IF(AND(LEN(C18)>0,NOT(N_TRIAL=\"Yes\"),IF(MIX_NAME=\"HMA\",FALSE,INDEX(CHK_MGL,MIX_ID))),IF(AND(G18>=$Y$18,G18<=$Z$18,E18>=H18,E18<=J18),1,0),IF(AND(LEN(C18)>0,IF(MIX_NAME=\"HMA\",FALSE,INDEX(CHK_MGL200,MIX_ID)),B18=\"#200\",N_TRIAL=\"Yes\"),IF(AND(G18>=$Y$19,G18<=$Z$19),1,0),IF(AND(LEN(C18)>0,IF(MIX_NAME=\"HMA\",FALSE,INDEX(CHK_MGL200,MIX_ID)),B18=\"#200\"),IF(AND(G18>=$Y$19,G18<=$Z$19,E18>=H18,E18<=J18),1,0),IF(LEN(E18)=0,\"\",IF(N_TRIAL=\"Yes\",IF(AND(G18>=H18,G18<=J18),1,0),IF(AND(E18>=H18,E18<=J18),1,0))))))","v":""},{"$f":"IFERROR(IF(AND(AI18,C18<>\"\"),IF(AND(G18>=DESIGN_GRAD!F14,G18<=DESIGN_GRAD!H14),0,1),\"\"),\"\")","v":""},"",{"$f":"IF(LEFT($B$2,1)=\"C\",DESIGN_GRAD!P14,DESIGN_GRAD!O14)","v":0},{"$error":"#VALUE!"},{"$error":"#VALUE!"},null,{"$f":"INDEX(INDIRECT(MIX_NAME),10,25)","v":{"$error":"#REF!"}},"",null,null,null,null,{"$f":"DESIGN_GRAD!C14","v":""},{"$f":"DESIGN_GRAD!E14","v":""},null,null,null,null,null,null,10,{"$error":"#REF!"},{"$error":"#REF!"}]
[null,"- #200",null,null,null,null,null,null,null,null,null,null,null,null,null,null,null,"#16",null,null,1.18,{"$f":"VLOOKUP(\"#16\",$B$9:$G$18,6,0)","v":{"$error":"#N/A"}},{"$f":"LOG(U19)","v":7.1882007306125359E-2},{"$error":"#N/A"},{"$f":"MIN(Y9:Y18)","v":0},{"$f":"MIN(Z9:Z18)","v":0}]
[null,null,{"$f":"IF(G4>0,G4-IF(G6=\"Cumulative\",LARGE(C9:C19,1),SUM(C9:C19)),IF(SUM(C9:C19)=0,\"\",0))","v":""},{"$f":"IF(G4<>\"\",IF(G5<>\"\",\"Wash Loss\" & IF(C23>0,\" - \",\" + \"),\"\")&IF(C23>0,\"Sieving Gain (g)\",IF(C23<0,\"Sieving Loss (g)\",\"\")),\"\")","v":""},null,null,null,null,null,null,null,null,null,null,null,null,null,"#50",null,null,0.3,{"$f":"VLOOKUP(\"#50\",$B$9:$G$18,6,0)","v":{"$error":"#N/A"}},-0.52287874528033762,{"$error":"#N/A"}]
[null,"Total - #200",{"$f":"IF(ISERROR(IF(G6=\"Cumulative\",LARGE(C9:C19,1),C19)+C20),\"\",IF(G6=\"Cumulative\",LARGE(C9:C19,1),C19)+C20)","v":""},{"$f":"IF(ISBLANK(C19),\"\",IF(G6=\"Cumulative\",(C21-SUM(D$9:D18)),SUM(C$9:C18,C21)))","v":""},{"$f":"IF(ISERROR(OFFSET(G19,-COUNTBLANK(B9:B18)-1,0)-G21),\"\",OFFSET(G19,-COUNTBLANK(B9:B18)-1,0)-G21)","v":""},{"$f":"IF(ISERROR(OFFSET(F19,-COUNTBLANK(B9:B18)-1,0)+E21),\"\",OFFSET(F19,-COUNTBLANK(B9:B18)-1,0)+E21)","v":""},{"$f":"IF(ISERROR(100-IF(G6=\"Cumulative\",C21/C22*100,D21/C22*100)),\"\",ROUND(100-IF(G6=\"Cumulative\",C21/C22*100,D21/C22*100),1))","v":""},{"$f":"IF(C21=\"\",\"\",DATA_TOL!K14)","v":""},{"$f":"IF(LEN(H21)>0,\"-\",\"\")","v":""},{"$f":"IF(C21=\"\",\"\",DATA_TOL!L14)","v":""},null,{"$f":"IF(LEN(E21)=0,\"\",IF(N_TRIAL=\"Yes\",IF(AND(G21>=H21,G21<=J21),1,0),IF(AND(E21>=H21,E21<=J21),1,0)))","v":""},null,{"$f":"IF(AND(LEN(C21)>0,NOT(LEN(E21)=0),NOT(N_TRIAL=\"Yes\")),IF(OR(E21<H21,E21>J21),\"% passing #200 fails JMF target\",\"\"),\"\")","v":""},null,null,null,"#200",null,null,7.4999999999999997E-2,{"$f":"VLOOKUP(\"#200\",$B$9:$G$18,6,0)","v":{"$error":"#N/A"}},-1.1249387366082999,{"$error":"#N/A"}]
[null,"Total weight, g",{"$f":"IF(ISERROR(IF(G6=\"Cumulative\",C21,SUM(C9:C18)+C21)),\"\",IF(G6=\"Cumulative\",C21,SUM(C9:C18)+C21))","v":""},null,null,null,null,null,null,null,null,null,null,null,null,null,null,"#30",2.87,{"$f":"S22*V22/100","v":{"$error":"#N/A"}},0.6,{"$f":"10^X22","v":{"$error":"#N/A"}},{"$f":"LOG(U22)","v":-0.22184874961635639},{"$f":"FORECAST(W22,X19:X20,W19:W20)","v":{"$error":"#N/A"}}]
[null,null,{"$f":"IF(G5<>\"\",IF(G6=\"Cumulative\",IF(ISERROR(LARGE(C9:C19,1)),0,LARGE(C9:C19,1)),SUM(C9:C19))-G5,IF(G4<>\"\",IF(G6=\"Cumulative\",IF(ISERROR(LARGE(C9:C19,1)),0,LARGE(C9:C19,1)),SUM(C9:C19))-G4,IF(B23<>\"\",IF(G6=\"Cumulative\",IF(ISERROR(LARGE(C9:C19,1)),0,LARGE(C9:C19,1)),SUM(C9:C19))-B23,\"\")))","v":""},{"$f":"IF(AND(C22<>\"\",C23<>\"\"),IF(C25>0.2,\"Discrepancy too large - rerun analysis\",\"Sieving \" & IF(C23>0, \"Gain\", \"Loss\") & \" (g), from \" & IF(G5<>\"\", \"dry weight after washing\", \"original dry sample\")),\"\")","v":""},null,null,null,null,null,null,null,null,null,null,null,null,null,"#100",12.29,{"$f":"S23*V23/100","v":{"$error":"#N/A"}},0.15,{"$f":"10^X23","v":{"$error":"#N/A"}},{"$f":"LOG(U23)","v":-0.82390874094431876},{"$f":"FORECAST(W23,X20:X21,W20:W21)","v":{"$error":"#N/A"}}]
[null,null,null,null,null,null,null,null,null,null,null,null,null,null,null,null,null,null,null,{"$f":"SUM(T9:T18)+T22+T23","v":{"$error":"#N/A"}}]
[null,null,{"$f":"ABS(100*C23/C22)","v":{"$error":"#VALUE!"}}]

{"sheet":"CON4_DENSITY","index":44,"n_rows":37,"n_cols":13,"rows_kept":37,"cut":false,"hidden":false,"merged":[[34,2,34,4],[34,5,34,6],[35,2,35,4],[35,5,35,6],[36,2,36,4],[36,5,36,6],[33,2,33,4],[33,5,33,6],[0,1,0,8],[1,1,1,6],[2,2,2,4],[2,5,2,6],[15,1,15,6],[24,1,24,6],[30,1,30,6],[31,2,31,4],[31,5,31,6],[32,2,32,4],[32,5,32,6]]}
[null,{"$f":"header","v":"SAMPLE ID:    ______________________________    SAMPLED DATE: ___________________________\nLOT NUMBER:    _____________________________    LETTING DATE: ___________________________\nSAMPLE STATUS:    __________________________    CONTROLLING CSJ: ________________________\nCOUNTY:    _________________________________    SPEC YEAR: ______________________________\nSAMPLED BY:    __________________________________    SPEC ITEM: ______________________________\nSAMPLE LOCATION:    ________________________    SPECIAL PROVISION: ______________________\nMATERIAL CODE:    __________________________    MIX TYPE: _______________________________\nMATERIAL NAME: __________________________________________________________________\nPRODUCER: _______________________________________________________________________\nAREA ENGINEER:    __________________________    PROJECT MANAGER: _____________________________\nCOURSE\\LIFT:    __________________    STATION: ______________________    DIST. FROM CL: ______\n"}]
[null,{"$f":"LEFT(REPLACE(CELL(\"filename\",A1),1,FIND(\"]\",CELL(\"filename\",A1)),\"\"),4) &  \" DETERMINING PROPERTIES OF BITUMINOUS MIXTURES-Tex-207-F\"","v":"CON4 DETERMINING PROPERTIES OF BITUMINOUS MIXTURES-Tex-207-F"}]
[null,"Specimen type:","Laboratory",null,null,"Roadway"]
[null,"Specimen number:","1(1)","1(2)","1(3)","1(A)","1(B)"]
[null,"Note to developer - hide this row Specimen radius, mm:"]
[null,{"$f":"IF(DESIGN_GE,\"Specimen height, mm:\",\"Untrimmed specimen/Core height, in:\")","v":{"$error":"#N/A"}}]
[null,"Trimmed core height, in:"]
[null,"Weight of specimen in air, g:"]
[null,"Weight of specimen in water, g:"]
[null,"SSD weight of specimen in air, g:"]
[null,"Volume of specimen:",{"$f":"IF(AND(ISBLANK(C10),ISBLANK(C9)),\"\",C10-C9)","v":""},{"$f":"IF(AND(ISBLANK(D10),ISBLANK(D9)),\"\",D10-D9)","v":""},{"$f":"IF(AND(ISBLANK(E10),ISBLANK(E9)),\"\",E10-E9)","v":""},{"$f":"IF(AND(ISBLANK(F10),ISBLANK(F9)),\"\",F10-F9)","v":""},{"$f":"IF(AND(ISBLANK(G10),ISBLANK(G9)),\"\",G10-G9)","v":""}]
[null,"Note to developer - hide this row SSD Density:",{"$f":"IFERROR(C8/C11,\"\")","v":""},{"$f":"IFERROR(D8/D11,\"\")","v":""},{"$f":"IFERROR(E8/E11,\"\")","v":""},{"$f":"IFERROR(F8/F11,\"\")","v":""},{"$f":"IFERROR(G8/G11,\"\")","v":""}]
[null,"Percent absorption, %:",{"$f":"IFERROR(ROUND(100*((C10-C8)/(C10-C9)),1),\"\")","v":""},{"$f":"IFERROR(ROUND(100*((D10-D8)/(D10-D9)),1),\"\")","v":""},{"$f":"IFERROR(ROUND(100*((E10-E8)/(E10-E9)),1),\"\")","v":""},{"$f":"IFERROR(ROUND(100*((F10-F8)/(F10-F9)),1),\"\")","v":""},{"$f":"IFERROR(ROUND(100*((G10-G8)/(G10-G9)),1),\"\")","v":""}]
[null,"Bag required for Ga:",{"$f":"IF(ISNUMBER(C13),IF(C13>2,\"Yes\",\"No\"),\"\")","v":""},{"$f":"IF(ISNUMBER(D13),IF(D13>2,\"Yes\",\"No\"),\"\")","v":""},{"$f":"IF(ISNUMBER(E13),IF(E13>2,\"Yes\",\"No\"),\"\")","v":""},{"$f":"IF(ISNUMBER(F13),IF(F13>2,\"Yes\",\"No\"),\"\")","v":""},{"$f":"IF(ISNUMBER(G13),IF(G13>2,\"Yes\",\"No\"),\"\")","v":""}]
[null,"Bag Used for Ga:"]
[null,"Vacuum bag inputs"]
[null,"Vacuum bag method used:"]
[null,"Weight of specimen in air, g:"]
[null,"Sealed weight of specimen in water, g:",null,null,null,null,null,null,{"$f":"IF(OR(ISBLANK(C20),ISBLANK(C18)),\"\",IF(ABS(C20-C18)>5,-1,0))","v":""},{"$f":"IF(OR(ISBLANK(D20),ISBLANK(D18)),\"\",IF(ABS(D20-D18)>5,-1,0))","v":""},{"$f":"IF(OR(ISBLANK(E20),ISBLANK(E18)),\"\",IF(ABS(E20-E18)>5,-1,0))","v":""},{"$f":"IF(OR(ISBLANK(F20),ISBLANK(F18)),\"\",IF(ABS(F20-F18)>5,-1,0))","v":""},{"$f":"IF(OR(ISBLANK(G20),ISBLANK(G18)),\"\",IF(ABS(G20-G18)>5,-1,0))","v":""}]
[null,"Dry specimen weight after submersion, g:",null,null,null,null,null,null,{"$f":"IFERROR(IF(OR(I19:M19),\"> 5g. Repeat test, a leak may have occurred.\",\"\"),\"\")","v":""}]
[null,"Weight of vacuum bag(s), g:"]
[null,"Vacuum bag volume correction factor:",{"$f":"IFERROR(IF(LEFT(C17,1)=\"L\",-0.00166*(C18/C21)+0.8596,IF(LEFT(C17,1)=\"S\",-0.000566*(C18/C21)+0.8121,IF(LEFT(C17,1)=\"D\",-0.0022448*(C18/C21)+0.85818,\"\"))),\"\")","v":""},{"$f":"IFERROR(IF(LEFT(D17,1)=\"L\",-0.00166*(D18/D21)+0.8596,IF(LEFT(D17,1)=\"S\",-0.000566*(D18/D21)+0.8121,IF(LEFT(D17,1)=\"D\",-0.0022448*(D18/D21)+0.85818,\"\"))),\"\")","v":""},{"$f":"IFERROR(IF(LEFT(E17,1)=\"L\",-0.00166*(E18/E21)+0.8596,IF(LEFT(E17,1)=\"S\",-0.000566*(E18/E21)+0.8121,IF(LEFT(E17,1)=\"D\",-0.0022448*(E18/E21)+0.85818,\"\"))),\"\")","v":""},{"$f":"IFERROR(IF(LEFT(F17,1)=\"L\",-0.00166*(F18/F21)+0.8596,IF(LEFT(F17,1)=\"S\",-0.000566*(F18/F21)+0.8121,IF(LEFT(F17,1)=\"D\",-0.0022448*(F18/F21)+0.85818,\"\"))),\"\")","v":""},{"$f":"IFERROR(IF(LEFT(G17,1)=\"L\",-0.00166*(G18/G21)+0.8596,IF(LEFT(G17,1)=\"S\",-0.000566*(G18/G21)+0.8121,IF(LEFT(G17,1)=\"D\",-0.0022448*(G18/G21)+0.85818,\"\"))),\"\")","v":""}]
[null,"Vacuum bag density:",{"$f":"IFERROR(C18/(C21+C18-C19-(C21/C22)),\"\")","v":""},{"$f":"IFERROR(D18/(D21+D18-D19-(D21/D22)),\"\")","v":""},{"$f":"IFERROR(E18/(E21+E18-E19-(E21/E22)),\"\")","v":""},{"$f":"IFERROR(F18/(F21+F18-F19-(F21/F22)),\"\")","v":""},{"$f":"IFERROR(G18/(G21+G18-G19-(G21/G22)),\"\")","v":""}]
[null,"Note to developer - hide this row",{"$f":"IF(LEFT($B$2,1)=\"D\",PRESS_T,PRESS_C)+IF(INDEX(CHK_GE,MIX_ID),IF(ISERROR(C8*1000/(3.14*75^2*C6)),\"\",C8*1000/(3.14*75^2*C6)),IF(C15<>\"Yes\",IF(ISERROR(C12),\"\",ROUND(C12,3)),IF(ISERROR(MIN(C12,C23)),\"\",ROUND(MIN(C12,C23),3))))","v":{"$error":"#N/A"}},{"$f":"IF(LEFT($B$2,1)=\"D\",PRESS_T,PRESS_C)+IF(INDEX(CHK_GE,MIX_ID),IF(ISERROR(D8*1000/(3.14*75^2*D6)),\"\",D8*1000/(3.14*75^2*D6)),IF(D15<>\"Yes\",IF(ISERROR(D12),\"\",ROUND(D12,3)),IF(ISERROR(MIN(D12,D23)),\"\",ROUND(MIN(D12,D23),3))))","v":{"$error":"#N/A"}},{"$f":"IF(LEFT($B$2,1)=\"D\",PRESS_T,PRESS_C)+IF(INDEX(CHK_GE,MIX_ID),IF(ISERROR(E8*1000/(3.14*75^2*E6)),\"\",E8*1000/(3.14*75^2*E6)),IF(E15<>\"Yes\",IF(ISERROR(E12),\"\",ROUND(E12,3)),IF(ISERROR(MIN(E12,E23)),\"\",ROUND(MIN(E12,E23),3))))","v":{"$error":"#N/A"}},{"$f":"IF(INDEX(CHK_GE,MIX_ID),IF(ISERROR(F8*1000/(3.14*F5^2*F6)),\"\",F8*1000/(3.14*F5^2*F6)),IF(F15<>\"Yes\",IF(ISERROR(F12),\"\",ROUND(F12,3)),IF(ISERROR(MIN(F12,F23)),\"\",ROUND(MIN(F12,F23),3))))","v":{"$error":"#N/A"}},{"$f":"IF(INDEX(CHK_GE,MIX_ID),IF(ISERROR(G8*1000/(3.14*G5^2*G6)),\"\",G8*1000/(3.14*G5^2*G6)),IF(G15<>\"Yes\",IF(ISERROR(G12),\"\",ROUND(G12,3)),IF(ISERROR(MIN(G12,G23)),\"\",ROUND(MIN(G12,G23),3))))","v":{"$error":"#N/A"}}]
[null,"Volumetric properties"]
[null,"Bulk specific gravity, Ga:",{"$f":"IFERROR(ROUND(C24,3),\"\")","v":""},{"$f":"IFERROR(ROUND(D24,3),\"\")","v":""},{"$f":"IFERROR(ROUND(E24,3),\"\")","v":""},{"$f":"IFERROR(ROUND(F24,3),\"\")","v":""},{"$f":"IFERROR(ROUND(G24,3),\"\")","v":""}]
[null,"Percent density, %:",{"$f":"IFERROR(ROUND(100*C26/$C$33,1),\"\")","v":""},{"$f":"IFERROR(ROUND(100*D26/$C$33,1),\"\")","v":""},{"$f":"IFERROR(ROUND(100*E26/$C$33,1),\"\")","v":""},{"$f":"IFERROR(ROUND(100*F26/$F$33,1),\"\")","v":""},{"$f":"IFERROR(ROUND(100*G26/$F$33,1),\"\")","v":""}]
[null,"Percent air voids, %:",{"$f":"IFERROR(ROUND(100-C27,1),\"\")","v":""},{"$f":"IFERROR(ROUND(100-D27,1),\"\")","v":""},{"$f":"IFERROR(ROUND(100-E27,1),\"\")","v":""},{"$f":"IFERROR(ROUND(100-F27,1),\"\")","v":""},{"$f":"IFERROR(ROUND(100-G27,1),\"\")","v":""}]
[null,"Percent VMA, %:",{"$f":"IFERROR(ROUND(100-(100*(C26/INDIRECT(LEFT($B$2,4) & \"_PROD!$C$30\")))+((C26*$C$32)/MIX_GSB),1),\"\")","v":""},{"$f":"IFERROR(ROUND(100-(100*(D26/INDIRECT(LEFT($B$2,4) & \"_PROD!$C$30\")))+((D26*$C$32)/MIX_GSB),1),\"\")","v":""},{"$f":"IFERROR(ROUND(100-(100*(E26/INDIRECT(LEFT($B$2,4) & \"_PROD!$C$30\")))+((E26*$C$32)/MIX_GSB),1),\"\")","v":""},{"$f":"IFERROR(ROUND(100-(100*(F26/INDIRECT(LEFT($B$2,4) & \"_PROD!$C$30\")))+((F26*$F$32)/MIX_GSB),1),\"\")","v":""},{"$f":"IFERROR(ROUND(100-(100*(G26/INDIRECT(LEFT($B$2,4) & \"_PROD!$C$30\")))+((G26*$F$32)/MIX_GSB),1),\"\")","v":""}]
[]
[null,"MEAN VOLUMETRIC PROPERTIES"]
[null,{"$f":"IF(AND(LEFT($B$2,1)=\"D\",INDIRECT(LEFT($B$2,4) & \"_PROD!C17\")=\"\",INDIRECT(SUBSTITUTE(LEFT($B$2,4),\"DOT\",\"CON\") & \"_PROD!C17\")<>\"\"),\"Contractor's asphalt content, %:\",\"Asphalt content, %:\")","v":"Asphalt content, %:"},{"$f":"IFERROR(IF(AND(LEFT($B$2,1)=\"D\",INDIRECT(LEFT($B$2,4) & \"_PROD!C17\")=\"\",INDIRECT(SUBSTITUTE(LEFT($B$2,4),\"DOT\",\"CON\") & \"_PROD!C17\")<>\"\"),ROUND(INDIRECT(SUBSTITUTE(LEFT($B$2,4),\"DOT\",\"CON\") & \"_PROD!C17\"),1),ROUND(INDIRECT(LEFT($B$2,4) & \"_PROD!C17\"),1)),\"\")","v":""},null,null,{"$f":"IFERROR(IF(AND(LEFT($B$2,1)=\"D\",INDIRECT(LEFT($B$2,4) & \"_PROD!C17\")=\"\",INDIRECT(SUBSTITUTE(LEFT($B$2,4),\"DOT\",\"CON\") & \"_PROD!C17\")<>\"\"),ROUND(INDIRECT(SUBSTITUTE(LEFT($B$2,4),\"DOT\",\"CON\") & \"_PROD!C17\"),1),ROUND(INDIRECT(LEFT($B$2,4) & \"_PROD!C17\"),1)),\"\")","v":""}]
[null,{"$f":"IF(AND(INDIRECT(LEFT($B$2,4) & \"_PROD!C27\")<>\"\",INDIRECT(LEFT($B$2,4) & \"_PROD!C27\")>0.01),\"Corrected Rice specific gravity, Grc:\",\"Rice specific gravity, Gr:\")","v":"Rice specific gravity, Gr:"},{"$f":"IFERROR(ROUND(IF(DESIGN_GE,100/((100-C32)/MIX_GMB+(C32/MIX_GSB)),INDIRECT(LEFT($B$2,4) & \"_PROD!C30\")),3),\"\")","v":""},null,null,{"$f":"IF(LEFT($B$2,1)=\"D\",IFERROR(ROUND(AVERAGE(INDIRECT(\"DOT1_PROD!C30\"),INDIRECT(\"DOT2_PROD!C30\"),INDIRECT(\"DOT3_PROD!C30\"),INDIRECT(\"DOT4_PROD!C30\")),3),\"\"),IFERROR(ROUND(AVERAGE(INDIRECT(\"CON1_PROD!C30\"),INDIRECT(\"CON2_PROD!C30\"),INDIRECT(\"CON3_PROD!C30\"),INDIRECT(\"CON4_PROD!C30\")),3),\"\"))","v":""}]
[null,"Percent density, %:",{"$f":"IFERROR(ROUND(AVERAGE(C27:E27),1),\"\")","v":""},null,null,{"$f":"IFERROR(ROUND(AVERAGE(F27:G27),1),\"\")","v":""}]
[null,"Actual specific gravity:",{"$f":"IFERROR(ROUND(AVERAGE(C26:E26),3),\"\")","v":""},null,null,{"$f":"IFERROR(ROUND(AVERAGE(F26:G26),3),\"\")","v":""}]
[null,"Percent air voids, %:",{"$f":"IFERROR(ROUND(AVERAGE(C28:E28),1),\"\")","v":""},null,null,{"$f":"IFERROR(ROUND(AVERAGE(F28:G28),1),\"\")","v":""}]
[null,"Percent VMA, %:",{"$f":"IFERROR(ROUND(AVERAGE(C29:E29),1),\"\")","v":""},null,null,{"$f":"IFERROR(ROUND(AVERAGE(F29:G29),1),\"\")","v":""}]

{"sheet":"SUMMARY","index":45,"n_rows":86,"n_cols":54,"rows_kept":86,"cut":false,"hidden":false,"merged":[[79,1,79,3],[0,1,0,15],[3,14,4,15],[41,1,41,3],[45,1,45,3],[1,2,1,15],[19,1,19,13],[23,1,23,3],[21,1,21,3],[41,14,41,15],[42,7,42,8],[85,1,85,13],[25,1,25,13],[51,1,51,13],[55,1,55,13],[39,1,39,13],[65,1,65,13],[35,1,35,13],[63,1,63,3],[67,1,67,3],[49,1,49,3],[59,1,59,3],[81,1,81,13],[83,1,83,3],[73,1,73,13],[75,1,75,3],[77,1,77,13],[3,36,3,39],[39,17,39,20],[5,5,5,8],[5,10,5,13],[3,2,5,2],[3,3,5,3],[3,4,5,4],[3,5,3,8],[3,10,3,13],[3,17,3,20],[5,17,5,20],[25,17,25,20],[35,17,35,20],[27,1,27,3],[29,1,29,3],[31,1,31,3],[3,26,3,29],[3,32,3,35],[1,17,1,20],[69,1,69,13],[71,1,71,3],[33,1,33,3],[61,1,61,3],[47,1,47,3],[53,1,53,3],[57,1,57,3],[37,1,37,3],[43,1,43,3]]}
[null,{"$f":"header","v":"SAMPLE ID:    ______________________________    SAMPLED DATE: ___________________________\nLOT NUMBER:    _____________________________    LETTING DATE: ___________________________\nSAMPLE STATUS:    __________________________    CONTROLLING CSJ: ________________________\nCOUNTY:    _________________________________    SPEC YEAR: ______________________________\nSAMPLED BY:    __________________________________    SPEC ITEM: ______________________________\nSAMPLE LOCATION:    ________________________    SPECIAL PROVISION: ______________________\nMATERIAL CODE:    __________________________    MIX TYPE: _______________________________\nMATERIAL NAME: __________________________________________________________________\nPRODUCER: _______________________________________________________________________\nAREA ENGINEER:    __________________________    PROJECT MANAGER: _____________________________\nCOURSE\\LIFT:    __________________    STATION: ______________________    DIST. FROM CL: ______\n"}]
[null,null,"GRADATION OF EXTRACTED AGGREGATE-Tex-200-F",null,null,null,null,null,null,null,null,null,null,null,null,null,null,"GRADATION REFEREE"]
[]
[null,null,"Sieve size",{"$f":"IF(DESIGN_JMF<>2,\"Design JMF\",\"JMF 2\")","v":"Design JMF"},"Current JMF","TxDOT test data",null,null,null,null,"Contractor test data",null,null,null,"Correction factor",null,null,"Referee test data",null,null,null,null,null,null,null,null,"Retained",null,null,null,null,null,"Check gradation",null,null,null,"Check RZ"]
[null,null,null,null,null,1,2,3,4,null,1,2,3,4,null,null,null,1,2,3,4,null,null,null,null,null,1,2,3,4,null,null,1,2,3,4,1,2,3,4]
[null,null,null,null,null,"Cumulative percent passing",null,null,null,null,"Cumulative percent passing",null,null,null,"TxDOT","CON",null,"Cumulative percent passing"]
[null,null,{"$f":"DESIGN_GRAD!B5","v":""},{"$f":"IF(LEN(DESIGN_GRAD!I5)>0,DESIGN_GRAD!I5,\"\")","v":""},{"$f":"IF(LEN(DESIGN_GRAD!M5)>0,DESIGN_GRAD!M5,\"\")","v":""},{"$f":"IF(LEN(INDIRECT(\"DOT\"&F$5&\"_GRAD!G\"&$AY7))>0,IF(NOT(INDIRECT(\"DOT\"&F$5&\"_GRAD!L\"&$AY7)),\"+ \",IF($BB7,IF(NOT(INDIRECT(\"DOT\"&F$5&\"_GRAD!M\"&$AY7)),\"^ \",\"\"),\"\"))&TEXT(INDIRECT(\"DOT\"&F$5&\"_GRAD!G\"&$AY7),\"0.0\"),\"\")","v":""},"","","",null,{"$f":"IF(LEN(INDIRECT(\"CON\"&F$5&\"_GRAD!G\"&$AY7))>0,IF(NOT(INDIRECT(\"CON\"&F$5&\"_GRAD!L\"&$AY7)),\"+ \",IF($BB7,IF(NOT(INDIRECT(\"CON\"&F$5&\"_GRAD!M\"&$AY7)),\"^ \",\"\"),\"\"))&TEXT(INDIRECT(\"CON\"&F$5&\"_GRAD!G\"&$AY7),\"0.0\"),\"\")","v":""},{"$f":"IF(LEN(INDIRECT(\"CON\"&G$5&\"_GRAD!G\"&$AY7))>0,IF(NOT(INDIRECT(\"CON\"&G$5&\"_GRAD!L\"&$AY7)),\"+ \",IF($BB7,IF(NOT(INDIRECT(\"CON\"&G$5&\"_GRAD!M\"&$AY7)),\"^ \",\"\"),\"\"))&TEXT(INDIRECT(\"CON\"&G$5&\"_GRAD!G\"&$AY7),\"0.0\"),\"\")","v":""},{"$f":"IF(LEN(INDIRECT(\"CON\"&H$5&\"_GRAD!G\"&$AY7))>0,IF(NOT(INDIRECT(\"CON\"&H$5&\"_GRAD!L\"&$AY7)),\"+ \",IF($BB7,IF(NOT(INDIRECT(\"CON\"&H$5&\"_GRAD!M\"&$AY7)),\"^ \",\"\"),\"\"))&TEXT(INDIRECT(\"CON\"&H$5&\"_GRAD!G\"&$AY7),\"0.0\"),\"\")","v":""},{"$f":"IF(LEN(INDIRECT(\"CON\"&I$5&\"_GRAD!G\"&$AY7))>0,IF(NOT(INDIRECT(\"CON\"&I$5&\"_GRAD!L\"&$AY7)),\"+ \",IF($BB7,IF(NOT(INDIRECT(\"CON\"&I$5&\"_GRAD!M\"&$AY7)),\"^ \",\"\"),\"\"))&TEXT(INDIRECT(\"CON\"&I$5&\"_GRAD!G\"&$AY7),\"0.0\"),\"\")","v":""},{"$f":"IF(LEN(DESIGN_GRAD!O5)>0,DESIGN_GRAD!O5,\"\")","v":""},{"$f":"IF(LEN(DESIGN_GRAD!P5)>0,DESIGN_GRAD!P5,\"\")","v":""},null,null,null,null,null,null,{"$f":"IF(ISBLANK(R7),\"\",IF(NOT(AG7),\"+ \",IF($BB7,IF(NOT(AK7),\"^ \",\"\"),\"\"))&TEXT(R7,\"0.0\"))","v":""},{"$f":"IF(ISBLANK(S7),\"\",IF(NOT(AH7),\"+ \",IF($BB7,IF(NOT(AL7),\"^ \",\"\"),\"\"))&TEXT(S7,\"0.0\"))","v":""},{"$f":"IF(ISBLANK(T7),\"\",IF(NOT(AI7),\"+ \",IF($BB7,IF(NOT(AM7),\"^ \",\"\"),\"\"))&TEXT(T7,\"0.0\"))","v":""},{"$f":"IF(ISBLANK(U7),\"\",IF(NOT(AJ7),\"+ \",IF($BB7,IF(NOT(AN7),\"^ \",\"\"),\"\"))&TEXT(U7,\"0.0\"))","v":""},0,0,0,0,{"$f":"DATA_TOL!R4","v":0},{"$f":"DATA_TOL!S4","v":0},{"$f":"IF(ISBLANK(R7),\"\",IF(AND(AA7>=$AE7,AA7<=$AF7),1,0))","v":""},{"$f":"IF(ISBLANK(S7),\"\",IF(AND(AB7>=$AE7,AB7<=$AF7),1,0))","v":""},{"$f":"IF(ISBLANK(T7),\"\",IF(AND(AC7>=$AE7,AC7<=$AF7),1,0))","v":""},{"$f":"IF(ISBLANK(U7),\"\",IF(AND(AD7>=$AE7,AD7<=$AF7),1,0))","v":""},{"$f":"IF($AO7,IF(AND(R7>=DESIGN_GRAD!$F5,R7<=DESIGN_GRAD!$H5),0,1),\"\")","v":{"$error":"#REF!"}},{"$f":"IF($AO7,IF(AND(S7>=DESIGN_GRAD!$F5,S7<=DESIGN_GRAD!$H5),0,1),\"\")","v":{"$error":"#REF!"}},{"$f":"IF($AO7,IF(AND(T7>=DESIGN_GRAD!$F5,T7<=DESIGN_GRAD!$H5),0,1),\"\")","v":{"$error":"#REF!"}},{"$f":"IF($AO7,IF(AND(U7>=DESIGN_GRAD!$F5,U7<=DESIGN_GRAD!$H5),0,1),\"\")","v":{"$error":"#REF!"}},{"$f":"IF(LEN(INDEX(INDIRECT(MIX_NAME),1,9))>0,-1,0)","v":{"$error":"#REF!"}},null,null,null,null,null,null,null,null,null,9,1,{"$f":"IF(LEN(INDEX(INDIRECT(MIX_NAME),AZ7,2))>0,-1,0)","v":{"$error":"#REF!"}},{"$f":"IF(LEN(INDEX(INDIRECT(MIX_NAME),AZ7,9))>0,-1,0)","v":{"$error":"#REF!"}}]
[null,null,{"$f":"DESIGN_GRAD!B6","v":""},{"$f":"IF(LEN(DESIGN_GRAD!I6)>0,DESIGN_GRAD!I6,\"\")","v":""},{"$f":"IF(LEN(DESIGN_GRAD!M6)>0,DESIGN_GRAD!M6,\"\")","v":""},"","","","",null,"","","","",{"$f":"IF(LEN(DESIGN_GRAD!O6)>0,DESIGN_GRAD!O6,\"\")","v":""},{"$f":"IF(LEN(DESIGN_GRAD!P6)>0,DESIGN_GRAD!P6,\"\")","v":""},null,null,null,null,null,null,{"$f":"IF(ISBLANK(R8),\"\",IF(NOT(AG8),\"+ \",IF($BB8,IF(NOT(AK8),\"^ \",\"\"),\"\"))&TEXT(R8,\"0.0\"))","v":""},{"$f":"IF(ISBLANK(S8),\"\",IF(NOT(AH8),\"+ \",IF($BB8,IF(NOT(AL8),\"^ \",\"\"),\"\"))&TEXT(S8,\"0.0\"))","v":""},{"$f":"IF(ISBLANK(T8),\"\",IF(NOT(AI8),\"+ \",IF($BB8,IF(NOT(AM8),\"^ \",\"\"),\"\"))&TEXT(T8,\"0.0\"))","v":""},{"$f":"IF(ISBLANK(U8),\"\",IF(NOT(AJ8),\"+ \",IF($BB8,IF(NOT(AN8),\"^ \",\"\"),\"\"))&TEXT(U8,\"0.0\"))","v":""},{"$f":"IF(ISBLANK(R8),AA9,R7-R8)","v":0},{"$f":"IF(ISBLANK(S8),AB9,S7-S8)","v":0},{"$f":"IF(ISBLANK(T8),AC9,T7-T8)","v":0},{"$f":"IF(ISBLANK(U8),AD9,U7-U8)","v":0},{"$f":"DATA_TOL!R5","v":0},{"$f":"DATA_TOL!S5","v":0},{"$f":"IF(ISBLANK(R8),\"\",IF(AND(AA8>=$AE8,AA8<=$AF8),1,0))","v":""},{"$f":"IF(ISBLANK(S8),\"\",IF(AND(AB8>=$AE8,AB8<=$AF8),1,0))","v":""},{"$f":"IF(ISBLANK(T8),\"\",IF(AND(AC8>=$AE8,AC8<=$AF8),1,0))","v":""},{"$f":"IF(ISBLANK(U8),\"\",IF(AND(AD8>=$AE8,AD8<=$AF8),1,0))","v":""},{"$f":"IF($AO8,IF(AND(R8>=DESIGN_GRAD!$F6,R8<=DESIGN_GRAD!$H6),0,1),\"\")","v":{"$error":"#REF!"}},{"$f":"IF($AO8,IF(AND(S8>=DESIGN_GRAD!$F6,S8<=DESIGN_GRAD!$H6),0,1),\"\")","v":{"$error":"#REF!"}},{"$f":"IF($AO8,IF(AND(T8>=DESIGN_GRAD!$F6,T8<=DESIGN_GRAD!$H6),0,1),\"\")","v":{"$error":"#REF!"}},{"$f":"IF($AO8,IF(AND(U8>=DESIGN_GRAD!$F6,U8<=DESIGN_GRAD!$H6),0,1),\"\")","v":{"$error":"#REF!"}},{"$f":"IF(LEN(INDEX(INDIRECT(MIX_NAME),2,9))>0,-1,0)","v":{"$error":"#REF!"}},null,null,null,null,null,null,null,null,null,10,2,{"$error":"#REF!"},{"$error":"#REF!"}]
[null,null,{"$f":"DESIGN_GRAD!B7","v":""},{"$f":"IF(LEN(DESIGN_GRAD!I7)>0,DESIGN_GRAD!I7,\"\")","v":""},{"$f":"IF(LEN(DESIGN_GRAD!M7)>0,DESIGN_GRAD!M7,\"\")","v":""},"","","","",null,"","","","",{"$f":"IF(LEN(DESIGN_GRAD!O7)>0,DESIGN_GRAD!O7,\"\")","v":""},{"$f":"IF(LEN(DESIGN_GRAD!P7)>0,DESIGN_GRAD!P7,\"\")","v":""},null,null,null,null,null,null,"","","","",0,0,0,0,{"$f":"DATA_TOL!R6","v":0},{"$f":"DATA_TOL!S6","v":0},"","","","",{"$f":"IF($AO9,IF(AND(R9>=DESIGN_GRAD!$F7,R9<=DESIGN_GRAD!$H7),0,1),\"\")","v":{"$error":"#REF!"}},{"$f":"IF($AO9,IF(AND(S9>=DESIGN_GRAD!$F7,S9<=DESIGN_GRAD!$H7),0,1),\"\")","v":{"$error":"#REF!"}},{"$f":"IF($AO9,IF(AND(T9>=DESIGN_GRAD!$F7,T9<=DESIGN_GRAD!$H7),0,1),\"\")","v":{"$error":"#REF!"}},{"$f":"IF($AO9,IF(AND(U9>=DESIGN_GRAD!$F7,U9<=DESIGN_GRAD!$H7),0,1),\"\")","v":{"$error":"#REF!"}},{"$f":"IF(LEN(INDEX(INDIRECT(MIX_NAME),3,9))>0,-1,0)","v":{"$error":"#REF!"}},null,null,null,null,null,null,null,null,null,11,3,{"$error":"#REF!"},{"$error":"#REF!"}]
[null,null,{"$f":"DESIGN_GRAD!B8","v":""},{"$f":"IF(LEN(DESIGN_GRAD!I8)>0,DESIGN_GRAD!I8,\"\")","v":""},{"$f":"IF(LEN(DESIGN_GRAD!M8)>0,DESIGN_GRAD!M8,\"\")","v":""},"","","","",null,"","","","",{"$f":"IF(LEN(DESIGN_GRAD!O8)>0,DESIGN_GRAD!O8,\"\")","v":""},{"$f":"IF(LEN(DESIGN_GRAD!P8)>0,DESIGN_GRAD!P8,\"\")","v":""},null,null,null,null,null,null,"","","","",0,0,0,0,{"$f":"DATA_TOL!R7","v":0},{"$f":"DATA_TOL!S7","v":0},"","","","",{"$f":"IF($AO10,IF(AND(R10>=DESIGN_GRAD!$F8,R10<=DESIGN_GRAD!$H8),0,1),\"\")","v":{"$error":"#REF!"}},{"$f":"IF($AO10,IF(AND(S10>=DESIGN_GRAD!$F8,S10<=DESIGN_GRAD!$H8),0,1),\"\")","v":{"$error":"#REF!"}},{"$f":"IF($AO10,IF(AND(T10>=DESIGN_GRAD!$F8,T10<=DESIGN_GRAD!$H8),0,1),\"\")","v":{"$error":"#REF!"}},{"$f":"IF($AO10,IF(AND(U10>=DESIGN_GRAD!$F8,U10<=DESIGN_GRAD!$H8),0,1),\"\")","v":{"$error":"#REF!"}},{"$f":"IF(LEN(INDEX(INDIRECT(MIX_NAME),4,9))>0,-1,0)","v":{"$error":"#REF!"}},null,null,null,null,null,null,null,null,null,12,4,{"$error":"#REF!"},{"$error":"#REF!"}]
[null,null,{"$f":"DESIGN_GRAD!B9","v":""},{"$f":"IF(LEN(DESIGN_GRAD!I9)>0,DESIGN_GRAD!I9,\"\")","v":""},{"$f":"IF(LEN(DESIGN_GRAD!M9)>0,DESIGN_GRAD!M9,\"\")","v":""},"","","","",null,"","","","",{"$f":"IF(LEN(DESIGN_GRAD!O9)>0,DESIGN_GRAD!O9,\"\")","v":""},{"$f":"IF(LEN(DESIGN_GRAD!P9)>0,DESIGN_GRAD!P9,\"\")","v":""},null,null,null,null,null,null,"","","","",0,0,0,0,{"$f":"DATA_TOL!R8","v":0},{"$f":"DATA_TOL!S8","v":0},"","","","",{"$f":"IF($AO11,IF(AND(R11>=DESIGN_GRAD!$F9,R11<=DESIGN_GRAD!$H9),0,1),\"\")","v":{"$error":"#REF!"}},{"$f":"IF($AO11,IF(AND(S11>=DESIGN_GRAD!$F9,S11<=DESIGN_GRAD!$H9),0,1),\"\")","v":{"$error":"#REF!"}},{"$f":"IF($AO11,IF(AND(T11>=DESIGN_GRAD!$F9,T11<=DESIGN_GRAD!$H9),0,1),\"\")","v":{"$error":"#REF!"}},{"$f":"IF($AO11,IF(AND(U11>=DESIGN_GRAD!$F9,U11<=DESIGN_GRAD!$H9),0,1),\"\")","v":{"$error":"#REF!"}},{"$f":"IF(LEN(INDEX(INDIRECT(MIX_NAME),5,9))>0,-1,0)","v":{"$error":"#REF!"}},null,null,null,null,null,null,null,null,null,13,5,{"$error":"#REF!"},{"$error":"#REF!"}]
[null,null,{"$f":"DESIGN_GRAD!B10","v":""},{"$f":"IF(LEN(DESIGN_GRAD!I10)>0,DESIGN_GRAD!I10,\"\")","v":""},{"$f":"IF(LEN(DESIGN_GRAD!M10)>0,DESIGN_GRAD!M10,\"\")","v":""},"","","","",null,"","","","",{"$f":"IF(LEN(DESIGN_GRAD!O10)>0,DESIGN_GRAD!O10,\"\")","v":""},{"$f":"IF(LEN(DESIGN_GRAD!P10)>0,DESIGN_GRAD!P10,\"\")","v":""},null,null,null,null,null,null,"","","","",0,0,0,0,{"$f":"DATA_TOL!R9","v":0},{"$f":"DATA_TOL!S9","v":0},"","","","",{"$f":"IF($AO12,IF(AND(R12>=DESIGN_GRAD!$F10,R12<=DESIGN_GRAD!$H10),0,1),\"\")","v":{"$error":"#REF!"}},{"$f":"IF($AO12,IF(AND(S12>=DESIGN_GRAD!$F10,S12<=DESIGN_GRAD!$H10),0,1),\"\")","v":{"$error":"#REF!"}},{"$f":"IF($AO12,IF(AND(T12>=DESIGN_GRAD!$F10,T12<=DESIGN_GRAD!$H10),0,1),\"\")","v":{"$error":"#REF!"}},{"$f":"IF($AO12,IF(AND(U12>=DESIGN_GRAD!$F10,U12<=DESIGN_GRAD!$H10),0,1),\"\")","v":{"$error":"#REF!"}},{"$f":"IF(LEN(INDEX(INDIRECT(MIX_NAME),6,9))>0,-1,0)","v":{"$error":"#REF!"}},null,null,null,null,null,null,null,null,null,14,6,{"$error":"#REF!"},{"$error":"#REF!"}]
[null,null,{"$f":"DESIGN_GRAD!B11","v":""},{"$f":"IF(LEN(DESIGN_GRAD!I11)>0,DESIGN_GRAD!I11,\"\")","v":""},{"$f":"IF(LEN(DESIGN_GRAD!M11)>0,DESIGN_GRAD!M11,\"\")","v":""},"","","","",null,"","","","",{"$f":"IF(LEN(DESIGN_GRAD!O11)>0,DESIGN_GRAD!O11,\"\")","v":""},{"$f":"IF(LEN(DESIGN_GRAD!P11)>0,DESIGN_GRAD!P11,\"\")","v":""},null,null,null,null,null,null,"","","","",0,0,0,0,{"$f":"DATA_TOL!R10","v":0},{"$f":"DATA_TOL!S10","v":0},"","","","",{"$f":"IF($AO13,IF(AND(R13>=DESIGN_GRAD!$F11,R13<=DESIGN_GRAD!$H11),0,1),\"\")","v":{"$error":"#REF!"}},{"$f":"IF($AO13,IF(AND(S13>=DESIGN_GRAD!$F11,S13<=DESIGN_GRAD!$H11),0,1),\"\")","v":{"$error":"#REF!"}},{"$f":"IF($AO13,IF(AND(T13>=DESIGN_GRAD!$F11,T13<=DESIGN_GRAD!$H11),0,1),\"\")","v":{"$error":"#REF!"}},{"$f":"IF($AO13,IF(AND(U13>=DESIGN_GRAD!$F11,U13<=DESIGN_GRAD!$H11),0,1),\"\")","v":{"$error":"#REF!"}},{"$f":"IF(LEN(INDEX(INDIRECT(MIX_NAME),7,9))>0,-1,0)","v":{"$error":"#REF!"}},null,null,null,null,null,null,null,null,null,15,7,{"$error":"#REF!"},{"$error":"#REF!"}]
[null,null,{"$f":"DESIGN_GRAD!B12","v":""},{"$f":"IF(LEN(DESIGN_GRAD!I12)>0,DESIGN_GRAD!I12,\"\")","v":""},{"$f":"IF(LEN(DESIGN_GRAD!M12)>0,DESIGN_GRAD!M12,\"\")","v":""},"","","","",null,"","","","",{"$f":"IF(LEN(DESIGN_GRAD!O12)>0,DESIGN_GRAD!O12,\"\")","v":""},{"$f":"IF(LEN(DESIGN_GRAD!P12)>0,DESIGN_GRAD!P12,\"\")","v":""},null,null,null,null,null,null,"","","","",0,0,0,0,{"$f":"DATA_TOL!R11","v":0},{"$f":"DATA_TOL!S11","v":0},"","","","",{"$f":"IF($AO14,IF(AND(R14>=DESIGN_GRAD!$F12,R14<=DESIGN_GRAD!$H12),0,1),\"\")","v":{"$error":"#REF!"}},{"$f":"IF($AO14,IF(AND(S14>=DESIGN_GRAD!$F12,S14<=DESIGN_GRAD!$H12),0,1),\"\")","v":{"$error":"#REF!"}},{"$f":"IF($AO14,IF(AND(T14>=DESIGN_GRAD!$F12,T14<=DESIGN_GRAD!$H12),0,1),\"\")","v":{"$error":"#REF!"}},{"$f":"IF($AO14,IF(AND(U14>=DESIGN_GRAD!$F12,U14<=DESIGN_GRAD!$H12),0,1),\"\")","v":{"$error":"#REF!"}},{"$f":"IF(LEN(INDEX(INDIRECT(MIX_NAME),8,9))>0,-1,0)","v":{"$error":"#REF!"}},null,null,null,null,null,null,null,null,null,16,8,{"$error":"#REF!"},{"$error":"#REF!"}]
[null,null,{"$f":"DESIGN_GRAD!B13","v":""},{"$f":"IF(LEN(DESIGN_GRAD!I13)>0,DESIGN_GRAD!I13,\"\")","v":""},{"$f":"IF(LEN(DESIGN_GRAD!M13)>0,DESIGN_GRAD!M13,\"\")","v":""},"","","","",null,"","","","",{"$f":"IF(LEN(DESIGN_GRAD!O13)>0,DESIGN_GRAD!O13,\"\")","v":""},{"$f":"IF(LEN(DESIGN_GRAD!P13)>0,DESIGN_GRAD!P13,\"\")","v":""},null,null,null,null,null,null,"","","","",0,0,0,0,{"$f":"DATA_TOL!R12","v":0},{"$f":"DATA_TOL!S12","v":0},"","","","",{"$f":"IF($AO15,IF(AND(R15>=DESIGN_GRAD!$F13,R15<=DESIGN_GRAD!$H13),0,1),\"\")","v":{"$error":"#REF!"}},{"$f":"IF($AO15,IF(AND(S15>=DESIGN_GRAD!$F13,S15<=DESIGN_GRAD!$H13),0,1),\"\")","v":{"$error":"#REF!"}},{"$f":"IF($AO15,IF(AND(T15>=DESIGN_GRAD!$F13,T15<=DESIGN_GRAD!$H13),0,1),\"\")","v":{"$error":"#REF!"}},{"$f":"IF($AO15,IF(AND(U15>=DESIGN_GRAD!$F13,U15<=DESIGN_GRAD!$H13),0,1),\"\")","v":{"$error":"#REF!"}},{"$f":"IF(LEN(INDEX(INDIRECT(MIX_NAME),9,9))>0,-1,0)","v":{"$error":"#REF!"}},null,null,null,null,null,null,null,null,null,17,9,{"$error":"#REF!"},{"$error":"#REF!"}]
[null,null,{"$f":"DESIGN_GRAD!B14","v":""},{"$f":"IF(LEN(DESIGN_GRAD!I14)>0,DESIGN_GRAD!I14,\"\")","v":""},{"$f":"IF(LEN(DESIGN_GRAD!M14)>0,DESIGN_GRAD!M14,\"\")","v":""},"","","","",null,"","","","",{"$f":"IF(LEN(DESIGN_GRAD!O14)>0,DESIGN_GRAD!O14,\"\")","v":""},{"$f":"IF(LEN(DESIGN_GRAD!P14)>0,DESIGN_GRAD!P14,\"\")","v":""},null,null,null,null,null,null,"","","","",{"$f":"IF(ISBLANK(R16),AA17,R15-R16)","v":0},0,0,0,{"$f":"DATA_TOL!R13","v":0},{"$f":"DATA_TOL!S13","v":0},"","","","",{"$f":"IF($AO16,IF(AND(R16>=DESIGN_GRAD!$F14,R16<=DESIGN_GRAD!$H14),0,1),\"\")","v":{"$error":"#REF!"}},{"$f":"IF($AO16,IF(AND(S16>=DESIGN_GRAD!$F14,S16<=DESIGN_GRAD!$H14),0,1),\"\")","v":{"$error":"#REF!"}},{"$f":"IF($AO16,IF(AND(T16>=DESIGN_GRAD!$F14,T16<=DESIGN_GRAD!$H14),0,1),\"\")","v":{"$error":"#REF!"}},{"$f":"IF($AO16,IF(AND(U16>=DESIGN_GRAD!$F14,U16<=DESIGN_GRAD!$H14),0,1),\"\")","v":{"$error":"#REF!"}},{"$f":"IF(LEN(INDEX(INDIRECT(MIX_NAME),10,9))>0,-1,0)","v":{"$error":"#REF!"}},null,null,null,null,null,null,null,null,null,18,10,{"$error":"#REF!"},{"$error":"#REF!"}]
[]
[null,{"$f":"IF(COUNTIF(F7:I16,\"+*\")+COUNTIF(K7:N16,\"+*\")>0,\"+ Exceeds operation tolerance\",\"\")","v":""},null,null,null,null,null,null,null,null,null,null,null,null,null,null,null,{"$f":"IF(COUNTIF(W7:Z16,\"+*\")>0,\"Red cells exceed operation tolerance\",\"\")","v":""},null,null,null,null,null,null,null,null,{"$f":"INDEX($R$7:$R$16,10-COUNTBLANK($R$7:$R$16),1)","v":{"$error":"#VALUE!"}},{"$f":"INDEX($R$7:$R$16,10-COUNTBLANK($R$7:$R$16),1)","v":{"$error":"#VALUE!"}},{"$f":"INDEX($R$7:$R$16,10-COUNTBLANK($R$7:$R$16),1)","v":{"$error":"#VALUE!"}},{"$f":"INDEX($R$7:$R$16,10-COUNTBLANK($R$7:$R$16),1)","v":{"$error":"#VALUE!"}},{"$f":"DATA_TOL!R14","v":0},{"$f":"DATA_TOL!S14","v":0}]
[null,{"$f":"IF(COUNTIF(F7:I16,\"^*\")+COUNTIF(K7:N16,\"^*\")>0,\"^ Falls within reference zone\",\"\")","v":""},null,null,null,null,null,null,null,null,null,null,null,null,null,null,null,{"$f":"IF(COUNTIF(W7:Z16,\"^*\")>0,\"Red cells fall within reference zone\",\"\")","v":""}]
[null,"CORE HEIGHTS",null,null,null,null,null,null,null,null,null,null,null,null,null,null,null,null,null,null,null,null,null,null,null,null,null,null,null,null,null,null,null,null,null,null,null,null,null,null,null,-1]
[null,null,null,null,null,null,null,null,null,null,null,null,null,null,null,null,null,null,null,null,null,null,null,null,null,null,null,null,null,null,null,null,null,null,null,null,null,null,null,null,null,-1]
[null,"Acceptable for testing:",null,null,"NA",{"$f":"IFERROR(IF(AND(INDIRECT(\"DOT\"&F$5&\"_DENSITY!F6\")>0,INDIRECT(\"DOT\"&F$5&\"_DENSITY!F6\")<INDEX(INDIRECT(MIX_NAME),1,17)),\"Fail\",\"Pass\"),\"\")","v":""},{"$f":"IFERROR(IF(AND(INDIRECT(\"DOT\"&G$5&\"_DENSITY!F6\")>0,INDIRECT(\"DOT\"&G$5&\"_DENSITY!F6\")<INDEX(INDIRECT(MIX_NAME),1,17)),\"Fail\",\"Pass\"),\"\")","v":""},{"$f":"IFERROR(IF(AND(INDIRECT(\"DOT\"&H$5&\"_DENSITY!F6\")>0,INDIRECT(\"DOT\"&H$5&\"_DENSITY!F6\")<INDEX(INDIRECT(MIX_NAME),1,17)),\"Fail\",\"Pass\"),\"\")","v":""},{"$f":"IFERROR(IF(AND(INDIRECT(\"DOT\"&I$5&\"_DENSITY!F6\")>0,INDIRECT(\"DOT\"&I$5&\"_DENSITY!F6\")<INDEX(INDIRECT(MIX_NAME),1,17)),\"Fail\",\"Pass\"),\"\")","v":""},null,{"$f":"IFERROR(IF(AND(INDIRECT(\"CON\"&F$5&\"_DENSITY!F6\")>0,INDIRECT(\"CON\"&F$5&\"_DENSITY!F6\")<INDEX(INDIRECT(MIX_NAME),1,17)),\"Fail\",\"Pass\"),\"\")","v":""},{"$f":"IFERROR(IF(AND(INDIRECT(\"CON\"&G$5&\"_DENSITY!F6\")>0,INDIRECT(\"CON\"&G$5&\"_DENSITY!F6\")<INDEX(INDIRECT(MIX_NAME),1,17)),\"Fail\",\"Pass\"),\"\")","v":""},{"$f":"IFERROR(IF(AND(INDIRECT(\"CON\"&H$5&\"_DENSITY!F6\")>0,INDIRECT(\"CON\"&H$5&\"_DENSITY!F6\")<INDEX(INDIRECT(MIX_NAME),1,17)),\"Fail\",\"Pass\"),\"\")","v":""},{"$f":"IFERROR(IF(AND(INDIRECT(\"CON\"&I$5&\"_DENSITY!F6\")>0,INDIRECT(\"CON\"&I$5&\"_DENSITY!F6\")<INDEX(INDIRECT(MIX_NAME),1,17)),\"Fail\",\"Pass\"),\"\")","v":""},null,null,null,null,null,null,null,null,null,null,null,null,null,null,null,null,null,null,null,null,null,null,null,null,null,null,null,-1]
[null,null,null,null,null,null,null,null,null,null,null,null,null,null,null,null,null,null,null,null,null,null,null,null,null,null,null,null,null,null,null,null,null,null,null,null,null,null,null,null,null,-1]
[null,"Excessively trimmed:",null,null,"NA",{"$f":"IF(OR(AND(INDIRECT(\"DOT\"&F$5&\"_DENSITY!F6\")>0,INDIRECT(\"DOT\"&F$5&\"_DENSITY!F7\")>0,INDIRECT(\"DOT\"&F$5&\"_DENSITY!F6\")-INDIRECT(\"DOT\"&F$5&\"_DENSITY!F7\")>0.5),AND(INDIRECT(\"DOT\"&F$5&\"_DENSITY!G6\")>0,INDIRECT(\"DOT\"&F$5&\"_DENSITY!G7\")>0,INDIRECT(\"DOT\"&F$5&\"_DENSITY!G6\")-INDIRECT(\"DOT\"&F$5&\"_DENSITY!G7\")>0.5)),\"Fail\",\"Pass\")","v":"Pass"},{"$f":"IF(OR(AND(INDIRECT(\"DOT\"&G$5&\"_DENSITY!F6\")>0,INDIRECT(\"DOT\"&G$5&\"_DENSITY!F7\")>0,INDIRECT(\"DOT\"&G$5&\"_DENSITY!F6\")-INDIRECT(\"DOT\"&G$5&\"_DENSITY!F7\")>0.5),AND(INDIRECT(\"DOT\"&G$5&\"_DENSITY!G6\")>0,INDIRECT(\"DOT\"&G$5&\"_DENSITY!G7\")>0,INDIRECT(\"DOT\"&G$5&\"_DENSITY!G6\")-INDIRECT(\"DOT\"&G$5&\"_DENSITY!G7\")>0.5)),\"Fail\",\"Pass\")","v":"Pass"},{"$f":"IF(OR(AND(INDIRECT(\"DOT\"&H$5&\"_DENSITY!F6\")>0,INDIRECT(\"DOT\"&H$5&\"_DENSITY!F7\")>0,INDIRECT(\"DOT\"&H$5&\"_DENSITY!F6\")-INDIRECT(\"DOT\"&H$5&\"_DENSITY!F7\")>0.5),AND(INDIRECT(\"DOT\"&H$5&\"_DENSITY!G6\")>0,INDIRECT(\"DOT\"&H$5&\"_DENSITY!G7\")>0,INDIRECT(\"DOT\"&H$5&\"_DENSITY!G6\")-INDIRECT(\"DOT\"&H$5&\"_DENSITY!G7\")>0.5)),\"Fail\",\"Pass\")","v":"Pass"},{"$f":"IF(OR(AND(INDIRECT(\"DOT\"&I$5&\"_DENSITY!F6\")>0,INDIRECT(\"DOT\"&I$5&\"_DENSITY!F7\")>0,INDIRECT(\"DOT\"&I$5&\"_DENSITY!F6\")-INDIRECT(\"DOT\"&I$5&\"_DENSITY!F7\")>0.5),AND(INDIRECT(\"DOT\"&I$5&\"_DENSITY!G6\")>0,INDIRECT(\"DOT\"&I$5&\"_DENSITY!G7\")>0,INDIRECT(\"DOT\"&I$5&\"_DENSITY!G6\")-INDIRECT(\"DOT\"&I$5&\"_DENSITY!G7\")>0.5)),\"Fail\",\"Pass\")","v":"Pass"},null,{"$f":"IF(OR(AND(INDIRECT(\"CON\"&F$5&\"_DENSITY!F6\")>0,INDIRECT(\"CON\"&F$5&\"_DENSITY!F7\")>0,INDIRECT(\"CON\"&F$5&\"_DENSITY!F6\")-INDIRECT(\"CON\"&F$5&\"_DENSITY!F7\")>0.5),AND(INDIRECT(\"CON\"&F$5&\"_DENSITY!G6\")>0,INDIRECT(\"CON\"&F$5&\"_DENSITY!G7\")>0,INDIRECT(\"CON\"&F$5&\"_DENSITY!G6\")-INDIRECT(\"CON\"&F$5&\"_DENSITY!G7\")>0.5)),\"Fail\",\"Pass\")","v":"Pass"},{"$f":"IF(OR(AND(INDIRECT(\"CON\"&G$5&\"_DENSITY!F6\")>0,INDIRECT(\"CON\"&G$5&\"_DENSITY!F7\")>0,INDIRECT(\"CON\"&G$5&\"_DENSITY!F6\")-INDIRECT(\"CON\"&G$5&\"_DENSITY!F7\")>0.5),AND(INDIRECT(\"CON\"&G$5&\"_DENSITY!G6\")>0,INDIRECT(\"CON\"&G$5&\"_DENSITY!G7\")>0,INDIRECT(\"CON\"&G$5&\"_DENSITY!G6\")-INDIRECT(\"CON\"&G$5&\"_DENSITY!G7\")>0.5)),\"Fail\",\"Pass\")","v":"Pass"},{"$f":"IF(OR(AND(INDIRECT(\"CON\"&H$5&\"_DENSITY!F6\")>0,INDIRECT(\"CON\"&H$5&\"_DENSITY!F7\")>0,INDIRECT(\"CON\"&H$5&\"_DENSITY!F6\")-INDIRECT(\"CON\"&H$5&\"_DENSITY!F7\")>0.5),AND(INDIRECT(\"CON\"&H$5&\"_DENSITY!G6\")>0,INDIRECT(\"CON\"&H$5&\"_DENSITY!G7\")>0,INDIRECT(\"CON\"&H$5&\"_DENSITY!G6\")-INDIRECT(\"CON\"&H$5&\"_DENSITY!G7\")>0.5)),\"Fail\",\"Pass\")","v":"Pass"},{"$f":"IF(OR(AND(INDIRECT(\"CON\"&I$5&\"_DENSITY!F6\")>0,INDIRECT(\"CON\"&I$5&\"_DENSITY!F7\")>0,INDIRECT(\"CON\"&I$5&\"_DENSITY!F6\")-INDIRECT(\"CON\"&I$5&\"_DENSITY!F7\")>0.5),AND(INDIRECT(\"CON\"&I$5&\"_DENSITY!G6\")>0,INDIRECT(\"CON\"&I$5&\"_DENSITY!G7\")>0,INDIRECT(\"CON\"&I$5&\"_DENSITY!G6\")-INDIRECT(\"CON\"&I$5&\"_DENSITY!G7\")>0.5)),\"Fail\",\"Pass\")","v":"Pass"},null,null,null,null,null,null,null,null,null,null,null,null,null,null,null,null,null,null,null,null,null,null,null,null,null,null,null,-1]
[null,null,null,null,null,null,null,null,null,null,null,null,null,null,null,null,null,null,null,null,null,null,null,null,null,null,null,null,null,null,null,null,null,null,null,null,null,null,null,null,null,-1]
[null,"DENSITY & PROPERTIES OF BITUMINOUS MIXTURES-Tex-207-F",null,null,null,null,null,null,null,null,null,null,null,null,null,null,null,"DENSITY REFEREE",null,null,null,null,null,null,null,null,null,null,null,null,null,null,null,null,null,null,null,null,null,null,null,-1]
[null,null,null,null,null,null,null,null,null,null,null,null,null,null,null,null,null,null,null,null,null,null,null,null,null,null,null,null,null,null,null,null,null,null,null,null,null,null,null,null,null,-1]
[null,"Avg. Actual SG (Ga):",null,null,{"$f":"TEXT(MIX_GMB,\"0.000\")","v":"0.000"},{"$f":"TEXT(INDIRECT(\"DOT\"&F$5&\"_DENSITY!C35\"),\"0.000\")","v":""},{"$f":"TEXT(INDIRECT(\"DOT\"&G$5&\"_DENSITY!C35\"),\"0.000\")","v":""},{"$f":"TEXT(INDIRECT(\"DOT\"&H$5&\"_DENSITY!C35\"),\"0.000\")","v":""},{"$f":"TEXT(INDIRECT(\"DOT\"&I$5&\"_DENSITY!C35\"),\"0.000\")","v":""},null,{"$f":"IF(ISBLANK(R28),IF(AND(INDIRECT(\"CON\"&K$5&\"_DENSITY!C35\")<>\"\",INDIRECT(\"DOT\"&K$5&\"_DENSITY!C35\")<>\"\"),IF(ABS(INDIRECT(\"CON\"&K$5&\"_DENSITY!C35\")-INDIRECT(\"DOT\"&K$5&\"_DENSITY!C35\"))>0.02,\"+ \",\"\") & TEXT(INDIRECT(\"CON\"&K$5&\"_DENSITY!C35\"),\"0.000\"),IF(INDIRECT(\"CON\"&K$5&\"_DENSITY!C35\")<>\"\",INDIRECT(\"CON\"&K$5&\"_DENSITY!C35\"),\"\")),IF(INDIRECT(\"CON\"&K$5&\"_DENSITY!C35\")<>\"\",IF(ABS(INDIRECT(\"CON\"&K$5&\"_DENSITY!C35\")-R28)>0.02,\"+ \",\"\") & TEXT(INDIRECT(\"CON\"&K$5&\"_DENSITY!C35\"),\"0.000\"),\"\"))","v":""},{"$f":"IF(ISBLANK(S28),IF(AND(INDIRECT(\"CON\"&L$5&\"_DENSITY!C35\")<>\"\",INDIRECT(\"DOT\"&L$5&\"_DENSITY!C35\")<>\"\"),IF(ABS(INDIRECT(\"CON\"&L$5&\"_DENSITY!C35\")-INDIRECT(\"DOT\"&L$5&\"_DENSITY!C35\"))>0.02,\"+ \",\"\") & TEXT(INDIRECT(\"CON\"&L$5&\"_DENSITY!C35\"),\"0.000\"),IF(INDIRECT(\"CON\"&L$5&\"_DENSITY!C35\")<>\"\",INDIRECT(\"CON\"&L$5&\"_DENSITY!C35\"),\"\")),IF(INDIRECT(\"CON\"&L$5&\"_DENSITY!C35\")<>\"\",IF(ABS(INDIRECT(\"CON\"&L$5&\"_DENSITY!C35\")-S28)>0.02,\"+ \",\"\") & TEXT(INDIRECT(\"CON\"&L$5&\"_DENSITY!C35\"),\"0.000\"),\"\"))","v":""},{"$f":"IF(ISBLANK(T28),IF(AND(INDIRECT(\"CON\"&M$5&\"_DENSITY!C35\")<>\"\",INDIRECT(\"DOT\"&M$5&\"_DENSITY!C35\")<>\"\"),IF(ABS(INDIRECT(\"CON\"&M$5&\"_DENSITY!C35\")-INDIRECT(\"DOT\"&M$5&\"_DENSITY!C35\"))>0.02,\"+ \",\"\") & TEXT(INDIRECT(\"CON\"&M$5&\"_DENSITY!C35\"),\"0.000\"),IF(INDIRECT(\"CON\"&M$5&\"_DENSITY!C35\")<>\"\",INDIRECT(\"CON\"&M$5&\"_DENSITY!C35\"),\"\")),IF(INDIRECT(\"CON\"&M$5&\"_DENSITY!C35\")<>\"\",IF(ABS(INDIRECT(\"CON\"&M$5&\"_DENSITY!C35\")-T28)>0.02,\"+ \",\"\") & TEXT(INDIRECT(\"CON\"&M$5&\"_DENSITY!C35\"),\"0.000\"),\"\"))","v":""},{"$f":"IF(ISBLANK(U28),IF(AND(INDIRECT(\"CON\"&N$5&\"_DENSITY!C35\")<>\"\",INDIRECT(\"DOT\"&N$5&\"_DENSITY!C35\")<>\"\"),IF(ABS(INDIRECT(\"CON\"&N$5&\"_DENSITY!C35\")-INDIRECT(\"DOT\"&N$5&\"_DENSITY!C35\"))>0.02,\"+ \",\"\") & TEXT(INDIRECT(\"CON\"&N$5&\"_DENSITY!C35\"),\"0.000\"),IF(INDIRECT(\"CON\"&N$5&\"_DENSITY!C35\")<>\"\",INDIRECT(\"CON\"&N$5&\"_DENSITY!C35\"),\"\")),IF(INDIRECT(\"CON\"&N$5&\"_DENSITY!C35\")<>\"\",IF(ABS(INDIRECT(\"CON\"&N$5&\"_DENSITY!C35\")-U28)>0.02,\"+ \",\"\") & TEXT(INDIRECT(\"CON\"&N$5&\"_DENSITY!C35\"),\"0.000\"),\"\"))","v":""},null,null,null,null,null,null,null,null,null,null,null,null,null,null,null,null,null,null,null,null,null,null,null,null,null,null,null,-1]
[null,{"$f":"IF(COUNTIF(K28:N28,\"+*\")>0,\"+ Exceeds verification tolerance for laboratory-molded bulk specific gravity (Ga)\",\"\")","v":""},null,null,null,null,null,null,null,null,null,null,null,null,null,null,null,null,null,null,null,null,null,null,null,null,null,null,null,null,null,null,null,null,null,null,null,null,null,null,null,-1]
[null,"Lab molded density, %:",null,null,{"$f":"TEXT(MIX_PMB,\"0.0\")","v":"0.0"},{"$f":"IF(INDIRECT(\"DOT\"&F$5&\"_DENSITY!C34\")<>\"\",IF(OR(ABS(INDIRECT(\"DOT\"&F$5&\"_DENSITY!C34\")-MIX_PMB)>1.001,INDIRECT(\"DOT\"&F$5&\"_DENSITY!C34\")<DTMin,INDIRECT(\"DOT\"&F$5&\"_DENSITY!C34\")>DTMax),\"# \",\"\") & TEXT(INDIRECT(\"DOT\"&F$5&\"_DENSITY!C34\"),\"0.0\"),\"\")","v":""},{"$f":"IF(INDIRECT(\"DOT\"&G$5&\"_DENSITY!C34\")<>\"\",IF(OR(ABS(INDIRECT(\"DOT\"&G$5&\"_DENSITY!C34\")-MIX_PMB)>1.001,INDIRECT(\"DOT\"&G$5&\"_DENSITY!C34\")<DTMin,INDIRECT(\"DOT\"&G$5&\"_DENSITY!C34\")>DTMax),\"# \",\"\") & TEXT(INDIRECT(\"DOT\"&G$5&\"_DENSITY!C34\"),\"0.0\"),\"\")","v":""},{"$f":"IF(INDIRECT(\"DOT\"&H$5&\"_DENSITY!C34\")<>\"\",IF(OR(ABS(INDIRECT(\"DOT\"&H$5&\"_DENSITY!C34\")-MIX_PMB)>1.001,INDIRECT(\"DOT\"&H$5&\"_DENSITY!C34\")<DTMin,INDIRECT(\"DOT\"&H$5&\"_DENSITY!C34\")>DTMax),\"# \",\"\") & TEXT(INDIRECT(\"DOT\"&H$5&\"_DENSITY!C34\"),\"0.0\"),\"\")","v":""},{"$f":"IF(INDIRECT(\"DOT\"&I$5&\"_DENSITY!C34\")<>\"\",IF(OR(ABS(INDIRECT(\"DOT\"&I$5&\"_DENSITY!C34\")-MIX_PMB)>1.001,INDIRECT(\"DOT\"&I$5&\"_DENSITY!C34\")<DTMin,INDIRECT(\"DOT\"&I$5&\"_DENSITY!C34\")>DTMax),\"# \",\"\") & TEXT(INDIRECT(\"DOT\"&I$5&\"_DENSITY!C34\"),\"0.0\"),\"\")","v":""},null,{"$f":"IF(ISBLANK(R30),IF(AND(INDIRECT(\"DOT\"&K$5&\"_DENSITY!C34\")<>\"\",INDIRECT(\"CON\"&K$5&\"_DENSITY!C34\")<>\"\"),IF(NOT(INDEX(CHK_GE,MIX_ID)),IF(ABS(INDIRECT(\"DOT\"&K$5&\"_DENSITY!C34\")-INDIRECT(\"CON\"&K$5&\"_DENSITY!C34\"))>1.001,\"+ \",\"\") & TEXT(INDIRECT(\"CON\"&K$5&\"_DENSITY!C34\"),\"0.0\"),IF(OR(ABS(INDIRECT(\"DOT\"&K$5&\"_DENSITY!C34\")-INDIRECT(\"CON\"&K$5&\"_DENSITY!C34\"))>1.001,INDIRECT(\"CON\"&K$5&\"_DENSITY!C34\")>INDEX(INDIRECT(MIX_NAME),1,21)),\"# \",\"\") & TEXT(INDIRECT(\"CON\"&K$5&\"_DENSITY!C34\"),\"0.0\")),IF(INDIRECT(\"CON\"&K$5&\"_DENSITY!C34\")<>\"\",INDIRECT(\"CON\"&K$5&\"_DENSITY!C34\"),\"\")),IF(INDIRECT(\"CON\"&K$5&\"_DENSITY!C34\")<>\"\",IF(NOT(INDEX(CHK_GE,MIX_ID)),IF(ABS(R30-INDIRECT(\"CON\"&K$5&\"_DENSITY!C34\"))>1.001,\"+ \",\"\") & TEXT(INDIRECT(\"CON\"&K$5&\"_DENSITY!C34\"),\"0.0\"),IF(OR(ABS(R30-INDIRECT(\"CON\"&K$5&\"_DENSITY!C34\"))>1.001,INDIRECT(\"CON\"&K$5&\"_DENSITY!C34\")>INDEX(INDIRECT(MIX_NAME),1,21)),\"# \",\"\") & TEXT(INDIRECT(\"CON\"&K$5&\"_DENSITY!C34\"),\"0.0\")),\"\"))","v":""},{"$f":"IF(ISBLANK(S30),IF(AND(INDIRECT(\"DOT\"&L$5&\"_DENSITY!C34\")<>\"\",INDIRECT(\"CON\"&L$5&\"_DENSITY!C34\")<>\"\"),IF(NOT(INDEX(CHK_GE,MIX_ID)),IF(ABS(INDIRECT(\"DOT\"&L$5&\"_DENSITY!C34\")-INDIRECT(\"CON\"&L$5&\"_DENSITY!C34\"))>1.001,\"+ \",\"\") & TEXT(INDIRECT(\"CON\"&L$5&\"_DENSITY!C34\"),\"0.0\"),IF(OR(ABS(INDIRECT(\"DOT\"&L$5&\"_DENSITY!C34\")-INDIRECT(\"CON\"&L$5&\"_DENSITY!C34\"))>1.001,INDIRECT(\"CON\"&L$5&\"_DENSITY!C34\")>INDEX(INDIRECT(MIX_NAME),1,21)),\"# \",\"\") & TEXT(INDIRECT(\"CON\"&L$5&\"_DENSITY!C34\"),\"0.0\")),IF(INDIRECT(\"CON\"&L$5&\"_DENSITY!C34\")<>\"\",INDIRECT(\"CON\"&L$5&\"_DENSITY!C34\"),\"\")),IF(INDIRECT(\"CON\"&L$5&\"_DENSITY!C34\")<>\"\",IF(NOT(INDEX(CHK_GE,MIX_ID)),IF(ABS(S30-INDIRECT(\"CON\"&L$5&\"_DENSITY!C34\"))>1.001,\"+ \",\"\") & TEXT(INDIRECT(\"CON\"&L$5&\"_DENSITY!C34\"),\"0.0\"),IF(OR(ABS(S30-INDIRECT(\"CON\"&L$5&\"_DENSITY!C34\"))>1.001,INDIRECT(\"CON\"&L$5&\"_DENSITY!C34\")>INDEX(INDIRECT(MIX_NAME),1,21)),\"# \",\"\") & TEXT(INDIRECT(\"CON\"&L$5&\"_DENSITY!C34\"),\"0.0\")),\"\"))","v":""},{"$f":"IF(ISBLANK(T30),IF(AND(INDIRECT(\"DOT\"&M$5&\"_DENSITY!C34\")<>\"\",INDIRECT(\"CON\"&M$5&\"_DENSITY!C34\")<>\"\"),IF(NOT(INDEX(CHK_GE,MIX_ID)),IF(ABS(INDIRECT(\"DOT\"&M$5&\"_DENSITY!C34\")-INDIRECT(\"CON\"&M$5&\"_DENSITY!C34\"))>1.001,\"+ \",\"\") & TEXT(INDIRECT(\"CON\"&M$5&\"_DENSITY!C34\"),\"0.0\"),IF(OR(ABS(INDIRECT(\"DOT\"&M$5&\"_DENSITY!C34\")-INDIRECT(\"CON\"&M$5&\"_DENSITY!C34\"))>1.001,INDIRECT(\"CON\"&M$5&\"_DENSITY!C34\")>INDEX(INDIRECT(MIX_NAME),1,21)),\"# \",\"\") & TEXT(INDIRECT(\"CON\"&M$5&\"_DENSITY!C34\"),\"0.0\")),IF(INDIRECT(\"CON\"&M$5&\"_DENSITY!C34\")<>\"\",INDIRECT(\"CON\"&M$5&\"_DENSITY!C34\"),\"\")),IF(INDIRECT(\"CON\"&M$5&\"_DENSITY!C34\")<>\"\",IF(NOT(INDEX(CHK_GE,MIX_ID)),IF(ABS(T30-INDIRECT(\"CON\"&M$5&\"_DENSITY!C34\"))>1.001,\"+ \",\"\") & TEXT(INDIRECT(\"CON\"&M$5&\"_DENSITY!C34\"),\"0.0\"),IF(OR(ABS(T30-INDIRECT(\"CON\"&M$5&\"_DENSITY!C34\"))>1.001,INDIRECT(\"CON\"&M$5&\"_DENSITY!C34\")>INDEX(INDIRECT(MIX_NAME),1,21)),\"# \",\"\") & TEXT(INDIRECT(\"CON\"&M$5&\"_DENSITY!C34\"),\"0.0\")),\"\"))","v":""},{"$f":"IF(ISBLANK(U30),IF(AND(INDIRECT(\"DOT\"&N$5&\"_DENSITY!C34\")<>\"\",INDIRECT(\"CON\"&N$5&\"_DENSITY!C34\")<>\"\"),IF(NOT(INDEX(CHK_GE,MIX_ID)),IF(ABS(INDIRECT(\"DOT\"&N$5&\"_DENSITY!C34\")-INDIRECT(\"CON\"&N$5&\"_DENSITY!C34\"))>1.001,\"+ \",\"\") & TEXT(INDIRECT(\"CON\"&N$5&\"_DENSITY!C34\"),\"0.0\"),IF(OR(ABS(INDIRECT(\"DOT\"&N$5&\"_DENSITY!C34\")-INDIRECT(\"CON\"&N$5&\"_DENSITY!C34\"))>1.001,INDIRECT(\"CON\"&N$5&\"_DENSITY!C34\")>INDEX(INDIRECT(MIX_NAME),1,21)),\"# \",\"\") & TEXT(INDIRECT(\"CON\"&N$5&\"_DENSITY!C34\"),\"0.0\")),IF(INDIRECT(\"CON\"&N$5&\"_DENSITY!C34\")<>\"\",INDIRECT(\"CON\"&N$5&\"_DENSITY!C34\"),\"\")),IF(INDIRECT(\"CON\"&N$5&\"_DENSITY!C34\")<>\"\",IF(NOT(INDEX(CHK_GE,MIX_ID)),IF(ABS(U30-INDIRECT(\"CON\"&N$5&\"_DENSITY!C34\"))>1.001,\"+ \",\"\") & TEXT(INDIRECT(\"CON\"&N$5&\"_DENSITY!C34\"),\"0.0\"),IF(OR(ABS(U30-INDIRECT(\"CON\"&N$5&\"_DENSITY!C34\"))>1.001,INDIRECT(\"CON\"&N$5&\"_DENSITY!C34\")>INDEX(INDIRECT(MIX_NAME),1,21)),\"# \",\"\") & TEXT(INDIRECT(\"CON\"&N$5&\"_DENSITY!C34\"),\"0.0\")),\"\"))","v":""},null,null,null,null,null,null,null,null,{"$f":"IF(ISBLANK(R30),\"\",IF(NOT(INDEX(CHK_GE,MIX_ID)),IF(ABS(R30-MIX_PMB)>1.001,\"# \",\"\") & TEXT(R30,\"0.0\"),IF(OR(ABS(R30-MIX_PMB)>1.001,R30>INDEX(INDIRECT(MIX_NAME),1,21)),\"# \",\"\") & TEXT(R30,\"0.0\")))","v":""},{"$f":"IF(ISBLANK(S30),\"\",IF(NOT(INDEX(CHK_GE,MIX_ID)),IF(ABS(S30-MIX_PMB)>1.001,\"# \",\"\") & TEXT(S30,\"0.0\"),IF(OR(ABS(S30-MIX_PMB)>1.001,S30>INDEX(INDIRECT(MIX_NAME),1,21)),\"# \",\"\") & TEXT(S30,\"0.0\")))","v":""},{"$f":"IF(ISBLANK(T30),\"\",IF(NOT(INDEX(CHK_GE,MIX_ID)),IF(ABS(T30-MIX_PMB)>1.001,\"# \",\"\") & TEXT(T30,\"0.0\"),IF(OR(ABS(T30-MIX_PMB)>1.001,T30>INDEX(INDIRECT(MIX_NAME),1,21)),\"# \",\"\") & TEXT(T30,\"0.0\")))","v":""},{"$f":"IF(ISBLANK(U30),\"\",IF(NOT(INDEX(CHK_GE,MIX_ID)),IF(ABS(U30-MIX_PMB)>1.001,\"# \",\"\") & TEXT(U30,\"0.0\"),IF(OR(ABS(U30-MIX_PMB)>1.001,U30>INDEX(INDIRECT(MIX_NAME),1,21)),\"# \",\"\") & TEXT(U30,\"0.0\")))","v":""},null,null,null,null,null,null,null,null,null,null,null,null,null,null,null,-1]
[null,{"$f":"IF(COUNTIF(F30:N30,\"#*\")>0,\"# Exceeds verification tolerance for laboratory-molded density\",\"\")","v":""},null,null,null,null,null,null,null,null,{"$f":"IF(COUNTIF(K30:N30,\"+*\")>0,\"+ Exceeds allowable difference between CON & TxDOT\",\"\")","v":""},null,null,null,null,null,null,{"$f":"IF(COUNTIF(W30:Z30,\"#*\")>0,\"Red values exceed verification tolerance for laboratory-molded density\",\"\")","v":""},null,null,null,null,null,null,null,null,null,null,null,null,null,null,null,null,null,null,null,null,null,null,null,-1]
[null,"In place air voids, %:",null,null,"NA",{"$f":"TEXT(INDIRECT(\"DOT\"&F$5&\"_DENSITY!F36\"),\"0.0\")","v":""},{"$f":"TEXT(INDIRECT(\"DOT\"&G$5&\"_DENSITY!F36\"),\"0.0\")","v":""},{"$f":"TEXT(INDIRECT(\"DOT\"&H$5&\"_DENSITY!F36\"),\"0.0\")","v":""},{"$f":"TEXT(INDIRECT(\"DOT\"&I$5&\"_DENSITY!F36\"),\"0.0\")","v":""},null,{"$f":"IF(AND(LEN(INDIRECT(\"DOT\"&K$5&\"_DENSITY!F36\"))=0,ISBLANK(R32)),INDIRECT(\"CON\"&K$5&\"_DENSITY!F36\"),IF(ISBLANK(R32),IF(LEN(INDIRECT(\"CON\"&K$5&\"_DENSITY!F36\"))>0,IF(ABS(INDIRECT(\"DOT\"&K$5&\"_DENSITY!F36\")-INDIRECT(\"CON\"&K$5&\"_DENSITY!F36\"))>1.01,\"+ \",\"\") & TEXT(INDIRECT(\"CON\"&K$5&\"_DENSITY!F36\"),\"0.0\"),\"\"),IF(LEN(INDIRECT(\"CON\"&K$5&\"_DENSITY!F36\"))>0,IF(ABS(R32-INDIRECT(\"CON\"&K$5&\"_DENSITY!F36\"))>1.01,\"+ \",\"\") & TEXT(INDIRECT(\"CON\"&K$5&\"_DENSITY!F36\"),\"0.0\"),\"\")))","v":""},{"$f":"IF(AND(LEN(INDIRECT(\"DOT\"&L$5&\"_DENSITY!F36\"))=0,ISBLANK(S32)),INDIRECT(\"CON\"&L$5&\"_DENSITY!F36\"),IF(ISBLANK(S32),IF(LEN(INDIRECT(\"CON\"&L$5&\"_DENSITY!F36\"))>0,IF(ABS(INDIRECT(\"DOT\"&L$5&\"_DENSITY!F36\")-INDIRECT(\"CON\"&L$5&\"_DENSITY!F36\"))>1.01,\"+ \",\"\") & TEXT(INDIRECT(\"CON\"&L$5&\"_DENSITY!F36\"),\"0.0\"),\"\"),IF(LEN(INDIRECT(\"CON\"&L$5&\"_DENSITY!F36\"))>0,IF(ABS(S32-INDIRECT(\"CON\"&L$5&\"_DENSITY!F36\"))>1.01,\"+ \",\"\") & TEXT(INDIRECT(\"CON\"&L$5&\"_DENSITY!F36\"),\"0.0\"),\"\")))","v":""},{"$f":"IF(AND(LEN(INDIRECT(\"DOT\"&M$5&\"_DENSITY!F36\"))=0,ISBLANK(T32)),INDIRECT(\"CON\"&M$5&\"_DENSITY!F36\"),IF(ISBLANK(T32),IF(LEN(INDIRECT(\"CON\"&M$5&\"_DENSITY!F36\"))>0,IF(ABS(INDIRECT(\"DOT\"&M$5&\"_DENSITY!F36\")-INDIRECT(\"CON\"&M$5&\"_DENSITY!F36\"))>1.01,\"+ \",\"\") & TEXT(INDIRECT(\"CON\"&M$5&\"_DENSITY!F36\"),\"0.0\"),\"\"),IF(LEN(INDIRECT(\"CON\"&M$5&\"_DENSITY!F36\"))>0,IF(ABS(T32-INDIRECT(\"CON\"&M$5&\"_DENSITY!F36\"))>1.01,\"+ \",\"\") & TEXT(INDIRECT(\"CON\"&M$5&\"_DENSITY!F36\"),\"0.0\"),\"\")))","v":""},{"$f":"IF(AND(LEN(INDIRECT(\"DOT\"&N$5&\"_DENSITY!F36\"))=0,ISBLANK(U32)),INDIRECT(\"CON\"&N$5&\"_DENSITY!F36\"),IF(ISBLANK(U32),IF(LEN(INDIRECT(\"CON\"&N$5&\"_DENSITY!F36\"))>0,IF(ABS(INDIRECT(\"DOT\"&N$5&\"_DENSITY!F36\")-INDIRECT(\"CON\"&N$5&\"_DENSITY!F36\"))>1.01,\"+ \",\"\") & TEXT(INDIRECT(\"CON\"&N$5&\"_DENSITY!F36\"),\"0.0\"),\"\"),IF(LEN(INDIRECT(\"CON\"&N$5&\"_DENSITY!F36\"))>0,IF(ABS(U32-INDIRECT(\"CON\"&N$5&\"_DENSITY!F36\"))>1.01,\"+ \",\"\") & TEXT(INDIRECT(\"CON\"&N$5&\"_DENSITY!F36\"),\"0.0\"),\"\")))","v":""},null,null,null,null,null,null,null,null,null,null,null,null,null,null,null,null,null,null,null,null,null,null,null,null,null,null,null,-1]
[null,{"$f":"IF(COUNTIF(K32:N32,\"+*\")>0,\"* Exceeds verification tolerance\",\"\")","v":""},null,null,null,{"$f":"IF(LEN(F32)>0,IF(OR(AND(LEN(INDIRECT(\"DOT\"&F$5&\"_DENSITY!F13\"))>0,INDIRECT(\"DOT\"&F$5&\"_DENSITY!F13\")>2),AND(LEN(INDIRECT(\"DOT\"&F$5&\"_DENSITY!G13\"))>0,INDIRECT(\"DOT\"&F$5&\"_DENSITY!G13\")>2)),\"^^ \",\"\"),\"\")","v":""},{"$f":"IF(LEN(G32)>0,IF(OR(AND(LEN(INDIRECT(\"DOT\"&G$5&\"_DENSITY!F13\"))>0,INDIRECT(\"DOT\"&G$5&\"_DENSITY!F13\")>2),AND(LEN(INDIRECT(\"DOT\"&G$5&\"_DENSITY!G13\"))>0,INDIRECT(\"DOT\"&G$5&\"_DENSITY!G13\")>2)),\"^^ \",\"\"),\"\")","v":""},{"$f":"IF(LEN(H32)>0,IF(OR(AND(LEN(INDIRECT(\"DOT\"&H$5&\"_DENSITY!F13\"))>0,INDIRECT(\"DOT\"&H$5&\"_DENSITY!F13\")>2),AND(LEN(INDIRECT(\"DOT\"&H$5&\"_DENSITY!G13\"))>0,INDIRECT(\"DOT\"&H$5&\"_DENSITY!G13\")>2)),\"^^ \",\"\"),\"\")","v":""},{"$f":"IF(LEN(I32)>0,IF(OR(AND(LEN(INDIRECT(\"DOT\"&I$5&\"_DENSITY!F13\"))>0,INDIRECT(\"DOT\"&I$5&\"_DENSITY!F13\")>2),AND(LEN(INDIRECT(\"DOT\"&I$5&\"_DENSITY!G13\"))>0,INDIRECT(\"DOT\"&I$5&\"_DENSITY!G13\")>2)),\"^^ \",\"\"),\"\")","v":""},null,{"$f":"IF(LEN(K32)>0,IF(OR(AND(LEN(INDIRECT(\"CON\"&K$5&\"_DENSITY!F13\"))>0,INDIRECT(\"CON\"&K$5&\"_DENSITY!F13\")>2),AND(LEN(INDIRECT(\"CON\"&K$5&\"_DENSITY!G13\"))>0,INDIRECT(\"CON\"&K$5&\"_DENSITY!G13\")>2)),\"^^ \",\"\"),\"\")","v":""},{"$f":"IF(LEN(L32)>0,IF(OR(AND(LEN(INDIRECT(\"CON\"&L$5&\"_DENSITY!F13\"))>0,INDIRECT(\"CON\"&L$5&\"_DENSITY!F13\")>2),AND(LEN(INDIRECT(\"CON\"&L$5&\"_DENSITY!G13\"))>0,INDIRECT(\"CON\"&L$5&\"_DENSITY!G13\")>2)),\"^^ \",\"\"),\"\")","v":""},{"$f":"IF(LEN(M32)>0,IF(OR(AND(LEN(INDIRECT(\"CON\"&M$5&\"_DENSITY!F13\"))>0,INDIRECT(\"CON\"&M$5&\"_DENSITY!F13\")>2),AND(LEN(INDIRECT(\"CON\"&M$5&\"_DENSITY!G13\"))>0,INDIRECT(\"CON\"&M$5&\"_DENSITY!G13\")>2)),\"^^ \",\"\"),\"\")","v":""},{"$f":"IF(LEN(N32)>0,IF(OR(AND(LEN(INDIRECT(\"CON\"&N$5&\"_DENSITY!F13\"))>0,INDIRECT(\"CON\"&N$5&\"_DENSITY!F13\")>2),AND(LEN(INDIRECT(\"CON\"&N$5&\"_DENSITY!G13\"))>0,INDIRECT(\"CON\"&N$5&\"_DENSITY!G13\")>2)),\"^^ \",\"\"),\"\")","v":""},{"$f":"IF(COUNTIF(F33:I33,\"^^*\")+COUNTIF(K33:N33,\"^^*\")>0,\"^^ Absorbtion > 2%\",\"\")","v":""},null,null,null,null,null,null,null,null,null,null,null,null,null,null,null,null,null,null,null,null,null,null,null,null,null,null,-1]
[null,"Plant produced VMA, %:",null,null,{"$f":"IFERROR(TEXT(INDEX(INDIRECT(MIX_NAME),1,8),\"0.0\"),\"\")","v":""},{"$f":"IFERROR(IF(INDIRECT(\"DOT\"&F$5&\"_DENSITY!C37\")<INDEX(INDIRECT(MIX_NAME),1,8),\"+ \",\"\") & TEXT(INDIRECT(\"DOT\"&F$5&\"_DENSITY!C37\"),\"0.0\"),\"\")","v":""},{"$f":"IFERROR(IF(INDIRECT(\"DOT\"&G$5&\"_DENSITY!C37\")<INDEX(INDIRECT(MIX_NAME),1,8),\"+ \",\"\") & TEXT(INDIRECT(\"DOT\"&G$5&\"_DENSITY!C37\"),\"0.0\"),\"\")","v":""},{"$f":"IFERROR(IF(INDIRECT(\"DOT\"&H$5&\"_DENSITY!C37\")<INDEX(INDIRECT(MIX_NAME),1,8),\"+ \",\"\") & TEXT(INDIRECT(\"DOT\"&H$5&\"_DENSITY!C37\"),\"0.0\"),\"\")","v":""},{"$f":"IFERROR(IF(INDIRECT(\"DOT\"&I$5&\"_DENSITY!C37\")<INDEX(INDIRECT(MIX_NAME),1,8),\"+ \",\"\") & TEXT(INDIRECT(\"DOT\"&I$5&\"_DENSITY!C37\"),\"0.0\"),\"\")","v":""},null,{"$f":"IFERROR(IF(INDIRECT(\"CON\"&K$5&\"_DENSITY!C37\")<INDEX(INDIRECT(MIX_NAME),1,8),\"+ \",\"\") & TEXT(INDIRECT(\"CON\"&K$5&\"_DENSITY!C37\"),\"0.0\"),\"\")","v":""},{"$f":"IFERROR(IF(INDIRECT(\"CON\"&L$5&\"_DENSITY!C37\")<INDEX(INDIRECT(MIX_NAME),1,8),\"+ \",\"\") & TEXT(INDIRECT(\"CON\"&L$5&\"_DENSITY!C37\"),\"0.0\"),\"\")","v":""},{"$f":"IFERROR(IF(INDIRECT(\"CON\"&M$5&\"_DENSITY!C37\")<INDEX(INDIRECT(MIX_NAME),1,8),\"+ \",\"\") & TEXT(INDIRECT(\"CON\"&M$5&\"_DENSITY!C37\"),\"0.0\"),\"\")","v":""},{"$f":"IFERROR(IF(INDIRECT(\"CON\"&N$5&\"_DENSITY!C37\")<INDEX(INDIRECT(MIX_NAME),1,8),\"+ \",\"\") & TEXT(INDIRECT(\"CON\"&N$5&\"_DENSITY!C37\"),\"0.0\"),\"\")","v":""},null,null,null,null,null,null,null,null,{"$f":"IF(ISBLANK(R34),\"\",IF(R34<INDEX(INDIRECT(MIX_NAME),1,8),\"+ \",\"\") & TEXT(R34,\"0.0\"))","v":""},{"$f":"IF(ISBLANK(S34),\"\",IF(S34<INDEX(INDIRECT(MIX_NAME),1,8),\"+ \",\"\") & TEXT(S34,\"0.0\"))","v":""},{"$f":"IF(ISBLANK(T34),\"\",IF(T34<INDEX(INDIRECT(MIX_NAME),1,8),\"+ \",\"\") & TEXT(T34,\"0.0\"))","v":""},{"$f":"IF(ISBLANK(U34),\"\",IF(U34<INDEX(INDIRECT(MIX_NAME),1,8),\"+ \",\"\") & TEXT(U34,\"0.0\"))","v":""},null,null,null,null,null,null,null,null,null,null,null,null,null,null,null,-1]
[null,{"$f":"IF(COUNTIF(F34:I34,\"+*\")+COUNTIF(K34:N34,\"+*\")>0,\"+ Minimum VMA requirement not met\",\"\")","v":""},null,null,null,null,null,null,null,null,null,null,null,null,null,null,null,{"$f":"IF(COUNTIF(W34:Z34,\"+*\")>0,\"Minimum VMA requirement not met for red values\",\"\")","v":""},null,null,null,null,null,null,null,null,null,null,null,null,null,null,null,null,null,null,null,null,null,null,null,-1]
[null,"RICE SPECIFIC GRAVITY-Tex-227-F",null,null,null,null,null,null,null,null,null,null,null,null,null,null,null,"RICE REFEREE",null,null,null,null,null,null,null,null,null,null,null,null,null,null,null,null,null,null,null,null,null,null,null,-1]
[null,null,null,null,null,null,null,null,null,null,null,null,null,null,null,null,null,null,null,null,null,null,null,null,null,null,null,null,null,null,null,null,null,null,null,null,null,null,null,null,null,-1]
[null,"Rice specific gravity:",null,null,{"$f":"TEXT(MIX_GMM,\"0.000\")","v":"0.000"},{"$f":"TEXT(INDIRECT(\"DOT\"&F$5&\"_DENSITY!C33\"),\"0.000\")","v":""},{"$f":"TEXT(INDIRECT(\"DOT\"&G$5&\"_DENSITY!C33\"),\"0.000\")","v":""},{"$f":"TEXT(INDIRECT(\"DOT\"&H$5&\"_DENSITY!C33\"),\"0.000\")","v":""},{"$f":"TEXT(INDIRECT(\"DOT\"&I$5&\"_DENSITY!C33\"),\"0.000\")","v":""},null,{"$f":"IF(ISBLANK(R38),IF(AND(INDIRECT(\"DOT\"&K$5&\"_DENSITY!C33\")<>\"\",INDIRECT(\"CON\"&K$5&\"_DENSITY!C33\")<>\"\"),IF(ABS(INDIRECT(\"DOT\"&K$5&\"_DENSITY!C33\")-INDIRECT(\"CON\"&K$5&\"_DENSITY!C33\"))>0.02,\"+ \",\"\") & TEXT(INDIRECT(\"CON\"&K$5&\"_DENSITY!C33\"),\"0.000\"),IF(INDIRECT(\"CON\"&K$5&\"_DENSITY!C33\")<>\"\",INDIRECT(\"CON\"&K$5&\"_DENSITY!C33\"),\"\")),IF(INDIRECT(\"CON\"&K$5&\"_DENSITY!C33\")<>\"\",IF(ABS(R38-INDIRECT(\"CON\"&K$5&\"_DENSITY!C33\"))>0.02,\"+ \",\"\") & TEXT(INDIRECT(\"CON\"&K$5&\"_DENSITY!C33\"),\"0.000\"),\"\"))","v":""},{"$f":"IF(ISBLANK(S38),IF(AND(INDIRECT(\"DOT\"&L$5&\"_DENSITY!C33\")<>\"\",INDIRECT(\"CON\"&L$5&\"_DENSITY!C33\")<>\"\"),IF(ABS(INDIRECT(\"DOT\"&L$5&\"_DENSITY!C33\")-INDIRECT(\"CON\"&L$5&\"_DENSITY!C33\"))>0.02,\"+ \",\"\") & TEXT(INDIRECT(\"CON\"&L$5&\"_DENSITY!C33\"),\"0.000\"),IF(INDIRECT(\"CON\"&L$5&\"_DENSITY!C33\")<>\"\",INDIRECT(\"CON\"&L$5&\"_DENSITY!C33\"),\"\")),IF(INDIRECT(\"CON\"&L$5&\"_DENSITY!C33\")<>\"\",IF(ABS(S38-INDIRECT(\"CON\"&L$5&\"_DENSITY!C33\"))>0.02,\"+ \",\"\") & TEXT(INDIRECT(\"CON\"&L$5&\"_DENSITY!C33\"),\"0.000\"),\"\"))","v":""},{"$f":"IF(ISBLANK(T38),IF(AND(INDIRECT(\"DOT\"&M$5&\"_DENSITY!C33\")<>\"\",INDIRECT(\"CON\"&M$5&\"_DENSITY!C33\")<>\"\"),IF(ABS(INDIRECT(\"DOT\"&M$5&\"_DENSITY!C33\")-INDIRECT(\"CON\"&M$5&\"_DENSITY!C33\"))>0.02,\"+ \",\"\") & TEXT(INDIRECT(\"CON\"&M$5&\"_DENSITY!C33\"),\"0.000\"),IF(INDIRECT(\"CON\"&M$5&\"_DENSITY!C33\")<>\"\",INDIRECT(\"CON\"&M$5&\"_DENSITY!C33\"),\"\")),IF(INDIRECT(\"CON\"&M$5&\"_DENSITY!C33\")<>\"\",IF(ABS(T38-INDIRECT(\"CON\"&M$5&\"_DENSITY!C33\"))>0.02,\"+ \",\"\") & TEXT(INDIRECT(\"CON\"&M$5&\"_DENSITY!C33\"),\"0.000\"),\"\"))","v":""},{"$f":"IF(ISBLANK(U38),IF(AND(INDIRECT(\"DOT\"&N$5&\"_DENSITY!C33\")<>\"\",INDIRECT(\"CON\"&N$5&\"_DENSITY!C33\")<>\"\"),IF(ABS(INDIRECT(\"DOT\"&N$5&\"_DENSITY!C33\")-INDIRECT(\"CON\"&N$5&\"_DENSITY!C33\"))>0.02,\"+ \",\"\") & TEXT(INDIRECT(\"CON\"&N$5&\"_DENSITY!C33\"),\"0.000\"),IF(INDIRECT(\"CON\"&N$5&\"_DENSITY!C33\")<>\"\",INDIRECT(\"CON\"&N$5&\"_DENSITY!C33\"),\"\")),IF(INDIRECT(\"CON\"&N$5&\"_DENSITY!C33\")<>\"\",IF(ABS(U38-INDIRECT(\"CON\"&N$5&\"_DENSITY!C33\"))>0.02,\"+ \",\"\") & TEXT(INDIRECT(\"CON\"&N$5&\"_DENSITY!C33\"),\"0.000\"),\"\"))","v":""},null,null,null,null,null,null,null,null,null,null,null,null,null,null,null,null,null,null,null,null,null,null,null,null,null,null,null,-1]
[null,{"$f":"IF(COUNTIF(K38:N38,\"+*\")>0,\"+ Exceeds verification tolerance for Rice specific gravity\",\"\")","v":""},null,null,null,null,null,null,null,null,null,null,null,null,null,null,null,null,null,null,null,null,null,null,null,null,null,null,null,null,null,null,null,null,null,null,null,null,null,null,null,-1]
[null,{"$f":"\"ASPHALT CONTENT by: \"  & AC_METHOD","v":"ASPHALT CONTENT by: "},null,null,null,null,null,null,null,null,null,null,null,null,null,null,null,"AC REFEREE",null,null,null,null,null,null,null,null,null,null,null,null,null,null,null,null,null,null,null,null,null,null,null,-1]
[null,null,null,null,null,null,null,null,null,null,null,null,null,null,null,null,null,null,null,null,null,null,null,null,null,null,null,null,null,null,null,null,null,null,null,null,null,null,null,null,null,-1]
[null,"Asphalt content, %:",null,null,{"$f":"IF(N_TRIAL=\"Yes\",TEXT(DES_AC,\"0.0\"),TEXT(JMF_AC,\"0.0\"))","v":"0.0"},{"$f":"IF(N_TRIAL=\"Yes\",IF(INDIRECT(\"DOT\"&F$5&\"_PROD!C17\")<>\"\",IF(OR(ABS(INDIRECT(\"DOT\"&F$5&\"_PROD!C17\")-DES_AC)>INDEX(INDIRECT(MIX_NAME),1,24),INDIRECT(\"DOT\"&F$5&\"_PROD!C17\")<INDEX(INDIRECT(MIX_NAME),1,18),INDIRECT(\"DOT\"&F$5&\"_PROD!C17\")>INDEX(INDIRECT(MIX_NAME),1,19)),\"+ \",\"\") & TEXT(INDIRECT(\"DOT\"&F$5&\"_PROD!C17\"),\"0.0\"),\"\"),IF(INDIRECT(\"DOT\"&F$5&\"_PROD!C17\")<>\"\",IF(ABS(INDIRECT(\"DOT\"&F$5&\"_PROD!C17\")-JMF_AC)>0.301,\"+ \",IF(OR(INDIRECT(\"DOT\"&F$5&\"_PROD!C17\")<INDEX(INDIRECT(MIX_NAME),1,18),INDIRECT(\"DOT\"&F$5&\"_PROD!C17\")>INDEX(INDIRECT(MIX_NAME),1,19)),IF(MIX_ITEM=\"346\",\"+ \",\"# \"),\"\")) & TEXT(INDIRECT(\"DOT\"&F$5&\"_PROD!C17\"),\"0.0\"),\"\"))","v":""},{"$f":"IF(INDIRECT(\"DOT\"&G$5&\"_PROD!C17\")<>\"\",IF(ABS(INDIRECT(\"DOT\"&G$5&\"_PROD!C17\")-JMF_AC)>0.301,\"+ \",IF(OR(INDIRECT(\"DOT\"&G$5&\"_PROD!C17\")<INDEX(INDIRECT(MIX_NAME),1,18),INDIRECT(\"DOT\"&G$5&\"_PROD!C17\")>INDEX(INDIRECT(MIX_NAME),1,19)),IF(MIX_ITEM=\"346\",\"+ \",\"# \"),\"\")) & TEXT(INDIRECT(\"DOT\"&G$5&\"_PROD!C17\"),\"0.0\"),\"\")","v":""},{"$f":"IF(INDIRECT(\"DOT\"&H$5&\"_PROD!C17\")<>\"\",IF(ABS(INDIRECT(\"DOT\"&H$5&\"_PROD!C17\")-JMF_AC)>0.301,\"+ \",IF(OR(INDIRECT(\"DOT\"&H$5&\"_PROD!C17\")<INDEX(INDIRECT(MIX_NAME),1,18),INDIRECT(\"DOT\"&H$5&\"_PROD!C17\")>INDEX(INDIRECT(MIX_NAME),1,19)),IF(MIX_ITEM=\"346\",\"+ \",\"# \"),\"\")) & TEXT(INDIRECT(\"DOT\"&H$5&\"_PROD!C17\"),\"0.0\"),\"\")","v":""},{"$f":"IF(INDIRECT(\"DOT\"&I$5&\"_PROD!C17\")<>\"\",IF(ABS(INDIRECT(\"DOT\"&I$5&\"_PROD!C17\")-JMF_AC)>0.301,\"+ \",IF(OR(INDIRECT(\"DOT\"&I$5&\"_PROD!C17\")<INDEX(INDIRECT(MIX_NAME),1,18),INDIRECT(\"DOT\"&I$5&\"_PROD!C17\")>INDEX(INDIRECT(MIX_NAME),1,19)),IF(MIX_ITEM=\"346\",\"+ \",\"# \"),\"\")) & TEXT(INDIRECT(\"DOT\"&I$5&\"_PROD!C17\"),\"0.0\"),\"\")","v":""},null,{"$f":"IF(INDIRECT(\"CON\"&K$5&\"_PROD!C17\")<>\"\",IF(ABS(INDIRECT(\"CON\"&K$5&\"_PROD!C17\")-JMF_AC)>0.301,\"+ \",IF(IF(OR(F42<>\"\",R42<>\"\"),IF(AND(INDEX(CHK_GE,MIX_ID),RIGHT(LEFT(MIX_NAME,5),2)<>\"SS\"),OR(INDIRECT(\"CON\"&K$5&\"_PROD!C17\")<INDEX(INDIRECT(MIX_NAME),1,18),INDIRECT(\"CON\"&K$5&\"_PROD!C17\")>INDEX(INDIRECT(MIX_NAME),1,19)),OR(INDIRECT(\"CON\"&K$5&\"_PROD!C17\")<INDEX(INDIRECT(MIX_NAME),1,18),INDIRECT(\"CON\"&K$5&\"_PROD!C17\")>INDEX(INDIRECT(MIX_NAME),1,19),ABS(INDIRECT(\"CON\"&K$5&\"_PROD!C17\")-W47)>0.301)),OR(INDIRECT(\"CON\"&K$5&\"_PROD!C17\")<INDEX(INDIRECT(MIX_NAME),1,18),INDIRECT(\"CON\"&K$5&\"_PROD!C17\")>INDEX(INDIRECT(MIX_NAME),1,19))),IF(MIX_ITEM=\"346\",\"+ \",\"# \"),\"\")) & TEXT(INDIRECT(\"CON\"&K$5&\"_PROD!C17\"),\"0.0\"),\"\")","v":""},{"$f":"IF(INDIRECT(\"CON\"&L$5&\"_PROD!C17\")<>\"\",IF(ABS(INDIRECT(\"CON\"&L$5&\"_PROD!C17\")-JMF_AC)>0.301,\"+ \",IF(IF(OR(G42<>\"\",S42<>\"\"),IF(AND(INDEX(CHK_GE,MIX_ID),RIGHT(LEFT(MIX_NAME,5),2)<>\"SS\"),OR(INDIRECT(\"CON\"&L$5&\"_PROD!C17\")<INDEX(INDIRECT(MIX_NAME),1,18),INDIRECT(\"CON\"&L$5&\"_PROD!C17\")>INDEX(INDIRECT(MIX_NAME),1,19)),OR(INDIRECT(\"CON\"&L$5&\"_PROD!C17\")<INDEX(INDIRECT(MIX_NAME),1,18),INDIRECT(\"CON\"&L$5&\"_PROD!C17\")>INDEX(INDIRECT(MIX_NAME),1,19),ABS(INDIRECT(\"CON\"&L$5&\"_PROD!C17\")-X47)>0.301)),OR(INDIRECT(\"CON\"&L$5&\"_PROD!C17\")<INDEX(INDIRECT(MIX_NAME),1,18),INDIRECT(\"CON\"&L$5&\"_PROD!C17\")>INDEX(INDIRECT(MIX_NAME),1,19))),IF(MIX_ITEM=\"346\",\"+ \",\"# \"),\"\")) & TEXT(INDIRECT(\"CON\"&L$5&\"_PROD!C17\"),\"0.0\"),\"\")","v":""},{"$f":"IF(INDIRECT(\"CON\"&M$5&\"_PROD!C17\")<>\"\",IF(ABS(INDIRECT(\"CON\"&M$5&\"_PROD!C17\")-JMF_AC)>0.301,\"+ \",IF(IF(OR(H42<>\"\",T42<>\"\"),IF(AND(INDEX(CHK_GE,MIX_ID),RIGHT(LEFT(MIX_NAME,5),2)<>\"SS\"),OR(INDIRECT(\"CON\"&M$5&\"_PROD!C17\")<INDEX(INDIRECT(MIX_NAME),1,18),INDIRECT(\"CON\"&M$5&\"_PROD!C17\")>INDEX(INDIRECT(MIX_NAME),1,19)),OR(INDIRECT(\"CON\"&M$5&\"_PROD!C17\")<INDEX(INDIRECT(MIX_NAME),1,18),INDIRECT(\"CON\"&M$5&\"_PROD!C17\")>INDEX(INDIRECT(MIX_NAME),1,19),ABS(INDIRECT(\"CON\"&M$5&\"_PROD!C17\")-Y47)>0.301)),OR(INDIRECT(\"CON\"&M$5&\"_PROD!C17\")<INDEX(INDIRECT(MIX_NAME),1,18),INDIRECT(\"CON\"&M$5&\"_PROD!C17\")>INDEX(INDIRECT(MIX_NAME),1,19))),IF(MIX_ITEM=\"346\",\"+ \",\"# \"),\"\")) & TEXT(INDIRECT(\"CON\"&M$5&\"_PROD!C17\"),\"0.0\"),\"\")","v":""},{"$f":"IF(INDIRECT(\"CON\"&N$5&\"_PROD!C17\")<>\"\",IF(ABS(INDIRECT(\"CON\"&N$5&\"_PROD!C17\")-JMF_AC)>0.301,\"+ \",IF(IF(OR(I42<>\"\",U42<>\"\"),IF(AND(INDEX(CHK_GE,MIX_ID),RIGHT(LEFT(MIX_NAME,5),2)<>\"SS\"),OR(INDIRECT(\"CON\"&N$5&\"_PROD!C17\")<INDEX(INDIRECT(MIX_NAME),1,18),INDIRECT(\"CON\"&N$5&\"_PROD!C17\")>INDEX(INDIRECT(MIX_NAME),1,19)),OR(INDIRECT(\"CON\"&N$5&\"_PROD!C17\")<INDEX(INDIRECT(MIX_NAME),1,18),INDIRECT(\"CON\"&N$5&\"_PROD!C17\")>INDEX(INDIRECT(MIX_NAME),1,19),ABS(INDIRECT(\"CON\"&N$5&\"_PROD!C17\")-Z47)>0.301)),OR(INDIRECT(\"CON\"&N$5&\"_PROD!C17\")<INDEX(INDIRECT(MIX_NAME),1,18),INDIRECT(\"CON\"&N$5&\"_PROD!C17\")>INDEX(INDIRECT(MIX_NAME),1,19))),IF(MIX_ITEM=\"346\",\"+ \",\"# \"),\"\")) & TEXT(INDIRECT(\"CON\"&N$5&\"_PROD!C17\"),\"0.0\"),\"\")","v":""},{"$f":"IF(COUNTIF(AA54:AD54,\">0.3\")>0,\"Consider verifying Contractor correction factors prior to next production\",\"\")","v":""},null,null,null,null,null,null,null,{"$f":"IF(ISBLANK(R42),\"\",IF(ABS(R42-JMF_AC)>0.301,\"+ \",IF(OR(R42<INDEX(INDIRECT(MIX_NAME),1,18),R42>INDEX(INDIRECT(MIX_NAME),1,19)),IF(MIX_ITEM=\"346\",\"+ \",\"# \"),\"\")) & TEXT(R42,\"0.0\"))","v":""},{"$f":"IF(ISBLANK(S42),\"\",IF(ABS(S42-JMF_AC)>0.301,\"+ \",IF(OR(S42<INDEX(INDIRECT(MIX_NAME),1,18),S42>INDEX(INDIRECT(MIX_NAME),1,19)),IF(MIX_ITEM=\"346\",\"+ \",\"# \"),\"\")) & TEXT(S42,\"0.0\"))","v":""},{"$f":"IF(ISBLANK(T42),\"\",IF(ABS(T42-JMF_AC)>0.301,\"+ \",IF(OR(T42<INDEX(INDIRECT(MIX_NAME),1,18),T42>INDEX(INDIRECT(MIX_NAME),1,19)),IF(MIX_ITEM=\"346\",\"+ \",\"# \"),\"\")) & TEXT(T42,\"0.0\"))","v":""},{"$f":"IF(ISBLANK(U42),\"\",IF(ABS(U42-JMF_AC)>0.301,\"+ \",IF(OR(U42<INDEX(INDIRECT(MIX_NAME),1,18),U42>INDEX(INDIRECT(MIX_NAME),1,19)),IF(MIX_ITEM=\"346\",\"+ \",\"# \"),\"\")) & TEXT(U42,\"0.0\"))","v":""},null,null,null,null,null,null,null,null,null,null,null,null,null,null,null,-1]
[null,{"$f":"IF(COUNTIF(F42:I42,\"+*\")+COUNTIF(K42:N42,\"+*\")>0,\"+ Exceeds verification tolerance for asphalt content\",\"\")","v":""},null,null,null,null,null,{"$f":"IF(COUNTIF(W54:Z54,\">0.3\")>0,\"Consider verifying DOT correction factors prior to next production\",\"\")","v":""},null,null,{"$f":"IF(COUNTIF(F42:N42,\"#*\")>0,\"# Exceeds design limits for allowable asphalt content\",\"\")","v":""},null,null,null,null,null,null,{"$f":"IF(COUNTIF(W42:Z42,\"+*\")>0,\"Red values exceed verification tolerance for asphalt content\",\"\")","v":""},null,null,null,null,null,null,null,null,null,null,null,null,null,null,null,null,null,null,null,null,null,null,null,-1]
[null,"Back calculated asphalt content, %:",null,null,{"$f":"IF(N_TRIAL=\"Yes\",TEXT(DES_AC,\"0.0\"),TEXT(JMF_AC,\"0.0\"))","v":"0.0"},{"$f":"IF(N_TRIAL=\"Yes\",IF(INDIRECT(\"DOT\"&F$5&\"_PROD!C67\")<>\"\",IF(OR(ABS(INDIRECT(\"DOT\"&F$5&\"_PROD!C67\")-E44)>INDEX(INDIRECT(MIX_NAME),1,24),INDIRECT(\"DOT\"&F$5&\"_PROD!C67\")<INDEX(INDIRECT(MIX_NAME),1,18),INDIRECT(\"DOT\"&F$5&\"_PROD!C67\")>INDEX(INDIRECT(MIX_NAME),1,19)),\"+ \",\"\") & TEXT(INDIRECT(\"DOT\"&F$5&\"_PROD!C67\"),\"0.0\"),\"\"),IF(INDIRECT(\"DOT\"&F$5&\"_PROD!C67\")<>\"\",IF(ABS(INDIRECT(\"DOT\"&F$5&\"_PROD!C67\")-E44)>0.301,\"+ \",IF(OR(INDIRECT(\"DOT\"&F$5&\"_PROD!C67\")<INDEX(INDIRECT(MIX_NAME),1,18),INDIRECT(\"DOT\"&F$5&\"_PROD!C67\")>INDEX(INDIRECT(MIX_NAME),1,19)),\"# \",\"\")) & TEXT(INDIRECT(\"DOT\"&F$5&\"_PROD!C67\"),\"0.0\"),\"\"))","v":""},{"$f":"IF(INDIRECT(\"DOT\"&G$5&\"_PROD!C67\")<>\"\",IF(ABS(INDIRECT(\"DOT\"&G$5&\"_PROD!C67\")-E44)>0.301,\"+ \",IF(OR(INDIRECT(\"DOT\"&G$5&\"_PROD!C67\")<INDEX(INDIRECT(MIX_NAME),1,18),INDIRECT(\"DOT\"&G$5&\"_PROD!C67\")>INDEX(INDIRECT(MIX_NAME),1,19)),\"# \",\"\")) & TEXT(INDIRECT(\"DOT\"&G$5&\"_PROD!C67\"),\"0.0\"),\"\")","v":""},{"$f":"IF(INDIRECT(\"DOT\"&H$5&\"_PROD!C67\")<>\"\",IF(ABS(INDIRECT(\"DOT\"&H$5&\"_PROD!C67\")-E44)>0.301,\"+ \",IF(OR(INDIRECT(\"DOT\"&H$5&\"_PROD!C67\")<INDEX(INDIRECT(MIX_NAME),1,18),INDIRECT(\"DOT\"&H$5&\"_PROD!C67\")>INDEX(INDIRECT(MIX_NAME),1,19)),\"# \",\"\"))&TEXT(INDIRECT(\"DOT\"&H$5&\"_PROD!C67\"),\"0.0\"),\"\")","v":""},{"$f":"IF(INDIRECT(\"DOT\"&I$5&\"_PROD!C67\")<>\"\",IF(ABS(INDIRECT(\"DOT\"&I$5&\"_PROD!C67\")-E44)>0.301,\"+ \",IF(OR(INDIRECT(\"DOT\"&I$5&\"_PROD!C67\")<INDEX(INDIRECT(MIX_NAME),1,18),INDIRECT(\"DOT\"&I$5&\"_PROD!C67\")>INDEX(INDIRECT(MIX_NAME),1,19)),\"# \",\"\")) & TEXT(INDIRECT(\"DOT\"&I$5&\"_PROD!C67\"),\"0.0\"),\"\")","v":""},null,{"$f":"IF(INDIRECT(\"CON\"&K$5&\"_PROD!C67\")<>\"\",IF(ABS(INDIRECT(\"CON\"&K$5&\"_PROD!C67\")-E44)>0.301,\"+ \",IF(OR(INDIRECT(\"CON\"&K$5&\"_PROD!C67\")<INDEX(INDIRECT(MIX_NAME),1,18),INDIRECT(\"CON\"&K$5&\"_PROD!C67\")>INDEX(INDIRECT(MIX_NAME),1,19)),\"# \",\"\")) & TEXT(INDIRECT(\"CON\"&K$5&\"_PROD!C67\"),\"0.0\"),\"\")","v":""},{"$f":"IF(INDIRECT(\"CON\"&L$5&\"_PROD!C67\")<>\"\",IF(ABS(INDIRECT(\"CON\"&L$5&\"_PROD!C67\")-E44)>0.301,\"+ \",IF(OR(INDIRECT(\"CON\"&L$5&\"_PROD!C67\")<INDEX(INDIRECT(MIX_NAME),1,18),INDIRECT(\"CON\"&L$5&\"_PROD!C67\")>INDEX(INDIRECT(MIX_NAME),1,19)),\"# \",\"\")) & TEXT(INDIRECT(\"CON\"&L$5&\"_PROD!C67\"),\"0.0\"),\"\")","v":""},{"$f":"IF(INDIRECT(\"CON\"&M$5&\"_PROD!C67\")<>\"\",IF(ABS(INDIRECT(\"CON\"&M$5&\"_PROD!C67\")-E44)>0.301,\"+ \",IF(OR(INDIRECT(\"CON\"&M$5&\"_PROD!C67\")<INDEX(INDIRECT(MIX_NAME),1,18),INDIRECT(\"CON\"&M$5&\"_PROD!C67\")>INDEX(INDIRECT(MIX_NAME),1,19)),\"# \",\"\")) & TEXT(INDIRECT(\"CON\"&M$5&\"_PROD!C67\"),\"0.0\"),\"\")","v":""},{"$f":"IF(INDIRECT(\"CON\"&N$5&\"_PROD!C67\")<>\"\",IF(ABS(INDIRECT(\"CON\"&N$5&\"_PROD!C67\")-E44)>0.301,\"+ \",IF(OR(INDIRECT(\"CON\"&N$5&\"_PROD!C67\")<INDEX(INDIRECT(MIX_NAME),1,18),INDIRECT(\"CON\"&N$5&\"_PROD!C67\")>INDEX(INDIRECT(MIX_NAME),1,19)),\"# \",\"\")) & TEXT(INDIRECT(\"CON\"&N$5&\"_PROD!C67\"),\"0.0\"),\"\")","v":""},null,null,null,{"$f":"IF(COUNTIF(W42:Z42,\"#*\")>0,\"Red values undershoot minimum allowable asphalt content\",\"\")","v":""},null,null,null,null,null,null,null,null,null,null,null,null,null,null,null,null,null,null,null,null,null,null,null,-1]
[null,{"$f":"IF(COUNTIF(F44:I44,\"+*\")+COUNTIF(K44:N44,\"+*\")>0,\"+ Exceeds verification tolerance for asphalt content\",\"\")","v":""},null,null,null,null,null,null,null,null,{"$f":"IF(COUNTIF(F44:N44,\"#*\")>0,\"# Exceeds design limits for allowable asphalt content\",\"\")","v":""},null,null,null,null,null,null,null,null,null,null,null,null,null,null,null,null,null,null,null,null,null,null,null,null,null,null,null,null,null,null,-1]
[null,"Recycled binder ratio:",null,null,{"$f":"TEXT(REC_MAX,\"0.0\")","v":"Select mix and course on the General sheet"},{"$f":"IF(REC_MAX<>\"NA\",IF(AND(INDIRECT(\"DOT\"&F$5&\"_PROD!C18\")<>\"\",INDIRECT(\"DOT\"&F$5&\"_PROD!C18\")>REC_MAX),\"+ \",\"\") & TEXT(INDIRECT(\"DOT\"&F$5&\"_PROD!C18\"),\"0.0\"),\"\")","v":""},{"$f":"IF(REC_MAX<>\"NA\",IF(AND(INDIRECT(\"DOT\"&G$5&\"_PROD!C18\")<>\"\",INDIRECT(\"DOT\"&G$5&\"_PROD!C18\")>REC_MAX),\"+ \",\"\") & TEXT(INDIRECT(\"DOT\"&G$5&\"_PROD!C18\"),\"0.0\"),\"\")","v":""},{"$f":"IF(REC_MAX<>\"NA\",IF(AND(INDIRECT(\"DOT\"&H$5&\"_PROD!C18\")<>\"\",INDIRECT(\"DOT\"&H$5&\"_PROD!C18\")>REC_MAX),\"+ \",\"\") & TEXT(INDIRECT(\"DOT\"&H$5&\"_PROD!C18\"),\"0.0\"),\"\")","v":""},{"$f":"IF(REC_MAX<>\"NA\",IF(AND(INDIRECT(\"DOT\"&I$5&\"_PROD!C18\")<>\"\",INDIRECT(\"DOT\"&I$5&\"_PROD!C18\")>REC_MAX),\"+ \",\"\") & TEXT(INDIRECT(\"DOT\"&I$5&\"_PROD!C18\"),\"0.0\"),\"\")","v":""},null,{"$f":"IF(REC_MAX<>\"NA\",IF(AND(INDIRECT(\"CON\"&K$5&\"_PROD!C18\")<>\"\",INDIRECT(\"CON\"&K$5&\"_PROD!C18\")>REC_MAX),\"+ \",\"\") & TEXT(INDIRECT(\"CON\"&K$5&\"_PROD!C18\"),\"0.0\"),\"\")","v":""},{"$f":"IF(REC_MAX<>\"NA\",IF(AND(INDIRECT(\"CON\"&L$5&\"_PROD!C18\")<>\"\",INDIRECT(\"CON\"&L$5&\"_PROD!C18\")>REC_MAX),\"+ \",\"\") & TEXT(INDIRECT(\"CON\"&L$5&\"_PROD!C18\"),\"0.0\"),\"\")","v":""},{"$f":"IF(REC_MAX<>\"NA\",IF(AND(INDIRECT(\"CON\"&M$5&\"_PROD!C18\")<>\"\",INDIRECT(\"CON\"&M$5&\"_PROD!C18\")>REC_MAX),\"+ \",\"\") & TEXT(INDIRECT(\"CON\"&M$5&\"_PROD!C18\"),\"0.0\"),\"\")","v":""},{"$f":"IF(REC_MAX<>\"NA\",IF(AND(INDIRECT(\"CON\"&N$5&\"_PROD!C18\")<>\"\",INDIRECT(\"CON\"&N$5&\"_PROD!C18\")>REC_MAX),\"+ \",\"\") & TEXT(INDIRECT(\"CON\"&N$5&\"_PROD!C18\"),\"0.0\"),\"\")","v":""},null,null,null,null,null,null,null,null,null,null,null,null,null,null,null,null,null,null,null,null,null,null,null,null,null,null,null,-1]
[null,{"$f":"IF(COUNTIF(F46:I46,\"+*\")+COUNTIF(K46:N46,\"+*\")>0,\"+ Exceeds maximum recycled binder ratio\",\"\")","v":""},null,null,null,null,null,null,null,null,null,null,null,null,null,null,null,null,null,null,null,null,{"$f":"IF(R$42<>\"\",R$42,INDIRECT(\"DOT\"&F$5&\"_PROD!C17\"))","v":""},{"$f":"IF(S$42<>\"\",S$42,INDIRECT(\"DOT\"&G$5&\"_PROD!C17\"))","v":""},{"$f":"IF(T$42<>\"\",T$42,INDIRECT(\"DOT\"&H$5&\"_PROD!C17\"))","v":""},{"$f":"IF(U$42<>\"\",U$42,INDIRECT(\"DOT\"&I$5&\"_PROD!C17\"))","v":""},{"$f":"INDIRECT(\"CON\"&K$5&\"_PROD!C17\")","v":""},{"$f":"INDIRECT(\"CON\"&L$5&\"_PROD!C17\")","v":""},{"$f":"INDIRECT(\"CON\"&M$5&\"_PROD!C17\")","v":""},{"$f":"INDIRECT(\"CON\"&N$5&\"_PROD!C17\")","v":""},{"$f":"AVERAGE(W47:AD47)","v":{"$error":"#DIV/0!"}},null,null,null,null,null,null,null,null,null,null,-1]
[null,"Binder sample received?:",null,null,"NA",{"$f":"IF(INDIRECT(\"DOT\"&F$5&\"_PROD!C19\")<>\"\",INDIRECT(\"DOT\"&F$5&\"_PROD!C19\"),\"\")","v":""},{"$f":"IF(INDIRECT(\"DOT\"&G$5&\"_PROD!C19\")<>\"\",INDIRECT(\"DOT\"&G$5&\"_PROD!C19\"),\"\")","v":""},{"$f":"IF(INDIRECT(\"DOT\"&H$5&\"_PROD!C19\")<>\"\",INDIRECT(\"DOT\"&H$5&\"_PROD!C19\"),\"\")","v":""},{"$f":"IF(INDIRECT(\"DOT\"&I$5&\"_PROD!C19\")<>\"\",INDIRECT(\"DOT\"&I$5&\"_PROD!C19\"),\"\")","v":""},null,null,null,null,null,null,null,null,null,null,null,null,null,null,null,null,null,null,null,null,null,null,null,null,null,null,null,null,null,null,null,null,-1]
[null,null,null,null,null,null,null,null,null,null,null,null,null,null,null,null,null,null,null,null,null,null,{"$f":"IFERROR(OR(($E$42-W47)>0.301,VALUE(W47)<INDEX(INDIRECT(MIX_NAME),1,18)),FALSE)","v":false},{"$f":"IFERROR(OR(($E$42-X47)>0.301,VALUE(X47)<INDEX(INDIRECT(MIX_NAME),1,18)),FALSE)","v":false},{"$f":"IFERROR(OR(($E$42-Y47)>0.301,VALUE(Y47)<INDEX(INDIRECT(MIX_NAME),1,18)),FALSE)","v":false},{"$f":"IFERROR(OR(($E$42-Z47)>0.301,VALUE(Z47)<INDEX(INDIRECT(MIX_NAME),1,18)),FALSE)","v":false},{"$f":"IFERROR(OR(($E$42-K42)>0.301,VALUE(K42)<INDEX(INDIRECT(MIX_NAME),1,18)),FALSE)","v":false},{"$f":"IFERROR(OR(($E$42-L42)>0.301,VALUE(L42)<INDEX(INDIRECT(MIX_NAME),1,18)),FALSE)","v":false},{"$f":"IFERROR(OR(($E$42-M42)>0.301,VALUE(M42)<INDEX(INDIRECT(MIX_NAME),1,18)),FALSE)","v":false},{"$f":"IFERROR(OR(($E$42-N42)>0.301,VALUE(N42)<INDEX(INDIRECT(MIX_NAME),1,18)),FALSE)","v":false},{"$f":"IF(OR(W49:AD49),AE47,VALUE(E42))","v":0},null,null,null,null,null,null,null,null,null,null,-1]
[null,"DSR aging ratio?:",null,null,"NA",{"$f":"IF(INDIRECT(\"DOT\"&F$5&\"_PROD!C20\")<>\"\",INDIRECT(\"DOT\"&F$5&\"_PROD!C20\"),\"\")","v":""},{"$f":"IF(INDIRECT(\"DOT\"&G$5&\"_PROD!C20\")<>\"\",INDIRECT(\"DOT\"&G$5&\"_PROD!C20\"),\"\")","v":""},{"$f":"IF(INDIRECT(\"DOT\"&H$5&\"_PROD!C20\")<>\"\",INDIRECT(\"DOT\"&H$5&\"_PROD!C20\"),\"\")","v":""},{"$f":"IF(INDIRECT(\"DOT\"&I$5&\"_PROD!C20\")<>\"\",INDIRECT(\"DOT\"&I$5&\"_PROD!C20\"),\"\")","v":""},null,null,null,null,null,null,null,null,null,null,null,null,null,null,null,null,null,null,null,null,null,null,null,null,null,null,null,null,null,null,null,null,-1]
[null,null,null,null,null,null,null,null,null,null,null,null,null,null,null,null,null,null,null,null,null,null,{"$f":"IF(ABS(AC_T_COR)>=0.35,F44,IF(R42<>\"\",R42,F42))","v":""},{"$f":"IF(ABS(AC_T_COR)>=0.35,G44,IF(S42<>\"\",S42,G42))","v":""},{"$f":"IF(ABS(AC_T_COR)>=0.35,H44,IF(T42<>\"\",T42,H42))","v":""},{"$f":"IF(ABS(AC_T_COR)>=0.35,I44,IF(U42<>\"\",U42,I42))","v":""},{"$f":"IFERROR(IF(ABS(AC_C_COR)>=0.35,K44,K42),\"\")","v":""},{"$f":"IFERROR(IF(ABS(AC_C_COR)>=0.35,L44,L42),\"\")","v":""},{"$f":"IF(ABS(AC_C_COR)>=0.35,M44,M42)","v":""},{"$f":"IF(ABS(AC_C_COR)>=0.35,N44,N42)","v":""},"this row for payment in case we decide to use back calculated ac",null,null,null,null,null,null,null,null,null,null,-1]
[null,"EFFECT OF WATER ON BITUMINOUS -Tex-530-C",null,null,null,null,null,null,null,null,null,null,null,null,null,null,null,null,null,null,null,null,{"$f":"INDIRECT(\"DOT\"&F$5&\"_PROD!C67\")","v":""},{"$f":"INDIRECT(\"DOT\"&G$5&\"_PROD!C67\")","v":""},{"$f":"INDIRECT(\"DOT\"&H$5&\"_PROD!C67\")","v":""},{"$f":"INDIRECT(\"DOT\"&I$5&\"_PROD!C67\")","v":""},{"$f":"IFERROR(INDIRECT(\"CON\"&K$5&\"_PROD!C67\"),\"\")","v":""},{"$f":"IFERROR(INDIRECT(\"CON\"&L$5&\"_PROD!C67\"),\"\")","v":""},{"$f":"INDIRECT(\"CON\"&M$5&\"_PROD!C67\")","v":""},{"$f":"INDIRECT(\"CON\"&N$5&\"_PROD!C67\")","v":""},null,null,null,null,null,null,null,null,null,null,null,-1]
[null,null,null,null,null,null,null,null,null,null,null,null,null,null,null,null,null,null,null,null,null,null,null,null,null,null,null,null,null,null,null,null,null,null,null,null,null,null,null,null,null,-1]
[null,"Estimated percent stripping:",null,null,{"$f":"IF(LEN(JMF_BOIL)>0,TEXT(JMF_BOIL,\"0.0\"),\"\")","v":""},{"$f":"IF(LEN(INDIRECT(\"DOT\"&F$5&\"_PROD!C53\"))>0,IF(ROUND(INDIRECT(\"DOT\"&F$5&\"_PROD!C53\"),1)>ROUND(JMF_BOIL,1),\"+ \",\"\") & TEXT(INDIRECT(\"DOT\"&F$5&\"_PROD!C53\"),\"0.0\"),\"\")","v":""},{"$f":"IF(LEN(INDIRECT(\"DOT\"&G$5&\"_PROD!C53\"))>0,IF(ROUND(INDIRECT(\"DOT\"&G$5&\"_PROD!C53\"),1)>ROUND(JMF_BOIL,1),\"+ \",\"\") & TEXT(INDIRECT(\"DOT\"&G$5&\"_PROD!C53\"),\"0.0\"),\"\")","v":""},{"$f":"IF(LEN(INDIRECT(\"DOT\"&H$5&\"_PROD!C53\"))>0,IF(ROUND(INDIRECT(\"DOT\"&H$5&\"_PROD!C53\"),1)>ROUND(JMF_BOIL,1),\"+ \",\"\") & TEXT(INDIRECT(\"DOT\"&H$5&\"_PROD!C53\"),\"0.0\"),\"\")","v":""},{"$f":"IF(LEN(INDIRECT(\"DOT\"&I$5&\"_PROD!C53\"))>0,IF(ROUND(INDIRECT(\"DOT\"&I$5&\"_PROD!C53\"),1)>ROUND(JMF_BOIL,1),\"+ \",\"\") & TEXT(INDIRECT(\"DOT\"&I$5&\"_PROD!C53\"),\"0.0\"),\"\")","v":""},null,{"$f":"IF(LEN(INDIRECT(\"CON\"&K$5&\"_PROD!C53\"))>0,IF(ROUND(INDIRECT(\"CON\"&K$5&\"_PROD!C53\"),1)>ROUND(JMF_BOIL,1),\"+ \",\"\") & TEXT(INDIRECT(\"CON\"&K$5&\"_PROD!C53\"),\"0.0\"),\"\")","v":""},{"$f":"IF(LEN(INDIRECT(\"CON\"&L$5&\"_PROD!C53\"))>0,IF(ROUND(INDIRECT(\"CON\"&L$5&\"_PROD!C53\"),1)>ROUND(JMF_BOIL,1),\"+ \",\"\") & TEXT(INDIRECT(\"CON\"&L$5&\"_PROD!C53\"),\"0.0\"),\"\")","v":""},{"$f":"IF(LEN(INDIRECT(\"CON\"&M$5&\"_PROD!C53\"))>0,IF(ROUND(INDIRECT(\"CON\"&M$5&\"_PROD!C53\"),1)>ROUND(JMF_BOIL,1),\"+ \",\"\") & TEXT(INDIRECT(\"CON\"&M$5&\"_PROD!C53\"),\"0.0\"),\"\")","v":""},{"$f":"IF(LEN(INDIRECT(\"CON\"&N$5&\"_PROD!C53\"))>0,IF(ROUND(INDIRECT(\"CON\"&N$5&\"_PROD!C53\"),1)>ROUND(JMF_BOIL,1),\"+ \",\"\") & TEXT(INDIRECT(\"CON\"&N$5&\"_PROD!C53\"),\"0.0\"),\"\")","v":""},null,null,null,null,null,null,null,null,{"$f":"IF(W47<>\"\",IF(W52<>\"\",ABS(W47-W52),\"\"),\"\")","v":""},{"$f":"IF(X47<>\"\",IF(X52<>\"\",ABS(X47-X52),\"\"),\"\")","v":""},"","","","","","",null,null,null,null,null,null,null,null,null,null,null,-1]
[null,{"$f":"IF(COUNTIF(F54:I54,\"+*\")+COUNTIF(K54:N54,\"* \")>0,\"+ Exceeds verification tolerance for stripping\",\"\")","v":""},null,null,null,null,null,null,null,null,null,null,null,null,null,null,null,null,null,null,null,null,null,null,null,null,null,null,null,null,null,null,null,null,null,null,null,null,null,null,null,-1]
[null,"PROFILES: Tex-244-F & Tex-207-F, Part V & Tex-207-F, Part VII",null,null,null,null,null,null,null,null,null,null,null,null,null,null,null,null,null,null,null,null,null,null,null,null,null,null,null,null,null,null,null,null,null,null,null,null,null,null,null,-1]
[null,null,null,null,null,null,null,null,null,null,null,null,null,null,null,null,null,null,null,null,null,null,null,null,null,null,null,null,null,null,null,null,null,null,null,null,null,null,null,null,null,-1]
[null,"Thermal segregation:",null,null,"NA",{"$f":"IF(INDIRECT(\"DOT\"&F$5&\"_PROD!C54\")<>\"\",INDIRECT(\"DOT\"&F$5&\"_PROD!C54\"),\"\")","v":""},{"$f":"IF(INDIRECT(\"DOT\"&G$5&\"_PROD!C54\")<>\"\",INDIRECT(\"DOT\"&G$5&\"_PROD!C54\"),\"\")","v":""},{"$f":"IF(INDIRECT(\"DOT\"&H$5&\"_PROD!C54\")<>\"\",INDIRECT(\"DOT\"&H$5&\"_PROD!C54\"),\"\")","v":""},{"$f":"IF(INDIRECT(\"DOT\"&I$5&\"_PROD!C54\")<>\"\",INDIRECT(\"DOT\"&I$5&\"_PROD!C54\"),\"\")","v":""},null,{"$f":"IF(INDIRECT(\"CON\"&K$5&\"_PROD!C54\")<>\"\",INDIRECT(\"CON\"&K$5&\"_PROD!C54\"),\"\")","v":""},{"$f":"IF(INDIRECT(\"CON\"&L$5&\"_PROD!C54\")<>\"\",INDIRECT(\"CON\"&L$5&\"_PROD!C54\"),\"\")","v":""},{"$f":"IF(INDIRECT(\"CON\"&M$5&\"_PROD!C54\")<>\"\",INDIRECT(\"CON\"&M$5&\"_PROD!C54\"),\"\")","v":""},{"$f":"IF(INDIRECT(\"CON\"&N$5&\"_PROD!C54\")<>\"\",INDIRECT(\"CON\"&N$5&\"_PROD!C54\"),\"\")","v":""},null,null,null,null,null,null,null,null,"Densities for referee rice",null,null,null,null,null,null,null,null,null,null,null,null,null,null,null,null,null,null,-1]
[null,null,null,null,null,null,null,null,null,null,null,null,null,null,null,null,null,null,null,null,null,null,null,null,null,null,null,null,null,null,null,null,null,null,null,null,null,null,null,null,null,-1]
[null,"Segregation profile:",null,null,"NA",{"$f":"IF(INDIRECT(\"DOT\"&F$5&\"_PROD!C55\")<>\"\",INDIRECT(\"DOT\"&F$5&\"_PROD!C55\"),\"\")","v":""},{"$f":"IF(INDIRECT(\"DOT\"&G$5&\"_PROD!C55\")<>\"\",INDIRECT(\"DOT\"&G$5&\"_PROD!C55\"),\"\")","v":""},{"$f":"IF(INDIRECT(\"DOT\"&H$5&\"_PROD!C55\")<>\"\",INDIRECT(\"DOT\"&H$5&\"_PROD!C55\"),\"\")","v":""},{"$f":"IF(INDIRECT(\"DOT\"&I$5&\"_PROD!C55\")<>\"\",INDIRECT(\"DOT\"&I$5&\"_PROD!C55\"),\"\")","v":""},null,{"$f":"IF(INDIRECT(\"CON\"&F$5&\"_PROD!C55\")<>\"\",INDIRECT(\"CON\"&F$5&\"_PROD!C55\"),\"\")","v":""},{"$f":"IF(INDIRECT(\"CON\"&G$5&\"_PROD!C55\")<>\"\",INDIRECT(\"CON\"&G$5&\"_PROD!C55\"),\"\")","v":""},{"$f":"IF(INDIRECT(\"CON\"&H$5&\"_PROD!C55\")<>\"\",INDIRECT(\"CON\"&H$5&\"_PROD!C55\"),\"\")","v":""},{"$f":"IF(INDIRECT(\"CON\"&I$5&\"_PROD!C55\")<>\"\",INDIRECT(\"CON\"&I$5&\"_PROD!C55\"),\"\")","v":""},null,null,null,null,null,null,null,null,{"$f":"IFERROR(ROUND(100*F28/R38,1),\"\")","v":""},{"$f":"IFERROR(ROUND(100*G28/S38,1),\"\")","v":""},"",{"$f":"IFERROR(ROUND(100*I28/U38,1),\"\")","v":""},null,null,null,null,null,null,null,null,null,null,null,null,null,null,null,-1]
[null,null,null,null,null,null,null,null,null,null,null,null,null,null,null,null,null,null,null,null,null,null,null,null,null,null,null,null,null,null,null,null,null,null,null,null,null,null,null,null,null,-1]
[null,"Joint density:",null,null,"NA",{"$f":"IF(INDIRECT(\"DOT\"&F$5&\"_PROD!C56\")<>\"\",INDIRECT(\"DOT\"&F$5&\"_PROD!C56\"),\"\")","v":""},{"$f":"IF(INDIRECT(\"DOT\"&G$5&\"_PROD!C56\")<>\"\",INDIRECT(\"DOT\"&G$5&\"_PROD!C56\"),\"\")","v":""},{"$f":"IF(INDIRECT(\"DOT\"&H$5&\"_PROD!C56\")<>\"\",INDIRECT(\"DOT\"&H$5&\"_PROD!C56\"),\"\")","v":""},{"$f":"IF(INDIRECT(\"DOT\"&I$5&\"_PROD!C56\")<>\"\",INDIRECT(\"DOT\"&I$5&\"_PROD!C56\"),\"\")","v":""},null,{"$f":"IF(INDIRECT(\"CON\"&F$5&\"_PROD!C56\")<>\"\",INDIRECT(\"CON\"&F$5&\"_PROD!C56\"),\"\")","v":""},{"$f":"IF(INDIRECT(\"CON\"&G$5&\"_PROD!C56\")<>\"\",INDIRECT(\"CON\"&G$5&\"_PROD!C56\"),\"\")","v":""},{"$f":"IF(INDIRECT(\"CON\"&H$5&\"_PROD!C56\")<>\"\",INDIRECT(\"CON\"&H$5&\"_PROD!C56\"),\"\")","v":""},{"$f":"IF(INDIRECT(\"CON\"&I$5&\"_PROD!C56\")<>\"\",INDIRECT(\"CON\"&I$5&\"_PROD!C56\"),\"\")","v":""},null,null,null,null,null,null,null,null,"Average rice after referee",null,null,null,null,null,null,null,null,null,null,null,null,null,null,null,null,null,null,-1]
[null,null,null,null,null,null,null,null,null,null,null,null,null,null,null,null,null,null,null,null,null,null,null,null,null,null,null,null,null,null,null,null,null,null,null,null,null,null,null,null,null,-1]
[null,"Required documentation?:",null,null,"NA",{"$f":"IF(ISERROR(SEARCH(\"camera\",MIX_THERMAL)),\"NA\",IF(OR(F58=\"No docs\",F60=\"No docs\",F62=\"No docs\"),\"No\",\"Yes\"))","v":"NA"},{"$f":"IF(ISERROR(SEARCH(\"camera\",MIX_THERMAL)),\"NA\",IF(OR(G58=\"No docs\",G60=\"No docs\",G62=\"No docs\"),\"No\",\"Yes\"))","v":"NA"},{"$f":"IF(ISERROR(SEARCH(\"camera\",MIX_THERMAL)),\"NA\",IF(OR(H58=\"No docs\",H60=\"No docs\",H62=\"No docs\"),\"No\",\"Yes\"))","v":"NA"},{"$f":"IF(ISERROR(SEARCH(\"camera\",MIX_THERMAL)),\"NA\",IF(OR(I58=\"No docs\",I60=\"No docs\",I62=\"No docs\"),\"No\",\"Yes\"))","v":"NA"},null,{"$f":"IF(ISERROR(SEARCH(\"camera\",MIX_THERMAL)),\"NA\",IF(OR(K58=\"No docs\",K60=\"No docs\",K62=\"No docs\"),\"No\",\"Yes\"))","v":"NA"},{"$f":"IF(ISERROR(SEARCH(\"camera\",MIX_THERMAL)),\"NA\",IF(OR(L58=\"No docs\",L60=\"No docs\",L62=\"No docs\"),\"No\",\"Yes\"))","v":"NA"},{"$f":"IF(ISERROR(SEARCH(\"camera\",MIX_THERMAL)),\"NA\",IF(OR(M58=\"No docs\",M60=\"No docs\",M62=\"No docs\"),\"No\",\"Yes\"))","v":"NA"},{"$f":"IF(ISERROR(SEARCH(\"camera\",MIX_THERMAL)),\"NA\",IF(OR(N58=\"No docs\",N60=\"No docs\",N62=\"No docs\"),\"No\",\"Yes\"))","v":"NA"},null,null,null,null,null,null,null,null,{"$f":"IFERROR(IF(R$38<>\"\",R$38,IF(F$38<>\"\",_xlfn.NUMBERVALUE(F$38),\"\")),\"\")","v":""},{"$f":"IFERROR(IF(S$38<>\"\",S$38,IF(G$38<>\"\",_xlfn.NUMBERVALUE(G$38),\"\")),\"\")","v":""},"","",null,null,null,null,null,null,null,null,null,null,null,null,null,null,null,-1]
[null,null,null,null,null,null,null,null,null,null,null,null,null,null,null,null,null,null,null,null,null,null,{"$f":"IFERROR(ROUND(AVERAGE(W64:Z64),3),\"\")","v":""},null,null,null,null,null,null,null,null,null,null,null,null,null,null,null,null,null,null,-1]
[null,"DRAIN-DOWN: Tex-235-F",null,null,null,null,null,null,null,null,null,null,null,null,null,null,null,null,null,null,null,null,null,null,null,null,null,null,null,null,null,null,null,null,null,null,null,null,null,null,null,{"$f":"INDEX(CHK_DRAIN,MIX_ID)","v":{"$error":"#N/A"}}]
[null,null,null,null,null,null,null,null,null,null,null,null,null,null,null,null,null,null,null,null,null,null,null,null,null,null,null,null,null,null,null,null,null,null,null,null,null,null,null,null,null,{"$f":"INDEX(CHK_DRAIN,MIX_ID)","v":{"$error":"#N/A"}}]
[null,"Drain-down, %:",null,null,{"$f":"IFERROR(TEXT(INDEX(INDIRECT(MIX_NAME),1,22),\"0.0\"),\"\")","v":""},{"$f":"IF(ISBLANK(INDIRECT(\"DOT\"&F$5&\"_PROD!C48\")),\"\",IF(INDIRECT(\"DOT\"&F$5&\"_PROD!C48\")>INDEX(INDIRECT(MIX_NAME),1,22),\"+ \",\"\")  & TEXT(INDIRECT(\"DOT\"&F$5&\"_PROD!C48\"),\"0.0\"))","v":""},{"$f":"IF(ISBLANK(INDIRECT(\"DOT\"&G$5&\"_PROD!C48\")),\"\",IF(INDIRECT(\"DOT\"&G$5&\"_PROD!C48\")>INDEX(INDIRECT(MIX_NAME),1,22),\"+ \",\"\")  & TEXT(INDIRECT(\"DOT\"&G$5&\"_PROD!C48\"),\"0.0\"))","v":""},{"$f":"IF(ISBLANK(INDIRECT(\"DOT\"&H$5&\"_PROD!C48\")),\"\",IF(INDIRECT(\"DOT\"&H$5&\"_PROD!C48\")>INDEX(INDIRECT(MIX_NAME),1,22),\"+ \",\"\")  & TEXT(INDIRECT(\"DOT\"&H$5&\"_PROD!C48\"),\"0.0\"))","v":""},{"$f":"IF(ISBLANK(INDIRECT(\"DOT\"&I$5&\"_PROD!C48\")),\"\",IF(INDIRECT(\"DOT\"&I$5&\"_PROD!C48\")>INDEX(INDIRECT(MIX_NAME),1,22),\"+ \",\"\")  & TEXT(INDIRECT(\"DOT\"&I$5&\"_PROD!C48\"),\"0.0\"))","v":""},null,{"$f":"IF(ISBLANK(INDIRECT(\"CON\"&K$5&\"_PROD!C48\")),\"\",IF(INDIRECT(\"CON\"&K$5&\"_PROD!C48\")>INDEX(INDIRECT(MIX_NAME),1,22),\"+ \",\"\")  & TEXT(INDIRECT(\"CON\"&F$5&\"_PROD!C48\"),\"0.0\"))","v":""},{"$f":"IF(ISBLANK(INDIRECT(\"CON\"&L$5&\"_PROD!C48\")),\"\",IF(INDIRECT(\"CON\"&L$5&\"_PROD!C48\")>INDEX(INDIRECT(MIX_NAME),1,22),\"+ \",\"\")  & TEXT(INDIRECT(\"CON\"&G$5&\"_PROD!C48\"),\"0.0\"))","v":""},{"$f":"IF(ISBLANK(INDIRECT(\"CON\"&M$5&\"_PROD!C48\")),\"\",IF(INDIRECT(\"CON\"&M$5&\"_PROD!C48\")>INDEX(INDIRECT(MIX_NAME),1,22),\"+ \",\"\")  & TEXT(INDIRECT(\"CON\"&H$5&\"_PROD!C48\"),\"0.0\"))","v":""},{"$f":"IF(ISBLANK(INDIRECT(\"CON\"&N$5&\"_PROD!C48\")),\"\",IF(INDIRECT(\"CON\"&N$5&\"_PROD!C48\")>INDEX(INDIRECT(MIX_NAME),1,22),\"+ \",\"\")  & TEXT(INDIRECT(\"CON\"&I$5&\"_PROD!C48\"),\"0.0\"))","v":""},null,null,null,null,null,null,null,null,null,null,null,null,null,null,null,null,null,null,null,null,null,null,null,null,null,null,null,{"$f":"INDEX(CHK_DRAIN,MIX_ID)","v":{"$error":"#N/A"}}]
[null,{"$f":"IF(COUNTIF(F68:N68,\"+*\")>0,\"+ Exceeds maximum allowable drain-down\",\"\")","v":""},null,null,null,null,null,null,null,null,null,null,null,null,null,null,null,null,null,null,null,null,null,null,null,null,null,null,null,null,null,null,null,null,null,null,null,null,null,null,null,{"$f":"INDEX(CHK_DRAIN,MIX_ID)","v":{"$error":"#N/A"}}]
[null,"MEMBRANE APPLICATION RATE: Tex-247-F",null,null,null,null,null,null,null,null,null,null,null,null,null,null,null,null,null,null,null,null,null,null,null,null,null,null,null,null,null,null,null,null,null,null,null,null,null,null,null,{"$f":"INDEX(CHK_MEM,MIX_ID)","v":{"$error":"#N/A"}}]
[null,null,null,null,null,null,null,null,null,null,null,null,null,null,null,null,null,null,null,null,null,null,null,null,null,null,null,null,null,null,null,null,null,null,null,null,null,null,null,null,null,{"$f":"INDEX(CHK_MEM,MIX_ID)","v":{"$error":"#N/A"}}]
[null,"Rate, gal/sy:",null,null,{"$f":"JMF_MEM","v":0},{"$f":"IF(ISBLANK(INDIRECT(\"DOT\"&F$5&\"_PROD!C50\")),\"\",IF(ABS(INDIRECT(\"DOT\"&F$5&\"_PROD!C50\")-JMF_MEM)>0.02,\"+ \",\"\")  & TEXT(INDIRECT(\"DOT\"&F$5&\"_PROD!C50\"),\"0.0\"))","v":""},{"$f":"IF(ISBLANK(INDIRECT(\"DOT\"&G$5&\"_PROD!C50\")),\"\",IF(ABS(INDIRECT(\"DOT\"&G$5&\"_PROD!C50\")-JMF_MEM)>0.02,\"+ \",\"\")  & TEXT(INDIRECT(\"DOT\"&G$5&\"_PROD!C50\"),\"0.0\"))","v":""},{"$f":"IF(ISBLANK(INDIRECT(\"DOT\"&H$5&\"_PROD!C50\")),\"\",IF(ABS(INDIRECT(\"DOT\"&H$5&\"_PROD!C50\")-JMF_MEM)>0.02,\"+ \",\"\")  & TEXT(INDIRECT(\"DOT\"&H$5&\"_PROD!C50\"),\"0.0\"))","v":""},{"$f":"IF(ISBLANK(INDIRECT(\"DOT\"&I$5&\"_PROD!C50\")),\"\",IF(ABS(INDIRECT(\"DOT\"&I$5&\"_PROD!C50\")-JMF_MEM)>0.02,\"+ \",\"\")  & TEXT(INDIRECT(\"DOT\"&I$5&\"_PROD!C50\"),\"0.0\"))","v":""},null,{"$f":"IF(ISBLANK(INDIRECT(\"CON\"&K$5&\"_PROD!C50\")),\"\",IF(ABS(INDIRECT(\"CON\"&K$5&\"_PROD!C50\")-JMF_MEM)>0.02,\"+ \",\"\")  & TEXT(INDIRECT(\"CON\"&K$5&\"_PROD!C50\"),\"0.0\"))","v":""},{"$f":"IF(ISBLANK(INDIRECT(\"CON\"&L$5&\"_PROD!C50\")),\"\",IF(ABS(INDIRECT(\"CON\"&L$5&\"_PROD!C50\")-JMF_MEM)>0.02,\"+ \",\"\")  & TEXT(INDIRECT(\"CON\"&L$5&\"_PROD!C50\"),\"0.0\"))","v":""},{"$f":"IF(ISBLANK(INDIRECT(\"CON\"&M$5&\"_PROD!C50\")),\"\",IF(ABS(INDIRECT(\"CON\"&M$5&\"_PROD!C50\")-JMF_MEM)>0.02,\"+ \",\"\")  & TEXT(INDIRECT(\"CON\"&M$5&\"_PROD!C50\"),\"0.0\"))","v":""},{"$f":"IF(ISBLANK(INDIRECT(\"CON\"&N$5&\"_PROD!C50\")),\"\",IF(ABS(INDIRECT(\"CON\"&N$5&\"_PROD!C50\")-JMF_MEM)>0.02,\"+ \",\"\")  & TEXT(INDIRECT(\"CON\"&N$5&\"_PROD!C50\"),\"0.0\"))","v":""},null,null,null,null,null,null,null,null,null,null,null,null,null,null,null,null,null,null,null,null,null,null,null,null,null,null,null,{"$f":"INDEX(CHK_MEM,MIX_ID)","v":{"$error":"#N/A"}}]
[null,{"$f":"IF(COUNTIF(F72:N72,\"+*\")>0,\"+ Absolute difference with current JMF exceeds 0.02\",\"\")","v":""},null,null,null,null,null,null,null,null,null,null,null,null,null,null,null,null,null,null,null,null,null,null,null,null,null,null,null,null,null,null,null,null,null,null,null,null,null,null,null,{"$f":"INDEX(CHK_MEM,MIX_ID)","v":{"$error":"#N/A"}}]
[null,"ESTIMATED FILM THICKNESS",null,null,null,null,null,null,null,null,null,null,null,null,null,null,null,null,null,null,null,null,null,null,null,null,null,null,null,null,null,null,null,null,null,null,null,null,null,null,null,{"$f":"INDEX(CHK_FT,MIX_ID)","v":{"$error":"#N/A"}}]
[null,null,null,null,null,null,null,null,null,null,null,null,null,null,null,null,null,null,null,null,null,null,null,null,null,null,null,null,null,null,null,null,null,null,null,null,null,null,null,null,null,{"$f":"INDEX(CHK_FT,MIX_ID)","v":{"$error":"#N/A"}}]
[null,"Film thickness, micron:",null,null,"NA",{"$f":"IF(INDIRECT(\"DOT\"&F$5&\"_PROD!C64\")<9,\"+ \",\"\")  & TEXT(INDIRECT(\"DOT\"&F$5&\"_PROD!C64\"),\"0.0\")","v":""},{"$f":"IF(INDIRECT(\"DOT\"&G$5&\"_PROD!C64\")<9,\"+ \",\"\")  & TEXT(INDIRECT(\"DOT\"&G$5&\"_PROD!C64\"),\"0.0\")","v":""},{"$f":"IF(INDIRECT(\"DOT\"&H$5&\"_PROD!C64\")<9,\"+ \",\"\")  & TEXT(INDIRECT(\"DOT\"&H$5&\"_PROD!C64\"),\"0.0\")","v":""},{"$f":"IF(INDIRECT(\"DOT\"&I$5&\"_PROD!C64\")<9,\"+ \",\"\")  & TEXT(INDIRECT(\"DOT\"&I$5&\"_PROD!C64\"),\"0.0\")","v":""},null,{"$f":"IF(INDIRECT(\"CON\"&K$5&\"_PROD!C64\")<9,\"+ \",\"\")  & TEXT(INDIRECT(\"CON\"&K$5&\"_PROD!C64\"),\"0.0\")","v":""},{"$f":"IF(INDIRECT(\"CON\"&L$5&\"_PROD!C64\")<9,\"+ \",\"\")  & TEXT(INDIRECT(\"CON\"&L$5&\"_PROD!C64\"),\"0.0\")","v":""},{"$f":"IF(INDIRECT(\"CON\"&M$5&\"_PROD!C64\")<9,\"+ \",\"\")  & TEXT(INDIRECT(\"CON\"&M$5&\"_PROD!C64\"),\"0.0\")","v":""},{"$f":"IF(INDIRECT(\"CON\"&N$5&\"_PROD!C64\")<9,\"+ \",\"\")  & TEXT(INDIRECT(\"CON\"&N$5&\"_PROD!C64\"),\"0.0\")","v":""},null,null,null,null,null,null,null,null,null,null,null,null,null,null,null,null,null,null,null,null,null,null,null,null,null,null,null,{"$f":"INDEX(CHK_FT,MIX_ID)","v":{"$error":"#N/A"}}]
[null,{"$f":"IF(COUNTIF(F76:N76,\"+*\")>0,\"+ Undershoots minimum film thickness requirement of 9 micron\",\"\")","v":""},null,null,null,null,null,null,null,null,null,null,null,null,null,null,null,null,null,null,null,null,null,null,null,null,null,null,null,null,null,null,null,null,null,null,null,null,null,null,null,{"$f":"INDEX(CHK_FT,MIX_ID)","v":{"$error":"#N/A"}}]
[null,"DUST TO BINDER RATIO",null,null,null,null,null,null,null,null,null,null,null,null,null,null,null,null,null,null,null,null,null,null,null,null,null,null,null,null,null,null,null,null,null,null,null,null,null,null,null,{"$f":"INDEX(CHK_DB,MIX_ID)","v":{"$error":"#N/A"}}]
[null,null,null,null,null,null,null,null,null,null,null,null,null,null,null,null,null,null,null,null,null,null,null,null,null,null,null,null,null,null,null,null,null,null,null,null,null,null,null,null,null,{"$f":"INDEX(CHK_DB,MIX_ID)","v":{"$error":"#N/A"}}]
[null,"Dust/Binder:",null,null,"NA",{"$f":"IF(AND(INDIRECT(\"DOT\"&F$5&\"_PROD!C17\")<>\"\",INDIRECT(\"DOT\"&F$5&\"_GRAD!E21\")<>\"\"),IF(OR(IFERROR(INDIRECT(\"DOT\"&F$5&\"_GRAD!E21\")/INDIRECT(\"DOT\"&F$5&\"_PROD!C17\"),\"\")<DBMin,IFERROR(INDIRECT(\"DOT\"&F$5&\"_GRAD!E21\")/INDIRECT(\"DOT\"&F$5&\"_PROD!C17\"),\"\")>DBMax),\"+\",\"\") & TEXT(INDIRECT(\"DOT\"&F$5&\"_GRAD!E21\")/INDIRECT(\"DOT\"&F$5&\"_PROD!C17\"),\"0.0\"),\"\")","v":""},{"$f":"IF(AND(INDIRECT(\"DOT\"&G$5&\"_PROD!C17\")<>\"\",INDIRECT(\"DOT\"&G$5&\"_GRAD!E21\")<>\"\"),IF(OR(IFERROR(INDIRECT(\"DOT\"&G$5&\"_GRAD!E21\")/INDIRECT(\"DOT\"&G$5&\"_PROD!C17\"),\"\")<DBMin,IFERROR(INDIRECT(\"DOT\"&G$5&\"_GRAD!E21\")/INDIRECT(\"DOT\"&G$5&\"_PROD!C17\"),\"\")>DBMax),\"+\",\"\") & TEXT(INDIRECT(\"DOT\"&G$5&\"_GRAD!E21\")/INDIRECT(\"DOT\"&G$5&\"_PROD!C17\"),\"0.0\"),\"\")","v":""},{"$f":"IF(AND(INDIRECT(\"DOT\"&H$5&\"_PROD!C17\")<>\"\",INDIRECT(\"DOT\"&H$5&\"_GRAD!E21\")<>\"\"),IF(OR(IFERROR(INDIRECT(\"DOT\"&H$5&\"_GRAD!E21\")/INDIRECT(\"DOT\"&H$5&\"_PROD!C17\"),\"\")<DBMin,IFERROR(INDIRECT(\"DOT\"&H$5&\"_GRAD!E21\")/INDIRECT(\"DOT\"&H$5&\"_PROD!C17\"),\"\")>DBMax),\"+\",\"\") & TEXT(INDIRECT(\"DOT\"&H$5&\"_GRAD!E21\")/INDIRECT(\"DOT\"&H$5&\"_PROD!C17\"),\"0.0\"),\"\")","v":""},{"$f":"IF(AND(INDIRECT(\"DOT\"&I$5&\"_PROD!C17\")<>\"\",INDIRECT(\"DOT\"&I$5&\"_GRAD!E21\")<>\"\"),IF(OR(IFERROR(INDIRECT(\"DOT\"&I$5&\"_GRAD!E21\")/INDIRECT(\"DOT\"&I$5&\"_PROD!C17\"),\"\")<DBMin,IFERROR(INDIRECT(\"DOT\"&I$5&\"_GRAD!E21\")/INDIRECT(\"DOT\"&I$5&\"_PROD!C17\"),\"\")>DBMax),\"+\",\"\") & TEXT(INDIRECT(\"DOT\"&I$5&\"_GRAD!E21\")/INDIRECT(\"DOT\"&I$5&\"_PROD!C17\"),\"0.0\"),\"\")","v":""},null,{"$f":"IF(AND(INDIRECT(\"CON\"&K$5&\"_PROD!C17\")<>\"\",INDIRECT(\"CON\"&K$5&\"_GRAD!E21\")<>\"\"),IF(OR(IFERROR(INDIRECT(\"CON\"&K$5&\"_GRAD!E21\")/INDIRECT(\"CON\"&K$5&\"_PROD!C17\"),\"\")<DBMin,IFERROR(INDIRECT(\"CON\"&K$5&\"_GRAD!E21\")/INDIRECT(\"CON\"&K$5&\"_PROD!C17\"),\"\")>DBMax),\"+\",\"\") & TEXT(INDIRECT(\"CON\"&K$5&\"_GRAD!E21\")/INDIRECT(\"CON\"&K$5&\"_PROD!C17\"),\"0.0\"),\"\")","v":""},{"$f":"IF(AND(INDIRECT(\"CON\"&L$5&\"_PROD!C17\")<>\"\",INDIRECT(\"CON\"&L$5&\"_GRAD!E21\")<>\"\"),IF(OR(IFERROR(INDIRECT(\"CON\"&L$5&\"_GRAD!E21\")/INDIRECT(\"CON\"&L$5&\"_PROD!C17\"),\"\")<DBMin,IFERROR(INDIRECT(\"CON\"&L$5&\"_GRAD!E21\")/INDIRECT(\"CON\"&L$5&\"_PROD!C17\"),\"\")>DBMax),\"+\",\"\") & TEXT(INDIRECT(\"CON\"&L$5&\"_GRAD!E21\")/INDIRECT(\"CON\"&L$5&\"_PROD!C17\"),\"0.0\"),\"\")","v":""},{"$f":"IF(AND(INDIRECT(\"CON\"&M$5&\"_PROD!C17\")<>\"\",INDIRECT(\"CON\"&M$5&\"_GRAD!E21\")<>\"\"),IF(OR(IFERROR(INDIRECT(\"CON\"&M$5&\"_GRAD!E21\")/INDIRECT(\"CON\"&M$5&\"_PROD!C17\"),\"\")<DBMin,IFERROR(INDIRECT(\"CON\"&M$5&\"_GRAD!E21\")/INDIRECT(\"CON\"&M$5&\"_PROD!C17\"),\"\")>DBMax),\"+\",\"\") & TEXT(INDIRECT(\"CON\"&M$5&\"_GRAD!E21\")/INDIRECT(\"CON\"&M$5&\"_PROD!C17\"),\"0.0\"),\"\")","v":""},{"$f":"IF(AND(INDIRECT(\"CON\"&N$5&\"_PROD!C17\")<>\"\",INDIRECT(\"CON\"&N$5&\"_GRAD!E21\")<>\"\"),IF(OR(IFERROR(INDIRECT(\"CON\"&N$5&\"_GRAD!E21\")/INDIRECT(\"CON\"&N$5&\"_PROD!C17\"),\"\")<DBMin,IFERROR(INDIRECT(\"CON\"&N$5&\"_GRAD!E21\")/INDIRECT(\"CON\"&N$5&\"_PROD!C17\"),\"\")>DBMax),\"+\",\"\") & TEXT(INDIRECT(\"CON\"&N$5&\"_GRAD!E21\")/INDIRECT(\"CON\"&N$5&\"_PROD!C17\"),\"0.0\"),\"\")","v":""},null,null,null,null,null,null,null,null,null,null,null,null,null,null,null,null,null,null,null,null,null,null,null,null,null,null,null,{"$f":"INDEX(CHK_DB,MIX_ID)","v":{"$error":"#N/A"}}]
[null,{"$f":"IF(N_TRIAL=\"Yes\",IF(COUNTIF(F80:I80,\"+*\")>0,\"+ Exceeds opeartional tolerance for dust to binder ratio\",\"\"),IF(COUNTIF(F80:N80,\"+*\")>0,\"+ Exceeds opeartional tolerance for dust to binder ratio\",\"\"))","v":""},null,null,null,null,null,null,null,null,null,null,null,null,null,null,null,null,null,null,null,null,null,null,null,null,null,null,null,null,null,null,null,null,null,null,null,null,null,null,null,{"$f":"INDEX(CHK_DB,MIX_ID)","v":{"$error":"#N/A"}}]
[null,"MOISTURE CONTENT: Tex-212-F, Part II",null,null,null,null,null,null,null,null,null,null,null,null,null,null,null,null,null,null,null,null,"Air voids after referee rice",null,null,null,null,null,null,null,null,null,null,null,null,null,null,null,null,null,null,-1]
[null,null,null,null,null,null,null,null,null,null,null,null,null,null,null,null,null,null,null,null,null,null,null,null,null,null,null,null,null,null,null,null,null,null,null,null,null,null,null,null,null,-1]
[null,"Moisture content, %:",null,null,"NA",{"$f":"IF(ISBLANK(INDIRECT(\"DOT\"&F$5&\"_PROD!C52\")),\"\",IF(INDIRECT(\"DOT\"&F$5&\"_PROD!C52\")>0.2,\"+ \",\"\")  & TEXT(INDIRECT(\"DOT\"&F$5&\"_PROD!C52\"),\"0.0\"))","v":""},{"$f":"IF(ISBLANK(INDIRECT(\"DOT\"&G$5&\"_PROD!C52\")),\"\",IF(INDIRECT(\"DOT\"&G$5&\"_PROD!C52\")>0.2,\"+ \",\"\")  & TEXT(INDIRECT(\"DOT\"&G$5&\"_PROD!C52\"),\"0.0\"))","v":""},{"$f":"IF(ISBLANK(INDIRECT(\"DOT\"&H$5&\"_PROD!C52\")),\"\",IF(INDIRECT(\"DOT\"&H$5&\"_PROD!C52\")>0.2,\"+ \",\"\")  & TEXT(INDIRECT(\"DOT\"&H$5&\"_PROD!C52\"),\"0.0\"))","v":""},{"$f":"IF(ISBLANK(INDIRECT(\"DOT\"&I$5&\"_PROD!C52\")),\"\",IF(INDIRECT(\"DOT\"&I$5&\"_PROD!C52\")>0.2,\"+ \",\"\")  & TEXT(INDIRECT(\"DOT\"&I$5&\"_PROD!C52\"),\"0.0\"))","v":""},null,{"$f":"IF(ISBLANK(INDIRECT(\"CON\"&K$5&\"_PROD!C52\")),\"\",IF(INDIRECT(\"CON\"&K$5&\"_PROD!C52\")>0.2,\"+ \",\"\")  & TEXT(INDIRECT(\"CON\"&K$5&\"_PROD!C52\"),\"0.0\"))","v":""},{"$f":"IF(ISBLANK(INDIRECT(\"CON\"&L$5&\"_PROD!C52\")),\"\",IF(INDIRECT(\"CON\"&L$5&\"_PROD!C52\")>0.2,\"+ \",\"\")  & TEXT(INDIRECT(\"CON\"&L$5&\"_PROD!C52\"),\"0.0\"))","v":""},{"$f":"IF(ISBLANK(INDIRECT(\"CON\"&M$5&\"_PROD!C52\")),\"\",IF(INDIRECT(\"CON\"&M$5&\"_PROD!C52\")>0.2,\"+ \",\"\")  & TEXT(INDIRECT(\"CON\"&M$5&\"_PROD!C52\"),\"0.0\"))","v":""},{"$f":"IF(ISBLANK(INDIRECT(\"CON\"&N$5&\"_PROD!C52\")),\"\",IF(INDIRECT(\"CON\"&N$5&\"_PROD!C52\")>0.2,\"+ \",\"\")  & TEXT(INDIRECT(\"CON\"&N$5&\"_PROD!C52\"),\"0.0\"))","v":""},null,null,null,null,null,null,null,null,{"$f":"IFERROR(100-ROUND(INDIRECT(\"DOT\"&F$5&\"_DENSITY!F35\")*100/$W$65,1),\"\")","v":""},{"$f":"IFERROR(100-ROUND(INDIRECT(\"DOT\"&G$5&\"_DENSITY!F35\")*100/$W$65,1),\"\")","v":""},"","",null,null,null,null,null,null,null,null,null,null,null,null,null,null,null,-1]
[null,{"$f":"IF(COUNTIF(F84:N84,\"+*\")>0,\"+ Exceeds maximum allowable moisture content\",\"\")","v":""},null,null,null,null,null,null,null,null,null,null,null,null,null,null,null,null,null,null,null,null,null,null,null,null,null,null,null,null,null,null,null,null,null,null,null,null,null,null,null,-1]
[null,{"$f":"\"Tested by: \" & UPPER(TestPerson1) & \"      Reviewed by: \" & UPPER(ReviewPerson) & \"      Authorized by: \" & UPPER(AuthorizePerson)","v":"Tested by:       Reviewed by:       Authorized by: "},null,null,null,null,null,null,null,null,null,null,null,null,null,null,null,null,null,null,null,null,null,null,null,null,null,null,null,null,null,null,null,null,null,null,null,null,null,null,null,-1]

{"sheet":"PAYMENT","index":46,"n_rows":86,"n_cols":29,"rows_kept":86,"cut":false,"hidden":false,"merged":[[80,1,80,8],[79,11,79,12],[80,11,80,12],[77,9,77,12],[75,1,75,8],[78,9,78,10],[72,11,72,12],[73,11,73,12],[74,11,74,12],[75,11,75,12],[78,11,78,12],[80,9,80,10],[79,9,79,10],[85,1,85,5],[85,7,85,11],[84,1,84,5],[84,7,84,11],[63,1,63,8],[64,1,64,8],[66,1,66,8],[67,1,67,8],[69,9,69,12],[68,9,68,12],[71,9,71,10],[71,11,71,12],[76,9,76,10],[76,11,76,12],[72,9,72,10],[73,9,73,10],[74,9,74,10],[75,9,75,10],[78,1,78,8],[77,1,77,8],[72,1,72,8],[73,1,73,8],[74,1,74,8],[79,1,79,8],[71,1,71,8],[76,1,76,8],[49,1,49,2],[56,1,56,12],[65,1,65,8],[62,1,62,8],[48,1,48,2],[48,7,48,8],[59,3,59,6],[58,9,58,12],[59,9,59,12],[61,1,61,12],[58,3,58,6],[49,7,49,8],[51,1,51,2],[57,1,57,2],[58,1,58,2],[59,1,59,2],[57,7,57,8],[58,7,58,8],[59,7,59,8],[52,1,52,2],[54,1,54,2],[53,1,53,2],[38,1,38,2],[39,1,39,2],[47,1,47,2],[43,7,43,8],[47,7,47,8],[43,1,43,2],[68,1,68,8],[69,1,69,8],[70,1,70,12],[51,7,51,8],[50,7,50,8],[50,1,50,2],[42,1,42,12],[44,1,44,2],[44,7,44,8],[45,1,45,2],[45,7,45,8],[46,1,46,2],[46,7,46,8],[40,1,40,2],[40,7,40,8],[55,1,55,2],[41,1,41,2],[41,7,41,8],[24,1,24,11],[29,1,29,11],[37,1,37,2],[34,7,34,8],[34,1,34,2],[36,7,36,8],[35,1,35,2],[36,1,36,2],[37,7,37,8],[35,3,35,6],[33,1,33,6],[33,7,33,12],[35,7,35,8],[30,1,30,11],[0,1,0,12],[11,1,11,11],[1,1,1,12],[2,1,2,11],[26,1,26,12],[27,1,27,11],[28,1,28,11],[31,1,31,11],[4,1,4,12],[9,1,9,12],[15,1,15,12],[5,1,5,11],[6,1,6,11],[7,1,7,11],[10,1,10,11],[12,1,12,11],[13,1,13,11],[16,1,16,11],[17,1,17,11],[21,1,21,12],[18,1,18,11],[19,1,19,11],[22,1,22,11],[23,1,23,11]]}
[null,{"$f":"header","v":"SAMPLE ID:    ______________________________    SAMPLED DATE: ___________________________\nLOT NUMBER:    _____________________________    LETTING DATE: ___________________________\nSAMPLE STATUS:    __________________________    CONTROLLING CSJ: ________________________\nCOUNTY:    _________________________________    SPEC YEAR: ______________________________\nSAMPLED BY:    __________________________________    SPEC ITEM: ______________________________\nSAMPLE LOCATION:    ________________________    SPECIAL PROVISION: ______________________\nMATERIAL CODE:    __________________________    MIX TYPE: _______________________________\nMATERIAL NAME: __________________________________________________________________\nPRODUCER: _______________________________________________________________________\nAREA ENGINEER:    __________________________    PROJECT MANAGER: _____________________________\nCOURSE\\LIFT:    __________________    STATION: ______________________    DIST. FROM CL: ______\n"},null,null,null,null,null,null,null,null,null,null,null,null,null,null,null,null,null,null,null,null,null,"PAY_1?","PAY_2?",{"$f":"INDEX(CHK_PAY1,MIX_ID)","v":{"$error":"#N/A"}},{"$f":"INDEX(CHK_PAY2,MIX_ID)","v":{"$error":"#N/A"}},{"$f":"INDEX(CHK_EXMPT,MIX_ID)","v":{"$error":"#N/A"}},{"$f":"INDEX(CHK_EXMPT_TST,MIX_ID)","v":{"$error":"#N/A"}}]
[null,{"$f":"IFERROR(IF(FINAL_PAY2,\"PAY ADJUSTMENT\",\"QCQA PAY ADJUSTMENT\"),\"\")","v":""},null,null,null,null,null,null,null,null,null,null,null,null,null,null,null,null,null,null,null,null,null,-1]
[null,"Total quantity actually placed, Tons:",null,null,null,null,null,null,null,null,null,null,null,null,null,null,null,null,null,null,null,null,null,-1]
[null,null,null,null,null,null,null,null,null,null,null,null,null,null,null,null,null,null,null,null,null,null,null,-1]
[null,"MIX PAYMENT",null,null,null,null,null,null,null,null,null,null,null,null,null,null,null,null,null,null,null,null,null,{"$f":"IF(OR(FINAL_PAY1,FINAL_PAY2,YesRange(MIX_EXEMPT)),-1,0)","v":{"$error":"#N/A"}}]
[null,"Unit price, $/Ton:",null,null,null,null,null,null,null,null,null,null,null,null,null,null,null,null,null,null,null,null,null,{"$f":"IF(OR(FINAL_PAY1,FINAL_PAY2,YesRange(MIX_EXEMPT)),-1,0)","v":{"$error":"#N/A"}}]
[null,"Quantity, Tons:",null,null,null,null,null,null,null,null,null,null,{"$f":"M3","v":0},null,null,null,null,null,null,null,null,null,null,{"$f":"IF(OR(FINAL_PAY1,FINAL_PAY2,YesRange(MIX_EXEMPT)),-1,0)","v":{"$error":"#N/A"}}]
[null,"Pay amount, $:",null,null,null,null,null,null,null,null,null,null,{"$f":" TEXT(M7,\"0.00\")*TEXT(M6,\"0.00\")","v":0},null,null,null,null,null,null,null,null,null,null,{"$f":"IF(OR(FINAL_PAY1,FINAL_PAY2,YesRange(MIX_EXEMPT)),-1,0)","v":{"$error":"#N/A"}}]
[null,null,null,null,null,null,null,null,null,null,null,null,null,null,null,null,null,null,null,null,null,null,null,{"$f":"IF(OR(FINAL_PAY1,FINAL_PAY2,YesRange(MIX_EXEMPT)),-1,0)","v":{"$error":"#N/A"}}]
[null,"ASPHALT PAYMENT",null,null,null,null,null,null,null,null,null,null,null,null,null,null,null,null,null,null,null,null,null,0]
[null,"Unit price, $/Ton:",null,null,null,null,null,null,null,null,null,null,null,null,null,null,null,null,null,null,null,null,null,0]
[null,"Average measured asphalt percentage, %:",null,null,null,null,null,null,null,null,null,null,{"$f":"ROUND(MEASURE_AC,1)","v":0},null,null,null,null,null,null,null,null,null,null,0]
[null,"Quantity, Tons:",null,null,null,null,null,null,null,null,null,null,{"$f":"M12*M3/100","v":0},null,null,null,null,null,null,null,null,null,null,0]
[null,"Pay amount, $:",null,null,null,null,null,null,null,null,null,null,{"$f":"TEXT(M13,\"0.00\")*TEXT(M11,\"0.00\")","v":0},null,null,null,null,null,null,null,null,null,null,0]
[null,null,null,null,null,null,null,null,null,null,null,null,null,null,null,null,null,null,null,null,null,null,null,{"$f":"IF(FINAL_PAY1,-1,0)","v":{"$error":"#N/A"}}]
[null,"MEMBRANE PAYMENT",null,null,null,null,null,null,null,null,null,null,null,null,null,null,null,null,null,null,null,null,null,{"$error":"#N/A"}]
[null,"Membrane measurement method:",null,null,null,null,null,null,null,null,null,null,null,null,null,null,null,null,null,null,null,null,null,{"$error":"#N/A"}]
[null,{"$f":"\"Unit Price, \" & IF(MEM_METHOD=\"Volume\",\"$/Gallon:\",IF(MEM_METHOD=\"Weight\",\"$/Ton:\",\"\"))","v":"Unit Price, "},null,null,null,null,null,null,null,null,null,null,null,null,null,null,null,null,null,null,null,null,null,{"$error":"#N/A"}]
[null,{"$f":"\"Quantity, \"& IF(MEM_METHOD=\"Volume\",\"Gallons:\",IF(MEM_METHOD=\"Weight\",\"Tons:\",\"\"))","v":"Quantity, "},null,null,null,null,null,null,null,null,null,null,null,null,null,null,null,null,null,null,null,null,null,{"$error":"#N/A"}]
[null,"Pay amount, $:",null,null,null,null,null,null,null,null,null,null,{"$f":"TEXT(M18,\"0.00\")*TEXT(M19,\"0.00\")","v":0},null,null,null,null,null,null,null,null,null,null,{"$error":"#N/A"}]
[null,null,null,null,null,null,null,null,null,null,null,null,null,null,null,null,null,null,null,null,null,null,null,{"$error":"#N/A"}]
[null,"SMALL QUANTITY/LEVEL-UP",null,null,null,null,null,null,null,null,null,null,null,null,null,null,null,null,null,null,null,null,null,0]
[null,"Unit price, $/Ton:",null,null,null,null,null,null,null,null,null,null,null,null,null,null,null,null,null,null,null,null,null,0]
[null,"Quantity, Tons:",null,null,null,null,null,null,null,null,null,null,null,null,null,null,null,null,null,null,null,null,null,0]
[null,"Pay amount, $:",null,null,null,null,null,null,null,null,null,null,null,null,null,null,null,null,null,null,null,null,null,0]
[]
[null,"PAY FACTOR CALCULATION",null,null,null,null,null,null,null,null,null,null,null,null,null,null,null,null,null,null,null,null,null,{"$f":"IF(OR(FINAL_PAY1,FINAL_PAY2,YesRange(MIX_EXEMPT)),0,-1)","v":{"$error":"#N/A"}}]
[null,"Quantity placed but no air void testing was required, Tons:",null,null,null,null,null,null,null,null,null,null,null,null,null,null,null,null,null,null,null,null,null,{"$f":"IF(OR(FINAL_PAY1,FINAL_PAY2,YesRange(MIX_EXEMPT)),0,-1)","v":{"$error":"#N/A"}}]
[null,"Bid price, $/Tons:",null,null,null,null,null,null,null,null,null,null,null,null,null,null,null,null,null,null,null,null,null,{"$f":"IF(OR(FINAL_PAY1,FINAL_PAY2,YesRange(MIX_EXEMPT)),0,-1)","v":{"$error":"#N/A"}}]
[null,"Is this lot a level up?",null,null,null,null,null,null,null,null,null,null,{"$f":"IF(MIX_LEVELUP<>\"\",MIX_LEVELUP,\"No\")","v":"No"},null,null,null,null,null,null,null,null,null,null,{"$f":"IF(OR(FINAL_PAY1,FINAL_PAY2,YesRange(MIX_EXEMPT)),0,-1)","v":{"$error":"#N/A"}}]
[null,"Exempt production for this lot?",null,null,null,null,null,null,null,null,null,null,{"$f":"IF(MIX_EXEMPT<>\"\",MIX_EXEMPT,\"No\")","v":"No"},null,null,null,null,null,null,null,null,null,null,{"$f":"IF(OR(FINAL_PAY1,FINAL_PAY2,YesRange(MIX_EXEMPT)),0,-1)","v":{"$error":"#N/A"}}]
[null,"Is this Lot 1, ?:",null,null,null,null,null,null,null,null,null,null,{"$f":"IF(MIX_FIRSTLOT<>\"\",MIX_FIRSTLOT,\"No\")","v":"No"},null,null,null,null,null,null,null,null,null,null,{"$f":"IF(OR(FINAL_PAY1,FINAL_PAY2,YesRange(MIX_EXEMPT)),0,-1)","v":{"$error":"#N/A"}}]
[null,null,null,null,null,null,null,null,null,null,null,null,null,null,null,null,null,null,null,null,null,null,null,{"$f":"IF(OR(FINAL_PAY1,FINAL_PAY2,YesRange(MIX_EXEMPT)),0,-1)","v":{"$error":"#N/A"}}]
[null,"LAB MOLDED DENSITY (PRODUCTION)",null,null,null,null,null,"INPLACE AIR VOIDS (PLACEMENT)",null,null,null,null,null,null,null,null,null,null,null,null,null,null,null,{"$f":"IF(AND(OR(NOT(FINAL_PAY1),FINAL_PAY2,EXMPT_TST),Field1220>=100),-1,0)","v":{"$error":"#N/A"}}]
[null,"TxDOT sublot:",null,1,2,3,4,"TxDOT sublot:",null,1,2,3,4,null,null,null,null,null,null,null,null,null,null,{"$f":"IF(AND(OR(NOT(FINAL_PAY1),FINAL_PAY2,EXMPT_TST),Field1220>=100),-1,0)","v":{"$error":"#N/A"}}]
[null,"Design target density:",null,{"$f":"IF(MIX_PMB<>\"\",MIX_PMB,\"\")","v":""},null,null,null,"Average percent air voids:",null,{"$f":"IFERROR(IF(ISBLANK(SUMMARY!R32),IF(OR(SUMMARY!$R$38<>\"\",SUMMARY!$S$38<>\"\",SUMMARY!$T$38<>\"\",SUMMARY!$U$38<>\"\"),SUMMARY!W84,VALUE(SUMMARY!F32)),VALUE(SUMMARY!R32)),\"\")","v":""},{"$f":"IFERROR(IF(ISBLANK(SUMMARY!S32),IF(OR(SUMMARY!$R$38<>\"\",SUMMARY!$S$38<>\"\",SUMMARY!$T$38<>\"\",SUMMARY!$U$38<>\"\"),SUMMARY!X84,VALUE(SUMMARY!G32)),VALUE(SUMMARY!S32)),\"\")","v":""},{"$f":"IFERROR(IF(ISBLANK(SUMMARY!T32),IF(OR(SUMMARY!$R$38<>\"\",SUMMARY!$S$38<>\"\",SUMMARY!$T$38<>\"\",SUMMARY!$U$38<>\"\"),SUMMARY!Y84,VALUE(SUMMARY!H32)),VALUE(SUMMARY!T32)),\"\")","v":""},{"$f":"IFERROR(IF(ISBLANK(SUMMARY!U32),IF(OR(SUMMARY!$R$38<>\"\",SUMMARY!$S$38<>\"\",SUMMARY!$T$38<>\"\",SUMMARY!$U$38<>\"\"),SUMMARY!Z84,VALUE(SUMMARY!I32)),VALUE(SUMMARY!U32)),\"\")","v":""},null,null,null,null,null,null,null,null,null,null,{"$f":"IF(AND(OR(NOT(FINAL_PAY1),FINAL_PAY2,EXMPT_TST),Field1220>=100),-1,0)","v":{"$error":"#N/A"}},null,null,{"$f":"MAX(INDEX(INDIRECT(\"P1_\"&LEFT(MIX_ITEM,3)),0,1))","v":{"$error":"#REF!"}}]
[null,"Average percent density:",null,{"$f":"IF(ISBLANK(SUMMARY!R30),IF(ISBLANK(SUMMARY!R38),IF(ISERROR(FIND(\" \",SUMMARY!F30)),SUMMARY!F30,SUBSTITUTE(SUMMARY!F30,\"# \",\"\")),SUMMARY!W60),SUMMARY!R30)","v":""},{"$f":"IF(ISBLANK(SUMMARY!S30),IF(ISBLANK(SUMMARY!S38),IF(ISERROR(FIND(\" \",SUMMARY!G30)),SUMMARY!G30,SUBSTITUTE(SUMMARY!G30,\"# \",\"\")),SUMMARY!X60),SUMMARY!S30)","v":""},{"$f":"IF(ISBLANK(SUMMARY!T30),IF(ISBLANK(SUMMARY!T38),IF(ISERROR(FIND(\" \",SUMMARY!H30)),SUMMARY!H30,SUBSTITUTE(SUMMARY!H30,\"# \",\"\")),SUMMARY!Y60),SUMMARY!T30)","v":""},{"$f":"IF(ISBLANK(SUMMARY!U30),IF(ISBLANK(SUMMARY!U38),IF(ISERROR(FIND(\" \",SUMMARY!I30)),SUMMARY!I30,SUBSTITUTE(SUMMARY!I30,\"# \",\"\")),SUMMARY!Z60),SUMMARY!U30)","v":""},null,null,null,null,null,null,null,null,null,null,null,null,null,null,null,null,{"$f":"IF(AND(OR(NOT(FINAL_PAY1),FINAL_PAY2,EXMPT_TST),Field1220>=100),-1,0)","v":{"$error":"#N/A"}},null,{"$f":"MIN(INDEX(INDIRECT(\"P2_\"&LEFT(MIX_ITEM,3)),0,1))","v":{"$error":"#REF!"}},{"$f":"MAX(INDEX(INDIRECT(\"P2_\"&LEFT(MIX_ITEM,3)),0,1))","v":{"$error":"#REF!"}}]
[null,"Absolute deviation:",null,{"$f":"IFERROR(ROUND(ABS($D$36-D37),1),\"\")","v":""},{"$f":"IFERROR(ROUND(ABS($D$36-E37),1),\"\")","v":""},{"$f":"IFERROR(ROUND(ABS($D$36-F37),1),\"\")","v":""},{"$f":"IFERROR(ROUND(ABS($D$36-G37),1),\"\")","v":""},null,null,null,null,null,null,null,null,null,null,null,null,null,null,null,null,{"$f":"IF(AND(OR(NOT(FINAL_PAY1),FINAL_PAY2,EXMPT_TST),Field1220>=100),-1,0)","v":{"$error":"#N/A"}}]
[null,"Hide  this column",null,{"$f":"IFERROR(IF( AND(D38<>\"\",OR(D38>$AA$36,O42<-0.5)),\"RR\",LOOKUP(D38,INDIRECT(\"P1_\"&LEFT(MIX_ITEM,3)))),\"\")","v":""},{"$f":"IFERROR(IF( AND(E38<>\"\",OR(E38>$AA$36,P42<-0.5)),\"RR\",LOOKUP(E38,INDIRECT(\"P1_\"&LEFT(MIX_ITEM,3)))),\"\")","v":""},{"$f":"IFERROR(IF( AND(F38<>\"\",OR(F38>$AA$36,Q42<-0.5)),\"RR\",LOOKUP(F38,INDIRECT(\"P1_\"&LEFT(MIX_ITEM,3)))),\"\")","v":""},{"$f":"IFERROR(IF( AND(G38<>\"\",OR(G38>$AA$36,R42<-0.5)),\"RR\",LOOKUP(G38,INDIRECT(\"P1_\"&LEFT(MIX_ITEM,3)))),\"\")","v":""},null,null,{"$f":"IFERROR(IF(OR(J36<$Z$37,AND(J36<>\"\",J36>$AA$37),O42<-0.5),\"RR\",LOOKUP(J36,INDIRECT(\"P2_\"&LEFT(MIX_ITEM,3)))),\"\")","v":""},{"$f":"IFERROR(IF( OR(K36<$Z$37,AND(K36<>\"\",K36>$AA$37),P42<-0.5),\"RR\",LOOKUP(K36,INDIRECT(\"P2_\"&LEFT(MIX_ITEM,3)))),\"\")","v":""},{"$f":"IFERROR(IF(OR(L36<$Z$37,AND(L36<>\"\",L36>$AA$37),Q42<-0.5),\"RR\",LOOKUP(L36,INDIRECT(\"P2_\"&LEFT(MIX_ITEM,3)))),\"\")","v":""},{"$f":"IFERROR(IF(OR(M36<$Z$37,AND(M36<>\"\",M36>$AA$37),R42<-0.5),\"RR\",LOOKUP(M36,INDIRECT(\"P2_\"&LEFT(MIX_ITEM,3)))),\"\")","v":""}]
[null,"Hide  this column",null,{"$f":"IFERROR(IF(AND(D41,J41),0,1),\"\")","v":""},{"$f":"IFERROR(IF(AND(E41,K41),0,1),\"\")","v":""},{"$f":"IFERROR(IF(AND(F41,L41),0,1),\"\")","v":""},{"$f":"IFERROR(IF(AND(G41,M41),0,1),\"\")","v":""}]
[null,"Production acceptable:",null,{"$f":"IF(D39<>\"\",IF(D39=\"RR\",0,1),\"\")","v":""},{"$f":"IF(E39<>\"\",IF(E39=\"RR\",0,1),\"\")","v":""},{"$f":"IF(F39<>\"\",IF(F39=\"RR\",0,1),\"\")","v":""},{"$f":"IF(G39<>\"\",IF(G39=\"RR\",0,1),\"\")","v":""},"Placement acceptable:",null,{"$f":"IF(J39<>\"\",IF(J39=\"RR\",0,1),\"\")","v":""},{"$f":"IF(K39<>\"\",IF(K39=\"RR\",0,1),\"\")","v":""},{"$f":"IF(L39<>\"\",IF(L39=\"RR\",0,1),\"\")","v":""},{"$f":"IF(M39<>\"\",IF(M39=\"RR\",0,1),\"\")","v":""},null,null,null,null,null,null,null,null,null,null,{"$f":"IF(AND(OR(NOT(FINAL_PAY1),FINAL_PAY2,EXMPT_TST),Field1220>=100),-1,0)","v":{"$error":"#N/A"}}]
[null,"VMA above acceptable limit:",null,{"$f":"IF(D41<>\"\",IFERROR(IF(O42<-0.5,0,1),\"\"),\"\")","v":""},{"$f":"IF(E41<>\"\",IFERROR(IF(P42<-0.5,0,1),\"\"),\"\")","v":""},{"$f":"IF(F41<>\"\",IFERROR(IF(Q42<-0.5,0,1),\"\"),\"\")","v":""},{"$f":"IF(G41<>\"\",IFERROR(IF(R42<-0.5,0,1),\"\"),\"\")","v":""},"VMA above acceptable limit:",null,{"$f":"IF(D41<>\"\",IFERROR(IF(O42<-0.5,0,1),\"\"),\"\")","v":""},{"$f":"IF(E41<>\"\",IFERROR(IF(P42<-0.5,0,1),\"\"),\"\")","v":""},{"$f":"IF(F41<>\"\",IFERROR(IF(Q42<-0.5,0,1),\"\"),\"\")","v":""},{"$f":"IF(G41<>\"\",IFERROR(IF(R42<-0.5,0,1),\"\"),\"\")","v":""},null,{"$f":"IF(Field1297<>\"\",Field1297-SUMMARY!E$34,SUMMARY!F34-SUMMARY!E$34)","v":{"$error":"#VALUE!"}},{"$f":"IF(Field1298<>\"\",Field1298-SUMMARY!E$34,SUMMARY!G34-SUMMARY!E$34)","v":{"$error":"#VALUE!"}},{"$f":"IF(Field1299<>\"\",Field1299-SUMMARY!E$34,SUMMARY!H34-SUMMARY!E$34)","v":{"$error":"#VALUE!"}},{"$f":"IF(Field1300<>\"\",Field1300-SUMMARY!E$34,SUMMARY!I34-SUMMARY!E$34)","v":{"$error":"#VALUE!"}},null,null,null,null,null,{"$f":"IF(AND(OR(NOT(FINAL_PAY1),FINAL_PAY2,EXMPT_TST),Field1220>=100),-1,0)","v":{"$error":"#N/A"}}]
[null,"BONUS ELIGIBILITY",null,null,null,null,null,null,null,null,null,null,null,null,null,null,null,null,null,null,null,null,null,{"$f":"IF(OR(FINAL_PAY1,FINAL_PAY2,YesRange(MIX_EXEMPT)),0,-1)","v":{"$error":"#N/A"}}]
[null,"Auto 1.000 pay factor:",null,null,null,null,null,"Auto 1.000 pay factor:",null,null,null,null,null,null,null,null,null,null,null,null,null,null,null,{"$f":"IF(OR(FINAL_PAY1),0,-1)","v":{"$error":"#N/A"}}]
[null,"Asphalt binder content:",null,{"$f":"IF(D41<>\"\",IF(SUMMARY!W42<>\"\",IF(OR(LEFT(SUMMARY!W42,1)=\"+\",LEFT(SUMMARY!K42,1)=\"+\"),0,1),IF(OR(LEFT(SUMMARY!F42,1)=\"+\",LEFT(SUMMARY!K42,1)=\"+\"),0,1)),\"\")","v":""},{"$f":"IF(E41<>\"\",IF(SUMMARY!X42<>\"\",IF(OR(LEFT(SUMMARY!X42,1)=\"+\",LEFT(SUMMARY!L42,1)=\"+\"),0,1),IF(OR(LEFT(SUMMARY!G42,1)=\"+\",LEFT(SUMMARY!L42,1)=\"+\"),0,1)),\"\")","v":""},{"$f":"IF(F41<>\"\",IF(SUMMARY!Y42<>\"\", IF(OR(LEFT(SUMMARY!Y42,1)=\"+\",LEFT(SUMMARY!M42,1)=\"+\"),0,1),IF(OR(LEFT(SUMMARY!H42,1)=\"+\",LEFT(SUMMARY!M42,1)=\"+\"),0,1)),\"\")","v":""},{"$f":"IF(G41<>\"\",IF(SUMMARY!Z42<>\"\",IF(OR(LEFT(SUMMARY!Z42,1)=\"+\",LEFT(SUMMARY!N42,1)=\"+\"),0,1),IF(OR(LEFT(SUMMARY!I42,1)=\"+\",LEFT(SUMMARY!N42,1)=\"+\"),0,1)),\"\")","v":""},"Asphalt binder content:",null,{"$f":"IF(J41<>\"\",IF(SUMMARY!W42<>\"\",IF(OR(LEFT(SUMMARY!W42,1)=\"+\",LEFT(SUMMARY!K42,1)=\"+\"),0,1),IF(OR(LEFT(SUMMARY!F42,1)=\"+\",LEFT(SUMMARY!K42,1)=\"+\"),0,1)),\"\")","v":""},{"$f":"IF(K41<>\"\",IF(SUMMARY!X42<>\"\",IF(OR(LEFT(SUMMARY!X42,1)=\"+\",LEFT(SUMMARY!L42,1)=\"+\"),0,1),IF(OR(LEFT(SUMMARY!G42,1)=\"+\",LEFT(SUMMARY!L42,1)=\"+\"),0,1)),\"\")","v":""},{"$f":"IF(L41<>\"\",IF(SUMMARY!Y42<>\"\", IF(OR(LEFT(SUMMARY!Y42,1)=\"+\",LEFT(SUMMARY!M42,1)=\"+\"),0,1),IF(OR(LEFT(SUMMARY!H42,1)=\"+\",LEFT(SUMMARY!M42,1)=\"+\"),0,1)),\"\")","v":""},{"$f":"IF(M41<>\"\",IF(SUMMARY!Z42<>\"\",IF(OR(LEFT(SUMMARY!Z42,1)=\"+\",LEFT(SUMMARY!N42,1)=\"+\"),0,1),IF(OR(LEFT(SUMMARY!I42,1)=\"+\",LEFT(SUMMARY!N42,1)=\"+\"),0,1)),\"\")","v":""},null,null,null,null,null,null,null,null,null,null,{"$f":"IF(OR(FINAL_PAY1,FINAL_PAY2,YesRange(MIX_EXEMPT)),0,-1)","v":{"$error":"#N/A"}}]
[null,"Minimum VMA:",null,{"$f":"IF(D41<>\"\",IF(SUMMARY!W34<>\"\",IFERROR(IF(LEFT(SUMMARY!W34,1)=\"+\",0,1),\"\"),IFERROR(IF(LEFT(SUMMARY!F34,1)=\"+\",0,1),\"\")),\"\")","v":""},{"$f":"IF(E41<>\"\",IF(SUMMARY!X34<>\"\",IFERROR(IF(LEFT(SUMMARY!X34,1)=\"+\",0,1),\"\"),IFERROR(IF(LEFT(SUMMARY!G34,1)=\"+\",0,1),\"\")),\"\")","v":""},{"$f":"IF(F41<>\"\",IF(SUMMARY!Y34<>\"\",IFERROR(IF(LEFT(SUMMARY!Y34,1)=\"+\",0,1),\"\"),IFERROR(IF(LEFT(SUMMARY!H34,1)=\"+\",0,1),\"\")),\"\")","v":""},{"$f":"IF(G41<>\"\",IF(SUMMARY!Z34<>\"\",IFERROR(IF(LEFT(SUMMARY!Z34,1)=\"+\",0,1),\"\"),IFERROR(IF(LEFT(SUMMARY!I34,1)=\"+\",0,1),\"\")),\"\")","v":""},"Minimum VMA:",null,{"$f":"IF(J41<>\"\",IF(SUMMARY!W34<>\"\",IFERROR(IF(LEFT(SUMMARY!W34,1)=\"+\",0,1),\"\"),IFERROR(IF(LEFT(SUMMARY!F34,1)=\"+\",0,1),\"\")),\"\")","v":""},{"$f":"IF(K41<>\"\",IF(SUMMARY!X34<>\"\",IFERROR(IF(LEFT(SUMMARY!X34,1)=\"+\",0,1),\"\"),IFERROR(IF(LEFT(SUMMARY!G34,1)=\"+\",0,1),\"\")),\"\")","v":""},{"$f":"IF(L41<>\"\",IF(SUMMARY!Y34<>\"\",IFERROR(IF(LEFT(SUMMARY!Y34,1)=\"+\",0,1),\"\"),IFERROR(IF(LEFT(SUMMARY!H34,1)=\"+\",0,1),\"\")),\"\")","v":""},{"$f":"IF(M41<>\"\",IF(SUMMARY!Z34<>\"\",IFERROR(IF(LEFT(SUMMARY!Z34,1)=\"+\",0,1),\"\"),IFERROR(IF(LEFT(SUMMARY!I34,1)=\"+\",0,1),\"\")),\"\")","v":""},null,null,null,null,null,null,null,null,null,null,{"$f":"IF(OR(FINAL_PAY1,FINAL_PAY2,YesRange(MIX_EXEMPT)),0,-1)","v":{"$error":"#N/A"}}]
[null,"Thermal segregation:",null,{"$f":"IF(D41<>\"\",IF(OR(SUMMARY!F58=\"Severe\",SUMMARY!K58=\"Severe\"),IF(THERMAL<>\"Thermal imaging system\",0,1),1),\"\")","v":""},{"$f":"IF(E41<>\"\",IF(OR(SUMMARY!G58=\"Severe\",SUMMARY!L58=\"Severe\"),IF(THERMAL<>\"Thermal imaging system\",0,1),1),\"\")","v":""},{"$f":"IF(F41<>\"\",IF(OR(SUMMARY!H58=\"Severe\",SUMMARY!M58=\"Severe\"),IF(THERMAL<>\"Thermal imaging system\",0,1),1),\"\")","v":""},{"$f":"IF(G41<>\"\",IF(OR(SUMMARY!I58=\"Severe\",SUMMARY!N58=\"Severe\"),IF(THERMAL<>\"Thermal imaging system\",0,1),1),\"\")","v":""},"Thermal segregation:",null,{"$f":"IF(J41<>\"\",IF(OR(SUMMARY!F58=\"Severe\",SUMMARY!K58=\"Severe\"),IF(THERMAL<>\"Thermal imaging system\",0,1),1),\"\")","v":""},{"$f":"IF(K41<>\"\",IF(OR(SUMMARY!G58=\"Severe\",SUMMARY!L58=\"Severe\"),IF(THERMAL<>\"Thermal imaging system\",0,1),1),\"\")","v":""},{"$f":"IF(L41<>\"\",IF(OR(SUMMARY!H58=\"Severe\",SUMMARY!M58=\"Severe\"),IF(THERMAL<>\"Thermal imaging system\",0,1),1),\"\")","v":""},{"$f":"IF(M41<>\"\",IF(OR(SUMMARY!I58=\"Severe\",SUMMARY!N58=\"Severe\"),IF(THERMAL<>\"Thermal imaging system\",0,1),1),\"\")","v":""},null,null,null,null,null,null,null,null,null,null,{"$f":"IF(OR(FINAL_PAY1,FINAL_PAY2,YesRange(MIX_EXEMPT)),0,-1)","v":{"$error":"#N/A"}}]
[null,"Segregation profile:",null,{"$f":"IF(D41<>\"\",IF(OR(SUMMARY!F60=\"Fail\",SUMMARY!K60=\"Fail\"),0,1),\"\")","v":""},{"$f":"IF(E41<>\"\",IF(OR(SUMMARY!G60=\"Fail\",SUMMARY!L60=\"Fail\"),0,1),\"\")","v":""},{"$f":"IF(F41<>\"\",IF(OR(SUMMARY!H60=\"Fail\",SUMMARY!M60=\"Fail\"),0,1),\"\")","v":""},{"$f":"IF(G41<>\"\",IF(OR(SUMMARY!I60=\"Fail\",SUMMARY!N60=\"Fail\"),0,1),\"\")","v":""},"Segregation profile:",null,{"$f":"IF(J41<>\"\",IF(OR(SUMMARY!F60=\"Fail\",SUMMARY!K60=\"Fail\"),0,1),\"\")","v":""},{"$f":"IF(K41<>\"\",IF(OR(SUMMARY!G60=\"Fail\",SUMMARY!L60=\"Fail\"),0,1),\"\")","v":""},{"$f":"IF(L41<>\"\",IF(OR(SUMMARY!H60=\"Fail\",SUMMARY!M60=\"Fail\"),0,1),\"\")","v":""},{"$f":"IF(M41<>\"\",IF(OR(SUMMARY!I60=\"Fail\",SUMMARY!N60=\"Fail\"),0,1),\"\")","v":""},null,null,null,null,null,null,null,null,null,null,{"$f":"IF(OR(FINAL_PAY1,FINAL_PAY2,YesRange(MIX_EXEMPT)),0,-1)","v":{"$error":"#N/A"}}]
[null,"Required documentation:",null,{"$f":"IF(D41<>\"\",IF(SUMMARY!F64=\"No\",0,1),\"\")","v":""},{"$f":"IF(E41<>\"\",IF(SUMMARY!G64=\"No\",0,1),\"\")","v":""},{"$f":"IF(F41<>\"\",IF(SUMMARY!H64=\"No\",0,1),\"\")","v":""},{"$f":"IF(G41<>\"\",IF(SUMMARY!I64=\"No\",0,1),\"\")","v":""},"Required documentation:",null,{"$f":"IF(J41<>\"\",IF(SUMMARY!F64=\"No\",0,1),\"\")","v":""},{"$f":"IF(K41<>\"\",IF(SUMMARY!G64=\"No\",0,1),\"\")","v":""},{"$f":"IF(L41<>\"\",IF(SUMMARY!H64=\"No\",0,1),\"\")","v":""},{"$f":"IF(M41<>\"\",IF(SUMMARY!I64=\"No\",0,1),\"\")","v":""},null,null,null,null,null,null,null,null,null,null,{"$f":"IF(OR(FINAL_PAY1,FINAL_PAY2,YesRange(MIX_EXEMPT)),0,-1)","v":{"$error":"#N/A"}}]
[null,"Hide  this column",null,null,null,null,null,"Level-up:",null,{"$f":"OR(IF(MIX_LEVELUP=\"Yes\",1,0))","v":false},{"$f":"OR(IF(MIX_LEVELUP=\"Yes\",1,0))","v":false},{"$f":"OR(IF(MIX_LEVELUP=\"Yes\",1,0))","v":false},{"$f":"OR(IF(MIX_LEVELUP=\"Yes\",1,0))","v":false},null,null,null,null,null,null,null,null,null,null,0]
[null,"Hide  this column",null,{"$f":"OR(IF(MIX_EXEMPT=\"Yes\",1,0))","v":false},{"$f":"OR(IF(MIX_EXEMPT=\"Yes\",1,0))","v":false},{"$f":"OR(IF(MIX_EXEMPT=\"Yes\",1,0))","v":false},{"$f":"OR(IF(MIX_EXEMPT=\"Yes\",1,0))","v":false},"Exempt production:",null,{"$f":"OR(IF(AND(MIX_EXEMPT=\"Yes\",Field1220<=100),1,0))","v":false},{"$f":"OR(IF(AND(MIX_EXEMPT=\"Yes\",Field1220<=100),1,0))","v":false},{"$f":"OR(IF(AND(MIX_EXEMPT=\"Yes\",Field1220<=100),1,0))","v":false},{"$f":"OR(IF(AND(MIX_EXEMPT=\"Yes\",Field1220<=100),1,0))","v":false},null,null,null,null,null,null,null,null,null,null,0]
[null,"Hide  this column",null,null,null,null,null,"Lot 1:",null,{"$f":"OR(IF(MIX_FIRSTLOT=\"Yes\",1,0))","v":false},{"$f":"OR(IF(MIX_FIRSTLOT=\"Yes\",1,0))","v":false},{"$f":"OR(IF(MIX_FIRSTLOT=\"Yes\",1,0))","v":false},{"$f":"OR(IF(MIX_FIRSTLOT=\"Yes\",1,0))","v":false},null,null,null,null,null,null,null,null,null,null,0]
[null,"Hide  this column",null,{"$f":"OR(D44=\"Yes\",D51)","v":false},{"$f":"OR(E44=\"Yes\",E51)","v":false},{"$f":"OR(F44=\"Yes\",F51)","v":false},{"$f":"OR(G44=\"Yes\",G51)","v":false},null,null,{"$f":"OR(J44=\"Yes\",J50,J51)","v":false},{"$f":"OR(K44=\"Yes\",K50,K51)","v":false},{"$f":"OR(L44=\"Yes\",L50,L51)","v":false},{"$f":"OR(M44=\"Yes\",M50,M51)","v":false},null,null,null,null,null,null,null,null,null,null,0]
[null,"Hide  this column",null,{"$f":"AND(D45,D46,D47,D48,D49)","v":{"$error":"#VALUE!"}},{"$f":"AND(E45,E46,E47,E48,E49)","v":{"$error":"#VALUE!"}},{"$f":"AND(F45,F46,F47,F48,F49)","v":{"$error":"#VALUE!"}},{"$f":"AND(G45,G46,G47,G48,G49)","v":{"$error":"#VALUE!"}},null,null,{"$f":"AND(J45,J46,J47,J48,J49)","v":{"$error":"#VALUE!"}},{"$f":"AND(K45,K46,K47,K48,K49)","v":{"$error":"#VALUE!"}},{"$f":"AND(L45,L46,L47,L48,L49)","v":{"$error":"#VALUE!"}},{"$f":"AND(M45,M46,M47,M48,M49)","v":{"$error":"#VALUE!"}},null,null,null,null,null,null,null,null,null,null,0]
[null,"Hide  this column",null,{"$f":"IF(D54,D39,IF(D39>1,1,D39))","v":{"$error":"#VALUE!"}},{"$f":"IF(E54,E39,IF(E39>1,1,E39))","v":{"$error":"#VALUE!"}},{"$f":"IF(F54,F39,IF(F39>1,1,F39))","v":{"$error":"#VALUE!"}},{"$f":"IF(G54,G39,IF(G39>1,1,G39))","v":{"$error":"#VALUE!"}},null,null,{"$f":"IF(J54,J39,IF(J39>1,1,J39))","v":{"$error":"#VALUE!"}},{"$f":"IF(K54,K39,IF(K39>1,1,K39))","v":{"$error":"#VALUE!"}},{"$f":"IF(L54,L39,IF(L39>1,1,L39))","v":{"$error":"#VALUE!"}},{"$f":"IF(M54,M39,IF(M39>1,1,M39))","v":{"$error":"#VALUE!"}},null,null,null,null,null,null,null,null,null,null,0]
[null,"Hide  this column",null,null,null,null,null,null,"Account for Lot 1",{"$f":"IF(J52,IF(J55<1,1,J55),J55)","v":{"$error":"#VALUE!"}},{"$f":"IF(K52,IF(K55<1,1,K55),K55)","v":{"$error":"#VALUE!"}},{"$f":"IF(L52,IF(L55<1,1,L55),L55)","v":{"$error":"#VALUE!"}},{"$f":"IF(M52,IF(M55<1,1,M55),M55)","v":{"$error":"#VALUE!"}},null,null,null,null,null,null,null,null,null,null,0]
[null,"PAY ADJUSTMENT FACTOR (PAF)",null,null,null,null,null,null,null,null,null,null,null,null,null,null,null,null,null,null,null,null,null,{"$f":"IF(OR(FINAL_PAY1,FINAL_PAY2,YesRange(MIX_EXEMPT)),0,-1)","v":{"$error":"#N/A"}}]
[null,"Pay factor:",null,{"$f":"IFERROR(IF(D53,1,IF(AND(D41,J41,D42,J42),D55,0)),\"\")","v":""},{"$f":"IFERROR(IF(E53,1,IF(AND(E42,K42,E41,K41),E55,0)),\"\")","v":""},{"$f":"IFERROR(IF(F53,1,IF(AND(F42,L42,F41,L41),F55,0)),\"\")","v":""},{"$f":"IFERROR(IF(G53,1,IF(AND(G42,M42,G41,M41),G55,0)),\"\")","v":""},"Pay factor:",null,{"$f":"IFERROR(IF(J53,1,IF(AND(D41,J41,D42,J42),J56,0)),\"\")","v":""},{"$f":"IFERROR(IF(K53,1,IF(AND(E41,K41,E42,K42),K56,0)),\"\")","v":""},{"$f":"IFERROR(IF(L53,1,IF(AND(F41,L41,F42,L42),L56,0)),\"\")","v":""},{"$f":"IFERROR(IF(M53,1,IF(AND(G41,M41,G42,M42),M56,0)),\"\")","v":""},null,null,null,null,null,null,null,null,null,null,{"$f":"IF(OR(FINAL_PAY1,FINAL_PAY2,YesRange(MIX_EXEMPT)),0,-1)","v":{"$error":"#N/A"}}]
[null,"Average pay factor:",null,{"$f":"IFERROR(AVERAGEIF(D58:G58,\">0\"),\"\")","v":""},null,null,null,"Average pay factor:",null,{"$f":"IFERROR(AVERAGEIF(J58:M58,\">0\"),\"\")","v":""},null,null,null,null,null,null,null,null,null,null,null,null,null,{"$f":"IF(OR(FINAL_PAY1,FINAL_PAY2,YesRange(MIX_EXEMPT)),0,-1)","v":{"$error":"#N/A"}}]
[null,"Production pay factor:",null,{"$f":"IF(D59>0,D59,\"No Pay\")","v":""},null,null,null,"Placement pay factor:",null,{"$f":"IF(J59>0,J59,\"No Pay\")","v":""},null,null,null,null,null,null,null,null,null,null,null,null,null,{"$f":"IF(OR(FINAL_PAY1,FINAL_PAY2,YesRange(MIX_EXEMPT)),0,-1)","v":{"$error":"#N/A"}}]
[null,null,null,null,null,null,null,null,null,null,null,null,null,null,null,null,null,null,null,null,null,null,null,{"$f":"IF(OR(FINAL_PAY1,FINAL_PAY2,YesRange(MIX_EXEMPT)),0,-1)","v":{"$error":"#N/A"}}]
[null,"FINAL QUANTITIES",null,null,null,null,null,null,null,null,null,null,null,null,null,null,null,null,null,null,null,null,null,{"$f":"IF(OR(FINAL_PAY1,FINAL_PAY2,YesRange(MIX_EXEMPT)),0,-1)","v":{"$error":"#N/A"}}]
[null,"Sublot:",null,null,null,null,null,null,null,1,2,3,4,null,null,null,null,null,null,null,null,null,null,{"$f":"IF(OR(FINAL_PAY1,FINAL_PAY2,YesRange(MIX_EXEMPT)),0,-1)","v":{"$error":"#N/A"}}]
[null,"Estimated quantity  placed (based on lot size), Tons:",null,null,null,null,null,null,null,{"$f":"SUBLOT_SIZE","v":""},{"$f":"SUBLOT_SIZE","v":""},{"$f":"SUBLOT_SIZE","v":""},{"$f":"SUBLOT_SIZE","v":""},null,null,null,null,null,null,null,null,null,null,{"$f":"IF(OR(FINAL_PAY1,FINAL_PAY2,YesRange(MIX_EXEMPT)),0,-1)","v":{"$error":"#N/A"}}]
[null,"Cumulative estimated quantity placed, Tons:",null,null,null,null,null,null,null,{"$f":"J64","v":""},{"$f":"IFERROR(K64+J65,\"\")","v":""},{"$f":"IFERROR(L64+K65,\"\")","v":""},{"$f":"IFERROR(M64+L65,\"\")","v":""},null,{"$f":"$M$3-J65","v":{"$error":"#VALUE!"}},{"$f":"$M$3-K65","v":{"$error":"#VALUE!"}},{"$f":"$M$3-L65","v":{"$error":"#VALUE!"}},{"$f":"$M$3-M65","v":{"$error":"#VALUE!"}},null,null,null,null,null,{"$f":"IF(OR(FINAL_PAY1,FINAL_PAY2,YesRange(MIX_EXEMPT)),0,-1)","v":{"$error":"#N/A"}}]
[null,"Hide this column",null,null,null,null,null,null,null,{"$f":"IF($R$65>0,S66,O66)","v":{"$error":"#VALUE!"}},{"$f":"IF($R$65>0,T66,P66)","v":{"$error":"#VALUE!"}},{"$f":"IF($R$65>0,U66,Q66)","v":{"$error":"#VALUE!"}},{"$f":"IF($R$65>0,V66,R66)","v":{"$error":"#VALUE!"}},null,{"$f":"IF(J65<$M$3,J65,$M$3)","v":0},{"$f":"IF(K65<$M$3,K65,$M$3)","v":0},{"$f":"IF(L65<$M$3,L65,$M$3)","v":0},{"$f":"IF(M65<$M$3,M65,$M$3)","v":0},{"$f":"IF(O65>J64,J65,$M$3)","v":{"$error":"#VALUE!"}},{"$f":"IF(P65>K64,K65,$M$3)","v":{"$error":"#VALUE!"}},{"$f":"IF(Q65>L64,L65,$M$3)","v":{"$error":"#VALUE!"}},{"$f":"IF(R65>M64,M65,$M$3)","v":{"$error":"#VALUE!"}},null,0]
[null,"Actual quantity placed, Tons:",null,null,null,null,null,null,null,{"$f":"IFERROR(J66,\"\")","v":""},{"$f":"IFERROR(K66-J66,\"\")","v":""},{"$f":"IFERROR(L66-K66,\"\")","v":""},{"$f":"IFERROR(M66-L66,\"\")","v":""},null,null,null,null,null,null,null,null,null,null,{"$f":"IF(OR(FINAL_PAY1,FINAL_PAY2,YesRange(MIX_EXEMPT)),0,-1)","v":{"$error":"#N/A"}}]
[null,"Quantity left in place without payment, Tons:",null,null,null,null,null,null,null,{"$f":"IF(OR(D44=\"Yes\",J44=\"Yes\"),0,IFERROR(J67*D40,\"\"))","v":""},{"$f":"IF(OR(E44=\"Yes\",K44=\"Yes\"),0,IFERROR(K67*E40,\"\"))","v":""},{"$f":"IF(OR(F44=\"Yes\",L44=\"Yes\"),0,IFERROR(L67*F40,\"\"))","v":""},{"$f":"IF(OR(G44=\"Yes\",M44=\"Yes\"),0,IFERROR(M67*G40,\"\"))","v":""},null,null,null,null,null,null,null,null,null,null,{"$f":"IF(OR(FINAL_PAY1,FINAL_PAY2,YesRange(MIX_EXEMPT)),0,-1)","v":{"$error":"#N/A"}}]
[null,"Total quantity actually placed , Tons:",null,null,null,null,null,null,null,{"$f":"SUM(J67:M67)","v":0},null,null,null,null,null,null,null,null,null,null,null,null,null,{"$f":"IF(OR(FINAL_PAY1,FINAL_PAY2,YesRange(MIX_EXEMPT)),0,-1)","v":{"$error":"#N/A"}}]
[null,"Total quantity left in place without payment , Tons:",null,null,null,null,null,null,null,{"$f":"SUM(J68:M68)","v":0},null,null,null,null,null,null,null,null,null,null,null,null,null,{"$f":"IF(OR(FINAL_PAY1,FINAL_PAY2,YesRange(MIX_EXEMPT)),0,-1)","v":{"$error":"#N/A"}}]
[null,"FINAL PAYMENT",null,null,null,null,null,null,null,null,null,null,null,null,null,null,null,null,null,null,null,null,null,{"$f":"IF(OR(FINAL_PAY1,FINAL_PAY2,YesRange(MIX_EXEMPT)),0,-1)","v":{"$error":"#N/A"}}]
[null,null,null,null,null,null,null,null,null,"PRODUCTION",null,"PLACEMENT",null,null,null,null,null,null,null,null,null,null,null,{"$f":"IF(OR(FINAL_PAY1,FINAL_PAY2,YesRange(MIX_EXEMPT)),0,-1)","v":{"$error":"#N/A"}}]
[null,"Lot quantity, Tons:",null,null,null,null,null,null,null,{"$f":"IFERROR(J69-J70,\"\")","v":0},null,{"$f":"IFERROR(J73-M28,\"\")","v":0},null,null,null,null,null,null,null,null,null,null,null,{"$f":"IF(OR(FINAL_PAY1,FINAL_PAY2,YesRange(MIX_EXEMPT)),0,-1)","v":{"$error":"#N/A"}}]
[null,"Bid price × lot quantity × average PAF for the lot:",null,null,null,null,null,null,null,{"$f":"IF(ISERROR(TEXT(M29,\"0.00\")*TEXT(J73,\"0.00\")*TEXT(PF_DENSITY,\"0.000\")),\"No Pay\",TEXT(M29,\"0.00\")*TEXT(J73,\"0.00\")*TEXT(PF_DENSITY,\"0.000\"))","v":"No Pay"},null,{"$f":"IF(ISERROR(TEXT(M29,\"0.00\")*TEXT(L73,\"0.00\")*TEXT(PF_VOIDS,\"0.000\")),\"No Pay\",TEXT(M29,\"0.00\")*TEXT(L73,\"0.00\")*TEXT(PF_VOIDS,\"0.000\"))","v":"No Pay"},null,null,null,null,null,null,null,null,null,null,null,{"$f":"IF(OR(FINAL_PAY1,FINAL_PAY2,YesRange(MIX_EXEMPT)),0,-1)","v":{"$error":"#N/A"}}]
[null,"Bid price × quantity placed in miscellaneous areas × 1.000:",null,null,null,null,null,null,null,null,null,{"$f":"TEXT(M29,\"0.00\")*TEXT(M28,\"0.00\")","v":0},null,null,null,null,null,null,null,null,null,null,null,{"$f":"IF(OR(FINAL_PAY1,FINAL_PAY2,YesRange(MIX_EXEMPT)),0,-1)","v":{"$error":"#N/A"}}]
[null,"PAYMENT BREAKDOWN",null,null,null,null,null,null,null,"A",null,"B",null,null,null,null,null,null,null,null,null,null,null,{"$f":"IF(OR(FINAL_PAY1,FINAL_PAY2,YesRange(MIX_EXEMPT)),0,-1)","v":{"$error":"#N/A"}}]
[null,{"$f":"IF(J77=\"No Pay\",\"\",IF(J79>=0,\"IAP = Individual adjusted pay\",\"IAP = Individual adjusted pay\"))","v":""},null,null,null,null,null,null,null,{"$f":"J74","v":"No Pay"},null,{"$f":"IFERROR(L74+L75,\"\")","v":""},null,null,null,null,null,null,null,null,null,null,null,{"$f":"IF(OR(FINAL_PAY1,FINAL_PAY2,YesRange(MIX_EXEMPT)),0,-1)","v":{"$error":"#N/A"}}]
[null,"TAP = Total adjusted pay = (A + B)/2:",null,null,null,null,null,null,null,{"$f":"IF(ISERROR((J77+L77)/2),\"No Pay\",IF(OR(FINAL_PAY2,AND(YesRange(MIX_EXEMPT),EXMPT_PAY)),M8,(J77+L77)/2))","v":"No Pay"},null,null,null,null,null,null,null,null,null,null,null,null,null,{"$f":"IF(OR(NOT(FINAL_PAY1),FINAL_PAY2),-1,0)","v":{"$error":"#N/A"}}]
[null,{"$f":"IF(J77=\"No Pay\",\"\",IF(J79>=0,\"Production only bonus\",\"Production only penalty\")&\" = (A - (bid price x production lot quantity placed))/2:\")","v":""},null,null,null,null,null,null,null,{"$f":"IF(ISERROR(J77-TEXT(M29,\"0.00\")*TEXT(J73,\"0.00\")),\"No Pay\",(J77-TEXT(M29,\"0.00\")*TEXT(J73,\"0.00\"))/2)","v":"No Pay"},null,null,null,null,null,null,null,null,null,null,null,null,null,{"$f":"IF(OR(FINAL_PAY1,FINAL_PAY2,YesRange(MIX_EXEMPT)),0,-1)","v":{"$error":"#N/A"}}]
[null,"ADJ = Bid price x quantity actually placed + production estimate adjustment:",null,null,null,null,null,null,null,null,null,{"$f":"IF(ISERROR((M3*M29)+J79),\"No Pay\",(M3*M29)+J79)","v":"No Pay"},null,null,null,null,null,null,null,null,null,null,null,{"$f":"IF(OR(FINAL_PAY1,FINAL_PAY2,YesRange(MIX_EXEMPT)),0,-1)","v":{"$error":"#N/A"}}]
[null,{"$f":"\"Placement \" & IF(L81>0,\"bonus paid on\",\"penalty deducted from\") & \" estimate = (TAP - ADJ):\"","v":"Placement bonus paid on estimate = (TAP - ADJ):"},null,null,null,null,null,null,null,null,null,{"$f":"IF(ISERROR((J78-L80)),\"No Pay\",(J78-L80))","v":"No Pay"},null,null,null,null,null,null,null,null,null,null,null,{"$f":"IF(OR(FINAL_PAY1,FINAL_PAY2,YesRange(MIX_EXEMPT)),0,-1)","v":{"$error":"#N/A"}}]
[null,null,null,null,null,null,null,null,null,null,null,null,null,null,null,null,null,null,null,null,null,null,null,{"$f":"IF(OR(FINAL_PAY1,FINAL_PAY2,YesRange(MIX_EXEMPT)),0,-1)","v":{"$error":"#N/A"}}]
[null,null,null,null,null,null,null,null,null,null,null,null,null,null,null,null,null,null,null,null,null,null,null,{"$f":"IF(OR(FINAL_PAY1,FINAL_PAY2,YesRange(MIX_EXEMPT)),0,-1)","v":{"$error":"#N/A"}}]
[]
[]
[null,"Signature of contractor representative",null,null,null,null,null,"Signature of TxDOT representative"]

{"sheet":"RX","index":47,"n_rows":3761,"n_cols":10,"rows_kept":3761,"cut":false,"hidden":true,"merged":[]}
[3742,null,null,null,null,null,null,null,null,"Input"]
["Fld_nbr","Value","DESC1","DESC2","DESC3","DESC4","DESC5","DESC6","DESC7","Fields"]
[1]
[2]
[3,{"$f":"IF(GENERAL!$C$26<>\"\",GENERAL!$C$26,\"\")","v":""},"GENERAL","Tested By:","TX207",null,null,null,null,6]
[4,{"$f":"IF(GENERAL!$G$26<>\"\",GENERAL!$G$26,\"\")","v":""},"GENERAL","Tested Date:","TX207",null,null,null,null,7]
[5,{"$f":"IF(GENERAL!$C$38<>\"\",GENERAL!$C$38,\"\")","v":""},"GENERAL","Tested By:","TX226",null,null,null,null,8]
[6,{"$f":"IF(GENERAL!$G$38<>\"\",GENERAL!$G$38,\"\")","v":""},"GENERAL","Tested Date:","TX226",null,null,null,null,9]
[7,{"$f":"IF(GENERAL!$C$40<>\"\",GENERAL!$C$40,\"\")","v":""},"GENERAL","Tested By:","TX227",null,null,null,null,10]
[8,{"$f":"IF(GENERAL!$G$40<>\"\",GENERAL!$G$40,\"\")","v":""},"GENERAL","Tested Date:","TX227",null,null,null,null,11]
[9,{"$f":"IF(GENERAL!$C$44<>\"\",GENERAL!$C$44,\"\")","v":""},"GENERAL","Tested By:","TX228",null,null,null,null,12]
[10,{"$f":"IF(GENERAL!$G$44<>\"\",GENERAL!$G$44,\"\")","v":""},"GENERAL","Tested Date:","TX228",null,null,null,null,13]
[11,{"$f":"IF(GENERAL!$C$46<>\"\",GENERAL!$C$46,\"\")","v":""},"GENERAL","Tested By:","TX229",null,null,null,null,14]
[12,{"$f":"IF(GENERAL!$G$46<>\"\",GENERAL!$G$46,\"\")","v":""},"GENERAL","Tested Date:","TX229",null,null,null,null,15]
[13,{"$f":"IF(GENERAL!$C$48<>\"\",GENERAL!$C$48,\"\")","v":""},"GENERAL","Tested By:","TX236",null,null,null,null,16]
[14,{"$f":"IF(GENERAL!$G$48<>\"\",GENERAL!$G$48,\"\")","v":""},"GENERAL","Tested Date:","TX236",null,null,null,null,17]
[15,{"$f":"IF(GENERAL!$C$54<>\"\",GENERAL!$C$54,\"\")","v":""},"GENERAL","Tested By:","TX242",null,null,null,null,18]
[16,{"$f":"IF(GENERAL!$G$54<>\"\",GENERAL!$G$54,\"\")","v":""},"GENERAL","Tested Date:","TX242",null,null,null,null,19]
[17,{"$f":"IF(GENERAL!$C$56<>\"\",GENERAL!$C$56,\"\")","v":""},"GENERAL","Tested By:","TX248",null,null,null,null,20]
[18,{"$f":"IF(GENERAL!$G$56<>\"\",GENERAL!$G$56,\"\")","v":""},"GENERAL","Tested Date:","TX248",null,null,null,null,21]
[19,{"$f":"IF(GENERAL!$C$58<>\"\",GENERAL!$C$58,\"\")","v":""},"GENERAL","Tested By:","TX530",null,null,null,null,22]
[20,{"$f":"IF(GENERAL!$G$58<>\"\",GENERAL!$G$58,\"\")","v":""},"GENERAL","Tested Date:","TX530",null,null,null,null,23]
[21]
[22]
[23]
[24,{"$f":"IF(DESIGN!C3<>\"\",DESIGN!C3,\"\")","v":""},"DESIGN","MIXTURE DATA","Specification year",null,null,null,null,2]
[25,{"$f":"IF(DESIGN!C4<>\"\",DESIGN!C4,\"\")","v":""},"DESIGN","MIXTURE DATA","Special provision",null,null,null,null,3]
[26,{"$f":"IF(DESIGN!C5<>\"\",DESIGN!C5,\"\")","v":""},"DESIGN","MIXTURE DATA","Mix type",null,null,null,null,4]
[27,{"$f":"IF(DESIGN!C6<>\"\",DESIGN!C6,\"\")","v":""},"DESIGN","MIXTURE DATA","Trial batch?",null,null,null,null,24]
[28,{"$f":"IF(DESIGN!C7<>\"\",DESIGN!C7,\"\")","v":""},"DESIGN","MIXTURE DATA","Level up?",null,null,null,null,25]
[29,{"$f":"IF(DESIGN!C8<>\"\",DESIGN!C8,\"\")","v":""},"DESIGN","MIXTURE DATA","1.0 pay factor?"]
[30,{"$f":"IF(DESIGN!C9<>\"\",DESIGN!C9,\"\")","v":""},"DESIGN","MIXTURE DATA","Exempt production?",null,null,null,null,26]
[31,{"$f":"IF(DESIGN!C10<>\"\",DESIGN!C10,\"\")","v":""},"DESIGN","MIXTURE DATA","First lot?",null,null,null,null,27]
[32,{"$f":"IF(DESIGN!C11<>\"\",DESIGN!C11,\"\")","v":""},"DESIGN","MIXTURE DATA","Date lot opened (MM/DD/YYYY)",null,null,null,null,28]
[33,{"$f":"IF(DESIGN!C12<>\"\",DESIGN!C12,\"\")","v":""},"DESIGN","MIXTURE DATA","Mix uses WMA ?",null,null,null,null,29]
[34,{"$f":"IF(DESIGN!C13<>\"\",DESIGN!C13,\"\")","v":""},"DESIGN","MIXTURE DATA","Mix uses RAP/RAS?",null,null,null,null,30]
[35,{"$f":"IF(DESIGN!C14<>\"\",DESIGN!C14,\"\")","v":""},"DESIGN","MIXTURE DATA","Binder substitution?",null,null,null,null,31]
[36,{"$f":"IF(DESIGN!C15<>\"\",DESIGN!C15,\"\")","v":""},"DESIGN","MIXTURE DATA","Course/Lift",null,null,null,null,5]
[37,{"$f":"IF(DESIGN!C16<>\"\",DESIGN!C16,\"\")","v":""},"DESIGN","MIXTURE DATA","Gyratory compactor",null,null,null,null,32]
[38,{"$f":"IF(DESIGN!C17<>\"\",DESIGN!C17,\"\")","v":""},"DESIGN","MIXTURE DATA","Roadway Rice for base mixes?",null,null,null,null,33]
[39,{"$f":"IF(DESIGN!C18<>\"\",DESIGN!C18,\"\")","v":""},"DESIGN","MIXTURE DATA","Method for gradation",null,null,null,null,34]
[40,{"$f":"IF(DESIGN!C19<>\"\",DESIGN!C19,\"\")","v":""},"DESIGN","MIXTURE DATA","Dry or wet gradation",null,null,null,null,35]
[41,{"$f":"IF(DESIGN!C20<>\"\",DESIGN!C20,\"\")","v":""},"DESIGN","MIXTURE DATA","Method used for asphalt content",null,null,null,null,36]
[42,{"$f":"IF(DESIGN!C21<>\"\",DESIGN!C21,\"\")","v":""},"DESIGN","MIXTURE DATA","Equipment used for thermal profile",null,null,null,null,37]
[43,{"$f":"IF(DESIGN!C22<>\"\",DESIGN!C22,\"\")","v":""},"DESIGN","MIXTURE DATA","Remarks",null,null,null,null,38]
[44]
[45]
[46,{"$f":"IF(DESIGN!C25<>\"\",DESIGN!C25,\"\")","v":""},"DESIGN","WARM MIX ASPHALT (WMA)","WMA for compaction aid only",null,null,null,null,39]
[47,{"$f":"IF(DESIGN!C26<>\"\",DESIGN!C26,\"\")","v":""},"DESIGN","WARM MIX ASPHALT (WMA)","WMA Technology",null,null,null,null,40]
[48,{"$f":"IF(DESIGN!C27<>\"\",DESIGN!C27,\"\")","v":""},"DESIGN","WARM MIX ASPHALT (WMA)","WMA Rate",null,null,null,null,41]
[49,{"$f":"IF(DESIGN!C28<>\"\",DESIGN!C28,\"\")","v":""},"DESIGN","WARM MIX ASPHALT (WMA)","WMA Units",null,null,null,null,42]
[50,{"$f":"IF(DESIGN!C29<>\"\",DESIGN!C29,\"\")","v":""},"DESIGN","WARM MIX ASPHALT (WMA)","WMA Target discharge temperature, °F",null,null,null,null,43]
[51,{"$f":"IF(DESIGN!C30<>\"\",DESIGN!C30,\"\")","v":"No"},"DESIGN","WARM MIX ASPHALT (WMA)","Mix treated as WMA?"]
[52]
[53]
[54,{"$f":"IF(DESIGN!C33<>\"\",DESIGN!C33,\"\")","v":""},"DESIGN","PRODUCTION","Lot size, tons",null,null,null,null,44]
[55,{"$f":"IF(DESIGN!C34<>\"\",DESIGN!C34,\"\")","v":""},"DESIGN","PRODUCTION","Sublot size, tons"]
[56,{"$f":"IF(DESIGN!C35<>\"\",DESIGN!C35,\"\")","v":""},"DESIGN","PRODUCTION","Current JMF #",null,null,null,null,45]
[57,{"$f":"IF(DESIGN!C36<>\"\",DESIGN!C36,\"\")","v":1},"DESIGN","PRODUCTION","Design JMF #"]
[58,{"$f":"IF(DESIGN!C37<>\"\",DESIGN!C37,\"\")","v":""},"DESIGN","PRODUCTION","Lift thickness, inches",null,null,null,null,46]
[59,{"$f":"IF(DESIGN!C38<>\"\",DESIGN!C38,\"\")","v":""},"DESIGN","PRODUCTION","Mix design ID",null,null,null,null,47]
[60]
[61]
[62,{"$f":"IF(DESIGN!C41<>\"\",DESIGN!C41,\"\")","v":""},"DESIGN","ASPHALT CEMENT","Binder originally specified",null,null,null,null,48]
[63,{"$f":"IF(DESIGN!C43<>\"\",DESIGN!C43,\"\")","v":""},"DESIGN","ASPHALT CEMENT","Substitute binder",null,null,null,null,49]
[64,{"$f":"IF(DESIGN!C45<>\"\",DESIGN!C45,\"\")","v":""},"DESIGN","ASPHALT CEMENT","Design asphalt content (AC), %",null,null,null,null,50]
[65,{"$f":"IF(DESIGN!C46<>\"\",DESIGN!C46,\"\")","v":""},"DESIGN","ASPHALT CEMENT","Current JMF AC, %",null,null,null,null,51]
[66,{"$f":"IF(DESIGN!C47<>\"\",DESIGN!C47,\"\")","v":""},"DESIGN","ASPHALT CEMENT","Recycled binder from mix design, %",null,null,null,null,52]
[67,{"$f":"IF(DESIGN!C48<>\"\",DESIGN!C48,\"\")","v":"Select mix and course on the General sheet"},"DESIGN","ASPHALT CEMENT","Maximum recycled binder ratio"]
[68,{"$f":"IF(DESIGN!C50<>\"\",DESIGN!C50,\"\")","v":""},"DESIGN","ASPHALT CEMENT","Ignition oven correction factor, TxDOT",null,null,null,null,53]
[69,{"$f":"IF(DESIGN!C53<>\"\",DESIGN!C53,\"\")","v":""},"DESIGN","ASPHALT CEMENT","Ignition oven correction factor, Contractor",null,null,null,null,54]
[70]
[71]
[72,{"$f":"IF(DESIGN!C57<>\"\",DESIGN!C57,\"\")","v":""},"DESIGN","DENSITY & PROPERTIES OF BITUMINOUS MIXTURES","Design number of gyrations",null,null,null,null,55]
[73,{"$f":"IF(DESIGN!C58<>\"\",DESIGN!C58,\"\")","v":""},"DESIGN","DENSITY & PROPERTIES OF BITUMINOUS MIXTURES","Specific Gravity (Ge or Ga)",null,null,null,null,56]
[74,{"$f":"IF(DESIGN!C59<>\"\",DESIGN!C59,\"\")","v":""},"DESIGN","DENSITY & PROPERTIES OF BITUMINOUS MIXTURES","Asphalt specific gravity (G1)",null,null,null,null,57]
[75,{"$f":"IF(DESIGN!C60<>\"\",DESIGN!C60,\"\")","v":""},"DESIGN","DENSITY & PROPERTIES OF BITUMINOUS MIXTURES","Rice gravity (Gr)",null,null,null,null,58]
[76,{"$f":"IF(DESIGN!C61<>\"\",DESIGN!C61,\"\")","v":""},"DESIGN","DENSITY & PROPERTIES OF BITUMINOUS MIXTURES","Target laboratory molded density, %",null,null,null,null,59]
[77]
[78,{"$f":"IF(DESIGN!C63<>\"\",DESIGN!C63,\"\")","v":""},"DESIGN","DENSITY & PROPERTIES OF BITUMINOUS MIXTURES","TxDOT Press correlation factor"," Tex-206-F: Press correlations",null,null,null,60]
[79,{"$f":"IF(DESIGN!C64<>\"\",DESIGN!C64,\"\")","v":""},"DESIGN","DENSITY & PROPERTIES OF BITUMINOUS MIXTURES","TxDOT Press ID & serial number"," Tex-206-F: Press correlations",null,null,null,61]
[80,{"$f":"IF(DESIGN!C65<>\"\",DESIGN!C65,\"\")","v":""},"DESIGN","DENSITY & PROPERTIES OF BITUMINOUS MIXTURES","Contractor Press correlation factor"," Tex-206-F: Press correlations",null,null,null,62]
[81,{"$f":"IF(DESIGN!C66<>\"\",DESIGN!C66,\"\")","v":""},"DESIGN","DENSITY & PROPERTIES OF BITUMINOUS MIXTURES","Contractor Press ID & serial number"," Tex-206-F: Press correlations",null,null,null,63]
[82]
[83]
[84,{"$f":"IF(DESIGN!C69<>\"\",DESIGN!C69,\"\")","v":""},"DESIGN","PERFORMANCE PROPERTIES OF BITUMINOUS MIXTURES","Tex-248-F Overlay test number of cycles",null,null,null,null,64]
[85,{"$f":"IF(DESIGN!C72<>\"\",DESIGN!C72,\"\")","v":""},"DESIGN","PERFORMANCE PROPERTIES OF BITUMINOUS MIXTURES","Tex-245-F Cantabro loss content, %",null,null,null,null,65]
[86,{"$f":"IF(DESIGN!C73<>\"\",DESIGN!C73,\"\")","v":""},"DESIGN","PERFORMANCE PROPERTIES OF BITUMINOUS MIXTURES","CRM content, %",null,null,null,null,66]
[87,{"$f":"IF(DESIGN!C74<>\"\",DESIGN!C74,\"\")","v":""},"DESIGN","PERFORMANCE PROPERTIES OF BITUMINOUS MIXTURES","Tex-235-F Binder draindown, %",null,null,null,null,67]
[88,{"$f":"IF(DESIGN!C75<>\"\",DESIGN!C75,\"\")","v":""},"DESIGN","PERFORMANCE PROPERTIES OF BITUMINOUS MIXTURES","Fiber content, %",null,null,null,null,68]
[89,{"$f":"IF(DESIGN!C76<>\"\",DESIGN!C76,\"\")","v":""},"DESIGN","PERFORMANCE PROPERTIES OF BITUMINOUS MIXTURES","Design membrane application rate, gal/sy",null,null,null,null,69]
[90,{"$f":"IF(DESIGN!C77<>\"\",DESIGN!C77,\"\")","v":""},"DESIGN","PERFORMANCE PROPERTIES OF BITUMINOUS MIXTURES","Current JMF membrane application rate, gal/sy",null,null,null,null,70]
[91,{"$f":"IF(DESIGN!C78<>\"\",DESIGN!C78,\"\")","v":""},"DESIGN","PERFORMANCE PROPERTIES OF BITUMINOUS MIXTURES","Design VMA, %",null,null,null,null,71]
[92,{"$f":"IF(DESIGN!C79<>\"\",DESIGN!C79,\"\")","v":""},"DESIGN","PERFORMANCE PROPERTIES OF BITUMINOUS MIXTURES","Tex-530-C Boil test percent stripping, %",null,null,null,null,72]
[93]
[94,{"$f":"IF(DESIGN!C81<>\"\",DESIGN!C81,\"\")","v":""},"DESIGN","PERFORMANCE PROPERTIES OF BITUMINOUS MIXTURES","Tex-242-F Hamburg number of cycles","Trial batch",null,null,null,73]
[95,{"$f":"IF(DESIGN!C82<>\"\",DESIGN!C82,\"\")","v":""},"DESIGN","PERFORMANCE PROPERTIES OF BITUMINOUS MIXTURES","Tex-242-F Hamburg rut depth, mm","Trial batch",null,null,null,74]
[96,{"$f":"IF(DESIGN!C83<>\"\",DESIGN!C83,\"\")","v":""},"DESIGN","PERFORMANCE PROPERTIES OF BITUMINOUS MIXTURES","Tex-226-F Indirect tensile strength, psi","Trial batch",null,null,null,75]
[97]
[98,{"$f":"IF(DESIGN!C86<>\"\",DESIGN!C86,\"\")","v":""},"DESIGN","PERFORMANCE PROPERTIES OF BITUMINOUS MIXTURES","Tex-242-F Hamburg number of cycles","Production",null,null,null,76]
[99,{"$f":"IF(DESIGN!C87<>\"\",DESIGN!C87,\"\")","v":""},"DESIGN","PERFORMANCE PROPERTIES OF BITUMINOUS MIXTURES","Tex-242-F Hamburg rut depth, mm","Production",null,null,null,77]
[100,{"$f":"IF(DESIGN!C88<>\"\",DESIGN!C88,\"\")","v":""},"DESIGN","PERFORMANCE PROPERTIES OF BITUMINOUS MIXTURES","Tex-226-F Indirect tensile strength, psi","Production",null,null,null,78]
[101]
[102]
[103,{"$f":"IF(DESIGN_GRAD!C5<>\"\",DESIGN_GRAD!C5,\"\")","v":""},"DESIGN_GRAD","COMBINED AGGREGATE GRADATION","Sieve size",{"$f":"DESIGN_GRAD!B5","v":""},"Gradation % passing tolerances ","Lower"]
[104,{"$f":"IF(DESIGN_GRAD!C6<>\"\",DESIGN_GRAD!C6,\"\")","v":""},"DESIGN_GRAD","COMBINED AGGREGATE GRADATION","Sieve size",{"$f":"DESIGN_GRAD!B6","v":""},"Gradation % passing tolerances ","Lower"]
[105,{"$f":"IF(DESIGN_GRAD!C7<>\"\",DESIGN_GRAD!C7,\"\")","v":""},"DESIGN_GRAD","COMBINED AGGREGATE GRADATION","Sieve size",{"$f":"DESIGN_GRAD!B7","v":""},"Gradation % passing tolerances ","Lower"]
[106,{"$f":"IF(DESIGN_GRAD!C8<>\"\",DESIGN_GRAD!C8,\"\")","v":""},"DESIGN_GRAD","COMBINED AGGREGATE GRADATION","Sieve size",{"$f":"DESIGN_GRAD!B8","v":""},"Gradation % passing tolerances ","Lower"]
[107,{"$f":"IF(DESIGN_GRAD!C9<>\"\",DESIGN_GRAD!C9,\"\")","v":""},"DESIGN_GRAD","COMBINED AGGREGATE GRADATION","Sieve size",{"$f":"DESIGN_GRAD!B9","v":""},"Gradation % passing tolerances ","Lower"]
[108,{"$f":"IF(DESIGN_GRAD!C10<>\"\",DESIGN_GRAD!C10,\"\")","v":""},"DESIGN_GRAD","COMBINED AGGREGATE GRADATION","Sieve size",{"$f":"DESIGN_GRAD!B10","v":""},"Gradation % passing tolerances ","Lower"]
[109,{"$f":"IF(DESIGN_GRAD!C11<>\"\",DESIGN_GRAD!C11,\"\")","v":""},"DESIGN_GRAD","COMBINED AGGREGATE GRADATION","Sieve size",{"$f":"DESIGN_GRAD!B11","v":""},"Gradation % passing tolerances ","Lower"]
[110,{"$f":"IF(DESIGN_GRAD!C12<>\"\",DESIGN_GRAD!C12,\"\")","v":""},"DESIGN_GRAD","COMBINED AGGREGATE GRADATION","Sieve size",{"$f":"DESIGN_GRAD!B12","v":""},"Gradation % passing tolerances ","Lower"]
[111,{"$f":"IF(DESIGN_GRAD!C13<>\"\",DESIGN_GRAD!C13,\"\")","v":""},"DESIGN_GRAD","COMBINED AGGREGATE GRADATION","Sieve size",{"$f":"DESIGN_GRAD!B13","v":""},"Gradation % passing tolerances ","Lower"]
[112,{"$f":"IF(DESIGN_GRAD!C14<>\"\",DESIGN_GRAD!C14,\"\")","v":""},"DESIGN_GRAD","COMBINED AGGREGATE GRADATION","Sieve size",{"$f":"DESIGN_GRAD!B14","v":""},"Gradation % passing tolerances ","Lower"]
[113]
[114,{"$f":"IF(DESIGN_GRAD!E5<>\"\",DESIGN_GRAD!E5,\"\")","v":""},"DESIGN_GRAD","COMBINED AGGREGATE GRADATION","Sieve size",{"$f":"F105","v":""},"Gradation % passing tolerances ","Upper"]
[115,{"$f":"IF(DESIGN_GRAD!E6<>\"\",DESIGN_GRAD!E6,\"\")","v":""},"DESIGN_GRAD","COMBINED AGGREGATE GRADATION","Sieve size",{"$f":"F106","v":""},"Gradation % passing tolerances ","Upper"]
[116,{"$f":"IF(DESIGN_GRAD!E7<>\"\",DESIGN_GRAD!E7,\"\")","v":""},"DESIGN_GRAD","COMBINED AGGREGATE GRADATION","Sieve size","","Gradation % passing tolerances ","Upper"]
[117,{"$f":"IF(DESIGN_GRAD!E8<>\"\",DESIGN_GRAD!E8,\"\")","v":""},"DESIGN_GRAD","COMBINED AGGREGATE GRADATION","Sieve size","","Gradation % passing tolerances ","Upper"]
[118,{"$f":"IF(DESIGN_GRAD!E9<>\"\",DESIGN_GRAD!E9,\"\")","v":""},"DESIGN_GRAD","COMBINED AGGREGATE GRADATION","Sieve size","","Gradation % passing tolerances ","Upper"]
[119,{"$f":"IF(DESIGN_GRAD!E10<>\"\",DESIGN_GRAD!E10,\"\")","v":""},"DESIGN_GRAD","COMBINED AGGREGATE GRADATION","Sieve size","","Gradation % passing tolerances ","Upper"]
[120,{"$f":"IF(DESIGN_GRAD!E11<>\"\",DESIGN_GRAD!E11,\"\")","v":""},"DESIGN_GRAD","COMBINED AGGREGATE GRADATION","Sieve size","","Gradation % passing tolerances ","Upper"]
[121,{"$f":"IF(DESIGN_GRAD!E12<>\"\",DESIGN_GRAD!E12,\"\")","v":""},"DESIGN_GRAD","COMBINED AGGREGATE GRADATION","Sieve size","","Gradation % passing tolerances ","Upper"]
[122,{"$f":"IF(DESIGN_GRAD!E13<>\"\",DESIGN_GRAD!E13,\"\")","v":""},"DESIGN_GRAD","COMBINED AGGREGATE GRADATION","Sieve size","","Gradation % passing tolerances ","Upper"]
[123,{"$f":"IF(DESIGN_GRAD!E14<>\"\",DESIGN_GRAD!E14,\"\")","v":""},"DESIGN_GRAD","COMBINED AGGREGATE GRADATION","Sieve size","","Gradation % passing tolerances ","Upper"]
[124]
[125,{"$f":"IF(DESIGN_GRAD!F5<>\"\",DESIGN_GRAD!F5,\"\")","v":""},"DESIGN_GRAD","COMBINED AGGREGATE GRADATION","Sieve size",{"$f":"F116","v":""},"Gradation % passing restricted zone (Item 344 only)","Lower"]
[126,{"$f":"IF(DESIGN_GRAD!F6<>\"\",DESIGN_GRAD!F6,\"\")","v":""},"DESIGN_GRAD","COMBINED AGGREGATE GRADATION","Sieve size",{"$f":"F117","v":""},"Gradation % passing restricted zone (Item 344 only)","Lower"]
[127,{"$f":"IF(DESIGN_GRAD!F7<>\"\",DESIGN_GRAD!F7,\"\")","v":""},"DESIGN_GRAD","COMBINED AGGREGATE GRADATION","Sieve size","","Gradation % passing restricted zone (Item 344 only)","Lower"]
[128,{"$f":"IF(DESIGN_GRAD!F8<>\"\",DESIGN_GRAD!F8,\"\")","v":""},"DESIGN_GRAD","COMBINED AGGREGATE GRADATION","Sieve size","","Gradation % passing restricted zone (Item 344 only)","Lower"]
[129,{"$f":"IF(DESIGN_GRAD!F9<>\"\",DESIGN_GRAD!F9,\"\")","v":""},"DESIGN_GRAD","COMBINED AGGREGATE GRADATION","Sieve size","","Gradation % passing restricted zone (Item 344 only)","Lower"]
[130,{"$f":"IF(DESIGN_GRAD!F10<>\"\",DESIGN_GRAD!F10,\"\")","v":""},"DESIGN_GRAD","COMBINED AGGREGATE GRADATION","Sieve size","","Gradation % passing restricted zone (Item 344 only)","Lower"]
[131,{"$f":"IF(DESIGN_GRAD!F11<>\"\",DESIGN_GRAD!F11,\"\")","v":""},"DESIGN_GRAD","COMBINED AGGREGATE GRADATION","Sieve size","","Gradation % passing restricted zone (Item 344 only)","Lower"]
[132,{"$f":"IF(DESIGN_GRAD!F12<>\"\",DESIGN_GRAD!F12,\"\")","v":""},"DESIGN_GRAD","COMBINED AGGREGATE GRADATION","Sieve size","","Gradation % passing restricted zone (Item 344 only)","Lower"]
[133,{"$f":"IF(DESIGN_GRAD!F13<>\"\",DESIGN_GRAD!F13,\"\")","v":""},"DESIGN_GRAD","COMBINED AGGREGATE GRADATION","Sieve size","","Gradation % passing restricted zone (Item 344 only)","Lower"]
[134,{"$f":"IF(DESIGN_GRAD!F14<>\"\",DESIGN_GRAD!F14,\"\")","v":""},"DESIGN_GRAD","COMBINED AGGREGATE GRADATION","Sieve size","","Gradation % passing restricted zone (Item 344 only)","Lower"]
[135]
[136,{"$f":"IF(DESIGN_GRAD!H5<>\"\",DESIGN_GRAD!H5,\"\")","v":""},"DESIGN_GRAD","COMBINED AGGREGATE GRADATION","Sieve size",{"$f":"F127","v":""},"Gradation % passing restricted zone (Item 344 only)","Upper"]
[137,{"$f":"IF(DESIGN_GRAD!H6<>\"\",DESIGN_GRAD!H6,\"\")","v":""},"DESIGN_GRAD","COMBINED AGGREGATE GRADATION","Sieve size",{"$f":"F128","v":""},"Gradation % passing restricted zone (Item 344 only)","Upper"]
[138,{"$f":"IF(DESIGN_GRAD!H7<>\"\",DESIGN_GRAD!H7,\"\")","v":""},"DESIGN_GRAD","COMBINED AGGREGATE GRADATION","Sieve size","","Gradation % passing restricted zone (Item 344 only)","Upper"]
[139,{"$f":"IF(DESIGN_GRAD!H8<>\"\",DESIGN_GRAD!H8,\"\")","v":""},"DESIGN_GRAD","COMBINED AGGREGATE GRADATION","Sieve size","","Gradation % passing restricted zone (Item 344 only)","Upper"]
[140,{"$f":"IF(DESIGN_GRAD!H9<>\"\",DESIGN_GRAD!H9,\"\")","v":""},"DESIGN_GRAD","COMBINED AGGREGATE GRADATION","Sieve size","","Gradation % passing restricted zone (Item 344 only)","Upper"]
[141,{"$f":"IF(DESIGN_GRAD!H10<>\"\",DESIGN_GRAD!H10,\"\")","v":""},"DESIGN_GRAD","COMBINED AGGREGATE GRADATION","Sieve size","","Gradation % passing restricted zone (Item 344 only)","Upper"]
[142,{"$f":"IF(DESIGN_GRAD!H11<>\"\",DESIGN_GRAD!H11,\"\")","v":""},"DESIGN_GRAD","COMBINED AGGREGATE GRADATION","Sieve size","","Gradation % passing restricted zone (Item 344 only)","Upper"]
[143,{"$f":"IF(DESIGN_GRAD!H12<>\"\",DESIGN_GRAD!H12,\"\")","v":""},"DESIGN_GRAD","COMBINED AGGREGATE GRADATION","Sieve size","","Gradation % passing restricted zone (Item 344 only)","Upper"]
[144,{"$f":"IF(DESIGN_GRAD!H13<>\"\",DESIGN_GRAD!H13,\"\")","v":""},"DESIGN_GRAD","COMBINED AGGREGATE GRADATION","Sieve size","","Gradation % passing restricted zone (Item 344 only)","Upper"]
[145,{"$f":"IF(DESIGN_GRAD!H14<>\"\",DESIGN_GRAD!H14,\"\")","v":""},"DESIGN_GRAD","COMBINED AGGREGATE GRADATION","Sieve size","","Gradation % passing restricted zone (Item 344 only)","Upper"]
[146]
[147,{"$f":"IF(DESIGN_GRAD!I5<>\"\",DESIGN_GRAD!I5,\"\")","v":""},"DESIGN_GRAD","COMBINED AGGREGATE GRADATION","Sieve size",{"$f":"F138","v":""},"Design JMF Cumulative % passing",null,null,79]
[148,{"$f":"IF(DESIGN_GRAD!I6<>\"\",DESIGN_GRAD!I6,\"\")","v":""},"DESIGN_GRAD","COMBINED AGGREGATE GRADATION","Sieve size",{"$f":"F139","v":""},"Design JMF Cumulative % passing",null,null,83]
[149,{"$f":"IF(DESIGN_GRAD!I7<>\"\",DESIGN_GRAD!I7,\"\")","v":""},"DESIGN_GRAD","COMBINED AGGREGATE GRADATION","Sieve size","","Design JMF Cumulative % passing",null,null,87]
[150,{"$f":"IF(DESIGN_GRAD!I8<>\"\",DESIGN_GRAD!I8,\"\")","v":""},"DESIGN_GRAD","COMBINED AGGREGATE GRADATION","Sieve size","","Design JMF Cumulative % passing",null,null,91]
[151,{"$f":"IF(DESIGN_GRAD!I9<>\"\",DESIGN_GRAD!I9,\"\")","v":""},"DESIGN_GRAD","COMBINED AGGREGATE GRADATION","Sieve size","","Design JMF Cumulative % passing",null,null,95]
[152,{"$f":"IF(DESIGN_GRAD!I10<>\"\",DESIGN_GRAD!I10,\"\")","v":""},"DESIGN_GRAD","COMBINED AGGREGATE GRADATION","Sieve size","","Design JMF Cumulative % passing",null,null,99]
[153,{"$f":"IF(DESIGN_GRAD!I11<>\"\",DESIGN_GRAD!I11,\"\")","v":""},"DESIGN_GRAD","COMBINED AGGREGATE GRADATION","Sieve size","","Design JMF Cumulative % passing",null,null,103]
[154,{"$f":"IF(DESIGN_GRAD!I12<>\"\",DESIGN_GRAD!I12,\"\")","v":""},"DESIGN_GRAD","COMBINED AGGREGATE GRADATION","Sieve size","","Design JMF Cumulative % passing",null,null,107]
[155,{"$f":"IF(DESIGN_GRAD!I13<>\"\",DESIGN_GRAD!I13,\"\")","v":""},"DESIGN_GRAD","COMBINED AGGREGATE GRADATION","Sieve size","","Design JMF Cumulative % passing",null,null,111]
[156,{"$f":"IF(DESIGN_GRAD!I14<>\"\",DESIGN_GRAD!I14,\"\")","v":""},"DESIGN_GRAD","COMBINED AGGREGATE GRADATION","Sieve size","","Design JMF Cumulative % passing",null,null,115]
[157]
[158,{"$f":"IF(DESIGN_GRAD!J5<>\"\",DESIGN_GRAD!J5,\"\")","v":""},"DESIGN_GRAD","COMBINED AGGREGATE GRADATION","Sieve size",{"$f":"F149","v":""},"Current JMF design % passing tolerances","Lower"]
[159,{"$f":"IF(DESIGN_GRAD!J6<>\"\",DESIGN_GRAD!J6,\"\")","v":""},"DESIGN_GRAD","COMBINED AGGREGATE GRADATION","Sieve size",{"$f":"F150","v":""},"Current JMF design % passing tolerances","Lower"]
[160,{"$f":"IF(DESIGN_GRAD!J7<>\"\",DESIGN_GRAD!J7,\"\")","v":""},"DESIGN_GRAD","COMBINED AGGREGATE GRADATION","Sieve size","","Current JMF design % passing tolerances","Lower"]
[161,{"$f":"IF(DESIGN_GRAD!J8<>\"\",DESIGN_GRAD!J8,\"\")","v":""},"DESIGN_GRAD","COMBINED AGGREGATE GRADATION","Sieve size","","Current JMF design % passing tolerances","Lower"]
[162,{"$f":"IF(DESIGN_GRAD!J9<>\"\",DESIGN_GRAD!J9,\"\")","v":""},"DESIGN_GRAD","COMBINED AGGREGATE GRADATION","Sieve size","","Current JMF design % passing tolerances","Lower"]
[163,{"$f":"IF(DESIGN_GRAD!J10<>\"\",DESIGN_GRAD!J10,\"\")","v":""},"DESIGN_GRAD","COMBINED AGGREGATE GRADATION","Sieve size","","Current JMF design % passing tolerances","Lower"]
[164,{"$f":"IF(DESIGN_GRAD!J11<>\"\",DESIGN_GRAD!J11,\"\")","v":""},"DESIGN_GRAD","COMBINED AGGREGATE GRADATION","Sieve size","","Current JMF design % passing tolerances","Lower"]
[165,{"$f":"IF(DESIGN_GRAD!J12<>\"\",DESIGN_GRAD!J12,\"\")","v":""},"DESIGN_GRAD","COMBINED AGGREGATE GRADATION","Sieve size","","Current JMF design % passing tolerances","Lower"]
[166,{"$f":"IF(DESIGN_GRAD!J13<>\"\",DESIGN_GRAD!J13,\"\")","v":""},"DESIGN_GRAD","COMBINED AGGREGATE GRADATION","Sieve size","","Current JMF design % passing tolerances","Lower"]
[167,{"$f":"IF(DESIGN_GRAD!J14<>\"\",DESIGN_GRAD!J14,\"\")","v":""},"DESIGN_GRAD","COMBINED AGGREGATE GRADATION","Sieve size","","Current JMF design % passing tolerances","Lower"]
[168]
[169,{"$f":"IF(DESIGN_GRAD!L5<>\"\",DESIGN_GRAD!L5,\"\")","v":""},"DESIGN_GRAD","COMBINED AGGREGATE GRADATION","Sieve size",{"$f":"F160","v":""},"Current JMF design % passing tolerances","Upper"]
[170,{"$f":"IF(DESIGN_GRAD!L6<>\"\",DESIGN_GRAD!L6,\"\")","v":""},"DESIGN_GRAD","COMBINED AGGREGATE GRADATION","Sieve size",{"$f":"F161","v":""},"Current JMF design % passing tolerances","Upper"]
[171,{"$f":"IF(DESIGN_GRAD!L7<>\"\",DESIGN_GRAD!L7,\"\")","v":""},"DESIGN_GRAD","COMBINED AGGREGATE GRADATION","Sieve size","","Current JMF design % passing tolerances","Upper"]
[172,{"$f":"IF(DESIGN_GRAD!L8<>\"\",DESIGN_GRAD!L8,\"\")","v":""},"DESIGN_GRAD","COMBINED AGGREGATE GRADATION","Sieve size","","Current JMF design % passing tolerances","Upper"]
[173,{"$f":"IF(DESIGN_GRAD!L9<>\"\",DESIGN_GRAD!L9,\"\")","v":""},"DESIGN_GRAD","COMBINED AGGREGATE GRADATION","Sieve size","","Current JMF design % passing tolerances","Upper"]
[174,{"$f":"IF(DESIGN_GRAD!L10<>\"\",DESIGN_GRAD!L10,\"\")","v":""},"DESIGN_GRAD","COMBINED AGGREGATE GRADATION","Sieve size","","Current JMF design % passing tolerances","Upper"]
[175,{"$f":"IF(DESIGN_GRAD!L11<>\"\",DESIGN_GRAD!L11,\"\")","v":""},"DESIGN_GRAD","COMBINED AGGREGATE GRADATION","Sieve size","","Current JMF design % passing tolerances","Upper"]
[176,{"$f":"IF(DESIGN_GRAD!L12<>\"\",DESIGN_GRAD!L12,\"\")","v":""},"DESIGN_GRAD","COMBINED AGGREGATE GRADATION","Sieve size","","Current JMF design % passing tolerances","Upper"]
[177,{"$f":"IF(DESIGN_GRAD!L13<>\"\",DESIGN_GRAD!L13,\"\")","v":""},"DESIGN_GRAD","COMBINED AGGREGATE GRADATION","Sieve size","","Current JMF design % passing tolerances","Upper"]
[178,{"$f":"IF(DESIGN_GRAD!L14<>\"\",DESIGN_GRAD!L14,\"\")","v":""},"DESIGN_GRAD","COMBINED AGGREGATE GRADATION","Sieve size","","Current JMF design % passing tolerances","Upper"]
[179]
[180,{"$f":"IF(DESIGN_GRAD!M5<>\"\",DESIGN_GRAD!M5,\"\")","v":""},"DESIGN_GRAD","COMBINED AGGREGATE GRADATION","Sieve size",{"$f":"F171","v":""},"Current JMF Cumulative % passing",null,null,80]
[181,{"$f":"IF(DESIGN_GRAD!M6<>\"\",DESIGN_GRAD!M6,\"\")","v":""},"DESIGN_GRAD","COMBINED AGGREGATE GRADATION","Sieve size",{"$f":"F172","v":""},"Current JMF Cumulative % passing",null,null,84]
[182,{"$f":"IF(DESIGN_GRAD!M7<>\"\",DESIGN_GRAD!M7,\"\")","v":""},"DESIGN_GRAD","COMBINED AGGREGATE GRADATION","Sieve size","","Current JMF Cumulative % passing",null,null,88]
[183,{"$f":"IF(DESIGN_GRAD!M8<>\"\",DESIGN_GRAD!M8,\"\")","v":""},"DESIGN_GRAD","COMBINED AGGREGATE GRADATION","Sieve size","","Current JMF Cumulative % passing",null,null,92]
[184,{"$f":"IF(DESIGN_GRAD!M9<>\"\",DESIGN_GRAD!M9,\"\")","v":""},"DESIGN_GRAD","COMBINED AGGREGATE GRADATION","Sieve size","","Current JMF Cumulative % passing",null,null,96]
[185,{"$f":"IF(DESIGN_GRAD!M10<>\"\",DESIGN_GRAD!M10,\"\")","v":""},"DESIGN_GRAD","COMBINED AGGREGATE GRADATION","Sieve size","","Current JMF Cumulative % passing",null,null,100]
[186,{"$f":"IF(DESIGN_GRAD!M11<>\"\",DESIGN_GRAD!M11,\"\")","v":""},"DESIGN_GRAD","COMBINED AGGREGATE GRADATION","Sieve size","","Current JMF Cumulative % passing",null,null,104]
[187,{"$f":"IF(DESIGN_GRAD!M12<>\"\",DESIGN_GRAD!M12,\"\")","v":""},"DESIGN_GRAD","COMBINED AGGREGATE GRADATION","Sieve size","","Current JMF Cumulative % passing",null,null,108]
[188,{"$f":"IF(DESIGN_GRAD!M13<>\"\",DESIGN_GRAD!M13,\"\")","v":""},"DESIGN_GRAD","COMBINED AGGREGATE GRADATION","Sieve size","","Current JMF Cumulative % passing",null,null,112]
[189,{"$f":"IF(DESIGN_GRAD!M14<>\"\",DESIGN_GRAD!M14,\"\")","v":""},"DESIGN_GRAD","COMBINED AGGREGATE GRADATION","Sieve size","","Current JMF Cumulative % passing",null,null,116]
[190]
[191,{"$f":"IF(DESIGN_GRAD!O5<>\"\",DESIGN_GRAD!O5,\"\")","v":""},"DESIGN_GRAD","COMBINED AGGREGATE GRADATION","Sieve size",{"$f":"F182","v":""},"IGNITION OVEN CORRECTION FACTORS","TxDOT, %:",null,81]
[192,{"$f":"IF(DESIGN_GRAD!O6<>\"\",DESIGN_GRAD!O6,\"\")","v":""},"DESIGN_GRAD","COMBINED AGGREGATE GRADATION","Sieve size",{"$f":"F183","v":""},"IGNITION OVEN CORRECTION FACTORS","TxDOT, %:",null,85]
[193,{"$f":"IF(DESIGN_GRAD!O7<>\"\",DESIGN_GRAD!O7,\"\")","v":""},"DESIGN_GRAD","COMBINED AGGREGATE GRADATION","Sieve size","","IGNITION OVEN CORRECTION FACTORS","TxDOT, %:",null,89]
[194,{"$f":"IF(DESIGN_GRAD!O8<>\"\",DESIGN_GRAD!O8,\"\")","v":""},"DESIGN_GRAD","COMBINED AGGREGATE GRADATION","Sieve size","","IGNITION OVEN CORRECTION FACTORS","TxDOT, %:",null,93]
[195,{"$f":"IF(DESIGN_GRAD!O9<>\"\",DESIGN_GRAD!O9,\"\")","v":""},"DESIGN_GRAD","COMBINED AGGREGATE GRADATION","Sieve size","","IGNITION OVEN CORRECTION FACTORS","TxDOT, %:",null,97]
[196,{"$f":"IF(DESIGN_GRAD!O10<>\"\",DESIGN_GRAD!O10,\"\")","v":""},"DESIGN_GRAD","COMBINED AGGREGATE GRADATION","Sieve size","","IGNITION OVEN CORRECTION FACTORS","TxDOT, %:",null,101]
[197,{"$f":"IF(DESIGN_GRAD!O11<>\"\",DESIGN_GRAD!O11,\"\")","v":""},"DESIGN_GRAD","COMBINED AGGREGATE GRADATION","Sieve size","","IGNITION OVEN CORRECTION FACTORS","TxDOT, %:",null,105]
[198,{"$f":"IF(DESIGN_GRAD!O12<>\"\",DESIGN_GRAD!O12,\"\")","v":""},"DESIGN_GRAD","COMBINED AGGREGATE GRADATION","Sieve size","","IGNITION OVEN CORRECTION FACTORS","TxDOT, %:",null,109]
[199,{"$f":"IF(DESIGN_GRAD!O13<>\"\",DESIGN_GRAD!O13,\"\")","v":""},"DESIGN_GRAD","COMBINED AGGREGATE GRADATION","Sieve size","","IGNITION OVEN CORRECTION FACTORS","TxDOT, %:",null,113]
[200,{"$f":"IF(DESIGN_GRAD!O14<>\"\",DESIGN_GRAD!O14,\"\")","v":""},"DESIGN_GRAD","COMBINED AGGREGATE GRADATION","Sieve size","","IGNITION OVEN CORRECTION FACTORS","TxDOT, %:",null,117]
[201]
[202,{"$f":"IF(DESIGN_GRAD!P5<>\"\",DESIGN_GRAD!P5,\"\")","v":""},"DESIGN_GRAD","COMBINED AGGREGATE GRADATION","Sieve size",{"$f":"F193","v":""},"IGNITION OVEN CORRECTION FACTORS","Contractor, %:",null,82]
[203,{"$f":"IF(DESIGN_GRAD!P6<>\"\",DESIGN_GRAD!P6,\"\")","v":""},"DESIGN_GRAD","COMBINED AGGREGATE GRADATION","Sieve size",{"$f":"F194","v":""},"IGNITION OVEN CORRECTION FACTORS","Contractor, %:",null,86]
[204,{"$f":"IF(DESIGN_GRAD!P7<>\"\",DESIGN_GRAD!P7,\"\")","v":""},"DESIGN_GRAD","COMBINED AGGREGATE GRADATION","Sieve size","","IGNITION OVEN CORRECTION FACTORS","Contractor, %:",null,90]
[205,{"$f":"IF(DESIGN_GRAD!P8<>\"\",DESIGN_GRAD!P8,\"\")","v":""},"DESIGN_GRAD","COMBINED AGGREGATE GRADATION","Sieve size","","IGNITION OVEN CORRECTION FACTORS","Contractor, %:",null,94]
[206,{"$f":"IF(DESIGN_GRAD!P9<>\"\",DESIGN_GRAD!P9,\"\")","v":""},"DESIGN_GRAD","COMBINED AGGREGATE GRADATION","Sieve size","","IGNITION OVEN CORRECTION FACTORS","Contractor, %:",null,98]
[207,{"$f":"IF(DESIGN_GRAD!P10<>\"\",DESIGN_GRAD!P10,\"\")","v":""},"DESIGN_GRAD","COMBINED AGGREGATE GRADATION","Sieve size","","IGNITION OVEN CORRECTION FACTORS","Contractor, %:",null,102]
[208,{"$f":"IF(DESIGN_GRAD!P11<>\"\",DESIGN_GRAD!P11,\"\")","v":""},"DESIGN_GRAD","COMBINED AGGREGATE GRADATION","Sieve size","","IGNITION OVEN CORRECTION FACTORS","Contractor, %:",null,106]
[209,{"$f":"IF(DESIGN_GRAD!P12<>\"\",DESIGN_GRAD!P12,\"\")","v":""},"DESIGN_GRAD","COMBINED AGGREGATE GRADATION","Sieve size","","IGNITION OVEN CORRECTION FACTORS","Contractor, %:",null,110]
[210,{"$f":"IF(DESIGN_GRAD!P13<>\"\",DESIGN_GRAD!P13,\"\")","v":""},"DESIGN_GRAD","COMBINED AGGREGATE GRADATION","Sieve size","","IGNITION OVEN CORRECTION FACTORS","Contractor, %:",null,114]
[211,{"$f":"IF(DESIGN_GRAD!P14<>\"\",DESIGN_GRAD!P14,\"\")","v":""},"DESIGN_GRAD","COMBINED AGGREGATE GRADATION","Sieve size","","IGNITION OVEN CORRECTION FACTORS","Contractor, %:",null,118]
[212]
[213,{"$f":"IF(DESIGN_GRAD!R5<>\"\",DESIGN_GRAD!R5,\"\")","v":""},"DESIGN_GRAD","COMBINED AGGREGATE GRADATION","Sieve size",{"$f":"F204","v":""},"TOLERANCES - Gradation","Design  JMF"]
[214,{"$f":"IF(DESIGN_GRAD!R6<>\"\",DESIGN_GRAD!R6,\"\")","v":""},"DESIGN_GRAD","COMBINED AGGREGATE GRADATION","Sieve size",{"$f":"F205","v":""},"TOLERANCES - Gradation","Design  JMF"]
[215,{"$f":"IF(DESIGN_GRAD!R7<>\"\",DESIGN_GRAD!R7,\"\")","v":""},"DESIGN_GRAD","COMBINED AGGREGATE GRADATION","Sieve size","","TOLERANCES - Gradation","Design  JMF"]
[216,{"$f":"IF(DESIGN_GRAD!R8<>\"\",DESIGN_GRAD!R8,\"\")","v":""},"DESIGN_GRAD","COMBINED AGGREGATE GRADATION","Sieve size","","TOLERANCES - Gradation","Design  JMF"]
[217,{"$f":"IF(DESIGN_GRAD!R9<>\"\",DESIGN_GRAD!R9,\"\")","v":""},"DESIGN_GRAD","COMBINED AGGREGATE GRADATION","Sieve size","","TOLERANCES - Gradation","Design  JMF"]
[218,{"$f":"IF(DESIGN_GRAD!R10<>\"\",DESIGN_GRAD!R10,\"\")","v":""},"DESIGN_GRAD","COMBINED AGGREGATE GRADATION","Sieve size","","TOLERANCES - Gradation","Design  JMF"]
[219,{"$f":"IF(DESIGN_GRAD!R11<>\"\",DESIGN_GRAD!R11,\"\")","v":""},"DESIGN_GRAD","COMBINED AGGREGATE GRADATION","Sieve size","","TOLERANCES - Gradation","Design  JMF"]
[220,{"$f":"IF(DESIGN_GRAD!R12<>\"\",DESIGN_GRAD!R12,\"\")","v":""},"DESIGN_GRAD","COMBINED AGGREGATE GRADATION","Sieve size","","TOLERANCES - Gradation","Design  JMF"]
[221,{"$f":"IF(DESIGN_GRAD!R13<>\"\",DESIGN_GRAD!R13,\"\")","v":""},"DESIGN_GRAD","COMBINED AGGREGATE GRADATION","Sieve size","","TOLERANCES - Gradation","Design  JMF"]
[222,{"$f":"IF(DESIGN_GRAD!R14<>\"\",DESIGN_GRAD!R14,\"\")","v":""},"DESIGN_GRAD","COMBINED AGGREGATE GRADATION","Sieve size","","TOLERANCES - Gradation","Design  JMF"]
[223]
[224,{"$f":"IF(DESIGN_GRAD!S5<>\"\",DESIGN_GRAD!S5,\"\")","v":""},"DESIGN_GRAD","COMBINED AGGREGATE GRADATION","Sieve size",{"$f":"F215","v":""},"TOLERANCES - Gradation","Current    JMF"]
[225,{"$f":"IF(DESIGN_GRAD!S6<>\"\",DESIGN_GRAD!S6,\"\")","v":""},"DESIGN_GRAD","COMBINED AGGREGATE GRADATION","Sieve size",{"$f":"F216","v":""},"TOLERANCES - Gradation","Current    JMF"]
[226,{"$f":"IF(DESIGN_GRAD!S7<>\"\",DESIGN_GRAD!S7,\"\")","v":""},"DESIGN_GRAD","COMBINED AGGREGATE GRADATION","Sieve size","","TOLERANCES - Gradation","Current    JMF"]
[227,{"$f":"IF(DESIGN_GRAD!S8<>\"\",DESIGN_GRAD!S8,\"\")","v":""},"DESIGN_GRAD","COMBINED AGGREGATE GRADATION","Sieve size","","TOLERANCES - Gradation","Current    JMF"]
[228,{"$f":"IF(DESIGN_GRAD!S9<>\"\",DESIGN_GRAD!S9,\"\")","v":""},"DESIGN_GRAD","COMBINED AGGREGATE GRADATION","Sieve size","","TOLERANCES - Gradation","Current    JMF"]
[229,{"$f":"IF(DESIGN_GRAD!S10<>\"\",DESIGN_GRAD!S10,\"\")","v":""},"DESIGN_GRAD","COMBINED AGGREGATE GRADATION","Sieve size","","TOLERANCES - Gradation","Current    JMF"]
[230,{"$f":"IF(DESIGN_GRAD!S11<>\"\",DESIGN_GRAD!S11,\"\")","v":""},"DESIGN_GRAD","COMBINED AGGREGATE GRADATION","Sieve size","","TOLERANCES - Gradation","Current    JMF"]
[231,{"$f":"IF(DESIGN_GRAD!S12<>\"\",DESIGN_GRAD!S12,\"\")","v":""},"DESIGN_GRAD","COMBINED AGGREGATE GRADATION","Sieve size","","TOLERANCES - Gradation","Current    JMF"]
[232,{"$f":"IF(DESIGN_GRAD!S13<>\"\",DESIGN_GRAD!S13,\"\")","v":""},"DESIGN_GRAD","COMBINED AGGREGATE GRADATION","Sieve size","","TOLERANCES - Gradation","Current    JMF"]
[233,{"$f":"IF(DESIGN_GRAD!S14<>\"\",DESIGN_GRAD!S14,\"\")","v":""},"DESIGN_GRAD","COMBINED AGGREGATE GRADATION","Sieve size","","TOLERANCES - Gradation","Current    JMF"]
[234]
[235,{"$f":"IF(DESIGN_GRAD!T5<>\"\",DESIGN_GRAD!T5,\"\")","v":""},"DESIGN_GRAD","COMBINED AGGREGATE GRADATION","Sieve size",{"$f":"F226","v":""},"TOLERANCES - Reference zone","Design  JMF"]
[236,{"$f":"IF(DESIGN_GRAD!T6<>\"\",DESIGN_GRAD!T6,\"\")","v":""},"DESIGN_GRAD","COMBINED AGGREGATE GRADATION","Sieve size",{"$f":"F227","v":""},"TOLERANCES - Reference zone","Design  JMF"]
[237,{"$f":"IF(DESIGN_GRAD!T7<>\"\",DESIGN_GRAD!T7,\"\")","v":""},"DESIGN_GRAD","COMBINED AGGREGATE GRADATION","Sieve size","","TOLERANCES - Reference zone","Design  JMF"]
[238,{"$f":"IF(DESIGN_GRAD!T8<>\"\",DESIGN_GRAD!T8,\"\")","v":""},"DESIGN_GRAD","COMBINED AGGREGATE GRADATION","Sieve size","","TOLERANCES - Reference zone","Design  JMF"]
[239,{"$f":"IF(DESIGN_GRAD!T9<>\"\",DESIGN_GRAD!T9,\"\")","v":""},"DESIGN_GRAD","COMBINED AGGREGATE GRADATION","Sieve size","","TOLERANCES - Reference zone","Design  JMF"]
[240,{"$f":"IF(DESIGN_GRAD!T10<>\"\",DESIGN_GRAD!T10,\"\")","v":""},"DESIGN_GRAD","COMBINED AGGREGATE GRADATION","Sieve size","","TOLERANCES - Reference zone","Design  JMF"]
[241,{"$f":"IF(DESIGN_GRAD!T11<>\"\",DESIGN_GRAD!T11,\"\")","v":""},"DESIGN_GRAD","COMBINED AGGREGATE GRADATION","Sieve size","","TOLERANCES - Reference zone","Design  JMF"]
[242,{"$f":"IF(DESIGN_GRAD!T12<>\"\",DESIGN_GRAD!T12,\"\")","v":""},"DESIGN_GRAD","COMBINED AGGREGATE GRADATION","Sieve size","","TOLERANCES - Reference zone","Design  JMF"]
[243,{"$f":"IF(DESIGN_GRAD!T13<>\"\",DESIGN_GRAD!T13,\"\")","v":""},"DESIGN_GRAD","COMBINED AGGREGATE GRADATION","Sieve size","","TOLERANCES - Reference zone","Design  JMF"]
[244,{"$f":"IF(DESIGN_GRAD!T14<>\"\",DESIGN_GRAD!T14,\"\")","v":""},"DESIGN_GRAD","COMBINED AGGREGATE GRADATION","Sieve size","","TOLERANCES - Reference zone","Design  JMF"]
[245]
[246,{"$f":"IF(DESIGN_GRAD!U5<>\"\",DESIGN_GRAD!U5,\"\")","v":""},"DESIGN_GRAD","COMBINED AGGREGATE GRADATION","Sieve size",{"$f":"F237","v":""},"TOLERANCES - Reference zone","Current    JMF"]
[247,{"$f":"IF(DESIGN_GRAD!U6<>\"\",DESIGN_GRAD!U6,\"\")","v":""},"DESIGN_GRAD","COMBINED AGGREGATE GRADATION","Sieve size",{"$f":"F238","v":""},"TOLERANCES - Reference zone","Current    JMF"]
[248,{"$f":"IF(DESIGN_GRAD!U7<>\"\",DESIGN_GRAD!U7,\"\")","v":""},"DESIGN_GRAD","COMBINED AGGREGATE GRADATION","Sieve size","","TOLERANCES - Reference zone","Current    JMF"]
[249,{"$f":"IF(DESIGN_GRAD!U8<>\"\",DESIGN_GRAD!U8,\"\")","v":""},"DESIGN_GRAD","COMBINED AGGREGATE GRADATION","Sieve size","","TOLERANCES - Reference zone","Current    JMF"]
[250,{"$f":"IF(DESIGN_GRAD!U9<>\"\",DESIGN_GRAD!U9,\"\")","v":""},"DESIGN_GRAD","COMBINED AGGREGATE GRADATION","Sieve size","","TOLERANCES - Reference zone","Current    JMF"]
[251,{"$f":"IF(DESIGN_GRAD!U10<>\"\",DESIGN_GRAD!U10,\"\")","v":""},"DESIGN_GRAD","COMBINED AGGREGATE GRADATION","Sieve size","","TOLERANCES - Reference zone","Current    JMF"]
[252,{"$f":"IF(DESIGN_GRAD!U11<>\"\",DESIGN_GRAD!U11,\"\")","v":""},"DESIGN_GRAD","COMBINED AGGREGATE GRADATION","Sieve size","","TOLERANCES - Reference zone","Current    JMF"]
[253,{"$f":"IF(DESIGN_GRAD!U12<>\"\",DESIGN_GRAD!U12,\"\")","v":""},"DESIGN_GRAD","COMBINED AGGREGATE GRADATION","Sieve size","","TOLERANCES - Reference zone","Current    JMF"]
[254,{"$f":"IF(DESIGN_GRAD!U13<>\"\",DESIGN_GRAD!U13,\"\")","v":""},"DESIGN_GRAD","COMBINED AGGREGATE GRADATION","Sieve size","","TOLERANCES - Reference zone","Current    JMF"]
[255,{"$f":"IF(DESIGN_GRAD!U14<>\"\",DESIGN_GRAD!U14,\"\")","v":""},"DESIGN_GRAD","COMBINED AGGREGATE GRADATION","Sieve size","","TOLERANCES - Reference zone","Current    JMF"]
[256]
[257]
[258,{"$f":"IF(PROD_SAMPLE!C4<>\"\",PROD_SAMPLE!C4,\"\")","v":""},"PROD_SAMPLE","PRODUCTION SAMPLE LOCATIONS","Running production total (optional)",null,null,null,null,119]
[259,{"$f":"IF(PROD_SAMPLE!C8<>\"\",PROD_SAMPLE!C8,\"\")","v":"FALSE"},"PROD_SAMPLE","PRODUCTION SAMPLE LOCATIONS","Blind sample","Sublot 1","TxDOT"]
[260,{"$f":"IF(PROD_SAMPLE!D8<>\"\",PROD_SAMPLE!D8,\"\")","v":"FALSE"},"PROD_SAMPLE","PRODUCTION SAMPLE LOCATIONS","Blind sample","Sublot 2","TxDOT"]
[261,{"$f":"IF(PROD_SAMPLE!E8<>\"\",PROD_SAMPLE!E8,\"\")","v":"FALSE"},"PROD_SAMPLE","PRODUCTION SAMPLE LOCATIONS","Blind sample","Sublot 3","TxDOT"]
[262,{"$f":"IF(PROD_SAMPLE!F8<>\"\",PROD_SAMPLE!F8,\"\")","v":"FALSE"},"PROD_SAMPLE","PRODUCTION SAMPLE LOCATIONS","Blind sample","Sublot 4","TxDOT"]
[263,{"$f":"IF(PROD_SAMPLE!C9<>\"\",PROD_SAMPLE!C9,\"\")","v":""},"PROD_SAMPLE","PRODUCTION SAMPLE LOCATIONS","Random number","Sublot 1","TxDOT",null,null,121]
[264,{"$f":"IF(PROD_SAMPLE!D9<>\"\",PROD_SAMPLE!D9,\"\")","v":""},"PROD_SAMPLE","PRODUCTION SAMPLE LOCATIONS","Random number","Sublot 2","TxDOT",null,null,122]
[265,{"$f":"IF(PROD_SAMPLE!E9<>\"\",PROD_SAMPLE!E9,\"\")","v":""},"PROD_SAMPLE","PRODUCTION SAMPLE LOCATIONS","Random number","Sublot 3","TxDOT",null,null,123]
[266,{"$f":"IF(PROD_SAMPLE!F9<>\"\",PROD_SAMPLE!F9,\"\")","v":""},"PROD_SAMPLE","PRODUCTION SAMPLE LOCATIONS","Random number","Sublot 4","TxDOT",null,null,124]
[267,{"$f":"IF(DATE_DOT1<>\"\",DATE_DOT1,\"\")","v":""},"PROD_SAMPLE","PRODUCTION SAMPLE LOCATIONS","Sublot sample date (MM/DD/YYYY)","Sublot 1","TxDOT",null,null,125]
[268,{"$f":"IF(DATE_DOT2<>\"\",DATE_DOT2,\"\")","v":""},"PROD_SAMPLE","PRODUCTION SAMPLE LOCATIONS","Sublot sample date (MM/DD/YYYY)","Sublot 2","TxDOT",null,null,126]
[269,{"$f":"IF(DATE_DOT3<>\"\",DATE_DOT3,\"\")","v":""},"PROD_SAMPLE","PRODUCTION SAMPLE LOCATIONS","Sublot sample date (MM/DD/YYYY)","Sublot 3","TxDOT",null,null,127]
[270,{"$f":"IF(DATE_DOT4<>\"\",DATE_DOT4,\"\")","v":""},"PROD_SAMPLE","PRODUCTION SAMPLE LOCATIONS","Sublot sample date (MM/DD/YYYY)","Sublot 4","TxDOT",null,null,128]
[271,{"$f":"IF(SLOC_DOT1<>\"\",SLOC_DOT1,\"\")","v":""},"PROD_SAMPLE","PRODUCTION SAMPLE LOCATIONS","Sublot locations, Tons","Sublot 1","TxDOT"]
[272,{"$f":"IF(SLOC_DOT2<>\"\",SLOC_DOT2,\"\")","v":""},"PROD_SAMPLE","PRODUCTION SAMPLE LOCATIONS","Sublot locations, Tons","Sublot 2","TxDOT"]
[273,{"$f":"IF(SLOC_DOT3<>\"\",SLOC_DOT3,\"\")","v":""},"PROD_SAMPLE","PRODUCTION SAMPLE LOCATIONS","Sublot locations, Tons","Sublot 3","TxDOT"]
[274,{"$f":"IF(SLOC_DOT4<>\"\",SLOC_DOT4,\"\")","v":""},"PROD_SAMPLE","PRODUCTION SAMPLE LOCATIONS","Sublot locations, Tons","Sublot 4","TxDOT"]
[275,{"$f":"IF(PLOC_DOT1<>\"\",PLOC_DOT1,\"\")","v":""},"PROD_SAMPLE","PRODUCTION SAMPLE LOCATIONS","Production locations, Tons","Sublot 1","TxDOT"]
[276,{"$f":"IF(PLOC_DOT2<>\"\",PLOC_DOT2,\"\")","v":""},"PROD_SAMPLE","PRODUCTION SAMPLE LOCATIONS","Production locations, Tons","Sublot 2","TxDOT"]
[277,{"$f":"IF(PLOC_DOT3<>\"\",PLOC_DOT3,\"\")","v":""},"PROD_SAMPLE","PRODUCTION SAMPLE LOCATIONS","Production locations, Tons","Sublot 3","TxDOT"]
[278,{"$f":"IF(PLOC_DOT4<>\"\",PLOC_DOT4,\"\")","v":""},"PROD_SAMPLE","PRODUCTION SAMPLE LOCATIONS","Production locations, Tons","Sublot 4","TxDOT"]
[279,{"$f":"IF(PROD_SAMPLE!C16<>\"\",PROD_SAMPLE!C16,\"\")","v":""},"PROD_SAMPLE","PRODUCTION SAMPLE LOCATIONS","Random number","Sublot 1","Contractor",null,null,129]
[280,{"$f":"IF(PROD_SAMPLE!D16<>\"\",PROD_SAMPLE!D16,\"\")","v":""},"PROD_SAMPLE","PRODUCTION SAMPLE LOCATIONS","Random number","Sublot 2","Contractor",null,null,130]
[281,{"$f":"IF(PROD_SAMPLE!E16<>\"\",PROD_SAMPLE!E16,\"\")","v":""},"PROD_SAMPLE","PRODUCTION SAMPLE LOCATIONS","Random number","Sublot 3","Contractor",null,null,131]
[282,{"$f":"IF(PROD_SAMPLE!F16<>\"\",PROD_SAMPLE!F16,\"\")","v":""},"PROD_SAMPLE","PRODUCTION SAMPLE LOCATIONS","Random number","Sublot 4","Contractor",null,null,132]
[283,{"$f":"IF(DATE_CON1<>\"\",DATE_CON1,\"\")","v":""},"PROD_SAMPLE","PRODUCTION SAMPLE LOCATIONS","Sublot sample date (MM/DD/YYYY)","Sublot 1","Contractor",null,null,133]
[284,{"$f":"IF(DATE_CON2<>\"\",DATE_CON2,\"\")","v":""},"PROD_SAMPLE","PRODUCTION SAMPLE LOCATIONS","Sublot sample date (MM/DD/YYYY)","Sublot 2","Contractor",null,null,134]
[285,{"$f":"IF(DATE_CON3<>\"\",DATE_CON3,\"\")","v":""},"PROD_SAMPLE","PRODUCTION SAMPLE LOCATIONS","Sublot sample date (MM/DD/YYYY)","Sublot 3","Contractor",null,null,135]
[286,{"$f":"IF(DATE_CON4<>\"\",DATE_CON4,\"\")","v":""},"PROD_SAMPLE","PRODUCTION SAMPLE LOCATIONS","Sublot sample date (MM/DD/YYYY)","Sublot 4","Contractor",null,null,136]
[287,{"$f":"IF(SLOC_CON1<>\"\",SLOC_CON1,\"\")","v":""},"PROD_SAMPLE","PRODUCTION SAMPLE LOCATIONS","Sublot locations, Tons","Sublot 1","Contractor"]
[288,{"$f":"IF(SLOC_CON2<>\"\",SLOC_CON2,\"\")","v":""},"PROD_SAMPLE","PRODUCTION SAMPLE LOCATIONS","Sublot locations, Tons","Sublot 2","Contractor"]
[289,{"$f":"IF(SLOC_CON3<>\"\",SLOC_CON3,\"\")","v":""},"PROD_SAMPLE","PRODUCTION SAMPLE LOCATIONS","Sublot locations, Tons","Sublot 3","Contractor"]
[290,{"$f":"IF(SLOC_CON4<>\"\",SLOC_CON4,\"\")","v":""},"PROD_SAMPLE","PRODUCTION SAMPLE LOCATIONS","Sublot locations, Tons","Sublot 4","Contractor"]
[291,{"$f":"IF(PLOC_CON1<>\"\",PLOC_CON1,\"\")","v":""},"PROD_SAMPLE","PRODUCTION SAMPLE LOCATIONS","Production locations, Tons","Sublot 1","Contractor"]
[292,{"$f":"IF(PLOC_CON2<>\"\",PLOC_CON2,\"\")","v":""},"PROD_SAMPLE","PRODUCTION SAMPLE LOCATIONS","Production locations, Tons","Sublot 2","Contractor"]
[293,{"$f":"IF(PLOC_CON3<>\"\",PLOC_CON3,\"\")","v":""},"PROD_SAMPLE","PRODUCTION SAMPLE LOCATIONS","Production locations, Tons","Sublot 3","Contractor"]
[294,{"$f":"IF(PLOC_CON4<>\"\",PLOC_CON4,\"\")","v":""},"PROD_SAMPLE","PRODUCTION SAMPLE LOCATIONS","Production locations, Tons","Sublot 4","Contractor"]
[295,{"$f":"IF(PLACE_SAMPLE!O5<>\"\",PLACE_SAMPLE!O5,\"\")","v":""},"PLACE_SAMPLE","CALCULATED CORE LOCATION","Rand. no. (L)","Sublot 1",null,null,null,137]
[296,{"$f":"IF(PLACE_SAMPLE!Q5<>\"\",PLACE_SAMPLE!Q5,\"\")","v":""},"PLACE_SAMPLE","CALCULATED CORE LOCATION","Rand. no. (L)","Sublot 2",null,null,null,139]
[297,{"$f":"IF(PLACE_SAMPLE!S5<>\"\",PLACE_SAMPLE!S5,\"\")","v":""},"PLACE_SAMPLE","CALCULATED CORE LOCATION","Rand. no. (L)","Sublot 3",null,null,null,141]
[298,{"$f":"IF(PLACE_SAMPLE!U5<>\"\",PLACE_SAMPLE!U5,\"\")","v":""},"PLACE_SAMPLE","CALCULATED CORE LOCATION","Rand. no. (L)","Sublot 4",null,null,null,143]
[299,{"$f":"IF(PLACE_SAMPLE!O6<>\"\",PLACE_SAMPLE!O6,\"\")","v":""},"PLACE_SAMPLE","CALCULATED CORE LOCATION","Rand. no. (W)","Sublot 1",null,null,null,138]
[300,{"$f":"IF(PLACE_SAMPLE!Q6<>\"\",PLACE_SAMPLE!Q6,\"\")","v":""},"PLACE_SAMPLE","CALCULATED CORE LOCATION","Rand. no. (W)","Sublot 2",null,null,null,140]
[301,{"$f":"IF(PLACE_SAMPLE!S6<>\"\",PLACE_SAMPLE!S6,\"\")","v":""},"PLACE_SAMPLE","CALCULATED CORE LOCATION","Rand. no. (W)","Sublot 3",null,null,null,142]
[302,{"$f":"IF(PLACE_SAMPLE!U6<>\"\",PLACE_SAMPLE!U6,\"\")","v":""},"PLACE_SAMPLE","CALCULATED CORE LOCATION","Rand. no. (W)","Sublot 4",null,null,null,144]
[303]
[304,{"$f":"IF(PLACE_SAMPLE!B8<>\"\",PLACE_SAMPLE!B8,\"\")","v":""},"PLACE_SAMPLE","CALCULATED CORE LOCATION","PLACEMENT DATA FOR LOT","Local ID",1,null,null,145]
[305,{"$f":"IF(PLACE_SAMPLE!B9<>\"\",PLACE_SAMPLE!B9,\"\")","v":""},"PLACE_SAMPLE","CALCULATED CORE LOCATION","PLACEMENT DATA FOR LOT","Local ID",2,null,null,154]
[306,{"$f":"IF(PLACE_SAMPLE!B10<>\"\",PLACE_SAMPLE!B10,\"\")","v":""},"PLACE_SAMPLE","CALCULATED CORE LOCATION","PLACEMENT DATA FOR LOT","Local ID",3,null,null,{"$f":"J307+9","v":163}]
[307,{"$f":"IF(PLACE_SAMPLE!B11<>\"\",PLACE_SAMPLE!B11,\"\")","v":""},"PLACE_SAMPLE","CALCULATED CORE LOCATION","PLACEMENT DATA FOR LOT","Local ID",4,null,null,172]
[308,{"$f":"IF(PLACE_SAMPLE!B12<>\"\",PLACE_SAMPLE!B12,\"\")","v":""},"PLACE_SAMPLE","CALCULATED CORE LOCATION","PLACEMENT DATA FOR LOT","Local ID",5,null,null,181]
[309,{"$f":"IF(PLACE_SAMPLE!B13<>\"\",PLACE_SAMPLE!B13,\"\")","v":""},"PLACE_SAMPLE","CALCULATED CORE LOCATION","PLACEMENT DATA FOR LOT","Local ID",6,null,null,190]
[310,{"$f":"IF(PLACE_SAMPLE!B14<>\"\",PLACE_SAMPLE!B14,\"\")","v":""},"PLACE_SAMPLE","CALCULATED CORE LOCATION","PLACEMENT DATA FOR LOT","Local ID",7,null,null,199]
[311,{"$f":"IF(PLACE_SAMPLE!B15<>\"\",PLACE_SAMPLE!B15,\"\")","v":""},"PLACE_SAMPLE","CALCULATED CORE LOCATION","PLACEMENT DATA FOR LOT","Local ID",8,null,null,208]
[312,{"$f":"IF(PLACE_SAMPLE!B16<>\"\",PLACE_SAMPLE!B16,\"\")","v":""},"PLACE_SAMPLE","CALCULATED CORE LOCATION","PLACEMENT DATA FOR LOT","Local ID",9,null,null,217]
[313,{"$f":"IF(PLACE_SAMPLE!B17<>\"\",PLACE_SAMPLE!B17,\"\")","v":""},"PLACE_SAMPLE","CALCULATED CORE LOCATION","PLACEMENT DATA FOR LOT","Local ID",10,null,null,226]
[314,{"$f":"IF(PLACE_SAMPLE!B18<>\"\",PLACE_SAMPLE!B18,\"\")","v":""},"PLACE_SAMPLE","CALCULATED CORE LOCATION","PLACEMENT DATA FOR LOT","Local ID",11,null,null,235]
[315,{"$f":"IF(PLACE_SAMPLE!B19<>\"\",PLACE_SAMPLE!B19,\"\")","v":""},"PLACE_SAMPLE","CALCULATED CORE LOCATION","PLACEMENT DATA FOR LOT","Local ID",12,null,null,244]
[316,{"$f":"IF(PLACE_SAMPLE!B20<>\"\",PLACE_SAMPLE!B20,\"\")","v":""},"PLACE_SAMPLE","CALCULATED CORE LOCATION","PLACEMENT DATA FOR LOT","Local ID",13,null,null,253]
[317,{"$f":"IF(PLACE_SAMPLE!B21<>\"\",PLACE_SAMPLE!B21,\"\")","v":""},"PLACE_SAMPLE","CALCULATED CORE LOCATION","PLACEMENT DATA FOR LOT","Local ID",14,null,null,262]
[318,{"$f":"IF(PLACE_SAMPLE!B22<>\"\",PLACE_SAMPLE!B22,\"\")","v":""},"PLACE_SAMPLE","CALCULATED CORE LOCATION","PLACEMENT DATA FOR LOT","Local ID",15,null,null,271]
[319,{"$f":"IF(PLACE_SAMPLE!B23<>\"\",PLACE_SAMPLE!B23,\"\")","v":""},"PLACE_SAMPLE","CALCULATED CORE LOCATION","PLACEMENT DATA FOR LOT","Local ID",16,null,null,280]
[320,{"$f":"IF(PLACE_SAMPLE!B24<>\"\",PLACE_SAMPLE!B24,\"\")","v":""},"PLACE_SAMPLE","CALCULATED CORE LOCATION","PLACEMENT DATA FOR LOT","Local ID",17,null,null,289]
[321,{"$f":"IF(PLACE_SAMPLE!B25<>\"\",PLACE_SAMPLE!B25,\"\")","v":""},"PLACE_SAMPLE","CALCULATED CORE LOCATION","PLACEMENT DATA FOR LOT","Local ID",18,null,null,298]
[322,{"$f":"IF(PLACE_SAMPLE!B26<>\"\",PLACE_SAMPLE!B26,\"\")","v":""},"PLACE_SAMPLE","CALCULATED CORE LOCATION","PLACEMENT DATA FOR LOT","Local ID",19,null,null,307]
[323,{"$f":"IF(PLACE_SAMPLE!B27<>\"\",PLACE_SAMPLE!B27,\"\")","v":""},"PLACE_SAMPLE","CALCULATED CORE LOCATION","PLACEMENT DATA FOR LOT","Local ID",20,null,null,316]
[324]
[325,{"$f":"IF(PLACE_SAMPLE!C8<>\"\",PLACE_SAMPLE!C8,\"\")","v":""},"PLACE_SAMPLE","CALCULATED CORE LOCATION","PLACEMENT DATA FOR LOT","Sublot #",1,null,null,146]
[326,{"$f":"IF(PLACE_SAMPLE!C9<>\"\",PLACE_SAMPLE!C9,\"\")","v":""},"PLACE_SAMPLE","CALCULATED CORE LOCATION","PLACEMENT DATA FOR LOT","Sublot #",2,null,null,155]
[327,{"$f":"IF(PLACE_SAMPLE!C10<>\"\",PLACE_SAMPLE!C10,\"\")","v":""},"PLACE_SAMPLE","CALCULATED CORE LOCATION","PLACEMENT DATA FOR LOT","Sublot #",3,null,null,164]
[328,{"$f":"IF(PLACE_SAMPLE!C11<>\"\",PLACE_SAMPLE!C11,\"\")","v":""},"PLACE_SAMPLE","CALCULATED CORE LOCATION","PLACEMENT DATA FOR LOT","Sublot #",4,null,null,173]
[329,{"$f":"IF(PLACE_SAMPLE!C12<>\"\",PLACE_SAMPLE!C12,\"\")","v":""},"PLACE_SAMPLE","CALCULATED CORE LOCATION","PLACEMENT DATA FOR LOT","Sublot #",5,null,null,182]
[330,{"$f":"IF(PLACE_SAMPLE!C13<>\"\",PLACE_SAMPLE!C13,\"\")","v":""},"PLACE_SAMPLE","CALCULATED CORE LOCATION","PLACEMENT DATA FOR LOT","Sublot #",6,null,null,191]
[331,{"$f":"IF(PLACE_SAMPLE!C14<>\"\",PLACE_SAMPLE!C14,\"\")","v":""},"PLACE_SAMPLE","CALCULATED CORE LOCATION","PLACEMENT DATA FOR LOT","Sublot #",7,null,null,200]
[332,{"$f":"IF(PLACE_SAMPLE!C15<>\"\",PLACE_SAMPLE!C15,\"\")","v":""},"PLACE_SAMPLE","CALCULATED CORE LOCATION","PLACEMENT DATA FOR LOT","Sublot #",8,null,null,209]
[333,{"$f":"IF(PLACE_SAMPLE!C16<>\"\",PLACE_SAMPLE!C16,\"\")","v":""},"PLACE_SAMPLE","CALCULATED CORE LOCATION","PLACEMENT DATA FOR LOT","Sublot #",9,null,null,218]
[334,{"$f":"IF(PLACE_SAMPLE!C17<>\"\",PLACE_SAMPLE!C17,\"\")","v":""},"PLACE_SAMPLE","CALCULATED CORE LOCATION","PLACEMENT DATA FOR LOT","Sublot #",10,null,null,227]
[335,{"$f":"IF(PLACE_SAMPLE!C18<>\"\",PLACE_SAMPLE!C18,\"\")","v":""},"PLACE_SAMPLE","CALCULATED CORE LOCATION","PLACEMENT DATA FOR LOT","Sublot #",11,null,null,236]
[336,{"$f":"IF(PLACE_SAMPLE!C19<>\"\",PLACE_SAMPLE!C19,\"\")","v":""},"PLACE_SAMPLE","CALCULATED CORE LOCATION","PLACEMENT DATA FOR LOT","Sublot #",12,null,null,245]
[337,{"$f":"IF(PLACE_SAMPLE!C20<>\"\",PLACE_SAMPLE!C20,\"\")","v":""},"PLACE_SAMPLE","CALCULATED CORE LOCATION","PLACEMENT DATA FOR LOT","Sublot #",13,null,null,254]
[338,{"$f":"IF(PLACE_SAMPLE!C21<>\"\",PLACE_SAMPLE!C21,\"\")","v":""},"PLACE_SAMPLE","CALCULATED CORE LOCATION","PLACEMENT DATA FOR LOT","Sublot #",14,null,null,263]
[339,{"$f":"IF(PLACE_SAMPLE!C22<>\"\",PLACE_SAMPLE!C22,\"\")","v":""},"PLACE_SAMPLE","CALCULATED CORE LOCATION","PLACEMENT DATA FOR LOT","Sublot #",15,null,null,272]
[340,{"$f":"IF(PLACE_SAMPLE!C23<>\"\",PLACE_SAMPLE!C23,\"\")","v":""},"PLACE_SAMPLE","CALCULATED CORE LOCATION","PLACEMENT DATA FOR LOT","Sublot #",16,null,null,281]
[341,{"$f":"IF(PLACE_SAMPLE!C24<>\"\",PLACE_SAMPLE!C24,\"\")","v":""},"PLACE_SAMPLE","CALCULATED CORE LOCATION","PLACEMENT DATA FOR LOT","Sublot #",17,null,null,290]
[342,{"$f":"IF(PLACE_SAMPLE!C25<>\"\",PLACE_SAMPLE!C25,\"\")","v":""},"PLACE_SAMPLE","CALCULATED CORE LOCATION","PLACEMENT DATA FOR LOT","Sublot #",18,null,null,299]
[343,{"$f":"IF(PLACE_SAMPLE!C26<>\"\",PLACE_SAMPLE!C26,\"\")","v":""},"PLACE_SAMPLE","CALCULATED CORE LOCATION","PLACEMENT DATA FOR LOT","Sublot #",19,null,null,308]
[344,{"$f":"IF(PLACE_SAMPLE!C27<>\"\",PLACE_SAMPLE!C27,\"\")","v":""},"PLACE_SAMPLE","CALCULATED CORE LOCATION","PLACEMENT DATA FOR LOT","Sublot #",20,null,null,317]
[345]
[346,{"$f":"IF(PLACE_SAMPLE!D8<>\"\",PLACE_SAMPLE!D8,\"\")","v":""},"PLACE_SAMPLE","CALCULATED CORE LOCATION","PLACEMENT DATA FOR LOT","From station",1,null,null,147]
[347,{"$f":"IF(PLACE_SAMPLE!D9<>\"\",PLACE_SAMPLE!D9,\"\")","v":""},"PLACE_SAMPLE","CALCULATED CORE LOCATION","PLACEMENT DATA FOR LOT","From station",2,null,null,156]
[348,{"$f":"IF(PLACE_SAMPLE!D10<>\"\",PLACE_SAMPLE!D10,\"\")","v":""},"PLACE_SAMPLE","CALCULATED CORE LOCATION","PLACEMENT DATA FOR LOT","From station",3,null,null,165]
[349,{"$f":"IF(PLACE_SAMPLE!D11<>\"\",PLACE_SAMPLE!D11,\"\")","v":""},"PLACE_SAMPLE","CALCULATED CORE LOCATION","PLACEMENT DATA FOR LOT","From station",4,null,null,174]
[350,{"$f":"IF(PLACE_SAMPLE!D12<>\"\",PLACE_SAMPLE!D12,\"\")","v":""},"PLACE_SAMPLE","CALCULATED CORE LOCATION","PLACEMENT DATA FOR LOT","From station",5,null,null,183]
[351,{"$f":"IF(PLACE_SAMPLE!D13<>\"\",PLACE_SAMPLE!D13,\"\")","v":""},"PLACE_SAMPLE","CALCULATED CORE LOCATION","PLACEMENT DATA FOR LOT","From station",6,null,null,192]
[352,{"$f":"IF(PLACE_SAMPLE!D14<>\"\",PLACE_SAMPLE!D14,\"\")","v":""},"PLACE_SAMPLE","CALCULATED CORE LOCATION","PLACEMENT DATA FOR LOT","From station",7,null,null,201]
[353,{"$f":"IF(PLACE_SAMPLE!D15<>\"\",PLACE_SAMPLE!D15,\"\")","v":""},"PLACE_SAMPLE","CALCULATED CORE LOCATION","PLACEMENT DATA FOR LOT","From station",8,null,null,210]
[354,{"$f":"IF(PLACE_SAMPLE!D16<>\"\",PLACE_SAMPLE!D16,\"\")","v":""},"PLACE_SAMPLE","CALCULATED CORE LOCATION","PLACEMENT DATA FOR LOT","From station",9,null,null,219]
[355,{"$f":"IF(PLACE_SAMPLE!D17<>\"\",PLACE_SAMPLE!D17,\"\")","v":""},"PLACE_SAMPLE","CALCULATED CORE LOCATION","PLACEMENT DATA FOR LOT","From station",10,null,null,228]
[356,{"$f":"IF(PLACE_SAMPLE!D18<>\"\",PLACE_SAMPLE!D18,\"\")","v":""},"PLACE_SAMPLE","CALCULATED CORE LOCATION","PLACEMENT DATA FOR LOT","From station",11,null,null,237]
[357,{"$f":"IF(PLACE_SAMPLE!D19<>\"\",PLACE_SAMPLE!D19,\"\")","v":""},"PLACE_SAMPLE","CALCULATED CORE LOCATION","PLACEMENT DATA FOR LOT","From station",12,null,null,246]
[358,{"$f":"IF(PLACE_SAMPLE!D20<>\"\",PLACE_SAMPLE!D20,\"\")","v":""},"PLACE_SAMPLE","CALCULATED CORE LOCATION","PLACEMENT DATA FOR LOT","From station",13,null,null,255]
[359,{"$f":"IF(PLACE_SAMPLE!D21<>\"\",PLACE_SAMPLE!D21,\"\")","v":""},"PLACE_SAMPLE","CALCULATED CORE LOCATION","PLACEMENT DATA FOR LOT","From station",14,null,null,264]
[360,{"$f":"IF(PLACE_SAMPLE!D22<>\"\",PLACE_SAMPLE!D22,\"\")","v":""},"PLACE_SAMPLE","CALCULATED CORE LOCATION","PLACEMENT DATA FOR LOT","From station",15,null,null,273]
[361,{"$f":"IF(PLACE_SAMPLE!D23<>\"\",PLACE_SAMPLE!D23,\"\")","v":""},"PLACE_SAMPLE","CALCULATED CORE LOCATION","PLACEMENT DATA FOR LOT","From station",16,null,null,282]
[362,{"$f":"IF(PLACE_SAMPLE!D24<>\"\",PLACE_SAMPLE!D24,\"\")","v":""},"PLACE_SAMPLE","CALCULATED CORE LOCATION","PLACEMENT DATA FOR LOT","From station",17,null,null,291]
[363,{"$f":"IF(PLACE_SAMPLE!D25<>\"\",PLACE_SAMPLE!D25,\"\")","v":""},"PLACE_SAMPLE","CALCULATED CORE LOCATION","PLACEMENT DATA FOR LOT","From station",18,null,null,300]
[364,{"$f":"IF(PLACE_SAMPLE!D26<>\"\",PLACE_SAMPLE!D26,\"\")","v":""},"PLACE_SAMPLE","CALCULATED CORE LOCATION","PLACEMENT DATA FOR LOT","From station",19,null,null,309]
[365,{"$f":"IF(PLACE_SAMPLE!D27<>\"\",PLACE_SAMPLE!D27,\"\")","v":""},"PLACE_SAMPLE","CALCULATED CORE LOCATION","PLACEMENT DATA FOR LOT","From station",20,null,null,318]
[366]
[367,{"$f":"IF(PLACE_SAMPLE!F8<>\"\",PLACE_SAMPLE!F8,\"\")","v":""},"PLACE_SAMPLE","CALCULATED CORE LOCATION","PLACEMENT DATA FOR LOT","To station",1,null,null,148]
[368,{"$f":"IF(PLACE_SAMPLE!F9<>\"\",PLACE_SAMPLE!F9,\"\")","v":""},"PLACE_SAMPLE","CALCULATED CORE LOCATION","PLACEMENT DATA FOR LOT","To station",2,null,null,157]
[369,{"$f":"IF(PLACE_SAMPLE!F10<>\"\",PLACE_SAMPLE!F10,\"\")","v":""},"PLACE_SAMPLE","CALCULATED CORE LOCATION","PLACEMENT DATA FOR LOT","To station",3,null,null,166]
[370,{"$f":"IF(PLACE_SAMPLE!F11<>\"\",PLACE_SAMPLE!F11,\"\")","v":""},"PLACE_SAMPLE","CALCULATED CORE LOCATION","PLACEMENT DATA FOR LOT","To station",4,null,null,175]
[371,{"$f":"IF(PLACE_SAMPLE!F12<>\"\",PLACE_SAMPLE!F12,\"\")","v":""},"PLACE_SAMPLE","CALCULATED CORE LOCATION","PLACEMENT DATA FOR LOT","To station",5,null,null,184]
[372,{"$f":"IF(PLACE_SAMPLE!F13<>\"\",PLACE_SAMPLE!F13,\"\")","v":""},"PLACE_SAMPLE","CALCULATED CORE LOCATION","PLACEMENT DATA FOR LOT","To station",6,null,null,193]
[373,{"$f":"IF(PLACE_SAMPLE!F14<>\"\",PLACE_SAMPLE!F14,\"\")","v":""},"PLACE_SAMPLE","CALCULATED CORE LOCATION","PLACEMENT DATA FOR LOT","To station",7,null,null,202]
[374,{"$f":"IF(PLACE_SAMPLE!F15<>\"\",PLACE_SAMPLE!F15,\"\")","v":""},"PLACE_SAMPLE","CALCULATED CORE LOCATION","PLACEMENT DATA FOR LOT","To station",8,null,null,211]
[375,{"$f":"IF(PLACE_SAMPLE!F16<>\"\",PLACE_SAMPLE!F16,\"\")","v":""},"PLACE_SAMPLE","CALCULATED CORE LOCATION","PLACEMENT DATA FOR LOT","To station",9,null,null,220]
[376,{"$f":"IF(PLACE_SAMPLE!F17<>\"\",PLACE_SAMPLE!F17,\"\")","v":""},"PLACE_SAMPLE","CALCULATED CORE LOCATION","PLACEMENT DATA FOR LOT","To station",10,null,null,229]
[377,{"$f":"IF(PLACE_SAMPLE!F18<>\"\",PLACE_SAMPLE!F18,\"\")","v":""},"PLACE_SAMPLE","CALCULATED CORE LOCATION","PLACEMENT DATA FOR LOT","To station",11,null,null,238]
[378,{"$f":"IF(PLACE_SAMPLE!F19<>\"\",PLACE_SAMPLE!F19,\"\")","v":""},"PLACE_SAMPLE","CALCULATED CORE LOCATION","PLACEMENT DATA FOR LOT","To station",12,null,null,247]
[379,{"$f":"IF(PLACE_SAMPLE!F20<>\"\",PLACE_SAMPLE!F20,\"\")","v":""},"PLACE_SAMPLE","CALCULATED CORE LOCATION","PLACEMENT DATA FOR LOT","To station",13,null,null,256]
[380,{"$f":"IF(PLACE_SAMPLE!F21<>\"\",PLACE_SAMPLE!F21,\"\")","v":""},"PLACE_SAMPLE","CALCULATED CORE LOCATION","PLACEMENT DATA FOR LOT","To station",14,null,null,265]
[381,{"$f":"IF(PLACE_SAMPLE!F22<>\"\",PLACE_SAMPLE!F22,\"\")","v":""},"PLACE_SAMPLE","CALCULATED CORE LOCATION","PLACEMENT DATA FOR LOT","To station",15,null,null,274]
[382,{"$f":"IF(PLACE_SAMPLE!F23<>\"\",PLACE_SAMPLE!F23,\"\")","v":""},"PLACE_SAMPLE","CALCULATED CORE LOCATION","PLACEMENT DATA FOR LOT","To station",16,null,null,283]
[383,{"$f":"IF(PLACE_SAMPLE!F24<>\"\",PLACE_SAMPLE!F24,\"\")","v":""},"PLACE_SAMPLE","CALCULATED CORE LOCATION","PLACEMENT DATA FOR LOT","To station",17,null,null,292]
[384,{"$f":"IF(PLACE_SAMPLE!F25<>\"\",PLACE_SAMPLE!F25,\"\")","v":""},"PLACE_SAMPLE","CALCULATED CORE LOCATION","PLACEMENT DATA FOR LOT","To station",18,null,null,301]
[385,{"$f":"IF(PLACE_SAMPLE!F26<>\"\",PLACE_SAMPLE!F26,\"\")","v":""},"PLACE_SAMPLE","CALCULATED CORE LOCATION","PLACEMENT DATA FOR LOT","To station",19,null,null,310]
[386,{"$f":"IF(PLACE_SAMPLE!F27<>\"\",PLACE_SAMPLE!F27,\"\")","v":""},"PLACE_SAMPLE","CALCULATED CORE LOCATION","PLACEMENT DATA FOR LOT","To station",20,null,null,319]
[387]
[388,{"$f":"IF(PLACE_SAMPLE!G8<>\"\",PLACE_SAMPLE!G8,\"\")","v":""},"PLACE_SAMPLE","CALCULATED CORE LOCATION","PLACEMENT DATA FOR LOT","Width,   ft",1,null,null,149]
[389,{"$f":"IF(PLACE_SAMPLE!G9<>\"\",PLACE_SAMPLE!G9,\"\")","v":""},"PLACE_SAMPLE","CALCULATED CORE LOCATION","PLACEMENT DATA FOR LOT","Width,   ft",2,null,null,158]
[390,{"$f":"IF(PLACE_SAMPLE!G10<>\"\",PLACE_SAMPLE!G10,\"\")","v":""},"PLACE_SAMPLE","CALCULATED CORE LOCATION","PLACEMENT DATA FOR LOT","Width,   ft",3,null,null,167]
[391,{"$f":"IF(PLACE_SAMPLE!G11<>\"\",PLACE_SAMPLE!G11,\"\")","v":""},"PLACE_SAMPLE","CALCULATED CORE LOCATION","PLACEMENT DATA FOR LOT","Width,   ft",4,null,null,176]
[392,{"$f":"IF(PLACE_SAMPLE!G12<>\"\",PLACE_SAMPLE!G12,\"\")","v":""},"PLACE_SAMPLE","CALCULATED CORE LOCATION","PLACEMENT DATA FOR LOT","Width,   ft",5,null,null,185]
[393,{"$f":"IF(PLACE_SAMPLE!G13<>\"\",PLACE_SAMPLE!G13,\"\")","v":""},"PLACE_SAMPLE","CALCULATED CORE LOCATION","PLACEMENT DATA FOR LOT","Width,   ft",6,null,null,194]
[394,{"$f":"IF(PLACE_SAMPLE!G14<>\"\",PLACE_SAMPLE!G14,\"\")","v":""},"PLACE_SAMPLE","CALCULATED CORE LOCATION","PLACEMENT DATA FOR LOT","Width,   ft",7,null,null,203]
[395,{"$f":"IF(PLACE_SAMPLE!G15<>\"\",PLACE_SAMPLE!G15,\"\")","v":""},"PLACE_SAMPLE","CALCULATED CORE LOCATION","PLACEMENT DATA FOR LOT","Width,   ft",8,null,null,212]
[396,{"$f":"IF(PLACE_SAMPLE!G16<>\"\",PLACE_SAMPLE!G16,\"\")","v":""},"PLACE_SAMPLE","CALCULATED CORE LOCATION","PLACEMENT DATA FOR LOT","Width,   ft",9,null,null,221]
[397,{"$f":"IF(PLACE_SAMPLE!G17<>\"\",PLACE_SAMPLE!G17,\"\")","v":""},"PLACE_SAMPLE","CALCULATED CORE LOCATION","PLACEMENT DATA FOR LOT","Width,   ft",10,null,null,230]
[398,{"$f":"IF(PLACE_SAMPLE!G18<>\"\",PLACE_SAMPLE!G18,\"\")","v":""},"PLACE_SAMPLE","CALCULATED CORE LOCATION","PLACEMENT DATA FOR LOT","Width,   ft",11,null,null,239]
[399,{"$f":"IF(PLACE_SAMPLE!G19<>\"\",PLACE_SAMPLE!G19,\"\")","v":""},"PLACE_SAMPLE","CALCULATED CORE LOCATION","PLACEMENT DATA FOR LOT","Width,   ft",12,null,null,248]
[400,{"$f":"IF(PLACE_SAMPLE!G20<>\"\",PLACE_SAMPLE!G20,\"\")","v":""},"PLACE_SAMPLE","CALCULATED CORE LOCATION","PLACEMENT DATA FOR LOT","Width,   ft",13,null,null,257]
[401,{"$f":"IF(PLACE_SAMPLE!G21<>\"\",PLACE_SAMPLE!G21,\"\")","v":""},"PLACE_SAMPLE","CALCULATED CORE LOCATION","PLACEMENT DATA FOR LOT","Width,   ft",14,null,null,266]
[402,{"$f":"IF(PLACE_SAMPLE!G22<>\"\",PLACE_SAMPLE!G22,\"\")","v":""},"PLACE_SAMPLE","CALCULATED CORE LOCATION","PLACEMENT DATA FOR LOT","Width,   ft",15,null,null,275]
[403,{"$f":"IF(PLACE_SAMPLE!G23<>\"\",PLACE_SAMPLE!G23,\"\")","v":""},"PLACE_SAMPLE","CALCULATED CORE LOCATION","PLACEMENT DATA FOR LOT","Width,   ft",16,null,null,284]
[404,{"$f":"IF(PLACE_SAMPLE!G24<>\"\",PLACE_SAMPLE!G24,\"\")","v":""},"PLACE_SAMPLE","CALCULATED CORE LOCATION","PLACEMENT DATA FOR LOT","Width,   ft",17,null,null,293]
[405,{"$f":"IF(PLACE_SAMPLE!G25<>\"\",PLACE_SAMPLE!G25,\"\")","v":""},"PLACE_SAMPLE","CALCULATED CORE LOCATION","PLACEMENT DATA FOR LOT","Width,   ft",18,null,null,302]
[406,{"$f":"IF(PLACE_SAMPLE!G26<>\"\",PLACE_SAMPLE!G26,\"\")","v":""},"PLACE_SAMPLE","CALCULATED CORE LOCATION","PLACEMENT DATA FOR LOT","Width,   ft",19,null,null,311]
[407,{"$f":"IF(PLACE_SAMPLE!G27<>\"\",PLACE_SAMPLE!G27,\"\")","v":""},"PLACE_SAMPLE","CALCULATED CORE LOCATION","PLACEMENT DATA FOR LOT","Width,   ft",20,null,null,320]
[408]
[409,{"$f":"IF(PLACE_SAMPLE!H8<>\"\",PLACE_SAMPLE!H8,\"\")","v":""},"PLACE_SAMPLE","CALCULATED CORE LOCATION","PLACEMENT DATA FOR LOT","From Latitude",1,null,null,150]
[410,{"$f":"IF(PLACE_SAMPLE!H9<>\"\",PLACE_SAMPLE!H9,\"\")","v":""},"PLACE_SAMPLE","CALCULATED CORE LOCATION","PLACEMENT DATA FOR LOT","From Latitude",2,null,null,159]
[411,{"$f":"IF(PLACE_SAMPLE!H10<>\"\",PLACE_SAMPLE!H10,\"\")","v":""},"PLACE_SAMPLE","CALCULATED CORE LOCATION","PLACEMENT DATA FOR LOT","From Latitude",3,null,null,168]
[412,{"$f":"IF(PLACE_SAMPLE!H11<>\"\",PLACE_SAMPLE!H11,\"\")","v":""},"PLACE_SAMPLE","CALCULATED CORE LOCATION","PLACEMENT DATA FOR LOT","From Latitude",4,null,null,177]
[413,{"$f":"IF(PLACE_SAMPLE!H12<>\"\",PLACE_SAMPLE!H12,\"\")","v":""},"PLACE_SAMPLE","CALCULATED CORE LOCATION","PLACEMENT DATA FOR LOT","From Latitude",5,null,null,186]
[414,{"$f":"IF(PLACE_SAMPLE!H13<>\"\",PLACE_SAMPLE!H13,\"\")","v":""},"PLACE_SAMPLE","CALCULATED CORE LOCATION","PLACEMENT DATA FOR LOT","From Latitude",6,null,null,195]
[415,{"$f":"IF(PLACE_SAMPLE!H14<>\"\",PLACE_SAMPLE!H14,\"\")","v":""},"PLACE_SAMPLE","CALCULATED CORE LOCATION","PLACEMENT DATA FOR LOT","From Latitude",7,null,null,204]
[416,{"$f":"IF(PLACE_SAMPLE!H15<>\"\",PLACE_SAMPLE!H15,\"\")","v":""},"PLACE_SAMPLE","CALCULATED CORE LOCATION","PLACEMENT DATA FOR LOT","From Latitude",8,null,null,213]
[417,{"$f":"IF(PLACE_SAMPLE!H16<>\"\",PLACE_SAMPLE!H16,\"\")","v":""},"PLACE_SAMPLE","CALCULATED CORE LOCATION","PLACEMENT DATA FOR LOT","From Latitude",9,null,null,222]
[418,{"$f":"IF(PLACE_SAMPLE!H17<>\"\",PLACE_SAMPLE!H17,\"\")","v":""},"PLACE_SAMPLE","CALCULATED CORE LOCATION","PLACEMENT DATA FOR LOT","From Latitude",10,null,null,231]
[419,{"$f":"IF(PLACE_SAMPLE!H18<>\"\",PLACE_SAMPLE!H18,\"\")","v":""},"PLACE_SAMPLE","CALCULATED CORE LOCATION","PLACEMENT DATA FOR LOT","From Latitude",11,null,null,240]
[420,{"$f":"IF(PLACE_SAMPLE!H19<>\"\",PLACE_SAMPLE!H19,\"\")","v":""},"PLACE_SAMPLE","CALCULATED CORE LOCATION","PLACEMENT DATA FOR LOT","From Latitude",12,null,null,249]
[421,{"$f":"IF(PLACE_SAMPLE!H20<>\"\",PLACE_SAMPLE!H20,\"\")","v":""},"PLACE_SAMPLE","CALCULATED CORE LOCATION","PLACEMENT DATA FOR LOT","From Latitude",13,null,null,258]
[422,{"$f":"IF(PLACE_SAMPLE!H21<>\"\",PLACE_SAMPLE!H21,\"\")","v":""},"PLACE_SAMPLE","CALCULATED CORE LOCATION","PLACEMENT DATA FOR LOT","From Latitude",14,null,null,267]
[423,{"$f":"IF(PLACE_SAMPLE!H22<>\"\",PLACE_SAMPLE!H22,\"\")","v":""},"PLACE_SAMPLE","CALCULATED CORE LOCATION","PLACEMENT DATA FOR LOT","From Latitude",15,null,null,276]
[424,{"$f":"IF(PLACE_SAMPLE!H23<>\"\",PLACE_SAMPLE!H23,\"\")","v":""},"PLACE_SAMPLE","CALCULATED CORE LOCATION","PLACEMENT DATA FOR LOT","From Latitude",16,null,null,285]
[425,{"$f":"IF(PLACE_SAMPLE!H24<>\"\",PLACE_SAMPLE!H24,\"\")","v":""},"PLACE_SAMPLE","CALCULATED CORE LOCATION","PLACEMENT DATA FOR LOT","From Latitude",17,null,null,294]
[426,{"$f":"IF(PLACE_SAMPLE!H25<>\"\",PLACE_SAMPLE!H25,\"\")","v":""},"PLACE_SAMPLE","CALCULATED CORE LOCATION","PLACEMENT DATA FOR LOT","From Latitude",18,null,null,303]
[427,{"$f":"IF(PLACE_SAMPLE!H26<>\"\",PLACE_SAMPLE!H26,\"\")","v":""},"PLACE_SAMPLE","CALCULATED CORE LOCATION","PLACEMENT DATA FOR LOT","From Latitude",19,null,null,312]
[428,{"$f":"IF(PLACE_SAMPLE!H27<>\"\",PLACE_SAMPLE!H27,\"\")","v":""},"PLACE_SAMPLE","CALCULATED CORE LOCATION","PLACEMENT DATA FOR LOT","From Latitude",20,null,null,321]
[429]
[430,{"$f":"IF(PLACE_SAMPLE!I8<>\"\",PLACE_SAMPLE!I8,\"\")","v":""},"PLACE_SAMPLE","CALCULATED CORE LOCATION","PLACEMENT DATA FOR LOT","From Longitude",1,null,null,151]
[431,{"$f":"IF(PLACE_SAMPLE!I9<>\"\",PLACE_SAMPLE!I9,\"\")","v":""},"PLACE_SAMPLE","CALCULATED CORE LOCATION","PLACEMENT DATA FOR LOT","From Longitude",2,null,null,160]
[432,{"$f":"IF(PLACE_SAMPLE!I10<>\"\",PLACE_SAMPLE!I10,\"\")","v":""},"PLACE_SAMPLE","CALCULATED CORE LOCATION","PLACEMENT DATA FOR LOT","From Longitude",3,null,null,169]
[433,{"$f":"IF(PLACE_SAMPLE!I11<>\"\",PLACE_SAMPLE!I11,\"\")","v":""},"PLACE_SAMPLE","CALCULATED CORE LOCATION","PLACEMENT DATA FOR LOT","From Longitude",4,null,null,178]
[434,{"$f":"IF(PLACE_SAMPLE!I12<>\"\",PLACE_SAMPLE!I12,\"\")","v":""},"PLACE_SAMPLE","CALCULATED CORE LOCATION","PLACEMENT DATA FOR LOT","From Longitude",5,null,null,187]
[435,{"$f":"IF(PLACE_SAMPLE!I13<>\"\",PLACE_SAMPLE!I13,\"\")","v":""},"PLACE_SAMPLE","CALCULATED CORE LOCATION","PLACEMENT DATA FOR LOT","From Longitude",6,null,null,196]
[436,{"$f":"IF(PLACE_SAMPLE!I14<>\"\",PLACE_SAMPLE!I14,\"\")","v":""},"PLACE_SAMPLE","CALCULATED CORE LOCATION","PLACEMENT DATA FOR LOT","From Longitude",7,null,null,205]
[437,{"$f":"IF(PLACE_SAMPLE!I15<>\"\",PLACE_SAMPLE!I15,\"\")","v":""},"PLACE_SAMPLE","CALCULATED CORE LOCATION","PLACEMENT DATA FOR LOT","From Longitude",8,null,null,214]
[438,{"$f":"IF(PLACE_SAMPLE!I16<>\"\",PLACE_SAMPLE!I16,\"\")","v":""},"PLACE_SAMPLE","CALCULATED CORE LOCATION","PLACEMENT DATA FOR LOT","From Longitude",9,null,null,223]
[439,{"$f":"IF(PLACE_SAMPLE!I17<>\"\",PLACE_SAMPLE!I17,\"\")","v":""},"PLACE_SAMPLE","CALCULATED CORE LOCATION","PLACEMENT DATA FOR LOT","From Longitude",10,null,null,232]
[440,{"$f":"IF(PLACE_SAMPLE!I18<>\"\",PLACE_SAMPLE!I18,\"\")","v":""},"PLACE_SAMPLE","CALCULATED CORE LOCATION","PLACEMENT DATA FOR LOT","From Longitude",11,null,null,241]
[441,{"$f":"IF(PLACE_SAMPLE!I19<>\"\",PLACE_SAMPLE!I19,\"\")","v":""},"PLACE_SAMPLE","CALCULATED CORE LOCATION","PLACEMENT DATA FOR LOT","From Longitude",12,null,null,250]
[442,{"$f":"IF(PLACE_SAMPLE!I20<>\"\",PLACE_SAMPLE!I20,\"\")","v":""},"PLACE_SAMPLE","CALCULATED CORE LOCATION","PLACEMENT DATA FOR LOT","From Longitude",13,null,null,259]
[443,{"$f":"IF(PLACE_SAMPLE!I21<>\"\",PLACE_SAMPLE!I21,\"\")","v":""},"PLACE_SAMPLE","CALCULATED CORE LOCATION","PLACEMENT DATA FOR LOT","From Longitude",14,null,null,268]
[444,{"$f":"IF(PLACE_SAMPLE!I22<>\"\",PLACE_SAMPLE!I22,\"\")","v":""},"PLACE_SAMPLE","CALCULATED CORE LOCATION","PLACEMENT DATA FOR LOT","From Longitude",15,null,null,277]
[445,{"$f":"IF(PLACE_SAMPLE!I23<>\"\",PLACE_SAMPLE!I23,\"\")","v":""},"PLACE_SAMPLE","CALCULATED CORE LOCATION","PLACEMENT DATA FOR LOT","From Longitude",16,null,null,286]
[446,{"$f":"IF(PLACE_SAMPLE!I24<>\"\",PLACE_SAMPLE!I24,\"\")","v":""},"PLACE_SAMPLE","CALCULATED CORE LOCATION","PLACEMENT DATA FOR LOT","From Longitude",17,null,null,295]
[447,{"$f":"IF(PLACE_SAMPLE!I25<>\"\",PLACE_SAMPLE!I25,\"\")","v":""},"PLACE_SAMPLE","CALCULATED CORE LOCATION","PLACEMENT DATA FOR LOT","From Longitude",18,null,null,304]
[448,{"$f":"IF(PLACE_SAMPLE!I26<>\"\",PLACE_SAMPLE!I26,\"\")","v":""},"PLACE_SAMPLE","CALCULATED CORE LOCATION","PLACEMENT DATA FOR LOT","From Longitude",19,null,null,313]
[449,{"$f":"IF(PLACE_SAMPLE!I27<>\"\",PLACE_SAMPLE!I27,\"\")","v":""},"PLACE_SAMPLE","CALCULATED CORE LOCATION","PLACEMENT DATA FOR LOT","From Longitude",20,null,null,322]
[450]
[451,{"$f":"IF(PLACE_SAMPLE!J8<>\"\",PLACE_SAMPLE!J8,\"\")","v":""},"PLACE_SAMPLE","CALCULATED CORE LOCATION","PLACEMENT DATA FOR LOT","To Latitude",1,null,null,152]
[452,{"$f":"IF(PLACE_SAMPLE!J9<>\"\",PLACE_SAMPLE!J9,\"\")","v":""},"PLACE_SAMPLE","CALCULATED CORE LOCATION","PLACEMENT DATA FOR LOT","To Latitude",2,null,null,161]
[453,{"$f":"IF(PLACE_SAMPLE!J10<>\"\",PLACE_SAMPLE!J10,\"\")","v":""},"PLACE_SAMPLE","CALCULATED CORE LOCATION","PLACEMENT DATA FOR LOT","To Latitude",3,null,null,170]
[454,{"$f":"IF(PLACE_SAMPLE!J11<>\"\",PLACE_SAMPLE!J11,\"\")","v":""},"PLACE_SAMPLE","CALCULATED CORE LOCATION","PLACEMENT DATA FOR LOT","To Latitude",4,null,null,179]
[455,{"$f":"IF(PLACE_SAMPLE!J12<>\"\",PLACE_SAMPLE!J12,\"\")","v":""},"PLACE_SAMPLE","CALCULATED CORE LOCATION","PLACEMENT DATA FOR LOT","To Latitude",5,null,null,188]
[456,{"$f":"IF(PLACE_SAMPLE!J13<>\"\",PLACE_SAMPLE!J13,\"\")","v":""},"PLACE_SAMPLE","CALCULATED CORE LOCATION","PLACEMENT DATA FOR LOT","To Latitude",6,null,null,197]
[457,{"$f":"IF(PLACE_SAMPLE!J14<>\"\",PLACE_SAMPLE!J14,\"\")","v":""},"PLACE_SAMPLE","CALCULATED CORE LOCATION","PLACEMENT DATA FOR LOT","To Latitude",7,null,null,206]
[458,{"$f":"IF(PLACE_SAMPLE!J15<>\"\",PLACE_SAMPLE!J15,\"\")","v":""},"PLACE_SAMPLE","CALCULATED CORE LOCATION","PLACEMENT DATA FOR LOT","To Latitude",8,null,null,215]
[459,{"$f":"IF(PLACE_SAMPLE!J16<>\"\",PLACE_SAMPLE!J16,\"\")","v":""},"PLACE_SAMPLE","CALCULATED CORE LOCATION","PLACEMENT DATA FOR LOT","To Latitude",9,null,null,224]
[460,{"$f":"IF(PLACE_SAMPLE!J17<>\"\",PLACE_SAMPLE!J17,\"\")","v":""},"PLACE_SAMPLE","CALCULATED CORE LOCATION","PLACEMENT DATA FOR LOT","To Latitude",10,null,null,233]
[461,{"$f":"IF(PLACE_SAMPLE!J18<>\"\",PLACE_SAMPLE!J18,\"\")","v":""},"PLACE_SAMPLE","CALCULATED CORE LOCATION","PLACEMENT DATA FOR LOT","To Latitude",11,null,null,242]
[462,{"$f":"IF(PLACE_SAMPLE!J19<>\"\",PLACE_SAMPLE!J19,\"\")","v":""},"PLACE_SAMPLE","CALCULATED CORE LOCATION","PLACEMENT DATA FOR LOT","To Latitude",12,null,null,251]
[463,{"$f":"IF(PLACE_SAMPLE!J20<>\"\",PLACE_SAMPLE!J20,\"\")","v":""},"PLACE_SAMPLE","CALCULATED CORE LOCATION","PLACEMENT DATA FOR LOT","To Latitude",13,null,null,260]
[464,{"$f":"IF(PLACE_SAMPLE!J21<>\"\",PLACE_SAMPLE!J21,\"\")","v":""},"PLACE_SAMPLE","CALCULATED CORE LOCATION","PLACEMENT DATA FOR LOT","To Latitude",14,null,null,269]
[465,{"$f":"IF(PLACE_SAMPLE!J22<>\"\",PLACE_SAMPLE!J22,\"\")","v":""},"PLACE_SAMPLE","CALCULATED CORE LOCATION","PLACEMENT DATA FOR LOT","To Latitude",15,null,null,278]
[466,{"$f":"IF(PLACE_SAMPLE!J23<>\"\",PLACE_SAMPLE!J23,\"\")","v":""},"PLACE_SAMPLE","CALCULATED CORE LOCATION","PLACEMENT DATA FOR LOT","To Latitude",16,null,null,287]
[467,{"$f":"IF(PLACE_SAMPLE!J24<>\"\",PLACE_SAMPLE!J24,\"\")","v":""},"PLACE_SAMPLE","CALCULATED CORE LOCATION","PLACEMENT DATA FOR LOT","To Latitude",17,null,null,296]
[468,{"$f":"IF(PLACE_SAMPLE!J25<>\"\",PLACE_SAMPLE!J25,\"\")","v":""},"PLACE_SAMPLE","CALCULATED CORE LOCATION","PLACEMENT DATA FOR LOT","To Latitude",18,null,null,305]
[469,{"$f":"IF(PLACE_SAMPLE!J26<>\"\",PLACE_SAMPLE!J26,\"\")","v":""},"PLACE_SAMPLE","CALCULATED CORE LOCATION","PLACEMENT DATA FOR LOT","To Latitude",19,null,null,314]
[470,{"$f":"IF(PLACE_SAMPLE!J27<>\"\",PLACE_SAMPLE!J27,\"\")","v":""},"PLACE_SAMPLE","CALCULATED CORE LOCATION","PLACEMENT DATA FOR LOT","To Latitude",20,null,null,323]
[471]
[472,{"$f":"IF(PLACE_SAMPLE!K8<>\"\",PLACE_SAMPLE!K8,\"\")","v":""},"PLACE_SAMPLE","CALCULATED CORE LOCATION","PLACEMENT DATA FOR LOT","To Longitude",1,null,null,153]
[473,{"$f":"IF(PLACE_SAMPLE!K9<>\"\",PLACE_SAMPLE!K9,\"\")","v":""},"PLACE_SAMPLE","CALCULATED CORE LOCATION","PLACEMENT DATA FOR LOT","To Longitude",2,null,null,162]
[474,{"$f":"IF(PLACE_SAMPLE!K10<>\"\",PLACE_SAMPLE!K10,\"\")","v":""},"PLACE_SAMPLE","CALCULATED CORE LOCATION","PLACEMENT DATA FOR LOT","To Longitude",3,null,null,171]
[475,{"$f":"IF(PLACE_SAMPLE!K11<>\"\",PLACE_SAMPLE!K11,\"\")","v":""},"PLACE_SAMPLE","CALCULATED CORE LOCATION","PLACEMENT DATA FOR LOT","To Longitude",4,null,null,180]
[476,{"$f":"IF(PLACE_SAMPLE!K12<>\"\",PLACE_SAMPLE!K12,\"\")","v":""},"PLACE_SAMPLE","CALCULATED CORE LOCATION","PLACEMENT DATA FOR LOT","To Longitude",5,null,null,189]
[477,{"$f":"IF(PLACE_SAMPLE!K13<>\"\",PLACE_SAMPLE!K13,\"\")","v":""},"PLACE_SAMPLE","CALCULATED CORE LOCATION","PLACEMENT DATA FOR LOT","To Longitude",6,null,null,198]
[478,{"$f":"IF(PLACE_SAMPLE!K14<>\"\",PLACE_SAMPLE!K14,\"\")","v":""},"PLACE_SAMPLE","CALCULATED CORE LOCATION","PLACEMENT DATA FOR LOT","To Longitude",7,null,null,207]
[479,{"$f":"IF(PLACE_SAMPLE!K15<>\"\",PLACE_SAMPLE!K15,\"\")","v":""},"PLACE_SAMPLE","CALCULATED CORE LOCATION","PLACEMENT DATA FOR LOT","To Longitude",8,null,null,216]
[480,{"$f":"IF(PLACE_SAMPLE!K16<>\"\",PLACE_SAMPLE!K16,\"\")","v":""},"PLACE_SAMPLE","CALCULATED CORE LOCATION","PLACEMENT DATA FOR LOT","To Longitude",9,null,null,225]
[481,{"$f":"IF(PLACE_SAMPLE!K17<>\"\",PLACE_SAMPLE!K17,\"\")","v":""},"PLACE_SAMPLE","CALCULATED CORE LOCATION","PLACEMENT DATA FOR LOT","To Longitude",10,null,null,234]
[482,{"$f":"IF(PLACE_SAMPLE!K18<>\"\",PLACE_SAMPLE!K18,\"\")","v":""},"PLACE_SAMPLE","CALCULATED CORE LOCATION","PLACEMENT DATA FOR LOT","To Longitude",11,null,null,243]
[483,{"$f":"IF(PLACE_SAMPLE!K19<>\"\",PLACE_SAMPLE!K19,\"\")","v":""},"PLACE_SAMPLE","CALCULATED CORE LOCATION","PLACEMENT DATA FOR LOT","To Longitude",12,null,null,252]
[484,{"$f":"IF(PLACE_SAMPLE!K20<>\"\",PLACE_SAMPLE!K20,\"\")","v":""},"PLACE_SAMPLE","CALCULATED CORE LOCATION","PLACEMENT DATA FOR LOT","To Longitude",13,null,null,261]
[485,{"$f":"IF(PLACE_SAMPLE!K21<>\"\",PLACE_SAMPLE!K21,\"\")","v":""},"PLACE_SAMPLE","CALCULATED CORE LOCATION","PLACEMENT DATA FOR LOT","To Longitude",14,null,null,270]
[486,{"$f":"IF(PLACE_SAMPLE!K22<>\"\",PLACE_SAMPLE!K22,\"\")","v":""},"PLACE_SAMPLE","CALCULATED CORE LOCATION","PLACEMENT DATA FOR LOT","To Longitude",15,null,null,279]
[487,{"$f":"IF(PLACE_SAMPLE!K23<>\"\",PLACE_SAMPLE!K23,\"\")","v":""},"PLACE_SAMPLE","CALCULATED CORE LOCATION","PLACEMENT DATA FOR LOT","To Longitude",16,null,null,288]
[488,{"$f":"IF(PLACE_SAMPLE!K24<>\"\",PLACE_SAMPLE!K24,\"\")","v":""},"PLACE_SAMPLE","CALCULATED CORE LOCATION","PLACEMENT DATA FOR LOT","To Longitude",17,null,null,297]
[489,{"$f":"IF(PLACE_SAMPLE!K25<>\"\",PLACE_SAMPLE!K25,\"\")","v":""},"PLACE_SAMPLE","CALCULATED CORE LOCATION","PLACEMENT DATA FOR LOT","To Longitude",18,null,null,306]
[490,{"$f":"IF(PLACE_SAMPLE!K26<>\"\",PLACE_SAMPLE!K26,\"\")","v":""},"PLACE_SAMPLE","CALCULATED CORE LOCATION","PLACEMENT DATA FOR LOT","To Longitude",19,null,null,315]
[491,{"$f":"IF(PLACE_SAMPLE!K27<>\"\",PLACE_SAMPLE!K27,\"\")","v":""},"PLACE_SAMPLE","CALCULATED CORE LOCATION","PLACEMENT DATA FOR LOT","To Longitude",20,null,null,324]
[492]
[493,{"$f":"IF(PLACE_SAMPLE!L8<>\"\",PLACE_SAMPLE!L8,\"\")","v":""},"PLACE_SAMPLE","CALCULATED CORE LOCATION","PLACEMENT DATA FOR LOT","Area,  sq. ft",1]
[494,{"$f":"IF(PLACE_SAMPLE!L9<>\"\",PLACE_SAMPLE!L9,\"\")","v":""},"PLACE_SAMPLE","CALCULATED CORE LOCATION","PLACEMENT DATA FOR LOT","Area,  sq. ft",2]
[495,{"$f":"IF(PLACE_SAMPLE!L10<>\"\",PLACE_SAMPLE!L10,\"\")","v":""},"PLACE_SAMPLE","CALCULATED CORE LOCATION","PLACEMENT DATA FOR LOT","Area,  sq. ft",3]
[496,{"$f":"IF(PLACE_SAMPLE!L11<>\"\",PLACE_SAMPLE!L11,\"\")","v":""},"PLACE_SAMPLE","CALCULATED CORE LOCATION","PLACEMENT DATA FOR LOT","Area,  sq. ft",4]
[497,{"$f":"IF(PLACE_SAMPLE!L12<>\"\",PLACE_SAMPLE!L12,\"\")","v":""},"PLACE_SAMPLE","CALCULATED CORE LOCATION","PLACEMENT DATA FOR LOT","Area,  sq. ft",5]
[498,{"$f":"IF(PLACE_SAMPLE!L13<>\"\",PLACE_SAMPLE!L13,\"\")","v":""},"PLACE_SAMPLE","CALCULATED CORE LOCATION","PLACEMENT DATA FOR LOT","Area,  sq. ft",6]
[499,{"$f":"IF(PLACE_SAMPLE!L14<>\"\",PLACE_SAMPLE!L14,\"\")","v":""},"PLACE_SAMPLE","CALCULATED CORE LOCATION","PLACEMENT DATA FOR LOT","Area,  sq. ft",7]
[500,{"$f":"IF(PLACE_SAMPLE!L15<>\"\",PLACE_SAMPLE!L15,\"\")","v":""},"PLACE_SAMPLE","CALCULATED CORE LOCATION","PLACEMENT DATA FOR LOT","Area,  sq. ft",8]
[501,{"$f":"IF(PLACE_SAMPLE!L16<>\"\",PLACE_SAMPLE!L16,\"\")","v":""},"PLACE_SAMPLE","CALCULATED CORE LOCATION","PLACEMENT DATA FOR LOT","Area,  sq. ft",9]
[502,{"$f":"IF(PLACE_SAMPLE!L17<>\"\",PLACE_SAMPLE!L17,\"\")","v":""},"PLACE_SAMPLE","CALCULATED CORE LOCATION","PLACEMENT DATA FOR LOT","Area,  sq. ft",10]
[503,{"$f":"IF(PLACE_SAMPLE!L18<>\"\",PLACE_SAMPLE!L18,\"\")","v":""},"PLACE_SAMPLE","CALCULATED CORE LOCATION","PLACEMENT DATA FOR LOT","Area,  sq. ft",11]
[504,{"$f":"IF(PLACE_SAMPLE!L19<>\"\",PLACE_SAMPLE!L19,\"\")","v":""},"PLACE_SAMPLE","CALCULATED CORE LOCATION","PLACEMENT DATA FOR LOT","Area,  sq. ft",12]
[505,{"$f":"IF(PLACE_SAMPLE!L20<>\"\",PLACE_SAMPLE!L20,\"\")","v":""},"PLACE_SAMPLE","CALCULATED CORE LOCATION","PLACEMENT DATA FOR LOT","Area,  sq. ft",13]
[506,{"$f":"IF(PLACE_SAMPLE!L21<>\"\",PLACE_SAMPLE!L21,\"\")","v":""},"PLACE_SAMPLE","CALCULATED CORE LOCATION","PLACEMENT DATA FOR LOT","Area,  sq. ft",14]
[507,{"$f":"IF(PLACE_SAMPLE!L22<>\"\",PLACE_SAMPLE!L22,\"\")","v":""},"PLACE_SAMPLE","CALCULATED CORE LOCATION","PLACEMENT DATA FOR LOT","Area,  sq. ft",15]
[508,{"$f":"IF(PLACE_SAMPLE!L23<>\"\",PLACE_SAMPLE!L23,\"\")","v":""},"PLACE_SAMPLE","CALCULATED CORE LOCATION","PLACEMENT DATA FOR LOT","Area,  sq. ft",16]
[509,{"$f":"IF(PLACE_SAMPLE!L24<>\"\",PLACE_SAMPLE!L24,\"\")","v":""},"PLACE_SAMPLE","CALCULATED CORE LOCATION","PLACEMENT DATA FOR LOT","Area,  sq. ft",17]
[510,{"$f":"IF(PLACE_SAMPLE!L25<>\"\",PLACE_SAMPLE!L25,\"\")","v":""},"PLACE_SAMPLE","CALCULATED CORE LOCATION","PLACEMENT DATA FOR LOT","Area,  sq. ft",18]
[511,{"$f":"IF(PLACE_SAMPLE!L26<>\"\",PLACE_SAMPLE!L26,\"\")","v":""},"PLACE_SAMPLE","CALCULATED CORE LOCATION","PLACEMENT DATA FOR LOT","Area,  sq. ft",19]
[512,{"$f":"IF(PLACE_SAMPLE!L27<>\"\",PLACE_SAMPLE!L27,\"\")","v":""},"PLACE_SAMPLE","CALCULATED CORE LOCATION","PLACEMENT DATA FOR LOT","Area,  sq. ft",20]
[513]
[514,{"$f":"IF(PLACE_SAMPLE!M8<>\"\",PLACE_SAMPLE!M8,\"\")","v":""},"PLACE_SAMPLE","CALCULATED CORE LOCATION","PLACEMENT DATA FOR LOT","Length,  ft",1]
[515,{"$f":"IF(PLACE_SAMPLE!M9<>\"\",PLACE_SAMPLE!M9,\"\")","v":""},"PLACE_SAMPLE","CALCULATED CORE LOCATION","PLACEMENT DATA FOR LOT","Length,  ft",2]
[516,{"$f":"IF(PLACE_SAMPLE!M10<>\"\",PLACE_SAMPLE!M10,\"\")","v":""},"PLACE_SAMPLE","CALCULATED CORE LOCATION","PLACEMENT DATA FOR LOT","Length,  ft",3]
[517,{"$f":"IF(PLACE_SAMPLE!M11<>\"\",PLACE_SAMPLE!M11,\"\")","v":""},"PLACE_SAMPLE","CALCULATED CORE LOCATION","PLACEMENT DATA FOR LOT","Length,  ft",4]
[518,{"$f":"IF(PLACE_SAMPLE!M12<>\"\",PLACE_SAMPLE!M12,\"\")","v":""},"PLACE_SAMPLE","CALCULATED CORE LOCATION","PLACEMENT DATA FOR LOT","Length,  ft",5]
[519,{"$f":"IF(PLACE_SAMPLE!M13<>\"\",PLACE_SAMPLE!M13,\"\")","v":""},"PLACE_SAMPLE","CALCULATED CORE LOCATION","PLACEMENT DATA FOR LOT","Length,  ft",6]
[520,{"$f":"IF(PLACE_SAMPLE!M14<>\"\",PLACE_SAMPLE!M14,\"\")","v":""},"PLACE_SAMPLE","CALCULATED CORE LOCATION","PLACEMENT DATA FOR LOT","Length,  ft",7]
[521,{"$f":"IF(PLACE_SAMPLE!M15<>\"\",PLACE_SAMPLE!M15,\"\")","v":""},"PLACE_SAMPLE","CALCULATED CORE LOCATION","PLACEMENT DATA FOR LOT","Length,  ft",8]
[522,{"$f":"IF(PLACE_SAMPLE!M16<>\"\",PLACE_SAMPLE!M16,\"\")","v":""},"PLACE_SAMPLE","CALCULATED CORE LOCATION","PLACEMENT DATA FOR LOT","Length,  ft",9]
[523,{"$f":"IF(PLACE_SAMPLE!M17<>\"\",PLACE_SAMPLE!M17,\"\")","v":""},"PLACE_SAMPLE","CALCULATED CORE LOCATION","PLACEMENT DATA FOR LOT","Length,  ft",10]
[524,{"$f":"IF(PLACE_SAMPLE!M18<>\"\",PLACE_SAMPLE!M18,\"\")","v":""},"PLACE_SAMPLE","CALCULATED CORE LOCATION","PLACEMENT DATA FOR LOT","Length,  ft",11]
[525,{"$f":"IF(PLACE_SAMPLE!M19<>\"\",PLACE_SAMPLE!M19,\"\")","v":""},"PLACE_SAMPLE","CALCULATED CORE LOCATION","PLACEMENT DATA FOR LOT","Length,  ft",12]
[526,{"$f":"IF(PLACE_SAMPLE!M20<>\"\",PLACE_SAMPLE!M20,\"\")","v":""},"PLACE_SAMPLE","CALCULATED CORE LOCATION","PLACEMENT DATA FOR LOT","Length,  ft",13]
[527,{"$f":"IF(PLACE_SAMPLE!M21<>\"\",PLACE_SAMPLE!M21,\"\")","v":""},"PLACE_SAMPLE","CALCULATED CORE LOCATION","PLACEMENT DATA FOR LOT","Length,  ft",14]
[528,{"$f":"IF(PLACE_SAMPLE!M22<>\"\",PLACE_SAMPLE!M22,\"\")","v":""},"PLACE_SAMPLE","CALCULATED CORE LOCATION","PLACEMENT DATA FOR LOT","Length,  ft",15]
[529,{"$f":"IF(PLACE_SAMPLE!M23<>\"\",PLACE_SAMPLE!M23,\"\")","v":""},"PLACE_SAMPLE","CALCULATED CORE LOCATION","PLACEMENT DATA FOR LOT","Length,  ft",16]
[530,{"$f":"IF(PLACE_SAMPLE!M24<>\"\",PLACE_SAMPLE!M24,\"\")","v":""},"PLACE_SAMPLE","CALCULATED CORE LOCATION","PLACEMENT DATA FOR LOT","Length,  ft",17]
[531,{"$f":"IF(PLACE_SAMPLE!M25<>\"\",PLACE_SAMPLE!M25,\"\")","v":""},"PLACE_SAMPLE","CALCULATED CORE LOCATION","PLACEMENT DATA FOR LOT","Length,  ft",18]
[532,{"$f":"IF(PLACE_SAMPLE!M26<>\"\",PLACE_SAMPLE!M26,\"\")","v":""},"PLACE_SAMPLE","CALCULATED CORE LOCATION","PLACEMENT DATA FOR LOT","Length,  ft",19]
[533,{"$f":"IF(PLACE_SAMPLE!M27<>\"\",PLACE_SAMPLE!M27,\"\")","v":""},"PLACE_SAMPLE","CALCULATED CORE LOCATION","PLACEMENT DATA FOR LOT","Length,  ft",20]
[534]
[535,{"$f":"IF(PLACE_SAMPLE!N8<>\"\",PLACE_SAMPLE!N8,\"\")","v":""},"PLACE_SAMPLE","CALCULATED CORE LOCATION","PLACEMENT DATA FOR LOT","Random core STA.",1,"Sublot 1"]
[536,{"$f":"IF(PLACE_SAMPLE!N9<>\"\",PLACE_SAMPLE!N9,\"\")","v":""},"PLACE_SAMPLE","CALCULATED CORE LOCATION","PLACEMENT DATA FOR LOT","Random core STA.",2,"Sublot 1"]
[537,{"$f":"IF(PLACE_SAMPLE!N10<>\"\",PLACE_SAMPLE!N10,\"\")","v":""},"PLACE_SAMPLE","CALCULATED CORE LOCATION","PLACEMENT DATA FOR LOT","Random core STA.",3,"Sublot 1"]
[538,{"$f":"IF(PLACE_SAMPLE!N11<>\"\",PLACE_SAMPLE!N11,\"\")","v":""},"PLACE_SAMPLE","CALCULATED CORE LOCATION","PLACEMENT DATA FOR LOT","Random core STA.",4,"Sublot 1"]
[539,{"$f":"IF(PLACE_SAMPLE!N12<>\"\",PLACE_SAMPLE!N12,\"\")","v":""},"PLACE_SAMPLE","CALCULATED CORE LOCATION","PLACEMENT DATA FOR LOT","Random core STA.",5,"Sublot 1"]
[540,{"$f":"IF(PLACE_SAMPLE!N13<>\"\",PLACE_SAMPLE!N13,\"\")","v":""},"PLACE_SAMPLE","CALCULATED CORE LOCATION","PLACEMENT DATA FOR LOT","Random core STA.",6,"Sublot 1"]
[541,{"$f":"IF(PLACE_SAMPLE!N14<>\"\",PLACE_SAMPLE!N14,\"\")","v":""},"PLACE_SAMPLE","CALCULATED CORE LOCATION","PLACEMENT DATA FOR LOT","Random core STA.",7,"Sublot 1"]
[542,{"$f":"IF(PLACE_SAMPLE!N15<>\"\",PLACE_SAMPLE!N15,\"\")","v":""},"PLACE_SAMPLE","CALCULATED CORE LOCATION","PLACEMENT DATA FOR LOT","Random core STA.",8,"Sublot 1"]
[543,{"$f":"IF(PLACE_SAMPLE!N16<>\"\",PLACE_SAMPLE!N16,\"\")","v":""},"PLACE_SAMPLE","CALCULATED CORE LOCATION","PLACEMENT DATA FOR LOT","Random core STA.",9,"Sublot 1"]
[544,{"$f":"IF(PLACE_SAMPLE!N17<>\"\",PLACE_SAMPLE!N17,\"\")","v":""},"PLACE_SAMPLE","CALCULATED CORE LOCATION","PLACEMENT DATA FOR LOT","Random core STA.",10,"Sublot 1"]
[545,{"$f":"IF(PLACE_SAMPLE!N18<>\"\",PLACE_SAMPLE!N18,\"\")","v":""},"PLACE_SAMPLE","CALCULATED CORE LOCATION","PLACEMENT DATA FOR LOT","Random core STA.",11,"Sublot 1"]
[546,{"$f":"IF(PLACE_SAMPLE!N19<>\"\",PLACE_SAMPLE!N19,\"\")","v":""},"PLACE_SAMPLE","CALCULATED CORE LOCATION","PLACEMENT DATA FOR LOT","Random core STA.",12,"Sublot 1"]
[547,{"$f":"IF(PLACE_SAMPLE!N20<>\"\",PLACE_SAMPLE!N20,\"\")","v":""},"PLACE_SAMPLE","CALCULATED CORE LOCATION","PLACEMENT DATA FOR LOT","Random core STA.",13,"Sublot 1"]
[548,{"$f":"IF(PLACE_SAMPLE!N21<>\"\",PLACE_SAMPLE!N21,\"\")","v":""},"PLACE_SAMPLE","CALCULATED CORE LOCATION","PLACEMENT DATA FOR LOT","Random core STA.",14,"Sublot 1"]
[549,{"$f":"IF(PLACE_SAMPLE!N22<>\"\",PLACE_SAMPLE!N22,\"\")","v":""},"PLACE_SAMPLE","CALCULATED CORE LOCATION","PLACEMENT DATA FOR LOT","Random core STA.",15,"Sublot 1"]
[550,{"$f":"IF(PLACE_SAMPLE!N23<>\"\",PLACE_SAMPLE!N23,\"\")","v":""},"PLACE_SAMPLE","CALCULATED CORE LOCATION","PLACEMENT DATA FOR LOT","Random core STA.",16,"Sublot 1"]
[551,{"$f":"IF(PLACE_SAMPLE!N24<>\"\",PLACE_SAMPLE!N24,\"\")","v":""},"PLACE_SAMPLE","CALCULATED CORE LOCATION","PLACEMENT DATA FOR LOT","Random core STA.",17,"Sublot 1"]
[552,{"$f":"IF(PLACE_SAMPLE!N25<>\"\",PLACE_SAMPLE!N25,\"\")","v":""},"PLACE_SAMPLE","CALCULATED CORE LOCATION","PLACEMENT DATA FOR LOT","Random core STA.",18,"Sublot 1"]
[553,{"$f":"IF(PLACE_SAMPLE!N26<>\"\",PLACE_SAMPLE!N26,\"\")","v":""},"PLACE_SAMPLE","CALCULATED CORE LOCATION","PLACEMENT DATA FOR LOT","Random core STA.",19,"Sublot 1"]
[554,{"$f":"IF(PLACE_SAMPLE!N27<>\"\",PLACE_SAMPLE!N27,\"\")","v":""},"PLACE_SAMPLE","CALCULATED CORE LOCATION","PLACEMENT DATA FOR LOT","Random core STA.",20,"Sublot 1"]
[555]
[556,{"$f":"IF(PLACE_SAMPLE!O8<>\"\",PLACE_SAMPLE!O8,\"\")","v":""},"PLACE_SAMPLE","CALCULATED CORE LOCATION","PLACEMENT DATA FOR LOT","Random core offset",1,"Sublot 1"]
[557,{"$f":"IF(PLACE_SAMPLE!O9<>\"\",PLACE_SAMPLE!O9,\"\")","v":""},"PLACE_SAMPLE","CALCULATED CORE LOCATION","PLACEMENT DATA FOR LOT","Random core offset",2,"Sublot 1"]
[558,{"$f":"IF(PLACE_SAMPLE!O10<>\"\",PLACE_SAMPLE!O10,\"\")","v":""},"PLACE_SAMPLE","CALCULATED CORE LOCATION","PLACEMENT DATA FOR LOT","Random core offset",3,"Sublot 1"]
[559,{"$f":"IF(PLACE_SAMPLE!O11<>\"\",PLACE_SAMPLE!O11,\"\")","v":""},"PLACE_SAMPLE","CALCULATED CORE LOCATION","PLACEMENT DATA FOR LOT","Random core offset",4,"Sublot 1"]
[560,{"$f":"IF(PLACE_SAMPLE!O12<>\"\",PLACE_SAMPLE!O12,\"\")","v":""},"PLACE_SAMPLE","CALCULATED CORE LOCATION","PLACEMENT DATA FOR LOT","Random core offset",5,"Sublot 1"]
[561,{"$f":"IF(PLACE_SAMPLE!O13<>\"\",PLACE_SAMPLE!O13,\"\")","v":""},"PLACE_SAMPLE","CALCULATED CORE LOCATION","PLACEMENT DATA FOR LOT","Random core offset",6,"Sublot 1"]
[562,{"$f":"IF(PLACE_SAMPLE!O14<>\"\",PLACE_SAMPLE!O14,\"\")","v":""},"PLACE_SAMPLE","CALCULATED CORE LOCATION","PLACEMENT DATA FOR LOT","Random core offset",7,"Sublot 1"]
[563,{"$f":"IF(PLACE_SAMPLE!O15<>\"\",PLACE_SAMPLE!O15,\"\")","v":""},"PLACE_SAMPLE","CALCULATED CORE LOCATION","PLACEMENT DATA FOR LOT","Random core offset",8,"Sublot 1"]
[564,{"$f":"IF(PLACE_SAMPLE!O16<>\"\",PLACE_SAMPLE!O16,\"\")","v":""},"PLACE_SAMPLE","CALCULATED CORE LOCATION","PLACEMENT DATA FOR LOT","Random core offset",9,"Sublot 1"]
[565,{"$f":"IF(PLACE_SAMPLE!O17<>\"\",PLACE_SAMPLE!O17,\"\")","v":""},"PLACE_SAMPLE","CALCULATED CORE LOCATION","PLACEMENT DATA FOR LOT","Random core offset",10,"Sublot 1"]
[566,{"$f":"IF(PLACE_SAMPLE!O18<>\"\",PLACE_SAMPLE!O18,\"\")","v":""},"PLACE_SAMPLE","CALCULATED CORE LOCATION","PLACEMENT DATA FOR LOT","Random core offset",11,"Sublot 1"]
[567,{"$f":"IF(PLACE_SAMPLE!O19<>\"\",PLACE_SAMPLE!O19,\"\")","v":""},"PLACE_SAMPLE","CALCULATED CORE LOCATION","PLACEMENT DATA FOR LOT","Random core offset",12,"Sublot 1"]
[568,{"$f":"IF(PLACE_SAMPLE!O20<>\"\",PLACE_SAMPLE!O20,\"\")","v":""},"PLACE_SAMPLE","CALCULATED CORE LOCATION","PLACEMENT DATA FOR LOT","Random core offset",13,"Sublot 1"]
[569,{"$f":"IF(PLACE_SAMPLE!O21<>\"\",PLACE_SAMPLE!O21,\"\")","v":""},"PLACE_SAMPLE","CALCULATED CORE LOCATION","PLACEMENT DATA FOR LOT","Random core offset",14,"Sublot 1"]
[570,{"$f":"IF(PLACE_SAMPLE!O22<>\"\",PLACE_SAMPLE!O22,\"\")","v":""},"PLACE_SAMPLE","CALCULATED CORE LOCATION","PLACEMENT DATA FOR LOT","Random core offset",15,"Sublot 1"]
[571,{"$f":"IF(PLACE_SAMPLE!O23<>\"\",PLACE_SAMPLE!O23,\"\")","v":""},"PLACE_SAMPLE","CALCULATED CORE LOCATION","PLACEMENT DATA FOR LOT","Random core offset",16,"Sublot 1"]
[572,{"$f":"IF(PLACE_SAMPLE!O24<>\"\",PLACE_SAMPLE!O24,\"\")","v":""},"PLACE_SAMPLE","CALCULATED CORE LOCATION","PLACEMENT DATA FOR LOT","Random core offset",17,"Sublot 1"]
[573,{"$f":"IF(PLACE_SAMPLE!O25<>\"\",PLACE_SAMPLE!O25,\"\")","v":""},"PLACE_SAMPLE","CALCULATED CORE LOCATION","PLACEMENT DATA FOR LOT","Random core offset",18,"Sublot 1"]
[574,{"$f":"IF(PLACE_SAMPLE!O26<>\"\",PLACE_SAMPLE!O26,\"\")","v":""},"PLACE_SAMPLE","CALCULATED CORE LOCATION","PLACEMENT DATA FOR LOT","Random core offset",19,"Sublot 1"]
[575,{"$f":"IF(PLACE_SAMPLE!O27<>\"\",PLACE_SAMPLE!O27,\"\")","v":""},"PLACE_SAMPLE","CALCULATED CORE LOCATION","PLACEMENT DATA FOR LOT","Random core offset",20,"Sublot 1"]
[576]
[577,{"$f":"IF(PLACE_SAMPLE!P8<>\"\",PLACE_SAMPLE!P8,\"\")","v":""},"PLACE_SAMPLE","CALCULATED CORE LOCATION","PLACEMENT DATA FOR LOT","Random core STA.",1,"Sublot 2"]
[578,{"$f":"IF(PLACE_SAMPLE!P9<>\"\",PLACE_SAMPLE!P9,\"\")","v":""},"PLACE_SAMPLE","CALCULATED CORE LOCATION","PLACEMENT DATA FOR LOT","Random core STA.",2,"Sublot 2"]
[579,{"$f":"IF(PLACE_SAMPLE!P10<>\"\",PLACE_SAMPLE!P10,\"\")","v":""},"PLACE_SAMPLE","CALCULATED CORE LOCATION","PLACEMENT DATA FOR LOT","Random core STA.",3,"Sublot 2"]
[580,{"$f":"IF(PLACE_SAMPLE!P11<>\"\",PLACE_SAMPLE!P11,\"\")","v":""},"PLACE_SAMPLE","CALCULATED CORE LOCATION","PLACEMENT DATA FOR LOT","Random core STA.",4,"Sublot 2"]
[581,{"$f":"IF(PLACE_SAMPLE!P12<>\"\",PLACE_SAMPLE!P12,\"\")","v":""},"PLACE_SAMPLE","CALCULATED CORE LOCATION","PLACEMENT DATA FOR LOT","Random core STA.",5,"Sublot 2"]
[582,{"$f":"IF(PLACE_SAMPLE!P13<>\"\",PLACE_SAMPLE!P13,\"\")","v":""},"PLACE_SAMPLE","CALCULATED CORE LOCATION","PLACEMENT DATA FOR LOT","Random core STA.",6,"Sublot 2"]
[583,{"$f":"IF(PLACE_SAMPLE!P14<>\"\",PLACE_SAMPLE!P14,\"\")","v":""},"PLACE_SAMPLE","CALCULATED CORE LOCATION","PLACEMENT DATA FOR LOT","Random core STA.",7,"Sublot 2"]
[584,{"$f":"IF(PLACE_SAMPLE!P15<>\"\",PLACE_SAMPLE!P15,\"\")","v":""},"PLACE_SAMPLE","CALCULATED CORE LOCATION","PLACEMENT DATA FOR LOT","Random core STA.",8,"Sublot 2"]
[585,{"$f":"IF(PLACE_SAMPLE!P16<>\"\",PLACE_SAMPLE!P16,\"\")","v":""},"PLACE_SAMPLE","CALCULATED CORE LOCATION","PLACEMENT DATA FOR LOT","Random core STA.",9,"Sublot 2"]
[586,{"$f":"IF(PLACE_SAMPLE!P17<>\"\",PLACE_SAMPLE!P17,\"\")","v":""},"PLACE_SAMPLE","CALCULATED CORE LOCATION","PLACEMENT DATA FOR LOT","Random core STA.",10,"Sublot 2"]
[587,{"$f":"IF(PLACE_SAMPLE!P18<>\"\",PLACE_SAMPLE!P18,\"\")","v":""},"PLACE_SAMPLE","CALCULATED CORE LOCATION","PLACEMENT DATA FOR LOT","Random core STA.",11,"Sublot 2"]
[588,{"$f":"IF(PLACE_SAMPLE!P19<>\"\",PLACE_SAMPLE!P19,\"\")","v":""},"PLACE_SAMPLE","CALCULATED CORE LOCATION","PLACEMENT DATA FOR LOT","Random core STA.",12,"Sublot 2"]
[589,{"$f":"IF(PLACE_SAMPLE!P20<>\"\",PLACE_SAMPLE!P20,\"\")","v":""},"PLACE_SAMPLE","CALCULATED CORE LOCATION","PLACEMENT DATA FOR LOT","Random core STA.",13,"Sublot 2"]
[590,{"$f":"IF(PLACE_SAMPLE!P21<>\"\",PLACE_SAMPLE!P21,\"\")","v":""},"PLACE_SAMPLE","CALCULATED CORE LOCATION","PLACEMENT DATA FOR LOT","Random core STA.",14,"Sublot 2"]
[591,{"$f":"IF(PLACE_SAMPLE!P22<>\"\",PLACE_SAMPLE!P22,\"\")","v":""},"PLACE_SAMPLE","CALCULATED CORE LOCATION","PLACEMENT DATA FOR LOT","Random core STA.",15,"Sublot 2"]
[592,{"$f":"IF(PLACE_SAMPLE!P23<>\"\",PLACE_SAMPLE!P23,\"\")","v":""},"PLACE_SAMPLE","CALCULATED CORE LOCATION","PLACEMENT DATA FOR LOT","Random core STA.",16,"Sublot 2"]
[593,{"$f":"IF(PLACE_SAMPLE!P24<>\"\",PLACE_SAMPLE!P24,\"\")","v":""},"PLACE_SAMPLE","CALCULATED CORE LOCATION","PLACEMENT DATA FOR LOT","Random core STA.",17,"Sublot 2"]
[594,{"$f":"IF(PLACE_SAMPLE!P25<>\"\",PLACE_SAMPLE!P25,\"\")","v":""},"PLACE_SAMPLE","CALCULATED CORE LOCATION","PLACEMENT DATA FOR LOT","Random core STA.",18,"Sublot 2"]
[595,{"$f":"IF(PLACE_SAMPLE!P26<>\"\",PLACE_SAMPLE!P26,\"\")","v":""},"PLACE_SAMPLE","CALCULATED CORE LOCATION","PLACEMENT DATA FOR LOT","Random core STA.",19,"Sublot 2"]
[596,{"$f":"IF(PLACE_SAMPLE!P27<>\"\",PLACE_SAMPLE!P27,\"\")","v":""},"PLACE_SAMPLE","CALCULATED CORE LOCATION","PLACEMENT DATA FOR LOT","Random core STA.",20,"Sublot 2"]
[597]
[598,{"$f":"IF(PLACE_SAMPLE!Q8<>\"\",PLACE_SAMPLE!Q8,\"\")","v":""},"PLACE_SAMPLE","CALCULATED CORE LOCATION","PLACEMENT DATA FOR LOT","Random core offset",1,"Sublot 2"]
[599,{"$f":"IF(PLACE_SAMPLE!Q9<>\"\",PLACE_SAMPLE!Q9,\"\")","v":""},"PLACE_SAMPLE","CALCULATED CORE LOCATION","PLACEMENT DATA FOR LOT","Random core offset",2,"Sublot 2"]
[600,{"$f":"IF(PLACE_SAMPLE!Q10<>\"\",PLACE_SAMPLE!Q10,\"\")","v":""},"PLACE_SAMPLE","CALCULATED CORE LOCATION","PLACEMENT DATA FOR LOT","Random core offset",3,"Sublot 2"]
[601,{"$f":"IF(PLACE_SAMPLE!Q11<>\"\",PLACE_SAMPLE!Q11,\"\")","v":""},"PLACE_SAMPLE","CALCULATED CORE LOCATION","PLACEMENT DATA FOR LOT","Random core offset",4,"Sublot 2"]
[602,{"$f":"IF(PLACE_SAMPLE!Q12<>\"\",PLACE_SAMPLE!Q12,\"\")","v":""},"PLACE_SAMPLE","CALCULATED CORE LOCATION","PLACEMENT DATA FOR LOT","Random core offset",5,"Sublot 2"]
[603,{"$f":"IF(PLACE_SAMPLE!Q13<>\"\",PLACE_SAMPLE!Q13,\"\")","v":""},"PLACE_SAMPLE","CALCULATED CORE LOCATION","PLACEMENT DATA FOR LOT","Random core offset",6,"Sublot 2"]
[604,{"$f":"IF(PLACE_SAMPLE!Q14<>\"\",PLACE_SAMPLE!Q14,\"\")","v":""},"PLACE_SAMPLE","CALCULATED CORE LOCATION","PLACEMENT DATA FOR LOT","Random core offset",7,"Sublot 2"]
[605,{"$f":"IF(PLACE_SAMPLE!Q15<>\"\",PLACE_SAMPLE!Q15,\"\")","v":""},"PLACE_SAMPLE","CALCULATED CORE LOCATION","PLACEMENT DATA FOR LOT","Random core offset",8,"Sublot 2"]
[606,{"$f":"IF(PLACE_SAMPLE!Q16<>\"\",PLACE_SAMPLE!Q16,\"\")","v":""},"PLACE_SAMPLE","CALCULATED CORE LOCATION","PLACEMENT DATA FOR LOT","Random core offset",9,"Sublot 2"]
[607,{"$f":"IF(PLACE_SAMPLE!Q17<>\"\",PLACE_SAMPLE!Q17,\"\")","v":""},"PLACE_SAMPLE","CALCULATED CORE LOCATION","PLACEMENT DATA FOR LOT","Random core offset",10,"Sublot 2"]
[608,{"$f":"IF(PLACE_SAMPLE!Q18<>\"\",PLACE_SAMPLE!Q18,\"\")","v":""},"PLACE_SAMPLE","CALCULATED CORE LOCATION","PLACEMENT DATA FOR LOT","Random core offset",11,"Sublot 2"]
[609,{"$f":"IF(PLACE_SAMPLE!Q19<>\"\",PLACE_SAMPLE!Q19,\"\")","v":""},"PLACE_SAMPLE","CALCULATED CORE LOCATION","PLACEMENT DATA FOR LOT","Random core offset",12,"Sublot 2"]
[610,{"$f":"IF(PLACE_SAMPLE!Q20<>\"\",PLACE_SAMPLE!Q20,\"\")","v":""},"PLACE_SAMPLE","CALCULATED CORE LOCATION","PLACEMENT DATA FOR LOT","Random core offset",13,"Sublot 2"]
[611,{"$f":"IF(PLACE_SAMPLE!Q21<>\"\",PLACE_SAMPLE!Q21,\"\")","v":""},"PLACE_SAMPLE","CALCULATED CORE LOCATION","PLACEMENT DATA FOR LOT","Random core offset",14,"Sublot 2"]
[612,{"$f":"IF(PLACE_SAMPLE!Q22<>\"\",PLACE_SAMPLE!Q22,\"\")","v":""},"PLACE_SAMPLE","CALCULATED CORE LOCATION","PLACEMENT DATA FOR LOT","Random core offset",15,"Sublot 2"]
[613,{"$f":"IF(PLACE_SAMPLE!Q23<>\"\",PLACE_SAMPLE!Q23,\"\")","v":""},"PLACE_SAMPLE","CALCULATED CORE LOCATION","PLACEMENT DATA FOR LOT","Random core offset",16,"Sublot 2"]
[614,{"$f":"IF(PLACE_SAMPLE!Q24<>\"\",PLACE_SAMPLE!Q24,\"\")","v":""},"PLACE_SAMPLE","CALCULATED CORE LOCATION","PLACEMENT DATA FOR LOT","Random core offset",17,"Sublot 2"]
[615,{"$f":"IF(PLACE_SAMPLE!Q25<>\"\",PLACE_SAMPLE!Q25,\"\")","v":""},"PLACE_SAMPLE","CALCULATED CORE LOCATION","PLACEMENT DATA FOR LOT","Random core offset",18,"Sublot 2"]
[616,{"$f":"IF(PLACE_SAMPLE!Q26<>\"\",PLACE_SAMPLE!Q26,\"\")","v":""},"PLACE_SAMPLE","CALCULATED CORE LOCATION","PLACEMENT DATA FOR LOT","Random core offset",19,"Sublot 2"]
[617,{"$f":"IF(PLACE_SAMPLE!Q27<>\"\",PLACE_SAMPLE!Q27,\"\")","v":""},"PLACE_SAMPLE","CALCULATED CORE LOCATION","PLACEMENT DATA FOR LOT","Random core offset",20,"Sublot 2"]
[618]
[619,{"$f":"IF(PLACE_SAMPLE!R8<>\"\",PLACE_SAMPLE!R8,\"\")","v":""},"PLACE_SAMPLE","CALCULATED CORE LOCATION","PLACEMENT DATA FOR LOT","Random core STA.",1,"Sublot 3"]
[620,{"$f":"IF(PLACE_SAMPLE!R9<>\"\",PLACE_SAMPLE!R9,\"\")","v":""},"PLACE_SAMPLE","CALCULATED CORE LOCATION","PLACEMENT DATA FOR LOT","Random core STA.",2,"Sublot 3"]
[621,{"$f":"IF(PLACE_SAMPLE!R10<>\"\",PLACE_SAMPLE!R10,\"\")","v":""},"PLACE_SAMPLE","CALCULATED CORE LOCATION","PLACEMENT DATA FOR LOT","Random core STA.",3,"Sublot 3"]
[622,{"$f":"IF(PLACE_SAMPLE!R11<>\"\",PLACE_SAMPLE!R11,\"\")","v":""},"PLACE_SAMPLE","CALCULATED CORE LOCATION","PLACEMENT DATA FOR LOT","Random core STA.",4,"Sublot 3"]
[623,{"$f":"IF(PLACE_SAMPLE!R12<>\"\",PLACE_SAMPLE!R12,\"\")","v":""},"PLACE_SAMPLE","CALCULATED CORE LOCATION","PLACEMENT DATA FOR LOT","Random core STA.",5,"Sublot 3"]
[624,{"$f":"IF(PLACE_SAMPLE!R13<>\"\",PLACE_SAMPLE!R13,\"\")","v":""},"PLACE_SAMPLE","CALCULATED CORE LOCATION","PLACEMENT DATA FOR LOT","Random core STA.",6,"Sublot 3"]
[625,{"$f":"IF(PLACE_SAMPLE!R14<>\"\",PLACE_SAMPLE!R14,\"\")","v":""},"PLACE_SAMPLE","CALCULATED CORE LOCATION","PLACEMENT DATA FOR LOT","Random core STA.",7,"Sublot 3"]
[626,{"$f":"IF(PLACE_SAMPLE!R15<>\"\",PLACE_SAMPLE!R15,\"\")","v":""},"PLACE_SAMPLE","CALCULATED CORE LOCATION","PLACEMENT DATA FOR LOT","Random core STA.",8,"Sublot 3"]
[627,{"$f":"IF(PLACE_SAMPLE!R16<>\"\",PLACE_SAMPLE!R16,\"\")","v":""},"PLACE_SAMPLE","CALCULATED CORE LOCATION","PLACEMENT DATA FOR LOT","Random core STA.",9,"Sublot 3"]
[628,{"$f":"IF(PLACE_SAMPLE!R17<>\"\",PLACE_SAMPLE!R17,\"\")","v":""},"PLACE_SAMPLE","CALCULATED CORE LOCATION","PLACEMENT DATA FOR LOT","Random core STA.",10,"Sublot 3"]
[629,{"$f":"IF(PLACE_SAMPLE!R18<>\"\",PLACE_SAMPLE!R18,\"\")","v":""},"PLACE_SAMPLE","CALCULATED CORE LOCATION","PLACEMENT DATA FOR LOT","Random core STA.",11,"Sublot 3"]
[630,{"$f":"IF(PLACE_SAMPLE!R19<>\"\",PLACE_SAMPLE!R19,\"\")","v":""},"PLACE_SAMPLE","CALCULATED CORE LOCATION","PLACEMENT DATA FOR LOT","Random core STA.",12,"Sublot 3"]
[631,{"$f":"IF(PLACE_SAMPLE!R20<>\"\",PLACE_SAMPLE!R20,\"\")","v":""},"PLACE_SAMPLE","CALCULATED CORE LOCATION","PLACEMENT DATA FOR LOT","Random core STA.",13,"Sublot 3"]
[632,{"$f":"IF(PLACE_SAMPLE!R21<>\"\",PLACE_SAMPLE!R21,\"\")","v":""},"PLACE_SAMPLE","CALCULATED CORE LOCATION","PLACEMENT DATA FOR LOT","Random core STA.",14,"Sublot 3"]
[633,{"$f":"IF(PLACE_SAMPLE!R22<>\"\",PLACE_SAMPLE!R22,\"\")","v":""},"PLACE_SAMPLE","CALCULATED CORE LOCATION","PLACEMENT DATA FOR LOT","Random core STA.",15,"Sublot 3"]
[634,{"$f":"IF(PLACE_SAMPLE!R23<>\"\",PLACE_SAMPLE!R23,\"\")","v":""},"PLACE_SAMPLE","CALCULATED CORE LOCATION","PLACEMENT DATA FOR LOT","Random core STA.",16,"Sublot 3"]
[635,{"$f":"IF(PLACE_SAMPLE!R24<>\"\",PLACE_SAMPLE!R24,\"\")","v":""},"PLACE_SAMPLE","CALCULATED CORE LOCATION","PLACEMENT DATA FOR LOT","Random core STA.",17,"Sublot 3"]
[636,{"$f":"IF(PLACE_SAMPLE!R25<>\"\",PLACE_SAMPLE!R25,\"\")","v":""},"PLACE_SAMPLE","CALCULATED CORE LOCATION","PLACEMENT DATA FOR LOT","Random core STA.",18,"Sublot 3"]
[637,{"$f":"IF(PLACE_SAMPLE!R26<>\"\",PLACE_SAMPLE!R26,\"\")","v":""},"PLACE_SAMPLE","CALCULATED CORE LOCATION","PLACEMENT DATA FOR LOT","Random core STA.",19,"Sublot 3"]
[638,{"$f":"IF(PLACE_SAMPLE!R27<>\"\",PLACE_SAMPLE!R27,\"\")","v":""},"PLACE_SAMPLE","CALCULATED CORE LOCATION","PLACEMENT DATA FOR LOT","Random core STA.",20,"Sublot 3"]
[639]
[640,{"$f":"IF(PLACE_SAMPLE!S8<>\"\",PLACE_SAMPLE!S8,\"\")","v":""},"PLACE_SAMPLE","CALCULATED CORE LOCATION","PLACEMENT DATA FOR LOT","Random core offset",1,"Sublot 3"]
[641,{"$f":"IF(PLACE_SAMPLE!S9<>\"\",PLACE_SAMPLE!S9,\"\")","v":""},"PLACE_SAMPLE","CALCULATED CORE LOCATION","PLACEMENT DATA FOR LOT","Random core offset",2,"Sublot 3"]
[642,{"$f":"IF(PLACE_SAMPLE!S10<>\"\",PLACE_SAMPLE!S10,\"\")","v":""},"PLACE_SAMPLE","CALCULATED CORE LOCATION","PLACEMENT DATA FOR LOT","Random core offset",3,"Sublot 3"]
[643,{"$f":"IF(PLACE_SAMPLE!S11<>\"\",PLACE_SAMPLE!S11,\"\")","v":""},"PLACE_SAMPLE","CALCULATED CORE LOCATION","PLACEMENT DATA FOR LOT","Random core offset",4,"Sublot 3"]
[644,{"$f":"IF(PLACE_SAMPLE!S12<>\"\",PLACE_SAMPLE!S12,\"\")","v":""},"PLACE_SAMPLE","CALCULATED CORE LOCATION","PLACEMENT DATA FOR LOT","Random core offset",5,"Sublot 3"]
[645,{"$f":"IF(PLACE_SAMPLE!S13<>\"\",PLACE_SAMPLE!S13,\"\")","v":""},"PLACE_SAMPLE","CALCULATED CORE LOCATION","PLACEMENT DATA FOR LOT","Random core offset",6,"Sublot 3"]
[646,{"$f":"IF(PLACE_SAMPLE!S14<>\"\",PLACE_SAMPLE!S14,\"\")","v":""},"PLACE_SAMPLE","CALCULATED CORE LOCATION","PLACEMENT DATA FOR LOT","Random core offset",7,"Sublot 3"]
[647,{"$f":"IF(PLACE_SAMPLE!S15<>\"\",PLACE_SAMPLE!S15,\"\")","v":""},"PLACE_SAMPLE","CALCULATED CORE LOCATION","PLACEMENT DATA FOR LOT","Random core offset",8,"Sublot 3"]
[648,{"$f":"IF(PLACE_SAMPLE!S16<>\"\",PLACE_SAMPLE!S16,\"\")","v":""},"PLACE_SAMPLE","CALCULATED CORE LOCATION","PLACEMENT DATA FOR LOT","Random core offset",9,"Sublot 3"]
[649,{"$f":"IF(PLACE_SAMPLE!S17<>\"\",PLACE_SAMPLE!S17,\"\")","v":""},"PLACE_SAMPLE","CALCULATED CORE LOCATION","PLACEMENT DATA FOR LOT","Random core offset",10,"Sublot 3"]
[650,{"$f":"IF(PLACE_SAMPLE!S18<>\"\",PLACE_SAMPLE!S18,\"\")","v":""},"PLACE_SAMPLE","CALCULATED CORE LOCATION","PLACEMENT DATA FOR LOT","Random core offset",11,"Sublot 3"]
[651,{"$f":"IF(PLACE_SAMPLE!S19<>\"\",PLACE_SAMPLE!S19,\"\")","v":""},"PLACE_SAMPLE","CALCULATED CORE LOCATION","PLACEMENT DATA FOR LOT","Random core offset",12,"Sublot 3"]
[652,{"$f":"IF(PLACE_SAMPLE!S20<>\"\",PLACE_SAMPLE!S20,\"\")","v":""},"PLACE_SAMPLE","CALCULATED CORE LOCATION","PLACEMENT DATA FOR LOT","Random core offset",13,"Sublot 3"]
[653,{"$f":"IF(PLACE_SAMPLE!S21<>\"\",PLACE_SAMPLE!S21,\"\")","v":""},"PLACE_SAMPLE","CALCULATED CORE LOCATION","PLACEMENT DATA FOR LOT","Random core offset",14,"Sublot 3"]
[654,{"$f":"IF(PLACE_SAMPLE!S22<>\"\",PLACE_SAMPLE!S22,\"\")","v":""},"PLACE_SAMPLE","CALCULATED CORE LOCATION","PLACEMENT DATA FOR LOT","Random core offset",15,"Sublot 3"]
[655,{"$f":"IF(PLACE_SAMPLE!S23<>\"\",PLACE_SAMPLE!S23,\"\")","v":""},"PLACE_SAMPLE","CALCULATED CORE LOCATION","PLACEMENT DATA FOR LOT","Random core offset",16,"Sublot 3"]
[656,{"$f":"IF(PLACE_SAMPLE!S24<>\"\",PLACE_SAMPLE!S24,\"\")","v":""},"PLACE_SAMPLE","CALCULATED CORE LOCATION","PLACEMENT DATA FOR LOT","Random core offset",17,"Sublot 3"]
[657,{"$f":"IF(PLACE_SAMPLE!S25<>\"\",PLACE_SAMPLE!S25,\"\")","v":""},"PLACE_SAMPLE","CALCULATED CORE LOCATION","PLACEMENT DATA FOR LOT","Random core offset",18,"Sublot 3"]
[658,{"$f":"IF(PLACE_SAMPLE!S26<>\"\",PLACE_SAMPLE!S26,\"\")","v":""},"PLACE_SAMPLE","CALCULATED CORE LOCATION","PLACEMENT DATA FOR LOT","Random core offset",19,"Sublot 3"]
[659,{"$f":"IF(PLACE_SAMPLE!S27<>\"\",PLACE_SAMPLE!S27,\"\")","v":""},"PLACE_SAMPLE","CALCULATED CORE LOCATION","PLACEMENT DATA FOR LOT","Random core offset",20,"Sublot 3"]
[660]
[661,{"$f":"IF(PLACE_SAMPLE!T8<>\"\",PLACE_SAMPLE!T8,\"\")","v":""},"PLACE_SAMPLE","CALCULATED CORE LOCATION","PLACEMENT DATA FOR LOT","Random core STA.",1,"Sublot 4"]
[662,{"$f":"IF(PLACE_SAMPLE!T9<>\"\",PLACE_SAMPLE!T9,\"\")","v":""},"PLACE_SAMPLE","CALCULATED CORE LOCATION","PLACEMENT DATA FOR LOT","Random core STA.",2,"Sublot 4"]
[663,{"$f":"IF(PLACE_SAMPLE!T10<>\"\",PLACE_SAMPLE!T10,\"\")","v":""},"PLACE_SAMPLE","CALCULATED CORE LOCATION","PLACEMENT DATA FOR LOT","Random core STA.",3,"Sublot 4"]
[664,{"$f":"IF(PLACE_SAMPLE!T11<>\"\",PLACE_SAMPLE!T11,\"\")","v":""},"PLACE_SAMPLE","CALCULATED CORE LOCATION","PLACEMENT DATA FOR LOT","Random core STA.",4,"Sublot 4"]
[665,{"$f":"IF(PLACE_SAMPLE!T12<>\"\",PLACE_SAMPLE!T12,\"\")","v":""},"PLACE_SAMPLE","CALCULATED CORE LOCATION","PLACEMENT DATA FOR LOT","Random core STA.",5,"Sublot 4"]
[666,{"$f":"IF(PLACE_SAMPLE!T13<>\"\",PLACE_SAMPLE!T13,\"\")","v":""},"PLACE_SAMPLE","CALCULATED CORE LOCATION","PLACEMENT DATA FOR LOT","Random core STA.",6,"Sublot 4"]
[667,{"$f":"IF(PLACE_SAMPLE!T14<>\"\",PLACE_SAMPLE!T14,\"\")","v":""},"PLACE_SAMPLE","CALCULATED CORE LOCATION","PLACEMENT DATA FOR LOT","Random core STA.",7,"Sublot 4"]
[668,{"$f":"IF(PLACE_SAMPLE!T15<>\"\",PLACE_SAMPLE!T15,\"\")","v":""},"PLACE_SAMPLE","CALCULATED CORE LOCATION","PLACEMENT DATA FOR LOT","Random core STA.",8,"Sublot 4"]
[669,{"$f":"IF(PLACE_SAMPLE!T16<>\"\",PLACE_SAMPLE!T16,\"\")","v":""},"PLACE_SAMPLE","CALCULATED CORE LOCATION","PLACEMENT DATA FOR LOT","Random core STA.",9,"Sublot 4"]
[670,{"$f":"IF(PLACE_SAMPLE!T17<>\"\",PLACE_SAMPLE!T17,\"\")","v":""},"PLACE_SAMPLE","CALCULATED CORE LOCATION","PLACEMENT DATA FOR LOT","Random core STA.",10,"Sublot 4"]
[671,{"$f":"IF(PLACE_SAMPLE!T18<>\"\",PLACE_SAMPLE!T18,\"\")","v":""},"PLACE_SAMPLE","CALCULATED CORE LOCATION","PLACEMENT DATA FOR LOT","Random core STA.",11,"Sublot 4"]
[672,{"$f":"IF(PLACE_SAMPLE!T19<>\"\",PLACE_SAMPLE!T19,\"\")","v":""},"PLACE_SAMPLE","CALCULATED CORE LOCATION","PLACEMENT DATA FOR LOT","Random core STA.",12,"Sublot 4"]
[673,{"$f":"IF(PLACE_SAMPLE!T20<>\"\",PLACE_SAMPLE!T20,\"\")","v":""},"PLACE_SAMPLE","CALCULATED CORE LOCATION","PLACEMENT DATA FOR LOT","Random core STA.",13,"Sublot 4"]
[674,{"$f":"IF(PLACE_SAMPLE!T21<>\"\",PLACE_SAMPLE!T21,\"\")","v":""},"PLACE_SAMPLE","CALCULATED CORE LOCATION","PLACEMENT DATA FOR LOT","Random core STA.",14,"Sublot 4"]
[675,{"$f":"IF(PLACE_SAMPLE!T22<>\"\",PLACE_SAMPLE!T22,\"\")","v":""},"PLACE_SAMPLE","CALCULATED CORE LOCATION","PLACEMENT DATA FOR LOT","Random core STA.",15,"Sublot 4"]
[676,{"$f":"IF(PLACE_SAMPLE!T23<>\"\",PLACE_SAMPLE!T23,\"\")","v":""},"PLACE_SAMPLE","CALCULATED CORE LOCATION","PLACEMENT DATA FOR LOT","Random core STA.",16,"Sublot 4"]
[677,{"$f":"IF(PLACE_SAMPLE!T24<>\"\",PLACE_SAMPLE!T24,\"\")","v":""},"PLACE_SAMPLE","CALCULATED CORE LOCATION","PLACEMENT DATA FOR LOT","Random core STA.",17,"Sublot 4"]
[678,{"$f":"IF(PLACE_SAMPLE!T25<>\"\",PLACE_SAMPLE!T25,\"\")","v":""},"PLACE_SAMPLE","CALCULATED CORE LOCATION","PLACEMENT DATA FOR LOT","Random core STA.",18,"Sublot 4"]
[679,{"$f":"IF(PLACE_SAMPLE!T26<>\"\",PLACE_SAMPLE!T26,\"\")","v":""},"PLACE_SAMPLE","CALCULATED CORE LOCATION","PLACEMENT DATA FOR LOT","Random core STA.",19,"Sublot 4"]
[680,{"$f":"IF(PLACE_SAMPLE!T27<>\"\",PLACE_SAMPLE!T27,\"\")","v":""},"PLACE_SAMPLE","CALCULATED CORE LOCATION","PLACEMENT DATA FOR LOT","Random core STA.",20,"Sublot 4"]
[681]
[682,{"$f":"IF(PLACE_SAMPLE!U8<>\"\",PLACE_SAMPLE!U8,\"\")","v":""},"PLACE_SAMPLE","CALCULATED CORE LOCATION","PLACEMENT DATA FOR LOT","Random core offset",1,"Sublot 4"]
[683,{"$f":"IF(PLACE_SAMPLE!U9<>\"\",PLACE_SAMPLE!U9,\"\")","v":""},"PLACE_SAMPLE","CALCULATED CORE LOCATION","PLACEMENT DATA FOR LOT","Random core offset",2,"Sublot 4"]
[684,{"$f":"IF(PLACE_SAMPLE!U10<>\"\",PLACE_SAMPLE!U10,\"\")","v":""},"PLACE_SAMPLE","CALCULATED CORE LOCATION","PLACEMENT DATA FOR LOT","Random core offset",3,"Sublot 4"]
[685,{"$f":"IF(PLACE_SAMPLE!U11<>\"\",PLACE_SAMPLE!U11,\"\")","v":""},"PLACE_SAMPLE","CALCULATED CORE LOCATION","PLACEMENT DATA FOR LOT","Random core offset",4,"Sublot 4"]
[686,{"$f":"IF(PLACE_SAMPLE!U12<>\"\",PLACE_SAMPLE!U12,\"\")","v":""},"PLACE_SAMPLE","CALCULATED CORE LOCATION","PLACEMENT DATA FOR LOT","Random core offset",5,"Sublot 4"]
[687,{"$f":"IF(PLACE_SAMPLE!U13<>\"\",PLACE_SAMPLE!U13,\"\")","v":""},"PLACE_SAMPLE","CALCULATED CORE LOCATION","PLACEMENT DATA FOR LOT","Random core offset",6,"Sublot 4"]
[688,{"$f":"IF(PLACE_SAMPLE!U14<>\"\",PLACE_SAMPLE!U14,\"\")","v":""},"PLACE_SAMPLE","CALCULATED CORE LOCATION","PLACEMENT DATA FOR LOT","Random core offset",7,"Sublot 4"]
[689,{"$f":"IF(PLACE_SAMPLE!U15<>\"\",PLACE_SAMPLE!U15,\"\")","v":""},"PLACE_SAMPLE","CALCULATED CORE LOCATION","PLACEMENT DATA FOR LOT","Random core offset",8,"Sublot 4"]
[690,{"$f":"IF(PLACE_SAMPLE!U16<>\"\",PLACE_SAMPLE!U16,\"\")","v":""},"PLACE_SAMPLE","CALCULATED CORE LOCATION","PLACEMENT DATA FOR LOT","Random core offset",9,"Sublot 4"]
[691,{"$f":"IF(PLACE_SAMPLE!U17<>\"\",PLACE_SAMPLE!U17,\"\")","v":""},"PLACE_SAMPLE","CALCULATED CORE LOCATION","PLACEMENT DATA FOR LOT","Random core offset",10,"Sublot 4"]
[692,{"$f":"IF(PLACE_SAMPLE!U18<>\"\",PLACE_SAMPLE!U18,\"\")","v":""},"PLACE_SAMPLE","CALCULATED CORE LOCATION","PLACEMENT DATA FOR LOT","Random core offset",11,"Sublot 4"]
[693,{"$f":"IF(PLACE_SAMPLE!U19<>\"\",PLACE_SAMPLE!U19,\"\")","v":""},"PLACE_SAMPLE","CALCULATED CORE LOCATION","PLACEMENT DATA FOR LOT","Random core offset",12,"Sublot 4"]
[694,{"$f":"IF(PLACE_SAMPLE!U20<>\"\",PLACE_SAMPLE!U20,\"\")","v":""},"PLACE_SAMPLE","CALCULATED CORE LOCATION","PLACEMENT DATA FOR LOT","Random core offset",13,"Sublot 4"]
[695,{"$f":"IF(PLACE_SAMPLE!U21<>\"\",PLACE_SAMPLE!U21,\"\")","v":""},"PLACE_SAMPLE","CALCULATED CORE LOCATION","PLACEMENT DATA FOR LOT","Random core offset",14,"Sublot 4"]
[696,{"$f":"IF(PLACE_SAMPLE!U22<>\"\",PLACE_SAMPLE!U22,\"\")","v":""},"PLACE_SAMPLE","CALCULATED CORE LOCATION","PLACEMENT DATA FOR LOT","Random core offset",15,"Sublot 4"]
[697,{"$f":"IF(PLACE_SAMPLE!U23<>\"\",PLACE_SAMPLE!U23,\"\")","v":""},"PLACE_SAMPLE","CALCULATED CORE LOCATION","PLACEMENT DATA FOR LOT","Random core offset",16,"Sublot 4"]
[698,{"$f":"IF(PLACE_SAMPLE!U24<>\"\",PLACE_SAMPLE!U24,\"\")","v":""},"PLACE_SAMPLE","CALCULATED CORE LOCATION","PLACEMENT DATA FOR LOT","Random core offset",17,"Sublot 4"]
[699,{"$f":"IF(PLACE_SAMPLE!U25<>\"\",PLACE_SAMPLE!U25,\"\")","v":""},"PLACE_SAMPLE","CALCULATED CORE LOCATION","PLACEMENT DATA FOR LOT","Random core offset",18,"Sublot 4"]
[700,{"$f":"IF(PLACE_SAMPLE!U26<>\"\",PLACE_SAMPLE!U26,\"\")","v":""},"PLACE_SAMPLE","CALCULATED CORE LOCATION","PLACEMENT DATA FOR LOT","Random core offset",19,"Sublot 4"]
[701,{"$f":"IF(PLACE_SAMPLE!U27<>\"\",PLACE_SAMPLE!U27,\"\")","v":""},"PLACE_SAMPLE","CALCULATED CORE LOCATION","PLACEMENT DATA FOR LOT","Random core offset",20,"Sublot 4"]
[702]
[703,{"$f":"IF(PLACE_SAMPLE!N28<>\"\",PLACE_SAMPLE!N28,\"\")","v":""},"PLACE_SAMPLE","CALCULATED CORE LOCATION","PLACEMENT DATA FOR LOT","Total area, sq ft:","Sublot 1"]
[704,{"$f":"IF(PLACE_SAMPLE!P28<>\"\",PLACE_SAMPLE!P28,\"\")","v":""},"PLACE_SAMPLE","CALCULATED CORE LOCATION","PLACEMENT DATA FOR LOT","Total area, sq ft:","Sublot 2"]
[705,{"$f":"IF(PLACE_SAMPLE!R28<>\"\",PLACE_SAMPLE!R28,\"\")","v":""},"PLACE_SAMPLE","CALCULATED CORE LOCATION","PLACEMENT DATA FOR LOT","Total area, sq ft:","Sublot 3"]
[706,{"$f":"IF(PLACE_SAMPLE!T28<>\"\",PLACE_SAMPLE!T28,\"\")","v":""},"PLACE_SAMPLE","CALCULATED CORE LOCATION","PLACEMENT DATA FOR LOT","Total area, sq ft:","Sublot 4"]
[707,{"$f":"IF(PLACE_SAMPLE!V28<>\"\",PLACE_SAMPLE!V28,\"\")","v":0},"PLACE_SAMPLE","CALCULATED CORE LOCATION","PLACEMENT DATA FOR LOT","Whole lot"]
[708]
[709,{"$f":"IF(PLACE_SAMPLE!F32<>\"\",PLACE_SAMPLE!F32,\"\")","v":""},"PLACE_SAMPLE","CALCULATED CORE LOCATION","PLACEMENT DATA FOR LOT","Misc. area, sq. yd","This lot",null,null,325]
[710,{"$f":"IF(PLACE_SAMPLE!G32<>\"\",PLACE_SAMPLE!G32,\"\")","v":""},"PLACE_SAMPLE","CALCULATED CORE LOCATION","PLACEMENT DATA FOR LOT","Reg. Area Sq. Yards","This lot"]
[711,{"$f":"IF(PLACE_SAMPLE!H32<>\"\",PLACE_SAMPLE!H32,\"\")","v":""},"PLACE_SAMPLE","CALCULATED CORE LOCATION","PLACEMENT DATA FOR LOT","Total Area Sq. Yards","This lot"]
[712,{"$f":"IF(PLACE_SAMPLE!I32<>\"\",PLACE_SAMPLE!I32,\"\")","v":""},"PLACE_SAMPLE","CALCULATED CORE LOCATION","PLACEMENT DATA FOR LOT","Total Tons","This lot"]
[713,{"$f":"IF(PLACE_SAMPLE!J32<>\"\",PLACE_SAMPLE!J32,\"\")","v":""},"PLACE_SAMPLE","CALCULATED CORE LOCATION","PLACEMENT DATA FOR LOT","Rate Lbs./Sq.Yd.","This lot"]
[714]
[715,{"$f":"IF(PLACE_SAMPLE!F33<>\"\",PLACE_SAMPLE!F33,\"\")","v":""},"PLACE_SAMPLE","CALCULATED CORE LOCATION","PLACEMENT DATA FOR LOT","Misc. area, sq. yd","Total to date",null,null,326]
[716,{"$f":"IF(PLACE_SAMPLE!G33<>\"\",PLACE_SAMPLE!G33,\"\")","v":""},"PLACE_SAMPLE","CALCULATED CORE LOCATION","PLACEMENT DATA FOR LOT","Reg. Area Sq. Yards","Total to date",null,null,327]
[717,{"$f":"IF(PLACE_SAMPLE!H33<>\"\",PLACE_SAMPLE!H33,\"\")","v":""},"PLACE_SAMPLE","CALCULATED CORE LOCATION","PLACEMENT DATA FOR LOT","Total Area Sq. Yards","Total to date"]
[718,{"$f":"IF(PLACE_SAMPLE!I33<>\"\",PLACE_SAMPLE!I33,\"\")","v":""},"PLACE_SAMPLE","CALCULATED CORE LOCATION","PLACEMENT DATA FOR LOT","Total Tons","Total to date",null,null,328]
[719,{"$f":"IF(PLACE_SAMPLE!J33<>\"\",PLACE_SAMPLE!J33,\"\")","v":""},"PLACE_SAMPLE","CALCULATED CORE LOCATION","PLACEMENT DATA FOR LOT","Rate Lbs./Sq.Yd.","Total to date"]
[720]
[721]
[722]
[723]
[724,{"$f":"IF(INDIRECT(\"DOT1_PROD!C3\")<>\"\",INDIRECT(\"DOT1_PROD!C3\"),\"\")","v":""},"DOT1_PROD","DOT1 PRODUCTION DATA","Sublot sample date"]
[725,{"$f":"IF(INDIRECT(\"DOT1_PROD!C4\")<>\"\",INDIRECT(\"DOT1_PROD!C4\"),\"\")","v":""},"DOT1_PROD","DOT1 PRODUCTION DATA","Sublot location, Tons"]
[726,{"$f":"IF(INDIRECT(\"DOT1_PROD!C5\")<>\"\",INDIRECT(\"DOT1_PROD!C5\"),\"\")","v":""},"DOT1_PROD","DOT1 PRODUCTION DATA","Production location, Tons"]
[727]
[728]
[729,{"$f":"IF(INDIRECT(\"DOT1_PROD!C9\")<>\"\",INDIRECT(\"DOT1_PROD!C9\"),\"\")","v":""},"DOT1_PROD","DOT1 PRODUCTION DATA","DETERMINATION OF ASPHALT CONTENT","Weight of sample and basket before ignition, g",null,null,null,428]
[730,{"$f":"IF(INDIRECT(\"DOT1_PROD!C10\")<>\"\",INDIRECT(\"DOT1_PROD!C10\"),\"\")","v":""},"DOT1_PROD","DOT1 PRODUCTION DATA","DETERMINATION OF ASPHALT CONTENT","Weight of sample and basket after ignition, g",null,null,null,429]
[731,{"$f":"IF(INDIRECT(\"DOT1_PROD!C11\")<>\"\",INDIRECT(\"DOT1_PROD!C11\"),\"\")","v":""},"DOT1_PROD","DOT1 PRODUCTION DATA","DETERMINATION OF ASPHALT CONTENT","Weight of basket, g",null,null,null,430]
[732,{"$f":"IF(INDIRECT(\"DOT1_PROD!C12\")<>\"\",INDIRECT(\"DOT1_PROD!C12\"),\"\")","v":""},"DOT1_PROD","DOT1 PRODUCTION DATA","DETERMINATION OF ASPHALT CONTENT","Ignition oven AC, %"]
[733,{"$f":"IF(INDIRECT(\"DOT1_PROD!C13\")<>\"\",INDIRECT(\"DOT1_PROD!C13\"),\"\")","v":""},"DOT1_PROD","DOT1 PRODUCTION DATA","DETERMINATION OF ASPHALT CONTENT","AC, %",null,null,null,431]
[734,{"$f":"IF(INDIRECT(\"DOT1_PROD!C14\")<>\"\",INDIRECT(\"DOT1_PROD!C14\"),\"\")","v":""},"DOT1_PROD","DOT1 PRODUCTION DATA","DETERMINATION OF ASPHALT CONTENT","Nuclear density gauge number",null,null,null,432]
[735,{"$f":"IF(INDIRECT(\"DOT1_PROD!C15\")<>\"\",INDIRECT(\"DOT1_PROD!C15\"),\"\")","v":""},"DOT1_PROD","DOT1 PRODUCTION DATA","DETERMINATION OF ASPHALT CONTENT","Nuclear density gauge calibration reference number",null,null,null,433]
[736,{"$f":"IF(INDIRECT(\"DOT1_PROD!C16\")<>\"\",INDIRECT(\"DOT1_PROD!C16\"),\"\")","v":""},"DOT1_PROD","DOT1 PRODUCTION DATA","DETERMINATION OF ASPHALT CONTENT","Nuclear density gauge time (hh:mm:ss)",null,null,null,434]
[737,{"$f":"IF(INDIRECT(\"DOT1_PROD!C17\")<>\"\",INDIRECT(\"DOT1_PROD!C17\"),\"\")","v":""},"DOT1_PROD","DOT1 PRODUCTION DATA","DETERMINATION OF ASPHALT CONTENT","Corrected AC, %"]
[738,{"$f":"IF(INDIRECT(\"DOT1_PROD!C18\")<>\"\",INDIRECT(\"DOT1_PROD!C18\"),\"\")","v":""},"DOT1_PROD","DOT1 PRODUCTION DATA","DETERMINATION OF ASPHALT CONTENT","Ratio of recycled to total binder"]
[739,{"$f":"IF(INDIRECT(\"DOT1_PROD!C19\")<>\"\",INDIRECT(\"DOT1_PROD!C19\"),\"\")","v":""},"DOT1_PROD","DOT1 PRODUCTION DATA","DETERMINATION OF ASPHALT CONTENT","Binder sample received?",null,null,null,435]
[740,{"$f":"IF(INDIRECT(\"DOT1_PROD!C20\")<>\"\",INDIRECT(\"DOT1_PROD!C20\"),\"\")","v":""},"DOT1_PROD","DOT1 PRODUCTION DATA","DETERMINATION OF ASPHALT CONTENT","DSR aging ratio",null,null,null,436]
[741]
[742]
[743,{"$f":"IF(INDIRECT(\"DOT1_PROD!C23\")<>\"\",INDIRECT(\"DOT1_PROD!C23\"),\"\")","v":""},"DOT1_PROD","DOT1 PRODUCTION DATA","LAB DETERMINATION OF RICE SPECIFIC GRAVITY Tex-227-F"," (A) Weight of  dry sample in air, g",null,null,null,437]
[744,{"$f":"IF(INDIRECT(\"DOT1_PROD!C24\")<>\"\",INDIRECT(\"DOT1_PROD!C24\"),\"\")","v":""},"DOT1_PROD","DOT1 PRODUCTION DATA","LAB DETERMINATION OF RICE SPECIFIC GRAVITY Tex-227-F"," (D) Weight of calibrated pyc. with water, g",null,null,null,438]
[745,{"$f":"IF(INDIRECT(\"DOT1_PROD!C25\")<>\"\",INDIRECT(\"DOT1_PROD!C25\"),\"\")","v":""},"DOT1_PROD","DOT1 PRODUCTION DATA","LAB DETERMINATION OF RICE SPECIFIC GRAVITY Tex-227-F","(E) Weight of sample, pyc. and water, g",null,null,null,439]
[746,{"$f":"IF(INDIRECT(\"DOT1_PROD!C26\")<>\"\",INDIRECT(\"DOT1_PROD!C26\"),\"\")","v":""},"DOT1_PROD","DOT1 PRODUCTION DATA","LAB DETERMINATION OF RICE SPECIFIC GRAVITY Tex-227-F","A/(D+A-E) Rice specific gravity (Gr)"]
[747,{"$f":"IF(INDIRECT(\"DOT1_PROD!C27\")<>\"\",INDIRECT(\"DOT1_PROD!C27\"),\"\")","v":""},"DOT1_PROD","DOT1 PRODUCTION DATA","LAB DETERMINATION OF RICE SPECIFIC GRAVITY Tex-227-F","(Asd) Weight of surface dry sample in air, g",null,null,null,440]
[748,{"$f":"IF(INDIRECT(\"DOT1_PROD!C28\")<>\"\",INDIRECT(\"DOT1_PROD!C28\"),\"\")","v":""},"DOT1_PROD","DOT1 PRODUCTION DATA","LAB DETERMINATION OF RICE SPECIFIC GRAVITY Tex-227-F","A/(D+Asd-E) Rice Specific Gravity (Grc)"]
[749,{"$f":"IF(INDIRECT(\"DOT1_PROD!C29\")<>\"\",INDIRECT(\"DOT1_PROD!C29\"),\"\")","v":""},"DOT1_PROD","DOT1 PRODUCTION DATA","LAB DETERMINATION OF RICE SPECIFIC GRAVITY Tex-227-F","(Gr-Grc)/Grc Percentage Difference"]
[750,{"$f":"IF(INDIRECT(\"DOT1_PROD!C30\")<>\"\",INDIRECT(\"DOT1_PROD!C30\"),\"\")","v":""},"DOT1_PROD","DOT1 PRODUCTION DATA","LAB DETERMINATION OF RICE SPECIFIC GRAVITY Tex-227-F","A/(D+Asd-E) Rice Specific Gravity (Grc)"]
[751]
[752]
[753]
[754,{"$f":"IF(INDIRECT(\"DOT1_PROD!C34\")<>\"\",INDIRECT(\"DOT1_PROD!C34\"),\"\")","v":""},"DOT1_PROD","DOT1 PRODUCTION DATA","ROAD DETERMINATION OF RICE SPECIFIC GRAVITY Tex-227-F"," (A) Weight of  dry sample in air, g",null,null,null,441]
[755,{"$f":"IF(INDIRECT(\"DOT1_PROD!C35\")<>\"\",INDIRECT(\"DOT1_PROD!C35\"),\"\")","v":""},"DOT1_PROD","DOT1 PRODUCTION DATA","ROAD DETERMINATION OF RICE SPECIFIC GRAVITY Tex-227-F"," (D) Weight of calibrated pyc. with water, g",null,null,null,442]
[756,{"$f":"IF(INDIRECT(\"DOT1_PROD!C36\")<>\"\",INDIRECT(\"DOT1_PROD!C36\"),\"\")","v":""},"DOT1_PROD","DOT1 PRODUCTION DATA","ROAD DETERMINATION OF RICE SPECIFIC GRAVITY Tex-227-F","(E) Weight of sample, pyc. and water, g",null,null,null,443]
[757,{"$f":"IF(INDIRECT(\"DOT1_PROD!C37\")<>\"\",INDIRECT(\"DOT1_PROD!C37\"),\"\")","v":""},"DOT1_PROD","DOT1 PRODUCTION DATA","ROAD DETERMINATION OF RICE SPECIFIC GRAVITY Tex-227-F","A/(D+A-E) Rice specific gravity (Gr)"]
[758,{"$f":"IF(INDIRECT(\"DOT1_PROD!C38\")<>\"\",INDIRECT(\"DOT1_PROD!C38\"),\"\")","v":""},"DOT1_PROD","DOT1 PRODUCTION DATA","ROAD DETERMINATION OF RICE SPECIFIC GRAVITY Tex-227-F","(Asd) Weight of surface dry sample in air, g",null,null,null,444]
[759,{"$f":"IF(INDIRECT(\"DOT1_PROD!C39\")<>\"\",INDIRECT(\"DOT1_PROD!C39\"),\"\")","v":""},"DOT1_PROD","DOT1 PRODUCTION DATA","ROAD DETERMINATION OF RICE SPECIFIC GRAVITY Tex-227-F","A/(D+Asd-E) Rice Specific Gravity (Grc)"]
[760,{"$f":"IF(INDIRECT(\"DOT1_PROD!C40\")<>\"\",INDIRECT(\"DOT1_PROD!C40\"),\"\")","v":""},"DOT1_PROD","DOT1 PRODUCTION DATA","ROAD DETERMINATION OF RICE SPECIFIC GRAVITY Tex-227-F","(Gr-Grc)/Grc Percentage Difference"]
[761]
[762]
[763]
[764]
[765,{"$f":"IF(INDIRECT(\"DOT1_PROD!C45\")<>\"\",INDIRECT(\"DOT1_PROD!C45\"),\"\")","v":""},"DOT1_PROD","DOT1 PRODUCTION DATA","PRODUCTION PERFORMANCE PROPERTIES OF BITUMINOUS MIXTURES","Tex-248-F Overlay test number of cycles",null,null,null,445]
[766,{"$f":"IF(INDIRECT(\"DOT1_PROD!C46\")<>\"\",INDIRECT(\"DOT1_PROD!C46\"),\"\")","v":""},"DOT1_PROD","DOT1 PRODUCTION DATA","PRODUCTION PERFORMANCE PROPERTIES OF BITUMINOUS MIXTURES","Tex-245-F Cantabro loss content, %",null,null,null,446]
[767,{"$f":"IF(INDIRECT(\"DOT1_PROD!C47\")<>\"\",INDIRECT(\"DOT1_PROD!C47\"),\"\")","v":""},"DOT1_PROD","DOT1 PRODUCTION DATA","PRODUCTION PERFORMANCE PROPERTIES OF BITUMINOUS MIXTURES","CRM content, %",null,null,null,447]
[768,{"$f":"IF(INDIRECT(\"DOT1_PROD!C48\")<>\"\",INDIRECT(\"DOT1_PROD!C48\"),\"\")","v":""},"DOT1_PROD","DOT1 PRODUCTION DATA","PRODUCTION PERFORMANCE PROPERTIES OF BITUMINOUS MIXTURES","Tex-235-F Binder draindown, %",null,null,null,448]
[769,{"$f":"IF(INDIRECT(\"DOT1_PROD!C49\")<>\"\",INDIRECT(\"DOT1_PROD!C49\"),\"\")","v":""},"DOT1_PROD","DOT1 PRODUCTION DATA","PRODUCTION PERFORMANCE PROPERTIES OF BITUMINOUS MIXTURES","Fiber content, %",null,null,null,449]
[770,{"$f":"IF(INDIRECT(\"DOT1_PROD!C50\")<>\"\",INDIRECT(\"DOT1_PROD!C50\"),\"\")","v":""},"DOT1_PROD","DOT1 PRODUCTION DATA","PRODUCTION PERFORMANCE PROPERTIES OF BITUMINOUS MIXTURES","Membrane application rate, gal/sy",null,null,null,450]
[771,{"$f":"IF(INDIRECT(\"DOT1_PROD!C52\")<>\"\",INDIRECT(\"DOT1_PROD!C5\"),\"\")","v":""},"DOT1_PROD","DOT1 PRODUCTION DATA","PRODUCTION PERFORMANCE PROPERTIES OF BITUMINOUS MIXTURES","Tex 212-F Moisture content, %",null,null,null,451]
[772,{"$f":"IF(INDIRECT(\"DOT1_PROD!C53\")<>\"\",INDIRECT(\"DOT1_PROD!C53\"),\"\")","v":""},"DOT1_PROD","DOT1 PRODUCTION DATA","PRODUCTION PERFORMANCE PROPERTIES OF BITUMINOUS MIXTURES","Tex-530-C Boil test estimated percent stripping, %",null,null,null,452]
[773,{"$f":"IF(INDIRECT(\"DOT1_PROD!C54\")<>\"\",INDIRECT(\"DOT1_PROD!C54\"),\"\")","v":""},"DOT1_PROD","DOT1 PRODUCTION DATA","PRODUCTION PERFORMANCE PROPERTIES OF BITUMINOUS MIXTURES","Tex-244-F Thermal profile segregation",null,null,null,453]
[774]
[775]
[776]
[777,{"$f":"IF(INDIRECT(\"DOT2_PROD!C3\")<>\"\",INDIRECT(\"DOT2_PROD!C3\"),\"\")","v":""},"DOT2_PROD","DOT2 PRODUCTION DATA","Sublot sample date"]
[778,{"$f":"IF(INDIRECT(\"DOT2_PROD!C4\")<>\"\",INDIRECT(\"DOT2_PROD!C4\"),\"\")","v":""},"DOT2_PROD","DOT2 PRODUCTION DATA","Sublot location, Tons"]
[779,{"$f":"IF(INDIRECT(\"DOT2_PROD!C5\")<>\"\",INDIRECT(\"DOT2_PROD!C5\"),\"\")","v":""},"DOT2_PROD","DOT2 PRODUCTION DATA","Production location, Tons"]
[780]
[781]
[782,{"$f":"IF(INDIRECT(\"DOT2_PROD!C9\")<>\"\",INDIRECT(\"DOT2_PROD!C9\"),\"\")","v":""},"DOT2_PROD","DOT2 PRODUCTION DATA","DETERMINATION OF ASPHALT CONTENT","Weight of sample and basket before ignition, g",null,null,null,527]
[783,{"$f":"IF(INDIRECT(\"DOT2_PROD!C10\")<>\"\",INDIRECT(\"DOT2_PROD!C10\"),\"\")","v":""},"DOT2_PROD","DOT2 PRODUCTION DATA","DETERMINATION OF ASPHALT CONTENT","Weight of sample and basket after ignition, g",null,null,null,528]
[784,{"$f":"IF(INDIRECT(\"DOT2_PROD!C11\")<>\"\",INDIRECT(\"DOT2_PROD!C11\"),\"\")","v":""},"DOT2_PROD","DOT2 PRODUCTION DATA","DETERMINATION OF ASPHALT CONTENT","Weight of basket, g",null,null,null,529]
[785,{"$f":"IF(INDIRECT(\"DOT2_PROD!C12\")<>\"\",INDIRECT(\"DOT2_PROD!C12\"),\"\")","v":""},"DOT2_PROD","DOT2 PRODUCTION DATA","DETERMINATION OF ASPHALT CONTENT","Ignition oven AC, %",null,null,null,""]
[786,{"$f":"IF(INDIRECT(\"DOT2_PROD!C13\")<>\"\",INDIRECT(\"DOT2_PROD!C13\"),\"\")","v":""},"DOT2_PROD","DOT2 PRODUCTION DATA","DETERMINATION OF ASPHALT CONTENT","AC, %",null,null,null,530]
[787,{"$f":"IF(INDIRECT(\"DOT2_PROD!C14\")<>\"\",INDIRECT(\"DOT2_PROD!C14\"),\"\")","v":""},"DOT2_PROD","DOT2 PRODUCTION DATA","DETERMINATION OF ASPHALT CONTENT","Nuclear density gauge number",null,null,null,531]
[788,{"$f":"IF(INDIRECT(\"DOT2_PROD!C15\")<>\"\",INDIRECT(\"DOT2_PROD!C15\"),\"\")","v":""},"DOT2_PROD","DOT2 PRODUCTION DATA","DETERMINATION OF ASPHALT CONTENT","Nuclear density gauge calibration reference number",null,null,null,532]
[789,{"$f":"IF(INDIRECT(\"DOT2_PROD!C16\")<>\"\",INDIRECT(\"DOT2_PROD!C16\"),\"\")","v":""},"DOT2_PROD","DOT2 PRODUCTION DATA","DETERMINATION OF ASPHALT CONTENT","Nuclear density gauge time (hh:mm:ss)",null,null,null,533]
[790,{"$f":"IF(INDIRECT(\"DOT2_PROD!C17\")<>\"\",INDIRECT(\"DOT2_PROD!C17\"),\"\")","v":""},"DOT2_PROD","DOT2 PRODUCTION DATA","DETERMINATION OF ASPHALT CONTENT","Corrected AC, %",null,null,null,""]
[791,{"$f":"IF(INDIRECT(\"DOT2_PROD!C18\")<>\"\",INDIRECT(\"DOT2_PROD!C18\"),\"\")","v":""},"DOT2_PROD","DOT2 PRODUCTION DATA","DETERMINATION OF ASPHALT CONTENT","Ratio of recycled to total binder",null,null,null,""]
[792,{"$f":"IF(INDIRECT(\"DOT2_PROD!C19\")<>\"\",INDIRECT(\"DOT2_PROD!C19\"),\"\")","v":""},"DOT2_PROD","DOT2 PRODUCTION DATA","DETERMINATION OF ASPHALT CONTENT","Binder sample received?",null,null,null,534]
[793,{"$f":"IF(INDIRECT(\"DOT2_PROD!C20\")<>\"\",INDIRECT(\"DOT2_PROD!C20\"),\"\")","v":""},"DOT2_PROD","DOT2 PRODUCTION DATA","DETERMINATION OF ASPHALT CONTENT","DSR aging ratio",null,null,null,535]
[794,null,null,null,null,null,null,null,null,""]
[795,null,null,null,null,null,null,null,null,""]
[796,{"$f":"IF(INDIRECT(\"DOT2_PROD!C23\")<>\"\",INDIRECT(\"DOT2_PROD!C23\"),\"\")","v":""},"DOT2_PROD","DOT2 PRODUCTION DATA","LAB DETERMINATION OF RICE SPECIFIC GRAVITY Tex-227-F"," (A) Weight of  dry sample in air, g",null,null,null,536]
[797,{"$f":"IF(INDIRECT(\"DOT2_PROD!C24\")<>\"\",INDIRECT(\"DOT2_PROD!C24\"),\"\")","v":""},"DOT2_PROD","DOT2 PRODUCTION DATA","LAB DETERMINATION OF RICE SPECIFIC GRAVITY Tex-227-F"," (D) Weight of calibrated pyc. with water, g",null,null,null,537]
[798,{"$f":"IF(INDIRECT(\"DOT2_PROD!C25\")<>\"\",INDIRECT(\"DOT2_PROD!C25\"),\"\")","v":""},"DOT2_PROD","DOT2 PRODUCTION DATA","LAB DETERMINATION OF RICE SPECIFIC GRAVITY Tex-227-F","(E) Weight of sample, pyc. and water, g",null,null,null,538]
[799,{"$f":"IF(INDIRECT(\"DOT2_PROD!C26\")<>\"\",INDIRECT(\"DOT2_PROD!C26\"),\"\")","v":""},"DOT2_PROD","DOT2 PRODUCTION DATA","LAB DETERMINATION OF RICE SPECIFIC GRAVITY Tex-227-F","A/(D+A-E) Rice specific gravity (Gr)",null,null,null,""]
[800,{"$f":"IF(INDIRECT(\"DOT2_PROD!C27\")<>\"\",INDIRECT(\"DOT2_PROD!C27\"),\"\")","v":""},"DOT2_PROD","DOT2 PRODUCTION DATA","LAB DETERMINATION OF RICE SPECIFIC GRAVITY Tex-227-F","(Asd) Weight of surface dry sample in air, g",null,null,null,539]
[801,{"$f":"IF(INDIRECT(\"DOT2_PROD!C28\")<>\"\",INDIRECT(\"DOT2_PROD!C28\"),\"\")","v":""},"DOT2_PROD","DOT2 PRODUCTION DATA","LAB DETERMINATION OF RICE SPECIFIC GRAVITY Tex-227-F","A/(D+Asd-E) Rice Specific Gravity (Grc)",null,null,null,""]
[802,{"$f":"IF(INDIRECT(\"DOT2_PROD!C29\")<>\"\",INDIRECT(\"DOT2_PROD!C29\"),\"\")","v":""},"DOT2_PROD","DOT2 PRODUCTION DATA","LAB DETERMINATION OF RICE SPECIFIC GRAVITY Tex-227-F","(Gr-Grc)/Grc Percentage Difference",null,null,null,""]
[803,{"$f":"IF(INDIRECT(\"DOT2_PROD!C30\")<>\"\",INDIRECT(\"DOT2_PROD!C30\"),\"\")","v":""},"DOT2_PROD","DOT2 PRODUCTION DATA","LAB DETERMINATION OF RICE SPECIFIC GRAVITY Tex-227-F","A/(D+Asd-E) Rice Specific Gravity (Grc)",null,null,null,""]
[804,null,null,null,null,null,null,null,null,""]
[805,null,null,null,null,null,null,null,null,""]
[806,null,null,null,null,null,null,null,null,""]
[807,{"$f":"IF(INDIRECT(\"DOT2_PROD!C34\")<>\"\",INDIRECT(\"DOT2_PROD!C34\"),\"\")","v":""},"DOT2_PROD","DOT2 PRODUCTION DATA","ROAD DETERMINATION OF RICE SPECIFIC GRAVITY Tex-227-F"," (A) Weight of  dry sample in air, g",null,null,null,540]
[808,{"$f":"IF(INDIRECT(\"DOT2_PROD!C35\")<>\"\",INDIRECT(\"DOT2_PROD!C35\"),\"\")","v":""},"DOT2_PROD","DOT2 PRODUCTION DATA","ROAD DETERMINATION OF RICE SPECIFIC GRAVITY Tex-227-F"," (D) Weight of calibrated pyc. with water, g",null,null,null,541]
[809,{"$f":"IF(INDIRECT(\"DOT2_PROD!C36\")<>\"\",INDIRECT(\"DOT2_PROD!C36\"),\"\")","v":""},"DOT2_PROD","DOT2 PRODUCTION DATA","ROAD DETERMINATION OF RICE SPECIFIC GRAVITY Tex-227-F","(E) Weight of sample, pyc. and water, g",null,null,null,542]
[810,{"$f":"IF(INDIRECT(\"DOT2_PROD!C37\")<>\"\",INDIRECT(\"DOT2_PROD!C37\"),\"\")","v":""},"DOT2_PROD","DOT2 PRODUCTION DATA","ROAD DETERMINATION OF RICE SPECIFIC GRAVITY Tex-227-F","A/(D+A-E) Rice specific gravity (Gr)",null,null,null,""]
[811,{"$f":"IF(INDIRECT(\"DOT2_PROD!C38\")<>\"\",INDIRECT(\"DOT2_PROD!C38\"),\"\")","v":""},"DOT2_PROD","DOT2 PRODUCTION DATA","ROAD DETERMINATION OF RICE SPECIFIC GRAVITY Tex-227-F","(Asd) Weight of surface dry sample in air, g",null,null,null,543]
[812,{"$f":"IF(INDIRECT(\"DOT2_PROD!C39\")<>\"\",INDIRECT(\"DOT2_PROD!C39\"),\"\")","v":""},"DOT2_PROD","DOT2 PRODUCTION DATA","ROAD DETERMINATION OF RICE SPECIFIC GRAVITY Tex-227-F","A/(D+Asd-E) Rice Specific Gravity (Grc)",null,null,null,""]
[813,{"$f":"IF(INDIRECT(\"DOT2_PROD!C40\")<>\"\",INDIRECT(\"DOT2_PROD!C40\"),\"\")","v":""},"DOT2_PROD","DOT2 PRODUCTION DATA","ROAD DETERMINATION OF RICE SPECIFIC GRAVITY Tex-227-F","(Gr-Grc)/Grc Percentage Difference",null,null,null,""]
[814,null,null,null,null,null,null,null,null,""]
[815,null,null,null,null,null,null,null,null,""]
[816,null,null,null,null,null,null,null,null,""]
[817,null,null,null,null,null,null,null,null,""]
[818,{"$f":"IF(INDIRECT(\"DOT2_PROD!C45\")<>\"\",INDIRECT(\"DOT2_PROD!C45\"),\"\")","v":""},"DOT2_PROD","DOT2 PRODUCTION DATA","PRODUCTION PERFORMANCE PROPERTIES OF BITUMINOUS MIXTURES","Tex-248-F Overlay test number of cycles",null,null,null,544]
[819,{"$f":"IF(INDIRECT(\"DOT2_PROD!C46\")<>\"\",INDIRECT(\"DOT2_PROD!C46\"),\"\")","v":""},"DOT2_PROD","DOT2 PRODUCTION DATA","PRODUCTION PERFORMANCE PROPERTIES OF BITUMINOUS MIXTURES","Tex-245-F Cantabro loss content, %",null,null,null,545]
[820,{"$f":"IF(INDIRECT(\"DOT2_PROD!C47\")<>\"\",INDIRECT(\"DOT2_PROD!C47\"),\"\")","v":""},"DOT2_PROD","DOT2 PRODUCTION DATA","PRODUCTION PERFORMANCE PROPERTIES OF BITUMINOUS MIXTURES","CRM content, %",null,null,null,546]
[821,{"$f":"IF(INDIRECT(\"DOT2_PROD!C48\")<>\"\",INDIRECT(\"DOT2_PROD!C48\"),\"\")","v":""},"DOT2_PROD","DOT2 PRODUCTION DATA","PRODUCTION PERFORMANCE PROPERTIES OF BITUMINOUS MIXTURES","Tex-235-F Binder draindown, %",null,null,null,547]
[822,{"$f":"IF(INDIRECT(\"DOT2_PROD!C49\")<>\"\",INDIRECT(\"DOT2_PROD!C49\"),\"\")","v":""},"DOT2_PROD","DOT2 PRODUCTION DATA","PRODUCTION PERFORMANCE PROPERTIES OF BITUMINOUS MIXTURES","Fiber content, %",null,null,null,548]
[823,{"$f":"IF(INDIRECT(\"DOT2_PROD!C50\")<>\"\",INDIRECT(\"DOT2_PROD!C50\"),\"\")","v":""},"DOT2_PROD","DOT2 PRODUCTION DATA","PRODUCTION PERFORMANCE PROPERTIES OF BITUMINOUS MIXTURES","Membrane application rate, gal/sy",null,null,null,549]
[824,{"$f":"IF(INDIRECT(\"DOT2_PROD!C52\")<>\"\",INDIRECT(\"DOT2_PROD!C5\"),\"\")","v":""},"DOT2_PROD","DOT2 PRODUCTION DATA","PRODUCTION PERFORMANCE PROPERTIES OF BITUMINOUS MIXTURES","Tex 212-F Moisture content, %",null,null,null,550]
[825,{"$f":"IF(INDIRECT(\"DOT2_PROD!C53\")<>\"\",INDIRECT(\"DOT2_PROD!C53\"),\"\")","v":""},"DOT2_PROD","DOT2 PRODUCTION DATA","PRODUCTION PERFORMANCE PROPERTIES OF BITUMINOUS MIXTURES","Tex-530-C Boil test estimated percent stripping, %",null,null,null,551]
[826,{"$f":"IF(INDIRECT(\"DOT2_PROD!C54\")<>\"\",INDIRECT(\"DOT2_PROD!C54\"),\"\")","v":""},"DOT2_PROD","DOT2 PRODUCTION DATA","PRODUCTION PERFORMANCE PROPERTIES OF BITUMINOUS MIXTURES","Tex-244-F Thermal profile segregation",null,null,null,552]
[827]
[828]
[829]
[830,{"$f":"IF(INDIRECT(\"DOT3_PROD!C3\")<>\"\",INDIRECT(\"DOT3_PROD!C3\"),\"\")","v":""},"DOT3_PROD","DOT3 PRODUCTION DATA","Sublot sample date"]
[831,{"$f":"IF(INDIRECT(\"DOT3_PROD!C4\")<>\"\",INDIRECT(\"DOT3_PROD!C4\"),\"\")","v":""},"DOT3_PROD","DOT3 PRODUCTION DATA","Sublot location, Tons"]
[832,{"$f":"IF(INDIRECT(\"DOT3_PROD!C5\")<>\"\",INDIRECT(\"DOT3_PROD!C5\"),\"\")","v":""},"DOT3_PROD","DOT3 PRODUCTION DATA","Production location, Tons"]
[833]
[834]
[835,{"$f":"IF(INDIRECT(\"DOT3_PROD!C9\")<>\"\",INDIRECT(\"DOT3_PROD!C9\"),\"\")","v":""},"DOT3_PROD","DOT3 PRODUCTION DATA","DETERMINATION OF ASPHALT CONTENT","Weight of sample and basket before ignition, g",null,null,null,626]
[836,{"$f":"IF(INDIRECT(\"DOT3_PROD!C10\")<>\"\",INDIRECT(\"DOT3_PROD!C10\"),\"\")","v":""},"DOT3_PROD","DOT3 PRODUCTION DATA","DETERMINATION OF ASPHALT CONTENT","Weight of sample and basket after ignition, g",null,null,null,627]
[837,{"$f":"IF(INDIRECT(\"DOT3_PROD!C11\")<>\"\",INDIRECT(\"DOT3_PROD!C11\"),\"\")","v":""},"DOT3_PROD","DOT3 PRODUCTION DATA","DETERMINATION OF ASPHALT CONTENT","Weight of basket, g",null,null,null,628]
[838,{"$f":"IF(INDIRECT(\"DOT3_PROD!C12\")<>\"\",INDIRECT(\"DOT3_PROD!C12\"),\"\")","v":""},"DOT3_PROD","DOT3 PRODUCTION DATA","DETERMINATION OF ASPHALT CONTENT","Ignition oven AC, %",null,null,null,""]
[839,{"$f":"IF(INDIRECT(\"DOT3_PROD!C13\")<>\"\",INDIRECT(\"DOT3_PROD!C13\"),\"\")","v":""},"DOT3_PROD","DOT3 PRODUCTION DATA","DETERMINATION OF ASPHALT CONTENT","AC, %",null,null,null,629]
[840,{"$f":"IF(INDIRECT(\"DOT3_PROD!C14\")<>\"\",INDIRECT(\"DOT3_PROD!C14\"),\"\")","v":""},"DOT3_PROD","DOT3 PRODUCTION DATA","DETERMINATION OF ASPHALT CONTENT","Nuclear density gauge number",null,null,null,630]
[841,{"$f":"IF(INDIRECT(\"DOT3_PROD!C15\")<>\"\",INDIRECT(\"DOT3_PROD!C15\"),\"\")","v":""},"DOT3_PROD","DOT3 PRODUCTION DATA","DETERMINATION OF ASPHALT CONTENT","Nuclear density gauge calibration reference number",null,null,null,631]
[842,{"$f":"IF(INDIRECT(\"DOT3_PROD!C16\")<>\"\",INDIRECT(\"DOT3_PROD!C16\"),\"\")","v":""},"DOT3_PROD","DOT3 PRODUCTION DATA","DETERMINATION OF ASPHALT CONTENT","Nuclear density gauge time (hh:mm:ss)",null,null,null,632]
[843,{"$f":"IF(INDIRECT(\"DOT3_PROD!C17\")<>\"\",INDIRECT(\"DOT3_PROD!C17\"),\"\")","v":""},"DOT3_PROD","DOT3 PRODUCTION DATA","DETERMINATION OF ASPHALT CONTENT","Corrected AC, %",null,null,null,""]
[844,{"$f":"IF(INDIRECT(\"DOT3_PROD!C18\")<>\"\",INDIRECT(\"DOT3_PROD!C18\"),\"\")","v":""},"DOT3_PROD","DOT3 PRODUCTION DATA","DETERMINATION OF ASPHALT CONTENT","Ratio of recycled to total binder",null,null,null,""]
[845,{"$f":"IF(INDIRECT(\"DOT3_PROD!C19\")<>\"\",INDIRECT(\"DOT3_PROD!C19\"),\"\")","v":""},"DOT3_PROD","DOT3 PRODUCTION DATA","DETERMINATION OF ASPHALT CONTENT","Binder sample received?",null,null,null,633]
[846,{"$f":"IF(INDIRECT(\"DOT3_PROD!C20\")<>\"\",INDIRECT(\"DOT3_PROD!C20\"),\"\")","v":""},"DOT3_PROD","DOT3 PRODUCTION DATA","DETERMINATION OF ASPHALT CONTENT","DSR aging ratio",null,null,null,634]
[847,null,null,null,null,null,null,null,null,""]
[848,null,null,null,null,null,null,null,null,""]
[849,{"$f":"IF(INDIRECT(\"DOT3_PROD!C23\")<>\"\",INDIRECT(\"DOT3_PROD!C23\"),\"\")","v":""},"DOT3_PROD","DOT3 PRODUCTION DATA","LAB DETERMINATION OF RICE SPECIFIC GRAVITY Tex-227-F"," (A) Weight of  dry sample in air, g",null,null,null,635]
[850,{"$f":"IF(INDIRECT(\"DOT3_PROD!C24\")<>\"\",INDIRECT(\"DOT3_PROD!C24\"),\"\")","v":""},"DOT3_PROD","DOT3 PRODUCTION DATA","LAB DETERMINATION OF RICE SPECIFIC GRAVITY Tex-227-F"," (D) Weight of calibrated pyc. with water, g",null,null,null,636]
[851,{"$f":"IF(INDIRECT(\"DOT3_PROD!C25\")<>\"\",INDIRECT(\"DOT3_PROD!C25\"),\"\")","v":""},"DOT3_PROD","DOT3 PRODUCTION DATA","LAB DETERMINATION OF RICE SPECIFIC GRAVITY Tex-227-F","(E) Weight of sample, pyc. and water, g",null,null,null,637]
[852,{"$f":"IF(INDIRECT(\"DOT3_PROD!C26\")<>\"\",INDIRECT(\"DOT3_PROD!C26\"),\"\")","v":""},"DOT3_PROD","DOT3 PRODUCTION DATA","LAB DETERMINATION OF RICE SPECIFIC GRAVITY Tex-227-F","A/(D+A-E) Rice specific gravity (Gr)",null,null,null,""]
[853,{"$f":"IF(INDIRECT(\"DOT3_PROD!C27\")<>\"\",INDIRECT(\"DOT3_PROD!C27\"),\"\")","v":""},"DOT3_PROD","DOT3 PRODUCTION DATA","LAB DETERMINATION OF RICE SPECIFIC GRAVITY Tex-227-F","(Asd) Weight of surface dry sample in air, g",null,null,null,638]
[854,{"$f":"IF(INDIRECT(\"DOT3_PROD!C28\")<>\"\",INDIRECT(\"DOT3_PROD!C28\"),\"\")","v":""},"DOT3_PROD","DOT3 PRODUCTION DATA","LAB DETERMINATION OF RICE SPECIFIC GRAVITY Tex-227-F","A/(D+Asd-E) Rice Specific Gravity (Grc)",null,null,null,""]
[855,{"$f":"IF(INDIRECT(\"DOT3_PROD!C29\")<>\"\",INDIRECT(\"DOT3_PROD!C29\"),\"\")","v":""},"DOT3_PROD","DOT3 PRODUCTION DATA","LAB DETERMINATION OF RICE SPECIFIC GRAVITY Tex-227-F","(Gr-Grc)/Grc Percentage Difference",null,null,null,""]
[856,{"$f":"IF(INDIRECT(\"DOT3_PROD!C30\")<>\"\",INDIRECT(\"DOT3_PROD!C30\"),\"\")","v":""},"DOT3_PROD","DOT3 PRODUCTION DATA","LAB DETERMINATION OF RICE SPECIFIC GRAVITY Tex-227-F","A/(D+Asd-E) Rice Specific Gravity (Grc)",null,null,null,""]
[857,null,null,null,null,null,null,null,null,""]
[858,null,null,null,null,null,null,null,null,""]
[859,null,null,null,null,null,null,null,null,""]
[860,{"$f":"IF(INDIRECT(\"DOT3_PROD!C34\")<>\"\",INDIRECT(\"DOT3_PROD!C34\"),\"\")","v":""},"DOT3_PROD","DOT3 PRODUCTION DATA","ROAD DETERMINATION OF RICE SPECIFIC GRAVITY Tex-227-F"," (A) Weight of  dry sample in air, g",null,null,null,639]
[861,{"$f":"IF(INDIRECT(\"DOT3_PROD!C35\")<>\"\",INDIRECT(\"DOT3_PROD!C35\"),\"\")","v":""},"DOT3_PROD","DOT3 PRODUCTION DATA","ROAD DETERMINATION OF RICE SPECIFIC GRAVITY Tex-227-F"," (D) Weight of calibrated pyc. with water, g",null,null,null,640]
[862,{"$f":"IF(INDIRECT(\"DOT3_PROD!C36\")<>\"\",INDIRECT(\"DOT3_PROD!C36\"),\"\")","v":""},"DOT3_PROD","DOT3 PRODUCTION DATA","ROAD DETERMINATION OF RICE SPECIFIC GRAVITY Tex-227-F","(E) Weight of sample, pyc. and water, g",null,null,null,641]
[863,{"$f":"IF(INDIRECT(\"DOT3_PROD!C37\")<>\"\",INDIRECT(\"DOT3_PROD!C37\"),\"\")","v":""},"DOT3_PROD","DOT3 PRODUCTION DATA","ROAD DETERMINATION OF RICE SPECIFIC GRAVITY Tex-227-F","A/(D+A-E) Rice specific gravity (Gr)",null,null,null,""]
[864,{"$f":"IF(INDIRECT(\"DOT3_PROD!C38\")<>\"\",INDIRECT(\"DOT3_PROD!C38\"),\"\")","v":""},"DOT3_PROD","DOT3 PRODUCTION DATA","ROAD DETERMINATION OF RICE SPECIFIC GRAVITY Tex-227-F","(Asd) Weight of surface dry sample in air, g",null,null,null,642]
[865,{"$f":"IF(INDIRECT(\"DOT3_PROD!C39\")<>\"\",INDIRECT(\"DOT3_PROD!C39\"),\"\")","v":""},"DOT3_PROD","DOT3 PRODUCTION DATA","ROAD DETERMINATION OF RICE SPECIFIC GRAVITY Tex-227-F","A/(D+Asd-E) Rice Specific Gravity (Grc)",null,null,null,""]
[866,{"$f":"IF(INDIRECT(\"DOT3_PROD!C40\")<>\"\",INDIRECT(\"DOT3_PROD!C40\"),\"\")","v":""},"DOT3_PROD","DOT3 PRODUCTION DATA","ROAD DETERMINATION OF RICE SPECIFIC GRAVITY Tex-227-F","(Gr-Grc)/Grc Percentage Difference",null,null,null,""]
[867,null,null,null,null,null,null,null,null,""]
[868,null,null,null,null,null,null,null,null,""]
[869,null,null,null,null,null,null,null,null,""]
[870,null,null,null,null,null,null,null,null,""]
[871,{"$f":"IF(INDIRECT(\"DOT3_PROD!C45\")<>\"\",INDIRECT(\"DOT3_PROD!C45\"),\"\")","v":""},"DOT3_PROD","DOT3 PRODUCTION DATA","PRODUCTION PERFORMANCE PROPERTIES OF BITUMINOUS MIXTURES","Tex-248-F Overlay test number of cycles",null,null,null,643]
[872,{"$f":"IF(INDIRECT(\"DOT3_PROD!C46\")<>\"\",INDIRECT(\"DOT3_PROD!C46\"),\"\")","v":""},"DOT3_PROD","DOT3 PRODUCTION DATA","PRODUCTION PERFORMANCE PROPERTIES OF BITUMINOUS MIXTURES","Tex-245-F Cantabro loss content, %",null,null,null,644]
[873,{"$f":"IF(INDIRECT(\"DOT3_PROD!C47\")<>\"\",INDIRECT(\"DOT3_PROD!C47\"),\"\")","v":""},"DOT3_PROD","DOT3 PRODUCTION DATA","PRODUCTION PERFORMANCE PROPERTIES OF BITUMINOUS MIXTURES","CRM content, %",null,null,null,645]
[874,{"$f":"IF(INDIRECT(\"DOT3_PROD!C48\")<>\"\",INDIRECT(\"DOT3_PROD!C48\"),\"\")","v":""},"DOT3_PROD","DOT3 PRODUCTION DATA","PRODUCTION PERFORMANCE PROPERTIES OF BITUMINOUS MIXTURES","Tex-235-F Binder draindown, %",null,null,null,646]
[875,{"$f":"IF(INDIRECT(\"DOT3_PROD!C49\")<>\"\",INDIRECT(\"DOT3_PROD!C49\"),\"\")","v":""},"DOT3_PROD","DOT3 PRODUCTION DATA","PRODUCTION PERFORMANCE PROPERTIES OF BITUMINOUS MIXTURES","Fiber content, %",null,null,null,647]
[876,{"$f":"IF(INDIRECT(\"DOT3_PROD!C50\")<>\"\",INDIRECT(\"DOT3_PROD!C50\"),\"\")","v":""},"DOT3_PROD","DOT3 PRODUCTION DATA","PRODUCTION PERFORMANCE PROPERTIES OF BITUMINOUS MIXTURES","Membrane application rate, gal/sy",null,null,null,648]
[877,{"$f":"IF(INDIRECT(\"DOT3_PROD!C52\")<>\"\",INDIRECT(\"DOT3_PROD!C5\"),\"\")","v":""},"DOT3_PROD","DOT3 PRODUCTION DATA","PRODUCTION PERFORMANCE PROPERTIES OF BITUMINOUS MIXTURES","Tex 212-F Moisture content, %",null,null,null,649]
[878,{"$f":"IF(INDIRECT(\"DOT3_PROD!C53\")<>\"\",INDIRECT(\"DOT3_PROD!C53\"),\"\")","v":""},"DOT3_PROD","DOT3 PRODUCTION DATA","PRODUCTION PERFORMANCE PROPERTIES OF BITUMINOUS MIXTURES","Tex-530-C Boil test estimated percent stripping, %",null,null,null,650]
[879,{"$f":"IF(INDIRECT(\"DOT3_PROD!C54\")<>\"\",INDIRECT(\"DOT3_PROD!C54\"),\"\")","v":""},"DOT3_PROD","DOT3 PRODUCTION DATA","PRODUCTION PERFORMANCE PROPERTIES OF BITUMINOUS MIXTURES","Tex-244-F Thermal profile segregation",null,null,null,651]
[880]
[881]
[882]
[883,{"$f":"IF(INDIRECT(\"DOT4_PROD!C3\")<>\"\",INDIRECT(\"DOT4_PROD!C3\"),\"\")","v":""},"DOT4_PROD","DOT4 PRODUCTION DATA","Sublot sample date"]
[884,{"$f":"IF(INDIRECT(\"DOT4_PROD!C4\")<>\"\",INDIRECT(\"DOT4_PROD!C4\"),\"\")","v":""},"DOT4_PROD","DOT4 PRODUCTION DATA","Sublot location, Tons"]
[885,{"$f":"IF(INDIRECT(\"DOT4_PROD!C5\")<>\"\",INDIRECT(\"DOT4_PROD!C5\"),\"\")","v":""},"DOT4_PROD","DOT4 PRODUCTION DATA","Production location, Tons"]
[886]
[887]
[888,{"$f":"IF(INDIRECT(\"DOT4_PROD!C9\")<>\"\",INDIRECT(\"DOT4_PROD!C9\"),\"\")","v":""},"DOT4_PROD","DOT4 PRODUCTION DATA","DETERMINATION OF ASPHALT CONTENT","Weight of sample and basket before ignition, g",null,null,null,725]
[889,{"$f":"IF(INDIRECT(\"DOT4_PROD!C10\")<>\"\",INDIRECT(\"DOT4_PROD!C10\"),\"\")","v":""},"DOT4_PROD","DOT4 PRODUCTION DATA","DETERMINATION OF ASPHALT CONTENT","Weight of sample and basket after ignition, g",null,null,null,726]
[890,{"$f":"IF(INDIRECT(\"DOT4_PROD!C11\")<>\"\",INDIRECT(\"DOT4_PROD!C11\"),\"\")","v":""},"DOT4_PROD","DOT4 PRODUCTION DATA","DETERMINATION OF ASPHALT CONTENT","Weight of basket, g",null,null,null,727]
[891,{"$f":"IF(INDIRECT(\"DOT4_PROD!C12\")<>\"\",INDIRECT(\"DOT4_PROD!C12\"),\"\")","v":""},"DOT4_PROD","DOT4 PRODUCTION DATA","DETERMINATION OF ASPHALT CONTENT","Ignition oven AC, %",null,null,null,""]
[892,{"$f":"IF(INDIRECT(\"DOT4_PROD!C13\")<>\"\",INDIRECT(\"DOT4_PROD!C13\"),\"\")","v":""},"DOT4_PROD","DOT4 PRODUCTION DATA","DETERMINATION OF ASPHALT CONTENT","AC, %",null,null,null,728]
[893,{"$f":"IF(INDIRECT(\"DOT4_PROD!C14\")<>\"\",INDIRECT(\"DOT4_PROD!C14\"),\"\")","v":""},"DOT4_PROD","DOT4 PRODUCTION DATA","DETERMINATION OF ASPHALT CONTENT","Nuclear density gauge number",null,null,null,729]
[894,{"$f":"IF(INDIRECT(\"DOT4_PROD!C15\")<>\"\",INDIRECT(\"DOT4_PROD!C15\"),\"\")","v":""},"DOT4_PROD","DOT4 PRODUCTION DATA","DETERMINATION OF ASPHALT CONTENT","Nuclear density gauge calibration reference number",null,null,null,730]
[895,{"$f":"IF(INDIRECT(\"DOT4_PROD!C16\")<>\"\",INDIRECT(\"DOT4_PROD!C16\"),\"\")","v":""},"DOT4_PROD","DOT4 PRODUCTION DATA","DETERMINATION OF ASPHALT CONTENT","Nuclear density gauge time (hh:mm:ss)",null,null,null,731]
[896,{"$f":"IF(INDIRECT(\"DOT4_PROD!C17\")<>\"\",INDIRECT(\"DOT4_PROD!C17\"),\"\")","v":""},"DOT4_PROD","DOT4 PRODUCTION DATA","DETERMINATION OF ASPHALT CONTENT","Corrected AC, %",null,null,null,""]
[897,{"$f":"IF(INDIRECT(\"DOT4_PROD!C18\")<>\"\",INDIRECT(\"DOT4_PROD!C18\"),\"\")","v":""},"DOT4_PROD","DOT4 PRODUCTION DATA","DETERMINATION OF ASPHALT CONTENT","Ratio of recycled to total binder",null,null,null,""]
[898,{"$f":"IF(INDIRECT(\"DOT4_PROD!C19\")<>\"\",INDIRECT(\"DOT4_PROD!C19\"),\"\")","v":""},"DOT4_PROD","DOT4 PRODUCTION DATA","DETERMINATION OF ASPHALT CONTENT","Binder sample received?",null,null,null,732]
[899,{"$f":"IF(INDIRECT(\"DOT4_PROD!C20\")<>\"\",INDIRECT(\"DOT4_PROD!C20\"),\"\")","v":""},"DOT4_PROD","DOT4 PRODUCTION DATA","DETERMINATION OF ASPHALT CONTENT","DSR aging ratio",null,null,null,733]
[900,null,null,null,null,null,null,null,null,""]
[901,null,null,null,null,null,null,null,null,""]
[902,{"$f":"IF(INDIRECT(\"DOT4_PROD!C23\")<>\"\",INDIRECT(\"DOT4_PROD!C23\"),\"\")","v":""},"DOT4_PROD","DOT4 PRODUCTION DATA","LAB DETERMINATION OF RICE SPECIFIC GRAVITY Tex-227-F"," (A) Weight of  dry sample in air, g",null,null,null,734]
[903,{"$f":"IF(INDIRECT(\"DOT4_PROD!C24\")<>\"\",INDIRECT(\"DOT4_PROD!C24\"),\"\")","v":""},"DOT4_PROD","DOT4 PRODUCTION DATA","LAB DETERMINATION OF RICE SPECIFIC GRAVITY Tex-227-F"," (D) Weight of calibrated pyc. with water, g",null,null,null,735]
[904,{"$f":"IF(INDIRECT(\"DOT4_PROD!C25\")<>\"\",INDIRECT(\"DOT4_PROD!C25\"),\"\")","v":""},"DOT4_PROD","DOT4 PRODUCTION DATA","LAB DETERMINATION OF RICE SPECIFIC GRAVITY Tex-227-F","(E) Weight of sample, pyc. and water, g",null,null,null,736]
[905,{"$f":"IF(INDIRECT(\"DOT4_PROD!C26\")<>\"\",INDIRECT(\"DOT4_PROD!C26\"),\"\")","v":""},"DOT4_PROD","DOT4 PRODUCTION DATA","LAB DETERMINATION OF RICE SPECIFIC GRAVITY Tex-227-F","A/(D+A-E) Rice specific gravity (Gr)",null,null,null,""]
[906,{"$f":"IF(INDIRECT(\"DOT4_PROD!C27\")<>\"\",INDIRECT(\"DOT4_PROD!C27\"),\"\")","v":""},"DOT4_PROD","DOT4 PRODUCTION DATA","LAB DETERMINATION OF RICE SPECIFIC GRAVITY Tex-227-F","(Asd) Weight of surface dry sample in air, g",null,null,null,737]
[907,{"$f":"IF(INDIRECT(\"DOT4_PROD!C28\")<>\"\",INDIRECT(\"DOT4_PROD!C28\"),\"\")","v":""},"DOT4_PROD","DOT4 PRODUCTION DATA","LAB DETERMINATION OF RICE SPECIFIC GRAVITY Tex-227-F","A/(D+Asd-E) Rice Specific Gravity (Grc)",null,null,null,""]
[908,{"$f":"IF(INDIRECT(\"DOT4_PROD!C29\")<>\"\",INDIRECT(\"DOT4_PROD!C29\"),\"\")","v":""},"DOT4_PROD","DOT4 PRODUCTION DATA","LAB DETERMINATION OF RICE SPECIFIC GRAVITY Tex-227-F","(Gr-Grc)/Grc Percentage Difference",null,null,null,""]
[909,{"$f":"IF(INDIRECT(\"DOT4_PROD!C30\")<>\"\",INDIRECT(\"DOT4_PROD!C30\"),\"\")","v":""},"DOT4_PROD","DOT4 PRODUCTION DATA","LAB DETERMINATION OF RICE SPECIFIC GRAVITY Tex-227-F","A/(D+Asd-E) Rice Specific Gravity (Grc)",null,null,null,""]
[910,null,null,null,null,null,null,null,null,""]
[911,null,null,null,null,null,null,null,null,""]
[912,null,null,null,null,null,null,null,null,""]
[913,{"$f":"IF(INDIRECT(\"DOT4_PROD!C34\")<>\"\",INDIRECT(\"DOT4_PROD!C34\"),\"\")","v":""},"DOT4_PROD","DOT4 PRODUCTION DATA","ROAD DETERMINATION OF RICE SPECIFIC GRAVITY Tex-227-F"," (A) Weight of  dry sample in air, g",null,null,null,738]
[914,{"$f":"IF(INDIRECT(\"DOT4_PROD!C35\")<>\"\",INDIRECT(\"DOT4_PROD!C35\"),\"\")","v":""},"DOT4_PROD","DOT4 PRODUCTION DATA","ROAD DETERMINATION OF RICE SPECIFIC GRAVITY Tex-227-F"," (D) Weight of calibrated pyc. with water, g",null,null,null,739]
[915,{"$f":"IF(INDIRECT(\"DOT4_PROD!C36\")<>\"\",INDIRECT(\"DOT4_PROD!C36\"),\"\")","v":""},"DOT4_PROD","DOT4 PRODUCTION DATA","ROAD DETERMINATION OF RICE SPECIFIC GRAVITY Tex-227-F","(E) Weight of sample, pyc. and water, g",null,null,null,740]
[916,{"$f":"IF(INDIRECT(\"DOT4_PROD!C37\")<>\"\",INDIRECT(\"DOT4_PROD!C37\"),\"\")","v":""},"DOT4_PROD","DOT4 PRODUCTION DATA","ROAD DETERMINATION OF RICE SPECIFIC GRAVITY Tex-227-F","A/(D+A-E) Rice specific gravity (Gr)",null,null,null,""]
[917,{"$f":"IF(INDIRECT(\"DOT4_PROD!C38\")<>\"\",INDIRECT(\"DOT4_PROD!C38\"),\"\")","v":""},"DOT4_PROD","DOT4 PRODUCTION DATA","ROAD DETERMINATION OF RICE SPECIFIC GRAVITY Tex-227-F","(Asd) Weight of surface dry sample in air, g",null,null,null,741]
[918,{"$f":"IF(INDIRECT(\"DOT4_PROD!C39\")<>\"\",INDIRECT(\"DOT4_PROD!C39\"),\"\")","v":""},"DOT4_PROD","DOT4 PRODUCTION DATA","ROAD DETERMINATION OF RICE SPECIFIC GRAVITY Tex-227-F","A/(D+Asd-E) Rice Specific Gravity (Grc)",null,null,null,""]
[919,{"$f":"IF(INDIRECT(\"DOT4_PROD!C40\")<>\"\",INDIRECT(\"DOT4_PROD!C40\"),\"\")","v":""},"DOT4_PROD","DOT4 PRODUCTION DATA","ROAD DETERMINATION OF RICE SPECIFIC GRAVITY Tex-227-F","(Gr-Grc)/Grc Percentage Difference",null,null,null,""]
[920,null,null,null,null,null,null,null,null,""]
[921,null,null,null,null,null,null,null,null,""]
[922,null,null,null,null,null,null,null,null,""]
[923,null,null,null,null,null,null,null,null,""]
[924,{"$f":"IF(INDIRECT(\"DOT4_PROD!C45\")<>\"\",INDIRECT(\"DOT4_PROD!C45\"),\"\")","v":""},"DOT4_PROD","DOT4 PRODUCTION DATA","PRODUCTION PERFORMANCE PROPERTIES OF BITUMINOUS MIXTURES","Tex-248-F Overlay test number of cycles",null,null,null,742]
[925,{"$f":"IF(INDIRECT(\"DOT4_PROD!C46\")<>\"\",INDIRECT(\"DOT4_PROD!C46\"),\"\")","v":""},"DOT4_PROD","DOT4 PRODUCTION DATA","PRODUCTION PERFORMANCE PROPERTIES OF BITUMINOUS MIXTURES","Tex-245-F Cantabro loss content, %",null,null,null,743]
[926,{"$f":"IF(INDIRECT(\"DOT4_PROD!C47\")<>\"\",INDIRECT(\"DOT4_PROD!C47\"),\"\")","v":""},"DOT4_PROD","DOT4 PRODUCTION DATA","PRODUCTION PERFORMANCE PROPERTIES OF BITUMINOUS MIXTURES","CRM content, %",null,null,null,744]
[927,{"$f":"IF(INDIRECT(\"DOT4_PROD!C48\")<>\"\",INDIRECT(\"DOT4_PROD!C48\"),\"\")","v":""},"DOT4_PROD","DOT4 PRODUCTION DATA","PRODUCTION PERFORMANCE PROPERTIES OF BITUMINOUS MIXTURES","Tex-235-F Binder draindown, %",null,null,null,745]
[928,{"$f":"IF(INDIRECT(\"DOT4_PROD!C49\")<>\"\",INDIRECT(\"DOT4_PROD!C49\"),\"\")","v":""},"DOT4_PROD","DOT4 PRODUCTION DATA","PRODUCTION PERFORMANCE PROPERTIES OF BITUMINOUS MIXTURES","Fiber content, %",null,null,null,746]
[929,{"$f":"IF(INDIRECT(\"DOT4_PROD!C50\")<>\"\",INDIRECT(\"DOT4_PROD!C50\"),\"\")","v":""},"DOT4_PROD","DOT4 PRODUCTION DATA","PRODUCTION PERFORMANCE PROPERTIES OF BITUMINOUS MIXTURES","Membrane application rate, gal/sy",null,null,null,747]
[930,{"$f":"IF(INDIRECT(\"DOT4_PROD!C52\")<>\"\",INDIRECT(\"DOT4_PROD!C5\"),\"\")","v":""},"DOT4_PROD","DOT4 PRODUCTION DATA","PRODUCTION PERFORMANCE PROPERTIES OF BITUMINOUS MIXTURES","Tex 212-F Moisture content, %",null,null,null,748]
[931,{"$f":"IF(INDIRECT(\"DOT4_PROD!C53\")<>\"\",INDIRECT(\"DOT4_PROD!C53\"),\"\")","v":""},"DOT4_PROD","DOT4 PRODUCTION DATA","PRODUCTION PERFORMANCE PROPERTIES OF BITUMINOUS MIXTURES","Tex-530-C Boil test estimated percent stripping, %",null,null,null,749]
[932,{"$f":"IF(INDIRECT(\"DOT4_PROD!C54\")<>\"\",INDIRECT(\"DOT4_PROD!C54\"),\"\")","v":""},"DOT4_PROD","DOT4 PRODUCTION DATA","PRODUCTION PERFORMANCE PROPERTIES OF BITUMINOUS MIXTURES","Tex-244-F Thermal profile segregation",null,null,null,750]
[933]
[934]
[935]
[936,{"$f":"IF(INDIRECT(\"CON1_PROD!C3\")<>\"\",INDIRECT(\"CON1_PROD!C3\"),\"\")","v":""},"CON1_PROD","CON1 PRODUCTION DATA","Sublot sample date"]
[937,{"$f":"IF(INDIRECT(\"CON1_PROD!C4\")<>\"\",INDIRECT(\"CON1_PROD!C4\"),\"\")","v":""},"CON1_PROD","CON1 PRODUCTION DATA","Sublot location, Tons"]
[938,{"$f":"IF(INDIRECT(\"CON1_PROD!C5\")<>\"\",INDIRECT(\"CON1_PROD!C5\"),\"\")","v":""},"CON1_PROD","CON1 PRODUCTION DATA","Production location, Tons"]
[939]
[940]
[941,{"$f":"IF(INDIRECT(\"CON1_PROD!C9\")<>\"\",INDIRECT(\"CON1_PROD!C9\"),\"\")","v":""},"CON1_PROD","CON1 PRODUCTION DATA","DETERMINATION OF ASPHALT CONTENT","Weight of sample and basket before ignition, g",null,null,null,824]
[942,{"$f":"IF(INDIRECT(\"CON1_PROD!C10\")<>\"\",INDIRECT(\"CON1_PROD!C10\"),\"\")","v":""},"CON1_PROD","CON1 PRODUCTION DATA","DETERMINATION OF ASPHALT CONTENT","Weight of sample and basket after ignition, g",null,null,null,825]
[943,{"$f":"IF(INDIRECT(\"CON1_PROD!C11\")<>\"\",INDIRECT(\"CON1_PROD!C11\"),\"\")","v":""},"CON1_PROD","CON1 PRODUCTION DATA","DETERMINATION OF ASPHALT CONTENT","Weight of basket, g",null,null,null,826]
[944,{"$f":"IF(INDIRECT(\"CON1_PROD!C12\")<>\"\",INDIRECT(\"CON1_PROD!C12\"),\"\")","v":""},"CON1_PROD","CON1 PRODUCTION DATA","DETERMINATION OF ASPHALT CONTENT","Ignition oven AC, %",null,null,null,""]
[945,{"$f":"IF(INDIRECT(\"CON1_PROD!C13\")<>\"\",INDIRECT(\"CON1_PROD!C13\"),\"\")","v":""},"CON1_PROD","CON1 PRODUCTION DATA","DETERMINATION OF ASPHALT CONTENT","AC, %",null,null,null,827]
[946,{"$f":"IF(INDIRECT(\"CON1_PROD!C14\")<>\"\",INDIRECT(\"CON1_PROD!C14\"),\"\")","v":""},"CON1_PROD","CON1 PRODUCTION DATA","DETERMINATION OF ASPHALT CONTENT","Nuclear density gauge number",null,null,null,828]
[947,{"$f":"IF(INDIRECT(\"CON1_PROD!C15\")<>\"\",INDIRECT(\"CON1_PROD!C15\"),\"\")","v":""},"CON1_PROD","CON1 PRODUCTION DATA","DETERMINATION OF ASPHALT CONTENT","Nuclear density gauge calibration reference number",null,null,null,829]
[948,{"$f":"IF(INDIRECT(\"CON1_PROD!C16\")<>\"\",INDIRECT(\"CON1_PROD!C16\"),\"\")","v":""},"CON1_PROD","CON1 PRODUCTION DATA","DETERMINATION OF ASPHALT CONTENT","Nuclear density gauge time (hh:mm:ss)",null,null,null,830]
[949,{"$f":"IF(INDIRECT(\"CON1_PROD!C17\")<>\"\",INDIRECT(\"CON1_PROD!C17\"),\"\")","v":""},"CON1_PROD","CON1 PRODUCTION DATA","DETERMINATION OF ASPHALT CONTENT","Corrected AC, %",null,null,null,""]
[950,{"$f":"IF(INDIRECT(\"CON1_PROD!C18\")<>\"\",INDIRECT(\"CON1_PROD!C18\"),\"\")","v":""},"CON1_PROD","CON1 PRODUCTION DATA","DETERMINATION OF ASPHALT CONTENT","Ratio of recycled to total binder",null,null,null,""]
[951,{"$f":"IF(INDIRECT(\"CON1_PROD!C19\")<>\"\",INDIRECT(\"CON1_PROD!C19\"),\"\")","v":""},"CON1_PROD","CON1 PRODUCTION DATA","DETERMINATION OF ASPHALT CONTENT","Binder sample received?",null,null,null,831]
[952,{"$f":"IF(INDIRECT(\"CON1_PROD!C20\")<>\"\",INDIRECT(\"CON1_PROD!C20\"),\"\")","v":""},"CON1_PROD","CON1 PRODUCTION DATA","DETERMINATION OF ASPHALT CONTENT","DSR aging ratio",null,null,null,832]
[953,null,null,null,null,null,null,null,null,""]
[954,null,null,null,null,null,null,null,null,""]
[955,{"$f":"IF(INDIRECT(\"CON1_PROD!C23\")<>\"\",INDIRECT(\"CON1_PROD!C23\"),\"\")","v":""},"CON1_PROD","CON1 PRODUCTION DATA","LAB DETERMINATION OF RICE SPECIFIC GRAVITY Tex-227-F"," (A) Weight of  dry sample in air, g",null,null,null,833]
[956,{"$f":"IF(INDIRECT(\"CON1_PROD!C24\")<>\"\",INDIRECT(\"CON1_PROD!C24\"),\"\")","v":""},"CON1_PROD","CON1 PRODUCTION DATA","LAB DETERMINATION OF RICE SPECIFIC GRAVITY Tex-227-F"," (D) Weight of calibrated pyc. with water, g",null,null,null,834]
[957,{"$f":"IF(INDIRECT(\"CON1_PROD!C25\")<>\"\",INDIRECT(\"CON1_PROD!C25\"),\"\")","v":""},"CON1_PROD","CON1 PRODUCTION DATA","LAB DETERMINATION OF RICE SPECIFIC GRAVITY Tex-227-F","(E) Weight of sample, pyc. and water, g",null,null,null,835]
[958,{"$f":"IF(INDIRECT(\"CON1_PROD!C26\")<>\"\",INDIRECT(\"CON1_PROD!C26\"),\"\")","v":""},"CON1_PROD","CON1 PRODUCTION DATA","LAB DETERMINATION OF RICE SPECIFIC GRAVITY Tex-227-F","A/(D+A-E) Rice specific gravity (Gr)",null,null,null,""]
[959,{"$f":"IF(INDIRECT(\"CON1_PROD!C27\")<>\"\",INDIRECT(\"CON1_PROD!C27\"),\"\")","v":""},"CON1_PROD","CON1 PRODUCTION DATA","LAB DETERMINATION OF RICE SPECIFIC GRAVITY Tex-227-F","(Asd) Weight of surface dry sample in air, g",null,null,null,836]
[960,{"$f":"IF(INDIRECT(\"CON1_PROD!C28\")<>\"\",INDIRECT(\"CON1_PROD!C28\"),\"\")","v":""},"CON1_PROD","CON1 PRODUCTION DATA","LAB DETERMINATION OF RICE SPECIFIC GRAVITY Tex-227-F","A/(D+Asd-E) Rice Specific Gravity (Grc)",null,null,null,""]
[961,{"$f":"IF(INDIRECT(\"CON1_PROD!C29\")<>\"\",INDIRECT(\"CON1_PROD!C29\"),\"\")","v":""},"CON1_PROD","CON1 PRODUCTION DATA","LAB DETERMINATION OF RICE SPECIFIC GRAVITY Tex-227-F","(Gr-Grc)/Grc Percentage Difference",null,null,null,""]
[962,{"$f":"IF(INDIRECT(\"CON1_PROD!C30\")<>\"\",INDIRECT(\"CON1_PROD!C30\"),\"\")","v":""},"CON1_PROD","CON1 PRODUCTION DATA","LAB DETERMINATION OF RICE SPECIFIC GRAVITY Tex-227-F","A/(D+Asd-E) Rice Specific Gravity (Grc)",null,null,null,""]
[963,null,null,null,null,null,null,null,null,""]
[964,null,null,null,null,null,null,null,null,""]
[965,null,null,null,null,null,null,null,null,""]
[966,{"$f":"IF(INDIRECT(\"CON1_PROD!C34\")<>\"\",INDIRECT(\"CON1_PROD!C34\"),\"\")","v":""},"CON1_PROD","CON1 PRODUCTION DATA","ROAD DETERMINATION OF RICE SPECIFIC GRAVITY Tex-227-F"," (A) Weight of  dry sample in air, g",null,null,null,837]
[967,{"$f":"IF(INDIRECT(\"CON1_PROD!C35\")<>\"\",INDIRECT(\"CON1_PROD!C35\"),\"\")","v":""},"CON1_PROD","CON1 PRODUCTION DATA","ROAD DETERMINATION OF RICE SPECIFIC GRAVITY Tex-227-F"," (D) Weight of calibrated pyc. with water, g",null,null,null,838]
[968,{"$f":"IF(INDIRECT(\"CON1_PROD!C36\")<>\"\",INDIRECT(\"CON1_PROD!C36\"),\"\")","v":""},"CON1_PROD","CON1 PRODUCTION DATA","ROAD DETERMINATION OF RICE SPECIFIC GRAVITY Tex-227-F","(E) Weight of sample, pyc. and water, g",null,null,null,839]
[969,{"$f":"IF(INDIRECT(\"CON1_PROD!C37\")<>\"\",INDIRECT(\"CON1_PROD!C37\"),\"\")","v":""},"CON1_PROD","CON1 PRODUCTION DATA","ROAD DETERMINATION OF RICE SPECIFIC GRAVITY Tex-227-F","A/(D+A-E) Rice specific gravity (Gr)",null,null,null,""]
[970,{"$f":"IF(INDIRECT(\"CON1_PROD!C38\")<>\"\",INDIRECT(\"CON1_PROD!C38\"),\"\")","v":""},"CON1_PROD","CON1 PRODUCTION DATA","ROAD DETERMINATION OF RICE SPECIFIC GRAVITY Tex-227-F","(Asd) Weight of surface dry sample in air, g",null,null,null,840]
[971,{"$f":"IF(INDIRECT(\"CON1_PROD!C39\")<>\"\",INDIRECT(\"CON1_PROD!C39\"),\"\")","v":""},"CON1_PROD","CON1 PRODUCTION DATA","ROAD DETERMINATION OF RICE SPECIFIC GRAVITY Tex-227-F","A/(D+Asd-E) Rice Specific Gravity (Grc)",null,null,null,""]
[972,{"$f":"IF(INDIRECT(\"CON1_PROD!C40\")<>\"\",INDIRECT(\"CON1_PROD!C40\"),\"\")","v":""},"CON1_PROD","CON1 PRODUCTION DATA","ROAD DETERMINATION OF RICE SPECIFIC GRAVITY Tex-227-F","(Gr-Grc)/Grc Percentage Difference",null,null,null,""]
[973,null,null,null,null,null,null,null,null,""]
[974,null,null,null,null,null,null,null,null,""]
[975,null,null,null,null,null,null,null,null,""]
[976,null,null,null,null,null,null,null,null,""]
[977,{"$f":"IF(INDIRECT(\"CON1_PROD!C45\")<>\"\",INDIRECT(\"CON1_PROD!C45\"),\"\")","v":""},"CON1_PROD","CON1 PRODUCTION DATA","PRODUCTION PERFORMANCE PROPERTIES OF BITUMINOUS MIXTURES","Tex-248-F Overlay test number of cycles",null,null,null,841]
[978,{"$f":"IF(INDIRECT(\"CON1_PROD!C46\")<>\"\",INDIRECT(\"CON1_PROD!C46\"),\"\")","v":""},"CON1_PROD","CON1 PRODUCTION DATA","PRODUCTION PERFORMANCE PROPERTIES OF BITUMINOUS MIXTURES","Tex-245-F Cantabro loss content, %",null,null,null,842]
[979,{"$f":"IF(INDIRECT(\"CON1_PROD!C47\")<>\"\",INDIRECT(\"CON1_PROD!C47\"),\"\")","v":""},"CON1_PROD","CON1 PRODUCTION DATA","PRODUCTION PERFORMANCE PROPERTIES OF BITUMINOUS MIXTURES","CRM content, %",null,null,null,843]
[980,{"$f":"IF(INDIRECT(\"CON1_PROD!C48\")<>\"\",INDIRECT(\"CON1_PROD!C48\"),\"\")","v":""},"CON1_PROD","CON1 PRODUCTION DATA","PRODUCTION PERFORMANCE PROPERTIES OF BITUMINOUS MIXTURES","Tex-235-F Binder draindown, %",null,null,null,844]
[981,{"$f":"IF(INDIRECT(\"CON1_PROD!C49\")<>\"\",INDIRECT(\"CON1_PROD!C49\"),\"\")","v":""},"CON1_PROD","CON1 PRODUCTION DATA","PRODUCTION PERFORMANCE PROPERTIES OF BITUMINOUS MIXTURES","Fiber content, %",null,null,null,845]
[982,{"$f":"IF(INDIRECT(\"CON1_PROD!C50\")<>\"\",INDIRECT(\"CON1_PROD!C50\"),\"\")","v":""},"CON1_PROD","CON1 PRODUCTION DATA","PRODUCTION PERFORMANCE PROPERTIES OF BITUMINOUS MIXTURES","Membrane application rate, gal/sy",null,null,null,846]
[983,{"$f":"IF(INDIRECT(\"CON1_PROD!C52\")<>\"\",INDIRECT(\"CON1_PROD!C5\"),\"\")","v":""},"CON1_PROD","CON1 PRODUCTION DATA","PRODUCTION PERFORMANCE PROPERTIES OF BITUMINOUS MIXTURES","Tex 212-F Moisture content, %",null,null,null,847]
[984,{"$f":"IF(INDIRECT(\"CON1_PROD!C53\")<>\"\",INDIRECT(\"CON1_PROD!C53\"),\"\")","v":""},"CON1_PROD","CON1 PRODUCTION DATA","PRODUCTION PERFORMANCE PROPERTIES OF BITUMINOUS MIXTURES","Tex-530-C Boil test estimated percent stripping, %",null,null,null,848]
[985,{"$f":"IF(INDIRECT(\"CON1_PROD!C54\")<>\"\",INDIRECT(\"CON1_PROD!C54\"),\"\")","v":""},"CON1_PROD","CON1 PRODUCTION DATA","PRODUCTION PERFORMANCE PROPERTIES OF BITUMINOUS MIXTURES","Tex-244-F Thermal profile segregation",null,null,null,849]
[986]
[987]
[988]
[989,{"$f":"IF(INDIRECT(\"CON2_PROD!C3\")<>\"\",INDIRECT(\"CON2_PROD!C3\"),\"\")","v":""},"CON2_PROD","CON2 PRODUCTION DATA","Sublot sample date"]
[990,{"$f":"IF(INDIRECT(\"CON2_PROD!C4\")<>\"\",INDIRECT(\"CON2_PROD!C4\"),\"\")","v":""},"CON2_PROD","CON2 PRODUCTION DATA","Sublot location, Tons"]
[991,{"$f":"IF(INDIRECT(\"CON2_PROD!C5\")<>\"\",INDIRECT(\"CON2_PROD!C5\"),\"\")","v":""},"CON2_PROD","CON2 PRODUCTION DATA","Production location, Tons"]
[992]
[993]
[994,{"$f":"IF(INDIRECT(\"CON2_PROD!C9\")<>\"\",INDIRECT(\"CON2_PROD!C9\"),\"\")","v":""},"CON2_PROD","CON2 PRODUCTION DATA","DETERMINATION OF ASPHALT CONTENT","Weight of sample and basket before ignition, g",null,null,null,923]
[995,{"$f":"IF(INDIRECT(\"CON2_PROD!C10\")<>\"\",INDIRECT(\"CON2_PROD!C10\"),\"\")","v":""},"CON2_PROD","CON2 PRODUCTION DATA","DETERMINATION OF ASPHALT CONTENT","Weight of sample and basket after ignition, g",null,null,null,924]
[996,{"$f":"IF(INDIRECT(\"CON2_PROD!C11\")<>\"\",INDIRECT(\"CON2_PROD!C11\"),\"\")","v":""},"CON2_PROD","CON2 PRODUCTION DATA","DETERMINATION OF ASPHALT CONTENT","Weight of basket, g",null,null,null,925]
[997,{"$f":"IF(INDIRECT(\"CON2_PROD!C12\")<>\"\",INDIRECT(\"CON2_PROD!C12\"),\"\")","v":""},"CON2_PROD","CON2 PRODUCTION DATA","DETERMINATION OF ASPHALT CONTENT","Ignition oven AC, %",null,null,null,""]
[998,{"$f":"IF(INDIRECT(\"CON2_PROD!C13\")<>\"\",INDIRECT(\"CON2_PROD!C13\"),\"\")","v":""},"CON2_PROD","CON2 PRODUCTION DATA","DETERMINATION OF ASPHALT CONTENT","AC, %",null,null,null,926]
[999,{"$f":"IF(INDIRECT(\"CON2_PROD!C14\")<>\"\",INDIRECT(\"CON2_PROD!C14\"),\"\")","v":""},"CON2_PROD","CON2 PRODUCTION DATA","DETERMINATION OF ASPHALT CONTENT","Nuclear density gauge number",null,null,null,927]
[1000,{"$f":"IF(INDIRECT(\"CON2_PROD!C15\")<>\"\",INDIRECT(\"CON2_PROD!C15\"),\"\")","v":""},"CON2_PROD","CON2 PRODUCTION DATA","DETERMINATION OF ASPHALT CONTENT","Nuclear density gauge calibration reference number",null,null,null,928]
[1001,{"$f":"IF(INDIRECT(\"CON2_PROD!C16\")<>\"\",INDIRECT(\"CON2_PROD!C16\"),\"\")","v":""},"CON2_PROD","CON2 PRODUCTION DATA","DETERMINATION OF ASPHALT CONTENT","Nuclear density gauge time (hh:mm:ss)",null,null,null,929]
[1002,{"$f":"IF(INDIRECT(\"CON2_PROD!C17\")<>\"\",INDIRECT(\"CON2_PROD!C17\"),\"\")","v":""},"CON2_PROD","CON2 PRODUCTION DATA","DETERMINATION OF ASPHALT CONTENT","Corrected AC, %",null,null,null,""]
[1003,{"$f":"IF(INDIRECT(\"CON2_PROD!C18\")<>\"\",INDIRECT(\"CON2_PROD!C18\"),\"\")","v":""},"CON2_PROD","CON2 PRODUCTION DATA","DETERMINATION OF ASPHALT CONTENT","Ratio of recycled to total binder",null,null,null,""]
[1004,{"$f":"IF(INDIRECT(\"CON2_PROD!C19\")<>\"\",INDIRECT(\"CON2_PROD!C19\"),\"\")","v":""},"CON2_PROD","CON2 PRODUCTION DATA","DETERMINATION OF ASPHALT CONTENT","Binder sample received?",null,null,null,930]
[1005,{"$f":"IF(INDIRECT(\"CON2_PROD!C20\")<>\"\",INDIRECT(\"CON2_PROD!C20\"),\"\")","v":""},"CON2_PROD","CON2 PRODUCTION DATA","DETERMINATION OF ASPHALT CONTENT","DSR aging ratio",null,null,null,931]
[1006,null,null,null,null,null,null,null,null,""]
[1007,null,null,null,null,null,null,null,null,""]
[1008,{"$f":"IF(INDIRECT(\"CON2_PROD!C23\")<>\"\",INDIRECT(\"CON2_PROD!C23\"),\"\")","v":""},"CON2_PROD","CON2 PRODUCTION DATA","LAB DETERMINATION OF RICE SPECIFIC GRAVITY Tex-227-F"," (A) Weight of  dry sample in air, g",null,null,null,932]
[1009,{"$f":"IF(INDIRECT(\"CON2_PROD!C24\")<>\"\",INDIRECT(\"CON2_PROD!C24\"),\"\")","v":""},"CON2_PROD","CON2 PRODUCTION DATA","LAB DETERMINATION OF RICE SPECIFIC GRAVITY Tex-227-F"," (D) Weight of calibrated pyc. with water, g",null,null,null,933]
[1010,{"$f":"IF(INDIRECT(\"CON2_PROD!C25\")<>\"\",INDIRECT(\"CON2_PROD!C25\"),\"\")","v":""},"CON2_PROD","CON2 PRODUCTION DATA","LAB DETERMINATION OF RICE SPECIFIC GRAVITY Tex-227-F","(E) Weight of sample, pyc. and water, g",null,null,null,934]
[1011,{"$f":"IF(INDIRECT(\"CON2_PROD!C26\")<>\"\",INDIRECT(\"CON2_PROD!C26\"),\"\")","v":""},"CON2_PROD","CON2 PRODUCTION DATA","LAB DETERMINATION OF RICE SPECIFIC GRAVITY Tex-227-F","A/(D+A-E) Rice specific gravity (Gr)",null,null,null,""]
[1012,{"$f":"IF(INDIRECT(\"CON2_PROD!C27\")<>\"\",INDIRECT(\"CON2_PROD!C27\"),\"\")","v":""},"CON2_PROD","CON2 PRODUCTION DATA","LAB DETERMINATION OF RICE SPECIFIC GRAVITY Tex-227-F","(Asd) Weight of surface dry sample in air, g",null,null,null,935]
[1013,{"$f":"IF(INDIRECT(\"CON2_PROD!C28\")<>\"\",INDIRECT(\"CON2_PROD!C28\"),\"\")","v":""},"CON2_PROD","CON2 PRODUCTION DATA","LAB DETERMINATION OF RICE SPECIFIC GRAVITY Tex-227-F","A/(D+Asd-E) Rice Specific Gravity (Grc)",null,null,null,""]
[1014,{"$f":"IF(INDIRECT(\"CON2_PROD!C29\")<>\"\",INDIRECT(\"CON2_PROD!C29\"),\"\")","v":""},"CON2_PROD","CON2 PRODUCTION DATA","LAB DETERMINATION OF RICE SPECIFIC GRAVITY Tex-227-F","(Gr-Grc)/Grc Percentage Difference",null,null,null,""]
[1015,{"$f":"IF(INDIRECT(\"CON2_PROD!C30\")<>\"\",INDIRECT(\"CON2_PROD!C30\"),\"\")","v":""},"CON2_PROD","CON2 PRODUCTION DATA","LAB DETERMINATION OF RICE SPECIFIC GRAVITY Tex-227-F","A/(D+Asd-E) Rice Specific Gravity (Grc)",null,null,null,""]
[1016,null,null,null,null,null,null,null,null,""]
[1017,null,null,null,null,null,null,null,null,""]
[1018,null,null,null,null,null,null,null,null,""]
[1019,{"$f":"IF(INDIRECT(\"CON2_PROD!C34\")<>\"\",INDIRECT(\"CON2_PROD!C34\"),\"\")","v":""},"CON2_PROD","CON2 PRODUCTION DATA","ROAD DETERMINATION OF RICE SPECIFIC GRAVITY Tex-227-F"," (A) Weight of  dry sample in air, g",null,null,null,936]
[1020,{"$f":"IF(INDIRECT(\"CON2_PROD!C35\")<>\"\",INDIRECT(\"CON2_PROD!C35\"),\"\")","v":""},"CON2_PROD","CON2 PRODUCTION DATA","ROAD DETERMINATION OF RICE SPECIFIC GRAVITY Tex-227-F"," (D) Weight of calibrated pyc. with water, g",null,null,null,937]
[1021,{"$f":"IF(INDIRECT(\"CON2_PROD!C36\")<>\"\",INDIRECT(\"CON2_PROD!C36\"),\"\")","v":""},"CON2_PROD","CON2 PRODUCTION DATA","ROAD DETERMINATION OF RICE SPECIFIC GRAVITY Tex-227-F","(E) Weight of sample, pyc. and water, g",null,null,null,938]
[1022,{"$f":"IF(INDIRECT(\"CON2_PROD!C37\")<>\"\",INDIRECT(\"CON2_PROD!C37\"),\"\")","v":""},"CON2_PROD","CON2 PRODUCTION DATA","ROAD DETERMINATION OF RICE SPECIFIC GRAVITY Tex-227-F","A/(D+A-E) Rice specific gravity (Gr)",null,null,null,""]
[1023,{"$f":"IF(INDIRECT(\"CON2_PROD!C38\")<>\"\",INDIRECT(\"CON2_PROD!C38\"),\"\")","v":""},"CON2_PROD","CON2 PRODUCTION DATA","ROAD DETERMINATION OF RICE SPECIFIC GRAVITY Tex-227-F","(Asd) Weight of surface dry sample in air, g",null,null,null,939]
[1024,{"$f":"IF(INDIRECT(\"CON2_PROD!C39\")<>\"\",INDIRECT(\"CON2_PROD!C39\"),\"\")","v":""},"CON2_PROD","CON2 PRODUCTION DATA","ROAD DETERMINATION OF RICE SPECIFIC GRAVITY Tex-227-F","A/(D+Asd-E) Rice Specific Gravity (Grc)",null,null,null,""]
[1025,{"$f":"IF(INDIRECT(\"CON2_PROD!C40\")<>\"\",INDIRECT(\"CON2_PROD!C40\"),\"\")","v":""},"CON2_PROD","CON2 PRODUCTION DATA","ROAD DETERMINATION OF RICE SPECIFIC GRAVITY Tex-227-F","(Gr-Grc)/Grc Percentage Difference",null,null,null,""]
[1026,null,null,null,null,null,null,null,null,""]
[1027,null,null,null,null,null,null,null,null,""]
[1028,null,null,null,null,null,null,null,null,""]
[1029,null,null,null,null,null,null,null,null,""]
[1030,{"$f":"IF(INDIRECT(\"CON2_PROD!C45\")<>\"\",INDIRECT(\"CON2_PROD!C45\"),\"\")","v":""},"CON2_PROD","CON2 PRODUCTION DATA","PRODUCTION PERFORMANCE PROPERTIES OF BITUMINOUS MIXTURES","Tex-248-F Overlay test number of cycles",null,null,null,940]
[1031,{"$f":"IF(INDIRECT(\"CON2_PROD!C46\")<>\"\",INDIRECT(\"CON2_PROD!C46\"),\"\")","v":""},"CON2_PROD","CON2 PRODUCTION DATA","PRODUCTION PERFORMANCE PROPERTIES OF BITUMINOUS MIXTURES","Tex-245-F Cantabro loss content, %",null,null,null,941]
[1032,{"$f":"IF(INDIRECT(\"CON2_PROD!C47\")<>\"\",INDIRECT(\"CON2_PROD!C47\"),\"\")","v":""},"CON2_PROD","CON2 PRODUCTION DATA","PRODUCTION PERFORMANCE PROPERTIES OF BITUMINOUS MIXTURES","CRM content, %",null,null,null,942]
[1033,{"$f":"IF(INDIRECT(\"CON2_PROD!C48\")<>\"\",INDIRECT(\"CON2_PROD!C48\"),\"\")","v":""},"CON2_PROD","CON2 PRODUCTION DATA","PRODUCTION PERFORMANCE PROPERTIES OF BITUMINOUS MIXTURES","Tex-235-F Binder draindown, %",null,null,null,943]
[1034,{"$f":"IF(INDIRECT(\"CON2_PROD!C49\")<>\"\",INDIRECT(\"CON2_PROD!C49\"),\"\")","v":""},"CON2_PROD","CON2 PRODUCTION DATA","PRODUCTION PERFORMANCE PROPERTIES OF BITUMINOUS MIXTURES","Fiber content, %",null,null,null,944]
[1035,{"$f":"IF(INDIRECT(\"CON2_PROD!C50\")<>\"\",INDIRECT(\"CON2_PROD!C50\"),\"\")","v":""},"CON2_PROD","CON2 PRODUCTION DATA","PRODUCTION PERFORMANCE PROPERTIES OF BITUMINOUS MIXTURES","Membrane application rate, gal/sy",null,null,null,945]
[1036,{"$f":"IF(INDIRECT(\"CON2_PROD!C52\")<>\"\",INDIRECT(\"CON2_PROD!C5\"),\"\")","v":""},"CON2_PROD","CON2 PRODUCTION DATA","PRODUCTION PERFORMANCE PROPERTIES OF BITUMINOUS MIXTURES","Tex 212-F Moisture content, %",null,null,null,946]
[1037,{"$f":"IF(INDIRECT(\"CON2_PROD!C53\")<>\"\",INDIRECT(\"CON2_PROD!C53\"),\"\")","v":""},"CON2_PROD","CON2 PRODUCTION DATA","PRODUCTION PERFORMANCE PROPERTIES OF BITUMINOUS MIXTURES","Tex-530-C Boil test estimated percent stripping, %",null,null,null,947]
[1038,{"$f":"IF(INDIRECT(\"CON2_PROD!C54\")<>\"\",INDIRECT(\"CON2_PROD!C54\"),\"\")","v":""},"CON2_PROD","CON2 PRODUCTION DATA","PRODUCTION PERFORMANCE PROPERTIES OF BITUMINOUS MIXTURES","Tex-244-F Thermal profile segregation",null,null,null,948]
[1039]
[1040]
[1041]
[1042,{"$f":"IF(INDIRECT(\"CON3_PROD!C3\")<>\"\",INDIRECT(\"CON3_PROD!C3\"),\"\")","v":""},"CON3_PROD","CON3 PRODUCTION DATA","Sublot sample date"]
[1043,{"$f":"IF(INDIRECT(\"CON3_PROD!C4\")<>\"\",INDIRECT(\"CON3_PROD!C4\"),\"\")","v":""},"CON3_PROD","CON3 PRODUCTION DATA","Sublot location, Tons"]
[1044,{"$f":"IF(INDIRECT(\"CON3_PROD!C5\")<>\"\",INDIRECT(\"CON3_PROD!C5\"),\"\")","v":""},"CON3_PROD","CON3 PRODUCTION DATA","Production location, Tons"]
[1045]
[1046]
[1047,{"$f":"IF(INDIRECT(\"CON3_PROD!C9\")<>\"\",INDIRECT(\"CON3_PROD!C9\"),\"\")","v":""},"CON3_PROD","CON3 PRODUCTION DATA","DETERMINATION OF ASPHALT CONTENT","Weight of sample and basket before ignition, g",null,null,null,1022]
[1048,{"$f":"IF(INDIRECT(\"CON3_PROD!C10\")<>\"\",INDIRECT(\"CON3_PROD!C10\"),\"\")","v":""},"CON3_PROD","CON3 PRODUCTION DATA","DETERMINATION OF ASPHALT CONTENT","Weight of sample and basket after ignition, g",null,null,null,1023]
[1049,{"$f":"IF(INDIRECT(\"CON3_PROD!C11\")<>\"\",INDIRECT(\"CON3_PROD!C11\"),\"\")","v":""},"CON3_PROD","CON3 PRODUCTION DATA","DETERMINATION OF ASPHALT CONTENT","Weight of basket, g",null,null,null,1024]
[1050,{"$f":"IF(INDIRECT(\"CON3_PROD!C12\")<>\"\",INDIRECT(\"CON3_PROD!C12\"),\"\")","v":""},"CON3_PROD","CON3 PRODUCTION DATA","DETERMINATION OF ASPHALT CONTENT","Ignition oven AC, %",null,null,null,""]
[1051,{"$f":"IF(INDIRECT(\"CON3_PROD!C13\")<>\"\",INDIRECT(\"CON3_PROD!C13\"),\"\")","v":""},"CON3_PROD","CON3 PRODUCTION DATA","DETERMINATION OF ASPHALT CONTENT","AC, %",null,null,null,1025]
[1052,{"$f":"IF(INDIRECT(\"CON3_PROD!C14\")<>\"\",INDIRECT(\"CON3_PROD!C14\"),\"\")","v":""},"CON3_PROD","CON3 PRODUCTION DATA","DETERMINATION OF ASPHALT CONTENT","Nuclear density gauge number",null,null,null,1026]
[1053,{"$f":"IF(INDIRECT(\"CON3_PROD!C15\")<>\"\",INDIRECT(\"CON3_PROD!C15\"),\"\")","v":""},"CON3_PROD","CON3 PRODUCTION DATA","DETERMINATION OF ASPHALT CONTENT","Nuclear density gauge calibration reference number",null,null,null,1027]
[1054,{"$f":"IF(INDIRECT(\"CON3_PROD!C16\")<>\"\",INDIRECT(\"CON3_PROD!C16\"),\"\")","v":""},"CON3_PROD","CON3 PRODUCTION DATA","DETERMINATION OF ASPHALT CONTENT","Nuclear density gauge time (hh:mm:ss)",null,null,null,1028]
[1055,{"$f":"IF(INDIRECT(\"CON3_PROD!C17\")<>\"\",INDIRECT(\"CON3_PROD!C17\"),\"\")","v":""},"CON3_PROD","CON3 PRODUCTION DATA","DETERMINATION OF ASPHALT CONTENT","Corrected AC, %",null,null,null,""]
[1056,{"$f":"IF(INDIRECT(\"CON3_PROD!C18\")<>\"\",INDIRECT(\"CON3_PROD!C18\"),\"\")","v":""},"CON3_PROD","CON3 PRODUCTION DATA","DETERMINATION OF ASPHALT CONTENT","Ratio of recycled to total binder",null,null,null,""]
[1057,{"$f":"IF(INDIRECT(\"CON3_PROD!C19\")<>\"\",INDIRECT(\"CON3_PROD!C19\"),\"\")","v":""},"CON3_PROD","CON3 PRODUCTION DATA","DETERMINATION OF ASPHALT CONTENT","Binder sample received?",null,null,null,1029]
[1058,{"$f":"IF(INDIRECT(\"CON3_PROD!C20\")<>\"\",INDIRECT(\"CON3_PROD!C20\"),\"\")","v":""},"CON3_PROD","CON3 PRODUCTION DATA","DETERMINATION OF ASPHALT CONTENT","DSR aging ratio",null,null,null,1030]
[1059,null,null,null,null,null,null,null,null,""]
[1060,null,null,null,null,null,null,null,null,""]
[1061,{"$f":"IF(INDIRECT(\"CON3_PROD!C23\")<>\"\",INDIRECT(\"CON3_PROD!C23\"),\"\")","v":""},"CON3_PROD","CON3 PRODUCTION DATA","LAB DETERMINATION OF RICE SPECIFIC GRAVITY Tex-227-F"," (A) Weight of  dry sample in air, g",null,null,null,1031]
[1062,{"$f":"IF(INDIRECT(\"CON3_PROD!C24\")<>\"\",INDIRECT(\"CON3_PROD!C24\"),\"\")","v":""},"CON3_PROD","CON3 PRODUCTION DATA","LAB DETERMINATION OF RICE SPECIFIC GRAVITY Tex-227-F"," (D) Weight of calibrated pyc. with water, g",null,null,null,1032]
[1063,{"$f":"IF(INDIRECT(\"CON3_PROD!C25\")<>\"\",INDIRECT(\"CON3_PROD!C25\"),\"\")","v":""},"CON3_PROD","CON3 PRODUCTION DATA","LAB DETERMINATION OF RICE SPECIFIC GRAVITY Tex-227-F","(E) Weight of sample, pyc. and water, g",null,null,null,1033]
[1064,{"$f":"IF(INDIRECT(\"CON3_PROD!C26\")<>\"\",INDIRECT(\"CON3_PROD!C26\"),\"\")","v":""},"CON3_PROD","CON3 PRODUCTION DATA","LAB DETERMINATION OF RICE SPECIFIC GRAVITY Tex-227-F","A/(D+A-E) Rice specific gravity (Gr)",null,null,null,""]
[1065,{"$f":"IF(INDIRECT(\"CON3_PROD!C27\")<>\"\",INDIRECT(\"CON3_PROD!C27\"),\"\")","v":""},"CON3_PROD","CON3 PRODUCTION DATA","LAB DETERMINATION OF RICE SPECIFIC GRAVITY Tex-227-F","(Asd) Weight of surface dry sample in air, g",null,null,null,1034]
[1066,{"$f":"IF(INDIRECT(\"CON3_PROD!C28\")<>\"\",INDIRECT(\"CON3_PROD!C28\"),\"\")","v":""},"CON3_PROD","CON3 PRODUCTION DATA","LAB DETERMINATION OF RICE SPECIFIC GRAVITY Tex-227-F","A/(D+Asd-E) Rice Specific Gravity (Grc)",null,null,null,""]
[1067,{"$f":"IF(INDIRECT(\"CON3_PROD!C29\")<>\"\",INDIRECT(\"CON3_PROD!C29\"),\"\")","v":""},"CON3_PROD","CON3 PRODUCTION DATA","LAB DETERMINATION OF RICE SPECIFIC GRAVITY Tex-227-F","(Gr-Grc)/Grc Percentage Difference",null,null,null,""]
[1068,{"$f":"IF(INDIRECT(\"CON3_PROD!C30\")<>\"\",INDIRECT(\"CON3_PROD!C30\"),\"\")","v":""},"CON3_PROD","CON3 PRODUCTION DATA","LAB DETERMINATION OF RICE SPECIFIC GRAVITY Tex-227-F","A/(D+Asd-E) Rice Specific Gravity (Grc)",null,null,null,""]
[1069,null,null,null,null,null,null,null,null,""]
[1070,null,null,null,null,null,null,null,null,""]
[1071,null,null,null,null,null,null,null,null,""]
[1072,{"$f":"IF(INDIRECT(\"CON3_PROD!C34\")<>\"\",INDIRECT(\"CON3_PROD!C34\"),\"\")","v":""},"CON3_PROD","CON3 PRODUCTION DATA","ROAD DETERMINATION OF RICE SPECIFIC GRAVITY Tex-227-F"," (A) Weight of  dry sample in air, g",null,null,null,1035]
[1073,{"$f":"IF(INDIRECT(\"CON3_PROD!C35\")<>\"\",INDIRECT(\"CON3_PROD!C35\"),\"\")","v":""},"CON3_PROD","CON3 PRODUCTION DATA","ROAD DETERMINATION OF RICE SPECIFIC GRAVITY Tex-227-F"," (D) Weight of calibrated pyc. with water, g",null,null,null,1036]
[1074,{"$f":"IF(INDIRECT(\"CON3_PROD!C36\")<>\"\",INDIRECT(\"CON3_PROD!C36\"),\"\")","v":""},"CON3_PROD","CON3 PRODUCTION DATA","ROAD DETERMINATION OF RICE SPECIFIC GRAVITY Tex-227-F","(E) Weight of sample, pyc. and water, g",null,null,null,1037]
[1075,{"$f":"IF(INDIRECT(\"CON3_PROD!C37\")<>\"\",INDIRECT(\"CON3_PROD!C37\"),\"\")","v":""},"CON3_PROD","CON3 PRODUCTION DATA","ROAD DETERMINATION OF RICE SPECIFIC GRAVITY Tex-227-F","A/(D+A-E) Rice specific gravity (Gr)",null,null,null,""]
[1076,{"$f":"IF(INDIRECT(\"CON3_PROD!C38\")<>\"\",INDIRECT(\"CON3_PROD!C38\"),\"\")","v":""},"CON3_PROD","CON3 PRODUCTION DATA","ROAD DETERMINATION OF RICE SPECIFIC GRAVITY Tex-227-F","(Asd) Weight of surface dry sample in air, g",null,null,null,1038]
[1077,{"$f":"IF(INDIRECT(\"CON3_PROD!C39\")<>\"\",INDIRECT(\"CON3_PROD!C39\"),\"\")","v":""},"CON3_PROD","CON3 PRODUCTION DATA","ROAD DETERMINATION OF RICE SPECIFIC GRAVITY Tex-227-F","A/(D+Asd-E) Rice Specific Gravity (Grc)",null,null,null,""]
[1078,{"$f":"IF(INDIRECT(\"CON3_PROD!C40\")<>\"\",INDIRECT(\"CON3_PROD!C40\"),\"\")","v":""},"CON3_PROD","CON3 PRODUCTION DATA","ROAD DETERMINATION OF RICE SPECIFIC GRAVITY Tex-227-F","(Gr-Grc)/Grc Percentage Difference",null,null,null,""]
[1079,null,null,null,null,null,null,null,null,""]
[1080,null,null,null,null,null,null,null,null,""]
[1081,null,null,null,null,null,null,null,null,""]
[1082,null,null,null,null,null,null,null,null,""]
[1083,{"$f":"IF(INDIRECT(\"CON3_PROD!C45\")<>\"\",INDIRECT(\"CON3_PROD!C45\"),\"\")","v":""},"CON3_PROD","CON3 PRODUCTION DATA","PRODUCTION PERFORMANCE PROPERTIES OF BITUMINOUS MIXTURES","Tex-248-F Overlay test number of cycles",null,null,null,1039]
[1084,{"$f":"IF(INDIRECT(\"CON3_PROD!C46\")<>\"\",INDIRECT(\"CON3_PROD!C46\"),\"\")","v":""},"CON3_PROD","CON3 PRODUCTION DATA","PRODUCTION PERFORMANCE PROPERTIES OF BITUMINOUS MIXTURES","Tex-245-F Cantabro loss content, %",null,null,null,1040]
[1085,{"$f":"IF(INDIRECT(\"CON3_PROD!C47\")<>\"\",INDIRECT(\"CON3_PROD!C47\"),\"\")","v":""},"CON3_PROD","CON3 PRODUCTION DATA","PRODUCTION PERFORMANCE PROPERTIES OF BITUMINOUS MIXTURES","CRM content, %",null,null,null,1041]
[1086,{"$f":"IF(INDIRECT(\"CON3_PROD!C48\")<>\"\",INDIRECT(\"CON3_PROD!C48\"),\"\")","v":""},"CON3_PROD","CON3 PRODUCTION DATA","PRODUCTION PERFORMANCE PROPERTIES OF BITUMINOUS MIXTURES","Tex-235-F Binder draindown, %",null,null,null,1042]
[1087,{"$f":"IF(INDIRECT(\"CON3_PROD!C49\")<>\"\",INDIRECT(\"CON3_PROD!C49\"),\"\")","v":""},"CON3_PROD","CON3 PRODUCTION DATA","PRODUCTION PERFORMANCE PROPERTIES OF BITUMINOUS MIXTURES","Fiber content, %",null,null,null,1043]
[1088,{"$f":"IF(INDIRECT(\"CON3_PROD!C50\")<>\"\",INDIRECT(\"CON3_PROD!C50\"),\"\")","v":""},"CON3_PROD","CON3 PRODUCTION DATA","PRODUCTION PERFORMANCE PROPERTIES OF BITUMINOUS MIXTURES","Membrane application rate, gal/sy",null,null,null,1044]
[1089,{"$f":"IF(INDIRECT(\"CON3_PROD!C52\")<>\"\",INDIRECT(\"CON3_PROD!C5\"),\"\")","v":""},"CON3_PROD","CON3 PRODUCTION DATA","PRODUCTION PERFORMANCE PROPERTIES OF BITUMINOUS MIXTURES","Tex 212-F Moisture content, %",null,null,null,1045]
[1090,{"$f":"IF(INDIRECT(\"CON3_PROD!C53\")<>\"\",INDIRECT(\"CON3_PROD!C53\"),\"\")","v":""},"CON3_PROD","CON3 PRODUCTION DATA","PRODUCTION PERFORMANCE PROPERTIES OF BITUMINOUS MIXTURES","Tex-530-C Boil test estimated percent stripping, %",null,null,null,1046]
[1091,{"$f":"IF(INDIRECT(\"CON3_PROD!C54\")<>\"\",INDIRECT(\"CON3_PROD!C54\"),\"\")","v":""},"CON3_PROD","CON3 PRODUCTION DATA","PRODUCTION PERFORMANCE PROPERTIES OF BITUMINOUS MIXTURES","Tex-244-F Thermal profile segregation",null,null,null,1047]
[1092]
[1093]
[1094]
[1095,{"$f":"IF(INDIRECT(\"CON4_PROD!C3\")<>\"\",INDIRECT(\"CON4_PROD!C3\"),\"\")","v":""},"CON4_PROD","CON4 PRODUCTION DATA","Sublot sample date"]
[1096,{"$f":"IF(INDIRECT(\"CON4_PROD!C4\")<>\"\",INDIRECT(\"CON4_PROD!C4\"),\"\")","v":""},"CON4_PROD","CON4 PRODUCTION DATA","Sublot location, Tons"]
[1097,{"$f":"IF(INDIRECT(\"CON4_PROD!C5\")<>\"\",INDIRECT(\"CON4_PROD!C5\"),\"\")","v":""},"CON4_PROD","CON4 PRODUCTION DATA","Production location, Tons"]
[1098]
[1099]
[1100,{"$f":"IF(INDIRECT(\"CON4_PROD!C9\")<>\"\",INDIRECT(\"CON4_PROD!C9\"),\"\")","v":""},"CON4_PROD","CON4 PRODUCTION DATA","DETERMINATION OF ASPHALT CONTENT","Weight of sample and basket before ignition, g",null,null,null,1121]
[1101,{"$f":"IF(INDIRECT(\"CON4_PROD!C10\")<>\"\",INDIRECT(\"CON4_PROD!C10\"),\"\")","v":""},"CON4_PROD","CON4 PRODUCTION DATA","DETERMINATION OF ASPHALT CONTENT","Weight of sample and basket after ignition, g",null,null,null,1122]
[1102,{"$f":"IF(INDIRECT(\"CON4_PROD!C11\")<>\"\",INDIRECT(\"CON4_PROD!C11\"),\"\")","v":""},"CON4_PROD","CON4 PRODUCTION DATA","DETERMINATION OF ASPHALT CONTENT","Weight of basket, g",null,null,null,1123]
[1103,{"$f":"IF(INDIRECT(\"CON4_PROD!C12\")<>\"\",INDIRECT(\"CON4_PROD!C12\"),\"\")","v":""},"CON4_PROD","CON4 PRODUCTION DATA","DETERMINATION OF ASPHALT CONTENT","Ignition oven AC, %",null,null,null,""]
[1104,{"$f":"IF(INDIRECT(\"CON4_PROD!C13\")<>\"\",INDIRECT(\"CON4_PROD!C13\"),\"\")","v":""},"CON4_PROD","CON4 PRODUCTION DATA","DETERMINATION OF ASPHALT CONTENT","AC, %",null,null,null,1124]
[1105,{"$f":"IF(INDIRECT(\"CON4_PROD!C14\")<>\"\",INDIRECT(\"CON4_PROD!C14\"),\"\")","v":""},"CON4_PROD","CON4 PRODUCTION DATA","DETERMINATION OF ASPHALT CONTENT","Nuclear density gauge number",null,null,null,1125]
[1106,{"$f":"IF(INDIRECT(\"CON4_PROD!C15\")<>\"\",INDIRECT(\"CON4_PROD!C15\"),\"\")","v":""},"CON4_PROD","CON4 PRODUCTION DATA","DETERMINATION OF ASPHALT CONTENT","Nuclear density gauge calibration reference number",null,null,null,1126]
[1107,{"$f":"IF(INDIRECT(\"CON4_PROD!C16\")<>\"\",INDIRECT(\"CON4_PROD!C16\"),\"\")","v":""},"CON4_PROD","CON4 PRODUCTION DATA","DETERMINATION OF ASPHALT CONTENT","Nuclear density gauge time (hh:mm:ss)",null,null,null,1127]
[1108,{"$f":"IF(INDIRECT(\"CON4_PROD!C17\")<>\"\",INDIRECT(\"CON4_PROD!C17\"),\"\")","v":""},"CON4_PROD","CON4 PRODUCTION DATA","DETERMINATION OF ASPHALT CONTENT","Corrected AC, %",null,null,null,""]
[1109,{"$f":"IF(INDIRECT(\"CON4_PROD!C18\")<>\"\",INDIRECT(\"CON4_PROD!C18\"),\"\")","v":""},"CON4_PROD","CON4 PRODUCTION DATA","DETERMINATION OF ASPHALT CONTENT","Ratio of recycled to total binder",null,null,null,""]
[1110,{"$f":"IF(INDIRECT(\"CON4_PROD!C19\")<>\"\",INDIRECT(\"CON4_PROD!C19\"),\"\")","v":""},"CON4_PROD","CON4 PRODUCTION DATA","DETERMINATION OF ASPHALT CONTENT","Binder sample received?",null,null,null,1128]
[1111,{"$f":"IF(INDIRECT(\"CON4_PROD!C20\")<>\"\",INDIRECT(\"CON4_PROD!C20\"),\"\")","v":""},"CON4_PROD","CON4 PRODUCTION DATA","DETERMINATION OF ASPHALT CONTENT","DSR aging ratio",null,null,null,1129]
[1112,null,null,null,null,null,null,null,null,""]
[1113,null,null,null,null,null,null,null,null,""]
[1114,{"$f":"IF(INDIRECT(\"CON4_PROD!C23\")<>\"\",INDIRECT(\"CON4_PROD!C23\"),\"\")","v":""},"CON4_PROD","CON4 PRODUCTION DATA","LAB DETERMINATION OF RICE SPECIFIC GRAVITY Tex-227-F"," (A) Weight of  dry sample in air, g",null,null,null,1130]
[1115,{"$f":"IF(INDIRECT(\"CON4_PROD!C24\")<>\"\",INDIRECT(\"CON4_PROD!C24\"),\"\")","v":""},"CON4_PROD","CON4 PRODUCTION DATA","LAB DETERMINATION OF RICE SPECIFIC GRAVITY Tex-227-F"," (D) Weight of calibrated pyc. with water, g",null,null,null,1131]
[1116,{"$f":"IF(INDIRECT(\"CON4_PROD!C25\")<>\"\",INDIRECT(\"CON4_PROD!C25\"),\"\")","v":""},"CON4_PROD","CON4 PRODUCTION DATA","LAB DETERMINATION OF RICE SPECIFIC GRAVITY Tex-227-F","(E) Weight of sample, pyc. and water, g",null,null,null,1132]
[1117,{"$f":"IF(INDIRECT(\"CON4_PROD!C26\")<>\"\",INDIRECT(\"CON4_PROD!C26\"),\"\")","v":""},"CON4_PROD","CON4 PRODUCTION DATA","LAB DETERMINATION OF RICE SPECIFIC GRAVITY Tex-227-F","A/(D+A-E) Rice specific gravity (Gr)",null,null,null,""]
[1118,{"$f":"IF(INDIRECT(\"CON4_PROD!C27\")<>\"\",INDIRECT(\"CON4_PROD!C27\"),\"\")","v":""},"CON4_PROD","CON4 PRODUCTION DATA","LAB DETERMINATION OF RICE SPECIFIC GRAVITY Tex-227-F","(Asd) Weight of surface dry sample in air, g",null,null,null,1133]
[1119,{"$f":"IF(INDIRECT(\"CON4_PROD!C28\")<>\"\",INDIRECT(\"CON4_PROD!C28\"),\"\")","v":""},"CON4_PROD","CON4 PRODUCTION DATA","LAB DETERMINATION OF RICE SPECIFIC GRAVITY Tex-227-F","A/(D+Asd-E) Rice Specific Gravity (Grc)",null,null,null,""]
[1120,{"$f":"IF(INDIRECT(\"CON4_PROD!C29\")<>\"\",INDIRECT(\"CON4_PROD!C29\"),\"\")","v":""},"CON4_PROD","CON4 PRODUCTION DATA","LAB DETERMINATION OF RICE SPECIFIC GRAVITY Tex-227-F","(Gr-Grc)/Grc Percentage Difference",null,null,null,""]
[1121,{"$f":"IF(INDIRECT(\"CON4_PROD!C30\")<>\"\",INDIRECT(\"CON4_PROD!C30\"),\"\")","v":""},"CON4_PROD","CON4 PRODUCTION DATA","LAB DETERMINATION OF RICE SPECIFIC GRAVITY Tex-227-F","A/(D+Asd-E) Rice Specific Gravity (Grc)",null,null,null,""]
[1122,null,null,null,null,null,null,null,null,""]
[1123,null,null,null,null,null,null,null,null,""]
[1124,null,null,null,null,null,null,null,null,""]
[1125,{"$f":"IF(INDIRECT(\"CON4_PROD!C34\")<>\"\",INDIRECT(\"CON4_PROD!C34\"),\"\")","v":""},"CON4_PROD","CON4 PRODUCTION DATA","ROAD DETERMINATION OF RICE SPECIFIC GRAVITY Tex-227-F"," (A) Weight of  dry sample in air, g",null,null,null,1134]
[1126,{"$f":"IF(INDIRECT(\"CON4_PROD!C35\")<>\"\",INDIRECT(\"CON4_PROD!C35\"),\"\")","v":""},"CON4_PROD","CON4 PRODUCTION DATA","ROAD DETERMINATION OF RICE SPECIFIC GRAVITY Tex-227-F"," (D) Weight of calibrated pyc. with water, g",null,null,null,1135]
[1127,{"$f":"IF(INDIRECT(\"CON4_PROD!C36\")<>\"\",INDIRECT(\"CON4_PROD!C36\"),\"\")","v":""},"CON4_PROD","CON4 PRODUCTION DATA","ROAD DETERMINATION OF RICE SPECIFIC GRAVITY Tex-227-F","(E) Weight of sample, pyc. and water, g",null,null,null,1136]
[1128,{"$f":"IF(INDIRECT(\"CON4_PROD!C37\")<>\"\",INDIRECT(\"CON4_PROD!C37\"),\"\")","v":""},"CON4_PROD","CON4 PRODUCTION DATA","ROAD DETERMINATION OF RICE SPECIFIC GRAVITY Tex-227-F","A/(D+A-E) Rice specific gravity (Gr)",null,null,null,""]
[1129,{"$f":"IF(INDIRECT(\"CON4_PROD!C38\")<>\"\",INDIRECT(\"CON4_PROD!C38\"),\"\")","v":""},"CON4_PROD","CON4 PRODUCTION DATA","ROAD DETERMINATION OF RICE SPECIFIC GRAVITY Tex-227-F","(Asd) Weight of surface dry sample in air, g",null,null,null,1137]
[1130,{"$f":"IF(INDIRECT(\"CON4_PROD!C39\")<>\"\",INDIRECT(\"CON4_PROD!C39\"),\"\")","v":""},"CON4_PROD","CON4 PRODUCTION DATA","ROAD DETERMINATION OF RICE SPECIFIC GRAVITY Tex-227-F","A/(D+Asd-E) Rice Specific Gravity (Grc)",null,null,null,""]
[1131,{"$f":"IF(INDIRECT(\"CON4_PROD!C40\")<>\"\",INDIRECT(\"CON4_PROD!C40\"),\"\")","v":""},"CON4_PROD","CON4 PRODUCTION DATA","ROAD DETERMINATION OF RICE SPECIFIC GRAVITY Tex-227-F","(Gr-Grc)/Grc Percentage Difference",null,null,null,""]
[1132,null,null,null,null,null,null,null,null,""]
[1133,null,null,null,null,null,null,null,null,""]
[1134,null,null,null,null,null,null,null,null,""]
[1135,null,null,null,null,null,null,null,null,""]
[1136,{"$f":"IF(INDIRECT(\"CON4_PROD!C45\")<>\"\",INDIRECT(\"CON4_PROD!C45\"),\"\")","v":""},"CON4_PROD","CON4 PRODUCTION DATA","PRODUCTION PERFORMANCE PROPERTIES OF BITUMINOUS MIXTURES","Tex-248-F Overlay test number of cycles",null,null,null,1138]
[1137,{"$f":"IF(INDIRECT(\"CON4_PROD!C46\")<>\"\",INDIRECT(\"CON4_PROD!C46\"),\"\")","v":""},"CON4_PROD","CON4 PRODUCTION DATA","PRODUCTION PERFORMANCE PROPERTIES OF BITUMINOUS MIXTURES","Tex-245-F Cantabro loss content, %",null,null,null,1139]
[1138,{"$f":"IF(INDIRECT(\"CON4_PROD!C47\")<>\"\",INDIRECT(\"CON4_PROD!C47\"),\"\")","v":""},"CON4_PROD","CON4 PRODUCTION DATA","PRODUCTION PERFORMANCE PROPERTIES OF BITUMINOUS MIXTURES","CRM content, %",null,null,null,1140]
[1139,{"$f":"IF(INDIRECT(\"CON4_PROD!C48\")<>\"\",INDIRECT(\"CON4_PROD!C48\"),\"\")","v":""},"CON4_PROD","CON4 PRODUCTION DATA","PRODUCTION PERFORMANCE PROPERTIES OF BITUMINOUS MIXTURES","Tex-235-F Binder draindown, %",null,null,null,1141]
[1140,{"$f":"IF(INDIRECT(\"CON4_PROD!C49\")<>\"\",INDIRECT(\"CON4_PROD!C49\"),\"\")","v":""},"CON4_PROD","CON4 PRODUCTION DATA","PRODUCTION PERFORMANCE PROPERTIES OF BITUMINOUS MIXTURES","Fiber content, %",null,null,null,1142]
[1141,{"$f":"IF(INDIRECT(\"CON4_PROD!C50\")<>\"\",INDIRECT(\"CON4_PROD!C50\"),\"\")","v":""},"CON4_PROD","CON4 PRODUCTION DATA","PRODUCTION PERFORMANCE PROPERTIES OF BITUMINOUS MIXTURES","Membrane application rate, gal/sy",null,null,null,1143]
[1142,{"$f":"IF(INDIRECT(\"CON4_PROD!C52\")<>\"\",INDIRECT(\"CON4_PROD!C5\"),\"\")","v":""},"CON4_PROD","CON4 PRODUCTION DATA","PRODUCTION PERFORMANCE PROPERTIES OF BITUMINOUS MIXTURES","Tex 212-F Moisture content, %",null,null,null,1144]
[1143,{"$f":"IF(INDIRECT(\"CON4_PROD!C53\")<>\"\",INDIRECT(\"CON4_PROD!C53\"),\"\")","v":""},"CON4_PROD","CON4 PRODUCTION DATA","PRODUCTION PERFORMANCE PROPERTIES OF BITUMINOUS MIXTURES","Tex-530-C Boil test estimated percent stripping, %",null,null,null,1145]
[1144,{"$f":"IF(INDIRECT(\"CON4_PROD!C54\")<>\"\",INDIRECT(\"CON4_PROD!C54\"),\"\")","v":""},"CON4_PROD","CON4 PRODUCTION DATA","PRODUCTION PERFORMANCE PROPERTIES OF BITUMINOUS MIXTURES","Tex-244-F Thermal profile segregation",null,null,null,1146]
[1145]
[1146]
[1147]
[1148]
[1149,{"$f":"IF(INDIRECT(\"DOT1_GRAD!G4\")<>\"\",INDIRECT(\"DOT1_GRAD!G4\"),\"\")","v":""},"DOT1_GRAD","DOT1 GRADATION OF EXTRACTED AGGREGATE: Tex-200-F",null,"Ignited sample original dry weight, g:",null,null,null,456]
[1150,{"$f":"IF(INDIRECT(\"DOT1_GRAD!G5\")<>\"\",INDIRECT(\"DOT1_GRAD!G5\"),\"\")","v":""},"DOT1_GRAD","DOT1 GRADATION OF EXTRACTED AGGREGATE: Tex-200-F",null,"Dry weight after washing, g:",null,null,null,457]
[1151,{"$f":"IF(INDIRECT(\"DOT1_GRAD!G6\")<>\"\",INDIRECT(\"DOT1_GRAD!G6\"),\"\")","v":""},"DOT1_GRAD","DOT1 GRADATION OF EXTRACTED AGGREGATE: Tex-200-F",null,"Sieve analysis:",null,null,null,458]
[1152,{"$f":"IF(INDIRECT(\"DOT1_GRAD!C19\")<>\"\",INDIRECT(\"DOT1_GRAD!C19\"),\"\")","v":""},"DOT1_GRAD","DOT1 GRADATION OF EXTRACTED AGGREGATE: Tex-200-F",null,"- #200","Weight retained, g",null,null,469]
[1153,{"$f":"IF(INDIRECT(\"DOT1_GRAD!C22\")<>\"\",INDIRECT(\"DOT1_GRAD!C22\"),\"\")","v":""},"DOT1_GRAD","DOT1 GRADATION OF EXTRACTED AGGREGATE: Tex-200-F",null,"Total weight, g"]
[1154]
[1155,{"$f":"IF(INDIRECT(\"DOT1_GRAD!C9\")<>\"\",INDIRECT(\"DOT1_GRAD!C9\"),\"\")","v":""},"DOT1_GRAD","DOT1 GRADATION OF EXTRACTED AGGREGATE: Tex-200-F","Sieve Size",{"$f":"INDIRECT(\"DOT1_GRAD!B9\")","v":""},"Weight retained, g",null,null,459]
[1156,{"$f":"IF(INDIRECT(\"DOT1_GRAD!C10\")<>\"\",INDIRECT(\"DOT1_GRAD!C10\"),\"\")","v":""},"DOT1_GRAD","DOT1 GRADATION OF EXTRACTED AGGREGATE: Tex-200-F","Sieve Size",{"$f":"INDIRECT(\"DOT1_GRAD!B10\")","v":""},"Weight retained, g",null,null,460]
[1157,{"$f":"IF(INDIRECT(\"DOT1_GRAD!C11\")<>\"\",INDIRECT(\"DOT1_GRAD!C11\"),\"\")","v":""},"DOT1_GRAD","DOT1 GRADATION OF EXTRACTED AGGREGATE: Tex-200-F","Sieve Size",{"$f":"INDIRECT(\"DOT1_GRAD!B11\")","v":""},"Weight retained, g",null,null,461]
[1158,{"$f":"IF(INDIRECT(\"DOT1_GRAD!C12\")<>\"\",INDIRECT(\"DOT1_GRAD!C12\"),\"\")","v":""},"DOT1_GRAD","DOT1 GRADATION OF EXTRACTED AGGREGATE: Tex-200-F","Sieve Size",{"$f":"INDIRECT(\"DOT1_GRAD!B12\")","v":""},"Weight retained, g",null,null,462]
[1159,{"$f":"IF(INDIRECT(\"DOT1_GRAD!C13\")<>\"\",INDIRECT(\"DOT1_GRAD!C13\"),\"\")","v":""},"DOT1_GRAD","DOT1 GRADATION OF EXTRACTED AGGREGATE: Tex-200-F","Sieve Size",{"$f":"INDIRECT(\"DOT1_GRAD!B13\")","v":""},"Weight retained, g",null,null,463]
[1160,{"$f":"IF(INDIRECT(\"DOT1_GRAD!C14\")<>\"\",INDIRECT(\"DOT1_GRAD!C14\"),\"\")","v":""},"DOT1_GRAD","DOT1 GRADATION OF EXTRACTED AGGREGATE: Tex-200-F","Sieve Size",{"$f":"INDIRECT(\"DOT1_GRAD!B14\")","v":""},"Weight retained, g",null,null,464]
[1161,{"$f":"IF(INDIRECT(\"DOT1_GRAD!C15\")<>\"\",INDIRECT(\"DOT1_GRAD!C15\"),\"\")","v":""},"DOT1_GRAD","DOT1 GRADATION OF EXTRACTED AGGREGATE: Tex-200-F","Sieve Size",{"$f":"INDIRECT(\"DOT1_GRAD!B15\")","v":""},"Weight retained, g",null,null,465]
[1162,{"$f":"IF(INDIRECT(\"DOT1_GRAD!C16\")<>\"\",INDIRECT(\"DOT1_GRAD!C16\"),\"\")","v":""},"DOT1_GRAD","DOT1 GRADATION OF EXTRACTED AGGREGATE: Tex-200-F","Sieve Size",{"$f":"INDIRECT(\"DOT1_GRAD!B16\")","v":""},"Weight retained, g",null,null,466]
[1163,{"$f":"IF(INDIRECT(\"DOT1_GRAD!C17\")<>\"\",INDIRECT(\"DOT1_GRAD!C17\"),\"\")","v":""},"DOT1_GRAD","DOT1 GRADATION OF EXTRACTED AGGREGATE: Tex-200-F","Sieve Size",{"$f":"INDIRECT(\"DOT1_GRAD!B17\")","v":""},"Weight retained, g",null,null,467]
[1164,{"$f":"IF(INDIRECT(\"DOT1_GRAD!C18\")<>\"\",INDIRECT(\"DOT1_GRAD!C18\"),\"\")","v":""},"DOT1_GRAD","DOT1 GRADATION OF EXTRACTED AGGREGATE: Tex-200-F","Sieve Size",{"$f":"INDIRECT(\"DOT1_GRAD!B18\")","v":""},"Weight retained, g",null,null,468]
[1165,{"$f":"IF(INDIRECT(\"DOT1_GRAD!C21\")<>\"\",INDIRECT(\"DOT1_GRAD!C21\"),\"\")","v":""},"DOT1_GRAD","DOT1 GRADATION OF EXTRACTED AGGREGATE: Tex-200-F","Sieve Size","Total - #200","Weight retained, g"]
[1166]
[1167,{"$f":"IF(INDIRECT(\"DOT1_GRAD!D9\")<>\"\",INDIRECT(\"DOT1_GRAD!D9\"),\"\")","v":""},"DOT1_GRAD","DOT1 GRADATION OF EXTRACTED AGGREGATE: Tex-200-F","Sieve Size",{"$f":"F1157","v":""},"Weight retained, g"]
[1168,{"$f":"IF(INDIRECT(\"DOT1_GRAD!D10\")<>\"\",INDIRECT(\"DOT1_GRAD!D10\"),\"\")","v":""},"DOT1_GRAD","DOT1 GRADATION OF EXTRACTED AGGREGATE: Tex-200-F","Sieve Size","","Weight retained, g"]
[1169,{"$f":"IF(INDIRECT(\"DOT1_GRAD!D11\")<>\"\",INDIRECT(\"DOT1_GRAD!D11\"),\"\")","v":""},"DOT1_GRAD","DOT1 GRADATION OF EXTRACTED AGGREGATE: Tex-200-F","Sieve Size","","Weight retained, g"]
[1170,{"$f":"IF(INDIRECT(\"DOT1_GRAD!D12\")<>\"\",INDIRECT(\"DOT1_GRAD!D12\"),\"\")","v":""},"DOT1_GRAD","DOT1 GRADATION OF EXTRACTED AGGREGATE: Tex-200-F","Sieve Size","","Weight retained, g"]
[1171,{"$f":"IF(INDIRECT(\"DOT1_GRAD!D13\")<>\"\",INDIRECT(\"DOT1_GRAD!D13\"),\"\")","v":""},"DOT1_GRAD","DOT1 GRADATION OF EXTRACTED AGGREGATE: Tex-200-F","Sieve Size","","Weight retained, g"]
[1172,{"$f":"IF(INDIRECT(\"DOT1_GRAD!D14\")<>\"\",INDIRECT(\"DOT1_GRAD!D14\"),\"\")","v":""},"DOT1_GRAD","DOT1 GRADATION OF EXTRACTED AGGREGATE: Tex-200-F","Sieve Size","","Weight retained, g"]
[1173,{"$f":"IF(INDIRECT(\"DOT1_GRAD!D15\")<>\"\",INDIRECT(\"DOT1_GRAD!D15\"),\"\")","v":""},"DOT1_GRAD","DOT1 GRADATION OF EXTRACTED AGGREGATE: Tex-200-F","Sieve Size","","Weight retained, g"]
[1174,{"$f":"IF(INDIRECT(\"DOT1_GRAD!D16\")<>\"\",INDIRECT(\"DOT1_GRAD!D16\"),\"\")","v":""},"DOT1_GRAD","DOT1 GRADATION OF EXTRACTED AGGREGATE: Tex-200-F","Sieve Size","","Weight retained, g"]
[1175,{"$f":"IF(INDIRECT(\"DOT1_GRAD!D17\")<>\"\",INDIRECT(\"DOT1_GRAD!D17\"),\"\")","v":""},"DOT1_GRAD","DOT1 GRADATION OF EXTRACTED AGGREGATE: Tex-200-F","Sieve Size","","Weight retained, g"]
[1176,{"$f":"IF(INDIRECT(\"DOT1_GRAD!D18\")<>\"\",INDIRECT(\"DOT1_GRAD!D18\"),\"\")","v":""},"DOT1_GRAD","DOT1 GRADATION OF EXTRACTED AGGREGATE: Tex-200-F","Sieve Size","","Weight retained, g"]
[1177,{"$f":"IF(INDIRECT(\"DOT1_GRAD!D21\")<>\"\",INDIRECT(\"DOT1_GRAD!D21\"),\"\")","v":""},"DOT1_GRAD","DOT1 GRADATION OF EXTRACTED AGGREGATE: Tex-200-F","Sieve Size","Total - #200","Weight retained, g"]
[1178]
[1179,{"$f":"IF(INDIRECT(\"DOT1_GRAD!E9\")<>\"\",INDIRECT(\"DOT1_GRAD!E9\"),\"\")","v":""},"DOT1_GRAD","DOT1 GRADATION OF EXTRACTED AGGREGATE: Tex-200-F","Sieve Size",{"$f":"F1157","v":""},"Weight retained, g"]
[1180,{"$f":"IF(INDIRECT(\"DOT1_GRAD!E10\")<>\"\",INDIRECT(\"DOT1_GRAD!E10\"),\"\")","v":""},"DOT1_GRAD","DOT1 GRADATION OF EXTRACTED AGGREGATE: Tex-200-F","Sieve Size","","Weight retained, g"]
[1181,{"$f":"IF(INDIRECT(\"DOT1_GRAD!E11\")<>\"\",INDIRECT(\"DOT1_GRAD!E11\"),\"\")","v":""},"DOT1_GRAD","DOT1 GRADATION OF EXTRACTED AGGREGATE: Tex-200-F","Sieve Size","","Weight retained, g"]
[1182,{"$f":"IF(INDIRECT(\"DOT1_GRAD!E12\")<>\"\",INDIRECT(\"DOT1_GRAD!E12\"),\"\")","v":""},"DOT1_GRAD","DOT1 GRADATION OF EXTRACTED AGGREGATE: Tex-200-F","Sieve Size","","Weight retained, g"]
[1183,{"$f":"IF(INDIRECT(\"DOT1_GRAD!E13\")<>\"\",INDIRECT(\"DOT1_GRAD!E13\"),\"\")","v":""},"DOT1_GRAD","DOT1 GRADATION OF EXTRACTED AGGREGATE: Tex-200-F","Sieve Size","","Weight retained, g"]
[1184,{"$f":"IF(INDIRECT(\"DOT1_GRAD!E14\")<>\"\",INDIRECT(\"DOT1_GRAD!E14\"),\"\")","v":""},"DOT1_GRAD","DOT1 GRADATION OF EXTRACTED AGGREGATE: Tex-200-F","Sieve Size","","Weight retained, g"]
[1185,{"$f":"IF(INDIRECT(\"DOT1_GRAD!E15\")<>\"\",INDIRECT(\"DOT1_GRAD!E15\"),\"\")","v":""},"DOT1_GRAD","DOT1 GRADATION OF EXTRACTED AGGREGATE: Tex-200-F","Sieve Size","","Weight retained, g"]
[1186,{"$f":"IF(INDIRECT(\"DOT1_GRAD!E16\")<>\"\",INDIRECT(\"DOT1_GRAD!E16\"),\"\")","v":""},"DOT1_GRAD","DOT1 GRADATION OF EXTRACTED AGGREGATE: Tex-200-F","Sieve Size","","Weight retained, g"]
[1187,{"$f":"IF(INDIRECT(\"DOT1_GRAD!E17\")<>\"\",INDIRECT(\"DOT1_GRAD!E17\"),\"\")","v":""},"DOT1_GRAD","DOT1 GRADATION OF EXTRACTED AGGREGATE: Tex-200-F","Sieve Size","","Weight retained, g"]
[1188,{"$f":"IF(INDIRECT(\"DOT1_GRAD!E18\")<>\"\",INDIRECT(\"DOT1_GRAD!E18\"),\"\")","v":""},"DOT1_GRAD","DOT1 GRADATION OF EXTRACTED AGGREGATE: Tex-200-F","Sieve Size","","Weight retained, g"]
[1189,{"$f":"IF(INDIRECT(\"DOT1_GRAD!E21\")<>\"\",INDIRECT(\"DOT1_GRAD!E21\"),\"\")","v":""},"DOT1_GRAD","DOT1 GRADATION OF EXTRACTED AGGREGATE: Tex-200-F","Sieve Size","Total - #200","Weight retained, g"]
[1190]
[1191,{"$f":"IF(INDIRECT(\"DOT1_GRAD!F9\")<>\"\",INDIRECT(\"DOT1_GRAD!F9\"),\"\")","v":""},"DOT1_GRAD","DOT1 GRADATION OF EXTRACTED AGGREGATE: Tex-200-F","Sieve Size",{"$f":"F1157","v":""},"Weight retained, g"]
[1192,{"$f":"IF(INDIRECT(\"DOT1_GRAD!F10\")<>\"\",INDIRECT(\"DOT1_GRAD!F10\"),\"\")","v":""},"DOT1_GRAD","DOT1 GRADATION OF EXTRACTED AGGREGATE: Tex-200-F","Sieve Size","","Weight retained, g"]
[1193,{"$f":"IF(INDIRECT(\"DOT1_GRAD!F11\")<>\"\",INDIRECT(\"DOT1_GRAD!F11\"),\"\")","v":""},"DOT1_GRAD","DOT1 GRADATION OF EXTRACTED AGGREGATE: Tex-200-F","Sieve Size","","Weight retained, g"]
[1194,{"$f":"IF(INDIRECT(\"DOT1_GRAD!F12\")<>\"\",INDIRECT(\"DOT1_GRAD!F12\"),\"\")","v":""},"DOT1_GRAD","DOT1 GRADATION OF EXTRACTED AGGREGATE: Tex-200-F","Sieve Size","","Weight retained, g"]
[1195,{"$f":"IF(INDIRECT(\"DOT1_GRAD!F13\")<>\"\",INDIRECT(\"DOT1_GRAD!F13\"),\"\")","v":""},"DOT1_GRAD","DOT1 GRADATION OF EXTRACTED AGGREGATE: Tex-200-F","Sieve Size","","Weight retained, g"]
[1196,{"$f":"IF(INDIRECT(\"DOT1_GRAD!F14\")<>\"\",INDIRECT(\"DOT1_GRAD!F14\"),\"\")","v":""},"DOT1_GRAD","DOT1 GRADATION OF EXTRACTED AGGREGATE: Tex-200-F","Sieve Size","","Weight retained, g"]
[1197,{"$f":"IF(INDIRECT(\"DOT1_GRAD!F15\")<>\"\",INDIRECT(\"DOT1_GRAD!F15\"),\"\")","v":""},"DOT1_GRAD","DOT1 GRADATION OF EXTRACTED AGGREGATE: Tex-200-F","Sieve Size","","Weight retained, g"]
[1198,{"$f":"IF(INDIRECT(\"DOT1_GRAD!F16\")<>\"\",INDIRECT(\"DOT1_GRAD!F16\"),\"\")","v":""},"DOT1_GRAD","DOT1 GRADATION OF EXTRACTED AGGREGATE: Tex-200-F","Sieve Size","","Weight retained, g"]
[1199,{"$f":"IF(INDIRECT(\"DOT1_GRAD!F17\")<>\"\",INDIRECT(\"DOT1_GRAD!F17\"),\"\")","v":""},"DOT1_GRAD","DOT1 GRADATION OF EXTRACTED AGGREGATE: Tex-200-F","Sieve Size","","Weight retained, g"]
[1200,{"$f":"IF(INDIRECT(\"DOT1_GRAD!F18\")<>\"\",INDIRECT(\"DOT1_GRAD!F18\"),\"\")","v":""},"DOT1_GRAD","DOT1 GRADATION OF EXTRACTED AGGREGATE: Tex-200-F","Sieve Size","","Weight retained, g"]
[1201,{"$f":"IF(INDIRECT(\"DOT1_GRAD!F21\")<>\"\",INDIRECT(\"DOT1_GRAD!F21\"),\"\")","v":""},"DOT1_GRAD","DOT1 GRADATION OF EXTRACTED AGGREGATE: Tex-200-F","Sieve Size","Total - #200","Weight retained, g"]
[1202]
[1203,{"$f":"IF(INDIRECT(\"DOT1_GRAD!G9\")<>\"\",INDIRECT(\"DOT1_GRAD!G9\"),\"\")","v":""},"DOT1_GRAD","DOT1 GRADATION OF EXTRACTED AGGREGATE: Tex-200-F","Sieve Size",{"$f":"F1157","v":""},"Percent passing, %"]
[1204,{"$f":"IF(INDIRECT(\"DOT1_GRAD!G10\")<>\"\",INDIRECT(\"DOT1_GRAD!G10\"),\"\")","v":""},"DOT1_GRAD","DOT1 GRADATION OF EXTRACTED AGGREGATE: Tex-200-F","Sieve Size","","Percent passing, %"]
[1205,{"$f":"IF(INDIRECT(\"DOT1_GRAD!G11\")<>\"\",INDIRECT(\"DOT1_GRAD!G11\"),\"\")","v":""},"DOT1_GRAD","DOT1 GRADATION OF EXTRACTED AGGREGATE: Tex-200-F","Sieve Size","","Percent passing, %"]
[1206,{"$f":"IF(INDIRECT(\"DOT1_GRAD!G12\")<>\"\",INDIRECT(\"DOT1_GRAD!G12\"),\"\")","v":""},"DOT1_GRAD","DOT1 GRADATION OF EXTRACTED AGGREGATE: Tex-200-F","Sieve Size","","Percent passing, %"]
[1207,{"$f":"IF(INDIRECT(\"DOT1_GRAD!G13\")<>\"\",INDIRECT(\"DOT1_GRAD!G13\"),\"\")","v":""},"DOT1_GRAD","DOT1 GRADATION OF EXTRACTED AGGREGATE: Tex-200-F","Sieve Size","","Percent passing, %"]
[1208,{"$f":"IF(INDIRECT(\"DOT1_GRAD!G14\")<>\"\",INDIRECT(\"DOT1_GRAD!G14\"),\"\")","v":""},"DOT1_GRAD","DOT1 GRADATION OF EXTRACTED AGGREGATE: Tex-200-F","Sieve Size","","Percent passing, %"]
[1209,{"$f":"IF(INDIRECT(\"DOT1_GRAD!G15\")<>\"\",INDIRECT(\"DOT1_GRAD!G15\"),\"\")","v":""},"DOT1_GRAD","DOT1 GRADATION OF EXTRACTED AGGREGATE: Tex-200-F","Sieve Size","","Percent passing, %"]
[1210,{"$f":"IF(INDIRECT(\"DOT1_GRAD!G16\")<>\"\",INDIRECT(\"DOT1_GRAD!G16\"),\"\")","v":""},"DOT1_GRAD","DOT1 GRADATION OF EXTRACTED AGGREGATE: Tex-200-F","Sieve Size","","Percent passing, %"]
[1211,{"$f":"IF(INDIRECT(\"DOT1_GRAD!G17\")<>\"\",INDIRECT(\"DOT1_GRAD!G17\"),\"\")","v":""},"DOT1_GRAD","DOT1 GRADATION OF EXTRACTED AGGREGATE: Tex-200-F","Sieve Size","","Percent passing, %"]
[1212,{"$f":"IF(INDIRECT(\"DOT1_GRAD!G18\")<>\"\",INDIRECT(\"DOT1_GRAD!G18\"),\"\")","v":""},"DOT1_GRAD","DOT1 GRADATION OF EXTRACTED AGGREGATE: Tex-200-F","Sieve Size","","Percent passing, %"]
[1213,{"$f":"IF(INDIRECT(\"DOT1_GRAD!G21\")<>\"\",INDIRECT(\"DOT1_GRAD!G21\"),\"\")","v":""},"DOT1_GRAD","DOT1 GRADATION OF EXTRACTED AGGREGATE: Tex-200-F","Sieve Size","Total - #200","Percent passing, %"]
[1214]
[1215,{"$f":"IF(INDIRECT(\"DOT1_GRAD!H9\")<>\"\",INDIRECT(\"DOT1_GRAD!H9\"),\"\")","v":""},"DOT1_GRAD","DOT1 GRADATION OF EXTRACTED AGGREGATE: Tex-200-F","Sieve Size",{"$f":"F1157","v":""},"JMF limits","Lower"]
[1216,{"$f":"IF(INDIRECT(\"DOT1_GRAD!H10\")<>\"\",INDIRECT(\"DOT1_GRAD!H10\"),\"\")","v":""},"DOT1_GRAD","DOT1 GRADATION OF EXTRACTED AGGREGATE: Tex-200-F","Sieve Size","","JMF limits","Lower"]
[1217,{"$f":"IF(INDIRECT(\"DOT1_GRAD!H11\")<>\"\",INDIRECT(\"DOT1_GRAD!H11\"),\"\")","v":""},"DOT1_GRAD","DOT1 GRADATION OF EXTRACTED AGGREGATE: Tex-200-F","Sieve Size","","JMF limits","Lower"]
[1218,{"$f":"IF(INDIRECT(\"DOT1_GRAD!H12\")<>\"\",INDIRECT(\"DOT1_GRAD!H12\"),\"\")","v":""},"DOT1_GRAD","DOT1 GRADATION OF EXTRACTED AGGREGATE: Tex-200-F","Sieve Size","","JMF limits","Lower"]
[1219,{"$f":"IF(INDIRECT(\"DOT1_GRAD!H13\")<>\"\",INDIRECT(\"DOT1_GRAD!H13\"),\"\")","v":""},"DOT1_GRAD","DOT1 GRADATION OF EXTRACTED AGGREGATE: Tex-200-F","Sieve Size","","JMF limits","Lower"]
[1220,{"$f":"IF(INDIRECT(\"DOT1_GRAD!H14\")<>\"\",INDIRECT(\"DOT1_GRAD!H14\"),\"\")","v":""},"DOT1_GRAD","DOT1 GRADATION OF EXTRACTED AGGREGATE: Tex-200-F","Sieve Size","","JMF limits","Lower"]
[1221,{"$f":"IF(INDIRECT(\"DOT1_GRAD!H15\")<>\"\",INDIRECT(\"DOT1_GRAD!H15\"),\"\")","v":""},"DOT1_GRAD","DOT1 GRADATION OF EXTRACTED AGGREGATE: Tex-200-F","Sieve Size","","JMF limits","Lower"]
[1222,{"$f":"IF(INDIRECT(\"DOT1_GRAD!H16\")<>\"\",INDIRECT(\"DOT1_GRAD!H16\"),\"\")","v":""},"DOT1_GRAD","DOT1 GRADATION OF EXTRACTED AGGREGATE: Tex-200-F","Sieve Size","","JMF limits","Lower"]
[1223,{"$f":"IF(INDIRECT(\"DOT1_GRAD!H17\")<>\"\",INDIRECT(\"DOT1_GRAD!H17\"),\"\")","v":""},"DOT1_GRAD","DOT1 GRADATION OF EXTRACTED AGGREGATE: Tex-200-F","Sieve Size","","JMF limits","Lower"]
[1224,{"$f":"IF(INDIRECT(\"DOT1_GRAD!H18\")<>\"\",INDIRECT(\"DOT1_GRAD!H18\"),\"\")","v":""},"DOT1_GRAD","DOT1 GRADATION OF EXTRACTED AGGREGATE: Tex-200-F","Sieve Size","","JMF limits","Lower"]
[1225,{"$f":"IF(INDIRECT(\"DOT1_GRAD!H21\")<>\"\",INDIRECT(\"DOT1_GRAD!H21\"),\"\")","v":""},"DOT1_GRAD","DOT1 GRADATION OF EXTRACTED AGGREGATE: Tex-200-F","Sieve Size","Total - #200","JMF limits","Lower"]
[1226]
[1227,{"$f":"IF(INDIRECT(\"DOT1_GRAD!J9\")<>\"\",INDIRECT(\"DOT1_GRAD!J9\"),\"\")","v":""},"DOT1_GRAD","DOT1 GRADATION OF EXTRACTED AGGREGATE: Tex-200-F","Sieve Size",{"$f":"F1157","v":""},"JMF limits","Upper"]
[1228,{"$f":"IF(INDIRECT(\"DOT1_GRAD!J10\")<>\"\",INDIRECT(\"DOT1_GRAD!J10\"),\"\")","v":""},"DOT1_GRAD","DOT1 GRADATION OF EXTRACTED AGGREGATE: Tex-200-F","Sieve Size","","JMF limits","Upper"]
[1229,{"$f":"IF(INDIRECT(\"DOT1_GRAD!J11\")<>\"\",INDIRECT(\"DOT1_GRAD!J11\"),\"\")","v":""},"DOT1_GRAD","DOT1 GRADATION OF EXTRACTED AGGREGATE: Tex-200-F","Sieve Size","","JMF limits","Upper"]
[1230,{"$f":"IF(INDIRECT(\"DOT1_GRAD!J12\")<>\"\",INDIRECT(\"DOT1_GRAD!J12\"),\"\")","v":""},"DOT1_GRAD","DOT1 GRADATION OF EXTRACTED AGGREGATE: Tex-200-F","Sieve Size","","JMF limits","Upper"]
[1231,{"$f":"IF(INDIRECT(\"DOT1_GRAD!J13\")<>\"\",INDIRECT(\"DOT1_GRAD!J13\"),\"\")","v":""},"DOT1_GRAD","DOT1 GRADATION OF EXTRACTED AGGREGATE: Tex-200-F","Sieve Size","","JMF limits","Upper"]
[1232,{"$f":"IF(INDIRECT(\"DOT1_GRAD!J14\")<>\"\",INDIRECT(\"DOT1_GRAD!J14\"),\"\")","v":""},"DOT1_GRAD","DOT1 GRADATION OF EXTRACTED AGGREGATE: Tex-200-F","Sieve Size","","JMF limits","Upper"]
[1233,{"$f":"IF(INDIRECT(\"DOT1_GRAD!J15\")<>\"\",INDIRECT(\"DOT1_GRAD!J15\"),\"\")","v":""},"DOT1_GRAD","DOT1 GRADATION OF EXTRACTED AGGREGATE: Tex-200-F","Sieve Size","","JMF limits","Upper"]
[1234,{"$f":"IF(INDIRECT(\"DOT1_GRAD!J16\")<>\"\",INDIRECT(\"DOT1_GRAD!J16\"),\"\")","v":""},"DOT1_GRAD","DOT1 GRADATION OF EXTRACTED AGGREGATE: Tex-200-F","Sieve Size","","JMF limits","Upper"]
[1235,{"$f":"IF(INDIRECT(\"DOT1_GRAD!J17\")<>\"\",INDIRECT(\"DOT1_GRAD!J17\"),\"\")","v":""},"DOT1_GRAD","DOT1 GRADATION OF EXTRACTED AGGREGATE: Tex-200-F","Sieve Size","","JMF limits","Upper"]
[1236,{"$f":"IF(INDIRECT(\"DOT1_GRAD!J18\")<>\"\",INDIRECT(\"DOT1_GRAD!J18\"),\"\")","v":""},"DOT1_GRAD","DOT1 GRADATION OF EXTRACTED AGGREGATE: Tex-200-F","Sieve Size","","JMF limits","Upper"]
[1237,{"$f":"IF(INDIRECT(\"DOT1_GRAD!J21\")<>\"\",INDIRECT(\"DOT1_GRAD!J21\"),\"\")","v":""},"DOT1_GRAD","DOT1 GRADATION OF EXTRACTED AGGREGATE: Tex-200-F","Sieve Size","Total - #200","JMF limits","Upper"]
[1238]
[1239,{"$f":"IF(INDIRECT(\"DOT1_GRAD!L9\")<>\"\",INDIRECT(\"DOT1_GRAD!L9\"),\"\")","v":""},"DOT1_GRAD","DOT1 GRADATION OF EXTRACTED AGGREGATE: Tex-200-F","Sieve Size",{"$f":"F1157","v":""},"TOLERANCES","Gradation"]
[1240,{"$f":"IF(INDIRECT(\"DOT1_GRAD!L10\")<>\"\",INDIRECT(\"DOT1_GRAD!L10\"),\"\")","v":""},"DOT1_GRAD","DOT1 GRADATION OF EXTRACTED AGGREGATE: Tex-200-F","Sieve Size","","TOLERANCES","Gradation"]
[1241,{"$f":"IF(INDIRECT(\"DOT1_GRAD!L11\")<>\"\",INDIRECT(\"DOT1_GRAD!L11\"),\"\")","v":""},"DOT1_GRAD","DOT1 GRADATION OF EXTRACTED AGGREGATE: Tex-200-F","Sieve Size","","TOLERANCES","Gradation"]
[1242,{"$f":"IF(INDIRECT(\"DOT1_GRAD!L12\")<>\"\",INDIRECT(\"DOT1_GRAD!L12\"),\"\")","v":""},"DOT1_GRAD","DOT1 GRADATION OF EXTRACTED AGGREGATE: Tex-200-F","Sieve Size","","TOLERANCES","Gradation"]
[1243,{"$f":"IF(INDIRECT(\"DOT1_GRAD!L13\")<>\"\",INDIRECT(\"DOT1_GRAD!L13\"),\"\")","v":""},"DOT1_GRAD","DOT1 GRADATION OF EXTRACTED AGGREGATE: Tex-200-F","Sieve Size","","TOLERANCES","Gradation"]
[1244,{"$f":"IF(INDIRECT(\"DOT1_GRAD!L14\")<>\"\",INDIRECT(\"DOT1_GRAD!L14\"),\"\")","v":""},"DOT1_GRAD","DOT1 GRADATION OF EXTRACTED AGGREGATE: Tex-200-F","Sieve Size","","TOLERANCES","Gradation"]
[1245,{"$f":"IF(INDIRECT(\"DOT1_GRAD!L15\")<>\"\",INDIRECT(\"DOT1_GRAD!L15\"),\"\")","v":""},"DOT1_GRAD","DOT1 GRADATION OF EXTRACTED AGGREGATE: Tex-200-F","Sieve Size","","TOLERANCES","Gradation"]
[1246,{"$f":"IF(INDIRECT(\"DOT1_GRAD!L16\")<>\"\",INDIRECT(\"DOT1_GRAD!L16\"),\"\")","v":""},"DOT1_GRAD","DOT1 GRADATION OF EXTRACTED AGGREGATE: Tex-200-F","Sieve Size","","TOLERANCES","Gradation"]
[1247,{"$f":"IF(INDIRECT(\"DOT1_GRAD!L17\")<>\"\",INDIRECT(\"DOT1_GRAD!L17\"),\"\")","v":""},"DOT1_GRAD","DOT1 GRADATION OF EXTRACTED AGGREGATE: Tex-200-F","Sieve Size","","TOLERANCES","Gradation"]
[1248,{"$f":"IF(INDIRECT(\"DOT1_GRAD!L18\")<>\"\",INDIRECT(\"DOT1_GRAD!L18\"),\"\")","v":""},"DOT1_GRAD","DOT1 GRADATION OF EXTRACTED AGGREGATE: Tex-200-F","Sieve Size","","TOLERANCES","Gradation"]
[1249,{"$f":"IF(INDIRECT(\"DOT1_GRAD!L21\")<>\"\",INDIRECT(\"DOT1_GRAD!L21\"),\"\")","v":""},"DOT1_GRAD","DOT1 GRADATION OF EXTRACTED AGGREGATE: Tex-200-F","Sieve Size","Total - #200","TOLERANCES","Gradation"]
[1250]
[1251,{"$f":"IF(INDIRECT(\"DOT1_GRAD!M9\")<>\"\",INDIRECT(\"DOT1_GRAD!M9\"),\"\")","v":""},"DOT1_GRAD","DOT1 GRADATION OF EXTRACTED AGGREGATE: Tex-200-F","Sieve Size",{"$f":"F1157","v":""},"TOLERANCES","Restricted zone"]
[1252,{"$f":"IF(INDIRECT(\"DOT1_GRAD!M10\")<>\"\",INDIRECT(\"DOT1_GRAD!M10\"),\"\")","v":""},"DOT1_GRAD","DOT1 GRADATION OF EXTRACTED AGGREGATE: Tex-200-F","Sieve Size","","TOLERANCES","Restricted zone"]
[1253,{"$f":"IF(INDIRECT(\"DOT1_GRAD!M11\")<>\"\",INDIRECT(\"DOT1_GRAD!M11\"),\"\")","v":""},"DOT1_GRAD","DOT1 GRADATION OF EXTRACTED AGGREGATE: Tex-200-F","Sieve Size","","TOLERANCES","Restricted zone"]
[1254,{"$f":"IF(INDIRECT(\"DOT1_GRAD!M12\")<>\"\",INDIRECT(\"DOT1_GRAD!M12\"),\"\")","v":""},"DOT1_GRAD","DOT1 GRADATION OF EXTRACTED AGGREGATE: Tex-200-F","Sieve Size","","TOLERANCES","Restricted zone"]
[1255,{"$f":"IF(INDIRECT(\"DOT1_GRAD!M13\")<>\"\",INDIRECT(\"DOT1_GRAD!M13\"),\"\")","v":""},"DOT1_GRAD","DOT1 GRADATION OF EXTRACTED AGGREGATE: Tex-200-F","Sieve Size","","TOLERANCES","Restricted zone"]
[1256,{"$f":"IF(INDIRECT(\"DOT1_GRAD!M14\")<>\"\",INDIRECT(\"DOT1_GRAD!M14\"),\"\")","v":""},"DOT1_GRAD","DOT1 GRADATION OF EXTRACTED AGGREGATE: Tex-200-F","Sieve Size","","TOLERANCES","Restricted zone"]
[1257,{"$f":"IF(INDIRECT(\"DOT1_GRAD!M15\")<>\"\",INDIRECT(\"DOT1_GRAD!M15\"),\"\")","v":""},"DOT1_GRAD","DOT1 GRADATION OF EXTRACTED AGGREGATE: Tex-200-F","Sieve Size","","TOLERANCES","Restricted zone"]
[1258,{"$f":"IF(INDIRECT(\"DOT1_GRAD!M16\")<>\"\",INDIRECT(\"DOT1_GRAD!M16\"),\"\")","v":""},"DOT1_GRAD","DOT1 GRADATION OF EXTRACTED AGGREGATE: Tex-200-F","Sieve Size","","TOLERANCES","Restricted zone"]
[1259,{"$f":"IF(INDIRECT(\"DOT1_GRAD!M17\")<>\"\",INDIRECT(\"DOT1_GRAD!M17\"),\"\")","v":""},"DOT1_GRAD","DOT1 GRADATION OF EXTRACTED AGGREGATE: Tex-200-F","Sieve Size","","TOLERANCES","Restricted zone"]
[1260,{"$f":"IF(INDIRECT(\"DOT1_GRAD!M18\")<>\"\",INDIRECT(\"DOT1_GRAD!M18\"),\"\")","v":""},"DOT1_GRAD","DOT1 GRADATION OF EXTRACTED AGGREGATE: Tex-200-F","Sieve Size","","TOLERANCES","Restricted zone"]
[1261,{"$f":"IF(INDIRECT(\"DOT1_GRAD!M21\")<>\"\",INDIRECT(\"DOT1_GRAD!M21\"),\"\")","v":""},"DOT1_GRAD","DOT1 GRADATION OF EXTRACTED AGGREGATE: Tex-200-F","Sieve Size","Total - #200","TOLERANCES","Restricted zone"]
[1262]
[1263]
[1264]
[1265]
[1266,{"$f":"IF(INDIRECT(\"DOT2_GRAD!G4\")<>\"\",INDIRECT(\"DOT2_GRAD!G4\"),\"\")","v":""},"DOT2_GRAD","DOT2 GRADATION OF EXTRACTED AGGREGATE: Tex-200-F",null,"Ignited sample original dry weight, g:",null,null,null,555]
[1267,{"$f":"IF(INDIRECT(\"DOT2_GRAD!G5\")<>\"\",INDIRECT(\"DOT2_GRAD!G5\"),\"\")","v":""},"DOT2_GRAD","DOT2 GRADATION OF EXTRACTED AGGREGATE: Tex-200-F",null,"Dry weight after washing, g:",null,null,null,556]
[1268,{"$f":"IF(INDIRECT(\"DOT2_GRAD!G6\")<>\"\",INDIRECT(\"DOT2_GRAD!G6\"),\"\")","v":""},"DOT2_GRAD","DOT2 GRADATION OF EXTRACTED AGGREGATE: Tex-200-F",null,"Sieve analysis:",null,null,null,557]
[1269,{"$f":"IF(INDIRECT(\"DOT2_GRAD!C19\")<>\"\",INDIRECT(\"DOT2_GRAD!C19\"),\"\")","v":""},"DOT2_GRAD","DOT2 GRADATION OF EXTRACTED AGGREGATE: Tex-200-F",null,"- #200","Weight retained, g",null,null,568]
[1270,{"$f":"IF(INDIRECT(\"DOT2_GRAD!C22\")<>\"\",INDIRECT(\"DOT2_GRAD!C22\"),\"\")","v":""},"DOT2_GRAD","DOT2 GRADATION OF EXTRACTED AGGREGATE: Tex-200-F",null,"Total weight, g"]
[1271]
[1272,{"$f":"IF(INDIRECT(\"DOT2_GRAD!C9\")<>\"\",INDIRECT(\"DOT2_GRAD!C9\"),\"\")","v":""},"DOT2_GRAD","DOT2 GRADATION OF EXTRACTED AGGREGATE: Tex-200-F","Sieve Size",{"$f":"INDIRECT(\"DOT2_GRAD!B9\")","v":""},"Weight retained, g",null,null,558]
[1273,{"$f":"IF(INDIRECT(\"DOT2_GRAD!C10\")<>\"\",INDIRECT(\"DOT2_GRAD!C10\"),\"\")","v":""},"DOT2_GRAD","DOT2 GRADATION OF EXTRACTED AGGREGATE: Tex-200-F","Sieve Size",{"$f":"INDIRECT(\"DOT2_GRAD!B10\")","v":""},"Weight retained, g",null,null,559]
[1274,{"$f":"IF(INDIRECT(\"DOT2_GRAD!C11\")<>\"\",INDIRECT(\"DOT2_GRAD!C11\"),\"\")","v":""},"DOT2_GRAD","DOT2 GRADATION OF EXTRACTED AGGREGATE: Tex-200-F","Sieve Size",{"$f":"INDIRECT(\"DOT2_GRAD!B11\")","v":""},"Weight retained, g",null,null,560]
[1275,{"$f":"IF(INDIRECT(\"DOT2_GRAD!C12\")<>\"\",INDIRECT(\"DOT2_GRAD!C12\"),\"\")","v":""},"DOT2_GRAD","DOT2 GRADATION OF EXTRACTED AGGREGATE: Tex-200-F","Sieve Size",{"$f":"INDIRECT(\"DOT2_GRAD!B12\")","v":""},"Weight retained, g",null,null,561]
[1276,{"$f":"IF(INDIRECT(\"DOT2_GRAD!C13\")<>\"\",INDIRECT(\"DOT2_GRAD!C13\"),\"\")","v":""},"DOT2_GRAD","DOT2 GRADATION OF EXTRACTED AGGREGATE: Tex-200-F","Sieve Size",{"$f":"INDIRECT(\"DOT2_GRAD!B13\")","v":""},"Weight retained, g",null,null,562]
[1277,{"$f":"IF(INDIRECT(\"DOT2_GRAD!C14\")<>\"\",INDIRECT(\"DOT2_GRAD!C14\"),\"\")","v":""},"DOT2_GRAD","DOT2 GRADATION OF EXTRACTED AGGREGATE: Tex-200-F","Sieve Size",{"$f":"INDIRECT(\"DOT2_GRAD!B14\")","v":""},"Weight retained, g",null,null,563]
[1278,{"$f":"IF(INDIRECT(\"DOT2_GRAD!C15\")<>\"\",INDIRECT(\"DOT2_GRAD!C15\"),\"\")","v":""},"DOT2_GRAD","DOT2 GRADATION OF EXTRACTED AGGREGATE: Tex-200-F","Sieve Size",{"$f":"INDIRECT(\"DOT2_GRAD!B15\")","v":""},"Weight retained, g",null,null,564]
[1279,{"$f":"IF(INDIRECT(\"DOT2_GRAD!C16\")<>\"\",INDIRECT(\"DOT2_GRAD!C16\"),\"\")","v":""},"DOT2_GRAD","DOT2 GRADATION OF EXTRACTED AGGREGATE: Tex-200-F","Sieve Size",{"$f":"INDIRECT(\"DOT2_GRAD!B16\")","v":""},"Weight retained, g",null,null,565]
[1280,{"$f":"IF(INDIRECT(\"DOT2_GRAD!C17\")<>\"\",INDIRECT(\"DOT2_GRAD!C17\"),\"\")","v":""},"DOT2_GRAD","DOT2 GRADATION OF EXTRACTED AGGREGATE: Tex-200-F","Sieve Size",{"$f":"INDIRECT(\"DOT2_GRAD!B17\")","v":""},"Weight retained, g",null,null,566]
[1281,{"$f":"IF(INDIRECT(\"DOT2_GRAD!C18\")<>\"\",INDIRECT(\"DOT2_GRAD!C18\"),\"\")","v":""},"DOT2_GRAD","DOT2 GRADATION OF EXTRACTED AGGREGATE: Tex-200-F","Sieve Size",{"$f":"INDIRECT(\"DOT2_GRAD!B18\")","v":""},"Weight retained, g",null,null,567]
[1282,{"$f":"IF(INDIRECT(\"DOT2_GRAD!C21\")<>\"\",INDIRECT(\"DOT2_GRAD!C21\"),\"\")","v":""},"DOT2_GRAD","DOT2 GRADATION OF EXTRACTED AGGREGATE: Tex-200-F","Sieve Size","Total - #200","Weight retained, g"]
[1283]
[1284,{"$f":"IF(INDIRECT(\"DOT2_GRAD!D9\")<>\"\",INDIRECT(\"DOT2_GRAD!D9\"),\"\")","v":""},"DOT2_GRAD","DOT2 GRADATION OF EXTRACTED AGGREGATE: Tex-200-F","Sieve Size",{"$f":"F1274","v":""},"Weight retained, g"]
[1285,{"$f":"IF(INDIRECT(\"DOT2_GRAD!D10\")<>\"\",INDIRECT(\"DOT2_GRAD!D10\"),\"\")","v":""},"DOT2_GRAD","DOT2 GRADATION OF EXTRACTED AGGREGATE: Tex-200-F","Sieve Size","","Weight retained, g"]
[1286,{"$f":"IF(INDIRECT(\"DOT2_GRAD!D11\")<>\"\",INDIRECT(\"DOT2_GRAD!D11\"),\"\")","v":""},"DOT2_GRAD","DOT2 GRADATION OF EXTRACTED AGGREGATE: Tex-200-F","Sieve Size","","Weight retained, g"]
[1287,{"$f":"IF(INDIRECT(\"DOT2_GRAD!D12\")<>\"\",INDIRECT(\"DOT2_GRAD!D12\"),\"\")","v":""},"DOT2_GRAD","DOT2 GRADATION OF EXTRACTED AGGREGATE: Tex-200-F","Sieve Size","","Weight retained, g"]
[1288,{"$f":"IF(INDIRECT(\"DOT2_GRAD!D13\")<>\"\",INDIRECT(\"DOT2_GRAD!D13\"),\"\")","v":""},"DOT2_GRAD","DOT2 GRADATION OF EXTRACTED AGGREGATE: Tex-200-F","Sieve Size","","Weight retained, g"]
[1289,{"$f":"IF(INDIRECT(\"DOT2_GRAD!D14\")<>\"\",INDIRECT(\"DOT2_GRAD!D14\"),\"\")","v":""},"DOT2_GRAD","DOT2 GRADATION OF EXTRACTED AGGREGATE: Tex-200-F","Sieve Size","","Weight retained, g"]
[1290,{"$f":"IF(INDIRECT(\"DOT2_GRAD!D15\")<>\"\",INDIRECT(\"DOT2_GRAD!D15\"),\"\")","v":""},"DOT2_GRAD","DOT2 GRADATION OF EXTRACTED AGGREGATE: Tex-200-F","Sieve Size","","Weight retained, g"]
[1291,{"$f":"IF(INDIRECT(\"DOT2_GRAD!D16\")<>\"\",INDIRECT(\"DOT2_GRAD!D16\"),\"\")","v":""},"DOT2_GRAD","DOT2 GRADATION OF EXTRACTED AGGREGATE: Tex-200-F","Sieve Size","","Weight retained, g"]
[1292,{"$f":"IF(INDIRECT(\"DOT2_GRAD!D17\")<>\"\",INDIRECT(\"DOT2_GRAD!D17\"),\"\")","v":""},"DOT2_GRAD","DOT2 GRADATION OF EXTRACTED AGGREGATE: Tex-200-F","Sieve Size","","Weight retained, g"]
[1293,{"$f":"IF(INDIRECT(\"DOT2_GRAD!D18\")<>\"\",INDIRECT(\"DOT2_GRAD!D18\"),\"\")","v":""},"DOT2_GRAD","DOT2 GRADATION OF EXTRACTED AGGREGATE: Tex-200-F","Sieve Size","","Weight retained, g"]
[1294,{"$f":"IF(INDIRECT(\"DOT2_GRAD!D21\")<>\"\",INDIRECT(\"DOT2_GRAD!D21\"),\"\")","v":""},"DOT2_GRAD","DOT2 GRADATION OF EXTRACTED AGGREGATE: Tex-200-F","Sieve Size","Total - #200","Weight retained, g"]
[1295]
[1296,{"$f":"IF(INDIRECT(\"DOT2_GRAD!E9\")<>\"\",INDIRECT(\"DOT2_GRAD!E9\"),\"\")","v":""},"DOT2_GRAD","DOT2 GRADATION OF EXTRACTED AGGREGATE: Tex-200-F","Sieve Size",{"$f":"F1274","v":""},"Weight retained, g"]
[1297,{"$f":"IF(INDIRECT(\"DOT2_GRAD!E10\")<>\"\",INDIRECT(\"DOT2_GRAD!E10\"),\"\")","v":""},"DOT2_GRAD","DOT2 GRADATION OF EXTRACTED AGGREGATE: Tex-200-F","Sieve Size","","Weight retained, g"]
[1298,{"$f":"IF(INDIRECT(\"DOT2_GRAD!E11\")<>\"\",INDIRECT(\"DOT2_GRAD!E11\"),\"\")","v":""},"DOT2_GRAD","DOT2 GRADATION OF EXTRACTED AGGREGATE: Tex-200-F","Sieve Size","","Weight retained, g"]
[1299,{"$f":"IF(INDIRECT(\"DOT2_GRAD!E12\")<>\"\",INDIRECT(\"DOT2_GRAD!E12\"),\"\")","v":""},"DOT2_GRAD","DOT2 GRADATION OF EXTRACTED AGGREGATE: Tex-200-F","Sieve Size","","Weight retained, g"]
[1300,{"$f":"IF(INDIRECT(\"DOT2_GRAD!E13\")<>\"\",INDIRECT(\"DOT2_GRAD!E13\"),\"\")","v":""},"DOT2_GRAD","DOT2 GRADATION OF EXTRACTED AGGREGATE: Tex-200-F","Sieve Size","","Weight retained, g"]
[1301,{"$f":"IF(INDIRECT(\"DOT2_GRAD!E14\")<>\"\",INDIRECT(\"DOT2_GRAD!E14\"),\"\")","v":""},"DOT2_GRAD","DOT2 GRADATION OF EXTRACTED AGGREGATE: Tex-200-F","Sieve Size","","Weight retained, g"]
[1302,{"$f":"IF(INDIRECT(\"DOT2_GRAD!E15\")<>\"\",INDIRECT(\"DOT2_GRAD!E15\"),\"\")","v":""},"DOT2_GRAD","DOT2 GRADATION OF EXTRACTED AGGREGATE: Tex-200-F","Sieve Size","","Weight retained, g"]
[1303,{"$f":"IF(INDIRECT(\"DOT2_GRAD!E16\")<>\"\",INDIRECT(\"DOT2_GRAD!E16\"),\"\")","v":""},"DOT2_GRAD","DOT2 GRADATION OF EXTRACTED AGGREGATE: Tex-200-F","Sieve Size","","Weight retained, g"]
[1304,{"$f":"IF(INDIRECT(\"DOT2_GRAD!E17\")<>\"\",INDIRECT(\"DOT2_GRAD!E17\"),\"\")","v":""},"DOT2_GRAD","DOT2 GRADATION OF EXTRACTED AGGREGATE: Tex-200-F","Sieve Size","","Weight retained, g"]
[1305,{"$f":"IF(INDIRECT(\"DOT2_GRAD!E18\")<>\"\",INDIRECT(\"DOT2_GRAD!E18\"),\"\")","v":""},"DOT2_GRAD","DOT2 GRADATION OF EXTRACTED AGGREGATE: Tex-200-F","Sieve Size","","Weight retained, g"]
[1306,{"$f":"IF(INDIRECT(\"DOT2_GRAD!E21\")<>\"\",INDIRECT(\"DOT2_GRAD!E21\"),\"\")","v":""},"DOT2_GRAD","DOT2 GRADATION OF EXTRACTED AGGREGATE: Tex-200-F","Sieve Size","Total - #200","Weight retained, g"]
[1307]
[1308,{"$f":"IF(INDIRECT(\"DOT2_GRAD!F9\")<>\"\",INDIRECT(\"DOT2_GRAD!F9\"),\"\")","v":""},"DOT2_GRAD","DOT2 GRADATION OF EXTRACTED AGGREGATE: Tex-200-F","Sieve Size",{"$f":"F1274","v":""},"Weight retained, g"]
[1309,{"$f":"IF(INDIRECT(\"DOT2_GRAD!F10\")<>\"\",INDIRECT(\"DOT2_GRAD!F10\"),\"\")","v":""},"DOT2_GRAD","DOT2 GRADATION OF EXTRACTED AGGREGATE: Tex-200-F","Sieve Size","","Weight retained, g"]
[1310,{"$f":"IF(INDIRECT(\"DOT2_GRAD!F11\")<>\"\",INDIRECT(\"DOT2_GRAD!F11\"),\"\")","v":""},"DOT2_GRAD","DOT2 GRADATION OF EXTRACTED AGGREGATE: Tex-200-F","Sieve Size","","Weight retained, g"]
[1311,{"$f":"IF(INDIRECT(\"DOT2_GRAD!F12\")<>\"\",INDIRECT(\"DOT2_GRAD!F12\"),\"\")","v":""},"DOT2_GRAD","DOT2 GRADATION OF EXTRACTED AGGREGATE: Tex-200-F","Sieve Size","","Weight retained, g"]
[1312,{"$f":"IF(INDIRECT(\"DOT2_GRAD!F13\")<>\"\",INDIRECT(\"DOT2_GRAD!F13\"),\"\")","v":""},"DOT2_GRAD","DOT2 GRADATION OF EXTRACTED AGGREGATE: Tex-200-F","Sieve Size","","Weight retained, g"]
[1313,{"$f":"IF(INDIRECT(\"DOT2_GRAD!F14\")<>\"\",INDIRECT(\"DOT2_GRAD!F14\"),\"\")","v":""},"DOT2_GRAD","DOT2 GRADATION OF EXTRACTED AGGREGATE: Tex-200-F","Sieve Size","","Weight retained, g"]
[1314,{"$f":"IF(INDIRECT(\"DOT2_GRAD!F15\")<>\"\",INDIRECT(\"DOT2_GRAD!F15\"),\"\")","v":""},"DOT2_GRAD","DOT2 GRADATION OF EXTRACTED AGGREGATE: Tex-200-F","Sieve Size","","Weight retained, g"]
[1315,{"$f":"IF(INDIRECT(\"DOT2_GRAD!F16\")<>\"\",INDIRECT(\"DOT2_GRAD!F16\"),\"\")","v":""},"DOT2_GRAD","DOT2 GRADATION OF EXTRACTED AGGREGATE: Tex-200-F","Sieve Size","","Weight retained, g"]
[1316,{"$f":"IF(INDIRECT(\"DOT2_GRAD!F17\")<>\"\",INDIRECT(\"DOT2_GRAD!F17\"),\"\")","v":""},"DOT2_GRAD","DOT2 GRADATION OF EXTRACTED AGGREGATE: Tex-200-F","Sieve Size","","Weight retained, g"]
[1317,{"$f":"IF(INDIRECT(\"DOT2_GRAD!F18\")<>\"\",INDIRECT(\"DOT2_GRAD!F18\"),\"\")","v":""},"DOT2_GRAD","DOT2 GRADATION OF EXTRACTED AGGREGATE: Tex-200-F","Sieve Size","","Weight retained, g"]
[1318,{"$f":"IF(INDIRECT(\"DOT2_GRAD!F21\")<>\"\",INDIRECT(\"DOT2_GRAD!F21\"),\"\")","v":""},"DOT2_GRAD","DOT2 GRADATION OF EXTRACTED AGGREGATE: Tex-200-F","Sieve Size","Total - #200","Weight retained, g"]
[1319]
[1320,{"$f":"IF(INDIRECT(\"DOT2_GRAD!G9\")<>\"\",INDIRECT(\"DOT2_GRAD!G9\"),\"\")","v":""},"DOT2_GRAD","DOT2 GRADATION OF EXTRACTED AGGREGATE: Tex-200-F","Sieve Size",{"$f":"F1274","v":""},"Percent passing, %"]
[1321,{"$f":"IF(INDIRECT(\"DOT2_GRAD!G10\")<>\"\",INDIRECT(\"DOT2_GRAD!G10\"),\"\")","v":""},"DOT2_GRAD","DOT2 GRADATION OF EXTRACTED AGGREGATE: Tex-200-F","Sieve Size","","Percent passing, %"]
[1322,{"$f":"IF(INDIRECT(\"DOT2_GRAD!G11\")<>\"\",INDIRECT(\"DOT2_GRAD!G11\"),\"\")","v":""},"DOT2_GRAD","DOT2 GRADATION OF EXTRACTED AGGREGATE: Tex-200-F","Sieve Size","","Percent passing, %"]
[1323,{"$f":"IF(INDIRECT(\"DOT2_GRAD!G12\")<>\"\",INDIRECT(\"DOT2_GRAD!G12\"),\"\")","v":""},"DOT2_GRAD","DOT2 GRADATION OF EXTRACTED AGGREGATE: Tex-200-F","Sieve Size","","Percent passing, %"]
[1324,{"$f":"IF(INDIRECT(\"DOT2_GRAD!G13\")<>\"\",INDIRECT(\"DOT2_GRAD!G13\"),\"\")","v":""},"DOT2_GRAD","DOT2 GRADATION OF EXTRACTED AGGREGATE: Tex-200-F","Sieve Size","","Percent passing, %"]
[1325,{"$f":"IF(INDIRECT(\"DOT2_GRAD!G14\")<>\"\",INDIRECT(\"DOT2_GRAD!G14\"),\"\")","v":""},"DOT2_GRAD","DOT2 GRADATION OF EXTRACTED AGGREGATE: Tex-200-F","Sieve Size","","Percent passing, %"]
[1326,{"$f":"IF(INDIRECT(\"DOT2_GRAD!G15\")<>\"\",INDIRECT(\"DOT2_GRAD!G15\"),\"\")","v":""},"DOT2_GRAD","DOT2 GRADATION OF EXTRACTED AGGREGATE: Tex-200-F","Sieve Size","","Percent passing, %"]
[1327,{"$f":"IF(INDIRECT(\"DOT2_GRAD!G16\")<>\"\",INDIRECT(\"DOT2_GRAD!G16\"),\"\")","v":""},"DOT2_GRAD","DOT2 GRADATION OF EXTRACTED AGGREGATE: Tex-200-F","Sieve Size","","Percent passing, %"]
[1328,{"$f":"IF(INDIRECT(\"DOT2_GRAD!G17\")<>\"\",INDIRECT(\"DOT2_GRAD!G17\"),\"\")","v":""},"DOT2_GRAD","DOT2 GRADATION OF EXTRACTED AGGREGATE: Tex-200-F","Sieve Size","","Percent passing, %"]
[1329,{"$f":"IF(INDIRECT(\"DOT2_GRAD!G18\")<>\"\",INDIRECT(\"DOT2_GRAD!G18\"),\"\")","v":""},"DOT2_GRAD","DOT2 GRADATION OF EXTRACTED AGGREGATE: Tex-200-F","Sieve Size","","Percent passing, %"]
[1330,{"$f":"IF(INDIRECT(\"DOT2_GRAD!G21\")<>\"\",INDIRECT(\"DOT2_GRAD!G21\"),\"\")","v":""},"DOT2_GRAD","DOT2 GRADATION OF EXTRACTED AGGREGATE: Tex-200-F","Sieve Size","Total - #200","Percent passing, %"]
[1331]
[1332,{"$f":"IF(INDIRECT(\"DOT2_GRAD!H9\")<>\"\",INDIRECT(\"DOT2_GRAD!H9\"),\"\")","v":""},"DOT2_GRAD","DOT2 GRADATION OF EXTRACTED AGGREGATE: Tex-200-F","Sieve Size",{"$f":"F1274","v":""},"JMF limits","Lower"]
[1333,{"$f":"IF(INDIRECT(\"DOT2_GRAD!H10\")<>\"\",INDIRECT(\"DOT2_GRAD!H10\"),\"\")","v":""},"DOT2_GRAD","DOT2 GRADATION OF EXTRACTED AGGREGATE: Tex-200-F","Sieve Size","","JMF limits","Lower"]
[1334,{"$f":"IF(INDIRECT(\"DOT2_GRAD!H11\")<>\"\",INDIRECT(\"DOT2_GRAD!H11\"),\"\")","v":""},"DOT2_GRAD","DOT2 GRADATION OF EXTRACTED AGGREGATE: Tex-200-F","Sieve Size","","JMF limits","Lower"]
[1335,{"$f":"IF(INDIRECT(\"DOT2_GRAD!H12\")<>\"\",INDIRECT(\"DOT2_GRAD!H12\"),\"\")","v":""},"DOT2_GRAD","DOT2 GRADATION OF EXTRACTED AGGREGATE: Tex-200-F","Sieve Size","","JMF limits","Lower"]
[1336,{"$f":"IF(INDIRECT(\"DOT2_GRAD!H13\")<>\"\",INDIRECT(\"DOT2_GRAD!H13\"),\"\")","v":""},"DOT2_GRAD","DOT2 GRADATION OF EXTRACTED AGGREGATE: Tex-200-F","Sieve Size","","JMF limits","Lower"]
[1337,{"$f":"IF(INDIRECT(\"DOT2_GRAD!H14\")<>\"\",INDIRECT(\"DOT2_GRAD!H14\"),\"\")","v":""},"DOT2_GRAD","DOT2 GRADATION OF EXTRACTED AGGREGATE: Tex-200-F","Sieve Size","","JMF limits","Lower"]
[1338,{"$f":"IF(INDIRECT(\"DOT2_GRAD!H15\")<>\"\",INDIRECT(\"DOT2_GRAD!H15\"),\"\")","v":""},"DOT2_GRAD","DOT2 GRADATION OF EXTRACTED AGGREGATE: Tex-200-F","Sieve Size","","JMF limits","Lower"]
[1339,{"$f":"IF(INDIRECT(\"DOT2_GRAD!H16\")<>\"\",INDIRECT(\"DOT2_GRAD!H16\"),\"\")","v":""},"DOT2_GRAD","DOT2 GRADATION OF EXTRACTED AGGREGATE: Tex-200-F","Sieve Size","","JMF limits","Lower"]
[1340,{"$f":"IF(INDIRECT(\"DOT2_GRAD!H17\")<>\"\",INDIRECT(\"DOT2_GRAD!H17\"),\"\")","v":""},"DOT2_GRAD","DOT2 GRADATION OF EXTRACTED AGGREGATE: Tex-200-F","Sieve Size","","JMF limits","Lower"]
[1341,{"$f":"IF(INDIRECT(\"DOT2_GRAD!H18\")<>\"\",INDIRECT(\"DOT2_GRAD!H18\"),\"\")","v":""},"DOT2_GRAD","DOT2 GRADATION OF EXTRACTED AGGREGATE: Tex-200-F","Sieve Size","","JMF limits","Lower"]
[1342,{"$f":"IF(INDIRECT(\"DOT2_GRAD!H21\")<>\"\",INDIRECT(\"DOT2_GRAD!H21\"),\"\")","v":""},"DOT2_GRAD","DOT2 GRADATION OF EXTRACTED AGGREGATE: Tex-200-F","Sieve Size","Total - #200","JMF limits","Lower"]
[1343]
[1344,{"$f":"IF(INDIRECT(\"DOT2_GRAD!J9\")<>\"\",INDIRECT(\"DOT2_GRAD!J9\"),\"\")","v":""},"DOT2_GRAD","DOT2 GRADATION OF EXTRACTED AGGREGATE: Tex-200-F","Sieve Size",{"$f":"F1274","v":""},"JMF limits","Upper"]
[1345,{"$f":"IF(INDIRECT(\"DOT2_GRAD!J10\")<>\"\",INDIRECT(\"DOT2_GRAD!J10\"),\"\")","v":""},"DOT2_GRAD","DOT2 GRADATION OF EXTRACTED AGGREGATE: Tex-200-F","Sieve Size","","JMF limits","Upper"]
[1346,{"$f":"IF(INDIRECT(\"DOT2_GRAD!J11\")<>\"\",INDIRECT(\"DOT2_GRAD!J11\"),\"\")","v":""},"DOT2_GRAD","DOT2 GRADATION OF EXTRACTED AGGREGATE: Tex-200-F","Sieve Size","","JMF limits","Upper"]
[1347,{"$f":"IF(INDIRECT(\"DOT2_GRAD!J12\")<>\"\",INDIRECT(\"DOT2_GRAD!J12\"),\"\")","v":""},"DOT2_GRAD","DOT2 GRADATION OF EXTRACTED AGGREGATE: Tex-200-F","Sieve Size","","JMF limits","Upper"]
[1348,{"$f":"IF(INDIRECT(\"DOT2_GRAD!J13\")<>\"\",INDIRECT(\"DOT2_GRAD!J13\"),\"\")","v":""},"DOT2_GRAD","DOT2 GRADATION OF EXTRACTED AGGREGATE: Tex-200-F","Sieve Size","","JMF limits","Upper"]
[1349,{"$f":"IF(INDIRECT(\"DOT2_GRAD!J14\")<>\"\",INDIRECT(\"DOT2_GRAD!J14\"),\"\")","v":""},"DOT2_GRAD","DOT2 GRADATION OF EXTRACTED AGGREGATE: Tex-200-F","Sieve Size","","JMF limits","Upper"]
[1350,{"$f":"IF(INDIRECT(\"DOT2_GRAD!J15\")<>\"\",INDIRECT(\"DOT2_GRAD!J15\"),\"\")","v":""},"DOT2_GRAD","DOT2 GRADATION OF EXTRACTED AGGREGATE: Tex-200-F","Sieve Size","","JMF limits","Upper"]
[1351,{"$f":"IF(INDIRECT(\"DOT2_GRAD!J16\")<>\"\",INDIRECT(\"DOT2_GRAD!J16\"),\"\")","v":""},"DOT2_GRAD","DOT2 GRADATION OF EXTRACTED AGGREGATE: Tex-200-F","Sieve Size","","JMF limits","Upper"]
[1352,{"$f":"IF(INDIRECT(\"DOT2_GRAD!J17\")<>\"\",INDIRECT(\"DOT2_GRAD!J17\"),\"\")","v":""},"DOT2_GRAD","DOT2 GRADATION OF EXTRACTED AGGREGATE: Tex-200-F","Sieve Size","","JMF limits","Upper"]
[1353,{"$f":"IF(INDIRECT(\"DOT2_GRAD!J18\")<>\"\",INDIRECT(\"DOT2_GRAD!J18\"),\"\")","v":""},"DOT2_GRAD","DOT2 GRADATION OF EXTRACTED AGGREGATE: Tex-200-F","Sieve Size","","JMF limits","Upper"]
[1354,{"$f":"IF(INDIRECT(\"DOT2_GRAD!J21\")<>\"\",INDIRECT(\"DOT2_GRAD!J21\"),\"\")","v":""},"DOT2_GRAD","DOT2 GRADATION OF EXTRACTED AGGREGATE: Tex-200-F","Sieve Size","Total - #200","JMF limits","Upper"]
[1355]
[1356,{"$f":"IF(INDIRECT(\"DOT2_GRAD!L9\")<>\"\",INDIRECT(\"DOT2_GRAD!L9\"),\"\")","v":""},"DOT2_GRAD","DOT2 GRADATION OF EXTRACTED AGGREGATE: Tex-200-F","Sieve Size",{"$f":"F1274","v":""},"TOLERANCES","Gradation"]
[1357,{"$f":"IF(INDIRECT(\"DOT2_GRAD!L10\")<>\"\",INDIRECT(\"DOT2_GRAD!L10\"),\"\")","v":""},"DOT2_GRAD","DOT2 GRADATION OF EXTRACTED AGGREGATE: Tex-200-F","Sieve Size","","TOLERANCES","Gradation"]
[1358,{"$f":"IF(INDIRECT(\"DOT2_GRAD!L11\")<>\"\",INDIRECT(\"DOT2_GRAD!L11\"),\"\")","v":""},"DOT2_GRAD","DOT2 GRADATION OF EXTRACTED AGGREGATE: Tex-200-F","Sieve Size","","TOLERANCES","Gradation"]
[1359,{"$f":"IF(INDIRECT(\"DOT2_GRAD!L12\")<>\"\",INDIRECT(\"DOT2_GRAD!L12\"),\"\")","v":""},"DOT2_GRAD","DOT2 GRADATION OF EXTRACTED AGGREGATE: Tex-200-F","Sieve Size","","TOLERANCES","Gradation"]
[1360,{"$f":"IF(INDIRECT(\"DOT2_GRAD!L13\")<>\"\",INDIRECT(\"DOT2_GRAD!L13\"),\"\")","v":""},"DOT2_GRAD","DOT2 GRADATION OF EXTRACTED AGGREGATE: Tex-200-F","Sieve Size","","TOLERANCES","Gradation"]
[1361,{"$f":"IF(INDIRECT(\"DOT2_GRAD!L14\")<>\"\",INDIRECT(\"DOT2_GRAD!L14\"),\"\")","v":""},"DOT2_GRAD","DOT2 GRADATION OF EXTRACTED AGGREGATE: Tex-200-F","Sieve Size","","TOLERANCES","Gradation"]
[1362,{"$f":"IF(INDIRECT(\"DOT2_GRAD!L15\")<>\"\",INDIRECT(\"DOT2_GRAD!L15\"),\"\")","v":""},"DOT2_GRAD","DOT2 GRADATION OF EXTRACTED AGGREGATE: Tex-200-F","Sieve Size","","TOLERANCES","Gradation"]
[1363,{"$f":"IF(INDIRECT(\"DOT2_GRAD!L16\")<>\"\",INDIRECT(\"DOT2_GRAD!L16\"),\"\")","v":""},"DOT2_GRAD","DOT2 GRADATION OF EXTRACTED AGGREGATE: Tex-200-F","Sieve Size","","TOLERANCES","Gradation"]
[1364,{"$f":"IF(INDIRECT(\"DOT2_GRAD!L17\")<>\"\",INDIRECT(\"DOT2_GRAD!L17\"),\"\")","v":""},"DOT2_GRAD","DOT2 GRADATION OF EXTRACTED AGGREGATE: Tex-200-F","Sieve Size","","TOLERANCES","Gradation"]
[1365,{"$f":"IF(INDIRECT(\"DOT2_GRAD!L18\")<>\"\",INDIRECT(\"DOT2_GRAD!L18\"),\"\")","v":""},"DOT2_GRAD","DOT2 GRADATION OF EXTRACTED AGGREGATE: Tex-200-F","Sieve Size","","TOLERANCES","Gradation"]
[1366,{"$f":"IF(INDIRECT(\"DOT2_GRAD!L21\")<>\"\",INDIRECT(\"DOT2_GRAD!L21\"),\"\")","v":""},"DOT2_GRAD","DOT2 GRADATION OF EXTRACTED AGGREGATE: Tex-200-F","Sieve Size","Total - #200","TOLERANCES","Gradation"]
[1367]
[1368,{"$f":"IF(INDIRECT(\"DOT2_GRAD!M9\")<>\"\",INDIRECT(\"DOT2_GRAD!M9\"),\"\")","v":""},"DOT2_GRAD","DOT2 GRADATION OF EXTRACTED AGGREGATE: Tex-200-F","Sieve Size",{"$f":"F1274","v":""},"TOLERANCES","Restricted zone"]
[1369,{"$f":"IF(INDIRECT(\"DOT2_GRAD!M10\")<>\"\",INDIRECT(\"DOT2_GRAD!M10\"),\"\")","v":""},"DOT2_GRAD","DOT2 GRADATION OF EXTRACTED AGGREGATE: Tex-200-F","Sieve Size","","TOLERANCES","Restricted zone"]
[1370,{"$f":"IF(INDIRECT(\"DOT2_GRAD!M11\")<>\"\",INDIRECT(\"DOT2_GRAD!M11\"),\"\")","v":""},"DOT2_GRAD","DOT2 GRADATION OF EXTRACTED AGGREGATE: Tex-200-F","Sieve Size","","TOLERANCES","Restricted zone"]
[1371,{"$f":"IF(INDIRECT(\"DOT2_GRAD!M12\")<>\"\",INDIRECT(\"DOT2_GRAD!M12\"),\"\")","v":""},"DOT2_GRAD","DOT2 GRADATION OF EXTRACTED AGGREGATE: Tex-200-F","Sieve Size","","TOLERANCES","Restricted zone"]
[1372,{"$f":"IF(INDIRECT(\"DOT2_GRAD!M13\")<>\"\",INDIRECT(\"DOT2_GRAD!M13\"),\"\")","v":""},"DOT2_GRAD","DOT2 GRADATION OF EXTRACTED AGGREGATE: Tex-200-F","Sieve Size","","TOLERANCES","Restricted zone"]
[1373,{"$f":"IF(INDIRECT(\"DOT2_GRAD!M14\")<>\"\",INDIRECT(\"DOT2_GRAD!M14\"),\"\")","v":""},"DOT2_GRAD","DOT2 GRADATION OF EXTRACTED AGGREGATE: Tex-200-F","Sieve Size","","TOLERANCES","Restricted zone"]
[1374,{"$f":"IF(INDIRECT(\"DOT2_GRAD!M15\")<>\"\",INDIRECT(\"DOT2_GRAD!M15\"),\"\")","v":""},"DOT2_GRAD","DOT2 GRADATION OF EXTRACTED AGGREGATE: Tex-200-F","Sieve Size","","TOLERANCES","Restricted zone"]
[1375,{"$f":"IF(INDIRECT(\"DOT2_GRAD!M16\")<>\"\",INDIRECT(\"DOT2_GRAD!M16\"),\"\")","v":""},"DOT2_GRAD","DOT2 GRADATION OF EXTRACTED AGGREGATE: Tex-200-F","Sieve Size","","TOLERANCES","Restricted zone"]
[1376,{"$f":"IF(INDIRECT(\"DOT2_GRAD!M17\")<>\"\",INDIRECT(\"DOT2_GRAD!M17\"),\"\")","v":""},"DOT2_GRAD","DOT2 GRADATION OF EXTRACTED AGGREGATE: Tex-200-F","Sieve Size","","TOLERANCES","Restricted zone"]
[1377,{"$f":"IF(INDIRECT(\"DOT2_GRAD!M18\")<>\"\",INDIRECT(\"DOT2_GRAD!M18\"),\"\")","v":""},"DOT2_GRAD","DOT2 GRADATION OF EXTRACTED AGGREGATE: Tex-200-F","Sieve Size","","TOLERANCES","Restricted zone"]
[1378,{"$f":"IF(INDIRECT(\"DOT2_GRAD!M21\")<>\"\",INDIRECT(\"DOT2_GRAD!M21\"),\"\")","v":""},"DOT2_GRAD","DOT2 GRADATION OF EXTRACTED AGGREGATE: Tex-200-F","Sieve Size","Total - #200","TOLERANCES","Restricted zone"]
[1379]
[1380]
[1381]
[1382]
[1383,{"$f":"IF(INDIRECT(\"DOT3_GRAD!G4\")<>\"\",INDIRECT(\"DOT3_GRAD!G4\"),\"\")","v":""},"DOT3_GRAD","DOT3 GRADATION OF EXTRACTED AGGREGATE: Tex-200-F",null,"Ignited sample original dry weight, g:",null,null,null,654]
[1384,{"$f":"IF(INDIRECT(\"DOT3_GRAD!G5\")<>\"\",INDIRECT(\"DOT3_GRAD!G5\"),\"\")","v":""},"DOT3_GRAD","DOT3 GRADATION OF EXTRACTED AGGREGATE: Tex-200-F",null,"Dry weight after washing, g:",null,null,null,655]
[1385,{"$f":"IF(INDIRECT(\"DOT3_GRAD!G6\")<>\"\",INDIRECT(\"DOT3_GRAD!G6\"),\"\")","v":""},"DOT3_GRAD","DOT3 GRADATION OF EXTRACTED AGGREGATE: Tex-200-F",null,"Sieve analysis:",null,null,null,656]
[1386,{"$f":"IF(INDIRECT(\"DOT3_GRAD!C19\")<>\"\",INDIRECT(\"DOT3_GRAD!C19\"),\"\")","v":""},"DOT3_GRAD","DOT3 GRADATION OF EXTRACTED AGGREGATE: Tex-200-F",null,"- #200","Weight retained, g",null,null,667]
[1387,{"$f":"IF(INDIRECT(\"DOT3_GRAD!C22\")<>\"\",INDIRECT(\"DOT3_GRAD!C22\"),\"\")","v":""},"DOT3_GRAD","DOT3 GRADATION OF EXTRACTED AGGREGATE: Tex-200-F",null,"Total weight, g"]
[1388]
[1389,{"$f":"IF(INDIRECT(\"DOT3_GRAD!C9\")<>\"\",INDIRECT(\"DOT3_GRAD!C9\"),\"\")","v":""},"DOT3_GRAD","DOT3 GRADATION OF EXTRACTED AGGREGATE: Tex-200-F","Sieve Size",{"$f":"INDIRECT(\"DOT3_GRAD!B9\")","v":""},"Weight retained, g",null,null,657]
[1390,{"$f":"IF(INDIRECT(\"DOT3_GRAD!C10\")<>\"\",INDIRECT(\"DOT3_GRAD!C10\"),\"\")","v":""},"DOT3_GRAD","DOT3 GRADATION OF EXTRACTED AGGREGATE: Tex-200-F","Sieve Size",{"$f":"INDIRECT(\"DOT3_GRAD!B10\")","v":""},"Weight retained, g",null,null,658]
[1391,{"$f":"IF(INDIRECT(\"DOT3_GRAD!C11\")<>\"\",INDIRECT(\"DOT3_GRAD!C11\"),\"\")","v":""},"DOT3_GRAD","DOT3 GRADATION OF EXTRACTED AGGREGATE: Tex-200-F","Sieve Size",{"$f":"INDIRECT(\"DOT3_GRAD!B11\")","v":""},"Weight retained, g",null,null,659]
[1392,{"$f":"IF(INDIRECT(\"DOT3_GRAD!C12\")<>\"\",INDIRECT(\"DOT3_GRAD!C12\"),\"\")","v":""},"DOT3_GRAD","DOT3 GRADATION OF EXTRACTED AGGREGATE: Tex-200-F","Sieve Size",{"$f":"INDIRECT(\"DOT3_GRAD!B12\")","v":""},"Weight retained, g",null,null,660]
[1393,{"$f":"IF(INDIRECT(\"DOT3_GRAD!C13\")<>\"\",INDIRECT(\"DOT3_GRAD!C13\"),\"\")","v":""},"DOT3_GRAD","DOT3 GRADATION OF EXTRACTED AGGREGATE: Tex-200-F","Sieve Size",{"$f":"INDIRECT(\"DOT3_GRAD!B13\")","v":""},"Weight retained, g",null,null,661]
[1394,{"$f":"IF(INDIRECT(\"DOT3_GRAD!C14\")<>\"\",INDIRECT(\"DOT3_GRAD!C14\"),\"\")","v":""},"DOT3_GRAD","DOT3 GRADATION OF EXTRACTED AGGREGATE: Tex-200-F","Sieve Size",{"$f":"INDIRECT(\"DOT3_GRAD!B14\")","v":""},"Weight retained, g",null,null,662]
[1395,{"$f":"IF(INDIRECT(\"DOT3_GRAD!C15\")<>\"\",INDIRECT(\"DOT3_GRAD!C15\"),\"\")","v":""},"DOT3_GRAD","DOT3 GRADATION OF EXTRACTED AGGREGATE: Tex-200-F","Sieve Size",{"$f":"INDIRECT(\"DOT3_GRAD!B15\")","v":""},"Weight retained, g",null,null,663]
[1396,{"$f":"IF(INDIRECT(\"DOT3_GRAD!C16\")<>\"\",INDIRECT(\"DOT3_GRAD!C16\"),\"\")","v":""},"DOT3_GRAD","DOT3 GRADATION OF EXTRACTED AGGREGATE: Tex-200-F","Sieve Size",{"$f":"INDIRECT(\"DOT3_GRAD!B16\")","v":""},"Weight retained, g",null,null,664]
[1397,{"$f":"IF(INDIRECT(\"DOT3_GRAD!C17\")<>\"\",INDIRECT(\"DOT3_GRAD!C17\"),\"\")","v":""},"DOT3_GRAD","DOT3 GRADATION OF EXTRACTED AGGREGATE: Tex-200-F","Sieve Size",{"$f":"INDIRECT(\"DOT3_GRAD!B17\")","v":""},"Weight retained, g",null,null,665]
[1398,{"$f":"IF(INDIRECT(\"DOT3_GRAD!C18\")<>\"\",INDIRECT(\"DOT3_GRAD!C18\"),\"\")","v":""},"DOT3_GRAD","DOT3 GRADATION OF EXTRACTED AGGREGATE: Tex-200-F","Sieve Size",{"$f":"INDIRECT(\"DOT3_GRAD!B18\")","v":""},"Weight retained, g",null,null,666]
[1399,{"$f":"IF(INDIRECT(\"DOT3_GRAD!C21\")<>\"\",INDIRECT(\"DOT3_GRAD!C21\"),\"\")","v":""},"DOT3_GRAD","DOT3 GRADATION OF EXTRACTED AGGREGATE: Tex-200-F","Sieve Size","Total - #200","Weight retained, g"]
[1400]
[1401,{"$f":"IF(INDIRECT(\"DOT3_GRAD!D9\")<>\"\",INDIRECT(\"DOT3_GRAD!D9\"),\"\")","v":""},"DOT3_GRAD","DOT3 GRADATION OF EXTRACTED AGGREGATE: Tex-200-F","Sieve Size",{"$f":"F1391","v":""},"Weight retained, g"]
[1402,{"$f":"IF(INDIRECT(\"DOT3_GRAD!D10\")<>\"\",INDIRECT(\"DOT3_GRAD!D10\"),\"\")","v":""},"DOT3_GRAD","DOT3 GRADATION OF EXTRACTED AGGREGATE: Tex-200-F","Sieve Size","","Weight retained, g"]
[1403,{"$f":"IF(INDIRECT(\"DOT3_GRAD!D11\")<>\"\",INDIRECT(\"DOT3_GRAD!D11\"),\"\")","v":""},"DOT3_GRAD","DOT3 GRADATION OF EXTRACTED AGGREGATE: Tex-200-F","Sieve Size","","Weight retained, g"]
[1404,{"$f":"IF(INDIRECT(\"DOT3_GRAD!D12\")<>\"\",INDIRECT(\"DOT3_GRAD!D12\"),\"\")","v":""},"DOT3_GRAD","DOT3 GRADATION OF EXTRACTED AGGREGATE: Tex-200-F","Sieve Size","","Weight retained, g"]
[1405,{"$f":"IF(INDIRECT(\"DOT3_GRAD!D13\")<>\"\",INDIRECT(\"DOT3_GRAD!D13\"),\"\")","v":""},"DOT3_GRAD","DOT3 GRADATION OF EXTRACTED AGGREGATE: Tex-200-F","Sieve Size","","Weight retained, g"]
[1406,{"$f":"IF(INDIRECT(\"DOT3_GRAD!D14\")<>\"\",INDIRECT(\"DOT3_GRAD!D14\"),\"\")","v":""},"DOT3_GRAD","DOT3 GRADATION OF EXTRACTED AGGREGATE: Tex-200-F","Sieve Size","","Weight retained, g"]
[1407,{"$f":"IF(INDIRECT(\"DOT3_GRAD!D15\")<>\"\",INDIRECT(\"DOT3_GRAD!D15\"),\"\")","v":""},"DOT3_GRAD","DOT3 GRADATION OF EXTRACTED AGGREGATE: Tex-200-F","Sieve Size","","Weight retained, g"]
[1408,{"$f":"IF(INDIRECT(\"DOT3_GRAD!D16\")<>\"\",INDIRECT(\"DOT3_GRAD!D16\"),\"\")","v":""},"DOT3_GRAD","DOT3 GRADATION OF EXTRACTED AGGREGATE: Tex-200-F","Sieve Size","","Weight retained, g"]
[1409,{"$f":"IF(INDIRECT(\"DOT3_GRAD!D17\")<>\"\",INDIRECT(\"DOT3_GRAD!D17\"),\"\")","v":""},"DOT3_GRAD","DOT3 GRADATION OF EXTRACTED AGGREGATE: Tex-200-F","Sieve Size","","Weight retained, g"]
[1410,{"$f":"IF(INDIRECT(\"DOT3_GRAD!D18\")<>\"\",INDIRECT(\"DOT3_GRAD!D18\"),\"\")","v":""},"DOT3_GRAD","DOT3 GRADATION OF EXTRACTED AGGREGATE: Tex-200-F","Sieve Size","","Weight retained, g"]
[1411,{"$f":"IF(INDIRECT(\"DOT3_GRAD!D21\")<>\"\",INDIRECT(\"DOT3_GRAD!D21\"),\"\")","v":""},"DOT3_GRAD","DOT3 GRADATION OF EXTRACTED AGGREGATE: Tex-200-F","Sieve Size","Total - #200","Weight retained, g"]
[1412]
[1413,{"$f":"IF(INDIRECT(\"DOT3_GRAD!E9\")<>\"\",INDIRECT(\"DOT3_GRAD!E9\"),\"\")","v":""},"DOT3_GRAD","DOT3 GRADATION OF EXTRACTED AGGREGATE: Tex-200-F","Sieve Size",{"$f":"F1391","v":""},"Weight retained, g"]
[1414,{"$f":"IF(INDIRECT(\"DOT3_GRAD!E10\")<>\"\",INDIRECT(\"DOT3_GRAD!E10\"),\"\")","v":""},"DOT3_GRAD","DOT3 GRADATION OF EXTRACTED AGGREGATE: Tex-200-F","Sieve Size","","Weight retained, g"]
[1415,{"$f":"IF(INDIRECT(\"DOT3_GRAD!E11\")<>\"\",INDIRECT(\"DOT3_GRAD!E11\"),\"\")","v":""},"DOT3_GRAD","DOT3 GRADATION OF EXTRACTED AGGREGATE: Tex-200-F","Sieve Size","","Weight retained, g"]
[1416,{"$f":"IF(INDIRECT(\"DOT3_GRAD!E12\")<>\"\",INDIRECT(\"DOT3_GRAD!E12\"),\"\")","v":""},"DOT3_GRAD","DOT3 GRADATION OF EXTRACTED AGGREGATE: Tex-200-F","Sieve Size","","Weight retained, g"]
[1417,{"$f":"IF(INDIRECT(\"DOT3_GRAD!E13\")<>\"\",INDIRECT(\"DOT3_GRAD!E13\"),\"\")","v":""},"DOT3_GRAD","DOT3 GRADATION OF EXTRACTED AGGREGATE: Tex-200-F","Sieve Size","","Weight retained, g"]
[1418,{"$f":"IF(INDIRECT(\"DOT3_GRAD!E14\")<>\"\",INDIRECT(\"DOT3_GRAD!E14\"),\"\")","v":""},"DOT3_GRAD","DOT3 GRADATION OF EXTRACTED AGGREGATE: Tex-200-F","Sieve Size","","Weight retained, g"]
[1419,{"$f":"IF(INDIRECT(\"DOT3_GRAD!E15\")<>\"\",INDIRECT(\"DOT3_GRAD!E15\"),\"\")","v":""},"DOT3_GRAD","DOT3 GRADATION OF EXTRACTED AGGREGATE: Tex-200-F","Sieve Size","","Weight retained, g"]
[1420,{"$f":"IF(INDIRECT(\"DOT3_GRAD!E16\")<>\"\",INDIRECT(\"DOT3_GRAD!E16\"),\"\")","v":""},"DOT3_GRAD","DOT3 GRADATION OF EXTRACTED AGGREGATE: Tex-200-F","Sieve Size","","Weight retained, g"]
[1421,{"$f":"IF(INDIRECT(\"DOT3_GRAD!E17\")<>\"\",INDIRECT(\"DOT3_GRAD!E17\"),\"\")","v":""},"DOT3_GRAD","DOT3 GRADATION OF EXTRACTED AGGREGATE: Tex-200-F","Sieve Size","","Weight retained, g"]
[1422,{"$f":"IF(INDIRECT(\"DOT3_GRAD!E18\")<>\"\",INDIRECT(\"DOT3_GRAD!E18\"),\"\")","v":""},"DOT3_GRAD","DOT3 GRADATION OF EXTRACTED AGGREGATE: Tex-200-F","Sieve Size","","Weight retained, g"]
[1423,{"$f":"IF(INDIRECT(\"DOT3_GRAD!E21\")<>\"\",INDIRECT(\"DOT3_GRAD!E21\"),\"\")","v":""},"DOT3_GRAD","DOT3 GRADATION OF EXTRACTED AGGREGATE: Tex-200-F","Sieve Size","Total - #200","Weight retained, g"]
[1424]
[1425,{"$f":"IF(INDIRECT(\"DOT3_GRAD!F9\")<>\"\",INDIRECT(\"DOT3_GRAD!F9\"),\"\")","v":""},"DOT3_GRAD","DOT3 GRADATION OF EXTRACTED AGGREGATE: Tex-200-F","Sieve Size",{"$f":"F1391","v":""},"Weight retained, g"]
[1426,{"$f":"IF(INDIRECT(\"DOT3_GRAD!F10\")<>\"\",INDIRECT(\"DOT3_GRAD!F10\"),\"\")","v":""},"DOT3_GRAD","DOT3 GRADATION OF EXTRACTED AGGREGATE: Tex-200-F","Sieve Size","","Weight retained, g"]
[1427,{"$f":"IF(INDIRECT(\"DOT3_GRAD!F11\")<>\"\",INDIRECT(\"DOT3_GRAD!F11\"),\"\")","v":""},"DOT3_GRAD","DOT3 GRADATION OF EXTRACTED AGGREGATE: Tex-200-F","Sieve Size","","Weight retained, g"]
[1428,{"$f":"IF(INDIRECT(\"DOT3_GRAD!F12\")<>\"\",INDIRECT(\"DOT3_GRAD!F12\"),\"\")","v":""},"DOT3_GRAD","DOT3 GRADATION OF EXTRACTED AGGREGATE: Tex-200-F","Sieve Size","","Weight retained, g"]
[1429,{"$f":"IF(INDIRECT(\"DOT3_GRAD!F13\")<>\"\",INDIRECT(\"DOT3_GRAD!F13\"),\"\")","v":""},"DOT3_GRAD","DOT3 GRADATION OF EXTRACTED AGGREGATE: Tex-200-F","Sieve Size","","Weight retained, g"]
[1430,{"$f":"IF(INDIRECT(\"DOT3_GRAD!F14\")<>\"\",INDIRECT(\"DOT3_GRAD!F14\"),\"\")","v":""},"DOT3_GRAD","DOT3 GRADATION OF EXTRACTED AGGREGATE: Tex-200-F","Sieve Size","","Weight retained, g"]
[1431,{"$f":"IF(INDIRECT(\"DOT3_GRAD!F15\")<>\"\",INDIRECT(\"DOT3_GRAD!F15\"),\"\")","v":""},"DOT3_GRAD","DOT3 GRADATION OF EXTRACTED AGGREGATE: Tex-200-F","Sieve Size","","Weight retained, g"]
[1432,{"$f":"IF(INDIRECT(\"DOT3_GRAD!F16\")<>\"\",INDIRECT(\"DOT3_GRAD!F16\"),\"\")","v":""},"DOT3_GRAD","DOT3 GRADATION OF EXTRACTED AGGREGATE: Tex-200-F","Sieve Size","","Weight retained, g"]
[1433,{"$f":"IF(INDIRECT(\"DOT3_GRAD!F17\")<>\"\",INDIRECT(\"DOT3_GRAD!F17\"),\"\")","v":""},"DOT3_GRAD","DOT3 GRADATION OF EXTRACTED AGGREGATE: Tex-200-F","Sieve Size","","Weight retained, g"]
[1434,{"$f":"IF(INDIRECT(\"DOT3_GRAD!F18\")<>\"\",INDIRECT(\"DOT3_GRAD!F18\"),\"\")","v":""},"DOT3_GRAD","DOT3 GRADATION OF EXTRACTED AGGREGATE: Tex-200-F","Sieve Size","","Weight retained, g"]
[1435,{"$f":"IF(INDIRECT(\"DOT3_GRAD!F21\")<>\"\",INDIRECT(\"DOT3_GRAD!F21\"),\"\")","v":""},"DOT3_GRAD","DOT3 GRADATION OF EXTRACTED AGGREGATE: Tex-200-F","Sieve Size","Total - #200","Weight retained, g"]
[1436]
[1437,{"$f":"IF(INDIRECT(\"DOT3_GRAD!G9\")<>\"\",INDIRECT(\"DOT3_GRAD!G9\"),\"\")","v":""},"DOT3_GRAD","DOT3 GRADATION OF EXTRACTED AGGREGATE: Tex-200-F","Sieve Size",{"$f":"F1391","v":""},"Percent passing, %"]
[1438,{"$f":"IF(INDIRECT(\"DOT3_GRAD!G10\")<>\"\",INDIRECT(\"DOT3_GRAD!G10\"),\"\")","v":""},"DOT3_GRAD","DOT3 GRADATION OF EXTRACTED AGGREGATE: Tex-200-F","Sieve Size","","Percent passing, %"]
[1439,{"$f":"IF(INDIRECT(\"DOT3_GRAD!G11\")<>\"\",INDIRECT(\"DOT3_GRAD!G11\"),\"\")","v":""},"DOT3_GRAD","DOT3 GRADATION OF EXTRACTED AGGREGATE: Tex-200-F","Sieve Size","","Percent passing, %"]
[1440,{"$f":"IF(INDIRECT(\"DOT3_GRAD!G12\")<>\"\",INDIRECT(\"DOT3_GRAD!G12\"),\"\")","v":""},"DOT3_GRAD","DOT3 GRADATION OF EXTRACTED AGGREGATE: Tex-200-F","Sieve Size","","Percent passing, %"]
[1441,{"$f":"IF(INDIRECT(\"DOT3_GRAD!G13\")<>\"\",INDIRECT(\"DOT3_GRAD!G13\"),\"\")","v":""},"DOT3_GRAD","DOT3 GRADATION OF EXTRACTED AGGREGATE: Tex-200-F","Sieve Size","","Percent passing, %"]
[1442,{"$f":"IF(INDIRECT(\"DOT3_GRAD!G14\")<>\"\",INDIRECT(\"DOT3_GRAD!G14\"),\"\")","v":""},"DOT3_GRAD","DOT3 GRADATION OF EXTRACTED AGGREGATE: Tex-200-F","Sieve Size","","Percent passing, %"]
[1443,{"$f":"IF(INDIRECT(\"DOT3_GRAD!G15\")<>\"\",INDIRECT(\"DOT3_GRAD!G15\"),\"\")","v":""},"DOT3_GRAD","DOT3 GRADATION OF EXTRACTED AGGREGATE: Tex-200-F","Sieve Size","","Percent passing, %"]
[1444,{"$f":"IF(INDIRECT(\"DOT3_GRAD!G16\")<>\"\",INDIRECT(\"DOT3_GRAD!G16\"),\"\")","v":""},"DOT3_GRAD","DOT3 GRADATION OF EXTRACTED AGGREGATE: Tex-200-F","Sieve Size","","Percent passing, %"]
[1445,{"$f":"IF(INDIRECT(\"DOT3_GRAD!G17\")<>\"\",INDIRECT(\"DOT3_GRAD!G17\"),\"\")","v":""},"DOT3_GRAD","DOT3 GRADATION OF EXTRACTED AGGREGATE: Tex-200-F","Sieve Size","","Percent passing, %"]
[1446,{"$f":"IF(INDIRECT(\"DOT3_GRAD!G18\")<>\"\",INDIRECT(\"DOT3_GRAD!G18\"),\"\")","v":""},"DOT3_GRAD","DOT3 GRADATION OF EXTRACTED AGGREGATE: Tex-200-F","Sieve Size","","Percent passing, %"]
[1447,{"$f":"IF(INDIRECT(\"DOT3_GRAD!G21\")<>\"\",INDIRECT(\"DOT3_GRAD!G21\"),\"\")","v":""},"DOT3_GRAD","DOT3 GRADATION OF EXTRACTED AGGREGATE: Tex-200-F","Sieve Size","Total - #200","Percent passing, %"]
[1448]
[1449,{"$f":"IF(INDIRECT(\"DOT3_GRAD!H9\")<>\"\",INDIRECT(\"DOT3_GRAD!H9\"),\"\")","v":""},"DOT3_GRAD","DOT3 GRADATION OF EXTRACTED AGGREGATE: Tex-200-F","Sieve Size",{"$f":"F1391","v":""},"JMF limits","Lower"]
[1450,{"$f":"IF(INDIRECT(\"DOT3_GRAD!H10\")<>\"\",INDIRECT(\"DOT3_GRAD!H10\"),\"\")","v":""},"DOT3_GRAD","DOT3 GRADATION OF EXTRACTED AGGREGATE: Tex-200-F","Sieve Size","","JMF limits","Lower"]
[1451,{"$f":"IF(INDIRECT(\"DOT3_GRAD!H11\")<>\"\",INDIRECT(\"DOT3_GRAD!H11\"),\"\")","v":""},"DOT3_GRAD","DOT3 GRADATION OF EXTRACTED AGGREGATE: Tex-200-F","Sieve Size","","JMF limits","Lower"]
[1452,{"$f":"IF(INDIRECT(\"DOT3_GRAD!H12\")<>\"\",INDIRECT(\"DOT3_GRAD!H12\"),\"\")","v":""},"DOT3_GRAD","DOT3 GRADATION OF EXTRACTED AGGREGATE: Tex-200-F","Sieve Size","","JMF limits","Lower"]
[1453,{"$f":"IF(INDIRECT(\"DOT3_GRAD!H13\")<>\"\",INDIRECT(\"DOT3_GRAD!H13\"),\"\")","v":""},"DOT3_GRAD","DOT3 GRADATION OF EXTRACTED AGGREGATE: Tex-200-F","Sieve Size","","JMF limits","Lower"]
[1454,{"$f":"IF(INDIRECT(\"DOT3_GRAD!H14\")<>\"\",INDIRECT(\"DOT3_GRAD!H14\"),\"\")","v":""},"DOT3_GRAD","DOT3 GRADATION OF EXTRACTED AGGREGATE: Tex-200-F","Sieve Size","","JMF limits","Lower"]
[1455,{"$f":"IF(INDIRECT(\"DOT3_GRAD!H15\")<>\"\",INDIRECT(\"DOT3_GRAD!H15\"),\"\")","v":""},"DOT3_GRAD","DOT3 GRADATION OF EXTRACTED AGGREGATE: Tex-200-F","Sieve Size","","JMF limits","Lower"]
[1456,{"$f":"IF(INDIRECT(\"DOT3_GRAD!H16\")<>\"\",INDIRECT(\"DOT3_GRAD!H16\"),\"\")","v":""},"DOT3_GRAD","DOT3 GRADATION OF EXTRACTED AGGREGATE: Tex-200-F","Sieve Size","","JMF limits","Lower"]
[1457,{"$f":"IF(INDIRECT(\"DOT3_GRAD!H17\")<>\"\",INDIRECT(\"DOT3_GRAD!H17\"),\"\")","v":""},"DOT3_GRAD","DOT3 GRADATION OF EXTRACTED AGGREGATE: Tex-200-F","Sieve Size","","JMF limits","Lower"]
[1458,{"$f":"IF(INDIRECT(\"DOT3_GRAD!H18\")<>\"\",INDIRECT(\"DOT3_GRAD!H18\"),\"\")","v":""},"DOT3_GRAD","DOT3 GRADATION OF EXTRACTED AGGREGATE: Tex-200-F","Sieve Size","","JMF limits","Lower"]
[1459,{"$f":"IF(INDIRECT(\"DOT3_GRAD!H21\")<>\"\",INDIRECT(\"DOT3_GRAD!H21\"),\"\")","v":""},"DOT3_GRAD","DOT3 GRADATION OF EXTRACTED AGGREGATE: Tex-200-F","Sieve Size","Total - #200","JMF limits","Lower"]
[1460]
[1461,{"$f":"IF(INDIRECT(\"DOT3_GRAD!J9\")<>\"\",INDIRECT(\"DOT3_GRAD!J9\"),\"\")","v":""},"DOT3_GRAD","DOT3 GRADATION OF EXTRACTED AGGREGATE: Tex-200-F","Sieve Size",{"$f":"F1391","v":""},"JMF limits","Upper"]
[1462,{"$f":"IF(INDIRECT(\"DOT3_GRAD!J10\")<>\"\",INDIRECT(\"DOT3_GRAD!J10\"),\"\")","v":""},"DOT3_GRAD","DOT3 GRADATION OF EXTRACTED AGGREGATE: Tex-200-F","Sieve Size","","JMF limits","Upper"]
[1463,{"$f":"IF(INDIRECT(\"DOT3_GRAD!J11\")<>\"\",INDIRECT(\"DOT3_GRAD!J11\"),\"\")","v":""},"DOT3_GRAD","DOT3 GRADATION OF EXTRACTED AGGREGATE: Tex-200-F","Sieve Size","","JMF limits","Upper"]
[1464,{"$f":"IF(INDIRECT(\"DOT3_GRAD!J12\")<>\"\",INDIRECT(\"DOT3_GRAD!J12\"),\"\")","v":""},"DOT3_GRAD","DOT3 GRADATION OF EXTRACTED AGGREGATE: Tex-200-F","Sieve Size","","JMF limits","Upper"]
[1465,{"$f":"IF(INDIRECT(\"DOT3_GRAD!J13\")<>\"\",INDIRECT(\"DOT3_GRAD!J13\"),\"\")","v":""},"DOT3_GRAD","DOT3 GRADATION OF EXTRACTED AGGREGATE: Tex-200-F","Sieve Size","","JMF limits","Upper"]
[1466,{"$f":"IF(INDIRECT(\"DOT3_GRAD!J14\")<>\"\",INDIRECT(\"DOT3_GRAD!J14\"),\"\")","v":""},"DOT3_GRAD","DOT3 GRADATION OF EXTRACTED AGGREGATE: Tex-200-F","Sieve Size","","JMF limits","Upper"]
[1467,{"$f":"IF(INDIRECT(\"DOT3_GRAD!J15\")<>\"\",INDIRECT(\"DOT3_GRAD!J15\"),\"\")","v":""},"DOT3_GRAD","DOT3 GRADATION OF EXTRACTED AGGREGATE: Tex-200-F","Sieve Size","","JMF limits","Upper"]
[1468,{"$f":"IF(INDIRECT(\"DOT3_GRAD!J16\")<>\"\",INDIRECT(\"DOT3_GRAD!J16\"),\"\")","v":""},"DOT3_GRAD","DOT3 GRADATION OF EXTRACTED AGGREGATE: Tex-200-F","Sieve Size","","JMF limits","Upper"]
[1469,{"$f":"IF(INDIRECT(\"DOT3_GRAD!J17\")<>\"\",INDIRECT(\"DOT3_GRAD!J17\"),\"\")","v":""},"DOT3_GRAD","DOT3 GRADATION OF EXTRACTED AGGREGATE: Tex-200-F","Sieve Size","","JMF limits","Upper"]
[1470,{"$f":"IF(INDIRECT(\"DOT3_GRAD!J18\")<>\"\",INDIRECT(\"DOT3_GRAD!J18\"),\"\")","v":""},"DOT3_GRAD","DOT3 GRADATION OF EXTRACTED AGGREGATE: Tex-200-F","Sieve Size","","JMF limits","Upper"]
[1471,{"$f":"IF(INDIRECT(\"DOT3_GRAD!J21\")<>\"\",INDIRECT(\"DOT3_GRAD!J21\"),\"\")","v":""},"DOT3_GRAD","DOT3 GRADATION OF EXTRACTED AGGREGATE: Tex-200-F","Sieve Size","Total - #200","JMF limits","Upper"]
[1472]
[1473,{"$f":"IF(INDIRECT(\"DOT3_GRAD!L9\")<>\"\",INDIRECT(\"DOT3_GRAD!L9\"),\"\")","v":""},"DOT3_GRAD","DOT3 GRADATION OF EXTRACTED AGGREGATE: Tex-200-F","Sieve Size",{"$f":"F1391","v":""},"TOLERANCES","Gradation"]
[1474,{"$f":"IF(INDIRECT(\"DOT3_GRAD!L10\")<>\"\",INDIRECT(\"DOT3_GRAD!L10\"),\"\")","v":""},"DOT3_GRAD","DOT3 GRADATION OF EXTRACTED AGGREGATE: Tex-200-F","Sieve Size","","TOLERANCES","Gradation"]
[1475,{"$f":"IF(INDIRECT(\"DOT3_GRAD!L11\")<>\"\",INDIRECT(\"DOT3_GRAD!L11\"),\"\")","v":""},"DOT3_GRAD","DOT3 GRADATION OF EXTRACTED AGGREGATE: Tex-200-F","Sieve Size","","TOLERANCES","Gradation"]
[1476,{"$f":"IF(INDIRECT(\"DOT3_GRAD!L12\")<>\"\",INDIRECT(\"DOT3_GRAD!L12\"),\"\")","v":""},"DOT3_GRAD","DOT3 GRADATION OF EXTRACTED AGGREGATE: Tex-200-F","Sieve Size","","TOLERANCES","Gradation"]
[1477,{"$f":"IF(INDIRECT(\"DOT3_GRAD!L13\")<>\"\",INDIRECT(\"DOT3_GRAD!L13\"),\"\")","v":""},"DOT3_GRAD","DOT3 GRADATION OF EXTRACTED AGGREGATE: Tex-200-F","Sieve Size","","TOLERANCES","Gradation"]
[1478,{"$f":"IF(INDIRECT(\"DOT3_GRAD!L14\")<>\"\",INDIRECT(\"DOT3_GRAD!L14\"),\"\")","v":""},"DOT3_GRAD","DOT3 GRADATION OF EXTRACTED AGGREGATE: Tex-200-F","Sieve Size","","TOLERANCES","Gradation"]
[1479,{"$f":"IF(INDIRECT(\"DOT3_GRAD!L15\")<>\"\",INDIRECT(\"DOT3_GRAD!L15\"),\"\")","v":""},"DOT3_GRAD","DOT3 GRADATION OF EXTRACTED AGGREGATE: Tex-200-F","Sieve Size","","TOLERANCES","Gradation"]
[1480,{"$f":"IF(INDIRECT(\"DOT3_GRAD!L16\")<>\"\",INDIRECT(\"DOT3_GRAD!L16\"),\"\")","v":""},"DOT3_GRAD","DOT3 GRADATION OF EXTRACTED AGGREGATE: Tex-200-F","Sieve Size","","TOLERANCES","Gradation"]
[1481,{"$f":"IF(INDIRECT(\"DOT3_GRAD!L17\")<>\"\",INDIRECT(\"DOT3_GRAD!L17\"),\"\")","v":""},"DOT3_GRAD","DOT3 GRADATION OF EXTRACTED AGGREGATE: Tex-200-F","Sieve Size","","TOLERANCES","Gradation"]
[1482,{"$f":"IF(INDIRECT(\"DOT3_GRAD!L18\")<>\"\",INDIRECT(\"DOT3_GRAD!L18\"),\"\")","v":""},"DOT3_GRAD","DOT3 GRADATION OF EXTRACTED AGGREGATE: Tex-200-F","Sieve Size","","TOLERANCES","Gradation"]
[1483,{"$f":"IF(INDIRECT(\"DOT3_GRAD!L21\")<>\"\",INDIRECT(\"DOT3_GRAD!L21\"),\"\")","v":""},"DOT3_GRAD","DOT3 GRADATION OF EXTRACTED AGGREGATE: Tex-200-F","Sieve Size","Total - #200","TOLERANCES","Gradation"]
[1484]
[1485,{"$f":"IF(INDIRECT(\"DOT3_GRAD!M9\")<>\"\",INDIRECT(\"DOT3_GRAD!M9\"),\"\")","v":""},"DOT3_GRAD","DOT3 GRADATION OF EXTRACTED AGGREGATE: Tex-200-F","Sieve Size",{"$f":"F1391","v":""},"TOLERANCES","Restricted zone"]
[1486,{"$f":"IF(INDIRECT(\"DOT3_GRAD!M10\")<>\"\",INDIRECT(\"DOT3_GRAD!M10\"),\"\")","v":""},"DOT3_GRAD","DOT3 GRADATION OF EXTRACTED AGGREGATE: Tex-200-F","Sieve Size","","TOLERANCES","Restricted zone"]
[1487,{"$f":"IF(INDIRECT(\"DOT3_GRAD!M11\")<>\"\",INDIRECT(\"DOT3_GRAD!M11\"),\"\")","v":""},"DOT3_GRAD","DOT3 GRADATION OF EXTRACTED AGGREGATE: Tex-200-F","Sieve Size","","TOLERANCES","Restricted zone"]
[1488,{"$f":"IF(INDIRECT(\"DOT3_GRAD!M12\")<>\"\",INDIRECT(\"DOT3_GRAD!M12\"),\"\")","v":""},"DOT3_GRAD","DOT3 GRADATION OF EXTRACTED AGGREGATE: Tex-200-F","Sieve Size","","TOLERANCES","Restricted zone"]
[1489,{"$f":"IF(INDIRECT(\"DOT3_GRAD!M13\")<>\"\",INDIRECT(\"DOT3_GRAD!M13\"),\"\")","v":""},"DOT3_GRAD","DOT3 GRADATION OF EXTRACTED AGGREGATE: Tex-200-F","Sieve Size","","TOLERANCES","Restricted zone"]
[1490,{"$f":"IF(INDIRECT(\"DOT3_GRAD!M14\")<>\"\",INDIRECT(\"DOT3_GRAD!M14\"),\"\")","v":""},"DOT3_GRAD","DOT3 GRADATION OF EXTRACTED AGGREGATE: Tex-200-F","Sieve Size","","TOLERANCES","Restricted zone"]
[1491,{"$f":"IF(INDIRECT(\"DOT3_GRAD!M15\")<>\"\",INDIRECT(\"DOT3_GRAD!M15\"),\"\")","v":""},"DOT3_GRAD","DOT3 GRADATION OF EXTRACTED AGGREGATE: Tex-200-F","Sieve Size","","TOLERANCES","Restricted zone"]
[1492,{"$f":"IF(INDIRECT(\"DOT3_GRAD!M16\")<>\"\",INDIRECT(\"DOT3_GRAD!M16\"),\"\")","v":""},"DOT3_GRAD","DOT3 GRADATION OF EXTRACTED AGGREGATE: Tex-200-F","Sieve Size","","TOLERANCES","Restricted zone"]
[1493,{"$f":"IF(INDIRECT(\"DOT3_GRAD!M17\")<>\"\",INDIRECT(\"DOT3_GRAD!M17\"),\"\")","v":""},"DOT3_GRAD","DOT3 GRADATION OF EXTRACTED AGGREGATE: Tex-200-F","Sieve Size","","TOLERANCES","Restricted zone"]
[1494,{"$f":"IF(INDIRECT(\"DOT3_GRAD!M18\")<>\"\",INDIRECT(\"DOT3_GRAD!M18\"),\"\")","v":""},"DOT3_GRAD","DOT3 GRADATION OF EXTRACTED AGGREGATE: Tex-200-F","Sieve Size","","TOLERANCES","Restricted zone"]
[1495,{"$f":"IF(INDIRECT(\"DOT3_GRAD!M21\")<>\"\",INDIRECT(\"DOT3_GRAD!M21\"),\"\")","v":""},"DOT3_GRAD","DOT3 GRADATION OF EXTRACTED AGGREGATE: Tex-200-F","Sieve Size","Total - #200","TOLERANCES","Restricted zone"]
[1496]
[1497]
[1498]
[1499]
[1500,{"$f":"IF(INDIRECT(\"DOT4_GRAD!G4\")<>\"\",INDIRECT(\"DOT4_GRAD!G4\"),\"\")","v":""},"DOT4_GRAD","DOT4 GRADATION OF EXTRACTED AGGREGATE: Tex-200-F",null,"Ignited sample original dry weight, g:",null,null,null,753]
[1501,{"$f":"IF(INDIRECT(\"DOT4_GRAD!G5\")<>\"\",INDIRECT(\"DOT4_GRAD!G5\"),\"\")","v":""},"DOT4_GRAD","DOT4 GRADATION OF EXTRACTED AGGREGATE: Tex-200-F",null,"Dry weight after washing, g:",null,null,null,754]
[1502,{"$f":"IF(INDIRECT(\"DOT4_GRAD!G6\")<>\"\",INDIRECT(\"DOT4_GRAD!G6\"),\"\")","v":""},"DOT4_GRAD","DOT4 GRADATION OF EXTRACTED AGGREGATE: Tex-200-F",null,"Sieve analysis:",null,null,null,755]
[1503,{"$f":"IF(INDIRECT(\"DOT4_GRAD!C19\")<>\"\",INDIRECT(\"DOT4_GRAD!C19\"),\"\")","v":""},"DOT4_GRAD","DOT4 GRADATION OF EXTRACTED AGGREGATE: Tex-200-F",null,"- #200","Weight retained, g",null,null,766]
[1504,{"$f":"IF(INDIRECT(\"DOT4_GRAD!C22\")<>\"\",INDIRECT(\"DOT4_GRAD!C22\"),\"\")","v":""},"DOT4_GRAD","DOT4 GRADATION OF EXTRACTED AGGREGATE: Tex-200-F",null,"Total weight, g"]
[1505]
[1506,{"$f":"IF(INDIRECT(\"DOT4_GRAD!C9\")<>\"\",INDIRECT(\"DOT4_GRAD!C9\"),\"\")","v":""},"DOT4_GRAD","DOT4 GRADATION OF EXTRACTED AGGREGATE: Tex-200-F","Sieve Size",{"$f":"INDIRECT(\"DOT4_GRAD!B9\")","v":""},"Weight retained, g",null,null,756]
[1507,{"$f":"IF(INDIRECT(\"DOT4_GRAD!C10\")<>\"\",INDIRECT(\"DOT4_GRAD!C10\"),\"\")","v":""},"DOT4_GRAD","DOT4 GRADATION OF EXTRACTED AGGREGATE: Tex-200-F","Sieve Size",{"$f":"INDIRECT(\"DOT4_GRAD!B10\")","v":""},"Weight retained, g",null,null,757]
[1508,{"$f":"IF(INDIRECT(\"DOT4_GRAD!C11\")<>\"\",INDIRECT(\"DOT4_GRAD!C11\"),\"\")","v":""},"DOT4_GRAD","DOT4 GRADATION OF EXTRACTED AGGREGATE: Tex-200-F","Sieve Size",{"$f":"INDIRECT(\"DOT4_GRAD!B11\")","v":""},"Weight retained, g",null,null,758]
[1509,{"$f":"IF(INDIRECT(\"DOT4_GRAD!C12\")<>\"\",INDIRECT(\"DOT4_GRAD!C12\"),\"\")","v":""},"DOT4_GRAD","DOT4 GRADATION OF EXTRACTED AGGREGATE: Tex-200-F","Sieve Size",{"$f":"INDIRECT(\"DOT4_GRAD!B12\")","v":""},"Weight retained, g",null,null,759]
[1510,{"$f":"IF(INDIRECT(\"DOT4_GRAD!C13\")<>\"\",INDIRECT(\"DOT4_GRAD!C13\"),\"\")","v":""},"DOT4_GRAD","DOT4 GRADATION OF EXTRACTED AGGREGATE: Tex-200-F","Sieve Size",{"$f":"INDIRECT(\"DOT4_GRAD!B13\")","v":""},"Weight retained, g",null,null,760]
[1511,{"$f":"IF(INDIRECT(\"DOT4_GRAD!C14\")<>\"\",INDIRECT(\"DOT4_GRAD!C14\"),\"\")","v":""},"DOT4_GRAD","DOT4 GRADATION OF EXTRACTED AGGREGATE: Tex-200-F","Sieve Size",{"$f":"INDIRECT(\"DOT4_GRAD!B14\")","v":""},"Weight retained, g",null,null,761]
[1512,{"$f":"IF(INDIRECT(\"DOT4_GRAD!C15\")<>\"\",INDIRECT(\"DOT4_GRAD!C15\"),\"\")","v":""},"DOT4_GRAD","DOT4 GRADATION OF EXTRACTED AGGREGATE: Tex-200-F","Sieve Size",{"$f":"INDIRECT(\"DOT4_GRAD!B15\")","v":""},"Weight retained, g",null,null,762]
[1513,{"$f":"IF(INDIRECT(\"DOT4_GRAD!C16\")<>\"\",INDIRECT(\"DOT4_GRAD!C16\"),\"\")","v":""},"DOT4_GRAD","DOT4 GRADATION OF EXTRACTED AGGREGATE: Tex-200-F","Sieve Size",{"$f":"INDIRECT(\"DOT4_GRAD!B16\")","v":""},"Weight retained, g",null,null,763]
[1514,{"$f":"IF(INDIRECT(\"DOT4_GRAD!C17\")<>\"\",INDIRECT(\"DOT4_GRAD!C17\"),\"\")","v":""},"DOT4_GRAD","DOT4 GRADATION OF EXTRACTED AGGREGATE: Tex-200-F","Sieve Size",{"$f":"INDIRECT(\"DOT4_GRAD!B17\")","v":""},"Weight retained, g",null,null,764]
[1515,{"$f":"IF(INDIRECT(\"DOT4_GRAD!C18\")<>\"\",INDIRECT(\"DOT4_GRAD!C18\"),\"\")","v":""},"DOT4_GRAD","DOT4 GRADATION OF EXTRACTED AGGREGATE: Tex-200-F","Sieve Size",{"$f":"INDIRECT(\"DOT4_GRAD!B18\")","v":""},"Weight retained, g",null,null,765]
[1516,{"$f":"IF(INDIRECT(\"DOT4_GRAD!C21\")<>\"\",INDIRECT(\"DOT4_GRAD!C21\"),\"\")","v":""},"DOT4_GRAD","DOT4 GRADATION OF EXTRACTED AGGREGATE: Tex-200-F","Sieve Size","Total - #200","Weight retained, g"]
[1517]
[1518,{"$f":"IF(INDIRECT(\"DOT4_GRAD!D9\")<>\"\",INDIRECT(\"DOT4_GRAD!D9\"),\"\")","v":""},"DOT4_GRAD","DOT4 GRADATION OF EXTRACTED AGGREGATE: Tex-200-F","Sieve Size",{"$f":"F1508","v":""},"Weight retained, g"]
[1519,{"$f":"IF(INDIRECT(\"DOT4_GRAD!D10\")<>\"\",INDIRECT(\"DOT4_GRAD!D10\"),\"\")","v":""},"DOT4_GRAD","DOT4 GRADATION OF EXTRACTED AGGREGATE: Tex-200-F","Sieve Size","","Weight retained, g"]
[1520,{"$f":"IF(INDIRECT(\"DOT4_GRAD!D11\")<>\"\",INDIRECT(\"DOT4_GRAD!D11\"),\"\")","v":""},"DOT4_GRAD","DOT4 GRADATION OF EXTRACTED AGGREGATE: Tex-200-F","Sieve Size","","Weight retained, g"]
[1521,{"$f":"IF(INDIRECT(\"DOT4_GRAD!D12\")<>\"\",INDIRECT(\"DOT4_GRAD!D12\"),\"\")","v":""},"DOT4_GRAD","DOT4 GRADATION OF EXTRACTED AGGREGATE: Tex-200-F","Sieve Size","","Weight retained, g"]
[1522,{"$f":"IF(INDIRECT(\"DOT4_GRAD!D13\")<>\"\",INDIRECT(\"DOT4_GRAD!D13\"),\"\")","v":""},"DOT4_GRAD","DOT4 GRADATION OF EXTRACTED AGGREGATE: Tex-200-F","Sieve Size","","Weight retained, g"]
[1523,{"$f":"IF(INDIRECT(\"DOT4_GRAD!D14\")<>\"\",INDIRECT(\"DOT4_GRAD!D14\"),\"\")","v":""},"DOT4_GRAD","DOT4 GRADATION OF EXTRACTED AGGREGATE: Tex-200-F","Sieve Size","","Weight retained, g"]
[1524,{"$f":"IF(INDIRECT(\"DOT4_GRAD!D15\")<>\"\",INDIRECT(\"DOT4_GRAD!D15\"),\"\")","v":""},"DOT4_GRAD","DOT4 GRADATION OF EXTRACTED AGGREGATE: Tex-200-F","Sieve Size","","Weight retained, g"]
[1525,{"$f":"IF(INDIRECT(\"DOT4_GRAD!D16\")<>\"\",INDIRECT(\"DOT4_GRAD!D16\"),\"\")","v":""},"DOT4_GRAD","DOT4 GRADATION OF EXTRACTED AGGREGATE: Tex-200-F","Sieve Size","","Weight retained, g"]
[1526,{"$f":"IF(INDIRECT(\"DOT4_GRAD!D17\")<>\"\",INDIRECT(\"DOT4_GRAD!D17\"),\"\")","v":""},"DOT4_GRAD","DOT4 GRADATION OF EXTRACTED AGGREGATE: Tex-200-F","Sieve Size","","Weight retained, g"]
[1527,{"$f":"IF(INDIRECT(\"DOT4_GRAD!D18\")<>\"\",INDIRECT(\"DOT4_GRAD!D18\"),\"\")","v":""},"DOT4_GRAD","DOT4 GRADATION OF EXTRACTED AGGREGATE: Tex-200-F","Sieve Size","","Weight retained, g"]
[1528,{"$f":"IF(INDIRECT(\"DOT4_GRAD!D21\")<>\"\",INDIRECT(\"DOT4_GRAD!D21\"),\"\")","v":""},"DOT4_GRAD","DOT4 GRADATION OF EXTRACTED AGGREGATE: Tex-200-F","Sieve Size","Total - #200","Weight retained, g"]
[1529]
[1530,{"$f":"IF(INDIRECT(\"DOT4_GRAD!E9\")<>\"\",INDIRECT(\"DOT4_GRAD!E9\"),\"\")","v":""},"DOT4_GRAD","DOT4 GRADATION OF EXTRACTED AGGREGATE: Tex-200-F","Sieve Size",{"$f":"F1508","v":""},"Weight retained, g"]
[1531,{"$f":"IF(INDIRECT(\"DOT4_GRAD!E10\")<>\"\",INDIRECT(\"DOT4_GRAD!E10\"),\"\")","v":""},"DOT4_GRAD","DOT4 GRADATION OF EXTRACTED AGGREGATE: Tex-200-F","Sieve Size","","Weight retained, g"]
[1532,{"$f":"IF(INDIRECT(\"DOT4_GRAD!E11\")<>\"\",INDIRECT(\"DOT4_GRAD!E11\"),\"\")","v":""},"DOT4_GRAD","DOT4 GRADATION OF EXTRACTED AGGREGATE: Tex-200-F","Sieve Size","","Weight retained, g"]
[1533,{"$f":"IF(INDIRECT(\"DOT4_GRAD!E12\")<>\"\",INDIRECT(\"DOT4_GRAD!E12\"),\"\")","v":""},"DOT4_GRAD","DOT4 GRADATION OF EXTRACTED AGGREGATE: Tex-200-F","Sieve Size","","Weight retained, g"]
[1534,{"$f":"IF(INDIRECT(\"DOT4_GRAD!E13\")<>\"\",INDIRECT(\"DOT4_GRAD!E13\"),\"\")","v":""},"DOT4_GRAD","DOT4 GRADATION OF EXTRACTED AGGREGATE: Tex-200-F","Sieve Size","","Weight retained, g"]
[1535,{"$f":"IF(INDIRECT(\"DOT4_GRAD!E14\")<>\"\",INDIRECT(\"DOT4_GRAD!E14\"),\"\")","v":""},"DOT4_GRAD","DOT4 GRADATION OF EXTRACTED AGGREGATE: Tex-200-F","Sieve Size","","Weight retained, g"]
[1536,{"$f":"IF(INDIRECT(\"DOT4_GRAD!E15\")<>\"\",INDIRECT(\"DOT4_GRAD!E15\"),\"\")","v":""},"DOT4_GRAD","DOT4 GRADATION OF EXTRACTED AGGREGATE: Tex-200-F","Sieve Size","","Weight retained, g"]
[1537,{"$f":"IF(INDIRECT(\"DOT4_GRAD!E16\")<>\"\",INDIRECT(\"DOT4_GRAD!E16\"),\"\")","v":""},"DOT4_GRAD","DOT4 GRADATION OF EXTRACTED AGGREGATE: Tex-200-F","Sieve Size","","Weight retained, g"]
[1538,{"$f":"IF(INDIRECT(\"DOT4_GRAD!E17\")<>\"\",INDIRECT(\"DOT4_GRAD!E17\"),\"\")","v":""},"DOT4_GRAD","DOT4 GRADATION OF EXTRACTED AGGREGATE: Tex-200-F","Sieve Size","","Weight retained, g"]
[1539,{"$f":"IF(INDIRECT(\"DOT4_GRAD!E18\")<>\"\",INDIRECT(\"DOT4_GRAD!E18\"),\"\")","v":""},"DOT4_GRAD","DOT4 GRADATION OF EXTRACTED AGGREGATE: Tex-200-F","Sieve Size","","Weight retained, g"]
[1540,{"$f":"IF(INDIRECT(\"DOT4_GRAD!E21\")<>\"\",INDIRECT(\"DOT4_GRAD!E21\"),\"\")","v":""},"DOT4_GRAD","DOT4 GRADATION OF EXTRACTED AGGREGATE: Tex-200-F","Sieve Size","Total - #200","Weight retained, g"]
[1541]
[1542,{"$f":"IF(INDIRECT(\"DOT4_GRAD!F9\")<>\"\",INDIRECT(\"DOT4_GRAD!F9\"),\"\")","v":""},"DOT4_GRAD","DOT4 GRADATION OF EXTRACTED AGGREGATE: Tex-200-F","Sieve Size",{"$f":"F1508","v":""},"Weight retained, g"]
[1543,{"$f":"IF(INDIRECT(\"DOT4_GRAD!F10\")<>\"\",INDIRECT(\"DOT4_GRAD!F10\"),\"\")","v":""},"DOT4_GRAD","DOT4 GRADATION OF EXTRACTED AGGREGATE: Tex-200-F","Sieve Size","","Weight retained, g"]
[1544,{"$f":"IF(INDIRECT(\"DOT4_GRAD!F11\")<>\"\",INDIRECT(\"DOT4_GRAD!F11\"),\"\")","v":""},"DOT4_GRAD","DOT4 GRADATION OF EXTRACTED AGGREGATE: Tex-200-F","Sieve Size","","Weight retained, g"]
[1545,{"$f":"IF(INDIRECT(\"DOT4_GRAD!F12\")<>\"\",INDIRECT(\"DOT4_GRAD!F12\"),\"\")","v":""},"DOT4_GRAD","DOT4 GRADATION OF EXTRACTED AGGREGATE: Tex-200-F","Sieve Size","","Weight retained, g"]
[1546,{"$f":"IF(INDIRECT(\"DOT4_GRAD!F13\")<>\"\",INDIRECT(\"DOT4_GRAD!F13\"),\"\")","v":""},"DOT4_GRAD","DOT4 GRADATION OF EXTRACTED AGGREGATE: Tex-200-F","Sieve Size","","Weight retained, g"]
[1547,{"$f":"IF(INDIRECT(\"DOT4_GRAD!F14\")<>\"\",INDIRECT(\"DOT4_GRAD!F14\"),\"\")","v":""},"DOT4_GRAD","DOT4 GRADATION OF EXTRACTED AGGREGATE: Tex-200-F","Sieve Size","","Weight retained, g"]
[1548,{"$f":"IF(INDIRECT(\"DOT4_GRAD!F15\")<>\"\",INDIRECT(\"DOT4_GRAD!F15\"),\"\")","v":""},"DOT4_GRAD","DOT4 GRADATION OF EXTRACTED AGGREGATE: Tex-200-F","Sieve Size","","Weight retained, g"]
[1549,{"$f":"IF(INDIRECT(\"DOT4_GRAD!F16\")<>\"\",INDIRECT(\"DOT4_GRAD!F16\"),\"\")","v":""},"DOT4_GRAD","DOT4 GRADATION OF EXTRACTED AGGREGATE: Tex-200-F","Sieve Size","","Weight retained, g"]
[1550,{"$f":"IF(INDIRECT(\"DOT4_GRAD!F17\")<>\"\",INDIRECT(\"DOT4_GRAD!F17\"),\"\")","v":""},"DOT4_GRAD","DOT4 GRADATION OF EXTRACTED AGGREGATE: Tex-200-F","Sieve Size","","Weight retained, g"]
[1551,{"$f":"IF(INDIRECT(\"DOT4_GRAD!F18\")<>\"\",INDIRECT(\"DOT4_GRAD!F18\"),\"\")","v":""},"DOT4_GRAD","DOT4 GRADATION OF EXTRACTED AGGREGATE: Tex-200-F","Sieve Size","","Weight retained, g"]
[1552,{"$f":"IF(INDIRECT(\"DOT4_GRAD!F21\")<>\"\",INDIRECT(\"DOT4_GRAD!F21\"),\"\")","v":""},"DOT4_GRAD","DOT4 GRADATION OF EXTRACTED AGGREGATE: Tex-200-F","Sieve Size","Total - #200","Weight retained, g"]
[1553]
[1554,{"$f":"IF(INDIRECT(\"DOT4_GRAD!G9\")<>\"\",INDIRECT(\"DOT4_GRAD!G9\"),\"\")","v":""},"DOT4_GRAD","DOT4 GRADATION OF EXTRACTED AGGREGATE: Tex-200-F","Sieve Size",{"$f":"F1508","v":""},"Percent passing, %"]
[1555,{"$f":"IF(INDIRECT(\"DOT4_GRAD!G10\")<>\"\",INDIRECT(\"DOT4_GRAD!G10\"),\"\")","v":""},"DOT4_GRAD","DOT4 GRADATION OF EXTRACTED AGGREGATE: Tex-200-F","Sieve Size","","Percent passing, %"]
[1556,{"$f":"IF(INDIRECT(\"DOT4_GRAD!G11\")<>\"\",INDIRECT(\"DOT4_GRAD!G11\"),\"\")","v":""},"DOT4_GRAD","DOT4 GRADATION OF EXTRACTED AGGREGATE: Tex-200-F","Sieve Size","","Percent passing, %"]
[1557,{"$f":"IF(INDIRECT(\"DOT4_GRAD!G12\")<>\"\",INDIRECT(\"DOT4_GRAD!G12\"),\"\")","v":""},"DOT4_GRAD","DOT4 GRADATION OF EXTRACTED AGGREGATE: Tex-200-F","Sieve Size","","Percent passing, %"]
[1558,{"$f":"IF(INDIRECT(\"DOT4_GRAD!G13\")<>\"\",INDIRECT(\"DOT4_GRAD!G13\"),\"\")","v":""},"DOT4_GRAD","DOT4 GRADATION OF EXTRACTED AGGREGATE: Tex-200-F","Sieve Size","","Percent passing, %"]
[1559,{"$f":"IF(INDIRECT(\"DOT4_GRAD!G14\")<>\"\",INDIRECT(\"DOT4_GRAD!G14\"),\"\")","v":""},"DOT4_GRAD","DOT4 GRADATION OF EXTRACTED AGGREGATE: Tex-200-F","Sieve Size","","Percent passing, %"]
[1560,{"$f":"IF(INDIRECT(\"DOT4_GRAD!G15\")<>\"\",INDIRECT(\"DOT4_GRAD!G15\"),\"\")","v":""},"DOT4_GRAD","DOT4 GRADATION OF EXTRACTED AGGREGATE: Tex-200-F","Sieve Size","","Percent passing, %"]
[1561,{"$f":"IF(INDIRECT(\"DOT4_GRAD!G16\")<>\"\",INDIRECT(\"DOT4_GRAD!G16\"),\"\")","v":""},"DOT4_GRAD","DOT4 GRADATION OF EXTRACTED AGGREGATE: Tex-200-F","Sieve Size","","Percent passing, %"]
[1562,{"$f":"IF(INDIRECT(\"DOT4_GRAD!G17\")<>\"\",INDIRECT(\"DOT4_GRAD!G17\"),\"\")","v":""},"DOT4_GRAD","DOT4 GRADATION OF EXTRACTED AGGREGATE: Tex-200-F","Sieve Size","","Percent passing, %"]
[1563,{"$f":"IF(INDIRECT(\"DOT4_GRAD!G18\")<>\"\",INDIRECT(\"DOT4_GRAD!G18\"),\"\")","v":""},"DOT4_GRAD","DOT4 GRADATION OF EXTRACTED AGGREGATE: Tex-200-F","Sieve Size","","Percent passing, %"]
[1564,{"$f":"IF(INDIRECT(\"DOT4_GRAD!G21\")<>\"\",INDIRECT(\"DOT4_GRAD!G21\"),\"\")","v":""},"DOT4_GRAD","DOT4 GRADATION OF EXTRACTED AGGREGATE: Tex-200-F","Sieve Size","Total - #200","Percent passing, %"]
[1565]
[1566,{"$f":"IF(INDIRECT(\"DOT4_GRAD!H9\")<>\"\",INDIRECT(\"DOT4_GRAD!H9\"),\"\")","v":""},"DOT4_GRAD","DOT4 GRADATION OF EXTRACTED AGGREGATE: Tex-200-F","Sieve Size",{"$f":"F1508","v":""},"JMF limits","Lower"]
[1567,{"$f":"IF(INDIRECT(\"DOT4_GRAD!H10\")<>\"\",INDIRECT(\"DOT4_GRAD!H10\"),\"\")","v":""},"DOT4_GRAD","DOT4 GRADATION OF EXTRACTED AGGREGATE: Tex-200-F","Sieve Size","","JMF limits","Lower"]
[1568,{"$f":"IF(INDIRECT(\"DOT4_GRAD!H11\")<>\"\",INDIRECT(\"DOT4_GRAD!H11\"),\"\")","v":""},"DOT4_GRAD","DOT4 GRADATION OF EXTRACTED AGGREGATE: Tex-200-F","Sieve Size","","JMF limits","Lower"]
[1569,{"$f":"IF(INDIRECT(\"DOT4_GRAD!H12\")<>\"\",INDIRECT(\"DOT4_GRAD!H12\"),\"\")","v":""},"DOT4_GRAD","DOT4 GRADATION OF EXTRACTED AGGREGATE: Tex-200-F","Sieve Size","","JMF limits","Lower"]
[1570,{"$f":"IF(INDIRECT(\"DOT4_GRAD!H13\")<>\"\",INDIRECT(\"DOT4_GRAD!H13\"),\"\")","v":""},"DOT4_GRAD","DOT4 GRADATION OF EXTRACTED AGGREGATE: Tex-200-F","Sieve Size","","JMF limits","Lower"]
[1571,{"$f":"IF(INDIRECT(\"DOT4_GRAD!H14\")<>\"\",INDIRECT(\"DOT4_GRAD!H14\"),\"\")","v":""},"DOT4_GRAD","DOT4 GRADATION OF EXTRACTED AGGREGATE: Tex-200-F","Sieve Size","","JMF limits","Lower"]
[1572,{"$f":"IF(INDIRECT(\"DOT4_GRAD!H15\")<>\"\",INDIRECT(\"DOT4_GRAD!H15\"),\"\")","v":""},"DOT4_GRAD","DOT4 GRADATION OF EXTRACTED AGGREGATE: Tex-200-F","Sieve Size","","JMF limits","Lower"]
[1573,{"$f":"IF(INDIRECT(\"DOT4_GRAD!H16\")<>\"\",INDIRECT(\"DOT4_GRAD!H16\"),\"\")","v":""},"DOT4_GRAD","DOT4 GRADATION OF EXTRACTED AGGREGATE: Tex-200-F","Sieve Size","","JMF limits","Lower"]
[1574,{"$f":"IF(INDIRECT(\"DOT4_GRAD!H17\")<>\"\",INDIRECT(\"DOT4_GRAD!H17\"),\"\")","v":""},"DOT4_GRAD","DOT4 GRADATION OF EXTRACTED AGGREGATE: Tex-200-F","Sieve Size","","JMF limits","Lower"]
[1575,{"$f":"IF(INDIRECT(\"DOT4_GRAD!H18\")<>\"\",INDIRECT(\"DOT4_GRAD!H18\"),\"\")","v":""},"DOT4_GRAD","DOT4 GRADATION OF EXTRACTED AGGREGATE: Tex-200-F","Sieve Size","","JMF limits","Lower"]
[1576,{"$f":"IF(INDIRECT(\"DOT4_GRAD!H21\")<>\"\",INDIRECT(\"DOT4_GRAD!H21\"),\"\")","v":""},"DOT4_GRAD","DOT4 GRADATION OF EXTRACTED AGGREGATE: Tex-200-F","Sieve Size","Total - #200","JMF limits","Lower"]
[1577]
[1578,{"$f":"IF(INDIRECT(\"DOT4_GRAD!J9\")<>\"\",INDIRECT(\"DOT4_GRAD!J9\"),\"\")","v":""},"DOT4_GRAD","DOT4 GRADATION OF EXTRACTED AGGREGATE: Tex-200-F","Sieve Size",{"$f":"F1508","v":""},"JMF limits","Upper"]
[1579,{"$f":"IF(INDIRECT(\"DOT4_GRAD!J10\")<>\"\",INDIRECT(\"DOT4_GRAD!J10\"),\"\")","v":""},"DOT4_GRAD","DOT4 GRADATION OF EXTRACTED AGGREGATE: Tex-200-F","Sieve Size","","JMF limits","Upper"]
[1580,{"$f":"IF(INDIRECT(\"DOT4_GRAD!J11\")<>\"\",INDIRECT(\"DOT4_GRAD!J11\"),\"\")","v":""},"DOT4_GRAD","DOT4 GRADATION OF EXTRACTED AGGREGATE: Tex-200-F","Sieve Size","","JMF limits","Upper"]
[1581,{"$f":"IF(INDIRECT(\"DOT4_GRAD!J12\")<>\"\",INDIRECT(\"DOT4_GRAD!J12\"),\"\")","v":""},"DOT4_GRAD","DOT4 GRADATION OF EXTRACTED AGGREGATE: Tex-200-F","Sieve Size","","JMF limits","Upper"]
[1582,{"$f":"IF(INDIRECT(\"DOT4_GRAD!J13\")<>\"\",INDIRECT(\"DOT4_GRAD!J13\"),\"\")","v":""},"DOT4_GRAD","DOT4 GRADATION OF EXTRACTED AGGREGATE: Tex-200-F","Sieve Size","","JMF limits","Upper"]
[1583,{"$f":"IF(INDIRECT(\"DOT4_GRAD!J14\")<>\"\",INDIRECT(\"DOT4_GRAD!J14\"),\"\")","v":""},"DOT4_GRAD","DOT4 GRADATION OF EXTRACTED AGGREGATE: Tex-200-F","Sieve Size","","JMF limits","Upper"]
[1584,{"$f":"IF(INDIRECT(\"DOT4_GRAD!J15\")<>\"\",INDIRECT(\"DOT4_GRAD!J15\"),\"\")","v":""},"DOT4_GRAD","DOT4 GRADATION OF EXTRACTED AGGREGATE: Tex-200-F","Sieve Size","","JMF limits","Upper"]
[1585,{"$f":"IF(INDIRECT(\"DOT4_GRAD!J16\")<>\"\",INDIRECT(\"DOT4_GRAD!J16\"),\"\")","v":""},"DOT4_GRAD","DOT4 GRADATION OF EXTRACTED AGGREGATE: Tex-200-F","Sieve Size","","JMF limits","Upper"]
[1586,{"$f":"IF(INDIRECT(\"DOT4_GRAD!J17\")<>\"\",INDIRECT(\"DOT4_GRAD!J17\"),\"\")","v":""},"DOT4_GRAD","DOT4 GRADATION OF EXTRACTED AGGREGATE: Tex-200-F","Sieve Size","","JMF limits","Upper"]
[1587,{"$f":"IF(INDIRECT(\"DOT4_GRAD!J18\")<>\"\",INDIRECT(\"DOT4_GRAD!J18\"),\"\")","v":""},"DOT4_GRAD","DOT4 GRADATION OF EXTRACTED AGGREGATE: Tex-200-F","Sieve Size","","JMF limits","Upper"]
[1588,{"$f":"IF(INDIRECT(\"DOT4_GRAD!J21\")<>\"\",INDIRECT(\"DOT4_GRAD!J21\"),\"\")","v":""},"DOT4_GRAD","DOT4 GRADATION OF EXTRACTED AGGREGATE: Tex-200-F","Sieve Size","Total - #200","JMF limits","Upper"]
[1589]
[1590,{"$f":"IF(INDIRECT(\"DOT4_GRAD!L9\")<>\"\",INDIRECT(\"DOT4_GRAD!L9\"),\"\")","v":""},"DOT4_GRAD","DOT4 GRADATION OF EXTRACTED AGGREGATE: Tex-200-F","Sieve Size",{"$f":"F1508","v":""},"TOLERANCES","Gradation"]
[1591,{"$f":"IF(INDIRECT(\"DOT4_GRAD!L10\")<>\"\",INDIRECT(\"DOT4_GRAD!L10\"),\"\")","v":""},"DOT4_GRAD","DOT4 GRADATION OF EXTRACTED AGGREGATE: Tex-200-F","Sieve Size","","TOLERANCES","Gradation"]
[1592,{"$f":"IF(INDIRECT(\"DOT4_GRAD!L11\")<>\"\",INDIRECT(\"DOT4_GRAD!L11\"),\"\")","v":""},"DOT4_GRAD","DOT4 GRADATION OF EXTRACTED AGGREGATE: Tex-200-F","Sieve Size","","TOLERANCES","Gradation"]
[1593,{"$f":"IF(INDIRECT(\"DOT4_GRAD!L12\")<>\"\",INDIRECT(\"DOT4_GRAD!L12\"),\"\")","v":""},"DOT4_GRAD","DOT4 GRADATION OF EXTRACTED AGGREGATE: Tex-200-F","Sieve Size","","TOLERANCES","Gradation"]
[1594,{"$f":"IF(INDIRECT(\"DOT4_GRAD!L13\")<>\"\",INDIRECT(\"DOT4_GRAD!L13\"),\"\")","v":""},"DOT4_GRAD","DOT4 GRADATION OF EXTRACTED AGGREGATE: Tex-200-F","Sieve Size","","TOLERANCES","Gradation"]
[1595,{"$f":"IF(INDIRECT(\"DOT4_GRAD!L14\")<>\"\",INDIRECT(\"DOT4_GRAD!L14\"),\"\")","v":""},"DOT4_GRAD","DOT4 GRADATION OF EXTRACTED AGGREGATE: Tex-200-F","Sieve Size","","TOLERANCES","Gradation"]
[1596,{"$f":"IF(INDIRECT(\"DOT4_GRAD!L15\")<>\"\",INDIRECT(\"DOT4_GRAD!L15\"),\"\")","v":""},"DOT4_GRAD","DOT4 GRADATION OF EXTRACTED AGGREGATE: Tex-200-F","Sieve Size","","TOLERANCES","Gradation"]
[1597,{"$f":"IF(INDIRECT(\"DOT4_GRAD!L16\")<>\"\",INDIRECT(\"DOT4_GRAD!L16\"),\"\")","v":""},"DOT4_GRAD","DOT4 GRADATION OF EXTRACTED AGGREGATE: Tex-200-F","Sieve Size","","TOLERANCES","Gradation"]
[1598,{"$f":"IF(INDIRECT(\"DOT4_GRAD!L17\")<>\"\",INDIRECT(\"DOT4_GRAD!L17\"),\"\")","v":""},"DOT4_GRAD","DOT4 GRADATION OF EXTRACTED AGGREGATE: Tex-200-F","Sieve Size","","TOLERANCES","Gradation"]
[1599,{"$f":"IF(INDIRECT(\"DOT4_GRAD!L18\")<>\"\",INDIRECT(\"DOT4_GRAD!L18\"),\"\")","v":""},"DOT4_GRAD","DOT4 GRADATION OF EXTRACTED AGGREGATE: Tex-200-F","Sieve Size","","TOLERANCES","Gradation"]
[1600,{"$f":"IF(INDIRECT(\"DOT4_GRAD!L21\")<>\"\",INDIRECT(\"DOT4_GRAD!L21\"),\"\")","v":""},"DOT4_GRAD","DOT4 GRADATION OF EXTRACTED AGGREGATE: Tex-200-F","Sieve Size","Total - #200","TOLERANCES","Gradation"]
[1601]
[1602,{"$f":"IF(INDIRECT(\"DOT4_GRAD!M9\")<>\"\",INDIRECT(\"DOT4_GRAD!M9\"),\"\")","v":""},"DOT4_GRAD","DOT4 GRADATION OF EXTRACTED AGGREGATE: Tex-200-F","Sieve Size",{"$f":"F1508","v":""},"TOLERANCES","Restricted zone"]
[1603,{"$f":"IF(INDIRECT(\"DOT4_GRAD!M10\")<>\"\",INDIRECT(\"DOT4_GRAD!M10\"),\"\")","v":""},"DOT4_GRAD","DOT4 GRADATION OF EXTRACTED AGGREGATE: Tex-200-F","Sieve Size","","TOLERANCES","Restricted zone"]
[1604,{"$f":"IF(INDIRECT(\"DOT4_GRAD!M11\")<>\"\",INDIRECT(\"DOT4_GRAD!M11\"),\"\")","v":""},"DOT4_GRAD","DOT4 GRADATION OF EXTRACTED AGGREGATE: Tex-200-F","Sieve Size","","TOLERANCES","Restricted zone"]
[1605,{"$f":"IF(INDIRECT(\"DOT4_GRAD!M12\")<>\"\",INDIRECT(\"DOT4_GRAD!M12\"),\"\")","v":""},"DOT4_GRAD","DOT4 GRADATION OF EXTRACTED AGGREGATE: Tex-200-F","Sieve Size","","TOLERANCES","Restricted zone"]
[1606,{"$f":"IF(INDIRECT(\"DOT4_GRAD!M13\")<>\"\",INDIRECT(\"DOT4_GRAD!M13\"),\"\")","v":""},"DOT4_GRAD","DOT4 GRADATION OF EXTRACTED AGGREGATE: Tex-200-F","Sieve Size","","TOLERANCES","Restricted zone"]
[1607,{"$f":"IF(INDIRECT(\"DOT4_GRAD!M14\")<>\"\",INDIRECT(\"DOT4_GRAD!M14\"),\"\")","v":""},"DOT4_GRAD","DOT4 GRADATION OF EXTRACTED AGGREGATE: Tex-200-F","Sieve Size","","TOLERANCES","Restricted zone"]
[1608,{"$f":"IF(INDIRECT(\"DOT4_GRAD!M15\")<>\"\",INDIRECT(\"DOT4_GRAD!M15\"),\"\")","v":""},"DOT4_GRAD","DOT4 GRADATION OF EXTRACTED AGGREGATE: Tex-200-F","Sieve Size","","TOLERANCES","Restricted zone"]
[1609,{"$f":"IF(INDIRECT(\"DOT4_GRAD!M16\")<>\"\",INDIRECT(\"DOT4_GRAD!M16\"),\"\")","v":""},"DOT4_GRAD","DOT4 GRADATION OF EXTRACTED AGGREGATE: Tex-200-F","Sieve Size","","TOLERANCES","Restricted zone"]
[1610,{"$f":"IF(INDIRECT(\"DOT4_GRAD!M17\")<>\"\",INDIRECT(\"DOT4_GRAD!M17\"),\"\")","v":""},"DOT4_GRAD","DOT4 GRADATION OF EXTRACTED AGGREGATE: Tex-200-F","Sieve Size","","TOLERANCES","Restricted zone"]
[1611,{"$f":"IF(INDIRECT(\"DOT4_GRAD!M18\")<>\"\",INDIRECT(\"DOT4_GRAD!M18\"),\"\")","v":""},"DOT4_GRAD","DOT4 GRADATION OF EXTRACTED AGGREGATE: Tex-200-F","Sieve Size","","TOLERANCES","Restricted zone"]
[1612,{"$f":"IF(INDIRECT(\"DOT4_GRAD!M21\")<>\"\",INDIRECT(\"DOT4_GRAD!M21\"),\"\")","v":""},"DOT4_GRAD","DOT4 GRADATION OF EXTRACTED AGGREGATE: Tex-200-F","Sieve Size","Total - #200","TOLERANCES","Restricted zone"]
[1613]
[1614]
[1615]
[1616]
[1617,{"$f":"IF(INDIRECT(\"CON1_GRAD!G4\")<>\"\",INDIRECT(\"CON1_GRAD!G4\"),\"\")","v":""},"CON1_GRAD","CON1 GRADATION OF EXTRACTED AGGREGATE: Tex-200-F",null,"Ignited sample original dry weight, g:",null,null,null,852]
[1618,{"$f":"IF(INDIRECT(\"CON1_GRAD!G5\")<>\"\",INDIRECT(\"CON1_GRAD!G5\"),\"\")","v":""},"CON1_GRAD","CON1 GRADATION OF EXTRACTED AGGREGATE: Tex-200-F",null,"Dry weight after washing, g:",null,null,null,853]
[1619,{"$f":"IF(INDIRECT(\"CON1_GRAD!G6\")<>\"\",INDIRECT(\"CON1_GRAD!G6\"),\"\")","v":""},"CON1_GRAD","CON1 GRADATION OF EXTRACTED AGGREGATE: Tex-200-F",null,"Sieve analysis:",null,null,null,854]
[1620,{"$f":"IF(INDIRECT(\"CON1_GRAD!C19\")<>\"\",INDIRECT(\"CON1_GRAD!C19\"),\"\")","v":""},"CON1_GRAD","CON1 GRADATION OF EXTRACTED AGGREGATE: Tex-200-F",null,"- #200","Weight retained, g",null,null,865]
[1621,{"$f":"IF(INDIRECT(\"CON1_GRAD!C22\")<>\"\",INDIRECT(\"CON1_GRAD!C22\"),\"\")","v":""},"CON1_GRAD","CON1 GRADATION OF EXTRACTED AGGREGATE: Tex-200-F",null,"Total weight, g"]
[1622]
[1623,{"$f":"IF(INDIRECT(\"CON1_GRAD!C9\")<>\"\",INDIRECT(\"CON1_GRAD!C9\"),\"\")","v":""},"CON1_GRAD","CON1 GRADATION OF EXTRACTED AGGREGATE: Tex-200-F","Sieve Size",{"$f":"INDIRECT(\"CON1_GRAD!B9\")","v":""},"Weight retained, g",null,null,855]
[1624,{"$f":"IF(INDIRECT(\"CON1_GRAD!C10\")<>\"\",INDIRECT(\"CON1_GRAD!C10\"),\"\")","v":""},"CON1_GRAD","CON1 GRADATION OF EXTRACTED AGGREGATE: Tex-200-F","Sieve Size",{"$f":"INDIRECT(\"CON1_GRAD!B10\")","v":""},"Weight retained, g",null,null,856]
[1625,{"$f":"IF(INDIRECT(\"CON1_GRAD!C11\")<>\"\",INDIRECT(\"CON1_GRAD!C11\"),\"\")","v":""},"CON1_GRAD","CON1 GRADATION OF EXTRACTED AGGREGATE: Tex-200-F","Sieve Size",{"$f":"INDIRECT(\"CON1_GRAD!B11\")","v":""},"Weight retained, g",null,null,857]
[1626,{"$f":"IF(INDIRECT(\"CON1_GRAD!C12\")<>\"\",INDIRECT(\"CON1_GRAD!C12\"),\"\")","v":""},"CON1_GRAD","CON1 GRADATION OF EXTRACTED AGGREGATE: Tex-200-F","Sieve Size",{"$f":"INDIRECT(\"CON1_GRAD!B12\")","v":""},"Weight retained, g",null,null,858]
[1627,{"$f":"IF(INDIRECT(\"CON1_GRAD!C13\")<>\"\",INDIRECT(\"CON1_GRAD!C13\"),\"\")","v":""},"CON1_GRAD","CON1 GRADATION OF EXTRACTED AGGREGATE: Tex-200-F","Sieve Size",{"$f":"INDIRECT(\"CON1_GRAD!B13\")","v":""},"Weight retained, g",null,null,859]
[1628,{"$f":"IF(INDIRECT(\"CON1_GRAD!C14\")<>\"\",INDIRECT(\"CON1_GRAD!C14\"),\"\")","v":""},"CON1_GRAD","CON1 GRADATION OF EXTRACTED AGGREGATE: Tex-200-F","Sieve Size",{"$f":"INDIRECT(\"CON1_GRAD!B14\")","v":""},"Weight retained, g",null,null,860]
[1629,{"$f":"IF(INDIRECT(\"CON1_GRAD!C15\")<>\"\",INDIRECT(\"CON1_GRAD!C15\"),\"\")","v":""},"CON1_GRAD","CON1 GRADATION OF EXTRACTED AGGREGATE: Tex-200-F","Sieve Size",{"$f":"INDIRECT(\"CON1_GRAD!B15\")","v":""},"Weight retained, g",null,null,861]
[1630,{"$f":"IF(INDIRECT(\"CON1_GRAD!C16\")<>\"\",INDIRECT(\"CON1_GRAD!C16\"),\"\")","v":""},"CON1_GRAD","CON1 GRADATION OF EXTRACTED AGGREGATE: Tex-200-F","Sieve Size",{"$f":"INDIRECT(\"CON1_GRAD!B16\")","v":""},"Weight retained, g",null,null,862]
[1631,{"$f":"IF(INDIRECT(\"CON1_GRAD!C17\")<>\"\",INDIRECT(\"CON1_GRAD!C17\"),\"\")","v":""},"CON1_GRAD","CON1 GRADATION OF EXTRACTED AGGREGATE: Tex-200-F","Sieve Size",{"$f":"INDIRECT(\"CON1_GRAD!B17\")","v":""},"Weight retained, g",null,null,863]
[1632,{"$f":"IF(INDIRECT(\"CON1_GRAD!C18\")<>\"\",INDIRECT(\"CON1_GRAD!C18\"),\"\")","v":""},"CON1_GRAD","CON1 GRADATION OF EXTRACTED AGGREGATE: Tex-200-F","Sieve Size",{"$f":"INDIRECT(\"CON1_GRAD!B18\")","v":""},"Weight retained, g",null,null,864]
[1633,{"$f":"IF(INDIRECT(\"CON1_GRAD!C21\")<>\"\",INDIRECT(\"CON1_GRAD!C21\"),\"\")","v":""},"CON1_GRAD","CON1 GRADATION OF EXTRACTED AGGREGATE: Tex-200-F","Sieve Size","Total - #200","Weight retained, g"]
[1634]
[1635,{"$f":"IF(INDIRECT(\"CON1_GRAD!D9\")<>\"\",INDIRECT(\"CON1_GRAD!D9\"),\"\")","v":""},"CON1_GRAD","CON1 GRADATION OF EXTRACTED AGGREGATE: Tex-200-F","Sieve Size",{"$f":"F1625","v":""},"Weight retained, g"]
[1636,{"$f":"IF(INDIRECT(\"CON1_GRAD!D10\")<>\"\",INDIRECT(\"CON1_GRAD!D10\"),\"\")","v":""},"CON1_GRAD","CON1 GRADATION OF EXTRACTED AGGREGATE: Tex-200-F","Sieve Size","","Weight retained, g"]
[1637,{"$f":"IF(INDIRECT(\"CON1_GRAD!D11\")<>\"\",INDIRECT(\"CON1_GRAD!D11\"),\"\")","v":""},"CON1_GRAD","CON1 GRADATION OF EXTRACTED AGGREGATE: Tex-200-F","Sieve Size","","Weight retained, g"]
[1638,{"$f":"IF(INDIRECT(\"CON1_GRAD!D12\")<>\"\",INDIRECT(\"CON1_GRAD!D12\"),\"\")","v":""},"CON1_GRAD","CON1 GRADATION OF EXTRACTED AGGREGATE: Tex-200-F","Sieve Size","","Weight retained, g"]
[1639,{"$f":"IF(INDIRECT(\"CON1_GRAD!D13\")<>\"\",INDIRECT(\"CON1_GRAD!D13\"),\"\")","v":""},"CON1_GRAD","CON1 GRADATION OF EXTRACTED AGGREGATE: Tex-200-F","Sieve Size","","Weight retained, g"]
[1640,{"$f":"IF(INDIRECT(\"CON1_GRAD!D14\")<>\"\",INDIRECT(\"CON1_GRAD!D14\"),\"\")","v":""},"CON1_GRAD","CON1 GRADATION OF EXTRACTED AGGREGATE: Tex-200-F","Sieve Size","","Weight retained, g"]
[1641,{"$f":"IF(INDIRECT(\"CON1_GRAD!D15\")<>\"\",INDIRECT(\"CON1_GRAD!D15\"),\"\")","v":""},"CON1_GRAD","CON1 GRADATION OF EXTRACTED AGGREGATE: Tex-200-F","Sieve Size","","Weight retained, g"]
[1642,{"$f":"IF(INDIRECT(\"CON1_GRAD!D16\")<>\"\",INDIRECT(\"CON1_GRAD!D16\"),\"\")","v":""},"CON1_GRAD","CON1 GRADATION OF EXTRACTED AGGREGATE: Tex-200-F","Sieve Size","","Weight retained, g"]
[1643,{"$f":"IF(INDIRECT(\"CON1_GRAD!D17\")<>\"\",INDIRECT(\"CON1_GRAD!D17\"),\"\")","v":""},"CON1_GRAD","CON1 GRADATION OF EXTRACTED AGGREGATE: Tex-200-F","Sieve Size","","Weight retained, g"]
[1644,{"$f":"IF(INDIRECT(\"CON1_GRAD!D18\")<>\"\",INDIRECT(\"CON1_GRAD!D18\"),\"\")","v":""},"CON1_GRAD","CON1 GRADATION OF EXTRACTED AGGREGATE: Tex-200-F","Sieve Size","","Weight retained, g"]
[1645,{"$f":"IF(INDIRECT(\"CON1_GRAD!D21\")<>\"\",INDIRECT(\"CON1_GRAD!D21\"),\"\")","v":""},"CON1_GRAD","CON1 GRADATION OF EXTRACTED AGGREGATE: Tex-200-F","Sieve Size","Total - #200","Weight retained, g"]
[1646]
[1647,{"$f":"IF(INDIRECT(\"CON1_GRAD!E9\")<>\"\",INDIRECT(\"CON1_GRAD!E9\"),\"\")","v":""},"CON1_GRAD","CON1 GRADATION OF EXTRACTED AGGREGATE: Tex-200-F","Sieve Size",{"$f":"F1625","v":""},"Weight retained, g"]
[1648,{"$f":"IF(INDIRECT(\"CON1_GRAD!E10\")<>\"\",INDIRECT(\"CON1_GRAD!E10\"),\"\")","v":""},"CON1_GRAD","CON1 GRADATION OF EXTRACTED AGGREGATE: Tex-200-F","Sieve Size","","Weight retained, g"]
[1649,{"$f":"IF(INDIRECT(\"CON1_GRAD!E11\")<>\"\",INDIRECT(\"CON1_GRAD!E11\"),\"\")","v":""},"CON1_GRAD","CON1 GRADATION OF EXTRACTED AGGREGATE: Tex-200-F","Sieve Size","","Weight retained, g"]
[1650,{"$f":"IF(INDIRECT(\"CON1_GRAD!E12\")<>\"\",INDIRECT(\"CON1_GRAD!E12\"),\"\")","v":""},"CON1_GRAD","CON1 GRADATION OF EXTRACTED AGGREGATE: Tex-200-F","Sieve Size","","Weight retained, g"]
[1651,{"$f":"IF(INDIRECT(\"CON1_GRAD!E13\")<>\"\",INDIRECT(\"CON1_GRAD!E13\"),\"\")","v":""},"CON1_GRAD","CON1 GRADATION OF EXTRACTED AGGREGATE: Tex-200-F","Sieve Size","","Weight retained, g"]
[1652,{"$f":"IF(INDIRECT(\"CON1_GRAD!E14\")<>\"\",INDIRECT(\"CON1_GRAD!E14\"),\"\")","v":""},"CON1_GRAD","CON1 GRADATION OF EXTRACTED AGGREGATE: Tex-200-F","Sieve Size","","Weight retained, g"]
[1653,{"$f":"IF(INDIRECT(\"CON1_GRAD!E15\")<>\"\",INDIRECT(\"CON1_GRAD!E15\"),\"\")","v":""},"CON1_GRAD","CON1 GRADATION OF EXTRACTED AGGREGATE: Tex-200-F","Sieve Size","","Weight retained, g"]
[1654,{"$f":"IF(INDIRECT(\"CON1_GRAD!E16\")<>\"\",INDIRECT(\"CON1_GRAD!E16\"),\"\")","v":""},"CON1_GRAD","CON1 GRADATION OF EXTRACTED AGGREGATE: Tex-200-F","Sieve Size","","Weight retained, g"]
[1655,{"$f":"IF(INDIRECT(\"CON1_GRAD!E17\")<>\"\",INDIRECT(\"CON1_GRAD!E17\"),\"\")","v":""},"CON1_GRAD","CON1 GRADATION OF EXTRACTED AGGREGATE: Tex-200-F","Sieve Size","","Weight retained, g"]
[1656,{"$f":"IF(INDIRECT(\"CON1_GRAD!E18\")<>\"\",INDIRECT(\"CON1_GRAD!E18\"),\"\")","v":""},"CON1_GRAD","CON1 GRADATION OF EXTRACTED AGGREGATE: Tex-200-F","Sieve Size","","Weight retained, g"]
[1657,{"$f":"IF(INDIRECT(\"CON1_GRAD!E21\")<>\"\",INDIRECT(\"CON1_GRAD!E21\"),\"\")","v":""},"CON1_GRAD","CON1 GRADATION OF EXTRACTED AGGREGATE: Tex-200-F","Sieve Size","Total - #200","Weight retained, g"]
[1658]
[1659,{"$f":"IF(INDIRECT(\"CON1_GRAD!F9\")<>\"\",INDIRECT(\"CON1_GRAD!F9\"),\"\")","v":""},"CON1_GRAD","CON1 GRADATION OF EXTRACTED AGGREGATE: Tex-200-F","Sieve Size",{"$f":"F1625","v":""},"Weight retained, g"]
[1660,{"$f":"IF(INDIRECT(\"CON1_GRAD!F10\")<>\"\",INDIRECT(\"CON1_GRAD!F10\"),\"\")","v":""},"CON1_GRAD","CON1 GRADATION OF EXTRACTED AGGREGATE: Tex-200-F","Sieve Size","","Weight retained, g"]
[1661,{"$f":"IF(INDIRECT(\"CON1_GRAD!F11\")<>\"\",INDIRECT(\"CON1_GRAD!F11\"),\"\")","v":""},"CON1_GRAD","CON1 GRADATION OF EXTRACTED AGGREGATE: Tex-200-F","Sieve Size","","Weight retained, g"]
[1662,{"$f":"IF(INDIRECT(\"CON1_GRAD!F12\")<>\"\",INDIRECT(\"CON1_GRAD!F12\"),\"\")","v":""},"CON1_GRAD","CON1 GRADATION OF EXTRACTED AGGREGATE: Tex-200-F","Sieve Size","","Weight retained, g"]
[1663,{"$f":"IF(INDIRECT(\"CON1_GRAD!F13\")<>\"\",INDIRECT(\"CON1_GRAD!F13\"),\"\")","v":""},"CON1_GRAD","CON1 GRADATION OF EXTRACTED AGGREGATE: Tex-200-F","Sieve Size","","Weight retained, g"]
[1664,{"$f":"IF(INDIRECT(\"CON1_GRAD!F14\")<>\"\",INDIRECT(\"CON1_GRAD!F14\"),\"\")","v":""},"CON1_GRAD","CON1 GRADATION OF EXTRACTED AGGREGATE: Tex-200-F","Sieve Size","","Weight retained, g"]
[1665,{"$f":"IF(INDIRECT(\"CON1_GRAD!F15\")<>\"\",INDIRECT(\"CON1_GRAD!F15\"),\"\")","v":""},"CON1_GRAD","CON1 GRADATION OF EXTRACTED AGGREGATE: Tex-200-F","Sieve Size","","Weight retained, g"]
[1666,{"$f":"IF(INDIRECT(\"CON1_GRAD!F16\")<>\"\",INDIRECT(\"CON1_GRAD!F16\"),\"\")","v":""},"CON1_GRAD","CON1 GRADATION OF EXTRACTED AGGREGATE: Tex-200-F","Sieve Size","","Weight retained, g"]
[1667,{"$f":"IF(INDIRECT(\"CON1_GRAD!F17\")<>\"\",INDIRECT(\"CON1_GRAD!F17\"),\"\")","v":""},"CON1_GRAD","CON1 GRADATION OF EXTRACTED AGGREGATE: Tex-200-F","Sieve Size","","Weight retained, g"]
[1668,{"$f":"IF(INDIRECT(\"CON1_GRAD!F18\")<>\"\",INDIRECT(\"CON1_GRAD!F18\"),\"\")","v":""},"CON1_GRAD","CON1 GRADATION OF EXTRACTED AGGREGATE: Tex-200-F","Sieve Size","","Weight retained, g"]
[1669,{"$f":"IF(INDIRECT(\"CON1_GRAD!F21\")<>\"\",INDIRECT(\"CON1_GRAD!F21\"),\"\")","v":""},"CON1_GRAD","CON1 GRADATION OF EXTRACTED AGGREGATE: Tex-200-F","Sieve Size","Total - #200","Weight retained, g"]
[1670]
[1671,{"$f":"IF(INDIRECT(\"CON1_GRAD!G9\")<>\"\",INDIRECT(\"CON1_GRAD!G9\"),\"\")","v":""},"CON1_GRAD","CON1 GRADATION OF EXTRACTED AGGREGATE: Tex-200-F","Sieve Size",{"$f":"F1625","v":""},"Percent passing, %"]
[1672,{"$f":"IF(INDIRECT(\"CON1_GRAD!G10\")<>\"\",INDIRECT(\"CON1_GRAD!G10\"),\"\")","v":""},"CON1_GRAD","CON1 GRADATION OF EXTRACTED AGGREGATE: Tex-200-F","Sieve Size","","Percent passing, %"]
[1673,{"$f":"IF(INDIRECT(\"CON1_GRAD!G11\")<>\"\",INDIRECT(\"CON1_GRAD!G11\"),\"\")","v":""},"CON1_GRAD","CON1 GRADATION OF EXTRACTED AGGREGATE: Tex-200-F","Sieve Size","","Percent passing, %"]
[1674,{"$f":"IF(INDIRECT(\"CON1_GRAD!G12\")<>\"\",INDIRECT(\"CON1_GRAD!G12\"),\"\")","v":""},"CON1_GRAD","CON1 GRADATION OF EXTRACTED AGGREGATE: Tex-200-F","Sieve Size","","Percent passing, %"]
[1675,{"$f":"IF(INDIRECT(\"CON1_GRAD!G13\")<>\"\",INDIRECT(\"CON1_GRAD!G13\"),\"\")","v":""},"CON1_GRAD","CON1 GRADATION OF EXTRACTED AGGREGATE: Tex-200-F","Sieve Size","","Percent passing, %"]
[1676,{"$f":"IF(INDIRECT(\"CON1_GRAD!G14\")<>\"\",INDIRECT(\"CON1_GRAD!G14\"),\"\")","v":""},"CON1_GRAD","CON1 GRADATION OF EXTRACTED AGGREGATE: Tex-200-F","Sieve Size","","Percent passing, %"]
[1677,{"$f":"IF(INDIRECT(\"CON1_GRAD!G15\")<>\"\",INDIRECT(\"CON1_GRAD!G15\"),\"\")","v":""},"CON1_GRAD","CON1 GRADATION OF EXTRACTED AGGREGATE: Tex-200-F","Sieve Size","","Percent passing, %"]
[1678,{"$f":"IF(INDIRECT(\"CON1_GRAD!G16\")<>\"\",INDIRECT(\"CON1_GRAD!G16\"),\"\")","v":""},"CON1_GRAD","CON1 GRADATION OF EXTRACTED AGGREGATE: Tex-200-F","Sieve Size","","Percent passing, %"]
[1679,{"$f":"IF(INDIRECT(\"CON1_GRAD!G17\")<>\"\",INDIRECT(\"CON1_GRAD!G17\"),\"\")","v":""},"CON1_GRAD","CON1 GRADATION OF EXTRACTED AGGREGATE: Tex-200-F","Sieve Size","","Percent passing, %"]
[1680,{"$f":"IF(INDIRECT(\"CON1_GRAD!G18\")<>\"\",INDIRECT(\"CON1_GRAD!G18\"),\"\")","v":""},"CON1_GRAD","CON1 GRADATION OF EXTRACTED AGGREGATE: Tex-200-F","Sieve Size","","Percent passing, %"]
[1681,{"$f":"IF(INDIRECT(\"CON1_GRAD!G21\")<>\"\",INDIRECT(\"CON1_GRAD!G21\"),\"\")","v":""},"CON1_GRAD","CON1 GRADATION OF EXTRACTED AGGREGATE: Tex-200-F","Sieve Size","Total - #200","Percent passing, %"]
[1682]
[1683,{"$f":"IF(INDIRECT(\"CON1_GRAD!H9\")<>\"\",INDIRECT(\"CON1_GRAD!H9\"),\"\")","v":""},"CON1_GRAD","CON1 GRADATION OF EXTRACTED AGGREGATE: Tex-200-F","Sieve Size",{"$f":"F1625","v":""},"JMF limits","Lower"]
[1684,{"$f":"IF(INDIRECT(\"CON1_GRAD!H10\")<>\"\",INDIRECT(\"CON1_GRAD!H10\"),\"\")","v":""},"CON1_GRAD","CON1 GRADATION OF EXTRACTED AGGREGATE: Tex-200-F","Sieve Size","","JMF limits","Lower"]
[1685,{"$f":"IF(INDIRECT(\"CON1_GRAD!H11\")<>\"\",INDIRECT(\"CON1_GRAD!H11\"),\"\")","v":""},"CON1_GRAD","CON1 GRADATION OF EXTRACTED AGGREGATE: Tex-200-F","Sieve Size","","JMF limits","Lower"]
[1686,{"$f":"IF(INDIRECT(\"CON1_GRAD!H12\")<>\"\",INDIRECT(\"CON1_GRAD!H12\"),\"\")","v":""},"CON1_GRAD","CON1 GRADATION OF EXTRACTED AGGREGATE: Tex-200-F","Sieve Size","","JMF limits","Lower"]
[1687,{"$f":"IF(INDIRECT(\"CON1_GRAD!H13\")<>\"\",INDIRECT(\"CON1_GRAD!H13\"),\"\")","v":""},"CON1_GRAD","CON1 GRADATION OF EXTRACTED AGGREGATE: Tex-200-F","Sieve Size","","JMF limits","Lower"]
[1688,{"$f":"IF(INDIRECT(\"CON1_GRAD!H14\")<>\"\",INDIRECT(\"CON1_GRAD!H14\"),\"\")","v":""},"CON1_GRAD","CON1 GRADATION OF EXTRACTED AGGREGATE: Tex-200-F","Sieve Size","","JMF limits","Lower"]
[1689,{"$f":"IF(INDIRECT(\"CON1_GRAD!H15\")<>\"\",INDIRECT(\"CON1_GRAD!H15\"),\"\")","v":""},"CON1_GRAD","CON1 GRADATION OF EXTRACTED AGGREGATE: Tex-200-F","Sieve Size","","JMF limits","Lower"]
[1690,{"$f":"IF(INDIRECT(\"CON1_GRAD!H16\")<>\"\",INDIRECT(\"CON1_GRAD!H16\"),\"\")","v":""},"CON1_GRAD","CON1 GRADATION OF EXTRACTED AGGREGATE: Tex-200-F","Sieve Size","","JMF limits","Lower"]
[1691,{"$f":"IF(INDIRECT(\"CON1_GRAD!H17\")<>\"\",INDIRECT(\"CON1_GRAD!H17\"),\"\")","v":""},"CON1_GRAD","CON1 GRADATION OF EXTRACTED AGGREGATE: Tex-200-F","Sieve Size","","JMF limits","Lower"]
[1692,{"$f":"IF(INDIRECT(\"CON1_GRAD!H18\")<>\"\",INDIRECT(\"CON1_GRAD!H18\"),\"\")","v":""},"CON1_GRAD","CON1 GRADATION OF EXTRACTED AGGREGATE: Tex-200-F","Sieve Size","","JMF limits","Lower"]
[1693,{"$f":"IF(INDIRECT(\"CON1_GRAD!H21\")<>\"\",INDIRECT(\"CON1_GRAD!H21\"),\"\")","v":""},"CON1_GRAD","CON1 GRADATION OF EXTRACTED AGGREGATE: Tex-200-F","Sieve Size","Total - #200","JMF limits","Lower"]
[1694]
[1695,{"$f":"IF(INDIRECT(\"CON1_GRAD!J9\")<>\"\",INDIRECT(\"CON1_GRAD!J9\"),\"\")","v":""},"CON1_GRAD","CON1 GRADATION OF EXTRACTED AGGREGATE: Tex-200-F","Sieve Size",{"$f":"F1625","v":""},"JMF limits","Upper"]
[1696,{"$f":"IF(INDIRECT(\"CON1_GRAD!J10\")<>\"\",INDIRECT(\"CON1_GRAD!J10\"),\"\")","v":""},"CON1_GRAD","CON1 GRADATION OF EXTRACTED AGGREGATE: Tex-200-F","Sieve Size","","JMF limits","Upper"]
[1697,{"$f":"IF(INDIRECT(\"CON1_GRAD!J11\")<>\"\",INDIRECT(\"CON1_GRAD!J11\"),\"\")","v":""},"CON1_GRAD","CON1 GRADATION OF EXTRACTED AGGREGATE: Tex-200-F","Sieve Size","","JMF limits","Upper"]
[1698,{"$f":"IF(INDIRECT(\"CON1_GRAD!J12\")<>\"\",INDIRECT(\"CON1_GRAD!J12\"),\"\")","v":""},"CON1_GRAD","CON1 GRADATION OF EXTRACTED AGGREGATE: Tex-200-F","Sieve Size","","JMF limits","Upper"]
[1699,{"$f":"IF(INDIRECT(\"CON1_GRAD!J13\")<>\"\",INDIRECT(\"CON1_GRAD!J13\"),\"\")","v":""},"CON1_GRAD","CON1 GRADATION OF EXTRACTED AGGREGATE: Tex-200-F","Sieve Size","","JMF limits","Upper"]
[1700,{"$f":"IF(INDIRECT(\"CON1_GRAD!J14\")<>\"\",INDIRECT(\"CON1_GRAD!J14\"),\"\")","v":""},"CON1_GRAD","CON1 GRADATION OF EXTRACTED AGGREGATE: Tex-200-F","Sieve Size","","JMF limits","Upper"]
[1701,{"$f":"IF(INDIRECT(\"CON1_GRAD!J15\")<>\"\",INDIRECT(\"CON1_GRAD!J15\"),\"\")","v":""},"CON1_GRAD","CON1 GRADATION OF EXTRACTED AGGREGATE: Tex-200-F","Sieve Size","","JMF limits","Upper"]
[1702,{"$f":"IF(INDIRECT(\"CON1_GRAD!J16\")<>\"\",INDIRECT(\"CON1_GRAD!J16\"),\"\")","v":""},"CON1_GRAD","CON1 GRADATION OF EXTRACTED AGGREGATE: Tex-200-F","Sieve Size","","JMF limits","Upper"]
[1703,{"$f":"IF(INDIRECT(\"CON1_GRAD!J17\")<>\"\",INDIRECT(\"CON1_GRAD!J17\"),\"\")","v":""},"CON1_GRAD","CON1 GRADATION OF EXTRACTED AGGREGATE: Tex-200-F","Sieve Size","","JMF limits","Upper"]
[1704,{"$f":"IF(INDIRECT(\"CON1_GRAD!J18\")<>\"\",INDIRECT(\"CON1_GRAD!J18\"),\"\")","v":""},"CON1_GRAD","CON1 GRADATION OF EXTRACTED AGGREGATE: Tex-200-F","Sieve Size","","JMF limits","Upper"]
[1705,{"$f":"IF(INDIRECT(\"CON1_GRAD!J21\")<>\"\",INDIRECT(\"CON1_GRAD!J21\"),\"\")","v":""},"CON1_GRAD","CON1 GRADATION OF EXTRACTED AGGREGATE: Tex-200-F","Sieve Size","Total - #200","JMF limits","Upper"]
[1706]
[1707,{"$f":"IF(INDIRECT(\"CON1_GRAD!L9\")<>\"\",INDIRECT(\"CON1_GRAD!L9\"),\"\")","v":""},"CON1_GRAD","CON1 GRADATION OF EXTRACTED AGGREGATE: Tex-200-F","Sieve Size",{"$f":"F1625","v":""},"TOLERANCES","Gradation"]
[1708,{"$f":"IF(INDIRECT(\"CON1_GRAD!L10\")<>\"\",INDIRECT(\"CON1_GRAD!L10\"),\"\")","v":""},"CON1_GRAD","CON1 GRADATION OF EXTRACTED AGGREGATE: Tex-200-F","Sieve Size","","TOLERANCES","Gradation"]
[1709,{"$f":"IF(INDIRECT(\"CON1_GRAD!L11\")<>\"\",INDIRECT(\"CON1_GRAD!L11\"),\"\")","v":""},"CON1_GRAD","CON1 GRADATION OF EXTRACTED AGGREGATE: Tex-200-F","Sieve Size","","TOLERANCES","Gradation"]
[1710,{"$f":"IF(INDIRECT(\"CON1_GRAD!L12\")<>\"\",INDIRECT(\"CON1_GRAD!L12\"),\"\")","v":""},"CON1_GRAD","CON1 GRADATION OF EXTRACTED AGGREGATE: Tex-200-F","Sieve Size","","TOLERANCES","Gradation"]
[1711,{"$f":"IF(INDIRECT(\"CON1_GRAD!L13\")<>\"\",INDIRECT(\"CON1_GRAD!L13\"),\"\")","v":""},"CON1_GRAD","CON1 GRADATION OF EXTRACTED AGGREGATE: Tex-200-F","Sieve Size","","TOLERANCES","Gradation"]
[1712,{"$f":"IF(INDIRECT(\"CON1_GRAD!L14\")<>\"\",INDIRECT(\"CON1_GRAD!L14\"),\"\")","v":""},"CON1_GRAD","CON1 GRADATION OF EXTRACTED AGGREGATE: Tex-200-F","Sieve Size","","TOLERANCES","Gradation"]
[1713,{"$f":"IF(INDIRECT(\"CON1_GRAD!L15\")<>\"\",INDIRECT(\"CON1_GRAD!L15\"),\"\")","v":""},"CON1_GRAD","CON1 GRADATION OF EXTRACTED AGGREGATE: Tex-200-F","Sieve Size","","TOLERANCES","Gradation"]
[1714,{"$f":"IF(INDIRECT(\"CON1_GRAD!L16\")<>\"\",INDIRECT(\"CON1_GRAD!L16\"),\"\")","v":""},"CON1_GRAD","CON1 GRADATION OF EXTRACTED AGGREGATE: Tex-200-F","Sieve Size","","TOLERANCES","Gradation"]
[1715,{"$f":"IF(INDIRECT(\"CON1_GRAD!L17\")<>\"\",INDIRECT(\"CON1_GRAD!L17\"),\"\")","v":""},"CON1_GRAD","CON1 GRADATION OF EXTRACTED AGGREGATE: Tex-200-F","Sieve Size","","TOLERANCES","Gradation"]
[1716,{"$f":"IF(INDIRECT(\"CON1_GRAD!L18\")<>\"\",INDIRECT(\"CON1_GRAD!L18\"),\"\")","v":""},"CON1_GRAD","CON1 GRADATION OF EXTRACTED AGGREGATE: Tex-200-F","Sieve Size","","TOLERANCES","Gradation"]
[1717,{"$f":"IF(INDIRECT(\"CON1_GRAD!L21\")<>\"\",INDIRECT(\"CON1_GRAD!L21\"),\"\")","v":""},"CON1_GRAD","CON1 GRADATION OF EXTRACTED AGGREGATE: Tex-200-F","Sieve Size","Total - #200","TOLERANCES","Gradation"]
[1718]
[1719,{"$f":"IF(INDIRECT(\"CON1_GRAD!M9\")<>\"\",INDIRECT(\"CON1_GRAD!M9\"),\"\")","v":""},"CON1_GRAD","CON1 GRADATION OF EXTRACTED AGGREGATE: Tex-200-F","Sieve Size",{"$f":"F1625","v":""},"TOLERANCES","Restricted zone"]
[1720,{"$f":"IF(INDIRECT(\"CON1_GRAD!M10\")<>\"\",INDIRECT(\"CON1_GRAD!M10\"),\"\")","v":""},"CON1_GRAD","CON1 GRADATION OF EXTRACTED AGGREGATE: Tex-200-F","Sieve Size","","TOLERANCES","Restricted zone"]
[1721,{"$f":"IF(INDIRECT(\"CON1_GRAD!M11\")<>\"\",INDIRECT(\"CON1_GRAD!M11\"),\"\")","v":""},"CON1_GRAD","CON1 GRADATION OF EXTRACTED AGGREGATE: Tex-200-F","Sieve Size","","TOLERANCES","Restricted zone"]
[1722,{"$f":"IF(INDIRECT(\"CON1_GRAD!M12\")<>\"\",INDIRECT(\"CON1_GRAD!M12\"),\"\")","v":""},"CON1_GRAD","CON1 GRADATION OF EXTRACTED AGGREGATE: Tex-200-F","Sieve Size","","TOLERANCES","Restricted zone"]
[1723,{"$f":"IF(INDIRECT(\"CON1_GRAD!M13\")<>\"\",INDIRECT(\"CON1_GRAD!M13\"),\"\")","v":""},"CON1_GRAD","CON1 GRADATION OF EXTRACTED AGGREGATE: Tex-200-F","Sieve Size","","TOLERANCES","Restricted zone"]
[1724,{"$f":"IF(INDIRECT(\"CON1_GRAD!M14\")<>\"\",INDIRECT(\"CON1_GRAD!M14\"),\"\")","v":""},"CON1_GRAD","CON1 GRADATION OF EXTRACTED AGGREGATE: Tex-200-F","Sieve Size","","TOLERANCES","Restricted zone"]
[1725,{"$f":"IF(INDIRECT(\"CON1_GRAD!M15\")<>\"\",INDIRECT(\"CON1_GRAD!M15\"),\"\")","v":""},"CON1_GRAD","CON1 GRADATION OF EXTRACTED AGGREGATE: Tex-200-F","Sieve Size","","TOLERANCES","Restricted zone"]
[1726,{"$f":"IF(INDIRECT(\"CON1_GRAD!M16\")<>\"\",INDIRECT(\"CON1_GRAD!M16\"),\"\")","v":""},"CON1_GRAD","CON1 GRADATION OF EXTRACTED AGGREGATE: Tex-200-F","Sieve Size","","TOLERANCES","Restricted zone"]
[1727,{"$f":"IF(INDIRECT(\"CON1_GRAD!M17\")<>\"\",INDIRECT(\"CON1_GRAD!M17\"),\"\")","v":""},"CON1_GRAD","CON1 GRADATION OF EXTRACTED AGGREGATE: Tex-200-F","Sieve Size","","TOLERANCES","Restricted zone"]
[1728,{"$f":"IF(INDIRECT(\"CON1_GRAD!M18\")<>\"\",INDIRECT(\"CON1_GRAD!M18\"),\"\")","v":""},"CON1_GRAD","CON1 GRADATION OF EXTRACTED AGGREGATE: Tex-200-F","Sieve Size","","TOLERANCES","Restricted zone"]
[1729,{"$f":"IF(INDIRECT(\"CON1_GRAD!M21\")<>\"\",INDIRECT(\"CON1_GRAD!M21\"),\"\")","v":""},"CON1_GRAD","CON1 GRADATION OF EXTRACTED AGGREGATE: Tex-200-F","Sieve Size","Total - #200","TOLERANCES","Restricted zone"]
[1730]
[1731]
[1732]
[1733]
[1734,{"$f":"IF(INDIRECT(\"CON2_GRAD!G4\")<>\"\",INDIRECT(\"CON2_GRAD!G4\"),\"\")","v":""},"CON2_GRAD","CON2 GRADATION OF EXTRACTED AGGREGATE: Tex-200-F",null,"Ignited sample original dry weight, g:",null,null,null,951]
[1735,{"$f":"IF(INDIRECT(\"CON2_GRAD!G5\")<>\"\",INDIRECT(\"CON2_GRAD!G5\"),\"\")","v":""},"CON2_GRAD","CON2 GRADATION OF EXTRACTED AGGREGATE: Tex-200-F",null,"Dry weight after washing, g:",null,null,null,952]
[1736,{"$f":"IF(INDIRECT(\"CON2_GRAD!G6\")<>\"\",INDIRECT(\"CON2_GRAD!G6\"),\"\")","v":""},"CON2_GRAD","CON2 GRADATION OF EXTRACTED AGGREGATE: Tex-200-F",null,"Sieve analysis:",null,null,null,953]
[1737,{"$f":"IF(INDIRECT(\"CON2_GRAD!C19\")<>\"\",INDIRECT(\"CON2_GRAD!C19\"),\"\")","v":""},"CON2_GRAD","CON2 GRADATION OF EXTRACTED AGGREGATE: Tex-200-F",null,"- #200","Weight retained, g",null,null,964]
[1738,{"$f":"IF(INDIRECT(\"CON2_GRAD!C22\")<>\"\",INDIRECT(\"CON2_GRAD!C22\"),\"\")","v":""},"CON2_GRAD","CON2 GRADATION OF EXTRACTED AGGREGATE: Tex-200-F",null,"Total weight, g"]
[1739]
[1740,{"$f":"IF(INDIRECT(\"CON2_GRAD!C9\")<>\"\",INDIRECT(\"CON2_GRAD!C9\"),\"\")","v":""},"CON2_GRAD","CON2 GRADATION OF EXTRACTED AGGREGATE: Tex-200-F","Sieve Size",{"$f":"INDIRECT(\"CON2_GRAD!B9\")","v":""},"Weight retained, g",null,null,954]
[1741,{"$f":"IF(INDIRECT(\"CON2_GRAD!C10\")<>\"\",INDIRECT(\"CON2_GRAD!C10\"),\"\")","v":""},"CON2_GRAD","CON2 GRADATION OF EXTRACTED AGGREGATE: Tex-200-F","Sieve Size",{"$f":"INDIRECT(\"CON2_GRAD!B10\")","v":""},"Weight retained, g",null,null,955]
[1742,{"$f":"IF(INDIRECT(\"CON2_GRAD!C11\")<>\"\",INDIRECT(\"CON2_GRAD!C11\"),\"\")","v":""},"CON2_GRAD","CON2 GRADATION OF EXTRACTED AGGREGATE: Tex-200-F","Sieve Size",{"$f":"INDIRECT(\"CON2_GRAD!B11\")","v":""},"Weight retained, g",null,null,956]
[1743,{"$f":"IF(INDIRECT(\"CON2_GRAD!C12\")<>\"\",INDIRECT(\"CON2_GRAD!C12\"),\"\")","v":""},"CON2_GRAD","CON2 GRADATION OF EXTRACTED AGGREGATE: Tex-200-F","Sieve Size",{"$f":"INDIRECT(\"CON2_GRAD!B12\")","v":""},"Weight retained, g",null,null,957]
[1744,{"$f":"IF(INDIRECT(\"CON2_GRAD!C13\")<>\"\",INDIRECT(\"CON2_GRAD!C13\"),\"\")","v":""},"CON2_GRAD","CON2 GRADATION OF EXTRACTED AGGREGATE: Tex-200-F","Sieve Size",{"$f":"INDIRECT(\"CON2_GRAD!B13\")","v":""},"Weight retained, g",null,null,958]
[1745,{"$f":"IF(INDIRECT(\"CON2_GRAD!C14\")<>\"\",INDIRECT(\"CON2_GRAD!C14\"),\"\")","v":""},"CON2_GRAD","CON2 GRADATION OF EXTRACTED AGGREGATE: Tex-200-F","Sieve Size",{"$f":"INDIRECT(\"CON2_GRAD!B14\")","v":""},"Weight retained, g",null,null,959]
[1746,{"$f":"IF(INDIRECT(\"CON2_GRAD!C15\")<>\"\",INDIRECT(\"CON2_GRAD!C15\"),\"\")","v":""},"CON2_GRAD","CON2 GRADATION OF EXTRACTED AGGREGATE: Tex-200-F","Sieve Size",{"$f":"INDIRECT(\"CON2_GRAD!B15\")","v":""},"Weight retained, g",null,null,960]
[1747,{"$f":"IF(INDIRECT(\"CON2_GRAD!C16\")<>\"\",INDIRECT(\"CON2_GRAD!C16\"),\"\")","v":""},"CON2_GRAD","CON2 GRADATION OF EXTRACTED AGGREGATE: Tex-200-F","Sieve Size",{"$f":"INDIRECT(\"CON2_GRAD!B16\")","v":""},"Weight retained, g",null,null,961]
[1748,{"$f":"IF(INDIRECT(\"CON2_GRAD!C17\")<>\"\",INDIRECT(\"CON2_GRAD!C17\"),\"\")","v":""},"CON2_GRAD","CON2 GRADATION OF EXTRACTED AGGREGATE: Tex-200-F","Sieve Size",{"$f":"INDIRECT(\"CON2_GRAD!B17\")","v":""},"Weight retained, g",null,null,962]
[1749,{"$f":"IF(INDIRECT(\"CON2_GRAD!C18\")<>\"\",INDIRECT(\"CON2_GRAD!C18\"),\"\")","v":""},"CON2_GRAD","CON2 GRADATION OF EXTRACTED AGGREGATE: Tex-200-F","Sieve Size",{"$f":"INDIRECT(\"CON2_GRAD!B18\")","v":""},"Weight retained, g",null,null,963]
[1750,{"$f":"IF(INDIRECT(\"CON2_GRAD!C21\")<>\"\",INDIRECT(\"CON2_GRAD!C21\"),\"\")","v":""},"CON2_GRAD","CON2 GRADATION OF EXTRACTED AGGREGATE: Tex-200-F","Sieve Size","Total - #200","Weight retained, g"]
[1751]
[1752,{"$f":"IF(INDIRECT(\"CON2_GRAD!D9\")<>\"\",INDIRECT(\"CON2_GRAD!D9\"),\"\")","v":""},"CON2_GRAD","CON2 GRADATION OF EXTRACTED AGGREGATE: Tex-200-F","Sieve Size",{"$f":"F1742","v":""},"Weight retained, g"]
[1753,{"$f":"IF(INDIRECT(\"CON2_GRAD!D10\")<>\"\",INDIRECT(\"CON2_GRAD!D10\"),\"\")","v":""},"CON2_GRAD","CON2 GRADATION OF EXTRACTED AGGREGATE: Tex-200-F","Sieve Size","","Weight retained, g"]
[1754,{"$f":"IF(INDIRECT(\"CON2_GRAD!D11\")<>\"\",INDIRECT(\"CON2_GRAD!D11\"),\"\")","v":""},"CON2_GRAD","CON2 GRADATION OF EXTRACTED AGGREGATE: Tex-200-F","Sieve Size","","Weight retained, g"]
[1755,{"$f":"IF(INDIRECT(\"CON2_GRAD!D12\")<>\"\",INDIRECT(\"CON2_GRAD!D12\"),\"\")","v":""},"CON2_GRAD","CON2 GRADATION OF EXTRACTED AGGREGATE: Tex-200-F","Sieve Size","","Weight retained, g"]
[1756,{"$f":"IF(INDIRECT(\"CON2_GRAD!D13\")<>\"\",INDIRECT(\"CON2_GRAD!D13\"),\"\")","v":""},"CON2_GRAD","CON2 GRADATION OF EXTRACTED AGGREGATE: Tex-200-F","Sieve Size","","Weight retained, g"]
[1757,{"$f":"IF(INDIRECT(\"CON2_GRAD!D14\")<>\"\",INDIRECT(\"CON2_GRAD!D14\"),\"\")","v":""},"CON2_GRAD","CON2 GRADATION OF EXTRACTED AGGREGATE: Tex-200-F","Sieve Size","","Weight retained, g"]
[1758,{"$f":"IF(INDIRECT(\"CON2_GRAD!D15\")<>\"\",INDIRECT(\"CON2_GRAD!D15\"),\"\")","v":""},"CON2_GRAD","CON2 GRADATION OF EXTRACTED AGGREGATE: Tex-200-F","Sieve Size","","Weight retained, g"]
[1759,{"$f":"IF(INDIRECT(\"CON2_GRAD!D16\")<>\"\",INDIRECT(\"CON2_GRAD!D16\"),\"\")","v":""},"CON2_GRAD","CON2 GRADATION OF EXTRACTED AGGREGATE: Tex-200-F","Sieve Size","","Weight retained, g"]
[1760,{"$f":"IF(INDIRECT(\"CON2_GRAD!D17\")<>\"\",INDIRECT(\"CON2_GRAD!D17\"),\"\")","v":""},"CON2_GRAD","CON2 GRADATION OF EXTRACTED AGGREGATE: Tex-200-F","Sieve Size","","Weight retained, g"]
[1761,{"$f":"IF(INDIRECT(\"CON2_GRAD!D18\")<>\"\",INDIRECT(\"CON2_GRAD!D18\"),\"\")","v":""},"CON2_GRAD","CON2 GRADATION OF EXTRACTED AGGREGATE: Tex-200-F","Sieve Size","","Weight retained, g"]
[1762,{"$f":"IF(INDIRECT(\"CON2_GRAD!D21\")<>\"\",INDIRECT(\"CON2_GRAD!D21\"),\"\")","v":""},"CON2_GRAD","CON2 GRADATION OF EXTRACTED AGGREGATE: Tex-200-F","Sieve Size","Total - #200","Weight retained, g"]
[1763]
[1764,{"$f":"IF(INDIRECT(\"CON2_GRAD!E9\")<>\"\",INDIRECT(\"CON2_GRAD!E9\"),\"\")","v":""},"CON2_GRAD","CON2 GRADATION OF EXTRACTED AGGREGATE: Tex-200-F","Sieve Size",{"$f":"F1742","v":""},"Weight retained, g"]
[1765,{"$f":"IF(INDIRECT(\"CON2_GRAD!E10\")<>\"\",INDIRECT(\"CON2_GRAD!E10\"),\"\")","v":""},"CON2_GRAD","CON2 GRADATION OF EXTRACTED AGGREGATE: Tex-200-F","Sieve Size","","Weight retained, g"]
[1766,{"$f":"IF(INDIRECT(\"CON2_GRAD!E11\")<>\"\",INDIRECT(\"CON2_GRAD!E11\"),\"\")","v":""},"CON2_GRAD","CON2 GRADATION OF EXTRACTED AGGREGATE: Tex-200-F","Sieve Size","","Weight retained, g"]
[1767,{"$f":"IF(INDIRECT(\"CON2_GRAD!E12\")<>\"\",INDIRECT(\"CON2_GRAD!E12\"),\"\")","v":""},"CON2_GRAD","CON2 GRADATION OF EXTRACTED AGGREGATE: Tex-200-F","Sieve Size","","Weight retained, g"]
[1768,{"$f":"IF(INDIRECT(\"CON2_GRAD!E13\")<>\"\",INDIRECT(\"CON2_GRAD!E13\"),\"\")","v":""},"CON2_GRAD","CON2 GRADATION OF EXTRACTED AGGREGATE: Tex-200-F","Sieve Size","","Weight retained, g"]
[1769,{"$f":"IF(INDIRECT(\"CON2_GRAD!E14\")<>\"\",INDIRECT(\"CON2_GRAD!E14\"),\"\")","v":""},"CON2_GRAD","CON2 GRADATION OF EXTRACTED AGGREGATE: Tex-200-F","Sieve Size","","Weight retained, g"]
[1770,{"$f":"IF(INDIRECT(\"CON2_GRAD!E15\")<>\"\",INDIRECT(\"CON2_GRAD!E15\"),\"\")","v":""},"CON2_GRAD","CON2 GRADATION OF EXTRACTED AGGREGATE: Tex-200-F","Sieve Size","","Weight retained, g"]
[1771,{"$f":"IF(INDIRECT(\"CON2_GRAD!E16\")<>\"\",INDIRECT(\"CON2_GRAD!E16\"),\"\")","v":""},"CON2_GRAD","CON2 GRADATION OF EXTRACTED AGGREGATE: Tex-200-F","Sieve Size","","Weight retained, g"]
[1772,{"$f":"IF(INDIRECT(\"CON2_GRAD!E17\")<>\"\",INDIRECT(\"CON2_GRAD!E17\"),\"\")","v":""},"CON2_GRAD","CON2 GRADATION OF EXTRACTED AGGREGATE: Tex-200-F","Sieve Size","","Weight retained, g"]
[1773,{"$f":"IF(INDIRECT(\"CON2_GRAD!E18\")<>\"\",INDIRECT(\"CON2_GRAD!E18\"),\"\")","v":""},"CON2_GRAD","CON2 GRADATION OF EXTRACTED AGGREGATE: Tex-200-F","Sieve Size","","Weight retained, g"]
[1774,{"$f":"IF(INDIRECT(\"CON2_GRAD!E21\")<>\"\",INDIRECT(\"CON2_GRAD!E21\"),\"\")","v":""},"CON2_GRAD","CON2 GRADATION OF EXTRACTED AGGREGATE: Tex-200-F","Sieve Size","Total - #200","Weight retained, g"]
[1775]
[1776,{"$f":"IF(INDIRECT(\"CON2_GRAD!F9\")<>\"\",INDIRECT(\"CON2_GRAD!F9\"),\"\")","v":""},"CON2_GRAD","CON2 GRADATION OF EXTRACTED AGGREGATE: Tex-200-F","Sieve Size",{"$f":"F1742","v":""},"Weight retained, g"]
[1777,{"$f":"IF(INDIRECT(\"CON2_GRAD!F10\")<>\"\",INDIRECT(\"CON2_GRAD!F10\"),\"\")","v":""},"CON2_GRAD","CON2 GRADATION OF EXTRACTED AGGREGATE: Tex-200-F","Sieve Size","","Weight retained, g"]
[1778,{"$f":"IF(INDIRECT(\"CON2_GRAD!F11\")<>\"\",INDIRECT(\"CON2_GRAD!F11\"),\"\")","v":""},"CON2_GRAD","CON2 GRADATION OF EXTRACTED AGGREGATE: Tex-200-F","Sieve Size","","Weight retained, g"]
[1779,{"$f":"IF(INDIRECT(\"CON2_GRAD!F12\")<>\"\",INDIRECT(\"CON2_GRAD!F12\"),\"\")","v":""},"CON2_GRAD","CON2 GRADATION OF EXTRACTED AGGREGATE: Tex-200-F","Sieve Size","","Weight retained, g"]
[1780,{"$f":"IF(INDIRECT(\"CON2_GRAD!F13\")<>\"\",INDIRECT(\"CON2_GRAD!F13\"),\"\")","v":""},"CON2_GRAD","CON2 GRADATION OF EXTRACTED AGGREGATE: Tex-200-F","Sieve Size","","Weight retained, g"]
[1781,{"$f":"IF(INDIRECT(\"CON2_GRAD!F14\")<>\"\",INDIRECT(\"CON2_GRAD!F14\"),\"\")","v":""},"CON2_GRAD","CON2 GRADATION OF EXTRACTED AGGREGATE: Tex-200-F","Sieve Size","","Weight retained, g"]
[1782,{"$f":"IF(INDIRECT(\"CON2_GRAD!F15\")<>\"\",INDIRECT(\"CON2_GRAD!F15\"),\"\")","v":""},"CON2_GRAD","CON2 GRADATION OF EXTRACTED AGGREGATE: Tex-200-F","Sieve Size","","Weight retained, g"]
[1783,{"$f":"IF(INDIRECT(\"CON2_GRAD!F16\")<>\"\",INDIRECT(\"CON2_GRAD!F16\"),\"\")","v":""},"CON2_GRAD","CON2 GRADATION OF EXTRACTED AGGREGATE: Tex-200-F","Sieve Size","","Weight retained, g"]
[1784,{"$f":"IF(INDIRECT(\"CON2_GRAD!F17\")<>\"\",INDIRECT(\"CON2_GRAD!F17\"),\"\")","v":""},"CON2_GRAD","CON2 GRADATION OF EXTRACTED AGGREGATE: Tex-200-F","Sieve Size","","Weight retained, g"]
[1785,{"$f":"IF(INDIRECT(\"CON2_GRAD!F18\")<>\"\",INDIRECT(\"CON2_GRAD!F18\"),\"\")","v":""},"CON2_GRAD","CON2 GRADATION OF EXTRACTED AGGREGATE: Tex-200-F","Sieve Size","","Weight retained, g"]
[1786,{"$f":"IF(INDIRECT(\"CON2_GRAD!F21\")<>\"\",INDIRECT(\"CON2_GRAD!F21\"),\"\")","v":""},"CON2_GRAD","CON2 GRADATION OF EXTRACTED AGGREGATE: Tex-200-F","Sieve Size","Total - #200","Weight retained, g"]
[1787]
[1788,{"$f":"IF(INDIRECT(\"CON2_GRAD!G9\")<>\"\",INDIRECT(\"CON2_GRAD!G9\"),\"\")","v":""},"CON2_GRAD","CON2 GRADATION OF EXTRACTED AGGREGATE: Tex-200-F","Sieve Size",{"$f":"F1742","v":""},"Percent passing, %"]
[1789,{"$f":"IF(INDIRECT(\"CON2_GRAD!G10\")<>\"\",INDIRECT(\"CON2_GRAD!G10\"),\"\")","v":""},"CON2_GRAD","CON2 GRADATION OF EXTRACTED AGGREGATE: Tex-200-F","Sieve Size","","Percent passing, %"]
[1790,{"$f":"IF(INDIRECT(\"CON2_GRAD!G11\")<>\"\",INDIRECT(\"CON2_GRAD!G11\"),\"\")","v":""},"CON2_GRAD","CON2 GRADATION OF EXTRACTED AGGREGATE: Tex-200-F","Sieve Size","","Percent passing, %"]
[1791,{"$f":"IF(INDIRECT(\"CON2_GRAD!G12\")<>\"\",INDIRECT(\"CON2_GRAD!G12\"),\"\")","v":""},"CON2_GRAD","CON2 GRADATION OF EXTRACTED AGGREGATE: Tex-200-F","Sieve Size","","Percent passing, %"]
[1792,{"$f":"IF(INDIRECT(\"CON2_GRAD!G13\")<>\"\",INDIRECT(\"CON2_GRAD!G13\"),\"\")","v":""},"CON2_GRAD","CON2 GRADATION OF EXTRACTED AGGREGATE: Tex-200-F","Sieve Size","","Percent passing, %"]
[1793,{"$f":"IF(INDIRECT(\"CON2_GRAD!G14\")<>\"\",INDIRECT(\"CON2_GRAD!G14\"),\"\")","v":""},"CON2_GRAD","CON2 GRADATION OF EXTRACTED AGGREGATE: Tex-200-F","Sieve Size","","Percent passing, %"]
[1794,{"$f":"IF(INDIRECT(\"CON2_GRAD!G15\")<>\"\",INDIRECT(\"CON2_GRAD!G15\"),\"\")","v":""},"CON2_GRAD","CON2 GRADATION OF EXTRACTED AGGREGATE: Tex-200-F","Sieve Size","","Percent passing, %"]
[1795,{"$f":"IF(INDIRECT(\"CON2_GRAD!G16\")<>\"\",INDIRECT(\"CON2_GRAD!G16\"),\"\")","v":""},"CON2_GRAD","CON2 GRADATION OF EXTRACTED AGGREGATE: Tex-200-F","Sieve Size","","Percent passing, %"]
[1796,{"$f":"IF(INDIRECT(\"CON2_GRAD!G17\")<>\"\",INDIRECT(\"CON2_GRAD!G17\"),\"\")","v":""},"CON2_GRAD","CON2 GRADATION OF EXTRACTED AGGREGATE: Tex-200-F","Sieve Size","","Percent passing, %"]
[1797,{"$f":"IF(INDIRECT(\"CON2_GRAD!G18\")<>\"\",INDIRECT(\"CON2_GRAD!G18\"),\"\")","v":""},"CON2_GRAD","CON2 GRADATION OF EXTRACTED AGGREGATE: Tex-200-F","Sieve Size","","Percent passing, %"]
[1798,{"$f":"IF(INDIRECT(\"CON2_GRAD!G21\")<>\"\",INDIRECT(\"CON2_GRAD!G21\"),\"\")","v":""},"CON2_GRAD","CON2 GRADATION OF EXTRACTED AGGREGATE: Tex-200-F","Sieve Size","Total - #200","Percent passing, %"]
[1799]
[1800,{"$f":"IF(INDIRECT(\"CON2_GRAD!H9\")<>\"\",INDIRECT(\"CON2_GRAD!H9\"),\"\")","v":""},"CON2_GRAD","CON2 GRADATION OF EXTRACTED AGGREGATE: Tex-200-F","Sieve Size",{"$f":"F1742","v":""},"JMF limits","Lower"]
[1801,{"$f":"IF(INDIRECT(\"CON2_GRAD!H10\")<>\"\",INDIRECT(\"CON2_GRAD!H10\"),\"\")","v":""},"CON2_GRAD","CON2 GRADATION OF EXTRACTED AGGREGATE: Tex-200-F","Sieve Size","","JMF limits","Lower"]
[1802,{"$f":"IF(INDIRECT(\"CON2_GRAD!H11\")<>\"\",INDIRECT(\"CON2_GRAD!H11\"),\"\")","v":""},"CON2_GRAD","CON2 GRADATION OF EXTRACTED AGGREGATE: Tex-200-F","Sieve Size","","JMF limits","Lower"]
[1803,{"$f":"IF(INDIRECT(\"CON2_GRAD!H12\")<>\"\",INDIRECT(\"CON2_GRAD!H12\"),\"\")","v":""},"CON2_GRAD","CON2 GRADATION OF EXTRACTED AGGREGATE: Tex-200-F","Sieve Size","","JMF limits","Lower"]
[1804,{"$f":"IF(INDIRECT(\"CON2_GRAD!H13\")<>\"\",INDIRECT(\"CON2_GRAD!H13\"),\"\")","v":""},"CON2_GRAD","CON2 GRADATION OF EXTRACTED AGGREGATE: Tex-200-F","Sieve Size","","JMF limits","Lower"]
[1805,{"$f":"IF(INDIRECT(\"CON2_GRAD!H14\")<>\"\",INDIRECT(\"CON2_GRAD!H14\"),\"\")","v":""},"CON2_GRAD","CON2 GRADATION OF EXTRACTED AGGREGATE: Tex-200-F","Sieve Size","","JMF limits","Lower"]
[1806,{"$f":"IF(INDIRECT(\"CON2_GRAD!H15\")<>\"\",INDIRECT(\"CON2_GRAD!H15\"),\"\")","v":""},"CON2_GRAD","CON2 GRADATION OF EXTRACTED AGGREGATE: Tex-200-F","Sieve Size","","JMF limits","Lower"]
[1807,{"$f":"IF(INDIRECT(\"CON2_GRAD!H16\")<>\"\",INDIRECT(\"CON2_GRAD!H16\"),\"\")","v":""},"CON2_GRAD","CON2 GRADATION OF EXTRACTED AGGREGATE: Tex-200-F","Sieve Size","","JMF limits","Lower"]
[1808,{"$f":"IF(INDIRECT(\"CON2_GRAD!H17\")<>\"\",INDIRECT(\"CON2_GRAD!H17\"),\"\")","v":""},"CON2_GRAD","CON2 GRADATION OF EXTRACTED AGGREGATE: Tex-200-F","Sieve Size","","JMF limits","Lower"]
[1809,{"$f":"IF(INDIRECT(\"CON2_GRAD!H18\")<>\"\",INDIRECT(\"CON2_GRAD!H18\"),\"\")","v":""},"CON2_GRAD","CON2 GRADATION OF EXTRACTED AGGREGATE: Tex-200-F","Sieve Size","","JMF limits","Lower"]
[1810,{"$f":"IF(INDIRECT(\"CON2_GRAD!H21\")<>\"\",INDIRECT(\"CON2_GRAD!H21\"),\"\")","v":""},"CON2_GRAD","CON2 GRADATION OF EXTRACTED AGGREGATE: Tex-200-F","Sieve Size","Total - #200","JMF limits","Lower"]
[1811]
[1812,{"$f":"IF(INDIRECT(\"CON2_GRAD!J9\")<>\"\",INDIRECT(\"CON2_GRAD!J9\"),\"\")","v":""},"CON2_GRAD","CON2 GRADATION OF EXTRACTED AGGREGATE: Tex-200-F","Sieve Size",{"$f":"F1742","v":""},"JMF limits","Upper"]
[1813,{"$f":"IF(INDIRECT(\"CON2_GRAD!J10\")<>\"\",INDIRECT(\"CON2_GRAD!J10\"),\"\")","v":""},"CON2_GRAD","CON2 GRADATION OF EXTRACTED AGGREGATE: Tex-200-F","Sieve Size","","JMF limits","Upper"]
[1814,{"$f":"IF(INDIRECT(\"CON2_GRAD!J11\")<>\"\",INDIRECT(\"CON2_GRAD!J11\"),\"\")","v":""},"CON2_GRAD","CON2 GRADATION OF EXTRACTED AGGREGATE: Tex-200-F","Sieve Size","","JMF limits","Upper"]
[1815,{"$f":"IF(INDIRECT(\"CON2_GRAD!J12\")<>\"\",INDIRECT(\"CON2_GRAD!J12\"),\"\")","v":""},"CON2_GRAD","CON2 GRADATION OF EXTRACTED AGGREGATE: Tex-200-F","Sieve Size","","JMF limits","Upper"]
[1816,{"$f":"IF(INDIRECT(\"CON2_GRAD!J13\")<>\"\",INDIRECT(\"CON2_GRAD!J13\"),\"\")","v":""},"CON2_GRAD","CON2 GRADATION OF EXTRACTED AGGREGATE: Tex-200-F","Sieve Size","","JMF limits","Upper"]
[1817,{"$f":"IF(INDIRECT(\"CON2_GRAD!J14\")<>\"\",INDIRECT(\"CON2_GRAD!J14\"),\"\")","v":""},"CON2_GRAD","CON2 GRADATION OF EXTRACTED AGGREGATE: Tex-200-F","Sieve Size","","JMF limits","Upper"]
[1818,{"$f":"IF(INDIRECT(\"CON2_GRAD!J15\")<>\"\",INDIRECT(\"CON2_GRAD!J15\"),\"\")","v":""},"CON2_GRAD","CON2 GRADATION OF EXTRACTED AGGREGATE: Tex-200-F","Sieve Size","","JMF limits","Upper"]
[1819,{"$f":"IF(INDIRECT(\"CON2_GRAD!J16\")<>\"\",INDIRECT(\"CON2_GRAD!J16\"),\"\")","v":""},"CON2_GRAD","CON2 GRADATION OF EXTRACTED AGGREGATE: Tex-200-F","Sieve Size","","JMF limits","Upper"]
[1820,{"$f":"IF(INDIRECT(\"CON2_GRAD!J17\")<>\"\",INDIRECT(\"CON2_GRAD!J17\"),\"\")","v":""},"CON2_GRAD","CON2 GRADATION OF EXTRACTED AGGREGATE: Tex-200-F","Sieve Size","","JMF limits","Upper"]
[1821,{"$f":"IF(INDIRECT(\"CON2_GRAD!J18\")<>\"\",INDIRECT(\"CON2_GRAD!J18\"),\"\")","v":""},"CON2_GRAD","CON2 GRADATION OF EXTRACTED AGGREGATE: Tex-200-F","Sieve Size","","JMF limits","Upper"]
[1822,{"$f":"IF(INDIRECT(\"CON2_GRAD!J21\")<>\"\",INDIRECT(\"CON2_GRAD!J21\"),\"\")","v":""},"CON2_GRAD","CON2 GRADATION OF EXTRACTED AGGREGATE: Tex-200-F","Sieve Size","Total - #200","JMF limits","Upper"]
[1823]
[1824,{"$f":"IF(INDIRECT(\"CON2_GRAD!L9\")<>\"\",INDIRECT(\"CON2_GRAD!L9\"),\"\")","v":""},"CON2_GRAD","CON2 GRADATION OF EXTRACTED AGGREGATE: Tex-200-F","Sieve Size",{"$f":"F1742","v":""},"TOLERANCES","Gradation"]
[1825,{"$f":"IF(INDIRECT(\"CON2_GRAD!L10\")<>\"\",INDIRECT(\"CON2_GRAD!L10\"),\"\")","v":""},"CON2_GRAD","CON2 GRADATION OF EXTRACTED AGGREGATE: Tex-200-F","Sieve Size","","TOLERANCES","Gradation"]
[1826,{"$f":"IF(INDIRECT(\"CON2_GRAD!L11\")<>\"\",INDIRECT(\"CON2_GRAD!L11\"),\"\")","v":""},"CON2_GRAD","CON2 GRADATION OF EXTRACTED AGGREGATE: Tex-200-F","Sieve Size","","TOLERANCES","Gradation"]
[1827,{"$f":"IF(INDIRECT(\"CON2_GRAD!L12\")<>\"\",INDIRECT(\"CON2_GRAD!L12\"),\"\")","v":""},"CON2_GRAD","CON2 GRADATION OF EXTRACTED AGGREGATE: Tex-200-F","Sieve Size","","TOLERANCES","Gradation"]
[1828,{"$f":"IF(INDIRECT(\"CON2_GRAD!L13\")<>\"\",INDIRECT(\"CON2_GRAD!L13\"),\"\")","v":""},"CON2_GRAD","CON2 GRADATION OF EXTRACTED AGGREGATE: Tex-200-F","Sieve Size","","TOLERANCES","Gradation"]
[1829,{"$f":"IF(INDIRECT(\"CON2_GRAD!L14\")<>\"\",INDIRECT(\"CON2_GRAD!L14\"),\"\")","v":""},"CON2_GRAD","CON2 GRADATION OF EXTRACTED AGGREGATE: Tex-200-F","Sieve Size","","TOLERANCES","Gradation"]
[1830,{"$f":"IF(INDIRECT(\"CON2_GRAD!L15\")<>\"\",INDIRECT(\"CON2_GRAD!L15\"),\"\")","v":""},"CON2_GRAD","CON2 GRADATION OF EXTRACTED AGGREGATE: Tex-200-F","Sieve Size","","TOLERANCES","Gradation"]
[1831,{"$f":"IF(INDIRECT(\"CON2_GRAD!L16\")<>\"\",INDIRECT(\"CON2_GRAD!L16\"),\"\")","v":""},"CON2_GRAD","CON2 GRADATION OF EXTRACTED AGGREGATE: Tex-200-F","Sieve Size","","TOLERANCES","Gradation"]
[1832,{"$f":"IF(INDIRECT(\"CON2_GRAD!L17\")<>\"\",INDIRECT(\"CON2_GRAD!L17\"),\"\")","v":""},"CON2_GRAD","CON2 GRADATION OF EXTRACTED AGGREGATE: Tex-200-F","Sieve Size","","TOLERANCES","Gradation"]
[1833,{"$f":"IF(INDIRECT(\"CON2_GRAD!L18\")<>\"\",INDIRECT(\"CON2_GRAD!L18\"),\"\")","v":""},"CON2_GRAD","CON2 GRADATION OF EXTRACTED AGGREGATE: Tex-200-F","Sieve Size","","TOLERANCES","Gradation"]
[1834,{"$f":"IF(INDIRECT(\"CON2_GRAD!L21\")<>\"\",INDIRECT(\"CON2_GRAD!L21\"),\"\")","v":""},"CON2_GRAD","CON2 GRADATION OF EXTRACTED AGGREGATE: Tex-200-F","Sieve Size","Total - #200","TOLERANCES","Gradation"]
[1835]
[1836,{"$f":"IF(INDIRECT(\"CON2_GRAD!M9\")<>\"\",INDIRECT(\"CON2_GRAD!M9\"),\"\")","v":""},"CON2_GRAD","CON2 GRADATION OF EXTRACTED AGGREGATE: Tex-200-F","Sieve Size",{"$f":"F1742","v":""},"TOLERANCES","Restricted zone"]
[1837,{"$f":"IF(INDIRECT(\"CON2_GRAD!M10\")<>\"\",INDIRECT(\"CON2_GRAD!M10\"),\"\")","v":""},"CON2_GRAD","CON2 GRADATION OF EXTRACTED AGGREGATE: Tex-200-F","Sieve Size","","TOLERANCES","Restricted zone"]
[1838,{"$f":"IF(INDIRECT(\"CON2_GRAD!M11\")<>\"\",INDIRECT(\"CON2_GRAD!M11\"),\"\")","v":""},"CON2_GRAD","CON2 GRADATION OF EXTRACTED AGGREGATE: Tex-200-F","Sieve Size","","TOLERANCES","Restricted zone"]
[1839,{"$f":"IF(INDIRECT(\"CON2_GRAD!M12\")<>\"\",INDIRECT(\"CON2_GRAD!M12\"),\"\")","v":""},"CON2_GRAD","CON2 GRADATION OF EXTRACTED AGGREGATE: Tex-200-F","Sieve Size","","TOLERANCES","Restricted zone"]
[1840,{"$f":"IF(INDIRECT(\"CON2_GRAD!M13\")<>\"\",INDIRECT(\"CON2_GRAD!M13\"),\"\")","v":""},"CON2_GRAD","CON2 GRADATION OF EXTRACTED AGGREGATE: Tex-200-F","Sieve Size","","TOLERANCES","Restricted zone"]
[1841,{"$f":"IF(INDIRECT(\"CON2_GRAD!M14\")<>\"\",INDIRECT(\"CON2_GRAD!M14\"),\"\")","v":""},"CON2_GRAD","CON2 GRADATION OF EXTRACTED AGGREGATE: Tex-200-F","Sieve Size","","TOLERANCES","Restricted zone"]
[1842,{"$f":"IF(INDIRECT(\"CON2_GRAD!M15\")<>\"\",INDIRECT(\"CON2_GRAD!M15\"),\"\")","v":""},"CON2_GRAD","CON2 GRADATION OF EXTRACTED AGGREGATE: Tex-200-F","Sieve Size","","TOLERANCES","Restricted zone"]
[1843,{"$f":"IF(INDIRECT(\"CON2_GRAD!M16\")<>\"\",INDIRECT(\"CON2_GRAD!M16\"),\"\")","v":""},"CON2_GRAD","CON2 GRADATION OF EXTRACTED AGGREGATE: Tex-200-F","Sieve Size","","TOLERANCES","Restricted zone"]
[1844,{"$f":"IF(INDIRECT(\"CON2_GRAD!M17\")<>\"\",INDIRECT(\"CON2_GRAD!M17\"),\"\")","v":""},"CON2_GRAD","CON2 GRADATION OF EXTRACTED AGGREGATE: Tex-200-F","Sieve Size","","TOLERANCES","Restricted zone"]
[1845,{"$f":"IF(INDIRECT(\"CON2_GRAD!M18\")<>\"\",INDIRECT(\"CON2_GRAD!M18\"),\"\")","v":""},"CON2_GRAD","CON2 GRADATION OF EXTRACTED AGGREGATE: Tex-200-F","Sieve Size","","TOLERANCES","Restricted zone"]
[1846,{"$f":"IF(INDIRECT(\"CON2_GRAD!M21\")<>\"\",INDIRECT(\"CON2_GRAD!M21\"),\"\")","v":""},"CON2_GRAD","CON2 GRADATION OF EXTRACTED AGGREGATE: Tex-200-F","Sieve Size","Total - #200","TOLERANCES","Restricted zone"]
[1847]
[1848]
[1849]
[1850]
[1851,{"$f":"IF(INDIRECT(\"CON3_GRAD!G4\")<>\"\",INDIRECT(\"CON3_GRAD!G4\"),\"\")","v":""},"CON3_GRAD","CON3 GRADATION OF EXTRACTED AGGREGATE: Tex-200-F",null,"Ignited sample original dry weight, g:",null,null,null,1050]
[1852,{"$f":"IF(INDIRECT(\"CON3_GRAD!G5\")<>\"\",INDIRECT(\"CON3_GRAD!G5\"),\"\")","v":""},"CON3_GRAD","CON3 GRADATION OF EXTRACTED AGGREGATE: Tex-200-F",null,"Dry weight after washing, g:",null,null,null,1051]
[1853,{"$f":"IF(INDIRECT(\"CON3_GRAD!G6\")<>\"\",INDIRECT(\"CON3_GRAD!G6\"),\"\")","v":""},"CON3_GRAD","CON3 GRADATION OF EXTRACTED AGGREGATE: Tex-200-F",null,"Sieve analysis:",null,null,null,1052]
[1854,{"$f":"IF(INDIRECT(\"CON3_GRAD!C19\")<>\"\",INDIRECT(\"CON3_GRAD!C19\"),\"\")","v":""},"CON3_GRAD","CON3 GRADATION OF EXTRACTED AGGREGATE: Tex-200-F",null,"- #200","Weight retained, g",null,null,1063]
[1855,{"$f":"IF(INDIRECT(\"CON3_GRAD!C22\")<>\"\",INDIRECT(\"CON3_GRAD!C22\"),\"\")","v":""},"CON3_GRAD","CON3 GRADATION OF EXTRACTED AGGREGATE: Tex-200-F",null,"Total weight, g"]
[1856]
[1857,{"$f":"IF(INDIRECT(\"CON3_GRAD!C9\")<>\"\",INDIRECT(\"CON3_GRAD!C9\"),\"\")","v":""},"CON3_GRAD","CON3 GRADATION OF EXTRACTED AGGREGATE: Tex-200-F","Sieve Size",{"$f":"INDIRECT(\"CON3_GRAD!B9\")","v":""},"Weight retained, g",null,null,1053]
[1858,{"$f":"IF(INDIRECT(\"CON3_GRAD!C10\")<>\"\",INDIRECT(\"CON3_GRAD!C10\"),\"\")","v":""},"CON3_GRAD","CON3 GRADATION OF EXTRACTED AGGREGATE: Tex-200-F","Sieve Size",{"$f":"INDIRECT(\"CON3_GRAD!B10\")","v":""},"Weight retained, g",null,null,1054]
[1859,{"$f":"IF(INDIRECT(\"CON3_GRAD!C11\")<>\"\",INDIRECT(\"CON3_GRAD!C11\"),\"\")","v":""},"CON3_GRAD","CON3 GRADATION OF EXTRACTED AGGREGATE: Tex-200-F","Sieve Size",{"$f":"INDIRECT(\"CON3_GRAD!B11\")","v":""},"Weight retained, g",null,null,1055]
[1860,{"$f":"IF(INDIRECT(\"CON3_GRAD!C12\")<>\"\",INDIRECT(\"CON3_GRAD!C12\"),\"\")","v":""},"CON3_GRAD","CON3 GRADATION OF EXTRACTED AGGREGATE: Tex-200-F","Sieve Size",{"$f":"INDIRECT(\"CON3_GRAD!B12\")","v":""},"Weight retained, g",null,null,1056]
[1861,{"$f":"IF(INDIRECT(\"CON3_GRAD!C13\")<>\"\",INDIRECT(\"CON3_GRAD!C13\"),\"\")","v":""},"CON3_GRAD","CON3 GRADATION OF EXTRACTED AGGREGATE: Tex-200-F","Sieve Size",{"$f":"INDIRECT(\"CON3_GRAD!B13\")","v":""},"Weight retained, g",null,null,1057]
[1862,{"$f":"IF(INDIRECT(\"CON3_GRAD!C14\")<>\"\",INDIRECT(\"CON3_GRAD!C14\"),\"\")","v":""},"CON3_GRAD","CON3 GRADATION OF EXTRACTED AGGREGATE: Tex-200-F","Sieve Size",{"$f":"INDIRECT(\"CON3_GRAD!B14\")","v":""},"Weight retained, g",null,null,1058]
[1863,{"$f":"IF(INDIRECT(\"CON3_GRAD!C15\")<>\"\",INDIRECT(\"CON3_GRAD!C15\"),\"\")","v":""},"CON3_GRAD","CON3 GRADATION OF EXTRACTED AGGREGATE: Tex-200-F","Sieve Size",{"$f":"INDIRECT(\"CON3_GRAD!B15\")","v":""},"Weight retained, g",null,null,1059]
[1864,{"$f":"IF(INDIRECT(\"CON3_GRAD!C16\")<>\"\",INDIRECT(\"CON3_GRAD!C16\"),\"\")","v":""},"CON3_GRAD","CON3 GRADATION OF EXTRACTED AGGREGATE: Tex-200-F","Sieve Size",{"$f":"INDIRECT(\"CON3_GRAD!B16\")","v":""},"Weight retained, g",null,null,1060]
[1865,{"$f":"IF(INDIRECT(\"CON3_GRAD!C17\")<>\"\",INDIRECT(\"CON3_GRAD!C17\"),\"\")","v":""},"CON3_GRAD","CON3 GRADATION OF EXTRACTED AGGREGATE: Tex-200-F","Sieve Size",{"$f":"INDIRECT(\"CON3_GRAD!B17\")","v":""},"Weight retained, g",null,null,1061]
[1866,{"$f":"IF(INDIRECT(\"CON3_GRAD!C18\")<>\"\",INDIRECT(\"CON3_GRAD!C18\"),\"\")","v":""},"CON3_GRAD","CON3 GRADATION OF EXTRACTED AGGREGATE: Tex-200-F","Sieve Size",{"$f":"INDIRECT(\"CON3_GRAD!B18\")","v":""},"Weight retained, g",null,null,1062]
[1867,{"$f":"IF(INDIRECT(\"CON3_GRAD!C21\")<>\"\",INDIRECT(\"CON3_GRAD!C21\"),\"\")","v":""},"CON3_GRAD","CON3 GRADATION OF EXTRACTED AGGREGATE: Tex-200-F","Sieve Size","Total - #200","Weight retained, g"]
[1868]
[1869,{"$f":"IF(INDIRECT(\"CON3_GRAD!D9\")<>\"\",INDIRECT(\"CON3_GRAD!D9\"),\"\")","v":""},"CON3_GRAD","CON3 GRADATION OF EXTRACTED AGGREGATE: Tex-200-F","Sieve Size",{"$f":"F1859","v":""},"Weight retained, g"]
[1870,{"$f":"IF(INDIRECT(\"CON3_GRAD!D10\")<>\"\",INDIRECT(\"CON3_GRAD!D10\"),\"\")","v":""},"CON3_GRAD","CON3 GRADATION OF EXTRACTED AGGREGATE: Tex-200-F","Sieve Size","","Weight retained, g"]
[1871,{"$f":"IF(INDIRECT(\"CON3_GRAD!D11\")<>\"\",INDIRECT(\"CON3_GRAD!D11\"),\"\")","v":""},"CON3_GRAD","CON3 GRADATION OF EXTRACTED AGGREGATE: Tex-200-F","Sieve Size","","Weight retained, g"]
[1872,{"$f":"IF(INDIRECT(\"CON3_GRAD!D12\")<>\"\",INDIRECT(\"CON3_GRAD!D12\"),\"\")","v":""},"CON3_GRAD","CON3 GRADATION OF EXTRACTED AGGREGATE: Tex-200-F","Sieve Size","","Weight retained, g"]
[1873,{"$f":"IF(INDIRECT(\"CON3_GRAD!D13\")<>\"\",INDIRECT(\"CON3_GRAD!D13\"),\"\")","v":""},"CON3_GRAD","CON3 GRADATION OF EXTRACTED AGGREGATE: Tex-200-F","Sieve Size","","Weight retained, g"]
[1874,{"$f":"IF(INDIRECT(\"CON3_GRAD!D14\")<>\"\",INDIRECT(\"CON3_GRAD!D14\"),\"\")","v":""},"CON3_GRAD","CON3 GRADATION OF EXTRACTED AGGREGATE: Tex-200-F","Sieve Size","","Weight retained, g"]
[1875,{"$f":"IF(INDIRECT(\"CON3_GRAD!D15\")<>\"\",INDIRECT(\"CON3_GRAD!D15\"),\"\")","v":""},"CON3_GRAD","CON3 GRADATION OF EXTRACTED AGGREGATE: Tex-200-F","Sieve Size","","Weight retained, g"]
[1876,{"$f":"IF(INDIRECT(\"CON3_GRAD!D16\")<>\"\",INDIRECT(\"CON3_GRAD!D16\"),\"\")","v":""},"CON3_GRAD","CON3 GRADATION OF EXTRACTED AGGREGATE: Tex-200-F","Sieve Size","","Weight retained, g"]
[1877,{"$f":"IF(INDIRECT(\"CON3_GRAD!D17\")<>\"\",INDIRECT(\"CON3_GRAD!D17\"),\"\")","v":""},"CON3_GRAD","CON3 GRADATION OF EXTRACTED AGGREGATE: Tex-200-F","Sieve Size","","Weight retained, g"]
[1878,{"$f":"IF(INDIRECT(\"CON3_GRAD!D18\")<>\"\",INDIRECT(\"CON3_GRAD!D18\"),\"\")","v":""},"CON3_GRAD","CON3 GRADATION OF EXTRACTED AGGREGATE: Tex-200-F","Sieve Size","","Weight retained, g"]
[1879,{"$f":"IF(INDIRECT(\"CON3_GRAD!D21\")<>\"\",INDIRECT(\"CON3_GRAD!D21\"),\"\")","v":""},"CON3_GRAD","CON3 GRADATION OF EXTRACTED AGGREGATE: Tex-200-F","Sieve Size","Total - #200","Weight retained, g"]
[1880]
[1881,{"$f":"IF(INDIRECT(\"CON3_GRAD!E9\")<>\"\",INDIRECT(\"CON3_GRAD!E9\"),\"\")","v":""},"CON3_GRAD","CON3 GRADATION OF EXTRACTED AGGREGATE: Tex-200-F","Sieve Size",{"$f":"F1859","v":""},"Weight retained, g"]
[1882,{"$f":"IF(INDIRECT(\"CON3_GRAD!E10\")<>\"\",INDIRECT(\"CON3_GRAD!E10\"),\"\")","v":""},"CON3_GRAD","CON3 GRADATION OF EXTRACTED AGGREGATE: Tex-200-F","Sieve Size","","Weight retained, g"]
[1883,{"$f":"IF(INDIRECT(\"CON3_GRAD!E11\")<>\"\",INDIRECT(\"CON3_GRAD!E11\"),\"\")","v":""},"CON3_GRAD","CON3 GRADATION OF EXTRACTED AGGREGATE: Tex-200-F","Sieve Size","","Weight retained, g"]
[1884,{"$f":"IF(INDIRECT(\"CON3_GRAD!E12\")<>\"\",INDIRECT(\"CON3_GRAD!E12\"),\"\")","v":""},"CON3_GRAD","CON3 GRADATION OF EXTRACTED AGGREGATE: Tex-200-F","Sieve Size","","Weight retained, g"]
[1885,{"$f":"IF(INDIRECT(\"CON3_GRAD!E13\")<>\"\",INDIRECT(\"CON3_GRAD!E13\"),\"\")","v":""},"CON3_GRAD","CON3 GRADATION OF EXTRACTED AGGREGATE: Tex-200-F","Sieve Size","","Weight retained, g"]
[1886,{"$f":"IF(INDIRECT(\"CON3_GRAD!E14\")<>\"\",INDIRECT(\"CON3_GRAD!E14\"),\"\")","v":""},"CON3_GRAD","CON3 GRADATION OF EXTRACTED AGGREGATE: Tex-200-F","Sieve Size","","Weight retained, g"]
[1887,{"$f":"IF(INDIRECT(\"CON3_GRAD!E15\")<>\"\",INDIRECT(\"CON3_GRAD!E15\"),\"\")","v":""},"CON3_GRAD","CON3 GRADATION OF EXTRACTED AGGREGATE: Tex-200-F","Sieve Size","","Weight retained, g"]
[1888,{"$f":"IF(INDIRECT(\"CON3_GRAD!E16\")<>\"\",INDIRECT(\"CON3_GRAD!E16\"),\"\")","v":""},"CON3_GRAD","CON3 GRADATION OF EXTRACTED AGGREGATE: Tex-200-F","Sieve Size","","Weight retained, g"]
[1889,{"$f":"IF(INDIRECT(\"CON3_GRAD!E17\")<>\"\",INDIRECT(\"CON3_GRAD!E17\"),\"\")","v":""},"CON3_GRAD","CON3 GRADATION OF EXTRACTED AGGREGATE: Tex-200-F","Sieve Size","","Weight retained, g"]
[1890,{"$f":"IF(INDIRECT(\"CON3_GRAD!E18\")<>\"\",INDIRECT(\"CON3_GRAD!E18\"),\"\")","v":""},"CON3_GRAD","CON3 GRADATION OF EXTRACTED AGGREGATE: Tex-200-F","Sieve Size","","Weight retained, g"]
[1891,{"$f":"IF(INDIRECT(\"CON3_GRAD!E21\")<>\"\",INDIRECT(\"CON3_GRAD!E21\"),\"\")","v":""},"CON3_GRAD","CON3 GRADATION OF EXTRACTED AGGREGATE: Tex-200-F","Sieve Size","Total - #200","Weight retained, g"]
[1892]
[1893,{"$f":"IF(INDIRECT(\"CON3_GRAD!F9\")<>\"\",INDIRECT(\"CON3_GRAD!F9\"),\"\")","v":""},"CON3_GRAD","CON3 GRADATION OF EXTRACTED AGGREGATE: Tex-200-F","Sieve Size",{"$f":"F1859","v":""},"Weight retained, g"]
[1894,{"$f":"IF(INDIRECT(\"CON3_GRAD!F10\")<>\"\",INDIRECT(\"CON3_GRAD!F10\"),\"\")","v":""},"CON3_GRAD","CON3 GRADATION OF EXTRACTED AGGREGATE: Tex-200-F","Sieve Size","","Weight retained, g"]
[1895,{"$f":"IF(INDIRECT(\"CON3_GRAD!F11\")<>\"\",INDIRECT(\"CON3_GRAD!F11\"),\"\")","v":""},"CON3_GRAD","CON3 GRADATION OF EXTRACTED AGGREGATE: Tex-200-F","Sieve Size","","Weight retained, g"]
[1896,{"$f":"IF(INDIRECT(\"CON3_GRAD!F12\")<>\"\",INDIRECT(\"CON3_GRAD!F12\"),\"\")","v":""},"CON3_GRAD","CON3 GRADATION OF EXTRACTED AGGREGATE: Tex-200-F","Sieve Size","","Weight retained, g"]
[1897,{"$f":"IF(INDIRECT(\"CON3_GRAD!F13\")<>\"\",INDIRECT(\"CON3_GRAD!F13\"),\"\")","v":""},"CON3_GRAD","CON3 GRADATION OF EXTRACTED AGGREGATE: Tex-200-F","Sieve Size","","Weight retained, g"]
[1898,{"$f":"IF(INDIRECT(\"CON3_GRAD!F14\")<>\"\",INDIRECT(\"CON3_GRAD!F14\"),\"\")","v":""},"CON3_GRAD","CON3 GRADATION OF EXTRACTED AGGREGATE: Tex-200-F","Sieve Size","","Weight retained, g"]
[1899,{"$f":"IF(INDIRECT(\"CON3_GRAD!F15\")<>\"\",INDIRECT(\"CON3_GRAD!F15\"),\"\")","v":""},"CON3_GRAD","CON3 GRADATION OF EXTRACTED AGGREGATE: Tex-200-F","Sieve Size","","Weight retained, g"]
[1900,{"$f":"IF(INDIRECT(\"CON3_GRAD!F16\")<>\"\",INDIRECT(\"CON3_GRAD!F16\"),\"\")","v":""},"CON3_GRAD","CON3 GRADATION OF EXTRACTED AGGREGATE: Tex-200-F","Sieve Size","","Weight retained, g"]
[1901,{"$f":"IF(INDIRECT(\"CON3_GRAD!F17\")<>\"\",INDIRECT(\"CON3_GRAD!F17\"),\"\")","v":""},"CON3_GRAD","CON3 GRADATION OF EXTRACTED AGGREGATE: Tex-200-F","Sieve Size","","Weight retained, g"]
[1902,{"$f":"IF(INDIRECT(\"CON3_GRAD!F18\")<>\"\",INDIRECT(\"CON3_GRAD!F18\"),\"\")","v":""},"CON3_GRAD","CON3 GRADATION OF EXTRACTED AGGREGATE: Tex-200-F","Sieve Size","","Weight retained, g"]
[1903,{"$f":"IF(INDIRECT(\"CON3_GRAD!F21\")<>\"\",INDIRECT(\"CON3_GRAD!F21\"),\"\")","v":""},"CON3_GRAD","CON3 GRADATION OF EXTRACTED AGGREGATE: Tex-200-F","Sieve Size","Total - #200","Weight retained, g"]
[1904]
[1905,{"$f":"IF(INDIRECT(\"CON3_GRAD!G9\")<>\"\",INDIRECT(\"CON3_GRAD!G9\"),\"\")","v":""},"CON3_GRAD","CON3 GRADATION OF EXTRACTED AGGREGATE: Tex-200-F","Sieve Size",{"$f":"F1859","v":""},"Percent passing, %"]
[1906,{"$f":"IF(INDIRECT(\"CON3_GRAD!G10\")<>\"\",INDIRECT(\"CON3_GRAD!G10\"),\"\")","v":""},"CON3_GRAD","CON3 GRADATION OF EXTRACTED AGGREGATE: Tex-200-F","Sieve Size","","Percent passing, %"]
[1907,{"$f":"IF(INDIRECT(\"CON3_GRAD!G11\")<>\"\",INDIRECT(\"CON3_GRAD!G11\"),\"\")","v":""},"CON3_GRAD","CON3 GRADATION OF EXTRACTED AGGREGATE: Tex-200-F","Sieve Size","","Percent passing, %"]
[1908,{"$f":"IF(INDIRECT(\"CON3_GRAD!G12\")<>\"\",INDIRECT(\"CON3_GRAD!G12\"),\"\")","v":""},"CON3_GRAD","CON3 GRADATION OF EXTRACTED AGGREGATE: Tex-200-F","Sieve Size","","Percent passing, %"]
[1909,{"$f":"IF(INDIRECT(\"CON3_GRAD!G13\")<>\"\",INDIRECT(\"CON3_GRAD!G13\"),\"\")","v":""},"CON3_GRAD","CON3 GRADATION OF EXTRACTED AGGREGATE: Tex-200-F","Sieve Size","","Percent passing, %"]
[1910,{"$f":"IF(INDIRECT(\"CON3_GRAD!G14\")<>\"\",INDIRECT(\"CON3_GRAD!G14\"),\"\")","v":""},"CON3_GRAD","CON3 GRADATION OF EXTRACTED AGGREGATE: Tex-200-F","Sieve Size","","Percent passing, %"]
[1911,{"$f":"IF(INDIRECT(\"CON3_GRAD!G15\")<>\"\",INDIRECT(\"CON3_GRAD!G15\"),\"\")","v":""},"CON3_GRAD","CON3 GRADATION OF EXTRACTED AGGREGATE: Tex-200-F","Sieve Size","","Percent passing, %"]
[1912,{"$f":"IF(INDIRECT(\"CON3_GRAD!G16\")<>\"\",INDIRECT(\"CON3_GRAD!G16\"),\"\")","v":""},"CON3_GRAD","CON3 GRADATION OF EXTRACTED AGGREGATE: Tex-200-F","Sieve Size","","Percent passing, %"]
[1913,{"$f":"IF(INDIRECT(\"CON3_GRAD!G17\")<>\"\",INDIRECT(\"CON3_GRAD!G17\"),\"\")","v":""},"CON3_GRAD","CON3 GRADATION OF EXTRACTED AGGREGATE: Tex-200-F","Sieve Size","","Percent passing, %"]
[1914,{"$f":"IF(INDIRECT(\"CON3_GRAD!G18\")<>\"\",INDIRECT(\"CON3_GRAD!G18\"),\"\")","v":""},"CON3_GRAD","CON3 GRADATION OF EXTRACTED AGGREGATE: Tex-200-F","Sieve Size","","Percent passing, %"]
[1915,{"$f":"IF(INDIRECT(\"CON3_GRAD!G21\")<>\"\",INDIRECT(\"CON3_GRAD!G21\"),\"\")","v":""},"CON3_GRAD","CON3 GRADATION OF EXTRACTED AGGREGATE: Tex-200-F","Sieve Size","Total - #200","Percent passing, %"]
[1916]
[1917,{"$f":"IF(INDIRECT(\"CON3_GRAD!H9\")<>\"\",INDIRECT(\"CON3_GRAD!H9\"),\"\")","v":""},"CON3_GRAD","CON3 GRADATION OF EXTRACTED AGGREGATE: Tex-200-F","Sieve Size",{"$f":"F1859","v":""},"JMF limits","Lower"]
[1918,{"$f":"IF(INDIRECT(\"CON3_GRAD!H10\")<>\"\",INDIRECT(\"CON3_GRAD!H10\"),\"\")","v":""},"CON3_GRAD","CON3 GRADATION OF EXTRACTED AGGREGATE: Tex-200-F","Sieve Size","","JMF limits","Lower"]
[1919,{"$f":"IF(INDIRECT(\"CON3_GRAD!H11\")<>\"\",INDIRECT(\"CON3_GRAD!H11\"),\"\")","v":""},"CON3_GRAD","CON3 GRADATION OF EXTRACTED AGGREGATE: Tex-200-F","Sieve Size","","JMF limits","Lower"]
[1920,{"$f":"IF(INDIRECT(\"CON3_GRAD!H12\")<>\"\",INDIRECT(\"CON3_GRAD!H12\"),\"\")","v":""},"CON3_GRAD","CON3 GRADATION OF EXTRACTED AGGREGATE: Tex-200-F","Sieve Size","","JMF limits","Lower"]
[1921,{"$f":"IF(INDIRECT(\"CON3_GRAD!H13\")<>\"\",INDIRECT(\"CON3_GRAD!H13\"),\"\")","v":""},"CON3_GRAD","CON3 GRADATION OF EXTRACTED AGGREGATE: Tex-200-F","Sieve Size","","JMF limits","Lower"]
[1922,{"$f":"IF(INDIRECT(\"CON3_GRAD!H14\")<>\"\",INDIRECT(\"CON3_GRAD!H14\"),\"\")","v":""},"CON3_GRAD","CON3 GRADATION OF EXTRACTED AGGREGATE: Tex-200-F","Sieve Size","","JMF limits","Lower"]
[1923,{"$f":"IF(INDIRECT(\"CON3_GRAD!H15\")<>\"\",INDIRECT(\"CON3_GRAD!H15\"),\"\")","v":""},"CON3_GRAD","CON3 GRADATION OF EXTRACTED AGGREGATE: Tex-200-F","Sieve Size","","JMF limits","Lower"]
[1924,{"$f":"IF(INDIRECT(\"CON3_GRAD!H16\")<>\"\",INDIRECT(\"CON3_GRAD!H16\"),\"\")","v":""},"CON3_GRAD","CON3 GRADATION OF EXTRACTED AGGREGATE: Tex-200-F","Sieve Size","","JMF limits","Lower"]
[1925,{"$f":"IF(INDIRECT(\"CON3_GRAD!H17\")<>\"\",INDIRECT(\"CON3_GRAD!H17\"),\"\")","v":""},"CON3_GRAD","CON3 GRADATION OF EXTRACTED AGGREGATE: Tex-200-F","Sieve Size","","JMF limits","Lower"]
[1926,{"$f":"IF(INDIRECT(\"CON3_GRAD!H18\")<>\"\",INDIRECT(\"CON3_GRAD!H18\"),\"\")","v":""},"CON3_GRAD","CON3 GRADATION OF EXTRACTED AGGREGATE: Tex-200-F","Sieve Size","","JMF limits","Lower"]
[1927,{"$f":"IF(INDIRECT(\"CON3_GRAD!H21\")<>\"\",INDIRECT(\"CON3_GRAD!H21\"),\"\")","v":""},"CON3_GRAD","CON3 GRADATION OF EXTRACTED AGGREGATE: Tex-200-F","Sieve Size","Total - #200","JMF limits","Lower"]
[1928]
[1929,{"$f":"IF(INDIRECT(\"CON3_GRAD!J9\")<>\"\",INDIRECT(\"CON3_GRAD!J9\"),\"\")","v":""},"CON3_GRAD","CON3 GRADATION OF EXTRACTED AGGREGATE: Tex-200-F","Sieve Size",{"$f":"F1859","v":""},"JMF limits","Upper"]
[1930,{"$f":"IF(INDIRECT(\"CON3_GRAD!J10\")<>\"\",INDIRECT(\"CON3_GRAD!J10\"),\"\")","v":""},"CON3_GRAD","CON3 GRADATION OF EXTRACTED AGGREGATE: Tex-200-F","Sieve Size","","JMF limits","Upper"]
[1931,{"$f":"IF(INDIRECT(\"CON3_GRAD!J11\")<>\"\",INDIRECT(\"CON3_GRAD!J11\"),\"\")","v":""},"CON3_GRAD","CON3 GRADATION OF EXTRACTED AGGREGATE: Tex-200-F","Sieve Size","","JMF limits","Upper"]
[1932,{"$f":"IF(INDIRECT(\"CON3_GRAD!J12\")<>\"\",INDIRECT(\"CON3_GRAD!J12\"),\"\")","v":""},"CON3_GRAD","CON3 GRADATION OF EXTRACTED AGGREGATE: Tex-200-F","Sieve Size","","JMF limits","Upper"]
[1933,{"$f":"IF(INDIRECT(\"CON3_GRAD!J13\")<>\"\",INDIRECT(\"CON3_GRAD!J13\"),\"\")","v":""},"CON3_GRAD","CON3 GRADATION OF EXTRACTED AGGREGATE: Tex-200-F","Sieve Size","","JMF limits","Upper"]
[1934,{"$f":"IF(INDIRECT(\"CON3_GRAD!J14\")<>\"\",INDIRECT(\"CON3_GRAD!J14\"),\"\")","v":""},"CON3_GRAD","CON3 GRADATION OF EXTRACTED AGGREGATE: Tex-200-F","Sieve Size","","JMF limits","Upper"]
[1935,{"$f":"IF(INDIRECT(\"CON3_GRAD!J15\")<>\"\",INDIRECT(\"CON3_GRAD!J15\"),\"\")","v":""},"CON3_GRAD","CON3 GRADATION OF EXTRACTED AGGREGATE: Tex-200-F","Sieve Size","","JMF limits","Upper"]
[1936,{"$f":"IF(INDIRECT(\"CON3_GRAD!J16\")<>\"\",INDIRECT(\"CON3_GRAD!J16\"),\"\")","v":""},"CON3_GRAD","CON3 GRADATION OF EXTRACTED AGGREGATE: Tex-200-F","Sieve Size","","JMF limits","Upper"]
[1937,{"$f":"IF(INDIRECT(\"CON3_GRAD!J17\")<>\"\",INDIRECT(\"CON3_GRAD!J17\"),\"\")","v":""},"CON3_GRAD","CON3 GRADATION OF EXTRACTED AGGREGATE: Tex-200-F","Sieve Size","","JMF limits","Upper"]
[1938,{"$f":"IF(INDIRECT(\"CON3_GRAD!J18\")<>\"\",INDIRECT(\"CON3_GRAD!J18\"),\"\")","v":""},"CON3_GRAD","CON3 GRADATION OF EXTRACTED AGGREGATE: Tex-200-F","Sieve Size","","JMF limits","Upper"]
[1939,{"$f":"IF(INDIRECT(\"CON3_GRAD!J21\")<>\"\",INDIRECT(\"CON3_GRAD!J21\"),\"\")","v":""},"CON3_GRAD","CON3 GRADATION OF EXTRACTED AGGREGATE: Tex-200-F","Sieve Size","Total - #200","JMF limits","Upper"]
[1940]
[1941,{"$f":"IF(INDIRECT(\"CON3_GRAD!L9\")<>\"\",INDIRECT(\"CON3_GRAD!L9\"),\"\")","v":""},"CON3_GRAD","CON3 GRADATION OF EXTRACTED AGGREGATE: Tex-200-F","Sieve Size",{"$f":"F1859","v":""},"TOLERANCES","Gradation"]
[1942,{"$f":"IF(INDIRECT(\"CON3_GRAD!L10\")<>\"\",INDIRECT(\"CON3_GRAD!L10\"),\"\")","v":""},"CON3_GRAD","CON3 GRADATION OF EXTRACTED AGGREGATE: Tex-200-F","Sieve Size","","TOLERANCES","Gradation"]
[1943,{"$f":"IF(INDIRECT(\"CON3_GRAD!L11\")<>\"\",INDIRECT(\"CON3_GRAD!L11\"),\"\")","v":""},"CON3_GRAD","CON3 GRADATION OF EXTRACTED AGGREGATE: Tex-200-F","Sieve Size","","TOLERANCES","Gradation"]
[1944,{"$f":"IF(INDIRECT(\"CON3_GRAD!L12\")<>\"\",INDIRECT(\"CON3_GRAD!L12\"),\"\")","v":""},"CON3_GRAD","CON3 GRADATION OF EXTRACTED AGGREGATE: Tex-200-F","Sieve Size","","TOLERANCES","Gradation"]
[1945,{"$f":"IF(INDIRECT(\"CON3_GRAD!L13\")<>\"\",INDIRECT(\"CON3_GRAD!L13\"),\"\")","v":""},"CON3_GRAD","CON3 GRADATION OF EXTRACTED AGGREGATE: Tex-200-F","Sieve Size","","TOLERANCES","Gradation"]
[1946,{"$f":"IF(INDIRECT(\"CON3_GRAD!L14\")<>\"\",INDIRECT(\"CON3_GRAD!L14\"),\"\")","v":""},"CON3_GRAD","CON3 GRADATION OF EXTRACTED AGGREGATE: Tex-200-F","Sieve Size","","TOLERANCES","Gradation"]
[1947,{"$f":"IF(INDIRECT(\"CON3_GRAD!L15\")<>\"\",INDIRECT(\"CON3_GRAD!L15\"),\"\")","v":""},"CON3_GRAD","CON3 GRADATION OF EXTRACTED AGGREGATE: Tex-200-F","Sieve Size","","TOLERANCES","Gradation"]
[1948,{"$f":"IF(INDIRECT(\"CON3_GRAD!L16\")<>\"\",INDIRECT(\"CON3_GRAD!L16\"),\"\")","v":""},"CON3_GRAD","CON3 GRADATION OF EXTRACTED AGGREGATE: Tex-200-F","Sieve Size","","TOLERANCES","Gradation"]
[1949,{"$f":"IF(INDIRECT(\"CON3_GRAD!L17\")<>\"\",INDIRECT(\"CON3_GRAD!L17\"),\"\")","v":""},"CON3_GRAD","CON3 GRADATION OF EXTRACTED AGGREGATE: Tex-200-F","Sieve Size","","TOLERANCES","Gradation"]
[1950,{"$f":"IF(INDIRECT(\"CON3_GRAD!L18\")<>\"\",INDIRECT(\"CON3_GRAD!L18\"),\"\")","v":""},"CON3_GRAD","CON3 GRADATION OF EXTRACTED AGGREGATE: Tex-200-F","Sieve Size","","TOLERANCES","Gradation"]
[1951,{"$f":"IF(INDIRECT(\"CON3_GRAD!L21\")<>\"\",INDIRECT(\"CON3_GRAD!L21\"),\"\")","v":""},"CON3_GRAD","CON3 GRADATION OF EXTRACTED AGGREGATE: Tex-200-F","Sieve Size","Total - #200","TOLERANCES","Gradation"]
[1952]
[1953,{"$f":"IF(INDIRECT(\"CON3_GRAD!M9\")<>\"\",INDIRECT(\"CON3_GRAD!M9\"),\"\")","v":""},"CON3_GRAD","CON3 GRADATION OF EXTRACTED AGGREGATE: Tex-200-F","Sieve Size",{"$f":"F1859","v":""},"TOLERANCES","Restricted zone"]
[1954,{"$f":"IF(INDIRECT(\"CON3_GRAD!M10\")<>\"\",INDIRECT(\"CON3_GRAD!M10\"),\"\")","v":""},"CON3_GRAD","CON3 GRADATION OF EXTRACTED AGGREGATE: Tex-200-F","Sieve Size","","TOLERANCES","Restricted zone"]
[1955,{"$f":"IF(INDIRECT(\"CON3_GRAD!M11\")<>\"\",INDIRECT(\"CON3_GRAD!M11\"),\"\")","v":""},"CON3_GRAD","CON3 GRADATION OF EXTRACTED AGGREGATE: Tex-200-F","Sieve Size","","TOLERANCES","Restricted zone"]
[1956,{"$f":"IF(INDIRECT(\"CON3_GRAD!M12\")<>\"\",INDIRECT(\"CON3_GRAD!M12\"),\"\")","v":""},"CON3_GRAD","CON3 GRADATION OF EXTRACTED AGGREGATE: Tex-200-F","Sieve Size","","TOLERANCES","Restricted zone"]
[1957,{"$f":"IF(INDIRECT(\"CON3_GRAD!M13\")<>\"\",INDIRECT(\"CON3_GRAD!M13\"),\"\")","v":""},"CON3_GRAD","CON3 GRADATION OF EXTRACTED AGGREGATE: Tex-200-F","Sieve Size","","TOLERANCES","Restricted zone"]
[1958,{"$f":"IF(INDIRECT(\"CON3_GRAD!M14\")<>\"\",INDIRECT(\"CON3_GRAD!M14\"),\"\")","v":""},"CON3_GRAD","CON3 GRADATION OF EXTRACTED AGGREGATE: Tex-200-F","Sieve Size","","TOLERANCES","Restricted zone"]
[1959,{"$f":"IF(INDIRECT(\"CON3_GRAD!M15\")<>\"\",INDIRECT(\"CON3_GRAD!M15\"),\"\")","v":""},"CON3_GRAD","CON3 GRADATION OF EXTRACTED AGGREGATE: Tex-200-F","Sieve Size","","TOLERANCES","Restricted zone"]
[1960,{"$f":"IF(INDIRECT(\"CON3_GRAD!M16\")<>\"\",INDIRECT(\"CON3_GRAD!M16\"),\"\")","v":""},"CON3_GRAD","CON3 GRADATION OF EXTRACTED AGGREGATE: Tex-200-F","Sieve Size","","TOLERANCES","Restricted zone"]
[1961,{"$f":"IF(INDIRECT(\"CON3_GRAD!M17\")<>\"\",INDIRECT(\"CON3_GRAD!M17\"),\"\")","v":""},"CON3_GRAD","CON3 GRADATION OF EXTRACTED AGGREGATE: Tex-200-F","Sieve Size","","TOLERANCES","Restricted zone"]
[1962,{"$f":"IF(INDIRECT(\"CON3_GRAD!M18\")<>\"\",INDIRECT(\"CON3_GRAD!M18\"),\"\")","v":""},"CON3_GRAD","CON3 GRADATION OF EXTRACTED AGGREGATE: Tex-200-F","Sieve Size","","TOLERANCES","Restricted zone"]
[1963,{"$f":"IF(INDIRECT(\"CON3_GRAD!M21\")<>\"\",INDIRECT(\"CON3_GRAD!M21\"),\"\")","v":""},"CON3_GRAD","CON3 GRADATION OF EXTRACTED AGGREGATE: Tex-200-F","Sieve Size","Total - #200","TOLERANCES","Restricted zone"]
[1964]
[1965]
[1966]
[1967]
[1968,{"$f":"IF(INDIRECT(\"CON4_GRAD!G4\")<>\"\",INDIRECT(\"CON4_GRAD!G4\"),\"\")","v":""},"CON4_GRAD","CON4 GRADATION OF EXTRACTED AGGREGATE: Tex-200-F",null,"Ignited sample original dry weight, g:",null,null,null,1149]
[1969,{"$f":"IF(INDIRECT(\"CON4_GRAD!G5\")<>\"\",INDIRECT(\"CON4_GRAD!G5\"),\"\")","v":""},"CON4_GRAD","CON4 GRADATION OF EXTRACTED AGGREGATE: Tex-200-F",null,"Dry weight after washing, g:",null,null,null,1150]
[1970,{"$f":"IF(INDIRECT(\"CON4_GRAD!G6\")<>\"\",INDIRECT(\"CON4_GRAD!G6\"),\"\")","v":""},"CON4_GRAD","CON4 GRADATION OF EXTRACTED AGGREGATE: Tex-200-F",null,"Sieve analysis:",null,null,null,1151]
[1971,{"$f":"IF(INDIRECT(\"CON4_GRAD!C19\")<>\"\",INDIRECT(\"CON4_GRAD!C19\"),\"\")","v":""},"CON4_GRAD","CON4 GRADATION OF EXTRACTED AGGREGATE: Tex-200-F",null,"- #200","Weight retained, g",null,null,1162]
[1972,{"$f":"IF(INDIRECT(\"CON4_GRAD!C22\")<>\"\",INDIRECT(\"CON4_GRAD!C22\"),\"\")","v":""},"CON4_GRAD","CON4 GRADATION OF EXTRACTED AGGREGATE: Tex-200-F",null,"Total weight, g"]
[1973]
[1974,{"$f":"IF(INDIRECT(\"CON4_GRAD!C9\")<>\"\",INDIRECT(\"CON4_GRAD!C9\"),\"\")","v":""},"CON4_GRAD","CON4 GRADATION OF EXTRACTED AGGREGATE: Tex-200-F","Sieve Size",{"$f":"INDIRECT(\"CON4_GRAD!B9\")","v":""},"Weight retained, g",null,null,1152]
[1975,{"$f":"IF(INDIRECT(\"CON4_GRAD!C10\")<>\"\",INDIRECT(\"CON4_GRAD!C10\"),\"\")","v":""},"CON4_GRAD","CON4 GRADATION OF EXTRACTED AGGREGATE: Tex-200-F","Sieve Size",{"$f":"INDIRECT(\"CON4_GRAD!B10\")","v":""},"Weight retained, g",null,null,1153]
[1976,{"$f":"IF(INDIRECT(\"CON4_GRAD!C11\")<>\"\",INDIRECT(\"CON4_GRAD!C11\"),\"\")","v":""},"CON4_GRAD","CON4 GRADATION OF EXTRACTED AGGREGATE: Tex-200-F","Sieve Size",{"$f":"INDIRECT(\"CON4_GRAD!B11\")","v":""},"Weight retained, g",null,null,1154]
[1977,{"$f":"IF(INDIRECT(\"CON4_GRAD!C12\")<>\"\",INDIRECT(\"CON4_GRAD!C12\"),\"\")","v":""},"CON4_GRAD","CON4 GRADATION OF EXTRACTED AGGREGATE: Tex-200-F","Sieve Size",{"$f":"INDIRECT(\"CON4_GRAD!B12\")","v":""},"Weight retained, g",null,null,1155]
[1978,{"$f":"IF(INDIRECT(\"CON4_GRAD!C13\")<>\"\",INDIRECT(\"CON4_GRAD!C13\"),\"\")","v":""},"CON4_GRAD","CON4 GRADATION OF EXTRACTED AGGREGATE: Tex-200-F","Sieve Size",{"$f":"INDIRECT(\"CON4_GRAD!B13\")","v":""},"Weight retained, g",null,null,1156]
[1979,{"$f":"IF(INDIRECT(\"CON4_GRAD!C14\")<>\"\",INDIRECT(\"CON4_GRAD!C14\"),\"\")","v":""},"CON4_GRAD","CON4 GRADATION OF EXTRACTED AGGREGATE: Tex-200-F","Sieve Size",{"$f":"INDIRECT(\"CON4_GRAD!B14\")","v":""},"Weight retained, g",null,null,1157]
[1980,{"$f":"IF(INDIRECT(\"CON4_GRAD!C15\")<>\"\",INDIRECT(\"CON4_GRAD!C15\"),\"\")","v":""},"CON4_GRAD","CON4 GRADATION OF EXTRACTED AGGREGATE: Tex-200-F","Sieve Size",{"$f":"INDIRECT(\"CON4_GRAD!B15\")","v":""},"Weight retained, g",null,null,1158]
[1981,{"$f":"IF(INDIRECT(\"CON4_GRAD!C16\")<>\"\",INDIRECT(\"CON4_GRAD!C16\"),\"\")","v":""},"CON4_GRAD","CON4 GRADATION OF EXTRACTED AGGREGATE: Tex-200-F","Sieve Size",{"$f":"INDIRECT(\"CON4_GRAD!B16\")","v":""},"Weight retained, g",null,null,1159]
[1982,{"$f":"IF(INDIRECT(\"CON4_GRAD!C17\")<>\"\",INDIRECT(\"CON4_GRAD!C17\"),\"\")","v":""},"CON4_GRAD","CON4 GRADATION OF EXTRACTED AGGREGATE: Tex-200-F","Sieve Size",{"$f":"INDIRECT(\"CON4_GRAD!B17\")","v":""},"Weight retained, g",null,null,1160]
[1983,{"$f":"IF(INDIRECT(\"CON4_GRAD!C18\")<>\"\",INDIRECT(\"CON4_GRAD!C18\"),\"\")","v":""},"CON4_GRAD","CON4 GRADATION OF EXTRACTED AGGREGATE: Tex-200-F","Sieve Size",{"$f":"INDIRECT(\"CON4_GRAD!B18\")","v":""},"Weight retained, g",null,null,1161]
[1984,{"$f":"IF(INDIRECT(\"CON4_GRAD!C21\")<>\"\",INDIRECT(\"CON4_GRAD!C21\"),\"\")","v":""},"CON4_GRAD","CON4 GRADATION OF EXTRACTED AGGREGATE: Tex-200-F","Sieve Size","Total - #200","Weight retained, g"]
[1985]
[1986,{"$f":"IF(INDIRECT(\"CON4_GRAD!D9\")<>\"\",INDIRECT(\"CON4_GRAD!D9\"),\"\")","v":""},"CON4_GRAD","CON4 GRADATION OF EXTRACTED AGGREGATE: Tex-200-F","Sieve Size",{"$f":"F1976","v":""},"Weight retained, g"]
[1987,{"$f":"IF(INDIRECT(\"CON4_GRAD!D10\")<>\"\",INDIRECT(\"CON4_GRAD!D10\"),\"\")","v":""},"CON4_GRAD","CON4 GRADATION OF EXTRACTED AGGREGATE: Tex-200-F","Sieve Size","","Weight retained, g"]
[1988,{"$f":"IF(INDIRECT(\"CON4_GRAD!D11\")<>\"\",INDIRECT(\"CON4_GRAD!D11\"),\"\")","v":""},"CON4_GRAD","CON4 GRADATION OF EXTRACTED AGGREGATE: Tex-200-F","Sieve Size","","Weight retained, g"]
[1989,{"$f":"IF(INDIRECT(\"CON4_GRAD!D12\")<>\"\",INDIRECT(\"CON4_GRAD!D12\"),\"\")","v":""},"CON4_GRAD","CON4 GRADATION OF EXTRACTED AGGREGATE: Tex-200-F","Sieve Size","","Weight retained, g"]
[1990,{"$f":"IF(INDIRECT(\"CON4_GRAD!D13\")<>\"\",INDIRECT(\"CON4_GRAD!D13\"),\"\")","v":""},"CON4_GRAD","CON4 GRADATION OF EXTRACTED AGGREGATE: Tex-200-F","Sieve Size","","Weight retained, g"]
[1991,{"$f":"IF(INDIRECT(\"CON4_GRAD!D14\")<>\"\",INDIRECT(\"CON4_GRAD!D14\"),\"\")","v":""},"CON4_GRAD","CON4 GRADATION OF EXTRACTED AGGREGATE: Tex-200-F","Sieve Size","","Weight retained, g"]
[1992,{"$f":"IF(INDIRECT(\"CON4_GRAD!D15\")<>\"\",INDIRECT(\"CON4_GRAD!D15\"),\"\")","v":""},"CON4_GRAD","CON4 GRADATION OF EXTRACTED AGGREGATE: Tex-200-F","Sieve Size","","Weight retained, g"]
[1993,{"$f":"IF(INDIRECT(\"CON4_GRAD!D16\")<>\"\",INDIRECT(\"CON4_GRAD!D16\"),\"\")","v":""},"CON4_GRAD","CON4 GRADATION OF EXTRACTED AGGREGATE: Tex-200-F","Sieve Size","","Weight retained, g"]
[1994,{"$f":"IF(INDIRECT(\"CON4_GRAD!D17\")<>\"\",INDIRECT(\"CON4_GRAD!D17\"),\"\")","v":""},"CON4_GRAD","CON4 GRADATION OF EXTRACTED AGGREGATE: Tex-200-F","Sieve Size","","Weight retained, g"]
[1995,{"$f":"IF(INDIRECT(\"CON4_GRAD!D18\")<>\"\",INDIRECT(\"CON4_GRAD!D18\"),\"\")","v":""},"CON4_GRAD","CON4 GRADATION OF EXTRACTED AGGREGATE: Tex-200-F","Sieve Size","","Weight retained, g"]
[1996,{"$f":"IF(INDIRECT(\"CON4_GRAD!D21\")<>\"\",INDIRECT(\"CON4_GRAD!D21\"),\"\")","v":""},"CON4_GRAD","CON4 GRADATION OF EXTRACTED AGGREGATE: Tex-200-F","Sieve Size","Total - #200","Weight retained, g"]
[1997]
[1998,{"$f":"IF(INDIRECT(\"CON4_GRAD!E9\")<>\"\",INDIRECT(\"CON4_GRAD!E9\"),\"\")","v":""},"CON4_GRAD","CON4 GRADATION OF EXTRACTED AGGREGATE: Tex-200-F","Sieve Size",{"$f":"F1976","v":""},"Weight retained, g"]
[1999,{"$f":"IF(INDIRECT(\"CON4_GRAD!E10\")<>\"\",INDIRECT(\"CON4_GRAD!E10\"),\"\")","v":""},"CON4_GRAD","CON4 GRADATION OF EXTRACTED AGGREGATE: Tex-200-F","Sieve Size","","Weight retained, g"]
[2000,{"$f":"IF(INDIRECT(\"CON4_GRAD!E11\")<>\"\",INDIRECT(\"CON4_GRAD!E11\"),\"\")","v":""},"CON4_GRAD","CON4 GRADATION OF EXTRACTED AGGREGATE: Tex-200-F","Sieve Size","","Weight retained, g"]
[2001,{"$f":"IF(INDIRECT(\"CON4_GRAD!E12\")<>\"\",INDIRECT(\"CON4_GRAD!E12\"),\"\")","v":""},"CON4_GRAD","CON4 GRADATION OF EXTRACTED AGGREGATE: Tex-200-F","Sieve Size","","Weight retained, g"]
[2002,{"$f":"IF(INDIRECT(\"CON4_GRAD!E13\")<>\"\",INDIRECT(\"CON4_GRAD!E13\"),\"\")","v":""},"CON4_GRAD","CON4 GRADATION OF EXTRACTED AGGREGATE: Tex-200-F","Sieve Size","","Weight retained, g"]
[2003,{"$f":"IF(INDIRECT(\"CON4_GRAD!E14\")<>\"\",INDIRECT(\"CON4_GRAD!E14\"),\"\")","v":""},"CON4_GRAD","CON4 GRADATION OF EXTRACTED AGGREGATE: Tex-200-F","Sieve Size","","Weight retained, g"]
[2004,{"$f":"IF(INDIRECT(\"CON4_GRAD!E15\")<>\"\",INDIRECT(\"CON4_GRAD!E15\"),\"\")","v":""},"CON4_GRAD","CON4 GRADATION OF EXTRACTED AGGREGATE: Tex-200-F","Sieve Size","","Weight retained, g"]
[2005,{"$f":"IF(INDIRECT(\"CON4_GRAD!E16\")<>\"\",INDIRECT(\"CON4_GRAD!E16\"),\"\")","v":""},"CON4_GRAD","CON4 GRADATION OF EXTRACTED AGGREGATE: Tex-200-F","Sieve Size","","Weight retained, g"]
[2006,{"$f":"IF(INDIRECT(\"CON4_GRAD!E17\")<>\"\",INDIRECT(\"CON4_GRAD!E17\"),\"\")","v":""},"CON4_GRAD","CON4 GRADATION OF EXTRACTED AGGREGATE: Tex-200-F","Sieve Size","","Weight retained, g"]
[2007,{"$f":"IF(INDIRECT(\"CON4_GRAD!E18\")<>\"\",INDIRECT(\"CON4_GRAD!E18\"),\"\")","v":""},"CON4_GRAD","CON4 GRADATION OF EXTRACTED AGGREGATE: Tex-200-F","Sieve Size","","Weight retained, g"]
[2008,{"$f":"IF(INDIRECT(\"CON4_GRAD!E21\")<>\"\",INDIRECT(\"CON4_GRAD!E21\"),\"\")","v":""},"CON4_GRAD","CON4 GRADATION OF EXTRACTED AGGREGATE: Tex-200-F","Sieve Size","Total - #200","Weight retained, g"]
[2009]
[2010,{"$f":"IF(INDIRECT(\"CON4_GRAD!F9\")<>\"\",INDIRECT(\"CON4_GRAD!F9\"),\"\")","v":""},"CON4_GRAD","CON4 GRADATION OF EXTRACTED AGGREGATE: Tex-200-F","Sieve Size",{"$f":"F1976","v":""},"Weight retained, g"]
[2011,{"$f":"IF(INDIRECT(\"CON4_GRAD!F10\")<>\"\",INDIRECT(\"CON4_GRAD!F10\"),\"\")","v":""},"CON4_GRAD","CON4 GRADATION OF EXTRACTED AGGREGATE: Tex-200-F","Sieve Size","","Weight retained, g"]
[2012,{"$f":"IF(INDIRECT(\"CON4_GRAD!F11\")<>\"\",INDIRECT(\"CON4_GRAD!F11\"),\"\")","v":""},"CON4_GRAD","CON4 GRADATION OF EXTRACTED AGGREGATE: Tex-200-F","Sieve Size","","Weight retained, g"]
[2013,{"$f":"IF(INDIRECT(\"CON4_GRAD!F12\")<>\"\",INDIRECT(\"CON4_GRAD!F12\"),\"\")","v":""},"CON4_GRAD","CON4 GRADATION OF EXTRACTED AGGREGATE: Tex-200-F","Sieve Size","","Weight retained, g"]
[2014,{"$f":"IF(INDIRECT(\"CON4_GRAD!F13\")<>\"\",INDIRECT(\"CON4_GRAD!F13\"),\"\")","v":""},"CON4_GRAD","CON4 GRADATION OF EXTRACTED AGGREGATE: Tex-200-F","Sieve Size","","Weight retained, g"]
[2015,{"$f":"IF(INDIRECT(\"CON4_GRAD!F14\")<>\"\",INDIRECT(\"CON4_GRAD!F14\"),\"\")","v":""},"CON4_GRAD","CON4 GRADATION OF EXTRACTED AGGREGATE: Tex-200-F","Sieve Size","","Weight retained, g"]
[2016,{"$f":"IF(INDIRECT(\"CON4_GRAD!F15\")<>\"\",INDIRECT(\"CON4_GRAD!F15\"),\"\")","v":""},"CON4_GRAD","CON4 GRADATION OF EXTRACTED AGGREGATE: Tex-200-F","Sieve Size","","Weight retained, g"]
[2017,{"$f":"IF(INDIRECT(\"CON4_GRAD!F16\")<>\"\",INDIRECT(\"CON4_GRAD!F16\"),\"\")","v":""},"CON4_GRAD","CON4 GRADATION OF EXTRACTED AGGREGATE: Tex-200-F","Sieve Size","","Weight retained, g"]
[2018,{"$f":"IF(INDIRECT(\"CON4_GRAD!F17\")<>\"\",INDIRECT(\"CON4_GRAD!F17\"),\"\")","v":""},"CON4_GRAD","CON4 GRADATION OF EXTRACTED AGGREGATE: Tex-200-F","Sieve Size","","Weight retained, g"]
[2019,{"$f":"IF(INDIRECT(\"CON4_GRAD!F18\")<>\"\",INDIRECT(\"CON4_GRAD!F18\"),\"\")","v":""},"CON4_GRAD","CON4 GRADATION OF EXTRACTED AGGREGATE: Tex-200-F","Sieve Size","","Weight retained, g"]
[2020,{"$f":"IF(INDIRECT(\"CON4_GRAD!F21\")<>\"\",INDIRECT(\"CON4_GRAD!F21\"),\"\")","v":""},"CON4_GRAD","CON4 GRADATION OF EXTRACTED AGGREGATE: Tex-200-F","Sieve Size","Total - #200","Weight retained, g"]
[2021]
[2022,{"$f":"IF(INDIRECT(\"CON4_GRAD!G9\")<>\"\",INDIRECT(\"CON4_GRAD!G9\"),\"\")","v":""},"CON4_GRAD","CON4 GRADATION OF EXTRACTED AGGREGATE: Tex-200-F","Sieve Size",{"$f":"F1976","v":""},"Percent passing, %"]
[2023,{"$f":"IF(INDIRECT(\"CON4_GRAD!G10\")<>\"\",INDIRECT(\"CON4_GRAD!G10\"),\"\")","v":""},"CON4_GRAD","CON4 GRADATION OF EXTRACTED AGGREGATE: Tex-200-F","Sieve Size","","Percent passing, %"]
[2024,{"$f":"IF(INDIRECT(\"CON4_GRAD!G11\")<>\"\",INDIRECT(\"CON4_GRAD!G11\"),\"\")","v":""},"CON4_GRAD","CON4 GRADATION OF EXTRACTED AGGREGATE: Tex-200-F","Sieve Size","","Percent passing, %"]
[2025,{"$f":"IF(INDIRECT(\"CON4_GRAD!G12\")<>\"\",INDIRECT(\"CON4_GRAD!G12\"),\"\")","v":""},"CON4_GRAD","CON4 GRADATION OF EXTRACTED AGGREGATE: Tex-200-F","Sieve Size","","Percent passing, %"]
[2026,{"$f":"IF(INDIRECT(\"CON4_GRAD!G13\")<>\"\",INDIRECT(\"CON4_GRAD!G13\"),\"\")","v":""},"CON4_GRAD","CON4 GRADATION OF EXTRACTED AGGREGATE: Tex-200-F","Sieve Size","","Percent passing, %"]
[2027,{"$f":"IF(INDIRECT(\"CON4_GRAD!G14\")<>\"\",INDIRECT(\"CON4_GRAD!G14\"),\"\")","v":""},"CON4_GRAD","CON4 GRADATION OF EXTRACTED AGGREGATE: Tex-200-F","Sieve Size","","Percent passing, %"]
[2028,{"$f":"IF(INDIRECT(\"CON4_GRAD!G15\")<>\"\",INDIRECT(\"CON4_GRAD!G15\"),\"\")","v":""},"CON4_GRAD","CON4 GRADATION OF EXTRACTED AGGREGATE: Tex-200-F","Sieve Size","","Percent passing, %"]
[2029,{"$f":"IF(INDIRECT(\"CON4_GRAD!G16\")<>\"\",INDIRECT(\"CON4_GRAD!G16\"),\"\")","v":""},"CON4_GRAD","CON4 GRADATION OF EXTRACTED AGGREGATE: Tex-200-F","Sieve Size","","Percent passing, %"]
[2030,{"$f":"IF(INDIRECT(\"CON4_GRAD!G17\")<>\"\",INDIRECT(\"CON4_GRAD!G17\"),\"\")","v":""},"CON4_GRAD","CON4 GRADATION OF EXTRACTED AGGREGATE: Tex-200-F","Sieve Size","","Percent passing, %"]
[2031,{"$f":"IF(INDIRECT(\"CON4_GRAD!G18\")<>\"\",INDIRECT(\"CON4_GRAD!G18\"),\"\")","v":""},"CON4_GRAD","CON4 GRADATION OF EXTRACTED AGGREGATE: Tex-200-F","Sieve Size","","Percent passing, %"]
[2032,{"$f":"IF(INDIRECT(\"CON4_GRAD!G21\")<>\"\",INDIRECT(\"CON4_GRAD!G21\"),\"\")","v":""},"CON4_GRAD","CON4 GRADATION OF EXTRACTED AGGREGATE: Tex-200-F","Sieve Size","Total - #200","Percent passing, %"]
[2033]
[2034,{"$f":"IF(INDIRECT(\"CON4_GRAD!H9\")<>\"\",INDIRECT(\"CON4_GRAD!H9\"),\"\")","v":""},"CON4_GRAD","CON4 GRADATION OF EXTRACTED AGGREGATE: Tex-200-F","Sieve Size",{"$f":"F1976","v":""},"JMF limits","Lower"]
[2035,{"$f":"IF(INDIRECT(\"CON4_GRAD!H10\")<>\"\",INDIRECT(\"CON4_GRAD!H10\"),\"\")","v":""},"CON4_GRAD","CON4 GRADATION OF EXTRACTED AGGREGATE: Tex-200-F","Sieve Size","","JMF limits","Lower"]
[2036,{"$f":"IF(INDIRECT(\"CON4_GRAD!H11\")<>\"\",INDIRECT(\"CON4_GRAD!H11\"),\"\")","v":""},"CON4_GRAD","CON4 GRADATION OF EXTRACTED AGGREGATE: Tex-200-F","Sieve Size","","JMF limits","Lower"]
[2037,{"$f":"IF(INDIRECT(\"CON4_GRAD!H12\")<>\"\",INDIRECT(\"CON4_GRAD!H12\"),\"\")","v":""},"CON4_GRAD","CON4 GRADATION OF EXTRACTED AGGREGATE: Tex-200-F","Sieve Size","","JMF limits","Lower"]
[2038,{"$f":"IF(INDIRECT(\"CON4_GRAD!H13\")<>\"\",INDIRECT(\"CON4_GRAD!H13\"),\"\")","v":""},"CON4_GRAD","CON4 GRADATION OF EXTRACTED AGGREGATE: Tex-200-F","Sieve Size","","JMF limits","Lower"]
[2039,{"$f":"IF(INDIRECT(\"CON4_GRAD!H14\")<>\"\",INDIRECT(\"CON4_GRAD!H14\"),\"\")","v":""},"CON4_GRAD","CON4 GRADATION OF EXTRACTED AGGREGATE: Tex-200-F","Sieve Size","","JMF limits","Lower"]
[2040,{"$f":"IF(INDIRECT(\"CON4_GRAD!H15\")<>\"\",INDIRECT(\"CON4_GRAD!H15\"),\"\")","v":""},"CON4_GRAD","CON4 GRADATION OF EXTRACTED AGGREGATE: Tex-200-F","Sieve Size","","JMF limits","Lower"]
[2041,{"$f":"IF(INDIRECT(\"CON4_GRAD!H16\")<>\"\",INDIRECT(\"CON4_GRAD!H16\"),\"\")","v":""},"CON4_GRAD","CON4 GRADATION OF EXTRACTED AGGREGATE: Tex-200-F","Sieve Size","","JMF limits","Lower"]
[2042,{"$f":"IF(INDIRECT(\"CON4_GRAD!H17\")<>\"\",INDIRECT(\"CON4_GRAD!H17\"),\"\")","v":""},"CON4_GRAD","CON4 GRADATION OF EXTRACTED AGGREGATE: Tex-200-F","Sieve Size","","JMF limits","Lower"]
[2043,{"$f":"IF(INDIRECT(\"CON4_GRAD!H18\")<>\"\",INDIRECT(\"CON4_GRAD!H18\"),\"\")","v":""},"CON4_GRAD","CON4 GRADATION OF EXTRACTED AGGREGATE: Tex-200-F","Sieve Size","","JMF limits","Lower"]
[2044,{"$f":"IF(INDIRECT(\"CON4_GRAD!H21\")<>\"\",INDIRECT(\"CON4_GRAD!H21\"),\"\")","v":""},"CON4_GRAD","CON4 GRADATION OF EXTRACTED AGGREGATE: Tex-200-F","Sieve Size","Total - #200","JMF limits","Lower"]
[2045]
[2046,{"$f":"IF(INDIRECT(\"CON4_GRAD!J9\")<>\"\",INDIRECT(\"CON4_GRAD!J9\"),\"\")","v":""},"CON4_GRAD","CON4 GRADATION OF EXTRACTED AGGREGATE: Tex-200-F","Sieve Size",{"$f":"F1976","v":""},"JMF limits","Upper"]
[2047,{"$f":"IF(INDIRECT(\"CON4_GRAD!J10\")<>\"\",INDIRECT(\"CON4_GRAD!J10\"),\"\")","v":""},"CON4_GRAD","CON4 GRADATION OF EXTRACTED AGGREGATE: Tex-200-F","Sieve Size","","JMF limits","Upper"]
[2048,{"$f":"IF(INDIRECT(\"CON4_GRAD!J11\")<>\"\",INDIRECT(\"CON4_GRAD!J11\"),\"\")","v":""},"CON4_GRAD","CON4 GRADATION OF EXTRACTED AGGREGATE: Tex-200-F","Sieve Size","","JMF limits","Upper"]
[2049,{"$f":"IF(INDIRECT(\"CON4_GRAD!J12\")<>\"\",INDIRECT(\"CON4_GRAD!J12\"),\"\")","v":""},"CON4_GRAD","CON4 GRADATION OF EXTRACTED AGGREGATE: Tex-200-F","Sieve Size","","JMF limits","Upper"]
[2050,{"$f":"IF(INDIRECT(\"CON4_GRAD!J13\")<>\"\",INDIRECT(\"CON4_GRAD!J13\"),\"\")","v":""},"CON4_GRAD","CON4 GRADATION OF EXTRACTED AGGREGATE: Tex-200-F","Sieve Size","","JMF limits","Upper"]
[2051,{"$f":"IF(INDIRECT(\"CON4_GRAD!J14\")<>\"\",INDIRECT(\"CON4_GRAD!J14\"),\"\")","v":""},"CON4_GRAD","CON4 GRADATION OF EXTRACTED AGGREGATE: Tex-200-F","Sieve Size","","JMF limits","Upper"]
[2052,{"$f":"IF(INDIRECT(\"CON4_GRAD!J15\")<>\"\",INDIRECT(\"CON4_GRAD!J15\"),\"\")","v":""},"CON4_GRAD","CON4 GRADATION OF EXTRACTED AGGREGATE: Tex-200-F","Sieve Size","","JMF limits","Upper"]
[2053,{"$f":"IF(INDIRECT(\"CON4_GRAD!J16\")<>\"\",INDIRECT(\"CON4_GRAD!J16\"),\"\")","v":""},"CON4_GRAD","CON4 GRADATION OF EXTRACTED AGGREGATE: Tex-200-F","Sieve Size","","JMF limits","Upper"]
[2054,{"$f":"IF(INDIRECT(\"CON4_GRAD!J17\")<>\"\",INDIRECT(\"CON4_GRAD!J17\"),\"\")","v":""},"CON4_GRAD","CON4 GRADATION OF EXTRACTED AGGREGATE: Tex-200-F","Sieve Size","","JMF limits","Upper"]
[2055,{"$f":"IF(INDIRECT(\"CON4_GRAD!J18\")<>\"\",INDIRECT(\"CON4_GRAD!J18\"),\"\")","v":""},"CON4_GRAD","CON4 GRADATION OF EXTRACTED AGGREGATE: Tex-200-F","Sieve Size","","JMF limits","Upper"]
[2056,{"$f":"IF(INDIRECT(\"CON4_GRAD!J21\")<>\"\",INDIRECT(\"CON4_GRAD!J21\"),\"\")","v":""},"CON4_GRAD","CON4 GRADATION OF EXTRACTED AGGREGATE: Tex-200-F","Sieve Size","Total - #200","JMF limits","Upper"]
[2057]
[2058,{"$f":"IF(INDIRECT(\"CON4_GRAD!L9\")<>\"\",INDIRECT(\"CON4_GRAD!L9\"),\"\")","v":""},"CON4_GRAD","CON4 GRADATION OF EXTRACTED AGGREGATE: Tex-200-F","Sieve Size",{"$f":"F1976","v":""},"TOLERANCES","Gradation"]
[2059,{"$f":"IF(INDIRECT(\"CON4_GRAD!L10\")<>\"\",INDIRECT(\"CON4_GRAD!L10\"),\"\")","v":""},"CON4_GRAD","CON4 GRADATION OF EXTRACTED AGGREGATE: Tex-200-F","Sieve Size","","TOLERANCES","Gradation"]
[2060,{"$f":"IF(INDIRECT(\"CON4_GRAD!L11\")<>\"\",INDIRECT(\"CON4_GRAD!L11\"),\"\")","v":""},"CON4_GRAD","CON4 GRADATION OF EXTRACTED AGGREGATE: Tex-200-F","Sieve Size","","TOLERANCES","Gradation"]
[2061,{"$f":"IF(INDIRECT(\"CON4_GRAD!L12\")<>\"\",INDIRECT(\"CON4_GRAD!L12\"),\"\")","v":""},"CON4_GRAD","CON4 GRADATION OF EXTRACTED AGGREGATE: Tex-200-F","Sieve Size","","TOLERANCES","Gradation"]
[2062,{"$f":"IF(INDIRECT(\"CON4_GRAD!L13\")<>\"\",INDIRECT(\"CON4_GRAD!L13\"),\"\")","v":""},"CON4_GRAD","CON4 GRADATION OF EXTRACTED AGGREGATE: Tex-200-F","Sieve Size","","TOLERANCES","Gradation"]
[2063,{"$f":"IF(INDIRECT(\"CON4_GRAD!L14\")<>\"\",INDIRECT(\"CON4_GRAD!L14\"),\"\")","v":""},"CON4_GRAD","CON4 GRADATION OF EXTRACTED AGGREGATE: Tex-200-F","Sieve Size","","TOLERANCES","Gradation"]
[2064,{"$f":"IF(INDIRECT(\"CON4_GRAD!L15\")<>\"\",INDIRECT(\"CON4_GRAD!L15\"),\"\")","v":""},"CON4_GRAD","CON4 GRADATION OF EXTRACTED AGGREGATE: Tex-200-F","Sieve Size","","TOLERANCES","Gradation"]
[2065,{"$f":"IF(INDIRECT(\"CON4_GRAD!L16\")<>\"\",INDIRECT(\"CON4_GRAD!L16\"),\"\")","v":""},"CON4_GRAD","CON4 GRADATION OF EXTRACTED AGGREGATE: Tex-200-F","Sieve Size","","TOLERANCES","Gradation"]
[2066,{"$f":"IF(INDIRECT(\"CON4_GRAD!L17\")<>\"\",INDIRECT(\"CON4_GRAD!L17\"),\"\")","v":""},"CON4_GRAD","CON4 GRADATION OF EXTRACTED AGGREGATE: Tex-200-F","Sieve Size","","TOLERANCES","Gradation"]
[2067,{"$f":"IF(INDIRECT(\"CON4_GRAD!L18\")<>\"\",INDIRECT(\"CON4_GRAD!L18\"),\"\")","v":""},"CON4_GRAD","CON4 GRADATION OF EXTRACTED AGGREGATE: Tex-200-F","Sieve Size","","TOLERANCES","Gradation"]
[2068,{"$f":"IF(INDIRECT(\"CON4_GRAD!L21\")<>\"\",INDIRECT(\"CON4_GRAD!L21\"),\"\")","v":""},"CON4_GRAD","CON4 GRADATION OF EXTRACTED AGGREGATE: Tex-200-F","Sieve Size","Total - #200","TOLERANCES","Gradation"]
[2069]
[2070,{"$f":"IF(INDIRECT(\"CON4_GRAD!M9\")<>\"\",INDIRECT(\"CON4_GRAD!M9\"),\"\")","v":""},"CON4_GRAD","CON4 GRADATION OF EXTRACTED AGGREGATE: Tex-200-F","Sieve Size",{"$f":"F1976","v":""},"TOLERANCES","Restricted zone"]
[2071,{"$f":"IF(INDIRECT(\"CON4_GRAD!M10\")<>\"\",INDIRECT(\"CON4_GRAD!M10\"),\"\")","v":""},"CON4_GRAD","CON4 GRADATION OF EXTRACTED AGGREGATE: Tex-200-F","Sieve Size","","TOLERANCES","Restricted zone"]
[2072,{"$f":"IF(INDIRECT(\"CON4_GRAD!M11\")<>\"\",INDIRECT(\"CON4_GRAD!M11\"),\"\")","v":""},"CON4_GRAD","CON4 GRADATION OF EXTRACTED AGGREGATE: Tex-200-F","Sieve Size","","TOLERANCES","Restricted zone"]
[2073,{"$f":"IF(INDIRECT(\"CON4_GRAD!M12\")<>\"\",INDIRECT(\"CON4_GRAD!M12\"),\"\")","v":""},"CON4_GRAD","CON4 GRADATION OF EXTRACTED AGGREGATE: Tex-200-F","Sieve Size","","TOLERANCES","Restricted zone"]
[2074,{"$f":"IF(INDIRECT(\"CON4_GRAD!M13\")<>\"\",INDIRECT(\"CON4_GRAD!M13\"),\"\")","v":""},"CON4_GRAD","CON4 GRADATION OF EXTRACTED AGGREGATE: Tex-200-F","Sieve Size","","TOLERANCES","Restricted zone"]
[2075,{"$f":"IF(INDIRECT(\"CON4_GRAD!M14\")<>\"\",INDIRECT(\"CON4_GRAD!M14\"),\"\")","v":""},"CON4_GRAD","CON4 GRADATION OF EXTRACTED AGGREGATE: Tex-200-F","Sieve Size","","TOLERANCES","Restricted zone"]
[2076,{"$f":"IF(INDIRECT(\"CON4_GRAD!M15\")<>\"\",INDIRECT(\"CON4_GRAD!M15\"),\"\")","v":""},"CON4_GRAD","CON4 GRADATION OF EXTRACTED AGGREGATE: Tex-200-F","Sieve Size","","TOLERANCES","Restricted zone"]
[2077,{"$f":"IF(INDIRECT(\"CON4_GRAD!M16\")<>\"\",INDIRECT(\"CON4_GRAD!M16\"),\"\")","v":""},"CON4_GRAD","CON4 GRADATION OF EXTRACTED AGGREGATE: Tex-200-F","Sieve Size","","TOLERANCES","Restricted zone"]
[2078,{"$f":"IF(INDIRECT(\"CON4_GRAD!M17\")<>\"\",INDIRECT(\"CON4_GRAD!M17\"),\"\")","v":""},"CON4_GRAD","CON4 GRADATION OF EXTRACTED AGGREGATE: Tex-200-F","Sieve Size","","TOLERANCES","Restricted zone"]
[2079,{"$f":"IF(INDIRECT(\"CON4_GRAD!M18\")<>\"\",INDIRECT(\"CON4_GRAD!M18\"),\"\")","v":""},"CON4_GRAD","CON4 GRADATION OF EXTRACTED AGGREGATE: Tex-200-F","Sieve Size","","TOLERANCES","Restricted zone"]
[2080,{"$f":"IF(INDIRECT(\"CON4_GRAD!M21\")<>\"\",INDIRECT(\"CON4_GRAD!M21\"),\"\")","v":""},"CON4_GRAD","CON4 GRADATION OF EXTRACTED AGGREGATE: Tex-200-F","Sieve Size","Total - #200","TOLERANCES","Restricted zone"]
[2081]
[2082]
[2083]
[2084,{"$f":"IF(INDIRECT(\"DOT1_DENSITY!C5\")<>\"\",INDIRECT(\"DOT1_DENSITY!C5\"),\"\")","v":""},"DOT1_DENSITY","DOT1 DETERMINING PROPERTIES OF BITUMINOUS MIXTURES-Tex-207-F","Specimen type:","Laboratory","Specimen number:","1(1)","Specimen radius, mm",470]
[2085,{"$f":"IF(INDIRECT(\"DOT1_DENSITY!C6\")<>\"\",INDIRECT(\"DOT1_DENSITY!C6\"),\"\")","v":""},"DOT1_DENSITY","DOT1 DETERMINING PROPERTIES OF BITUMINOUS MIXTURES-Tex-207-F","Specimen type:","Laboratory","Specimen number:","1(1)","Specimen height",475]
[2086,{"$f":"IF(INDIRECT(\"DOT1_DENSITY!C7\")<>\"\",INDIRECT(\"DOT1_DENSITY!C7\"),\"\")","v":""},"DOT1_DENSITY","DOT1 DETERMINING PROPERTIES OF BITUMINOUS MIXTURES-Tex-207-F","Specimen type:","Laboratory","Specimen number:","1(1)","Trimmed core height, in"]
[2087,{"$f":"IF(INDIRECT(\"DOT1_DENSITY!C8\")<>\"\",INDIRECT(\"DOT1_DENSITY!C8\"),\"\")","v":""},"DOT1_DENSITY","DOT1 DETERMINING PROPERTIES OF BITUMINOUS MIXTURES-Tex-207-F","Specimen type:","Laboratory","Specimen number:","1(1)","Weight of specimen in air, g",482]
[2088,{"$f":"IF(INDIRECT(\"DOT1_DENSITY!C9\")<>\"\",INDIRECT(\"DOT1_DENSITY!C9\"),\"\")","v":""},"DOT1_DENSITY","DOT1 DETERMINING PROPERTIES OF BITUMINOUS MIXTURES-Tex-207-F","Specimen type:","Laboratory","Specimen number:","1(1)","Weight of specimen in water, g",487]
[2089,{"$f":"IF(INDIRECT(\"DOT1_DENSITY!C10\")<>\"\",INDIRECT(\"DOT1_DENSITY!C10\"),\"\")","v":""},"DOT1_DENSITY","DOT1 DETERMINING PROPERTIES OF BITUMINOUS MIXTURES-Tex-207-F","Specimen type:","Laboratory","Specimen number:","1(1)","SSD weight of specimen in air, g",492]
[2090,{"$f":"IF(INDIRECT(\"DOT1_DENSITY!C11\")<>\"\",INDIRECT(\"DOT1_DENSITY!C11\"),\"\")","v":""},"DOT1_DENSITY","DOT1 DETERMINING PROPERTIES OF BITUMINOUS MIXTURES-Tex-207-F","Specimen type:","Laboratory","Specimen number:","1(1)","Volume of specimen"]
[2091,{"$f":"IF(INDIRECT(\"DOT1_DENSITY!C12\")<>\"\",INDIRECT(\"DOT1_DENSITY!C12\"),\"\")","v":""},"DOT1_DENSITY","DOT1 DETERMINING PROPERTIES OF BITUMINOUS MIXTURES-Tex-207-F","Specimen type:","Laboratory","Specimen number:","1(1)","SSD Density"]
[2092,{"$f":"IF(INDIRECT(\"DOT1_DENSITY!C13\")<>\"\",INDIRECT(\"DOT1_DENSITY!C13\"),\"\")","v":""},"DOT1_DENSITY","DOT1 DETERMINING PROPERTIES OF BITUMINOUS MIXTURES-Tex-207-F","Specimen type:","Laboratory","Specimen number:","1(1)","Percent absorption, %"]
[2093,{"$f":"IF(INDIRECT(\"DOT1_DENSITY!C14\")<>\"\",INDIRECT(\"DOT1_DENSITY!C14\"),\"\")","v":""},"DOT1_DENSITY","DOT1 DETERMINING PROPERTIES OF BITUMINOUS MIXTURES-Tex-207-F","Specimen type:","Laboratory","Specimen number:","1(1)","Bag required for Ga"]
[2094,{"$f":"IF(INDIRECT(\"DOT1_DENSITY!C15\")<>\"\",INDIRECT(\"DOT1_DENSITY!C15\"),\"\")","v":""},"DOT1_DENSITY","DOT1 DETERMINING PROPERTIES OF BITUMINOUS MIXTURES-Tex-207-F","Specimen type:","Laboratory","Specimen number:","1(1)","Bag Used for Ga",497]
[2095,{"$f":"IF(INDIRECT(\"DOT1_DENSITY!C17\")<>\"\",INDIRECT(\"DOT1_DENSITY!C17\"),\"\")","v":""},"DOT1_DENSITY","DOT1 DETERMINING PROPERTIES OF BITUMINOUS MIXTURES-Tex-207-F","Specimen type:","Laboratory","Specimen number:","1(1)","Vacuum bag method used",502]
[2096,{"$f":"IF(INDIRECT(\"DOT1_DENSITY!C18\")<>\"\",INDIRECT(\"DOT1_DENSITY!C18\"),\"\")","v":""},"DOT1_DENSITY","DOT1 DETERMINING PROPERTIES OF BITUMINOUS MIXTURES-Tex-207-F","Specimen type:","Laboratory","Specimen number:","1(1)","Weight of specimen in air, g",507]
[2097,{"$f":"IF(INDIRECT(\"DOT1_DENSITY!C19\")<>\"\",INDIRECT(\"DOT1_DENSITY!C19\"),\"\")","v":""},"DOT1_DENSITY","DOT1 DETERMINING PROPERTIES OF BITUMINOUS MIXTURES-Tex-207-F","Specimen type:","Laboratory","Specimen number:","1(1)","Sealed weight of specimen in water, g",512]
[2098,{"$f":"IF(INDIRECT(\"DOT1_DENSITY!C20\")<>\"\",INDIRECT(\"DOT1_DENSITY!C20\"),\"\")","v":""},"DOT1_DENSITY","DOT1 DETERMINING PROPERTIES OF BITUMINOUS MIXTURES-Tex-207-F","Specimen type:","Laboratory","Specimen number:","1(1)","Dry specimen weight after submersion, g",517]
[2099,{"$f":"IF(INDIRECT(\"DOT1_DENSITY!C21\")<>\"\",INDIRECT(\"DOT1_DENSITY!C21\"),\"\")","v":""},"DOT1_DENSITY","DOT1 DETERMINING PROPERTIES OF BITUMINOUS MIXTURES-Tex-207-F","Specimen type:","Laboratory","Specimen number:","1(1)","Weight of vacuum bag(s), g",522]
[2100,{"$f":"IF(INDIRECT(\"DOT1_DENSITY!C22\")<>\"\",INDIRECT(\"DOT1_DENSITY!C22\"),\"\")","v":""},"DOT1_DENSITY","DOT1 DETERMINING PROPERTIES OF BITUMINOUS MIXTURES-Tex-207-F","Specimen type:","Laboratory","Specimen number:","1(1)","Vacuum bag volume correction factor"]
[2101,{"$f":"IF(INDIRECT(\"DOT1_DENSITY!C23\")<>\"\",INDIRECT(\"DOT1_DENSITY!C23\"),\"\")","v":""},"DOT1_DENSITY","DOT1 DETERMINING PROPERTIES OF BITUMINOUS MIXTURES-Tex-207-F","Specimen type:","Laboratory","Specimen number:","1(1)","Vacuum bag density"]
[2102,{"$f":"IF(INDIRECT(\"DOT1_DENSITY!C26\")<>\"\",INDIRECT(\"DOT1_DENSITY!C26\"),\"\")","v":""},"DOT1_DENSITY","DOT1 DETERMINING PROPERTIES OF BITUMINOUS MIXTURES-Tex-207-F","Specimen type:","Laboratory","Specimen number:","1(1)","Bulk specific gravity, Ga"]
[2103,{"$f":"IF(INDIRECT(\"DOT1_DENSITY!C27\")<>\"\",INDIRECT(\"DOT1_DENSITY!C27\"),\"\")","v":""},"DOT1_DENSITY","DOT1 DETERMINING PROPERTIES OF BITUMINOUS MIXTURES-Tex-207-F","Specimen type:","Laboratory","Specimen number:","1(1)","Percent density, %"]
[2104,{"$f":"IF(INDIRECT(\"DOT1_DENSITY!C28\")<>\"\",INDIRECT(\"DOT1_DENSITY!C28\"),\"\")","v":""},"DOT1_DENSITY","DOT1 DETERMINING PROPERTIES OF BITUMINOUS MIXTURES-Tex-207-F","Specimen type:","Laboratory","Specimen number:","1(1)","Percent air voids, %"]
[2105,{"$f":"IF(INDIRECT(\"DOT1_DENSITY!C29\")<>\"\",INDIRECT(\"DOT1_DENSITY!C29\"),\"\")","v":""},"DOT1_DENSITY","DOT1 DETERMINING PROPERTIES OF BITUMINOUS MIXTURES-Tex-207-F","Specimen type:","Laboratory","Specimen number:","1(1)","Percent VMA, %"]
[2106]
[2107,{"$f":"IF(INDIRECT(\"DOT1_DENSITY!D5\")<>\"\",INDIRECT(\"DOT1_DENSITY!D5\"),\"\")","v":""},"DOT1_DENSITY","DOT1 DETERMINING PROPERTIES OF BITUMINOUS MIXTURES-Tex-207-F","Specimen type:","Laboratory","Specimen number:","1(2)","Specimen radius, mm",471]
[2108,{"$f":"IF(INDIRECT(\"DOT1_DENSITY!D6\")<>\"\",INDIRECT(\"DOT1_DENSITY!D6\"),\"\")","v":""},"DOT1_DENSITY","DOT1 DETERMINING PROPERTIES OF BITUMINOUS MIXTURES-Tex-207-F","Specimen type:","Laboratory","Specimen number:","1(2)","Specimen height",476]
[2109,{"$f":"IF(INDIRECT(\"DOT1_DENSITY!D7\")<>\"\",INDIRECT(\"DOT1_DENSITY!D7\"),\"\")","v":""},"DOT1_DENSITY","DOT1 DETERMINING PROPERTIES OF BITUMINOUS MIXTURES-Tex-207-F","Specimen type:","Laboratory","Specimen number:","1(2)","Trimmed core height, in"]
[2110,{"$f":"IF(INDIRECT(\"DOT1_DENSITY!D8\")<>\"\",INDIRECT(\"DOT1_DENSITY!D8\"),\"\")","v":""},"DOT1_DENSITY","DOT1 DETERMINING PROPERTIES OF BITUMINOUS MIXTURES-Tex-207-F","Specimen type:","Laboratory","Specimen number:","1(2)","Weight of specimen in air, g",483]
[2111,{"$f":"IF(INDIRECT(\"DOT1_DENSITY!D9\")<>\"\",INDIRECT(\"DOT1_DENSITY!D9\"),\"\")","v":""},"DOT1_DENSITY","DOT1 DETERMINING PROPERTIES OF BITUMINOUS MIXTURES-Tex-207-F","Specimen type:","Laboratory","Specimen number:","1(2)","Weight of specimen in water, g",488]
[2112,{"$f":"IF(INDIRECT(\"DOT1_DENSITY!D10\")<>\"\",INDIRECT(\"DOT1_DENSITY!D10\"),\"\")","v":""},"DOT1_DENSITY","DOT1 DETERMINING PROPERTIES OF BITUMINOUS MIXTURES-Tex-207-F","Specimen type:","Laboratory","Specimen number:","1(2)","SSD weight of specimen in air, g",493]
[2113,{"$f":"IF(INDIRECT(\"DOT1_DENSITY!D11\")<>\"\",INDIRECT(\"DOT1_DENSITY!D11\"),\"\")","v":""},"DOT1_DENSITY","DOT1 DETERMINING PROPERTIES OF BITUMINOUS MIXTURES-Tex-207-F","Specimen type:","Laboratory","Specimen number:","1(2)","Volume of specimen"]
[2114,{"$f":"IF(INDIRECT(\"DOT1_DENSITY!D12\")<>\"\",INDIRECT(\"DOT1_DENSITY!D12\"),\"\")","v":""},"DOT1_DENSITY","DOT1 DETERMINING PROPERTIES OF BITUMINOUS MIXTURES-Tex-207-F","Specimen type:","Laboratory","Specimen number:","1(2)","SSD Density"]
[2115,{"$f":"IF(INDIRECT(\"DOT1_DENSITY!D13\")<>\"\",INDIRECT(\"DOT1_DENSITY!D13\"),\"\")","v":""},"DOT1_DENSITY","DOT1 DETERMINING PROPERTIES OF BITUMINOUS MIXTURES-Tex-207-F","Specimen type:","Laboratory","Specimen number:","1(2)","Percent absorption, %"]
[2116,{"$f":"IF(INDIRECT(\"DOT1_DENSITY!D14\")<>\"\",INDIRECT(\"DOT1_DENSITY!D14\"),\"\")","v":""},"DOT1_DENSITY","DOT1 DETERMINING PROPERTIES OF BITUMINOUS MIXTURES-Tex-207-F","Specimen type:","Laboratory","Specimen number:","1(2)","Bag required for Ga"]
[2117,{"$f":"IF(INDIRECT(\"DOT1_DENSITY!D15\")<>\"\",INDIRECT(\"DOT1_DENSITY!D15\"),\"\")","v":""},"DOT1_DENSITY","DOT1 DETERMINING PROPERTIES OF BITUMINOUS MIXTURES-Tex-207-F","Specimen type:","Laboratory","Specimen number:","1(2)","Bag Used for Ga",498]
[2118,{"$f":"IF(INDIRECT(\"DOT1_DENSITY!D17\")<>\"\",INDIRECT(\"DOT1_DENSITY!D17\"),\"\")","v":""},"DOT1_DENSITY","DOT1 DETERMINING PROPERTIES OF BITUMINOUS MIXTURES-Tex-207-F","Specimen type:","Laboratory","Specimen number:","1(2)","Vacuum bag method used",503]
[2119,{"$f":"IF(INDIRECT(\"DOT1_DENSITY!D18\")<>\"\",INDIRECT(\"DOT1_DENSITY!D18\"),\"\")","v":""},"DOT1_DENSITY","DOT1 DETERMINING PROPERTIES OF BITUMINOUS MIXTURES-Tex-207-F","Specimen type:","Laboratory","Specimen number:","1(2)","Weight of specimen in air, g",508]
[2120,{"$f":"IF(INDIRECT(\"DOT1_DENSITY!D19\")<>\"\",INDIRECT(\"DOT1_DENSITY!D19\"),\"\")","v":""},"DOT1_DENSITY","DOT1 DETERMINING PROPERTIES OF BITUMINOUS MIXTURES-Tex-207-F","Specimen type:","Laboratory","Specimen number:","1(2)","Sealed weight of specimen in water, g",513]
[2121,{"$f":"IF(INDIRECT(\"DOT1_DENSITY!D20\")<>\"\",INDIRECT(\"DOT1_DENSITY!D20\"),\"\")","v":""},"DOT1_DENSITY","DOT1 DETERMINING PROPERTIES OF BITUMINOUS MIXTURES-Tex-207-F","Specimen type:","Laboratory","Specimen number:","1(2)","Dry specimen weight after submersion, g",518]
[2122,{"$f":"IF(INDIRECT(\"DOT1_DENSITY!D21\")<>\"\",INDIRECT(\"DOT1_DENSITY!D21\"),\"\")","v":""},"DOT1_DENSITY","DOT1 DETERMINING PROPERTIES OF BITUMINOUS MIXTURES-Tex-207-F","Specimen type:","Laboratory","Specimen number:","1(2)","Weight of vacuum bag(s), g",523]
[2123,{"$f":"IF(INDIRECT(\"DOT1_DENSITY!D22\")<>\"\",INDIRECT(\"DOT1_DENSITY!D22\"),\"\")","v":""},"DOT1_DENSITY","DOT1 DETERMINING PROPERTIES OF BITUMINOUS MIXTURES-Tex-207-F","Specimen type:","Laboratory","Specimen number:","1(2)","Vacuum bag volume correction factor"]
[2124,{"$f":"IF(INDIRECT(\"DOT1_DENSITY!D23\")<>\"\",INDIRECT(\"DOT1_DENSITY!D23\"),\"\")","v":""},"DOT1_DENSITY","DOT1 DETERMINING PROPERTIES OF BITUMINOUS MIXTURES-Tex-207-F","Specimen type:","Laboratory","Specimen number:","1(2)","Vacuum bag density"]
[2125,{"$f":"IF(INDIRECT(\"DOT1_DENSITY!D26\")<>\"\",INDIRECT(\"DOT1_DENSITY!D26\"),\"\")","v":""},"DOT1_DENSITY","DOT1 DETERMINING PROPERTIES OF BITUMINOUS MIXTURES-Tex-207-F","Specimen type:","Laboratory","Specimen number:","1(2)","Bulk specific gravity, Ga"]
[2126,{"$f":"IF(INDIRECT(\"DOT1_DENSITY!D27\")<>\"\",INDIRECT(\"DOT1_DENSITY!D27\"),\"\")","v":""},"DOT1_DENSITY","DOT1 DETERMINING PROPERTIES OF BITUMINOUS MIXTURES-Tex-207-F","Specimen type:","Laboratory","Specimen number:","1(2)","Percent density, %"]
[2127,{"$f":"IF(INDIRECT(\"DOT1_DENSITY!D28\")<>\"\",INDIRECT(\"DOT1_DENSITY!D28\"),\"\")","v":""},"DOT1_DENSITY","DOT1 DETERMINING PROPERTIES OF BITUMINOUS MIXTURES-Tex-207-F","Specimen type:","Laboratory","Specimen number:","1(2)","Percent air voids, %"]
[2128,{"$f":"IF(INDIRECT(\"DOT1_DENSITY!D29\")<>\"\",INDIRECT(\"DOT1_DENSITY!D29\"),\"\")","v":""},"DOT1_DENSITY","DOT1 DETERMINING PROPERTIES OF BITUMINOUS MIXTURES-Tex-207-F","Specimen type:","Laboratory","Specimen number:","1(2)","Percent VMA, %"]
[2129]
[2130,{"$f":"IF(INDIRECT(\"DOT1_DENSITY!E5\")<>\"\",INDIRECT(\"DOT1_DENSITY!E5\"),\"\")","v":""},"DOT1_DENSITY","DOT1 DETERMINING PROPERTIES OF BITUMINOUS MIXTURES-Tex-207-F","Specimen type:","Laboratory","Specimen number:","1(3)","Specimen radius, mm",472]
[2131,{"$f":"IF(INDIRECT(\"DOT1_DENSITY!E6\")<>\"\",INDIRECT(\"DOT1_DENSITY!E6\"),\"\")","v":""},"DOT1_DENSITY","DOT1 DETERMINING PROPERTIES OF BITUMINOUS MIXTURES-Tex-207-F","Specimen type:","Laboratory","Specimen number:","1(3)","Specimen height",477]
[2132,{"$f":"IF(INDIRECT(\"DOT1_DENSITY!E7\")<>\"\",INDIRECT(\"DOT1_DENSITY!E7\"),\"\")","v":""},"DOT1_DENSITY","DOT1 DETERMINING PROPERTIES OF BITUMINOUS MIXTURES-Tex-207-F","Specimen type:","Laboratory","Specimen number:","1(3)","Trimmed core height, in"]
[2133,{"$f":"IF(INDIRECT(\"DOT1_DENSITY!E8\")<>\"\",INDIRECT(\"DOT1_DENSITY!E8\"),\"\")","v":""},"DOT1_DENSITY","DOT1 DETERMINING PROPERTIES OF BITUMINOUS MIXTURES-Tex-207-F","Specimen type:","Laboratory","Specimen number:","1(3)","Weight of specimen in air, g",484]
[2134,{"$f":"IF(INDIRECT(\"DOT1_DENSITY!E9\")<>\"\",INDIRECT(\"DOT1_DENSITY!E9\"),\"\")","v":""},"DOT1_DENSITY","DOT1 DETERMINING PROPERTIES OF BITUMINOUS MIXTURES-Tex-207-F","Specimen type:","Laboratory","Specimen number:","1(3)","Weight of specimen in water, g",489]
[2135,{"$f":"IF(INDIRECT(\"DOT1_DENSITY!E10\")<>\"\",INDIRECT(\"DOT1_DENSITY!E10\"),\"\")","v":""},"DOT1_DENSITY","DOT1 DETERMINING PROPERTIES OF BITUMINOUS MIXTURES-Tex-207-F","Specimen type:","Laboratory","Specimen number:","1(3)","SSD weight of specimen in air, g",494]
[2136,{"$f":"IF(INDIRECT(\"DOT1_DENSITY!E11\")<>\"\",INDIRECT(\"DOT1_DENSITY!E11\"),\"\")","v":""},"DOT1_DENSITY","DOT1 DETERMINING PROPERTIES OF BITUMINOUS MIXTURES-Tex-207-F","Specimen type:","Laboratory","Specimen number:","1(3)","Volume of specimen"]
[2137,{"$f":"IF(INDIRECT(\"DOT1_DENSITY!E12\")<>\"\",INDIRECT(\"DOT1_DENSITY!E12\"),\"\")","v":""},"DOT1_DENSITY","DOT1 DETERMINING PROPERTIES OF BITUMINOUS MIXTURES-Tex-207-F","Specimen type:","Laboratory","Specimen number:","1(3)","SSD Density"]
[2138,{"$f":"IF(INDIRECT(\"DOT1_DENSITY!E13\")<>\"\",INDIRECT(\"DOT1_DENSITY!E13\"),\"\")","v":""},"DOT1_DENSITY","DOT1 DETERMINING PROPERTIES OF BITUMINOUS MIXTURES-Tex-207-F","Specimen type:","Laboratory","Specimen number:","1(3)","Percent absorption, %"]
[2139,{"$f":"IF(INDIRECT(\"DOT1_DENSITY!E14\")<>\"\",INDIRECT(\"DOT1_DENSITY!E14\"),\"\")","v":""},"DOT1_DENSITY","DOT1 DETERMINING PROPERTIES OF BITUMINOUS MIXTURES-Tex-207-F","Specimen type:","Laboratory","Specimen number:","1(3)","Bag required for Ga"]
[2140,{"$f":"IF(INDIRECT(\"DOT1_DENSITY!E15\")<>\"\",INDIRECT(\"DOT1_DENSITY!E15\"),\"\")","v":""},"DOT1_DENSITY","DOT1 DETERMINING PROPERTIES OF BITUMINOUS MIXTURES-Tex-207-F","Specimen type:","Laboratory","Specimen number:","1(3)","Bag Used for Ga",499]
[2141,{"$f":"IF(INDIRECT(\"DOT1_DENSITY!E17\")<>\"\",INDIRECT(\"DOT1_DENSITY!E17\"),\"\")","v":""},"DOT1_DENSITY","DOT1 DETERMINING PROPERTIES OF BITUMINOUS MIXTURES-Tex-207-F","Specimen type:","Laboratory","Specimen number:","1(3)","Vacuum bag method used",504]
[2142,{"$f":"IF(INDIRECT(\"DOT1_DENSITY!E18\")<>\"\",INDIRECT(\"DOT1_DENSITY!E18\"),\"\")","v":""},"DOT1_DENSITY","DOT1 DETERMINING PROPERTIES OF BITUMINOUS MIXTURES-Tex-207-F","Specimen type:","Laboratory","Specimen number:","1(3)","Weight of specimen in air, g",509]
[2143,{"$f":"IF(INDIRECT(\"DOT1_DENSITY!E19\")<>\"\",INDIRECT(\"DOT1_DENSITY!E19\"),\"\")","v":""},"DOT1_DENSITY","DOT1 DETERMINING PROPERTIES OF BITUMINOUS MIXTURES-Tex-207-F","Specimen type:","Laboratory","Specimen number:","1(3)","Sealed weight of specimen in water, g",514]
[2144,{"$f":"IF(INDIRECT(\"DOT1_DENSITY!E20\")<>\"\",INDIRECT(\"DOT1_DENSITY!E20\"),\"\")","v":""},"DOT1_DENSITY","DOT1 DETERMINING PROPERTIES OF BITUMINOUS MIXTURES-Tex-207-F","Specimen type:","Laboratory","Specimen number:","1(3)","Dry specimen weight after submersion, g",519]
[2145,{"$f":"IF(INDIRECT(\"DOT1_DENSITY!E21\")<>\"\",INDIRECT(\"DOT1_DENSITY!E21\"),\"\")","v":""},"DOT1_DENSITY","DOT1 DETERMINING PROPERTIES OF BITUMINOUS MIXTURES-Tex-207-F","Specimen type:","Laboratory","Specimen number:","1(3)","Weight of vacuum bag(s), g",524]
[2146,{"$f":"IF(INDIRECT(\"DOT1_DENSITY!E22\")<>\"\",INDIRECT(\"DOT1_DENSITY!E22\"),\"\")","v":""},"DOT1_DENSITY","DOT1 DETERMINING PROPERTIES OF BITUMINOUS MIXTURES-Tex-207-F","Specimen type:","Laboratory","Specimen number:","1(3)","Vacuum bag volume correction factor"]
[2147,{"$f":"IF(INDIRECT(\"DOT1_DENSITY!E23\")<>\"\",INDIRECT(\"DOT1_DENSITY!E23\"),\"\")","v":""},"DOT1_DENSITY","DOT1 DETERMINING PROPERTIES OF BITUMINOUS MIXTURES-Tex-207-F","Specimen type:","Laboratory","Specimen number:","1(3)","Vacuum bag density"]
[2148,{"$f":"IF(INDIRECT(\"DOT1_DENSITY!E26\")<>\"\",INDIRECT(\"DOT1_DENSITY!E26\"),\"\")","v":""},"DOT1_DENSITY","DOT1 DETERMINING PROPERTIES OF BITUMINOUS MIXTURES-Tex-207-F","Specimen type:","Laboratory","Specimen number:","1(3)","Bulk specific gravity, Ga"]
[2149,{"$f":"IF(INDIRECT(\"DOT1_DENSITY!E27\")<>\"\",INDIRECT(\"DOT1_DENSITY!E27\"),\"\")","v":""},"DOT1_DENSITY","DOT1 DETERMINING PROPERTIES OF BITUMINOUS MIXTURES-Tex-207-F","Specimen type:","Laboratory","Specimen number:","1(3)","Percent density, %"]
[2150,{"$f":"IF(INDIRECT(\"DOT1_DENSITY!E28\")<>\"\",INDIRECT(\"DOT1_DENSITY!E28\"),\"\")","v":""},"DOT1_DENSITY","DOT1 DETERMINING PROPERTIES OF BITUMINOUS MIXTURES-Tex-207-F","Specimen type:","Laboratory","Specimen number:","1(3)","Percent air voids, %"]
[2151,{"$f":"IF(INDIRECT(\"DOT1_DENSITY!E29\")<>\"\",INDIRECT(\"DOT1_DENSITY!E29\"),\"\")","v":""},"DOT1_DENSITY","DOT1 DETERMINING PROPERTIES OF BITUMINOUS MIXTURES-Tex-207-F","Specimen type:","Laboratory","Specimen number:","1(3)","Percent VMA, %"]
[2152]
[2153,{"$f":"IF(INDIRECT(\"DOT1_DENSITY!F5\")<>\"\",INDIRECT(\"DOT1_DENSITY!F5\"),\"\")","v":""},"DOT1_DENSITY","DOT1 DETERMINING PROPERTIES OF BITUMINOUS MIXTURES-Tex-207-F","Specimen type:","Roadway","Specimen number:","1(A)","Specimen radius, mm",473]
[2154,{"$f":"IF(INDIRECT(\"DOT1_DENSITY!F6\")<>\"\",INDIRECT(\"DOT1_DENSITY!F6\"),\"\")","v":""},"DOT1_DENSITY","DOT1 DETERMINING PROPERTIES OF BITUMINOUS MIXTURES-Tex-207-F","Specimen type:","Roadway","Specimen number:","1(A)","Specimen height",478]
[2155,{"$f":"IF(INDIRECT(\"DOT1_DENSITY!F7\")<>\"\",INDIRECT(\"DOT1_DENSITY!F7\"),\"\")","v":""},"DOT1_DENSITY","DOT1 DETERMINING PROPERTIES OF BITUMINOUS MIXTURES-Tex-207-F","Specimen type:","Roadway","Specimen number:","1(A)","Trimmed core height, in",481]
[2156,{"$f":"IF(INDIRECT(\"DOT1_DENSITY!F8\")<>\"\",INDIRECT(\"DOT1_DENSITY!F8\"),\"\")","v":""},"DOT1_DENSITY","DOT1 DETERMINING PROPERTIES OF BITUMINOUS MIXTURES-Tex-207-F","Specimen type:","Roadway","Specimen number:","1(A)","Weight of specimen in air, g",485]
[2157,{"$f":"IF(INDIRECT(\"DOT1_DENSITY!F9\")<>\"\",INDIRECT(\"DOT1_DENSITY!F9\"),\"\")","v":""},"DOT1_DENSITY","DOT1 DETERMINING PROPERTIES OF BITUMINOUS MIXTURES-Tex-207-F","Specimen type:","Roadway","Specimen number:","1(A)","Weight of specimen in water, g",490]
[2158,{"$f":"IF(INDIRECT(\"DOT1_DENSITY!F10\")<>\"\",INDIRECT(\"DOT1_DENSITY!F10\"),\"\")","v":""},"DOT1_DENSITY","DOT1 DETERMINING PROPERTIES OF BITUMINOUS MIXTURES-Tex-207-F","Specimen type:","Roadway","Specimen number:","1(A)","SSD weight of specimen in air, g",495]
[2159,{"$f":"IF(INDIRECT(\"DOT1_DENSITY!F11\")<>\"\",INDIRECT(\"DOT1_DENSITY!F11\"),\"\")","v":""},"DOT1_DENSITY","DOT1 DETERMINING PROPERTIES OF BITUMINOUS MIXTURES-Tex-207-F","Specimen type:","Roadway","Specimen number:","1(A)","Volume of specimen"]
[2160,{"$f":"IF(INDIRECT(\"DOT1_DENSITY!F12\")<>\"\",INDIRECT(\"DOT1_DENSITY!F12\"),\"\")","v":""},"DOT1_DENSITY","DOT1 DETERMINING PROPERTIES OF BITUMINOUS MIXTURES-Tex-207-F","Specimen type:","Roadway","Specimen number:","1(A)","SSD Density"]
[2161,{"$f":"IF(INDIRECT(\"DOT1_DENSITY!F13\")<>\"\",INDIRECT(\"DOT1_DENSITY!F13\"),\"\")","v":""},"DOT1_DENSITY","DOT1 DETERMINING PROPERTIES OF BITUMINOUS MIXTURES-Tex-207-F","Specimen type:","Roadway","Specimen number:","1(A)","Percent absorption, %"]
[2162,{"$f":"IF(INDIRECT(\"DOT1_DENSITY!F14\")<>\"\",INDIRECT(\"DOT1_DENSITY!F14\"),\"\")","v":""},"DOT1_DENSITY","DOT1 DETERMINING PROPERTIES OF BITUMINOUS MIXTURES-Tex-207-F","Specimen type:","Roadway","Specimen number:","1(A)","Bag required for Ga"]
[2163,{"$f":"IF(INDIRECT(\"DOT1_DENSITY!F15\")<>\"\",INDIRECT(\"DOT1_DENSITY!F15\"),\"\")","v":""},"DOT1_DENSITY","DOT1 DETERMINING PROPERTIES OF BITUMINOUS MIXTURES-Tex-207-F","Specimen type:","Roadway","Specimen number:","1(A)","Bag Used for Ga",500]
[2164,{"$f":"IF(INDIRECT(\"DOT1_DENSITY!F17\")<>\"\",INDIRECT(\"DOT1_DENSITY!F17\"),\"\")","v":""},"DOT1_DENSITY","DOT1 DETERMINING PROPERTIES OF BITUMINOUS MIXTURES-Tex-207-F","Specimen type:","Roadway","Specimen number:","1(A)","Vacuum bag method used",505]
[2165,{"$f":"IF(INDIRECT(\"DOT1_DENSITY!F18\")<>\"\",INDIRECT(\"DOT1_DENSITY!F18\"),\"\")","v":""},"DOT1_DENSITY","DOT1 DETERMINING PROPERTIES OF BITUMINOUS MIXTURES-Tex-207-F","Specimen type:","Roadway","Specimen number:","1(A)","Weight of specimen in air, g",510]
[2166,{"$f":"IF(INDIRECT(\"DOT1_DENSITY!F19\")<>\"\",INDIRECT(\"DOT1_DENSITY!F19\"),\"\")","v":""},"DOT1_DENSITY","DOT1 DETERMINING PROPERTIES OF BITUMINOUS MIXTURES-Tex-207-F","Specimen type:","Roadway","Specimen number:","1(A)","Sealed weight of specimen in water, g",515]
[2167,{"$f":"IF(INDIRECT(\"DOT1_DENSITY!F20\")<>\"\",INDIRECT(\"DOT1_DENSITY!F20\"),\"\")","v":""},"DOT1_DENSITY","DOT1 DETERMINING PROPERTIES OF BITUMINOUS MIXTURES-Tex-207-F","Specimen type:","Roadway","Specimen number:","1(A)","Dry specimen weight after submersion, g",520]
[2168,{"$f":"IF(INDIRECT(\"DOT1_DENSITY!F21\")<>\"\",INDIRECT(\"DOT1_DENSITY!F21\"),\"\")","v":""},"DOT1_DENSITY","DOT1 DETERMINING PROPERTIES OF BITUMINOUS MIXTURES-Tex-207-F","Specimen type:","Roadway","Specimen number:","1(A)","Weight of vacuum bag(s), g",525]
[2169,{"$f":"IF(INDIRECT(\"DOT1_DENSITY!F22\")<>\"\",INDIRECT(\"DOT1_DENSITY!F22\"),\"\")","v":""},"DOT1_DENSITY","DOT1 DETERMINING PROPERTIES OF BITUMINOUS MIXTURES-Tex-207-F","Specimen type:","Roadway","Specimen number:","1(A)","Vacuum bag volume correction factor"]
[2170,{"$f":"IF(INDIRECT(\"DOT1_DENSITY!F23\")<>\"\",INDIRECT(\"DOT1_DENSITY!F23\"),\"\")","v":""},"DOT1_DENSITY","DOT1 DETERMINING PROPERTIES OF BITUMINOUS MIXTURES-Tex-207-F","Specimen type:","Roadway","Specimen number:","1(A)","Vacuum bag density"]
[2171,{"$f":"IF(INDIRECT(\"DOT1_DENSITY!F26\")<>\"\",INDIRECT(\"DOT1_DENSITY!F26\"),\"\")","v":""},"DOT1_DENSITY","DOT1 DETERMINING PROPERTIES OF BITUMINOUS MIXTURES-Tex-207-F","Specimen type:","Roadway","Specimen number:","1(A)","Bulk specific gravity, Ga"]
[2172,{"$f":"IF(INDIRECT(\"DOT1_DENSITY!F27\")<>\"\",INDIRECT(\"DOT1_DENSITY!F27\"),\"\")","v":""},"DOT1_DENSITY","DOT1 DETERMINING PROPERTIES OF BITUMINOUS MIXTURES-Tex-207-F","Specimen type:","Roadway","Specimen number:","1(A)","Percent density, %"]
[2173,{"$f":"IF(INDIRECT(\"DOT1_DENSITY!F28\")<>\"\",INDIRECT(\"DOT1_DENSITY!F28\"),\"\")","v":""},"DOT1_DENSITY","DOT1 DETERMINING PROPERTIES OF BITUMINOUS MIXTURES-Tex-207-F","Specimen type:","Roadway","Specimen number:","1(A)","Percent air voids, %"]
[2174,{"$f":"IF(INDIRECT(\"DOT1_DENSITY!F29\")<>\"\",INDIRECT(\"DOT1_DENSITY!F29\"),\"\")","v":""},"DOT1_DENSITY","DOT1 DETERMINING PROPERTIES OF BITUMINOUS MIXTURES-Tex-207-F","Specimen type:","Roadway","Specimen number:","1(A)","Percent VMA, %"]
[2175]
[2176,{"$f":"IF(INDIRECT(\"DOT1_DENSITY!G5\")<>\"\",INDIRECT(\"DOT1_DENSITY!G5\"),\"\")","v":""},"DOT1_DENSITY","DOT1 DETERMINING PROPERTIES OF BITUMINOUS MIXTURES-Tex-207-F","Specimen type:","Roadway","Specimen number:","1(B)","Specimen radius, mm",474]
[2177,{"$f":"IF(INDIRECT(\"DOT1_DENSITY!G6\")<>\"\",INDIRECT(\"DOT1_DENSITY!G6\"),\"\")","v":""},"DOT1_DENSITY","DOT1 DETERMINING PROPERTIES OF BITUMINOUS MIXTURES-Tex-207-F","Specimen type:","Roadway","Specimen number:","1(B)","Specimen height",479]
[2178,{"$f":"IF(INDIRECT(\"DOT1_DENSITY!G7\")<>\"\",INDIRECT(\"DOT1_DENSITY!G7\"),\"\")","v":""},"DOT1_DENSITY","DOT1 DETERMINING PROPERTIES OF BITUMINOUS MIXTURES-Tex-207-F","Specimen type:","Roadway","Specimen number:","1(B)","Trimmed core height, in",482]
[2179,{"$f":"IF(INDIRECT(\"DOT1_DENSITY!G8\")<>\"\",INDIRECT(\"DOT1_DENSITY!G8\"),\"\")","v":""},"DOT1_DENSITY","DOT1 DETERMINING PROPERTIES OF BITUMINOUS MIXTURES-Tex-207-F","Specimen type:","Roadway","Specimen number:","1(B)","Weight of specimen in air, g",486]
[2180,{"$f":"IF(INDIRECT(\"DOT1_DENSITY!G9\")<>\"\",INDIRECT(\"DOT1_DENSITY!G9\"),\"\")","v":""},"DOT1_DENSITY","DOT1 DETERMINING PROPERTIES OF BITUMINOUS MIXTURES-Tex-207-F","Specimen type:","Roadway","Specimen number:","1(B)","Weight of specimen in water, g",491]
[2181,{"$f":"IF(INDIRECT(\"DOT1_DENSITY!G10\")<>\"\",INDIRECT(\"DOT1_DENSITY!G10\"),\"\")","v":""},"DOT1_DENSITY","DOT1 DETERMINING PROPERTIES OF BITUMINOUS MIXTURES-Tex-207-F","Specimen type:","Roadway","Specimen number:","1(B)","SSD weight of specimen in air, g",496]
[2182,{"$f":"IF(INDIRECT(\"DOT1_DENSITY!G11\")<>\"\",INDIRECT(\"DOT1_DENSITY!G11\"),\"\")","v":""},"DOT1_DENSITY","DOT1 DETERMINING PROPERTIES OF BITUMINOUS MIXTURES-Tex-207-F","Specimen type:","Roadway","Specimen number:","1(B)","Volume of specimen"]
[2183,{"$f":"IF(INDIRECT(\"DOT1_DENSITY!G12\")<>\"\",INDIRECT(\"DOT1_DENSITY!G12\"),\"\")","v":""},"DOT1_DENSITY","DOT1 DETERMINING PROPERTIES OF BITUMINOUS MIXTURES-Tex-207-F","Specimen type:","Roadway","Specimen number:","1(B)","SSD Density"]
[2184,{"$f":"IF(INDIRECT(\"DOT1_DENSITY!G13\")<>\"\",INDIRECT(\"DOT1_DENSITY!G13\"),\"\")","v":""},"DOT1_DENSITY","DOT1 DETERMINING PROPERTIES OF BITUMINOUS MIXTURES-Tex-207-F","Specimen type:","Roadway","Specimen number:","1(B)","Percent absorption, %"]
[2185,{"$f":"IF(INDIRECT(\"DOT1_DENSITY!G14\")<>\"\",INDIRECT(\"DOT1_DENSITY!G14\"),\"\")","v":""},"DOT1_DENSITY","DOT1 DETERMINING PROPERTIES OF BITUMINOUS MIXTURES-Tex-207-F","Specimen type:","Roadway","Specimen number:","1(B)","Bag required for Ga"]
[2186,{"$f":"IF(INDIRECT(\"DOT1_DENSITY!G15\")<>\"\",INDIRECT(\"DOT1_DENSITY!G15\"),\"\")","v":""},"DOT1_DENSITY","DOT1 DETERMINING PROPERTIES OF BITUMINOUS MIXTURES-Tex-207-F","Specimen type:","Roadway","Specimen number:","1(B)","Bag Used for Ga",501]
[2187,{"$f":"IF(INDIRECT(\"DOT1_DENSITY!G17\")<>\"\",INDIRECT(\"DOT1_DENSITY!G17\"),\"\")","v":""},"DOT1_DENSITY","DOT1 DETERMINING PROPERTIES OF BITUMINOUS MIXTURES-Tex-207-F","Specimen type:","Roadway","Specimen number:","1(B)","Vacuum bag method used",506]
[2188,{"$f":"IF(INDIRECT(\"DOT1_DENSITY!G18\")<>\"\",INDIRECT(\"DOT1_DENSITY!G18\"),\"\")","v":""},"DOT1_DENSITY","DOT1 DETERMINING PROPERTIES OF BITUMINOUS MIXTURES-Tex-207-F","Specimen type:","Roadway","Specimen number:","1(B)","Weight of specimen in air, g",511]
[2189,{"$f":"IF(INDIRECT(\"DOT1_DENSITY!G19\")<>\"\",INDIRECT(\"DOT1_DENSITY!G19\"),\"\")","v":""},"DOT1_DENSITY","DOT1 DETERMINING PROPERTIES OF BITUMINOUS MIXTURES-Tex-207-F","Specimen type:","Roadway","Specimen number:","1(B)","Sealed weight of specimen in water, g",516]
[2190,{"$f":"IF(INDIRECT(\"DOT1_DENSITY!G20\")<>\"\",INDIRECT(\"DOT1_DENSITY!G20\"),\"\")","v":""},"DOT1_DENSITY","DOT1 DETERMINING PROPERTIES OF BITUMINOUS MIXTURES-Tex-207-F","Specimen type:","Roadway","Specimen number:","1(B)","Dry specimen weight after submersion, g",521]
[2191,{"$f":"IF(INDIRECT(\"DOT1_DENSITY!G21\")<>\"\",INDIRECT(\"DOT1_DENSITY!G21\"),\"\")","v":""},"DOT1_DENSITY","DOT1 DETERMINING PROPERTIES OF BITUMINOUS MIXTURES-Tex-207-F","Specimen type:","Roadway","Specimen number:","1(B)","Weight of vacuum bag(s), g",526]
[2192,{"$f":"IF(INDIRECT(\"DOT1_DENSITY!G22\")<>\"\",INDIRECT(\"DOT1_DENSITY!G22\"),\"\")","v":""},"DOT1_DENSITY","DOT1 DETERMINING PROPERTIES OF BITUMINOUS MIXTURES-Tex-207-F","Specimen type:","Roadway","Specimen number:","1(B)","Vacuum bag volume correction factor"]
[2193,{"$f":"IF(INDIRECT(\"DOT1_DENSITY!G23\")<>\"\",INDIRECT(\"DOT1_DENSITY!G23\"),\"\")","v":""},"DOT1_DENSITY","DOT1 DETERMINING PROPERTIES OF BITUMINOUS MIXTURES-Tex-207-F","Specimen type:","Roadway","Specimen number:","1(B)","Vacuum bag density"]
[2194,{"$f":"IF(INDIRECT(\"DOT1_DENSITY!G26\")<>\"\",INDIRECT(\"DOT1_DENSITY!G26\"),\"\")","v":""},"DOT1_DENSITY","DOT1 DETERMINING PROPERTIES OF BITUMINOUS MIXTURES-Tex-207-F","Specimen type:","Roadway","Specimen number:","1(B)","Bulk specific gravity, Ga"]
[2195,{"$f":"IF(INDIRECT(\"DOT1_DENSITY!G27\")<>\"\",INDIRECT(\"DOT1_DENSITY!G27\"),\"\")","v":""},"DOT1_DENSITY","DOT1 DETERMINING PROPERTIES OF BITUMINOUS MIXTURES-Tex-207-F","Specimen type:","Roadway","Specimen number:","1(B)","Percent density, %"]
[2196,{"$f":"IF(INDIRECT(\"DOT1_DENSITY!G28\")<>\"\",INDIRECT(\"DOT1_DENSITY!G28\"),\"\")","v":""},"DOT1_DENSITY","DOT1 DETERMINING PROPERTIES OF BITUMINOUS MIXTURES-Tex-207-F","Specimen type:","Roadway","Specimen number:","1(B)","Percent air voids, %"]
[2197,{"$f":"IF(INDIRECT(\"DOT1_DENSITY!G29\")<>\"\",INDIRECT(\"DOT1_DENSITY!G29\"),\"\")","v":""},"DOT1_DENSITY","DOT1 DETERMINING PROPERTIES OF BITUMINOUS MIXTURES-Tex-207-F","Specimen type:","Roadway","Specimen number:","1(B)","Percent VMA, %"]
[2198]
[2199]
[2200]
[2201]
[2202,{"$f":"IF(INDIRECT(\"DOT2_DENSITY!C5\")<>\"\",INDIRECT(\"DOT2_DENSITY!C5\"),\"\")","v":""},"DOT2_DENSITY","DOT2 DETERMINING PROPERTIES OF BITUMINOUS MIXTURES-Tex-207-F","Specimen type:","Laboratory","Specimen number:","1(1)","Specimen radius, mm",569]
[2203,{"$f":"IF(INDIRECT(\"DOT2_DENSITY!C6\")<>\"\",INDIRECT(\"DOT2_DENSITY!C6\"),\"\")","v":""},"DOT2_DENSITY","DOT2 DETERMINING PROPERTIES OF BITUMINOUS MIXTURES-Tex-207-F","Specimen type:","Laboratory","Specimen number:","1(1)","Specimen height",574]
[2204,{"$f":"IF(INDIRECT(\"DOT2_DENSITY!C7\")<>\"\",INDIRECT(\"DOT2_DENSITY!C7\"),\"\")","v":""},"DOT2_DENSITY","DOT2 DETERMINING PROPERTIES OF BITUMINOUS MIXTURES-Tex-207-F","Specimen type:","Laboratory","Specimen number:","1(1)","Trimmed core height, in",""]
[2205,{"$f":"IF(INDIRECT(\"DOT2_DENSITY!C8\")<>\"\",INDIRECT(\"DOT2_DENSITY!C8\"),\"\")","v":""},"DOT2_DENSITY","DOT2 DETERMINING PROPERTIES OF BITUMINOUS MIXTURES-Tex-207-F","Specimen type:","Laboratory","Specimen number:","1(1)","Weight of specimen in air, g",581]
[2206,{"$f":"IF(INDIRECT(\"DOT2_DENSITY!C9\")<>\"\",INDIRECT(\"DOT2_DENSITY!C9\"),\"\")","v":""},"DOT2_DENSITY","DOT2 DETERMINING PROPERTIES OF BITUMINOUS MIXTURES-Tex-207-F","Specimen type:","Laboratory","Specimen number:","1(1)","Weight of specimen in water, g",586]
[2207,{"$f":"IF(INDIRECT(\"DOT2_DENSITY!C10\")<>\"\",INDIRECT(\"DOT2_DENSITY!C10\"),\"\")","v":""},"DOT2_DENSITY","DOT2 DETERMINING PROPERTIES OF BITUMINOUS MIXTURES-Tex-207-F","Specimen type:","Laboratory","Specimen number:","1(1)","SSD weight of specimen in air, g",591]
[2208,{"$f":"IF(INDIRECT(\"DOT2_DENSITY!C11\")<>\"\",INDIRECT(\"DOT2_DENSITY!C11\"),\"\")","v":""},"DOT2_DENSITY","DOT2 DETERMINING PROPERTIES OF BITUMINOUS MIXTURES-Tex-207-F","Specimen type:","Laboratory","Specimen number:","1(1)","Volume of specimen",""]
[2209,{"$f":"IF(INDIRECT(\"DOT2_DENSITY!C12\")<>\"\",INDIRECT(\"DOT2_DENSITY!C12\"),\"\")","v":""},"DOT2_DENSITY","DOT2 DETERMINING PROPERTIES OF BITUMINOUS MIXTURES-Tex-207-F","Specimen type:","Laboratory","Specimen number:","1(1)","SSD Density",""]
[2210,{"$f":"IF(INDIRECT(\"DOT2_DENSITY!C13\")<>\"\",INDIRECT(\"DOT2_DENSITY!C13\"),\"\")","v":""},"DOT2_DENSITY","DOT2 DETERMINING PROPERTIES OF BITUMINOUS MIXTURES-Tex-207-F","Specimen type:","Laboratory","Specimen number:","1(1)","Percent absorption, %",""]
[2211,{"$f":"IF(INDIRECT(\"DOT2_DENSITY!C14\")<>\"\",INDIRECT(\"DOT2_DENSITY!C14\"),\"\")","v":""},"DOT2_DENSITY","DOT2 DETERMINING PROPERTIES OF BITUMINOUS MIXTURES-Tex-207-F","Specimen type:","Laboratory","Specimen number:","1(1)","Bag required for Ga",""]
[2212,{"$f":"IF(INDIRECT(\"DOT2_DENSITY!C15\")<>\"\",INDIRECT(\"DOT2_DENSITY!C15\"),\"\")","v":""},"DOT2_DENSITY","DOT2 DETERMINING PROPERTIES OF BITUMINOUS MIXTURES-Tex-207-F","Specimen type:","Laboratory","Specimen number:","1(1)","Bag Used for Ga",596]
[2213,{"$f":"IF(INDIRECT(\"DOT2_DENSITY!C17\")<>\"\",INDIRECT(\"DOT2_DENSITY!C17\"),\"\")","v":""},"DOT2_DENSITY","DOT2 DETERMINING PROPERTIES OF BITUMINOUS MIXTURES-Tex-207-F","Specimen type:","Laboratory","Specimen number:","1(1)","Vacuum bag method used",601]
[2214,{"$f":"IF(INDIRECT(\"DOT2_DENSITY!C18\")<>\"\",INDIRECT(\"DOT2_DENSITY!C18\"),\"\")","v":""},"DOT2_DENSITY","DOT2 DETERMINING PROPERTIES OF BITUMINOUS MIXTURES-Tex-207-F","Specimen type:","Laboratory","Specimen number:","1(1)","Weight of specimen in air, g",606]
[2215,{"$f":"IF(INDIRECT(\"DOT2_DENSITY!C19\")<>\"\",INDIRECT(\"DOT2_DENSITY!C19\"),\"\")","v":""},"DOT2_DENSITY","DOT2 DETERMINING PROPERTIES OF BITUMINOUS MIXTURES-Tex-207-F","Specimen type:","Laboratory","Specimen number:","1(1)","Sealed weight of specimen in water, g",611]
[2216,{"$f":"IF(INDIRECT(\"DOT2_DENSITY!C20\")<>\"\",INDIRECT(\"DOT2_DENSITY!C20\"),\"\")","v":""},"DOT2_DENSITY","DOT2 DETERMINING PROPERTIES OF BITUMINOUS MIXTURES-Tex-207-F","Specimen type:","Laboratory","Specimen number:","1(1)","Dry specimen weight after submersion, g",616]
[2217,{"$f":"IF(INDIRECT(\"DOT2_DENSITY!C21\")<>\"\",INDIRECT(\"DOT2_DENSITY!C21\"),\"\")","v":""},"DOT2_DENSITY","DOT2 DETERMINING PROPERTIES OF BITUMINOUS MIXTURES-Tex-207-F","Specimen type:","Laboratory","Specimen number:","1(1)","Weight of vacuum bag(s), g",621]
[2218,{"$f":"IF(INDIRECT(\"DOT2_DENSITY!C22\")<>\"\",INDIRECT(\"DOT2_DENSITY!C22\"),\"\")","v":""},"DOT2_DENSITY","DOT2 DETERMINING PROPERTIES OF BITUMINOUS MIXTURES-Tex-207-F","Specimen type:","Laboratory","Specimen number:","1(1)","Vacuum bag volume correction factor",""]
[2219,{"$f":"IF(INDIRECT(\"DOT2_DENSITY!C23\")<>\"\",INDIRECT(\"DOT2_DENSITY!C23\"),\"\")","v":""},"DOT2_DENSITY","DOT2 DETERMINING PROPERTIES OF BITUMINOUS MIXTURES-Tex-207-F","Specimen type:","Laboratory","Specimen number:","1(1)","Vacuum bag density",""]
[2220,{"$f":"IF(INDIRECT(\"DOT2_DENSITY!C26\")<>\"\",INDIRECT(\"DOT2_DENSITY!C26\"),\"\")","v":""},"DOT2_DENSITY","DOT2 DETERMINING PROPERTIES OF BITUMINOUS MIXTURES-Tex-207-F","Specimen type:","Laboratory","Specimen number:","1(1)","Bulk specific gravity, Ga",""]
[2221,{"$f":"IF(INDIRECT(\"DOT2_DENSITY!C27\")<>\"\",INDIRECT(\"DOT2_DENSITY!C27\"),\"\")","v":""},"DOT2_DENSITY","DOT2 DETERMINING PROPERTIES OF BITUMINOUS MIXTURES-Tex-207-F","Specimen type:","Laboratory","Specimen number:","1(1)","Percent density, %",""]
[2222,{"$f":"IF(INDIRECT(\"DOT2_DENSITY!C28\")<>\"\",INDIRECT(\"DOT2_DENSITY!C28\"),\"\")","v":""},"DOT2_DENSITY","DOT2 DETERMINING PROPERTIES OF BITUMINOUS MIXTURES-Tex-207-F","Specimen type:","Laboratory","Specimen number:","1(1)","Percent air voids, %",""]
[2223,{"$f":"IF(INDIRECT(\"DOT2_DENSITY!C29\")<>\"\",INDIRECT(\"DOT2_DENSITY!C29\"),\"\")","v":""},"DOT2_DENSITY","DOT2 DETERMINING PROPERTIES OF BITUMINOUS MIXTURES-Tex-207-F","Specimen type:","Laboratory","Specimen number:","1(1)","Percent VMA, %",""]
[2224,null,null,null,null,null,null,null,null,""]
[2225,{"$f":"IF(INDIRECT(\"DOT2_DENSITY!D5\")<>\"\",INDIRECT(\"DOT2_DENSITY!D5\"),\"\")","v":""},"DOT2_DENSITY","DOT2 DETERMINING PROPERTIES OF BITUMINOUS MIXTURES-Tex-207-F","Specimen type:","Laboratory","Specimen number:","1(2)","Specimen radius, mm",570]
[2226,{"$f":"IF(INDIRECT(\"DOT2_DENSITY!D6\")<>\"\",INDIRECT(\"DOT2_DENSITY!D6\"),\"\")","v":""},"DOT2_DENSITY","DOT2 DETERMINING PROPERTIES OF BITUMINOUS MIXTURES-Tex-207-F","Specimen type:","Laboratory","Specimen number:","1(2)","Specimen height",575]
[2227,{"$f":"IF(INDIRECT(\"DOT2_DENSITY!D7\")<>\"\",INDIRECT(\"DOT2_DENSITY!D7\"),\"\")","v":""},"DOT2_DENSITY","DOT2 DETERMINING PROPERTIES OF BITUMINOUS MIXTURES-Tex-207-F","Specimen type:","Laboratory","Specimen number:","1(2)","Trimmed core height, in",""]
[2228,{"$f":"IF(INDIRECT(\"DOT2_DENSITY!D8\")<>\"\",INDIRECT(\"DOT2_DENSITY!D8\"),\"\")","v":""},"DOT2_DENSITY","DOT2 DETERMINING PROPERTIES OF BITUMINOUS MIXTURES-Tex-207-F","Specimen type:","Laboratory","Specimen number:","1(2)","Weight of specimen in air, g",582]
[2229,{"$f":"IF(INDIRECT(\"DOT2_DENSITY!D9\")<>\"\",INDIRECT(\"DOT2_DENSITY!D9\"),\"\")","v":""},"DOT2_DENSITY","DOT2 DETERMINING PROPERTIES OF BITUMINOUS MIXTURES-Tex-207-F","Specimen type:","Laboratory","Specimen number:","1(2)","Weight of specimen in water, g",587]
[2230,{"$f":"IF(INDIRECT(\"DOT2_DENSITY!D10\")<>\"\",INDIRECT(\"DOT2_DENSITY!D10\"),\"\")","v":""},"DOT2_DENSITY","DOT2 DETERMINING PROPERTIES OF BITUMINOUS MIXTURES-Tex-207-F","Specimen type:","Laboratory","Specimen number:","1(2)","SSD weight of specimen in air, g",592]
[2231,{"$f":"IF(INDIRECT(\"DOT2_DENSITY!D11\")<>\"\",INDIRECT(\"DOT2_DENSITY!D11\"),\"\")","v":""},"DOT2_DENSITY","DOT2 DETERMINING PROPERTIES OF BITUMINOUS MIXTURES-Tex-207-F","Specimen type:","Laboratory","Specimen number:","1(2)","Volume of specimen",""]
[2232,{"$f":"IF(INDIRECT(\"DOT2_DENSITY!D12\")<>\"\",INDIRECT(\"DOT2_DENSITY!D12\"),\"\")","v":""},"DOT2_DENSITY","DOT2 DETERMINING PROPERTIES OF BITUMINOUS MIXTURES-Tex-207-F","Specimen type:","Laboratory","Specimen number:","1(2)","SSD Density",""]
[2233,{"$f":"IF(INDIRECT(\"DOT2_DENSITY!D13\")<>\"\",INDIRECT(\"DOT2_DENSITY!D13\"),\"\")","v":""},"DOT2_DENSITY","DOT2 DETERMINING PROPERTIES OF BITUMINOUS MIXTURES-Tex-207-F","Specimen type:","Laboratory","Specimen number:","1(2)","Percent absorption, %",""]
[2234,{"$f":"IF(INDIRECT(\"DOT2_DENSITY!D14\")<>\"\",INDIRECT(\"DOT2_DENSITY!D14\"),\"\")","v":""},"DOT2_DENSITY","DOT2 DETERMINING PROPERTIES OF BITUMINOUS MIXTURES-Tex-207-F","Specimen type:","Laboratory","Specimen number:","1(2)","Bag required for Ga",""]
[2235,{"$f":"IF(INDIRECT(\"DOT2_DENSITY!D15\")<>\"\",INDIRECT(\"DOT2_DENSITY!D15\"),\"\")","v":""},"DOT2_DENSITY","DOT2 DETERMINING PROPERTIES OF BITUMINOUS MIXTURES-Tex-207-F","Specimen type:","Laboratory","Specimen number:","1(2)","Bag Used for Ga",597]
[2236,{"$f":"IF(INDIRECT(\"DOT2_DENSITY!D17\")<>\"\",INDIRECT(\"DOT2_DENSITY!D17\"),\"\")","v":""},"DOT2_DENSITY","DOT2 DETERMINING PROPERTIES OF BITUMINOUS MIXTURES-Tex-207-F","Specimen type:","Laboratory","Specimen number:","1(2)","Vacuum bag method used",602]
[2237,{"$f":"IF(INDIRECT(\"DOT2_DENSITY!D18\")<>\"\",INDIRECT(\"DOT2_DENSITY!D18\"),\"\")","v":""},"DOT2_DENSITY","DOT2 DETERMINING PROPERTIES OF BITUMINOUS MIXTURES-Tex-207-F","Specimen type:","Laboratory","Specimen number:","1(2)","Weight of specimen in air, g",607]
[2238,{"$f":"IF(INDIRECT(\"DOT2_DENSITY!D19\")<>\"\",INDIRECT(\"DOT2_DENSITY!D19\"),\"\")","v":""},"DOT2_DENSITY","DOT2 DETERMINING PROPERTIES OF BITUMINOUS MIXTURES-Tex-207-F","Specimen type:","Laboratory","Specimen number:","1(2)","Sealed weight of specimen in water, g",612]
[2239,{"$f":"IF(INDIRECT(\"DOT2_DENSITY!D20\")<>\"\",INDIRECT(\"DOT2_DENSITY!D20\"),\"\")","v":""},"DOT2_DENSITY","DOT2 DETERMINING PROPERTIES OF BITUMINOUS MIXTURES-Tex-207-F","Specimen type:","Laboratory","Specimen number:","1(2)","Dry specimen weight after submersion, g",617]
[2240,{"$f":"IF(INDIRECT(\"DOT2_DENSITY!D21\")<>\"\",INDIRECT(\"DOT2_DENSITY!D21\"),\"\")","v":""},"DOT2_DENSITY","DOT2 DETERMINING PROPERTIES OF BITUMINOUS MIXTURES-Tex-207-F","Specimen type:","Laboratory","Specimen number:","1(2)","Weight of vacuum bag(s), g",622]
[2241,{"$f":"IF(INDIRECT(\"DOT2_DENSITY!D22\")<>\"\",INDIRECT(\"DOT2_DENSITY!D22\"),\"\")","v":""},"DOT2_DENSITY","DOT2 DETERMINING PROPERTIES OF BITUMINOUS MIXTURES-Tex-207-F","Specimen type:","Laboratory","Specimen number:","1(2)","Vacuum bag volume correction factor",""]
[2242,{"$f":"IF(INDIRECT(\"DOT2_DENSITY!D23\")<>\"\",INDIRECT(\"DOT2_DENSITY!D23\"),\"\")","v":""},"DOT2_DENSITY","DOT2 DETERMINING PROPERTIES OF BITUMINOUS MIXTURES-Tex-207-F","Specimen type:","Laboratory","Specimen number:","1(2)","Vacuum bag density",""]
[2243,{"$f":"IF(INDIRECT(\"DOT2_DENSITY!D26\")<>\"\",INDIRECT(\"DOT2_DENSITY!D26\"),\"\")","v":""},"DOT2_DENSITY","DOT2 DETERMINING PROPERTIES OF BITUMINOUS MIXTURES-Tex-207-F","Specimen type:","Laboratory","Specimen number:","1(2)","Bulk specific gravity, Ga",""]
[2244,{"$f":"IF(INDIRECT(\"DOT2_DENSITY!D27\")<>\"\",INDIRECT(\"DOT2_DENSITY!D27\"),\"\")","v":""},"DOT2_DENSITY","DOT2 DETERMINING PROPERTIES OF BITUMINOUS MIXTURES-Tex-207-F","Specimen type:","Laboratory","Specimen number:","1(2)","Percent density, %",""]
[2245,{"$f":"IF(INDIRECT(\"DOT2_DENSITY!D28\")<>\"\",INDIRECT(\"DOT2_DENSITY!D28\"),\"\")","v":""},"DOT2_DENSITY","DOT2 DETERMINING PROPERTIES OF BITUMINOUS MIXTURES-Tex-207-F","Specimen type:","Laboratory","Specimen number:","1(2)","Percent air voids, %",""]
[2246,{"$f":"IF(INDIRECT(\"DOT2_DENSITY!D29\")<>\"\",INDIRECT(\"DOT2_DENSITY!D29\"),\"\")","v":""},"DOT2_DENSITY","DOT2 DETERMINING PROPERTIES OF BITUMINOUS MIXTURES-Tex-207-F","Specimen type:","Laboratory","Specimen number:","1(2)","Percent VMA, %",""]
[2247,null,null,null,null,null,null,null,null,""]
[2248,{"$f":"IF(INDIRECT(\"DOT2_DENSITY!E5\")<>\"\",INDIRECT(\"DOT2_DENSITY!E5\"),\"\")","v":""},"DOT2_DENSITY","DOT2 DETERMINING PROPERTIES OF BITUMINOUS MIXTURES-Tex-207-F","Specimen type:","Laboratory","Specimen number:","1(3)","Specimen radius, mm",571]
[2249,{"$f":"IF(INDIRECT(\"DOT2_DENSITY!E6\")<>\"\",INDIRECT(\"DOT2_DENSITY!E6\"),\"\")","v":""},"DOT2_DENSITY","DOT2 DETERMINING PROPERTIES OF BITUMINOUS MIXTURES-Tex-207-F","Specimen type:","Laboratory","Specimen number:","1(3)","Specimen height",576]
[2250,{"$f":"IF(INDIRECT(\"DOT2_DENSITY!E7\")<>\"\",INDIRECT(\"DOT2_DENSITY!E7\"),\"\")","v":""},"DOT2_DENSITY","DOT2 DETERMINING PROPERTIES OF BITUMINOUS MIXTURES-Tex-207-F","Specimen type:","Laboratory","Specimen number:","1(3)","Trimmed core height, in",""]
[2251,{"$f":"IF(INDIRECT(\"DOT2_DENSITY!E8\")<>\"\",INDIRECT(\"DOT2_DENSITY!E8\"),\"\")","v":""},"DOT2_DENSITY","DOT2 DETERMINING PROPERTIES OF BITUMINOUS MIXTURES-Tex-207-F","Specimen type:","Laboratory","Specimen number:","1(3)","Weight of specimen in air, g",583]
[2252,{"$f":"IF(INDIRECT(\"DOT2_DENSITY!E9\")<>\"\",INDIRECT(\"DOT2_DENSITY!E9\"),\"\")","v":""},"DOT2_DENSITY","DOT2 DETERMINING PROPERTIES OF BITUMINOUS MIXTURES-Tex-207-F","Specimen type:","Laboratory","Specimen number:","1(3)","Weight of specimen in water, g",588]
[2253,{"$f":"IF(INDIRECT(\"DOT2_DENSITY!E10\")<>\"\",INDIRECT(\"DOT2_DENSITY!E10\"),\"\")","v":""},"DOT2_DENSITY","DOT2 DETERMINING PROPERTIES OF BITUMINOUS MIXTURES-Tex-207-F","Specimen type:","Laboratory","Specimen number:","1(3)","SSD weight of specimen in air, g",593]
[2254,{"$f":"IF(INDIRECT(\"DOT2_DENSITY!E11\")<>\"\",INDIRECT(\"DOT2_DENSITY!E11\"),\"\")","v":""},"DOT2_DENSITY","DOT2 DETERMINING PROPERTIES OF BITUMINOUS MIXTURES-Tex-207-F","Specimen type:","Laboratory","Specimen number:","1(3)","Volume of specimen",""]
[2255,{"$f":"IF(INDIRECT(\"DOT2_DENSITY!E12\")<>\"\",INDIRECT(\"DOT2_DENSITY!E12\"),\"\")","v":""},"DOT2_DENSITY","DOT2 DETERMINING PROPERTIES OF BITUMINOUS MIXTURES-Tex-207-F","Specimen type:","Laboratory","Specimen number:","1(3)","SSD Density",""]
[2256,{"$f":"IF(INDIRECT(\"DOT2_DENSITY!E13\")<>\"\",INDIRECT(\"DOT2_DENSITY!E13\"),\"\")","v":""},"DOT2_DENSITY","DOT2 DETERMINING PROPERTIES OF BITUMINOUS MIXTURES-Tex-207-F","Specimen type:","Laboratory","Specimen number:","1(3)","Percent absorption, %",""]
[2257,{"$f":"IF(INDIRECT(\"DOT2_DENSITY!E14\")<>\"\",INDIRECT(\"DOT2_DENSITY!E14\"),\"\")","v":""},"DOT2_DENSITY","DOT2 DETERMINING PROPERTIES OF BITUMINOUS MIXTURES-Tex-207-F","Specimen type:","Laboratory","Specimen number:","1(3)","Bag required for Ga",""]
[2258,{"$f":"IF(INDIRECT(\"DOT2_DENSITY!E15\")<>\"\",INDIRECT(\"DOT2_DENSITY!E15\"),\"\")","v":""},"DOT2_DENSITY","DOT2 DETERMINING PROPERTIES OF BITUMINOUS MIXTURES-Tex-207-F","Specimen type:","Laboratory","Specimen number:","1(3)","Bag Used for Ga",598]
[2259,{"$f":"IF(INDIRECT(\"DOT2_DENSITY!E17\")<>\"\",INDIRECT(\"DOT2_DENSITY!E17\"),\"\")","v":""},"DOT2_DENSITY","DOT2 DETERMINING PROPERTIES OF BITUMINOUS MIXTURES-Tex-207-F","Specimen type:","Laboratory","Specimen number:","1(3)","Vacuum bag method used",603]
[2260,{"$f":"IF(INDIRECT(\"DOT2_DENSITY!E18\")<>\"\",INDIRECT(\"DOT2_DENSITY!E18\"),\"\")","v":""},"DOT2_DENSITY","DOT2 DETERMINING PROPERTIES OF BITUMINOUS MIXTURES-Tex-207-F","Specimen type:","Laboratory","Specimen number:","1(3)","Weight of specimen in air, g",608]
[2261,{"$f":"IF(INDIRECT(\"DOT2_DENSITY!E19\")<>\"\",INDIRECT(\"DOT2_DENSITY!E19\"),\"\")","v":""},"DOT2_DENSITY","DOT2 DETERMINING PROPERTIES OF BITUMINOUS MIXTURES-Tex-207-F","Specimen type:","Laboratory","Specimen number:","1(3)","Sealed weight of specimen in water, g",613]
[2262,{"$f":"IF(INDIRECT(\"DOT2_DENSITY!E20\")<>\"\",INDIRECT(\"DOT2_DENSITY!E20\"),\"\")","v":""},"DOT2_DENSITY","DOT2 DETERMINING PROPERTIES OF BITUMINOUS MIXTURES-Tex-207-F","Specimen type:","Laboratory","Specimen number:","1(3)","Dry specimen weight after submersion, g",618]
[2263,{"$f":"IF(INDIRECT(\"DOT2_DENSITY!E21\")<>\"\",INDIRECT(\"DOT2_DENSITY!E21\"),\"\")","v":""},"DOT2_DENSITY","DOT2 DETERMINING PROPERTIES OF BITUMINOUS MIXTURES-Tex-207-F","Specimen type:","Laboratory","Specimen number:","1(3)","Weight of vacuum bag(s), g",623]
[2264,{"$f":"IF(INDIRECT(\"DOT2_DENSITY!E22\")<>\"\",INDIRECT(\"DOT2_DENSITY!E22\"),\"\")","v":""},"DOT2_DENSITY","DOT2 DETERMINING PROPERTIES OF BITUMINOUS MIXTURES-Tex-207-F","Specimen type:","Laboratory","Specimen number:","1(3)","Vacuum bag volume correction factor",""]
[2265,{"$f":"IF(INDIRECT(\"DOT2_DENSITY!E23\")<>\"\",INDIRECT(\"DOT2_DENSITY!E23\"),\"\")","v":""},"DOT2_DENSITY","DOT2 DETERMINING PROPERTIES OF BITUMINOUS MIXTURES-Tex-207-F","Specimen type:","Laboratory","Specimen number:","1(3)","Vacuum bag density",""]
[2266,{"$f":"IF(INDIRECT(\"DOT2_DENSITY!E26\")<>\"\",INDIRECT(\"DOT2_DENSITY!E26\"),\"\")","v":""},"DOT2_DENSITY","DOT2 DETERMINING PROPERTIES OF BITUMINOUS MIXTURES-Tex-207-F","Specimen type:","Laboratory","Specimen number:","1(3)","Bulk specific gravity, Ga",""]
[2267,{"$f":"IF(INDIRECT(\"DOT2_DENSITY!E27\")<>\"\",INDIRECT(\"DOT2_DENSITY!E27\"),\"\")","v":""},"DOT2_DENSITY","DOT2 DETERMINING PROPERTIES OF BITUMINOUS MIXTURES-Tex-207-F","Specimen type:","Laboratory","Specimen number:","1(3)","Percent density, %",""]
[2268,{"$f":"IF(INDIRECT(\"DOT2_DENSITY!E28\")<>\"\",INDIRECT(\"DOT2_DENSITY!E28\"),\"\")","v":""},"DOT2_DENSITY","DOT2 DETERMINING PROPERTIES OF BITUMINOUS MIXTURES-Tex-207-F","Specimen type:","Laboratory","Specimen number:","1(3)","Percent air voids, %",""]
[2269,{"$f":"IF(INDIRECT(\"DOT2_DENSITY!E29\")<>\"\",INDIRECT(\"DOT2_DENSITY!E29\"),\"\")","v":""},"DOT2_DENSITY","DOT2 DETERMINING PROPERTIES OF BITUMINOUS MIXTURES-Tex-207-F","Specimen type:","Laboratory","Specimen number:","1(3)","Percent VMA, %",""]
[2270,null,null,null,null,null,null,null,null,""]
[2271,{"$f":"IF(INDIRECT(\"DOT2_DENSITY!F5\")<>\"\",INDIRECT(\"DOT2_DENSITY!F5\"),\"\")","v":""},"DOT2_DENSITY","DOT2 DETERMINING PROPERTIES OF BITUMINOUS MIXTURES-Tex-207-F","Specimen type:","Roadway","Specimen number:","1(A)","Specimen radius, mm",572]
[2272,{"$f":"IF(INDIRECT(\"DOT2_DENSITY!F6\")<>\"\",INDIRECT(\"DOT2_DENSITY!F6\"),\"\")","v":""},"DOT2_DENSITY","DOT2 DETERMINING PROPERTIES OF BITUMINOUS MIXTURES-Tex-207-F","Specimen type:","Roadway","Specimen number:","1(A)","Specimen height",577]
[2273,{"$f":"IF(INDIRECT(\"DOT2_DENSITY!F7\")<>\"\",INDIRECT(\"DOT2_DENSITY!F7\"),\"\")","v":""},"DOT2_DENSITY","DOT2 DETERMINING PROPERTIES OF BITUMINOUS MIXTURES-Tex-207-F","Specimen type:","Roadway","Specimen number:","1(A)","Trimmed core height, in",580]
[2274,{"$f":"IF(INDIRECT(\"DOT2_DENSITY!F8\")<>\"\",INDIRECT(\"DOT2_DENSITY!F8\"),\"\")","v":""},"DOT2_DENSITY","DOT2 DETERMINING PROPERTIES OF BITUMINOUS MIXTURES-Tex-207-F","Specimen type:","Roadway","Specimen number:","1(A)","Weight of specimen in air, g",584]
[2275,{"$f":"IF(INDIRECT(\"DOT2_DENSITY!F9\")<>\"\",INDIRECT(\"DOT2_DENSITY!F9\"),\"\")","v":""},"DOT2_DENSITY","DOT2 DETERMINING PROPERTIES OF BITUMINOUS MIXTURES-Tex-207-F","Specimen type:","Roadway","Specimen number:","1(A)","Weight of specimen in water, g",589]
[2276,{"$f":"IF(INDIRECT(\"DOT2_DENSITY!F10\")<>\"\",INDIRECT(\"DOT2_DENSITY!F10\"),\"\")","v":""},"DOT2_DENSITY","DOT2 DETERMINING PROPERTIES OF BITUMINOUS MIXTURES-Tex-207-F","Specimen type:","Roadway","Specimen number:","1(A)","SSD weight of specimen in air, g",594]
[2277,{"$f":"IF(INDIRECT(\"DOT2_DENSITY!F11\")<>\"\",INDIRECT(\"DOT2_DENSITY!F11\"),\"\")","v":""},"DOT2_DENSITY","DOT2 DETERMINING PROPERTIES OF BITUMINOUS MIXTURES-Tex-207-F","Specimen type:","Roadway","Specimen number:","1(A)","Volume of specimen",""]
[2278,{"$f":"IF(INDIRECT(\"DOT2_DENSITY!F12\")<>\"\",INDIRECT(\"DOT2_DENSITY!F12\"),\"\")","v":""},"DOT2_DENSITY","DOT2 DETERMINING PROPERTIES OF BITUMINOUS MIXTURES-Tex-207-F","Specimen type:","Roadway","Specimen number:","1(A)","SSD Density",""]
[2279,{"$f":"IF(INDIRECT(\"DOT2_DENSITY!F13\")<>\"\",INDIRECT(\"DOT2_DENSITY!F13\"),\"\")","v":""},"DOT2_DENSITY","DOT2 DETERMINING PROPERTIES OF BITUMINOUS MIXTURES-Tex-207-F","Specimen type:","Roadway","Specimen number:","1(A)","Percent absorption, %",""]
[2280,{"$f":"IF(INDIRECT(\"DOT2_DENSITY!F14\")<>\"\",INDIRECT(\"DOT2_DENSITY!F14\"),\"\")","v":""},"DOT2_DENSITY","DOT2 DETERMINING PROPERTIES OF BITUMINOUS MIXTURES-Tex-207-F","Specimen type:","Roadway","Specimen number:","1(A)","Bag required for Ga",""]
[2281,{"$f":"IF(INDIRECT(\"DOT2_DENSITY!F15\")<>\"\",INDIRECT(\"DOT2_DENSITY!F15\"),\"\")","v":""},"DOT2_DENSITY","DOT2 DETERMINING PROPERTIES OF BITUMINOUS MIXTURES-Tex-207-F","Specimen type:","Roadway","Specimen number:","1(A)","Bag Used for Ga",599]
[2282,{"$f":"IF(INDIRECT(\"DOT2_DENSITY!F17\")<>\"\",INDIRECT(\"DOT2_DENSITY!F17\"),\"\")","v":""},"DOT2_DENSITY","DOT2 DETERMINING PROPERTIES OF BITUMINOUS MIXTURES-Tex-207-F","Specimen type:","Roadway","Specimen number:","1(A)","Vacuum bag method used",604]
[2283,{"$f":"IF(INDIRECT(\"DOT2_DENSITY!F18\")<>\"\",INDIRECT(\"DOT2_DENSITY!F18\"),\"\")","v":""},"DOT2_DENSITY","DOT2 DETERMINING PROPERTIES OF BITUMINOUS MIXTURES-Tex-207-F","Specimen type:","Roadway","Specimen number:","1(A)","Weight of specimen in air, g",609]
[2284,{"$f":"IF(INDIRECT(\"DOT2_DENSITY!F19\")<>\"\",INDIRECT(\"DOT2_DENSITY!F19\"),\"\")","v":""},"DOT2_DENSITY","DOT2 DETERMINING PROPERTIES OF BITUMINOUS MIXTURES-Tex-207-F","Specimen type:","Roadway","Specimen number:","1(A)","Sealed weight of specimen in water, g",614]
[2285,{"$f":"IF(INDIRECT(\"DOT2_DENSITY!F20\")<>\"\",INDIRECT(\"DOT2_DENSITY!F20\"),\"\")","v":""},"DOT2_DENSITY","DOT2 DETERMINING PROPERTIES OF BITUMINOUS MIXTURES-Tex-207-F","Specimen type:","Roadway","Specimen number:","1(A)","Dry specimen weight after submersion, g",619]
[2286,{"$f":"IF(INDIRECT(\"DOT2_DENSITY!F21\")<>\"\",INDIRECT(\"DOT2_DENSITY!F21\"),\"\")","v":""},"DOT2_DENSITY","DOT2 DETERMINING PROPERTIES OF BITUMINOUS MIXTURES-Tex-207-F","Specimen type:","Roadway","Specimen number:","1(A)","Weight of vacuum bag(s), g",624]
[2287,{"$f":"IF(INDIRECT(\"DOT2_DENSITY!F22\")<>\"\",INDIRECT(\"DOT2_DENSITY!F22\"),\"\")","v":""},"DOT2_DENSITY","DOT2 DETERMINING PROPERTIES OF BITUMINOUS MIXTURES-Tex-207-F","Specimen type:","Roadway","Specimen number:","1(A)","Vacuum bag volume correction factor",""]
[2288,{"$f":"IF(INDIRECT(\"DOT2_DENSITY!F23\")<>\"\",INDIRECT(\"DOT2_DENSITY!F23\"),\"\")","v":""},"DOT2_DENSITY","DOT2 DETERMINING PROPERTIES OF BITUMINOUS MIXTURES-Tex-207-F","Specimen type:","Roadway","Specimen number:","1(A)","Vacuum bag density",""]
[2289,{"$f":"IF(INDIRECT(\"DOT2_DENSITY!F26\")<>\"\",INDIRECT(\"DOT2_DENSITY!F26\"),\"\")","v":""},"DOT2_DENSITY","DOT2 DETERMINING PROPERTIES OF BITUMINOUS MIXTURES-Tex-207-F","Specimen type:","Roadway","Specimen number:","1(A)","Bulk specific gravity, Ga",""]
[2290,{"$f":"IF(INDIRECT(\"DOT2_DENSITY!F27\")<>\"\",INDIRECT(\"DOT2_DENSITY!F27\"),\"\")","v":""},"DOT2_DENSITY","DOT2 DETERMINING PROPERTIES OF BITUMINOUS MIXTURES-Tex-207-F","Specimen type:","Roadway","Specimen number:","1(A)","Percent density, %",""]
[2291,{"$f":"IF(INDIRECT(\"DOT2_DENSITY!F28\")<>\"\",INDIRECT(\"DOT2_DENSITY!F28\"),\"\")","v":""},"DOT2_DENSITY","DOT2 DETERMINING PROPERTIES OF BITUMINOUS MIXTURES-Tex-207-F","Specimen type:","Roadway","Specimen number:","1(A)","Percent air voids, %",""]
[2292,{"$f":"IF(INDIRECT(\"DOT2_DENSITY!F29\")<>\"\",INDIRECT(\"DOT2_DENSITY!F29\"),\"\")","v":""},"DOT2_DENSITY","DOT2 DETERMINING PROPERTIES OF BITUMINOUS MIXTURES-Tex-207-F","Specimen type:","Roadway","Specimen number:","1(A)","Percent VMA, %",""]
[2293,null,null,null,null,null,null,null,null,""]
[2294,{"$f":"IF(INDIRECT(\"DOT2_DENSITY!G5\")<>\"\",INDIRECT(\"DOT2_DENSITY!G5\"),\"\")","v":""},"DOT2_DENSITY","DOT2 DETERMINING PROPERTIES OF BITUMINOUS MIXTURES-Tex-207-F","Specimen type:","Roadway","Specimen number:","1(B)","Specimen radius, mm",573]
[2295,{"$f":"IF(INDIRECT(\"DOT2_DENSITY!G6\")<>\"\",INDIRECT(\"DOT2_DENSITY!G6\"),\"\")","v":""},"DOT2_DENSITY","DOT2 DETERMINING PROPERTIES OF BITUMINOUS MIXTURES-Tex-207-F","Specimen type:","Roadway","Specimen number:","1(B)","Specimen height",578]
[2296,{"$f":"IF(INDIRECT(\"DOT2_DENSITY!G7\")<>\"\",INDIRECT(\"DOT2_DENSITY!G7\"),\"\")","v":""},"DOT2_DENSITY","DOT2 DETERMINING PROPERTIES OF BITUMINOUS MIXTURES-Tex-207-F","Specimen type:","Roadway","Specimen number:","1(B)","Trimmed core height, in",581]
[2297,{"$f":"IF(INDIRECT(\"DOT2_DENSITY!G8\")<>\"\",INDIRECT(\"DOT2_DENSITY!G8\"),\"\")","v":""},"DOT2_DENSITY","DOT2 DETERMINING PROPERTIES OF BITUMINOUS MIXTURES-Tex-207-F","Specimen type:","Roadway","Specimen number:","1(B)","Weight of specimen in air, g",585]
[2298,{"$f":"IF(INDIRECT(\"DOT2_DENSITY!G9\")<>\"\",INDIRECT(\"DOT2_DENSITY!G9\"),\"\")","v":""},"DOT2_DENSITY","DOT2 DETERMINING PROPERTIES OF BITUMINOUS MIXTURES-Tex-207-F","Specimen type:","Roadway","Specimen number:","1(B)","Weight of specimen in water, g",590]
[2299,{"$f":"IF(INDIRECT(\"DOT2_DENSITY!G10\")<>\"\",INDIRECT(\"DOT2_DENSITY!G10\"),\"\")","v":""},"DOT2_DENSITY","DOT2 DETERMINING PROPERTIES OF BITUMINOUS MIXTURES-Tex-207-F","Specimen type:","Roadway","Specimen number:","1(B)","SSD weight of specimen in air, g",595]
[2300,{"$f":"IF(INDIRECT(\"DOT2_DENSITY!G11\")<>\"\",INDIRECT(\"DOT2_DENSITY!G11\"),\"\")","v":""},"DOT2_DENSITY","DOT2 DETERMINING PROPERTIES OF BITUMINOUS MIXTURES-Tex-207-F","Specimen type:","Roadway","Specimen number:","1(B)","Volume of specimen",""]
[2301,{"$f":"IF(INDIRECT(\"DOT2_DENSITY!G12\")<>\"\",INDIRECT(\"DOT2_DENSITY!G12\"),\"\")","v":""},"DOT2_DENSITY","DOT2 DETERMINING PROPERTIES OF BITUMINOUS MIXTURES-Tex-207-F","Specimen type:","Roadway","Specimen number:","1(B)","SSD Density",""]
[2302,{"$f":"IF(INDIRECT(\"DOT2_DENSITY!G13\")<>\"\",INDIRECT(\"DOT2_DENSITY!G13\"),\"\")","v":""},"DOT2_DENSITY","DOT2 DETERMINING PROPERTIES OF BITUMINOUS MIXTURES-Tex-207-F","Specimen type:","Roadway","Specimen number:","1(B)","Percent absorption, %",""]
[2303,{"$f":"IF(INDIRECT(\"DOT2_DENSITY!G14\")<>\"\",INDIRECT(\"DOT2_DENSITY!G14\"),\"\")","v":""},"DOT2_DENSITY","DOT2 DETERMINING PROPERTIES OF BITUMINOUS MIXTURES-Tex-207-F","Specimen type:","Roadway","Specimen number:","1(B)","Bag required for Ga",""]
[2304,{"$f":"IF(INDIRECT(\"DOT2_DENSITY!G15\")<>\"\",INDIRECT(\"DOT2_DENSITY!G15\"),\"\")","v":""},"DOT2_DENSITY","DOT2 DETERMINING PROPERTIES OF BITUMINOUS MIXTURES-Tex-207-F","Specimen type:","Roadway","Specimen number:","1(B)","Bag Used for Ga",600]
[2305,{"$f":"IF(INDIRECT(\"DOT2_DENSITY!G17\")<>\"\",INDIRECT(\"DOT2_DENSITY!G17\"),\"\")","v":""},"DOT2_DENSITY","DOT2 DETERMINING PROPERTIES OF BITUMINOUS MIXTURES-Tex-207-F","Specimen type:","Roadway","Specimen number:","1(B)","Vacuum bag method used",605]
[2306,{"$f":"IF(INDIRECT(\"DOT2_DENSITY!G18\")<>\"\",INDIRECT(\"DOT2_DENSITY!G18\"),\"\")","v":""},"DOT2_DENSITY","DOT2 DETERMINING PROPERTIES OF BITUMINOUS MIXTURES-Tex-207-F","Specimen type:","Roadway","Specimen number:","1(B)","Weight of specimen in air, g",610]
[2307,{"$f":"IF(INDIRECT(\"DOT2_DENSITY!G19\")<>\"\",INDIRECT(\"DOT2_DENSITY!G19\"),\"\")","v":""},"DOT2_DENSITY","DOT2 DETERMINING PROPERTIES OF BITUMINOUS MIXTURES-Tex-207-F","Specimen type:","Roadway","Specimen number:","1(B)","Sealed weight of specimen in water, g",615]
[2308,{"$f":"IF(INDIRECT(\"DOT2_DENSITY!G20\")<>\"\",INDIRECT(\"DOT2_DENSITY!G20\"),\"\")","v":""},"DOT2_DENSITY","DOT2 DETERMINING PROPERTIES OF BITUMINOUS MIXTURES-Tex-207-F","Specimen type:","Roadway","Specimen number:","1(B)","Dry specimen weight after submersion, g",620]
[2309,{"$f":"IF(INDIRECT(\"DOT2_DENSITY!G21\")<>\"\",INDIRECT(\"DOT2_DENSITY!G21\"),\"\")","v":""},"DOT2_DENSITY","DOT2 DETERMINING PROPERTIES OF BITUMINOUS MIXTURES-Tex-207-F","Specimen type:","Roadway","Specimen number:","1(B)","Weight of vacuum bag(s), g",625]
[2310,{"$f":"IF(INDIRECT(\"DOT2_DENSITY!G22\")<>\"\",INDIRECT(\"DOT2_DENSITY!G22\"),\"\")","v":""},"DOT2_DENSITY","DOT2 DETERMINING PROPERTIES OF BITUMINOUS MIXTURES-Tex-207-F","Specimen type:","Roadway","Specimen number:","1(B)","Vacuum bag volume correction factor"]
[2311,{"$f":"IF(INDIRECT(\"DOT2_DENSITY!G23\")<>\"\",INDIRECT(\"DOT2_DENSITY!G23\"),\"\")","v":""},"DOT2_DENSITY","DOT2 DETERMINING PROPERTIES OF BITUMINOUS MIXTURES-Tex-207-F","Specimen type:","Roadway","Specimen number:","1(B)","Vacuum bag density"]
[2312,{"$f":"IF(INDIRECT(\"DOT2_DENSITY!G26\")<>\"\",INDIRECT(\"DOT2_DENSITY!G26\"),\"\")","v":""},"DOT2_DENSITY","DOT2 DETERMINING PROPERTIES OF BITUMINOUS MIXTURES-Tex-207-F","Specimen type:","Roadway","Specimen number:","1(B)","Bulk specific gravity, Ga"]
[2313,{"$f":"IF(INDIRECT(\"DOT2_DENSITY!G27\")<>\"\",INDIRECT(\"DOT2_DENSITY!G27\"),\"\")","v":""},"DOT2_DENSITY","DOT2 DETERMINING PROPERTIES OF BITUMINOUS MIXTURES-Tex-207-F","Specimen type:","Roadway","Specimen number:","1(B)","Percent density, %"]
[2314,{"$f":"IF(INDIRECT(\"DOT2_DENSITY!G28\")<>\"\",INDIRECT(\"DOT2_DENSITY!G28\"),\"\")","v":""},"DOT2_DENSITY","DOT2 DETERMINING PROPERTIES OF BITUMINOUS MIXTURES-Tex-207-F","Specimen type:","Roadway","Specimen number:","1(B)","Percent air voids, %"]
[2315,{"$f":"IF(INDIRECT(\"DOT2_DENSITY!G29\")<>\"\",INDIRECT(\"DOT2_DENSITY!G29\"),\"\")","v":""},"DOT2_DENSITY","DOT2 DETERMINING PROPERTIES OF BITUMINOUS MIXTURES-Tex-207-F","Specimen type:","Roadway","Specimen number:","1(B)","Percent VMA, %"]
[2316]
[2317]
[2318]
[2319]
[2320,{"$f":"IF(INDIRECT(\"DOT3_DENSITY!C5\")<>\"\",INDIRECT(\"DOT3_DENSITY!C5\"),\"\")","v":""},"DOT3_DENSITY","DOT3 DETERMINING PROPERTIES OF BITUMINOUS MIXTURES-Tex-207-F","Specimen type:","Laboratory","Specimen number:","1(1)","Specimen radius, mm",668]
[2321,{"$f":"IF(INDIRECT(\"DOT3_DENSITY!C6\")<>\"\",INDIRECT(\"DOT3_DENSITY!C6\"),\"\")","v":""},"DOT3_DENSITY","DOT3 DETERMINING PROPERTIES OF BITUMINOUS MIXTURES-Tex-207-F","Specimen type:","Laboratory","Specimen number:","1(1)","Specimen height",673]
[2322,{"$f":"IF(INDIRECT(\"DOT3_DENSITY!C7\")<>\"\",INDIRECT(\"DOT3_DENSITY!C7\"),\"\")","v":""},"DOT3_DENSITY","DOT3 DETERMINING PROPERTIES OF BITUMINOUS MIXTURES-Tex-207-F","Specimen type:","Laboratory","Specimen number:","1(1)","Trimmed core height, in",""]
[2323,{"$f":"IF(INDIRECT(\"DOT3_DENSITY!C8\")<>\"\",INDIRECT(\"DOT3_DENSITY!C8\"),\"\")","v":""},"DOT3_DENSITY","DOT3 DETERMINING PROPERTIES OF BITUMINOUS MIXTURES-Tex-207-F","Specimen type:","Laboratory","Specimen number:","1(1)","Weight of specimen in air, g",680]
[2324,{"$f":"IF(INDIRECT(\"DOT3_DENSITY!C9\")<>\"\",INDIRECT(\"DOT3_DENSITY!C9\"),\"\")","v":""},"DOT3_DENSITY","DOT3 DETERMINING PROPERTIES OF BITUMINOUS MIXTURES-Tex-207-F","Specimen type:","Laboratory","Specimen number:","1(1)","Weight of specimen in water, g",685]
[2325,{"$f":"IF(INDIRECT(\"DOT3_DENSITY!C10\")<>\"\",INDIRECT(\"DOT3_DENSITY!C10\"),\"\")","v":""},"DOT3_DENSITY","DOT3 DETERMINING PROPERTIES OF BITUMINOUS MIXTURES-Tex-207-F","Specimen type:","Laboratory","Specimen number:","1(1)","SSD weight of specimen in air, g",690]
[2326,{"$f":"IF(INDIRECT(\"DOT3_DENSITY!C11\")<>\"\",INDIRECT(\"DOT3_DENSITY!C11\"),\"\")","v":""},"DOT3_DENSITY","DOT3 DETERMINING PROPERTIES OF BITUMINOUS MIXTURES-Tex-207-F","Specimen type:","Laboratory","Specimen number:","1(1)","Volume of specimen",""]
[2327,{"$f":"IF(INDIRECT(\"DOT3_DENSITY!C12\")<>\"\",INDIRECT(\"DOT3_DENSITY!C12\"),\"\")","v":""},"DOT3_DENSITY","DOT3 DETERMINING PROPERTIES OF BITUMINOUS MIXTURES-Tex-207-F","Specimen type:","Laboratory","Specimen number:","1(1)","SSD Density",""]
[2328,{"$f":"IF(INDIRECT(\"DOT3_DENSITY!C13\")<>\"\",INDIRECT(\"DOT3_DENSITY!C13\"),\"\")","v":""},"DOT3_DENSITY","DOT3 DETERMINING PROPERTIES OF BITUMINOUS MIXTURES-Tex-207-F","Specimen type:","Laboratory","Specimen number:","1(1)","Percent absorption, %",""]
[2329,{"$f":"IF(INDIRECT(\"DOT3_DENSITY!C14\")<>\"\",INDIRECT(\"DOT3_DENSITY!C14\"),\"\")","v":""},"DOT3_DENSITY","DOT3 DETERMINING PROPERTIES OF BITUMINOUS MIXTURES-Tex-207-F","Specimen type:","Laboratory","Specimen number:","1(1)","Bag required for Ga",""]
[2330,{"$f":"IF(INDIRECT(\"DOT3_DENSITY!C15\")<>\"\",INDIRECT(\"DOT3_DENSITY!C15\"),\"\")","v":""},"DOT3_DENSITY","DOT3 DETERMINING PROPERTIES OF BITUMINOUS MIXTURES-Tex-207-F","Specimen type:","Laboratory","Specimen number:","1(1)","Bag Used for Ga",695]
[2331,{"$f":"IF(INDIRECT(\"DOT3_DENSITY!C17\")<>\"\",INDIRECT(\"DOT3_DENSITY!C17\"),\"\")","v":""},"DOT3_DENSITY","DOT3 DETERMINING PROPERTIES OF BITUMINOUS MIXTURES-Tex-207-F","Specimen type:","Laboratory","Specimen number:","1(1)","Vacuum bag method used",700]
[2332,{"$f":"IF(INDIRECT(\"DOT3_DENSITY!C18\")<>\"\",INDIRECT(\"DOT3_DENSITY!C18\"),\"\")","v":""},"DOT3_DENSITY","DOT3 DETERMINING PROPERTIES OF BITUMINOUS MIXTURES-Tex-207-F","Specimen type:","Laboratory","Specimen number:","1(1)","Weight of specimen in air, g",705]
[2333,{"$f":"IF(INDIRECT(\"DOT3_DENSITY!C19\")<>\"\",INDIRECT(\"DOT3_DENSITY!C19\"),\"\")","v":""},"DOT3_DENSITY","DOT3 DETERMINING PROPERTIES OF BITUMINOUS MIXTURES-Tex-207-F","Specimen type:","Laboratory","Specimen number:","1(1)","Sealed weight of specimen in water, g",710]
[2334,{"$f":"IF(INDIRECT(\"DOT3_DENSITY!C20\")<>\"\",INDIRECT(\"DOT3_DENSITY!C20\"),\"\")","v":""},"DOT3_DENSITY","DOT3 DETERMINING PROPERTIES OF BITUMINOUS MIXTURES-Tex-207-F","Specimen type:","Laboratory","Specimen number:","1(1)","Dry specimen weight after submersion, g",715]
[2335,{"$f":"IF(INDIRECT(\"DOT3_DENSITY!C21\")<>\"\",INDIRECT(\"DOT3_DENSITY!C21\"),\"\")","v":""},"DOT3_DENSITY","DOT3 DETERMINING PROPERTIES OF BITUMINOUS MIXTURES-Tex-207-F","Specimen type:","Laboratory","Specimen number:","1(1)","Weight of vacuum bag(s), g",720]
[2336,{"$f":"IF(INDIRECT(\"DOT3_DENSITY!C22\")<>\"\",INDIRECT(\"DOT3_DENSITY!C22\"),\"\")","v":""},"DOT3_DENSITY","DOT3 DETERMINING PROPERTIES OF BITUMINOUS MIXTURES-Tex-207-F","Specimen type:","Laboratory","Specimen number:","1(1)","Vacuum bag volume correction factor",""]
[2337,{"$f":"IF(INDIRECT(\"DOT3_DENSITY!C23\")<>\"\",INDIRECT(\"DOT3_DENSITY!C23\"),\"\")","v":""},"DOT3_DENSITY","DOT3 DETERMINING PROPERTIES OF BITUMINOUS MIXTURES-Tex-207-F","Specimen type:","Laboratory","Specimen number:","1(1)","Vacuum bag density",""]
[2338,{"$f":"IF(INDIRECT(\"DOT3_DENSITY!C26\")<>\"\",INDIRECT(\"DOT3_DENSITY!C26\"),\"\")","v":""},"DOT3_DENSITY","DOT3 DETERMINING PROPERTIES OF BITUMINOUS MIXTURES-Tex-207-F","Specimen type:","Laboratory","Specimen number:","1(1)","Bulk specific gravity, Ga",""]
[2339,{"$f":"IF(INDIRECT(\"DOT3_DENSITY!C27\")<>\"\",INDIRECT(\"DOT3_DENSITY!C27\"),\"\")","v":""},"DOT3_DENSITY","DOT3 DETERMINING PROPERTIES OF BITUMINOUS MIXTURES-Tex-207-F","Specimen type:","Laboratory","Specimen number:","1(1)","Percent density, %",""]
[2340,{"$f":"IF(INDIRECT(\"DOT3_DENSITY!C28\")<>\"\",INDIRECT(\"DOT3_DENSITY!C28\"),\"\")","v":""},"DOT3_DENSITY","DOT3 DETERMINING PROPERTIES OF BITUMINOUS MIXTURES-Tex-207-F","Specimen type:","Laboratory","Specimen number:","1(1)","Percent air voids, %",""]
[2341,{"$f":"IF(INDIRECT(\"DOT3_DENSITY!C29\")<>\"\",INDIRECT(\"DOT3_DENSITY!C29\"),\"\")","v":""},"DOT3_DENSITY","DOT3 DETERMINING PROPERTIES OF BITUMINOUS MIXTURES-Tex-207-F","Specimen type:","Laboratory","Specimen number:","1(1)","Percent VMA, %",""]
[2342,null,null,null,null,null,null,null,null,""]
[2343,{"$f":"IF(INDIRECT(\"DOT3_DENSITY!D5\")<>\"\",INDIRECT(\"DOT3_DENSITY!D5\"),\"\")","v":""},"DOT3_DENSITY","DOT3 DETERMINING PROPERTIES OF BITUMINOUS MIXTURES-Tex-207-F","Specimen type:","Laboratory","Specimen number:","1(2)","Specimen radius, mm",669]
[2344,{"$f":"IF(INDIRECT(\"DOT3_DENSITY!D6\")<>\"\",INDIRECT(\"DOT3_DENSITY!D6\"),\"\")","v":""},"DOT3_DENSITY","DOT3 DETERMINING PROPERTIES OF BITUMINOUS MIXTURES-Tex-207-F","Specimen type:","Laboratory","Specimen number:","1(2)","Specimen height",674]
[2345,{"$f":"IF(INDIRECT(\"DOT3_DENSITY!D7\")<>\"\",INDIRECT(\"DOT3_DENSITY!D7\"),\"\")","v":""},"DOT3_DENSITY","DOT3 DETERMINING PROPERTIES OF BITUMINOUS MIXTURES-Tex-207-F","Specimen type:","Laboratory","Specimen number:","1(2)","Trimmed core height, in",""]
[2346,{"$f":"IF(INDIRECT(\"DOT3_DENSITY!D8\")<>\"\",INDIRECT(\"DOT3_DENSITY!D8\"),\"\")","v":""},"DOT3_DENSITY","DOT3 DETERMINING PROPERTIES OF BITUMINOUS MIXTURES-Tex-207-F","Specimen type:","Laboratory","Specimen number:","1(2)","Weight of specimen in air, g",681]
[2347,{"$f":"IF(INDIRECT(\"DOT3_DENSITY!D9\")<>\"\",INDIRECT(\"DOT3_DENSITY!D9\"),\"\")","v":""},"DOT3_DENSITY","DOT3 DETERMINING PROPERTIES OF BITUMINOUS MIXTURES-Tex-207-F","Specimen type:","Laboratory","Specimen number:","1(2)","Weight of specimen in water, g",686]
[2348,{"$f":"IF(INDIRECT(\"DOT3_DENSITY!D10\")<>\"\",INDIRECT(\"DOT3_DENSITY!D10\"),\"\")","v":""},"DOT3_DENSITY","DOT3 DETERMINING PROPERTIES OF BITUMINOUS MIXTURES-Tex-207-F","Specimen type:","Laboratory","Specimen number:","1(2)","SSD weight of specimen in air, g",691]
[2349,{"$f":"IF(INDIRECT(\"DOT3_DENSITY!D11\")<>\"\",INDIRECT(\"DOT3_DENSITY!D11\"),\"\")","v":""},"DOT3_DENSITY","DOT3 DETERMINING PROPERTIES OF BITUMINOUS MIXTURES-Tex-207-F","Specimen type:","Laboratory","Specimen number:","1(2)","Volume of specimen",""]
[2350,{"$f":"IF(INDIRECT(\"DOT3_DENSITY!D12\")<>\"\",INDIRECT(\"DOT3_DENSITY!D12\"),\"\")","v":""},"DOT3_DENSITY","DOT3 DETERMINING PROPERTIES OF BITUMINOUS MIXTURES-Tex-207-F","Specimen type:","Laboratory","Specimen number:","1(2)","SSD Density",""]
[2351,{"$f":"IF(INDIRECT(\"DOT3_DENSITY!D13\")<>\"\",INDIRECT(\"DOT3_DENSITY!D13\"),\"\")","v":""},"DOT3_DENSITY","DOT3 DETERMINING PROPERTIES OF BITUMINOUS MIXTURES-Tex-207-F","Specimen type:","Laboratory","Specimen number:","1(2)","Percent absorption, %",""]
[2352,{"$f":"IF(INDIRECT(\"DOT3_DENSITY!D14\")<>\"\",INDIRECT(\"DOT3_DENSITY!D14\"),\"\")","v":""},"DOT3_DENSITY","DOT3 DETERMINING PROPERTIES OF BITUMINOUS MIXTURES-Tex-207-F","Specimen type:","Laboratory","Specimen number:","1(2)","Bag required for Ga",""]
[2353,{"$f":"IF(INDIRECT(\"DOT3_DENSITY!D15\")<>\"\",INDIRECT(\"DOT3_DENSITY!D15\"),\"\")","v":""},"DOT3_DENSITY","DOT3 DETERMINING PROPERTIES OF BITUMINOUS MIXTURES-Tex-207-F","Specimen type:","Laboratory","Specimen number:","1(2)","Bag Used for Ga",696]
[2354,{"$f":"IF(INDIRECT(\"DOT3_DENSITY!D17\")<>\"\",INDIRECT(\"DOT3_DENSITY!D17\"),\"\")","v":""},"DOT3_DENSITY","DOT3 DETERMINING PROPERTIES OF BITUMINOUS MIXTURES-Tex-207-F","Specimen type:","Laboratory","Specimen number:","1(2)","Vacuum bag method used",701]
[2355,{"$f":"IF(INDIRECT(\"DOT3_DENSITY!D18\")<>\"\",INDIRECT(\"DOT3_DENSITY!D18\"),\"\")","v":""},"DOT3_DENSITY","DOT3 DETERMINING PROPERTIES OF BITUMINOUS MIXTURES-Tex-207-F","Specimen type:","Laboratory","Specimen number:","1(2)","Weight of specimen in air, g",706]
[2356,{"$f":"IF(INDIRECT(\"DOT3_DENSITY!D19\")<>\"\",INDIRECT(\"DOT3_DENSITY!D19\"),\"\")","v":""},"DOT3_DENSITY","DOT3 DETERMINING PROPERTIES OF BITUMINOUS MIXTURES-Tex-207-F","Specimen type:","Laboratory","Specimen number:","1(2)","Sealed weight of specimen in water, g",711]
[2357,{"$f":"IF(INDIRECT(\"DOT3_DENSITY!D20\")<>\"\",INDIRECT(\"DOT3_DENSITY!D20\"),\"\")","v":""},"DOT3_DENSITY","DOT3 DETERMINING PROPERTIES OF BITUMINOUS MIXTURES-Tex-207-F","Specimen type:","Laboratory","Specimen number:","1(2)","Dry specimen weight after submersion, g",716]
[2358,{"$f":"IF(INDIRECT(\"DOT3_DENSITY!D21\")<>\"\",INDIRECT(\"DOT3_DENSITY!D21\"),\"\")","v":""},"DOT3_DENSITY","DOT3 DETERMINING PROPERTIES OF BITUMINOUS MIXTURES-Tex-207-F","Specimen type:","Laboratory","Specimen number:","1(2)","Weight of vacuum bag(s), g",721]
[2359,{"$f":"IF(INDIRECT(\"DOT3_DENSITY!D22\")<>\"\",INDIRECT(\"DOT3_DENSITY!D22\"),\"\")","v":""},"DOT3_DENSITY","DOT3 DETERMINING PROPERTIES OF BITUMINOUS MIXTURES-Tex-207-F","Specimen type:","Laboratory","Specimen number:","1(2)","Vacuum bag volume correction factor",""]
[2360,{"$f":"IF(INDIRECT(\"DOT3_DENSITY!D23\")<>\"\",INDIRECT(\"DOT3_DENSITY!D23\"),\"\")","v":""},"DOT3_DENSITY","DOT3 DETERMINING PROPERTIES OF BITUMINOUS MIXTURES-Tex-207-F","Specimen type:","Laboratory","Specimen number:","1(2)","Vacuum bag density",""]
[2361,{"$f":"IF(INDIRECT(\"DOT3_DENSITY!D26\")<>\"\",INDIRECT(\"DOT3_DENSITY!D26\"),\"\")","v":""},"DOT3_DENSITY","DOT3 DETERMINING PROPERTIES OF BITUMINOUS MIXTURES-Tex-207-F","Specimen type:","Laboratory","Specimen number:","1(2)","Bulk specific gravity, Ga",""]
[2362,{"$f":"IF(INDIRECT(\"DOT3_DENSITY!D27\")<>\"\",INDIRECT(\"DOT3_DENSITY!D27\"),\"\")","v":""},"DOT3_DENSITY","DOT3 DETERMINING PROPERTIES OF BITUMINOUS MIXTURES-Tex-207-F","Specimen type:","Laboratory","Specimen number:","1(2)","Percent density, %",""]
[2363,{"$f":"IF(INDIRECT(\"DOT3_DENSITY!D28\")<>\"\",INDIRECT(\"DOT3_DENSITY!D28\"),\"\")","v":""},"DOT3_DENSITY","DOT3 DETERMINING PROPERTIES OF BITUMINOUS MIXTURES-Tex-207-F","Specimen type:","Laboratory","Specimen number:","1(2)","Percent air voids, %",""]
[2364,{"$f":"IF(INDIRECT(\"DOT3_DENSITY!D29\")<>\"\",INDIRECT(\"DOT3_DENSITY!D29\"),\"\")","v":""},"DOT3_DENSITY","DOT3 DETERMINING PROPERTIES OF BITUMINOUS MIXTURES-Tex-207-F","Specimen type:","Laboratory","Specimen number:","1(2)","Percent VMA, %",""]
[2365,null,null,null,null,null,null,null,null,""]
[2366,{"$f":"IF(INDIRECT(\"DOT3_DENSITY!E5\")<>\"\",INDIRECT(\"DOT3_DENSITY!E5\"),\"\")","v":""},"DOT3_DENSITY","DOT3 DETERMINING PROPERTIES OF BITUMINOUS MIXTURES-Tex-207-F","Specimen type:","Laboratory","Specimen number:","1(3)","Specimen radius, mm",670]
[2367,{"$f":"IF(INDIRECT(\"DOT3_DENSITY!E6\")<>\"\",INDIRECT(\"DOT3_DENSITY!E6\"),\"\")","v":""},"DOT3_DENSITY","DOT3 DETERMINING PROPERTIES OF BITUMINOUS MIXTURES-Tex-207-F","Specimen type:","Laboratory","Specimen number:","1(3)","Specimen height",675]
[2368,{"$f":"IF(INDIRECT(\"DOT3_DENSITY!E7\")<>\"\",INDIRECT(\"DOT3_DENSITY!E7\"),\"\")","v":""},"DOT3_DENSITY","DOT3 DETERMINING PROPERTIES OF BITUMINOUS MIXTURES-Tex-207-F","Specimen type:","Laboratory","Specimen number:","1(3)","Trimmed core height, in",""]
[2369,{"$f":"IF(INDIRECT(\"DOT3_DENSITY!E8\")<>\"\",INDIRECT(\"DOT3_DENSITY!E8\"),\"\")","v":""},"DOT3_DENSITY","DOT3 DETERMINING PROPERTIES OF BITUMINOUS MIXTURES-Tex-207-F","Specimen type:","Laboratory","Specimen number:","1(3)","Weight of specimen in air, g",682]
[2370,{"$f":"IF(INDIRECT(\"DOT3_DENSITY!E9\")<>\"\",INDIRECT(\"DOT3_DENSITY!E9\"),\"\")","v":""},"DOT3_DENSITY","DOT3 DETERMINING PROPERTIES OF BITUMINOUS MIXTURES-Tex-207-F","Specimen type:","Laboratory","Specimen number:","1(3)","Weight of specimen in water, g",687]
[2371,{"$f":"IF(INDIRECT(\"DOT3_DENSITY!E10\")<>\"\",INDIRECT(\"DOT3_DENSITY!E10\"),\"\")","v":""},"DOT3_DENSITY","DOT3 DETERMINING PROPERTIES OF BITUMINOUS MIXTURES-Tex-207-F","Specimen type:","Laboratory","Specimen number:","1(3)","SSD weight of specimen in air, g",692]
[2372,{"$f":"IF(INDIRECT(\"DOT3_DENSITY!E11\")<>\"\",INDIRECT(\"DOT3_DENSITY!E11\"),\"\")","v":""},"DOT3_DENSITY","DOT3 DETERMINING PROPERTIES OF BITUMINOUS MIXTURES-Tex-207-F","Specimen type:","Laboratory","Specimen number:","1(3)","Volume of specimen",""]
[2373,{"$f":"IF(INDIRECT(\"DOT3_DENSITY!E12\")<>\"\",INDIRECT(\"DOT3_DENSITY!E12\"),\"\")","v":""},"DOT3_DENSITY","DOT3 DETERMINING PROPERTIES OF BITUMINOUS MIXTURES-Tex-207-F","Specimen type:","Laboratory","Specimen number:","1(3)","SSD Density",""]
[2374,{"$f":"IF(INDIRECT(\"DOT3_DENSITY!E13\")<>\"\",INDIRECT(\"DOT3_DENSITY!E13\"),\"\")","v":""},"DOT3_DENSITY","DOT3 DETERMINING PROPERTIES OF BITUMINOUS MIXTURES-Tex-207-F","Specimen type:","Laboratory","Specimen number:","1(3)","Percent absorption, %",""]
[2375,{"$f":"IF(INDIRECT(\"DOT3_DENSITY!E14\")<>\"\",INDIRECT(\"DOT3_DENSITY!E14\"),\"\")","v":""},"DOT3_DENSITY","DOT3 DETERMINING PROPERTIES OF BITUMINOUS MIXTURES-Tex-207-F","Specimen type:","Laboratory","Specimen number:","1(3)","Bag required for Ga",""]
[2376,{"$f":"IF(INDIRECT(\"DOT3_DENSITY!E15\")<>\"\",INDIRECT(\"DOT3_DENSITY!E15\"),\"\")","v":""},"DOT3_DENSITY","DOT3 DETERMINING PROPERTIES OF BITUMINOUS MIXTURES-Tex-207-F","Specimen type:","Laboratory","Specimen number:","1(3)","Bag Used for Ga",697]
[2377,{"$f":"IF(INDIRECT(\"DOT3_DENSITY!E17\")<>\"\",INDIRECT(\"DOT3_DENSITY!E17\"),\"\")","v":""},"DOT3_DENSITY","DOT3 DETERMINING PROPERTIES OF BITUMINOUS MIXTURES-Tex-207-F","Specimen type:","Laboratory","Specimen number:","1(3)","Vacuum bag method used",702]
[2378,{"$f":"IF(INDIRECT(\"DOT3_DENSITY!E18\")<>\"\",INDIRECT(\"DOT3_DENSITY!E18\"),\"\")","v":""},"DOT3_DENSITY","DOT3 DETERMINING PROPERTIES OF BITUMINOUS MIXTURES-Tex-207-F","Specimen type:","Laboratory","Specimen number:","1(3)","Weight of specimen in air, g",707]
[2379,{"$f":"IF(INDIRECT(\"DOT3_DENSITY!E19\")<>\"\",INDIRECT(\"DOT3_DENSITY!E19\"),\"\")","v":""},"DOT3_DENSITY","DOT3 DETERMINING PROPERTIES OF BITUMINOUS MIXTURES-Tex-207-F","Specimen type:","Laboratory","Specimen number:","1(3)","Sealed weight of specimen in water, g",712]
[2380,{"$f":"IF(INDIRECT(\"DOT3_DENSITY!E20\")<>\"\",INDIRECT(\"DOT3_DENSITY!E20\"),\"\")","v":""},"DOT3_DENSITY","DOT3 DETERMINING PROPERTIES OF BITUMINOUS MIXTURES-Tex-207-F","Specimen type:","Laboratory","Specimen number:","1(3)","Dry specimen weight after submersion, g",717]
[2381,{"$f":"IF(INDIRECT(\"DOT3_DENSITY!E21\")<>\"\",INDIRECT(\"DOT3_DENSITY!E21\"),\"\")","v":""},"DOT3_DENSITY","DOT3 DETERMINING PROPERTIES OF BITUMINOUS MIXTURES-Tex-207-F","Specimen type:","Laboratory","Specimen number:","1(3)","Weight of vacuum bag(s), g",722]
[2382,{"$f":"IF(INDIRECT(\"DOT3_DENSITY!E22\")<>\"\",INDIRECT(\"DOT3_DENSITY!E22\"),\"\")","v":""},"DOT3_DENSITY","DOT3 DETERMINING PROPERTIES OF BITUMINOUS MIXTURES-Tex-207-F","Specimen type:","Laboratory","Specimen number:","1(3)","Vacuum bag volume correction factor",""]
[2383,{"$f":"IF(INDIRECT(\"DOT3_DENSITY!E23\")<>\"\",INDIRECT(\"DOT3_DENSITY!E23\"),\"\")","v":""},"DOT3_DENSITY","DOT3 DETERMINING PROPERTIES OF BITUMINOUS MIXTURES-Tex-207-F","Specimen type:","Laboratory","Specimen number:","1(3)","Vacuum bag density",""]
[2384,{"$f":"IF(INDIRECT(\"DOT3_DENSITY!E26\")<>\"\",INDIRECT(\"DOT3_DENSITY!E26\"),\"\")","v":""},"DOT3_DENSITY","DOT3 DETERMINING PROPERTIES OF BITUMINOUS MIXTURES-Tex-207-F","Specimen type:","Laboratory","Specimen number:","1(3)","Bulk specific gravity, Ga",""]
[2385,{"$f":"IF(INDIRECT(\"DOT3_DENSITY!E27\")<>\"\",INDIRECT(\"DOT3_DENSITY!E27\"),\"\")","v":""},"DOT3_DENSITY","DOT3 DETERMINING PROPERTIES OF BITUMINOUS MIXTURES-Tex-207-F","Specimen type:","Laboratory","Specimen number:","1(3)","Percent density, %",""]
[2386,{"$f":"IF(INDIRECT(\"DOT3_DENSITY!E28\")<>\"\",INDIRECT(\"DOT3_DENSITY!E28\"),\"\")","v":""},"DOT3_DENSITY","DOT3 DETERMINING PROPERTIES OF BITUMINOUS MIXTURES-Tex-207-F","Specimen type:","Laboratory","Specimen number:","1(3)","Percent air voids, %",""]
[2387,{"$f":"IF(INDIRECT(\"DOT3_DENSITY!E29\")<>\"\",INDIRECT(\"DOT3_DENSITY!E29\"),\"\")","v":""},"DOT3_DENSITY","DOT3 DETERMINING PROPERTIES OF BITUMINOUS MIXTURES-Tex-207-F","Specimen type:","Laboratory","Specimen number:","1(3)","Percent VMA, %",""]
[2388,null,null,null,null,null,null,null,null,""]
[2389,{"$f":"IF(INDIRECT(\"DOT3_DENSITY!F5\")<>\"\",INDIRECT(\"DOT3_DENSITY!F5\"),\"\")","v":""},"DOT3_DENSITY","DOT3 DETERMINING PROPERTIES OF BITUMINOUS MIXTURES-Tex-207-F","Specimen type:","Roadway","Specimen number:","1(A)","Specimen radius, mm",671]
[2390,{"$f":"IF(INDIRECT(\"DOT3_DENSITY!F6\")<>\"\",INDIRECT(\"DOT3_DENSITY!F6\"),\"\")","v":""},"DOT3_DENSITY","DOT3 DETERMINING PROPERTIES OF BITUMINOUS MIXTURES-Tex-207-F","Specimen type:","Roadway","Specimen number:","1(A)","Specimen height",676]
[2391,{"$f":"IF(INDIRECT(\"DOT3_DENSITY!F7\")<>\"\",INDIRECT(\"DOT3_DENSITY!F7\"),\"\")","v":""},"DOT3_DENSITY","DOT3 DETERMINING PROPERTIES OF BITUMINOUS MIXTURES-Tex-207-F","Specimen type:","Roadway","Specimen number:","1(A)","Trimmed core height, in",679]
[2392,{"$f":"IF(INDIRECT(\"DOT3_DENSITY!F8\")<>\"\",INDIRECT(\"DOT3_DENSITY!F8\"),\"\")","v":""},"DOT3_DENSITY","DOT3 DETERMINING PROPERTIES OF BITUMINOUS MIXTURES-Tex-207-F","Specimen type:","Roadway","Specimen number:","1(A)","Weight of specimen in air, g",683]
[2393,{"$f":"IF(INDIRECT(\"DOT3_DENSITY!F9\")<>\"\",INDIRECT(\"DOT3_DENSITY!F9\"),\"\")","v":""},"DOT3_DENSITY","DOT3 DETERMINING PROPERTIES OF BITUMINOUS MIXTURES-Tex-207-F","Specimen type:","Roadway","Specimen number:","1(A)","Weight of specimen in water, g",688]
[2394,{"$f":"IF(INDIRECT(\"DOT3_DENSITY!F10\")<>\"\",INDIRECT(\"DOT3_DENSITY!F10\"),\"\")","v":""},"DOT3_DENSITY","DOT3 DETERMINING PROPERTIES OF BITUMINOUS MIXTURES-Tex-207-F","Specimen type:","Roadway","Specimen number:","1(A)","SSD weight of specimen in air, g",693]
[2395,{"$f":"IF(INDIRECT(\"DOT3_DENSITY!F11\")<>\"\",INDIRECT(\"DOT3_DENSITY!F11\"),\"\")","v":""},"DOT3_DENSITY","DOT3 DETERMINING PROPERTIES OF BITUMINOUS MIXTURES-Tex-207-F","Specimen type:","Roadway","Specimen number:","1(A)","Volume of specimen",""]
[2396,{"$f":"IF(INDIRECT(\"DOT3_DENSITY!F12\")<>\"\",INDIRECT(\"DOT3_DENSITY!F12\"),\"\")","v":""},"DOT3_DENSITY","DOT3 DETERMINING PROPERTIES OF BITUMINOUS MIXTURES-Tex-207-F","Specimen type:","Roadway","Specimen number:","1(A)","SSD Density",""]
[2397,{"$f":"IF(INDIRECT(\"DOT3_DENSITY!F13\")<>\"\",INDIRECT(\"DOT3_DENSITY!F13\"),\"\")","v":""},"DOT3_DENSITY","DOT3 DETERMINING PROPERTIES OF BITUMINOUS MIXTURES-Tex-207-F","Specimen type:","Roadway","Specimen number:","1(A)","Percent absorption, %",""]
[2398,{"$f":"IF(INDIRECT(\"DOT3_DENSITY!F14\")<>\"\",INDIRECT(\"DOT3_DENSITY!F14\"),\"\")","v":""},"DOT3_DENSITY","DOT3 DETERMINING PROPERTIES OF BITUMINOUS MIXTURES-Tex-207-F","Specimen type:","Roadway","Specimen number:","1(A)","Bag required for Ga",""]
[2399,{"$f":"IF(INDIRECT(\"DOT3_DENSITY!F15\")<>\"\",INDIRECT(\"DOT3_DENSITY!F15\"),\"\")","v":""},"DOT3_DENSITY","DOT3 DETERMINING PROPERTIES OF BITUMINOUS MIXTURES-Tex-207-F","Specimen type:","Roadway","Specimen number:","1(A)","Bag Used for Ga",698]
[2400,{"$f":"IF(INDIRECT(\"DOT3_DENSITY!F17\")<>\"\",INDIRECT(\"DOT3_DENSITY!F17\"),\"\")","v":""},"DOT3_DENSITY","DOT3 DETERMINING PROPERTIES OF BITUMINOUS MIXTURES-Tex-207-F","Specimen type:","Roadway","Specimen number:","1(A)","Vacuum bag method used",703]
[2401,{"$f":"IF(INDIRECT(\"DOT3_DENSITY!F18\")<>\"\",INDIRECT(\"DOT3_DENSITY!F18\"),\"\")","v":""},"DOT3_DENSITY","DOT3 DETERMINING PROPERTIES OF BITUMINOUS MIXTURES-Tex-207-F","Specimen type:","Roadway","Specimen number:","1(A)","Weight of specimen in air, g",708]
[2402,{"$f":"IF(INDIRECT(\"DOT3_DENSITY!F19\")<>\"\",INDIRECT(\"DOT3_DENSITY!F19\"),\"\")","v":""},"DOT3_DENSITY","DOT3 DETERMINING PROPERTIES OF BITUMINOUS MIXTURES-Tex-207-F","Specimen type:","Roadway","Specimen number:","1(A)","Sealed weight of specimen in water, g",713]
[2403,{"$f":"IF(INDIRECT(\"DOT3_DENSITY!F20\")<>\"\",INDIRECT(\"DOT3_DENSITY!F20\"),\"\")","v":""},"DOT3_DENSITY","DOT3 DETERMINING PROPERTIES OF BITUMINOUS MIXTURES-Tex-207-F","Specimen type:","Roadway","Specimen number:","1(A)","Dry specimen weight after submersion, g",718]
[2404,{"$f":"IF(INDIRECT(\"DOT3_DENSITY!F21\")<>\"\",INDIRECT(\"DOT3_DENSITY!F21\"),\"\")","v":""},"DOT3_DENSITY","DOT3 DETERMINING PROPERTIES OF BITUMINOUS MIXTURES-Tex-207-F","Specimen type:","Roadway","Specimen number:","1(A)","Weight of vacuum bag(s), g",723]
[2405,{"$f":"IF(INDIRECT(\"DOT3_DENSITY!F22\")<>\"\",INDIRECT(\"DOT3_DENSITY!F22\"),\"\")","v":""},"DOT3_DENSITY","DOT3 DETERMINING PROPERTIES OF BITUMINOUS MIXTURES-Tex-207-F","Specimen type:","Roadway","Specimen number:","1(A)","Vacuum bag volume correction factor",""]
[2406,{"$f":"IF(INDIRECT(\"DOT3_DENSITY!F23\")<>\"\",INDIRECT(\"DOT3_DENSITY!F23\"),\"\")","v":""},"DOT3_DENSITY","DOT3 DETERMINING PROPERTIES OF BITUMINOUS MIXTURES-Tex-207-F","Specimen type:","Roadway","Specimen number:","1(A)","Vacuum bag density",""]
[2407,{"$f":"IF(INDIRECT(\"DOT3_DENSITY!F26\")<>\"\",INDIRECT(\"DOT3_DENSITY!F26\"),\"\")","v":""},"DOT3_DENSITY","DOT3 DETERMINING PROPERTIES OF BITUMINOUS MIXTURES-Tex-207-F","Specimen type:","Roadway","Specimen number:","1(A)","Bulk specific gravity, Ga",""]
[2408,{"$f":"IF(INDIRECT(\"DOT3_DENSITY!F27\")<>\"\",INDIRECT(\"DOT3_DENSITY!F27\"),\"\")","v":""},"DOT3_DENSITY","DOT3 DETERMINING PROPERTIES OF BITUMINOUS MIXTURES-Tex-207-F","Specimen type:","Roadway","Specimen number:","1(A)","Percent density, %",""]
[2409,{"$f":"IF(INDIRECT(\"DOT3_DENSITY!F28\")<>\"\",INDIRECT(\"DOT3_DENSITY!F28\"),\"\")","v":""},"DOT3_DENSITY","DOT3 DETERMINING PROPERTIES OF BITUMINOUS MIXTURES-Tex-207-F","Specimen type:","Roadway","Specimen number:","1(A)","Percent air voids, %",""]
[2410,{"$f":"IF(INDIRECT(\"DOT3_DENSITY!F29\")<>\"\",INDIRECT(\"DOT3_DENSITY!F29\"),\"\")","v":""},"DOT3_DENSITY","DOT3 DETERMINING PROPERTIES OF BITUMINOUS MIXTURES-Tex-207-F","Specimen type:","Roadway","Specimen number:","1(A)","Percent VMA, %",""]
[2411,null,null,null,null,null,null,null,null,""]
[2412,{"$f":"IF(INDIRECT(\"DOT3_DENSITY!G5\")<>\"\",INDIRECT(\"DOT3_DENSITY!G5\"),\"\")","v":""},"DOT3_DENSITY","DOT3 DETERMINING PROPERTIES OF BITUMINOUS MIXTURES-Tex-207-F","Specimen type:","Roadway","Specimen number:","1(B)","Specimen radius, mm",672]
[2413,{"$f":"IF(INDIRECT(\"DOT3_DENSITY!G6\")<>\"\",INDIRECT(\"DOT3_DENSITY!G6\"),\"\")","v":""},"DOT3_DENSITY","DOT3 DETERMINING PROPERTIES OF BITUMINOUS MIXTURES-Tex-207-F","Specimen type:","Roadway","Specimen number:","1(B)","Specimen height",677]
[2414,{"$f":"IF(INDIRECT(\"DOT3_DENSITY!G7\")<>\"\",INDIRECT(\"DOT3_DENSITY!G7\"),\"\")","v":""},"DOT3_DENSITY","DOT3 DETERMINING PROPERTIES OF BITUMINOUS MIXTURES-Tex-207-F","Specimen type:","Roadway","Specimen number:","1(B)","Trimmed core height, in",680]
[2415,{"$f":"IF(INDIRECT(\"DOT3_DENSITY!G8\")<>\"\",INDIRECT(\"DOT3_DENSITY!G8\"),\"\")","v":""},"DOT3_DENSITY","DOT3 DETERMINING PROPERTIES OF BITUMINOUS MIXTURES-Tex-207-F","Specimen type:","Roadway","Specimen number:","1(B)","Weight of specimen in air, g",684]
[2416,{"$f":"IF(INDIRECT(\"DOT3_DENSITY!G9\")<>\"\",INDIRECT(\"DOT3_DENSITY!G9\"),\"\")","v":""},"DOT3_DENSITY","DOT3 DETERMINING PROPERTIES OF BITUMINOUS MIXTURES-Tex-207-F","Specimen type:","Roadway","Specimen number:","1(B)","Weight of specimen in water, g",689]
[2417,{"$f":"IF(INDIRECT(\"DOT3_DENSITY!G10\")<>\"\",INDIRECT(\"DOT3_DENSITY!G10\"),\"\")","v":""},"DOT3_DENSITY","DOT3 DETERMINING PROPERTIES OF BITUMINOUS MIXTURES-Tex-207-F","Specimen type:","Roadway","Specimen number:","1(B)","SSD weight of specimen in air, g",694]
[2418,{"$f":"IF(INDIRECT(\"DOT3_DENSITY!G11\")<>\"\",INDIRECT(\"DOT3_DENSITY!G11\"),\"\")","v":""},"DOT3_DENSITY","DOT3 DETERMINING PROPERTIES OF BITUMINOUS MIXTURES-Tex-207-F","Specimen type:","Roadway","Specimen number:","1(B)","Volume of specimen",""]
[2419,{"$f":"IF(INDIRECT(\"DOT3_DENSITY!G12\")<>\"\",INDIRECT(\"DOT3_DENSITY!G12\"),\"\")","v":""},"DOT3_DENSITY","DOT3 DETERMINING PROPERTIES OF BITUMINOUS MIXTURES-Tex-207-F","Specimen type:","Roadway","Specimen number:","1(B)","SSD Density",""]
[2420,{"$f":"IF(INDIRECT(\"DOT3_DENSITY!G13\")<>\"\",INDIRECT(\"DOT3_DENSITY!G13\"),\"\")","v":""},"DOT3_DENSITY","DOT3 DETERMINING PROPERTIES OF BITUMINOUS MIXTURES-Tex-207-F","Specimen type:","Roadway","Specimen number:","1(B)","Percent absorption, %",""]
[2421,{"$f":"IF(INDIRECT(\"DOT3_DENSITY!G14\")<>\"\",INDIRECT(\"DOT3_DENSITY!G14\"),\"\")","v":""},"DOT3_DENSITY","DOT3 DETERMINING PROPERTIES OF BITUMINOUS MIXTURES-Tex-207-F","Specimen type:","Roadway","Specimen number:","1(B)","Bag required for Ga",""]
[2422,{"$f":"IF(INDIRECT(\"DOT3_DENSITY!G15\")<>\"\",INDIRECT(\"DOT3_DENSITY!G15\"),\"\")","v":""},"DOT3_DENSITY","DOT3 DETERMINING PROPERTIES OF BITUMINOUS MIXTURES-Tex-207-F","Specimen type:","Roadway","Specimen number:","1(B)","Bag Used for Ga",699]
[2423,{"$f":"IF(INDIRECT(\"DOT3_DENSITY!G17\")<>\"\",INDIRECT(\"DOT3_DENSITY!G17\"),\"\")","v":""},"DOT3_DENSITY","DOT3 DETERMINING PROPERTIES OF BITUMINOUS MIXTURES-Tex-207-F","Specimen type:","Roadway","Specimen number:","1(B)","Vacuum bag method used",704]
[2424,{"$f":"IF(INDIRECT(\"DOT3_DENSITY!G18\")<>\"\",INDIRECT(\"DOT3_DENSITY!G18\"),\"\")","v":""},"DOT3_DENSITY","DOT3 DETERMINING PROPERTIES OF BITUMINOUS MIXTURES-Tex-207-F","Specimen type:","Roadway","Specimen number:","1(B)","Weight of specimen in air, g",709]
[2425,{"$f":"IF(INDIRECT(\"DOT3_DENSITY!G19\")<>\"\",INDIRECT(\"DOT3_DENSITY!G19\"),\"\")","v":""},"DOT3_DENSITY","DOT3 DETERMINING PROPERTIES OF BITUMINOUS MIXTURES-Tex-207-F","Specimen type:","Roadway","Specimen number:","1(B)","Sealed weight of specimen in water, g",714]
[2426,{"$f":"IF(INDIRECT(\"DOT3_DENSITY!G20\")<>\"\",INDIRECT(\"DOT3_DENSITY!G20\"),\"\")","v":""},"DOT3_DENSITY","DOT3 DETERMINING PROPERTIES OF BITUMINOUS MIXTURES-Tex-207-F","Specimen type:","Roadway","Specimen number:","1(B)","Dry specimen weight after submersion, g",719]
[2427,{"$f":"IF(INDIRECT(\"DOT3_DENSITY!G21\")<>\"\",INDIRECT(\"DOT3_DENSITY!G21\"),\"\")","v":""},"DOT3_DENSITY","DOT3 DETERMINING PROPERTIES OF BITUMINOUS MIXTURES-Tex-207-F","Specimen type:","Roadway","Specimen number:","1(B)","Weight of vacuum bag(s), g",724]
[2428,{"$f":"IF(INDIRECT(\"DOT3_DENSITY!G22\")<>\"\",INDIRECT(\"DOT3_DENSITY!G22\"),\"\")","v":""},"DOT3_DENSITY","DOT3 DETERMINING PROPERTIES OF BITUMINOUS MIXTURES-Tex-207-F","Specimen type:","Roadway","Specimen number:","1(B)","Vacuum bag volume correction factor"]
[2429,{"$f":"IF(INDIRECT(\"DOT3_DENSITY!G23\")<>\"\",INDIRECT(\"DOT3_DENSITY!G23\"),\"\")","v":""},"DOT3_DENSITY","DOT3 DETERMINING PROPERTIES OF BITUMINOUS MIXTURES-Tex-207-F","Specimen type:","Roadway","Specimen number:","1(B)","Vacuum bag density"]
[2430,{"$f":"IF(INDIRECT(\"DOT3_DENSITY!G26\")<>\"\",INDIRECT(\"DOT3_DENSITY!G26\"),\"\")","v":""},"DOT3_DENSITY","DOT3 DETERMINING PROPERTIES OF BITUMINOUS MIXTURES-Tex-207-F","Specimen type:","Roadway","Specimen number:","1(B)","Bulk specific gravity, Ga"]
[2431,{"$f":"IF(INDIRECT(\"DOT3_DENSITY!G27\")<>\"\",INDIRECT(\"DOT3_DENSITY!G27\"),\"\")","v":""},"DOT3_DENSITY","DOT3 DETERMINING PROPERTIES OF BITUMINOUS MIXTURES-Tex-207-F","Specimen type:","Roadway","Specimen number:","1(B)","Percent density, %"]
[2432,{"$f":"IF(INDIRECT(\"DOT3_DENSITY!G28\")<>\"\",INDIRECT(\"DOT3_DENSITY!G28\"),\"\")","v":""},"DOT3_DENSITY","DOT3 DETERMINING PROPERTIES OF BITUMINOUS MIXTURES-Tex-207-F","Specimen type:","Roadway","Specimen number:","1(B)","Percent air voids, %"]
[2433,{"$f":"IF(INDIRECT(\"DOT3_DENSITY!G29\")<>\"\",INDIRECT(\"DOT3_DENSITY!G29\"),\"\")","v":""},"DOT3_DENSITY","DOT3 DETERMINING PROPERTIES OF BITUMINOUS MIXTURES-Tex-207-F","Specimen type:","Roadway","Specimen number:","1(B)","Percent VMA, %"]
[2434]
[2435]
[2436]
[2437]
[2438,{"$f":"IF(INDIRECT(\"DOT4_DENSITY!C5\")<>\"\",INDIRECT(\"DOT4_DENSITY!C5\"),\"\")","v":""},"DOT4_DENSITY","DOT4 DETERMINING PROPERTIES OF BITUMINOUS MIXTURES-Tex-207-F","Specimen type:","Laboratory","Specimen number:","1(1)","Specimen radius, mm",767]
[2439,{"$f":"IF(INDIRECT(\"DOT4_DENSITY!C6\")<>\"\",INDIRECT(\"DOT4_DENSITY!C6\"),\"\")","v":""},"DOT4_DENSITY","DOT4 DETERMINING PROPERTIES OF BITUMINOUS MIXTURES-Tex-207-F","Specimen type:","Laboratory","Specimen number:","1(1)","Specimen height",772]
[2440,{"$f":"IF(INDIRECT(\"DOT4_DENSITY!C7\")<>\"\",INDIRECT(\"DOT4_DENSITY!C7\"),\"\")","v":""},"DOT4_DENSITY","DOT4 DETERMINING PROPERTIES OF BITUMINOUS MIXTURES-Tex-207-F","Specimen type:","Laboratory","Specimen number:","1(1)","Trimmed core height, in",""]
[2441,{"$f":"IF(INDIRECT(\"DOT4_DENSITY!C8\")<>\"\",INDIRECT(\"DOT4_DENSITY!C8\"),\"\")","v":""},"DOT4_DENSITY","DOT4 DETERMINING PROPERTIES OF BITUMINOUS MIXTURES-Tex-207-F","Specimen type:","Laboratory","Specimen number:","1(1)","Weight of specimen in air, g",779]
[2442,{"$f":"IF(INDIRECT(\"DOT4_DENSITY!C9\")<>\"\",INDIRECT(\"DOT4_DENSITY!C9\"),\"\")","v":""},"DOT4_DENSITY","DOT4 DETERMINING PROPERTIES OF BITUMINOUS MIXTURES-Tex-207-F","Specimen type:","Laboratory","Specimen number:","1(1)","Weight of specimen in water, g",784]
[2443,{"$f":"IF(INDIRECT(\"DOT4_DENSITY!C10\")<>\"\",INDIRECT(\"DOT4_DENSITY!C10\"),\"\")","v":""},"DOT4_DENSITY","DOT4 DETERMINING PROPERTIES OF BITUMINOUS MIXTURES-Tex-207-F","Specimen type:","Laboratory","Specimen number:","1(1)","SSD weight of specimen in air, g",789]
[2444,{"$f":"IF(INDIRECT(\"DOT4_DENSITY!C11\")<>\"\",INDIRECT(\"DOT4_DENSITY!C11\"),\"\")","v":""},"DOT4_DENSITY","DOT4 DETERMINING PROPERTIES OF BITUMINOUS MIXTURES-Tex-207-F","Specimen type:","Laboratory","Specimen number:","1(1)","Volume of specimen",""]
[2445,{"$f":"IF(INDIRECT(\"DOT4_DENSITY!C12\")<>\"\",INDIRECT(\"DOT4_DENSITY!C12\"),\"\")","v":""},"DOT4_DENSITY","DOT4 DETERMINING PROPERTIES OF BITUMINOUS MIXTURES-Tex-207-F","Specimen type:","Laboratory","Specimen number:","1(1)","SSD Density",""]
[2446,{"$f":"IF(INDIRECT(\"DOT4_DENSITY!C13\")<>\"\",INDIRECT(\"DOT4_DENSITY!C13\"),\"\")","v":""},"DOT4_DENSITY","DOT4 DETERMINING PROPERTIES OF BITUMINOUS MIXTURES-Tex-207-F","Specimen type:","Laboratory","Specimen number:","1(1)","Percent absorption, %",""]
[2447,{"$f":"IF(INDIRECT(\"DOT4_DENSITY!C14\")<>\"\",INDIRECT(\"DOT4_DENSITY!C14\"),\"\")","v":""},"DOT4_DENSITY","DOT4 DETERMINING PROPERTIES OF BITUMINOUS MIXTURES-Tex-207-F","Specimen type:","Laboratory","Specimen number:","1(1)","Bag required for Ga",""]
[2448,{"$f":"IF(INDIRECT(\"DOT4_DENSITY!C15\")<>\"\",INDIRECT(\"DOT4_DENSITY!C15\"),\"\")","v":""},"DOT4_DENSITY","DOT4 DETERMINING PROPERTIES OF BITUMINOUS MIXTURES-Tex-207-F","Specimen type:","Laboratory","Specimen number:","1(1)","Bag Used for Ga",794]
[2449,{"$f":"IF(INDIRECT(\"DOT4_DENSITY!C17\")<>\"\",INDIRECT(\"DOT4_DENSITY!C17\"),\"\")","v":""},"DOT4_DENSITY","DOT4 DETERMINING PROPERTIES OF BITUMINOUS MIXTURES-Tex-207-F","Specimen type:","Laboratory","Specimen number:","1(1)","Vacuum bag method used",799]
[2450,{"$f":"IF(INDIRECT(\"DOT4_DENSITY!C18\")<>\"\",INDIRECT(\"DOT4_DENSITY!C18\"),\"\")","v":""},"DOT4_DENSITY","DOT4 DETERMINING PROPERTIES OF BITUMINOUS MIXTURES-Tex-207-F","Specimen type:","Laboratory","Specimen number:","1(1)","Weight of specimen in air, g",804]
[2451,{"$f":"IF(INDIRECT(\"DOT4_DENSITY!C19\")<>\"\",INDIRECT(\"DOT4_DENSITY!C19\"),\"\")","v":""},"DOT4_DENSITY","DOT4 DETERMINING PROPERTIES OF BITUMINOUS MIXTURES-Tex-207-F","Specimen type:","Laboratory","Specimen number:","1(1)","Sealed weight of specimen in water, g",809]
[2452,{"$f":"IF(INDIRECT(\"DOT4_DENSITY!C20\")<>\"\",INDIRECT(\"DOT4_DENSITY!C20\"),\"\")","v":""},"DOT4_DENSITY","DOT4 DETERMINING PROPERTIES OF BITUMINOUS MIXTURES-Tex-207-F","Specimen type:","Laboratory","Specimen number:","1(1)","Dry specimen weight after submersion, g",814]
[2453,{"$f":"IF(INDIRECT(\"DOT4_DENSITY!C21\")<>\"\",INDIRECT(\"DOT4_DENSITY!C21\"),\"\")","v":""},"DOT4_DENSITY","DOT4 DETERMINING PROPERTIES OF BITUMINOUS MIXTURES-Tex-207-F","Specimen type:","Laboratory","Specimen number:","1(1)","Weight of vacuum bag(s), g",819]
[2454,{"$f":"IF(INDIRECT(\"DOT4_DENSITY!C22\")<>\"\",INDIRECT(\"DOT4_DENSITY!C22\"),\"\")","v":""},"DOT4_DENSITY","DOT4 DETERMINING PROPERTIES OF BITUMINOUS MIXTURES-Tex-207-F","Specimen type:","Laboratory","Specimen number:","1(1)","Vacuum bag volume correction factor",""]
[2455,{"$f":"IF(INDIRECT(\"DOT4_DENSITY!C23\")<>\"\",INDIRECT(\"DOT4_DENSITY!C23\"),\"\")","v":""},"DOT4_DENSITY","DOT4 DETERMINING PROPERTIES OF BITUMINOUS MIXTURES-Tex-207-F","Specimen type:","Laboratory","Specimen number:","1(1)","Vacuum bag density",""]
[2456,{"$f":"IF(INDIRECT(\"DOT4_DENSITY!C26\")<>\"\",INDIRECT(\"DOT4_DENSITY!C26\"),\"\")","v":""},"DOT4_DENSITY","DOT4 DETERMINING PROPERTIES OF BITUMINOUS MIXTURES-Tex-207-F","Specimen type:","Laboratory","Specimen number:","1(1)","Bulk specific gravity, Ga",""]
[2457,{"$f":"IF(INDIRECT(\"DOT4_DENSITY!C27\")<>\"\",INDIRECT(\"DOT4_DENSITY!C27\"),\"\")","v":""},"DOT4_DENSITY","DOT4 DETERMINING PROPERTIES OF BITUMINOUS MIXTURES-Tex-207-F","Specimen type:","Laboratory","Specimen number:","1(1)","Percent density, %",""]
[2458,{"$f":"IF(INDIRECT(\"DOT4_DENSITY!C28\")<>\"\",INDIRECT(\"DOT4_DENSITY!C28\"),\"\")","v":""},"DOT4_DENSITY","DOT4 DETERMINING PROPERTIES OF BITUMINOUS MIXTURES-Tex-207-F","Specimen type:","Laboratory","Specimen number:","1(1)","Percent air voids, %",""]
[2459,{"$f":"IF(INDIRECT(\"DOT4_DENSITY!C29\")<>\"\",INDIRECT(\"DOT4_DENSITY!C29\"),\"\")","v":""},"DOT4_DENSITY","DOT4 DETERMINING PROPERTIES OF BITUMINOUS MIXTURES-Tex-207-F","Specimen type:","Laboratory","Specimen number:","1(1)","Percent VMA, %",""]
[2460,null,null,null,null,null,null,null,null,""]
[2461,{"$f":"IF(INDIRECT(\"DOT4_DENSITY!D5\")<>\"\",INDIRECT(\"DOT4_DENSITY!D5\"),\"\")","v":""},"DOT4_DENSITY","DOT4 DETERMINING PROPERTIES OF BITUMINOUS MIXTURES-Tex-207-F","Specimen type:","Laboratory","Specimen number:","1(2)","Specimen radius, mm",768]
[2462,{"$f":"IF(INDIRECT(\"DOT4_DENSITY!D6\")<>\"\",INDIRECT(\"DOT4_DENSITY!D6\"),\"\")","v":""},"DOT4_DENSITY","DOT4 DETERMINING PROPERTIES OF BITUMINOUS MIXTURES-Tex-207-F","Specimen type:","Laboratory","Specimen number:","1(2)","Specimen height",773]
[2463,{"$f":"IF(INDIRECT(\"DOT4_DENSITY!D7\")<>\"\",INDIRECT(\"DOT4_DENSITY!D7\"),\"\")","v":""},"DOT4_DENSITY","DOT4 DETERMINING PROPERTIES OF BITUMINOUS MIXTURES-Tex-207-F","Specimen type:","Laboratory","Specimen number:","1(2)","Trimmed core height, in",""]
[2464,{"$f":"IF(INDIRECT(\"DOT4_DENSITY!D8\")<>\"\",INDIRECT(\"DOT4_DENSITY!D8\"),\"\")","v":""},"DOT4_DENSITY","DOT4 DETERMINING PROPERTIES OF BITUMINOUS MIXTURES-Tex-207-F","Specimen type:","Laboratory","Specimen number:","1(2)","Weight of specimen in air, g",780]
[2465,{"$f":"IF(INDIRECT(\"DOT4_DENSITY!D9\")<>\"\",INDIRECT(\"DOT4_DENSITY!D9\"),\"\")","v":""},"DOT4_DENSITY","DOT4 DETERMINING PROPERTIES OF BITUMINOUS MIXTURES-Tex-207-F","Specimen type:","Laboratory","Specimen number:","1(2)","Weight of specimen in water, g",785]
[2466,{"$f":"IF(INDIRECT(\"DOT4_DENSITY!D10\")<>\"\",INDIRECT(\"DOT4_DENSITY!D10\"),\"\")","v":""},"DOT4_DENSITY","DOT4 DETERMINING PROPERTIES OF BITUMINOUS MIXTURES-Tex-207-F","Specimen type:","Laboratory","Specimen number:","1(2)","SSD weight of specimen in air, g",790]
[2467,{"$f":"IF(INDIRECT(\"DOT4_DENSITY!D11\")<>\"\",INDIRECT(\"DOT4_DENSITY!D11\"),\"\")","v":""},"DOT4_DENSITY","DOT4 DETERMINING PROPERTIES OF BITUMINOUS MIXTURES-Tex-207-F","Specimen type:","Laboratory","Specimen number:","1(2)","Volume of specimen",""]
[2468,{"$f":"IF(INDIRECT(\"DOT4_DENSITY!D12\")<>\"\",INDIRECT(\"DOT4_DENSITY!D12\"),\"\")","v":""},"DOT4_DENSITY","DOT4 DETERMINING PROPERTIES OF BITUMINOUS MIXTURES-Tex-207-F","Specimen type:","Laboratory","Specimen number:","1(2)","SSD Density",""]
[2469,{"$f":"IF(INDIRECT(\"DOT4_DENSITY!D13\")<>\"\",INDIRECT(\"DOT4_DENSITY!D13\"),\"\")","v":""},"DOT4_DENSITY","DOT4 DETERMINING PROPERTIES OF BITUMINOUS MIXTURES-Tex-207-F","Specimen type:","Laboratory","Specimen number:","1(2)","Percent absorption, %",""]
[2470,{"$f":"IF(INDIRECT(\"DOT4_DENSITY!D14\")<>\"\",INDIRECT(\"DOT4_DENSITY!D14\"),\"\")","v":""},"DOT4_DENSITY","DOT4 DETERMINING PROPERTIES OF BITUMINOUS MIXTURES-Tex-207-F","Specimen type:","Laboratory","Specimen number:","1(2)","Bag required for Ga",""]
[2471,{"$f":"IF(INDIRECT(\"DOT4_DENSITY!D15\")<>\"\",INDIRECT(\"DOT4_DENSITY!D15\"),\"\")","v":""},"DOT4_DENSITY","DOT4 DETERMINING PROPERTIES OF BITUMINOUS MIXTURES-Tex-207-F","Specimen type:","Laboratory","Specimen number:","1(2)","Bag Used for Ga",795]
[2472,{"$f":"IF(INDIRECT(\"DOT4_DENSITY!D17\")<>\"\",INDIRECT(\"DOT4_DENSITY!D17\"),\"\")","v":""},"DOT4_DENSITY","DOT4 DETERMINING PROPERTIES OF BITUMINOUS MIXTURES-Tex-207-F","Specimen type:","Laboratory","Specimen number:","1(2)","Vacuum bag method used",800]
[2473,{"$f":"IF(INDIRECT(\"DOT4_DENSITY!D18\")<>\"\",INDIRECT(\"DOT4_DENSITY!D18\"),\"\")","v":""},"DOT4_DENSITY","DOT4 DETERMINING PROPERTIES OF BITUMINOUS MIXTURES-Tex-207-F","Specimen type:","Laboratory","Specimen number:","1(2)","Weight of specimen in air, g",805]
[2474,{"$f":"IF(INDIRECT(\"DOT4_DENSITY!D19\")<>\"\",INDIRECT(\"DOT4_DENSITY!D19\"),\"\")","v":""},"DOT4_DENSITY","DOT4 DETERMINING PROPERTIES OF BITUMINOUS MIXTURES-Tex-207-F","Specimen type:","Laboratory","Specimen number:","1(2)","Sealed weight of specimen in water, g",810]
[2475,{"$f":"IF(INDIRECT(\"DOT4_DENSITY!D20\")<>\"\",INDIRECT(\"DOT4_DENSITY!D20\"),\"\")","v":""},"DOT4_DENSITY","DOT4 DETERMINING PROPERTIES OF BITUMINOUS MIXTURES-Tex-207-F","Specimen type:","Laboratory","Specimen number:","1(2)","Dry specimen weight after submersion, g",815]
[2476,{"$f":"IF(INDIRECT(\"DOT4_DENSITY!D21\")<>\"\",INDIRECT(\"DOT4_DENSITY!D21\"),\"\")","v":""},"DOT4_DENSITY","DOT4 DETERMINING PROPERTIES OF BITUMINOUS MIXTURES-Tex-207-F","Specimen type:","Laboratory","Specimen number:","1(2)","Weight of vacuum bag(s), g",820]
[2477,{"$f":"IF(INDIRECT(\"DOT4_DENSITY!D22\")<>\"\",INDIRECT(\"DOT4_DENSITY!D22\"),\"\")","v":""},"DOT4_DENSITY","DOT4 DETERMINING PROPERTIES OF BITUMINOUS MIXTURES-Tex-207-F","Specimen type:","Laboratory","Specimen number:","1(2)","Vacuum bag volume correction factor",""]
[2478,{"$f":"IF(INDIRECT(\"DOT4_DENSITY!D23\")<>\"\",INDIRECT(\"DOT4_DENSITY!D23\"),\"\")","v":""},"DOT4_DENSITY","DOT4 DETERMINING PROPERTIES OF BITUMINOUS MIXTURES-Tex-207-F","Specimen type:","Laboratory","Specimen number:","1(2)","Vacuum bag density",""]
[2479,{"$f":"IF(INDIRECT(\"DOT4_DENSITY!D26\")<>\"\",INDIRECT(\"DOT4_DENSITY!D26\"),\"\")","v":""},"DOT4_DENSITY","DOT4 DETERMINING PROPERTIES OF BITUMINOUS MIXTURES-Tex-207-F","Specimen type:","Laboratory","Specimen number:","1(2)","Bulk specific gravity, Ga",""]
[2480,{"$f":"IF(INDIRECT(\"DOT4_DENSITY!D27\")<>\"\",INDIRECT(\"DOT4_DENSITY!D27\"),\"\")","v":""},"DOT4_DENSITY","DOT4 DETERMINING PROPERTIES OF BITUMINOUS MIXTURES-Tex-207-F","Specimen type:","Laboratory","Specimen number:","1(2)","Percent density, %",""]
[2481,{"$f":"IF(INDIRECT(\"DOT4_DENSITY!D28\")<>\"\",INDIRECT(\"DOT4_DENSITY!D28\"),\"\")","v":""},"DOT4_DENSITY","DOT4 DETERMINING PROPERTIES OF BITUMINOUS MIXTURES-Tex-207-F","Specimen type:","Laboratory","Specimen number:","1(2)","Percent air voids, %",""]
[2482,{"$f":"IF(INDIRECT(\"DOT4_DENSITY!D29\")<>\"\",INDIRECT(\"DOT4_DENSITY!D29\"),\"\")","v":""},"DOT4_DENSITY","DOT4 DETERMINING PROPERTIES OF BITUMINOUS MIXTURES-Tex-207-F","Specimen type:","Laboratory","Specimen number:","1(2)","Percent VMA, %",""]
[2483,null,null,null,null,null,null,null,null,""]
[2484,{"$f":"IF(INDIRECT(\"DOT4_DENSITY!E5\")<>\"\",INDIRECT(\"DOT4_DENSITY!E5\"),\"\")","v":""},"DOT4_DENSITY","DOT4 DETERMINING PROPERTIES OF BITUMINOUS MIXTURES-Tex-207-F","Specimen type:","Laboratory","Specimen number:","1(3)","Specimen radius, mm",769]
[2485,{"$f":"IF(INDIRECT(\"DOT4_DENSITY!E6\")<>\"\",INDIRECT(\"DOT4_DENSITY!E6\"),\"\")","v":""},"DOT4_DENSITY","DOT4 DETERMINING PROPERTIES OF BITUMINOUS MIXTURES-Tex-207-F","Specimen type:","Laboratory","Specimen number:","1(3)","Specimen height",774]
[2486,{"$f":"IF(INDIRECT(\"DOT4_DENSITY!E7\")<>\"\",INDIRECT(\"DOT4_DENSITY!E7\"),\"\")","v":""},"DOT4_DENSITY","DOT4 DETERMINING PROPERTIES OF BITUMINOUS MIXTURES-Tex-207-F","Specimen type:","Laboratory","Specimen number:","1(3)","Trimmed core height, in",""]
[2487,{"$f":"IF(INDIRECT(\"DOT4_DENSITY!E8\")<>\"\",INDIRECT(\"DOT4_DENSITY!E8\"),\"\")","v":""},"DOT4_DENSITY","DOT4 DETERMINING PROPERTIES OF BITUMINOUS MIXTURES-Tex-207-F","Specimen type:","Laboratory","Specimen number:","1(3)","Weight of specimen in air, g",781]
[2488,{"$f":"IF(INDIRECT(\"DOT4_DENSITY!E9\")<>\"\",INDIRECT(\"DOT4_DENSITY!E9\"),\"\")","v":""},"DOT4_DENSITY","DOT4 DETERMINING PROPERTIES OF BITUMINOUS MIXTURES-Tex-207-F","Specimen type:","Laboratory","Specimen number:","1(3)","Weight of specimen in water, g",786]
[2489,{"$f":"IF(INDIRECT(\"DOT4_DENSITY!E10\")<>\"\",INDIRECT(\"DOT4_DENSITY!E10\"),\"\")","v":""},"DOT4_DENSITY","DOT4 DETERMINING PROPERTIES OF BITUMINOUS MIXTURES-Tex-207-F","Specimen type:","Laboratory","Specimen number:","1(3)","SSD weight of specimen in air, g",791]
[2490,{"$f":"IF(INDIRECT(\"DOT4_DENSITY!E11\")<>\"\",INDIRECT(\"DOT4_DENSITY!E11\"),\"\")","v":""},"DOT4_DENSITY","DOT4 DETERMINING PROPERTIES OF BITUMINOUS MIXTURES-Tex-207-F","Specimen type:","Laboratory","Specimen number:","1(3)","Volume of specimen",""]
[2491,{"$f":"IF(INDIRECT(\"DOT4_DENSITY!E12\")<>\"\",INDIRECT(\"DOT4_DENSITY!E12\"),\"\")","v":""},"DOT4_DENSITY","DOT4 DETERMINING PROPERTIES OF BITUMINOUS MIXTURES-Tex-207-F","Specimen type:","Laboratory","Specimen number:","1(3)","SSD Density",""]
[2492,{"$f":"IF(INDIRECT(\"DOT4_DENSITY!E13\")<>\"\",INDIRECT(\"DOT4_DENSITY!E13\"),\"\")","v":""},"DOT4_DENSITY","DOT4 DETERMINING PROPERTIES OF BITUMINOUS MIXTURES-Tex-207-F","Specimen type:","Laboratory","Specimen number:","1(3)","Percent absorption, %",""]
[2493,{"$f":"IF(INDIRECT(\"DOT4_DENSITY!E14\")<>\"\",INDIRECT(\"DOT4_DENSITY!E14\"),\"\")","v":""},"DOT4_DENSITY","DOT4 DETERMINING PROPERTIES OF BITUMINOUS MIXTURES-Tex-207-F","Specimen type:","Laboratory","Specimen number:","1(3)","Bag required for Ga",""]
[2494,{"$f":"IF(INDIRECT(\"DOT4_DENSITY!E15\")<>\"\",INDIRECT(\"DOT4_DENSITY!E15\"),\"\")","v":""},"DOT4_DENSITY","DOT4 DETERMINING PROPERTIES OF BITUMINOUS MIXTURES-Tex-207-F","Specimen type:","Laboratory","Specimen number:","1(3)","Bag Used for Ga",796]
[2495,{"$f":"IF(INDIRECT(\"DOT4_DENSITY!E17\")<>\"\",INDIRECT(\"DOT4_DENSITY!E17\"),\"\")","v":""},"DOT4_DENSITY","DOT4 DETERMINING PROPERTIES OF BITUMINOUS MIXTURES-Tex-207-F","Specimen type:","Laboratory","Specimen number:","1(3)","Vacuum bag method used",801]
[2496,{"$f":"IF(INDIRECT(\"DOT4_DENSITY!E18\")<>\"\",INDIRECT(\"DOT4_DENSITY!E18\"),\"\")","v":""},"DOT4_DENSITY","DOT4 DETERMINING PROPERTIES OF BITUMINOUS MIXTURES-Tex-207-F","Specimen type:","Laboratory","Specimen number:","1(3)","Weight of specimen in air, g",806]
[2497,{"$f":"IF(INDIRECT(\"DOT4_DENSITY!E19\")<>\"\",INDIRECT(\"DOT4_DENSITY!E19\"),\"\")","v":""},"DOT4_DENSITY","DOT4 DETERMINING PROPERTIES OF BITUMINOUS MIXTURES-Tex-207-F","Specimen type:","Laboratory","Specimen number:","1(3)","Sealed weight of specimen in water, g",811]
[2498,{"$f":"IF(INDIRECT(\"DOT4_DENSITY!E20\")<>\"\",INDIRECT(\"DOT4_DENSITY!E20\"),\"\")","v":""},"DOT4_DENSITY","DOT4 DETERMINING PROPERTIES OF BITUMINOUS MIXTURES-Tex-207-F","Specimen type:","Laboratory","Specimen number:","1(3)","Dry specimen weight after submersion, g",816]
[2499,{"$f":"IF(INDIRECT(\"DOT4_DENSITY!E21\")<>\"\",INDIRECT(\"DOT4_DENSITY!E21\"),\"\")","v":""},"DOT4_DENSITY","DOT4 DETERMINING PROPERTIES OF BITUMINOUS MIXTURES-Tex-207-F","Specimen type:","Laboratory","Specimen number:","1(3)","Weight of vacuum bag(s), g",821]
[2500,{"$f":"IF(INDIRECT(\"DOT4_DENSITY!E22\")<>\"\",INDIRECT(\"DOT4_DENSITY!E22\"),\"\")","v":""},"DOT4_DENSITY","DOT4 DETERMINING PROPERTIES OF BITUMINOUS MIXTURES-Tex-207-F","Specimen type:","Laboratory","Specimen number:","1(3)","Vacuum bag volume correction factor",""]
[2501,{"$f":"IF(INDIRECT(\"DOT4_DENSITY!E23\")<>\"\",INDIRECT(\"DOT4_DENSITY!E23\"),\"\")","v":""},"DOT4_DENSITY","DOT4 DETERMINING PROPERTIES OF BITUMINOUS MIXTURES-Tex-207-F","Specimen type:","Laboratory","Specimen number:","1(3)","Vacuum bag density",""]
[2502,{"$f":"IF(INDIRECT(\"DOT4_DENSITY!E26\")<>\"\",INDIRECT(\"DOT4_DENSITY!E26\"),\"\")","v":""},"DOT4_DENSITY","DOT4 DETERMINING PROPERTIES OF BITUMINOUS MIXTURES-Tex-207-F","Specimen type:","Laboratory","Specimen number:","1(3)","Bulk specific gravity, Ga",""]
[2503,{"$f":"IF(INDIRECT(\"DOT4_DENSITY!E27\")<>\"\",INDIRECT(\"DOT4_DENSITY!E27\"),\"\")","v":""},"DOT4_DENSITY","DOT4 DETERMINING PROPERTIES OF BITUMINOUS MIXTURES-Tex-207-F","Specimen type:","Laboratory","Specimen number:","1(3)","Percent density, %",""]
[2504,{"$f":"IF(INDIRECT(\"DOT4_DENSITY!E28\")<>\"\",INDIRECT(\"DOT4_DENSITY!E28\"),\"\")","v":""},"DOT4_DENSITY","DOT4 DETERMINING PROPERTIES OF BITUMINOUS MIXTURES-Tex-207-F","Specimen type:","Laboratory","Specimen number:","1(3)","Percent air voids, %",""]
[2505,{"$f":"IF(INDIRECT(\"DOT4_DENSITY!E29\")<>\"\",INDIRECT(\"DOT4_DENSITY!E29\"),\"\")","v":""},"DOT4_DENSITY","DOT4 DETERMINING PROPERTIES OF BITUMINOUS MIXTURES-Tex-207-F","Specimen type:","Laboratory","Specimen number:","1(3)","Percent VMA, %",""]
[2506,null,null,null,null,null,null,null,null,""]
[2507,{"$f":"IF(INDIRECT(\"DOT4_DENSITY!F5\")<>\"\",INDIRECT(\"DOT4_DENSITY!F5\"),\"\")","v":""},"DOT4_DENSITY","DOT4 DETERMINING PROPERTIES OF BITUMINOUS MIXTURES-Tex-207-F","Specimen type:","Roadway","Specimen number:","1(A)","Specimen radius, mm",770]
[2508,{"$f":"IF(INDIRECT(\"DOT4_DENSITY!F6\")<>\"\",INDIRECT(\"DOT4_DENSITY!F6\"),\"\")","v":""},"DOT4_DENSITY","DOT4 DETERMINING PROPERTIES OF BITUMINOUS MIXTURES-Tex-207-F","Specimen type:","Roadway","Specimen number:","1(A)","Specimen height",775]
[2509,{"$f":"IF(INDIRECT(\"DOT4_DENSITY!F7\")<>\"\",INDIRECT(\"DOT4_DENSITY!F7\"),\"\")","v":""},"DOT4_DENSITY","DOT4 DETERMINING PROPERTIES OF BITUMINOUS MIXTURES-Tex-207-F","Specimen type:","Roadway","Specimen number:","1(A)","Trimmed core height, in",778]
[2510,{"$f":"IF(INDIRECT(\"DOT4_DENSITY!F8\")<>\"\",INDIRECT(\"DOT4_DENSITY!F8\"),\"\")","v":""},"DOT4_DENSITY","DOT4 DETERMINING PROPERTIES OF BITUMINOUS MIXTURES-Tex-207-F","Specimen type:","Roadway","Specimen number:","1(A)","Weight of specimen in air, g",782]
[2511,{"$f":"IF(INDIRECT(\"DOT4_DENSITY!F9\")<>\"\",INDIRECT(\"DOT4_DENSITY!F9\"),\"\")","v":""},"DOT4_DENSITY","DOT4 DETERMINING PROPERTIES OF BITUMINOUS MIXTURES-Tex-207-F","Specimen type:","Roadway","Specimen number:","1(A)","Weight of specimen in water, g",787]
[2512,{"$f":"IF(INDIRECT(\"DOT4_DENSITY!F10\")<>\"\",INDIRECT(\"DOT4_DENSITY!F10\"),\"\")","v":""},"DOT4_DENSITY","DOT4 DETERMINING PROPERTIES OF BITUMINOUS MIXTURES-Tex-207-F","Specimen type:","Roadway","Specimen number:","1(A)","SSD weight of specimen in air, g",792]
[2513,{"$f":"IF(INDIRECT(\"DOT4_DENSITY!F11\")<>\"\",INDIRECT(\"DOT4_DENSITY!F11\"),\"\")","v":""},"DOT4_DENSITY","DOT4 DETERMINING PROPERTIES OF BITUMINOUS MIXTURES-Tex-207-F","Specimen type:","Roadway","Specimen number:","1(A)","Volume of specimen",""]
[2514,{"$f":"IF(INDIRECT(\"DOT4_DENSITY!F12\")<>\"\",INDIRECT(\"DOT4_DENSITY!F12\"),\"\")","v":""},"DOT4_DENSITY","DOT4 DETERMINING PROPERTIES OF BITUMINOUS MIXTURES-Tex-207-F","Specimen type:","Roadway","Specimen number:","1(A)","SSD Density",""]
[2515,{"$f":"IF(INDIRECT(\"DOT4_DENSITY!F13\")<>\"\",INDIRECT(\"DOT4_DENSITY!F13\"),\"\")","v":""},"DOT4_DENSITY","DOT4 DETERMINING PROPERTIES OF BITUMINOUS MIXTURES-Tex-207-F","Specimen type:","Roadway","Specimen number:","1(A)","Percent absorption, %",""]
[2516,{"$f":"IF(INDIRECT(\"DOT4_DENSITY!F14\")<>\"\",INDIRECT(\"DOT4_DENSITY!F14\"),\"\")","v":""},"DOT4_DENSITY","DOT4 DETERMINING PROPERTIES OF BITUMINOUS MIXTURES-Tex-207-F","Specimen type:","Roadway","Specimen number:","1(A)","Bag required for Ga",""]
[2517,{"$f":"IF(INDIRECT(\"DOT4_DENSITY!F15\")<>\"\",INDIRECT(\"DOT4_DENSITY!F15\"),\"\")","v":""},"DOT4_DENSITY","DOT4 DETERMINING PROPERTIES OF BITUMINOUS MIXTURES-Tex-207-F","Specimen type:","Roadway","Specimen number:","1(A)","Bag Used for Ga",797]
[2518,{"$f":"IF(INDIRECT(\"DOT4_DENSITY!F17\")<>\"\",INDIRECT(\"DOT4_DENSITY!F17\"),\"\")","v":""},"DOT4_DENSITY","DOT4 DETERMINING PROPERTIES OF BITUMINOUS MIXTURES-Tex-207-F","Specimen type:","Roadway","Specimen number:","1(A)","Vacuum bag method used",802]
[2519,{"$f":"IF(INDIRECT(\"DOT4_DENSITY!F18\")<>\"\",INDIRECT(\"DOT4_DENSITY!F18\"),\"\")","v":""},"DOT4_DENSITY","DOT4 DETERMINING PROPERTIES OF BITUMINOUS MIXTURES-Tex-207-F","Specimen type:","Roadway","Specimen number:","1(A)","Weight of specimen in air, g",807]
[2520,{"$f":"IF(INDIRECT(\"DOT4_DENSITY!F19\")<>\"\",INDIRECT(\"DOT4_DENSITY!F19\"),\"\")","v":""},"DOT4_DENSITY","DOT4 DETERMINING PROPERTIES OF BITUMINOUS MIXTURES-Tex-207-F","Specimen type:","Roadway","Specimen number:","1(A)","Sealed weight of specimen in water, g",812]
[2521,{"$f":"IF(INDIRECT(\"DOT4_DENSITY!F20\")<>\"\",INDIRECT(\"DOT4_DENSITY!F20\"),\"\")","v":""},"DOT4_DENSITY","DOT4 DETERMINING PROPERTIES OF BITUMINOUS MIXTURES-Tex-207-F","Specimen type:","Roadway","Specimen number:","1(A)","Dry specimen weight after submersion, g",817]
[2522,{"$f":"IF(INDIRECT(\"DOT4_DENSITY!F21\")<>\"\",INDIRECT(\"DOT4_DENSITY!F21\"),\"\")","v":""},"DOT4_DENSITY","DOT4 DETERMINING PROPERTIES OF BITUMINOUS MIXTURES-Tex-207-F","Specimen type:","Roadway","Specimen number:","1(A)","Weight of vacuum bag(s), g",822]
[2523,{"$f":"IF(INDIRECT(\"DOT4_DENSITY!F22\")<>\"\",INDIRECT(\"DOT4_DENSITY!F22\"),\"\")","v":""},"DOT4_DENSITY","DOT4 DETERMINING PROPERTIES OF BITUMINOUS MIXTURES-Tex-207-F","Specimen type:","Roadway","Specimen number:","1(A)","Vacuum bag volume correction factor",""]
[2524,{"$f":"IF(INDIRECT(\"DOT4_DENSITY!F23\")<>\"\",INDIRECT(\"DOT4_DENSITY!F23\"),\"\")","v":""},"DOT4_DENSITY","DOT4 DETERMINING PROPERTIES OF BITUMINOUS MIXTURES-Tex-207-F","Specimen type:","Roadway","Specimen number:","1(A)","Vacuum bag density",""]
[2525,{"$f":"IF(INDIRECT(\"DOT4_DENSITY!F26\")<>\"\",INDIRECT(\"DOT4_DENSITY!F26\"),\"\")","v":""},"DOT4_DENSITY","DOT4 DETERMINING PROPERTIES OF BITUMINOUS MIXTURES-Tex-207-F","Specimen type:","Roadway","Specimen number:","1(A)","Bulk specific gravity, Ga",""]
[2526,{"$f":"IF(INDIRECT(\"DOT4_DENSITY!F27\")<>\"\",INDIRECT(\"DOT4_DENSITY!F27\"),\"\")","v":""},"DOT4_DENSITY","DOT4 DETERMINING PROPERTIES OF BITUMINOUS MIXTURES-Tex-207-F","Specimen type:","Roadway","Specimen number:","1(A)","Percent density, %",""]
[2527,{"$f":"IF(INDIRECT(\"DOT4_DENSITY!F28\")<>\"\",INDIRECT(\"DOT4_DENSITY!F28\"),\"\")","v":""},"DOT4_DENSITY","DOT4 DETERMINING PROPERTIES OF BITUMINOUS MIXTURES-Tex-207-F","Specimen type:","Roadway","Specimen number:","1(A)","Percent air voids, %",""]
[2528,{"$f":"IF(INDIRECT(\"DOT4_DENSITY!F29\")<>\"\",INDIRECT(\"DOT4_DENSITY!F29\"),\"\")","v":""},"DOT4_DENSITY","DOT4 DETERMINING PROPERTIES OF BITUMINOUS MIXTURES-Tex-207-F","Specimen type:","Roadway","Specimen number:","1(A)","Percent VMA, %",""]
[2529,null,null,null,null,null,null,null,null,""]
[2530,{"$f":"IF(INDIRECT(\"DOT4_DENSITY!G5\")<>\"\",INDIRECT(\"DOT4_DENSITY!G5\"),\"\")","v":""},"DOT4_DENSITY","DOT4 DETERMINING PROPERTIES OF BITUMINOUS MIXTURES-Tex-207-F","Specimen type:","Roadway","Specimen number:","1(B)","Specimen radius, mm",771]
[2531,{"$f":"IF(INDIRECT(\"DOT4_DENSITY!G6\")<>\"\",INDIRECT(\"DOT4_DENSITY!G6\"),\"\")","v":""},"DOT4_DENSITY","DOT4 DETERMINING PROPERTIES OF BITUMINOUS MIXTURES-Tex-207-F","Specimen type:","Roadway","Specimen number:","1(B)","Specimen height",776]
[2532,{"$f":"IF(INDIRECT(\"DOT4_DENSITY!G7\")<>\"\",INDIRECT(\"DOT4_DENSITY!G7\"),\"\")","v":""},"DOT4_DENSITY","DOT4 DETERMINING PROPERTIES OF BITUMINOUS MIXTURES-Tex-207-F","Specimen type:","Roadway","Specimen number:","1(B)","Trimmed core height, in",779]
[2533,{"$f":"IF(INDIRECT(\"DOT4_DENSITY!G8\")<>\"\",INDIRECT(\"DOT4_DENSITY!G8\"),\"\")","v":""},"DOT4_DENSITY","DOT4 DETERMINING PROPERTIES OF BITUMINOUS MIXTURES-Tex-207-F","Specimen type:","Roadway","Specimen number:","1(B)","Weight of specimen in air, g",783]
[2534,{"$f":"IF(INDIRECT(\"DOT4_DENSITY!G9\")<>\"\",INDIRECT(\"DOT4_DENSITY!G9\"),\"\")","v":""},"DOT4_DENSITY","DOT4 DETERMINING PROPERTIES OF BITUMINOUS MIXTURES-Tex-207-F","Specimen type:","Roadway","Specimen number:","1(B)","Weight of specimen in water, g",788]
[2535,{"$f":"IF(INDIRECT(\"DOT4_DENSITY!G10\")<>\"\",INDIRECT(\"DOT4_DENSITY!G10\"),\"\")","v":""},"DOT4_DENSITY","DOT4 DETERMINING PROPERTIES OF BITUMINOUS MIXTURES-Tex-207-F","Specimen type:","Roadway","Specimen number:","1(B)","SSD weight of specimen in air, g",793]
[2536,{"$f":"IF(INDIRECT(\"DOT4_DENSITY!G11\")<>\"\",INDIRECT(\"DOT4_DENSITY!G11\"),\"\")","v":""},"DOT4_DENSITY","DOT4 DETERMINING PROPERTIES OF BITUMINOUS MIXTURES-Tex-207-F","Specimen type:","Roadway","Specimen number:","1(B)","Volume of specimen",""]
[2537,{"$f":"IF(INDIRECT(\"DOT4_DENSITY!G12\")<>\"\",INDIRECT(\"DOT4_DENSITY!G12\"),\"\")","v":""},"DOT4_DENSITY","DOT4 DETERMINING PROPERTIES OF BITUMINOUS MIXTURES-Tex-207-F","Specimen type:","Roadway","Specimen number:","1(B)","SSD Density",""]
[2538,{"$f":"IF(INDIRECT(\"DOT4_DENSITY!G13\")<>\"\",INDIRECT(\"DOT4_DENSITY!G13\"),\"\")","v":""},"DOT4_DENSITY","DOT4 DETERMINING PROPERTIES OF BITUMINOUS MIXTURES-Tex-207-F","Specimen type:","Roadway","Specimen number:","1(B)","Percent absorption, %",""]
[2539,{"$f":"IF(INDIRECT(\"DOT4_DENSITY!G14\")<>\"\",INDIRECT(\"DOT4_DENSITY!G14\"),\"\")","v":""},"DOT4_DENSITY","DOT4 DETERMINING PROPERTIES OF BITUMINOUS MIXTURES-Tex-207-F","Specimen type:","Roadway","Specimen number:","1(B)","Bag required for Ga",""]
[2540,{"$f":"IF(INDIRECT(\"DOT4_DENSITY!G15\")<>\"\",INDIRECT(\"DOT4_DENSITY!G15\"),\"\")","v":""},"DOT4_DENSITY","DOT4 DETERMINING PROPERTIES OF BITUMINOUS MIXTURES-Tex-207-F","Specimen type:","Roadway","Specimen number:","1(B)","Bag Used for Ga",798]
[2541,{"$f":"IF(INDIRECT(\"DOT4_DENSITY!G17\")<>\"\",INDIRECT(\"DOT4_DENSITY!G17\"),\"\")","v":""},"DOT4_DENSITY","DOT4 DETERMINING PROPERTIES OF BITUMINOUS MIXTURES-Tex-207-F","Specimen type:","Roadway","Specimen number:","1(B)","Vacuum bag method used",803]
[2542,{"$f":"IF(INDIRECT(\"DOT4_DENSITY!G18\")<>\"\",INDIRECT(\"DOT4_DENSITY!G18\"),\"\")","v":""},"DOT4_DENSITY","DOT4 DETERMINING PROPERTIES OF BITUMINOUS MIXTURES-Tex-207-F","Specimen type:","Roadway","Specimen number:","1(B)","Weight of specimen in air, g",808]
[2543,{"$f":"IF(INDIRECT(\"DOT4_DENSITY!G19\")<>\"\",INDIRECT(\"DOT4_DENSITY!G19\"),\"\")","v":""},"DOT4_DENSITY","DOT4 DETERMINING PROPERTIES OF BITUMINOUS MIXTURES-Tex-207-F","Specimen type:","Roadway","Specimen number:","1(B)","Sealed weight of specimen in water, g",813]
[2544,{"$f":"IF(INDIRECT(\"DOT4_DENSITY!G20\")<>\"\",INDIRECT(\"DOT4_DENSITY!G20\"),\"\")","v":""},"DOT4_DENSITY","DOT4 DETERMINING PROPERTIES OF BITUMINOUS MIXTURES-Tex-207-F","Specimen type:","Roadway","Specimen number:","1(B)","Dry specimen weight after submersion, g",818]
[2545,{"$f":"IF(INDIRECT(\"DOT4_DENSITY!G21\")<>\"\",INDIRECT(\"DOT4_DENSITY!G21\"),\"\")","v":""},"DOT4_DENSITY","DOT4 DETERMINING PROPERTIES OF BITUMINOUS MIXTURES-Tex-207-F","Specimen type:","Roadway","Specimen number:","1(B)","Weight of vacuum bag(s), g",823]
[2546,{"$f":"IF(INDIRECT(\"DOT4_DENSITY!G22\")<>\"\",INDIRECT(\"DOT4_DENSITY!G22\"),\"\")","v":""},"DOT4_DENSITY","DOT4 DETERMINING PROPERTIES OF BITUMINOUS MIXTURES-Tex-207-F","Specimen type:","Roadway","Specimen number:","1(B)","Vacuum bag volume correction factor"]
[2547,{"$f":"IF(INDIRECT(\"DOT4_DENSITY!G23\")<>\"\",INDIRECT(\"DOT4_DENSITY!G23\"),\"\")","v":""},"DOT4_DENSITY","DOT4 DETERMINING PROPERTIES OF BITUMINOUS MIXTURES-Tex-207-F","Specimen type:","Roadway","Specimen number:","1(B)","Vacuum bag density"]
[2548,{"$f":"IF(INDIRECT(\"DOT4_DENSITY!G26\")<>\"\",INDIRECT(\"DOT4_DENSITY!G26\"),\"\")","v":""},"DOT4_DENSITY","DOT4 DETERMINING PROPERTIES OF BITUMINOUS MIXTURES-Tex-207-F","Specimen type:","Roadway","Specimen number:","1(B)","Bulk specific gravity, Ga"]
[2549,{"$f":"IF(INDIRECT(\"DOT4_DENSITY!G27\")<>\"\",INDIRECT(\"DOT4_DENSITY!G27\"),\"\")","v":""},"DOT4_DENSITY","DOT4 DETERMINING PROPERTIES OF BITUMINOUS MIXTURES-Tex-207-F","Specimen type:","Roadway","Specimen number:","1(B)","Percent density, %"]
[2550,{"$f":"IF(INDIRECT(\"DOT4_DENSITY!G28\")<>\"\",INDIRECT(\"DOT4_DENSITY!G28\"),\"\")","v":""},"DOT4_DENSITY","DOT4 DETERMINING PROPERTIES OF BITUMINOUS MIXTURES-Tex-207-F","Specimen type:","Roadway","Specimen number:","1(B)","Percent air voids, %"]
[2551,{"$f":"IF(INDIRECT(\"DOT4_DENSITY!G29\")<>\"\",INDIRECT(\"DOT4_DENSITY!G29\"),\"\")","v":""},"DOT4_DENSITY","DOT4 DETERMINING PROPERTIES OF BITUMINOUS MIXTURES-Tex-207-F","Specimen type:","Roadway","Specimen number:","1(B)","Percent VMA, %"]
[2552]
[2553]
[2554]
[2555]
[2556,{"$f":"IF(INDIRECT(\"CON1_DENSITY!C5\")<>\"\",INDIRECT(\"CON1_DENSITY!C5\"),\"\")","v":""},"CON1_DENSITY","CON1 DETERMINING PROPERTIES OF BITUMINOUS MIXTURES-Tex-207-F","Specimen type:","Laboratory","Specimen number:","1(1)","Specimen radius, mm",866]
[2557,{"$f":"IF(INDIRECT(\"CON1_DENSITY!C6\")<>\"\",INDIRECT(\"CON1_DENSITY!C6\"),\"\")","v":""},"CON1_DENSITY","CON1 DETERMINING PROPERTIES OF BITUMINOUS MIXTURES-Tex-207-F","Specimen type:","Laboratory","Specimen number:","1(1)","Specimen height",871]
[2558,{"$f":"IF(INDIRECT(\"CON1_DENSITY!C7\")<>\"\",INDIRECT(\"CON1_DENSITY!C7\"),\"\")","v":""},"CON1_DENSITY","CON1 DETERMINING PROPERTIES OF BITUMINOUS MIXTURES-Tex-207-F","Specimen type:","Laboratory","Specimen number:","1(1)","Trimmed core height, in",""]
[2559,{"$f":"IF(INDIRECT(\"CON1_DENSITY!C8\")<>\"\",INDIRECT(\"CON1_DENSITY!C8\"),\"\")","v":""},"CON1_DENSITY","CON1 DETERMINING PROPERTIES OF BITUMINOUS MIXTURES-Tex-207-F","Specimen type:","Laboratory","Specimen number:","1(1)","Weight of specimen in air, g",878]
[2560,{"$f":"IF(INDIRECT(\"CON1_DENSITY!C9\")<>\"\",INDIRECT(\"CON1_DENSITY!C9\"),\"\")","v":""},"CON1_DENSITY","CON1 DETERMINING PROPERTIES OF BITUMINOUS MIXTURES-Tex-207-F","Specimen type:","Laboratory","Specimen number:","1(1)","Weight of specimen in water, g",883]
[2561,{"$f":"IF(INDIRECT(\"CON1_DENSITY!C10\")<>\"\",INDIRECT(\"CON1_DENSITY!C10\"),\"\")","v":""},"CON1_DENSITY","CON1 DETERMINING PROPERTIES OF BITUMINOUS MIXTURES-Tex-207-F","Specimen type:","Laboratory","Specimen number:","1(1)","SSD weight of specimen in air, g",888]
[2562,{"$f":"IF(INDIRECT(\"CON1_DENSITY!C11\")<>\"\",INDIRECT(\"CON1_DENSITY!C11\"),\"\")","v":""},"CON1_DENSITY","CON1 DETERMINING PROPERTIES OF BITUMINOUS MIXTURES-Tex-207-F","Specimen type:","Laboratory","Specimen number:","1(1)","Volume of specimen",""]
[2563,{"$f":"IF(INDIRECT(\"CON1_DENSITY!C12\")<>\"\",INDIRECT(\"CON1_DENSITY!C12\"),\"\")","v":""},"CON1_DENSITY","CON1 DETERMINING PROPERTIES OF BITUMINOUS MIXTURES-Tex-207-F","Specimen type:","Laboratory","Specimen number:","1(1)","SSD Density",""]
[2564,{"$f":"IF(INDIRECT(\"CON1_DENSITY!C13\")<>\"\",INDIRECT(\"CON1_DENSITY!C13\"),\"\")","v":""},"CON1_DENSITY","CON1 DETERMINING PROPERTIES OF BITUMINOUS MIXTURES-Tex-207-F","Specimen type:","Laboratory","Specimen number:","1(1)","Percent absorption, %",""]
[2565,{"$f":"IF(INDIRECT(\"CON1_DENSITY!C14\")<>\"\",INDIRECT(\"CON1_DENSITY!C14\"),\"\")","v":""},"CON1_DENSITY","CON1 DETERMINING PROPERTIES OF BITUMINOUS MIXTURES-Tex-207-F","Specimen type:","Laboratory","Specimen number:","1(1)","Bag required for Ga",""]
[2566,{"$f":"IF(INDIRECT(\"CON1_DENSITY!C15\")<>\"\",INDIRECT(\"CON1_DENSITY!C15\"),\"\")","v":""},"CON1_DENSITY","CON1 DETERMINING PROPERTIES OF BITUMINOUS MIXTURES-Tex-207-F","Specimen type:","Laboratory","Specimen number:","1(1)","Bag Used for Ga",893]
[2567,{"$f":"IF(INDIRECT(\"CON1_DENSITY!C17\")<>\"\",INDIRECT(\"CON1_DENSITY!C17\"),\"\")","v":""},"CON1_DENSITY","CON1 DETERMINING PROPERTIES OF BITUMINOUS MIXTURES-Tex-207-F","Specimen type:","Laboratory","Specimen number:","1(1)","Vacuum bag method used",898]
[2568,{"$f":"IF(INDIRECT(\"CON1_DENSITY!C18\")<>\"\",INDIRECT(\"CON1_DENSITY!C18\"),\"\")","v":""},"CON1_DENSITY","CON1 DETERMINING PROPERTIES OF BITUMINOUS MIXTURES-Tex-207-F","Specimen type:","Laboratory","Specimen number:","1(1)","Weight of specimen in air, g",903]
[2569,{"$f":"IF(INDIRECT(\"CON1_DENSITY!C19\")<>\"\",INDIRECT(\"CON1_DENSITY!C19\"),\"\")","v":""},"CON1_DENSITY","CON1 DETERMINING PROPERTIES OF BITUMINOUS MIXTURES-Tex-207-F","Specimen type:","Laboratory","Specimen number:","1(1)","Sealed weight of specimen in water, g",908]
[2570,{"$f":"IF(INDIRECT(\"CON1_DENSITY!C20\")<>\"\",INDIRECT(\"CON1_DENSITY!C20\"),\"\")","v":""},"CON1_DENSITY","CON1 DETERMINING PROPERTIES OF BITUMINOUS MIXTURES-Tex-207-F","Specimen type:","Laboratory","Specimen number:","1(1)","Dry specimen weight after submersion, g",913]
[2571,{"$f":"IF(INDIRECT(\"CON1_DENSITY!C21\")<>\"\",INDIRECT(\"CON1_DENSITY!C21\"),\"\")","v":""},"CON1_DENSITY","CON1 DETERMINING PROPERTIES OF BITUMINOUS MIXTURES-Tex-207-F","Specimen type:","Laboratory","Specimen number:","1(1)","Weight of vacuum bag(s), g",918]
[2572,{"$f":"IF(INDIRECT(\"CON1_DENSITY!C22\")<>\"\",INDIRECT(\"CON1_DENSITY!C22\"),\"\")","v":""},"CON1_DENSITY","CON1 DETERMINING PROPERTIES OF BITUMINOUS MIXTURES-Tex-207-F","Specimen type:","Laboratory","Specimen number:","1(1)","Vacuum bag volume correction factor",""]
[2573,{"$f":"IF(INDIRECT(\"CON1_DENSITY!C23\")<>\"\",INDIRECT(\"CON1_DENSITY!C23\"),\"\")","v":""},"CON1_DENSITY","CON1 DETERMINING PROPERTIES OF BITUMINOUS MIXTURES-Tex-207-F","Specimen type:","Laboratory","Specimen number:","1(1)","Vacuum bag density",""]
[2574,{"$f":"IF(INDIRECT(\"CON1_DENSITY!C26\")<>\"\",INDIRECT(\"CON1_DENSITY!C26\"),\"\")","v":""},"CON1_DENSITY","CON1 DETERMINING PROPERTIES OF BITUMINOUS MIXTURES-Tex-207-F","Specimen type:","Laboratory","Specimen number:","1(1)","Bulk specific gravity, Ga",""]
[2575,{"$f":"IF(INDIRECT(\"CON1_DENSITY!C27\")<>\"\",INDIRECT(\"CON1_DENSITY!C27\"),\"\")","v":""},"CON1_DENSITY","CON1 DETERMINING PROPERTIES OF BITUMINOUS MIXTURES-Tex-207-F","Specimen type:","Laboratory","Specimen number:","1(1)","Percent density, %",""]
[2576,{"$f":"IF(INDIRECT(\"CON1_DENSITY!C28\")<>\"\",INDIRECT(\"CON1_DENSITY!C28\"),\"\")","v":""},"CON1_DENSITY","CON1 DETERMINING PROPERTIES OF BITUMINOUS MIXTURES-Tex-207-F","Specimen type:","Laboratory","Specimen number:","1(1)","Percent air voids, %",""]
[2577,{"$f":"IF(INDIRECT(\"CON1_DENSITY!C29\")<>\"\",INDIRECT(\"CON1_DENSITY!C29\"),\"\")","v":""},"CON1_DENSITY","CON1 DETERMINING PROPERTIES OF BITUMINOUS MIXTURES-Tex-207-F","Specimen type:","Laboratory","Specimen number:","1(1)","Percent VMA, %",""]
[2578,null,null,null,null,null,null,null,null,""]
[2579,{"$f":"IF(INDIRECT(\"CON1_DENSITY!D5\")<>\"\",INDIRECT(\"CON1_DENSITY!D5\"),\"\")","v":""},"CON1_DENSITY","CON1 DETERMINING PROPERTIES OF BITUMINOUS MIXTURES-Tex-207-F","Specimen type:","Laboratory","Specimen number:","1(2)","Specimen radius, mm",867]
[2580,{"$f":"IF(INDIRECT(\"CON1_DENSITY!D6\")<>\"\",INDIRECT(\"CON1_DENSITY!D6\"),\"\")","v":""},"CON1_DENSITY","CON1 DETERMINING PROPERTIES OF BITUMINOUS MIXTURES-Tex-207-F","Specimen type:","Laboratory","Specimen number:","1(2)","Specimen height",872]
[2581,{"$f":"IF(INDIRECT(\"CON1_DENSITY!D7\")<>\"\",INDIRECT(\"CON1_DENSITY!D7\"),\"\")","v":""},"CON1_DENSITY","CON1 DETERMINING PROPERTIES OF BITUMINOUS MIXTURES-Tex-207-F","Specimen type:","Laboratory","Specimen number:","1(2)","Trimmed core height, in",""]
[2582,{"$f":"IF(INDIRECT(\"CON1_DENSITY!D8\")<>\"\",INDIRECT(\"CON1_DENSITY!D8\"),\"\")","v":""},"CON1_DENSITY","CON1 DETERMINING PROPERTIES OF BITUMINOUS MIXTURES-Tex-207-F","Specimen type:","Laboratory","Specimen number:","1(2)","Weight of specimen in air, g",879]
[2583,{"$f":"IF(INDIRECT(\"CON1_DENSITY!D9\")<>\"\",INDIRECT(\"CON1_DENSITY!D9\"),\"\")","v":""},"CON1_DENSITY","CON1 DETERMINING PROPERTIES OF BITUMINOUS MIXTURES-Tex-207-F","Specimen type:","Laboratory","Specimen number:","1(2)","Weight of specimen in water, g",884]
[2584,{"$f":"IF(INDIRECT(\"CON1_DENSITY!D10\")<>\"\",INDIRECT(\"CON1_DENSITY!D10\"),\"\")","v":""},"CON1_DENSITY","CON1 DETERMINING PROPERTIES OF BITUMINOUS MIXTURES-Tex-207-F","Specimen type:","Laboratory","Specimen number:","1(2)","SSD weight of specimen in air, g",889]
[2585,{"$f":"IF(INDIRECT(\"CON1_DENSITY!D11\")<>\"\",INDIRECT(\"CON1_DENSITY!D11\"),\"\")","v":""},"CON1_DENSITY","CON1 DETERMINING PROPERTIES OF BITUMINOUS MIXTURES-Tex-207-F","Specimen type:","Laboratory","Specimen number:","1(2)","Volume of specimen",""]
[2586,{"$f":"IF(INDIRECT(\"CON1_DENSITY!D12\")<>\"\",INDIRECT(\"CON1_DENSITY!D12\"),\"\")","v":""},"CON1_DENSITY","CON1 DETERMINING PROPERTIES OF BITUMINOUS MIXTURES-Tex-207-F","Specimen type:","Laboratory","Specimen number:","1(2)","SSD Density",""]
[2587,{"$f":"IF(INDIRECT(\"CON1_DENSITY!D13\")<>\"\",INDIRECT(\"CON1_DENSITY!D13\"),\"\")","v":""},"CON1_DENSITY","CON1 DETERMINING PROPERTIES OF BITUMINOUS MIXTURES-Tex-207-F","Specimen type:","Laboratory","Specimen number:","1(2)","Percent absorption, %",""]
[2588,{"$f":"IF(INDIRECT(\"CON1_DENSITY!D14\")<>\"\",INDIRECT(\"CON1_DENSITY!D14\"),\"\")","v":""},"CON1_DENSITY","CON1 DETERMINING PROPERTIES OF BITUMINOUS MIXTURES-Tex-207-F","Specimen type:","Laboratory","Specimen number:","1(2)","Bag required for Ga",""]
[2589,{"$f":"IF(INDIRECT(\"CON1_DENSITY!D15\")<>\"\",INDIRECT(\"CON1_DENSITY!D15\"),\"\")","v":""},"CON1_DENSITY","CON1 DETERMINING PROPERTIES OF BITUMINOUS MIXTURES-Tex-207-F","Specimen type:","Laboratory","Specimen number:","1(2)","Bag Used for Ga",894]
[2590,{"$f":"IF(INDIRECT(\"CON1_DENSITY!D17\")<>\"\",INDIRECT(\"CON1_DENSITY!D17\"),\"\")","v":""},"CON1_DENSITY","CON1 DETERMINING PROPERTIES OF BITUMINOUS MIXTURES-Tex-207-F","Specimen type:","Laboratory","Specimen number:","1(2)","Vacuum bag method used",899]
[2591,{"$f":"IF(INDIRECT(\"CON1_DENSITY!D18\")<>\"\",INDIRECT(\"CON1_DENSITY!D18\"),\"\")","v":""},"CON1_DENSITY","CON1 DETERMINING PROPERTIES OF BITUMINOUS MIXTURES-Tex-207-F","Specimen type:","Laboratory","Specimen number:","1(2)","Weight of specimen in air, g",904]
[2592,{"$f":"IF(INDIRECT(\"CON1_DENSITY!D19\")<>\"\",INDIRECT(\"CON1_DENSITY!D19\"),\"\")","v":""},"CON1_DENSITY","CON1 DETERMINING PROPERTIES OF BITUMINOUS MIXTURES-Tex-207-F","Specimen type:","Laboratory","Specimen number:","1(2)","Sealed weight of specimen in water, g",909]
[2593,{"$f":"IF(INDIRECT(\"CON1_DENSITY!D20\")<>\"\",INDIRECT(\"CON1_DENSITY!D20\"),\"\")","v":""},"CON1_DENSITY","CON1 DETERMINING PROPERTIES OF BITUMINOUS MIXTURES-Tex-207-F","Specimen type:","Laboratory","Specimen number:","1(2)","Dry specimen weight after submersion, g",914]
[2594,{"$f":"IF(INDIRECT(\"CON1_DENSITY!D21\")<>\"\",INDIRECT(\"CON1_DENSITY!D21\"),\"\")","v":""},"CON1_DENSITY","CON1 DETERMINING PROPERTIES OF BITUMINOUS MIXTURES-Tex-207-F","Specimen type:","Laboratory","Specimen number:","1(2)","Weight of vacuum bag(s), g",919]
[2595,{"$f":"IF(INDIRECT(\"CON1_DENSITY!D22\")<>\"\",INDIRECT(\"CON1_DENSITY!D22\"),\"\")","v":""},"CON1_DENSITY","CON1 DETERMINING PROPERTIES OF BITUMINOUS MIXTURES-Tex-207-F","Specimen type:","Laboratory","Specimen number:","1(2)","Vacuum bag volume correction factor",""]
[2596,{"$f":"IF(INDIRECT(\"CON1_DENSITY!D23\")<>\"\",INDIRECT(\"CON1_DENSITY!D23\"),\"\")","v":""},"CON1_DENSITY","CON1 DETERMINING PROPERTIES OF BITUMINOUS MIXTURES-Tex-207-F","Specimen type:","Laboratory","Specimen number:","1(2)","Vacuum bag density",""]
[2597,{"$f":"IF(INDIRECT(\"CON1_DENSITY!D26\")<>\"\",INDIRECT(\"CON1_DENSITY!D26\"),\"\")","v":""},"CON1_DENSITY","CON1 DETERMINING PROPERTIES OF BITUMINOUS MIXTURES-Tex-207-F","Specimen type:","Laboratory","Specimen number:","1(2)","Bulk specific gravity, Ga",""]
[2598,{"$f":"IF(INDIRECT(\"CON1_DENSITY!D27\")<>\"\",INDIRECT(\"CON1_DENSITY!D27\"),\"\")","v":""},"CON1_DENSITY","CON1 DETERMINING PROPERTIES OF BITUMINOUS MIXTURES-Tex-207-F","Specimen type:","Laboratory","Specimen number:","1(2)","Percent density, %",""]
[2599,{"$f":"IF(INDIRECT(\"CON1_DENSITY!D28\")<>\"\",INDIRECT(\"CON1_DENSITY!D28\"),\"\")","v":""},"CON1_DENSITY","CON1 DETERMINING PROPERTIES OF BITUMINOUS MIXTURES-Tex-207-F","Specimen type:","Laboratory","Specimen number:","1(2)","Percent air voids, %",""]
[2600,{"$f":"IF(INDIRECT(\"CON1_DENSITY!D29\")<>\"\",INDIRECT(\"CON1_DENSITY!D29\"),\"\")","v":""},"CON1_DENSITY","CON1 DETERMINING PROPERTIES OF BITUMINOUS MIXTURES-Tex-207-F","Specimen type:","Laboratory","Specimen number:","1(2)","Percent VMA, %",""]
[2601,null,null,null,null,null,null,null,null,""]
[2602,{"$f":"IF(INDIRECT(\"CON1_DENSITY!E5\")<>\"\",INDIRECT(\"CON1_DENSITY!E5\"),\"\")","v":""},"CON1_DENSITY","CON1 DETERMINING PROPERTIES OF BITUMINOUS MIXTURES-Tex-207-F","Specimen type:","Laboratory","Specimen number:","1(3)","Specimen radius, mm",868]
[2603,{"$f":"IF(INDIRECT(\"CON1_DENSITY!E6\")<>\"\",INDIRECT(\"CON1_DENSITY!E6\"),\"\")","v":""},"CON1_DENSITY","CON1 DETERMINING PROPERTIES OF BITUMINOUS MIXTURES-Tex-207-F","Specimen type:","Laboratory","Specimen number:","1(3)","Specimen height",873]
[2604,{"$f":"IF(INDIRECT(\"CON1_DENSITY!E7\")<>\"\",INDIRECT(\"CON1_DENSITY!E7\"),\"\")","v":""},"CON1_DENSITY","CON1 DETERMINING PROPERTIES OF BITUMINOUS MIXTURES-Tex-207-F","Specimen type:","Laboratory","Specimen number:","1(3)","Trimmed core height, in",""]
[2605,{"$f":"IF(INDIRECT(\"CON1_DENSITY!E8\")<>\"\",INDIRECT(\"CON1_DENSITY!E8\"),\"\")","v":""},"CON1_DENSITY","CON1 DETERMINING PROPERTIES OF BITUMINOUS MIXTURES-Tex-207-F","Specimen type:","Laboratory","Specimen number:","1(3)","Weight of specimen in air, g",880]
[2606,{"$f":"IF(INDIRECT(\"CON1_DENSITY!E9\")<>\"\",INDIRECT(\"CON1_DENSITY!E9\"),\"\")","v":""},"CON1_DENSITY","CON1 DETERMINING PROPERTIES OF BITUMINOUS MIXTURES-Tex-207-F","Specimen type:","Laboratory","Specimen number:","1(3)","Weight of specimen in water, g",885]
[2607,{"$f":"IF(INDIRECT(\"CON1_DENSITY!E10\")<>\"\",INDIRECT(\"CON1_DENSITY!E10\"),\"\")","v":""},"CON1_DENSITY","CON1 DETERMINING PROPERTIES OF BITUMINOUS MIXTURES-Tex-207-F","Specimen type:","Laboratory","Specimen number:","1(3)","SSD weight of specimen in air, g",890]
[2608,{"$f":"IF(INDIRECT(\"CON1_DENSITY!E11\")<>\"\",INDIRECT(\"CON1_DENSITY!E11\"),\"\")","v":""},"CON1_DENSITY","CON1 DETERMINING PROPERTIES OF BITUMINOUS MIXTURES-Tex-207-F","Specimen type:","Laboratory","Specimen number:","1(3)","Volume of specimen",""]
[2609,{"$f":"IF(INDIRECT(\"CON1_DENSITY!E12\")<>\"\",INDIRECT(\"CON1_DENSITY!E12\"),\"\")","v":""},"CON1_DENSITY","CON1 DETERMINING PROPERTIES OF BITUMINOUS MIXTURES-Tex-207-F","Specimen type:","Laboratory","Specimen number:","1(3)","SSD Density",""]
[2610,{"$f":"IF(INDIRECT(\"CON1_DENSITY!E13\")<>\"\",INDIRECT(\"CON1_DENSITY!E13\"),\"\")","v":""},"CON1_DENSITY","CON1 DETERMINING PROPERTIES OF BITUMINOUS MIXTURES-Tex-207-F","Specimen type:","Laboratory","Specimen number:","1(3)","Percent absorption, %",""]
[2611,{"$f":"IF(INDIRECT(\"CON1_DENSITY!E14\")<>\"\",INDIRECT(\"CON1_DENSITY!E14\"),\"\")","v":""},"CON1_DENSITY","CON1 DETERMINING PROPERTIES OF BITUMINOUS MIXTURES-Tex-207-F","Specimen type:","Laboratory","Specimen number:","1(3)","Bag required for Ga",""]
[2612,{"$f":"IF(INDIRECT(\"CON1_DENSITY!E15\")<>\"\",INDIRECT(\"CON1_DENSITY!E15\"),\"\")","v":""},"CON1_DENSITY","CON1 DETERMINING PROPERTIES OF BITUMINOUS MIXTURES-Tex-207-F","Specimen type:","Laboratory","Specimen number:","1(3)","Bag Used for Ga",895]
[2613,{"$f":"IF(INDIRECT(\"CON1_DENSITY!E17\")<>\"\",INDIRECT(\"CON1_DENSITY!E17\"),\"\")","v":""},"CON1_DENSITY","CON1 DETERMINING PROPERTIES OF BITUMINOUS MIXTURES-Tex-207-F","Specimen type:","Laboratory","Specimen number:","1(3)","Vacuum bag method used",900]
[2614,{"$f":"IF(INDIRECT(\"CON1_DENSITY!E18\")<>\"\",INDIRECT(\"CON1_DENSITY!E18\"),\"\")","v":""},"CON1_DENSITY","CON1 DETERMINING PROPERTIES OF BITUMINOUS MIXTURES-Tex-207-F","Specimen type:","Laboratory","Specimen number:","1(3)","Weight of specimen in air, g",905]
[2615,{"$f":"IF(INDIRECT(\"CON1_DENSITY!E19\")<>\"\",INDIRECT(\"CON1_DENSITY!E19\"),\"\")","v":""},"CON1_DENSITY","CON1 DETERMINING PROPERTIES OF BITUMINOUS MIXTURES-Tex-207-F","Specimen type:","Laboratory","Specimen number:","1(3)","Sealed weight of specimen in water, g",910]
[2616,{"$f":"IF(INDIRECT(\"CON1_DENSITY!E20\")<>\"\",INDIRECT(\"CON1_DENSITY!E20\"),\"\")","v":""},"CON1_DENSITY","CON1 DETERMINING PROPERTIES OF BITUMINOUS MIXTURES-Tex-207-F","Specimen type:","Laboratory","Specimen number:","1(3)","Dry specimen weight after submersion, g",915]
[2617,{"$f":"IF(INDIRECT(\"CON1_DENSITY!E21\")<>\"\",INDIRECT(\"CON1_DENSITY!E21\"),\"\")","v":""},"CON1_DENSITY","CON1 DETERMINING PROPERTIES OF BITUMINOUS MIXTURES-Tex-207-F","Specimen type:","Laboratory","Specimen number:","1(3)","Weight of vacuum bag(s), g",920]
[2618,{"$f":"IF(INDIRECT(\"CON1_DENSITY!E22\")<>\"\",INDIRECT(\"CON1_DENSITY!E22\"),\"\")","v":""},"CON1_DENSITY","CON1 DETERMINING PROPERTIES OF BITUMINOUS MIXTURES-Tex-207-F","Specimen type:","Laboratory","Specimen number:","1(3)","Vacuum bag volume correction factor",""]
[2619,{"$f":"IF(INDIRECT(\"CON1_DENSITY!E23\")<>\"\",INDIRECT(\"CON1_DENSITY!E23\"),\"\")","v":""},"CON1_DENSITY","CON1 DETERMINING PROPERTIES OF BITUMINOUS MIXTURES-Tex-207-F","Specimen type:","Laboratory","Specimen number:","1(3)","Vacuum bag density",""]
[2620,{"$f":"IF(INDIRECT(\"CON1_DENSITY!E26\")<>\"\",INDIRECT(\"CON1_DENSITY!E26\"),\"\")","v":""},"CON1_DENSITY","CON1 DETERMINING PROPERTIES OF BITUMINOUS MIXTURES-Tex-207-F","Specimen type:","Laboratory","Specimen number:","1(3)","Bulk specific gravity, Ga",""]
[2621,{"$f":"IF(INDIRECT(\"CON1_DENSITY!E27\")<>\"\",INDIRECT(\"CON1_DENSITY!E27\"),\"\")","v":""},"CON1_DENSITY","CON1 DETERMINING PROPERTIES OF BITUMINOUS MIXTURES-Tex-207-F","Specimen type:","Laboratory","Specimen number:","1(3)","Percent density, %",""]
[2622,{"$f":"IF(INDIRECT(\"CON1_DENSITY!E28\")<>\"\",INDIRECT(\"CON1_DENSITY!E28\"),\"\")","v":""},"CON1_DENSITY","CON1 DETERMINING PROPERTIES OF BITUMINOUS MIXTURES-Tex-207-F","Specimen type:","Laboratory","Specimen number:","1(3)","Percent air voids, %",""]
[2623,{"$f":"IF(INDIRECT(\"CON1_DENSITY!E29\")<>\"\",INDIRECT(\"CON1_DENSITY!E29\"),\"\")","v":""},"CON1_DENSITY","CON1 DETERMINING PROPERTIES OF BITUMINOUS MIXTURES-Tex-207-F","Specimen type:","Laboratory","Specimen number:","1(3)","Percent VMA, %",""]
[2624,null,null,null,null,null,null,null,null,""]
[2625,{"$f":"IF(INDIRECT(\"CON1_DENSITY!F5\")<>\"\",INDIRECT(\"CON1_DENSITY!F5\"),\"\")","v":""},"CON1_DENSITY","CON1 DETERMINING PROPERTIES OF BITUMINOUS MIXTURES-Tex-207-F","Specimen type:","Roadway","Specimen number:","1(A)","Specimen radius, mm",869]
[2626,{"$f":"IF(INDIRECT(\"CON1_DENSITY!F6\")<>\"\",INDIRECT(\"CON1_DENSITY!F6\"),\"\")","v":""},"CON1_DENSITY","CON1 DETERMINING PROPERTIES OF BITUMINOUS MIXTURES-Tex-207-F","Specimen type:","Roadway","Specimen number:","1(A)","Specimen height",874]
[2627,{"$f":"IF(INDIRECT(\"CON1_DENSITY!F7\")<>\"\",INDIRECT(\"CON1_DENSITY!F7\"),\"\")","v":""},"CON1_DENSITY","CON1 DETERMINING PROPERTIES OF BITUMINOUS MIXTURES-Tex-207-F","Specimen type:","Roadway","Specimen number:","1(A)","Trimmed core height, in",877]
[2628,{"$f":"IF(INDIRECT(\"CON1_DENSITY!F8\")<>\"\",INDIRECT(\"CON1_DENSITY!F8\"),\"\")","v":""},"CON1_DENSITY","CON1 DETERMINING PROPERTIES OF BITUMINOUS MIXTURES-Tex-207-F","Specimen type:","Roadway","Specimen number:","1(A)","Weight of specimen in air, g",881]
[2629,{"$f":"IF(INDIRECT(\"CON1_DENSITY!F9\")<>\"\",INDIRECT(\"CON1_DENSITY!F9\"),\"\")","v":""},"CON1_DENSITY","CON1 DETERMINING PROPERTIES OF BITUMINOUS MIXTURES-Tex-207-F","Specimen type:","Roadway","Specimen number:","1(A)","Weight of specimen in water, g",886]
[2630,{"$f":"IF(INDIRECT(\"CON1_DENSITY!F10\")<>\"\",INDIRECT(\"CON1_DENSITY!F10\"),\"\")","v":""},"CON1_DENSITY","CON1 DETERMINING PROPERTIES OF BITUMINOUS MIXTURES-Tex-207-F","Specimen type:","Roadway","Specimen number:","1(A)","SSD weight of specimen in air, g",891]
[2631,{"$f":"IF(INDIRECT(\"CON1_DENSITY!F11\")<>\"\",INDIRECT(\"CON1_DENSITY!F11\"),\"\")","v":""},"CON1_DENSITY","CON1 DETERMINING PROPERTIES OF BITUMINOUS MIXTURES-Tex-207-F","Specimen type:","Roadway","Specimen number:","1(A)","Volume of specimen",""]
[2632,{"$f":"IF(INDIRECT(\"CON1_DENSITY!F12\")<>\"\",INDIRECT(\"CON1_DENSITY!F12\"),\"\")","v":""},"CON1_DENSITY","CON1 DETERMINING PROPERTIES OF BITUMINOUS MIXTURES-Tex-207-F","Specimen type:","Roadway","Specimen number:","1(A)","SSD Density",""]
[2633,{"$f":"IF(INDIRECT(\"CON1_DENSITY!F13\")<>\"\",INDIRECT(\"CON1_DENSITY!F13\"),\"\")","v":""},"CON1_DENSITY","CON1 DETERMINING PROPERTIES OF BITUMINOUS MIXTURES-Tex-207-F","Specimen type:","Roadway","Specimen number:","1(A)","Percent absorption, %",""]
[2634,{"$f":"IF(INDIRECT(\"CON1_DENSITY!F14\")<>\"\",INDIRECT(\"CON1_DENSITY!F14\"),\"\")","v":""},"CON1_DENSITY","CON1 DETERMINING PROPERTIES OF BITUMINOUS MIXTURES-Tex-207-F","Specimen type:","Roadway","Specimen number:","1(A)","Bag required for Ga",""]
[2635,{"$f":"IF(INDIRECT(\"CON1_DENSITY!F15\")<>\"\",INDIRECT(\"CON1_DENSITY!F15\"),\"\")","v":""},"CON1_DENSITY","CON1 DETERMINING PROPERTIES OF BITUMINOUS MIXTURES-Tex-207-F","Specimen type:","Roadway","Specimen number:","1(A)","Bag Used for Ga",896]
[2636,{"$f":"IF(INDIRECT(\"CON1_DENSITY!F17\")<>\"\",INDIRECT(\"CON1_DENSITY!F17\"),\"\")","v":""},"CON1_DENSITY","CON1 DETERMINING PROPERTIES OF BITUMINOUS MIXTURES-Tex-207-F","Specimen type:","Roadway","Specimen number:","1(A)","Vacuum bag method used",901]
[2637,{"$f":"IF(INDIRECT(\"CON1_DENSITY!F18\")<>\"\",INDIRECT(\"CON1_DENSITY!F18\"),\"\")","v":""},"CON1_DENSITY","CON1 DETERMINING PROPERTIES OF BITUMINOUS MIXTURES-Tex-207-F","Specimen type:","Roadway","Specimen number:","1(A)","Weight of specimen in air, g",906]
[2638,{"$f":"IF(INDIRECT(\"CON1_DENSITY!F19\")<>\"\",INDIRECT(\"CON1_DENSITY!F19\"),\"\")","v":""},"CON1_DENSITY","CON1 DETERMINING PROPERTIES OF BITUMINOUS MIXTURES-Tex-207-F","Specimen type:","Roadway","Specimen number:","1(A)","Sealed weight of specimen in water, g",911]
[2639,{"$f":"IF(INDIRECT(\"CON1_DENSITY!F20\")<>\"\",INDIRECT(\"CON1_DENSITY!F20\"),\"\")","v":""},"CON1_DENSITY","CON1 DETERMINING PROPERTIES OF BITUMINOUS MIXTURES-Tex-207-F","Specimen type:","Roadway","Specimen number:","1(A)","Dry specimen weight after submersion, g",916]
[2640,{"$f":"IF(INDIRECT(\"CON1_DENSITY!F21\")<>\"\",INDIRECT(\"CON1_DENSITY!F21\"),\"\")","v":""},"CON1_DENSITY","CON1 DETERMINING PROPERTIES OF BITUMINOUS MIXTURES-Tex-207-F","Specimen type:","Roadway","Specimen number:","1(A)","Weight of vacuum bag(s), g",921]
[2641,{"$f":"IF(INDIRECT(\"CON1_DENSITY!F22\")<>\"\",INDIRECT(\"CON1_DENSITY!F22\"),\"\")","v":""},"CON1_DENSITY","CON1 DETERMINING PROPERTIES OF BITUMINOUS MIXTURES-Tex-207-F","Specimen type:","Roadway","Specimen number:","1(A)","Vacuum bag volume correction factor",""]
[2642,{"$f":"IF(INDIRECT(\"CON1_DENSITY!F23\")<>\"\",INDIRECT(\"CON1_DENSITY!F23\"),\"\")","v":""},"CON1_DENSITY","CON1 DETERMINING PROPERTIES OF BITUMINOUS MIXTURES-Tex-207-F","Specimen type:","Roadway","Specimen number:","1(A)","Vacuum bag density",""]
[2643,{"$f":"IF(INDIRECT(\"CON1_DENSITY!F26\")<>\"\",INDIRECT(\"CON1_DENSITY!F26\"),\"\")","v":""},"CON1_DENSITY","CON1 DETERMINING PROPERTIES OF BITUMINOUS MIXTURES-Tex-207-F","Specimen type:","Roadway","Specimen number:","1(A)","Bulk specific gravity, Ga",""]
[2644,{"$f":"IF(INDIRECT(\"CON1_DENSITY!F27\")<>\"\",INDIRECT(\"CON1_DENSITY!F27\"),\"\")","v":""},"CON1_DENSITY","CON1 DETERMINING PROPERTIES OF BITUMINOUS MIXTURES-Tex-207-F","Specimen type:","Roadway","Specimen number:","1(A)","Percent density, %",""]
[2645,{"$f":"IF(INDIRECT(\"CON1_DENSITY!F28\")<>\"\",INDIRECT(\"CON1_DENSITY!F28\"),\"\")","v":""},"CON1_DENSITY","CON1 DETERMINING PROPERTIES OF BITUMINOUS MIXTURES-Tex-207-F","Specimen type:","Roadway","Specimen number:","1(A)","Percent air voids, %",""]
[2646,{"$f":"IF(INDIRECT(\"CON1_DENSITY!F29\")<>\"\",INDIRECT(\"CON1_DENSITY!F29\"),\"\")","v":""},"CON1_DENSITY","CON1 DETERMINING PROPERTIES OF BITUMINOUS MIXTURES-Tex-207-F","Specimen type:","Roadway","Specimen number:","1(A)","Percent VMA, %",""]
[2647,null,null,null,null,null,null,null,null,""]
[2648,{"$f":"IF(INDIRECT(\"CON1_DENSITY!G5\")<>\"\",INDIRECT(\"CON1_DENSITY!G5\"),\"\")","v":""},"CON1_DENSITY","CON1 DETERMINING PROPERTIES OF BITUMINOUS MIXTURES-Tex-207-F","Specimen type:","Roadway","Specimen number:","1(B)","Specimen radius, mm",870]
[2649,{"$f":"IF(INDIRECT(\"CON1_DENSITY!G6\")<>\"\",INDIRECT(\"CON1_DENSITY!G6\"),\"\")","v":""},"CON1_DENSITY","CON1 DETERMINING PROPERTIES OF BITUMINOUS MIXTURES-Tex-207-F","Specimen type:","Roadway","Specimen number:","1(B)","Specimen height",875]
[2650,{"$f":"IF(INDIRECT(\"CON1_DENSITY!G7\")<>\"\",INDIRECT(\"CON1_DENSITY!G7\"),\"\")","v":""},"CON1_DENSITY","CON1 DETERMINING PROPERTIES OF BITUMINOUS MIXTURES-Tex-207-F","Specimen type:","Roadway","Specimen number:","1(B)","Trimmed core height, in",878]
[2651,{"$f":"IF(INDIRECT(\"CON1_DENSITY!G8\")<>\"\",INDIRECT(\"CON1_DENSITY!G8\"),\"\")","v":""},"CON1_DENSITY","CON1 DETERMINING PROPERTIES OF BITUMINOUS MIXTURES-Tex-207-F","Specimen type:","Roadway","Specimen number:","1(B)","Weight of specimen in air, g",882]
[2652,{"$f":"IF(INDIRECT(\"CON1_DENSITY!G9\")<>\"\",INDIRECT(\"CON1_DENSITY!G9\"),\"\")","v":""},"CON1_DENSITY","CON1 DETERMINING PROPERTIES OF BITUMINOUS MIXTURES-Tex-207-F","Specimen type:","Roadway","Specimen number:","1(B)","Weight of specimen in water, g",887]
[2653,{"$f":"IF(INDIRECT(\"CON1_DENSITY!G10\")<>\"\",INDIRECT(\"CON1_DENSITY!G10\"),\"\")","v":""},"CON1_DENSITY","CON1 DETERMINING PROPERTIES OF BITUMINOUS MIXTURES-Tex-207-F","Specimen type:","Roadway","Specimen number:","1(B)","SSD weight of specimen in air, g",892]
[2654,{"$f":"IF(INDIRECT(\"CON1_DENSITY!G11\")<>\"\",INDIRECT(\"CON1_DENSITY!G11\"),\"\")","v":""},"CON1_DENSITY","CON1 DETERMINING PROPERTIES OF BITUMINOUS MIXTURES-Tex-207-F","Specimen type:","Roadway","Specimen number:","1(B)","Volume of specimen",""]
[2655,{"$f":"IF(INDIRECT(\"CON1_DENSITY!G12\")<>\"\",INDIRECT(\"CON1_DENSITY!G12\"),\"\")","v":""},"CON1_DENSITY","CON1 DETERMINING PROPERTIES OF BITUMINOUS MIXTURES-Tex-207-F","Specimen type:","Roadway","Specimen number:","1(B)","SSD Density",""]
[2656,{"$f":"IF(INDIRECT(\"CON1_DENSITY!G13\")<>\"\",INDIRECT(\"CON1_DENSITY!G13\"),\"\")","v":""},"CON1_DENSITY","CON1 DETERMINING PROPERTIES OF BITUMINOUS MIXTURES-Tex-207-F","Specimen type:","Roadway","Specimen number:","1(B)","Percent absorption, %",""]
[2657,{"$f":"IF(INDIRECT(\"CON1_DENSITY!G14\")<>\"\",INDIRECT(\"CON1_DENSITY!G14\"),\"\")","v":""},"CON1_DENSITY","CON1 DETERMINING PROPERTIES OF BITUMINOUS MIXTURES-Tex-207-F","Specimen type:","Roadway","Specimen number:","1(B)","Bag required for Ga",""]
[2658,{"$f":"IF(INDIRECT(\"CON1_DENSITY!G15\")<>\"\",INDIRECT(\"CON1_DENSITY!G15\"),\"\")","v":""},"CON1_DENSITY","CON1 DETERMINING PROPERTIES OF BITUMINOUS MIXTURES-Tex-207-F","Specimen type:","Roadway","Specimen number:","1(B)","Bag Used for Ga",897]
[2659,{"$f":"IF(INDIRECT(\"CON1_DENSITY!G17\")<>\"\",INDIRECT(\"CON1_DENSITY!G17\"),\"\")","v":""},"CON1_DENSITY","CON1 DETERMINING PROPERTIES OF BITUMINOUS MIXTURES-Tex-207-F","Specimen type:","Roadway","Specimen number:","1(B)","Vacuum bag method used",902]
[2660,{"$f":"IF(INDIRECT(\"CON1_DENSITY!G18\")<>\"\",INDIRECT(\"CON1_DENSITY!G18\"),\"\")","v":""},"CON1_DENSITY","CON1 DETERMINING PROPERTIES OF BITUMINOUS MIXTURES-Tex-207-F","Specimen type:","Roadway","Specimen number:","1(B)","Weight of specimen in air, g",907]
[2661,{"$f":"IF(INDIRECT(\"CON1_DENSITY!G19\")<>\"\",INDIRECT(\"CON1_DENSITY!G19\"),\"\")","v":""},"CON1_DENSITY","CON1 DETERMINING PROPERTIES OF BITUMINOUS MIXTURES-Tex-207-F","Specimen type:","Roadway","Specimen number:","1(B)","Sealed weight of specimen in water, g",912]
[2662,{"$f":"IF(INDIRECT(\"CON1_DENSITY!G20\")<>\"\",INDIRECT(\"CON1_DENSITY!G20\"),\"\")","v":""},"CON1_DENSITY","CON1 DETERMINING PROPERTIES OF BITUMINOUS MIXTURES-Tex-207-F","Specimen type:","Roadway","Specimen number:","1(B)","Dry specimen weight after submersion, g",917]
[2663,{"$f":"IF(INDIRECT(\"CON1_DENSITY!G21\")<>\"\",INDIRECT(\"CON1_DENSITY!G21\"),\"\")","v":""},"CON1_DENSITY","CON1 DETERMINING PROPERTIES OF BITUMINOUS MIXTURES-Tex-207-F","Specimen type:","Roadway","Specimen number:","1(B)","Weight of vacuum bag(s), g",922]
[2664,{"$f":"IF(INDIRECT(\"CON1_DENSITY!G22\")<>\"\",INDIRECT(\"CON1_DENSITY!G22\"),\"\")","v":""},"CON1_DENSITY","CON1 DETERMINING PROPERTIES OF BITUMINOUS MIXTURES-Tex-207-F","Specimen type:","Roadway","Specimen number:","1(B)","Vacuum bag volume correction factor"]
[2665,{"$f":"IF(INDIRECT(\"CON1_DENSITY!G23\")<>\"\",INDIRECT(\"CON1_DENSITY!G23\"),\"\")","v":""},"CON1_DENSITY","CON1 DETERMINING PROPERTIES OF BITUMINOUS MIXTURES-Tex-207-F","Specimen type:","Roadway","Specimen number:","1(B)","Vacuum bag density"]
[2666,{"$f":"IF(INDIRECT(\"CON1_DENSITY!G26\")<>\"\",INDIRECT(\"CON1_DENSITY!G26\"),\"\")","v":""},"CON1_DENSITY","CON1 DETERMINING PROPERTIES OF BITUMINOUS MIXTURES-Tex-207-F","Specimen type:","Roadway","Specimen number:","1(B)","Bulk specific gravity, Ga"]
[2667,{"$f":"IF(INDIRECT(\"CON1_DENSITY!G27\")<>\"\",INDIRECT(\"CON1_DENSITY!G27\"),\"\")","v":""},"CON1_DENSITY","CON1 DETERMINING PROPERTIES OF BITUMINOUS MIXTURES-Tex-207-F","Specimen type:","Roadway","Specimen number:","1(B)","Percent density, %"]
[2668,{"$f":"IF(INDIRECT(\"CON1_DENSITY!G28\")<>\"\",INDIRECT(\"CON1_DENSITY!G28\"),\"\")","v":""},"CON1_DENSITY","CON1 DETERMINING PROPERTIES OF BITUMINOUS MIXTURES-Tex-207-F","Specimen type:","Roadway","Specimen number:","1(B)","Percent air voids, %"]
[2669,{"$f":"IF(INDIRECT(\"CON1_DENSITY!G29\")<>\"\",INDIRECT(\"CON1_DENSITY!G29\"),\"\")","v":""},"CON1_DENSITY","CON1 DETERMINING PROPERTIES OF BITUMINOUS MIXTURES-Tex-207-F","Specimen type:","Roadway","Specimen number:","1(B)","Percent VMA, %"]
[2670]
[2671]
[2672]
[2673]
[2674,{"$f":"IF(INDIRECT(\"CON2_DENSITY!C5\")<>\"\",INDIRECT(\"CON2_DENSITY!C5\"),\"\")","v":""},"CON2_DENSITY","CON2 DETERMINING PROPERTIES OF BITUMINOUS MIXTURES-Tex-207-F","Specimen type:","Laboratory","Specimen number:","1(1)","Specimen radius, mm",965]
[2675,{"$f":"IF(INDIRECT(\"CON2_DENSITY!C6\")<>\"\",INDIRECT(\"CON2_DENSITY!C6\"),\"\")","v":""},"CON2_DENSITY","CON2 DETERMINING PROPERTIES OF BITUMINOUS MIXTURES-Tex-207-F","Specimen type:","Laboratory","Specimen number:","1(1)","Specimen height",970]
[2676,{"$f":"IF(INDIRECT(\"CON2_DENSITY!C7\")<>\"\",INDIRECT(\"CON2_DENSITY!C7\"),\"\")","v":""},"CON2_DENSITY","CON2 DETERMINING PROPERTIES OF BITUMINOUS MIXTURES-Tex-207-F","Specimen type:","Laboratory","Specimen number:","1(1)","Trimmed core height, in",""]
[2677,{"$f":"IF(INDIRECT(\"CON2_DENSITY!C8\")<>\"\",INDIRECT(\"CON2_DENSITY!C8\"),\"\")","v":""},"CON2_DENSITY","CON2 DETERMINING PROPERTIES OF BITUMINOUS MIXTURES-Tex-207-F","Specimen type:","Laboratory","Specimen number:","1(1)","Weight of specimen in air, g",977]
[2678,{"$f":"IF(INDIRECT(\"CON2_DENSITY!C9\")<>\"\",INDIRECT(\"CON2_DENSITY!C9\"),\"\")","v":""},"CON2_DENSITY","CON2 DETERMINING PROPERTIES OF BITUMINOUS MIXTURES-Tex-207-F","Specimen type:","Laboratory","Specimen number:","1(1)","Weight of specimen in water, g",982]
[2679,{"$f":"IF(INDIRECT(\"CON2_DENSITY!C10\")<>\"\",INDIRECT(\"CON2_DENSITY!C10\"),\"\")","v":""},"CON2_DENSITY","CON2 DETERMINING PROPERTIES OF BITUMINOUS MIXTURES-Tex-207-F","Specimen type:","Laboratory","Specimen number:","1(1)","SSD weight of specimen in air, g",987]
[2680,{"$f":"IF(INDIRECT(\"CON2_DENSITY!C11\")<>\"\",INDIRECT(\"CON2_DENSITY!C11\"),\"\")","v":""},"CON2_DENSITY","CON2 DETERMINING PROPERTIES OF BITUMINOUS MIXTURES-Tex-207-F","Specimen type:","Laboratory","Specimen number:","1(1)","Volume of specimen",""]
[2681,{"$f":"IF(INDIRECT(\"CON2_DENSITY!C12\")<>\"\",INDIRECT(\"CON2_DENSITY!C12\"),\"\")","v":""},"CON2_DENSITY","CON2 DETERMINING PROPERTIES OF BITUMINOUS MIXTURES-Tex-207-F","Specimen type:","Laboratory","Specimen number:","1(1)","SSD Density",""]
[2682,{"$f":"IF(INDIRECT(\"CON2_DENSITY!C13\")<>\"\",INDIRECT(\"CON2_DENSITY!C13\"),\"\")","v":""},"CON2_DENSITY","CON2 DETERMINING PROPERTIES OF BITUMINOUS MIXTURES-Tex-207-F","Specimen type:","Laboratory","Specimen number:","1(1)","Percent absorption, %",""]
[2683,{"$f":"IF(INDIRECT(\"CON2_DENSITY!C14\")<>\"\",INDIRECT(\"CON2_DENSITY!C14\"),\"\")","v":""},"CON2_DENSITY","CON2 DETERMINING PROPERTIES OF BITUMINOUS MIXTURES-Tex-207-F","Specimen type:","Laboratory","Specimen number:","1(1)","Bag required for Ga",""]
[2684,{"$f":"IF(INDIRECT(\"CON2_DENSITY!C15\")<>\"\",INDIRECT(\"CON2_DENSITY!C15\"),\"\")","v":""},"CON2_DENSITY","CON2 DETERMINING PROPERTIES OF BITUMINOUS MIXTURES-Tex-207-F","Specimen type:","Laboratory","Specimen number:","1(1)","Bag Used for Ga",992]
[2685,{"$f":"IF(INDIRECT(\"CON2_DENSITY!C17\")<>\"\",INDIRECT(\"CON2_DENSITY!C17\"),\"\")","v":""},"CON2_DENSITY","CON2 DETERMINING PROPERTIES OF BITUMINOUS MIXTURES-Tex-207-F","Specimen type:","Laboratory","Specimen number:","1(1)","Vacuum bag method used",997]
[2686,{"$f":"IF(INDIRECT(\"CON2_DENSITY!C18\")<>\"\",INDIRECT(\"CON2_DENSITY!C18\"),\"\")","v":""},"CON2_DENSITY","CON2 DETERMINING PROPERTIES OF BITUMINOUS MIXTURES-Tex-207-F","Specimen type:","Laboratory","Specimen number:","1(1)","Weight of specimen in air, g",1002]
[2687,{"$f":"IF(INDIRECT(\"CON2_DENSITY!C19\")<>\"\",INDIRECT(\"CON2_DENSITY!C19\"),\"\")","v":""},"CON2_DENSITY","CON2 DETERMINING PROPERTIES OF BITUMINOUS MIXTURES-Tex-207-F","Specimen type:","Laboratory","Specimen number:","1(1)","Sealed weight of specimen in water, g",1007]
[2688,{"$f":"IF(INDIRECT(\"CON2_DENSITY!C20\")<>\"\",INDIRECT(\"CON2_DENSITY!C20\"),\"\")","v":""},"CON2_DENSITY","CON2 DETERMINING PROPERTIES OF BITUMINOUS MIXTURES-Tex-207-F","Specimen type:","Laboratory","Specimen number:","1(1)","Dry specimen weight after submersion, g",1012]
[2689,{"$f":"IF(INDIRECT(\"CON2_DENSITY!C21\")<>\"\",INDIRECT(\"CON2_DENSITY!C21\"),\"\")","v":""},"CON2_DENSITY","CON2 DETERMINING PROPERTIES OF BITUMINOUS MIXTURES-Tex-207-F","Specimen type:","Laboratory","Specimen number:","1(1)","Weight of vacuum bag(s), g",1017]
[2690,{"$f":"IF(INDIRECT(\"CON2_DENSITY!C22\")<>\"\",INDIRECT(\"CON2_DENSITY!C22\"),\"\")","v":""},"CON2_DENSITY","CON2 DETERMINING PROPERTIES OF BITUMINOUS MIXTURES-Tex-207-F","Specimen type:","Laboratory","Specimen number:","1(1)","Vacuum bag volume correction factor",""]
[2691,{"$f":"IF(INDIRECT(\"CON2_DENSITY!C23\")<>\"\",INDIRECT(\"CON2_DENSITY!C23\"),\"\")","v":""},"CON2_DENSITY","CON2 DETERMINING PROPERTIES OF BITUMINOUS MIXTURES-Tex-207-F","Specimen type:","Laboratory","Specimen number:","1(1)","Vacuum bag density",""]
[2692,{"$f":"IF(INDIRECT(\"CON2_DENSITY!C26\")<>\"\",INDIRECT(\"CON2_DENSITY!C26\"),\"\")","v":""},"CON2_DENSITY","CON2 DETERMINING PROPERTIES OF BITUMINOUS MIXTURES-Tex-207-F","Specimen type:","Laboratory","Specimen number:","1(1)","Bulk specific gravity, Ga",""]
[2693,{"$f":"IF(INDIRECT(\"CON2_DENSITY!C27\")<>\"\",INDIRECT(\"CON2_DENSITY!C27\"),\"\")","v":""},"CON2_DENSITY","CON2 DETERMINING PROPERTIES OF BITUMINOUS MIXTURES-Tex-207-F","Specimen type:","Laboratory","Specimen number:","1(1)","Percent density, %",""]
[2694,{"$f":"IF(INDIRECT(\"CON2_DENSITY!C28\")<>\"\",INDIRECT(\"CON2_DENSITY!C28\"),\"\")","v":""},"CON2_DENSITY","CON2 DETERMINING PROPERTIES OF BITUMINOUS MIXTURES-Tex-207-F","Specimen type:","Laboratory","Specimen number:","1(1)","Percent air voids, %",""]
[2695,{"$f":"IF(INDIRECT(\"CON2_DENSITY!C29\")<>\"\",INDIRECT(\"CON2_DENSITY!C29\"),\"\")","v":""},"CON2_DENSITY","CON2 DETERMINING PROPERTIES OF BITUMINOUS MIXTURES-Tex-207-F","Specimen type:","Laboratory","Specimen number:","1(1)","Percent VMA, %",""]
[2696,null,null,null,null,null,null,null,null,""]
[2697,{"$f":"IF(INDIRECT(\"CON2_DENSITY!D5\")<>\"\",INDIRECT(\"CON2_DENSITY!D5\"),\"\")","v":""},"CON2_DENSITY","CON2 DETERMINING PROPERTIES OF BITUMINOUS MIXTURES-Tex-207-F","Specimen type:","Laboratory","Specimen number:","1(2)","Specimen radius, mm",966]
[2698,{"$f":"IF(INDIRECT(\"CON2_DENSITY!D6\")<>\"\",INDIRECT(\"CON2_DENSITY!D6\"),\"\")","v":""},"CON2_DENSITY","CON2 DETERMINING PROPERTIES OF BITUMINOUS MIXTURES-Tex-207-F","Specimen type:","Laboratory","Specimen number:","1(2)","Specimen height",971]
[2699,{"$f":"IF(INDIRECT(\"CON2_DENSITY!D7\")<>\"\",INDIRECT(\"CON2_DENSITY!D7\"),\"\")","v":""},"CON2_DENSITY","CON2 DETERMINING PROPERTIES OF BITUMINOUS MIXTURES-Tex-207-F","Specimen type:","Laboratory","Specimen number:","1(2)","Trimmed core height, in",""]
[2700,{"$f":"IF(INDIRECT(\"CON2_DENSITY!D8\")<>\"\",INDIRECT(\"CON2_DENSITY!D8\"),\"\")","v":""},"CON2_DENSITY","CON2 DETERMINING PROPERTIES OF BITUMINOUS MIXTURES-Tex-207-F","Specimen type:","Laboratory","Specimen number:","1(2)","Weight of specimen in air, g",978]
[2701,{"$f":"IF(INDIRECT(\"CON2_DENSITY!D9\")<>\"\",INDIRECT(\"CON2_DENSITY!D9\"),\"\")","v":""},"CON2_DENSITY","CON2 DETERMINING PROPERTIES OF BITUMINOUS MIXTURES-Tex-207-F","Specimen type:","Laboratory","Specimen number:","1(2)","Weight of specimen in water, g",983]
[2702,{"$f":"IF(INDIRECT(\"CON2_DENSITY!D10\")<>\"\",INDIRECT(\"CON2_DENSITY!D10\"),\"\")","v":""},"CON2_DENSITY","CON2 DETERMINING PROPERTIES OF BITUMINOUS MIXTURES-Tex-207-F","Specimen type:","Laboratory","Specimen number:","1(2)","SSD weight of specimen in air, g",988]
[2703,{"$f":"IF(INDIRECT(\"CON2_DENSITY!D11\")<>\"\",INDIRECT(\"CON2_DENSITY!D11\"),\"\")","v":""},"CON2_DENSITY","CON2 DETERMINING PROPERTIES OF BITUMINOUS MIXTURES-Tex-207-F","Specimen type:","Laboratory","Specimen number:","1(2)","Volume of specimen",""]
[2704,{"$f":"IF(INDIRECT(\"CON2_DENSITY!D12\")<>\"\",INDIRECT(\"CON2_DENSITY!D12\"),\"\")","v":""},"CON2_DENSITY","CON2 DETERMINING PROPERTIES OF BITUMINOUS MIXTURES-Tex-207-F","Specimen type:","Laboratory","Specimen number:","1(2)","SSD Density",""]
[2705,{"$f":"IF(INDIRECT(\"CON2_DENSITY!D13\")<>\"\",INDIRECT(\"CON2_DENSITY!D13\"),\"\")","v":""},"CON2_DENSITY","CON2 DETERMINING PROPERTIES OF BITUMINOUS MIXTURES-Tex-207-F","Specimen type:","Laboratory","Specimen number:","1(2)","Percent absorption, %",""]
[2706,{"$f":"IF(INDIRECT(\"CON2_DENSITY!D14\")<>\"\",INDIRECT(\"CON2_DENSITY!D14\"),\"\")","v":""},"CON2_DENSITY","CON2 DETERMINING PROPERTIES OF BITUMINOUS MIXTURES-Tex-207-F","Specimen type:","Laboratory","Specimen number:","1(2)","Bag required for Ga",""]
[2707,{"$f":"IF(INDIRECT(\"CON2_DENSITY!D15\")<>\"\",INDIRECT(\"CON2_DENSITY!D15\"),\"\")","v":""},"CON2_DENSITY","CON2 DETERMINING PROPERTIES OF BITUMINOUS MIXTURES-Tex-207-F","Specimen type:","Laboratory","Specimen number:","1(2)","Bag Used for Ga",993]
[2708,{"$f":"IF(INDIRECT(\"CON2_DENSITY!D17\")<>\"\",INDIRECT(\"CON2_DENSITY!D17\"),\"\")","v":""},"CON2_DENSITY","CON2 DETERMINING PROPERTIES OF BITUMINOUS MIXTURES-Tex-207-F","Specimen type:","Laboratory","Specimen number:","1(2)","Vacuum bag method used",998]
[2709,{"$f":"IF(INDIRECT(\"CON2_DENSITY!D18\")<>\"\",INDIRECT(\"CON2_DENSITY!D18\"),\"\")","v":""},"CON2_DENSITY","CON2 DETERMINING PROPERTIES OF BITUMINOUS MIXTURES-Tex-207-F","Specimen type:","Laboratory","Specimen number:","1(2)","Weight of specimen in air, g",1003]
[2710,{"$f":"IF(INDIRECT(\"CON2_DENSITY!D19\")<>\"\",INDIRECT(\"CON2_DENSITY!D19\"),\"\")","v":""},"CON2_DENSITY","CON2 DETERMINING PROPERTIES OF BITUMINOUS MIXTURES-Tex-207-F","Specimen type:","Laboratory","Specimen number:","1(2)","Sealed weight of specimen in water, g",1008]
[2711,{"$f":"IF(INDIRECT(\"CON2_DENSITY!D20\")<>\"\",INDIRECT(\"CON2_DENSITY!D20\"),\"\")","v":""},"CON2_DENSITY","CON2 DETERMINING PROPERTIES OF BITUMINOUS MIXTURES-Tex-207-F","Specimen type:","Laboratory","Specimen number:","1(2)","Dry specimen weight after submersion, g",1013]
[2712,{"$f":"IF(INDIRECT(\"CON2_DENSITY!D21\")<>\"\",INDIRECT(\"CON2_DENSITY!D21\"),\"\")","v":""},"CON2_DENSITY","CON2 DETERMINING PROPERTIES OF BITUMINOUS MIXTURES-Tex-207-F","Specimen type:","Laboratory","Specimen number:","1(2)","Weight of vacuum bag(s), g",1018]
[2713,{"$f":"IF(INDIRECT(\"CON2_DENSITY!D22\")<>\"\",INDIRECT(\"CON2_DENSITY!D22\"),\"\")","v":""},"CON2_DENSITY","CON2 DETERMINING PROPERTIES OF BITUMINOUS MIXTURES-Tex-207-F","Specimen type:","Laboratory","Specimen number:","1(2)","Vacuum bag volume correction factor",""]
[2714,{"$f":"IF(INDIRECT(\"CON2_DENSITY!D23\")<>\"\",INDIRECT(\"CON2_DENSITY!D23\"),\"\")","v":""},"CON2_DENSITY","CON2 DETERMINING PROPERTIES OF BITUMINOUS MIXTURES-Tex-207-F","Specimen type:","Laboratory","Specimen number:","1(2)","Vacuum bag density",""]
[2715,{"$f":"IF(INDIRECT(\"CON2_DENSITY!D26\")<>\"\",INDIRECT(\"CON2_DENSITY!D26\"),\"\")","v":""},"CON2_DENSITY","CON2 DETERMINING PROPERTIES OF BITUMINOUS MIXTURES-Tex-207-F","Specimen type:","Laboratory","Specimen number:","1(2)","Bulk specific gravity, Ga",""]
[2716,{"$f":"IF(INDIRECT(\"CON2_DENSITY!D27\")<>\"\",INDIRECT(\"CON2_DENSITY!D27\"),\"\")","v":""},"CON2_DENSITY","CON2 DETERMINING PROPERTIES OF BITUMINOUS MIXTURES-Tex-207-F","Specimen type:","Laboratory","Specimen number:","1(2)","Percent density, %",""]
[2717,{"$f":"IF(INDIRECT(\"CON2_DENSITY!D28\")<>\"\",INDIRECT(\"CON2_DENSITY!D28\"),\"\")","v":""},"CON2_DENSITY","CON2 DETERMINING PROPERTIES OF BITUMINOUS MIXTURES-Tex-207-F","Specimen type:","Laboratory","Specimen number:","1(2)","Percent air voids, %",""]
[2718,{"$f":"IF(INDIRECT(\"CON2_DENSITY!D29\")<>\"\",INDIRECT(\"CON2_DENSITY!D29\"),\"\")","v":""},"CON2_DENSITY","CON2 DETERMINING PROPERTIES OF BITUMINOUS MIXTURES-Tex-207-F","Specimen type:","Laboratory","Specimen number:","1(2)","Percent VMA, %",""]
[2719,null,null,null,null,null,null,null,null,""]
[2720,{"$f":"IF(INDIRECT(\"CON2_DENSITY!E5\")<>\"\",INDIRECT(\"CON2_DENSITY!E5\"),\"\")","v":""},"CON2_DENSITY","CON2 DETERMINING PROPERTIES OF BITUMINOUS MIXTURES-Tex-207-F","Specimen type:","Laboratory","Specimen number:","1(3)","Specimen radius, mm",967]
[2721,{"$f":"IF(INDIRECT(\"CON2_DENSITY!E6\")<>\"\",INDIRECT(\"CON2_DENSITY!E6\"),\"\")","v":""},"CON2_DENSITY","CON2 DETERMINING PROPERTIES OF BITUMINOUS MIXTURES-Tex-207-F","Specimen type:","Laboratory","Specimen number:","1(3)","Specimen height",972]
[2722,{"$f":"IF(INDIRECT(\"CON2_DENSITY!E7\")<>\"\",INDIRECT(\"CON2_DENSITY!E7\"),\"\")","v":""},"CON2_DENSITY","CON2 DETERMINING PROPERTIES OF BITUMINOUS MIXTURES-Tex-207-F","Specimen type:","Laboratory","Specimen number:","1(3)","Trimmed core height, in",""]
[2723,{"$f":"IF(INDIRECT(\"CON2_DENSITY!E8\")<>\"\",INDIRECT(\"CON2_DENSITY!E8\"),\"\")","v":""},"CON2_DENSITY","CON2 DETERMINING PROPERTIES OF BITUMINOUS MIXTURES-Tex-207-F","Specimen type:","Laboratory","Specimen number:","1(3)","Weight of specimen in air, g",979]
[2724,{"$f":"IF(INDIRECT(\"CON2_DENSITY!E9\")<>\"\",INDIRECT(\"CON2_DENSITY!E9\"),\"\")","v":""},"CON2_DENSITY","CON2 DETERMINING PROPERTIES OF BITUMINOUS MIXTURES-Tex-207-F","Specimen type:","Laboratory","Specimen number:","1(3)","Weight of specimen in water, g",984]
[2725,{"$f":"IF(INDIRECT(\"CON2_DENSITY!E10\")<>\"\",INDIRECT(\"CON2_DENSITY!E10\"),\"\")","v":""},"CON2_DENSITY","CON2 DETERMINING PROPERTIES OF BITUMINOUS MIXTURES-Tex-207-F","Specimen type:","Laboratory","Specimen number:","1(3)","SSD weight of specimen in air, g",989]
[2726,{"$f":"IF(INDIRECT(\"CON2_DENSITY!E11\")<>\"\",INDIRECT(\"CON2_DENSITY!E11\"),\"\")","v":""},"CON2_DENSITY","CON2 DETERMINING PROPERTIES OF BITUMINOUS MIXTURES-Tex-207-F","Specimen type:","Laboratory","Specimen number:","1(3)","Volume of specimen",""]
[2727,{"$f":"IF(INDIRECT(\"CON2_DENSITY!E12\")<>\"\",INDIRECT(\"CON2_DENSITY!E12\"),\"\")","v":""},"CON2_DENSITY","CON2 DETERMINING PROPERTIES OF BITUMINOUS MIXTURES-Tex-207-F","Specimen type:","Laboratory","Specimen number:","1(3)","SSD Density",""]
[2728,{"$f":"IF(INDIRECT(\"CON2_DENSITY!E13\")<>\"\",INDIRECT(\"CON2_DENSITY!E13\"),\"\")","v":""},"CON2_DENSITY","CON2 DETERMINING PROPERTIES OF BITUMINOUS MIXTURES-Tex-207-F","Specimen type:","Laboratory","Specimen number:","1(3)","Percent absorption, %",""]
[2729,{"$f":"IF(INDIRECT(\"CON2_DENSITY!E14\")<>\"\",INDIRECT(\"CON2_DENSITY!E14\"),\"\")","v":""},"CON2_DENSITY","CON2 DETERMINING PROPERTIES OF BITUMINOUS MIXTURES-Tex-207-F","Specimen type:","Laboratory","Specimen number:","1(3)","Bag required for Ga",""]
[2730,{"$f":"IF(INDIRECT(\"CON2_DENSITY!E15\")<>\"\",INDIRECT(\"CON2_DENSITY!E15\"),\"\")","v":""},"CON2_DENSITY","CON2 DETERMINING PROPERTIES OF BITUMINOUS MIXTURES-Tex-207-F","Specimen type:","Laboratory","Specimen number:","1(3)","Bag Used for Ga",994]
[2731,{"$f":"IF(INDIRECT(\"CON2_DENSITY!E17\")<>\"\",INDIRECT(\"CON2_DENSITY!E17\"),\"\")","v":""},"CON2_DENSITY","CON2 DETERMINING PROPERTIES OF BITUMINOUS MIXTURES-Tex-207-F","Specimen type:","Laboratory","Specimen number:","1(3)","Vacuum bag method used",999]
[2732,{"$f":"IF(INDIRECT(\"CON2_DENSITY!E18\")<>\"\",INDIRECT(\"CON2_DENSITY!E18\"),\"\")","v":""},"CON2_DENSITY","CON2 DETERMINING PROPERTIES OF BITUMINOUS MIXTURES-Tex-207-F","Specimen type:","Laboratory","Specimen number:","1(3)","Weight of specimen in air, g",1004]
[2733,{"$f":"IF(INDIRECT(\"CON2_DENSITY!E19\")<>\"\",INDIRECT(\"CON2_DENSITY!E19\"),\"\")","v":""},"CON2_DENSITY","CON2 DETERMINING PROPERTIES OF BITUMINOUS MIXTURES-Tex-207-F","Specimen type:","Laboratory","Specimen number:","1(3)","Sealed weight of specimen in water, g",1009]
[2734,{"$f":"IF(INDIRECT(\"CON2_DENSITY!E20\")<>\"\",INDIRECT(\"CON2_DENSITY!E20\"),\"\")","v":""},"CON2_DENSITY","CON2 DETERMINING PROPERTIES OF BITUMINOUS MIXTURES-Tex-207-F","Specimen type:","Laboratory","Specimen number:","1(3)","Dry specimen weight after submersion, g",1014]
[2735,{"$f":"IF(INDIRECT(\"CON2_DENSITY!E21\")<>\"\",INDIRECT(\"CON2_DENSITY!E21\"),\"\")","v":""},"CON2_DENSITY","CON2 DETERMINING PROPERTIES OF BITUMINOUS MIXTURES-Tex-207-F","Specimen type:","Laboratory","Specimen number:","1(3)","Weight of vacuum bag(s), g",1019]
[2736,{"$f":"IF(INDIRECT(\"CON2_DENSITY!E22\")<>\"\",INDIRECT(\"CON2_DENSITY!E22\"),\"\")","v":""},"CON2_DENSITY","CON2 DETERMINING PROPERTIES OF BITUMINOUS MIXTURES-Tex-207-F","Specimen type:","Laboratory","Specimen number:","1(3)","Vacuum bag volume correction factor",""]
[2737,{"$f":"IF(INDIRECT(\"CON2_DENSITY!E23\")<>\"\",INDIRECT(\"CON2_DENSITY!E23\"),\"\")","v":""},"CON2_DENSITY","CON2 DETERMINING PROPERTIES OF BITUMINOUS MIXTURES-Tex-207-F","Specimen type:","Laboratory","Specimen number:","1(3)","Vacuum bag density",""]
[2738,{"$f":"IF(INDIRECT(\"CON2_DENSITY!E26\")<>\"\",INDIRECT(\"CON2_DENSITY!E26\"),\"\")","v":""},"CON2_DENSITY","CON2 DETERMINING PROPERTIES OF BITUMINOUS MIXTURES-Tex-207-F","Specimen type:","Laboratory","Specimen number:","1(3)","Bulk specific gravity, Ga",""]
[2739,{"$f":"IF(INDIRECT(\"CON2_DENSITY!E27\")<>\"\",INDIRECT(\"CON2_DENSITY!E27\"),\"\")","v":""},"CON2_DENSITY","CON2 DETERMINING PROPERTIES OF BITUMINOUS MIXTURES-Tex-207-F","Specimen type:","Laboratory","Specimen number:","1(3)","Percent density, %",""]
[2740,{"$f":"IF(INDIRECT(\"CON2_DENSITY!E28\")<>\"\",INDIRECT(\"CON2_DENSITY!E28\"),\"\")","v":""},"CON2_DENSITY","CON2 DETERMINING PROPERTIES OF BITUMINOUS MIXTURES-Tex-207-F","Specimen type:","Laboratory","Specimen number:","1(3)","Percent air voids, %",""]
[2741,{"$f":"IF(INDIRECT(\"CON2_DENSITY!E29\")<>\"\",INDIRECT(\"CON2_DENSITY!E29\"),\"\")","v":""},"CON2_DENSITY","CON2 DETERMINING PROPERTIES OF BITUMINOUS MIXTURES-Tex-207-F","Specimen type:","Laboratory","Specimen number:","1(3)","Percent VMA, %",""]
[2742,null,null,null,null,null,null,null,null,""]
[2743,{"$f":"IF(INDIRECT(\"CON2_DENSITY!F5\")<>\"\",INDIRECT(\"CON2_DENSITY!F5\"),\"\")","v":""},"CON2_DENSITY","CON2 DETERMINING PROPERTIES OF BITUMINOUS MIXTURES-Tex-207-F","Specimen type:","Roadway","Specimen number:","1(A)","Specimen radius, mm",968]
[2744,{"$f":"IF(INDIRECT(\"CON2_DENSITY!F6\")<>\"\",INDIRECT(\"CON2_DENSITY!F6\"),\"\")","v":""},"CON2_DENSITY","CON2 DETERMINING PROPERTIES OF BITUMINOUS MIXTURES-Tex-207-F","Specimen type:","Roadway","Specimen number:","1(A)","Specimen height",973]
[2745,{"$f":"IF(INDIRECT(\"CON2_DENSITY!F7\")<>\"\",INDIRECT(\"CON2_DENSITY!F7\"),\"\")","v":""},"CON2_DENSITY","CON2 DETERMINING PROPERTIES OF BITUMINOUS MIXTURES-Tex-207-F","Specimen type:","Roadway","Specimen number:","1(A)","Trimmed core height, in",976]
[2746,{"$f":"IF(INDIRECT(\"CON2_DENSITY!F8\")<>\"\",INDIRECT(\"CON2_DENSITY!F8\"),\"\")","v":""},"CON2_DENSITY","CON2 DETERMINING PROPERTIES OF BITUMINOUS MIXTURES-Tex-207-F","Specimen type:","Roadway","Specimen number:","1(A)","Weight of specimen in air, g",980]
[2747,{"$f":"IF(INDIRECT(\"CON2_DENSITY!F9\")<>\"\",INDIRECT(\"CON2_DENSITY!F9\"),\"\")","v":""},"CON2_DENSITY","CON2 DETERMINING PROPERTIES OF BITUMINOUS MIXTURES-Tex-207-F","Specimen type:","Roadway","Specimen number:","1(A)","Weight of specimen in water, g",985]
[2748,{"$f":"IF(INDIRECT(\"CON2_DENSITY!F10\")<>\"\",INDIRECT(\"CON2_DENSITY!F10\"),\"\")","v":""},"CON2_DENSITY","CON2 DETERMINING PROPERTIES OF BITUMINOUS MIXTURES-Tex-207-F","Specimen type:","Roadway","Specimen number:","1(A)","SSD weight of specimen in air, g",990]
[2749,{"$f":"IF(INDIRECT(\"CON2_DENSITY!F11\")<>\"\",INDIRECT(\"CON2_DENSITY!F11\"),\"\")","v":""},"CON2_DENSITY","CON2 DETERMINING PROPERTIES OF BITUMINOUS MIXTURES-Tex-207-F","Specimen type:","Roadway","Specimen number:","1(A)","Volume of specimen",""]
[2750,{"$f":"IF(INDIRECT(\"CON2_DENSITY!F12\")<>\"\",INDIRECT(\"CON2_DENSITY!F12\"),\"\")","v":""},"CON2_DENSITY","CON2 DETERMINING PROPERTIES OF BITUMINOUS MIXTURES-Tex-207-F","Specimen type:","Roadway","Specimen number:","1(A)","SSD Density",""]
[2751,{"$f":"IF(INDIRECT(\"CON2_DENSITY!F13\")<>\"\",INDIRECT(\"CON2_DENSITY!F13\"),\"\")","v":""},"CON2_DENSITY","CON2 DETERMINING PROPERTIES OF BITUMINOUS MIXTURES-Tex-207-F","Specimen type:","Roadway","Specimen number:","1(A)","Percent absorption, %",""]
[2752,{"$f":"IF(INDIRECT(\"CON2_DENSITY!F14\")<>\"\",INDIRECT(\"CON2_DENSITY!F14\"),\"\")","v":""},"CON2_DENSITY","CON2 DETERMINING PROPERTIES OF BITUMINOUS MIXTURES-Tex-207-F","Specimen type:","Roadway","Specimen number:","1(A)","Bag required for Ga",""]
[2753,{"$f":"IF(INDIRECT(\"CON2_DENSITY!F15\")<>\"\",INDIRECT(\"CON2_DENSITY!F15\"),\"\")","v":""},"CON2_DENSITY","CON2 DETERMINING PROPERTIES OF BITUMINOUS MIXTURES-Tex-207-F","Specimen type:","Roadway","Specimen number:","1(A)","Bag Used for Ga",995]
[2754,{"$f":"IF(INDIRECT(\"CON2_DENSITY!F17\")<>\"\",INDIRECT(\"CON2_DENSITY!F17\"),\"\")","v":""},"CON2_DENSITY","CON2 DETERMINING PROPERTIES OF BITUMINOUS MIXTURES-Tex-207-F","Specimen type:","Roadway","Specimen number:","1(A)","Vacuum bag method used",1000]
[2755,{"$f":"IF(INDIRECT(\"CON2_DENSITY!F18\")<>\"\",INDIRECT(\"CON2_DENSITY!F18\"),\"\")","v":""},"CON2_DENSITY","CON2 DETERMINING PROPERTIES OF BITUMINOUS MIXTURES-Tex-207-F","Specimen type:","Roadway","Specimen number:","1(A)","Weight of specimen in air, g",1005]
[2756,{"$f":"IF(INDIRECT(\"CON2_DENSITY!F19\")<>\"\",INDIRECT(\"CON2_DENSITY!F19\"),\"\")","v":""},"CON2_DENSITY","CON2 DETERMINING PROPERTIES OF BITUMINOUS MIXTURES-Tex-207-F","Specimen type:","Roadway","Specimen number:","1(A)","Sealed weight of specimen in water, g",1010]
[2757,{"$f":"IF(INDIRECT(\"CON2_DENSITY!F20\")<>\"\",INDIRECT(\"CON2_DENSITY!F20\"),\"\")","v":""},"CON2_DENSITY","CON2 DETERMINING PROPERTIES OF BITUMINOUS MIXTURES-Tex-207-F","Specimen type:","Roadway","Specimen number:","1(A)","Dry specimen weight after submersion, g",1015]
[2758,{"$f":"IF(INDIRECT(\"CON2_DENSITY!F21\")<>\"\",INDIRECT(\"CON2_DENSITY!F21\"),\"\")","v":""},"CON2_DENSITY","CON2 DETERMINING PROPERTIES OF BITUMINOUS MIXTURES-Tex-207-F","Specimen type:","Roadway","Specimen number:","1(A)","Weight of vacuum bag(s), g",1020]
[2759,{"$f":"IF(INDIRECT(\"CON2_DENSITY!F22\")<>\"\",INDIRECT(\"CON2_DENSITY!F22\"),\"\")","v":""},"CON2_DENSITY","CON2 DETERMINING PROPERTIES OF BITUMINOUS MIXTURES-Tex-207-F","Specimen type:","Roadway","Specimen number:","1(A)","Vacuum bag volume correction factor",""]
[2760,{"$f":"IF(INDIRECT(\"CON2_DENSITY!F23\")<>\"\",INDIRECT(\"CON2_DENSITY!F23\"),\"\")","v":""},"CON2_DENSITY","CON2 DETERMINING PROPERTIES OF BITUMINOUS MIXTURES-Tex-207-F","Specimen type:","Roadway","Specimen number:","1(A)","Vacuum bag density",""]
[2761,{"$f":"IF(INDIRECT(\"CON2_DENSITY!F26\")<>\"\",INDIRECT(\"CON2_DENSITY!F26\"),\"\")","v":""},"CON2_DENSITY","CON2 DETERMINING PROPERTIES OF BITUMINOUS MIXTURES-Tex-207-F","Specimen type:","Roadway","Specimen number:","1(A)","Bulk specific gravity, Ga",""]
[2762,{"$f":"IF(INDIRECT(\"CON2_DENSITY!F27\")<>\"\",INDIRECT(\"CON2_DENSITY!F27\"),\"\")","v":""},"CON2_DENSITY","CON2 DETERMINING PROPERTIES OF BITUMINOUS MIXTURES-Tex-207-F","Specimen type:","Roadway","Specimen number:","1(A)","Percent density, %",""]
[2763,{"$f":"IF(INDIRECT(\"CON2_DENSITY!F28\")<>\"\",INDIRECT(\"CON2_DENSITY!F28\"),\"\")","v":""},"CON2_DENSITY","CON2 DETERMINING PROPERTIES OF BITUMINOUS MIXTURES-Tex-207-F","Specimen type:","Roadway","Specimen number:","1(A)","Percent air voids, %",""]
[2764,{"$f":"IF(INDIRECT(\"CON2_DENSITY!F29\")<>\"\",INDIRECT(\"CON2_DENSITY!F29\"),\"\")","v":""},"CON2_DENSITY","CON2 DETERMINING PROPERTIES OF BITUMINOUS MIXTURES-Tex-207-F","Specimen type:","Roadway","Specimen number:","1(A)","Percent VMA, %",""]
[2765,null,null,null,null,null,null,null,null,""]
[2766,{"$f":"IF(INDIRECT(\"CON2_DENSITY!G5\")<>\"\",INDIRECT(\"CON2_DENSITY!G5\"),\"\")","v":""},"CON2_DENSITY","CON2 DETERMINING PROPERTIES OF BITUMINOUS MIXTURES-Tex-207-F","Specimen type:","Roadway","Specimen number:","1(B)","Specimen radius, mm",969]
[2767,{"$f":"IF(INDIRECT(\"CON2_DENSITY!G6\")<>\"\",INDIRECT(\"CON2_DENSITY!G6\"),\"\")","v":""},"CON2_DENSITY","CON2 DETERMINING PROPERTIES OF BITUMINOUS MIXTURES-Tex-207-F","Specimen type:","Roadway","Specimen number:","1(B)","Specimen height",974]
[2768,{"$f":"IF(INDIRECT(\"CON2_DENSITY!G7\")<>\"\",INDIRECT(\"CON2_DENSITY!G7\"),\"\")","v":""},"CON2_DENSITY","CON2 DETERMINING PROPERTIES OF BITUMINOUS MIXTURES-Tex-207-F","Specimen type:","Roadway","Specimen number:","1(B)","Trimmed core height, in",977]
[2769,{"$f":"IF(INDIRECT(\"CON2_DENSITY!G8\")<>\"\",INDIRECT(\"CON2_DENSITY!G8\"),\"\")","v":""},"CON2_DENSITY","CON2 DETERMINING PROPERTIES OF BITUMINOUS MIXTURES-Tex-207-F","Specimen type:","Roadway","Specimen number:","1(B)","Weight of specimen in air, g",981]
[2770,{"$f":"IF(INDIRECT(\"CON2_DENSITY!G9\")<>\"\",INDIRECT(\"CON2_DENSITY!G9\"),\"\")","v":""},"CON2_DENSITY","CON2 DETERMINING PROPERTIES OF BITUMINOUS MIXTURES-Tex-207-F","Specimen type:","Roadway","Specimen number:","1(B)","Weight of specimen in water, g",986]
[2771,{"$f":"IF(INDIRECT(\"CON2_DENSITY!G10\")<>\"\",INDIRECT(\"CON2_DENSITY!G10\"),\"\")","v":""},"CON2_DENSITY","CON2 DETERMINING PROPERTIES OF BITUMINOUS MIXTURES-Tex-207-F","Specimen type:","Roadway","Specimen number:","1(B)","SSD weight of specimen in air, g",991]
[2772,{"$f":"IF(INDIRECT(\"CON2_DENSITY!G11\")<>\"\",INDIRECT(\"CON2_DENSITY!G11\"),\"\")","v":""},"CON2_DENSITY","CON2 DETERMINING PROPERTIES OF BITUMINOUS MIXTURES-Tex-207-F","Specimen type:","Roadway","Specimen number:","1(B)","Volume of specimen",""]
[2773,{"$f":"IF(INDIRECT(\"CON2_DENSITY!G12\")<>\"\",INDIRECT(\"CON2_DENSITY!G12\"),\"\")","v":""},"CON2_DENSITY","CON2 DETERMINING PROPERTIES OF BITUMINOUS MIXTURES-Tex-207-F","Specimen type:","Roadway","Specimen number:","1(B)","SSD Density",""]
[2774,{"$f":"IF(INDIRECT(\"CON2_DENSITY!G13\")<>\"\",INDIRECT(\"CON2_DENSITY!G13\"),\"\")","v":""},"CON2_DENSITY","CON2 DETERMINING PROPERTIES OF BITUMINOUS MIXTURES-Tex-207-F","Specimen type:","Roadway","Specimen number:","1(B)","Percent absorption, %",""]
[2775,{"$f":"IF(INDIRECT(\"CON2_DENSITY!G14\")<>\"\",INDIRECT(\"CON2_DENSITY!G14\"),\"\")","v":""},"CON2_DENSITY","CON2 DETERMINING PROPERTIES OF BITUMINOUS MIXTURES-Tex-207-F","Specimen type:","Roadway","Specimen number:","1(B)","Bag required for Ga",""]
[2776,{"$f":"IF(INDIRECT(\"CON2_DENSITY!G15\")<>\"\",INDIRECT(\"CON2_DENSITY!G15\"),\"\")","v":""},"CON2_DENSITY","CON2 DETERMINING PROPERTIES OF BITUMINOUS MIXTURES-Tex-207-F","Specimen type:","Roadway","Specimen number:","1(B)","Bag Used for Ga",996]
[2777,{"$f":"IF(INDIRECT(\"CON2_DENSITY!G17\")<>\"\",INDIRECT(\"CON2_DENSITY!G17\"),\"\")","v":""},"CON2_DENSITY","CON2 DETERMINING PROPERTIES OF BITUMINOUS MIXTURES-Tex-207-F","Specimen type:","Roadway","Specimen number:","1(B)","Vacuum bag method used",1001]
[2778,{"$f":"IF(INDIRECT(\"CON2_DENSITY!G18\")<>\"\",INDIRECT(\"CON2_DENSITY!G18\"),\"\")","v":""},"CON2_DENSITY","CON2 DETERMINING PROPERTIES OF BITUMINOUS MIXTURES-Tex-207-F","Specimen type:","Roadway","Specimen number:","1(B)","Weight of specimen in air, g",1006]
[2779,{"$f":"IF(INDIRECT(\"CON2_DENSITY!G19\")<>\"\",INDIRECT(\"CON2_DENSITY!G19\"),\"\")","v":""},"CON2_DENSITY","CON2 DETERMINING PROPERTIES OF BITUMINOUS MIXTURES-Tex-207-F","Specimen type:","Roadway","Specimen number:","1(B)","Sealed weight of specimen in water, g",1011]
[2780,{"$f":"IF(INDIRECT(\"CON2_DENSITY!G20\")<>\"\",INDIRECT(\"CON2_DENSITY!G20\"),\"\")","v":""},"CON2_DENSITY","CON2 DETERMINING PROPERTIES OF BITUMINOUS MIXTURES-Tex-207-F","Specimen type:","Roadway","Specimen number:","1(B)","Dry specimen weight after submersion, g",1016]
[2781,{"$f":"IF(INDIRECT(\"CON2_DENSITY!G21\")<>\"\",INDIRECT(\"CON2_DENSITY!G21\"),\"\")","v":""},"CON2_DENSITY","CON2 DETERMINING PROPERTIES OF BITUMINOUS MIXTURES-Tex-207-F","Specimen type:","Roadway","Specimen number:","1(B)","Weight of vacuum bag(s), g",1021]
[2782,{"$f":"IF(INDIRECT(\"CON2_DENSITY!G22\")<>\"\",INDIRECT(\"CON2_DENSITY!G22\"),\"\")","v":""},"CON2_DENSITY","CON2 DETERMINING PROPERTIES OF BITUMINOUS MIXTURES-Tex-207-F","Specimen type:","Roadway","Specimen number:","1(B)","Vacuum bag volume correction factor"]
[2783,{"$f":"IF(INDIRECT(\"CON2_DENSITY!G23\")<>\"\",INDIRECT(\"CON2_DENSITY!G23\"),\"\")","v":""},"CON2_DENSITY","CON2 DETERMINING PROPERTIES OF BITUMINOUS MIXTURES-Tex-207-F","Specimen type:","Roadway","Specimen number:","1(B)","Vacuum bag density"]
[2784,{"$f":"IF(INDIRECT(\"CON2_DENSITY!G26\")<>\"\",INDIRECT(\"CON2_DENSITY!G26\"),\"\")","v":""},"CON2_DENSITY","CON2 DETERMINING PROPERTIES OF BITUMINOUS MIXTURES-Tex-207-F","Specimen type:","Roadway","Specimen number:","1(B)","Bulk specific gravity, Ga"]
[2785,{"$f":"IF(INDIRECT(\"CON2_DENSITY!G27\")<>\"\",INDIRECT(\"CON2_DENSITY!G27\"),\"\")","v":""},"CON2_DENSITY","CON2 DETERMINING PROPERTIES OF BITUMINOUS MIXTURES-Tex-207-F","Specimen type:","Roadway","Specimen number:","1(B)","Percent density, %"]
[2786,{"$f":"IF(INDIRECT(\"CON2_DENSITY!G28\")<>\"\",INDIRECT(\"CON2_DENSITY!G28\"),\"\")","v":""},"CON2_DENSITY","CON2 DETERMINING PROPERTIES OF BITUMINOUS MIXTURES-Tex-207-F","Specimen type:","Roadway","Specimen number:","1(B)","Percent air voids, %"]
[2787,{"$f":"IF(INDIRECT(\"CON2_DENSITY!G29\")<>\"\",INDIRECT(\"CON2_DENSITY!G29\"),\"\")","v":""},"CON2_DENSITY","CON2 DETERMINING PROPERTIES OF BITUMINOUS MIXTURES-Tex-207-F","Specimen type:","Roadway","Specimen number:","1(B)","Percent VMA, %"]
[2788]
[2789]
[2790]
[2791]
[2792,{"$f":"IF(INDIRECT(\"CON3_DENSITY!C5\")<>\"\",INDIRECT(\"CON3_DENSITY!C5\"),\"\")","v":""},"CON3_DENSITY","CON3 DETERMINING PROPERTIES OF BITUMINOUS MIXTURES-Tex-207-F","Specimen type:","Laboratory","Specimen number:","1(1)","Specimen radius, mm",1064]
[2793,{"$f":"IF(INDIRECT(\"CON3_DENSITY!C6\")<>\"\",INDIRECT(\"CON3_DENSITY!C6\"),\"\")","v":""},"CON3_DENSITY","CON3 DETERMINING PROPERTIES OF BITUMINOUS MIXTURES-Tex-207-F","Specimen type:","Laboratory","Specimen number:","1(1)","Specimen height",1069]
[2794,{"$f":"IF(INDIRECT(\"CON3_DENSITY!C7\")<>\"\",INDIRECT(\"CON3_DENSITY!C7\"),\"\")","v":""},"CON3_DENSITY","CON3 DETERMINING PROPERTIES OF BITUMINOUS MIXTURES-Tex-207-F","Specimen type:","Laboratory","Specimen number:","1(1)","Trimmed core height, in",""]
[2795,{"$f":"IF(INDIRECT(\"CON3_DENSITY!C8\")<>\"\",INDIRECT(\"CON3_DENSITY!C8\"),\"\")","v":""},"CON3_DENSITY","CON3 DETERMINING PROPERTIES OF BITUMINOUS MIXTURES-Tex-207-F","Specimen type:","Laboratory","Specimen number:","1(1)","Weight of specimen in air, g",1076]
[2796,{"$f":"IF(INDIRECT(\"CON3_DENSITY!C9\")<>\"\",INDIRECT(\"CON3_DENSITY!C9\"),\"\")","v":""},"CON3_DENSITY","CON3 DETERMINING PROPERTIES OF BITUMINOUS MIXTURES-Tex-207-F","Specimen type:","Laboratory","Specimen number:","1(1)","Weight of specimen in water, g",1081]
[2797,{"$f":"IF(INDIRECT(\"CON3_DENSITY!C10\")<>\"\",INDIRECT(\"CON3_DENSITY!C10\"),\"\")","v":""},"CON3_DENSITY","CON3 DETERMINING PROPERTIES OF BITUMINOUS MIXTURES-Tex-207-F","Specimen type:","Laboratory","Specimen number:","1(1)","SSD weight of specimen in air, g",1086]
[2798,{"$f":"IF(INDIRECT(\"CON3_DENSITY!C11\")<>\"\",INDIRECT(\"CON3_DENSITY!C11\"),\"\")","v":""},"CON3_DENSITY","CON3 DETERMINING PROPERTIES OF BITUMINOUS MIXTURES-Tex-207-F","Specimen type:","Laboratory","Specimen number:","1(1)","Volume of specimen",""]
[2799,{"$f":"IF(INDIRECT(\"CON3_DENSITY!C12\")<>\"\",INDIRECT(\"CON3_DENSITY!C12\"),\"\")","v":""},"CON3_DENSITY","CON3 DETERMINING PROPERTIES OF BITUMINOUS MIXTURES-Tex-207-F","Specimen type:","Laboratory","Specimen number:","1(1)","SSD Density",""]
[2800,{"$f":"IF(INDIRECT(\"CON3_DENSITY!C13\")<>\"\",INDIRECT(\"CON3_DENSITY!C13\"),\"\")","v":""},"CON3_DENSITY","CON3 DETERMINING PROPERTIES OF BITUMINOUS MIXTURES-Tex-207-F","Specimen type:","Laboratory","Specimen number:","1(1)","Percent absorption, %",""]
[2801,{"$f":"IF(INDIRECT(\"CON3_DENSITY!C14\")<>\"\",INDIRECT(\"CON3_DENSITY!C14\"),\"\")","v":""},"CON3_DENSITY","CON3 DETERMINING PROPERTIES OF BITUMINOUS MIXTURES-Tex-207-F","Specimen type:","Laboratory","Specimen number:","1(1)","Bag required for Ga",""]
[2802,{"$f":"IF(INDIRECT(\"CON3_DENSITY!C15\")<>\"\",INDIRECT(\"CON3_DENSITY!C15\"),\"\")","v":""},"CON3_DENSITY","CON3 DETERMINING PROPERTIES OF BITUMINOUS MIXTURES-Tex-207-F","Specimen type:","Laboratory","Specimen number:","1(1)","Bag Used for Ga",1091]
[2803,{"$f":"IF(INDIRECT(\"CON3_DENSITY!C17\")<>\"\",INDIRECT(\"CON3_DENSITY!C17\"),\"\")","v":""},"CON3_DENSITY","CON3 DETERMINING PROPERTIES OF BITUMINOUS MIXTURES-Tex-207-F","Specimen type:","Laboratory","Specimen number:","1(1)","Vacuum bag method used",1096]
[2804,{"$f":"IF(INDIRECT(\"CON3_DENSITY!C18\")<>\"\",INDIRECT(\"CON3_DENSITY!C18\"),\"\")","v":""},"CON3_DENSITY","CON3 DETERMINING PROPERTIES OF BITUMINOUS MIXTURES-Tex-207-F","Specimen type:","Laboratory","Specimen number:","1(1)","Weight of specimen in air, g",1101]
[2805,{"$f":"IF(INDIRECT(\"CON3_DENSITY!C19\")<>\"\",INDIRECT(\"CON3_DENSITY!C19\"),\"\")","v":""},"CON3_DENSITY","CON3 DETERMINING PROPERTIES OF BITUMINOUS MIXTURES-Tex-207-F","Specimen type:","Laboratory","Specimen number:","1(1)","Sealed weight of specimen in water, g",1106]
[2806,{"$f":"IF(INDIRECT(\"CON3_DENSITY!C20\")<>\"\",INDIRECT(\"CON3_DENSITY!C20\"),\"\")","v":""},"CON3_DENSITY","CON3 DETERMINING PROPERTIES OF BITUMINOUS MIXTURES-Tex-207-F","Specimen type:","Laboratory","Specimen number:","1(1)","Dry specimen weight after submersion, g",1111]
[2807,{"$f":"IF(INDIRECT(\"CON3_DENSITY!C21\")<>\"\",INDIRECT(\"CON3_DENSITY!C21\"),\"\")","v":""},"CON3_DENSITY","CON3 DETERMINING PROPERTIES OF BITUMINOUS MIXTURES-Tex-207-F","Specimen type:","Laboratory","Specimen number:","1(1)","Weight of vacuum bag(s), g",1116]
[2808,{"$f":"IF(INDIRECT(\"CON3_DENSITY!C22\")<>\"\",INDIRECT(\"CON3_DENSITY!C22\"),\"\")","v":""},"CON3_DENSITY","CON3 DETERMINING PROPERTIES OF BITUMINOUS MIXTURES-Tex-207-F","Specimen type:","Laboratory","Specimen number:","1(1)","Vacuum bag volume correction factor",""]
[2809,{"$f":"IF(INDIRECT(\"CON3_DENSITY!C23\")<>\"\",INDIRECT(\"CON3_DENSITY!C23\"),\"\")","v":""},"CON3_DENSITY","CON3 DETERMINING PROPERTIES OF BITUMINOUS MIXTURES-Tex-207-F","Specimen type:","Laboratory","Specimen number:","1(1)","Vacuum bag density",""]
[2810,{"$f":"IF(INDIRECT(\"CON3_DENSITY!C26\")<>\"\",INDIRECT(\"CON3_DENSITY!C26\"),\"\")","v":""},"CON3_DENSITY","CON3 DETERMINING PROPERTIES OF BITUMINOUS MIXTURES-Tex-207-F","Specimen type:","Laboratory","Specimen number:","1(1)","Bulk specific gravity, Ga",""]
[2811,{"$f":"IF(INDIRECT(\"CON3_DENSITY!C27\")<>\"\",INDIRECT(\"CON3_DENSITY!C27\"),\"\")","v":""},"CON3_DENSITY","CON3 DETERMINING PROPERTIES OF BITUMINOUS MIXTURES-Tex-207-F","Specimen type:","Laboratory","Specimen number:","1(1)","Percent density, %",""]
[2812,{"$f":"IF(INDIRECT(\"CON3_DENSITY!C28\")<>\"\",INDIRECT(\"CON3_DENSITY!C28\"),\"\")","v":""},"CON3_DENSITY","CON3 DETERMINING PROPERTIES OF BITUMINOUS MIXTURES-Tex-207-F","Specimen type:","Laboratory","Specimen number:","1(1)","Percent air voids, %",""]
[2813,{"$f":"IF(INDIRECT(\"CON3_DENSITY!C29\")<>\"\",INDIRECT(\"CON3_DENSITY!C29\"),\"\")","v":""},"CON3_DENSITY","CON3 DETERMINING PROPERTIES OF BITUMINOUS MIXTURES-Tex-207-F","Specimen type:","Laboratory","Specimen number:","1(1)","Percent VMA, %",""]
[2814,null,null,null,null,null,null,null,null,""]
[2815,{"$f":"IF(INDIRECT(\"CON3_DENSITY!D5\")<>\"\",INDIRECT(\"CON3_DENSITY!D5\"),\"\")","v":""},"CON3_DENSITY","CON3 DETERMINING PROPERTIES OF BITUMINOUS MIXTURES-Tex-207-F","Specimen type:","Laboratory","Specimen number:","1(2)","Specimen radius, mm",1065]
[2816,{"$f":"IF(INDIRECT(\"CON3_DENSITY!D6\")<>\"\",INDIRECT(\"CON3_DENSITY!D6\"),\"\")","v":""},"CON3_DENSITY","CON3 DETERMINING PROPERTIES OF BITUMINOUS MIXTURES-Tex-207-F","Specimen type:","Laboratory","Specimen number:","1(2)","Specimen height",1070]
[2817,{"$f":"IF(INDIRECT(\"CON3_DENSITY!D7\")<>\"\",INDIRECT(\"CON3_DENSITY!D7\"),\"\")","v":""},"CON3_DENSITY","CON3 DETERMINING PROPERTIES OF BITUMINOUS MIXTURES-Tex-207-F","Specimen type:","Laboratory","Specimen number:","1(2)","Trimmed core height, in",""]
[2818,{"$f":"IF(INDIRECT(\"CON3_DENSITY!D8\")<>\"\",INDIRECT(\"CON3_DENSITY!D8\"),\"\")","v":""},"CON3_DENSITY","CON3 DETERMINING PROPERTIES OF BITUMINOUS MIXTURES-Tex-207-F","Specimen type:","Laboratory","Specimen number:","1(2)","Weight of specimen in air, g",1077]
[2819,{"$f":"IF(INDIRECT(\"CON3_DENSITY!D9\")<>\"\",INDIRECT(\"CON3_DENSITY!D9\"),\"\")","v":""},"CON3_DENSITY","CON3 DETERMINING PROPERTIES OF BITUMINOUS MIXTURES-Tex-207-F","Specimen type:","Laboratory","Specimen number:","1(2)","Weight of specimen in water, g",1082]
[2820,{"$f":"IF(INDIRECT(\"CON3_DENSITY!D10\")<>\"\",INDIRECT(\"CON3_DENSITY!D10\"),\"\")","v":""},"CON3_DENSITY","CON3 DETERMINING PROPERTIES OF BITUMINOUS MIXTURES-Tex-207-F","Specimen type:","Laboratory","Specimen number:","1(2)","SSD weight of specimen in air, g",1087]
[2821,{"$f":"IF(INDIRECT(\"CON3_DENSITY!D11\")<>\"\",INDIRECT(\"CON3_DENSITY!D11\"),\"\")","v":""},"CON3_DENSITY","CON3 DETERMINING PROPERTIES OF BITUMINOUS MIXTURES-Tex-207-F","Specimen type:","Laboratory","Specimen number:","1(2)","Volume of specimen",""]
[2822,{"$f":"IF(INDIRECT(\"CON3_DENSITY!D12\")<>\"\",INDIRECT(\"CON3_DENSITY!D12\"),\"\")","v":""},"CON3_DENSITY","CON3 DETERMINING PROPERTIES OF BITUMINOUS MIXTURES-Tex-207-F","Specimen type:","Laboratory","Specimen number:","1(2)","SSD Density",""]
[2823,{"$f":"IF(INDIRECT(\"CON3_DENSITY!D13\")<>\"\",INDIRECT(\"CON3_DENSITY!D13\"),\"\")","v":""},"CON3_DENSITY","CON3 DETERMINING PROPERTIES OF BITUMINOUS MIXTURES-Tex-207-F","Specimen type:","Laboratory","Specimen number:","1(2)","Percent absorption, %",""]
[2824,{"$f":"IF(INDIRECT(\"CON3_DENSITY!D14\")<>\"\",INDIRECT(\"CON3_DENSITY!D14\"),\"\")","v":""},"CON3_DENSITY","CON3 DETERMINING PROPERTIES OF BITUMINOUS MIXTURES-Tex-207-F","Specimen type:","Laboratory","Specimen number:","1(2)","Bag required for Ga",""]
[2825,{"$f":"IF(INDIRECT(\"CON3_DENSITY!D15\")<>\"\",INDIRECT(\"CON3_DENSITY!D15\"),\"\")","v":""},"CON3_DENSITY","CON3 DETERMINING PROPERTIES OF BITUMINOUS MIXTURES-Tex-207-F","Specimen type:","Laboratory","Specimen number:","1(2)","Bag Used for Ga",1092]
[2826,{"$f":"IF(INDIRECT(\"CON3_DENSITY!D17\")<>\"\",INDIRECT(\"CON3_DENSITY!D17\"),\"\")","v":""},"CON3_DENSITY","CON3 DETERMINING PROPERTIES OF BITUMINOUS MIXTURES-Tex-207-F","Specimen type:","Laboratory","Specimen number:","1(2)","Vacuum bag method used",1097]
[2827,{"$f":"IF(INDIRECT(\"CON3_DENSITY!D18\")<>\"\",INDIRECT(\"CON3_DENSITY!D18\"),\"\")","v":""},"CON3_DENSITY","CON3 DETERMINING PROPERTIES OF BITUMINOUS MIXTURES-Tex-207-F","Specimen type:","Laboratory","Specimen number:","1(2)","Weight of specimen in air, g",1102]
[2828,{"$f":"IF(INDIRECT(\"CON3_DENSITY!D19\")<>\"\",INDIRECT(\"CON3_DENSITY!D19\"),\"\")","v":""},"CON3_DENSITY","CON3 DETERMINING PROPERTIES OF BITUMINOUS MIXTURES-Tex-207-F","Specimen type:","Laboratory","Specimen number:","1(2)","Sealed weight of specimen in water, g",1107]
[2829,{"$f":"IF(INDIRECT(\"CON3_DENSITY!D20\")<>\"\",INDIRECT(\"CON3_DENSITY!D20\"),\"\")","v":""},"CON3_DENSITY","CON3 DETERMINING PROPERTIES OF BITUMINOUS MIXTURES-Tex-207-F","Specimen type:","Laboratory","Specimen number:","1(2)","Dry specimen weight after submersion, g",1112]
[2830,{"$f":"IF(INDIRECT(\"CON3_DENSITY!D21\")<>\"\",INDIRECT(\"CON3_DENSITY!D21\"),\"\")","v":""},"CON3_DENSITY","CON3 DETERMINING PROPERTIES OF BITUMINOUS MIXTURES-Tex-207-F","Specimen type:","Laboratory","Specimen number:","1(2)","Weight of vacuum bag(s), g",1117]
[2831,{"$f":"IF(INDIRECT(\"CON3_DENSITY!D22\")<>\"\",INDIRECT(\"CON3_DENSITY!D22\"),\"\")","v":""},"CON3_DENSITY","CON3 DETERMINING PROPERTIES OF BITUMINOUS MIXTURES-Tex-207-F","Specimen type:","Laboratory","Specimen number:","1(2)","Vacuum bag volume correction factor",""]
[2832,{"$f":"IF(INDIRECT(\"CON3_DENSITY!D23\")<>\"\",INDIRECT(\"CON3_DENSITY!D23\"),\"\")","v":""},"CON3_DENSITY","CON3 DETERMINING PROPERTIES OF BITUMINOUS MIXTURES-Tex-207-F","Specimen type:","Laboratory","Specimen number:","1(2)","Vacuum bag density",""]
[2833,{"$f":"IF(INDIRECT(\"CON3_DENSITY!D26\")<>\"\",INDIRECT(\"CON3_DENSITY!D26\"),\"\")","v":""},"CON3_DENSITY","CON3 DETERMINING PROPERTIES OF BITUMINOUS MIXTURES-Tex-207-F","Specimen type:","Laboratory","Specimen number:","1(2)","Bulk specific gravity, Ga",""]
[2834,{"$f":"IF(INDIRECT(\"CON3_DENSITY!D27\")<>\"\",INDIRECT(\"CON3_DENSITY!D27\"),\"\")","v":""},"CON3_DENSITY","CON3 DETERMINING PROPERTIES OF BITUMINOUS MIXTURES-Tex-207-F","Specimen type:","Laboratory","Specimen number:","1(2)","Percent density, %",""]
[2835,{"$f":"IF(INDIRECT(\"CON3_DENSITY!D28\")<>\"\",INDIRECT(\"CON3_DENSITY!D28\"),\"\")","v":""},"CON3_DENSITY","CON3 DETERMINING PROPERTIES OF BITUMINOUS MIXTURES-Tex-207-F","Specimen type:","Laboratory","Specimen number:","1(2)","Percent air voids, %",""]
[2836,{"$f":"IF(INDIRECT(\"CON3_DENSITY!D29\")<>\"\",INDIRECT(\"CON3_DENSITY!D29\"),\"\")","v":""},"CON3_DENSITY","CON3 DETERMINING PROPERTIES OF BITUMINOUS MIXTURES-Tex-207-F","Specimen type:","Laboratory","Specimen number:","1(2)","Percent VMA, %",""]
[2837,null,null,null,null,null,null,null,null,""]
[2838,{"$f":"IF(INDIRECT(\"CON3_DENSITY!E5\")<>\"\",INDIRECT(\"CON3_DENSITY!E5\"),\"\")","v":""},"CON3_DENSITY","CON3 DETERMINING PROPERTIES OF BITUMINOUS MIXTURES-Tex-207-F","Specimen type:","Laboratory","Specimen number:","1(3)","Specimen radius, mm",1066]
[2839,{"$f":"IF(INDIRECT(\"CON3_DENSITY!E6\")<>\"\",INDIRECT(\"CON3_DENSITY!E6\"),\"\")","v":""},"CON3_DENSITY","CON3 DETERMINING PROPERTIES OF BITUMINOUS MIXTURES-Tex-207-F","Specimen type:","Laboratory","Specimen number:","1(3)","Specimen height",1071]
[2840,{"$f":"IF(INDIRECT(\"CON3_DENSITY!E7\")<>\"\",INDIRECT(\"CON3_DENSITY!E7\"),\"\")","v":""},"CON3_DENSITY","CON3 DETERMINING PROPERTIES OF BITUMINOUS MIXTURES-Tex-207-F","Specimen type:","Laboratory","Specimen number:","1(3)","Trimmed core height, in",""]
[2841,{"$f":"IF(INDIRECT(\"CON3_DENSITY!E8\")<>\"\",INDIRECT(\"CON3_DENSITY!E8\"),\"\")","v":""},"CON3_DENSITY","CON3 DETERMINING PROPERTIES OF BITUMINOUS MIXTURES-Tex-207-F","Specimen type:","Laboratory","Specimen number:","1(3)","Weight of specimen in air, g",1078]
[2842,{"$f":"IF(INDIRECT(\"CON3_DENSITY!E9\")<>\"\",INDIRECT(\"CON3_DENSITY!E9\"),\"\")","v":""},"CON3_DENSITY","CON3 DETERMINING PROPERTIES OF BITUMINOUS MIXTURES-Tex-207-F","Specimen type:","Laboratory","Specimen number:","1(3)","Weight of specimen in water, g",1083]
[2843,{"$f":"IF(INDIRECT(\"CON3_DENSITY!E10\")<>\"\",INDIRECT(\"CON3_DENSITY!E10\"),\"\")","v":""},"CON3_DENSITY","CON3 DETERMINING PROPERTIES OF BITUMINOUS MIXTURES-Tex-207-F","Specimen type:","Laboratory","Specimen number:","1(3)","SSD weight of specimen in air, g",1088]
[2844,{"$f":"IF(INDIRECT(\"CON3_DENSITY!E11\")<>\"\",INDIRECT(\"CON3_DENSITY!E11\"),\"\")","v":""},"CON3_DENSITY","CON3 DETERMINING PROPERTIES OF BITUMINOUS MIXTURES-Tex-207-F","Specimen type:","Laboratory","Specimen number:","1(3)","Volume of specimen",""]
[2845,{"$f":"IF(INDIRECT(\"CON3_DENSITY!E12\")<>\"\",INDIRECT(\"CON3_DENSITY!E12\"),\"\")","v":""},"CON3_DENSITY","CON3 DETERMINING PROPERTIES OF BITUMINOUS MIXTURES-Tex-207-F","Specimen type:","Laboratory","Specimen number:","1(3)","SSD Density",""]
[2846,{"$f":"IF(INDIRECT(\"CON3_DENSITY!E13\")<>\"\",INDIRECT(\"CON3_DENSITY!E13\"),\"\")","v":""},"CON3_DENSITY","CON3 DETERMINING PROPERTIES OF BITUMINOUS MIXTURES-Tex-207-F","Specimen type:","Laboratory","Specimen number:","1(3)","Percent absorption, %",""]
[2847,{"$f":"IF(INDIRECT(\"CON3_DENSITY!E14\")<>\"\",INDIRECT(\"CON3_DENSITY!E14\"),\"\")","v":""},"CON3_DENSITY","CON3 DETERMINING PROPERTIES OF BITUMINOUS MIXTURES-Tex-207-F","Specimen type:","Laboratory","Specimen number:","1(3)","Bag required for Ga",""]
[2848,{"$f":"IF(INDIRECT(\"CON3_DENSITY!E15\")<>\"\",INDIRECT(\"CON3_DENSITY!E15\"),\"\")","v":""},"CON3_DENSITY","CON3 DETERMINING PROPERTIES OF BITUMINOUS MIXTURES-Tex-207-F","Specimen type:","Laboratory","Specimen number:","1(3)","Bag Used for Ga",1093]
[2849,{"$f":"IF(INDIRECT(\"CON3_DENSITY!E17\")<>\"\",INDIRECT(\"CON3_DENSITY!E17\"),\"\")","v":""},"CON3_DENSITY","CON3 DETERMINING PROPERTIES OF BITUMINOUS MIXTURES-Tex-207-F","Specimen type:","Laboratory","Specimen number:","1(3)","Vacuum bag method used",1098]
[2850,{"$f":"IF(INDIRECT(\"CON3_DENSITY!E18\")<>\"\",INDIRECT(\"CON3_DENSITY!E18\"),\"\")","v":""},"CON3_DENSITY","CON3 DETERMINING PROPERTIES OF BITUMINOUS MIXTURES-Tex-207-F","Specimen type:","Laboratory","Specimen number:","1(3)","Weight of specimen in air, g",1103]
[2851,{"$f":"IF(INDIRECT(\"CON3_DENSITY!E19\")<>\"\",INDIRECT(\"CON3_DENSITY!E19\"),\"\")","v":""},"CON3_DENSITY","CON3 DETERMINING PROPERTIES OF BITUMINOUS MIXTURES-Tex-207-F","Specimen type:","Laboratory","Specimen number:","1(3)","Sealed weight of specimen in water, g",1108]
[2852,{"$f":"IF(INDIRECT(\"CON3_DENSITY!E20\")<>\"\",INDIRECT(\"CON3_DENSITY!E20\"),\"\")","v":""},"CON3_DENSITY","CON3 DETERMINING PROPERTIES OF BITUMINOUS MIXTURES-Tex-207-F","Specimen type:","Laboratory","Specimen number:","1(3)","Dry specimen weight after submersion, g",1113]
[2853,{"$f":"IF(INDIRECT(\"CON3_DENSITY!E21\")<>\"\",INDIRECT(\"CON3_DENSITY!E21\"),\"\")","v":""},"CON3_DENSITY","CON3 DETERMINING PROPERTIES OF BITUMINOUS MIXTURES-Tex-207-F","Specimen type:","Laboratory","Specimen number:","1(3)","Weight of vacuum bag(s), g",1118]
[2854,{"$f":"IF(INDIRECT(\"CON3_DENSITY!E22\")<>\"\",INDIRECT(\"CON3_DENSITY!E22\"),\"\")","v":""},"CON3_DENSITY","CON3 DETERMINING PROPERTIES OF BITUMINOUS MIXTURES-Tex-207-F","Specimen type:","Laboratory","Specimen number:","1(3)","Vacuum bag volume correction factor",""]
[2855,{"$f":"IF(INDIRECT(\"CON3_DENSITY!E23\")<>\"\",INDIRECT(\"CON3_DENSITY!E23\"),\"\")","v":""},"CON3_DENSITY","CON3 DETERMINING PROPERTIES OF BITUMINOUS MIXTURES-Tex-207-F","Specimen type:","Laboratory","Specimen number:","1(3)","Vacuum bag density",""]
[2856,{"$f":"IF(INDIRECT(\"CON3_DENSITY!E26\")<>\"\",INDIRECT(\"CON3_DENSITY!E26\"),\"\")","v":""},"CON3_DENSITY","CON3 DETERMINING PROPERTIES OF BITUMINOUS MIXTURES-Tex-207-F","Specimen type:","Laboratory","Specimen number:","1(3)","Bulk specific gravity, Ga",""]
[2857,{"$f":"IF(INDIRECT(\"CON3_DENSITY!E27\")<>\"\",INDIRECT(\"CON3_DENSITY!E27\"),\"\")","v":""},"CON3_DENSITY","CON3 DETERMINING PROPERTIES OF BITUMINOUS MIXTURES-Tex-207-F","Specimen type:","Laboratory","Specimen number:","1(3)","Percent density, %",""]
[2858,{"$f":"IF(INDIRECT(\"CON3_DENSITY!E28\")<>\"\",INDIRECT(\"CON3_DENSITY!E28\"),\"\")","v":""},"CON3_DENSITY","CON3 DETERMINING PROPERTIES OF BITUMINOUS MIXTURES-Tex-207-F","Specimen type:","Laboratory","Specimen number:","1(3)","Percent air voids, %",""]
[2859,{"$f":"IF(INDIRECT(\"CON3_DENSITY!E29\")<>\"\",INDIRECT(\"CON3_DENSITY!E29\"),\"\")","v":""},"CON3_DENSITY","CON3 DETERMINING PROPERTIES OF BITUMINOUS MIXTURES-Tex-207-F","Specimen type:","Laboratory","Specimen number:","1(3)","Percent VMA, %",""]
[2860,null,null,null,null,null,null,null,null,""]
[2861,{"$f":"IF(INDIRECT(\"CON3_DENSITY!F5\")<>\"\",INDIRECT(\"CON3_DENSITY!F5\"),\"\")","v":""},"CON3_DENSITY","CON3 DETERMINING PROPERTIES OF BITUMINOUS MIXTURES-Tex-207-F","Specimen type:","Roadway","Specimen number:","1(A)","Specimen radius, mm",1067]
[2862,{"$f":"IF(INDIRECT(\"CON3_DENSITY!F6\")<>\"\",INDIRECT(\"CON3_DENSITY!F6\"),\"\")","v":""},"CON3_DENSITY","CON3 DETERMINING PROPERTIES OF BITUMINOUS MIXTURES-Tex-207-F","Specimen type:","Roadway","Specimen number:","1(A)","Specimen height",1072]
[2863,{"$f":"IF(INDIRECT(\"CON3_DENSITY!F7\")<>\"\",INDIRECT(\"CON3_DENSITY!F7\"),\"\")","v":""},"CON3_DENSITY","CON3 DETERMINING PROPERTIES OF BITUMINOUS MIXTURES-Tex-207-F","Specimen type:","Roadway","Specimen number:","1(A)","Trimmed core height, in",1075]
[2864,{"$f":"IF(INDIRECT(\"CON3_DENSITY!F8\")<>\"\",INDIRECT(\"CON3_DENSITY!F8\"),\"\")","v":""},"CON3_DENSITY","CON3 DETERMINING PROPERTIES OF BITUMINOUS MIXTURES-Tex-207-F","Specimen type:","Roadway","Specimen number:","1(A)","Weight of specimen in air, g",1079]
[2865,{"$f":"IF(INDIRECT(\"CON3_DENSITY!F9\")<>\"\",INDIRECT(\"CON3_DENSITY!F9\"),\"\")","v":""},"CON3_DENSITY","CON3 DETERMINING PROPERTIES OF BITUMINOUS MIXTURES-Tex-207-F","Specimen type:","Roadway","Specimen number:","1(A)","Weight of specimen in water, g",1084]
[2866,{"$f":"IF(INDIRECT(\"CON3_DENSITY!F10\")<>\"\",INDIRECT(\"CON3_DENSITY!F10\"),\"\")","v":""},"CON3_DENSITY","CON3 DETERMINING PROPERTIES OF BITUMINOUS MIXTURES-Tex-207-F","Specimen type:","Roadway","Specimen number:","1(A)","SSD weight of specimen in air, g",1089]
[2867,{"$f":"IF(INDIRECT(\"CON3_DENSITY!F11\")<>\"\",INDIRECT(\"CON3_DENSITY!F11\"),\"\")","v":""},"CON3_DENSITY","CON3 DETERMINING PROPERTIES OF BITUMINOUS MIXTURES-Tex-207-F","Specimen type:","Roadway","Specimen number:","1(A)","Volume of specimen",""]
[2868,{"$f":"IF(INDIRECT(\"CON3_DENSITY!F12\")<>\"\",INDIRECT(\"CON3_DENSITY!F12\"),\"\")","v":""},"CON3_DENSITY","CON3 DETERMINING PROPERTIES OF BITUMINOUS MIXTURES-Tex-207-F","Specimen type:","Roadway","Specimen number:","1(A)","SSD Density",""]
[2869,{"$f":"IF(INDIRECT(\"CON3_DENSITY!F13\")<>\"\",INDIRECT(\"CON3_DENSITY!F13\"),\"\")","v":""},"CON3_DENSITY","CON3 DETERMINING PROPERTIES OF BITUMINOUS MIXTURES-Tex-207-F","Specimen type:","Roadway","Specimen number:","1(A)","Percent absorption, %",""]
[2870,{"$f":"IF(INDIRECT(\"CON3_DENSITY!F14\")<>\"\",INDIRECT(\"CON3_DENSITY!F14\"),\"\")","v":""},"CON3_DENSITY","CON3 DETERMINING PROPERTIES OF BITUMINOUS MIXTURES-Tex-207-F","Specimen type:","Roadway","Specimen number:","1(A)","Bag required for Ga",""]
[2871,{"$f":"IF(INDIRECT(\"CON3_DENSITY!F15\")<>\"\",INDIRECT(\"CON3_DENSITY!F15\"),\"\")","v":""},"CON3_DENSITY","CON3 DETERMINING PROPERTIES OF BITUMINOUS MIXTURES-Tex-207-F","Specimen type:","Roadway","Specimen number:","1(A)","Bag Used for Ga",1094]
[2872,{"$f":"IF(INDIRECT(\"CON3_DENSITY!F17\")<>\"\",INDIRECT(\"CON3_DENSITY!F17\"),\"\")","v":""},"CON3_DENSITY","CON3 DETERMINING PROPERTIES OF BITUMINOUS MIXTURES-Tex-207-F","Specimen type:","Roadway","Specimen number:","1(A)","Vacuum bag method used",1099]
[2873,{"$f":"IF(INDIRECT(\"CON3_DENSITY!F18\")<>\"\",INDIRECT(\"CON3_DENSITY!F18\"),\"\")","v":""},"CON3_DENSITY","CON3 DETERMINING PROPERTIES OF BITUMINOUS MIXTURES-Tex-207-F","Specimen type:","Roadway","Specimen number:","1(A)","Weight of specimen in air, g",1104]
[2874,{"$f":"IF(INDIRECT(\"CON3_DENSITY!F19\")<>\"\",INDIRECT(\"CON3_DENSITY!F19\"),\"\")","v":""},"CON3_DENSITY","CON3 DETERMINING PROPERTIES OF BITUMINOUS MIXTURES-Tex-207-F","Specimen type:","Roadway","Specimen number:","1(A)","Sealed weight of specimen in water, g",1109]
[2875,{"$f":"IF(INDIRECT(\"CON3_DENSITY!F20\")<>\"\",INDIRECT(\"CON3_DENSITY!F20\"),\"\")","v":""},"CON3_DENSITY","CON3 DETERMINING PROPERTIES OF BITUMINOUS MIXTURES-Tex-207-F","Specimen type:","Roadway","Specimen number:","1(A)","Dry specimen weight after submersion, g",1114]
[2876,{"$f":"IF(INDIRECT(\"CON3_DENSITY!F21\")<>\"\",INDIRECT(\"CON3_DENSITY!F21\"),\"\")","v":""},"CON3_DENSITY","CON3 DETERMINING PROPERTIES OF BITUMINOUS MIXTURES-Tex-207-F","Specimen type:","Roadway","Specimen number:","1(A)","Weight of vacuum bag(s), g",1119]
[2877,{"$f":"IF(INDIRECT(\"CON3_DENSITY!F22\")<>\"\",INDIRECT(\"CON3_DENSITY!F22\"),\"\")","v":""},"CON3_DENSITY","CON3 DETERMINING PROPERTIES OF BITUMINOUS MIXTURES-Tex-207-F","Specimen type:","Roadway","Specimen number:","1(A)","Vacuum bag volume correction factor",""]
[2878,{"$f":"IF(INDIRECT(\"CON3_DENSITY!F23\")<>\"\",INDIRECT(\"CON3_DENSITY!F23\"),\"\")","v":""},"CON3_DENSITY","CON3 DETERMINING PROPERTIES OF BITUMINOUS MIXTURES-Tex-207-F","Specimen type:","Roadway","Specimen number:","1(A)","Vacuum bag density",""]
[2879,{"$f":"IF(INDIRECT(\"CON3_DENSITY!F26\")<>\"\",INDIRECT(\"CON3_DENSITY!F26\"),\"\")","v":""},"CON3_DENSITY","CON3 DETERMINING PROPERTIES OF BITUMINOUS MIXTURES-Tex-207-F","Specimen type:","Roadway","Specimen number:","1(A)","Bulk specific gravity, Ga",""]
[2880,{"$f":"IF(INDIRECT(\"CON3_DENSITY!F27\")<>\"\",INDIRECT(\"CON3_DENSITY!F27\"),\"\")","v":""},"CON3_DENSITY","CON3 DETERMINING PROPERTIES OF BITUMINOUS MIXTURES-Tex-207-F","Specimen type:","Roadway","Specimen number:","1(A)","Percent density, %",""]
[2881,{"$f":"IF(INDIRECT(\"CON3_DENSITY!F28\")<>\"\",INDIRECT(\"CON3_DENSITY!F28\"),\"\")","v":""},"CON3_DENSITY","CON3 DETERMINING PROPERTIES OF BITUMINOUS MIXTURES-Tex-207-F","Specimen type:","Roadway","Specimen number:","1(A)","Percent air voids, %",""]
[2882,{"$f":"IF(INDIRECT(\"CON3_DENSITY!F29\")<>\"\",INDIRECT(\"CON3_DENSITY!F29\"),\"\")","v":""},"CON3_DENSITY","CON3 DETERMINING PROPERTIES OF BITUMINOUS MIXTURES-Tex-207-F","Specimen type:","Roadway","Specimen number:","1(A)","Percent VMA, %",""]
[2883,null,null,null,null,null,null,null,null,""]
[2884,{"$f":"IF(INDIRECT(\"CON3_DENSITY!G5\")<>\"\",INDIRECT(\"CON3_DENSITY!G5\"),\"\")","v":""},"CON3_DENSITY","CON3 DETERMINING PROPERTIES OF BITUMINOUS MIXTURES-Tex-207-F","Specimen type:","Roadway","Specimen number:","1(B)","Specimen radius, mm",1068]
[2885,{"$f":"IF(INDIRECT(\"CON3_DENSITY!G6\")<>\"\",INDIRECT(\"CON3_DENSITY!G6\"),\"\")","v":""},"CON3_DENSITY","CON3 DETERMINING PROPERTIES OF BITUMINOUS MIXTURES-Tex-207-F","Specimen type:","Roadway","Specimen number:","1(B)","Specimen height",1073]
[2886,{"$f":"IF(INDIRECT(\"CON3_DENSITY!G7\")<>\"\",INDIRECT(\"CON3_DENSITY!G7\"),\"\")","v":""},"CON3_DENSITY","CON3 DETERMINING PROPERTIES OF BITUMINOUS MIXTURES-Tex-207-F","Specimen type:","Roadway","Specimen number:","1(B)","Trimmed core height, in",1076]
[2887,{"$f":"IF(INDIRECT(\"CON3_DENSITY!G8\")<>\"\",INDIRECT(\"CON3_DENSITY!G8\"),\"\")","v":""},"CON3_DENSITY","CON3 DETERMINING PROPERTIES OF BITUMINOUS MIXTURES-Tex-207-F","Specimen type:","Roadway","Specimen number:","1(B)","Weight of specimen in air, g",1080]
[2888,{"$f":"IF(INDIRECT(\"CON3_DENSITY!G9\")<>\"\",INDIRECT(\"CON3_DENSITY!G9\"),\"\")","v":""},"CON3_DENSITY","CON3 DETERMINING PROPERTIES OF BITUMINOUS MIXTURES-Tex-207-F","Specimen type:","Roadway","Specimen number:","1(B)","Weight of specimen in water, g",1085]
[2889,{"$f":"IF(INDIRECT(\"CON3_DENSITY!G10\")<>\"\",INDIRECT(\"CON3_DENSITY!G10\"),\"\")","v":""},"CON3_DENSITY","CON3 DETERMINING PROPERTIES OF BITUMINOUS MIXTURES-Tex-207-F","Specimen type:","Roadway","Specimen number:","1(B)","SSD weight of specimen in air, g",1090]
[2890,{"$f":"IF(INDIRECT(\"CON3_DENSITY!G11\")<>\"\",INDIRECT(\"CON3_DENSITY!G11\"),\"\")","v":""},"CON3_DENSITY","CON3 DETERMINING PROPERTIES OF BITUMINOUS MIXTURES-Tex-207-F","Specimen type:","Roadway","Specimen number:","1(B)","Volume of specimen",""]
[2891,{"$f":"IF(INDIRECT(\"CON3_DENSITY!G12\")<>\"\",INDIRECT(\"CON3_DENSITY!G12\"),\"\")","v":""},"CON3_DENSITY","CON3 DETERMINING PROPERTIES OF BITUMINOUS MIXTURES-Tex-207-F","Specimen type:","Roadway","Specimen number:","1(B)","SSD Density",""]
[2892,{"$f":"IF(INDIRECT(\"CON3_DENSITY!G13\")<>\"\",INDIRECT(\"CON3_DENSITY!G13\"),\"\")","v":""},"CON3_DENSITY","CON3 DETERMINING PROPERTIES OF BITUMINOUS MIXTURES-Tex-207-F","Specimen type:","Roadway","Specimen number:","1(B)","Percent absorption, %",""]
[2893,{"$f":"IF(INDIRECT(\"CON3_DENSITY!G14\")<>\"\",INDIRECT(\"CON3_DENSITY!G14\"),\"\")","v":""},"CON3_DENSITY","CON3 DETERMINING PROPERTIES OF BITUMINOUS MIXTURES-Tex-207-F","Specimen type:","Roadway","Specimen number:","1(B)","Bag required for Ga",""]
[2894,{"$f":"IF(INDIRECT(\"CON3_DENSITY!G15\")<>\"\",INDIRECT(\"CON3_DENSITY!G15\"),\"\")","v":""},"CON3_DENSITY","CON3 DETERMINING PROPERTIES OF BITUMINOUS MIXTURES-Tex-207-F","Specimen type:","Roadway","Specimen number:","1(B)","Bag Used for Ga",1095]
[2895,{"$f":"IF(INDIRECT(\"CON3_DENSITY!G17\")<>\"\",INDIRECT(\"CON3_DENSITY!G17\"),\"\")","v":""},"CON3_DENSITY","CON3 DETERMINING PROPERTIES OF BITUMINOUS MIXTURES-Tex-207-F","Specimen type:","Roadway","Specimen number:","1(B)","Vacuum bag method used",1100]
[2896,{"$f":"IF(INDIRECT(\"CON3_DENSITY!G18\")<>\"\",INDIRECT(\"CON3_DENSITY!G18\"),\"\")","v":""},"CON3_DENSITY","CON3 DETERMINING PROPERTIES OF BITUMINOUS MIXTURES-Tex-207-F","Specimen type:","Roadway","Specimen number:","1(B)","Weight of specimen in air, g",1105]
[2897,{"$f":"IF(INDIRECT(\"CON3_DENSITY!G19\")<>\"\",INDIRECT(\"CON3_DENSITY!G19\"),\"\")","v":""},"CON3_DENSITY","CON3 DETERMINING PROPERTIES OF BITUMINOUS MIXTURES-Tex-207-F","Specimen type:","Roadway","Specimen number:","1(B)","Sealed weight of specimen in water, g",1110]
[2898,{"$f":"IF(INDIRECT(\"CON3_DENSITY!G20\")<>\"\",INDIRECT(\"CON3_DENSITY!G20\"),\"\")","v":""},"CON3_DENSITY","CON3 DETERMINING PROPERTIES OF BITUMINOUS MIXTURES-Tex-207-F","Specimen type:","Roadway","Specimen number:","1(B)","Dry specimen weight after submersion, g",1115]
[2899,{"$f":"IF(INDIRECT(\"CON3_DENSITY!G21\")<>\"\",INDIRECT(\"CON3_DENSITY!G21\"),\"\")","v":""},"CON3_DENSITY","CON3 DETERMINING PROPERTIES OF BITUMINOUS MIXTURES-Tex-207-F","Specimen type:","Roadway","Specimen number:","1(B)","Weight of vacuum bag(s), g",1120]
[2900,{"$f":"IF(INDIRECT(\"CON3_DENSITY!G22\")<>\"\",INDIRECT(\"CON3_DENSITY!G22\"),\"\")","v":""},"CON3_DENSITY","CON3 DETERMINING PROPERTIES OF BITUMINOUS MIXTURES-Tex-207-F","Specimen type:","Roadway","Specimen number:","1(B)","Vacuum bag volume correction factor"]
[2901,{"$f":"IF(INDIRECT(\"CON3_DENSITY!G23\")<>\"\",INDIRECT(\"CON3_DENSITY!G23\"),\"\")","v":""},"CON3_DENSITY","CON3 DETERMINING PROPERTIES OF BITUMINOUS MIXTURES-Tex-207-F","Specimen type:","Roadway","Specimen number:","1(B)","Vacuum bag density"]
[2902,{"$f":"IF(INDIRECT(\"CON3_DENSITY!G26\")<>\"\",INDIRECT(\"CON3_DENSITY!G26\"),\"\")","v":""},"CON3_DENSITY","CON3 DETERMINING PROPERTIES OF BITUMINOUS MIXTURES-Tex-207-F","Specimen type:","Roadway","Specimen number:","1(B)","Bulk specific gravity, Ga"]
[2903,{"$f":"IF(INDIRECT(\"CON3_DENSITY!G27\")<>\"\",INDIRECT(\"CON3_DENSITY!G27\"),\"\")","v":""},"CON3_DENSITY","CON3 DETERMINING PROPERTIES OF BITUMINOUS MIXTURES-Tex-207-F","Specimen type:","Roadway","Specimen number:","1(B)","Percent density, %"]
[2904,{"$f":"IF(INDIRECT(\"CON3_DENSITY!G28\")<>\"\",INDIRECT(\"CON3_DENSITY!G28\"),\"\")","v":""},"CON3_DENSITY","CON3 DETERMINING PROPERTIES OF BITUMINOUS MIXTURES-Tex-207-F","Specimen type:","Roadway","Specimen number:","1(B)","Percent air voids, %"]
[2905,{"$f":"IF(INDIRECT(\"CON3_DENSITY!G29\")<>\"\",INDIRECT(\"CON3_DENSITY!G29\"),\"\")","v":""},"CON3_DENSITY","CON3 DETERMINING PROPERTIES OF BITUMINOUS MIXTURES-Tex-207-F","Specimen type:","Roadway","Specimen number:","1(B)","Percent VMA, %"]
[2906]
[2907]
[2908]
[2909]
[2910,{"$f":"IF(INDIRECT(\"CON4_DENSITY!C5\")<>\"\",INDIRECT(\"CON4_DENSITY!C5\"),\"\")","v":""},"CON4_DENSITY","CON4 DETERMINING PROPERTIES OF BITUMINOUS MIXTURES-Tex-207-F","Specimen type:","Laboratory","Specimen number:","1(1)","Specimen radius, mm",1163]
[2911,{"$f":"IF(INDIRECT(\"CON4_DENSITY!C6\")<>\"\",INDIRECT(\"CON4_DENSITY!C6\"),\"\")","v":""},"CON4_DENSITY","CON4 DETERMINING PROPERTIES OF BITUMINOUS MIXTURES-Tex-207-F","Specimen type:","Laboratory","Specimen number:","1(1)","Specimen height",1168]
[2912,{"$f":"IF(INDIRECT(\"CON4_DENSITY!C7\")<>\"\",INDIRECT(\"CON4_DENSITY!C7\"),\"\")","v":""},"CON4_DENSITY","CON4 DETERMINING PROPERTIES OF BITUMINOUS MIXTURES-Tex-207-F","Specimen type:","Laboratory","Specimen number:","1(1)","Trimmed core height, in",""]
[2913,{"$f":"IF(INDIRECT(\"CON4_DENSITY!C8\")<>\"\",INDIRECT(\"CON4_DENSITY!C8\"),\"\")","v":""},"CON4_DENSITY","CON4 DETERMINING PROPERTIES OF BITUMINOUS MIXTURES-Tex-207-F","Specimen type:","Laboratory","Specimen number:","1(1)","Weight of specimen in air, g",1175]
[2914,{"$f":"IF(INDIRECT(\"CON4_DENSITY!C9\")<>\"\",INDIRECT(\"CON4_DENSITY!C9\"),\"\")","v":""},"CON4_DENSITY","CON4 DETERMINING PROPERTIES OF BITUMINOUS MIXTURES-Tex-207-F","Specimen type:","Laboratory","Specimen number:","1(1)","Weight of specimen in water, g",1180]
[2915,{"$f":"IF(INDIRECT(\"CON4_DENSITY!C10\")<>\"\",INDIRECT(\"CON4_DENSITY!C10\"),\"\")","v":""},"CON4_DENSITY","CON4 DETERMINING PROPERTIES OF BITUMINOUS MIXTURES-Tex-207-F","Specimen type:","Laboratory","Specimen number:","1(1)","SSD weight of specimen in air, g",1185]
[2916,{"$f":"IF(INDIRECT(\"CON4_DENSITY!C11\")<>\"\",INDIRECT(\"CON4_DENSITY!C11\"),\"\")","v":""},"CON4_DENSITY","CON4 DETERMINING PROPERTIES OF BITUMINOUS MIXTURES-Tex-207-F","Specimen type:","Laboratory","Specimen number:","1(1)","Volume of specimen",""]
[2917,{"$f":"IF(INDIRECT(\"CON4_DENSITY!C12\")<>\"\",INDIRECT(\"CON4_DENSITY!C12\"),\"\")","v":""},"CON4_DENSITY","CON4 DETERMINING PROPERTIES OF BITUMINOUS MIXTURES-Tex-207-F","Specimen type:","Laboratory","Specimen number:","1(1)","SSD Density",""]
[2918,{"$f":"IF(INDIRECT(\"CON4_DENSITY!C13\")<>\"\",INDIRECT(\"CON4_DENSITY!C13\"),\"\")","v":""},"CON4_DENSITY","CON4 DETERMINING PROPERTIES OF BITUMINOUS MIXTURES-Tex-207-F","Specimen type:","Laboratory","Specimen number:","1(1)","Percent absorption, %",""]
[2919,{"$f":"IF(INDIRECT(\"CON4_DENSITY!C14\")<>\"\",INDIRECT(\"CON4_DENSITY!C14\"),\"\")","v":""},"CON4_DENSITY","CON4 DETERMINING PROPERTIES OF BITUMINOUS MIXTURES-Tex-207-F","Specimen type:","Laboratory","Specimen number:","1(1)","Bag required for Ga",""]
[2920,{"$f":"IF(INDIRECT(\"CON4_DENSITY!C15\")<>\"\",INDIRECT(\"CON4_DENSITY!C15\"),\"\")","v":""},"CON4_DENSITY","CON4 DETERMINING PROPERTIES OF BITUMINOUS MIXTURES-Tex-207-F","Specimen type:","Laboratory","Specimen number:","1(1)","Bag Used for Ga",1190]
[2921,{"$f":"IF(INDIRECT(\"CON4_DENSITY!C17\")<>\"\",INDIRECT(\"CON4_DENSITY!C17\"),\"\")","v":""},"CON4_DENSITY","CON4 DETERMINING PROPERTIES OF BITUMINOUS MIXTURES-Tex-207-F","Specimen type:","Laboratory","Specimen number:","1(1)","Vacuum bag method used",1195]
[2922,{"$f":"IF(INDIRECT(\"CON4_DENSITY!C18\")<>\"\",INDIRECT(\"CON4_DENSITY!C18\"),\"\")","v":""},"CON4_DENSITY","CON4 DETERMINING PROPERTIES OF BITUMINOUS MIXTURES-Tex-207-F","Specimen type:","Laboratory","Specimen number:","1(1)","Weight of specimen in air, g",1200]
[2923,{"$f":"IF(INDIRECT(\"CON4_DENSITY!C19\")<>\"\",INDIRECT(\"CON4_DENSITY!C19\"),\"\")","v":""},"CON4_DENSITY","CON4 DETERMINING PROPERTIES OF BITUMINOUS MIXTURES-Tex-207-F","Specimen type:","Laboratory","Specimen number:","1(1)","Sealed weight of specimen in water, g",1205]
[2924,{"$f":"IF(INDIRECT(\"CON4_DENSITY!C20\")<>\"\",INDIRECT(\"CON4_DENSITY!C20\"),\"\")","v":""},"CON4_DENSITY","CON4 DETERMINING PROPERTIES OF BITUMINOUS MIXTURES-Tex-207-F","Specimen type:","Laboratory","Specimen number:","1(1)","Dry specimen weight after submersion, g",1210]
[2925,{"$f":"IF(INDIRECT(\"CON4_DENSITY!C21\")<>\"\",INDIRECT(\"CON4_DENSITY!C21\"),\"\")","v":""},"CON4_DENSITY","CON4 DETERMINING PROPERTIES OF BITUMINOUS MIXTURES-Tex-207-F","Specimen type:","Laboratory","Specimen number:","1(1)","Weight of vacuum bag(s), g",1215]
[2926,{"$f":"IF(INDIRECT(\"CON4_DENSITY!C22\")<>\"\",INDIRECT(\"CON4_DENSITY!C22\"),\"\")","v":""},"CON4_DENSITY","CON4 DETERMINING PROPERTIES OF BITUMINOUS MIXTURES-Tex-207-F","Specimen type:","Laboratory","Specimen number:","1(1)","Vacuum bag volume correction factor",""]
[2927,{"$f":"IF(INDIRECT(\"CON4_DENSITY!C23\")<>\"\",INDIRECT(\"CON4_DENSITY!C23\"),\"\")","v":""},"CON4_DENSITY","CON4 DETERMINING PROPERTIES OF BITUMINOUS MIXTURES-Tex-207-F","Specimen type:","Laboratory","Specimen number:","1(1)","Vacuum bag density",""]
[2928,{"$f":"IF(INDIRECT(\"CON4_DENSITY!C26\")<>\"\",INDIRECT(\"CON4_DENSITY!C26\"),\"\")","v":""},"CON4_DENSITY","CON4 DETERMINING PROPERTIES OF BITUMINOUS MIXTURES-Tex-207-F","Specimen type:","Laboratory","Specimen number:","1(1)","Bulk specific gravity, Ga",""]
[2929,{"$f":"IF(INDIRECT(\"CON4_DENSITY!C27\")<>\"\",INDIRECT(\"CON4_DENSITY!C27\"),\"\")","v":""},"CON4_DENSITY","CON4 DETERMINING PROPERTIES OF BITUMINOUS MIXTURES-Tex-207-F","Specimen type:","Laboratory","Specimen number:","1(1)","Percent density, %",""]
[2930,{"$f":"IF(INDIRECT(\"CON4_DENSITY!C28\")<>\"\",INDIRECT(\"CON4_DENSITY!C28\"),\"\")","v":""},"CON4_DENSITY","CON4 DETERMINING PROPERTIES OF BITUMINOUS MIXTURES-Tex-207-F","Specimen type:","Laboratory","Specimen number:","1(1)","Percent air voids, %",""]
[2931,{"$f":"IF(INDIRECT(\"CON4_DENSITY!C29\")<>\"\",INDIRECT(\"CON4_DENSITY!C29\"),\"\")","v":""},"CON4_DENSITY","CON4 DETERMINING PROPERTIES OF BITUMINOUS MIXTURES-Tex-207-F","Specimen type:","Laboratory","Specimen number:","1(1)","Percent VMA, %",""]
[2932,null,null,null,null,null,null,null,null,""]
[2933,{"$f":"IF(INDIRECT(\"CON4_DENSITY!D5\")<>\"\",INDIRECT(\"CON4_DENSITY!D5\"),\"\")","v":""},"CON4_DENSITY","CON4 DETERMINING PROPERTIES OF BITUMINOUS MIXTURES-Tex-207-F","Specimen type:","Laboratory","Specimen number:","1(2)","Specimen radius, mm",1164]
[2934,{"$f":"IF(INDIRECT(\"CON4_DENSITY!D6\")<>\"\",INDIRECT(\"CON4_DENSITY!D6\"),\"\")","v":""},"CON4_DENSITY","CON4 DETERMINING PROPERTIES OF BITUMINOUS MIXTURES-Tex-207-F","Specimen type:","Laboratory","Specimen number:","1(2)","Specimen height",1169]
[2935,{"$f":"IF(INDIRECT(\"CON4_DENSITY!D7\")<>\"\",INDIRECT(\"CON4_DENSITY!D7\"),\"\")","v":""},"CON4_DENSITY","CON4 DETERMINING PROPERTIES OF BITUMINOUS MIXTURES-Tex-207-F","Specimen type:","Laboratory","Specimen number:","1(2)","Trimmed core height, in",""]
[2936,{"$f":"IF(INDIRECT(\"CON4_DENSITY!D8\")<>\"\",INDIRECT(\"CON4_DENSITY!D8\"),\"\")","v":""},"CON4_DENSITY","CON4 DETERMINING PROPERTIES OF BITUMINOUS MIXTURES-Tex-207-F","Specimen type:","Laboratory","Specimen number:","1(2)","Weight of specimen in air, g",1176]
[2937,{"$f":"IF(INDIRECT(\"CON4_DENSITY!D9\")<>\"\",INDIRECT(\"CON4_DENSITY!D9\"),\"\")","v":""},"CON4_DENSITY","CON4 DETERMINING PROPERTIES OF BITUMINOUS MIXTURES-Tex-207-F","Specimen type:","Laboratory","Specimen number:","1(2)","Weight of specimen in water, g",1181]
[2938,{"$f":"IF(INDIRECT(\"CON4_DENSITY!D10\")<>\"\",INDIRECT(\"CON4_DENSITY!D10\"),\"\")","v":""},"CON4_DENSITY","CON4 DETERMINING PROPERTIES OF BITUMINOUS MIXTURES-Tex-207-F","Specimen type:","Laboratory","Specimen number:","1(2)","SSD weight of specimen in air, g",1186]
[2939,{"$f":"IF(INDIRECT(\"CON4_DENSITY!D11\")<>\"\",INDIRECT(\"CON4_DENSITY!D11\"),\"\")","v":""},"CON4_DENSITY","CON4 DETERMINING PROPERTIES OF BITUMINOUS MIXTURES-Tex-207-F","Specimen type:","Laboratory","Specimen number:","1(2)","Volume of specimen",""]
[2940,{"$f":"IF(INDIRECT(\"CON4_DENSITY!D12\")<>\"\",INDIRECT(\"CON4_DENSITY!D12\"),\"\")","v":""},"CON4_DENSITY","CON4 DETERMINING PROPERTIES OF BITUMINOUS MIXTURES-Tex-207-F","Specimen type:","Laboratory","Specimen number:","1(2)","SSD Density",""]
[2941,{"$f":"IF(INDIRECT(\"CON4_DENSITY!D13\")<>\"\",INDIRECT(\"CON4_DENSITY!D13\"),\"\")","v":""},"CON4_DENSITY","CON4 DETERMINING PROPERTIES OF BITUMINOUS MIXTURES-Tex-207-F","Specimen type:","Laboratory","Specimen number:","1(2)","Percent absorption, %",""]
[2942,{"$f":"IF(INDIRECT(\"CON4_DENSITY!D14\")<>\"\",INDIRECT(\"CON4_DENSITY!D14\"),\"\")","v":""},"CON4_DENSITY","CON4 DETERMINING PROPERTIES OF BITUMINOUS MIXTURES-Tex-207-F","Specimen type:","Laboratory","Specimen number:","1(2)","Bag required for Ga",""]
[2943,{"$f":"IF(INDIRECT(\"CON4_DENSITY!D15\")<>\"\",INDIRECT(\"CON4_DENSITY!D15\"),\"\")","v":""},"CON4_DENSITY","CON4 DETERMINING PROPERTIES OF BITUMINOUS MIXTURES-Tex-207-F","Specimen type:","Laboratory","Specimen number:","1(2)","Bag Used for Ga",1191]
[2944,{"$f":"IF(INDIRECT(\"CON4_DENSITY!D17\")<>\"\",INDIRECT(\"CON4_DENSITY!D17\"),\"\")","v":""},"CON4_DENSITY","CON4 DETERMINING PROPERTIES OF BITUMINOUS MIXTURES-Tex-207-F","Specimen type:","Laboratory","Specimen number:","1(2)","Vacuum bag method used",1196]
[2945,{"$f":"IF(INDIRECT(\"CON4_DENSITY!D18\")<>\"\",INDIRECT(\"CON4_DENSITY!D18\"),\"\")","v":""},"CON4_DENSITY","CON4 DETERMINING PROPERTIES OF BITUMINOUS MIXTURES-Tex-207-F","Specimen type:","Laboratory","Specimen number:","1(2)","Weight of specimen in air, g",1201]
[2946,{"$f":"IF(INDIRECT(\"CON4_DENSITY!D19\")<>\"\",INDIRECT(\"CON4_DENSITY!D19\"),\"\")","v":""},"CON4_DENSITY","CON4 DETERMINING PROPERTIES OF BITUMINOUS MIXTURES-Tex-207-F","Specimen type:","Laboratory","Specimen number:","1(2)","Sealed weight of specimen in water, g",1206]
[2947,{"$f":"IF(INDIRECT(\"CON4_DENSITY!D20\")<>\"\",INDIRECT(\"CON4_DENSITY!D20\"),\"\")","v":""},"CON4_DENSITY","CON4 DETERMINING PROPERTIES OF BITUMINOUS MIXTURES-Tex-207-F","Specimen type:","Laboratory","Specimen number:","1(2)","Dry specimen weight after submersion, g",1211]
[2948,{"$f":"IF(INDIRECT(\"CON4_DENSITY!D21\")<>\"\",INDIRECT(\"CON4_DENSITY!D21\"),\"\")","v":""},"CON4_DENSITY","CON4 DETERMINING PROPERTIES OF BITUMINOUS MIXTURES-Tex-207-F","Specimen type:","Laboratory","Specimen number:","1(2)","Weight of vacuum bag(s), g",1216]
[2949,{"$f":"IF(INDIRECT(\"CON4_DENSITY!D22\")<>\"\",INDIRECT(\"CON4_DENSITY!D22\"),\"\")","v":""},"CON4_DENSITY","CON4 DETERMINING PROPERTIES OF BITUMINOUS MIXTURES-Tex-207-F","Specimen type:","Laboratory","Specimen number:","1(2)","Vacuum bag volume correction factor",""]
[2950,{"$f":"IF(INDIRECT(\"CON4_DENSITY!D23\")<>\"\",INDIRECT(\"CON4_DENSITY!D23\"),\"\")","v":""},"CON4_DENSITY","CON4 DETERMINING PROPERTIES OF BITUMINOUS MIXTURES-Tex-207-F","Specimen type:","Laboratory","Specimen number:","1(2)","Vacuum bag density",""]
[2951,{"$f":"IF(INDIRECT(\"CON4_DENSITY!D26\")<>\"\",INDIRECT(\"CON4_DENSITY!D26\"),\"\")","v":""},"CON4_DENSITY","CON4 DETERMINING PROPERTIES OF BITUMINOUS MIXTURES-Tex-207-F","Specimen type:","Laboratory","Specimen number:","1(2)","Bulk specific gravity, Ga",""]
[2952,{"$f":"IF(INDIRECT(\"CON4_DENSITY!D27\")<>\"\",INDIRECT(\"CON4_DENSITY!D27\"),\"\")","v":""},"CON4_DENSITY","CON4 DETERMINING PROPERTIES OF BITUMINOUS MIXTURES-Tex-207-F","Specimen type:","Laboratory","Specimen number:","1(2)","Percent density, %",""]
[2953,{"$f":"IF(INDIRECT(\"CON4_DENSITY!D28\")<>\"\",INDIRECT(\"CON4_DENSITY!D28\"),\"\")","v":""},"CON4_DENSITY","CON4 DETERMINING PROPERTIES OF BITUMINOUS MIXTURES-Tex-207-F","Specimen type:","Laboratory","Specimen number:","1(2)","Percent air voids, %",""]
[2954,{"$f":"IF(INDIRECT(\"CON4_DENSITY!D29\")<>\"\",INDIRECT(\"CON4_DENSITY!D29\"),\"\")","v":""},"CON4_DENSITY","CON4 DETERMINING PROPERTIES OF BITUMINOUS MIXTURES-Tex-207-F","Specimen type:","Laboratory","Specimen number:","1(2)","Percent VMA, %",""]
[2955,null,null,null,null,null,null,null,null,""]
[2956,{"$f":"IF(INDIRECT(\"CON4_DENSITY!E5\")<>\"\",INDIRECT(\"CON4_DENSITY!E5\"),\"\")","v":""},"CON4_DENSITY","CON4 DETERMINING PROPERTIES OF BITUMINOUS MIXTURES-Tex-207-F","Specimen type:","Laboratory","Specimen number:","1(3)","Specimen radius, mm",1165]
[2957,{"$f":"IF(INDIRECT(\"CON4_DENSITY!E6\")<>\"\",INDIRECT(\"CON4_DENSITY!E6\"),\"\")","v":""},"CON4_DENSITY","CON4 DETERMINING PROPERTIES OF BITUMINOUS MIXTURES-Tex-207-F","Specimen type:","Laboratory","Specimen number:","1(3)","Specimen height",1170]
[2958,{"$f":"IF(INDIRECT(\"CON4_DENSITY!E7\")<>\"\",INDIRECT(\"CON4_DENSITY!E7\"),\"\")","v":""},"CON4_DENSITY","CON4 DETERMINING PROPERTIES OF BITUMINOUS MIXTURES-Tex-207-F","Specimen type:","Laboratory","Specimen number:","1(3)","Trimmed core height, in",""]
[2959,{"$f":"IF(INDIRECT(\"CON4_DENSITY!E8\")<>\"\",INDIRECT(\"CON4_DENSITY!E8\"),\"\")","v":""},"CON4_DENSITY","CON4 DETERMINING PROPERTIES OF BITUMINOUS MIXTURES-Tex-207-F","Specimen type:","Laboratory","Specimen number:","1(3)","Weight of specimen in air, g",1177]
[2960,{"$f":"IF(INDIRECT(\"CON4_DENSITY!E9\")<>\"\",INDIRECT(\"CON4_DENSITY!E9\"),\"\")","v":""},"CON4_DENSITY","CON4 DETERMINING PROPERTIES OF BITUMINOUS MIXTURES-Tex-207-F","Specimen type:","Laboratory","Specimen number:","1(3)","Weight of specimen in water, g",1182]
[2961,{"$f":"IF(INDIRECT(\"CON4_DENSITY!E10\")<>\"\",INDIRECT(\"CON4_DENSITY!E10\"),\"\")","v":""},"CON4_DENSITY","CON4 DETERMINING PROPERTIES OF BITUMINOUS MIXTURES-Tex-207-F","Specimen type:","Laboratory","Specimen number:","1(3)","SSD weight of specimen in air, g",1187]
[2962,{"$f":"IF(INDIRECT(\"CON4_DENSITY!E11\")<>\"\",INDIRECT(\"CON4_DENSITY!E11\"),\"\")","v":""},"CON4_DENSITY","CON4 DETERMINING PROPERTIES OF BITUMINOUS MIXTURES-Tex-207-F","Specimen type:","Laboratory","Specimen number:","1(3)","Volume of specimen",""]
[2963,{"$f":"IF(INDIRECT(\"CON4_DENSITY!E12\")<>\"\",INDIRECT(\"CON4_DENSITY!E12\"),\"\")","v":""},"CON4_DENSITY","CON4 DETERMINING PROPERTIES OF BITUMINOUS MIXTURES-Tex-207-F","Specimen type:","Laboratory","Specimen number:","1(3)","SSD Density",""]
[2964,{"$f":"IF(INDIRECT(\"CON4_DENSITY!E13\")<>\"\",INDIRECT(\"CON4_DENSITY!E13\"),\"\")","v":""},"CON4_DENSITY","CON4 DETERMINING PROPERTIES OF BITUMINOUS MIXTURES-Tex-207-F","Specimen type:","Laboratory","Specimen number:","1(3)","Percent absorption, %",""]
[2965,{"$f":"IF(INDIRECT(\"CON4_DENSITY!E14\")<>\"\",INDIRECT(\"CON4_DENSITY!E14\"),\"\")","v":""},"CON4_DENSITY","CON4 DETERMINING PROPERTIES OF BITUMINOUS MIXTURES-Tex-207-F","Specimen type:","Laboratory","Specimen number:","1(3)","Bag required for Ga",""]
[2966,{"$f":"IF(INDIRECT(\"CON4_DENSITY!E15\")<>\"\",INDIRECT(\"CON4_DENSITY!E15\"),\"\")","v":""},"CON4_DENSITY","CON4 DETERMINING PROPERTIES OF BITUMINOUS MIXTURES-Tex-207-F","Specimen type:","Laboratory","Specimen number:","1(3)","Bag Used for Ga",1192]
[2967,{"$f":"IF(INDIRECT(\"CON4_DENSITY!E17\")<>\"\",INDIRECT(\"CON4_DENSITY!E17\"),\"\")","v":""},"CON4_DENSITY","CON4 DETERMINING PROPERTIES OF BITUMINOUS MIXTURES-Tex-207-F","Specimen type:","Laboratory","Specimen number:","1(3)","Vacuum bag method used",1197]
[2968,{"$f":"IF(INDIRECT(\"CON4_DENSITY!E18\")<>\"\",INDIRECT(\"CON4_DENSITY!E18\"),\"\")","v":""},"CON4_DENSITY","CON4 DETERMINING PROPERTIES OF BITUMINOUS MIXTURES-Tex-207-F","Specimen type:","Laboratory","Specimen number:","1(3)","Weight of specimen in air, g",1202]
[2969,{"$f":"IF(INDIRECT(\"CON4_DENSITY!E19\")<>\"\",INDIRECT(\"CON4_DENSITY!E19\"),\"\")","v":""},"CON4_DENSITY","CON4 DETERMINING PROPERTIES OF BITUMINOUS MIXTURES-Tex-207-F","Specimen type:","Laboratory","Specimen number:","1(3)","Sealed weight of specimen in water, g",1207]
[2970,{"$f":"IF(INDIRECT(\"CON4_DENSITY!E20\")<>\"\",INDIRECT(\"CON4_DENSITY!E20\"),\"\")","v":""},"CON4_DENSITY","CON4 DETERMINING PROPERTIES OF BITUMINOUS MIXTURES-Tex-207-F","Specimen type:","Laboratory","Specimen number:","1(3)","Dry specimen weight after submersion, g",1212]
[2971,{"$f":"IF(INDIRECT(\"CON4_DENSITY!E21\")<>\"\",INDIRECT(\"CON4_DENSITY!E21\"),\"\")","v":""},"CON4_DENSITY","CON4 DETERMINING PROPERTIES OF BITUMINOUS MIXTURES-Tex-207-F","Specimen type:","Laboratory","Specimen number:","1(3)","Weight of vacuum bag(s), g",1217]
[2972,{"$f":"IF(INDIRECT(\"CON4_DENSITY!E22\")<>\"\",INDIRECT(\"CON4_DENSITY!E22\"),\"\")","v":""},"CON4_DENSITY","CON4 DETERMINING PROPERTIES OF BITUMINOUS MIXTURES-Tex-207-F","Specimen type:","Laboratory","Specimen number:","1(3)","Vacuum bag volume correction factor",""]
[2973,{"$f":"IF(INDIRECT(\"CON4_DENSITY!E23\")<>\"\",INDIRECT(\"CON4_DENSITY!E23\"),\"\")","v":""},"CON4_DENSITY","CON4 DETERMINING PROPERTIES OF BITUMINOUS MIXTURES-Tex-207-F","Specimen type:","Laboratory","Specimen number:","1(3)","Vacuum bag density",""]
[2974,{"$f":"IF(INDIRECT(\"CON4_DENSITY!E26\")<>\"\",INDIRECT(\"CON4_DENSITY!E26\"),\"\")","v":""},"CON4_DENSITY","CON4 DETERMINING PROPERTIES OF BITUMINOUS MIXTURES-Tex-207-F","Specimen type:","Laboratory","Specimen number:","1(3)","Bulk specific gravity, Ga",""]
[2975,{"$f":"IF(INDIRECT(\"CON4_DENSITY!E27\")<>\"\",INDIRECT(\"CON4_DENSITY!E27\"),\"\")","v":""},"CON4_DENSITY","CON4 DETERMINING PROPERTIES OF BITUMINOUS MIXTURES-Tex-207-F","Specimen type:","Laboratory","Specimen number:","1(3)","Percent density, %",""]
[2976,{"$f":"IF(INDIRECT(\"CON4_DENSITY!E28\")<>\"\",INDIRECT(\"CON4_DENSITY!E28\"),\"\")","v":""},"CON4_DENSITY","CON4 DETERMINING PROPERTIES OF BITUMINOUS MIXTURES-Tex-207-F","Specimen type:","Laboratory","Specimen number:","1(3)","Percent air voids, %",""]
[2977,{"$f":"IF(INDIRECT(\"CON4_DENSITY!E29\")<>\"\",INDIRECT(\"CON4_DENSITY!E29\"),\"\")","v":""},"CON4_DENSITY","CON4 DETERMINING PROPERTIES OF BITUMINOUS MIXTURES-Tex-207-F","Specimen type:","Laboratory","Specimen number:","1(3)","Percent VMA, %",""]
[2978,null,null,null,null,null,null,null,null,""]
[2979,{"$f":"IF(INDIRECT(\"CON4_DENSITY!F5\")<>\"\",INDIRECT(\"CON4_DENSITY!F5\"),\"\")","v":""},"CON4_DENSITY","CON4 DETERMINING PROPERTIES OF BITUMINOUS MIXTURES-Tex-207-F","Specimen type:","Roadway","Specimen number:","1(A)","Specimen radius, mm",1166]
[2980,{"$f":"IF(INDIRECT(\"CON4_DENSITY!F6\")<>\"\",INDIRECT(\"CON4_DENSITY!F6\"),\"\")","v":""},"CON4_DENSITY","CON4 DETERMINING PROPERTIES OF BITUMINOUS MIXTURES-Tex-207-F","Specimen type:","Roadway","Specimen number:","1(A)","Specimen height",1171]
[2981,{"$f":"IF(INDIRECT(\"CON4_DENSITY!F7\")<>\"\",INDIRECT(\"CON4_DENSITY!F7\"),\"\")","v":""},"CON4_DENSITY","CON4 DETERMINING PROPERTIES OF BITUMINOUS MIXTURES-Tex-207-F","Specimen type:","Roadway","Specimen number:","1(A)","Trimmed core height, in",1174]
[2982,{"$f":"IF(INDIRECT(\"CON4_DENSITY!F8\")<>\"\",INDIRECT(\"CON4_DENSITY!F8\"),\"\")","v":""},"CON4_DENSITY","CON4 DETERMINING PROPERTIES OF BITUMINOUS MIXTURES-Tex-207-F","Specimen type:","Roadway","Specimen number:","1(A)","Weight of specimen in air, g",1178]
[2983,{"$f":"IF(INDIRECT(\"CON4_DENSITY!F9\")<>\"\",INDIRECT(\"CON4_DENSITY!F9\"),\"\")","v":""},"CON4_DENSITY","CON4 DETERMINING PROPERTIES OF BITUMINOUS MIXTURES-Tex-207-F","Specimen type:","Roadway","Specimen number:","1(A)","Weight of specimen in water, g",1183]
[2984,{"$f":"IF(INDIRECT(\"CON4_DENSITY!F10\")<>\"\",INDIRECT(\"CON4_DENSITY!F10\"),\"\")","v":""},"CON4_DENSITY","CON4 DETERMINING PROPERTIES OF BITUMINOUS MIXTURES-Tex-207-F","Specimen type:","Roadway","Specimen number:","1(A)","SSD weight of specimen in air, g",1188]
[2985,{"$f":"IF(INDIRECT(\"CON4_DENSITY!F11\")<>\"\",INDIRECT(\"CON4_DENSITY!F11\"),\"\")","v":""},"CON4_DENSITY","CON4 DETERMINING PROPERTIES OF BITUMINOUS MIXTURES-Tex-207-F","Specimen type:","Roadway","Specimen number:","1(A)","Volume of specimen",""]
[2986,{"$f":"IF(INDIRECT(\"CON4_DENSITY!F12\")<>\"\",INDIRECT(\"CON4_DENSITY!F12\"),\"\")","v":""},"CON4_DENSITY","CON4 DETERMINING PROPERTIES OF BITUMINOUS MIXTURES-Tex-207-F","Specimen type:","Roadway","Specimen number:","1(A)","SSD Density",""]
[2987,{"$f":"IF(INDIRECT(\"CON4_DENSITY!F13\")<>\"\",INDIRECT(\"CON4_DENSITY!F13\"),\"\")","v":""},"CON4_DENSITY","CON4 DETERMINING PROPERTIES OF BITUMINOUS MIXTURES-Tex-207-F","Specimen type:","Roadway","Specimen number:","1(A)","Percent absorption, %",""]
[2988,{"$f":"IF(INDIRECT(\"CON4_DENSITY!F14\")<>\"\",INDIRECT(\"CON4_DENSITY!F14\"),\"\")","v":""},"CON4_DENSITY","CON4 DETERMINING PROPERTIES OF BITUMINOUS MIXTURES-Tex-207-F","Specimen type:","Roadway","Specimen number:","1(A)","Bag required for Ga",""]
[2989,{"$f":"IF(INDIRECT(\"CON4_DENSITY!F15\")<>\"\",INDIRECT(\"CON4_DENSITY!F15\"),\"\")","v":""},"CON4_DENSITY","CON4 DETERMINING PROPERTIES OF BITUMINOUS MIXTURES-Tex-207-F","Specimen type:","Roadway","Specimen number:","1(A)","Bag Used for Ga",1193]
[2990,{"$f":"IF(INDIRECT(\"CON4_DENSITY!F17\")<>\"\",INDIRECT(\"CON4_DENSITY!F17\"),\"\")","v":""},"CON4_DENSITY","CON4 DETERMINING PROPERTIES OF BITUMINOUS MIXTURES-Tex-207-F","Specimen type:","Roadway","Specimen number:","1(A)","Vacuum bag method used",1198]
[2991,{"$f":"IF(INDIRECT(\"CON4_DENSITY!F18\")<>\"\",INDIRECT(\"CON4_DENSITY!F18\"),\"\")","v":""},"CON4_DENSITY","CON4 DETERMINING PROPERTIES OF BITUMINOUS MIXTURES-Tex-207-F","Specimen type:","Roadway","Specimen number:","1(A)","Weight of specimen in air, g",1203]
[2992,{"$f":"IF(INDIRECT(\"CON4_DENSITY!F19\")<>\"\",INDIRECT(\"CON4_DENSITY!F19\"),\"\")","v":""},"CON4_DENSITY","CON4 DETERMINING PROPERTIES OF BITUMINOUS MIXTURES-Tex-207-F","Specimen type:","Roadway","Specimen number:","1(A)","Sealed weight of specimen in water, g",1208]
[2993,{"$f":"IF(INDIRECT(\"CON4_DENSITY!F20\")<>\"\",INDIRECT(\"CON4_DENSITY!F20\"),\"\")","v":""},"CON4_DENSITY","CON4 DETERMINING PROPERTIES OF BITUMINOUS MIXTURES-Tex-207-F","Specimen type:","Roadway","Specimen number:","1(A)","Dry specimen weight after submersion, g",1213]
[2994,{"$f":"IF(INDIRECT(\"CON4_DENSITY!F21\")<>\"\",INDIRECT(\"CON4_DENSITY!F21\"),\"\")","v":""},"CON4_DENSITY","CON4 DETERMINING PROPERTIES OF BITUMINOUS MIXTURES-Tex-207-F","Specimen type:","Roadway","Specimen number:","1(A)","Weight of vacuum bag(s), g",1218]
[2995,{"$f":"IF(INDIRECT(\"CON4_DENSITY!F22\")<>\"\",INDIRECT(\"CON4_DENSITY!F22\"),\"\")","v":""},"CON4_DENSITY","CON4 DETERMINING PROPERTIES OF BITUMINOUS MIXTURES-Tex-207-F","Specimen type:","Roadway","Specimen number:","1(A)","Vacuum bag volume correction factor",""]
[2996,{"$f":"IF(INDIRECT(\"CON4_DENSITY!F23\")<>\"\",INDIRECT(\"CON4_DENSITY!F23\"),\"\")","v":""},"CON4_DENSITY","CON4 DETERMINING PROPERTIES OF BITUMINOUS MIXTURES-Tex-207-F","Specimen type:","Roadway","Specimen number:","1(A)","Vacuum bag density",""]
[2997,{"$f":"IF(INDIRECT(\"CON4_DENSITY!F26\")<>\"\",INDIRECT(\"CON4_DENSITY!F26\"),\"\")","v":""},"CON4_DENSITY","CON4 DETERMINING PROPERTIES OF BITUMINOUS MIXTURES-Tex-207-F","Specimen type:","Roadway","Specimen number:","1(A)","Bulk specific gravity, Ga",""]
[2998,{"$f":"IF(INDIRECT(\"CON4_DENSITY!F27\")<>\"\",INDIRECT(\"CON4_DENSITY!F27\"),\"\")","v":""},"CON4_DENSITY","CON4 DETERMINING PROPERTIES OF BITUMINOUS MIXTURES-Tex-207-F","Specimen type:","Roadway","Specimen number:","1(A)","Percent density, %",""]
[2999,{"$f":"IF(INDIRECT(\"CON4_DENSITY!F28\")<>\"\",INDIRECT(\"CON4_DENSITY!F28\"),\"\")","v":""},"CON4_DENSITY","CON4 DETERMINING PROPERTIES OF BITUMINOUS MIXTURES-Tex-207-F","Specimen type:","Roadway","Specimen number:","1(A)","Percent air voids, %",""]
[3000,{"$f":"IF(INDIRECT(\"CON4_DENSITY!F29\")<>\"\",INDIRECT(\"CON4_DENSITY!F29\"),\"\")","v":""},"CON4_DENSITY","CON4 DETERMINING PROPERTIES OF BITUMINOUS MIXTURES-Tex-207-F","Specimen type:","Roadway","Specimen number:","1(A)","Percent VMA, %",""]
[3001,null,null,null,null,null,null,null,null,""]
[3002,{"$f":"IF(INDIRECT(\"CON4_DENSITY!G5\")<>\"\",INDIRECT(\"CON4_DENSITY!G5\"),\"\")","v":""},"CON4_DENSITY","CON4 DETERMINING PROPERTIES OF BITUMINOUS MIXTURES-Tex-207-F","Specimen type:","Roadway","Specimen number:","1(B)","Specimen radius, mm",1167]
[3003,{"$f":"IF(INDIRECT(\"CON4_DENSITY!G6\")<>\"\",INDIRECT(\"CON4_DENSITY!G6\"),\"\")","v":""},"CON4_DENSITY","CON4 DETERMINING PROPERTIES OF BITUMINOUS MIXTURES-Tex-207-F","Specimen type:","Roadway","Specimen number:","1(B)","Specimen height",1172]
[3004,{"$f":"IF(INDIRECT(\"CON4_DENSITY!G7\")<>\"\",INDIRECT(\"CON4_DENSITY!G7\"),\"\")","v":""},"CON4_DENSITY","CON4 DETERMINING PROPERTIES OF BITUMINOUS MIXTURES-Tex-207-F","Specimen type:","Roadway","Specimen number:","1(B)","Trimmed core height, in",1175]
[3005,{"$f":"IF(INDIRECT(\"CON4_DENSITY!G8\")<>\"\",INDIRECT(\"CON4_DENSITY!G8\"),\"\")","v":""},"CON4_DENSITY","CON4 DETERMINING PROPERTIES OF BITUMINOUS MIXTURES-Tex-207-F","Specimen type:","Roadway","Specimen number:","1(B)","Weight of specimen in air, g",1179]
[3006,{"$f":"IF(INDIRECT(\"CON4_DENSITY!G9\")<>\"\",INDIRECT(\"CON4_DENSITY!G9\"),\"\")","v":""},"CON4_DENSITY","CON4 DETERMINING PROPERTIES OF BITUMINOUS MIXTURES-Tex-207-F","Specimen type:","Roadway","Specimen number:","1(B)","Weight of specimen in water, g",1184]
[3007,{"$f":"IF(INDIRECT(\"CON4_DENSITY!G10\")<>\"\",INDIRECT(\"CON4_DENSITY!G10\"),\"\")","v":""},"CON4_DENSITY","CON4 DETERMINING PROPERTIES OF BITUMINOUS MIXTURES-Tex-207-F","Specimen type:","Roadway","Specimen number:","1(B)","SSD weight of specimen in air, g",1189]
[3008,{"$f":"IF(INDIRECT(\"CON4_DENSITY!G11\")<>\"\",INDIRECT(\"CON4_DENSITY!G11\"),\"\")","v":""},"CON4_DENSITY","CON4 DETERMINING PROPERTIES OF BITUMINOUS MIXTURES-Tex-207-F","Specimen type:","Roadway","Specimen number:","1(B)","Volume of specimen",""]
[3009,{"$f":"IF(INDIRECT(\"CON4_DENSITY!G12\")<>\"\",INDIRECT(\"CON4_DENSITY!G12\"),\"\")","v":""},"CON4_DENSITY","CON4 DETERMINING PROPERTIES OF BITUMINOUS MIXTURES-Tex-207-F","Specimen type:","Roadway","Specimen number:","1(B)","SSD Density",""]
[3010,{"$f":"IF(INDIRECT(\"CON4_DENSITY!G13\")<>\"\",INDIRECT(\"CON4_DENSITY!G13\"),\"\")","v":""},"CON4_DENSITY","CON4 DETERMINING PROPERTIES OF BITUMINOUS MIXTURES-Tex-207-F","Specimen type:","Roadway","Specimen number:","1(B)","Percent absorption, %",""]
[3011,{"$f":"IF(INDIRECT(\"CON4_DENSITY!G14\")<>\"\",INDIRECT(\"CON4_DENSITY!G14\"),\"\")","v":""},"CON4_DENSITY","CON4 DETERMINING PROPERTIES OF BITUMINOUS MIXTURES-Tex-207-F","Specimen type:","Roadway","Specimen number:","1(B)","Bag required for Ga",""]
[3012,{"$f":"IF(INDIRECT(\"CON4_DENSITY!G15\")<>\"\",INDIRECT(\"CON4_DENSITY!G15\"),\"\")","v":""},"CON4_DENSITY","CON4 DETERMINING PROPERTIES OF BITUMINOUS MIXTURES-Tex-207-F","Specimen type:","Roadway","Specimen number:","1(B)","Bag Used for Ga",1194]
[3013,{"$f":"IF(INDIRECT(\"CON4_DENSITY!G17\")<>\"\",INDIRECT(\"CON4_DENSITY!G17\"),\"\")","v":""},"CON4_DENSITY","CON4 DETERMINING PROPERTIES OF BITUMINOUS MIXTURES-Tex-207-F","Specimen type:","Roadway","Specimen number:","1(B)","Vacuum bag method used",1199]
[3014,{"$f":"IF(INDIRECT(\"CON4_DENSITY!G18\")<>\"\",INDIRECT(\"CON4_DENSITY!G18\"),\"\")","v":""},"CON4_DENSITY","CON4 DETERMINING PROPERTIES OF BITUMINOUS MIXTURES-Tex-207-F","Specimen type:","Roadway","Specimen number:","1(B)","Weight of specimen in air, g",1204]
[3015,{"$f":"IF(INDIRECT(\"CON4_DENSITY!G19\")<>\"\",INDIRECT(\"CON4_DENSITY!G19\"),\"\")","v":""},"CON4_DENSITY","CON4 DETERMINING PROPERTIES OF BITUMINOUS MIXTURES-Tex-207-F","Specimen type:","Roadway","Specimen number:","1(B)","Sealed weight of specimen in water, g",1209]
[3016,{"$f":"IF(INDIRECT(\"CON4_DENSITY!G20\")<>\"\",INDIRECT(\"CON4_DENSITY!G20\"),\"\")","v":""},"CON4_DENSITY","CON4 DETERMINING PROPERTIES OF BITUMINOUS MIXTURES-Tex-207-F","Specimen type:","Roadway","Specimen number:","1(B)","Dry specimen weight after submersion, g",1214]
[3017,{"$f":"IF(INDIRECT(\"CON4_DENSITY!G21\")<>\"\",INDIRECT(\"CON4_DENSITY!G21\"),\"\")","v":""},"CON4_DENSITY","CON4 DETERMINING PROPERTIES OF BITUMINOUS MIXTURES-Tex-207-F","Specimen type:","Roadway","Specimen number:","1(B)","Weight of vacuum bag(s), g",1219]
[3018,{"$f":"IF(INDIRECT(\"CON4_DENSITY!G22\")<>\"\",INDIRECT(\"CON4_DENSITY!G22\"),\"\")","v":""},"CON4_DENSITY","CON4 DETERMINING PROPERTIES OF BITUMINOUS MIXTURES-Tex-207-F","Specimen type:","Roadway","Specimen number:","1(B)","Vacuum bag volume correction factor"]
[3019,{"$f":"IF(INDIRECT(\"CON4_DENSITY!G23\")<>\"\",INDIRECT(\"CON4_DENSITY!G23\"),\"\")","v":""},"CON4_DENSITY","CON4 DETERMINING PROPERTIES OF BITUMINOUS MIXTURES-Tex-207-F","Specimen type:","Roadway","Specimen number:","1(B)","Vacuum bag density"]
[3020,{"$f":"IF(INDIRECT(\"CON4_DENSITY!G26\")<>\"\",INDIRECT(\"CON4_DENSITY!G26\"),\"\")","v":""},"CON4_DENSITY","CON4 DETERMINING PROPERTIES OF BITUMINOUS MIXTURES-Tex-207-F","Specimen type:","Roadway","Specimen number:","1(B)","Bulk specific gravity, Ga"]
[3021,{"$f":"IF(INDIRECT(\"CON4_DENSITY!G27\")<>\"\",INDIRECT(\"CON4_DENSITY!G27\"),\"\")","v":""},"CON4_DENSITY","CON4 DETERMINING PROPERTIES OF BITUMINOUS MIXTURES-Tex-207-F","Specimen type:","Roadway","Specimen number:","1(B)","Percent density, %"]
[3022,{"$f":"IF(INDIRECT(\"CON4_DENSITY!G28\")<>\"\",INDIRECT(\"CON4_DENSITY!G28\"),\"\")","v":""},"CON4_DENSITY","CON4 DETERMINING PROPERTIES OF BITUMINOUS MIXTURES-Tex-207-F","Specimen type:","Roadway","Specimen number:","1(B)","Percent air voids, %"]
[3023,{"$f":"IF(INDIRECT(\"CON4_DENSITY!G29\")<>\"\",INDIRECT(\"CON4_DENSITY!G29\"),\"\")","v":""},"CON4_DENSITY","CON4 DETERMINING PROPERTIES OF BITUMINOUS MIXTURES-Tex-207-F","Specimen type:","Roadway","Specimen number:","1(B)","Percent VMA, %"]
[3024]
[3025]
[3026]
[3027]
[3028,{"$f":"IF(SUMMARY!D7<>\"\",SUMMARY!D7,\"\")","v":""},"SUMMARY","GRADATION OF EXTRACTED AGGREGATE-Tex-200-F","Sieve size",{"$f":"SUMMARY!C7","v":""},"Design JMF"]
[3029,{"$f":"IF(SUMMARY!D8<>\"\",SUMMARY!D8,\"\")","v":""},"SUMMARY","GRADATION OF EXTRACTED AGGREGATE-Tex-200-F","Sieve size",{"$f":"SUMMARY!C8","v":""},"Design JMF"]
[3030,{"$f":"IF(SUMMARY!D9<>\"\",SUMMARY!D9,\"\")","v":""},"SUMMARY","GRADATION OF EXTRACTED AGGREGATE-Tex-200-F","Sieve size",{"$f":"SUMMARY!C9","v":""},"Design JMF"]
[3031,{"$f":"IF(SUMMARY!D10<>\"\",SUMMARY!D10,\"\")","v":""},"SUMMARY","GRADATION OF EXTRACTED AGGREGATE-Tex-200-F","Sieve size",{"$f":"SUMMARY!C10","v":""},"Design JMF"]
[3032,{"$f":"IF(SUMMARY!D11<>\"\",SUMMARY!D11,\"\")","v":""},"SUMMARY","GRADATION OF EXTRACTED AGGREGATE-Tex-200-F","Sieve size",{"$f":"SUMMARY!C11","v":""},"Design JMF"]
[3033,{"$f":"IF(SUMMARY!D12<>\"\",SUMMARY!D12,\"\")","v":""},"SUMMARY","GRADATION OF EXTRACTED AGGREGATE-Tex-200-F","Sieve size",{"$f":"SUMMARY!C12","v":""},"Design JMF"]
[3034,{"$f":"IF(SUMMARY!D13<>\"\",SUMMARY!D13,\"\")","v":""},"SUMMARY","GRADATION OF EXTRACTED AGGREGATE-Tex-200-F","Sieve size",{"$f":"SUMMARY!C13","v":""},"Design JMF"]
[3035,{"$f":"IF(SUMMARY!D14<>\"\",SUMMARY!D14,\"\")","v":""},"SUMMARY","GRADATION OF EXTRACTED AGGREGATE-Tex-200-F","Sieve size",{"$f":"SUMMARY!C14","v":""},"Design JMF"]
[3036,{"$f":"IF(SUMMARY!D15<>\"\",SUMMARY!D15,\"\")","v":""},"SUMMARY","GRADATION OF EXTRACTED AGGREGATE-Tex-200-F","Sieve size",{"$f":"SUMMARY!C15","v":""},"Design JMF"]
[3037,{"$f":"IF(SUMMARY!D16<>\"\",SUMMARY!D16,\"\")","v":""},"SUMMARY","GRADATION OF EXTRACTED AGGREGATE-Tex-200-F","Sieve size",{"$f":"SUMMARY!C16","v":""},"Design JMF"]
[3038]
[3039,{"$f":"IF(SUMMARY!E7<>\"\",SUMMARY!E7,\"\")","v":""},"SUMMARY","GRADATION OF EXTRACTED AGGREGATE-Tex-200-F","Sieve size",{"$f":"F3030","v":""},"Current JMF"]
[3040,{"$f":"IF(SUMMARY!E8<>\"\",SUMMARY!E8,\"\")","v":""},"SUMMARY","GRADATION OF EXTRACTED AGGREGATE-Tex-200-F","Sieve size",{"$f":"F3031","v":""},"Current JMF"]
[3041,{"$f":"IF(SUMMARY!E9<>\"\",SUMMARY!E9,\"\")","v":""},"SUMMARY","GRADATION OF EXTRACTED AGGREGATE-Tex-200-F","Sieve size","","Current JMF"]
[3042,{"$f":"IF(SUMMARY!E10<>\"\",SUMMARY!E10,\"\")","v":""},"SUMMARY","GRADATION OF EXTRACTED AGGREGATE-Tex-200-F","Sieve size","","Current JMF"]
[3043,{"$f":"IF(SUMMARY!E11<>\"\",SUMMARY!E11,\"\")","v":""},"SUMMARY","GRADATION OF EXTRACTED AGGREGATE-Tex-200-F","Sieve size","","Current JMF"]
[3044,{"$f":"IF(SUMMARY!E12<>\"\",SUMMARY!E12,\"\")","v":""},"SUMMARY","GRADATION OF EXTRACTED AGGREGATE-Tex-200-F","Sieve size","","Current JMF"]
[3045,{"$f":"IF(SUMMARY!E13<>\"\",SUMMARY!E13,\"\")","v":""},"SUMMARY","GRADATION OF EXTRACTED AGGREGATE-Tex-200-F","Sieve size","","Current JMF"]
[3046,{"$f":"IF(SUMMARY!E14<>\"\",SUMMARY!E14,\"\")","v":""},"SUMMARY","GRADATION OF EXTRACTED AGGREGATE-Tex-200-F","Sieve size","","Current JMF"]
[3047,{"$f":"IF(SUMMARY!E15<>\"\",SUMMARY!E15,\"\")","v":""},"SUMMARY","GRADATION OF EXTRACTED AGGREGATE-Tex-200-F","Sieve size","","Current JMF"]
[3048,{"$f":"IF(SUMMARY!E16<>\"\",SUMMARY!E16,\"\")","v":""},"SUMMARY","GRADATION OF EXTRACTED AGGREGATE-Tex-200-F","Sieve size","","Current JMF"]
[3049]
[3050,{"$f":"IF(SUMMARY!F7<>\"\",SUMMARY!F7,\"\")","v":""},"SUMMARY","GRADATION OF EXTRACTED AGGREGATE-Tex-200-F","Sieve size",{"$f":"F3041","v":""},"TxDOT test data","Sublot 1"]
[3051,{"$f":"IF(SUMMARY!F8<>\"\",SUMMARY!F8,\"\")","v":""},"SUMMARY","GRADATION OF EXTRACTED AGGREGATE-Tex-200-F","Sieve size",{"$f":"F3042","v":""},"TxDOT test data","Sublot 1"]
[3052,{"$f":"IF(SUMMARY!F9<>\"\",SUMMARY!F9,\"\")","v":""},"SUMMARY","GRADATION OF EXTRACTED AGGREGATE-Tex-200-F","Sieve size","","TxDOT test data","Sublot 1"]
[3053,{"$f":"IF(SUMMARY!F10<>\"\",SUMMARY!F10,\"\")","v":""},"SUMMARY","GRADATION OF EXTRACTED AGGREGATE-Tex-200-F","Sieve size","","TxDOT test data","Sublot 1"]
[3054,{"$f":"IF(SUMMARY!F11<>\"\",SUMMARY!F11,\"\")","v":""},"SUMMARY","GRADATION OF EXTRACTED AGGREGATE-Tex-200-F","Sieve size","","TxDOT test data","Sublot 1"]
[3055,{"$f":"IF(SUMMARY!F12<>\"\",SUMMARY!F12,\"\")","v":""},"SUMMARY","GRADATION OF EXTRACTED AGGREGATE-Tex-200-F","Sieve size","","TxDOT test data","Sublot 1"]
[3056,{"$f":"IF(SUMMARY!F13<>\"\",SUMMARY!F13,\"\")","v":""},"SUMMARY","GRADATION OF EXTRACTED AGGREGATE-Tex-200-F","Sieve size","","TxDOT test data","Sublot 1"]
[3057,{"$f":"IF(SUMMARY!F14<>\"\",SUMMARY!F14,\"\")","v":""},"SUMMARY","GRADATION OF EXTRACTED AGGREGATE-Tex-200-F","Sieve size","","TxDOT test data","Sublot 1"]
[3058,{"$f":"IF(SUMMARY!F15<>\"\",SUMMARY!F15,\"\")","v":""},"SUMMARY","GRADATION OF EXTRACTED AGGREGATE-Tex-200-F","Sieve size","","TxDOT test data","Sublot 1"]
[3059,{"$f":"IF(SUMMARY!F16<>\"\",SUMMARY!F16,\"\")","v":""},"SUMMARY","GRADATION OF EXTRACTED AGGREGATE-Tex-200-F","Sieve size","","TxDOT test data","Sublot 1"]
[3060]
[3061,{"$f":"IF(SUMMARY!G7<>\"\",SUMMARY!G7,\"\")","v":""},"SUMMARY","GRADATION OF EXTRACTED AGGREGATE-Tex-200-F","Sieve size",{"$f":"F3052","v":""},"TxDOT test data","Sublot 2"]
[3062,{"$f":"IF(SUMMARY!G8<>\"\",SUMMARY!G8,\"\")","v":""},"SUMMARY","GRADATION OF EXTRACTED AGGREGATE-Tex-200-F","Sieve size",{"$f":"F3053","v":""},"TxDOT test data","Sublot 2"]
[3063,{"$f":"IF(SUMMARY!G9<>\"\",SUMMARY!G9,\"\")","v":""},"SUMMARY","GRADATION OF EXTRACTED AGGREGATE-Tex-200-F","Sieve size","","TxDOT test data","Sublot 2"]
[3064,{"$f":"IF(SUMMARY!G10<>\"\",SUMMARY!G10,\"\")","v":""},"SUMMARY","GRADATION OF EXTRACTED AGGREGATE-Tex-200-F","Sieve size","","TxDOT test data","Sublot 2"]
[3065,{"$f":"IF(SUMMARY!G11<>\"\",SUMMARY!G11,\"\")","v":""},"SUMMARY","GRADATION OF EXTRACTED AGGREGATE-Tex-200-F","Sieve size","","TxDOT test data","Sublot 2"]
[3066,{"$f":"IF(SUMMARY!G12<>\"\",SUMMARY!G12,\"\")","v":""},"SUMMARY","GRADATION OF EXTRACTED AGGREGATE-Tex-200-F","Sieve size","","TxDOT test data","Sublot 2"]
[3067,{"$f":"IF(SUMMARY!G13<>\"\",SUMMARY!G13,\"\")","v":""},"SUMMARY","GRADATION OF EXTRACTED AGGREGATE-Tex-200-F","Sieve size","","TxDOT test data","Sublot 2"]
[3068,{"$f":"IF(SUMMARY!G14<>\"\",SUMMARY!G14,\"\")","v":""},"SUMMARY","GRADATION OF EXTRACTED AGGREGATE-Tex-200-F","Sieve size","","TxDOT test data","Sublot 2"]
[3069,{"$f":"IF(SUMMARY!G15<>\"\",SUMMARY!G15,\"\")","v":""},"SUMMARY","GRADATION OF EXTRACTED AGGREGATE-Tex-200-F","Sieve size","","TxDOT test data","Sublot 2"]
[3070,{"$f":"IF(SUMMARY!G16<>\"\",SUMMARY!G16,\"\")","v":""},"SUMMARY","GRADATION OF EXTRACTED AGGREGATE-Tex-200-F","Sieve size","","TxDOT test data","Sublot 2"]
[3071]
[3072,{"$f":"IF(SUMMARY!H7<>\"\",SUMMARY!H7,\"\")","v":""},"SUMMARY","GRADATION OF EXTRACTED AGGREGATE-Tex-200-F","Sieve size",{"$f":"F3063","v":""},"TxDOT test data","Sublot 3"]
[3073,{"$f":"IF(SUMMARY!H8<>\"\",SUMMARY!H8,\"\")","v":""},"SUMMARY","GRADATION OF EXTRACTED AGGREGATE-Tex-200-F","Sieve size",{"$f":"F3064","v":""},"TxDOT test data","Sublot 3"]
[3074,{"$f":"IF(SUMMARY!H9<>\"\",SUMMARY!H9,\"\")","v":""},"SUMMARY","GRADATION OF EXTRACTED AGGREGATE-Tex-200-F","Sieve size","","TxDOT test data","Sublot 3"]
[3075,{"$f":"IF(SUMMARY!H10<>\"\",SUMMARY!H10,\"\")","v":""},"SUMMARY","GRADATION OF EXTRACTED AGGREGATE-Tex-200-F","Sieve size","","TxDOT test data","Sublot 3"]
[3076,{"$f":"IF(SUMMARY!H11<>\"\",SUMMARY!H11,\"\")","v":""},"SUMMARY","GRADATION OF EXTRACTED AGGREGATE-Tex-200-F","Sieve size","","TxDOT test data","Sublot 3"]
[3077,{"$f":"IF(SUMMARY!H12<>\"\",SUMMARY!H12,\"\")","v":""},"SUMMARY","GRADATION OF EXTRACTED AGGREGATE-Tex-200-F","Sieve size","","TxDOT test data","Sublot 3"]
[3078,{"$f":"IF(SUMMARY!H13<>\"\",SUMMARY!H13,\"\")","v":""},"SUMMARY","GRADATION OF EXTRACTED AGGREGATE-Tex-200-F","Sieve size","","TxDOT test data","Sublot 3"]
[3079,{"$f":"IF(SUMMARY!H14<>\"\",SUMMARY!H14,\"\")","v":""},"SUMMARY","GRADATION OF EXTRACTED AGGREGATE-Tex-200-F","Sieve size","","TxDOT test data","Sublot 3"]
[3080,{"$f":"IF(SUMMARY!H15<>\"\",SUMMARY!H15,\"\")","v":""},"SUMMARY","GRADATION OF EXTRACTED AGGREGATE-Tex-200-F","Sieve size","","TxDOT test data","Sublot 3"]
[3081,{"$f":"IF(SUMMARY!H16<>\"\",SUMMARY!H16,\"\")","v":""},"SUMMARY","GRADATION OF EXTRACTED AGGREGATE-Tex-200-F","Sieve size","","TxDOT test data","Sublot 3"]
[3082]
[3083,{"$f":"IF(SUMMARY!I7<>\"\",SUMMARY!I7,\"\")","v":""},"SUMMARY","GRADATION OF EXTRACTED AGGREGATE-Tex-200-F","Sieve size",{"$f":"F3074","v":""},"TxDOT test data","Sublot 4"]
[3084,{"$f":"IF(SUMMARY!I8<>\"\",SUMMARY!I8,\"\")","v":""},"SUMMARY","GRADATION OF EXTRACTED AGGREGATE-Tex-200-F","Sieve size",{"$f":"F3075","v":""},"TxDOT test data","Sublot 4"]
[3085,{"$f":"IF(SUMMARY!I9<>\"\",SUMMARY!I9,\"\")","v":""},"SUMMARY","GRADATION OF EXTRACTED AGGREGATE-Tex-200-F","Sieve size","","TxDOT test data","Sublot 4"]
[3086,{"$f":"IF(SUMMARY!I10<>\"\",SUMMARY!I10,\"\")","v":""},"SUMMARY","GRADATION OF EXTRACTED AGGREGATE-Tex-200-F","Sieve size","","TxDOT test data","Sublot 4"]
[3087,{"$f":"IF(SUMMARY!I11<>\"\",SUMMARY!I11,\"\")","v":""},"SUMMARY","GRADATION OF EXTRACTED AGGREGATE-Tex-200-F","Sieve size","","TxDOT test data","Sublot 4"]
[3088,{"$f":"IF(SUMMARY!I12<>\"\",SUMMARY!I12,\"\")","v":""},"SUMMARY","GRADATION OF EXTRACTED AGGREGATE-Tex-200-F","Sieve size","","TxDOT test data","Sublot 4"]
[3089,{"$f":"IF(SUMMARY!I13<>\"\",SUMMARY!I13,\"\")","v":""},"SUMMARY","GRADATION OF EXTRACTED AGGREGATE-Tex-200-F","Sieve size","","TxDOT test data","Sublot 4"]
[3090,{"$f":"IF(SUMMARY!I14<>\"\",SUMMARY!I14,\"\")","v":""},"SUMMARY","GRADATION OF EXTRACTED AGGREGATE-Tex-200-F","Sieve size","","TxDOT test data","Sublot 4"]
[3091,{"$f":"IF(SUMMARY!I15<>\"\",SUMMARY!I15,\"\")","v":""},"SUMMARY","GRADATION OF EXTRACTED AGGREGATE-Tex-200-F","Sieve size","","TxDOT test data","Sublot 4"]
[3092,{"$f":"IF(SUMMARY!I16<>\"\",SUMMARY!I16,\"\")","v":""},"SUMMARY","GRADATION OF EXTRACTED AGGREGATE-Tex-200-F","Sieve size","","TxDOT test data","Sublot 4"]
[3093]
[3094,{"$f":"IF(SUMMARY!K7<>\"\",SUMMARY!K7,\"\")","v":""},"SUMMARY","GRADATION OF EXTRACTED AGGREGATE-Tex-200-F","Sieve size",{"$f":"F3085","v":""},"Contractor test data","Sublot 1"]
[3095,{"$f":"IF(SUMMARY!K8<>\"\",SUMMARY!K8,\"\")","v":""},"SUMMARY","GRADATION OF EXTRACTED AGGREGATE-Tex-200-F","Sieve size",{"$f":"F3086","v":""},"Contractor test data","Sublot 1"]
[3096,{"$f":"IF(SUMMARY!K9<>\"\",SUMMARY!K9,\"\")","v":""},"SUMMARY","GRADATION OF EXTRACTED AGGREGATE-Tex-200-F","Sieve size","","Contractor test data","Sublot 1"]
[3097,{"$f":"IF(SUMMARY!K10<>\"\",SUMMARY!K10,\"\")","v":""},"SUMMARY","GRADATION OF EXTRACTED AGGREGATE-Tex-200-F","Sieve size","","Contractor test data","Sublot 1"]
[3098,{"$f":"IF(SUMMARY!K11<>\"\",SUMMARY!K11,\"\")","v":""},"SUMMARY","GRADATION OF EXTRACTED AGGREGATE-Tex-200-F","Sieve size","","Contractor test data","Sublot 1"]
[3099,{"$f":"IF(SUMMARY!K12<>\"\",SUMMARY!K12,\"\")","v":""},"SUMMARY","GRADATION OF EXTRACTED AGGREGATE-Tex-200-F","Sieve size","","Contractor test data","Sublot 1"]
[3100,{"$f":"IF(SUMMARY!K13<>\"\",SUMMARY!K13,\"\")","v":""},"SUMMARY","GRADATION OF EXTRACTED AGGREGATE-Tex-200-F","Sieve size","","Contractor test data","Sublot 1"]
[3101,{"$f":"IF(SUMMARY!K14<>\"\",SUMMARY!K14,\"\")","v":""},"SUMMARY","GRADATION OF EXTRACTED AGGREGATE-Tex-200-F","Sieve size","","Contractor test data","Sublot 1"]
[3102,{"$f":"IF(SUMMARY!K15<>\"\",SUMMARY!K15,\"\")","v":""},"SUMMARY","GRADATION OF EXTRACTED AGGREGATE-Tex-200-F","Sieve size","","Contractor test data","Sublot 1"]
[3103,{"$f":"IF(SUMMARY!K16<>\"\",SUMMARY!K16,\"\")","v":""},"SUMMARY","GRADATION OF EXTRACTED AGGREGATE-Tex-200-F","Sieve size","","Contractor test data","Sublot 1"]
[3104]
[3105,{"$f":"IF(SUMMARY!L7<>\"\",SUMMARY!L7,\"\")","v":""},"SUMMARY","GRADATION OF EXTRACTED AGGREGATE-Tex-200-F","Sieve size",{"$f":"F3096","v":""},"Contractor test data","Sublot 2"]
[3106,{"$f":"IF(SUMMARY!L8<>\"\",SUMMARY!L8,\"\")","v":""},"SUMMARY","GRADATION OF EXTRACTED AGGREGATE-Tex-200-F","Sieve size",{"$f":"F3097","v":""},"Contractor test data","Sublot 2"]
[3107,{"$f":"IF(SUMMARY!L9<>\"\",SUMMARY!L9,\"\")","v":""},"SUMMARY","GRADATION OF EXTRACTED AGGREGATE-Tex-200-F","Sieve size","","Contractor test data","Sublot 2"]
[3108,{"$f":"IF(SUMMARY!L10<>\"\",SUMMARY!L10,\"\")","v":""},"SUMMARY","GRADATION OF EXTRACTED AGGREGATE-Tex-200-F","Sieve size","","Contractor test data","Sublot 2"]
[3109,{"$f":"IF(SUMMARY!L11<>\"\",SUMMARY!L11,\"\")","v":""},"SUMMARY","GRADATION OF EXTRACTED AGGREGATE-Tex-200-F","Sieve size","","Contractor test data","Sublot 2"]
[3110,{"$f":"IF(SUMMARY!L12<>\"\",SUMMARY!L12,\"\")","v":""},"SUMMARY","GRADATION OF EXTRACTED AGGREGATE-Tex-200-F","Sieve size","","Contractor test data","Sublot 2"]
[3111,{"$f":"IF(SUMMARY!L13<>\"\",SUMMARY!L13,\"\")","v":""},"SUMMARY","GRADATION OF EXTRACTED AGGREGATE-Tex-200-F","Sieve size","","Contractor test data","Sublot 2"]
[3112,{"$f":"IF(SUMMARY!L14<>\"\",SUMMARY!L14,\"\")","v":""},"SUMMARY","GRADATION OF EXTRACTED AGGREGATE-Tex-200-F","Sieve size","","Contractor test data","Sublot 2"]
[3113,{"$f":"IF(SUMMARY!L15<>\"\",SUMMARY!L15,\"\")","v":""},"SUMMARY","GRADATION OF EXTRACTED AGGREGATE-Tex-200-F","Sieve size","","Contractor test data","Sublot 2"]
[3114,{"$f":"IF(SUMMARY!L16<>\"\",SUMMARY!L16,\"\")","v":""},"SUMMARY","GRADATION OF EXTRACTED AGGREGATE-Tex-200-F","Sieve size","","Contractor test data","Sublot 2"]
[3115]
[3116,{"$f":"IF(SUMMARY!M7<>\"\",SUMMARY!M7,\"\")","v":""},"SUMMARY","GRADATION OF EXTRACTED AGGREGATE-Tex-200-F","Sieve size",{"$f":"F3107","v":""},"Contractor test data","Sublot 3"]
[3117,{"$f":"IF(SUMMARY!M8<>\"\",SUMMARY!M8,\"\")","v":""},"SUMMARY","GRADATION OF EXTRACTED AGGREGATE-Tex-200-F","Sieve size",{"$f":"F3108","v":""},"Contractor test data","Sublot 3"]
[3118,{"$f":"IF(SUMMARY!M9<>\"\",SUMMARY!M9,\"\")","v":""},"SUMMARY","GRADATION OF EXTRACTED AGGREGATE-Tex-200-F","Sieve size","","Contractor test data","Sublot 3"]
[3119,{"$f":"IF(SUMMARY!M10<>\"\",SUMMARY!M10,\"\")","v":""},"SUMMARY","GRADATION OF EXTRACTED AGGREGATE-Tex-200-F","Sieve size","","Contractor test data","Sublot 3"]
[3120,{"$f":"IF(SUMMARY!M11<>\"\",SUMMARY!M11,\"\")","v":""},"SUMMARY","GRADATION OF EXTRACTED AGGREGATE-Tex-200-F","Sieve size","","Contractor test data","Sublot 3"]
[3121,{"$f":"IF(SUMMARY!M12<>\"\",SUMMARY!M12,\"\")","v":""},"SUMMARY","GRADATION OF EXTRACTED AGGREGATE-Tex-200-F","Sieve size","","Contractor test data","Sublot 3"]
[3122,{"$f":"IF(SUMMARY!M13<>\"\",SUMMARY!M13,\"\")","v":""},"SUMMARY","GRADATION OF EXTRACTED AGGREGATE-Tex-200-F","Sieve size","","Contractor test data","Sublot 3"]
[3123,{"$f":"IF(SUMMARY!M14<>\"\",SUMMARY!M14,\"\")","v":""},"SUMMARY","GRADATION OF EXTRACTED AGGREGATE-Tex-200-F","Sieve size","","Contractor test data","Sublot 3"]
[3124,{"$f":"IF(SUMMARY!M15<>\"\",SUMMARY!M15,\"\")","v":""},"SUMMARY","GRADATION OF EXTRACTED AGGREGATE-Tex-200-F","Sieve size","","Contractor test data","Sublot 3"]
[3125,{"$f":"IF(SUMMARY!M16<>\"\",SUMMARY!M16,\"\")","v":""},"SUMMARY","GRADATION OF EXTRACTED AGGREGATE-Tex-200-F","Sieve size","","Contractor test data","Sublot 3"]
[3126]
[3127,{"$f":"IF(SUMMARY!N7<>\"\",SUMMARY!N7,\"\")","v":""},"SUMMARY","GRADATION OF EXTRACTED AGGREGATE-Tex-200-F","Sieve size",{"$f":"F3118","v":""},"Contractor test data","Sublot 4"]
[3128,{"$f":"IF(SUMMARY!N8<>\"\",SUMMARY!N8,\"\")","v":""},"SUMMARY","GRADATION OF EXTRACTED AGGREGATE-Tex-200-F","Sieve size",{"$f":"F3119","v":""},"Contractor test data","Sublot 4"]
[3129,{"$f":"IF(SUMMARY!N9<>\"\",SUMMARY!N9,\"\")","v":""},"SUMMARY","GRADATION OF EXTRACTED AGGREGATE-Tex-200-F","Sieve size","","Contractor test data","Sublot 4"]
[3130,{"$f":"IF(SUMMARY!N10<>\"\",SUMMARY!N10,\"\")","v":""},"SUMMARY","GRADATION OF EXTRACTED AGGREGATE-Tex-200-F","Sieve size","","Contractor test data","Sublot 4"]
[3131,{"$f":"IF(SUMMARY!N11<>\"\",SUMMARY!N11,\"\")","v":""},"SUMMARY","GRADATION OF EXTRACTED AGGREGATE-Tex-200-F","Sieve size","","Contractor test data","Sublot 4"]
[3132,{"$f":"IF(SUMMARY!N12<>\"\",SUMMARY!N12,\"\")","v":""},"SUMMARY","GRADATION OF EXTRACTED AGGREGATE-Tex-200-F","Sieve size","","Contractor test data","Sublot 4"]
[3133,{"$f":"IF(SUMMARY!N13<>\"\",SUMMARY!N13,\"\")","v":""},"SUMMARY","GRADATION OF EXTRACTED AGGREGATE-Tex-200-F","Sieve size","","Contractor test data","Sublot 4"]
[3134,{"$f":"IF(SUMMARY!N14<>\"\",SUMMARY!N14,\"\")","v":""},"SUMMARY","GRADATION OF EXTRACTED AGGREGATE-Tex-200-F","Sieve size","","Contractor test data","Sublot 4"]
[3135,{"$f":"IF(SUMMARY!N15<>\"\",SUMMARY!N15,\"\")","v":""},"SUMMARY","GRADATION OF EXTRACTED AGGREGATE-Tex-200-F","Sieve size","","Contractor test data","Sublot 4"]
[3136,{"$f":"IF(SUMMARY!N16<>\"\",SUMMARY!N16,\"\")","v":""},"SUMMARY","GRADATION OF EXTRACTED AGGREGATE-Tex-200-F","Sieve size","","Contractor test data","Sublot 4"]
[3137]
[3138]
[3139,{"$f":"IF(SUMMARY!F22<>\"\",SUMMARY!F22,\"\")","v":""},"SUMMARY","CORE HEIGHTS","Acceptable for testing:","TxDOT","Sublot 1"]
[3140,{"$f":"IF(SUMMARY!G22<>\"\",SUMMARY!G22,\"\")","v":""},"SUMMARY","CORE HEIGHTS","Acceptable for testing:","TxDOT","Sublot 2"]
[3141,{"$f":"IF(SUMMARY!H22<>\"\",SUMMARY!H22,\"\")","v":""},"SUMMARY","CORE HEIGHTS","Acceptable for testing:","TxDOT","Sublot 3"]
[3142,{"$f":"IF(SUMMARY!I22<>\"\",SUMMARY!I22,\"\")","v":""},"SUMMARY","CORE HEIGHTS","Acceptable for testing:","TxDOT","Sublot 4"]
[3143,{"$f":"IF(SUMMARY!K22<>\"\",SUMMARY!K22,\"\")","v":""},"SUMMARY","CORE HEIGHTS","Acceptable for testing:","Contractor","Sublot 1"]
[3144,{"$f":"IF(SUMMARY!L22<>\"\",SUMMARY!L22,\"\")","v":""},"SUMMARY","CORE HEIGHTS","Acceptable for testing:","Contractor","Sublot 2"]
[3145,{"$f":"IF(SUMMARY!M22<>\"\",SUMMARY!M22,\"\")","v":""},"SUMMARY","CORE HEIGHTS","Acceptable for testing:","Contractor","Sublot 3"]
[3146,{"$f":"IF(SUMMARY!N22<>\"\",SUMMARY!N22,\"\")","v":""},"SUMMARY","CORE HEIGHTS","Acceptable for testing:","Contractor","Sublot 4"]
[3147]
[3148]
[3149,{"$f":"IF(SUMMARY!F24<>\"\",SUMMARY!F24,\"\")","v":"Pass"},"SUMMARY","CORE HEIGHTS","Excessively trimmed:","TxDOT","Sublot 1"]
[3150,{"$f":"IF(SUMMARY!G24<>\"\",SUMMARY!G24,\"\")","v":"Pass"},"SUMMARY","CORE HEIGHTS","Excessively trimmed:","TxDOT","Sublot 2"]
[3151,{"$f":"IF(SUMMARY!H24<>\"\",SUMMARY!H24,\"\")","v":"Pass"},"SUMMARY","CORE HEIGHTS","Excessively trimmed:","TxDOT","Sublot 3"]
[3152,{"$f":"IF(SUMMARY!I24<>\"\",SUMMARY!I24,\"\")","v":"Pass"},"SUMMARY","CORE HEIGHTS","Excessively trimmed:","TxDOT","Sublot 4"]
[3153,{"$f":"IF(SUMMARY!K24<>\"\",SUMMARY!K24,\"\")","v":"Pass"},"SUMMARY","CORE HEIGHTS","Excessively trimmed:","Contractor","Sublot 1"]
[3154,{"$f":"IF(SUMMARY!L24<>\"\",SUMMARY!L24,\"\")","v":"Pass"},"SUMMARY","CORE HEIGHTS","Excessively trimmed:","Contractor","Sublot 2"]
[3155,{"$f":"IF(SUMMARY!M24<>\"\",SUMMARY!M24,\"\")","v":"Pass"},"SUMMARY","CORE HEIGHTS","Excessively trimmed:","Contractor","Sublot 3"]
[3156,{"$f":"IF(SUMMARY!N24<>\"\",SUMMARY!N24,\"\")","v":"Pass"},"SUMMARY","CORE HEIGHTS","Excessively trimmed:","Contractor","Sublot 4"]
[3157]
[3158,{"$f":"IF(SUMMARY!E28<>\"\",SUMMARY!E28,\"\")","v":"0.000"},"SUMMARY","DENSITY & PROPERTIES OF BITUMINOUS MIXTURES-Tex-207-F","Avg. Actual SG (Ga):","Target","Design"]
[3159,{"$f":"IF(SUMMARY!F28<>\"\",SUMMARY!F28,\"\")","v":""},"SUMMARY","DENSITY & PROPERTIES OF BITUMINOUS MIXTURES-Tex-207-F","Avg. Actual SG (Ga):","TxDOT","Sublot 1"]
[3160,{"$f":"IF(SUMMARY!G28<>\"\",SUMMARY!G28,\"\")","v":""},"SUMMARY","DENSITY & PROPERTIES OF BITUMINOUS MIXTURES-Tex-207-F","Avg. Actual SG (Ga):","TxDOT","Sublot 2"]
[3161,{"$f":"IF(SUMMARY!H28<>\"\",SUMMARY!H28,\"\")","v":""},"SUMMARY","DENSITY & PROPERTIES OF BITUMINOUS MIXTURES-Tex-207-F","Avg. Actual SG (Ga):","TxDOT","Sublot 3"]
[3162,{"$f":"IF(SUMMARY!I28<>\"\",SUMMARY!I28,\"\")","v":""},"SUMMARY","DENSITY & PROPERTIES OF BITUMINOUS MIXTURES-Tex-207-F","Avg. Actual SG (Ga):","TxDOT","Sublot 4"]
[3163,{"$f":"IF(SUMMARY!K28<>\"\",SUMMARY!K28,\"\")","v":""},"SUMMARY","DENSITY & PROPERTIES OF BITUMINOUS MIXTURES-Tex-207-F","Avg. Actual SG (Ga):","Contractor","Sublot 1"]
[3164,{"$f":"IF(SUMMARY!L28<>\"\",SUMMARY!L28,\"\")","v":""},"SUMMARY","DENSITY & PROPERTIES OF BITUMINOUS MIXTURES-Tex-207-F","Avg. Actual SG (Ga):","Contractor","Sublot 2"]
[3165,{"$f":"IF(SUMMARY!M28<>\"\",SUMMARY!M28,\"\")","v":""},"SUMMARY","DENSITY & PROPERTIES OF BITUMINOUS MIXTURES-Tex-207-F","Avg. Actual SG (Ga):","Contractor","Sublot 3"]
[3166,{"$f":"IF(SUMMARY!N28<>\"\",SUMMARY!N28,\"\")","v":""},"SUMMARY","DENSITY & PROPERTIES OF BITUMINOUS MIXTURES-Tex-207-F","Avg. Actual SG (Ga):","Contractor","Sublot 4"]
[3167]
[3168,{"$f":"IF(SUMMARY!E30<>\"\",SUMMARY!E30,\"\")","v":"0.0"},"SUMMARY","DENSITY & PROPERTIES OF BITUMINOUS MIXTURES-Tex-207-F","Lab molded density, %:","Target","Design"]
[3169,{"$f":"IF(SUMMARY!F30<>\"\",SUMMARY!F30,\"\")","v":""},"SUMMARY","DENSITY & PROPERTIES OF BITUMINOUS MIXTURES-Tex-207-F","Lab molded density, %:","TxDOT","Sublot 1"]
[3170,{"$f":"IF(SUMMARY!G30<>\"\",SUMMARY!G30,\"\")","v":""},"SUMMARY","DENSITY & PROPERTIES OF BITUMINOUS MIXTURES-Tex-207-F","Lab molded density, %:","TxDOT","Sublot 2"]
[3171,{"$f":"IF(SUMMARY!H30<>\"\",SUMMARY!H30,\"\")","v":""},"SUMMARY","DENSITY & PROPERTIES OF BITUMINOUS MIXTURES-Tex-207-F","Lab molded density, %:","TxDOT","Sublot 3"]
[3172,{"$f":"IF(SUMMARY!I30<>\"\",SUMMARY!I30,\"\")","v":""},"SUMMARY","DENSITY & PROPERTIES OF BITUMINOUS MIXTURES-Tex-207-F","Lab molded density, %:","TxDOT","Sublot 4"]
[3173,{"$f":"IF(SUMMARY!K30<>\"\",SUMMARY!K30,\"\")","v":""},"SUMMARY","DENSITY & PROPERTIES OF BITUMINOUS MIXTURES-Tex-207-F","Lab molded density, %:","Contractor","Sublot 1"]
[3174,{"$f":"IF(SUMMARY!L30<>\"\",SUMMARY!L30,\"\")","v":""},"SUMMARY","DENSITY & PROPERTIES OF BITUMINOUS MIXTURES-Tex-207-F","Lab molded density, %:","Contractor","Sublot 2"]
[3175,{"$f":"IF(SUMMARY!M30<>\"\",SUMMARY!M30,\"\")","v":""},"SUMMARY","DENSITY & PROPERTIES OF BITUMINOUS MIXTURES-Tex-207-F","Lab molded density, %:","Contractor","Sublot 3"]
[3176,{"$f":"IF(SUMMARY!N30<>\"\",SUMMARY!N30,\"\")","v":""},"SUMMARY","DENSITY & PROPERTIES OF BITUMINOUS MIXTURES-Tex-207-F","Lab molded density, %:","Contractor","Sublot 4"]
[3177]
[3178,{"$f":"IF(SUMMARY!E32<>\"\",SUMMARY!E32,\"\")","v":"NA"},"SUMMARY","DENSITY & PROPERTIES OF BITUMINOUS MIXTURES-Tex-207-F","In place air voids, %:","Target","Design"]
[3179,{"$f":"IF(SUMMARY!F32<>\"\",SUMMARY!F32,\"\")","v":""},"SUMMARY","DENSITY & PROPERTIES OF BITUMINOUS MIXTURES-Tex-207-F","In place air voids, %:","TxDOT","Sublot 1"]
[3180,{"$f":"IF(SUMMARY!G32<>\"\",SUMMARY!G32,\"\")","v":""},"SUMMARY","DENSITY & PROPERTIES OF BITUMINOUS MIXTURES-Tex-207-F","In place air voids, %:","TxDOT","Sublot 2"]
[3181,{"$f":"IF(SUMMARY!H32<>\"\",SUMMARY!H32,\"\")","v":""},"SUMMARY","DENSITY & PROPERTIES OF BITUMINOUS MIXTURES-Tex-207-F","In place air voids, %:","TxDOT","Sublot 3"]
[3182,{"$f":"IF(SUMMARY!I32<>\"\",SUMMARY!I32,\"\")","v":""},"SUMMARY","DENSITY & PROPERTIES OF BITUMINOUS MIXTURES-Tex-207-F","In place air voids, %:","TxDOT","Sublot 4"]
[3183,{"$f":"IF(SUMMARY!K32<>\"\",SUMMARY!K32,\"\")","v":""},"SUMMARY","DENSITY & PROPERTIES OF BITUMINOUS MIXTURES-Tex-207-F","In place air voids, %:","Contractor","Sublot 1"]
[3184,{"$f":"IF(SUMMARY!L32<>\"\",SUMMARY!L32,\"\")","v":""},"SUMMARY","DENSITY & PROPERTIES OF BITUMINOUS MIXTURES-Tex-207-F","In place air voids, %:","Contractor","Sublot 2"]
[3185,{"$f":"IF(SUMMARY!M32<>\"\",SUMMARY!M32,\"\")","v":""},"SUMMARY","DENSITY & PROPERTIES OF BITUMINOUS MIXTURES-Tex-207-F","In place air voids, %:","Contractor","Sublot 3"]
[3186,{"$f":"IF(SUMMARY!N32<>\"\",SUMMARY!N32,\"\")","v":""},"SUMMARY","DENSITY & PROPERTIES OF BITUMINOUS MIXTURES-Tex-207-F","In place air voids, %:","Contractor","Sublot 4"]
[3187]
[3188,{"$f":"IF(SUMMARY!E34<>\"\",SUMMARY!E34,\"\")","v":""},"SUMMARY","DENSITY & PROPERTIES OF BITUMINOUS MIXTURES-Tex-207-F","Plant produced VMA, %:","Target","Design"]
[3189,{"$f":"IF(SUMMARY!F34<>\"\",SUMMARY!F34,\"\")","v":""},"SUMMARY","DENSITY & PROPERTIES OF BITUMINOUS MIXTURES-Tex-207-F","Plant produced VMA, %:","TxDOT","Sublot 1"]
[3190,{"$f":"IF(SUMMARY!G34<>\"\",SUMMARY!G34,\"\")","v":""},"SUMMARY","DENSITY & PROPERTIES OF BITUMINOUS MIXTURES-Tex-207-F","Plant produced VMA, %:","TxDOT","Sublot 2"]
[3191,{"$f":"IF(SUMMARY!H34<>\"\",SUMMARY!H34,\"\")","v":""},"SUMMARY","DENSITY & PROPERTIES OF BITUMINOUS MIXTURES-Tex-207-F","Plant produced VMA, %:","TxDOT","Sublot 3"]
[3192,{"$f":"IF(SUMMARY!I34<>\"\",SUMMARY!I34,\"\")","v":""},"SUMMARY","DENSITY & PROPERTIES OF BITUMINOUS MIXTURES-Tex-207-F","Plant produced VMA, %:","TxDOT","Sublot 4"]
[3193,{"$f":"IF(SUMMARY!K34<>\"\",SUMMARY!K34,\"\")","v":""},"SUMMARY","DENSITY & PROPERTIES OF BITUMINOUS MIXTURES-Tex-207-F","Plant produced VMA, %:","Contractor","Sublot 1"]
[3194,{"$f":"IF(SUMMARY!L34<>\"\",SUMMARY!L34,\"\")","v":""},"SUMMARY","DENSITY & PROPERTIES OF BITUMINOUS MIXTURES-Tex-207-F","Plant produced VMA, %:","Contractor","Sublot 2"]
[3195,{"$f":"IF(SUMMARY!M34<>\"\",SUMMARY!M34,\"\")","v":""},"SUMMARY","DENSITY & PROPERTIES OF BITUMINOUS MIXTURES-Tex-207-F","Plant produced VMA, %:","Contractor","Sublot 3"]
[3196,{"$f":"IF(SUMMARY!N34<>\"\",SUMMARY!N34,\"\")","v":""},"SUMMARY","DENSITY & PROPERTIES OF BITUMINOUS MIXTURES-Tex-207-F","Plant produced VMA, %:","Contractor","Sublot 4"]
[3197]
[3198,{"$f":"IF(SUMMARY!E38<>\"\",SUMMARY!E38,\"\")","v":"0.000"},"SUMMARY","RICE SPECIFIC GRAVITY-Tex-227-F","Rice specific gravity:","Target","Design"]
[3199,{"$f":"IF(SUMMARY!F38<>\"\",SUMMARY!F38,\"\")","v":""},"SUMMARY","RICE SPECIFIC GRAVITY-Tex-227-F","Rice specific gravity:","TxDOT","Sublot 1"]
[3200,{"$f":"IF(SUMMARY!G38<>\"\",SUMMARY!G38,\"\")","v":""},"SUMMARY","RICE SPECIFIC GRAVITY-Tex-227-F","Rice specific gravity:","TxDOT","Sublot 2"]
[3201,{"$f":"IF(SUMMARY!H38<>\"\",SUMMARY!H38,\"\")","v":""},"SUMMARY","RICE SPECIFIC GRAVITY-Tex-227-F","Rice specific gravity:","TxDOT","Sublot 3"]
[3202,{"$f":"IF(SUMMARY!I38<>\"\",SUMMARY!I38,\"\")","v":""},"SUMMARY","RICE SPECIFIC GRAVITY-Tex-227-F","Rice specific gravity:","TxDOT","Sublot 4"]
[3203,{"$f":"IF(SUMMARY!K38<>\"\",SUMMARY!K38,\"\")","v":""},"SUMMARY","RICE SPECIFIC GRAVITY-Tex-227-F","Rice specific gravity:","Contractor","Sublot 1"]
[3204,{"$f":"IF(SUMMARY!L38<>\"\",SUMMARY!L38,\"\")","v":""},"SUMMARY","RICE SPECIFIC GRAVITY-Tex-227-F","Rice specific gravity:","Contractor","Sublot 2"]
[3205,{"$f":"IF(SUMMARY!M38<>\"\",SUMMARY!M38,\"\")","v":""},"SUMMARY","RICE SPECIFIC GRAVITY-Tex-227-F","Rice specific gravity:","Contractor","Sublot 3"]
[3206,{"$f":"IF(SUMMARY!N38<>\"\",SUMMARY!N38,\"\")","v":""},"SUMMARY","RICE SPECIFIC GRAVITY-Tex-227-F","Rice specific gravity:","Contractor","Sublot 4"]
[3207]
[3208,{"$f":"IF(SUMMARY!E42<>\"\",SUMMARY!E42,\"\")","v":"0.0"},"SUMMARY","ASPHALT CONTENT","Asphalt content, %:","Target","Design"]
[3209,{"$f":"IF(SUMMARY!F42<>\"\",SUMMARY!F42,\"\")","v":""},"SUMMARY","ASPHALT CONTENT","Asphalt content, %:","TxDOT","Sublot 1"]
[3210,{"$f":"IF(SUMMARY!G42<>\"\",SUMMARY!G42,\"\")","v":""},"SUMMARY","ASPHALT CONTENT","Asphalt content, %:","TxDOT","Sublot 2"]
[3211,{"$f":"IF(SUMMARY!H42<>\"\",SUMMARY!H42,\"\")","v":""},"SUMMARY","ASPHALT CONTENT","Asphalt content, %:","TxDOT","Sublot 3"]
[3212,{"$f":"IF(SUMMARY!I42<>\"\",SUMMARY!I42,\"\")","v":""},"SUMMARY","ASPHALT CONTENT","Asphalt content, %:","TxDOT","Sublot 4"]
[3213,{"$f":"IF(SUMMARY!K42<>\"\",SUMMARY!K42,\"\")","v":""},"SUMMARY","ASPHALT CONTENT","Asphalt content, %:","Contractor","Sublot 1"]
[3214,{"$f":"IF(SUMMARY!L42<>\"\",SUMMARY!L42,\"\")","v":""},"SUMMARY","ASPHALT CONTENT","Asphalt content, %:","Contractor","Sublot 2"]
[3215,{"$f":"IF(SUMMARY!M42<>\"\",SUMMARY!M42,\"\")","v":""},"SUMMARY","ASPHALT CONTENT","Asphalt content, %:","Contractor","Sublot 3"]
[3216,{"$f":"IF(SUMMARY!N42<>\"\",SUMMARY!N42,\"\")","v":""},"SUMMARY","ASPHALT CONTENT","Asphalt content, %:","Contractor","Sublot 4"]
[3217]
[3218,{"$f":"IF(SUMMARY!E46<>\"\",SUMMARY!E46,\"\")","v":"Select mix and course on the General sheet"},"SUMMARY","ASPHALT CONTENT","Recycled binder ratio:","Target","Design"]
[3219,{"$f":"IF(SUMMARY!F46<>\"\",SUMMARY!F46,\"\")","v":""},"SUMMARY","ASPHALT CONTENT","Recycled binder ratio:","TxDOT","Sublot 1"]
[3220,{"$f":"IF(SUMMARY!G46<>\"\",SUMMARY!G46,\"\")","v":""},"SUMMARY","ASPHALT CONTENT","Recycled binder ratio:","TxDOT","Sublot 2"]
[3221,{"$f":"IF(SUMMARY!H46<>\"\",SUMMARY!H46,\"\")","v":""},"SUMMARY","ASPHALT CONTENT","Recycled binder ratio:","TxDOT","Sublot 3"]
[3222,{"$f":"IF(SUMMARY!I46<>\"\",SUMMARY!I46,\"\")","v":""},"SUMMARY","ASPHALT CONTENT","Recycled binder ratio:","TxDOT","Sublot 4"]
[3223,{"$f":"IF(SUMMARY!K46<>\"\",SUMMARY!K46,\"\")","v":""},"SUMMARY","ASPHALT CONTENT","Recycled binder ratio:","Contractor","Sublot 1"]
[3224,{"$f":"IF(SUMMARY!L46<>\"\",SUMMARY!L46,\"\")","v":""},"SUMMARY","ASPHALT CONTENT","Recycled binder ratio:","Contractor","Sublot 2"]
[3225,{"$f":"IF(SUMMARY!M46<>\"\",SUMMARY!M46,\"\")","v":""},"SUMMARY","ASPHALT CONTENT","Recycled binder ratio:","Contractor","Sublot 3"]
[3226,{"$f":"IF(SUMMARY!N46<>\"\",SUMMARY!N46,\"\")","v":""},"SUMMARY","ASPHALT CONTENT","Recycled binder ratio:","Contractor","Sublot 4"]
[3227]
[3228]
[3229,{"$f":"IF(SUMMARY!F48<>\"\",SUMMARY!F48,\"\")","v":""},"SUMMARY","ASPHALT CONTENT","Binder sample received?:","TxDOT","Sublot 1"]
[3230,{"$f":"IF(SUMMARY!G48<>\"\",SUMMARY!G48,\"\")","v":""},"SUMMARY","ASPHALT CONTENT","Binder sample received?:","TxDOT","Sublot 2"]
[3231,{"$f":"IF(SUMMARY!H48<>\"\",SUMMARY!H48,\"\")","v":""},"SUMMARY","ASPHALT CONTENT","Binder sample received?:","TxDOT","Sublot 3"]
[3232,{"$f":"IF(SUMMARY!I48<>\"\",SUMMARY!I48,\"\")","v":""},"SUMMARY","ASPHALT CONTENT","Binder sample received?:","TxDOT","Sublot 4"]
[3233]
[3234,{"$f":"IF(SUMMARY!F50<>\"\",SUMMARY!F50,\"\")","v":""},"SUMMARY","ASPHALT CONTENT","DSR aging ratio?:","TxDOT","Sublot 1"]
[3235,{"$f":"IF(SUMMARY!G50<>\"\",SUMMARY!G50,\"\")","v":""},"SUMMARY","ASPHALT CONTENT","DSR aging ratio?:","TxDOT","Sublot 2"]
[3236,{"$f":"IF(SUMMARY!H50<>\"\",SUMMARY!H50,\"\")","v":""},"SUMMARY","ASPHALT CONTENT","DSR aging ratio?:","TxDOT","Sublot 3"]
[3237,{"$f":"IF(SUMMARY!I50<>\"\",SUMMARY!I50,\"\")","v":""},"SUMMARY","ASPHALT CONTENT","DSR aging ratio?:","TxDOT","Sublot 4"]
[3238]
[3239,{"$f":"IF(SUMMARY!E54<>\"\",SUMMARY!E54,\"\")","v":""},"SUMMARY","EFFECT OF WATER ON BITUMINOUS -Tex-530-C","Estimated percent stripping:","Target","Design"]
[3240,{"$f":"IF(SUMMARY!F54<>\"\",SUMMARY!F54,\"\")","v":""},"SUMMARY","EFFECT OF WATER ON BITUMINOUS -Tex-530-C","Estimated percent stripping:","TxDOT","Sublot 1"]
[3241,{"$f":"IF(SUMMARY!G54<>\"\",SUMMARY!G54,\"\")","v":""},"SUMMARY","EFFECT OF WATER ON BITUMINOUS -Tex-530-C","Estimated percent stripping:","TxDOT","Sublot 2"]
[3242,{"$f":"IF(SUMMARY!H54<>\"\",SUMMARY!H54,\"\")","v":""},"SUMMARY","EFFECT OF WATER ON BITUMINOUS -Tex-530-C","Estimated percent stripping:","TxDOT","Sublot 3"]
[3243,{"$f":"IF(SUMMARY!I54<>\"\",SUMMARY!I54,\"\")","v":""},"SUMMARY","EFFECT OF WATER ON BITUMINOUS -Tex-530-C","Estimated percent stripping:","TxDOT","Sublot 4"]
[3244,{"$f":"IF(SUMMARY!K54<>\"\",SUMMARY!K54,\"\")","v":""},"SUMMARY","EFFECT OF WATER ON BITUMINOUS -Tex-530-C","Estimated percent stripping:","Contractor","Sublot 1"]
[3245,{"$f":"IF(SUMMARY!L54<>\"\",SUMMARY!L54,\"\")","v":""},"SUMMARY","EFFECT OF WATER ON BITUMINOUS -Tex-530-C","Estimated percent stripping:","Contractor","Sublot 2"]
[3246,{"$f":"IF(SUMMARY!M54<>\"\",SUMMARY!M54,\"\")","v":""},"SUMMARY","EFFECT OF WATER ON BITUMINOUS -Tex-530-C","Estimated percent stripping:","Contractor","Sublot 3"]
[3247,{"$f":"IF(SUMMARY!N54<>\"\",SUMMARY!N54,\"\")","v":""},"SUMMARY","EFFECT OF WATER ON BITUMINOUS -Tex-530-C","Estimated percent stripping:","Contractor","Sublot 4"]
[3248]
[3249,{"$f":"IF(SUMMARY!F58<>\"\",SUMMARY!F58,\"\")","v":""},"SUMMARY","PROFILES: Tex-244-F & Tex-207-F, Part V & Tex-207-F, Part VII","Thermal segregation:","TxDOT","Sublot 1"]
[3250,{"$f":"IF(SUMMARY!G58<>\"\",SUMMARY!G58,\"\")","v":""},"SUMMARY","PROFILES: Tex-244-F & Tex-207-F, Part V & Tex-207-F, Part VII","Thermal segregation:","TxDOT","Sublot 2"]
[3251,{"$f":"IF(SUMMARY!H58<>\"\",SUMMARY!H58,\"\")","v":""},"SUMMARY","PROFILES: Tex-244-F & Tex-207-F, Part V & Tex-207-F, Part VII","Thermal segregation:","TxDOT","Sublot 3"]
[3252,{"$f":"IF(SUMMARY!I58<>\"\",SUMMARY!I58,\"\")","v":""},"SUMMARY","PROFILES: Tex-244-F & Tex-207-F, Part V & Tex-207-F, Part VII","Thermal segregation:","TxDOT","Sublot 4"]
[3253,{"$f":"IF(SUMMARY!K58<>\"\",SUMMARY!K58,\"\")","v":""},"SUMMARY","PROFILES: Tex-244-F & Tex-207-F, Part V & Tex-207-F, Part VII","Thermal segregation:","Contractor","Sublot 1"]
[3254,{"$f":"IF(SUMMARY!L58<>\"\",SUMMARY!L58,\"\")","v":""},"SUMMARY","PROFILES: Tex-244-F & Tex-207-F, Part V & Tex-207-F, Part VII","Thermal segregation:","Contractor","Sublot 2"]
[3255,{"$f":"IF(SUMMARY!M58<>\"\",SUMMARY!M58,\"\")","v":""},"SUMMARY","PROFILES: Tex-244-F & Tex-207-F, Part V & Tex-207-F, Part VII","Thermal segregation:","Contractor","Sublot 3"]
[3256,{"$f":"IF(SUMMARY!N58<>\"\",SUMMARY!N58,\"\")","v":""},"SUMMARY","PROFILES: Tex-244-F & Tex-207-F, Part V & Tex-207-F, Part VII","Thermal segregation:","Contractor","Sublot 4"]
[3257]
[3258,{"$f":"IF(SUMMARY!F60<>\"\",SUMMARY!F60,\"\")","v":""},"SUMMARY","PROFILES: Tex-244-F & Tex-207-F, Part V & Tex-207-F, Part VII","Segregation profile:","TxDOT","Sublot 1"]
[3259,{"$f":"IF(SUMMARY!G60<>\"\",SUMMARY!G60,\"\")","v":""},"SUMMARY","PROFILES: Tex-244-F & Tex-207-F, Part V & Tex-207-F, Part VII","Segregation profile:","TxDOT","Sublot 2"]
[3260,{"$f":"IF(SUMMARY!H60<>\"\",SUMMARY!H60,\"\")","v":""},"SUMMARY","PROFILES: Tex-244-F & Tex-207-F, Part V & Tex-207-F, Part VII","Segregation profile:","TxDOT","Sublot 3"]
[3261,{"$f":"IF(SUMMARY!I60<>\"\",SUMMARY!I60,\"\")","v":""},"SUMMARY","PROFILES: Tex-244-F & Tex-207-F, Part V & Tex-207-F, Part VII","Segregation profile:","TxDOT","Sublot 4"]
[3262,{"$f":"IF(SUMMARY!K60<>\"\",SUMMARY!K60,\"\")","v":""},"SUMMARY","PROFILES: Tex-244-F & Tex-207-F, Part V & Tex-207-F, Part VII","Segregation profile:","Contractor","Sublot 1"]
[3263,{"$f":"IF(SUMMARY!L60<>\"\",SUMMARY!L60,\"\")","v":""},"SUMMARY","PROFILES: Tex-244-F & Tex-207-F, Part V & Tex-207-F, Part VII","Segregation profile:","Contractor","Sublot 2"]
[3264,{"$f":"IF(SUMMARY!M60<>\"\",SUMMARY!M60,\"\")","v":""},"SUMMARY","PROFILES: Tex-244-F & Tex-207-F, Part V & Tex-207-F, Part VII","Segregation profile:","Contractor","Sublot 3"]
[3265,{"$f":"IF(SUMMARY!N60<>\"\",SUMMARY!N60,\"\")","v":""},"SUMMARY","PROFILES: Tex-244-F & Tex-207-F, Part V & Tex-207-F, Part VII","Segregation profile:","Contractor","Sublot 4"]
[3266]
[3267,{"$f":"IF(SUMMARY!F62<>\"\",SUMMARY!F62,\"\")","v":""},"SUMMARY","PROFILES: Tex-244-F & Tex-207-F, Part V & Tex-207-F, Part VII","Joint density:","TxDOT","Sublot 1"]
[3268,{"$f":"IF(SUMMARY!G62<>\"\",SUMMARY!G62,\"\")","v":""},"SUMMARY","PROFILES: Tex-244-F & Tex-207-F, Part V & Tex-207-F, Part VII","Joint density:","TxDOT","Sublot 2"]
[3269,{"$f":"IF(SUMMARY!H62<>\"\",SUMMARY!H62,\"\")","v":""},"SUMMARY","PROFILES: Tex-244-F & Tex-207-F, Part V & Tex-207-F, Part VII","Joint density:","TxDOT","Sublot 3"]
[3270,{"$f":"IF(SUMMARY!I62<>\"\",SUMMARY!I62,\"\")","v":""},"SUMMARY","PROFILES: Tex-244-F & Tex-207-F, Part V & Tex-207-F, Part VII","Joint density:","TxDOT","Sublot 4"]
[3271,{"$f":"IF(SUMMARY!K62<>\"\",SUMMARY!K62,\"\")","v":""},"SUMMARY","PROFILES: Tex-244-F & Tex-207-F, Part V & Tex-207-F, Part VII","Joint density:","Contractor","Sublot 1"]
[3272,{"$f":"IF(SUMMARY!L62<>\"\",SUMMARY!L62,\"\")","v":""},"SUMMARY","PROFILES: Tex-244-F & Tex-207-F, Part V & Tex-207-F, Part VII","Joint density:","Contractor","Sublot 2"]
[3273,{"$f":"IF(SUMMARY!M62<>\"\",SUMMARY!M62,\"\")","v":""},"SUMMARY","PROFILES: Tex-244-F & Tex-207-F, Part V & Tex-207-F, Part VII","Joint density:","Contractor","Sublot 3"]
[3274,{"$f":"IF(SUMMARY!N62<>\"\",SUMMARY!N62,\"\")","v":""},"SUMMARY","PROFILES: Tex-244-F & Tex-207-F, Part V & Tex-207-F, Part VII","Joint density:","Contractor","Sublot 4"]
[3275]
[3276,{"$f":"IF(SUMMARY!F64<>\"\",SUMMARY!F64,\"\")","v":"NA"},"SUMMARY","PROFILES: Tex-244-F & Tex-207-F, Part V & Tex-207-F, Part VII","Required documentation?:","TxDOT","Sublot 1"]
[3277,{"$f":"IF(SUMMARY!G64<>\"\",SUMMARY!G64,\"\")","v":"NA"},"SUMMARY","PROFILES: Tex-244-F & Tex-207-F, Part V & Tex-207-F, Part VII","Required documentation?:","TxDOT","Sublot 2"]
[3278,{"$f":"IF(SUMMARY!H64<>\"\",SUMMARY!H64,\"\")","v":"NA"},"SUMMARY","PROFILES: Tex-244-F & Tex-207-F, Part V & Tex-207-F, Part VII","Required documentation?:","TxDOT","Sublot 3"]
[3279,{"$f":"IF(SUMMARY!I64<>\"\",SUMMARY!I64,\"\")","v":"NA"},"SUMMARY","PROFILES: Tex-244-F & Tex-207-F, Part V & Tex-207-F, Part VII","Required documentation?:","TxDOT","Sublot 4"]
[3280,{"$f":"IF(SUMMARY!K64<>\"\",SUMMARY!K64,\"\")","v":"NA"},"SUMMARY","PROFILES: Tex-244-F & Tex-207-F, Part V & Tex-207-F, Part VII","Required documentation?:","Contractor","Sublot 1"]
[3281,{"$f":"IF(SUMMARY!L64<>\"\",SUMMARY!L64,\"\")","v":"NA"},"SUMMARY","PROFILES: Tex-244-F & Tex-207-F, Part V & Tex-207-F, Part VII","Required documentation?:","Contractor","Sublot 2"]
[3282,{"$f":"IF(SUMMARY!M64<>\"\",SUMMARY!M64,\"\")","v":"NA"},"SUMMARY","PROFILES: Tex-244-F & Tex-207-F, Part V & Tex-207-F, Part VII","Required documentation?:","Contractor","Sublot 3"]
[3283,{"$f":"IF(SUMMARY!N64<>\"\",SUMMARY!N64,\"\")","v":"NA"},"SUMMARY","PROFILES: Tex-244-F & Tex-207-F, Part V & Tex-207-F, Part VII","Required documentation?:","Contractor","Sublot 4"]
[3284]
[3285]
[3286,{"$f":"IF(SUMMARY!E68<>\"\",SUMMARY!E68,\"\")","v":""},"SUMMARY","DRAIN-DOWN: Tex-235-F","Drain-down, %:","Target","Design"]
[3287,{"$f":"IF(SUMMARY!F68<>\"\",SUMMARY!F68,\"\")","v":""},"SUMMARY","DRAIN-DOWN: Tex-235-F","Drain-down, %:","TxDOT","Sublot 1"]
[3288,{"$f":"IF(SUMMARY!G68<>\"\",SUMMARY!G68,\"\")","v":""},"SUMMARY","DRAIN-DOWN: Tex-235-F","Drain-down, %:","TxDOT","Sublot 2"]
[3289,{"$f":"IF(SUMMARY!H68<>\"\",SUMMARY!H68,\"\")","v":""},"SUMMARY","DRAIN-DOWN: Tex-235-F","Drain-down, %:","TxDOT","Sublot 3"]
[3290,{"$f":"IF(SUMMARY!I68<>\"\",SUMMARY!I68,\"\")","v":""},"SUMMARY","DRAIN-DOWN: Tex-235-F","Drain-down, %:","TxDOT","Sublot 4"]
[3291,{"$f":"IF(SUMMARY!K68<>\"\",SUMMARY!K68,\"\")","v":""},"SUMMARY","DRAIN-DOWN: Tex-235-F","Drain-down, %:","Contractor","Sublot 1"]
[3292,{"$f":"IF(SUMMARY!L68<>\"\",SUMMARY!L68,\"\")","v":""},"SUMMARY","DRAIN-DOWN: Tex-235-F","Drain-down, %:","Contractor","Sublot 2"]
[3293,{"$f":"IF(SUMMARY!M68<>\"\",SUMMARY!M68,\"\")","v":""},"SUMMARY","DRAIN-DOWN: Tex-235-F","Drain-down, %:","Contractor","Sublot 3"]
[3294,{"$f":"IF(SUMMARY!N68<>\"\",SUMMARY!N68,\"\")","v":""},"SUMMARY","DRAIN-DOWN: Tex-235-F","Drain-down, %:","Contractor","Sublot 4"]
[3295]
[3296]
[3297]
[3298,{"$f":"IF(PAYMENT!M3<>\"\",PAYMENT!M3,\"\")","v":""},"PAY",{"$f":"PAYMENT!$B$2","v":""},"Total quantity actually placed, Tons:",null,null,null,null,1220]
[3299,{"$f":"IF(PAYMENT!M6<>\"\",PAYMENT!M6,\"\")","v":""},"PAY",{"$f":"PAYMENT!$B$5","v":"MIX PAYMENT"},"Unit price, $/Ton:",null,null,null,null,1221]
[3300,{"$f":"IF(PAYMENT!M7<>\"\",PAYMENT!M7,\"\")","v":0},"PAY",{"$f":"PAYMENT!$B$5","v":"MIX PAYMENT"},"Quantity, Tons:"]
[3301,{"$f":"IF(PAYMENT!M8<>\"\",PAYMENT!M8,\"\")","v":0},"PAY",{"$f":"PAYMENT!$B$5","v":"MIX PAYMENT"},"Pay amount, $:"]
[3302,{"$f":"IF(PAYMENT!M11<>\"\",PAYMENT!M11,\"\")","v":""},"PAY","ASPHALT PAYMENT","Unit price, $/Ton:",null,null,null,null,1222]
[3303,{"$f":"IF(PAYMENT!M13<>\"\",PAYMENT!M13,\"\")","v":0},"PAY","ASPHALT PAYMENT","Quantity, Tons:"]
[3304,{"$f":"IF(PAYMENT!M14<>\"\",PAYMENT!M14,\"\")","v":0},"PAY","ASPHALT PAYMENT","Pay amount, $:"]
[3305,{"$f":"IF(MEM_METHOD<>\"\",MEM_METHOD,\"\")","v":""},"PAY","MEMBRANE PAYMENT","Membrane measurement method:",null,null,null,null,1223]
[3306,{"$f":"IF(PAYMENT!M18<>\"\",PAYMENT!M18,\"\")","v":""},"PAY","MEMBRANE PAYMENT","Unit Price, ",null,null,null,null,1224]
[3307,{"$f":"IF(PAYMENT!M19<>\"\",PAYMENT!M19,\"\")","v":""},"PAY","MEMBRANE PAYMENT","Quantity, ",null,null,null,null,1225]
[3308,{"$f":"IF(PAYMENT!M20<>\"\",PAYMENT!M20,\"\")","v":0},"PAY","MEMBRANE PAYMENT","Pay amount, $:"]
[3309,{"$f":"IF(PAYMENT!M23<>\"\",PAYMENT!M23,\"\")","v":""},"PAY","SMALL QUANTITY/LEVEL-UP","Unit price, $/Ton:",null,null,null,null,1226]
[3310,{"$f":"IF(PAYMENT!M24<>\"\",PAYMENT!M24,\"\")","v":""},"PAY","SMALL QUANTITY/LEVEL-UP","Quantity, Tons:"]
[3311,{"$f":"IF(PAYMENT!M25<>\"\",PAYMENT!M25,\"\")","v":""},"PAY","SMALL QUANTITY/LEVEL-UP","Pay amount, $:"]
[3312,{"$f":"IF(PAYMENT!M28<>\"\",PAYMENT!M28,\"\")","v":""},"PAY","PAY FACTOR CALCULATION","Quantity placed but no air void testing was required, Tons:",null,null,null,null,1227]
[3313,{"$f":"IF(PAYMENT!M29<>\"\",PAYMENT!M29,\"\")","v":""},"PAY","PAY FACTOR CALCULATION","Bid price, $/Tons:",null,null,null,null,1228]
[3314,{"$f":"IF(PAYMENT!M32<>\"\",PAYMENT!M32,\"\")","v":"No"},"PAY","PAY FACTOR CALCULATION","Is this Lot 1, ?:"]
[3315]
[3316,{"$f":"IF(PAYMENT!D36<>\"\",PAYMENT!D36,\"\")","v":""},"PAY","LAB MOLDED DENSITY (PRODUCTION)","Design target density:"]
[3317,{"$f":"IF(PAYMENT!D37<>\"\",PAYMENT!D37,\"\")","v":""},"PAY","LAB MOLDED DENSITY (PRODUCTION)","Average percent density:","Sublot 1"]
[3318,{"$f":"IF(PAYMENT!E37<>\"\",PAYMENT!E37,\"\")","v":""},"PAY","LAB MOLDED DENSITY (PRODUCTION)","Average percent density:","Sublot 2"]
[3319,{"$f":"IF(PAYMENT!F37<>\"\",PAYMENT!F37,\"\")","v":""},"PAY","LAB MOLDED DENSITY (PRODUCTION)","Average percent density:","Sublot 3"]
[3320,{"$f":"IF(PAYMENT!G37<>\"\",PAYMENT!G37,\"\")","v":""},"PAY","LAB MOLDED DENSITY (PRODUCTION)","Average percent density:","Sublot 4"]
[3321,{"$f":"IF(PAYMENT!D38<>\"\",PAYMENT!D38,\"\")","v":""},"PAY","LAB MOLDED DENSITY (PRODUCTION)","Absolute deviation:","Sublot 1"]
[3322,{"$f":"IF(PAYMENT!E38<>\"\",PAYMENT!E38,\"\")","v":""},"PAY","LAB MOLDED DENSITY (PRODUCTION)","Absolute deviation:","Sublot 2"]
[3323,{"$f":"IF(PAYMENT!F38<>\"\",PAYMENT!F38,\"\")","v":""},"PAY","LAB MOLDED DENSITY (PRODUCTION)","Absolute deviation:","Sublot 3"]
[3324,{"$f":"IF(PAYMENT!G38<>\"\",PAYMENT!G38,\"\")","v":""},"PAY","LAB MOLDED DENSITY (PRODUCTION)","Absolute deviation:","Sublot 4"]
[3325,{"$f":"IF(PAYMENT!D41<>\"\",PAYMENT!D41,\"\")","v":""},"PAY","LAB MOLDED DENSITY (PRODUCTION)","Production acceptable:","Sublot 1"]
[3326,{"$f":"IF(PAYMENT!E41<>\"\",PAYMENT!E41,\"\")","v":""},"PAY","LAB MOLDED DENSITY (PRODUCTION)","Production acceptable:","Sublot 2"]
[3327,{"$f":"IF(PAYMENT!F41<>\"\",PAYMENT!F41,\"\")","v":""},"PAY","LAB MOLDED DENSITY (PRODUCTION)","Production acceptable:","Sublot 3"]
[3328,{"$f":"IF(PAYMENT!G41<>\"\",PAYMENT!G41,\"\")","v":""},"PAY","LAB MOLDED DENSITY (PRODUCTION)","Production acceptable:","Sublot 4"]
[3329,{"$f":"IF(PAYMENT!D44<>\"\",PAYMENT!D44,\"\")","v":""},"PAY","LAB MOLDED DENSITY (PRODUCTION)","Auto 1.000 pay factor:","Sublot 1",null,null,null,1229]
[3330,{"$f":"IF(PAYMENT!E44<>\"\",PAYMENT!E44,\"\")","v":""},"PAY","LAB MOLDED DENSITY (PRODUCTION)","Auto 1.000 pay factor:","Sublot 2",null,null,null,1230]
[3331,{"$f":"IF(PAYMENT!F44<>\"\",PAYMENT!F44,\"\")","v":""},"PAY","LAB MOLDED DENSITY (PRODUCTION)","Auto 1.000 pay factor:","Sublot 3",null,null,null,1231]
[3332,{"$f":"IF(PAYMENT!G44<>\"\",PAYMENT!G44,\"\")","v":""},"PAY","LAB MOLDED DENSITY (PRODUCTION)","Auto 1.000 pay factor:","Sublot 4",null,null,null,1232]
[3333,{"$f":"IF(PAYMENT!D58<>\"\",PAYMENT!D58,\"\")","v":""},"PAY","LAB MOLDED DENSITY (PRODUCTION)","Pay factor:","Sublot 1"]
[3334,{"$f":"IF(PAYMENT!E58<>\"\",PAYMENT!E58,\"\")","v":""},"PAY","LAB MOLDED DENSITY (PRODUCTION)","Pay factor:","Sublot 2"]
[3335,{"$f":"IF(PAYMENT!F58<>\"\",PAYMENT!F58,\"\")","v":""},"PAY","LAB MOLDED DENSITY (PRODUCTION)","Pay factor:","Sublot 3"]
[3336,{"$f":"IF(PAYMENT!G58<>\"\",PAYMENT!G58,\"\")","v":""},"PAY","LAB MOLDED DENSITY (PRODUCTION)","Pay factor:","Sublot 4"]
[3337,{"$f":"IF(PAYMENT!D59<>\"\",PAYMENT!D59,\"\")","v":""},"PAY","LAB MOLDED DENSITY (PRODUCTION)","Average pay factor:"]
[3338,{"$f":"IF(PAYMENT!D60<>\"\",PAYMENT!D60,\"\")","v":""},"PAY","LAB MOLDED DENSITY (PRODUCTION)","Production pay factor:"]
[3339]
[3340,{"$f":"IF(PAYMENT!J36<>\"\",PAYMENT!J36,\"\")","v":""},"PAY","INPLACE AIR VOIDS (PLACEMENT)","Average percent air voids:","Sublot 1"]
[3341,{"$f":"IF(PAYMENT!K36<>\"\",PAYMENT!K36,\"\")","v":""},"PAY","INPLACE AIR VOIDS (PLACEMENT)","Average percent air voids:","Sublot 2"]
[3342,{"$f":"IF(PAYMENT!L36<>\"\",PAYMENT!L36,\"\")","v":""},"PAY","INPLACE AIR VOIDS (PLACEMENT)","Average percent air voids:","Sublot 3"]
[3343,{"$f":"IF(PAYMENT!M36<>\"\",PAYMENT!M36,\"\")","v":""},"PAY","INPLACE AIR VOIDS (PLACEMENT)","Average percent air voids:","Sublot 4"]
[3344,{"$f":"IF(PAYMENT!J41<>\"\",PAYMENT!J41,\"\")","v":""},"PAY","INPLACE AIR VOIDS (PLACEMENT)","Placement acceptable:","Sublot 1"]
[3345,{"$f":"IF(PAYMENT!K41<>\"\",PAYMENT!K41,\"\")","v":""},"PAY","INPLACE AIR VOIDS (PLACEMENT)","Placement acceptable:","Sublot 2"]
[3346,{"$f":"IF(PAYMENT!L41<>\"\",PAYMENT!L41,\"\")","v":""},"PAY","INPLACE AIR VOIDS (PLACEMENT)","Placement acceptable:","Sublot 3"]
[3347,{"$f":"IF(PAYMENT!M41<>\"\",PAYMENT!M41,\"\")","v":""},"PAY","INPLACE AIR VOIDS (PLACEMENT)","Placement acceptable:","Sublot 4"]
[3348,{"$f":"IF(PAYMENT!J58<>\"\",PAYMENT!J58,\"\")","v":""},"PAY","INPLACE AIR VOIDS (PLACEMENT)","Pay factor:","Sublot 1"]
[3349,{"$f":"IF(PAYMENT!K58<>\"\",PAYMENT!K58,\"\")","v":""},"PAY","INPLACE AIR VOIDS (PLACEMENT)","Pay factor:","Sublot 2"]
[3350,{"$f":"IF(PAYMENT!L58<>\"\",PAYMENT!L58,\"\")","v":""},"PAY","INPLACE AIR VOIDS (PLACEMENT)","Pay factor:","Sublot 3"]
[3351,{"$f":"IF(PAYMENT!M58<>\"\",PAYMENT!M58,\"\")","v":""},"PAY","INPLACE AIR VOIDS (PLACEMENT)","Pay factor:","Sublot 4"]
[3352,{"$f":"IF(PAYMENT!J59<>\"\",PAYMENT!J59,\"\")","v":""},"PAY","INPLACE AIR VOIDS (PLACEMENT)","Average pay factor:"]
[3353,{"$f":"IF(PAYMENT!J60<>\"\",PAYMENT!J60,\"\")","v":""},"PAY","INPLACE AIR VOIDS (PLACEMENT)","Placement pay factor:"]
[3354]
[3355,{"$f":"IF(PAYMENT!J69<>\"\",PAYMENT!J69,\"\")","v":0},"PAY","FINAL QUANTITIES","Total quantity actually placed , Tons:"]
[3356,{"$f":"IF(PAYMENT!J70<>\"\",PAYMENT!J70,\"\")","v":0},"PAY","FINAL QUANTITIES","Total quantity left in place without payment , Tons:"]
[3357,{"$f":"IF(PAYMENT!J73<>\"\",PAYMENT!J73,\"\")","v":0},"PAY","FINAL QUANTITIES","Lot quantity, Tons:","PRODUCTION"]
[3358,{"$f":"IF(PAYMENT!L73<>\"\",PAYMENT!L73,\"\")","v":0},"PAY","FINAL QUANTITIES","Lot quantity, Tons:","PLACEMENT"]
[3359,{"$f":"IF(PAYMENT!J77<>\"\",PAYMENT!J77,\"\")","v":"No Pay"},"PAY","FINAL QUANTITIES",{"$f":"PAYMENT!B77","v":""},"A"]
[3360,{"$f":"IF(PAYMENT!L77<>\"\",PAYMENT!L77,\"\")","v":""},"PAY","FINAL QUANTITIES",{"$f":"PAYMENT!B77","v":""},"B"]
[3361,{"$f":"IF(PAYMENT!J79<>\"\",PAYMENT!J79,\"\")","v":"No Pay"},"PAY","FINAL QUANTITIES",{"$f":"PAYMENT!B79","v":""}]
[3362,{"$f":"IF(PAYMENT!L81<>\"\",PAYMENT!L81,\"\")","v":"No Pay"},"PAY","FINAL QUANTITIES","Placement bonus paid on estimate = (TAP - ADJ):"]
[3363]
[3364,{"$f":"IF(GENERAL!$B$22<>\"\",GENERAL!$B$22,\"\")","v":""},"GENERAL","Remarks",null,null,null,null,null,1]
[3365,{"$f":"IF(PROD_SAMPLE!$G$8<>\"\",PROD_SAMPLE!$G$8,\"\")","v":""},"PROD_SAMPLE","Blind sample",null,null,null,null,null,120]
[3366,{"$f":"IF(INDIRECT(\"DOT1_PROD!$C$55\")<>\"\",INDIRECT(\"DOT1_PROD!$C$55\"),\"\")","v":""},"DOT1_PROD","DOT1 PRODUCTION DATA","PRODUCTION PERFORMANCE PROPERTIES OF BITUMINOUS MIXTURES","Tex 207-F, Part V Mat segregation density profile:",null,null,null,454]
[3367,{"$f":"IF(INDIRECT(\"DOT1_PROD!$C$56\")<>\"\",INDIRECT(\"DOT1_PROD!$C$56\"),\"\")","v":""},"DOT1_PROD","DOT1 PRODUCTION DATA","PRODUCTION PERFORMANCE PROPERTIES OF BITUMINOUS MIXTURES","Tex 207-F, Part VII Longitudinal joint density:",null,null,null,455]
[3368,{"$f":"IF(INDIRECT(\"DOT1_PROD!$C$51\")<>\"\",INDIRECT(\"DOT1_PROD!$C$51\"),\"\")","v":""},"DOT1_PROD","DOT1 PRODUCTION DATA","PRODUCTION PERFORMANCE PROPERTIES OF BITUMINOUS MIXTURES","Tex 246-F Permeability or Water flow, sec:",null,null,null,1309]
[3369,{"$f":"IF(INDIRECT(\"DOT1_PROD!$C$60\")<>\"\",INDIRECT(\"DOT1_PROD!$C$60\"),\"\")","v":""},"DOT1_PROD","DOT1 PRODUCTION DATA","ESTIMATED FILM THICKNESS (based on gradation and asphalt content)","Combined bulk specific gravity (Gsb): ",null,null,null,1237]
[3370,{"$f":"IF(INDIRECT(\"DOT1_PROD!$C$61\")<>\"\",INDIRECT(\"DOT1_PROD!$C$61\"),\"\")","v":""},"DOT1_PROD","DOT1 PRODUCTION DATA","ESTIMATED FILM THICKNESS (based on gradation and asphalt content)","Effective specific gravity:"]
[3371,{"$f":"IF(INDIRECT(\"DOT1_PROD!$C$62\")<>\"\",INDIRECT(\"DOT1_PROD!$C$62\"),\"\")","v":""},"DOT1_PROD","DOT1 PRODUCTION DATA","ESTIMATED FILM THICKNESS (based on gradation and asphalt content)","Asphalt absorption, %:"]
[3372,{"$f":"IF(INDIRECT(\"DOT1_PROD!$C$63\")<>\"\",INDIRECT(\"DOT1_PROD!$C$63\"),\"\")","v":""},"DOT1_PROD","DOT1 PRODUCTION DATA","ESTIMATED FILM THICKNESS (based on gradation and asphalt content)","Effective asphalt content:"]
[3373,{"$f":"IF(INDIRECT(\"DOT1_PROD!$C$64\")<>\"\",INDIRECT(\"DOT1_PROD!$C$64\"),\"\")","v":""},"DOT1_PROD","DOT1 PRODUCTION DATA","ESTIMATED FILM THICKNESS (based on gradation and asphalt content)","Film thickness, micron:"]
[3374]
[3375,{"$f":"IF(INDIRECT(\"DOT2_PROD!$C$55\")<>\"\",INDIRECT(\"DOT2_PROD!$C$55\"),\"\")","v":""},"DOT2_PROD","DOT2 PRODUCTION DATA","PRODUCTION PERFORMANCE PROPERTIES OF BITUMINOUS MIXTURES","Tex 207-F, Part V Mat segregation density profile:",null,null,null,553]
[3376,{"$f":"IF(INDIRECT(\"DOT2_PROD!$C$56\")<>\"\",INDIRECT(\"DOT2_PROD!$C$56\"),\"\")","v":""},"DOT2_PROD","DOT2 PRODUCTION DATA","PRODUCTION PERFORMANCE PROPERTIES OF BITUMINOUS MIXTURES","Tex 207-F, Part VII Longitudinal joint density:",null,null,null,554]
[3377,{"$f":"IF(INDIRECT(\"DOT2_PROD!$C$51\")<>\"\",INDIRECT(\"DOT2_PROD!$C$51\"),\"\")","v":""},"DOT2_PROD","DOT2 PRODUCTION DATA","PRODUCTION PERFORMANCE PROPERTIES OF BITUMINOUS MIXTURES","Tex 246-F Permeability or Water flow, sec:",null,null,null,1310]
[3378,{"$f":"IF(INDIRECT(\"DOT2_PROD!$C$60\")<>\"\",INDIRECT(\"DOT2_PROD!$C$60\"),\"\")","v":""},"DOT2_PROD","DOT2 PRODUCTION DATA","ESTIMATED FILM THICKNESS (based on gradation and asphalt content)","Combined bulk specific gravity (Gsb): ",null,null,null,1238]
[3379,{"$f":"IF(INDIRECT(\"DOT2_PROD!$C$61\")<>\"\",INDIRECT(\"DOT2_PROD!$C$61\"),\"\")","v":""},"DOT2_PROD","DOT2 PRODUCTION DATA","ESTIMATED FILM THICKNESS (based on gradation and asphalt content)","Effective specific gravity:"]
[3380,{"$f":"IF(INDIRECT(\"DOT2_PROD!$C$62\")<>\"\",INDIRECT(\"DOT2_PROD!$C$62\"),\"\")","v":""},"DOT2_PROD","DOT2 PRODUCTION DATA","ESTIMATED FILM THICKNESS (based on gradation and asphalt content)","Asphalt absorption, %:"]
[3381,{"$f":"IF(INDIRECT(\"DOT2_PROD!$C$63\")<>\"\",INDIRECT(\"DOT2_PROD!$C$63\"),\"\")","v":""},"DOT2_PROD","DOT2 PRODUCTION DATA","ESTIMATED FILM THICKNESS (based on gradation and asphalt content)","Effective asphalt content:"]
[3382,{"$f":"IF(INDIRECT(\"DOT2_PROD!$C$64\")<>\"\",INDIRECT(\"DOT2_PROD!$C$64\"),\"\")","v":""},"DOT2_PROD","DOT2 PRODUCTION DATA","ESTIMATED FILM THICKNESS (based on gradation and asphalt content)","Film thickness, micron:"]
[3383]
[3384,{"$f":"IF(INDIRECT(\"DOT3_PROD!$C$55\")<>\"\",INDIRECT(\"DOT3_PROD!$C$55\"),\"\")","v":""},"DOT3_PROD","DOT3 PRODUCTION DATA","PRODUCTION PERFORMANCE PROPERTIES OF BITUMINOUS MIXTURES","Tex 207-F, Part V Mat segregation density profile:",null,null,null,652]
[3385,{"$f":"IF(INDIRECT(\"DOT3_PROD!$C$56\")<>\"\",INDIRECT(\"DOT3_PROD!$C$56\"),\"\")","v":""},"DOT3_PROD","DOT3 PRODUCTION DATA","PRODUCTION PERFORMANCE PROPERTIES OF BITUMINOUS MIXTURES","Tex 207-F, Part VII Longitudinal joint density:",null,null,null,653]
[3386,{"$f":"IF(INDIRECT(\"DOT3_PROD!$C$51\")<>\"\",INDIRECT(\"DOT3_PROD!$C$51\"),\"\")","v":""},"DOT3_PROD","DOT3 PRODUCTION DATA","PRODUCTION PERFORMANCE PROPERTIES OF BITUMINOUS MIXTURES","Tex 246-F Permeability or Water flow, sec:",null,null,null,1311]
[3387,{"$f":"IF(INDIRECT(\"DOT3_PROD!$C$60\")<>\"\",INDIRECT(\"DOT3_PROD!$C$60\"),\"\")","v":""},"DOT3_PROD","DOT3 PRODUCTION DATA","ESTIMATED FILM THICKNESS (based on gradation and asphalt content)","Combined bulk specific gravity (Gsb): ",null,null,null,1239]
[3388,{"$f":"IF(INDIRECT(\"DOT3_PROD!$C$61\")<>\"\",INDIRECT(\"DOT3_PROD!$C$61\"),\"\")","v":""},"DOT3_PROD","DOT3 PRODUCTION DATA","ESTIMATED FILM THICKNESS (based on gradation and asphalt content)","Effective specific gravity:"]
[3389,{"$f":"IF(INDIRECT(\"DOT3_PROD!$C$62\")<>\"\",INDIRECT(\"DOT3_PROD!$C$62\"),\"\")","v":""},"DOT3_PROD","DOT3 PRODUCTION DATA","ESTIMATED FILM THICKNESS (based on gradation and asphalt content)","Asphalt absorption, %:"]
[3390,{"$f":"IF(INDIRECT(\"DOT3_PROD!$C$63\")<>\"\",INDIRECT(\"DOT3_PROD!$C$63\"),\"\")","v":""},"DOT3_PROD","DOT3 PRODUCTION DATA","ESTIMATED FILM THICKNESS (based on gradation and asphalt content)","Effective asphalt content:"]
[3391,{"$f":"IF(INDIRECT(\"DOT3_PROD!$C$64\")<>\"\",INDIRECT(\"DOT3_PROD!$C$64\"),\"\")","v":""},"DOT3_PROD","DOT3 PRODUCTION DATA","ESTIMATED FILM THICKNESS (based on gradation and asphalt content)","Film thickness, micron:"]
[3392]
[3393,{"$f":"IF(INDIRECT(\"DOT4_PROD!$C$55\")<>\"\",INDIRECT(\"DOT4_PROD!$C$55\"),\"\")","v":""},"DOT4_PROD","DOT4 PRODUCTION DATA","PRODUCTION PERFORMANCE PROPERTIES OF BITUMINOUS MIXTURES","Tex 207-F, Part V Mat segregation density profile:",null,null,null,751]
[3394,{"$f":"IF(INDIRECT(\"DOT4_PROD!$C$56\")<>\"\",INDIRECT(\"DOT4_PROD!$C$56\"),\"\")","v":""},"DOT4_PROD","DOT4 PRODUCTION DATA","PRODUCTION PERFORMANCE PROPERTIES OF BITUMINOUS MIXTURES","Tex 207-F, Part VII Longitudinal joint density:",null,null,null,752]
[3395,{"$f":"IF(INDIRECT(\"DOT4_PROD!$C$51\")<>\"\",INDIRECT(\"DOT4_PROD!$C$51\"),\"\")","v":""},"DOT4_PROD","DOT4 PRODUCTION DATA","PRODUCTION PERFORMANCE PROPERTIES OF BITUMINOUS MIXTURES","Tex 246-F Permeability or Water flow, sec:",null,null,null,1312]
[3396,{"$f":"IF(INDIRECT(\"DOT4_PROD!$C$60\")<>\"\",INDIRECT(\"DOT4_PROD!$C$60\"),\"\")","v":""},"DOT4_PROD","DOT4 PRODUCTION DATA","ESTIMATED FILM THICKNESS (based on gradation and asphalt content)","Combined bulk specific gravity (Gsb): ",null,null,null,1240]
[3397,{"$f":"IF(INDIRECT(\"DOT4_PROD!$C$61\")<>\"\",INDIRECT(\"DOT4_PROD!$C$61\"),\"\")","v":""},"DOT4_PROD","DOT4 PRODUCTION DATA","ESTIMATED FILM THICKNESS (based on gradation and asphalt content)","Effective specific gravity:"]
[3398,{"$f":"IF(INDIRECT(\"DOT4_PROD!$C$62\")<>\"\",INDIRECT(\"DOT4_PROD!$C$62\"),\"\")","v":""},"DOT4_PROD","DOT4 PRODUCTION DATA","ESTIMATED FILM THICKNESS (based on gradation and asphalt content)","Asphalt absorption, %:"]
[3399,{"$f":"IF(INDIRECT(\"DOT4_PROD!$C$63\")<>\"\",INDIRECT(\"DOT4_PROD!$C$63\"),\"\")","v":""},"DOT4_PROD","DOT4 PRODUCTION DATA","ESTIMATED FILM THICKNESS (based on gradation and asphalt content)","Effective asphalt content:"]
[3400,{"$f":"IF(INDIRECT(\"DOT4_PROD!$C$64\")<>\"\",INDIRECT(\"DOT4_PROD!$C$64\"),\"\")","v":""},"DOT4_PROD","DOT4 PRODUCTION DATA","ESTIMATED FILM THICKNESS (based on gradation and asphalt content)","Film thickness, micron:"]
[3401]
[3402,{"$f":"IF(INDIRECT(\"CON1_PROD!$C$55\")<>\"\",INDIRECT(\"CON1_PROD!$C$55\"),\"\")","v":""},"CON1_PROD","CON1 PRODUCTION DATA","PRODUCTION PERFORMANCE PROPERTIES OF BITUMINOUS MIXTURES","Tex 207-F, Part V Mat segregation density profile:",null,null,null,850]
[3403,{"$f":"IF(INDIRECT(\"CON1_PROD!$C$56\")<>\"\",INDIRECT(\"CON1_PROD!$C$56\"),\"\")","v":""},"CON1_PROD","CON1 PRODUCTION DATA","PRODUCTION PERFORMANCE PROPERTIES OF BITUMINOUS MIXTURES","Tex 207-F, Part VII Longitudinal joint density:",null,null,null,851]
[3404,{"$f":"IF(INDIRECT(\"CON1_PROD!$C$51\")<>\"\",INDIRECT(\"CON1_PROD!$C$51\"),\"\")","v":""},"CON1_PROD","CON1 PRODUCTION DATA","PRODUCTION PERFORMANCE PROPERTIES OF BITUMINOUS MIXTURES","Tex 246-F Permeability or Water flow, sec:",null,null,null,1313]
[3405,{"$f":"IF(INDIRECT(\"CON1_PROD!$C$60\")<>\"\",INDIRECT(\"CON1_PROD!$C$60\"),\"\")","v":""},"CON1_PROD","CON1 PRODUCTION DATA","ESTIMATED FILM THICKNESS (based on gradation and asphalt content)","Combined bulk specific gravity (Gsb): ",null,null,null,1241]
[3406,{"$f":"IF(INDIRECT(\"CON1_PROD!$C$61\")<>\"\",INDIRECT(\"CON1_PROD!$C$61\"),\"\")","v":""},"CON1_PROD","CON1 PRODUCTION DATA","ESTIMATED FILM THICKNESS (based on gradation and asphalt content)","Effective specific gravity:"]
[3407,{"$f":"IF(INDIRECT(\"CON1_PROD!$C$62\")<>\"\",INDIRECT(\"CON1_PROD!$C$62\"),\"\")","v":""},"CON1_PROD","CON1 PRODUCTION DATA","ESTIMATED FILM THICKNESS (based on gradation and asphalt content)","Asphalt absorption, %:"]
[3408,{"$f":"IF(INDIRECT(\"CON1_PROD!$C$63\")<>\"\",INDIRECT(\"CON1_PROD!$C$63\"),\"\")","v":""},"CON1_PROD","CON1 PRODUCTION DATA","ESTIMATED FILM THICKNESS (based on gradation and asphalt content)","Effective asphalt content:"]
[3409,{"$f":"IF(INDIRECT(\"CON1_PROD!$C$64\")<>\"\",INDIRECT(\"CON1_PROD!$C$64\"),\"\")","v":""},"CON1_PROD","CON1 PRODUCTION DATA","ESTIMATED FILM THICKNESS (based on gradation and asphalt content)","Film thickness, micron:"]
[3410]
[3411,{"$f":"IF(INDIRECT(\"CON2_PROD!$C$55\")<>\"\",INDIRECT(\"CON2_PROD!$C$55\"),\"\")","v":""},"CON2_PROD","CON2 PRODUCTION DATA","PRODUCTION PERFORMANCE PROPERTIES OF BITUMINOUS MIXTURES","Tex 207-F, Part V Mat segregation density profile:",null,null,null,949]
[3412,{"$f":"IF(INDIRECT(\"CON2_PROD!$C$56\")<>\"\",INDIRECT(\"CON2_PROD!$C$56\"),\"\")","v":""},"CON2_PROD","CON2 PRODUCTION DATA","PRODUCTION PERFORMANCE PROPERTIES OF BITUMINOUS MIXTURES","Tex 207-F, Part VII Longitudinal joint density:",null,null,null,950]
[3413,{"$f":"IF(INDIRECT(\"CON2_PROD!$C$51\")<>\"\",INDIRECT(\"CON2_PROD!$C$51\"),\"\")","v":""},"CON2_PROD","CON2 PRODUCTION DATA","PRODUCTION PERFORMANCE PROPERTIES OF BITUMINOUS MIXTURES","Tex 246-F Permeability or Water flow, sec:",null,null,null,1314]
[3414,{"$f":"IF(INDIRECT(\"CON2_PROD!$C$60\")<>\"\",INDIRECT(\"CON2_PROD!$C$60\"),\"\")","v":""},"CON2_PROD","CON2 PRODUCTION DATA","ESTIMATED FILM THICKNESS (based on gradation and asphalt content)","Combined bulk specific gravity (Gsb): ",null,null,null,1242]
[3415,{"$f":"IF(INDIRECT(\"CON2_PROD!$C$61\")<>\"\",INDIRECT(\"CON2_PROD!$C$61\"),\"\")","v":""},"CON2_PROD","CON2 PRODUCTION DATA","ESTIMATED FILM THICKNESS (based on gradation and asphalt content)","Effective specific gravity:"]
[3416,{"$f":"IF(INDIRECT(\"CON2_PROD!$C$62\")<>\"\",INDIRECT(\"CON2_PROD!$C$62\"),\"\")","v":""},"CON2_PROD","CON2 PRODUCTION DATA","ESTIMATED FILM THICKNESS (based on gradation and asphalt content)","Asphalt absorption, %:"]
[3417,{"$f":"IF(INDIRECT(\"CON2_PROD!$C$63\")<>\"\",INDIRECT(\"CON2_PROD!$C$63\"),\"\")","v":""},"CON2_PROD","CON2 PRODUCTION DATA","ESTIMATED FILM THICKNESS (based on gradation and asphalt content)","Effective asphalt content:"]
[3418,{"$f":"IF(INDIRECT(\"CON2_PROD!$C$64\")<>\"\",INDIRECT(\"CON2_PROD!$C$64\"),\"\")","v":""},"CON2_PROD","CON2 PRODUCTION DATA","ESTIMATED FILM THICKNESS (based on gradation and asphalt content)","Film thickness, micron:"]
[3419]
[3420,{"$f":"IF(INDIRECT(\"CON3_PROD!$C$55\")<>\"\",INDIRECT(\"CON3_PROD!$C$55\"),\"\")","v":""},"CON3_PROD","CON3 PRODUCTION DATA","PRODUCTION PERFORMANCE PROPERTIES OF BITUMINOUS MIXTURES","Tex 207-F, Part V Mat segregation density profile:",null,null,null,1048]
[3421,{"$f":"IF(INDIRECT(\"CON3_PROD!$C$56\")<>\"\",INDIRECT(\"CON3_PROD!$C$56\"),\"\")","v":""},"CON3_PROD","CON3 PRODUCTION DATA","PRODUCTION PERFORMANCE PROPERTIES OF BITUMINOUS MIXTURES","Tex 207-F, Part VII Longitudinal joint density:",null,null,null,1049]
[3422,{"$f":"IF(INDIRECT(\"CON3_PROD!$C$51\")<>\"\",INDIRECT(\"CON3_PROD!$C$51\"),\"\")","v":""},"CON3_PROD","CON3 PRODUCTION DATA","PRODUCTION PERFORMANCE PROPERTIES OF BITUMINOUS MIXTURES","Tex 246-F Permeability or Water flow, sec:",null,null,null,1315]
[3423,{"$f":"IF(INDIRECT(\"CON3_PROD!$C$60\")<>\"\",INDIRECT(\"CON3_PROD!$C$60\"),\"\")","v":""},"CON3_PROD","CON3 PRODUCTION DATA","ESTIMATED FILM THICKNESS (based on gradation and asphalt content)","Combined bulk specific gravity (Gsb): ",null,null,null,1243]
[3424,{"$f":"IF(INDIRECT(\"CON3_PROD!$C$61\")<>\"\",INDIRECT(\"CON3_PROD!$C$61\"),\"\")","v":""},"CON3_PROD","CON3 PRODUCTION DATA","ESTIMATED FILM THICKNESS (based on gradation and asphalt content)","Effective specific gravity:"]
[3425,{"$f":"IF(INDIRECT(\"CON3_PROD!$C$62\")<>\"\",INDIRECT(\"CON3_PROD!$C$62\"),\"\")","v":""},"CON3_PROD","CON3 PRODUCTION DATA","ESTIMATED FILM THICKNESS (based on gradation and asphalt content)","Asphalt absorption, %:"]
[3426,{"$f":"IF(INDIRECT(\"CON3_PROD!$C$63\")<>\"\",INDIRECT(\"CON3_PROD!$C$63\"),\"\")","v":""},"CON3_PROD","CON3 PRODUCTION DATA","ESTIMATED FILM THICKNESS (based on gradation and asphalt content)","Effective asphalt content:"]
[3427,{"$f":"IF(INDIRECT(\"CON3_PROD!$C$64\")<>\"\",INDIRECT(\"CON3_PROD!$C$64\"),\"\")","v":""},"CON3_PROD","CON3 PRODUCTION DATA","ESTIMATED FILM THICKNESS (based on gradation and asphalt content)","Film thickness, micron:"]
[3428]
[3429,{"$f":"IF(INDIRECT(\"CON4_PROD!$C$55\")<>\"\",INDIRECT(\"CON4_PROD!$C$55\"),\"\")","v":""},"CON4_PROD","CON4 PRODUCTION DATA","PRODUCTION PERFORMANCE PROPERTIES OF BITUMINOUS MIXTURES","Tex 207-F, Part V Mat segregation density profile:",null,null,null,1147]
[3430,{"$f":"IF(INDIRECT(\"CON4_PROD!$C$56\")<>\"\",INDIRECT(\"CON4_PROD!$C$56\"),\"\")","v":""},"CON4_PROD","CON4 PRODUCTION DATA","PRODUCTION PERFORMANCE PROPERTIES OF BITUMINOUS MIXTURES","Tex 207-F, Part VII Longitudinal joint density:",null,null,null,1148]
[3431,{"$f":"IF(INDIRECT(\"CON4_PROD!$C$51\")<>\"\",INDIRECT(\"CON4_PROD!$C$51\"),\"\")","v":""},"CON4_PROD","CON4 PRODUCTION DATA","PRODUCTION PERFORMANCE PROPERTIES OF BITUMINOUS MIXTURES","Tex 246-F Permeability or Water flow, sec:",null,null,null,1316]
[3432,{"$f":"IF(INDIRECT(\"CON4_PROD!$C$60\")<>\"\",INDIRECT(\"CON4_PROD!$C$60\"),\"\")","v":""},"CON4_PROD","CON4 PRODUCTION DATA","ESTIMATED FILM THICKNESS (based on gradation and asphalt content)","Combined bulk specific gravity (Gsb): ",null,null,null,1244]
[3433,{"$f":"IF(INDIRECT(\"CON4_PROD!$C$61\")<>\"\",INDIRECT(\"CON4_PROD!$C$61\"),\"\")","v":""},"CON4_PROD","CON4 PRODUCTION DATA","ESTIMATED FILM THICKNESS (based on gradation and asphalt content)","Effective specific gravity:"]
[3434,{"$f":"IF(INDIRECT(\"CON4_PROD!$C$62\")<>\"\",INDIRECT(\"CON4_PROD!$C$62\"),\"\")","v":""},"CON4_PROD","CON4 PRODUCTION DATA","ESTIMATED FILM THICKNESS (based on gradation and asphalt content)","Asphalt absorption, %:"]
[3435,{"$f":"IF(INDIRECT(\"CON4_PROD!$C$63\")<>\"\",INDIRECT(\"CON4_PROD!$C$63\"),\"\")","v":""},"CON4_PROD","CON4 PRODUCTION DATA","ESTIMATED FILM THICKNESS (based on gradation and asphalt content)","Effective asphalt content:"]
[3436,{"$f":"IF(INDIRECT(\"CON4_PROD!$C$64\")<>\"\",INDIRECT(\"CON4_PROD!$C$64\"),\"\")","v":""},"CON4_PROD","CON4 PRODUCTION DATA","ESTIMATED FILM THICKNESS (based on gradation and asphalt content)","Film thickness, micron:"]
[3437]
[3438,{"$f":"IF(INDIRECT(\"DOT1_DENSITY!C32\")<>\"\",INDIRECT(\"DOT1_DENSITY!C32\"),\"\")","v":""},"DOT1_DENSITY","DOT1 MEAN VOLUMETRIC PROPERTIES","Specimen type:","Laboratory","Asphalt content, %"]
[3439,{"$f":"IF(INDIRECT(\"DOT1_DENSITY!C33\")<>\"\",INDIRECT(\"DOT1_DENSITY!C33\"),\"\")","v":""},"DOT1_DENSITY","DOT1 MEAN VOLUMETRIC PROPERTIES","Specimen type:","Laboratory","Rice specific gravity, Gr"]
[3440,{"$f":"IF(INDIRECT(\"DOT1_DENSITY!C34\")<>\"\",INDIRECT(\"DOT1_DENSITY!C34\"),\"\")","v":""},"DOT1_DENSITY","DOT1 MEAN VOLUMETRIC PROPERTIES","Specimen type:","Laboratory","Percent density, %"]
[3441,{"$f":"IF(INDIRECT(\"DOT1_DENSITY!C35\")<>\"\",INDIRECT(\"DOT1_DENSITY!C35\"),\"\")","v":""},"DOT1_DENSITY","DOT1 MEAN VOLUMETRIC PROPERTIES","Specimen type:","Laboratory","Actual specific gravity"]
[3442,{"$f":"IF(INDIRECT(\"DOT1_DENSITY!C36\")<>\"\",INDIRECT(\"DOT1_DENSITY!C36\"),\"\")","v":""},"DOT1_DENSITY","DOT1 MEAN VOLUMETRIC PROPERTIES","Specimen type:","Laboratory","Percent air voids, %"]
[3443,{"$f":"IF(INDIRECT(\"DOT1_DENSITY!C37\")<>\"\",INDIRECT(\"DOT1_DENSITY!C37\"),\"\")","v":""},"DOT1_DENSITY","DOT1 MEAN VOLUMETRIC PROPERTIES","Specimen type:","Laboratory","Percent VMA, %"]
[3444]
[3445,{"$f":"IF(INDIRECT(\"DOT1_DENSITY!F32\")<>\"\",INDIRECT(\"DOT1_DENSITY!F32\"),\"\")","v":""},"DOT1_DENSITY","DOT1 MEAN VOLUMETRIC PROPERTIES","Specimen type:","Roadway","Asphalt content, %"]
[3446,{"$f":"IF(INDIRECT(\"DOT1_DENSITY!F33\")<>\"\",INDIRECT(\"DOT1_DENSITY!F33\"),\"\")","v":""},"DOT1_DENSITY","DOT1 MEAN VOLUMETRIC PROPERTIES","Specimen type:","Roadway","Rice specific gravity, Gr"]
[3447,{"$f":"IF(INDIRECT(\"DOT1_DENSITY!F34\")<>\"\",INDIRECT(\"DOT1_DENSITY!F34\"),\"\")","v":""},"DOT1_DENSITY","DOT1 MEAN VOLUMETRIC PROPERTIES","Specimen type:","Roadway","Percent density, %"]
[3448,{"$f":"IF(INDIRECT(\"DOT1_DENSITY!F35\")<>\"\",INDIRECT(\"DOT1_DENSITY!F35\"),\"\")","v":""},"DOT1_DENSITY","DOT1 MEAN VOLUMETRIC PROPERTIES","Specimen type:","Roadway","Actual specific gravity"]
[3449,{"$f":"IF(INDIRECT(\"DOT1_DENSITY!F36\")<>\"\",INDIRECT(\"DOT1_DENSITY!F36\"),\"\")","v":""},"DOT1_DENSITY","DOT1 MEAN VOLUMETRIC PROPERTIES","Specimen type:","Roadway","Percent air voids, %"]
[3450,{"$f":"IF(INDIRECT(\"DOT1_DENSITY!F37\")<>\"\",INDIRECT(\"DOT1_DENSITY!F37\"),\"\")","v":""},"DOT1_DENSITY","DOT1 MEAN VOLUMETRIC PROPERTIES","Specimen type:","Roadway","Percent VMA, %"]
[3451]
[3452,{"$f":"IF(INDIRECT(\"DOT2_DENSITY!C32\")<>\"\",INDIRECT(\"DOT2_DENSITY!C32\"),\"\")","v":""},"DOT2_DENSITY","DOT2 MEAN VOLUMETRIC PROPERTIES","Specimen type:","Laboratory","Asphalt content, %"]
[3453,{"$f":"IF(INDIRECT(\"DOT2_DENSITY!C33\")<>\"\",INDIRECT(\"DOT2_DENSITY!C33\"),\"\")","v":""},"DOT2_DENSITY","DOT2 MEAN VOLUMETRIC PROPERTIES","Specimen type:","Laboratory","Rice specific gravity, Gr"]
[3454,{"$f":"IF(INDIRECT(\"DOT2_DENSITY!C34\")<>\"\",INDIRECT(\"DOT2_DENSITY!C34\"),\"\")","v":""},"DOT2_DENSITY","DOT2 MEAN VOLUMETRIC PROPERTIES","Specimen type:","Laboratory","Percent density, %"]
[3455,{"$f":"IF(INDIRECT(\"DOT2_DENSITY!C35\")<>\"\",INDIRECT(\"DOT2_DENSITY!C35\"),\"\")","v":""},"DOT2_DENSITY","DOT2 MEAN VOLUMETRIC PROPERTIES","Specimen type:","Laboratory","Actual specific gravity"]
[3456,{"$f":"IF(INDIRECT(\"DOT2_DENSITY!C36\")<>\"\",INDIRECT(\"DOT2_DENSITY!C36\"),\"\")","v":""},"DOT2_DENSITY","DOT2 MEAN VOLUMETRIC PROPERTIES","Specimen type:","Laboratory","Percent air voids, %"]
[3457,{"$f":"IF(INDIRECT(\"DOT2_DENSITY!C37\")<>\"\",INDIRECT(\"DOT2_DENSITY!C37\"),\"\")","v":""},"DOT2_DENSITY","DOT2 MEAN VOLUMETRIC PROPERTIES","Specimen type:","Laboratory","Percent VMA, %"]
[3458]
[3459,{"$f":"IF(INDIRECT(\"DOT2_DENSITY!F32\")<>\"\",INDIRECT(\"DOT2_DENSITY!F32\"),\"\")","v":""},"DOT2_DENSITY","DOT2 MEAN VOLUMETRIC PROPERTIES","Specimen type:","Roadway","Asphalt content, %"]
[3460,{"$f":"IF(INDIRECT(\"DOT2_DENSITY!F33\")<>\"\",INDIRECT(\"DOT2_DENSITY!F33\"),\"\")","v":""},"DOT2_DENSITY","DOT2 MEAN VOLUMETRIC PROPERTIES","Specimen type:","Roadway","Rice specific gravity, Gr"]
[3461,{"$f":"IF(INDIRECT(\"DOT2_DENSITY!F34\")<>\"\",INDIRECT(\"DOT2_DENSITY!F34\"),\"\")","v":""},"DOT2_DENSITY","DOT2 MEAN VOLUMETRIC PROPERTIES","Specimen type:","Roadway","Percent density, %"]
[3462,{"$f":"IF(INDIRECT(\"DOT2_DENSITY!F35\")<>\"\",INDIRECT(\"DOT2_DENSITY!F35\"),\"\")","v":""},"DOT2_DENSITY","DOT2 MEAN VOLUMETRIC PROPERTIES","Specimen type:","Roadway","Actual specific gravity"]
[3463,{"$f":"IF(INDIRECT(\"DOT2_DENSITY!F36\")<>\"\",INDIRECT(\"DOT2_DENSITY!F36\"),\"\")","v":""},"DOT2_DENSITY","DOT2 MEAN VOLUMETRIC PROPERTIES","Specimen type:","Roadway","Percent air voids, %"]
[3464,{"$f":"IF(INDIRECT(\"DOT2_DENSITY!F37\")<>\"\",INDIRECT(\"DOT2_DENSITY!F37\"),\"\")","v":""},"DOT2_DENSITY","DOT2 MEAN VOLUMETRIC PROPERTIES","Specimen type:","Roadway","Percent VMA, %"]
[3465]
[3466,{"$f":"IF(INDIRECT(\"DOT3_DENSITY!C32\")<>\"\",INDIRECT(\"DOT3_DENSITY!C32\"),\"\")","v":""},"DOT3_DENSITY","DOT3 MEAN VOLUMETRIC PROPERTIES","Specimen type:","Laboratory","Asphalt content, %"]
[3467,{"$f":"IF(INDIRECT(\"DOT3_DENSITY!C33\")<>\"\",INDIRECT(\"DOT3_DENSITY!C33\"),\"\")","v":""},"DOT3_DENSITY","DOT3 MEAN VOLUMETRIC PROPERTIES","Specimen type:","Laboratory","Rice specific gravity, Gr"]
[3468,{"$f":"IF(INDIRECT(\"DOT3_DENSITY!C34\")<>\"\",INDIRECT(\"DOT3_DENSITY!C34\"),\"\")","v":""},"DOT3_DENSITY","DOT3 MEAN VOLUMETRIC PROPERTIES","Specimen type:","Laboratory","Percent density, %"]
[3469,{"$f":"IF(INDIRECT(\"DOT3_DENSITY!C35\")<>\"\",INDIRECT(\"DOT3_DENSITY!C35\"),\"\")","v":""},"DOT3_DENSITY","DOT3 MEAN VOLUMETRIC PROPERTIES","Specimen type:","Laboratory","Actual specific gravity"]
[3470,{"$f":"IF(INDIRECT(\"DOT3_DENSITY!C36\")<>\"\",INDIRECT(\"DOT3_DENSITY!C36\"),\"\")","v":""},"DOT3_DENSITY","DOT3 MEAN VOLUMETRIC PROPERTIES","Specimen type:","Laboratory","Percent air voids, %"]
[3471,{"$f":"IF(INDIRECT(\"DOT3_DENSITY!C37\")<>\"\",INDIRECT(\"DOT3_DENSITY!C37\"),\"\")","v":""},"DOT3_DENSITY","DOT3 MEAN VOLUMETRIC PROPERTIES","Specimen type:","Laboratory","Percent VMA, %"]
[3472]
[3473,{"$f":"IF(INDIRECT(\"DOT3_DENSITY!F32\")<>\"\",INDIRECT(\"DOT3_DENSITY!F32\"),\"\")","v":""},"DOT3_DENSITY","DOT3 MEAN VOLUMETRIC PROPERTIES","Specimen type:","Roadway","Asphalt content, %"]
[3474,{"$f":"IF(INDIRECT(\"DOT3_DENSITY!F33\")<>\"\",INDIRECT(\"DOT3_DENSITY!F33\"),\"\")","v":""},"DOT3_DENSITY","DOT3 MEAN VOLUMETRIC PROPERTIES","Specimen type:","Roadway","Rice specific gravity, Gr"]
[3475,{"$f":"IF(INDIRECT(\"DOT3_DENSITY!F34\")<>\"\",INDIRECT(\"DOT3_DENSITY!F34\"),\"\")","v":""},"DOT3_DENSITY","DOT3 MEAN VOLUMETRIC PROPERTIES","Specimen type:","Roadway","Percent density, %"]
[3476,{"$f":"IF(INDIRECT(\"DOT3_DENSITY!F35\")<>\"\",INDIRECT(\"DOT3_DENSITY!F35\"),\"\")","v":""},"DOT3_DENSITY","DOT3 MEAN VOLUMETRIC PROPERTIES","Specimen type:","Roadway","Actual specific gravity"]
[3477,{"$f":"IF(INDIRECT(\"DOT3_DENSITY!F36\")<>\"\",INDIRECT(\"DOT3_DENSITY!F36\"),\"\")","v":""},"DOT3_DENSITY","DOT3 MEAN VOLUMETRIC PROPERTIES","Specimen type:","Roadway","Percent air voids, %"]
[3478,{"$f":"IF(INDIRECT(\"DOT3_DENSITY!F37\")<>\"\",INDIRECT(\"DOT3_DENSITY!F37\"),\"\")","v":""},"DOT3_DENSITY","DOT3 MEAN VOLUMETRIC PROPERTIES","Specimen type:","Roadway","Percent VMA, %"]
[3479]
[3480,{"$f":"IF(INDIRECT(\"DOT4_DENSITY!C32\")<>\"\",INDIRECT(\"DOT4_DENSITY!C32\"),\"\")","v":""},"DOT4_DENSITY","DOT4 MEAN VOLUMETRIC PROPERTIES","Specimen type:","Laboratory","Asphalt content, %"]
[3481,{"$f":"IF(INDIRECT(\"DOT4_DENSITY!C33\")<>\"\",INDIRECT(\"DOT4_DENSITY!C33\"),\"\")","v":""},"DOT4_DENSITY","DOT4 MEAN VOLUMETRIC PROPERTIES","Specimen type:","Laboratory","Rice specific gravity, Gr"]
[3482,{"$f":"IF(INDIRECT(\"DOT4_DENSITY!C34\")<>\"\",INDIRECT(\"DOT4_DENSITY!C34\"),\"\")","v":""},"DOT4_DENSITY","DOT4 MEAN VOLUMETRIC PROPERTIES","Specimen type:","Laboratory","Percent density, %"]
[3483,{"$f":"IF(INDIRECT(\"DOT4_DENSITY!C35\")<>\"\",INDIRECT(\"DOT4_DENSITY!C35\"),\"\")","v":""},"DOT4_DENSITY","DOT4 MEAN VOLUMETRIC PROPERTIES","Specimen type:","Laboratory","Actual specific gravity"]
[3484,{"$f":"IF(INDIRECT(\"DOT4_DENSITY!C36\")<>\"\",INDIRECT(\"DOT4_DENSITY!C36\"),\"\")","v":""},"DOT4_DENSITY","DOT4 MEAN VOLUMETRIC PROPERTIES","Specimen type:","Laboratory","Percent air voids, %"]
[3485,{"$f":"IF(INDIRECT(\"DOT4_DENSITY!C37\")<>\"\",INDIRECT(\"DOT4_DENSITY!C37\"),\"\")","v":""},"DOT4_DENSITY","DOT4 MEAN VOLUMETRIC PROPERTIES","Specimen type:","Laboratory","Percent VMA, %"]
[3486]
[3487,{"$f":"IF(INDIRECT(\"DOT4_DENSITY!F32\")<>\"\",INDIRECT(\"DOT4_DENSITY!F32\"),\"\")","v":""},"DOT4_DENSITY","DOT4 MEAN VOLUMETRIC PROPERTIES","Specimen type:","Roadway","Asphalt content, %"]
[3488,{"$f":"IF(INDIRECT(\"DOT4_DENSITY!F33\")<>\"\",INDIRECT(\"DOT4_DENSITY!F33\"),\"\")","v":""},"DOT4_DENSITY","DOT4 MEAN VOLUMETRIC PROPERTIES","Specimen type:","Roadway","Rice specific gravity, Gr"]
[3489,{"$f":"IF(INDIRECT(\"DOT4_DENSITY!F34\")<>\"\",INDIRECT(\"DOT4_DENSITY!F34\"),\"\")","v":""},"DOT4_DENSITY","DOT4 MEAN VOLUMETRIC PROPERTIES","Specimen type:","Roadway","Percent density, %"]
[3490,{"$f":"IF(INDIRECT(\"DOT4_DENSITY!F35\")<>\"\",INDIRECT(\"DOT4_DENSITY!F35\"),\"\")","v":""},"DOT4_DENSITY","DOT4 MEAN VOLUMETRIC PROPERTIES","Specimen type:","Roadway","Actual specific gravity"]
[3491,{"$f":"IF(INDIRECT(\"DOT4_DENSITY!F36\")<>\"\",INDIRECT(\"DOT4_DENSITY!F36\"),\"\")","v":""},"DOT4_DENSITY","DOT4 MEAN VOLUMETRIC PROPERTIES","Specimen type:","Roadway","Percent air voids, %"]
[3492,{"$f":"IF(INDIRECT(\"DOT4_DENSITY!F37\")<>\"\",INDIRECT(\"DOT4_DENSITY!F37\"),\"\")","v":""},"DOT4_DENSITY","DOT4 MEAN VOLUMETRIC PROPERTIES","Specimen type:","Roadway","Percent VMA, %"]
[3493]
[3494,{"$f":"IF(INDIRECT(\"CON1_DENSITY!C32\")<>\"\",INDIRECT(\"CON1_DENSITY!C32\"),\"\")","v":""},"CON1_DENSITY","CON1 MEAN VOLUMETRIC PROPERTIES","Specimen type:","Laboratory","Asphalt content, %"]
[3495,{"$f":"IF(INDIRECT(\"CON1_DENSITY!C33\")<>\"\",INDIRECT(\"CON1_DENSITY!C33\"),\"\")","v":""},"CON1_DENSITY","CON1 MEAN VOLUMETRIC PROPERTIES","Specimen type:","Laboratory","Rice specific gravity, Gr"]
[3496,{"$f":"IF(INDIRECT(\"CON1_DENSITY!C34\")<>\"\",INDIRECT(\"CON1_DENSITY!C34\"),\"\")","v":""},"CON1_DENSITY","CON1 MEAN VOLUMETRIC PROPERTIES","Specimen type:","Laboratory","Percent density, %"]
[3497,{"$f":"IF(INDIRECT(\"CON1_DENSITY!C35\")<>\"\",INDIRECT(\"CON1_DENSITY!C35\"),\"\")","v":""},"CON1_DENSITY","CON1 MEAN VOLUMETRIC PROPERTIES","Specimen type:","Laboratory","Actual specific gravity"]
[3498,{"$f":"IF(INDIRECT(\"CON1_DENSITY!C36\")<>\"\",INDIRECT(\"CON1_DENSITY!C36\"),\"\")","v":""},"CON1_DENSITY","CON1 MEAN VOLUMETRIC PROPERTIES","Specimen type:","Laboratory","Percent air voids, %"]
[3499,{"$f":"IF(INDIRECT(\"CON1_DENSITY!C37\")<>\"\",INDIRECT(\"CON1_DENSITY!C37\"),\"\")","v":""},"CON1_DENSITY","CON1 MEAN VOLUMETRIC PROPERTIES","Specimen type:","Laboratory","Percent VMA, %"]
[3500]
[3501,{"$f":"IF(INDIRECT(\"CON1_DENSITY!F32\")<>\"\",INDIRECT(\"CON1_DENSITY!F32\"),\"\")","v":""},"CON1_DENSITY","CON1 MEAN VOLUMETRIC PROPERTIES","Specimen type:","Roadway","Asphalt content, %"]
[3502,{"$f":"IF(INDIRECT(\"CON1_DENSITY!F33\")<>\"\",INDIRECT(\"CON1_DENSITY!F33\"),\"\")","v":""},"CON1_DENSITY","CON1 MEAN VOLUMETRIC PROPERTIES","Specimen type:","Roadway","Rice specific gravity, Gr"]
[3503,{"$f":"IF(INDIRECT(\"CON1_DENSITY!F34\")<>\"\",INDIRECT(\"CON1_DENSITY!F34\"),\"\")","v":""},"CON1_DENSITY","CON1 MEAN VOLUMETRIC PROPERTIES","Specimen type:","Roadway","Percent density, %"]
[3504,{"$f":"IF(INDIRECT(\"CON1_DENSITY!F35\")<>\"\",INDIRECT(\"CON1_DENSITY!F35\"),\"\")","v":""},"CON1_DENSITY","CON1 MEAN VOLUMETRIC PROPERTIES","Specimen type:","Roadway","Actual specific gravity"]
[3505,{"$f":"IF(INDIRECT(\"CON1_DENSITY!F36\")<>\"\",INDIRECT(\"CON1_DENSITY!F36\"),\"\")","v":""},"CON1_DENSITY","CON1 MEAN VOLUMETRIC PROPERTIES","Specimen type:","Roadway","Percent air voids, %"]
[3506,{"$f":"IF(INDIRECT(\"CON1_DENSITY!F37\")<>\"\",INDIRECT(\"CON1_DENSITY!F37\"),\"\")","v":""},"CON1_DENSITY","CON1 MEAN VOLUMETRIC PROPERTIES","Specimen type:","Roadway","Percent VMA, %"]
[3507]
[3508,{"$f":"IF(INDIRECT(\"CON2_DENSITY!C32\")<>\"\",INDIRECT(\"CON2_DENSITY!C32\"),\"\")","v":""},"CON2_DENSITY","CON2 MEAN VOLUMETRIC PROPERTIES","Specimen type:","Laboratory","Asphalt content, %"]
[3509,{"$f":"IF(INDIRECT(\"CON2_DENSITY!C33\")<>\"\",INDIRECT(\"CON2_DENSITY!C33\"),\"\")","v":""},"CON2_DENSITY","CON2 MEAN VOLUMETRIC PROPERTIES","Specimen type:","Laboratory","Rice specific gravity, Gr"]
[3510,{"$f":"IF(INDIRECT(\"CON2_DENSITY!C34\")<>\"\",INDIRECT(\"CON2_DENSITY!C34\"),\"\")","v":""},"CON2_DENSITY","CON2 MEAN VOLUMETRIC PROPERTIES","Specimen type:","Laboratory","Percent density, %"]
[3511,{"$f":"IF(INDIRECT(\"CON2_DENSITY!C35\")<>\"\",INDIRECT(\"CON2_DENSITY!C35\"),\"\")","v":""},"CON2_DENSITY","CON2 MEAN VOLUMETRIC PROPERTIES","Specimen type:","Laboratory","Actual specific gravity"]
[3512,{"$f":"IF(INDIRECT(\"CON2_DENSITY!C36\")<>\"\",INDIRECT(\"CON2_DENSITY!C36\"),\"\")","v":""},"CON2_DENSITY","CON2 MEAN VOLUMETRIC PROPERTIES","Specimen type:","Laboratory","Percent air voids, %"]
[3513,{"$f":"IF(INDIRECT(\"CON2_DENSITY!C37\")<>\"\",INDIRECT(\"CON2_DENSITY!C37\"),\"\")","v":""},"CON2_DENSITY","CON2 MEAN VOLUMETRIC PROPERTIES","Specimen type:","Laboratory","Percent VMA, %"]
[3514]
[3515,{"$f":"IF(INDIRECT(\"CON2_DENSITY!F32\")<>\"\",INDIRECT(\"CON2_DENSITY!F32\"),\"\")","v":""},"CON2_DENSITY","CON2 MEAN VOLUMETRIC PROPERTIES","Specimen type:","Roadway","Asphalt content, %"]
[3516,{"$f":"IF(INDIRECT(\"CON2_DENSITY!F33\")<>\"\",INDIRECT(\"CON2_DENSITY!F33\"),\"\")","v":""},"CON2_DENSITY","CON2 MEAN VOLUMETRIC PROPERTIES","Specimen type:","Roadway","Rice specific gravity, Gr"]
[3517,{"$f":"IF(INDIRECT(\"CON2_DENSITY!F34\")<>\"\",INDIRECT(\"CON2_DENSITY!F34\"),\"\")","v":""},"CON2_DENSITY","CON2 MEAN VOLUMETRIC PROPERTIES","Specimen type:","Roadway","Percent density, %"]
[3518,{"$f":"IF(INDIRECT(\"CON2_DENSITY!F35\")<>\"\",INDIRECT(\"CON2_DENSITY!F35\"),\"\")","v":""},"CON2_DENSITY","CON2 MEAN VOLUMETRIC PROPERTIES","Specimen type:","Roadway","Actual specific gravity"]
[3519,{"$f":"IF(INDIRECT(\"CON2_DENSITY!F36\")<>\"\",INDIRECT(\"CON2_DENSITY!F36\"),\"\")","v":""},"CON2_DENSITY","CON2 MEAN VOLUMETRIC PROPERTIES","Specimen type:","Roadway","Percent air voids, %"]
[3520,{"$f":"IF(INDIRECT(\"CON2_DENSITY!F37\")<>\"\",INDIRECT(\"CON2_DENSITY!F37\"),\"\")","v":""},"CON2_DENSITY","CON2 MEAN VOLUMETRIC PROPERTIES","Specimen type:","Roadway","Percent VMA, %"]
[3521]
[3522,{"$f":"IF(INDIRECT(\"CON3_DENSITY!C32\")<>\"\",INDIRECT(\"CON3_DENSITY!C32\"),\"\")","v":""},"CON3_DENSITY","CON3 MEAN VOLUMETRIC PROPERTIES","Specimen type:","Laboratory","Asphalt content, %"]
[3523,{"$f":"IF(INDIRECT(\"CON3_DENSITY!C33\")<>\"\",INDIRECT(\"CON3_DENSITY!C33\"),\"\")","v":""},"CON3_DENSITY","CON3 MEAN VOLUMETRIC PROPERTIES","Specimen type:","Laboratory","Rice specific gravity, Gr"]
[3524,{"$f":"IF(INDIRECT(\"CON3_DENSITY!C34\")<>\"\",INDIRECT(\"CON3_DENSITY!C34\"),\"\")","v":""},"CON3_DENSITY","CON3 MEAN VOLUMETRIC PROPERTIES","Specimen type:","Laboratory","Percent density, %"]
[3525,{"$f":"IF(INDIRECT(\"CON3_DENSITY!C35\")<>\"\",INDIRECT(\"CON3_DENSITY!C35\"),\"\")","v":""},"CON3_DENSITY","CON3 MEAN VOLUMETRIC PROPERTIES","Specimen type:","Laboratory","Actual specific gravity"]
[3526,{"$f":"IF(INDIRECT(\"CON3_DENSITY!C36\")<>\"\",INDIRECT(\"CON3_DENSITY!C36\"),\"\")","v":""},"CON3_DENSITY","CON3 MEAN VOLUMETRIC PROPERTIES","Specimen type:","Laboratory","Percent air voids, %"]
[3527,{"$f":"IF(INDIRECT(\"CON3_DENSITY!C37\")<>\"\",INDIRECT(\"CON3_DENSITY!C37\"),\"\")","v":""},"CON3_DENSITY","CON3 MEAN VOLUMETRIC PROPERTIES","Specimen type:","Laboratory","Percent VMA, %"]
[3528]
[3529,{"$f":"IF(INDIRECT(\"CON3_DENSITY!F32\")<>\"\",INDIRECT(\"CON3_DENSITY!F32\"),\"\")","v":""},"CON3_DENSITY","CON3 MEAN VOLUMETRIC PROPERTIES","Specimen type:","Roadway","Asphalt content, %"]
[3530,{"$f":"IF(INDIRECT(\"CON3_DENSITY!F33\")<>\"\",INDIRECT(\"CON3_DENSITY!F33\"),\"\")","v":""},"CON3_DENSITY","CON3 MEAN VOLUMETRIC PROPERTIES","Specimen type:","Roadway","Rice specific gravity, Gr"]
[3531,{"$f":"IF(INDIRECT(\"CON3_DENSITY!F34\")<>\"\",INDIRECT(\"CON3_DENSITY!F34\"),\"\")","v":""},"CON3_DENSITY","CON3 MEAN VOLUMETRIC PROPERTIES","Specimen type:","Roadway","Percent density, %"]
[3532,{"$f":"IF(INDIRECT(\"CON3_DENSITY!F35\")<>\"\",INDIRECT(\"CON3_DENSITY!F35\"),\"\")","v":""},"CON3_DENSITY","CON3 MEAN VOLUMETRIC PROPERTIES","Specimen type:","Roadway","Actual specific gravity"]
[3533,{"$f":"IF(INDIRECT(\"CON3_DENSITY!F36\")<>\"\",INDIRECT(\"CON3_DENSITY!F36\"),\"\")","v":""},"CON3_DENSITY","CON3 MEAN VOLUMETRIC PROPERTIES","Specimen type:","Roadway","Percent air voids, %"]
[3534,{"$f":"IF(INDIRECT(\"CON3_DENSITY!F37\")<>\"\",INDIRECT(\"CON3_DENSITY!F37\"),\"\")","v":""},"CON3_DENSITY","CON3 MEAN VOLUMETRIC PROPERTIES","Specimen type:","Roadway","Percent VMA, %"]
[3535]
[3536,{"$f":"IF(INDIRECT(\"CON4_DENSITY!C32\")<>\"\",INDIRECT(\"CON4_DENSITY!C32\"),\"\")","v":""},"CON4_DENSITY","CON4 MEAN VOLUMETRIC PROPERTIES","Specimen type:","Laboratory","Asphalt content, %"]
[3537,{"$f":"IF(INDIRECT(\"CON4_DENSITY!C33\")<>\"\",INDIRECT(\"CON4_DENSITY!C33\"),\"\")","v":""},"CON4_DENSITY","CON4 MEAN VOLUMETRIC PROPERTIES","Specimen type:","Laboratory","Rice specific gravity, Gr"]
[3538,{"$f":"IF(INDIRECT(\"CON4_DENSITY!C34\")<>\"\",INDIRECT(\"CON4_DENSITY!C34\"),\"\")","v":""},"CON4_DENSITY","CON4 MEAN VOLUMETRIC PROPERTIES","Specimen type:","Laboratory","Percent density, %"]
[3539,{"$f":"IF(INDIRECT(\"CON4_DENSITY!C35\")<>\"\",INDIRECT(\"CON4_DENSITY!C35\"),\"\")","v":""},"CON4_DENSITY","CON4 MEAN VOLUMETRIC PROPERTIES","Specimen type:","Laboratory","Actual specific gravity"]
[3540,{"$f":"IF(INDIRECT(\"CON4_DENSITY!C36\")<>\"\",INDIRECT(\"CON4_DENSITY!C36\"),\"\")","v":""},"CON4_DENSITY","CON4 MEAN VOLUMETRIC PROPERTIES","Specimen type:","Laboratory","Percent air voids, %"]
[3541,{"$f":"IF(INDIRECT(\"CON4_DENSITY!C37\")<>\"\",INDIRECT(\"CON4_DENSITY!C37\"),\"\")","v":""},"CON4_DENSITY","CON4 MEAN VOLUMETRIC PROPERTIES","Specimen type:","Laboratory","Percent VMA, %"]
[3542]
[3543,{"$f":"IF(INDIRECT(\"CON4_DENSITY!F32\")<>\"\",INDIRECT(\"CON4_DENSITY!F32\"),\"\")","v":""},"CON4_DENSITY","CON4 MEAN VOLUMETRIC PROPERTIES","Specimen type:","Roadway","Asphalt content, %"]
[3544,{"$f":"IF(INDIRECT(\"CON4_DENSITY!F33\")<>\"\",INDIRECT(\"CON4_DENSITY!F33\"),\"\")","v":""},"CON4_DENSITY","CON4 MEAN VOLUMETRIC PROPERTIES","Specimen type:","Roadway","Rice specific gravity, Gr"]
[3545,{"$f":"IF(INDIRECT(\"CON4_DENSITY!F34\")<>\"\",INDIRECT(\"CON4_DENSITY!F34\"),\"\")","v":""},"CON4_DENSITY","CON4 MEAN VOLUMETRIC PROPERTIES","Specimen type:","Roadway","Percent density, %"]
[3546,{"$f":"IF(INDIRECT(\"CON4_DENSITY!F35\")<>\"\",INDIRECT(\"CON4_DENSITY!F35\"),\"\")","v":""},"CON4_DENSITY","CON4 MEAN VOLUMETRIC PROPERTIES","Specimen type:","Roadway","Actual specific gravity"]
[3547,{"$f":"IF(INDIRECT(\"CON4_DENSITY!F36\")<>\"\",INDIRECT(\"CON4_DENSITY!F36\"),\"\")","v":""},"CON4_DENSITY","CON4 MEAN VOLUMETRIC PROPERTIES","Specimen type:","Roadway","Percent air voids, %"]
[3548,{"$f":"IF(INDIRECT(\"CON4_DENSITY!F37\")<>\"\",INDIRECT(\"CON4_DENSITY!F37\"),\"\")","v":""},"CON4_DENSITY","CON4 MEAN VOLUMETRIC PROPERTIES","Specimen type:","Roadway","Percent VMA, %"]
[3549]
[3550,{"$f":"IF(SUMMARY!O7<>\"\",SUMMARY!O7,\"\")","v":""},"SUMMARY","GRADATION OF EXTRACTED AGGREGATE-Tex-200-F","Sieve size",{"$f":"F3030","v":""},"DOT Correlation factor"]
[3551,{"$f":"IF(SUMMARY!O8<>\"\",SUMMARY!O8,\"\")","v":""},"SUMMARY","GRADATION OF EXTRACTED AGGREGATE-Tex-200-F","Sieve size","","DOT Correlation factor"]
[3552,{"$f":"IF(SUMMARY!O9<>\"\",SUMMARY!O9,\"\")","v":""},"SUMMARY","GRADATION OF EXTRACTED AGGREGATE-Tex-200-F","Sieve size","","DOT Correlation factor"]
[3553,{"$f":"IF(SUMMARY!O10<>\"\",SUMMARY!O10,\"\")","v":""},"SUMMARY","GRADATION OF EXTRACTED AGGREGATE-Tex-200-F","Sieve size","","DOT Correlation factor"]
[3554,{"$f":"IF(SUMMARY!O11<>\"\",SUMMARY!O11,\"\")","v":""},"SUMMARY","GRADATION OF EXTRACTED AGGREGATE-Tex-200-F","Sieve size","","DOT Correlation factor"]
[3555,{"$f":"IF(SUMMARY!O12<>\"\",SUMMARY!O12,\"\")","v":""},"SUMMARY","GRADATION OF EXTRACTED AGGREGATE-Tex-200-F","Sieve size","","DOT Correlation factor"]
[3556,{"$f":"IF(SUMMARY!O13<>\"\",SUMMARY!O13,\"\")","v":""},"SUMMARY","GRADATION OF EXTRACTED AGGREGATE-Tex-200-F","Sieve size","","DOT Correlation factor"]
[3557,{"$f":"IF(SUMMARY!O14<>\"\",SUMMARY!O14,\"\")","v":""},"SUMMARY","GRADATION OF EXTRACTED AGGREGATE-Tex-200-F","Sieve size","","DOT Correlation factor"]
[3558,{"$f":"IF(SUMMARY!O15<>\"\",SUMMARY!O15,\"\")","v":""},"SUMMARY","GRADATION OF EXTRACTED AGGREGATE-Tex-200-F","Sieve size","","DOT Correlation factor"]
[3559,{"$f":"IF(SUMMARY!O16<>\"\",SUMMARY!O16,\"\")","v":""},"SUMMARY","GRADATION OF EXTRACTED AGGREGATE-Tex-200-F","Sieve size","","DOT Correlation factor"]
[3560]
[3561,{"$f":"IF(SUMMARY!P7<>\"\",SUMMARY!P7,\"\")","v":""},"SUMMARY","GRADATION OF EXTRACTED AGGREGATE-Tex-200-F","Sieve size",{"$f":"F3552","v":""},"CON Correlation factor"]
[3562,{"$f":"IF(SUMMARY!P8<>\"\",SUMMARY!P8,\"\")","v":""},"SUMMARY","GRADATION OF EXTRACTED AGGREGATE-Tex-200-F","Sieve size",{"$f":"F3553","v":""},"CON Correlation factor"]
[3563,{"$f":"IF(SUMMARY!P9<>\"\",SUMMARY!P9,\"\")","v":""},"SUMMARY","GRADATION OF EXTRACTED AGGREGATE-Tex-200-F","Sieve size","","CON Correlation factor"]
[3564,{"$f":"IF(SUMMARY!P10<>\"\",SUMMARY!P10,\"\")","v":""},"SUMMARY","GRADATION OF EXTRACTED AGGREGATE-Tex-200-F","Sieve size","","CON Correlation factor"]
[3565,{"$f":"IF(SUMMARY!P11<>\"\",SUMMARY!P11,\"\")","v":""},"SUMMARY","GRADATION OF EXTRACTED AGGREGATE-Tex-200-F","Sieve size","","CON Correlation factor"]
[3566,{"$f":"IF(SUMMARY!P12<>\"\",SUMMARY!P12,\"\")","v":""},"SUMMARY","GRADATION OF EXTRACTED AGGREGATE-Tex-200-F","Sieve size","","CON Correlation factor"]
[3567,{"$f":"IF(SUMMARY!P13<>\"\",SUMMARY!P13,\"\")","v":""},"SUMMARY","GRADATION OF EXTRACTED AGGREGATE-Tex-200-F","Sieve size","","CON Correlation factor"]
[3568,{"$f":"IF(SUMMARY!P14<>\"\",SUMMARY!P14,\"\")","v":""},"SUMMARY","GRADATION OF EXTRACTED AGGREGATE-Tex-200-F","Sieve size","","CON Correlation factor"]
[3569,{"$f":"IF(SUMMARY!P15<>\"\",SUMMARY!P15,\"\")","v":""},"SUMMARY","GRADATION OF EXTRACTED AGGREGATE-Tex-200-F","Sieve size","","CON Correlation factor"]
[3570,{"$f":"IF(SUMMARY!P16<>\"\",SUMMARY!P16,\"\")","v":""},"SUMMARY","GRADATION OF EXTRACTED AGGREGATE-Tex-200-F","Sieve size","","CON Correlation factor"]
[3571]
[3572,{"$f":"IF(SUMMARY!R7<>\"\",SUMMARY!R7,\"\")","v":""},"SUMMARY","GRADATION REFEREE","Sieve size",{"$f":"F3563","v":""},"Cumulative percent passing, %","Sublot 1",null,1245]
[3573,{"$f":"IF(SUMMARY!R8<>\"\",SUMMARY!R8,\"\")","v":""},"SUMMARY","GRADATION REFEREE","Sieve size",{"$f":"F3564","v":""},"Cumulative percent passing, %","Sublot 1",null,1249]
[3574,{"$f":"IF(SUMMARY!R9<>\"\",SUMMARY!R9,\"\")","v":""},"SUMMARY","GRADATION REFEREE","Sieve size","","Cumulative percent passing, %","Sublot 1",null,1253]
[3575,{"$f":"IF(SUMMARY!R10<>\"\",SUMMARY!R10,\"\")","v":""},"SUMMARY","GRADATION REFEREE","Sieve size","","Cumulative percent passing, %","Sublot 1",null,1257]
[3576,{"$f":"IF(SUMMARY!R11<>\"\",SUMMARY!R11,\"\")","v":""},"SUMMARY","GRADATION REFEREE","Sieve size","","Cumulative percent passing, %","Sublot 1",null,1261]
[3577,{"$f":"IF(SUMMARY!R12<>\"\",SUMMARY!R12,\"\")","v":""},"SUMMARY","GRADATION REFEREE","Sieve size","","Cumulative percent passing, %","Sublot 1",null,1265]
[3578,{"$f":"IF(SUMMARY!R13<>\"\",SUMMARY!R13,\"\")","v":""},"SUMMARY","GRADATION REFEREE","Sieve size","","Cumulative percent passing, %","Sublot 1",null,1269]
[3579,{"$f":"IF(SUMMARY!R14<>\"\",SUMMARY!R14,\"\")","v":""},"SUMMARY","GRADATION REFEREE","Sieve size","","Cumulative percent passing, %","Sublot 1",null,1273]
[3580,{"$f":"IF(SUMMARY!R15<>\"\",SUMMARY!R15,\"\")","v":""},"SUMMARY","GRADATION REFEREE","Sieve size","","Cumulative percent passing, %","Sublot 1",null,1277]
[3581,{"$f":"IF(SUMMARY!R16<>\"\",SUMMARY!R16,\"\")","v":""},"SUMMARY","GRADATION REFEREE","Sieve size","","Cumulative percent passing, %","Sublot 1",null,1281]
[3582]
[3583,{"$f":"IF(SUMMARY!S7<>\"\",SUMMARY!S7,\"\")","v":""},"SUMMARY","GRADATION REFEREE","Sieve size",{"$f":"F3574","v":""},"Cumulative percent passing, %","Sublot 2",null,1246]
[3584,{"$f":"IF(SUMMARY!S8<>\"\",SUMMARY!S8,\"\")","v":""},"SUMMARY","GRADATION REFEREE","Sieve size",{"$f":"F3575","v":""},"Cumulative percent passing, %","Sublot 2",null,1250]
[3585,{"$f":"IF(SUMMARY!S9<>\"\",SUMMARY!S9,\"\")","v":""},"SUMMARY","GRADATION REFEREE","Sieve size","","Cumulative percent passing, %","Sublot 2",null,1254]
[3586,{"$f":"IF(SUMMARY!S10<>\"\",SUMMARY!S10,\"\")","v":""},"SUMMARY","GRADATION REFEREE","Sieve size","","Cumulative percent passing, %","Sublot 2",null,1258]
[3587,{"$f":"IF(SUMMARY!S11<>\"\",SUMMARY!S11,\"\")","v":""},"SUMMARY","GRADATION REFEREE","Sieve size","","Cumulative percent passing, %","Sublot 2",null,1262]
[3588,{"$f":"IF(SUMMARY!S12<>\"\",SUMMARY!S12,\"\")","v":""},"SUMMARY","GRADATION REFEREE","Sieve size","","Cumulative percent passing, %","Sublot 2",null,1266]
[3589,{"$f":"IF(SUMMARY!S13<>\"\",SUMMARY!S13,\"\")","v":""},"SUMMARY","GRADATION REFEREE","Sieve size","","Cumulative percent passing, %","Sublot 2",null,1270]
[3590,{"$f":"IF(SUMMARY!S14<>\"\",SUMMARY!S14,\"\")","v":""},"SUMMARY","GRADATION REFEREE","Sieve size","","Cumulative percent passing, %","Sublot 2",null,1274]
[3591,{"$f":"IF(SUMMARY!S15<>\"\",SUMMARY!S15,\"\")","v":""},"SUMMARY","GRADATION REFEREE","Sieve size","","Cumulative percent passing, %","Sublot 2",null,1278]
[3592,{"$f":"IF(SUMMARY!S16<>\"\",SUMMARY!S16,\"\")","v":""},"SUMMARY","GRADATION REFEREE","Sieve size","","Cumulative percent passing, %","Sublot 2",null,1282]
[3593]
[3594,{"$f":"IF(SUMMARY!T7<>\"\",SUMMARY!T7,\"\")","v":""},"SUMMARY","GRADATION REFEREE","Sieve size",{"$f":"F3585","v":""},"Cumulative percent passing, %","Sublot 3",null,1247]
[3595,{"$f":"IF(SUMMARY!T8<>\"\",SUMMARY!T8,\"\")","v":""},"SUMMARY","GRADATION REFEREE","Sieve size",{"$f":"F3586","v":""},"Cumulative percent passing, %","Sublot 3",null,1251]
[3596,{"$f":"IF(SUMMARY!T9<>\"\",SUMMARY!T9,\"\")","v":""},"SUMMARY","GRADATION REFEREE","Sieve size","","Cumulative percent passing, %","Sublot 3",null,1255]
[3597,{"$f":"IF(SUMMARY!T10<>\"\",SUMMARY!T10,\"\")","v":""},"SUMMARY","GRADATION REFEREE","Sieve size","","Cumulative percent passing, %","Sublot 3",null,1259]
[3598,{"$f":"IF(SUMMARY!T11<>\"\",SUMMARY!T11,\"\")","v":""},"SUMMARY","GRADATION REFEREE","Sieve size","","Cumulative percent passing, %","Sublot 3",null,1263]
[3599,{"$f":"IF(SUMMARY!T12<>\"\",SUMMARY!T12,\"\")","v":""},"SUMMARY","GRADATION REFEREE","Sieve size","","Cumulative percent passing, %","Sublot 3",null,1267]
[3600,{"$f":"IF(SUMMARY!T13<>\"\",SUMMARY!T13,\"\")","v":""},"SUMMARY","GRADATION REFEREE","Sieve size","","Cumulative percent passing, %","Sublot 3",null,1271]
[3601,{"$f":"IF(SUMMARY!T14<>\"\",SUMMARY!T14,\"\")","v":""},"SUMMARY","GRADATION REFEREE","Sieve size","","Cumulative percent passing, %","Sublot 3",null,1275]
[3602,{"$f":"IF(SUMMARY!T15<>\"\",SUMMARY!T15,\"\")","v":""},"SUMMARY","GRADATION REFEREE","Sieve size","","Cumulative percent passing, %","Sublot 3",null,1279]
[3603,{"$f":"IF(SUMMARY!T16<>\"\",SUMMARY!T16,\"\")","v":""},"SUMMARY","GRADATION REFEREE","Sieve size","","Cumulative percent passing, %","Sublot 3",null,1283]
[3604]
[3605,{"$f":"IF(SUMMARY!U7<>\"\",SUMMARY!U7,\"\")","v":""},"SUMMARY","GRADATION REFEREE","Sieve size",{"$f":"F3596","v":""},"Cumulative percent passing, %","Sublot 4",null,1248]
[3606,{"$f":"IF(SUMMARY!U8<>\"\",SUMMARY!U8,\"\")","v":""},"SUMMARY","GRADATION REFEREE","Sieve size",{"$f":"F3597","v":""},"Cumulative percent passing, %","Sublot 4",null,1252]
[3607,{"$f":"IF(SUMMARY!U9<>\"\",SUMMARY!U9,\"\")","v":""},"SUMMARY","GRADATION REFEREE","Sieve size","","Cumulative percent passing, %","Sublot 4",null,1256]
[3608,{"$f":"IF(SUMMARY!U10<>\"\",SUMMARY!U10,\"\")","v":""},"SUMMARY","GRADATION REFEREE","Sieve size","","Cumulative percent passing, %","Sublot 4",null,1260]
[3609,{"$f":"IF(SUMMARY!U11<>\"\",SUMMARY!U11,\"\")","v":""},"SUMMARY","GRADATION REFEREE","Sieve size","","Cumulative percent passing, %","Sublot 4",null,1264]
[3610,{"$f":"IF(SUMMARY!U12<>\"\",SUMMARY!U12,\"\")","v":""},"SUMMARY","GRADATION REFEREE","Sieve size","","Cumulative percent passing, %","Sublot 4",null,1268]
[3611,{"$f":"IF(SUMMARY!U13<>\"\",SUMMARY!U13,\"\")","v":""},"SUMMARY","GRADATION REFEREE","Sieve size","","Cumulative percent passing, %","Sublot 4",null,1272]
[3612,{"$f":"IF(SUMMARY!U14<>\"\",SUMMARY!U14,\"\")","v":""},"SUMMARY","GRADATION REFEREE","Sieve size","","Cumulative percent passing, %","Sublot 4",null,1276]
[3613,{"$f":"IF(SUMMARY!U15<>\"\",SUMMARY!U15,\"\")","v":""},"SUMMARY","GRADATION REFEREE","Sieve size","","Cumulative percent passing, %","Sublot 4",null,1280]
[3614,{"$f":"IF(SUMMARY!U16<>\"\",SUMMARY!U16,\"\")","v":""},"SUMMARY","GRADATION REFEREE","Sieve size","","Cumulative percent passing, %","Sublot 4",null,1284]
[3615]
[3616,{"$f":"IF(SUMMARY!R28<>\"\",SUMMARY!R28,\"\")","v":""},"SUMMARY","DENSITY REFEREE","Avg. Actual SG (Ga):","Sublot 1",null,null,null,1285]
[3617,{"$f":"IF(SUMMARY!S28<>\"\",SUMMARY!S28,\"\")","v":""},"SUMMARY","DENSITY REFEREE","Avg. Actual SG (Ga):","Sublot 2",null,null,null,1286]
[3618,{"$f":"IF(SUMMARY!T28<>\"\",SUMMARY!T28,\"\")","v":""},"SUMMARY","DENSITY REFEREE","Avg. Actual SG (Ga):","Sublot 3",null,null,null,1287]
[3619,{"$f":"IF(SUMMARY!U28<>\"\",SUMMARY!U28,\"\")","v":""},"SUMMARY","DENSITY REFEREE","Avg. Actual SG (Ga):","Sublot 4",null,null,null,1288]
[3620]
[3621,{"$f":"IF(SUMMARY!R30<>\"\",SUMMARY!R30,\"\")","v":""},"SUMMARY","DENSITY REFEREE","Lab molded density, %:","Sublot 1",null,null,null,1289]
[3622,{"$f":"IF(SUMMARY!S30<>\"\",SUMMARY!S30,\"\")","v":""},"SUMMARY","DENSITY REFEREE","Lab molded density, %:","Sublot 2",null,null,null,1290]
[3623,{"$f":"IF(SUMMARY!T30<>\"\",SUMMARY!T30,\"\")","v":""},"SUMMARY","DENSITY REFEREE","Lab molded density, %:","Sublot 3",null,null,null,1291]
[3624,{"$f":"IF(SUMMARY!U30<>\"\",SUMMARY!U30,\"\")","v":""},"SUMMARY","DENSITY REFEREE","Lab molded density, %:","Sublot 4",null,null,null,1292]
[3625]
[3626,{"$f":"IF(SUMMARY!R32<>\"\",SUMMARY!R32,\"\")","v":""},"SUMMARY","DENSITY REFEREE","In place air voids, %:","Sublot 1",null,null,null,1293]
[3627,{"$f":"IF(SUMMARY!S32<>\"\",SUMMARY!S32,\"\")","v":""},"SUMMARY","DENSITY REFEREE","In place air voids, %:","Sublot 2",null,null,null,1294]
[3628,{"$f":"IF(SUMMARY!T32<>\"\",SUMMARY!T32,\"\")","v":""},"SUMMARY","DENSITY REFEREE","In place air voids, %:","Sublot 3",null,null,null,1295]
[3629,{"$f":"IF(SUMMARY!U32<>\"\",SUMMARY!U32,\"\")","v":""},"SUMMARY","DENSITY REFEREE","In place air voids, %:","Sublot 4",null,null,null,1296]
[3630]
[3631,{"$f":"IF(SUMMARY!R34<>\"\",SUMMARY!R34,\"\")","v":""},"SUMMARY","DENSITY REFEREE","Plant produced VMA, %:","Sublot 1",null,null,null,1297]
[3632,{"$f":"IF(SUMMARY!S34<>\"\",SUMMARY!S34,\"\")","v":""},"SUMMARY","DENSITY REFEREE","Plant produced VMA, %:","Sublot 2",null,null,null,1298]
[3633,{"$f":"IF(SUMMARY!T34<>\"\",SUMMARY!T34,\"\")","v":""},"SUMMARY","DENSITY REFEREE","Plant produced VMA, %:","Sublot 3",null,null,null,1299]
[3634,{"$f":"IF(SUMMARY!U34<>\"\",SUMMARY!U34,\"\")","v":""},"SUMMARY","DENSITY REFEREE","Plant produced VMA, %:","Sublot 4",null,null,null,1300]
[3635]
[3636,{"$f":"IF(SUMMARY!R38<>\"\",SUMMARY!R38,\"\")","v":""},"SUMMARY","RICE REFEREE","Rice specific gravity:","Sublot 1",null,null,null,1301]
[3637,{"$f":"IF(SUMMARY!S38<>\"\",SUMMARY!S38,\"\")","v":""},"SUMMARY","RICE REFEREE","Rice specific gravity:","Sublot 2",null,null,null,1302]
[3638,{"$f":"IF(SUMMARY!T38<>\"\",SUMMARY!T38,\"\")","v":""},"SUMMARY","RICE REFEREE","Rice specific gravity:","Sublot 3",null,null,null,1303]
[3639,{"$f":"IF(SUMMARY!U38<>\"\",SUMMARY!U38,\"\")","v":""},"SUMMARY","RICE REFEREE","Rice specific gravity:","Sublot 4",null,null,null,1304]
[3640]
[3641,{"$f":"IF(SUMMARY!R42<>\"\",SUMMARY!R42,\"\")","v":""},"SUMMARY","AC REFEREE","Asphalt content, %:","Sublot 1",null,null,null,1305]
[3642,{"$f":"IF(SUMMARY!S42<>\"\",SUMMARY!S42,\"\")","v":""},"SUMMARY","AC REFEREE","Asphalt content, %:","Sublot 2",null,null,null,1306]
[3643,{"$f":"IF(SUMMARY!T42<>\"\",SUMMARY!T42,\"\")","v":""},"SUMMARY","AC REFEREE","Asphalt content, %:","Sublot 3",null,null,null,1307]
[3644,{"$f":"IF(SUMMARY!U42<>\"\",SUMMARY!U42,\"\")","v":""},"SUMMARY","AC REFEREE","Asphalt content, %:","Sublot 4",null,null,null,1308]
[3645]
[3646,{"$f":"IF(SUMMARY!E72<>\"\",SUMMARY!E72,\"\")","v":0},"SUMMARY","MEMBRANE APPLICATION RATE: Tex-247-F","Rate, gal/sy:","Target","Design"]
[3647,{"$f":"IF(SUMMARY!F72<>\"\",SUMMARY!F72,\"\")","v":""},"SUMMARY","MEMBRANE APPLICATION RATE: Tex-247-F","Rate, gal/sy:","TxDOT","Sublot 1"]
[3648,{"$f":"IF(SUMMARY!G72<>\"\",SUMMARY!G72,\"\")","v":""},"SUMMARY","MEMBRANE APPLICATION RATE: Tex-247-F","Rate, gal/sy:","TxDOT","Sublot 2"]
[3649,{"$f":"IF(SUMMARY!H72<>\"\",SUMMARY!H72,\"\")","v":""},"SUMMARY","MEMBRANE APPLICATION RATE: Tex-247-F","Rate, gal/sy:","TxDOT","Sublot 3"]
[3650,{"$f":"IF(SUMMARY!I72<>\"\",SUMMARY!I72,\"\")","v":""},"SUMMARY","MEMBRANE APPLICATION RATE: Tex-247-F","Rate, gal/sy:","TxDOT","Sublot 4"]
[3651,{"$f":"IF(SUMMARY!K72<>\"\",SUMMARY!K72,\"\")","v":""},"SUMMARY","MEMBRANE APPLICATION RATE: Tex-247-F","Rate, gal/sy:","Contractor","Sublot 1"]
[3652,{"$f":"IF(SUMMARY!L72<>\"\",SUMMARY!L72,\"\")","v":""},"SUMMARY","MEMBRANE APPLICATION RATE: Tex-247-F","Rate, gal/sy:","Contractor","Sublot 2"]
[3653,{"$f":"IF(SUMMARY!M72<>\"\",SUMMARY!M72,\"\")","v":""},"SUMMARY","MEMBRANE APPLICATION RATE: Tex-247-F","Rate, gal/sy:","Contractor","Sublot 3"]
[3654,{"$f":"IF(SUMMARY!N72<>\"\",SUMMARY!N72,\"\")","v":""},"SUMMARY","MEMBRANE APPLICATION RATE: Tex-247-F","Rate, gal/sy:","Contractor","Sublot 4"]
[3655]
[3656,{"$f":"IF(SUMMARY!E76<>\"\",SUMMARY!E76,\"\")","v":"NA"},"SUMMARY","ESTIMATED FILM THICKNESS","Film thickness, micron:","Target","Design"]
[3657,{"$f":"IF(SUMMARY!F76<>\"\",SUMMARY!F76,\"\")","v":""},"SUMMARY","ESTIMATED FILM THICKNESS","Film thickness, micron:","TxDOT","Sublot 1"]
[3658,{"$f":"IF(SUMMARY!G76<>\"\",SUMMARY!G76,\"\")","v":""},"SUMMARY","ESTIMATED FILM THICKNESS","Film thickness, micron:","TxDOT","Sublot 2"]
[3659,{"$f":"IF(SUMMARY!H76<>\"\",SUMMARY!H76,\"\")","v":""},"SUMMARY","ESTIMATED FILM THICKNESS","Film thickness, micron:","TxDOT","Sublot 3"]
[3660,{"$f":"IF(SUMMARY!I76<>\"\",SUMMARY!I76,\"\")","v":""},"SUMMARY","ESTIMATED FILM THICKNESS","Film thickness, micron:","TxDOT","Sublot 4"]
[3661,{"$f":"IF(SUMMARY!K76<>\"\",SUMMARY!K76,\"\")","v":""},"SUMMARY","ESTIMATED FILM THICKNESS","Film thickness, micron:","Contractor","Sublot 1"]
[3662,{"$f":"IF(SUMMARY!L76<>\"\",SUMMARY!L76,\"\")","v":""},"SUMMARY","ESTIMATED FILM THICKNESS","Film thickness, micron:","Contractor","Sublot 2"]
[3663,{"$f":"IF(SUMMARY!M76<>\"\",SUMMARY!M76,\"\")","v":""},"SUMMARY","ESTIMATED FILM THICKNESS","Film thickness, micron:","Contractor","Sublot 3"]
[3664,{"$f":"IF(SUMMARY!N76<>\"\",SUMMARY!N76,\"\")","v":""},"SUMMARY","ESTIMATED FILM THICKNESS","Film thickness, micron:","Contractor","Sublot 4"]
[3665]
[3666,{"$f":"IF(SUMMARY!E84<>\"\",SUMMARY!E84,\"\")","v":"NA"},"SUMMARY","MOISTURE CONTENT: Tex-212-F, Part II","Moisture content, %:","Target","Design"]
[3667,{"$f":"IF(SUMMARY!F84<>\"\",SUMMARY!F84,\"\")","v":""},"SUMMARY","MOISTURE CONTENT: Tex-212-F, Part II","Moisture content, %:","TxDOT","Sublot 1"]
[3668,{"$f":"IF(SUMMARY!G84<>\"\",SUMMARY!G84,\"\")","v":""},"SUMMARY","MOISTURE CONTENT: Tex-212-F, Part II","Moisture content, %:","TxDOT","Sublot 2"]
[3669,{"$f":"IF(SUMMARY!H84<>\"\",SUMMARY!H84,\"\")","v":""},"SUMMARY","MOISTURE CONTENT: Tex-212-F, Part II","Moisture content, %:","TxDOT","Sublot 3"]
[3670,{"$f":"IF(SUMMARY!I84<>\"\",SUMMARY!I84,\"\")","v":""},"SUMMARY","MOISTURE CONTENT: Tex-212-F, Part II","Moisture content, %:","TxDOT","Sublot 4"]
[3671,{"$f":"IF(SUMMARY!K84<>\"\",SUMMARY!K84,\"\")","v":""},"SUMMARY","MOISTURE CONTENT: Tex-212-F, Part II","Moisture content, %:","Contractor","Sublot 1"]
[3672,{"$f":"IF(SUMMARY!L84<>\"\",SUMMARY!L84,\"\")","v":""},"SUMMARY","MOISTURE CONTENT: Tex-212-F, Part II","Moisture content, %:","Contractor","Sublot 2"]
[3673,{"$f":"IF(SUMMARY!M84<>\"\",SUMMARY!M84,\"\")","v":""},"SUMMARY","MOISTURE CONTENT: Tex-212-F, Part II","Moisture content, %:","Contractor","Sublot 3"]
[3674,{"$f":"IF(SUMMARY!N84<>\"\",SUMMARY!N84,\"\")","v":""},"SUMMARY","MOISTURE CONTENT: Tex-212-F, Part II","Moisture content, %:","Contractor","Sublot 4"]
[3675]
[3676,{"$f":"IF(PAYMENT!J44<>\"\",PAYMENT!J44,\"\")","v":""},"PAY","INPLACE AIR VOIDS (PLACEMENT)","Auto 1.000 pay factor:","Sublot 1",null,null,null,1233]
[3677,{"$f":"IF(PAYMENT!K44<>\"\",PAYMENT!K44,\"\")","v":""},"PAY","INPLACE AIR VOIDS (PLACEMENT)","Auto 1.000 pay factor:","Sublot 2",null,null,null,1234]
[3678,{"$f":"IF(PAYMENT!L44<>\"\",PAYMENT!L44,\"\")","v":""},"PAY","INPLACE AIR VOIDS (PLACEMENT)","Auto 1.000 pay factor:","Sublot 3",null,null,null,1235]
[3679,{"$f":"IF(PAYMENT!M44<>\"\",PAYMENT!M44,\"\")","v":""},"PAY","INPLACE AIR VOIDS (PLACEMENT)","Auto 1.000 pay factor:","Sublot 4",null,null,null,1236]
[3680]
[3681,{"$f":"IF(PAYMENT!J78<>\"\",PAYMENT!J78,\"\")","v":"No Pay"},"PAY","FINAL QUANTITIES","TAP = Total adjusted pay = (A + B)/2:"]
[3682]
[3683,{"$f":"IF(DESIGN!C44<>\"\",DESIGN!C44,\"\")","v":""},"DESIGN",{"$f":"DESIGN!B40","v":"ASPHALT CEMENT"},{"$f":"DESIGN!B44","v":"AC Producer:"}]
[3684]
[3685,{"$f":"SUMMARY!$E$80","v":"NA"},"SUMMARY",{"$f":"SUMMARY!$B$78","v":"DUST TO BINDER RATIO"},{"$f":"SUMMARY!$B$80","v":"Dust/Binder:"},"Target"]
[3686,{"$f":"SUMMARY!$F$80","v":""},"SUMMARY",{"$f":"SUMMARY!$B$78","v":"DUST TO BINDER RATIO"},{"$f":"SUMMARY!$B$80","v":"Dust/Binder:"},"TxDOT","Sublot 1"]
[3687,{"$f":"SUMMARY!$G$80","v":""},"SUMMARY",{"$f":"SUMMARY!$B$78","v":"DUST TO BINDER RATIO"},{"$f":"SUMMARY!$B$80","v":"Dust/Binder:"},"TxDOT","Sublot 2"]
[3688,{"$f":"SUMMARY!$H$80","v":""},"SUMMARY",{"$f":"SUMMARY!$B$78","v":"DUST TO BINDER RATIO"},{"$f":"SUMMARY!$B$80","v":"Dust/Binder:"},"TxDOT","Sublot 3"]
[3689,{"$f":"SUMMARY!$I$80","v":""},"SUMMARY",{"$f":"SUMMARY!$B$78","v":"DUST TO BINDER RATIO"},{"$f":"SUMMARY!$B$80","v":"Dust/Binder:"},"TxDOT","Sublot 4"]
[3690,{"$f":"SUMMARY!$K$80","v":""},"SUMMARY",{"$f":"SUMMARY!$B$78","v":"DUST TO BINDER RATIO"},{"$f":"SUMMARY!$B$80","v":"Dust/Binder:"},"Contractor","Sublot 1"]
[3691,{"$f":"SUMMARY!$L$80","v":""},"SUMMARY",{"$f":"SUMMARY!$B$78","v":"DUST TO BINDER RATIO"},{"$f":"SUMMARY!$B$80","v":"Dust/Binder:"},"Contractor","Sublot 2"]
[3692,{"$f":"SUMMARY!$M$80","v":""},"SUMMARY",{"$f":"SUMMARY!$B$78","v":"DUST TO BINDER RATIO"},{"$f":"SUMMARY!$B$80","v":"Dust/Binder:"},"Contractor","Sublot 3"]
[3693,{"$f":"SUMMARY!$N$80","v":""},"SUMMARY",{"$f":"SUMMARY!$B$78","v":"DUST TO BINDER RATIO"},{"$f":"SUMMARY!$B$80","v":"Dust/Binder:"},"Contractor","Sublot 4"]
[3694,{"$f":"IF(DESIGN!$C$51<>\"\",DESIGN!$C$51,\"\")","v":""},"DESIGN","ASPHALT CEMENT","Tex-236-F Part II ignition oven effective gravity, TxDOT:",null,null,null,null,1318]
[3695,{"$f":"IF(DESIGN!$C$54<>\"\",DESIGN!$C$54,\"\")","v":""},"DESIGN","ASPHALT CEMENT","Tex-236-F Part II ignition oven effective gravity, Contractor:",null,null,null,null,1319]
[3696,{"$f":"IF(INDIRECT(\"DOT1_PROD!C67\")<>\"\",INDIRECT(\"DOT1_PROD!C67\"),\"\")","v":""},"DOT1_PROD","BACK CALCULATED ASPHALT CONTENT","Back calculated AC, %:","TxDOT","Sublot 1"]
[3697,{"$f":"IF(INDIRECT(\"DOT2_PROD!C67\")<>\"\",INDIRECT(\"DOT2_PROD!C67\"),\"\")","v":""},"DOT2_PROD","BACK CALCULATED ASPHALT CONTENT","Back calculated AC, %:","TxDOT","Sublot 2"]
[3698,{"$f":"IF(INDIRECT(\"DOT3_PROD!C67\")<>\"\",INDIRECT(\"DOT3_PROD!C67\"),\"\")","v":""},"DOT3_PROD","BACK CALCULATED ASPHALT CONTENT","Back calculated AC, %:","TxDOT","Sublot 3"]
[3699,{"$f":"IF(INDIRECT(\"DOT4_PROD!C67\")<>\"\",INDIRECT(\"DOT4_PROD!C67\"),\"\")","v":""},"DOT4_PROD","BACK CALCULATED ASPHALT CONTENT","Back calculated AC, %:","TxDOT","Sublot 4"]
[3700,{"$f":"IF(INDIRECT(\"CON1_PROD!C67\")<>\"\",INDIRECT(\"CON1_PROD!C67\"),\"\")","v":""},"CON1_PROD","BACK CALCULATED ASPHALT CONTENT","Back calculated AC, %:","Contractor","Sublot 1"]
[3701,{"$f":"IF(INDIRECT(\"CON2_PROD!C67\")<>\"\",INDIRECT(\"CON2_PROD!C67\"),\"\")","v":""},"CON2_PROD","BACK CALCULATED ASPHALT CONTENT","Back calculated AC, %:","Contractor","Sublot 2"]
[3702,{"$f":"IF(INDIRECT(\"CON3_PROD!C67\")<>\"\",INDIRECT(\"CON3_PROD!C67\"),\"\")","v":""},"CON3_PROD","BACK CALCULATED ASPHALT CONTENT","Back calculated AC, %:","Contractor","Sublot 3"]
[3703,{"$f":"IF(INDIRECT(\"CON4_PROD!C67\")<>\"\",INDIRECT(\"CON4_PROD!C67\"),\"\")","v":""},"CON4_PROD","BACK CALCULATED ASPHALT CONTENT","Back calculated AC, %:","Contractor","Sublot 4"]
[3704,{"$f":"IF(SUMMARY!E$44<>\"\",SUMMARY!E$44,\"\")","v":"0.0"},"SUMMARY","ASPHALT CONTENT","Back calculated asphalt content","Target"]
[3705,{"$f":"IF(SUMMARY!F$44<>\"\",SUMMARY!F$44,\"\")","v":""},"SUMMARY","ASPHALT CONTENT","Back calculated asphalt content","TxDOT","Sublot 1"]
[3706,{"$f":"IF(SUMMARY!G$44<>\"\",SUMMARY!G$44,\"\")","v":""},"SUMMARY","ASPHALT CONTENT","Back calculated asphalt content","TxDOT","Sublot 2"]
[3707,{"$f":"IF(SUMMARY!H$44<>\"\",SUMMARY!H$44,\"\")","v":""},"SUMMARY","ASPHALT CONTENT","Back calculated asphalt content","TxDOT","Sublot 3"]
[3708,{"$f":"IF(SUMMARY!I$44<>\"\",SUMMARY!I$44,\"\")","v":""},"SUMMARY","ASPHALT CONTENT","Back calculated asphalt content","TxDOT","Sublot 4"]
[3709,{"$f":"IF(SUMMARY!K$44<>\"\",SUMMARY!K$44,\"\")","v":""},"SUMMARY","ASPHALT CONTENT","Back calculated asphalt content","Contractor","Sublot 1"]
[3710,{"$f":"IF(SUMMARY!L$44<>\"\",SUMMARY!L$44,\"\")","v":""},"SUMMARY","ASPHALT CONTENT","Back calculated asphalt content","Contractor","Sublot 2"]
[3711,{"$f":"IF(SUMMARY!M$44<>\"\",SUMMARY!M$44,\"\")","v":""},"SUMMARY","ASPHALT CONTENT","Back calculated asphalt content","Contractor","Sublot 3"]
[3712,{"$f":"IF(SUMMARY!N$44<>\"\",SUMMARY!N$44,\"\")","v":""},"SUMMARY","ASPHALT CONTENT","Back calculated asphalt content","Contractor","Sublot 4"]
[3713,{"$f":"IF(GENERAL!$C$28<>\"\",GENERAL!$C$28,\"\")","v":""},"GENERAL","Tested By:","TX207PI",null,null,null,null,1320]
[3714,{"$f":"IF(GENERAL!$G$28<>\"\",GENERAL!$G$28,\"\")","v":""},"GENERAL","Tested Date:","TX207PI",null,null,null,null,1321]
[3715,{"$f":"IF(GENERAL!$C$30<>\"\",GENERAL!$C$30,\"\")","v":""},"GENERAL","Tested By:","TX207PV",null,null,null,null,1322]
[3716,{"$f":"IF(GENERAL!$G$30<>\"\",GENERAL!$G$30,\"\")","v":""},"GENERAL","Tested Date:","TX207PV",null,null,null,null,1323]
[3717,{"$f":"IF(GENERAL!$C$32<>\"\",GENERAL!$C$32,\"\")","v":""},"GENERAL","Tested By:","TX207PVI",null,null,null,null,1324]
[3718,{"$f":"IF(GENERAL!$G$32<>\"\",GENERAL!$G$32,\"\")","v":""},"GENERAL","Tested Date:","TX207PVI",null,null,null,null,1325]
[3719,{"$f":"IF(GENERAL!$C$34<>\"\",GENERAL!$C$34,\"\")","v":""},"GENERAL","Tested By:","TX207PVII",null,null,null,null,1326]
[3720,{"$f":"IF(GENERAL!$G$34<>\"\",GENERAL!$G$34,\"\")","v":""},"GENERAL","Tested Date:","TX207PVII",null,null,null,null,1327]
[3721,{"$f":"IF(GENERAL!$C$36<>\"\",GENERAL!$C$36,\"\")","v":""},"GENERAL","Tested By:","TX207PVIII",null,null,null,null,1328]
[3722,{"$f":"IF(GENERAL!$G$36<>\"\",GENERAL!$G$36,\"\")","v":""},"GENERAL","Tested Date:","TX207PVIII",null,null,null,null,1329]
[3723,{"$f":"IF(GENERAL!$C$50<>\"\",GENERAL!$C$50,\"\")","v":""},"GENERAL","Tested By:","TX236PI",null,null,null,null,1330]
[3724,{"$f":"IF(GENERAL!$G$50<>\"\",GENERAL!$G$50,\"\")","v":""},"GENERAL","Tested Date:","TX236PI",null,null,null,null,1331]
[3725,{"$f":"IF(GENERAL!$C$52<>\"\",GENERAL!$C$52,\"\")","v":""},"GENERAL","Tested By:","TX236PII",null,null,null,null,1332]
[3726,{"$f":"IF(GENERAL!$G$52<>\"\",GENERAL!$G$52,\"\")","v":""},"GENERAL","Tested Date:","TX236PII",null,null,null,null,1333]
[3727,{"$f":"IF(DESIGN!$C$49<>\"\",DESIGN!$C$49,\"\")","v":""},"DESIGN","ASPHALT CEMENT","Tex-236-F Part II ignition oven test date, TxDOT:",null,null,null,null,1334]
[3728,{"$f":"IF(DESIGN!$C$52<>\"\",DESIGN!$C$52,\"\")","v":""},"DESIGN","ASPHALT CEMENT","Tex-236-F Part II ignition oven correction factor, Contractor:",null,null,null,null,1335]
[3729,{"$f":"IF(testperson17=\"\",\"\",testperson17)","v":""},"GENERAL","Tested By:","TX227PII"]
[3730,{"$f":"IF(testdate17=\"\",\"\",testdate17)","v":""},"GENERAL","Tested Date:","TX227PII"]
[3731,{"$f":"IF(DESIGN!$C$70<>\"\",DESIGN!$C$70,\"\")","v":""},"DESIGN","PERFORMANCE PROPERTIES OF BITUMINOUS MIXTURES","Tex-248-F Overlay test critical fracture energy, in-lb/in2",null,null,null,null,1336]
[3732,{"$f":"IF(DESIGN!$C$71<>\"\",DESIGN!$C$71,\"\")","v":""},"DESIGN","PERFORMANCE PROPERTIES OF BITUMINOUS MIXTURES","Tex-248-F Overlay test crack progression rate",null,null,null,null,1337]
[3733,{"$f":"IF(DESIGN!$C$84<>\"\",DESIGN!$C$84,\"\")","v":""},"DESIGN","PERFORMANCE PROPERTIES OF BITUMINOUS MIXTURES","Tex-250-F IDEAL cracking index","Trial batch",null,null,null,1338]
[3734,{"$f":"IF(DESIGN!$C$89<>\"\",DESIGN!$C$89,\"\")","v":""},"DESIGN","PERFORMANCE PROPERTIES OF BITUMINOUS MIXTURES","Tex-250-F IDEAL cracking index","Production",null,null,null,1339]
[3735,{"$f":"IF(PAYMENT!$D$42<>\"\",PAYMENT!$D$42,\"\")","v":""},"PAYMENT","LAB MOLDED DENSITY (PRODUCTION)","VMA above acceptable limit",1]
[3736,{"$f":"IF(PAYMENT!$E$42<>\"\",PAYMENT!$E$42,\"\")","v":""},"PAYMENT","LAB MOLDED DENSITY (PRODUCTION)","VMA above acceptable limit",2]
[3737,{"$f":"IF(PAYMENT!$F$42<>\"\",PAYMENT!$F$42,\"\")","v":""},"PAYMENT","LAB MOLDED DENSITY (PRODUCTION)","VMA above acceptable limit",3]
[3738,{"$f":"IF(PAYMENT!$G$42<>\"\",PAYMENT!$G$42,\"\")","v":""},"PAYMENT","LAB MOLDED DENSITY (PRODUCTION)","VMA above acceptable limit",4]
[3739,{"$f":"IF(PAYMENT!$J$42<>\"\",PAYMENT!$J$42,\"\")","v":""},"PAYMENT","INPLACE AIR VOIDS (PLACEMENT)","VMA above acceptable limit",1]
[3740,{"$f":"IF(PAYMENT!$K$42<>\"\",PAYMENT!$K$42,\"\")","v":""},"PAYMENT","INPLACE AIR VOIDS (PLACEMENT)","VMA above acceptable limit",2]
[3741,{"$f":"IF(PAYMENT!$L$42<>\"\",PAYMENT!$L$42,\"\")","v":""},"PAYMENT","INPLACE AIR VOIDS (PLACEMENT)","VMA above acceptable limit",3]
[3742,{"$f":"IF(PAYMENT!$M$42<>\"\",PAYMENT!$M$42,\"\")","v":""},"PAYMENT","INPLACE AIR VOIDS (PLACEMENT)","VMA above acceptable limit",4]
[3743,{"$f":"IF(DESIGN!$C$42<>\"\",DESIGN!$C$42,\"\")","v":""},"DESIGN","ASPHALT CEMENT","Base binder grade",null,null,null,null,48]
[3744,{"$f":"IF(PAYMENT!$J$64<>\"\",PAYMENT!$J$64,\"\")","v":""},"PAYMENT","FINAL QUANTITIES","Estimated quantity  placed (based on lot size), Tons",1]
[3745,{"$f":"IF(PAYMENT!$K$64<>\"\",PAYMENT!$K$64,\"\")","v":""},"PAYMENT","FINAL QUANTITIES","Estimated quantity  placed (based on lot size), Tons",2]
[3746,{"$f":"IF(PAYMENT!$L$64<>\"\",PAYMENT!$L$64,\"\")","v":""},"PAYMENT","FINAL QUANTITIES","Estimated quantity  placed (based on lot size), Tons",3]
[3747,{"$f":"IF(PAYMENT!$M$64<>\"\",PAYMENT!$M$64,\"\")","v":""},"PAYMENT","FINAL QUANTITIES","Estimated quantity  placed (based on lot size), Tons",4]
[3748,{"$f":"IF(PAYMENT!$J$65<>\"\",PAYMENT!$J$65,\"\")","v":""},"PAYMENT","FINAL QUANTITIES","Cumulative estimated quantity placed, Tons",1]
[3749,{"$f":"IF(PAYMENT!$K$65<>\"\",PAYMENT!$K$65,\"\")","v":""},"PAYMENT","FINAL QUANTITIES","Cumulative estimated quantity placed, Tons",2]
[3750,{"$f":"IF(PAYMENT!$L$65<>\"\",PAYMENT!$L$65,\"\")","v":""},"PAYMENT","FINAL QUANTITIES","Cumulative estimated quantity placed, Tons",3]
[3751,{"$f":"IF(PAYMENT!$M$65<>\"\",PAYMENT!$M$65,\"\")","v":""},"PAYMENT","FINAL QUANTITIES","Cumulative estimated quantity placed, Tons",4]
[3752,{"$f":"IF(PAYMENT!$J$67<>\"\",PAYMENT!$J$67,\"\")","v":""},"PAYMENT","FINAL QUANTITIES","Actual quantity placed, Tons",1]
[3753,{"$f":"IF(PAYMENT!$K$67<>\"\",PAYMENT!$K$67,\"\")","v":""},"PAYMENT","FINAL QUANTITIES","Actual quantity placed, Tons",2]
[3754,{"$f":"IF(PAYMENT!$L$67<>\"\",PAYMENT!$L$67,\"\")","v":""},"PAYMENT","FINAL QUANTITIES","Actual quantity placed, Tons",3]
[3755,{"$f":"IF(PAYMENT!$M$67<>\"\",PAYMENT!$M$67,\"\")","v":""},"PAYMENT","FINAL QUANTITIES","Actual quantity placed, Tons",4]
[3756,{"$f":"IF(PAYMENT!$J$68<>\"\",PAYMENT!$J$68,\"\")","v":""},"PAYMENT","FINAL QUANTITIES","Quantity left in place without payment, Tons",1]
[3757,{"$f":"IF(PAYMENT!$K$68<>\"\",PAYMENT!$K$68,\"\")","v":""},"PAYMENT","FINAL QUANTITIES","Quantity left in place without payment, Tons",2]
[3758,{"$f":"IF(PAYMENT!$L$68<>\"\",PAYMENT!$L$68,\"\")","v":""},"PAYMENT","FINAL QUANTITIES","Quantity left in place without payment, Tons",3]
[3759,{"$f":"IF(PAYMENT!$M$68<>\"\",PAYMENT!$M$68,\"\")","v":""},"PAYMENT","FINAL QUANTITIES","Quantity left in place without payment, Tons",4]

{"sheet":"CHART","index":48,"n_rows":0,"n_cols":0,"rows_kept":0,"cut":false,"hidden":false,"merged":[[5,19,5,21]]}

{"sheet":"SummarySheet","index":49,"n_rows":1,"n_cols":4,"rows_kept":1,"cut":false,"hidden":true,"merged":[]}
["Sheet Name","Cell","Cell Value","Formula"]