{"text_format":"1","workbook":"xlsx","n_sheets":2,"sheets":["Tex-403,4,5,9-A","RX"],"not_rendered":{"charts":0,"images":1,"macros":1,"external_links":0,"defined_names":133,"comments":1,"pivot_tables":0},"unopened":[],"bounds":{"document_bytes":16777216,"sheet_cells":100000,"rows_first":2000,"rows_last":500,"rows_between":2000,"halvings":0,"cell_chars":16384,"cell_head_chars":4096},"cells_cut":0,"cells_raw":0,"read":"whole","date_system":"1900"}

{"sheet":"Tex-403,4,5,9-A","index":0,"n_rows":114,"n_cols":11,"rows_kept":114,"cut":false,"hidden":false,"merged":[[98,2,98,4],[99,2,99,4],[12,7,12,8],[11,7,11,8],[46,1,46,3],[25,1,25,4],[37,1,37,4],[13,3,13,4],[81,1,81,5],[76,1,76,3],[83,1,83,5],[82,1,82,5],[78,1,78,5],[79,1,79,5],[80,1,80,5],[86,1,86,3],[87,1,87,3],[91,1,91,3],[56,1,56,5],[57,1,57,5],[75,1,75,3],[84,1,84,5],[73,4,73,5],[67,1,67,4],[69,1,69,3],[48,1,48,3],[38,1,38,4],[61,1,61,3],[41,1,41,3],[7,7,7,8],[10,7,10,8],[7,3,7,4],[8,3,8,4],[8,7,8,8],[10,3,10,4],[9,7,9,8],[9,3,9,4],[0,0,0,1],[50,1,50,3],[65,1,65,4],[66,1,66,4],[32,1,32,3],[23,1,23,4],[26,1,26,4],[29,1,29,4],[27,1,27,4],[54,1,54,5],[55,1,55,5],[11,3,11,4],[12,3,12,4],[47,1,47,3],[39,1,39,4],[33,1,33,3],[109,6,109,8],[101,2,101,4],[107,2,107,4],[105,2,105,4],[109,1,109,3],[103,2,103,4],[113,1,113,3],[24,1,24,4],[15,3,15,8],[13,7,13,8],[16,7,16,8],[16,3,16,4],[14,3,14,8],[100,2,100,4],[30,1,30,4],[58,1,58,5],[59,1,59,5],[96,1,96,8],[94,1,95,8],[45,1,45,3],[97,1,97,8],[73,1,73,3]]}
["TxDOT Manuals >",null,null,"Tex-403-E","Tex-404-E","Tex-405-E","Tex-409-E"]
[null,"TEXAS DEPARTMENT OF TRANSPORTATION",null,null,null,null,null,null,null,null,64]
[null,null,null,null,null,null,null,null,null,null,5]
[null,null,null,null,null,null,null,null,null,null,"tx403-5,9.xlsm::45505.580903"]
[null,"Moisture Properties and Unit Weight of Concrete Aggregates"]
[null,"Tex-403,404,405,409-A"]
[null,null,null,null,null,null,null,null,{"$f":"\"File Version: \" & TEXT(MID(sn,SEARCH(\"::\",sn,1)+2,20),\"mm/dd/yy hh:mm:ss\")","v":"File Version: 08/01/24 13:56:30"}]
[null,null,"SAMPLE ID:",null,null,null,"SAMPLED DATE:"]
[null,null,"TEST NUMBER:",null,null,null,"LETTING DATE:"]
[null,null,"SAMPLE STATUS:",null,null,null,"CONTROLLING CSJ:"]
[null,null,"COUNTY:",null,null,null,"SPEC YEAR:"]
[null,null,"SAMPLED BY:","",null,null,"SPEC ITEM:"]
[null,null,"SAMPLE LOCATION:","",null,null,"SPECIAL PROVISION:"]
[null,null,"MATERIAL CODE:",null,null,null,"GRADE:"]
[null,null,"MATERIAL NAME:"]
[null,null,"PRODUCER:",""]
[null,null,"AREA ENGINEER:",null,null,null,"PROJECT MANAGER:"]
[]
[null,null,"COURSE\\LIFT:",null,"STATION:",null,null,"DIST. FROM CL:"]
[]
[null,"Bulk and Saturated Surface Dry Specific Gravity -- Test Method Tex-403-A"]
[null,"By Method:",null,"<< select a method",null,"Number 1","Number 2","Number 3"]
[]
[null,{"$f":"\"X = mass of SSD sample, \"&IF(SpecYear=\"1995\",\"(kg)\",\"(lb.)\") & \":\"","v":"X = mass of SSD sample, (lb.):"}]
[null,{"$f":"\"X1 = the net oven-dry mass of the sample, \"&IF(SpecYear=\"1995\",\"(kg)\",\"(lb.)\") & \":\"","v":"X1 = the net oven-dry mass of the sample, (lb.):"}]
[null,{"$f":"\"Y = calibrated pycnometer filled with water, \"&IF(SpecYear=\"1995\",\"(kg)\",\"(lb.)\") & \":\"","v":"Y = calibrated pycnometer filled with water, (lb.):"}]
[null,{"$f":"\"Z = pycnometer with SSD sample and water, \"&IF(SpecYear=\"1995\",\"(kg)\",\"(lb.)\") & \":\"","v":"Z = pycnometer with SSD sample and water, (lb.):"}]
[null,{"$f":"\"S = submerged sample weight, in basket, \"&IF(SpecYear=\"1995\",\"(kg)\",\"(lb.)\") & \":\"","v":"S = submerged sample weight, in basket, (lb.):"}]
[]
[null,{"$f":"IF(sgmeth=\"\",\"\",\"SSD Specific Gravity G =\" & IF(sgmeth=\"pycnometer\",\"X / ( X+Y-Z ):\", \"X / ( X-S ):\"))","v":""},null,null,null,{"$f":"IF(ISERROR(IF(sgmeth=\"pycnometer\",F24/(F26+F24-F27),F24/(F24-F28))),\"\",IF(sgmeth=\"pycnometer\",F24/(F26+F24-F27),F24/(F24-F28)))","v":""},{"$f":"IF(ISERROR(IF(sgmeth=\"pycnometer\",G24/(G26+G24-G27),G24/(G24-G28))),\"\",IF(sgmeth=\"pycnometer\",G24/(G26+G24-G27),G24/(G24-G28)))","v":""},{"$f":"IF(ISERROR(IF(sgmeth=\"pycnometer\",H24/(H26+H24-H27),H24/(H24-H28))),\"\",IF(sgmeth=\"pycnometer\",H24/(H26+H24-H27),H24/(H24-H28)))","v":""}]
[null,{"$f":"IF(sgmeth=\"\",\"\",\"Bulk Specific Gravity G =\"&IF(sgmeth=\"pycnometer\",\" X1 / ( X+Y-Z ):\",\" X1 / ( X-S ):\"))","v":""},null,null,null,{"$f":"IF(ISERROR(IF(sgmeth=\"pycnometer\",F25/(F26+F24-F27),F25/(F24-F28))),\"\",IF(sgmeth=\"pycnometer\",F25/(F26+F24-F27),F25/(F24-F28)))","v":""},{"$f":"IF(ISERROR(IF(sgmeth=\"pycnometer\",G25/(G26+G24-G27),G25/(G24-G28))),\"\",IF(sgmeth=\"pycnometer\",G25/(G26+G24-G27),G25/(G24-G28)))","v":""},{"$f":"IF(ISERROR(IF(sgmeth=\"pycnometer\",H25/(H26+H24-H27),H25/(H24-H28))),\"\",IF(sgmeth=\"pycnometer\",H25/(H26+H24-H27),H25/(H24-H28)))","v":""}]
[]
[null,"Average SSD Specific Gravity:",null,null,{"$f":"IF(ISERROR(AVERAGE(F30,G30,H30)),\"\",AVERAGE(F30,G30,H30))","v":""}]
[null,"Average Bulk Specific Gravity:",null,null,{"$f":"IF(ISERROR(AVERAGE(F31,G31,H31)),\"\",AVERAGE(F31,G31,H31))","v":""}]
[]
[null,"Absorption -- Test Method Tex-403-A",null,null,null,"Number 1","Number 2","Number 3"]
[]
[null,{"$f":"\"X = mass of SSD sample, \"&IF(SpecYear=\"1995\",\"(kg)\",\"(lb.)\") & \":\"","v":"X = mass of SSD sample, (lb.):"},null,null,null,{"$f":"IF(F24=\"\",\"\",TEXT(F24,IF(version=3,\"0.000\",\"0.0\")))","v":""},"",""]
[null,{"$f":"\"X1 = the net oven-dry mass of the sample, \"&IF(SpecYear=\"1995\",\"(kg)\",\"(lb.)\") & \":\"","v":"X1 = the net oven-dry mass of the sample, (lb.):"},null,null,null,"","",""]
[null,"A = absorption of the aggregate, ( X - X1 ) / X1, (%):",null,null,null,{"$f":"IF(ISERROR(((F38-F39)/F39)*100),\"\",((F38-F39)/F39)*100)","v":""},{"$f":"IF(ISERROR(((G38-G39)/G39)*100),\"\",((G38-G39)/G39)*100)","v":""},{"$f":"IF(ISERROR(((H38-H39)/H39)*100),\"\",((H38-H39)/H39)*100)","v":""}]
[]
[null,"A = Average Percent Absorption, (%):",null,null,{"$f":"IF(ISERROR(AVERAGE(F40,G40,H40)),\"\",AVERAGE(F40,G40,H40))","v":""}]
[]
[null,"Moisture Content:",null,null,"Number 1","Number 2","Number 3"]
[]
[null,"Original Sample Weight, (g):"]
[null,"Dry Sample Weight & Tare Weight, (g):"]
[null,"Tare Weight, (g):"]
[null,"Moisture Content, (%):",null,null,{"$f":"IF(ISERROR((E46-(E47-E48))/(E47-E48)*100),\"\",(E46-(E47-E48))/(E47-E48)*100)","v":""},{"$f":"IF(ISERROR((F46-(F47-F48))/(F47-F48)*100),\"\",(F46-(F47-F48))/(F47-F48)*100)","v":""},{"$f":"IF(ISERROR((G46-(G47-G48))/(G47-G48)*100),\"\",(G46-(G47-G48))/(G47-G48)*100)","v":""}]
[]
[null,"Average A1 = Moisture Content, (%):",null,null,{"$f":"IF(ISERROR(AVERAGE(E49:G49)),\"\",AVERAGE(E49:G49))","v":""}]
[]
[null,"Tex-409-A, Part I, Determining Free Moisture",null,null,null,null,"Number 1","Number 2","Number 3"]
[]
[null,"G = saturated surface-dry specific gravity:",null,null,null,null,{"$f":"avgssdsg","v":""},{"$f":"avgssdsg","v":""},{"$f":"avgssdsg","v":""}]
[null,"Y = mass of pycnometer filled with water (calibration), (g):"]
[null,"      X = mass of the wet sample, (g):"]
[null,"Z = Pyc containing sample in SSD condition w/ water Y+X-(X/G), (g):",null,null,null,null,{"$f":"IF(ISERROR(G56+G57-(G57/G55)),\"\",G56+G57-(G57/G55))","v":""},{"$f":"IF(ISERROR(H56+H57-(H57/H55)),\"\",H56+H57-(H57/H55))","v":""},{"$f":"IF(ISERROR(I56+I57-(I57/I55)),\"\",I56+I57-(I57/I55))","v":""}]
[null,"Z1 = mass of the pyc containing wet sample and water to fill, (g):"]
[null,{"$f":"\"M = Free Moisture on wet mass of sample 100\" & IF(version=\"1\",\"-\",\"*\") & \"G(Z-Z1) / (X(G-1)), (%):\"","v":"M = Free Moisture on wet mass of sample 100*G(Z-Z1) / (X(G-1)), (%):"},null,null,null,null,{"$f":"IF(ISERROR(IF(version=\"1\",100-G55*(G58-G59)/G57*(G55-1),100*G55*(G58-G59)/(G57*(G55-1)))),\"\",IF(version=\"1\",100-G55*(G58-G59)/G57*(G55-1),100*G55*(G58-G59)/(G57*(G55-1))))","v":""},{"$f":"IF(ISERROR(IF(version=\"1\",100-H55*(H58-H59)/H57*(H55-1),100*H55*(H58-H59)/(H57*(H55-1)))),\"\",IF(version=\"1\",100-H55*(H58-H59)/H57*(H55-1),100*H55*(H58-H59)/(H57*(H55-1))))","v":""},{"$f":"IF(ISERROR(IF(version=\"1\",100-I55*(I58-I59)/I57*(I55-1),100*I55*(I58-I59)/(I57*(I55-1)))),\"\",IF(version=\"1\",100-I55*(I58-I59)/I57*(I55-1),100*I55*(I58-I59)/(I57*(I55-1))))","v":""}]
[]
[null,"Average M = Free Moisture, (%):",null,null,{"$f":"IF(ISERROR(AVERAGE(G60:I60)),\"\",AVERAGE(G60:I60))","v":""}]
[]
[null,"Tex-409-A, Part II, Absorption in Coarse Aggregate",null,null,null,"Number 1","Number 2","Number 3"]
[]
[null,"X = mass of sample in stockpile condition, (g):"]
[null,"X1 = mass of sample in SSD condition, (g):"]
[null,"A2 Absorption = 100 ( X1 - X ) / X, (%):",null,null,null,{"$f":"IF(ISERROR(100*(F67-F66)/F66),\"\",100*(F67-F66)/F66)","v":""},{"$f":"IF(ISERROR(100*(G67-G66)/G66),\"\",100*(G67-G66)/G66)","v":""},{"$f":"IF(ISERROR(100*(H67-H66)/H66),\"\",100*(H67-H66)/H66)","v":""}]
[]
[null,"Average A2 Absorption, (%):",null,null,{"$f":"IF(ISERROR(AVERAGE(F68:H68)),\"\",AVERAGE(F68:H68))","v":""}]
[]
[null,"Tex-404-A, Determining Unit Mass (Weight) of Aggregates"]
[]
[null,"Condition of the Aggregate Sample:"]
[]
[null,{"$f":"\"V = Volume of container, \" & IF(SpecYear=\"1995\",\"(m³):\",\"(ft³):\")","v":"V = Volume of container, (ft³):"}]
[null,"Use Absorption from Tex-409 Part II?",null,null,null,null,"Number 1","Number 2"]
[]
[null,{"$f":"\"Weight of the aggregate and container, \"&IF(SpecYear=\"1995\",\"(kg)\",\"(lb.)\") & \":\"","v":"Weight of the aggregate and container, (lb.):"}]
[null,{"$f":"\"Tare weight of the container, \"&IF(SpecYear=\"1995\",\"(kg)\",\"(lb.)\") & \":\"","v":"Tare weight of the container, (lb.):"}]
[null,{"$f":"IF(AggCon=\"Equal To SSD\",\"W = average net mass of SSD aggregate\",IF(AggCon = \"Greater Than SSD (coarse)\",\"X2 = mass of aggregate (greater than SSD)\",IF(AggCon=\"less than ssd\",\"X1 = mass of aggregate (less than SSD)\",\"X = mass of aggregate (oven dry)\"))) &\" in the container, \"&IF(SpecYear=\"1995\",\"(kg)\",\"(lb.)\") & \":\"","v":"X = mass of aggregate (oven dry) in the container, (lb.):"},null,null,null,null,{"$f":"IF(G79=\"\",\"\",G79-G80)","v":""},{"$f":"IF(H79=\"\",\"\",H79-H80)","v":""}]
[null,{"$f":"IF(AggCon=\"Greater Than SSD (coarse)\",\"Wssd = average net mass of (SSD) aggregate X2*(100-M) / 100:\",IF(AggCon=\"less than ssd\",IF(thisabs=\"yes\",\"W = average net mass of (SSD) aggregate X1(100+A2) / 100:\",\"W = average net mass of (SSD) aggregate X1(100+A-A1) / 100:\"),\"W = average net mass of (SSD) aggregate, X(100+A) / 100:\")) & IF(SpecYear=\"1995\",\" (kg)\",\" (lb.)\") & \":\"","v":"W = average net mass of (SSD) aggregate, X(100+A) / 100: (lb.):"},null,null,null,null,{"$f":"IF(ISERROR(IF(AggCon=\"Equal To SSD\",G81,IF(AggCon=\"Greater Than SSD (coarse)\",G81*(100-N(freeM))/100,IF(AggCon=\"less than ssd\",IF(thisabs=\"yes\",G81*(100+N(_abs2))/100,G81*(100+N(avgabs)-N(mcontent))/100),G81*(100+N(avgabs))/100)))),\"\",IF(AggCon=\"Equal To SSD\",G81,IF(AggCon=\"Greater Than SSD (coarse)\",G81*(100-N(freeM))/100,IF(AggCon=\"less than ssd\",IF(thisabs=\"yes\",G81*(100+N(_abs2))/100,G81*(100+N(avgabs)-N(mcontent))/100),G81*(100+N(avgabs))/100))))","v":""},{"$f":"IF(ISERROR(IF(AggCon=\"Equal To SSD\",H81,IF(AggCon=\"Greater Than SSD (coarse)\",H81*(100-N(freeM))/100,IF(AggCon=\"less than ssd\",IF(thisabs=\"yes\",H81*(100+N(_abs2))/100,H81*(100+N(avgabs)-N(mcontent))/100),H81*(100+N(avgabs))/100)))),\"\",IF(AggCon=\"Equal To SSD\",H81,IF(AggCon=\"Greater Than SSD (coarse)\",H81*(100-N(freeM))/100,IF(AggCon=\"less than ssd\",IF(thisabs=\"yes\",H81*(100+N(_abs2))/100,H81*(100+N(avgabs)-N(mcontent))/100),H81*(100+N(avgabs))/100))))","v":""}]
[null,{"$f":"\"Wdry = avg. net mass of (SSD) aggregate, 100 * X1 / (100+A1):\"& IF(SpecYear=\"1995\",\" (kg)\",\" (lb.)\") & \":\"","v":"Wdry = avg. net mass of (SSD) aggregate, 100 * X1 / (100+A1): (lb.):"},null,null,null,null,{"$f":"IF(ISERROR(100*G81/(100+N(mcontent))),\"\",100*G81/(100+N(mcontent)))","v":""},{"$f":"IF(ISERROR(100*H81/(100+N(mcontent))),\"\",100*H81/(100+N(mcontent)))","v":""}]
[null,{"$f":"IF(OR(AggCon=\"Equal To SSD\",AggCon=\"greater than ssd (coarse)\"),\"Sample must be less than SSD to calculate dry unit weight\",IF(AggCon<>\"Oven Dry\",\"Dry Unit Weight, U = Wdry / V, \",\"Dry Unit Weight, U = X / V, \") & IF(SpecYear=\"1995\",\"(kg/m³)\",\"(lb./ft³)\") &\":\")","v":"Dry Unit Weight, U = Wdry / V, (lb./ft³):"},null,null,null,null,{"$f":"IF(ISERROR(IF(AggCon=\"Greater than SSD (coarse)\",\"\",IF(AggCon<>\"Oven Dry\",G83/vol,G81/vol))),\"\",IF(AggCon=\"Greater than SSD (coarse)\",\"\",IF(AggCon<>\"Oven Dry\",G83/vol,G81/vol)))","v":""},{"$f":"IF(ISERROR(IF(AggCon=\"Greater than SSD (coarse)\",\"\",IF(AggCon<>\"Oven Dry\",H83/vol,H81/vol))),\"\",IF(AggCon=\"Greater than SSD (coarse)\",\"\",IF(AggCon<>\"Oven Dry\",H83/vol,H81/vol)))","v":""}]
[null,{"$f":"\"(SSD) Unit Weight, U = \" & IF(AggCon=\"Greater Than SSD (coarse)\",\"Wssd\",\"W\") & \" / V, \" & IF(SpecYear=\"1995\",\"(kg/m³)\",\"(lb./ft³)\") &\":\"","v":"(SSD) Unit Weight, U = W / V, (lb./ft³):"},null,null,null,null,{"$f":"IF(ISERROR(G82/vol),\"\",G82/vol)","v":""},{"$f":"IF(ISERROR(H82/vol),\"\",H82/vol)","v":""}]
[]
[null,{"$f":"\"Average Dry Unit Weight, \" & IF(SpecYear=\"1995\",\"(kg/m³)\",\"(lb./ft³)\") &\":\"","v":"Average Dry Unit Weight, (lb./ft³):"},null,null,{"$f":"IF(ISERROR(AVERAGE(G84:H84)),\"\",AVERAGE(G84:H84))","v":""}]
[null,{"$f":"\"Average (SSD) Unit Weight, \" & IF(SpecYear=\"1995\",\"(kg/m³)\",\"(lb./ft³)\") &\":\"","v":"Average (SSD) Unit Weight, (lb./ft³):"},null,null,{"$f":"IF(ISERROR(AVERAGE(G85:H85)),\"\",AVERAGE(G85:H85))","v":""}]
[]
[null,"Tex-405-A, Determining the Percent of Solids and Voids in Concrete Aggregate"]
[null,null,null,null,"% Solids","% Voids"]
[null,"Saturated Surface Dry:",null,null,{"$f":"IF(ISERROR((E88/(IF(SpecYear=\"1995\",1000,62.5)*E33)*100)),\"\",(E88/(IF(SpecYear=\"1995\",1000,62.5)*E33)*100))","v":""},{"$f":"IF(ISERROR(IF(E92=0,0,100-E92)),\"\",IF(E92=0,0,100-E92))","v":""}]
[]
[null,"Remarks:",{"$f":"NOW()","v":"2024-08-01T13:56:30.080"}]
[]
[]
[]
[]
[null,"Sample Method:","Sampled By:",null,null,"Sampled Date:"]
[null,"TX400"]
[null,"Test Method:","Tested By:",null,null,"Tested Date:"]
[null,"TX403"]
[]
[null,"TX404"]
[]
[null,"TX405"]
[]
[null,"TX409"]
[null,"Test Stamp Code:",null,null,"Omit Test:","Completed Date:","Reviewed By:"]
[]
[null,"Locked By:","TxDOT:","District:","Area:"]
[null,"","","",""]
[null,"Authorized By:",null,null,"Authorized Date:"]
[null,null,null,null,null,{"$f":"IF(OR(AuthorizedDate>40185,AuthorizedDate=\"\"),\"3\",IF(AuthorizedDate>38416,\"2\",\"1\"))","v":"3"}]

{"sheet":"RX","index":1,"n_rows":111,"n_cols":9,"rows_kept":111,"cut":false,"hidden":true,"merged":[]}
[109,{"$f":"+SampleId","v":0},{"$f":"+TestNumber","v":0}]
["Fld_nbr","Value","Desc_1","Desc_2","Desc_3","Desc_4","Desc_5","Desc_6","Desc_7"]
[1,{"$f":"IF('Tex-403,4,5,9-A'!$B$95=\"\",\"\",'Tex-403,4,5,9-A'!$B$95)","v":""},{"$f":"'Tex-403,4,5,9-A'!$B$94","v":"Remarks:"}]
[2,{"$f":"IF('Tex-403,4,5,9-A'!$D$19=\"\",\"\",'Tex-403,4,5,9-A'!$D$19)","v":""},{"$f":"IF('Tex-403,4,5,9-A'!$C$19=\"\",\"\",'Tex-403,4,5,9-A'!$C$19)","v":"COURSE\\LIFT:"}]
[3,{"$f":"IF('Tex-403,4,5,9-A'!$C$102=\"\",\"\",'Tex-403,4,5,9-A'!$C$102)","v":""},"Tested By ",{"$f":"IF('Tex-403,4,5,9-A'!$B$102=\"\",\"\",'Tex-403,4,5,9-A'!$B$102)","v":"TX403"}]
[4,{"$f":"IF('Tex-403,4,5,9-A'!$F$102=\"\",\"\",'Tex-403,4,5,9-A'!$F$102)","v":""},"Tested Date ",{"$f":"IF('Tex-403,4,5,9-A'!$B$102=\"\",\"\",'Tex-403,4,5,9-A'!$B$102)","v":"TX403"}]
[5,{"$f":"IF('Tex-403,4,5,9-A'!$C$104=\"\",\"\",'Tex-403,4,5,9-A'!$C$104)","v":""},"Tested By ",{"$f":"IF('Tex-403,4,5,9-A'!$B$104=\"\",\"\",'Tex-403,4,5,9-A'!$B$104)","v":"TX404"}]
[6,{"$f":"IF('Tex-403,4,5,9-A'!$F$104=\"\",\"\",'Tex-403,4,5,9-A'!$F$104)","v":""},"Tested Date ",{"$f":"IF('Tex-403,4,5,9-A'!$B$104=\"\",\"\",'Tex-403,4,5,9-A'!$B$104)","v":"TX404"}]
[7,{"$f":"IF('Tex-403,4,5,9-A'!$C$106=\"\",\"\",'Tex-403,4,5,9-A'!$C$106)","v":""},"Tested By ",{"$f":"IF('Tex-403,4,5,9-A'!$B$106=\"\",\"\",'Tex-403,4,5,9-A'!$B$106)","v":"TX405"}]
[8,{"$f":"IF('Tex-403,4,5,9-A'!$F$106=\"\",\"\",'Tex-403,4,5,9-A'!$F$106)","v":""},"Tested Date ",{"$f":"IF('Tex-403,4,5,9-A'!$B$106=\"\",\"\",'Tex-403,4,5,9-A'!$B$106)","v":"TX405"}]
[9,{"$f":"IF('Tex-403,4,5,9-A'!$C$108=\"\",\"\",'Tex-403,4,5,9-A'!$C$108)","v":""},"Tested By ",{"$f":"IF('Tex-403,4,5,9-A'!$B$108=\"\",\"\",'Tex-403,4,5,9-A'!$B$108)","v":"TX409"}]
[10,{"$f":"IF('Tex-403,4,5,9-A'!$F$108=\"\",\"\",'Tex-403,4,5,9-A'!$F$108)","v":""},"Tested Date ",{"$f":"IF('Tex-403,4,5,9-A'!$B$108=\"\",\"\",'Tex-403,4,5,9-A'!$B$108)","v":"TX409"}]
[11,{"$f":"IF('Tex-403,4,5,9-A'!$C$22=\"\",\"\",'Tex-403,4,5,9-A'!$C$22)","v":""},{"$f":"IF('Tex-403,4,5,9-A'!$B$21=\"\",\"\",'Tex-403,4,5,9-A'!$B$21)","v":"Bulk and Saturated Surface Dry Specific Gravity -- Test Method Tex-403-A"},{"$f":"IF('Tex-403,4,5,9-A'!$B$22=\"\",\"\",'Tex-403,4,5,9-A'!$B$22)","v":"By Method:"}]
[12,{"$f":"IF('Tex-403,4,5,9-A'!$F$24=\"\",\"\",'Tex-403,4,5,9-A'!$F$24)","v":""},{"$f":"IF('Tex-403,4,5,9-A'!$B$21=\"\",\"\",'Tex-403,4,5,9-A'!$B$21)","v":"Bulk and Saturated Surface Dry Specific Gravity -- Test Method Tex-403-A"},{"$f":"IF('Tex-403,4,5,9-A'!$B$24=\"\",\"\",'Tex-403,4,5,9-A'!$B$24)","v":"X = mass of SSD sample, (lb.):"},{"$f":"IF('Tex-403,4,5,9-A'!$F$22=\"\",\"\",'Tex-403,4,5,9-A'!$F$22)","v":"Number 1"}]
[13,{"$f":"IF('Tex-403,4,5,9-A'!$G$24=\"\",\"\",'Tex-403,4,5,9-A'!$G$24)","v":""},{"$f":"IF('Tex-403,4,5,9-A'!$B$21=\"\",\"\",'Tex-403,4,5,9-A'!$B$21)","v":"Bulk and Saturated Surface Dry Specific Gravity -- Test Method Tex-403-A"},{"$f":"IF('Tex-403,4,5,9-A'!$B$24=\"\",\"\",'Tex-403,4,5,9-A'!$B$24)","v":"X = mass of SSD sample, (lb.):"},{"$f":"IF('Tex-403,4,5,9-A'!$G$22=\"\",\"\",'Tex-403,4,5,9-A'!$G$22)","v":"Number 2"}]
[14,{"$f":"IF('Tex-403,4,5,9-A'!$H$24=\"\",\"\",'Tex-403,4,5,9-A'!$H$24)","v":""},{"$f":"IF('Tex-403,4,5,9-A'!$B$21=\"\",\"\",'Tex-403,4,5,9-A'!$B$21)","v":"Bulk and Saturated Surface Dry Specific Gravity -- Test Method Tex-403-A"},{"$f":"IF('Tex-403,4,5,9-A'!$B$24=\"\",\"\",'Tex-403,4,5,9-A'!$B$24)","v":"X = mass of SSD sample, (lb.):"},{"$f":"IF('Tex-403,4,5,9-A'!$H$22=\"\",\"\",'Tex-403,4,5,9-A'!$H$22)","v":"Number 3"}]
[15,{"$f":"IF('Tex-403,4,5,9-A'!$F$25=\"\",\"\",'Tex-403,4,5,9-A'!$F$25)","v":""},{"$f":"IF('Tex-403,4,5,9-A'!$B$21=\"\",\"\",'Tex-403,4,5,9-A'!$B$21)","v":"Bulk and Saturated Surface Dry Specific Gravity -- Test Method Tex-403-A"},{"$f":"IF('Tex-403,4,5,9-A'!$B$25=\"\",\"\",'Tex-403,4,5,9-A'!$B$25)","v":"X1 = the net oven-dry mass of the sample, (lb.):"},{"$f":"IF('Tex-403,4,5,9-A'!$F$22=\"\",\"\",'Tex-403,4,5,9-A'!$F$22)","v":"Number 1"}]
[16,{"$f":"IF('Tex-403,4,5,9-A'!$G$25=\"\",\"\",'Tex-403,4,5,9-A'!$G$25)","v":""},{"$f":"IF('Tex-403,4,5,9-A'!$B$21=\"\",\"\",'Tex-403,4,5,9-A'!$B$21)","v":"Bulk and Saturated Surface Dry Specific Gravity -- Test Method Tex-403-A"},{"$f":"IF('Tex-403,4,5,9-A'!$B$25=\"\",\"\",'Tex-403,4,5,9-A'!$B$25)","v":"X1 = the net oven-dry mass of the sample, (lb.):"},{"$f":"IF('Tex-403,4,5,9-A'!$G$22=\"\",\"\",'Tex-403,4,5,9-A'!$G$22)","v":"Number 2"}]
[17,{"$f":"IF('Tex-403,4,5,9-A'!$H$25=\"\",\"\",'Tex-403,4,5,9-A'!$H$25)","v":""},{"$f":"IF('Tex-403,4,5,9-A'!$B$21=\"\",\"\",'Tex-403,4,5,9-A'!$B$21)","v":"Bulk and Saturated Surface Dry Specific Gravity -- Test Method Tex-403-A"},{"$f":"IF('Tex-403,4,5,9-A'!$B$25=\"\",\"\",'Tex-403,4,5,9-A'!$B$25)","v":"X1 = the net oven-dry mass of the sample, (lb.):"},{"$f":"IF('Tex-403,4,5,9-A'!$H$22=\"\",\"\",'Tex-403,4,5,9-A'!$H$22)","v":"Number 3"}]
[18,{"$f":"IF('Tex-403,4,5,9-A'!$F$26=\"\",\"\",'Tex-403,4,5,9-A'!$F$26)","v":""},{"$f":"IF('Tex-403,4,5,9-A'!$B$21=\"\",\"\",'Tex-403,4,5,9-A'!$B$21)","v":"Bulk and Saturated Surface Dry Specific Gravity -- Test Method Tex-403-A"},{"$f":"IF('Tex-403,4,5,9-A'!$B$26=\"\",\"\",'Tex-403,4,5,9-A'!$B$26)","v":"Y = calibrated pycnometer filled with water, (lb.):"},{"$f":"IF('Tex-403,4,5,9-A'!$F$22=\"\",\"\",'Tex-403,4,5,9-A'!$F$22)","v":"Number 1"}]
[19,{"$f":"IF('Tex-403,4,5,9-A'!$G$26=\"\",\"\",'Tex-403,4,5,9-A'!$G$26)","v":""},{"$f":"IF('Tex-403,4,5,9-A'!$B$21=\"\",\"\",'Tex-403,4,5,9-A'!$B$21)","v":"Bulk and Saturated Surface Dry Specific Gravity -- Test Method Tex-403-A"},{"$f":"IF('Tex-403,4,5,9-A'!$B$26=\"\",\"\",'Tex-403,4,5,9-A'!$B$26)","v":"Y = calibrated pycnometer filled with water, (lb.):"},{"$f":"IF('Tex-403,4,5,9-A'!$G$22=\"\",\"\",'Tex-403,4,5,9-A'!$G$22)","v":"Number 2"}]
[20,{"$f":"IF('Tex-403,4,5,9-A'!$H$26=\"\",\"\",'Tex-403,4,5,9-A'!$H$26)","v":""},{"$f":"IF('Tex-403,4,5,9-A'!$B$21=\"\",\"\",'Tex-403,4,5,9-A'!$B$21)","v":"Bulk and Saturated Surface Dry Specific Gravity -- Test Method Tex-403-A"},{"$f":"IF('Tex-403,4,5,9-A'!$B$26=\"\",\"\",'Tex-403,4,5,9-A'!$B$26)","v":"Y = calibrated pycnometer filled with water, (lb.):"},{"$f":"IF('Tex-403,4,5,9-A'!$H$22=\"\",\"\",'Tex-403,4,5,9-A'!$H$22)","v":"Number 3"}]
[21,{"$f":"IF('Tex-403,4,5,9-A'!$F$27=\"\",\"\",'Tex-403,4,5,9-A'!$F$27)","v":""},{"$f":"IF('Tex-403,4,5,9-A'!$B$21=\"\",\"\",'Tex-403,4,5,9-A'!$B$21)","v":"Bulk and Saturated Surface Dry Specific Gravity -- Test Method Tex-403-A"},{"$f":"IF('Tex-403,4,5,9-A'!$B$27=\"\",\"\",'Tex-403,4,5,9-A'!$B$27)","v":"Z = pycnometer with SSD sample and water, (lb.):"},{"$f":"IF('Tex-403,4,5,9-A'!$F$22=\"\",\"\",'Tex-403,4,5,9-A'!$F$22)","v":"Number 1"}]
[22,{"$f":"IF('Tex-403,4,5,9-A'!$G$27=\"\",\"\",'Tex-403,4,5,9-A'!$G$27)","v":""},{"$f":"IF('Tex-403,4,5,9-A'!$B$21=\"\",\"\",'Tex-403,4,5,9-A'!$B$21)","v":"Bulk and Saturated Surface Dry Specific Gravity -- Test Method Tex-403-A"},{"$f":"IF('Tex-403,4,5,9-A'!$B$27=\"\",\"\",'Tex-403,4,5,9-A'!$B$27)","v":"Z = pycnometer with SSD sample and water, (lb.):"},{"$f":"IF('Tex-403,4,5,9-A'!$G$22=\"\",\"\",'Tex-403,4,5,9-A'!$G$22)","v":"Number 2"}]
[23,{"$f":"IF('Tex-403,4,5,9-A'!$H$27=\"\",\"\",'Tex-403,4,5,9-A'!$H$27)","v":""},{"$f":"IF('Tex-403,4,5,9-A'!$B$21=\"\",\"\",'Tex-403,4,5,9-A'!$B$21)","v":"Bulk and Saturated Surface Dry Specific Gravity -- Test Method Tex-403-A"},{"$f":"IF('Tex-403,4,5,9-A'!$B$27=\"\",\"\",'Tex-403,4,5,9-A'!$B$27)","v":"Z = pycnometer with SSD sample and water, (lb.):"},{"$f":"IF('Tex-403,4,5,9-A'!$H$22=\"\",\"\",'Tex-403,4,5,9-A'!$H$22)","v":"Number 3"}]
[24,{"$f":"IF('Tex-403,4,5,9-A'!$F$28=\"\",\"\",'Tex-403,4,5,9-A'!$F$28)","v":""},{"$f":"IF('Tex-403,4,5,9-A'!$B$21=\"\",\"\",'Tex-403,4,5,9-A'!$B$21)","v":"Bulk and Saturated Surface Dry Specific Gravity -- Test Method Tex-403-A"},{"$f":"IF('Tex-403,4,5,9-A'!$B$28=\"\",\"\",'Tex-403,4,5,9-A'!$B$28)","v":"S = submerged sample weight, in basket, (lb.):"},{"$f":"IF('Tex-403,4,5,9-A'!$F$22=\"\",\"\",'Tex-403,4,5,9-A'!$F$22)","v":"Number 1"}]
[25,{"$f":"IF('Tex-403,4,5,9-A'!$G$28=\"\",\"\",'Tex-403,4,5,9-A'!$G$28)","v":""},{"$f":"IF('Tex-403,4,5,9-A'!$B$21=\"\",\"\",'Tex-403,4,5,9-A'!$B$21)","v":"Bulk and Saturated Surface Dry Specific Gravity -- Test Method Tex-403-A"},{"$f":"IF('Tex-403,4,5,9-A'!$B$28=\"\",\"\",'Tex-403,4,5,9-A'!$B$28)","v":"S = submerged sample weight, in basket, (lb.):"},{"$f":"IF('Tex-403,4,5,9-A'!$G$22=\"\",\"\",'Tex-403,4,5,9-A'!$G$22)","v":"Number 2"}]
[26,{"$f":"IF('Tex-403,4,5,9-A'!$H$28=\"\",\"\",'Tex-403,4,5,9-A'!$H$28)","v":""},{"$f":"IF('Tex-403,4,5,9-A'!$B$21=\"\",\"\",'Tex-403,4,5,9-A'!$B$21)","v":"Bulk and Saturated Surface Dry Specific Gravity -- Test Method Tex-403-A"},{"$f":"IF('Tex-403,4,5,9-A'!$B$28=\"\",\"\",'Tex-403,4,5,9-A'!$B$28)","v":"S = submerged sample weight, in basket, (lb.):"},{"$f":"IF('Tex-403,4,5,9-A'!$H$22=\"\",\"\",'Tex-403,4,5,9-A'!$H$22)","v":"Number 3"}]
[27,{"$f":"IF('Tex-403,4,5,9-A'!$F$30=\"\",\"\",'Tex-403,4,5,9-A'!$F$30)","v":""},{"$f":"IF('Tex-403,4,5,9-A'!$B$21=\"\",\"\",'Tex-403,4,5,9-A'!$B$21)","v":"Bulk and Saturated Surface Dry Specific Gravity -- Test Method Tex-403-A"},{"$f":"IF('Tex-403,4,5,9-A'!$B$30=\"\",\"\",'Tex-403,4,5,9-A'!$B$30)","v":""},{"$f":"IF('Tex-403,4,5,9-A'!$F$22=\"\",\"\",'Tex-403,4,5,9-A'!$F$22)","v":"Number 1"}]
[28,{"$f":"IF('Tex-403,4,5,9-A'!$G$30=\"\",\"\",'Tex-403,4,5,9-A'!$G$30)","v":""},{"$f":"IF('Tex-403,4,5,9-A'!$B$21=\"\",\"\",'Tex-403,4,5,9-A'!$B$21)","v":"Bulk and Saturated Surface Dry Specific Gravity -- Test Method Tex-403-A"},{"$f":"IF('Tex-403,4,5,9-A'!$B$30=\"\",\"\",'Tex-403,4,5,9-A'!$B$30)","v":""},{"$f":"IF('Tex-403,4,5,9-A'!$G$22=\"\",\"\",'Tex-403,4,5,9-A'!$G$22)","v":"Number 2"}]
[29,{"$f":"IF('Tex-403,4,5,9-A'!$H$30=\"\",\"\",'Tex-403,4,5,9-A'!$H$30)","v":""},{"$f":"IF('Tex-403,4,5,9-A'!$B$21=\"\",\"\",'Tex-403,4,5,9-A'!$B$21)","v":"Bulk and Saturated Surface Dry Specific Gravity -- Test Method Tex-403-A"},{"$f":"IF('Tex-403,4,5,9-A'!$B$30=\"\",\"\",'Tex-403,4,5,9-A'!$B$30)","v":""},{"$f":"IF('Tex-403,4,5,9-A'!$H$22=\"\",\"\",'Tex-403,4,5,9-A'!$H$22)","v":"Number 3"}]
[30,{"$f":"IF('Tex-403,4,5,9-A'!$F$31=\"\",\"\",'Tex-403,4,5,9-A'!$F$31)","v":""},{"$f":"IF('Tex-403,4,5,9-A'!$B$21=\"\",\"\",'Tex-403,4,5,9-A'!$B$21)","v":"Bulk and Saturated Surface Dry Specific Gravity -- Test Method Tex-403-A"},{"$f":"IF('Tex-403,4,5,9-A'!$B$31=\"\",\"\",'Tex-403,4,5,9-A'!$B$31)","v":""},{"$f":"IF('Tex-403,4,5,9-A'!$F$22=\"\",\"\",'Tex-403,4,5,9-A'!$F$22)","v":"Number 1"}]
[31,{"$f":"IF('Tex-403,4,5,9-A'!$G$31=\"\",\"\",'Tex-403,4,5,9-A'!$G$31)","v":""},{"$f":"IF('Tex-403,4,5,9-A'!$B$21=\"\",\"\",'Tex-403,4,5,9-A'!$B$21)","v":"Bulk and Saturated Surface Dry Specific Gravity -- Test Method Tex-403-A"},{"$f":"IF('Tex-403,4,5,9-A'!$B$31=\"\",\"\",'Tex-403,4,5,9-A'!$B$31)","v":""},{"$f":"IF('Tex-403,4,5,9-A'!$G$22=\"\",\"\",'Tex-403,4,5,9-A'!$G$22)","v":"Number 2"}]
[32,{"$f":"IF('Tex-403,4,5,9-A'!$H$31=\"\",\"\",'Tex-403,4,5,9-A'!$H$31)","v":""},{"$f":"IF('Tex-403,4,5,9-A'!$B$21=\"\",\"\",'Tex-403,4,5,9-A'!$B$21)","v":"Bulk and Saturated Surface Dry Specific Gravity -- Test Method Tex-403-A"},{"$f":"IF('Tex-403,4,5,9-A'!$B$31=\"\",\"\",'Tex-403,4,5,9-A'!$B$31)","v":""},{"$f":"IF('Tex-403,4,5,9-A'!$H$22=\"\",\"\",'Tex-403,4,5,9-A'!$H$22)","v":"Number 3"}]
[33,{"$f":"IF('Tex-403,4,5,9-A'!$E$33=\"\",\"\",'Tex-403,4,5,9-A'!$E$33)","v":""},{"$f":"IF('Tex-403,4,5,9-A'!$B$21=\"\",\"\",'Tex-403,4,5,9-A'!$B$21)","v":"Bulk and Saturated Surface Dry Specific Gravity -- Test Method Tex-403-A"},{"$f":"IF('Tex-403,4,5,9-A'!$B$33=\"\",\"\",'Tex-403,4,5,9-A'!$B$33)","v":"Average SSD Specific Gravity:"}]
[34,{"$f":"IF('Tex-403,4,5,9-A'!$E$34=\"\",\"\",'Tex-403,4,5,9-A'!$E$34)","v":""},{"$f":"IF('Tex-403,4,5,9-A'!$B$21=\"\",\"\",'Tex-403,4,5,9-A'!$B$21)","v":"Bulk and Saturated Surface Dry Specific Gravity -- Test Method Tex-403-A"},{"$f":"IF('Tex-403,4,5,9-A'!$B$34=\"\",\"\",'Tex-403,4,5,9-A'!$B$34)","v":"Average Bulk Specific Gravity:"}]
[35,{"$f":"IF('Tex-403,4,5,9-A'!$F$38=\"\",\"\",'Tex-403,4,5,9-A'!$F$38)","v":""},{"$f":"IF('Tex-403,4,5,9-A'!$B$36=\"\",\"\",'Tex-403,4,5,9-A'!$B$36)","v":"Absorption -- Test Method Tex-403-A"},{"$f":"IF('Tex-403,4,5,9-A'!$B$38=\"\",\"\",'Tex-403,4,5,9-A'!$B$38)","v":"X = mass of SSD sample, (lb.):"},{"$f":"IF('Tex-403,4,5,9-A'!$F$36=\"\",\"\",'Tex-403,4,5,9-A'!$F$36)","v":"Number 1"}]
[36,{"$f":"IF('Tex-403,4,5,9-A'!$G$38=\"\",\"\",'Tex-403,4,5,9-A'!$G$38)","v":""},{"$f":"IF('Tex-403,4,5,9-A'!$B$36=\"\",\"\",'Tex-403,4,5,9-A'!$B$36)","v":"Absorption -- Test Method Tex-403-A"},{"$f":"IF('Tex-403,4,5,9-A'!$B$38=\"\",\"\",'Tex-403,4,5,9-A'!$B$38)","v":"X = mass of SSD sample, (lb.):"},{"$f":"IF('Tex-403,4,5,9-A'!$G$36=\"\",\"\",'Tex-403,4,5,9-A'!$G$36)","v":"Number 2"}]
[37,{"$f":"IF('Tex-403,4,5,9-A'!$H$38=\"\",\"\",'Tex-403,4,5,9-A'!$H$38)","v":""},{"$f":"IF('Tex-403,4,5,9-A'!$B$36=\"\",\"\",'Tex-403,4,5,9-A'!$B$36)","v":"Absorption -- Test Method Tex-403-A"},{"$f":"IF('Tex-403,4,5,9-A'!$B$38=\"\",\"\",'Tex-403,4,5,9-A'!$B$38)","v":"X = mass of SSD sample, (lb.):"},{"$f":"IF('Tex-403,4,5,9-A'!$H$36=\"\",\"\",'Tex-403,4,5,9-A'!$H$36)","v":"Number 3"}]
[38,{"$f":"IF('Tex-403,4,5,9-A'!$F$39=\"\",\"\",'Tex-403,4,5,9-A'!$F$39)","v":""},{"$f":"IF('Tex-403,4,5,9-A'!$B$36=\"\",\"\",'Tex-403,4,5,9-A'!$B$36)","v":"Absorption -- Test Method Tex-403-A"},{"$f":"IF('Tex-403,4,5,9-A'!$B$39=\"\",\"\",'Tex-403,4,5,9-A'!$B$39)","v":"X1 = the net oven-dry mass of the sample, (lb.):"},{"$f":"IF('Tex-403,4,5,9-A'!$F$36=\"\",\"\",'Tex-403,4,5,9-A'!$F$36)","v":"Number 1"}]
[39,{"$f":"IF('Tex-403,4,5,9-A'!$G$39=\"\",\"\",'Tex-403,4,5,9-A'!$G$39)","v":""},{"$f":"IF('Tex-403,4,5,9-A'!$B$36=\"\",\"\",'Tex-403,4,5,9-A'!$B$36)","v":"Absorption -- Test Method Tex-403-A"},{"$f":"IF('Tex-403,4,5,9-A'!$B$39=\"\",\"\",'Tex-403,4,5,9-A'!$B$39)","v":"X1 = the net oven-dry mass of the sample, (lb.):"},{"$f":"IF('Tex-403,4,5,9-A'!$G$36=\"\",\"\",'Tex-403,4,5,9-A'!$G$36)","v":"Number 2"}]
[40,{"$f":"IF('Tex-403,4,5,9-A'!$H$39=\"\",\"\",'Tex-403,4,5,9-A'!$H$39)","v":""},{"$f":"IF('Tex-403,4,5,9-A'!$B$36=\"\",\"\",'Tex-403,4,5,9-A'!$B$36)","v":"Absorption -- Test Method Tex-403-A"},{"$f":"IF('Tex-403,4,5,9-A'!$B$39=\"\",\"\",'Tex-403,4,5,9-A'!$B$39)","v":"X1 = the net oven-dry mass of the sample, (lb.):"},{"$f":"IF('Tex-403,4,5,9-A'!$H$36=\"\",\"\",'Tex-403,4,5,9-A'!$H$36)","v":"Number 3"}]
[41,{"$f":"IF('Tex-403,4,5,9-A'!$F$40=\"\",\"\",'Tex-403,4,5,9-A'!$F$40)","v":""},{"$f":"IF('Tex-403,4,5,9-A'!$B$36=\"\",\"\",'Tex-403,4,5,9-A'!$B$36)","v":"Absorption -- Test Method Tex-403-A"},{"$f":"IF('Tex-403,4,5,9-A'!$B$40=\"\",\"\",'Tex-403,4,5,9-A'!$B$40)","v":"A = absorption of the aggregate, ( X - X1 ) / X1, (%):"},{"$f":"IF('Tex-403,4,5,9-A'!$F$36=\"\",\"\",'Tex-403,4,5,9-A'!$F$36)","v":"Number 1"}]
[42,{"$f":"IF('Tex-403,4,5,9-A'!$G$40=\"\",\"\",'Tex-403,4,5,9-A'!$G$40)","v":""},{"$f":"IF('Tex-403,4,5,9-A'!$B$36=\"\",\"\",'Tex-403,4,5,9-A'!$B$36)","v":"Absorption -- Test Method Tex-403-A"},{"$f":"IF('Tex-403,4,5,9-A'!$B$40=\"\",\"\",'Tex-403,4,5,9-A'!$B$40)","v":"A = absorption of the aggregate, ( X - X1 ) / X1, (%):"},{"$f":"IF('Tex-403,4,5,9-A'!$G$36=\"\",\"\",'Tex-403,4,5,9-A'!$G$36)","v":"Number 2"}]
[43,{"$f":"IF('Tex-403,4,5,9-A'!$H$40=\"\",\"\",'Tex-403,4,5,9-A'!$H$40)","v":""},{"$f":"IF('Tex-403,4,5,9-A'!$B$36=\"\",\"\",'Tex-403,4,5,9-A'!$B$36)","v":"Absorption -- Test Method Tex-403-A"},{"$f":"IF('Tex-403,4,5,9-A'!$B$40=\"\",\"\",'Tex-403,4,5,9-A'!$B$40)","v":"A = absorption of the aggregate, ( X - X1 ) / X1, (%):"},{"$f":"IF('Tex-403,4,5,9-A'!$H$36=\"\",\"\",'Tex-403,4,5,9-A'!$H$36)","v":"Number 3"}]
[44,{"$f":"IF('Tex-403,4,5,9-A'!$E$42=\"\",\"\",'Tex-403,4,5,9-A'!$E$42)","v":""},{"$f":"IF('Tex-403,4,5,9-A'!$B$36=\"\",\"\",'Tex-403,4,5,9-A'!$B$36)","v":"Absorption -- Test Method Tex-403-A"},{"$f":"IF('Tex-403,4,5,9-A'!$B$42=\"\",\"\",'Tex-403,4,5,9-A'!$B$42)","v":"A = Average Percent Absorption, (%):"}]
[45,{"$f":"IF('Tex-403,4,5,9-A'!$E$46=\"\",\"\",'Tex-403,4,5,9-A'!$E$46)","v":""},{"$f":"IF('Tex-403,4,5,9-A'!$B$44=\"\",\"\",'Tex-403,4,5,9-A'!$B$44)","v":"Moisture Content:"},{"$f":"IF('Tex-403,4,5,9-A'!$B$46=\"\",\"\",'Tex-403,4,5,9-A'!$B$46)","v":"Original Sample Weight, (g):"},{"$f":"IF('Tex-403,4,5,9-A'!$E$44=\"\",\"\",'Tex-403,4,5,9-A'!$E$44)","v":"Number 1"}]
[46,{"$f":"IF('Tex-403,4,5,9-A'!$F$46=\"\",\"\",'Tex-403,4,5,9-A'!$F$46)","v":""},{"$f":"IF('Tex-403,4,5,9-A'!$B$44=\"\",\"\",'Tex-403,4,5,9-A'!$B$44)","v":"Moisture Content:"},{"$f":"IF('Tex-403,4,5,9-A'!$B$46=\"\",\"\",'Tex-403,4,5,9-A'!$B$46)","v":"Original Sample Weight, (g):"},{"$f":"IF('Tex-403,4,5,9-A'!$F$44=\"\",\"\",'Tex-403,4,5,9-A'!$F$44)","v":"Number 2"}]
[47,{"$f":"IF('Tex-403,4,5,9-A'!$G$46=\"\",\"\",'Tex-403,4,5,9-A'!$G$46)","v":""},{"$f":"IF('Tex-403,4,5,9-A'!$B$44=\"\",\"\",'Tex-403,4,5,9-A'!$B$44)","v":"Moisture Content:"},{"$f":"IF('Tex-403,4,5,9-A'!$B$46=\"\",\"\",'Tex-403,4,5,9-A'!$B$46)","v":"Original Sample Weight, (g):"},{"$f":"IF('Tex-403,4,5,9-A'!$G$44=\"\",\"\",'Tex-403,4,5,9-A'!$G$44)","v":"Number 3"}]
[48,{"$f":"IF('Tex-403,4,5,9-A'!$E$47=\"\",\"\",'Tex-403,4,5,9-A'!$E$47)","v":""},{"$f":"IF('Tex-403,4,5,9-A'!$B$44=\"\",\"\",'Tex-403,4,5,9-A'!$B$44)","v":"Moisture Content:"},{"$f":"IF('Tex-403,4,5,9-A'!$B$47=\"\",\"\",'Tex-403,4,5,9-A'!$B$47)","v":"Dry Sample Weight & Tare Weight, (g):"},{"$f":"IF('Tex-403,4,5,9-A'!$E$44=\"\",\"\",'Tex-403,4,5,9-A'!$E$44)","v":"Number 1"}]
[49,{"$f":"IF('Tex-403,4,5,9-A'!$F$47=\"\",\"\",'Tex-403,4,5,9-A'!$F$47)","v":""},{"$f":"IF('Tex-403,4,5,9-A'!$B$44=\"\",\"\",'Tex-403,4,5,9-A'!$B$44)","v":"Moisture Content:"},{"$f":"IF('Tex-403,4,5,9-A'!$B$47=\"\",\"\",'Tex-403,4,5,9-A'!$B$47)","v":"Dry Sample Weight & Tare Weight, (g):"},{"$f":"IF('Tex-403,4,5,9-A'!$F$44=\"\",\"\",'Tex-403,4,5,9-A'!$F$44)","v":"Number 2"}]
[50,{"$f":"IF('Tex-403,4,5,9-A'!$G$47=\"\",\"\",'Tex-403,4,5,9-A'!$G$47)","v":""},{"$f":"IF('Tex-403,4,5,9-A'!$B$44=\"\",\"\",'Tex-403,4,5,9-A'!$B$44)","v":"Moisture Content:"},{"$f":"IF('Tex-403,4,5,9-A'!$B$47=\"\",\"\",'Tex-403,4,5,9-A'!$B$47)","v":"Dry Sample Weight & Tare Weight, (g):"},{"$f":"IF('Tex-403,4,5,9-A'!$G$44=\"\",\"\",'Tex-403,4,5,9-A'!$G$44)","v":"Number 3"}]
[51,{"$f":"IF('Tex-403,4,5,9-A'!$E$48=\"\",\"\",'Tex-403,4,5,9-A'!$E$48)","v":""},{"$f":"IF('Tex-403,4,5,9-A'!$B$44=\"\",\"\",'Tex-403,4,5,9-A'!$B$44)","v":"Moisture Content:"},{"$f":"IF('Tex-403,4,5,9-A'!$B$48=\"\",\"\",'Tex-403,4,5,9-A'!$B$48)","v":"Tare Weight, (g):"},{"$f":"IF('Tex-403,4,5,9-A'!$E$44=\"\",\"\",'Tex-403,4,5,9-A'!$E$44)","v":"Number 1"}]
[52,{"$f":"IF('Tex-403,4,5,9-A'!$F$48=\"\",\"\",'Tex-403,4,5,9-A'!$F$48)","v":""},{"$f":"IF('Tex-403,4,5,9-A'!$B$44=\"\",\"\",'Tex-403,4,5,9-A'!$B$44)","v":"Moisture Content:"},{"$f":"IF('Tex-403,4,5,9-A'!$B$48=\"\",\"\",'Tex-403,4,5,9-A'!$B$48)","v":"Tare Weight, (g):"},{"$f":"IF('Tex-403,4,5,9-A'!$F$44=\"\",\"\",'Tex-403,4,5,9-A'!$F$44)","v":"Number 2"}]
[53,{"$f":"IF('Tex-403,4,5,9-A'!$G$48=\"\",\"\",'Tex-403,4,5,9-A'!$G$48)","v":""},{"$f":"IF('Tex-403,4,5,9-A'!$B$44=\"\",\"\",'Tex-403,4,5,9-A'!$B$44)","v":"Moisture Content:"},{"$f":"IF('Tex-403,4,5,9-A'!$B$48=\"\",\"\",'Tex-403,4,5,9-A'!$B$48)","v":"Tare Weight, (g):"},{"$f":"IF('Tex-403,4,5,9-A'!$G$44=\"\",\"\",'Tex-403,4,5,9-A'!$G$44)","v":"Number 3"}]
[54,{"$f":"IF('Tex-403,4,5,9-A'!$E$49=\"\",\"\",'Tex-403,4,5,9-A'!$E$49)","v":""},{"$f":"IF('Tex-403,4,5,9-A'!$B$44=\"\",\"\",'Tex-403,4,5,9-A'!$B$44)","v":"Moisture Content:"},{"$f":"IF('Tex-403,4,5,9-A'!$B$49=\"\",\"\",'Tex-403,4,5,9-A'!$B$49)","v":"Moisture Content, (%):"},{"$f":"IF('Tex-403,4,5,9-A'!$E$44=\"\",\"\",'Tex-403,4,5,9-A'!$E$44)","v":"Number 1"}]
[55,{"$f":"IF('Tex-403,4,5,9-A'!$F$49=\"\",\"\",'Tex-403,4,5,9-A'!$F$49)","v":""},{"$f":"IF('Tex-403,4,5,9-A'!$B$44=\"\",\"\",'Tex-403,4,5,9-A'!$B$44)","v":"Moisture Content:"},{"$f":"IF('Tex-403,4,5,9-A'!$B$49=\"\",\"\",'Tex-403,4,5,9-A'!$B$49)","v":"Moisture Content, (%):"},{"$f":"IF('Tex-403,4,5,9-A'!$F$44=\"\",\"\",'Tex-403,4,5,9-A'!$F$44)","v":"Number 2"}]
[56,{"$f":"IF('Tex-403,4,5,9-A'!$G$49=\"\",\"\",'Tex-403,4,5,9-A'!$G$49)","v":""},{"$f":"IF('Tex-403,4,5,9-A'!$B$44=\"\",\"\",'Tex-403,4,5,9-A'!$B$44)","v":"Moisture Content:"},{"$f":"IF('Tex-403,4,5,9-A'!$B$49=\"\",\"\",'Tex-403,4,5,9-A'!$B$49)","v":"Moisture Content, (%):"},{"$f":"IF('Tex-403,4,5,9-A'!$G$44=\"\",\"\",'Tex-403,4,5,9-A'!$G$44)","v":"Number 3"}]
[57,{"$f":"IF('Tex-403,4,5,9-A'!$E$51=\"\",\"\",'Tex-403,4,5,9-A'!$E$51)","v":""},{"$f":"IF('Tex-403,4,5,9-A'!$B$44=\"\",\"\",'Tex-403,4,5,9-A'!$B$44)","v":"Moisture Content:"},{"$f":"IF('Tex-403,4,5,9-A'!$B$51=\"\",\"\",'Tex-403,4,5,9-A'!$B$51)","v":"Average A1 = Moisture Content, (%):"}]
[58,{"$f":"IF('Tex-403,4,5,9-A'!$G$55=\"\",\"\",'Tex-403,4,5,9-A'!$G$55)","v":""},{"$f":"IF('Tex-403,4,5,9-A'!$B$53=\"\",\"\",'Tex-403,4,5,9-A'!$B$53)","v":"Tex-409-A, Part I, Determining Free Moisture"},{"$f":"IF('Tex-403,4,5,9-A'!$B$55=\"\",\"\",'Tex-403,4,5,9-A'!$B$55)","v":"G = saturated surface-dry specific gravity:"},{"$f":"IF('Tex-403,4,5,9-A'!$G$53=\"\",\"\",'Tex-403,4,5,9-A'!$G$53)","v":"Number 1"}]
[59,{"$f":"IF('Tex-403,4,5,9-A'!$H$55=\"\",\"\",'Tex-403,4,5,9-A'!$H$55)","v":""},{"$f":"IF('Tex-403,4,5,9-A'!$B$53=\"\",\"\",'Tex-403,4,5,9-A'!$B$53)","v":"Tex-409-A, Part I, Determining Free Moisture"},{"$f":"IF('Tex-403,4,5,9-A'!$B$55=\"\",\"\",'Tex-403,4,5,9-A'!$B$55)","v":"G = saturated surface-dry specific gravity:"},{"$f":"IF('Tex-403,4,5,9-A'!$H$53=\"\",\"\",'Tex-403,4,5,9-A'!$H$53)","v":"Number 2"}]
[60,{"$f":"IF('Tex-403,4,5,9-A'!$I$55=\"\",\"\",'Tex-403,4,5,9-A'!$I$55)","v":""},{"$f":"IF('Tex-403,4,5,9-A'!$B$53=\"\",\"\",'Tex-403,4,5,9-A'!$B$53)","v":"Tex-409-A, Part I, Determining Free Moisture"},{"$f":"IF('Tex-403,4,5,9-A'!$B$55=\"\",\"\",'Tex-403,4,5,9-A'!$B$55)","v":"G = saturated surface-dry specific gravity:"},{"$f":"IF('Tex-403,4,5,9-A'!$I$53=\"\",\"\",'Tex-403,4,5,9-A'!$I$53)","v":"Number 3"}]
[61,{"$f":"IF('Tex-403,4,5,9-A'!$G$56=\"\",\"\",'Tex-403,4,5,9-A'!$G$56)","v":""},{"$f":"IF('Tex-403,4,5,9-A'!$B$53=\"\",\"\",'Tex-403,4,5,9-A'!$B$53)","v":"Tex-409-A, Part I, Determining Free Moisture"},{"$f":"IF('Tex-403,4,5,9-A'!$B$56=\"\",\"\",'Tex-403,4,5,9-A'!$B$56)","v":"Y = mass of pycnometer filled with water (calibration), (g):"},{"$f":"IF('Tex-403,4,5,9-A'!$G$53=\"\",\"\",'Tex-403,4,5,9-A'!$G$53)","v":"Number 1"}]
[62,{"$f":"IF('Tex-403,4,5,9-A'!$H$56=\"\",\"\",'Tex-403,4,5,9-A'!$H$56)","v":""},{"$f":"IF('Tex-403,4,5,9-A'!$B$53=\"\",\"\",'Tex-403,4,5,9-A'!$B$53)","v":"Tex-409-A, Part I, Determining Free Moisture"},{"$f":"IF('Tex-403,4,5,9-A'!$B$56=\"\",\"\",'Tex-403,4,5,9-A'!$B$56)","v":"Y = mass of pycnometer filled with water (calibration), (g):"},{"$f":"IF('Tex-403,4,5,9-A'!$H$53=\"\",\"\",'Tex-403,4,5,9-A'!$H$53)","v":"Number 2"}]
[63,{"$f":"IF('Tex-403,4,5,9-A'!$I$56=\"\",\"\",'Tex-403,4,5,9-A'!$I$56)","v":""},{"$f":"IF('Tex-403,4,5,9-A'!$B$53=\"\",\"\",'Tex-403,4,5,9-A'!$B$53)","v":"Tex-409-A, Part I, Determining Free Moisture"},{"$f":"IF('Tex-403,4,5,9-A'!$B$56=\"\",\"\",'Tex-403,4,5,9-A'!$B$56)","v":"Y = mass of pycnometer filled with water (calibration), (g):"},{"$f":"IF('Tex-403,4,5,9-A'!$I$53=\"\",\"\",'Tex-403,4,5,9-A'!$I$53)","v":"Number 3"}]
[64,{"$f":"IF('Tex-403,4,5,9-A'!$G$57=\"\",\"\",'Tex-403,4,5,9-A'!$G$57)","v":""},{"$f":"IF('Tex-403,4,5,9-A'!$B$53=\"\",\"\",'Tex-403,4,5,9-A'!$B$53)","v":"Tex-409-A, Part I, Determining Free Moisture"},{"$f":"IF('Tex-403,4,5,9-A'!$B$57=\"\",\"\",'Tex-403,4,5,9-A'!$B$57)","v":"      X = mass of the wet sample, (g):"},{"$f":"IF('Tex-403,4,5,9-A'!$G$53=\"\",\"\",'Tex-403,4,5,9-A'!$G$53)","v":"Number 1"}]
[65,{"$f":"IF('Tex-403,4,5,9-A'!$H$57=\"\",\"\",'Tex-403,4,5,9-A'!$H$57)","v":""},{"$f":"IF('Tex-403,4,5,9-A'!$B$53=\"\",\"\",'Tex-403,4,5,9-A'!$B$53)","v":"Tex-409-A, Part I, Determining Free Moisture"},{"$f":"IF('Tex-403,4,5,9-A'!$B$57=\"\",\"\",'Tex-403,4,5,9-A'!$B$57)","v":"      X = mass of the wet sample, (g):"},{"$f":"IF('Tex-403,4,5,9-A'!$H$53=\"\",\"\",'Tex-403,4,5,9-A'!$H$53)","v":"Number 2"}]
[66,{"$f":"IF('Tex-403,4,5,9-A'!$I$57=\"\",\"\",'Tex-403,4,5,9-A'!$I$57)","v":""},{"$f":"IF('Tex-403,4,5,9-A'!$B$53=\"\",\"\",'Tex-403,4,5,9-A'!$B$53)","v":"Tex-409-A, Part I, Determining Free Moisture"},{"$f":"IF('Tex-403,4,5,9-A'!$B$57=\"\",\"\",'Tex-403,4,5,9-A'!$B$57)","v":"      X = mass of the wet sample, (g):"},{"$f":"IF('Tex-403,4,5,9-A'!$I$53=\"\",\"\",'Tex-403,4,5,9-A'!$I$53)","v":"Number 3"}]
[67,{"$f":"IF('Tex-403,4,5,9-A'!$G$58=\"\",\"\",'Tex-403,4,5,9-A'!$G$58)","v":""},{"$f":"IF('Tex-403,4,5,9-A'!$B$53=\"\",\"\",'Tex-403,4,5,9-A'!$B$53)","v":"Tex-409-A, Part I, Determining Free Moisture"},{"$f":"IF('Tex-403,4,5,9-A'!$B$58=\"\",\"\",'Tex-403,4,5,9-A'!$B$58)","v":"Z = Pyc containing sample in SSD condition w/ water Y+X-(X/G), (g):"},{"$f":"IF('Tex-403,4,5,9-A'!$G$53=\"\",\"\",'Tex-403,4,5,9-A'!$G$53)","v":"Number 1"}]
[68,{"$f":"IF('Tex-403,4,5,9-A'!$H$58=\"\",\"\",'Tex-403,4,5,9-A'!$H$58)","v":""},{"$f":"IF('Tex-403,4,5,9-A'!$B$53=\"\",\"\",'Tex-403,4,5,9-A'!$B$53)","v":"Tex-409-A, Part I, Determining Free Moisture"},{"$f":"IF('Tex-403,4,5,9-A'!$B$58=\"\",\"\",'Tex-403,4,5,9-A'!$B$58)","v":"Z = Pyc containing sample in SSD condition w/ water Y+X-(X/G), (g):"},{"$f":"IF('Tex-403,4,5,9-A'!$H$53=\"\",\"\",'Tex-403,4,5,9-A'!$H$53)","v":"Number 2"}]
[69,{"$f":"IF('Tex-403,4,5,9-A'!$I$58=\"\",\"\",'Tex-403,4,5,9-A'!$I$58)","v":""},{"$f":"IF('Tex-403,4,5,9-A'!$B$53=\"\",\"\",'Tex-403,4,5,9-A'!$B$53)","v":"Tex-409-A, Part I, Determining Free Moisture"},{"$f":"IF('Tex-403,4,5,9-A'!$B$58=\"\",\"\",'Tex-403,4,5,9-A'!$B$58)","v":"Z = Pyc containing sample in SSD condition w/ water Y+X-(X/G), (g):"},{"$f":"IF('Tex-403,4,5,9-A'!$I$53=\"\",\"\",'Tex-403,4,5,9-A'!$I$53)","v":"Number 3"}]
[70,{"$f":"IF('Tex-403,4,5,9-A'!$G$59=\"\",\"\",'Tex-403,4,5,9-A'!$G$59)","v":""},{"$f":"IF('Tex-403,4,5,9-A'!$B$53=\"\",\"\",'Tex-403,4,5,9-A'!$B$53)","v":"Tex-409-A, Part I, Determining Free Moisture"},{"$f":"IF('Tex-403,4,5,9-A'!$B$59=\"\",\"\",'Tex-403,4,5,9-A'!$B$59)","v":"Z1 = mass of the pyc containing wet sample and water to fill, (g):"},{"$f":"IF('Tex-403,4,5,9-A'!$G$53=\"\",\"\",'Tex-403,4,5,9-A'!$G$53)","v":"Number 1"}]
[71,{"$f":"IF('Tex-403,4,5,9-A'!$H$59=\"\",\"\",'Tex-403,4,5,9-A'!$H$59)","v":""},{"$f":"IF('Tex-403,4,5,9-A'!$B$53=\"\",\"\",'Tex-403,4,5,9-A'!$B$53)","v":"Tex-409-A, Part I, Determining Free Moisture"},{"$f":"IF('Tex-403,4,5,9-A'!$B$59=\"\",\"\",'Tex-403,4,5,9-A'!$B$59)","v":"Z1 = mass of the pyc containing wet sample and water to fill, (g):"},{"$f":"IF('Tex-403,4,5,9-A'!$H$53=\"\",\"\",'Tex-403,4,5,9-A'!$H$53)","v":"Number 2"}]
[72,{"$f":"IF('Tex-403,4,5,9-A'!$I$59=\"\",\"\",'Tex-403,4,5,9-A'!$I$59)","v":""},{"$f":"IF('Tex-403,4,5,9-A'!$B$53=\"\",\"\",'Tex-403,4,5,9-A'!$B$53)","v":"Tex-409-A, Part I, Determining Free Moisture"},{"$f":"IF('Tex-403,4,5,9-A'!$B$59=\"\",\"\",'Tex-403,4,5,9-A'!$B$59)","v":"Z1 = mass of the pyc containing wet sample and water to fill, (g):"},{"$f":"IF('Tex-403,4,5,9-A'!$I$53=\"\",\"\",'Tex-403,4,5,9-A'!$I$53)","v":"Number 3"}]
[73,{"$f":"IF('Tex-403,4,5,9-A'!$G$60=\"\",\"\",'Tex-403,4,5,9-A'!$G$60)","v":""},{"$f":"IF('Tex-403,4,5,9-A'!$B$53=\"\",\"\",'Tex-403,4,5,9-A'!$B$53)","v":"Tex-409-A, Part I, Determining Free Moisture"},{"$f":"IF('Tex-403,4,5,9-A'!$B$60=\"\",\"\",'Tex-403,4,5,9-A'!$B$60)","v":"M = Free Moisture on wet mass of sample 100*G(Z-Z1) / (X(G-1)), (%):"},{"$f":"IF('Tex-403,4,5,9-A'!$G$53=\"\",\"\",'Tex-403,4,5,9-A'!$G$53)","v":"Number 1"}]
[74,{"$f":"IF('Tex-403,4,5,9-A'!$H$60=\"\",\"\",'Tex-403,4,5,9-A'!$H$60)","v":""},{"$f":"IF('Tex-403,4,5,9-A'!$B$53=\"\",\"\",'Tex-403,4,5,9-A'!$B$53)","v":"Tex-409-A, Part I, Determining Free Moisture"},{"$f":"IF('Tex-403,4,5,9-A'!$B$60=\"\",\"\",'Tex-403,4,5,9-A'!$B$60)","v":"M = Free Moisture on wet mass of sample 100*G(Z-Z1) / (X(G-1)), (%):"},{"$f":"IF('Tex-403,4,5,9-A'!$H$53=\"\",\"\",'Tex-403,4,5,9-A'!$H$53)","v":"Number 2"}]
[75,{"$f":"IF('Tex-403,4,5,9-A'!$I$60=\"\",\"\",'Tex-403,4,5,9-A'!$I$60)","v":""},{"$f":"IF('Tex-403,4,5,9-A'!$B$53=\"\",\"\",'Tex-403,4,5,9-A'!$B$53)","v":"Tex-409-A, Part I, Determining Free Moisture"},{"$f":"IF('Tex-403,4,5,9-A'!$B$60=\"\",\"\",'Tex-403,4,5,9-A'!$B$60)","v":"M = Free Moisture on wet mass of sample 100*G(Z-Z1) / (X(G-1)), (%):"},{"$f":"IF('Tex-403,4,5,9-A'!$I$53=\"\",\"\",'Tex-403,4,5,9-A'!$I$53)","v":"Number 3"}]
[76,{"$f":"IF('Tex-403,4,5,9-A'!$E$62=\"\",\"\",'Tex-403,4,5,9-A'!$E$62)","v":""},{"$f":"IF('Tex-403,4,5,9-A'!$B$53=\"\",\"\",'Tex-403,4,5,9-A'!$B$53)","v":"Tex-409-A, Part I, Determining Free Moisture"},{"$f":"IF('Tex-403,4,5,9-A'!$B$62=\"\",\"\",'Tex-403,4,5,9-A'!$B$62)","v":"Average M = Free Moisture, (%):"}]
[77,{"$f":"IF('Tex-403,4,5,9-A'!$F$66=\"\",\"\",'Tex-403,4,5,9-A'!$F$66)","v":""},{"$f":"IF('Tex-403,4,5,9-A'!$B$64=\"\",\"\",'Tex-403,4,5,9-A'!$B$64)","v":"Tex-409-A, Part II, Absorption in Coarse Aggregate"},{"$f":"IF('Tex-403,4,5,9-A'!$B$66=\"\",\"\",'Tex-403,4,5,9-A'!$B$66)","v":"X = mass of sample in stockpile condition, (g):"},{"$f":"IF('Tex-403,4,5,9-A'!$F$64=\"\",\"\",'Tex-403,4,5,9-A'!$F$64)","v":"Number 1"}]
[78,{"$f":"IF('Tex-403,4,5,9-A'!$G$66=\"\",\"\",'Tex-403,4,5,9-A'!$G$66)","v":""},{"$f":"IF('Tex-403,4,5,9-A'!$B$64=\"\",\"\",'Tex-403,4,5,9-A'!$B$64)","v":"Tex-409-A, Part II, Absorption in Coarse Aggregate"},{"$f":"IF('Tex-403,4,5,9-A'!$B$66=\"\",\"\",'Tex-403,4,5,9-A'!$B$66)","v":"X = mass of sample in stockpile condition, (g):"},{"$f":"IF('Tex-403,4,5,9-A'!$G$64=\"\",\"\",'Tex-403,4,5,9-A'!$G$64)","v":"Number 2"}]
[79,{"$f":"IF('Tex-403,4,5,9-A'!$H$66=\"\",\"\",'Tex-403,4,5,9-A'!$H$66)","v":""},{"$f":"IF('Tex-403,4,5,9-A'!$B$64=\"\",\"\",'Tex-403,4,5,9-A'!$B$64)","v":"Tex-409-A, Part II, Absorption in Coarse Aggregate"},{"$f":"IF('Tex-403,4,5,9-A'!$B$66=\"\",\"\",'Tex-403,4,5,9-A'!$B$66)","v":"X = mass of sample in stockpile condition, (g):"},{"$f":"IF('Tex-403,4,5,9-A'!$H$64=\"\",\"\",'Tex-403,4,5,9-A'!$H$64)","v":"Number 3"}]
[80,{"$f":"IF('Tex-403,4,5,9-A'!$F$67=\"\",\"\",'Tex-403,4,5,9-A'!$F$67)","v":""},{"$f":"IF('Tex-403,4,5,9-A'!$B$64=\"\",\"\",'Tex-403,4,5,9-A'!$B$64)","v":"Tex-409-A, Part II, Absorption in Coarse Aggregate"},{"$f":"IF('Tex-403,4,5,9-A'!$B$67=\"\",\"\",'Tex-403,4,5,9-A'!$B$67)","v":"X1 = mass of sample in SSD condition, (g):"},{"$f":"IF('Tex-403,4,5,9-A'!$F$64=\"\",\"\",'Tex-403,4,5,9-A'!$F$64)","v":"Number 1"}]
[81,{"$f":"IF('Tex-403,4,5,9-A'!$G$67=\"\",\"\",'Tex-403,4,5,9-A'!$G$67)","v":""},{"$f":"IF('Tex-403,4,5,9-A'!$B$64=\"\",\"\",'Tex-403,4,5,9-A'!$B$64)","v":"Tex-409-A, Part II, Absorption in Coarse Aggregate"},{"$f":"IF('Tex-403,4,5,9-A'!$B$67=\"\",\"\",'Tex-403,4,5,9-A'!$B$67)","v":"X1 = mass of sample in SSD condition, (g):"},{"$f":"IF('Tex-403,4,5,9-A'!$G$64=\"\",\"\",'Tex-403,4,5,9-A'!$G$64)","v":"Number 2"}]
[82,{"$f":"IF('Tex-403,4,5,9-A'!$H$67=\"\",\"\",'Tex-403,4,5,9-A'!$H$67)","v":""},{"$f":"IF('Tex-403,4,5,9-A'!$B$64=\"\",\"\",'Tex-403,4,5,9-A'!$B$64)","v":"Tex-409-A, Part II, Absorption in Coarse Aggregate"},{"$f":"IF('Tex-403,4,5,9-A'!$B$67=\"\",\"\",'Tex-403,4,5,9-A'!$B$67)","v":"X1 = mass of sample in SSD condition, (g):"},{"$f":"IF('Tex-403,4,5,9-A'!$H$64=\"\",\"\",'Tex-403,4,5,9-A'!$H$64)","v":"Number 3"}]
[83,{"$f":"IF('Tex-403,4,5,9-A'!$F$68=\"\",\"\",'Tex-403,4,5,9-A'!$F$68)","v":""},{"$f":"IF('Tex-403,4,5,9-A'!$B$64=\"\",\"\",'Tex-403,4,5,9-A'!$B$64)","v":"Tex-409-A, Part II, Absorption in Coarse Aggregate"},{"$f":"IF('Tex-403,4,5,9-A'!$B$68=\"\",\"\",'Tex-403,4,5,9-A'!$B$68)","v":"A2 Absorption = 100 ( X1 - X ) / X, (%):"},{"$f":"IF('Tex-403,4,5,9-A'!$F$64=\"\",\"\",'Tex-403,4,5,9-A'!$F$64)","v":"Number 1"}]
[84,{"$f":"IF('Tex-403,4,5,9-A'!$G$68=\"\",\"\",'Tex-403,4,5,9-A'!$G$68)","v":""},{"$f":"IF('Tex-403,4,5,9-A'!$B$64=\"\",\"\",'Tex-403,4,5,9-A'!$B$64)","v":"Tex-409-A, Part II, Absorption in Coarse Aggregate"},{"$f":"IF('Tex-403,4,5,9-A'!$B$68=\"\",\"\",'Tex-403,4,5,9-A'!$B$68)","v":"A2 Absorption = 100 ( X1 - X ) / X, (%):"},{"$f":"IF('Tex-403,4,5,9-A'!$G$64=\"\",\"\",'Tex-403,4,5,9-A'!$G$64)","v":"Number 2"}]
[85,{"$f":"IF('Tex-403,4,5,9-A'!$H$68=\"\",\"\",'Tex-403,4,5,9-A'!$H$68)","v":""},{"$f":"IF('Tex-403,4,5,9-A'!$B$64=\"\",\"\",'Tex-403,4,5,9-A'!$B$64)","v":"Tex-409-A, Part II, Absorption in Coarse Aggregate"},{"$f":"IF('Tex-403,4,5,9-A'!$B$68=\"\",\"\",'Tex-403,4,5,9-A'!$B$68)","v":"A2 Absorption = 100 ( X1 - X ) / X, (%):"},{"$f":"IF('Tex-403,4,5,9-A'!$H$64=\"\",\"\",'Tex-403,4,5,9-A'!$H$64)","v":"Number 3"}]
[86,{"$f":"IF('Tex-403,4,5,9-A'!$E$70=\"\",\"\",'Tex-403,4,5,9-A'!$E$70)","v":""},{"$f":"IF('Tex-403,4,5,9-A'!$B$64=\"\",\"\",'Tex-403,4,5,9-A'!$B$64)","v":"Tex-409-A, Part II, Absorption in Coarse Aggregate"},{"$f":"IF('Tex-403,4,5,9-A'!$B$70=\"\",\"\",'Tex-403,4,5,9-A'!$B$70)","v":"Average A2 Absorption, (%):"}]
[87,{"$f":"IF('Tex-403,4,5,9-A'!$E$74=\"\",\"\",'Tex-403,4,5,9-A'!$E$74)","v":""},{"$f":"IF('Tex-403,4,5,9-A'!$B$72=\"\",\"\",'Tex-403,4,5,9-A'!$B$72)","v":"Tex-404-A, Determining Unit Mass (Weight) of Aggregates"},{"$f":"IF('Tex-403,4,5,9-A'!$B$74=\"\",\"\",'Tex-403,4,5,9-A'!$B$74)","v":"Condition of the Aggregate Sample:"}]
[88,{"$f":"IF('Tex-403,4,5,9-A'!$E$76=\"\",\"\",'Tex-403,4,5,9-A'!$E$76)","v":""},{"$f":"IF('Tex-403,4,5,9-A'!$B$72=\"\",\"\",'Tex-403,4,5,9-A'!$B$72)","v":"Tex-404-A, Determining Unit Mass (Weight) of Aggregates"},{"$f":"IF('Tex-403,4,5,9-A'!$B$76=\"\",\"\",'Tex-403,4,5,9-A'!$B$76)","v":"V = Volume of container, (ft³):"}]
[89,{"$f":"IF('Tex-403,4,5,9-A'!$E$77=\"\",\"\",'Tex-403,4,5,9-A'!$E$77)","v":""},{"$f":"IF('Tex-403,4,5,9-A'!$B$72=\"\",\"\",'Tex-403,4,5,9-A'!$B$72)","v":"Tex-404-A, Determining Unit Mass (Weight) of Aggregates"},{"$f":"IF('Tex-403,4,5,9-A'!$B$77=\"\",\"\",'Tex-403,4,5,9-A'!$B$77)","v":"Use Absorption from Tex-409 Part II?"}]
[90,{"$f":"IF('Tex-403,4,5,9-A'!$G$79=\"\",\"\",'Tex-403,4,5,9-A'!$G$79)","v":""},{"$f":"IF('Tex-403,4,5,9-A'!$B$72=\"\",\"\",'Tex-403,4,5,9-A'!$B$72)","v":"Tex-404-A, Determining Unit Mass (Weight) of Aggregates"},{"$f":"IF('Tex-403,4,5,9-A'!$B$79=\"\",\"\",'Tex-403,4,5,9-A'!$B$79)","v":"Weight of the aggregate and container, (lb.):"},{"$f":"IF('Tex-403,4,5,9-A'!$G$77=\"\",\"\",'Tex-403,4,5,9-A'!$G$77)","v":"Number 1"}]
[91,{"$f":"IF('Tex-403,4,5,9-A'!$H$79=\"\",\"\",'Tex-403,4,5,9-A'!$H$79)","v":""},{"$f":"IF('Tex-403,4,5,9-A'!$B$72=\"\",\"\",'Tex-403,4,5,9-A'!$B$72)","v":"Tex-404-A, Determining Unit Mass (Weight) of Aggregates"},{"$f":"IF('Tex-403,4,5,9-A'!$B$79=\"\",\"\",'Tex-403,4,5,9-A'!$B$79)","v":"Weight of the aggregate and container, (lb.):"},{"$f":"IF('Tex-403,4,5,9-A'!$H$77=\"\",\"\",'Tex-403,4,5,9-A'!$H$77)","v":"Number 2"}]
[92,{"$f":"IF('Tex-403,4,5,9-A'!$G$80=\"\",\"\",'Tex-403,4,5,9-A'!$G$80)","v":""},{"$f":"IF('Tex-403,4,5,9-A'!$B$72=\"\",\"\",'Tex-403,4,5,9-A'!$B$72)","v":"Tex-404-A, Determining Unit Mass (Weight) of Aggregates"},{"$f":"IF('Tex-403,4,5,9-A'!$B$80=\"\",\"\",'Tex-403,4,5,9-A'!$B$80)","v":"Tare weight of the container, (lb.):"},{"$f":"IF('Tex-403,4,5,9-A'!$G$77=\"\",\"\",'Tex-403,4,5,9-A'!$G$77)","v":"Number 1"}]
[93,{"$f":"IF('Tex-403,4,5,9-A'!$H$80=\"\",\"\",'Tex-403,4,5,9-A'!$H$80)","v":""},{"$f":"IF('Tex-403,4,5,9-A'!$B$72=\"\",\"\",'Tex-403,4,5,9-A'!$B$72)","v":"Tex-404-A, Determining Unit Mass (Weight) of Aggregates"},{"$f":"IF('Tex-403,4,5,9-A'!$B$80=\"\",\"\",'Tex-403,4,5,9-A'!$B$80)","v":"Tare weight of the container, (lb.):"},{"$f":"IF('Tex-403,4,5,9-A'!$H$77=\"\",\"\",'Tex-403,4,5,9-A'!$H$77)","v":"Number 2"}]
[94,{"$f":"IF('Tex-403,4,5,9-A'!$G$81=\"\",\"\",'Tex-403,4,5,9-A'!$G$81)","v":""},{"$f":"IF('Tex-403,4,5,9-A'!$B$72=\"\",\"\",'Tex-403,4,5,9-A'!$B$72)","v":"Tex-404-A, Determining Unit Mass (Weight) of Aggregates"},{"$f":"IF('Tex-403,4,5,9-A'!$B$81=\"\",\"\",'Tex-403,4,5,9-A'!$B$81)","v":"X = mass of aggregate (oven dry) in the container, (lb.):"},{"$f":"IF('Tex-403,4,5,9-A'!$G$77=\"\",\"\",'Tex-403,4,5,9-A'!$G$77)","v":"Number 1"}]
[95,{"$f":"IF('Tex-403,4,5,9-A'!$H$81=\"\",\"\",'Tex-403,4,5,9-A'!$H$81)","v":""},{"$f":"IF('Tex-403,4,5,9-A'!$B$72=\"\",\"\",'Tex-403,4,5,9-A'!$B$72)","v":"Tex-404-A, Determining Unit Mass (Weight) of Aggregates"},{"$f":"IF('Tex-403,4,5,9-A'!$B$81=\"\",\"\",'Tex-403,4,5,9-A'!$B$81)","v":"X = mass of aggregate (oven dry) in the container, (lb.):"},{"$f":"IF('Tex-403,4,5,9-A'!$H$77=\"\",\"\",'Tex-403,4,5,9-A'!$H$77)","v":"Number 2"}]
[96,{"$f":"IF('Tex-403,4,5,9-A'!$G$82=\"\",\"\",'Tex-403,4,5,9-A'!$G$82)","v":""},{"$f":"IF('Tex-403,4,5,9-A'!$B$72=\"\",\"\",'Tex-403,4,5,9-A'!$B$72)","v":"Tex-404-A, Determining Unit Mass (Weight) of Aggregates"},{"$f":"IF('Tex-403,4,5,9-A'!$B$82=\"\",\"\",'Tex-403,4,5,9-A'!$B$82)","v":"W = average net mass of (SSD) aggregate, X(100+A) / 100: (lb.):"},{"$f":"IF('Tex-403,4,5,9-A'!$G$77=\"\",\"\",'Tex-403,4,5,9-A'!$G$77)","v":"Number 1"}]
[97,{"$f":"IF('Tex-403,4,5,9-A'!$H$82=\"\",\"\",'Tex-403,4,5,9-A'!$H$82)","v":""},{"$f":"IF('Tex-403,4,5,9-A'!$B$72=\"\",\"\",'Tex-403,4,5,9-A'!$B$72)","v":"Tex-404-A, Determining Unit Mass (Weight) of Aggregates"},{"$f":"IF('Tex-403,4,5,9-A'!$B$82=\"\",\"\",'Tex-403,4,5,9-A'!$B$82)","v":"W = average net mass of (SSD) aggregate, X(100+A) / 100: (lb.):"},{"$f":"IF('Tex-403,4,5,9-A'!$H$77=\"\",\"\",'Tex-403,4,5,9-A'!$H$77)","v":"Number 2"}]
[98,{"$f":"IF('Tex-403,4,5,9-A'!$G$83=\"\",\"\",'Tex-403,4,5,9-A'!$G$83)","v":""},{"$f":"IF('Tex-403,4,5,9-A'!$B$72=\"\",\"\",'Tex-403,4,5,9-A'!$B$72)","v":"Tex-404-A, Determining Unit Mass (Weight) of Aggregates"},{"$f":"IF('Tex-403,4,5,9-A'!$B$83=\"\",\"\",'Tex-403,4,5,9-A'!$B$83)","v":"Wdry = avg. net mass of (SSD) aggregate, 100 * X1 / (100+A1): (lb.):"},{"$f":"IF('Tex-403,4,5,9-A'!$G$77=\"\",\"\",'Tex-403,4,5,9-A'!$G$77)","v":"Number 1"}]
[99,{"$f":"IF('Tex-403,4,5,9-A'!$H$83=\"\",\"\",'Tex-403,4,5,9-A'!$H$83)","v":""},{"$f":"IF('Tex-403,4,5,9-A'!$B$72=\"\",\"\",'Tex-403,4,5,9-A'!$B$72)","v":"Tex-404-A, Determining Unit Mass (Weight) of Aggregates"},{"$f":"IF('Tex-403,4,5,9-A'!$B$83=\"\",\"\",'Tex-403,4,5,9-A'!$B$83)","v":"Wdry = avg. net mass of (SSD) aggregate, 100 * X1 / (100+A1): (lb.):"},{"$f":"IF('Tex-403,4,5,9-A'!$H$77=\"\",\"\",'Tex-403,4,5,9-A'!$H$77)","v":"Number 2"}]
[100,{"$f":"IF('Tex-403,4,5,9-A'!$G$84=\"\",\"\",'Tex-403,4,5,9-A'!$G$84)","v":""},{"$f":"IF('Tex-403,4,5,9-A'!$B$72=\"\",\"\",'Tex-403,4,5,9-A'!$B$72)","v":"Tex-404-A, Determining Unit Mass (Weight) of Aggregates"},{"$f":"IF('Tex-403,4,5,9-A'!$B$84=\"\",\"\",'Tex-403,4,5,9-A'!$B$84)","v":"Dry Unit Weight, U = Wdry / V, (lb./ft³):"},{"$f":"IF('Tex-403,4,5,9-A'!$G$77=\"\",\"\",'Tex-403,4,5,9-A'!$G$77)","v":"Number 1"}]
[101,{"$f":"IF('Tex-403,4,5,9-A'!$H$84=\"\",\"\",'Tex-403,4,5,9-A'!$H$84)","v":""},{"$f":"IF('Tex-403,4,5,9-A'!$B$72=\"\",\"\",'Tex-403,4,5,9-A'!$B$72)","v":"Tex-404-A, Determining Unit Mass (Weight) of Aggregates"},{"$f":"IF('Tex-403,4,5,9-A'!$B$84=\"\",\"\",'Tex-403,4,5,9-A'!$B$84)","v":"Dry Unit Weight, U = Wdry / V, (lb./ft³):"},{"$f":"IF('Tex-403,4,5,9-A'!$H$77=\"\",\"\",'Tex-403,4,5,9-A'!$H$77)","v":"Number 2"}]
[102,{"$f":"IF('Tex-403,4,5,9-A'!$G$85=\"\",\"\",'Tex-403,4,5,9-A'!$G$85)","v":""},{"$f":"IF('Tex-403,4,5,9-A'!$B$72=\"\",\"\",'Tex-403,4,5,9-A'!$B$72)","v":"Tex-404-A, Determining Unit Mass (Weight) of Aggregates"},{"$f":"IF('Tex-403,4,5,9-A'!$B$85=\"\",\"\",'Tex-403,4,5,9-A'!$B$85)","v":"(SSD) Unit Weight, U = W / V, (lb./ft³):"},{"$f":"IF('Tex-403,4,5,9-A'!$G$77=\"\",\"\",'Tex-403,4,5,9-A'!$G$77)","v":"Number 1"}]
[103,{"$f":"IF('Tex-403,4,5,9-A'!$H$85=\"\",\"\",'Tex-403,4,5,9-A'!$H$85)","v":""},{"$f":"IF('Tex-403,4,5,9-A'!$B$72=\"\",\"\",'Tex-403,4,5,9-A'!$B$72)","v":"Tex-404-A, Determining Unit Mass (Weight) of Aggregates"},{"$f":"IF('Tex-403,4,5,9-A'!$B$85=\"\",\"\",'Tex-403,4,5,9-A'!$B$85)","v":"(SSD) Unit Weight, U = W / V, (lb./ft³):"},{"$f":"IF('Tex-403,4,5,9-A'!$H$77=\"\",\"\",'Tex-403,4,5,9-A'!$H$77)","v":"Number 2"}]
[104,{"$f":"IF('Tex-403,4,5,9-A'!$E$87=\"\",\"\",'Tex-403,4,5,9-A'!$E$87)","v":""},{"$f":"IF('Tex-403,4,5,9-A'!$B$72=\"\",\"\",'Tex-403,4,5,9-A'!$B$72)","v":"Tex-404-A, Determining Unit Mass (Weight) of Aggregates"},{"$f":"IF('Tex-403,4,5,9-A'!$B$87=\"\",\"\",'Tex-403,4,5,9-A'!$B$87)","v":"Average Dry Unit Weight, (lb./ft³):"}]
[105,{"$f":"IF('Tex-403,4,5,9-A'!$E$88=\"\",\"\",'Tex-403,4,5,9-A'!$E$88)","v":""},{"$f":"IF('Tex-403,4,5,9-A'!$B$72=\"\",\"\",'Tex-403,4,5,9-A'!$B$72)","v":"Tex-404-A, Determining Unit Mass (Weight) of Aggregates"},{"$f":"IF('Tex-403,4,5,9-A'!$B$88=\"\",\"\",'Tex-403,4,5,9-A'!$B$88)","v":"Average (SSD) Unit Weight, (lb./ft³):"}]
[106,{"$f":"IF('Tex-403,4,5,9-A'!$E$92=\"\",\"\",'Tex-403,4,5,9-A'!$E$92)","v":""},{"$f":"IF('Tex-403,4,5,9-A'!$B$90=\"\",\"\",'Tex-403,4,5,9-A'!$B$90)","v":"Tex-405-A, Determining the Percent of Solids and Voids in Concrete Aggregate"},{"$f":"IF('Tex-403,4,5,9-A'!$B$92=\"\",\"\",'Tex-403,4,5,9-A'!$B$92)","v":"Saturated Surface Dry:"},{"$f":"IF('Tex-403,4,5,9-A'!$E$91=\"\",\"\",'Tex-403,4,5,9-A'!$E$91)","v":"% Solids"}]
[107,{"$f":"IF('Tex-403,4,5,9-A'!$F$92=\"\",\"\",'Tex-403,4,5,9-A'!$F$92)","v":""},{"$f":"IF('Tex-403,4,5,9-A'!$B$90=\"\",\"\",'Tex-403,4,5,9-A'!$B$90)","v":"Tex-405-A, Determining the Percent of Solids and Voids in Concrete Aggregate"},{"$f":"IF('Tex-403,4,5,9-A'!$B$92=\"\",\"\",'Tex-403,4,5,9-A'!$B$92)","v":"Saturated Surface Dry:"},{"$f":"IF('Tex-403,4,5,9-A'!$F$91=\"\",\"\",'Tex-403,4,5,9-A'!$F$91)","v":"% Voids"}]
[108,{"$f":"IF('Tex-403,4,5,9-A'!$C$100=\"\",\"\",'Tex-403,4,5,9-A'!$C$100)","v":""},"Sampled By ",{"$f":"IF('Tex-403,4,5,9-A'!$B$100=\"\",\"\",'Tex-403,4,5,9-A'!$B$100)","v":"TX400"}]
[109,{"$f":"IF('Tex-403,4,5,9-A'!$F$100=\"\",\"\",'Tex-403,4,5,9-A'!$F$100)","v":""},"Sampled Date ",{"$f":"IF('Tex-403,4,5,9-A'!$B$100=\"\",\"\",'Tex-403,4,5,9-A'!$B$100)","v":"TX400"}]