{"text_format":"1","workbook":"xlsx","n_sheets":2,"sheets":["Tex-430-A","RX"],"not_rendered":{"charts":1,"images":1,"macros":1,"external_links":0,"defined_names":117,"comments":1,"pivot_tables":0},"unopened":[],"bounds":{"document_bytes":16777216,"sheet_cells":100000,"rows_first":2000,"rows_last":500,"rows_between":2000,"halvings":0,"cell_chars":16384,"cell_head_chars":4096},"cells_cut":0,"cells_raw":0,"read":"whole","date_system":"1900"}

{"sheet":"Tex-430-A","index":0,"n_rows":65,"n_cols":11,"rows_kept":65,"cut":false,"hidden":false,"merged":[[23,0,24,0],[14,3,14,8],[0,0,0,1],[12,7,12,8],[11,3,11,4],[12,3,12,4],[13,3,13,4],[16,7,16,8],[16,3,16,4],[11,7,11,8],[7,7,7,8],[10,7,10,8],[7,3,7,4],[8,3,8,4],[8,7,8,8],[10,3,10,4],[9,7,9,8],[9,3,9,4],[65,1,65,3],[61,6,61,8],[51,1,52,8],[57,2,57,4],[56,2,56,4],[61,1,61,3],[15,3,15,8],[13,7,13,8],[54,2,54,4],[55,2,55,4],[59,2,59,4]]}
["TxDOT Manuals >",null,null,"Tex-430-A"]
[null,"TEXAS DEPARTMENT OF TRANSPORTATION",null,null,null,null,null,null,null,null,70]
[null,null,null,null,null,null,null,null,null,null,2]
[null,null,null,null,null,null,null,null,null,null,"tx430.xlsm::45575.635752"]
[null,"SLUMP LOSS OF HYDRAULIC CEMENT CONCRETE"]
[null,"Tex-430-A "]
[null,null,null,null,null,null,null,null,{"$f":"\"Tex-430-A :: File Version: \" & TEXT(MID(sn,SEARCH(\"::\",sn,1)+2,20),\"mm/dd/yy hh:mm:ss\")","v":"Tex-430-A :: File Version: 10/10/24 15:15:29"}]
[null,null,"SAMPLE ID:",null,null,null,"SAMPLED DATE:"]
[null,null,"TEST NUMBER:",null,null,null,"LETTING DATE:"]
[null,null,"SAMPLE STATUS:",null,null,null,"CONTROLLING CSJ:"]
[null,null,"COUNTY:",null,null,null,"SPEC YEAR:"]
[null,null,"SAMPLED BY:",null,null,null,"SPEC ITEM:"]
[null,{"$f":"IF('Tex-430-A'!D26=\"\",\"\",D26)","v":""},"SAMPLE LOCATION:",null,null,null,"SPECIAL PROVISION:"]
[null,null,"MATERIAL CODE:",null,null,null,"GRADE:"]
[null,null,"MATERIAL NAME:"]
[null,null,"PRODUCER:"]
[null,null,"AREA ENGINEER:",null,null,null,"PROJECT MANAGER:"]
[]
[null,null,"COURSE\\LIFT:",null,"STATION:",null,null,"DIST. FROM CL:"]
[]
[]
[]
[]
["SET","Slump","Time","Ambient Temperature","Concrete Temperature","Air Content","Elapsed Time","Slump Requirement","Elapsed Time at \nRequired Slump"]
[null,"(in.)",null,"(°F)","(°F)","(%)","(hr:mm)","(in.)","(hr:mm)"]
[1,null,null,null,null,null,{"$f":"IF(C26=\"\",\"\",(C26-C$26))","v":""}]
[2,null,null,null,null,null,"",{"$f":"IF(H$26=\"\",\"\",H$26)","v":""},{"$f":"IF(B26>H26,IF(I26=\"\",IF(B27>H27,\"\",(G27-(G27-G26)*(H27-B27)/(B26-B27))),\"\"),\"\")","v":""}]
[3,null,null,null,null,null,"",{"$f":"IF(H$26=\"\",\"\",H$26)","v":""},""]
[4,null,null,null,null,null,"",{"$f":"IF(H$26=\"\",\"\",H$26)","v":""},""]
[5,null,null,null,null,null,"",{"$f":"IF(H$26=\"\",\"\",H$26)","v":""},""]
[6,null,null,null,null,null,"","",""]
[7,null,null,null,null,null,"","",""]
[8,null,null,null,null,null,"","",""]
[9,null,null,null,null,null,{"$f":"IF(C34=\"\",\"\",(C34-C$26))","v":""},"",""]
[10,null,null,null,null,null,{"$f":"IF(C35=\"\",\"\",(C35-C$26))","v":""},"",{"$f":"IF(B34>H34,IF(I34=\"\",IF(B35>H35,\"\",(G35-(G35-G34)*(H35-B35)/(B34-B35))),\"\"),\"\")","v":""}]
[11,null,null,null,null,null,{"$f":"IF(C36=\"\",\"\",(C36-C$26))","v":""},"",{"$f":"IF(B35>H35,IF(I35=\"\",IF(B36>H36,\"\",(G36-(G36-G35)*(H36-B36)/(B35-B36))),\"\"),\"\")","v":""}]
[12,null,null,null,null,null,{"$f":"IF(C37=\"\",\"\",(C37-C$26))","v":""},"",{"$f":"IF(B36>H36,IF(I36=\"\",IF(B37>H37,\"\",(G37-(G37-G36)*(H37-B37)/(B36-B37))),\"\"),\"\")","v":""}]
[]
[]
[]
[]
[]
[]
[]
[]
[]
[]
[]
[]
[]
[null,"Remarks:",{"$f":"NOW()","v":"2024-10-10T15:15:29.580"}]
[]
[]
[]
[null,"Sample Method:","Sampled By:",null,null,"Sampled Date:"]
[null,"TX407"," ",null,null," "]
[null,"Test Method:","Tested By:",null,null,"Tested Date:"]
[null,"TX430"," ",null,null," "]
[]
[null,"TX415"]
[null,"Test Stamp Code:",null,null,"Omit Test:","Completed Date:","Reviewed By:"]
[]
[null,"Locked By:","TxDOT:","District:","Area:"]
[]
[null,"Authorized By:",null,null,"Authorized Date:"]

{"sheet":"RX","index":1,"n_rows":74,"n_cols":9,"rows_kept":74,"cut":false,"hidden":true,"merged":[]}
[{"$f":"COUNT(A3:A500)","v":72}]
["Fld_nbr","Value","Desc_1","Desc_2","Desc_3","Desc_4","Desc_5","Desc_6","Desc_7"]
[1,{"$f":"IF('Tex-430-A'!$B$52=\"\",\"\",'Tex-430-A'!$B$52)","v":""},{"$f":"'Tex-430-A'!$B$51","v":"Remarks:"}]
[2,{"$f":"IF('Tex-430-A'!$D$19=\"\",\"\",'Tex-430-A'!$D$19)","v":""},{"$f":"IF('Tex-430-A'!$C$19=\"\",\"\",'Tex-430-A'!$C$19)","v":"COURSE\\LIFT:"}]
[3,{"$f":"IF('Tex-430-A'!$C$58=\"\",\"\",'Tex-430-A'!$C$58)","v":" "},"Tested By ",{"$f":"IF('Tex-430-A'!$B$58=\"\",\"\",'Tex-430-A'!$B$58)","v":"TX430"}]
[4,{"$f":"IF('Tex-430-A'!$F$58=\"\",\"\",'Tex-430-A'!$F$58)","v":" "},"Tested Date ",{"$f":"IF('Tex-430-A'!$B$58=\"\",\"\",'Tex-430-A'!$B$58)","v":"TX430"}]
[5,{"$f":"IF('Tex-430-A'!$H$29=\"\",\"\",'Tex-430-A'!$H$29)","v":""},{"$f":"IF('Tex-430-A'!$B$6=\"\",\"\",'Tex-430-A'!$B$6)","v":"Tex-430-A "},{"$f":"IF('Tex-430-A'!$C$29=\"\",\"\",'Tex-430-A'!$C$29)","v":""}]
[6,{"$f":"IF('Tex-430-A'!$H$30=\"\",\"\",'Tex-430-A'!$H$30)","v":""},{"$f":"IF('Tex-430-A'!$B$6=\"\",\"\",'Tex-430-A'!$B$6)","v":"Tex-430-A "},{"$f":"IF('Tex-430-A'!$C$30=\"\",\"\",'Tex-430-A'!$C$30)","v":""}]
[7,{"$f":"IF('Tex-430-A'!$H$32=\"\",\"\",'Tex-430-A'!$H$32)","v":""},{"$f":"IF('Tex-430-A'!$B$6=\"\",\"\",'Tex-430-A'!$B$6)","v":"Tex-430-A "},{"$f":"IF('Tex-430-A'!$C$32=\"\",\"\",'Tex-430-A'!$C$32)","v":""}]
[8,{"$f":"IF('Tex-430-A'!H26=\"\",\"\",'Tex-430-A'!H26)","v":""},{"$f":"'Tex-430-A'!H24","v":"Slump Requirement"}]
[9,{"$f":"IF('Tex-430-A'!B26=\"\",\"\",'Tex-430-A'!B26)","v":""},{"$f":"'Tex-430-A'!$B$24","v":"Slump"},{"$f":"'Tex-430-A'!$A$26","v":1}]
[10,{"$f":"IF('Tex-430-A'!C26=\"\",\"\",'Tex-430-A'!C26)","v":""},{"$f":"'Tex-430-A'!$C$24","v":"Time"},{"$f":"'Tex-430-A'!$A$26","v":1}]
[11,{"$f":"IF('Tex-430-A'!D26=\"\",\"\",'Tex-430-A'!D26)","v":""},{"$f":"'Tex-430-A'!$D$24","v":"Ambient Temperature"},{"$f":"'Tex-430-A'!$A$26","v":1}]
[12,{"$f":"IF('Tex-430-A'!E26=\"\",\"\",'Tex-430-A'!E26)","v":""},{"$f":"'Tex-430-A'!$E$24","v":"Concrete Temperature"},{"$f":"'Tex-430-A'!$A$26","v":1}]
[13,{"$f":"IF('Tex-430-A'!F26=\"\",\"\",'Tex-430-A'!F26)","v":""},{"$f":"'Tex-430-A'!$F$24","v":"Air Content"},{"$f":"'Tex-430-A'!$A$26","v":1}]
[14,{"$f":"IF('Tex-430-A'!B27=\"\",\"\",'Tex-430-A'!B27)","v":""},{"$f":"'Tex-430-A'!$B$24","v":"Slump"},{"$f":"'Tex-430-A'!$A$27","v":2}]
[15,{"$f":"IF('Tex-430-A'!C27=\"\",\"\",'Tex-430-A'!C27)","v":""},{"$f":"'Tex-430-A'!$C$24","v":"Time"},{"$f":"'Tex-430-A'!$A$27","v":2}]
[16,{"$f":"IF('Tex-430-A'!D27=\"\",\"\",'Tex-430-A'!D27)","v":""},{"$f":"'Tex-430-A'!$D$24","v":"Ambient Temperature"},{"$f":"'Tex-430-A'!$A$27","v":2}]
[17,{"$f":"IF('Tex-430-A'!E27=\"\",\"\",'Tex-430-A'!E27)","v":""},{"$f":"'Tex-430-A'!$E$24","v":"Concrete Temperature"},{"$f":"'Tex-430-A'!$A$27","v":2}]
[18,{"$f":"IF('Tex-430-A'!F27=\"\",\"\",'Tex-430-A'!F27)","v":""},{"$f":"'Tex-430-A'!$F$24","v":"Air Content"},{"$f":"'Tex-430-A'!$A$27","v":2}]
[19,{"$f":"IF('Tex-430-A'!B28=\"\",\"\", 'Tex-430-A'!B28)","v":""},{"$f":"'Tex-430-A'!$B$24","v":"Slump"},{"$f":"'Tex-430-A'!$A$28","v":3}]
[20,{"$f":"IF('Tex-430-A'!C28=\"\",\"\",'Tex-430-A'!C28)","v":""},{"$f":"'Tex-430-A'!$C$24","v":"Time"},{"$f":"'Tex-430-A'!$A$28","v":3}]
[21,{"$f":"IF('Tex-430-A'!D28=\"\",\"\",'Tex-430-A'!D28)","v":""},{"$f":"'Tex-430-A'!$D$24","v":"Ambient Temperature"},{"$f":"'Tex-430-A'!$A$28","v":3}]
[22,{"$f":"IF('Tex-430-A'!E28=\"\",\"\",'Tex-430-A'!E28)","v":""},{"$f":"'Tex-430-A'!$E$24","v":"Concrete Temperature"},{"$f":"'Tex-430-A'!$A$28","v":3}]
[23,{"$f":"IF('Tex-430-A'!F28=\"\",\"\",'Tex-430-A'!F28)","v":""},{"$f":"'Tex-430-A'!$F$24","v":"Air Content"},{"$f":"'Tex-430-A'!$A$28","v":3}]
[24,{"$f":"IF('Tex-430-A'!B29=\"\",\"\", 'Tex-430-A'!B29)","v":""},{"$f":"'Tex-430-A'!$B$24","v":"Slump"},{"$f":"'Tex-430-A'!$A$29","v":4}]
[25,{"$f":"IF('Tex-430-A'!C29=\"\",\"\",'Tex-430-A'!C29)","v":""},{"$f":"'Tex-430-A'!$C$24","v":"Time"},{"$f":"'Tex-430-A'!$A$29","v":4}]
[26,{"$f":"IF('Tex-430-A'!D29=\"\",\"\",'Tex-430-A'!D29)","v":""},{"$f":"'Tex-430-A'!$D$24","v":"Ambient Temperature"},{"$f":"'Tex-430-A'!$A$29","v":4}]
[27,{"$f":"IF('Tex-430-A'!E29=\"\",\"\",'Tex-430-A'!E29)","v":""},{"$f":"'Tex-430-A'!$E$24","v":"Concrete Temperature"},{"$f":"'Tex-430-A'!$A$29","v":4}]
[28,{"$f":"IF('Tex-430-A'!F29=\"\",\"\",'Tex-430-A'!F29)","v":""},{"$f":"'Tex-430-A'!$F$24","v":"Air Content"},{"$f":"'Tex-430-A'!$A$29","v":4}]
[29,{"$f":"IF('Tex-430-A'!B30=\"\",\"\", 'Tex-430-A'!B30)","v":""},{"$f":"'Tex-430-A'!$B$24","v":"Slump"},{"$f":"'Tex-430-A'!$A$30","v":5}]
[30,{"$f":"IF('Tex-430-A'!C30=\"\",\"\",'Tex-430-A'!C30)","v":""},{"$f":"'Tex-430-A'!$C$24","v":"Time"},{"$f":"'Tex-430-A'!$A$30","v":5}]
[31,{"$f":"IF('Tex-430-A'!D30=\"\",\"\",'Tex-430-A'!D30)","v":""},{"$f":"'Tex-430-A'!$D$24","v":"Ambient Temperature"},{"$f":"'Tex-430-A'!$A$30","v":5}]
[32,{"$f":"IF('Tex-430-A'!E30=\"\",\"\",'Tex-430-A'!E30)","v":""},{"$f":"'Tex-430-A'!$E$24","v":"Concrete Temperature"},{"$f":"'Tex-430-A'!$A$30","v":5}]
[33,{"$f":"IF('Tex-430-A'!F30=\"\",\"\",'Tex-430-A'!F30)","v":""},{"$f":"'Tex-430-A'!$F$24","v":"Air Content"},{"$f":"'Tex-430-A'!$A$30","v":5}]
[34,{"$f":"IF('Tex-430-A'!B31=\"\",\"\", 'Tex-430-A'!B31)","v":""},{"$f":"'Tex-430-A'!$B$24","v":"Slump"},{"$f":"'Tex-430-A'!$A$31","v":6}]
[35,{"$f":"IF('Tex-430-A'!C31=\"\",\"\",'Tex-430-A'!C31)","v":""},{"$f":"'Tex-430-A'!$C$24","v":"Time"},{"$f":"'Tex-430-A'!$A$31","v":6}]
[36,{"$f":"IF('Tex-430-A'!D31=\"\",\"\",'Tex-430-A'!D31)","v":""},{"$f":"'Tex-430-A'!$D$24","v":"Ambient Temperature"},{"$f":"'Tex-430-A'!$A$31","v":6}]
[37,{"$f":"IF('Tex-430-A'!E31=\"\",\"\",'Tex-430-A'!E31)","v":""},{"$f":"'Tex-430-A'!$E$24","v":"Concrete Temperature"},{"$f":"'Tex-430-A'!$A$31","v":6}]
[38,{"$f":"IF('Tex-430-A'!F31=\"\",\"\",'Tex-430-A'!F31)","v":""},{"$f":"'Tex-430-A'!$F$24","v":"Air Content"},{"$f":"'Tex-430-A'!$A$31","v":6}]
[39,{"$f":"IF('Tex-430-A'!B32=\"\",\"\", 'Tex-430-A'!B32)","v":""},{"$f":"'Tex-430-A'!$B$24","v":"Slump"},{"$f":"'Tex-430-A'!$A$32","v":7}]
[40,{"$f":"IF('Tex-430-A'!C32=\"\",\"\",'Tex-430-A'!C32)","v":""},{"$f":"'Tex-430-A'!$C$24","v":"Time"},{"$f":"'Tex-430-A'!$A$32","v":7}]
[41,{"$f":"IF('Tex-430-A'!D32=\"\",\"\",'Tex-430-A'!D32)","v":""},{"$f":"'Tex-430-A'!$D$24","v":"Ambient Temperature"},{"$f":"'Tex-430-A'!$A$32","v":7}]
[42,{"$f":"IF('Tex-430-A'!E32=\"\",\"\",'Tex-430-A'!E32)","v":""},{"$f":"'Tex-430-A'!$E$24","v":"Concrete Temperature"},{"$f":"'Tex-430-A'!$A$32","v":7}]
[43,{"$f":"IF('Tex-430-A'!F32=\"\",\"\",'Tex-430-A'!F32)","v":""},{"$f":"'Tex-430-A'!$F$24","v":"Air Content"},{"$f":"'Tex-430-A'!$A$32","v":7}]
[44,{"$f":"IF('Tex-430-A'!B33=\"\",\"\", 'Tex-430-A'!B33)","v":""},{"$f":"'Tex-430-A'!$B$24","v":"Slump"},{"$f":"'Tex-430-A'!$A$33","v":8}]
[45,{"$f":"IF('Tex-430-A'!C33=\"\",\"\",'Tex-430-A'!C33)","v":""},{"$f":"'Tex-430-A'!$C$24","v":"Time"},{"$f":"'Tex-430-A'!$A$33","v":8}]
[46,{"$f":"IF('Tex-430-A'!D33=\"\",\"\",'Tex-430-A'!D33)","v":""},{"$f":"'Tex-430-A'!$D$24","v":"Ambient Temperature"},{"$f":"'Tex-430-A'!$A$33","v":8}]
[47,{"$f":"IF('Tex-430-A'!E33=\"\",\"\",'Tex-430-A'!E33)","v":""},{"$f":"'Tex-430-A'!$E$24","v":"Concrete Temperature"},{"$f":"'Tex-430-A'!$A$33","v":8}]
[48,{"$f":"IF('Tex-430-A'!F33=\"\",\"\",'Tex-430-A'!F33)","v":""},{"$f":"'Tex-430-A'!$F$24","v":"Air Content"},{"$f":"'Tex-430-A'!$A$33","v":8}]
[49,{"$f":"IF('Tex-430-A'!B34=\"\",\"\", 'Tex-430-A'!B34)","v":""},{"$f":"'Tex-430-A'!$B$24","v":"Slump"},{"$f":"'Tex-430-A'!$A$34","v":9}]
[50,{"$f":"IF('Tex-430-A'!C34=\"\",\"\",'Tex-430-A'!C34)","v":""},{"$f":"'Tex-430-A'!$C$24","v":"Time"},{"$f":"'Tex-430-A'!$A$34","v":9}]
[51,{"$f":"IF('Tex-430-A'!D34=\"\",\"\",'Tex-430-A'!D34)","v":""},{"$f":"'Tex-430-A'!$D$24","v":"Ambient Temperature"},{"$f":"'Tex-430-A'!$A$34","v":9}]
[52,{"$f":"IF('Tex-430-A'!E34=\"\",\"\",'Tex-430-A'!E34)","v":""},{"$f":"'Tex-430-A'!$E$24","v":"Concrete Temperature"},{"$f":"'Tex-430-A'!$A$34","v":9}]
[53,{"$f":"IF('Tex-430-A'!F34=\"\",\"\",'Tex-430-A'!F34)","v":""},{"$f":"'Tex-430-A'!$F$24","v":"Air Content"},{"$f":"'Tex-430-A'!$A$34","v":9}]
[54,{"$f":"IF('Tex-430-A'!B35=\"\",\"\", 'Tex-430-A'!B35)","v":""},{"$f":"'Tex-430-A'!$B$24","v":"Slump"},{"$f":"'Tex-430-A'!$A$35","v":10}]
[55,{"$f":"IF('Tex-430-A'!C35=\"\",\"\",'Tex-430-A'!C35)","v":""},{"$f":"'Tex-430-A'!$C$24","v":"Time"},{"$f":"'Tex-430-A'!$A$35","v":10}]
[56,{"$f":"IF('Tex-430-A'!D35=\"\",\"\",'Tex-430-A'!D35)","v":""},{"$f":"'Tex-430-A'!$D$24","v":"Ambient Temperature"},{"$f":"'Tex-430-A'!$A$35","v":10}]
[57,{"$f":"IF('Tex-430-A'!E35=\"\",\"\",'Tex-430-A'!E35)","v":""},{"$f":"'Tex-430-A'!$E$24","v":"Concrete Temperature"},{"$f":"'Tex-430-A'!$A$35","v":10}]
[58,{"$f":"IF('Tex-430-A'!F35=\"\",\"\",'Tex-430-A'!F35)","v":""},{"$f":"'Tex-430-A'!$F$24","v":"Air Content"},{"$f":"'Tex-430-A'!$A$35","v":10}]
[59,{"$f":"IF('Tex-430-A'!B36=\"\",\"\", 'Tex-430-A'!B36)","v":""},{"$f":"'Tex-430-A'!$B$24","v":"Slump"},{"$f":"'Tex-430-A'!$A$36","v":11}]
[60,{"$f":"IF('Tex-430-A'!C36=\"\",\"\",'Tex-430-A'!C36)","v":""},{"$f":"'Tex-430-A'!$C$24","v":"Time"},{"$f":"'Tex-430-A'!$A$36","v":11}]
[61,{"$f":"IF('Tex-430-A'!D36=\"\",\"\",'Tex-430-A'!D36)","v":""},{"$f":"'Tex-430-A'!$D$24","v":"Ambient Temperature"},{"$f":"'Tex-430-A'!$A$36","v":11}]
[62,{"$f":"IF('Tex-430-A'!E36=\"\",\"\",'Tex-430-A'!E36)","v":""},{"$f":"'Tex-430-A'!$E$24","v":"Concrete Temperature"},{"$f":"'Tex-430-A'!$A$36","v":11}]
[63,{"$f":"IF('Tex-430-A'!F36=\"\",\"\",'Tex-430-A'!F36)","v":""},{"$f":"'Tex-430-A'!$F$24","v":"Air Content"},{"$f":"'Tex-430-A'!$A$36","v":11}]
[64,{"$f":"IF('Tex-430-A'!B37=\"\",\"\", 'Tex-430-A'!B37)","v":""},{"$f":"'Tex-430-A'!$B$24","v":"Slump"},{"$f":"'Tex-430-A'!$A$37","v":12}]
[65,{"$f":"IF('Tex-430-A'!C37=\"\",\"\",'Tex-430-A'!C37)","v":""},{"$f":"'Tex-430-A'!$C$24","v":"Time"},{"$f":"'Tex-430-A'!$A$37","v":12}]
[66,{"$f":"IF('Tex-430-A'!D37=\"\",\"\",'Tex-430-A'!D37)","v":""},{"$f":"'Tex-430-A'!$D$24","v":"Ambient Temperature"},{"$f":"'Tex-430-A'!$A$37","v":12}]
[67,{"$f":"IF('Tex-430-A'!E37=\"\",\"\",'Tex-430-A'!E37)","v":""},{"$f":"'Tex-430-A'!$E$24","v":"Concrete Temperature"},{"$f":"'Tex-430-A'!$A$37","v":12}]
[68,{"$f":"IF('Tex-430-A'!F37=\"\",\"\",'Tex-430-A'!F37)","v":""},{"$f":"'Tex-430-A'!$F$24","v":"Air Content"},{"$f":"'Tex-430-A'!$A$37","v":12}]
[69,{"$f":"IF('Tex-430-A'!$C$56=\"\",\"\",'Tex-430-A'!$C$56)","v":" "},"Sampled By ",{"$f":"IF('Tex-430-A'!$B$56=\"\",\"\",'Tex-430-A'!$B$56)","v":"TX407"}]
[70,{"$f":"IF('Tex-430-A'!$F$56=\"\",\"\",'Tex-430-A'!$F$56)","v":" "},"Sampled Date ",{"$f":"IF('Tex-430-A'!$B$56=\"\",\"\",'Tex-430-A'!$B$56)","v":"TX407"}]
[71,{"$f":"IF(ISBLANK('Tex-430-A'!C60), \"\", 'Tex-430-A'!C60)","v":""},{"$f":"'Tex-430-A'!C57","v":"Tested By:"},{"$f":"'Tex-430-A'!$B$60","v":"TX415"}]
[72,{"$f":"IF(ISBLANK('Tex-430-A'!F60), \"\", 'Tex-430-A'!F60)","v":""},{"$f":"'Tex-430-A'!F57","v":"Tested Date:"},{"$f":"'Tex-430-A'!$B$60","v":"TX415"}]