{"text_format":"1","workbook":"xlsx","n_sheets":2,"sheets":["Tex-433-A","RX"],"not_rendered":{"charts":1,"images":1,"macros":1,"external_links":0,"defined_names":90,"comments":1,"pivot_tables":0},"unopened":[],"bounds":{"document_bytes":16777216,"sheet_cells":100000,"rows_first":2000,"rows_last":500,"rows_between":2000,"halvings":0,"cell_chars":16384,"cell_head_chars":4096},"cells_cut":0,"cells_raw":0,"read":"whole","date_system":"1900"}

{"sheet":"Tex-433-A","index":0,"n_rows":65,"n_cols":11,"rows_kept":65,"cut":false,"hidden":false,"merged":[[49,1,50,8],[52,1,52,8],[59,2,59,4],[58,2,58,4],[51,1,51,8],[54,2,54,4],[55,2,55,4],[57,2,57,4],[65,1,65,3],[61,6,61,8],[61,1,61,3],[11,3,11,4],[12,3,12,4],[36,3,36,5],[43,3,43,5],[37,3,37,5],[41,3,41,5],[40,3,40,5],[14,3,14,8],[45,3,45,5],[46,3,46,5],[11,7,11,8],[12,7,12,8],[44,3,44,5],[42,3,42,5],[10,3,10,4],[0,0,0,1],[13,3,13,4],[15,3,15,8],[13,7,13,8],[16,3,16,4],[16,7,16,8],[10,7,10,8],[9,7,9,8],[7,7,7,8],[8,7,8,8],[9,3,9,4],[8,3,8,4],[7,3,7,4]]}
["TxDOT Manuals >",null,null,"Tex-433-A"]
[null,"TEXAS DEPARTMENT OF TRANSPORTATION",null,null,null,null,null,null,null,null,30]
[null,null,null,null,null,null,null,null,null,null,3]
[null,null,null,null,null,null,null,null,null,null,"tx433.xlsm::45481.599144"]
[null,"Absorption and Dry Bulk Specific Gravity of Lightweight Coarse Aggregate"]
[null,"Tex-433-A"]
[null,null,null,null,null,null,null,null,{"$f":"\"File Version: \" & TEXT(MID(sn,SEARCH(\"::\",sn,1)+2,20),\"mm/dd/yy hh:mm:ss\")","v":"File Version: 07/08/24 14:22:46"}]
[null,null,"SAMPLE ID:",null,null,null,"SAMPLED DATE:"]
[null,null,"TEST NUMBER:",null,null,null,"LETTING DATE:"]
[null,null,"SAMPLE STATUS:",null,null,null,"CONTROLLING CSJ:"]
[null,null,"COUNTY:",null,null,null,"SPEC YEAR:"]
[null,null,"SAMPLED BY:",null,null,null,"SPEC ITEM:"]
[null,null,"SAMPLE LOCATION:",null,null,null,"SPECIAL PROVISION:"]
[null,null,"MATERIAL CODE:",null,null,null,"GRADE:"]
[null,null,"MATERIAL NAME:"]
[null,null,"PRODUCER:"]
[null,null,"AREA ENGINEER:",null,null,null,"PROJECT MANAGER:"]
[]
[null,null,"COURSE\\LIFT:",null,"STATION:",null,null,"DIST. FROM CL:"]
[]
[null,"Minutes","Weight pyc+water+sample"]
[null,"0 (calculated)",{"$f":"IF(ISERROR(IF(C23<>\"\",C23,INDEX(LINEST(F24:OFFSET(F24,11-COUNTBLANK(C24:C35),0),LN(E24:OFFSET(E24,11-COUNTBLANK(C24:C35),0))),1,2))),\"\",IF(C23<>\"\",C23,INDEX(LINEST(F24:OFFSET(F24,11-COUNTBLANK(C24:C35),0),LN(E24:OFFSET(E24,11-COUNTBLANK(C24:C35),0))),1,2)))","v":""}]
[null,"0 (optional)"]
[null,2,null,null,{"$f":"SMALL(IF($C$24:$C$35<>\"\",$B$24:$B$35),1)","v":{"$error":"#NUM!"}},{"$f":"VLOOKUP(E24,$B$24:$C$35,2)","v":{"$error":"#NUM!"}}]
[null,4,null,null,{"$f":"SMALL(IF($C$24:$C$35<>\"\",$B$24:$B$35),2)","v":{"$error":"#NUM!"}},{"$f":"VLOOKUP(E25,$B$24:$C$35,2)","v":{"$error":"#NUM!"}}]
[null,6,null,null,{"$f":"SMALL(IF($C$24:$C$35<>\"\",$B$24:$B$35),3)","v":{"$error":"#NUM!"}},{"$error":"#NUM!"}]
[null,8,null,null,{"$f":"SMALL(IF($C$24:$C$35<>\"\",$B$24:$B$35),4)","v":{"$error":"#NUM!"}},{"$error":"#NUM!"}]
[null,10,null,null,{"$f":"SMALL(IF($C$24:$C$35<>\"\",$B$24:$B$35),5)","v":{"$error":"#NUM!"}},{"$error":"#NUM!"}]
[null,20,null,null,{"$f":"SMALL(IF($C$24:$C$35<>\"\",$B$24:$B$35),6)","v":{"$error":"#NUM!"}},{"$error":"#NUM!"}]
[null,30,null,null,{"$f":"SMALL(IF($C$24:$C$35<>\"\",$B$24:$B$35),7)","v":{"$error":"#NUM!"}},{"$error":"#NUM!"}]
[null,60,null,null,{"$f":"SMALL(IF($C$24:$C$35<>\"\",$B$24:$B$35),8)","v":{"$error":"#NUM!"}},{"$error":"#NUM!"}]
[null,90,null,null,{"$f":"SMALL(IF($C$24:$C$35<>\"\",$B$24:$B$35),9)","v":{"$error":"#NUM!"}},{"$error":"#NUM!"}]
[null,100,null,null,{"$f":"SMALL(IF($C$24:$C$35<>\"\",$B$24:$B$35),10)","v":{"$error":"#NUM!"}},{"$error":"#NUM!"}]
[null,120,null,null,{"$f":"SMALL(IF($C$24:$C$35<>\"\",$B$24:$B$35),11)","v":{"$error":"#NUM!"}},{"$error":"#NUM!"}]
[null,1440,null,null,{"$f":"SMALL(IF($C$24:$C$35<>\"\",$B$24:$B$35),12)","v":{"$error":"#NUM!"}},{"$error":"#NUM!"}]
[]
[null,null,null,"Weight of Oven Dried Sample (g):"]
[null,null,null,"Absorption @ 24hrs (%):",null,null,{"$f":"IF(ISERROR(IF(z24hr=\"\",\"\",100*(z24hr-Zoriginal)/OriginalDryWeight)),\"\",IF(z24hr=\"\",\"\",100*(z24hr-Zoriginal)/OriginalDryWeight))","v":""}]
[]
[]
[null,null,null,"Absorption @ 100 minutes (%):",null,null,{"$f":"IF(ISERROR(100*(Z100MINUTES-Zoriginal)/OriginalDryWeight),\"\",100*(Z100MINUTES-Zoriginal)/OriginalDryWeight)","v":""}]
[null,null,null,"Weight of Calibrated Pyc + Water (g):"]
[null,null,null,{"$f":"\"Test Temperature\"&IF(SpecYear=\"\",\"\",IF(SpecYear=\"1995\",\"(C°):\",\"(F°):\"))","v":"Test Temperature"}]
[null,null,null,"Dry Bulk Specific Gravity:",null,null,{"$f":"IF(ISERROR(OriginalDryWeight/(OriginalDryWeight+PycWaterWeight-Zoriginal)),\"\",OriginalDryWeight/(OriginalDryWeight+PycWaterWeight-Zoriginal))","v":""}]
[null,null,null,"Theoretical SG Tex 227-F (optional):"]
[null,null,null,"Porosity:",null,null,{"$f":"IF(ISERROR(1-(DryBulkGravity/TheoreticalGravity)),\"\",1-(DryBulkGravity/TheoreticalGravity))","v":""}]
[null,null,null,"100 Minute Saturation Value:",null,null,{"$f":"IF(ISERROR(ABSORPTION100*DryBulkGravity/POROSITY),\"\",ABSORPTION100*DryBulkGravity/POROSITY)","v":""}]
[]
[null,"Remarks:",{"$f":"NOW()","v":"2024-07-08T14:22:46.670"}]
[]
[]
[]
[]
[]
[null,"Sample Method:","Sampled By:",null,null,"Sampled Date:"]
[null,"TX221"]
[]
[null,"TX400"]
[null,"Test Method:","Tested By:",null,null,"Tested Date:"]
[null,"TX433"]
[null,"Test Stamp Code:",null,null,"Omit Test:","Completed Date:","Reviewed By:"]
[]
[null,"Locked By:","TxDOT:","District:","Area:"]
[]
[null,"Authorized By:",null,null,"Authorized Date:"]

{"sheet":"RX","index":1,"n_rows":33,"n_cols":9,"rows_kept":33,"cut":false,"hidden":true,"merged":[]}
[31]
["Fld_nbr","Value","Desc_1","Desc_2","Desc_3","Desc_4","Desc_5","Desc_6","Desc_7"]
[1,{"$f":"IF('Tex-433-A'!$B$50=\"\",\"\",'Tex-433-A'!$B$50)","v":""},{"$f":"'Tex-433-A'!$B$49","v":"Remarks:"}]
[2,{"$f":"IF('Tex-433-A'!$D$19=\"\",\"\",'Tex-433-A'!$D$19)","v":""},{"$f":"IF('Tex-433-A'!$C$19=\"\",\"\",'Tex-433-A'!$C$19)","v":"COURSE\\LIFT:"}]
[3,{"$f":"IF('Tex-433-A'!$C$60=\"\",\"\",'Tex-433-A'!$C$60)","v":""},"Tested By ",{"$f":"IF('Tex-433-A'!$B$60=\"\",\"\",'Tex-433-A'!$B$60)","v":"TX433"}]
[4,{"$f":"IF('Tex-433-A'!$F$60=\"\",\"\",'Tex-433-A'!$F$60)","v":""},"Tested Date ",{"$f":"IF('Tex-433-A'!$B$60=\"\",\"\",'Tex-433-A'!$B$60)","v":"TX433"}]
[5,{"$f":"IF('Tex-433-A'!$C$22=\"\",\"\",'Tex-433-A'!$C$22)","v":""},{"$f":"IF('Tex-433-A'!$B$6=\"\",\"\",'Tex-433-A'!$B$6)","v":"Tex-433-A"},{"$f":"IF('Tex-433-A'!$C$21=\"\",\"\",'Tex-433-A'!$C$21)","v":"Weight pyc+water+sample"},{"$f":"IF('Tex-433-A'!$B$21=\"\",\"\",'Tex-433-A'!$B$21)","v":"Minutes"},{"$f":"IF('Tex-433-A'!$B$22=\"\",\"\",'Tex-433-A'!$B$22)","v":"0 (calculated)"}]
[6,{"$f":"IF('Tex-433-A'!$C$23=\"\",\"\",'Tex-433-A'!$C$23)","v":""},{"$f":"IF('Tex-433-A'!$B$6=\"\",\"\",'Tex-433-A'!$B$6)","v":"Tex-433-A"},{"$f":"IF('Tex-433-A'!$C$21=\"\",\"\",'Tex-433-A'!$C$21)","v":"Weight pyc+water+sample"},{"$f":"IF('Tex-433-A'!$B$21=\"\",\"\",'Tex-433-A'!$B$21)","v":"Minutes"},{"$f":"IF('Tex-433-A'!$B$23=\"\",\"\",'Tex-433-A'!$B$23)","v":"0 (optional)"}]
[7,{"$f":"IF('Tex-433-A'!$C$24=\"\",\"\",'Tex-433-A'!$C$24)","v":""},{"$f":"IF('Tex-433-A'!$B$6=\"\",\"\",'Tex-433-A'!$B$6)","v":"Tex-433-A"},{"$f":"IF('Tex-433-A'!$C$21=\"\",\"\",'Tex-433-A'!$C$21)","v":"Weight pyc+water+sample"},{"$f":"IF('Tex-433-A'!$B$21=\"\",\"\",'Tex-433-A'!$B$21)","v":"Minutes"},{"$f":"IF('Tex-433-A'!$B$24=\"\",\"\",'Tex-433-A'!$B$24)","v":2}]
[8,{"$f":"IF('Tex-433-A'!$C$25=\"\",\"\",'Tex-433-A'!$C$25)","v":""},{"$f":"IF('Tex-433-A'!$B$6=\"\",\"\",'Tex-433-A'!$B$6)","v":"Tex-433-A"},{"$f":"IF('Tex-433-A'!$C$21=\"\",\"\",'Tex-433-A'!$C$21)","v":"Weight pyc+water+sample"},{"$f":"IF('Tex-433-A'!$B$21=\"\",\"\",'Tex-433-A'!$B$21)","v":"Minutes"},{"$f":"IF('Tex-433-A'!$B$25=\"\",\"\",'Tex-433-A'!$B$25)","v":4}]
[9,{"$f":"IF('Tex-433-A'!$C$26=\"\",\"\",'Tex-433-A'!$C$26)","v":""},{"$f":"IF('Tex-433-A'!$B$6=\"\",\"\",'Tex-433-A'!$B$6)","v":"Tex-433-A"},{"$f":"IF('Tex-433-A'!$C$21=\"\",\"\",'Tex-433-A'!$C$21)","v":"Weight pyc+water+sample"},{"$f":"IF('Tex-433-A'!$B$21=\"\",\"\",'Tex-433-A'!$B$21)","v":"Minutes"},{"$f":"IF('Tex-433-A'!$B$26=\"\",\"\",'Tex-433-A'!$B$26)","v":6}]
[10,{"$f":"IF('Tex-433-A'!$C$27=\"\",\"\",'Tex-433-A'!$C$27)","v":""},{"$f":"IF('Tex-433-A'!$B$6=\"\",\"\",'Tex-433-A'!$B$6)","v":"Tex-433-A"},{"$f":"IF('Tex-433-A'!$C$21=\"\",\"\",'Tex-433-A'!$C$21)","v":"Weight pyc+water+sample"},{"$f":"IF('Tex-433-A'!$B$21=\"\",\"\",'Tex-433-A'!$B$21)","v":"Minutes"},{"$f":"IF('Tex-433-A'!$B$27=\"\",\"\",'Tex-433-A'!$B$27)","v":8}]
[11,{"$f":"IF('Tex-433-A'!$C$28=\"\",\"\",'Tex-433-A'!$C$28)","v":""},{"$f":"IF('Tex-433-A'!$B$6=\"\",\"\",'Tex-433-A'!$B$6)","v":"Tex-433-A"},{"$f":"IF('Tex-433-A'!$C$21=\"\",\"\",'Tex-433-A'!$C$21)","v":"Weight pyc+water+sample"},{"$f":"IF('Tex-433-A'!$B$21=\"\",\"\",'Tex-433-A'!$B$21)","v":"Minutes"},{"$f":"IF('Tex-433-A'!$B$28=\"\",\"\",'Tex-433-A'!$B$28)","v":10}]
[12,{"$f":"IF('Tex-433-A'!$C$29=\"\",\"\",'Tex-433-A'!$C$29)","v":""},{"$f":"IF('Tex-433-A'!$B$6=\"\",\"\",'Tex-433-A'!$B$6)","v":"Tex-433-A"},{"$f":"IF('Tex-433-A'!$C$21=\"\",\"\",'Tex-433-A'!$C$21)","v":"Weight pyc+water+sample"},{"$f":"IF('Tex-433-A'!$B$21=\"\",\"\",'Tex-433-A'!$B$21)","v":"Minutes"},{"$f":"IF('Tex-433-A'!$B$29=\"\",\"\",'Tex-433-A'!$B$29)","v":20}]
[13,{"$f":"IF('Tex-433-A'!$C$30=\"\",\"\",'Tex-433-A'!$C$30)","v":""},{"$f":"IF('Tex-433-A'!$B$6=\"\",\"\",'Tex-433-A'!$B$6)","v":"Tex-433-A"},{"$f":"IF('Tex-433-A'!$C$21=\"\",\"\",'Tex-433-A'!$C$21)","v":"Weight pyc+water+sample"},{"$f":"IF('Tex-433-A'!$B$21=\"\",\"\",'Tex-433-A'!$B$21)","v":"Minutes"},{"$f":"IF('Tex-433-A'!$B$30=\"\",\"\",'Tex-433-A'!$B$30)","v":30}]
[14,{"$f":"IF('Tex-433-A'!$C$31=\"\",\"\",'Tex-433-A'!$C$31)","v":""},{"$f":"IF('Tex-433-A'!$B$6=\"\",\"\",'Tex-433-A'!$B$6)","v":"Tex-433-A"},{"$f":"IF('Tex-433-A'!$C$21=\"\",\"\",'Tex-433-A'!$C$21)","v":"Weight pyc+water+sample"},{"$f":"IF('Tex-433-A'!$B$21=\"\",\"\",'Tex-433-A'!$B$21)","v":"Minutes"},{"$f":"IF('Tex-433-A'!$B$31=\"\",\"\",'Tex-433-A'!$B$31)","v":60}]
[15,{"$f":"IF('Tex-433-A'!$C$32=\"\",\"\",'Tex-433-A'!$C$32)","v":""},{"$f":"IF('Tex-433-A'!$B$6=\"\",\"\",'Tex-433-A'!$B$6)","v":"Tex-433-A"},{"$f":"IF('Tex-433-A'!$C$21=\"\",\"\",'Tex-433-A'!$C$21)","v":"Weight pyc+water+sample"},{"$f":"IF('Tex-433-A'!$B$21=\"\",\"\",'Tex-433-A'!$B$21)","v":"Minutes"},{"$f":"IF('Tex-433-A'!$B$32=\"\",\"\",'Tex-433-A'!$B$32)","v":90}]
[16,{"$f":"IF('Tex-433-A'!$C$33=\"\",\"\",'Tex-433-A'!$C$33)","v":""},{"$f":"IF('Tex-433-A'!$B$6=\"\",\"\",'Tex-433-A'!$B$6)","v":"Tex-433-A"},{"$f":"IF('Tex-433-A'!$C$21=\"\",\"\",'Tex-433-A'!$C$21)","v":"Weight pyc+water+sample"},{"$f":"IF('Tex-433-A'!$B$21=\"\",\"\",'Tex-433-A'!$B$21)","v":"Minutes"},{"$f":"IF('Tex-433-A'!$B$33=\"\",\"\",'Tex-433-A'!$B$33)","v":100}]
[17,{"$f":"IF('Tex-433-A'!$C$34=\"\",\"\",'Tex-433-A'!$C$34)","v":""},{"$f":"IF('Tex-433-A'!$B$6=\"\",\"\",'Tex-433-A'!$B$6)","v":"Tex-433-A"},{"$f":"IF('Tex-433-A'!$C$21=\"\",\"\",'Tex-433-A'!$C$21)","v":"Weight pyc+water+sample"},{"$f":"IF('Tex-433-A'!$B$21=\"\",\"\",'Tex-433-A'!$B$21)","v":"Minutes"},{"$f":"IF('Tex-433-A'!$B$34=\"\",\"\",'Tex-433-A'!$B$34)","v":120}]
[18,{"$f":"IF('Tex-433-A'!$C$35=\"\",\"\",'Tex-433-A'!$C$35)","v":""},{"$f":"IF('Tex-433-A'!$B$6=\"\",\"\",'Tex-433-A'!$B$6)","v":"Tex-433-A"},{"$f":"IF('Tex-433-A'!$C$21=\"\",\"\",'Tex-433-A'!$C$21)","v":"Weight pyc+water+sample"},{"$f":"IF('Tex-433-A'!$B$21=\"\",\"\",'Tex-433-A'!$B$21)","v":"Minutes"},{"$f":"IF('Tex-433-A'!$B$35=\"\",\"\",'Tex-433-A'!$B$35)","v":1440}]
[19,{"$f":"IF('Tex-433-A'!$G$37=\"\",\"\",'Tex-433-A'!$G$37)","v":""},{"$f":"IF('Tex-433-A'!$B$6=\"\",\"\",'Tex-433-A'!$B$6)","v":"Tex-433-A"},{"$f":"IF('Tex-433-A'!$D$37=\"\",\"\",'Tex-433-A'!$D$37)","v":"Weight of Oven Dried Sample (g):"}]
[20,{"$f":"IF('Tex-433-A'!$G$38=\"\",\"\",'Tex-433-A'!$G$38)","v":""},{"$f":"IF('Tex-433-A'!$B$6=\"\",\"\",'Tex-433-A'!$B$6)","v":"Tex-433-A"},{"$f":"IF('Tex-433-A'!$D$38=\"\",\"\",'Tex-433-A'!$D$38)","v":"Absorption @ 24hrs (%):"}]
[21,{"$f":"IF('Tex-433-A'!$G$41=\"\",\"\",'Tex-433-A'!$G$41)","v":""},{"$f":"IF('Tex-433-A'!$B$6=\"\",\"\",'Tex-433-A'!$B$6)","v":"Tex-433-A"},{"$f":"IF('Tex-433-A'!$D$41=\"\",\"\",'Tex-433-A'!$D$41)","v":"Absorption @ 100 minutes (%):"}]
[22,{"$f":"IF('Tex-433-A'!$G$42=\"\",\"\",'Tex-433-A'!$G$42)","v":""},{"$f":"IF('Tex-433-A'!$B$6=\"\",\"\",'Tex-433-A'!$B$6)","v":"Tex-433-A"},{"$f":"IF('Tex-433-A'!$D$42=\"\",\"\",'Tex-433-A'!$D$42)","v":"Weight of Calibrated Pyc + Water (g):"}]
[23,{"$f":"IF('Tex-433-A'!$G$43=\"\",\"\",'Tex-433-A'!$G$43)","v":""},{"$f":"IF('Tex-433-A'!$B$6=\"\",\"\",'Tex-433-A'!$B$6)","v":"Tex-433-A"},{"$f":"IF('Tex-433-A'!$D$43=\"\",\"\",'Tex-433-A'!$D$43)","v":"Test Temperature"}]
[24,{"$f":"IF('Tex-433-A'!$G$44=\"\",\"\",'Tex-433-A'!$G$44)","v":""},{"$f":"IF('Tex-433-A'!$B$6=\"\",\"\",'Tex-433-A'!$B$6)","v":"Tex-433-A"},{"$f":"IF('Tex-433-A'!$D$44=\"\",\"\",'Tex-433-A'!$D$44)","v":"Dry Bulk Specific Gravity:"}]
[25,{"$f":"IF('Tex-433-A'!$G$45=\"\",\"\",'Tex-433-A'!$G$45)","v":""},{"$f":"IF('Tex-433-A'!$B$6=\"\",\"\",'Tex-433-A'!$B$6)","v":"Tex-433-A"},{"$f":"IF('Tex-433-A'!$D$45=\"\",\"\",'Tex-433-A'!$D$45)","v":"Theoretical SG Tex 227-F (optional):"}]
[26,{"$f":"IF('Tex-433-A'!$G$46=\"\",\"\",'Tex-433-A'!$G$46)","v":""},{"$f":"IF('Tex-433-A'!$B$6=\"\",\"\",'Tex-433-A'!$B$6)","v":"Tex-433-A"},{"$f":"IF('Tex-433-A'!$D$46=\"\",\"\",'Tex-433-A'!$D$46)","v":"Porosity:"}]
[27,{"$f":"IF('Tex-433-A'!$G$47=\"\",\"\",'Tex-433-A'!$G$47)","v":""},{"$f":"IF('Tex-433-A'!$B$6=\"\",\"\",'Tex-433-A'!$B$6)","v":"Tex-433-A"},{"$f":"IF('Tex-433-A'!$D$47=\"\",\"\",'Tex-433-A'!$D$47)","v":"100 Minute Saturation Value:"}]
[28,{"$f":"IF('Tex-433-A'!$C$56=\"\",\"\",'Tex-433-A'!$C$56)","v":""},"Sampled By ",{"$f":"IF('Tex-433-A'!$B$56=\"\",\"\",'Tex-433-A'!$B$56)","v":"TX221"}]
[29,{"$f":"IF('Tex-433-A'!$F$56=\"\",\"\",'Tex-433-A'!$F$56)","v":""},"Sampled Date ",{"$f":"IF('Tex-433-A'!$B$56=\"\",\"\",'Tex-433-A'!$B$56)","v":"TX221"}]
[30,{"$f":"IF('Tex-433-A'!$C$58=\"\",\"\",'Tex-433-A'!$C$58)","v":""},"Sampled By ",{"$f":"IF('Tex-433-A'!$B$58=\"\",\"\",'Tex-433-A'!$B$58)","v":"TX400"}]
[31,{"$f":"IF('Tex-433-A'!$F$58=\"\",\"\",'Tex-433-A'!$F$58)","v":""},"Sampled Date ",{"$f":"IF('Tex-433-A'!$B$58=\"\",\"\",'Tex-433-A'!$B$58)","v":"TX400"}]