{"text_format":"1","workbook":"xlsx","n_sheets":2,"sheets":["TX442","Sheet1"],"not_rendered":{"charts":0,"images":1,"macros":1,"external_links":0,"defined_names":66,"comments":1,"pivot_tables":0},"unopened":[],"bounds":{"document_bytes":16777216,"sheet_cells":100000,"rows_first":2000,"rows_last":500,"rows_between":2000,"halvings":0,"cell_chars":16384,"cell_head_chars":4096},"cells_cut":0,"cells_raw":0,"read":"whole","date_system":"1900"}

{"sheet":"TX442","index":0,"n_rows":42,"n_cols":11,"rows_kept":42,"cut":false,"hidden":false,"merged":[[42,1,42,3],[38,6,38,8],[36,2,36,4],[35,2,35,4],[38,1,38,3],[0,0,0,1],[12,7,12,8],[12,3,12,4],[13,3,13,4],[13,7,13,8],[7,7,7,8],[10,7,10,8],[7,3,7,4],[10,3,10,4],[8,3,8,4],[8,7,8,8],[31,1,32,8],[34,1,34,8],[14,3,14,8],[9,7,9,8],[9,3,9,4],[11,7,11,8],[16,3,16,4],[11,3,11,4],[15,3,15,8],[16,7,16,8],[33,1,33,8],[22,7,23,7],[22,6,23,6],[22,2,23,2],[22,1,23,1],[24,1,27,1]]}
["TxDOT Manuals >"]
[null,"TEXAS DEPARTMENT OF TRANSPORTATION",null,null,null,null,null,null,null,null,24]
[null,null,null,null,null,null,null,null,null,null,1]
[null,null,null,null,null,null,null,null,null,null,"tx442.xlsm::45719.632708"]
[null,"COMPRESSIVE STRENGTH OF GROUTS"]
[]
[null,null,null,null,null,null,null,null,{"$f":"\"File Version: \" & TEXT(MID(sn,SEARCH(\"::\",sn,1)+2,20),\"mm/dd/yy hh:mm:ss\")","v":"File Version: 03/03/25 15:11:06"}]
[null,null,"SAMPLE ID:",null,null,null,"SAMPLED DATE:"]
[null,null,"TEST NUMBER:",null,null,null,"LETTING DATE:"]
[null,null,"SAMPLE STATUS:",null,null,null,"CONTROLLING CSJ:"]
[null,null,"COUNTY:",null,null,null,"SPEC YEAR:"]
[null,null,"SAMPLED BY:",null,null,null,"SPEC ITEM:"]
[null,null,"SAMPLE LOCATION:",null,null,null,"SPECIAL PROVISION:"]
[null,null,"MATERIAL CODE:",null,null,null,"GRADE:"]
[null,null,"MATERIAL NAME:"]
[null,null,"PRODUCER:"]
[null,null,"AREA ENGINEER:",null,null,null,"PROJECT MANAGER:"]
[]
[null,null,"COURSE\\LIFT:",null,"STATION:",null,null,"DIST. FROM CL:"]
[]
[null,"CUBE COMPRESSIVE STRENGTH"]
[]
[null,"Cast Date","Break Age","Cube 1","Cube 2","Cube 3","Avg Load, lbf","Avg Compressive Strength, psi"]
[null,null,null,"Load, lbf","Load, lbf","Load, lbf"]
[null,null,7,null,null,null,{"$f":"IF(D25=\"\", \"\", ROUND(AVERAGE(D25:F25), 0))","v":""},{"$f":"IF(G25=\"\", \"\", ROUND(G25/4, -1))","v":""}]
[null,null,28,null,null,null,{"$f":"IF(D26=\"\", \"\", ROUND(AVERAGE(D26:F26), 0))","v":""},{"$f":"IF(G26=\"\", \"\", ROUND(G26/4, -1))","v":""}]
[null,null,null,null,null,null,"",""]
[null,null,null,null,null,null,"",""]
[]
[]
[null,"Remarks:",{"$f":"NOW()","v":"2025-03-03T15:11:06.050"}]
[]
[]
[]
[]
[null,"Test Method:","Tested By:",null,null,"Tested Date:"]
[null,"TX442"]
[null,"Test Stamp Code:",null,null,"Omit Test:","Completed Date:","Reviewed By:"]
[]
[null,"Locked By:","TxDOT:","District:","Area:"]
[]
[null,"Authorized By:",null,null,"Authorized Date:"]

{"sheet":"Sheet1","index":1,"n_rows":34,"n_cols":9,"rows_kept":34,"cut":false,"hidden":false,"merged":[]}
[{"$f":"COUNTA(A3:A5000)","v":32}]
["Fld_nbr","Value","Desc_1","Desc_2","Desc_3","Desc_4","Desc_5","Desc_6","Desc_7"]
[1,{"$f":"IF(Field2=\"\", \"\", )","v":""},{"$f":"'TX442'!G11","v":"SPEC YEAR:"}]
[2,{"$f":"IF(Field3=\"\",\"\",Field3)","v":""},{"$f":"'TX442'!G13","v":"SPECIAL PROVISION:"}]
[3,{"$f":"IF(Field4=\"\", \"\", Field4)","v":""},{"$f":"'TX442'!G14","v":"GRADE:"}]
[4,{"$f":"IF(CourseLift=\"\", \"\", CourseLift)","v":""},{"$f":"'TX442'!C19","v":"COURSE\\LIFT:"}]
[5,{"$f":"IF(Field10=\"\", \"\", Field10)","v":""},{"$f":"'TX442'!$B$21","v":"CUBE COMPRESSIVE STRENGTH"},{"$f":"'TX442'!B23","v":"Cast Date"}]
[6,{"$f":"IF('TX442'!C25=\"\", \"\", 'TX442'!C25)","v":7},{"$f":"'TX442'!$B$21","v":"CUBE COMPRESSIVE STRENGTH"},{"$f":"'TX442'!$C$23","v":"Break Age"}]
[7,{"$f":"IF(Field11=\"\", \"\", Field11)","v":""},{"$f":"'TX442'!$B$21","v":"CUBE COMPRESSIVE STRENGTH"},{"$f":"'TX442'!$D$23","v":"Cube 1"},{"$f":"'TX442'!$D$24","v":"Load, lbf"}]
[8,{"$f":"IF(Field12=\"\", \"\", Field12)","v":""},{"$f":"'TX442'!$B$21","v":"CUBE COMPRESSIVE STRENGTH"},{"$f":"'TX442'!$E$23","v":"Cube 2"},{"$f":"'TX442'!$E$24","v":"Load, lbf"}]
[9,{"$f":"IF(Field13=\"\", \"\", Field13)","v":""},{"$f":"'TX442'!$B$21","v":"CUBE COMPRESSIVE STRENGTH"},{"$f":"'TX442'!$F$23","v":"Cube 3"},{"$f":"'TX442'!$F$24","v":"Load, lbf"}]
[10,{"$f":"IF('TX442'!G25=\"\", \"\", 'TX442'!G25)","v":""},{"$f":"'TX442'!$B$21","v":"CUBE COMPRESSIVE STRENGTH"},{"$f":"'TX442'!$G$23","v":"Avg Load, lbf"}]
[11,{"$f":"IF('TX442'!H25=\"\", \"\", 'TX442'!H25)","v":""},{"$f":"'TX442'!$B$21","v":"CUBE COMPRESSIVE STRENGTH"},{"$f":"'TX442'!$H$23","v":"Avg Compressive Strength, psi"}]
[12,{"$f":"IF('TX442'!C26=\"\", \"\", 'TX442'!C26)","v":28},{"$f":"'TX442'!$B$21","v":"CUBE COMPRESSIVE STRENGTH"},{"$f":"'TX442'!$C$23","v":"Break Age"}]
[13,{"$f":"IF(Field14=\"\", \"\", Field14)","v":""},{"$f":"'TX442'!$B$21","v":"CUBE COMPRESSIVE STRENGTH"},{"$f":"'TX442'!$D$23","v":"Cube 1"},{"$f":"'TX442'!$D$24","v":"Load, lbf"}]
[14,{"$f":"IF(Field15=\"\", \"\", Field15)","v":""},{"$f":"'TX442'!$B$21","v":"CUBE COMPRESSIVE STRENGTH"},{"$f":"'TX442'!$E$23","v":"Cube 2"},{"$f":"'TX442'!$E$24","v":"Load, lbf"}]
[15,{"$f":"IF(Field16=\"\", \"\", Field16)","v":""},{"$f":"'TX442'!$B$21","v":"CUBE COMPRESSIVE STRENGTH"},{"$f":"'TX442'!$F$23","v":"Cube 3"},{"$f":"'TX442'!$F$24","v":"Load, lbf"}]
[16,{"$f":"IF('TX442'!G26=\"\", \"\", 'TX442'!G26)","v":""},{"$f":"'TX442'!$B$21","v":"CUBE COMPRESSIVE STRENGTH"},{"$f":"'TX442'!$G$23","v":"Avg Load, lbf"}]
[17,{"$f":"IF('TX442'!H26=\"\", \"\", 'TX442'!H26)","v":""},{"$f":"'TX442'!$B$21","v":"CUBE COMPRESSIVE STRENGTH"},{"$f":"'TX442'!$H$23","v":"Avg Compressive Strength, psi"}]
[18,{"$f":"IF(Field17=\"\", \"\", Field17)","v":""},{"$f":"'TX442'!$B$21","v":"CUBE COMPRESSIVE STRENGTH"},{"$f":"'TX442'!$C$23","v":"Break Age"}]
[19,{"$f":"IF(Field18=\"\", \"\", Field18)","v":""},{"$f":"'TX442'!$B$21","v":"CUBE COMPRESSIVE STRENGTH"},{"$f":"'TX442'!$D$23","v":"Cube 1"},{"$f":"'TX442'!$D$24","v":"Load, lbf"}]
[20,{"$f":"IF(Field19=\"\", \"\", Field19)","v":""},{"$f":"'TX442'!$B$21","v":"CUBE COMPRESSIVE STRENGTH"},{"$f":"'TX442'!$E$23","v":"Cube 2"},{"$f":"'TX442'!$E$24","v":"Load, lbf"}]
[21,{"$f":"IF(Field20=\"\", \"\", Field20)","v":""},{"$f":"'TX442'!$B$21","v":"CUBE COMPRESSIVE STRENGTH"},{"$f":"'TX442'!$F$23","v":"Cube 3"},{"$f":"'TX442'!$F$24","v":"Load, lbf"}]
[22,{"$f":"IF('TX442'!G27=\"\", \"\", 'TX442'!G27)","v":""},{"$f":"'TX442'!$B$21","v":"CUBE COMPRESSIVE STRENGTH"},{"$f":"'TX442'!$G$23","v":"Avg Load, lbf"}]
[23,{"$f":"IF('TX442'!H27=\"\", \"\", 'TX442'!H27)","v":""},{"$f":"'TX442'!$B$21","v":"CUBE COMPRESSIVE STRENGTH"},{"$f":"'TX442'!$H$23","v":"Avg Compressive Strength, psi"}]
[24,{"$f":"IF(Field21=\"\", \"\", Field21)","v":""},{"$f":"'TX442'!$B$21","v":"CUBE COMPRESSIVE STRENGTH"},{"$f":"'TX442'!$C$23","v":"Break Age"}]
[25,{"$f":"IF(Field22=\"\", \"\", Field22)","v":""},{"$f":"'TX442'!$B$21","v":"CUBE COMPRESSIVE STRENGTH"},{"$f":"'TX442'!$D$23","v":"Cube 1"},{"$f":"'TX442'!$D$24","v":"Load, lbf"}]
[26,{"$f":"IF(Field23=\"\", \"\", Field23)","v":""},{"$f":"'TX442'!$B$21","v":"CUBE COMPRESSIVE STRENGTH"},{"$f":"'TX442'!$E$23","v":"Cube 2"},{"$f":"'TX442'!$E$24","v":"Load, lbf"}]
[27,{"$f":"IF(Field24=\"\", \"\", Field24)","v":""},{"$f":"'TX442'!$B$21","v":"CUBE COMPRESSIVE STRENGTH"},{"$f":"'TX442'!$F$23","v":"Cube 3"},{"$f":"'TX442'!$F$24","v":"Load, lbf"}]
[28,{"$f":"IF('TX442'!G28=\"\", \"\", 'TX442'!G28)","v":""},{"$f":"'TX442'!$B$21","v":"CUBE COMPRESSIVE STRENGTH"},{"$f":"'TX442'!$G$23","v":"Avg Load, lbf"}]
[29,{"$f":"IF('TX442'!H28=\"\", \"\", 'TX442'!H28)","v":""},{"$f":"'TX442'!$B$21","v":"CUBE COMPRESSIVE STRENGTH"},{"$f":"'TX442'!$H$23","v":"Avg Compressive Strength, psi"}]
[30,{"$f":"IF(Field1=\"\", \"\", Field1)","v":""},{"$f":"'TX442'!B31","v":"Remarks:"}]
[31,{"$f":"IF(Field7=\"\", \"\", Field7)","v":""},{"$f":"test1","v":"TX442"},{"$f":"'TX442'!$C$36","v":"Tested By:"}]
[32,{"$f":"IF(Field8=\"\", \"\", Field8)","v":""},{"$f":"test1","v":"TX442"},{"$f":"'TX442'!$F$36","v":"Tested Date:"}]