{"text_format":"1","workbook":"xlsx","n_sheets":2,"sheets":["Density","RX"],"not_rendered":{"charts":0,"images":1,"macros":1,"external_links":0,"defined_names":65,"comments":1,"pivot_tables":0},"unopened":[],"bounds":{"document_bytes":16777216,"sheet_cells":100000,"rows_first":2000,"rows_last":500,"rows_between":2000,"halvings":0,"cell_chars":16384,"cell_head_chars":4096},"cells_cut":0,"cells_raw":0,"read":"whole","date_system":"1900"}

{"sheet":"Density","index":0,"n_rows":53,"n_cols":11,"rows_kept":53,"cut":false,"hidden":false,"merged":[[49,1,49,3],[13,7,13,8],[44,1,44,8],[29,3,29,5],[38,3,38,5],[39,3,39,5],[35,3,35,5],[13,3,13,4],[42,1,43,8],[15,3,15,8],[46,2,46,4],[16,3,16,4],[16,7,16,8],[45,1,45,8],[36,3,36,5],[23,3,23,5],[11,3,11,4],[8,7,8,8],[7,3,7,4],[9,7,9,8],[9,3,9,4],[10,7,10,8],[11,7,11,8],[10,3,10,4],[24,3,24,5],[0,0,0,1],[53,1,53,3],[12,3,12,4],[14,3,14,8],[31,3,31,5],[32,3,32,5],[33,3,33,5],[26,3,26,5],[27,3,27,5],[28,3,28,5],[12,7,12,8],[47,2,47,4],[49,6,49,8],[7,7,7,8],[8,3,8,4]]}
["TxDOT Manuals >",null,null,"Tex-451-A"]
[null,"TEXAS DEPARTMENT OF TRANSPORTATION",null,null,null,null,null,null,null,null,22]
[null,null,null,null,null,null,null,null,null,null,1]
[null,null,null,null,null,null,null,null,null,null,"tx451.xlsm::45560.890741"]
[null,"DENSITY OF IN PLACE UNHARDENED AND HARDENED CONCRETE BY THE NUCLEAR METHODS"]
[null,"Tex-451-A"]
[null,null,null,null,null,null,null,null,{"$f":"\"File Version: \" & TEXT(MID(sn,SEARCH(\"::\",sn,1)+2,20),\"mm/dd/yy hh:mm:ss\")","v":"File Version: 09/25/24 21:22:40"}]
[null,null,"SAMPLE ID:",null,null,null,"SAMPLED DATE:"]
[null,null,"TEST NUMBER:",null,null,null,"LETTING DATE:"]
[null,null,"SAMPLE STATUS:",null,null,null,"CONTROLLING CSJ:"]
[null,null,"COUNTY:",null,null,null,"SPEC YEAR:"]
[null,null,"SAMPLED BY:",null,null,null,"SPEC ITEM:"]
[null,null,"SAMPLE LOCATION:",null,null,null,"SPECIAL PROVISION:"]
[null,null,"MATERIAL CODE:",null,null,null,"GRADE:"]
[null,null,"MATERIAL NAME:"]
[null,null,"PRODUCER:"]
[null,null,"AREA ENGINEER:",null,null,null,"PROJECT MANAGER:"]
[]
[null,null,"COURSE\\LIFT:",null,"STATION:",null,null,"DIST. FROM CL:"]
[]
[null,"TARGET VALUES"]
[]
[]
[null,null," ",{"$f":"\"Maximum Dry Density, \" & IF(SpecYear=\"\",\"\",IF(SpecYear=\"1995\",\"Kg/m3\",\"Lbs/ft3\")) & \":\"","v":"Maximum Dry Density, :"}]
[null,null," ","Optimum Moisture Content, %:"]
[]
[null,null,null,"Density Standard:"]
[null,null,null,"Density Count:"]
[null,null,null,"Moisture Standard:"]
[null,null,null,"Moisture Count:"]
[]
[null,null,null,{"$f":"\"Wet Density, \" & IF(SpecYear=\"\",\"\",IF(SpecYear=\"1995\",\"Kg/m3\",\"Lbs/ft3\")) & \":\"","v":"Wet Density, :"}]
[null,null,null,{"$f":"\"Dry Density, \" & IF(SpecYear=\"\",\"\",IF(SpecYear=\"1995\",\"Kg/m3\",\"Lbs/ft3\"))& \":\"","v":"Dry Density, :"}]
[null,null,null,"Moisture Content, %:"]
[]
[null,null,null,"Recorded Density (optional), %:"]
[null,null,null,"Calculated Density, %:",null,null,{"$f":"IF(ISERROR(G33/G24*100),\"\",G33/G24*100)","v":""}]
[]
[null,null,null,"Density Specification Requirement, %:"]
[null,null,null,"Moisture Specification Requirement, %:"]
[]
[null,"Remarks:",{"$f":"NOW()","v":"2024-09-25T21:22:40.720"}]
[]
[]
[]
[]
[null,"Test Method:","Tested By:",null,null,"Tested Date:"]
[null,"TX451"]
[null,"Test Stamp Code:",null,null,"Omit Test:","Completed Date:","Reviewed By:"]
[]
[null,"Locked By:","TxDOT:","District:","Area:"]
[]
[null,"Authorized By:",null,null,"Authorized Date:"]

{"sheet":"RX","index":1,"n_rows":19,"n_cols":9,"rows_kept":19,"cut":false,"hidden":true,"merged":[]}
[17]
["Fld_nbr","Value","Desc_1","Desc_2","Desc_3","Desc_4","Desc_5","Desc_6","Desc_7"]
[1,{"$f":"IF(Density!$B$43=\"\",\"\",Density!$B$43)","v":""},{"$f":"Density!$B$42","v":"Remarks:"}]
[2,{"$f":"IF(Density!$D$19=\"\",\"\",Density!$D$19)","v":""},{"$f":"IF(Density!$C$19=\"\",\"\",Density!$C$19)","v":"COURSE\\LIFT:"}]
[3,{"$f":"IF(Density!$C$48=\"\",\"\",Density!$C$48)","v":""},"Tested By ",{"$f":"IF(Density!$B$48=\"\",\"\",Density!$B$48)","v":"TX451"}]
[4,{"$f":"IF(Density!$F$48=\"\",\"\",Density!$F$48)","v":""},"Tested Date ",{"$f":"IF(Density!$B$48=\"\",\"\",Density!$B$48)","v":"TX451"}]
[5,{"$f":"IF(Density!$G$24=\"\",\"\",Density!$G$24)","v":""},{"$f":"IF(Density!$B$6=\"\",\"\",Density!$B$6)","v":"Tex-451-A"},{"$f":"IF(Density!$D$24=\"\",\"\",Density!$D$24)","v":"Maximum Dry Density, :"}]
[6,{"$f":"IF(Density!$G$25=\"\",\"\",Density!$G$25)","v":""},{"$f":"IF(Density!$B$6=\"\",\"\",Density!$B$6)","v":"Tex-451-A"},{"$f":"IF(Density!$D$25=\"\",\"\",Density!$D$25)","v":"Optimum Moisture Content, %:"}]
[7,{"$f":"IF(Density!$G$27=\"\",\"\",Density!$G$27)","v":""},{"$f":"IF(Density!$B$6=\"\",\"\",Density!$B$6)","v":"Tex-451-A"},{"$f":"IF(Density!$D$27=\"\",\"\",Density!$D$27)","v":"Density Standard:"}]
[8,{"$f":"IF(Density!$G$28=\"\",\"\",Density!$G$28)","v":""},{"$f":"IF(Density!$B$6=\"\",\"\",Density!$B$6)","v":"Tex-451-A"},{"$f":"IF(Density!$D$28=\"\",\"\",Density!$D$28)","v":"Density Count:"}]
[9,{"$f":"IF(Density!$G$29=\"\",\"\",Density!$G$29)","v":""},{"$f":"IF(Density!$B$6=\"\",\"\",Density!$B$6)","v":"Tex-451-A"},{"$f":"IF(Density!$D$29=\"\",\"\",Density!$D$29)","v":"Moisture Standard:"}]
[10,{"$f":"IF(Density!$G$30=\"\",\"\",Density!$G$30)","v":""},{"$f":"IF(Density!$B$6=\"\",\"\",Density!$B$6)","v":"Tex-451-A"},{"$f":"IF(Density!$D$30=\"\",\"\",Density!$D$30)","v":"Moisture Count:"}]
[11,{"$f":"IF(Density!$G$32=\"\",\"\",Density!$G$32)","v":""},{"$f":"IF(Density!$B$6=\"\",\"\",Density!$B$6)","v":"Tex-451-A"},{"$f":"IF(Density!$D$32=\"\",\"\",Density!$D$32)","v":"Wet Density, :"}]
[12,{"$f":"IF(Density!$G$33=\"\",\"\",Density!$G$33)","v":""},{"$f":"IF(Density!$B$6=\"\",\"\",Density!$B$6)","v":"Tex-451-A"},{"$f":"IF(Density!$D$33=\"\",\"\",Density!$D$33)","v":"Dry Density, :"}]
[13,{"$f":"IF(Density!$G$34=\"\",\"\",Density!$G$34)","v":""},{"$f":"IF(Density!$B$6=\"\",\"\",Density!$B$6)","v":"Tex-451-A"},{"$f":"IF(Density!$D$34=\"\",\"\",Density!$D$34)","v":"Moisture Content, %:"}]
[14,{"$f":"IF(Density!$G$36=\"\",\"\",Density!$G$36)","v":""},{"$f":"IF(Density!$B$6=\"\",\"\",Density!$B$6)","v":"Tex-451-A"},{"$f":"IF(Density!$D$36=\"\",\"\",Density!$D$36)","v":"Recorded Density (optional), %:"}]
[15,{"$f":"IF(Density!$G$37=\"\",\"\",Density!$G$37)","v":""},{"$f":"IF(Density!$B$6=\"\",\"\",Density!$B$6)","v":"Tex-451-A"},{"$f":"IF(Density!$D$37=\"\",\"\",Density!$D$37)","v":"Calculated Density, %:"}]
[16,{"$f":"IF(Density!$G$39=\"\",\"\",Density!$G$39)","v":""},{"$f":"IF(Density!$B$6=\"\",\"\",Density!$B$6)","v":"Tex-451-A"},{"$f":"IF(Density!$D$39=\"\",\"\",Density!$D$39)","v":"Density Specification Requirement, %:"}]
[17,{"$f":"IF(Density!$G$40=\"\",\"\",Density!$G$40)","v":""},{"$f":"IF(Density!$B$6=\"\",\"\",Density!$B$6)","v":"Tex-451-A"},{"$f":"IF(Density!$D$40=\"\",\"\",Density!$D$40)","v":"Moisture Specification Requirement, %:"}]