{"text_format":"1","workbook":"xlsx","n_sheets":2,"sheets":["Tex-438-A","RX"],"not_rendered":{"charts":0,"images":1,"macros":1,"external_links":1,"defined_names":222,"comments":1,"pivot_tables":0},"unopened":[],"bounds":{"document_bytes":16777216,"sheet_cells":100000,"rows_first":2000,"rows_last":500,"rows_between":2000,"halvings":0,"cell_chars":16384,"cell_head_chars":4096},"cells_cut":0,"cells_raw":0,"read":"whole","date_system":"1900"}

{"sheet":"Tex-438-A","index":0,"n_rows":115,"n_cols":12,"rows_kept":115,"cut":false,"hidden":false,"merged":[[105,3,105,5],[106,1,106,2],[106,3,106,5],[24,2,25,2],[24,3,24,7],[38,2,38,4],[47,2,47,4],[47,6,47,8],[111,7,111,9],[80,1,80,5],[60,2,60,4],[60,6,60,8],[61,1,62,1],[70,1,71,1],[78,3,78,5],[108,3,108,5],[100,1,101,9],[69,6,69,8],[69,2,69,4],[107,3,107,5],[82,1,82,5],[103,1,103,9],[102,1,102,9],[84,1,84,5],[7,8,7,9],[8,4,8,5],[10,8,10,9],[11,4,11,5],[8,8,8,9],[11,8,11,9],[7,4,7,5],[9,8,9,9],[9,4,9,5],[10,4,10,5],[12,8,12,9],[15,4,15,9],[12,4,12,5],[16,4,16,5],[16,8,16,9],[13,8,13,9],[13,4,13,5],[14,4,14,9],[22,1,22,8],[24,1,25,1],[33,5,33,6],[24,8,25,8],[115,1,115,4],[108,1,108,2],[113,1,113,2],[109,1,109,2],[109,3,109,5],[111,1,111,4],[45,6,45,7],[56,3,56,5],[39,1,40,1],[48,1,49,1],[38,6,38,8],[58,1,58,8],[0,0,0,2],[89,2,89,8],[90,8,91,8],[96,5,96,7],[86,2,86,5],[90,2,91,2],[90,7,91,7],[90,3,91,3],[20,4,20,5],[20,1,20,3],[90,4,91,4],[90,5,91,5],[90,6,91,6],[83,1,83,5],[35,1,35,8],[45,2,45,3]]}
["TxDOT Manuals >",null,null,"Tex-612-J","Tex-438-A"]
[null,"TEXAS DEPARTMENT OF TRANSPORTATION",null,null,null,null,null,null,null,null,null,168]
[null,null,null,null,null,null,null,null,null,null,null,3]
[null,null,null,null,null,null,null,null,null,null,null,"tx4agclas.xlsm::45462.89463"]
[null,"Accelerated Polish Test for Coarse Aggregate"]
[null,"Tex-438-A"]
[null,null,null,null,null,null,null,null,null,{"$f":"\"File Version: \" & TEXT(MID(sn,SEARCH(\"::\",sn,1)+2,20),\"mm/dd/yy hh:mm:ss\")","v":"File Version: 06/19/24 21:28:16"}]
[null,null,null,"SAMPLE ID:",null,null,null,"SAMPLED DATE:"]
[null,null,null,"TEST NUMBER:",null,null,null,"LETTING DATE:"]
[null,null,null,"SAMPLE STATUS:",null,null,null,"CONTROLLING CSJ:"]
[null,null,null,"COUNTY:",null,null,null,"SPEC YEAR:"]
[null,null,null,"SAMPLED BY:",null,null,null,"SPEC ITEM:"]
[null,null,null,"SAMPLE LOCATION:",null,null,null,"SPECIAL PROVISION:"]
[null,null,null,"MATERIAL CODE:",null,null,null,"GRADE:"]
[null,null,null,"MATERIAL NAME:"]
[null,null,null,"PRODUCER:"]
[null,null,null,"AREA ENGINEER:",null,null,null,"PROJECT MANAGER:"]
[]
[null,null,null,"COURSE\\LIFT:",null,"STATION:",null,null,"DIST. FROM CL:"]
[]
[null,"POLISHING TIME:"]
[]
[null,"Tex-438-A:Part I – Single Component Aggregate"]
[]
[null,"SET","Coupons","BPT Reading",null,null,null,null,"Residual Value"]
[null,null,null,2,3,4,5,"Average"]
[null,1,null,null,null,null,null,{"$f":"IF($G27=0,\"\",AVERAGE(D27:G27))","v":""}]
[null,2,null,null,null,null,null,""]
[null,3,null,null,null,null,null,""]
[null,4,null,null,null,null,null,""]
[null,5,null,null,null,null,null,""]
[null,6,null,null,null,null,null,""]
[null,7,null,null,null,null,null,""]
[null,null,null,null,null,"Average Polish Value:",null,{"$f":"IF(ISERROR(AVERAGE($H27:H33)),\"\",AVERAGE($H27:H33))","v":""},{"$f":"IF(ISERROR(AVERAGE($I27:I33)),\"\",AVERAGE($I27:I33))","v":""}]
[]
[null,"Tex-438-A:Part 3 – Differential Wear"]
[]
[null,null,null,null,null,"     Higher Polish Value Material"]
[null,null,"Higher Polish Value - A",null,null,null,"Higher Polish Value - B"]
[null,"SET","Initial","Final","Difference",null,"Initial","Final","Difference"]
[]
[null,1]
[null,2]
[null,3]
[null,4]
[null,null,"Average PV Wear:",null,{"$f":"IF(ISERROR(AVERAGE(E42:E45)),\"\",AVERAGE(E42:E45))","v":""},null,"Average PV Wear:",null,{"$f":"IF(ISERROR(AVERAGE(I42:I45)),\"\",AVERAGE(I42:I45))","v":""}]
[]
[null,null,"Higher Polish Value - C","C",null,null,"Higher Polish Value - D"]
[null,"SET","Initial","Final","Difference",null,"Initial","Final","Difference"]
[]
[null,1]
[null,2]
[null,3]
[null,4]
[null,null,null,"Average:",{"$f":"IF(ISERROR(AVERAGE(E51:E54)),\"\",AVERAGE(E51:E54))","v":""},null,null,"Average:",{"$f":"IF(ISERROR(AVERAGE(I51:I54)),\"\",AVERAGE(I51:I54))","v":""}]
[]
[null,null,null,"Higher Polish Value Average Wear:",null,null,{"$f":"IF(ISERROR(AVERAGE(E46+I46+E55+I55)),\"\",AVERAGE(E46+I46+E55+I55))","v":""}]
[]
[null,"    Lower Polish Value Material"]
[]
[null,null,"Lower Polish Value - A",null,null,null,"Lower Polish Value - B"]
[null,"SET","Initial","Final","Difference",null,"Initial","Final","Difference"]
[]
[null,1]
[null,2]
[null,3]
[null,4]
[null,null,null,"Average:",{"$f":"IF(ISERROR(AVERAGE(E64:E67)),\"\",AVERAGE(E64:E67))","v":""},null,null,"Average:",{"$f":"IF(ISERROR(AVERAGE(I64:I67)),\"\",AVERAGE(I64:I67))","v":""}]
[]
[null,null,"Lower Polish Value - C",null,null,null,"Lower Polish Value - D"]
[null,"SET","Initial","Final","Difference",null,"Initial","Final","Difference"]
[]
[null,1]
[null,2]
[null,3]
[null,4]
[null,null,null,"Average:",{"$f":"IF(ISERROR(AVERAGE(E73:E76)),\"\",AVERAGE(E73:E76))","v":""},null,null,"Average:",{"$f":"IF(ISERROR(AVERAGE(I73:I76)),\"\",AVERAGE(I73:I76))","v":""}]
[]
[null,null,null,"Lower Polish Value Average Wear:",null,null,{"$f":"IF(ISERROR(AVERAGE(E68+I68+E77+I77)),\"\",AVERAGE(E68+I68+E77+I77))","v":""}]
[]
[null,"Upper & Lower Polish Value Comparison:",null,null,null,null,{"$f":"IF(OR(G57=\"\",G79=\"\"),\"\",IF(G57<=G79,\"Pass\",\"Fail\"))","v":""}]
[]
[null,"Polish Value Required By Specification:"]
[null,"Polish Value From Part I:",null,null,null,null,{"$f":"$H$34","v":""}]
[null,"Within Polish Value Specifications:",null,null,null,null,{"$f":"IF(G83=\"\",\"\",IF(G84>=G83,\"Yes\",\"No\"))","v":""}]
[]
[null,null,"Show Acid Insoluble Residue?"]
[]
[null,null,"Acid Insoluble Residue"]
[null,null,"Tex-612-J"]
[null,null,"Sample Number","Dish Number","Total Weight","Weight of Filter and Residue","Weight of Filter","Weight of Residue","% Acid"]
[null,null,null,"Number","Weight","Filter & Residue","of Filter","Residue","Insoluble"]
[null,null,null,null,null,null,null,{"$f":"IF(COUNTBLANK(F93:G93)=2,\"\",$F93-$G93)","v":""},{"$f":"IF($E93=\"\",\"\",100*(H93/$E93))","v":""}]
[null,null,null,null,null,null,null,{"$f":"IF(COUNTBLANK(F94:G94)=2,\"\",$F94-$G94)","v":""},{"$f":"IF($E94=\"\",\"\",100*(H94/$E94))","v":""}]
[null,null,null,null,null,null,null,{"$f":"IF(COUNTBLANK(F95:G95)=2,\"\",$F95-$G95)","v":""},{"$f":"IF($E95=\"\",\"\",100*(H95/$E95))","v":""}]
[]
[null,null,null,null,null,"Average % Acid Insoluble:",null,null,{"$f":"IF(ISERROR(AVERAGE(I93:I95)),\"\",AVERAGE(I93:I95))","v":""}]
[]
[]
[null,"Remarks:",null,{"$f":"NOW()","v":"2024-06-19T21:28:16.930"}]
[]
[]
[]
[]
[]
[null,"Sample Method:",null,"Sampled By:",null,null,"Sampled Date:"]
[null,"TX400"]
[null,"Test Method:",null,"Tested By:",null,null,"Tested Date:"]
[null,"TX438"]
[null,"TX612"]
[null,"Test Stamp Code:",null,null,null,"Omit Test:","Completed Date:","Reviewed By:"]
[]
[null,"Locked By:",null,"TxDOT:","District:","Area:"]
[]
[null,"Authorized By:",null,null,null,"Authorized Date:"]

{"sheet":"RX","index":1,"n_rows":194,"n_cols":9,"rows_kept":194,"cut":false,"hidden":true,"merged":[]}
[192]
["Fld_nbr","Value","Desc_1","Desc_2","Desc_3","Desc_4","Desc_5","Desc_6","Desc_7"]
[1,{"$f":"IF('Tex-438-A'!$B$101=\"\",\"\",'Tex-438-A'!$B$101)","v":""},{"$f":"'Tex-438-A'!$B$100","v":"Remarks:"}]
[2,{"$f":"IF('Tex-438-A'!$E$19=\"\",\"\",'Tex-438-A'!$E$19)","v":""},{"$f":"IF('Tex-438-A'!$D$19=\"\",\"\",'Tex-438-A'!$D$19)","v":"COURSE\\LIFT:"}]
[3,{"$f":"IF('Tex-438-A'!$D$109=\"\",\"\",'Tex-438-A'!$D$109)","v":""},"Tested By ",{"$f":"IF('Tex-438-A'!$B$109=\"\",\"\",'Tex-438-A'!$B$109)","v":"TX438"}]
[4,{"$f":"IF('Tex-438-A'!$G$109=\"\",\"\",'Tex-438-A'!$G$109)","v":""},"Tested Date ",{"$f":"IF('Tex-438-A'!$B$109=\"\",\"\",'Tex-438-A'!$B$109)","v":"TX438"}]
[5,{"$f":"IF('Tex-438-A'!$D$110=\"\",\"\",'Tex-438-A'!$D$110)","v":""},"Tested By ",{"$f":"IF('Tex-438-A'!$B$110=\"\",\"\",'Tex-438-A'!$B$110)","v":"TX612"}]
[6,{"$f":"IF('Tex-438-A'!$G$110=\"\",\"\",'Tex-438-A'!$G$110)","v":""},"Tested Date ",{"$f":"IF('Tex-438-A'!$B$110=\"\",\"\",'Tex-438-A'!$B$110)","v":"TX612"}]
[7,{"$f":"IF('Tex-438-A'!$C$27=\"\",\"\",'Tex-438-A'!$C$27)","v":""},{"$f":"IF('Tex-438-A'!$B$23=\"\",\"\",'Tex-438-A'!$B$23)","v":"Tex-438-A:Part I – Single Component Aggregate"},{"$f":"IF('Tex-438-A'!$C$25=\"\",\"\",'Tex-438-A'!$C$25)","v":"Coupons"},{"$f":"IF('Tex-438-A'!$B$25=\"\",\"\",'Tex-438-A'!$B$25)","v":"SET"},{"$f":"IF('Tex-438-A'!$B$27=\"\",\"\",'Tex-438-A'!$B$27)","v":1}]
[8,{"$f":"IF('Tex-438-A'!$D$27=\"\",\"\",'Tex-438-A'!$D$27)","v":""},{"$f":"IF('Tex-438-A'!$B$23=\"\",\"\",'Tex-438-A'!$B$23)","v":"Tex-438-A:Part I – Single Component Aggregate"},{"$f":"IF('Tex-438-A'!$D$25=\"\",\"\",'Tex-438-A'!$D$25)","v":"BPT Reading"},{"$f":"IF('Tex-438-A'!$D$26=\"\",\"\",'Tex-438-A'!$D$26)","v":2},{"$f":"IF('Tex-438-A'!$B$25=\"\",\"\",'Tex-438-A'!$B$25)","v":"SET"},{"$f":"IF('Tex-438-A'!$B$27=\"\",\"\",'Tex-438-A'!$B$27)","v":1}]
[9,{"$f":"IF('Tex-438-A'!$E$27=\"\",\"\",'Tex-438-A'!$E$27)","v":""},{"$f":"IF('Tex-438-A'!$B$23=\"\",\"\",'Tex-438-A'!$B$23)","v":"Tex-438-A:Part I – Single Component Aggregate"},{"$f":"IF('Tex-438-A'!$D$25=\"\",\"\",'Tex-438-A'!$D$25)","v":"BPT Reading"},{"$f":"IF('Tex-438-A'!$E$26=\"\",\"\",'Tex-438-A'!$E$26)","v":3},{"$f":"IF('Tex-438-A'!$B$25=\"\",\"\",'Tex-438-A'!$B$25)","v":"SET"},{"$f":"IF('Tex-438-A'!$B$27=\"\",\"\",'Tex-438-A'!$B$27)","v":1}]
[10,{"$f":"IF('Tex-438-A'!$F$27=\"\",\"\",'Tex-438-A'!$F$27)","v":""},{"$f":"IF('Tex-438-A'!$B$23=\"\",\"\",'Tex-438-A'!$B$23)","v":"Tex-438-A:Part I – Single Component Aggregate"},{"$f":"IF('Tex-438-A'!$D$25=\"\",\"\",'Tex-438-A'!$D$25)","v":"BPT Reading"},{"$f":"IF('Tex-438-A'!$F$26=\"\",\"\",'Tex-438-A'!$F$26)","v":4},{"$f":"IF('Tex-438-A'!$B$25=\"\",\"\",'Tex-438-A'!$B$25)","v":"SET"},{"$f":"IF('Tex-438-A'!$B$27=\"\",\"\",'Tex-438-A'!$B$27)","v":1}]
[11,{"$f":"IF('Tex-438-A'!$G$27=\"\",\"\",'Tex-438-A'!$G$27)","v":""},{"$f":"IF('Tex-438-A'!$B$23=\"\",\"\",'Tex-438-A'!$B$23)","v":"Tex-438-A:Part I – Single Component Aggregate"},{"$f":"IF('Tex-438-A'!$D$25=\"\",\"\",'Tex-438-A'!$D$25)","v":"BPT Reading"},{"$f":"IF('Tex-438-A'!$G$26=\"\",\"\",'Tex-438-A'!$G$26)","v":5},{"$f":"IF('Tex-438-A'!$B$25=\"\",\"\",'Tex-438-A'!$B$25)","v":"SET"},{"$f":"IF('Tex-438-A'!$B$27=\"\",\"\",'Tex-438-A'!$B$27)","v":1}]
[12,{"$f":"IF('Tex-438-A'!$H$27=\"\",\"\",'Tex-438-A'!$H$27)","v":""},{"$f":"IF('Tex-438-A'!$B$23=\"\",\"\",'Tex-438-A'!$B$23)","v":"Tex-438-A:Part I – Single Component Aggregate"},{"$f":"IF('Tex-438-A'!$D$25=\"\",\"\",'Tex-438-A'!$D$25)","v":"BPT Reading"},{"$f":"IF('Tex-438-A'!$G$26=\"\",\"\",'Tex-438-A'!$H$26)","v":"Average"},{"$f":"IF('Tex-438-A'!$B$25=\"\",\"\",'Tex-438-A'!$B$25)","v":"SET"},{"$f":"IF('Tex-438-A'!$B$27=\"\",\"\",'Tex-438-A'!$B$27)","v":1}]
[13,{"$f":"IF('Tex-438-A'!$I$27=\"\",\"\",'Tex-438-A'!$I$27)","v":""},{"$f":"IF('Tex-438-A'!$B$23=\"\",\"\",'Tex-438-A'!$B$23)","v":"Tex-438-A:Part I – Single Component Aggregate"},{"$f":"IF('Tex-438-A'!$I$25=\"\",\"\",'Tex-438-A'!$I$25)","v":"Residual Value"},{"$f":"IF('Tex-438-A'!$B$25=\"\",\"\",'Tex-438-A'!$B$25)","v":"SET"},{"$f":"IF('Tex-438-A'!$B$27=\"\",\"\",'Tex-438-A'!$B$27)","v":1}]
[14,{"$f":"IF('Tex-438-A'!$C$28=\"\",\"\",'Tex-438-A'!$C$28)","v":""},{"$f":"IF('Tex-438-A'!$B$23=\"\",\"\",'Tex-438-A'!$B$23)","v":"Tex-438-A:Part I – Single Component Aggregate"},{"$f":"IF('Tex-438-A'!$C$25=\"\",\"\",'Tex-438-A'!$C$25)","v":"Coupons"},{"$f":"IF('Tex-438-A'!$B$25=\"\",\"\",'Tex-438-A'!$B$25)","v":"SET"},{"$f":"IF('Tex-438-A'!$B$28=\"\",\"\",'Tex-438-A'!$B$28)","v":2}]
[15,{"$f":"IF('Tex-438-A'!$D$28=\"\",\"\",'Tex-438-A'!$D$28)","v":""},{"$f":"IF('Tex-438-A'!$B$23=\"\",\"\",'Tex-438-A'!$B$23)","v":"Tex-438-A:Part I – Single Component Aggregate"},{"$f":"IF('Tex-438-A'!$D$25=\"\",\"\",'Tex-438-A'!$D$25)","v":"BPT Reading"},{"$f":"IF('Tex-438-A'!$D$26=\"\",\"\",'Tex-438-A'!$D$26)","v":2},{"$f":"IF('Tex-438-A'!$B$25=\"\",\"\",'Tex-438-A'!$B$25)","v":"SET"},{"$f":"IF('Tex-438-A'!$B$28=\"\",\"\",'Tex-438-A'!$B$28)","v":2}]
[16,{"$f":"IF('Tex-438-A'!$E$28=\"\",\"\",'Tex-438-A'!$E$28)","v":""},{"$f":"IF('Tex-438-A'!$B$23=\"\",\"\",'Tex-438-A'!$B$23)","v":"Tex-438-A:Part I – Single Component Aggregate"},{"$f":"IF('Tex-438-A'!$D$25=\"\",\"\",'Tex-438-A'!$D$25)","v":"BPT Reading"},{"$f":"IF('Tex-438-A'!$E$26=\"\",\"\",'Tex-438-A'!$E$26)","v":3},{"$f":"IF('Tex-438-A'!$B$25=\"\",\"\",'Tex-438-A'!$B$25)","v":"SET"},{"$f":"IF('Tex-438-A'!$B$28=\"\",\"\",'Tex-438-A'!$B$28)","v":2}]
[17,{"$f":"IF('Tex-438-A'!$F$28=\"\",\"\",'Tex-438-A'!$F$28)","v":""},{"$f":"IF('Tex-438-A'!$B$23=\"\",\"\",'Tex-438-A'!$B$23)","v":"Tex-438-A:Part I – Single Component Aggregate"},{"$f":"IF('Tex-438-A'!$D$25=\"\",\"\",'Tex-438-A'!$D$25)","v":"BPT Reading"},{"$f":"IF('Tex-438-A'!$F$26=\"\",\"\",'Tex-438-A'!$F$26)","v":4},{"$f":"IF('Tex-438-A'!$B$25=\"\",\"\",'Tex-438-A'!$B$25)","v":"SET"},{"$f":"IF('Tex-438-A'!$B$28=\"\",\"\",'Tex-438-A'!$B$28)","v":2}]
[18,{"$f":"IF('Tex-438-A'!$G$28=\"\",\"\",'Tex-438-A'!$G$28)","v":""},{"$f":"IF('Tex-438-A'!$B$23=\"\",\"\",'Tex-438-A'!$B$23)","v":"Tex-438-A:Part I – Single Component Aggregate"},{"$f":"IF('Tex-438-A'!$D$25=\"\",\"\",'Tex-438-A'!$D$25)","v":"BPT Reading"},{"$f":"IF('Tex-438-A'!$G$26=\"\",\"\",'Tex-438-A'!$G$26)","v":5},{"$f":"IF('Tex-438-A'!$B$25=\"\",\"\",'Tex-438-A'!$B$25)","v":"SET"},{"$f":"IF('Tex-438-A'!$B$28=\"\",\"\",'Tex-438-A'!$B$28)","v":2}]
[19,{"$f":"IF('Tex-438-A'!$H$28=\"\",\"\",'Tex-438-A'!$H$28)","v":""},{"$f":"IF('Tex-438-A'!$B$23=\"\",\"\",'Tex-438-A'!$B$23)","v":"Tex-438-A:Part I – Single Component Aggregate"},{"$f":"IF('Tex-438-A'!$D$25=\"\",\"\",'Tex-438-A'!$D$25)","v":"BPT Reading"},{"$f":"IF('Tex-438-A'!$G$26=\"\",\"\",'Tex-438-A'!$H$26)","v":"Average"},{"$f":"IF('Tex-438-A'!$B$25=\"\",\"\",'Tex-438-A'!$B$25)","v":"SET"},{"$f":"IF('Tex-438-A'!$B$28=\"\",\"\",'Tex-438-A'!$B$28)","v":2}]
[20,{"$f":"IF('Tex-438-A'!$I$28=\"\",\"\",'Tex-438-A'!$I$28)","v":""},{"$f":"IF('Tex-438-A'!$B$23=\"\",\"\",'Tex-438-A'!$B$23)","v":"Tex-438-A:Part I – Single Component Aggregate"},{"$f":"IF('Tex-438-A'!$I$25=\"\",\"\",'Tex-438-A'!$I$25)","v":"Residual Value"},{"$f":"IF('Tex-438-A'!$B$25=\"\",\"\",'Tex-438-A'!$B$25)","v":"SET"},{"$f":"IF('Tex-438-A'!$B$28=\"\",\"\",'Tex-438-A'!$B$28)","v":2}]
[21,{"$f":"IF('Tex-438-A'!$C$29=\"\",\"\",'Tex-438-A'!$C$29)","v":""},{"$f":"IF('Tex-438-A'!$B$23=\"\",\"\",'Tex-438-A'!$B$23)","v":"Tex-438-A:Part I – Single Component Aggregate"},{"$f":"IF('Tex-438-A'!$C$25=\"\",\"\",'Tex-438-A'!$C$25)","v":"Coupons"},{"$f":"IF('Tex-438-A'!$B$25=\"\",\"\",'Tex-438-A'!$B$25)","v":"SET"},{"$f":"IF('Tex-438-A'!$B$29=\"\",\"\",'Tex-438-A'!$B$29)","v":3}]
[22,{"$f":"IF('Tex-438-A'!$D$29=\"\",\"\",'Tex-438-A'!$D$29)","v":""},{"$f":"IF('Tex-438-A'!$B$23=\"\",\"\",'Tex-438-A'!$B$23)","v":"Tex-438-A:Part I – Single Component Aggregate"},{"$f":"IF('Tex-438-A'!$D$25=\"\",\"\",'Tex-438-A'!$D$25)","v":"BPT Reading"},{"$f":"IF('Tex-438-A'!$D$26=\"\",\"\",'Tex-438-A'!$D$26)","v":2},{"$f":"IF('Tex-438-A'!$B$25=\"\",\"\",'Tex-438-A'!$B$25)","v":"SET"},{"$f":"IF('Tex-438-A'!$B$29=\"\",\"\",'Tex-438-A'!$B$29)","v":3}]
[23,{"$f":"IF('Tex-438-A'!$E$29=\"\",\"\",'Tex-438-A'!$E$29)","v":""},{"$f":"IF('Tex-438-A'!$B$23=\"\",\"\",'Tex-438-A'!$B$23)","v":"Tex-438-A:Part I – Single Component Aggregate"},{"$f":"IF('Tex-438-A'!$D$25=\"\",\"\",'Tex-438-A'!$D$25)","v":"BPT Reading"},{"$f":"IF('Tex-438-A'!$E$26=\"\",\"\",'Tex-438-A'!$E$26)","v":3},{"$f":"IF('Tex-438-A'!$B$25=\"\",\"\",'Tex-438-A'!$B$25)","v":"SET"},{"$f":"IF('Tex-438-A'!$B$29=\"\",\"\",'Tex-438-A'!$B$29)","v":3}]
[24,{"$f":"IF('Tex-438-A'!$F$29=\"\",\"\",'Tex-438-A'!$F$29)","v":""},{"$f":"IF('Tex-438-A'!$B$23=\"\",\"\",'Tex-438-A'!$B$23)","v":"Tex-438-A:Part I – Single Component Aggregate"},{"$f":"IF('Tex-438-A'!$D$25=\"\",\"\",'Tex-438-A'!$D$25)","v":"BPT Reading"},{"$f":"IF('Tex-438-A'!$F$26=\"\",\"\",'Tex-438-A'!$F$26)","v":4},{"$f":"IF('Tex-438-A'!$B$25=\"\",\"\",'Tex-438-A'!$B$25)","v":"SET"},{"$f":"IF('Tex-438-A'!$B$29=\"\",\"\",'Tex-438-A'!$B$29)","v":3}]
[25,{"$f":"IF('Tex-438-A'!$G$29=\"\",\"\",'Tex-438-A'!$G$29)","v":""},{"$f":"IF('Tex-438-A'!$B$23=\"\",\"\",'Tex-438-A'!$B$23)","v":"Tex-438-A:Part I – Single Component Aggregate"},{"$f":"IF('Tex-438-A'!$D$25=\"\",\"\",'Tex-438-A'!$D$25)","v":"BPT Reading"},{"$f":"IF('Tex-438-A'!$G$26=\"\",\"\",'Tex-438-A'!$G$26)","v":5},{"$f":"IF('Tex-438-A'!$B$25=\"\",\"\",'Tex-438-A'!$B$25)","v":"SET"},{"$f":"IF('Tex-438-A'!$B$29=\"\",\"\",'Tex-438-A'!$B$29)","v":3}]
[26,{"$f":"IF('Tex-438-A'!$H$29=\"\",\"\",'Tex-438-A'!$H$29)","v":""},{"$f":"IF('Tex-438-A'!$B$23=\"\",\"\",'Tex-438-A'!$B$23)","v":"Tex-438-A:Part I – Single Component Aggregate"},{"$f":"IF('Tex-438-A'!$D$25=\"\",\"\",'Tex-438-A'!$D$25)","v":"BPT Reading"},{"$f":"IF('Tex-438-A'!$G$26=\"\",\"\",'Tex-438-A'!$H$26)","v":"Average"},{"$f":"IF('Tex-438-A'!$B$25=\"\",\"\",'Tex-438-A'!$B$25)","v":"SET"},{"$f":"IF('Tex-438-A'!$B$29=\"\",\"\",'Tex-438-A'!$B$29)","v":3}]
[27,{"$f":"IF('Tex-438-A'!$I$29=\"\",\"\",'Tex-438-A'!$I$29)","v":""},{"$f":"IF('Tex-438-A'!$B$23=\"\",\"\",'Tex-438-A'!$B$23)","v":"Tex-438-A:Part I – Single Component Aggregate"},{"$f":"IF('Tex-438-A'!$I$25=\"\",\"\",'Tex-438-A'!$I$25)","v":"Residual Value"},{"$f":"IF('Tex-438-A'!$B$25=\"\",\"\",'Tex-438-A'!$B$25)","v":"SET"},{"$f":"IF('Tex-438-A'!$B$29=\"\",\"\",'Tex-438-A'!$B$29)","v":3}]
[28,{"$f":"IF('Tex-438-A'!$C$30=\"\",\"\",'Tex-438-A'!$C$30)","v":""},{"$f":"IF('Tex-438-A'!$B$23=\"\",\"\",'Tex-438-A'!$B$23)","v":"Tex-438-A:Part I – Single Component Aggregate"},{"$f":"IF('Tex-438-A'!$C$25=\"\",\"\",'Tex-438-A'!$C$25)","v":"Coupons"},{"$f":"IF('Tex-438-A'!$B$25=\"\",\"\",'Tex-438-A'!$B$25)","v":"SET"},{"$f":"IF('Tex-438-A'!$B$30=\"\",\"\",'Tex-438-A'!$B$30)","v":4}]
[29,{"$f":"IF('Tex-438-A'!$D$30=\"\",\"\",'Tex-438-A'!$D$30)","v":""},{"$f":"IF('Tex-438-A'!$B$23=\"\",\"\",'Tex-438-A'!$B$23)","v":"Tex-438-A:Part I – Single Component Aggregate"},{"$f":"IF('Tex-438-A'!$D$25=\"\",\"\",'Tex-438-A'!$D$25)","v":"BPT Reading"},{"$f":"IF('Tex-438-A'!$D$26=\"\",\"\",'Tex-438-A'!$D$26)","v":2},{"$f":"IF('Tex-438-A'!$B$25=\"\",\"\",'Tex-438-A'!$B$25)","v":"SET"},{"$f":"IF('Tex-438-A'!$B$30=\"\",\"\",'Tex-438-A'!$B$30)","v":4}]
[30,{"$f":"IF('Tex-438-A'!$E$30=\"\",\"\",'Tex-438-A'!$E$30)","v":""},{"$f":"IF('Tex-438-A'!$B$23=\"\",\"\",'Tex-438-A'!$B$23)","v":"Tex-438-A:Part I – Single Component Aggregate"},{"$f":"IF('Tex-438-A'!$D$25=\"\",\"\",'Tex-438-A'!$D$25)","v":"BPT Reading"},{"$f":"IF('Tex-438-A'!$E$26=\"\",\"\",'Tex-438-A'!$E$26)","v":3},{"$f":"IF('Tex-438-A'!$B$25=\"\",\"\",'Tex-438-A'!$B$25)","v":"SET"},{"$f":"IF('Tex-438-A'!$B$30=\"\",\"\",'Tex-438-A'!$B$30)","v":4}]
[31,{"$f":"IF('Tex-438-A'!$F$30=\"\",\"\",'Tex-438-A'!$F$30)","v":""},{"$f":"IF('Tex-438-A'!$B$23=\"\",\"\",'Tex-438-A'!$B$23)","v":"Tex-438-A:Part I – Single Component Aggregate"},{"$f":"IF('Tex-438-A'!$D$25=\"\",\"\",'Tex-438-A'!$D$25)","v":"BPT Reading"},{"$f":"IF('Tex-438-A'!$F$26=\"\",\"\",'Tex-438-A'!$F$26)","v":4},{"$f":"IF('Tex-438-A'!$B$25=\"\",\"\",'Tex-438-A'!$B$25)","v":"SET"},{"$f":"IF('Tex-438-A'!$B$30=\"\",\"\",'Tex-438-A'!$B$30)","v":4}]
[32,{"$f":"IF('Tex-438-A'!$G$30=\"\",\"\",'Tex-438-A'!$G$30)","v":""},{"$f":"IF('Tex-438-A'!$B$23=\"\",\"\",'Tex-438-A'!$B$23)","v":"Tex-438-A:Part I – Single Component Aggregate"},{"$f":"IF('Tex-438-A'!$D$25=\"\",\"\",'Tex-438-A'!$D$25)","v":"BPT Reading"},{"$f":"IF('Tex-438-A'!$G$26=\"\",\"\",'Tex-438-A'!$G$26)","v":5},{"$f":"IF('Tex-438-A'!$B$25=\"\",\"\",'Tex-438-A'!$B$25)","v":"SET"},{"$f":"IF('Tex-438-A'!$B$30=\"\",\"\",'Tex-438-A'!$B$30)","v":4}]
[33,{"$f":"IF('Tex-438-A'!$H$30=\"\",\"\",'Tex-438-A'!$H$30)","v":""},{"$f":"IF('Tex-438-A'!$B$23=\"\",\"\",'Tex-438-A'!$B$23)","v":"Tex-438-A:Part I – Single Component Aggregate"},{"$f":"IF('Tex-438-A'!$D$25=\"\",\"\",'Tex-438-A'!$D$25)","v":"BPT Reading"},{"$f":"IF('Tex-438-A'!$G$26=\"\",\"\",'Tex-438-A'!$H$26)","v":"Average"},{"$f":"IF('Tex-438-A'!$B$25=\"\",\"\",'Tex-438-A'!$B$25)","v":"SET"},{"$f":"IF('Tex-438-A'!$B$30=\"\",\"\",'Tex-438-A'!$B$30)","v":4}]
[34,{"$f":"IF('Tex-438-A'!$I$30=\"\",\"\",'Tex-438-A'!$I$30)","v":""},{"$f":"IF('Tex-438-A'!$B$23=\"\",\"\",'Tex-438-A'!$B$23)","v":"Tex-438-A:Part I – Single Component Aggregate"},{"$f":"IF('Tex-438-A'!$I$25=\"\",\"\",'Tex-438-A'!$I$25)","v":"Residual Value"},{"$f":"IF('Tex-438-A'!$B$25=\"\",\"\",'Tex-438-A'!$B$25)","v":"SET"},{"$f":"IF('Tex-438-A'!$B$30=\"\",\"\",'Tex-438-A'!$B$30)","v":4}]
[35,{"$f":"IF('Tex-438-A'!$C$31=\"\",\"\",'Tex-438-A'!$C$31)","v":""},{"$f":"IF('Tex-438-A'!$B$23=\"\",\"\",'Tex-438-A'!$B$23)","v":"Tex-438-A:Part I – Single Component Aggregate"},{"$f":"IF('Tex-438-A'!$C$25=\"\",\"\",'Tex-438-A'!$C$25)","v":"Coupons"},{"$f":"IF('Tex-438-A'!$B$25=\"\",\"\",'Tex-438-A'!$B$25)","v":"SET"},{"$f":"IF('Tex-438-A'!$B$31=\"\",\"\",'Tex-438-A'!$B$31)","v":5}]
[36,{"$f":"IF('Tex-438-A'!$D$31=\"\",\"\",'Tex-438-A'!$D$31)","v":""},{"$f":"IF('Tex-438-A'!$B$23=\"\",\"\",'Tex-438-A'!$B$23)","v":"Tex-438-A:Part I – Single Component Aggregate"},{"$f":"IF('Tex-438-A'!$D$25=\"\",\"\",'Tex-438-A'!$D$25)","v":"BPT Reading"},{"$f":"IF('Tex-438-A'!$D$26=\"\",\"\",'Tex-438-A'!$D$26)","v":2},{"$f":"IF('Tex-438-A'!$B$25=\"\",\"\",'Tex-438-A'!$B$25)","v":"SET"},{"$f":"IF('Tex-438-A'!$B$31=\"\",\"\",'Tex-438-A'!$B$31)","v":5}]
[37,{"$f":"IF('Tex-438-A'!$E$31=\"\",\"\",'Tex-438-A'!$E$31)","v":""},{"$f":"IF('Tex-438-A'!$B$23=\"\",\"\",'Tex-438-A'!$B$23)","v":"Tex-438-A:Part I – Single Component Aggregate"},{"$f":"IF('Tex-438-A'!$D$25=\"\",\"\",'Tex-438-A'!$D$25)","v":"BPT Reading"},{"$f":"IF('Tex-438-A'!$E$26=\"\",\"\",'Tex-438-A'!$E$26)","v":3},{"$f":"IF('Tex-438-A'!$B$25=\"\",\"\",'Tex-438-A'!$B$25)","v":"SET"},{"$f":"IF('Tex-438-A'!$B$31=\"\",\"\",'Tex-438-A'!$B$31)","v":5}]
[38,{"$f":"IF('Tex-438-A'!$F$31=\"\",\"\",'Tex-438-A'!$F$31)","v":""},{"$f":"IF('Tex-438-A'!$B$23=\"\",\"\",'Tex-438-A'!$B$23)","v":"Tex-438-A:Part I – Single Component Aggregate"},{"$f":"IF('Tex-438-A'!$D$25=\"\",\"\",'Tex-438-A'!$D$25)","v":"BPT Reading"},{"$f":"IF('Tex-438-A'!$F$26=\"\",\"\",'Tex-438-A'!$F$26)","v":4},{"$f":"IF('Tex-438-A'!$B$25=\"\",\"\",'Tex-438-A'!$B$25)","v":"SET"},{"$f":"IF('Tex-438-A'!$B$31=\"\",\"\",'Tex-438-A'!$B$31)","v":5}]
[39,{"$f":"IF('Tex-438-A'!$G$31=\"\",\"\",'Tex-438-A'!$G$31)","v":""},{"$f":"IF('Tex-438-A'!$B$23=\"\",\"\",'Tex-438-A'!$B$23)","v":"Tex-438-A:Part I – Single Component Aggregate"},{"$f":"IF('Tex-438-A'!$D$25=\"\",\"\",'Tex-438-A'!$D$25)","v":"BPT Reading"},{"$f":"IF('Tex-438-A'!$G$26=\"\",\"\",'Tex-438-A'!$G$26)","v":5},{"$f":"IF('Tex-438-A'!$B$25=\"\",\"\",'Tex-438-A'!$B$25)","v":"SET"},{"$f":"IF('Tex-438-A'!$B$31=\"\",\"\",'Tex-438-A'!$B$31)","v":5}]
[40,{"$f":"IF('Tex-438-A'!$H$31=\"\",\"\",'Tex-438-A'!$H$31)","v":""},{"$f":"IF('Tex-438-A'!$B$23=\"\",\"\",'Tex-438-A'!$B$23)","v":"Tex-438-A:Part I – Single Component Aggregate"},{"$f":"IF('Tex-438-A'!$D$25=\"\",\"\",'Tex-438-A'!$D$25)","v":"BPT Reading"},{"$f":"IF('Tex-438-A'!$G$26=\"\",\"\",'Tex-438-A'!$H$26)","v":"Average"},{"$f":"IF('Tex-438-A'!$B$25=\"\",\"\",'Tex-438-A'!$B$25)","v":"SET"},{"$f":"IF('Tex-438-A'!$B$31=\"\",\"\",'Tex-438-A'!$B$31)","v":5}]
[41,{"$f":"IF('Tex-438-A'!$I$31=\"\",\"\",'Tex-438-A'!$I$31)","v":""},{"$f":"IF('Tex-438-A'!$B$23=\"\",\"\",'Tex-438-A'!$B$23)","v":"Tex-438-A:Part I – Single Component Aggregate"},{"$f":"IF('Tex-438-A'!$I$25=\"\",\"\",'Tex-438-A'!$I$25)","v":"Residual Value"},{"$f":"IF('Tex-438-A'!$B$25=\"\",\"\",'Tex-438-A'!$B$25)","v":"SET"},{"$f":"IF('Tex-438-A'!$B$31=\"\",\"\",'Tex-438-A'!$B$31)","v":5}]
[42,{"$f":"IF('Tex-438-A'!$C$32=\"\",\"\",'Tex-438-A'!$C$32)","v":""},{"$f":"IF('Tex-438-A'!$B$23=\"\",\"\",'Tex-438-A'!$B$23)","v":"Tex-438-A:Part I – Single Component Aggregate"},{"$f":"IF('Tex-438-A'!$C$25=\"\",\"\",'Tex-438-A'!$C$25)","v":"Coupons"},{"$f":"IF('Tex-438-A'!$B$25=\"\",\"\",'Tex-438-A'!$B$25)","v":"SET"},{"$f":"IF('Tex-438-A'!$B$32=\"\",\"\",'Tex-438-A'!$B$32)","v":6}]
[43,{"$f":"IF('Tex-438-A'!$D$32=\"\",\"\",'Tex-438-A'!$D$32)","v":""},{"$f":"IF('Tex-438-A'!$B$23=\"\",\"\",'Tex-438-A'!$B$23)","v":"Tex-438-A:Part I – Single Component Aggregate"},{"$f":"IF('Tex-438-A'!$D$25=\"\",\"\",'Tex-438-A'!$D$25)","v":"BPT Reading"},{"$f":"IF('Tex-438-A'!$D$26=\"\",\"\",'Tex-438-A'!$D$26)","v":2},{"$f":"IF('Tex-438-A'!$B$25=\"\",\"\",'Tex-438-A'!$B$25)","v":"SET"},{"$f":"IF('Tex-438-A'!$B$32=\"\",\"\",'Tex-438-A'!$B$32)","v":6}]
[44,{"$f":"IF('Tex-438-A'!$E$32=\"\",\"\",'Tex-438-A'!$E$32)","v":""},{"$f":"IF('Tex-438-A'!$B$23=\"\",\"\",'Tex-438-A'!$B$23)","v":"Tex-438-A:Part I – Single Component Aggregate"},{"$f":"IF('Tex-438-A'!$D$25=\"\",\"\",'Tex-438-A'!$D$25)","v":"BPT Reading"},{"$f":"IF('Tex-438-A'!$E$26=\"\",\"\",'Tex-438-A'!$E$26)","v":3},{"$f":"IF('Tex-438-A'!$B$25=\"\",\"\",'Tex-438-A'!$B$25)","v":"SET"},{"$f":"IF('Tex-438-A'!$B$32=\"\",\"\",'Tex-438-A'!$B$32)","v":6}]
[45,{"$f":"IF('Tex-438-A'!$F$32=\"\",\"\",'Tex-438-A'!$F$32)","v":""},{"$f":"IF('Tex-438-A'!$B$23=\"\",\"\",'Tex-438-A'!$B$23)","v":"Tex-438-A:Part I – Single Component Aggregate"},{"$f":"IF('Tex-438-A'!$D$25=\"\",\"\",'Tex-438-A'!$D$25)","v":"BPT Reading"},{"$f":"IF('Tex-438-A'!$F$26=\"\",\"\",'Tex-438-A'!$F$26)","v":4},{"$f":"IF('Tex-438-A'!$B$25=\"\",\"\",'Tex-438-A'!$B$25)","v":"SET"},{"$f":"IF('Tex-438-A'!$B$32=\"\",\"\",'Tex-438-A'!$B$32)","v":6}]
[46,{"$f":"IF('Tex-438-A'!$G$32=\"\",\"\",'Tex-438-A'!$G$32)","v":""},{"$f":"IF('Tex-438-A'!$B$23=\"\",\"\",'Tex-438-A'!$B$23)","v":"Tex-438-A:Part I – Single Component Aggregate"},{"$f":"IF('Tex-438-A'!$D$25=\"\",\"\",'Tex-438-A'!$D$25)","v":"BPT Reading"},{"$f":"IF('Tex-438-A'!$G$26=\"\",\"\",'Tex-438-A'!$G$26)","v":5},{"$f":"IF('Tex-438-A'!$B$25=\"\",\"\",'Tex-438-A'!$B$25)","v":"SET"},{"$f":"IF('Tex-438-A'!$B$32=\"\",\"\",'Tex-438-A'!$B$32)","v":6}]
[47,{"$f":"IF('Tex-438-A'!$H$32=\"\",\"\",'Tex-438-A'!$H$32)","v":""},{"$f":"IF('Tex-438-A'!$B$23=\"\",\"\",'Tex-438-A'!$B$23)","v":"Tex-438-A:Part I – Single Component Aggregate"},{"$f":"IF('Tex-438-A'!$D$25=\"\",\"\",'Tex-438-A'!$D$25)","v":"BPT Reading"},{"$f":"IF('Tex-438-A'!$G$26=\"\",\"\",'Tex-438-A'!$H$26)","v":"Average"},{"$f":"IF('Tex-438-A'!$B$25=\"\",\"\",'Tex-438-A'!$B$25)","v":"SET"},{"$f":"IF('Tex-438-A'!$B$32=\"\",\"\",'Tex-438-A'!$B$32)","v":6}]
[48,{"$f":"IF('Tex-438-A'!$I$32=\"\",\"\",'Tex-438-A'!$I$32)","v":""},{"$f":"IF('Tex-438-A'!$B$23=\"\",\"\",'Tex-438-A'!$B$23)","v":"Tex-438-A:Part I – Single Component Aggregate"},{"$f":"IF('Tex-438-A'!$I$25=\"\",\"\",'Tex-438-A'!$I$25)","v":"Residual Value"},{"$f":"IF('Tex-438-A'!$B$25=\"\",\"\",'Tex-438-A'!$B$25)","v":"SET"},{"$f":"IF('Tex-438-A'!$B$32=\"\",\"\",'Tex-438-A'!$B$32)","v":6}]
[49,{"$f":"IF('Tex-438-A'!$C$33=\"\",\"\",'Tex-438-A'!$C$33)","v":""},{"$f":"IF('Tex-438-A'!$B$23=\"\",\"\",'Tex-438-A'!$B$23)","v":"Tex-438-A:Part I – Single Component Aggregate"},{"$f":"IF('Tex-438-A'!$C$25=\"\",\"\",'Tex-438-A'!$C$25)","v":"Coupons"},{"$f":"IF('Tex-438-A'!$B$25=\"\",\"\",'Tex-438-A'!$B$25)","v":"SET"},{"$f":"IF('Tex-438-A'!$B$33=\"\",\"\",'Tex-438-A'!$B$33)","v":7}]
[50,{"$f":"IF('Tex-438-A'!$D$33=\"\",\"\",'Tex-438-A'!$D$33)","v":""},{"$f":"IF('Tex-438-A'!$B$23=\"\",\"\",'Tex-438-A'!$B$23)","v":"Tex-438-A:Part I – Single Component Aggregate"},{"$f":"IF('Tex-438-A'!$D$25=\"\",\"\",'Tex-438-A'!$D$25)","v":"BPT Reading"},{"$f":"IF('Tex-438-A'!$D$26=\"\",\"\",'Tex-438-A'!$D$26)","v":2},{"$f":"IF('Tex-438-A'!$B$25=\"\",\"\",'Tex-438-A'!$B$25)","v":"SET"},{"$f":"IF('Tex-438-A'!$B$33=\"\",\"\",'Tex-438-A'!$B$33)","v":7}]
[51,{"$f":"IF('Tex-438-A'!$E$33=\"\",\"\",'Tex-438-A'!$E$33)","v":""},{"$f":"IF('Tex-438-A'!$B$23=\"\",\"\",'Tex-438-A'!$B$23)","v":"Tex-438-A:Part I – Single Component Aggregate"},{"$f":"IF('Tex-438-A'!$D$25=\"\",\"\",'Tex-438-A'!$D$25)","v":"BPT Reading"},{"$f":"IF('Tex-438-A'!$E$26=\"\",\"\",'Tex-438-A'!$E$26)","v":3},{"$f":"IF('Tex-438-A'!$B$25=\"\",\"\",'Tex-438-A'!$B$25)","v":"SET"},{"$f":"IF('Tex-438-A'!$B$33=\"\",\"\",'Tex-438-A'!$B$33)","v":7}]
[52,{"$f":"IF('Tex-438-A'!$F$33=\"\",\"\",'Tex-438-A'!$F$33)","v":""},{"$f":"IF('Tex-438-A'!$B$23=\"\",\"\",'Tex-438-A'!$B$23)","v":"Tex-438-A:Part I – Single Component Aggregate"},{"$f":"IF('Tex-438-A'!$D$25=\"\",\"\",'Tex-438-A'!$D$25)","v":"BPT Reading"},{"$f":"IF('Tex-438-A'!$F$26=\"\",\"\",'Tex-438-A'!$F$26)","v":4},{"$f":"IF('Tex-438-A'!$B$25=\"\",\"\",'Tex-438-A'!$B$25)","v":"SET"},{"$f":"IF('Tex-438-A'!$B$33=\"\",\"\",'Tex-438-A'!$B$33)","v":7}]
[53,{"$f":"IF('Tex-438-A'!$G$33=\"\",\"\",'Tex-438-A'!$G$33)","v":""},{"$f":"IF('Tex-438-A'!$B$23=\"\",\"\",'Tex-438-A'!$B$23)","v":"Tex-438-A:Part I – Single Component Aggregate"},{"$f":"IF('Tex-438-A'!$D$25=\"\",\"\",'Tex-438-A'!$D$25)","v":"BPT Reading"},{"$f":"IF('Tex-438-A'!$G$26=\"\",\"\",'Tex-438-A'!$G$26)","v":5},{"$f":"IF('Tex-438-A'!$B$25=\"\",\"\",'Tex-438-A'!$B$25)","v":"SET"},{"$f":"IF('Tex-438-A'!$B$33=\"\",\"\",'Tex-438-A'!$B$33)","v":7}]
[54,{"$f":"IF('Tex-438-A'!$H$33=\"\",\"\",'Tex-438-A'!$H$33)","v":""},{"$f":"IF('Tex-438-A'!$B$23=\"\",\"\",'Tex-438-A'!$B$23)","v":"Tex-438-A:Part I – Single Component Aggregate"},{"$f":"IF('Tex-438-A'!$D$25=\"\",\"\",'Tex-438-A'!$D$25)","v":"BPT Reading"},{"$f":"IF('Tex-438-A'!$G$26=\"\",\"\",'Tex-438-A'!$H$26)","v":"Average"},{"$f":"IF('Tex-438-A'!$B$25=\"\",\"\",'Tex-438-A'!$B$25)","v":"SET"},{"$f":"IF('Tex-438-A'!$B$33=\"\",\"\",'Tex-438-A'!$B$33)","v":7}]
[55,{"$f":"IF('Tex-438-A'!$I$33=\"\",\"\",'Tex-438-A'!$I$33)","v":""},{"$f":"IF('Tex-438-A'!$B$23=\"\",\"\",'Tex-438-A'!$B$23)","v":"Tex-438-A:Part I – Single Component Aggregate"},{"$f":"IF('Tex-438-A'!$I$25=\"\",\"\",'Tex-438-A'!$I$25)","v":"Residual Value"},{"$f":"IF('Tex-438-A'!$B$25=\"\",\"\",'Tex-438-A'!$B$25)","v":"SET"},{"$f":"IF('Tex-438-A'!$B$33=\"\",\"\",'Tex-438-A'!$B$33)","v":7}]
[56,{"$f":"IF('Tex-438-A'!$H$34=\"\",\"\",'Tex-438-A'!$H$34)","v":""},{"$f":"IF('Tex-438-A'!$B$23=\"\",\"\",'Tex-438-A'!$B$23)","v":"Tex-438-A:Part I – Single Component Aggregate"},{"$f":"IF('Tex-438-A'!$D$25=\"\",\"\",'Tex-438-A'!$D$25)","v":"BPT Reading"},{"$f":"IF('Tex-438-A'!$F$34=\"\",\"\",'Tex-438-A'!$F$34)","v":"Average Polish Value:"}]
[57,{"$f":"IF('Tex-438-A'!$I$34=\"\",\"\",'Tex-438-A'!$I$34)","v":""},{"$f":"IF('Tex-438-A'!$B$23=\"\",\"\",'Tex-438-A'!$B$23)","v":"Tex-438-A:Part I – Single Component Aggregate"},{"$f":"IF('Tex-438-A'!$I$25=\"\",\"\",'Tex-438-A'!$I$25)","v":"Residual Value"},{"$f":"IF('Tex-438-A'!$F$34=\"\",\"\",'Tex-438-A'!$F$34)","v":"Average Polish Value:"}]
[58,{"$f":"IF('Tex-438-A'!$C$42=\"\",\"\",'Tex-438-A'!$C$42)","v":""},{"$f":"IF('Tex-438-A'!$B$36=\"\",\"\",'Tex-438-A'!$B$36)","v":"Tex-438-A:Part 3 – Differential Wear"},{"$f":"IF('Tex-438-A'!$C$39=\"\",\"\",'Tex-438-A'!$C$39)","v":"Higher Polish Value - A"},{"$f":"IF('Tex-438-A'!$C$40=\"\",\"\",'Tex-438-A'!$C$40)","v":"Initial"},{"$f":"IF('Tex-438-A'!$B$40=\"\",\"\",'Tex-438-A'!$B$40)","v":"SET"},{"$f":"IF('Tex-438-A'!$B$42=\"\",\"\",'Tex-438-A'!$B$42)","v":1}]
[59,{"$f":"IF('Tex-438-A'!$D$42=\"\",\"\",'Tex-438-A'!$D$42)","v":""},{"$f":"IF('Tex-438-A'!$B$36=\"\",\"\",'Tex-438-A'!$B$36)","v":"Tex-438-A:Part 3 – Differential Wear"},{"$f":"IF('Tex-438-A'!$C$39=\"\",\"\",'Tex-438-A'!$C$39)","v":"Higher Polish Value - A"},{"$f":"IF('Tex-438-A'!$D$40=\"\",\"\",'Tex-438-A'!$D$40)","v":"Final"},{"$f":"IF('Tex-438-A'!$B$40=\"\",\"\",'Tex-438-A'!$B$40)","v":"SET"},{"$f":"IF('Tex-438-A'!$B$42=\"\",\"\",'Tex-438-A'!$B$42)","v":1}]
[60,{"$f":"IF('Tex-438-A'!$E$42=\"\",\"\",'Tex-438-A'!$E$42)","v":""},{"$f":"IF('Tex-438-A'!$B$36=\"\",\"\",'Tex-438-A'!$B$36)","v":"Tex-438-A:Part 3 – Differential Wear"},{"$f":"IF('Tex-438-A'!$C$39=\"\",\"\",'Tex-438-A'!$C$39)","v":"Higher Polish Value - A"},{"$f":"IF('Tex-438-A'!$E$40=\"\",\"\",'Tex-438-A'!$E$40)","v":"Difference"},{"$f":"IF('Tex-438-A'!$B$40=\"\",\"\",'Tex-438-A'!$B$40)","v":"SET"},{"$f":"IF('Tex-438-A'!$B$42=\"\",\"\",'Tex-438-A'!$B$42)","v":1}]
[61,{"$f":"IF('Tex-438-A'!$C$43=\"\",\"\",'Tex-438-A'!$C$43)","v":""},{"$f":"IF('Tex-438-A'!$B$36=\"\",\"\",'Tex-438-A'!$B$36)","v":"Tex-438-A:Part 3 – Differential Wear"},{"$f":"IF('Tex-438-A'!$C$39=\"\",\"\",'Tex-438-A'!$C$39)","v":"Higher Polish Value - A"},{"$f":"IF('Tex-438-A'!$C$40=\"\",\"\",'Tex-438-A'!$C$40)","v":"Initial"},{"$f":"IF('Tex-438-A'!$B$40=\"\",\"\",'Tex-438-A'!$B$40)","v":"SET"},{"$f":"IF('Tex-438-A'!$B$43=\"\",\"\",'Tex-438-A'!$B$43)","v":2}]
[62,{"$f":"IF('Tex-438-A'!$D$43=\"\",\"\",'Tex-438-A'!$D$43)","v":""},{"$f":"IF('Tex-438-A'!$B$36=\"\",\"\",'Tex-438-A'!$B$36)","v":"Tex-438-A:Part 3 – Differential Wear"},{"$f":"IF('Tex-438-A'!$C$39=\"\",\"\",'Tex-438-A'!$C$39)","v":"Higher Polish Value - A"},{"$f":"IF('Tex-438-A'!$D$40=\"\",\"\",'Tex-438-A'!$D$40)","v":"Final"},{"$f":"IF('Tex-438-A'!$B$40=\"\",\"\",'Tex-438-A'!$B$40)","v":"SET"},{"$f":"IF('Tex-438-A'!$B$43=\"\",\"\",'Tex-438-A'!$B$43)","v":2}]
[63,{"$f":"IF('Tex-438-A'!$E$43=\"\",\"\",'Tex-438-A'!$E$43)","v":""},{"$f":"IF('Tex-438-A'!$B$36=\"\",\"\",'Tex-438-A'!$B$36)","v":"Tex-438-A:Part 3 – Differential Wear"},{"$f":"IF('Tex-438-A'!$C$39=\"\",\"\",'Tex-438-A'!$C$39)","v":"Higher Polish Value - A"},{"$f":"IF('Tex-438-A'!$E$40=\"\",\"\",'Tex-438-A'!$E$40)","v":"Difference"},{"$f":"IF('Tex-438-A'!$B$40=\"\",\"\",'Tex-438-A'!$B$40)","v":"SET"},{"$f":"IF('Tex-438-A'!$B$43=\"\",\"\",'Tex-438-A'!$B$43)","v":2}]
[64,{"$f":"IF('Tex-438-A'!$C$44=\"\",\"\",'Tex-438-A'!$C$44)","v":""},{"$f":"IF('Tex-438-A'!$B$36=\"\",\"\",'Tex-438-A'!$B$36)","v":"Tex-438-A:Part 3 – Differential Wear"},{"$f":"IF('Tex-438-A'!$C$39=\"\",\"\",'Tex-438-A'!$C$39)","v":"Higher Polish Value - A"},{"$f":"IF('Tex-438-A'!$C$40=\"\",\"\",'Tex-438-A'!$C$40)","v":"Initial"},{"$f":"IF('Tex-438-A'!$B$40=\"\",\"\",'Tex-438-A'!$B$40)","v":"SET"},{"$f":"IF('Tex-438-A'!$B$44=\"\",\"\",'Tex-438-A'!$B$44)","v":3}]
[65,{"$f":"IF('Tex-438-A'!$D$44=\"\",\"\",'Tex-438-A'!$D$44)","v":""},{"$f":"IF('Tex-438-A'!$B$36=\"\",\"\",'Tex-438-A'!$B$36)","v":"Tex-438-A:Part 3 – Differential Wear"},{"$f":"IF('Tex-438-A'!$C$39=\"\",\"\",'Tex-438-A'!$C$39)","v":"Higher Polish Value - A"},{"$f":"IF('Tex-438-A'!$D$40=\"\",\"\",'Tex-438-A'!$D$40)","v":"Final"},{"$f":"IF('Tex-438-A'!$B$40=\"\",\"\",'Tex-438-A'!$B$40)","v":"SET"},{"$f":"IF('Tex-438-A'!$B$44=\"\",\"\",'Tex-438-A'!$B$44)","v":3}]
[66,{"$f":"IF('Tex-438-A'!$E$44=\"\",\"\",'Tex-438-A'!$E$44)","v":""},{"$f":"IF('Tex-438-A'!$B$36=\"\",\"\",'Tex-438-A'!$B$36)","v":"Tex-438-A:Part 3 – Differential Wear"},{"$f":"IF('Tex-438-A'!$C$39=\"\",\"\",'Tex-438-A'!$C$39)","v":"Higher Polish Value - A"},{"$f":"IF('Tex-438-A'!$E$40=\"\",\"\",'Tex-438-A'!$E$40)","v":"Difference"},{"$f":"IF('Tex-438-A'!$B$40=\"\",\"\",'Tex-438-A'!$B$40)","v":"SET"},{"$f":"IF('Tex-438-A'!$B$44=\"\",\"\",'Tex-438-A'!$B$44)","v":3}]
[67,{"$f":"IF('Tex-438-A'!$C$45=\"\",\"\",'Tex-438-A'!$C$45)","v":""},{"$f":"IF('Tex-438-A'!$B$36=\"\",\"\",'Tex-438-A'!$B$36)","v":"Tex-438-A:Part 3 – Differential Wear"},{"$f":"IF('Tex-438-A'!$C$39=\"\",\"\",'Tex-438-A'!$C$39)","v":"Higher Polish Value - A"},{"$f":"IF('Tex-438-A'!$C$40=\"\",\"\",'Tex-438-A'!$C$40)","v":"Initial"},{"$f":"IF('Tex-438-A'!$B$40=\"\",\"\",'Tex-438-A'!$B$40)","v":"SET"},{"$f":"IF('Tex-438-A'!$B$45=\"\",\"\",'Tex-438-A'!$B$45)","v":4}]
[68,{"$f":"IF('Tex-438-A'!$D$45=\"\",\"\",'Tex-438-A'!$D$45)","v":""},{"$f":"IF('Tex-438-A'!$B$36=\"\",\"\",'Tex-438-A'!$B$36)","v":"Tex-438-A:Part 3 – Differential Wear"},{"$f":"IF('Tex-438-A'!$C$39=\"\",\"\",'Tex-438-A'!$C$39)","v":"Higher Polish Value - A"},{"$f":"IF('Tex-438-A'!$D$40=\"\",\"\",'Tex-438-A'!$D$40)","v":"Final"},{"$f":"IF('Tex-438-A'!$B$40=\"\",\"\",'Tex-438-A'!$B$40)","v":"SET"},{"$f":"IF('Tex-438-A'!$B$45=\"\",\"\",'Tex-438-A'!$B$45)","v":4}]
[69,{"$f":"IF('Tex-438-A'!$E$45=\"\",\"\",'Tex-438-A'!$E$45)","v":""},{"$f":"IF('Tex-438-A'!$B$36=\"\",\"\",'Tex-438-A'!$B$36)","v":"Tex-438-A:Part 3 – Differential Wear"},{"$f":"IF('Tex-438-A'!$C$39=\"\",\"\",'Tex-438-A'!$C$39)","v":"Higher Polish Value - A"},{"$f":"IF('Tex-438-A'!$E$40=\"\",\"\",'Tex-438-A'!$E$40)","v":"Difference"},{"$f":"IF('Tex-438-A'!$B$40=\"\",\"\",'Tex-438-A'!$B$40)","v":"SET"},{"$f":"IF('Tex-438-A'!$B$45=\"\",\"\",'Tex-438-A'!$B$45)","v":4}]
[70,{"$f":"IF('Tex-438-A'!$E$46=\"\",\"\",'Tex-438-A'!$E$46)","v":""},{"$f":"IF('Tex-438-A'!$B$36=\"\",\"\",'Tex-438-A'!$B$36)","v":"Tex-438-A:Part 3 – Differential Wear"},{"$f":"IF('Tex-438-A'!$C$39=\"\",\"\",'Tex-438-A'!$C$39)","v":"Higher Polish Value - A"},{"$f":"IF('Tex-438-A'!$E$40=\"\",\"\",'Tex-438-A'!$E$40)","v":"Difference"},{"$f":"IF('Tex-438-A'!$C$46=\"\",\"\",'Tex-438-A'!$C$46)","v":"Average PV Wear:"}]
[71,{"$f":"IF('Tex-438-A'!$G$42=\"\",\"\",'Tex-438-A'!$G$42)","v":""},{"$f":"IF('Tex-438-A'!$B$36=\"\",\"\",'Tex-438-A'!$B$36)","v":"Tex-438-A:Part 3 – Differential Wear"},{"$f":"IF('Tex-438-A'!$G$39=\"\",\"\",'Tex-438-A'!$G$39)","v":"Higher Polish Value - B"},{"$f":"IF('Tex-438-A'!$G$40=\"\",\"\",'Tex-438-A'!$G$40)","v":"Initial"},{"$f":"IF('Tex-438-A'!$B$40=\"\",\"\",'Tex-438-A'!$B$40)","v":"SET"},{"$f":"IF('Tex-438-A'!$B$42=\"\",\"\",'Tex-438-A'!$B$42)","v":1}]
[72,{"$f":"IF('Tex-438-A'!$H$42=\"\",\"\",'Tex-438-A'!$H$42)","v":""},{"$f":"IF('Tex-438-A'!$B$36=\"\",\"\",'Tex-438-A'!$B$36)","v":"Tex-438-A:Part 3 – Differential Wear"},{"$f":"IF('Tex-438-A'!$G$39=\"\",\"\",'Tex-438-A'!$G$39)","v":"Higher Polish Value - B"},{"$f":"IF('Tex-438-A'!$H$40=\"\",\"\",'Tex-438-A'!$H$40)","v":"Final"},{"$f":"IF('Tex-438-A'!$B$40=\"\",\"\",'Tex-438-A'!$B$40)","v":"SET"},{"$f":"IF('Tex-438-A'!$B$42=\"\",\"\",'Tex-438-A'!$B$42)","v":1}]
[73,{"$f":"IF('Tex-438-A'!$I$42=\"\",\"\",'Tex-438-A'!$I$42)","v":""},{"$f":"IF('Tex-438-A'!$B$36=\"\",\"\",'Tex-438-A'!$B$36)","v":"Tex-438-A:Part 3 – Differential Wear"},{"$f":"IF('Tex-438-A'!$G$39=\"\",\"\",'Tex-438-A'!$G$39)","v":"Higher Polish Value - B"},{"$f":"IF('Tex-438-A'!$I$40=\"\",\"\",'Tex-438-A'!$I$40)","v":"Difference"},{"$f":"IF('Tex-438-A'!$B$40=\"\",\"\",'Tex-438-A'!$B$40)","v":"SET"},{"$f":"IF('Tex-438-A'!$B$42=\"\",\"\",'Tex-438-A'!$B$42)","v":1}]
[74,{"$f":"IF('Tex-438-A'!$G$43=\"\",\"\",'Tex-438-A'!$G$43)","v":""},{"$f":"IF('Tex-438-A'!$B$36=\"\",\"\",'Tex-438-A'!$B$36)","v":"Tex-438-A:Part 3 – Differential Wear"},{"$f":"IF('Tex-438-A'!$G$39=\"\",\"\",'Tex-438-A'!$G$39)","v":"Higher Polish Value - B"},{"$f":"IF('Tex-438-A'!$G$40=\"\",\"\",'Tex-438-A'!$G$40)","v":"Initial"},{"$f":"IF('Tex-438-A'!$B$40=\"\",\"\",'Tex-438-A'!$B$40)","v":"SET"},{"$f":"IF('Tex-438-A'!$B$43=\"\",\"\",'Tex-438-A'!$B$43)","v":2}]
[75,{"$f":"IF('Tex-438-A'!$H$43=\"\",\"\",'Tex-438-A'!$H$43)","v":""},{"$f":"IF('Tex-438-A'!$B$36=\"\",\"\",'Tex-438-A'!$B$36)","v":"Tex-438-A:Part 3 – Differential Wear"},{"$f":"IF('Tex-438-A'!$G$39=\"\",\"\",'Tex-438-A'!$G$39)","v":"Higher Polish Value - B"},{"$f":"IF('Tex-438-A'!$H$40=\"\",\"\",'Tex-438-A'!$H$40)","v":"Final"},{"$f":"IF('Tex-438-A'!$B$40=\"\",\"\",'Tex-438-A'!$B$40)","v":"SET"},{"$f":"IF('Tex-438-A'!$B$43=\"\",\"\",'Tex-438-A'!$B$43)","v":2}]
[76,{"$f":"IF('Tex-438-A'!$I$43=\"\",\"\",'Tex-438-A'!$I$43)","v":""},{"$f":"IF('Tex-438-A'!$B$36=\"\",\"\",'Tex-438-A'!$B$36)","v":"Tex-438-A:Part 3 – Differential Wear"},{"$f":"IF('Tex-438-A'!$G$39=\"\",\"\",'Tex-438-A'!$G$39)","v":"Higher Polish Value - B"},{"$f":"IF('Tex-438-A'!$I$40=\"\",\"\",'Tex-438-A'!$I$40)","v":"Difference"},{"$f":"IF('Tex-438-A'!$B$40=\"\",\"\",'Tex-438-A'!$B$40)","v":"SET"},{"$f":"IF('Tex-438-A'!$B$43=\"\",\"\",'Tex-438-A'!$B$43)","v":2}]
[77,{"$f":"IF('Tex-438-A'!$G$44=\"\",\"\",'Tex-438-A'!$G$44)","v":""},{"$f":"IF('Tex-438-A'!$B$36=\"\",\"\",'Tex-438-A'!$B$36)","v":"Tex-438-A:Part 3 – Differential Wear"},{"$f":"IF('Tex-438-A'!$G$39=\"\",\"\",'Tex-438-A'!$G$39)","v":"Higher Polish Value - B"},{"$f":"IF('Tex-438-A'!$G$40=\"\",\"\",'Tex-438-A'!$G$40)","v":"Initial"},{"$f":"IF('Tex-438-A'!$B$40=\"\",\"\",'Tex-438-A'!$B$40)","v":"SET"},{"$f":"IF('Tex-438-A'!$B$44=\"\",\"\",'Tex-438-A'!$B$44)","v":3}]
[78,{"$f":"IF('Tex-438-A'!$H$44=\"\",\"\",'Tex-438-A'!$H$44)","v":""},{"$f":"IF('Tex-438-A'!$B$36=\"\",\"\",'Tex-438-A'!$B$36)","v":"Tex-438-A:Part 3 – Differential Wear"},{"$f":"IF('Tex-438-A'!$G$39=\"\",\"\",'Tex-438-A'!$G$39)","v":"Higher Polish Value - B"},{"$f":"IF('Tex-438-A'!$H$40=\"\",\"\",'Tex-438-A'!$H$40)","v":"Final"},{"$f":"IF('Tex-438-A'!$B$40=\"\",\"\",'Tex-438-A'!$B$40)","v":"SET"},{"$f":"IF('Tex-438-A'!$B$44=\"\",\"\",'Tex-438-A'!$B$44)","v":3}]
[79,{"$f":"IF('Tex-438-A'!$I$44=\"\",\"\",'Tex-438-A'!$I$44)","v":""},{"$f":"IF('Tex-438-A'!$B$36=\"\",\"\",'Tex-438-A'!$B$36)","v":"Tex-438-A:Part 3 – Differential Wear"},{"$f":"IF('Tex-438-A'!$G$39=\"\",\"\",'Tex-438-A'!$G$39)","v":"Higher Polish Value - B"},{"$f":"IF('Tex-438-A'!$I$40=\"\",\"\",'Tex-438-A'!$I$40)","v":"Difference"},{"$f":"IF('Tex-438-A'!$B$40=\"\",\"\",'Tex-438-A'!$B$40)","v":"SET"},{"$f":"IF('Tex-438-A'!$B$44=\"\",\"\",'Tex-438-A'!$B$44)","v":3}]
[80,{"$f":"IF('Tex-438-A'!$G$45=\"\",\"\",'Tex-438-A'!$G$45)","v":""},{"$f":"IF('Tex-438-A'!$B$36=\"\",\"\",'Tex-438-A'!$B$36)","v":"Tex-438-A:Part 3 – Differential Wear"},{"$f":"IF('Tex-438-A'!$G$39=\"\",\"\",'Tex-438-A'!$G$39)","v":"Higher Polish Value - B"},{"$f":"IF('Tex-438-A'!$G$40=\"\",\"\",'Tex-438-A'!$G$40)","v":"Initial"},{"$f":"IF('Tex-438-A'!$B$40=\"\",\"\",'Tex-438-A'!$B$40)","v":"SET"},{"$f":"IF('Tex-438-A'!$B$45=\"\",\"\",'Tex-438-A'!$B$45)","v":4}]
[81,{"$f":"IF('Tex-438-A'!$H$45=\"\",\"\",'Tex-438-A'!$H$45)","v":""},{"$f":"IF('Tex-438-A'!$B$36=\"\",\"\",'Tex-438-A'!$B$36)","v":"Tex-438-A:Part 3 – Differential Wear"},{"$f":"IF('Tex-438-A'!$G$39=\"\",\"\",'Tex-438-A'!$G$39)","v":"Higher Polish Value - B"},{"$f":"IF('Tex-438-A'!$H$40=\"\",\"\",'Tex-438-A'!$H$40)","v":"Final"},{"$f":"IF('Tex-438-A'!$B$40=\"\",\"\",'Tex-438-A'!$B$40)","v":"SET"},{"$f":"IF('Tex-438-A'!$B$45=\"\",\"\",'Tex-438-A'!$B$45)","v":4}]
[82,{"$f":"IF('Tex-438-A'!$I$45=\"\",\"\",'Tex-438-A'!$I$45)","v":""},{"$f":"IF('Tex-438-A'!$B$36=\"\",\"\",'Tex-438-A'!$B$36)","v":"Tex-438-A:Part 3 – Differential Wear"},{"$f":"IF('Tex-438-A'!$G$39=\"\",\"\",'Tex-438-A'!$G$39)","v":"Higher Polish Value - B"},{"$f":"IF('Tex-438-A'!$I$40=\"\",\"\",'Tex-438-A'!$I$40)","v":"Difference"},{"$f":"IF('Tex-438-A'!$B$40=\"\",\"\",'Tex-438-A'!$B$40)","v":"SET"},{"$f":"IF('Tex-438-A'!$B$45=\"\",\"\",'Tex-438-A'!$B$45)","v":4}]
[83,{"$f":"IF('Tex-438-A'!$I$46=\"\",\"\",'Tex-438-A'!$I$46)","v":""},{"$f":"IF('Tex-438-A'!$B$36=\"\",\"\",'Tex-438-A'!$B$36)","v":"Tex-438-A:Part 3 – Differential Wear"},{"$f":"IF('Tex-438-A'!$G$39=\"\",\"\",'Tex-438-A'!$G$39)","v":"Higher Polish Value - B"},{"$f":"IF('Tex-438-A'!$I$40=\"\",\"\",'Tex-438-A'!$I$40)","v":"Difference"},{"$f":"IF('Tex-438-A'!$G$46=\"\",\"\",'Tex-438-A'!$G$46)","v":"Average PV Wear:"}]
[84,{"$f":"IF('Tex-438-A'!$C$51=\"\",\"\",'Tex-438-A'!$C$51)","v":""},{"$f":"IF('Tex-438-A'!$B$36=\"\",\"\",'Tex-438-A'!$B$36)","v":"Tex-438-A:Part 3 – Differential Wear"},{"$f":"IF('Tex-438-A'!$C$48=\"\",\"\",'Tex-438-A'!$C$48)","v":"Higher Polish Value - C"},{"$f":"IF('Tex-438-A'!$C$49=\"\",\"\",'Tex-438-A'!$C$49)","v":"Initial"},{"$f":"IF('Tex-438-A'!$B$49=\"\",\"\",'Tex-438-A'!$B$49)","v":"SET"},{"$f":"IF('Tex-438-A'!$B$51=\"\",\"\",'Tex-438-A'!$B$51)","v":1}]
[85,{"$f":"IF('Tex-438-A'!$D$51=\"\",\"\",'Tex-438-A'!$D$51)","v":""},{"$f":"IF('Tex-438-A'!$B$36=\"\",\"\",'Tex-438-A'!$B$36)","v":"Tex-438-A:Part 3 – Differential Wear"},{"$f":"IF('Tex-438-A'!$C$48=\"\",\"\",'Tex-438-A'!$C$48)","v":"Higher Polish Value - C"},{"$f":"IF('Tex-438-A'!$D$49=\"\",\"\",'Tex-438-A'!$D$49)","v":"Final"},{"$f":"IF('Tex-438-A'!$B$49=\"\",\"\",'Tex-438-A'!$B$49)","v":"SET"},{"$f":"IF('Tex-438-A'!$B$51=\"\",\"\",'Tex-438-A'!$B$51)","v":1}]
[86,{"$f":"IF('Tex-438-A'!$E$51=\"\",\"\",'Tex-438-A'!$E$51)","v":""},{"$f":"IF('Tex-438-A'!$B$36=\"\",\"\",'Tex-438-A'!$B$36)","v":"Tex-438-A:Part 3 – Differential Wear"},{"$f":"IF('Tex-438-A'!$C$48=\"\",\"\",'Tex-438-A'!$C$48)","v":"Higher Polish Value - C"},{"$f":"IF('Tex-438-A'!$E$49=\"\",\"\",'Tex-438-A'!$E$49)","v":"Difference"},{"$f":"IF('Tex-438-A'!$B$49=\"\",\"\",'Tex-438-A'!$B$49)","v":"SET"},{"$f":"IF('Tex-438-A'!$B$51=\"\",\"\",'Tex-438-A'!$B$51)","v":1}]
[87,{"$f":"IF('Tex-438-A'!$C$52=\"\",\"\",'Tex-438-A'!$C$52)","v":""},{"$f":"IF('Tex-438-A'!$B$36=\"\",\"\",'Tex-438-A'!$B$36)","v":"Tex-438-A:Part 3 – Differential Wear"},{"$f":"IF('Tex-438-A'!$C$48=\"\",\"\",'Tex-438-A'!$C$48)","v":"Higher Polish Value - C"},{"$f":"IF('Tex-438-A'!$C$49=\"\",\"\",'Tex-438-A'!$C$49)","v":"Initial"},{"$f":"IF('Tex-438-A'!$B$49=\"\",\"\",'Tex-438-A'!$B$49)","v":"SET"},{"$f":"IF('Tex-438-A'!$B$52=\"\",\"\",'Tex-438-A'!$B$52)","v":2}]
[88,{"$f":"IF('Tex-438-A'!$D$52=\"\",\"\",'Tex-438-A'!$D$52)","v":""},{"$f":"IF('Tex-438-A'!$B$36=\"\",\"\",'Tex-438-A'!$B$36)","v":"Tex-438-A:Part 3 – Differential Wear"},{"$f":"IF('Tex-438-A'!$C$48=\"\",\"\",'Tex-438-A'!$C$48)","v":"Higher Polish Value - C"},{"$f":"IF('Tex-438-A'!$D$49=\"\",\"\",'Tex-438-A'!$D$49)","v":"Final"},{"$f":"IF('Tex-438-A'!$B$49=\"\",\"\",'Tex-438-A'!$B$49)","v":"SET"},{"$f":"IF('Tex-438-A'!$B$52=\"\",\"\",'Tex-438-A'!$B$52)","v":2}]
[89,{"$f":"IF('Tex-438-A'!$E$52=\"\",\"\",'Tex-438-A'!$E$52)","v":""},{"$f":"IF('Tex-438-A'!$B$36=\"\",\"\",'Tex-438-A'!$B$36)","v":"Tex-438-A:Part 3 – Differential Wear"},{"$f":"IF('Tex-438-A'!$C$48=\"\",\"\",'Tex-438-A'!$C$48)","v":"Higher Polish Value - C"},{"$f":"IF('Tex-438-A'!$E$49=\"\",\"\",'Tex-438-A'!$E$49)","v":"Difference"},{"$f":"IF('Tex-438-A'!$B$49=\"\",\"\",'Tex-438-A'!$B$49)","v":"SET"},{"$f":"IF('Tex-438-A'!$B$52=\"\",\"\",'Tex-438-A'!$B$52)","v":2}]
[90,{"$f":"IF('Tex-438-A'!$C$53=\"\",\"\",'Tex-438-A'!$C$53)","v":""},{"$f":"IF('Tex-438-A'!$B$36=\"\",\"\",'Tex-438-A'!$B$36)","v":"Tex-438-A:Part 3 – Differential Wear"},{"$f":"IF('Tex-438-A'!$C$48=\"\",\"\",'Tex-438-A'!$C$48)","v":"Higher Polish Value - C"},{"$f":"IF('Tex-438-A'!$C$49=\"\",\"\",'Tex-438-A'!$C$49)","v":"Initial"},{"$f":"IF('Tex-438-A'!$B$49=\"\",\"\",'Tex-438-A'!$B$49)","v":"SET"},{"$f":"IF('Tex-438-A'!$B$53=\"\",\"\",'Tex-438-A'!$B$53)","v":3}]
[91,{"$f":"IF('Tex-438-A'!$D$53=\"\",\"\",'Tex-438-A'!$D$53)","v":""},{"$f":"IF('Tex-438-A'!$B$36=\"\",\"\",'Tex-438-A'!$B$36)","v":"Tex-438-A:Part 3 – Differential Wear"},{"$f":"IF('Tex-438-A'!$C$48=\"\",\"\",'Tex-438-A'!$C$48)","v":"Higher Polish Value - C"},{"$f":"IF('Tex-438-A'!$D$49=\"\",\"\",'Tex-438-A'!$D$49)","v":"Final"},{"$f":"IF('Tex-438-A'!$B$49=\"\",\"\",'Tex-438-A'!$B$49)","v":"SET"},{"$f":"IF('Tex-438-A'!$B$53=\"\",\"\",'Tex-438-A'!$B$53)","v":3}]
[92,{"$f":"IF('Tex-438-A'!$E$53=\"\",\"\",'Tex-438-A'!$E$53)","v":""},{"$f":"IF('Tex-438-A'!$B$36=\"\",\"\",'Tex-438-A'!$B$36)","v":"Tex-438-A:Part 3 – Differential Wear"},{"$f":"IF('Tex-438-A'!$C$48=\"\",\"\",'Tex-438-A'!$C$48)","v":"Higher Polish Value - C"},{"$f":"IF('Tex-438-A'!$E$49=\"\",\"\",'Tex-438-A'!$E$49)","v":"Difference"},{"$f":"IF('Tex-438-A'!$B$49=\"\",\"\",'Tex-438-A'!$B$49)","v":"SET"},{"$f":"IF('Tex-438-A'!$B$53=\"\",\"\",'Tex-438-A'!$B$53)","v":3}]
[93,{"$f":"IF('Tex-438-A'!$C$54=\"\",\"\",'Tex-438-A'!$C$54)","v":""},{"$f":"IF('Tex-438-A'!$B$36=\"\",\"\",'Tex-438-A'!$B$36)","v":"Tex-438-A:Part 3 – Differential Wear"},{"$f":"IF('Tex-438-A'!$C$48=\"\",\"\",'Tex-438-A'!$C$48)","v":"Higher Polish Value - C"},{"$f":"IF('Tex-438-A'!$C$49=\"\",\"\",'Tex-438-A'!$C$49)","v":"Initial"},{"$f":"IF('Tex-438-A'!$B$49=\"\",\"\",'Tex-438-A'!$B$49)","v":"SET"},{"$f":"IF('Tex-438-A'!$B$54=\"\",\"\",'Tex-438-A'!$B$54)","v":4}]
[94,{"$f":"IF('Tex-438-A'!$D$54=\"\",\"\",'Tex-438-A'!$D$54)","v":""},{"$f":"IF('Tex-438-A'!$B$36=\"\",\"\",'Tex-438-A'!$B$36)","v":"Tex-438-A:Part 3 – Differential Wear"},{"$f":"IF('Tex-438-A'!$C$48=\"\",\"\",'Tex-438-A'!$C$48)","v":"Higher Polish Value - C"},{"$f":"IF('Tex-438-A'!$D$49=\"\",\"\",'Tex-438-A'!$D$49)","v":"Final"},{"$f":"IF('Tex-438-A'!$B$49=\"\",\"\",'Tex-438-A'!$B$49)","v":"SET"},{"$f":"IF('Tex-438-A'!$B$54=\"\",\"\",'Tex-438-A'!$B$54)","v":4}]
[95,{"$f":"IF('Tex-438-A'!$E$54=\"\",\"\",'Tex-438-A'!$E$54)","v":""},{"$f":"IF('Tex-438-A'!$B$36=\"\",\"\",'Tex-438-A'!$B$36)","v":"Tex-438-A:Part 3 – Differential Wear"},{"$f":"IF('Tex-438-A'!$C$48=\"\",\"\",'Tex-438-A'!$C$48)","v":"Higher Polish Value - C"},{"$f":"IF('Tex-438-A'!$E$49=\"\",\"\",'Tex-438-A'!$E$49)","v":"Difference"},{"$f":"IF('Tex-438-A'!$B$49=\"\",\"\",'Tex-438-A'!$B$49)","v":"SET"},{"$f":"IF('Tex-438-A'!$B$54=\"\",\"\",'Tex-438-A'!$B$54)","v":4}]
[96,{"$f":"IF('Tex-438-A'!$E$55=\"\",\"\",'Tex-438-A'!$E$55)","v":""},{"$f":"IF('Tex-438-A'!$B$36=\"\",\"\",'Tex-438-A'!$B$36)","v":"Tex-438-A:Part 3 – Differential Wear"},{"$f":"IF('Tex-438-A'!$C$48=\"\",\"\",'Tex-438-A'!$C$48)","v":"Higher Polish Value - C"},{"$f":"IF('Tex-438-A'!$E$49=\"\",\"\",'Tex-438-A'!$E$49)","v":"Difference"},{"$f":"IF('Tex-438-A'!$D$55=\"\",\"\",'Tex-438-A'!$D$55)","v":"Average:"}]
[97,{"$f":"IF('Tex-438-A'!$G$51=\"\",\"\",'Tex-438-A'!$G$51)","v":""},{"$f":"IF('Tex-438-A'!$B$36=\"\",\"\",'Tex-438-A'!$B$36)","v":"Tex-438-A:Part 3 – Differential Wear"},{"$f":"IF('Tex-438-A'!$G$48=\"\",\"\",'Tex-438-A'!$G$48)","v":"Higher Polish Value - D"},{"$f":"IF('Tex-438-A'!$G$49=\"\",\"\",'Tex-438-A'!$G$49)","v":"Initial"},{"$f":"IF('Tex-438-A'!$B$49=\"\",\"\",'Tex-438-A'!$B$49)","v":"SET"},{"$f":"IF('Tex-438-A'!$B$51=\"\",\"\",'Tex-438-A'!$B$51)","v":1}]
[98,{"$f":"IF('Tex-438-A'!$H$51=\"\",\"\",'Tex-438-A'!$H$51)","v":""},{"$f":"IF('Tex-438-A'!$B$36=\"\",\"\",'Tex-438-A'!$B$36)","v":"Tex-438-A:Part 3 – Differential Wear"},{"$f":"IF('Tex-438-A'!$G$48=\"\",\"\",'Tex-438-A'!$G$48)","v":"Higher Polish Value - D"},{"$f":"IF('Tex-438-A'!$H$49=\"\",\"\",'Tex-438-A'!$H$49)","v":"Final"},{"$f":"IF('Tex-438-A'!$B$49=\"\",\"\",'Tex-438-A'!$B$49)","v":"SET"},{"$f":"IF('Tex-438-A'!$B$51=\"\",\"\",'Tex-438-A'!$B$51)","v":1}]
[99,{"$f":"IF('Tex-438-A'!$I$51=\"\",\"\",'Tex-438-A'!$I$51)","v":""},{"$f":"IF('Tex-438-A'!$B$36=\"\",\"\",'Tex-438-A'!$B$36)","v":"Tex-438-A:Part 3 – Differential Wear"},{"$f":"IF('Tex-438-A'!$G$48=\"\",\"\",'Tex-438-A'!$G$48)","v":"Higher Polish Value - D"},{"$f":"IF('Tex-438-A'!$I$49=\"\",\"\",'Tex-438-A'!$I$49)","v":"Difference"},{"$f":"IF('Tex-438-A'!$B$49=\"\",\"\",'Tex-438-A'!$B$49)","v":"SET"},{"$f":"IF('Tex-438-A'!$B$51=\"\",\"\",'Tex-438-A'!$B$51)","v":1}]
[100,{"$f":"IF('Tex-438-A'!$G$52=\"\",\"\",'Tex-438-A'!$G$52)","v":""},{"$f":"IF('Tex-438-A'!$B$36=\"\",\"\",'Tex-438-A'!$B$36)","v":"Tex-438-A:Part 3 – Differential Wear"},{"$f":"IF('Tex-438-A'!$G$48=\"\",\"\",'Tex-438-A'!$G$48)","v":"Higher Polish Value - D"},{"$f":"IF('Tex-438-A'!$G$49=\"\",\"\",'Tex-438-A'!$G$49)","v":"Initial"},{"$f":"IF('Tex-438-A'!$B$49=\"\",\"\",'Tex-438-A'!$B$49)","v":"SET"},{"$f":"IF('Tex-438-A'!$B$52=\"\",\"\",'Tex-438-A'!$B$52)","v":2}]
[101,{"$f":"IF('Tex-438-A'!$H$52=\"\",\"\",'Tex-438-A'!$H$52)","v":""},{"$f":"IF('Tex-438-A'!$B$36=\"\",\"\",'Tex-438-A'!$B$36)","v":"Tex-438-A:Part 3 – Differential Wear"},{"$f":"IF('Tex-438-A'!$G$48=\"\",\"\",'Tex-438-A'!$G$48)","v":"Higher Polish Value - D"},{"$f":"IF('Tex-438-A'!$H$49=\"\",\"\",'Tex-438-A'!$H$49)","v":"Final"},{"$f":"IF('Tex-438-A'!$B$49=\"\",\"\",'Tex-438-A'!$B$49)","v":"SET"},{"$f":"IF('Tex-438-A'!$B$52=\"\",\"\",'Tex-438-A'!$B$52)","v":2}]
[102,{"$f":"IF('Tex-438-A'!$I$52=\"\",\"\",'Tex-438-A'!$I$52)","v":""},{"$f":"IF('Tex-438-A'!$B$36=\"\",\"\",'Tex-438-A'!$B$36)","v":"Tex-438-A:Part 3 – Differential Wear"},{"$f":"IF('Tex-438-A'!$G$48=\"\",\"\",'Tex-438-A'!$G$48)","v":"Higher Polish Value - D"},{"$f":"IF('Tex-438-A'!$I$49=\"\",\"\",'Tex-438-A'!$I$49)","v":"Difference"},{"$f":"IF('Tex-438-A'!$B$49=\"\",\"\",'Tex-438-A'!$B$49)","v":"SET"},{"$f":"IF('Tex-438-A'!$B$52=\"\",\"\",'Tex-438-A'!$B$52)","v":2}]
[103,{"$f":"IF('Tex-438-A'!$G$53=\"\",\"\",'Tex-438-A'!$G$53)","v":""},{"$f":"IF('Tex-438-A'!$B$36=\"\",\"\",'Tex-438-A'!$B$36)","v":"Tex-438-A:Part 3 – Differential Wear"},{"$f":"IF('Tex-438-A'!$G$48=\"\",\"\",'Tex-438-A'!$G$48)","v":"Higher Polish Value - D"},{"$f":"IF('Tex-438-A'!$G$49=\"\",\"\",'Tex-438-A'!$G$49)","v":"Initial"},{"$f":"IF('Tex-438-A'!$B$49=\"\",\"\",'Tex-438-A'!$B$49)","v":"SET"},{"$f":"IF('Tex-438-A'!$B$53=\"\",\"\",'Tex-438-A'!$B$53)","v":3}]
[104,{"$f":"IF('Tex-438-A'!$H$53=\"\",\"\",'Tex-438-A'!$H$53)","v":""},{"$f":"IF('Tex-438-A'!$B$36=\"\",\"\",'Tex-438-A'!$B$36)","v":"Tex-438-A:Part 3 – Differential Wear"},{"$f":"IF('Tex-438-A'!$G$48=\"\",\"\",'Tex-438-A'!$G$48)","v":"Higher Polish Value - D"},{"$f":"IF('Tex-438-A'!$H$49=\"\",\"\",'Tex-438-A'!$H$49)","v":"Final"},{"$f":"IF('Tex-438-A'!$B$49=\"\",\"\",'Tex-438-A'!$B$49)","v":"SET"},{"$f":"IF('Tex-438-A'!$B$53=\"\",\"\",'Tex-438-A'!$B$53)","v":3}]
[105,{"$f":"IF('Tex-438-A'!$I$53=\"\",\"\",'Tex-438-A'!$I$53)","v":""},{"$f":"IF('Tex-438-A'!$B$36=\"\",\"\",'Tex-438-A'!$B$36)","v":"Tex-438-A:Part 3 – Differential Wear"},{"$f":"IF('Tex-438-A'!$G$48=\"\",\"\",'Tex-438-A'!$G$48)","v":"Higher Polish Value - D"},{"$f":"IF('Tex-438-A'!$I$49=\"\",\"\",'Tex-438-A'!$I$49)","v":"Difference"},{"$f":"IF('Tex-438-A'!$B$49=\"\",\"\",'Tex-438-A'!$B$49)","v":"SET"},{"$f":"IF('Tex-438-A'!$B$53=\"\",\"\",'Tex-438-A'!$B$53)","v":3}]
[106,{"$f":"IF('Tex-438-A'!$G$54=\"\",\"\",'Tex-438-A'!$G$54)","v":""},{"$f":"IF('Tex-438-A'!$B$36=\"\",\"\",'Tex-438-A'!$B$36)","v":"Tex-438-A:Part 3 – Differential Wear"},{"$f":"IF('Tex-438-A'!$G$48=\"\",\"\",'Tex-438-A'!$G$48)","v":"Higher Polish Value - D"},{"$f":"IF('Tex-438-A'!$G$49=\"\",\"\",'Tex-438-A'!$G$49)","v":"Initial"},{"$f":"IF('Tex-438-A'!$B$49=\"\",\"\",'Tex-438-A'!$B$49)","v":"SET"},{"$f":"IF('Tex-438-A'!$B$54=\"\",\"\",'Tex-438-A'!$B$54)","v":4}]
[107,{"$f":"IF('Tex-438-A'!$H$54=\"\",\"\",'Tex-438-A'!$H$54)","v":""},{"$f":"IF('Tex-438-A'!$B$36=\"\",\"\",'Tex-438-A'!$B$36)","v":"Tex-438-A:Part 3 – Differential Wear"},{"$f":"IF('Tex-438-A'!$G$48=\"\",\"\",'Tex-438-A'!$G$48)","v":"Higher Polish Value - D"},{"$f":"IF('Tex-438-A'!$H$49=\"\",\"\",'Tex-438-A'!$H$49)","v":"Final"},{"$f":"IF('Tex-438-A'!$B$49=\"\",\"\",'Tex-438-A'!$B$49)","v":"SET"},{"$f":"IF('Tex-438-A'!$B$54=\"\",\"\",'Tex-438-A'!$B$54)","v":4}]
[108,{"$f":"IF('Tex-438-A'!$I$54=\"\",\"\",'Tex-438-A'!$I$54)","v":""},{"$f":"IF('Tex-438-A'!$B$36=\"\",\"\",'Tex-438-A'!$B$36)","v":"Tex-438-A:Part 3 – Differential Wear"},{"$f":"IF('Tex-438-A'!$G$48=\"\",\"\",'Tex-438-A'!$G$48)","v":"Higher Polish Value - D"},{"$f":"IF('Tex-438-A'!$I$49=\"\",\"\",'Tex-438-A'!$I$49)","v":"Difference"},{"$f":"IF('Tex-438-A'!$B$49=\"\",\"\",'Tex-438-A'!$B$49)","v":"SET"},{"$f":"IF('Tex-438-A'!$B$54=\"\",\"\",'Tex-438-A'!$B$54)","v":4}]
[109,{"$f":"IF('Tex-438-A'!$I$55=\"\",\"\",'Tex-438-A'!$I$55)","v":""},{"$f":"IF('Tex-438-A'!$B$36=\"\",\"\",'Tex-438-A'!$B$36)","v":"Tex-438-A:Part 3 – Differential Wear"},{"$f":"IF('Tex-438-A'!$G$48=\"\",\"\",'Tex-438-A'!$G$48)","v":"Higher Polish Value - D"},{"$f":"IF('Tex-438-A'!$I$49=\"\",\"\",'Tex-438-A'!$I$49)","v":"Difference"},{"$f":"IF('Tex-438-A'!$H$55=\"\",\"\",'Tex-438-A'!$H$55)","v":"Average:"}]
[110,{"$f":"IF('Tex-438-A'!$G$57=\"\",\"\",'Tex-438-A'!$G$57)","v":""},{"$f":"IF('Tex-438-A'!$B$36=\"\",\"\",'Tex-438-A'!$B$36)","v":"Tex-438-A:Part 3 – Differential Wear"},{"$f":"IF('Tex-438-A'!$D$57=\"\",\"\",'Tex-438-A'!$D$57)","v":"Higher Polish Value Average Wear:"}]
[111,{"$f":"IF('Tex-438-A'!$C$64=\"\",\"\",'Tex-438-A'!$C$64)","v":""},{"$f":"IF('Tex-438-A'!$B$36=\"\",\"\",'Tex-438-A'!$B$36)","v":"Tex-438-A:Part 3 – Differential Wear"},{"$f":"IF('Tex-438-A'!$C$61=\"\",\"\",'Tex-438-A'!$C$61)","v":"Lower Polish Value - A"},{"$f":"IF('Tex-438-A'!$C$62=\"\",\"\",'Tex-438-A'!$C$62)","v":"Initial"},{"$f":"IF('Tex-438-A'!$B$62=\"\",\"\",'Tex-438-A'!$B$62)","v":"SET"},{"$f":"IF('Tex-438-A'!$B$64=\"\",\"\",'Tex-438-A'!$B$64)","v":1}]
[112,{"$f":"IF('Tex-438-A'!$D$64=\"\",\"\",'Tex-438-A'!$D$64)","v":""},{"$f":"IF('Tex-438-A'!$B$36=\"\",\"\",'Tex-438-A'!$B$36)","v":"Tex-438-A:Part 3 – Differential Wear"},{"$f":"IF('Tex-438-A'!$C$61=\"\",\"\",'Tex-438-A'!$C$61)","v":"Lower Polish Value - A"},{"$f":"IF('Tex-438-A'!$D$62=\"\",\"\",'Tex-438-A'!$D$62)","v":"Final"},{"$f":"IF('Tex-438-A'!$B$62=\"\",\"\",'Tex-438-A'!$B$62)","v":"SET"},{"$f":"IF('Tex-438-A'!$B$64=\"\",\"\",'Tex-438-A'!$B$64)","v":1}]
[113,{"$f":"IF('Tex-438-A'!$E$64=\"\",\"\",'Tex-438-A'!$E$64)","v":""},{"$f":"IF('Tex-438-A'!$B$36=\"\",\"\",'Tex-438-A'!$B$36)","v":"Tex-438-A:Part 3 – Differential Wear"},{"$f":"IF('Tex-438-A'!$C$61=\"\",\"\",'Tex-438-A'!$C$61)","v":"Lower Polish Value - A"},{"$f":"IF('Tex-438-A'!$E$62=\"\",\"\",'Tex-438-A'!$E$62)","v":"Difference"},{"$f":"IF('Tex-438-A'!$B$62=\"\",\"\",'Tex-438-A'!$B$62)","v":"SET"},{"$f":"IF('Tex-438-A'!$B$64=\"\",\"\",'Tex-438-A'!$B$64)","v":1}]
[114,{"$f":"IF('Tex-438-A'!$C$65=\"\",\"\",'Tex-438-A'!$C$65)","v":""},{"$f":"IF('Tex-438-A'!$B$36=\"\",\"\",'Tex-438-A'!$B$36)","v":"Tex-438-A:Part 3 – Differential Wear"},{"$f":"IF('Tex-438-A'!$C$61=\"\",\"\",'Tex-438-A'!$C$61)","v":"Lower Polish Value - A"},{"$f":"IF('Tex-438-A'!$C$62=\"\",\"\",'Tex-438-A'!$C$62)","v":"Initial"},{"$f":"IF('Tex-438-A'!$B$62=\"\",\"\",'Tex-438-A'!$B$62)","v":"SET"},{"$f":"IF('Tex-438-A'!$B$65=\"\",\"\",'Tex-438-A'!$B$65)","v":2}]
[115,{"$f":"IF('Tex-438-A'!$D$65=\"\",\"\",'Tex-438-A'!$D$65)","v":""},{"$f":"IF('Tex-438-A'!$B$36=\"\",\"\",'Tex-438-A'!$B$36)","v":"Tex-438-A:Part 3 – Differential Wear"},{"$f":"IF('Tex-438-A'!$C$61=\"\",\"\",'Tex-438-A'!$C$61)","v":"Lower Polish Value - A"},{"$f":"IF('Tex-438-A'!$D$62=\"\",\"\",'Tex-438-A'!$D$62)","v":"Final"},{"$f":"IF('Tex-438-A'!$B$62=\"\",\"\",'Tex-438-A'!$B$62)","v":"SET"},{"$f":"IF('Tex-438-A'!$B$65=\"\",\"\",'Tex-438-A'!$B$65)","v":2}]
[116,{"$f":"IF('Tex-438-A'!$E$65=\"\",\"\",'Tex-438-A'!$E$65)","v":""},{"$f":"IF('Tex-438-A'!$B$36=\"\",\"\",'Tex-438-A'!$B$36)","v":"Tex-438-A:Part 3 – Differential Wear"},{"$f":"IF('Tex-438-A'!$C$61=\"\",\"\",'Tex-438-A'!$C$61)","v":"Lower Polish Value - A"},{"$f":"IF('Tex-438-A'!$E$62=\"\",\"\",'Tex-438-A'!$E$62)","v":"Difference"},{"$f":"IF('Tex-438-A'!$B$62=\"\",\"\",'Tex-438-A'!$B$62)","v":"SET"},{"$f":"IF('Tex-438-A'!$B$65=\"\",\"\",'Tex-438-A'!$B$65)","v":2}]
[117,{"$f":"IF('Tex-438-A'!$C$66=\"\",\"\",'Tex-438-A'!$C$66)","v":""},{"$f":"IF('Tex-438-A'!$B$36=\"\",\"\",'Tex-438-A'!$B$36)","v":"Tex-438-A:Part 3 – Differential Wear"},{"$f":"IF('Tex-438-A'!$C$61=\"\",\"\",'Tex-438-A'!$C$61)","v":"Lower Polish Value - A"},{"$f":"IF('Tex-438-A'!$C$62=\"\",\"\",'Tex-438-A'!$C$62)","v":"Initial"},{"$f":"IF('Tex-438-A'!$B$62=\"\",\"\",'Tex-438-A'!$B$62)","v":"SET"},{"$f":"IF('Tex-438-A'!$B$66=\"\",\"\",'Tex-438-A'!$B$66)","v":3}]
[118,{"$f":"IF('Tex-438-A'!$D$66=\"\",\"\",'Tex-438-A'!$D$66)","v":""},{"$f":"IF('Tex-438-A'!$B$36=\"\",\"\",'Tex-438-A'!$B$36)","v":"Tex-438-A:Part 3 – Differential Wear"},{"$f":"IF('Tex-438-A'!$C$61=\"\",\"\",'Tex-438-A'!$C$61)","v":"Lower Polish Value - A"},{"$f":"IF('Tex-438-A'!$D$62=\"\",\"\",'Tex-438-A'!$D$62)","v":"Final"},{"$f":"IF('Tex-438-A'!$B$62=\"\",\"\",'Tex-438-A'!$B$62)","v":"SET"},{"$f":"IF('Tex-438-A'!$B$66=\"\",\"\",'Tex-438-A'!$B$66)","v":3}]
[119,{"$f":"IF('Tex-438-A'!$E$66=\"\",\"\",'Tex-438-A'!$E$66)","v":""},{"$f":"IF('Tex-438-A'!$B$36=\"\",\"\",'Tex-438-A'!$B$36)","v":"Tex-438-A:Part 3 – Differential Wear"},{"$f":"IF('Tex-438-A'!$C$61=\"\",\"\",'Tex-438-A'!$C$61)","v":"Lower Polish Value - A"},{"$f":"IF('Tex-438-A'!$E$62=\"\",\"\",'Tex-438-A'!$E$62)","v":"Difference"},{"$f":"IF('Tex-438-A'!$B$62=\"\",\"\",'Tex-438-A'!$B$62)","v":"SET"},{"$f":"IF('Tex-438-A'!$B$66=\"\",\"\",'Tex-438-A'!$B$66)","v":3}]
[120,{"$f":"IF('Tex-438-A'!$C$67=\"\",\"\",'Tex-438-A'!$C$67)","v":""},{"$f":"IF('Tex-438-A'!$B$36=\"\",\"\",'Tex-438-A'!$B$36)","v":"Tex-438-A:Part 3 – Differential Wear"},{"$f":"IF('Tex-438-A'!$C$61=\"\",\"\",'Tex-438-A'!$C$61)","v":"Lower Polish Value - A"},{"$f":"IF('Tex-438-A'!$C$62=\"\",\"\",'Tex-438-A'!$C$62)","v":"Initial"},{"$f":"IF('Tex-438-A'!$B$62=\"\",\"\",'Tex-438-A'!$B$62)","v":"SET"},{"$f":"IF('Tex-438-A'!$B$67=\"\",\"\",'Tex-438-A'!$B$67)","v":4}]
[121,{"$f":"IF('Tex-438-A'!$D$67=\"\",\"\",'Tex-438-A'!$D$67)","v":""},{"$f":"IF('Tex-438-A'!$B$36=\"\",\"\",'Tex-438-A'!$B$36)","v":"Tex-438-A:Part 3 – Differential Wear"},{"$f":"IF('Tex-438-A'!$C$61=\"\",\"\",'Tex-438-A'!$C$61)","v":"Lower Polish Value - A"},{"$f":"IF('Tex-438-A'!$D$62=\"\",\"\",'Tex-438-A'!$D$62)","v":"Final"},{"$f":"IF('Tex-438-A'!$B$62=\"\",\"\",'Tex-438-A'!$B$62)","v":"SET"},{"$f":"IF('Tex-438-A'!$B$67=\"\",\"\",'Tex-438-A'!$B$67)","v":4}]
[122,{"$f":"IF('Tex-438-A'!$E$67=\"\",\"\",'Tex-438-A'!$E$67)","v":""},{"$f":"IF('Tex-438-A'!$B$36=\"\",\"\",'Tex-438-A'!$B$36)","v":"Tex-438-A:Part 3 – Differential Wear"},{"$f":"IF('Tex-438-A'!$C$61=\"\",\"\",'Tex-438-A'!$C$61)","v":"Lower Polish Value - A"},{"$f":"IF('Tex-438-A'!$E$62=\"\",\"\",'Tex-438-A'!$E$62)","v":"Difference"},{"$f":"IF('Tex-438-A'!$B$62=\"\",\"\",'Tex-438-A'!$B$62)","v":"SET"},{"$f":"IF('Tex-438-A'!$B$67=\"\",\"\",'Tex-438-A'!$B$67)","v":4}]
[123,{"$f":"IF('Tex-438-A'!$E$68=\"\",\"\",'Tex-438-A'!$E$68)","v":""},{"$f":"IF('Tex-438-A'!$B$36=\"\",\"\",'Tex-438-A'!$B$36)","v":"Tex-438-A:Part 3 – Differential Wear"},{"$f":"IF('Tex-438-A'!$C$61=\"\",\"\",'Tex-438-A'!$C$61)","v":"Lower Polish Value - A"},{"$f":"IF('Tex-438-A'!$E$62=\"\",\"\",'Tex-438-A'!$E$62)","v":"Difference"},{"$f":"IF('Tex-438-A'!$D$68=\"\",\"\",'Tex-438-A'!$D$68)","v":"Average:"}]
[124,{"$f":"IF('Tex-438-A'!$G$64=\"\",\"\",'Tex-438-A'!$G$64)","v":""},{"$f":"IF('Tex-438-A'!$B$36=\"\",\"\",'Tex-438-A'!$B$36)","v":"Tex-438-A:Part 3 – Differential Wear"},{"$f":"IF('Tex-438-A'!$G$61=\"\",\"\",'Tex-438-A'!$G$61)","v":"Lower Polish Value - B"},{"$f":"IF('Tex-438-A'!$G$62=\"\",\"\",'Tex-438-A'!$G$62)","v":"Initial"},{"$f":"IF('Tex-438-A'!$B$62=\"\",\"\",'Tex-438-A'!$B$62)","v":"SET"},{"$f":"IF('Tex-438-A'!$B$64=\"\",\"\",'Tex-438-A'!$B$64)","v":1}]
[125,{"$f":"IF('Tex-438-A'!$H$64=\"\",\"\",'Tex-438-A'!$H$64)","v":""},{"$f":"IF('Tex-438-A'!$B$36=\"\",\"\",'Tex-438-A'!$B$36)","v":"Tex-438-A:Part 3 – Differential Wear"},{"$f":"IF('Tex-438-A'!$G$61=\"\",\"\",'Tex-438-A'!$G$61)","v":"Lower Polish Value - B"},{"$f":"IF('Tex-438-A'!$H$62=\"\",\"\",'Tex-438-A'!$H$62)","v":"Final"},{"$f":"IF('Tex-438-A'!$B$62=\"\",\"\",'Tex-438-A'!$B$62)","v":"SET"},{"$f":"IF('Tex-438-A'!$B$64=\"\",\"\",'Tex-438-A'!$B$64)","v":1}]
[126,{"$f":"IF('Tex-438-A'!$I$64=\"\",\"\",'Tex-438-A'!$I$64)","v":""},{"$f":"IF('Tex-438-A'!$B$36=\"\",\"\",'Tex-438-A'!$B$36)","v":"Tex-438-A:Part 3 – Differential Wear"},{"$f":"IF('Tex-438-A'!$G$61=\"\",\"\",'Tex-438-A'!$G$61)","v":"Lower Polish Value - B"},{"$f":"IF('Tex-438-A'!$I$62=\"\",\"\",'Tex-438-A'!$I$62)","v":"Difference"},{"$f":"IF('Tex-438-A'!$B$62=\"\",\"\",'Tex-438-A'!$B$62)","v":"SET"},{"$f":"IF('Tex-438-A'!$B$64=\"\",\"\",'Tex-438-A'!$B$64)","v":1}]
[127,{"$f":"IF('Tex-438-A'!$G$65=\"\",\"\",'Tex-438-A'!$G$65)","v":""},{"$f":"IF('Tex-438-A'!$B$36=\"\",\"\",'Tex-438-A'!$B$36)","v":"Tex-438-A:Part 3 – Differential Wear"},{"$f":"IF('Tex-438-A'!$G$61=\"\",\"\",'Tex-438-A'!$G$61)","v":"Lower Polish Value - B"},{"$f":"IF('Tex-438-A'!$G$62=\"\",\"\",'Tex-438-A'!$G$62)","v":"Initial"},{"$f":"IF('Tex-438-A'!$B$62=\"\",\"\",'Tex-438-A'!$B$62)","v":"SET"},{"$f":"IF('Tex-438-A'!$B$65=\"\",\"\",'Tex-438-A'!$B$65)","v":2}]
[128,{"$f":"IF('Tex-438-A'!$H$65=\"\",\"\",'Tex-438-A'!$H$65)","v":""},{"$f":"IF('Tex-438-A'!$B$36=\"\",\"\",'Tex-438-A'!$B$36)","v":"Tex-438-A:Part 3 – Differential Wear"},{"$f":"IF('Tex-438-A'!$G$61=\"\",\"\",'Tex-438-A'!$G$61)","v":"Lower Polish Value - B"},{"$f":"IF('Tex-438-A'!$H$62=\"\",\"\",'Tex-438-A'!$H$62)","v":"Final"},{"$f":"IF('Tex-438-A'!$B$62=\"\",\"\",'Tex-438-A'!$B$62)","v":"SET"},{"$f":"IF('Tex-438-A'!$B$65=\"\",\"\",'Tex-438-A'!$B$65)","v":2}]
[129,{"$f":"IF('Tex-438-A'!$I$65=\"\",\"\",'Tex-438-A'!$I$65)","v":""},{"$f":"IF('Tex-438-A'!$B$36=\"\",\"\",'Tex-438-A'!$B$36)","v":"Tex-438-A:Part 3 – Differential Wear"},{"$f":"IF('Tex-438-A'!$G$61=\"\",\"\",'Tex-438-A'!$G$61)","v":"Lower Polish Value - B"},{"$f":"IF('Tex-438-A'!$I$62=\"\",\"\",'Tex-438-A'!$I$62)","v":"Difference"},{"$f":"IF('Tex-438-A'!$B$62=\"\",\"\",'Tex-438-A'!$B$62)","v":"SET"},{"$f":"IF('Tex-438-A'!$B$65=\"\",\"\",'Tex-438-A'!$B$65)","v":2}]
[130,{"$f":"IF('Tex-438-A'!$G$66=\"\",\"\",'Tex-438-A'!$G$66)","v":""},{"$f":"IF('Tex-438-A'!$B$36=\"\",\"\",'Tex-438-A'!$B$36)","v":"Tex-438-A:Part 3 – Differential Wear"},{"$f":"IF('Tex-438-A'!$G$61=\"\",\"\",'Tex-438-A'!$G$61)","v":"Lower Polish Value - B"},{"$f":"IF('Tex-438-A'!$G$62=\"\",\"\",'Tex-438-A'!$G$62)","v":"Initial"},{"$f":"IF('Tex-438-A'!$B$62=\"\",\"\",'Tex-438-A'!$B$62)","v":"SET"},{"$f":"IF('Tex-438-A'!$B$66=\"\",\"\",'Tex-438-A'!$B$66)","v":3}]
[131,{"$f":"IF('Tex-438-A'!$H$66=\"\",\"\",'Tex-438-A'!$H$66)","v":""},{"$f":"IF('Tex-438-A'!$B$36=\"\",\"\",'Tex-438-A'!$B$36)","v":"Tex-438-A:Part 3 – Differential Wear"},{"$f":"IF('Tex-438-A'!$G$61=\"\",\"\",'Tex-438-A'!$G$61)","v":"Lower Polish Value - B"},{"$f":"IF('Tex-438-A'!$H$62=\"\",\"\",'Tex-438-A'!$H$62)","v":"Final"},{"$f":"IF('Tex-438-A'!$B$62=\"\",\"\",'Tex-438-A'!$B$62)","v":"SET"},{"$f":"IF('Tex-438-A'!$B$66=\"\",\"\",'Tex-438-A'!$B$66)","v":3}]
[132,{"$f":"IF('Tex-438-A'!$I$66=\"\",\"\",'Tex-438-A'!$I$66)","v":""},{"$f":"IF('Tex-438-A'!$B$36=\"\",\"\",'Tex-438-A'!$B$36)","v":"Tex-438-A:Part 3 – Differential Wear"},{"$f":"IF('Tex-438-A'!$G$61=\"\",\"\",'Tex-438-A'!$G$61)","v":"Lower Polish Value - B"},{"$f":"IF('Tex-438-A'!$I$62=\"\",\"\",'Tex-438-A'!$I$62)","v":"Difference"},{"$f":"IF('Tex-438-A'!$B$62=\"\",\"\",'Tex-438-A'!$B$62)","v":"SET"},{"$f":"IF('Tex-438-A'!$B$66=\"\",\"\",'Tex-438-A'!$B$66)","v":3}]
[133,{"$f":"IF('Tex-438-A'!$G$67=\"\",\"\",'Tex-438-A'!$G$67)","v":""},{"$f":"IF('Tex-438-A'!$B$36=\"\",\"\",'Tex-438-A'!$B$36)","v":"Tex-438-A:Part 3 – Differential Wear"},{"$f":"IF('Tex-438-A'!$G$61=\"\",\"\",'Tex-438-A'!$G$61)","v":"Lower Polish Value - B"},{"$f":"IF('Tex-438-A'!$G$62=\"\",\"\",'Tex-438-A'!$G$62)","v":"Initial"},{"$f":"IF('Tex-438-A'!$B$62=\"\",\"\",'Tex-438-A'!$B$62)","v":"SET"},{"$f":"IF('Tex-438-A'!$B$67=\"\",\"\",'Tex-438-A'!$B$67)","v":4}]
[134,{"$f":"IF('Tex-438-A'!$H$67=\"\",\"\",'Tex-438-A'!$H$67)","v":""},{"$f":"IF('Tex-438-A'!$B$36=\"\",\"\",'Tex-438-A'!$B$36)","v":"Tex-438-A:Part 3 – Differential Wear"},{"$f":"IF('Tex-438-A'!$G$61=\"\",\"\",'Tex-438-A'!$G$61)","v":"Lower Polish Value - B"},{"$f":"IF('Tex-438-A'!$H$62=\"\",\"\",'Tex-438-A'!$H$62)","v":"Final"},{"$f":"IF('Tex-438-A'!$B$62=\"\",\"\",'Tex-438-A'!$B$62)","v":"SET"},{"$f":"IF('Tex-438-A'!$B$67=\"\",\"\",'Tex-438-A'!$B$67)","v":4}]
[135,{"$f":"IF('Tex-438-A'!$I$67=\"\",\"\",'Tex-438-A'!$I$67)","v":""},{"$f":"IF('Tex-438-A'!$B$36=\"\",\"\",'Tex-438-A'!$B$36)","v":"Tex-438-A:Part 3 – Differential Wear"},{"$f":"IF('Tex-438-A'!$G$61=\"\",\"\",'Tex-438-A'!$G$61)","v":"Lower Polish Value - B"},{"$f":"IF('Tex-438-A'!$I$62=\"\",\"\",'Tex-438-A'!$I$62)","v":"Difference"},{"$f":"IF('Tex-438-A'!$B$62=\"\",\"\",'Tex-438-A'!$B$62)","v":"SET"},{"$f":"IF('Tex-438-A'!$B$67=\"\",\"\",'Tex-438-A'!$B$67)","v":4}]
[136,{"$f":"IF('Tex-438-A'!$I$68=\"\",\"\",'Tex-438-A'!$I$68)","v":""},{"$f":"IF('Tex-438-A'!$B$36=\"\",\"\",'Tex-438-A'!$B$36)","v":"Tex-438-A:Part 3 – Differential Wear"},{"$f":"IF('Tex-438-A'!$G$61=\"\",\"\",'Tex-438-A'!$G$61)","v":"Lower Polish Value - B"},{"$f":"IF('Tex-438-A'!$I$62=\"\",\"\",'Tex-438-A'!$I$62)","v":"Difference"},{"$f":"IF('Tex-438-A'!$H$68=\"\",\"\",'Tex-438-A'!$H$68)","v":"Average:"}]
[137,{"$f":"IF('Tex-438-A'!$C$73=\"\",\"\",'Tex-438-A'!$C$73)","v":""},{"$f":"IF('Tex-438-A'!$B$36=\"\",\"\",'Tex-438-A'!$B$36)","v":"Tex-438-A:Part 3 – Differential Wear"},{"$f":"IF('Tex-438-A'!$C$70=\"\",\"\",'Tex-438-A'!$C$70)","v":"Lower Polish Value - C"},{"$f":"IF('Tex-438-A'!$C$71=\"\",\"\",'Tex-438-A'!$C$71)","v":"Initial"},{"$f":"IF('Tex-438-A'!$B$71=\"\",\"\",'Tex-438-A'!$B$71)","v":"SET"},{"$f":"IF('Tex-438-A'!$B$73=\"\",\"\",'Tex-438-A'!$B$73)","v":1}]
[138,{"$f":"IF('Tex-438-A'!$D$73=\"\",\"\",'Tex-438-A'!$D$73)","v":""},{"$f":"IF('Tex-438-A'!$B$36=\"\",\"\",'Tex-438-A'!$B$36)","v":"Tex-438-A:Part 3 – Differential Wear"},{"$f":"IF('Tex-438-A'!$C$70=\"\",\"\",'Tex-438-A'!$C$70)","v":"Lower Polish Value - C"},{"$f":"IF('Tex-438-A'!$D$71=\"\",\"\",'Tex-438-A'!$D$71)","v":"Final"},{"$f":"IF('Tex-438-A'!$B$71=\"\",\"\",'Tex-438-A'!$B$71)","v":"SET"},{"$f":"IF('Tex-438-A'!$B$73=\"\",\"\",'Tex-438-A'!$B$73)","v":1}]
[139,{"$f":"IF('Tex-438-A'!$E$73=\"\",\"\",'Tex-438-A'!$E$73)","v":""},{"$f":"IF('Tex-438-A'!$B$36=\"\",\"\",'Tex-438-A'!$B$36)","v":"Tex-438-A:Part 3 – Differential Wear"},{"$f":"IF('Tex-438-A'!$C$70=\"\",\"\",'Tex-438-A'!$C$70)","v":"Lower Polish Value - C"},{"$f":"IF('Tex-438-A'!$E$71=\"\",\"\",'Tex-438-A'!$E$71)","v":"Difference"},{"$f":"IF('Tex-438-A'!$B$71=\"\",\"\",'Tex-438-A'!$B$71)","v":"SET"},{"$f":"IF('Tex-438-A'!$B$73=\"\",\"\",'Tex-438-A'!$B$73)","v":1}]
[140,{"$f":"IF('Tex-438-A'!$C$74=\"\",\"\",'Tex-438-A'!$C$74)","v":""},{"$f":"IF('Tex-438-A'!$B$36=\"\",\"\",'Tex-438-A'!$B$36)","v":"Tex-438-A:Part 3 – Differential Wear"},{"$f":"IF('Tex-438-A'!$C$70=\"\",\"\",'Tex-438-A'!$C$70)","v":"Lower Polish Value - C"},{"$f":"IF('Tex-438-A'!$C$71=\"\",\"\",'Tex-438-A'!$C$71)","v":"Initial"},{"$f":"IF('Tex-438-A'!$B$71=\"\",\"\",'Tex-438-A'!$B$71)","v":"SET"},{"$f":"IF('Tex-438-A'!$B$74=\"\",\"\",'Tex-438-A'!$B$74)","v":2}]
[141,{"$f":"IF('Tex-438-A'!$D$74=\"\",\"\",'Tex-438-A'!$D$74)","v":""},{"$f":"IF('Tex-438-A'!$B$36=\"\",\"\",'Tex-438-A'!$B$36)","v":"Tex-438-A:Part 3 – Differential Wear"},{"$f":"IF('Tex-438-A'!$C$70=\"\",\"\",'Tex-438-A'!$C$70)","v":"Lower Polish Value - C"},{"$f":"IF('Tex-438-A'!$D$71=\"\",\"\",'Tex-438-A'!$D$71)","v":"Final"},{"$f":"IF('Tex-438-A'!$B$71=\"\",\"\",'Tex-438-A'!$B$71)","v":"SET"},{"$f":"IF('Tex-438-A'!$B$74=\"\",\"\",'Tex-438-A'!$B$74)","v":2}]
[142,{"$f":"IF('Tex-438-A'!$E$74=\"\",\"\",'Tex-438-A'!$E$74)","v":""},{"$f":"IF('Tex-438-A'!$B$36=\"\",\"\",'Tex-438-A'!$B$36)","v":"Tex-438-A:Part 3 – Differential Wear"},{"$f":"IF('Tex-438-A'!$C$70=\"\",\"\",'Tex-438-A'!$C$70)","v":"Lower Polish Value - C"},{"$f":"IF('Tex-438-A'!$E$71=\"\",\"\",'Tex-438-A'!$E$71)","v":"Difference"},{"$f":"IF('Tex-438-A'!$B$71=\"\",\"\",'Tex-438-A'!$B$71)","v":"SET"},{"$f":"IF('Tex-438-A'!$B$74=\"\",\"\",'Tex-438-A'!$B$74)","v":2}]
[143,{"$f":"IF('Tex-438-A'!$C$75=\"\",\"\",'Tex-438-A'!$C$75)","v":""},{"$f":"IF('Tex-438-A'!$B$36=\"\",\"\",'Tex-438-A'!$B$36)","v":"Tex-438-A:Part 3 – Differential Wear"},{"$f":"IF('Tex-438-A'!$C$70=\"\",\"\",'Tex-438-A'!$C$70)","v":"Lower Polish Value - C"},{"$f":"IF('Tex-438-A'!$C$71=\"\",\"\",'Tex-438-A'!$C$71)","v":"Initial"},{"$f":"IF('Tex-438-A'!$B$71=\"\",\"\",'Tex-438-A'!$B$71)","v":"SET"},{"$f":"IF('Tex-438-A'!$B$75=\"\",\"\",'Tex-438-A'!$B$75)","v":3}]
[144,{"$f":"IF('Tex-438-A'!$D$75=\"\",\"\",'Tex-438-A'!$D$75)","v":""},{"$f":"IF('Tex-438-A'!$B$36=\"\",\"\",'Tex-438-A'!$B$36)","v":"Tex-438-A:Part 3 – Differential Wear"},{"$f":"IF('Tex-438-A'!$C$70=\"\",\"\",'Tex-438-A'!$C$70)","v":"Lower Polish Value - C"},{"$f":"IF('Tex-438-A'!$D$71=\"\",\"\",'Tex-438-A'!$D$71)","v":"Final"},{"$f":"IF('Tex-438-A'!$B$71=\"\",\"\",'Tex-438-A'!$B$71)","v":"SET"},{"$f":"IF('Tex-438-A'!$B$75=\"\",\"\",'Tex-438-A'!$B$75)","v":3}]
[145,{"$f":"IF('Tex-438-A'!$E$75=\"\",\"\",'Tex-438-A'!$E$75)","v":""},{"$f":"IF('Tex-438-A'!$B$36=\"\",\"\",'Tex-438-A'!$B$36)","v":"Tex-438-A:Part 3 – Differential Wear"},{"$f":"IF('Tex-438-A'!$C$70=\"\",\"\",'Tex-438-A'!$C$70)","v":"Lower Polish Value - C"},{"$f":"IF('Tex-438-A'!$E$71=\"\",\"\",'Tex-438-A'!$E$71)","v":"Difference"},{"$f":"IF('Tex-438-A'!$B$71=\"\",\"\",'Tex-438-A'!$B$71)","v":"SET"},{"$f":"IF('Tex-438-A'!$B$75=\"\",\"\",'Tex-438-A'!$B$75)","v":3}]
[146,{"$f":"IF('Tex-438-A'!$C$76=\"\",\"\",'Tex-438-A'!$C$76)","v":""},{"$f":"IF('Tex-438-A'!$B$36=\"\",\"\",'Tex-438-A'!$B$36)","v":"Tex-438-A:Part 3 – Differential Wear"},{"$f":"IF('Tex-438-A'!$C$70=\"\",\"\",'Tex-438-A'!$C$70)","v":"Lower Polish Value - C"},{"$f":"IF('Tex-438-A'!$C$71=\"\",\"\",'Tex-438-A'!$C$71)","v":"Initial"},{"$f":"IF('Tex-438-A'!$B$71=\"\",\"\",'Tex-438-A'!$B$71)","v":"SET"},{"$f":"IF('Tex-438-A'!$B$76=\"\",\"\",'Tex-438-A'!$B$76)","v":4}]
[147,{"$f":"IF('Tex-438-A'!$D$76=\"\",\"\",'Tex-438-A'!$D$76)","v":""},{"$f":"IF('Tex-438-A'!$B$36=\"\",\"\",'Tex-438-A'!$B$36)","v":"Tex-438-A:Part 3 – Differential Wear"},{"$f":"IF('Tex-438-A'!$C$70=\"\",\"\",'Tex-438-A'!$C$70)","v":"Lower Polish Value - C"},{"$f":"IF('Tex-438-A'!$D$71=\"\",\"\",'Tex-438-A'!$D$71)","v":"Final"},{"$f":"IF('Tex-438-A'!$B$71=\"\",\"\",'Tex-438-A'!$B$71)","v":"SET"},{"$f":"IF('Tex-438-A'!$B$76=\"\",\"\",'Tex-438-A'!$B$76)","v":4}]
[148,{"$f":"IF('Tex-438-A'!$E$76=\"\",\"\",'Tex-438-A'!$E$76)","v":""},{"$f":"IF('Tex-438-A'!$B$36=\"\",\"\",'Tex-438-A'!$B$36)","v":"Tex-438-A:Part 3 – Differential Wear"},{"$f":"IF('Tex-438-A'!$C$70=\"\",\"\",'Tex-438-A'!$C$70)","v":"Lower Polish Value - C"},{"$f":"IF('Tex-438-A'!$E$71=\"\",\"\",'Tex-438-A'!$E$71)","v":"Difference"},{"$f":"IF('Tex-438-A'!$B$71=\"\",\"\",'Tex-438-A'!$B$71)","v":"SET"},{"$f":"IF('Tex-438-A'!$B$76=\"\",\"\",'Tex-438-A'!$B$76)","v":4}]
[149,{"$f":"IF('Tex-438-A'!$E$77=\"\",\"\",'Tex-438-A'!$E$77)","v":""},{"$f":"IF('Tex-438-A'!$B$36=\"\",\"\",'Tex-438-A'!$B$36)","v":"Tex-438-A:Part 3 – Differential Wear"},{"$f":"IF('Tex-438-A'!$C$70=\"\",\"\",'Tex-438-A'!$C$70)","v":"Lower Polish Value - C"},{"$f":"IF('Tex-438-A'!$E$71=\"\",\"\",'Tex-438-A'!$E$71)","v":"Difference"},{"$f":"IF('Tex-438-A'!$D$77=\"\",\"\",'Tex-438-A'!$D$77)","v":"Average:"}]
[150,{"$f":"IF('Tex-438-A'!$G$73=\"\",\"\",'Tex-438-A'!$G$73)","v":""},{"$f":"IF('Tex-438-A'!$B$36=\"\",\"\",'Tex-438-A'!$B$36)","v":"Tex-438-A:Part 3 – Differential Wear"},{"$f":"IF('Tex-438-A'!$G$70=\"\",\"\",'Tex-438-A'!$G$70)","v":"Lower Polish Value - D"},{"$f":"IF('Tex-438-A'!$G$71=\"\",\"\",'Tex-438-A'!$G$71)","v":"Initial"},{"$f":"IF('Tex-438-A'!$B$71=\"\",\"\",'Tex-438-A'!$B$71)","v":"SET"},{"$f":"IF('Tex-438-A'!$B$73=\"\",\"\",'Tex-438-A'!$B$73)","v":1}]
[151,{"$f":"IF('Tex-438-A'!$H$73=\"\",\"\",'Tex-438-A'!$H$73)","v":""},{"$f":"IF('Tex-438-A'!$B$36=\"\",\"\",'Tex-438-A'!$B$36)","v":"Tex-438-A:Part 3 – Differential Wear"},{"$f":"IF('Tex-438-A'!$G$70=\"\",\"\",'Tex-438-A'!$G$70)","v":"Lower Polish Value - D"},{"$f":"IF('Tex-438-A'!$H$71=\"\",\"\",'Tex-438-A'!$H$71)","v":"Final"},{"$f":"IF('Tex-438-A'!$B$71=\"\",\"\",'Tex-438-A'!$B$71)","v":"SET"},{"$f":"IF('Tex-438-A'!$B$73=\"\",\"\",'Tex-438-A'!$B$73)","v":1}]
[152,{"$f":"IF('Tex-438-A'!$I$73=\"\",\"\",'Tex-438-A'!$I$73)","v":""},{"$f":"IF('Tex-438-A'!$B$36=\"\",\"\",'Tex-438-A'!$B$36)","v":"Tex-438-A:Part 3 – Differential Wear"},{"$f":"IF('Tex-438-A'!$G$70=\"\",\"\",'Tex-438-A'!$G$70)","v":"Lower Polish Value - D"},{"$f":"IF('Tex-438-A'!$I$71=\"\",\"\",'Tex-438-A'!$I$71)","v":"Difference"},{"$f":"IF('Tex-438-A'!$B$71=\"\",\"\",'Tex-438-A'!$B$71)","v":"SET"},{"$f":"IF('Tex-438-A'!$B$73=\"\",\"\",'Tex-438-A'!$B$73)","v":1}]
[153,{"$f":"IF('Tex-438-A'!$G$74=\"\",\"\",'Tex-438-A'!$G$74)","v":""},{"$f":"IF('Tex-438-A'!$B$36=\"\",\"\",'Tex-438-A'!$B$36)","v":"Tex-438-A:Part 3 – Differential Wear"},{"$f":"IF('Tex-438-A'!$G$70=\"\",\"\",'Tex-438-A'!$G$70)","v":"Lower Polish Value - D"},{"$f":"IF('Tex-438-A'!$G$71=\"\",\"\",'Tex-438-A'!$G$71)","v":"Initial"},{"$f":"IF('Tex-438-A'!$B$71=\"\",\"\",'Tex-438-A'!$B$71)","v":"SET"},{"$f":"IF('Tex-438-A'!$B$74=\"\",\"\",'Tex-438-A'!$B$74)","v":2}]
[154,{"$f":"IF('Tex-438-A'!$H$74=\"\",\"\",'Tex-438-A'!$H$74)","v":""},{"$f":"IF('Tex-438-A'!$B$36=\"\",\"\",'Tex-438-A'!$B$36)","v":"Tex-438-A:Part 3 – Differential Wear"},{"$f":"IF('Tex-438-A'!$G$70=\"\",\"\",'Tex-438-A'!$G$70)","v":"Lower Polish Value - D"},{"$f":"IF('Tex-438-A'!$H$71=\"\",\"\",'Tex-438-A'!$H$71)","v":"Final"},{"$f":"IF('Tex-438-A'!$B$71=\"\",\"\",'Tex-438-A'!$B$71)","v":"SET"},{"$f":"IF('Tex-438-A'!$B$74=\"\",\"\",'Tex-438-A'!$B$74)","v":2}]
[155,{"$f":"IF('Tex-438-A'!$I$74=\"\",\"\",'Tex-438-A'!$I$74)","v":""},{"$f":"IF('Tex-438-A'!$B$36=\"\",\"\",'Tex-438-A'!$B$36)","v":"Tex-438-A:Part 3 – Differential Wear"},{"$f":"IF('Tex-438-A'!$G$70=\"\",\"\",'Tex-438-A'!$G$70)","v":"Lower Polish Value - D"},{"$f":"IF('Tex-438-A'!$I$71=\"\",\"\",'Tex-438-A'!$I$71)","v":"Difference"},{"$f":"IF('Tex-438-A'!$B$71=\"\",\"\",'Tex-438-A'!$B$71)","v":"SET"},{"$f":"IF('Tex-438-A'!$B$74=\"\",\"\",'Tex-438-A'!$B$74)","v":2}]
[156,{"$f":"IF('Tex-438-A'!$G$75=\"\",\"\",'Tex-438-A'!$G$75)","v":""},{"$f":"IF('Tex-438-A'!$B$36=\"\",\"\",'Tex-438-A'!$B$36)","v":"Tex-438-A:Part 3 – Differential Wear"},{"$f":"IF('Tex-438-A'!$G$70=\"\",\"\",'Tex-438-A'!$G$70)","v":"Lower Polish Value - D"},{"$f":"IF('Tex-438-A'!$G$71=\"\",\"\",'Tex-438-A'!$G$71)","v":"Initial"},{"$f":"IF('Tex-438-A'!$B$71=\"\",\"\",'Tex-438-A'!$B$71)","v":"SET"},{"$f":"IF('Tex-438-A'!$B$75=\"\",\"\",'Tex-438-A'!$B$75)","v":3}]
[157,{"$f":"IF('Tex-438-A'!$H$75=\"\",\"\",'Tex-438-A'!$H$75)","v":""},{"$f":"IF('Tex-438-A'!$B$36=\"\",\"\",'Tex-438-A'!$B$36)","v":"Tex-438-A:Part 3 – Differential Wear"},{"$f":"IF('Tex-438-A'!$G$70=\"\",\"\",'Tex-438-A'!$G$70)","v":"Lower Polish Value - D"},{"$f":"IF('Tex-438-A'!$H$71=\"\",\"\",'Tex-438-A'!$H$71)","v":"Final"},{"$f":"IF('Tex-438-A'!$B$71=\"\",\"\",'Tex-438-A'!$B$71)","v":"SET"},{"$f":"IF('Tex-438-A'!$B$75=\"\",\"\",'Tex-438-A'!$B$75)","v":3}]
[158,{"$f":"IF('Tex-438-A'!$I$75=\"\",\"\",'Tex-438-A'!$I$75)","v":""},{"$f":"IF('Tex-438-A'!$B$36=\"\",\"\",'Tex-438-A'!$B$36)","v":"Tex-438-A:Part 3 – Differential Wear"},{"$f":"IF('Tex-438-A'!$G$70=\"\",\"\",'Tex-438-A'!$G$70)","v":"Lower Polish Value - D"},{"$f":"IF('Tex-438-A'!$I$71=\"\",\"\",'Tex-438-A'!$I$71)","v":"Difference"},{"$f":"IF('Tex-438-A'!$B$71=\"\",\"\",'Tex-438-A'!$B$71)","v":"SET"},{"$f":"IF('Tex-438-A'!$B$75=\"\",\"\",'Tex-438-A'!$B$75)","v":3}]
[159,{"$f":"IF('Tex-438-A'!$G$76=\"\",\"\",'Tex-438-A'!$G$76)","v":""},{"$f":"IF('Tex-438-A'!$B$36=\"\",\"\",'Tex-438-A'!$B$36)","v":"Tex-438-A:Part 3 – Differential Wear"},{"$f":"IF('Tex-438-A'!$G$70=\"\",\"\",'Tex-438-A'!$G$70)","v":"Lower Polish Value - D"},{"$f":"IF('Tex-438-A'!$G$71=\"\",\"\",'Tex-438-A'!$G$71)","v":"Initial"},{"$f":"IF('Tex-438-A'!$B$71=\"\",\"\",'Tex-438-A'!$B$71)","v":"SET"},{"$f":"IF('Tex-438-A'!$B$76=\"\",\"\",'Tex-438-A'!$B$76)","v":4}]
[160,{"$f":"IF('Tex-438-A'!$H$76=\"\",\"\",'Tex-438-A'!$H$76)","v":""},{"$f":"IF('Tex-438-A'!$B$36=\"\",\"\",'Tex-438-A'!$B$36)","v":"Tex-438-A:Part 3 – Differential Wear"},{"$f":"IF('Tex-438-A'!$G$70=\"\",\"\",'Tex-438-A'!$G$70)","v":"Lower Polish Value - D"},{"$f":"IF('Tex-438-A'!$H$71=\"\",\"\",'Tex-438-A'!$H$71)","v":"Final"},{"$f":"IF('Tex-438-A'!$B$71=\"\",\"\",'Tex-438-A'!$B$71)","v":"SET"},{"$f":"IF('Tex-438-A'!$B$76=\"\",\"\",'Tex-438-A'!$B$76)","v":4}]
[161,{"$f":"IF('Tex-438-A'!$I$76=\"\",\"\",'Tex-438-A'!$I$76)","v":""},{"$f":"IF('Tex-438-A'!$B$36=\"\",\"\",'Tex-438-A'!$B$36)","v":"Tex-438-A:Part 3 – Differential Wear"},{"$f":"IF('Tex-438-A'!$G$70=\"\",\"\",'Tex-438-A'!$G$70)","v":"Lower Polish Value - D"},{"$f":"IF('Tex-438-A'!$I$71=\"\",\"\",'Tex-438-A'!$I$71)","v":"Difference"},{"$f":"IF('Tex-438-A'!$B$71=\"\",\"\",'Tex-438-A'!$B$71)","v":"SET"},{"$f":"IF('Tex-438-A'!$B$76=\"\",\"\",'Tex-438-A'!$B$76)","v":4}]
[162,{"$f":"IF('Tex-438-A'!$I$77=\"\",\"\",'Tex-438-A'!$I$77)","v":""},{"$f":"IF('Tex-438-A'!$B$36=\"\",\"\",'Tex-438-A'!$B$36)","v":"Tex-438-A:Part 3 – Differential Wear"},{"$f":"IF('Tex-438-A'!$G$70=\"\",\"\",'Tex-438-A'!$G$70)","v":"Lower Polish Value - D"},{"$f":"IF('Tex-438-A'!$I$71=\"\",\"\",'Tex-438-A'!$I$71)","v":"Difference"},{"$f":"IF('Tex-438-A'!$H$77=\"\",\"\",'Tex-438-A'!$H$77)","v":"Average:"}]
[163,{"$f":"IF('Tex-438-A'!$G$79=\"\",\"\",'Tex-438-A'!$G$79)","v":""},{"$f":"IF('Tex-438-A'!$B$36=\"\",\"\",'Tex-438-A'!$B$36)","v":"Tex-438-A:Part 3 – Differential Wear"},{"$f":"IF('Tex-438-A'!$D$79=\"\",\"\",'Tex-438-A'!$D$79)","v":"Lower Polish Value Average Wear:"}]
[164,{"$f":"IF('Tex-438-A'!$G$81=\"\",\"\",'Tex-438-A'!$G$81)","v":""},{"$f":"IF('Tex-438-A'!$B$36=\"\",\"\",'Tex-438-A'!$B$36)","v":"Tex-438-A:Part 3 – Differential Wear"},{"$f":"IF('Tex-438-A'!$B$81=\"\",\"\",'Tex-438-A'!$B$81)","v":"Upper & Lower Polish Value Comparison:"}]
[165,{"$f":"IF('Tex-438-A'!$G$83=\"\",\"\",'Tex-438-A'!$G$83)","v":""},{"$f":"IF('Tex-438-A'!B6=\"\",\"\",'Tex-438-A'!B6)","v":"Tex-438-A"},{"$f":"IF('Tex-438-A'!$B$83=\"\",\"\",'Tex-438-A'!$B$83)","v":"Polish Value Required By Specification:"}]
[166,{"$f":"IF('Tex-438-A'!$G$84=\"\",\"\",'Tex-438-A'!$G$84)","v":""},{"$f":"IF('Tex-438-A'!B6=\"\",\"\",'Tex-438-A'!B6)","v":"Tex-438-A"},{"$f":"IF('Tex-438-A'!$B$84=\"\",\"\",'Tex-438-A'!$B$84)","v":"Polish Value From Part I:"}]
[167,{"$f":"IF('Tex-438-A'!$G$85=\"\",\"\",'Tex-438-A'!$G$85)","v":""},{"$f":"IF('Tex-438-A'!$B$6=\"\",\"\",'Tex-438-A'!$B$6)","v":"Tex-438-A"},{"$f":"IF('Tex-438-A'!$B$85=\"\",\"\",'Tex-438-A'!$B$85)","v":"Within Polish Value Specifications:"}]
[168,{"$f":"IF('Tex-438-A'!$G$87=\"\",\"\",'Tex-438-A'!$G$87)","v":""},{"$f":"IF('Tex-438-A'!$B$36=\"\",\"\",'Tex-438-A'!$B$36)","v":"Tex-438-A:Part 3 – Differential Wear"},{"$f":"IF('Tex-438-A'!$C$87=\"\",\"\",'Tex-438-A'!$C$87)","v":"Show Acid Insoluble Residue?"}]
[169,{"$f":"IF('Tex-438-A'!$C$93=\"\",\"\",'Tex-438-A'!$C$93)","v":""},{"$f":"IF('Tex-438-A'!$C$90=\"\",\"\",'Tex-438-A'!$C$90)","v":"Tex-612-J"},{"$f":"IF('Tex-438-A'!$C$91=\"\",\"\",'Tex-438-A'!$C$91)","v":"Sample Number"},{"$f":"IF('Tex-438-A'!$B$91=\"\",\"\",'Tex-438-A'!$B$91)","v":""},{"$f":"IF('Tex-438-A'!$B$93=\"\",\"\",'Tex-438-A'!$B$93)","v":""}]
[170,{"$f":"IF('Tex-438-A'!$D$93=\"\",\"\",'Tex-438-A'!$D$93)","v":""},{"$f":"IF('Tex-438-A'!$C$90=\"\",\"\",'Tex-438-A'!$C$90)","v":"Tex-612-J"},{"$f":"IF('Tex-438-A'!$D$91=\"\",\"\",'Tex-438-A'!$D$91)","v":"Dish Number"},{"$f":"IF('Tex-438-A'!$B$91=\"\",\"\",'Tex-438-A'!$B$91)","v":""},{"$f":"IF('Tex-438-A'!$B$93=\"\",\"\",'Tex-438-A'!$B$93)","v":""}]
[171,{"$f":"IF('Tex-438-A'!$E$93=\"\",\"\",'Tex-438-A'!$E$93)","v":""},{"$f":"IF('Tex-438-A'!$C$90=\"\",\"\",'Tex-438-A'!$C$90)","v":"Tex-612-J"},{"$f":"IF('Tex-438-A'!$E$91=\"\",\"\",'Tex-438-A'!$E$91)","v":"Total Weight"},{"$f":"IF('Tex-438-A'!$B$91=\"\",\"\",'Tex-438-A'!$B$91)","v":""},{"$f":"IF('Tex-438-A'!$B$93=\"\",\"\",'Tex-438-A'!$B$93)","v":""}]
[172,{"$f":"IF('Tex-438-A'!$F$93=\"\",\"\",'Tex-438-A'!$F$93)","v":""},{"$f":"IF('Tex-438-A'!$C$90=\"\",\"\",'Tex-438-A'!$C$90)","v":"Tex-612-J"},{"$f":"IF('Tex-438-A'!$F$91=\"\",\"\",'Tex-438-A'!$F$91)","v":"Weight of Filter and Residue"},{"$f":"IF('Tex-438-A'!$B$91=\"\",\"\",'Tex-438-A'!$B$91)","v":""},{"$f":"IF('Tex-438-A'!$B$93=\"\",\"\",'Tex-438-A'!$B$93)","v":""}]
[173,{"$f":"IF('Tex-438-A'!$G$93=\"\",\"\",'Tex-438-A'!$G$93)","v":""},{"$f":"IF('Tex-438-A'!$C$90=\"\",\"\",'Tex-438-A'!$C$90)","v":"Tex-612-J"},{"$f":"IF('Tex-438-A'!$G$91=\"\",\"\",'Tex-438-A'!$G$91)","v":"Weight of Filter"},{"$f":"IF('Tex-438-A'!$B$91=\"\",\"\",'Tex-438-A'!$B$91)","v":""},{"$f":"IF('Tex-438-A'!$B$93=\"\",\"\",'Tex-438-A'!$B$93)","v":""}]
[174,{"$f":"IF('Tex-438-A'!$H$93=\"\",\"\",'Tex-438-A'!$H$93)","v":""},{"$f":"IF('Tex-438-A'!$C$90=\"\",\"\",'Tex-438-A'!$C$90)","v":"Tex-612-J"},{"$f":"IF('Tex-438-A'!$H$91=\"\",\"\",'Tex-438-A'!$H$91)","v":"Weight of Residue"},{"$f":"IF('Tex-438-A'!$B$91=\"\",\"\",'Tex-438-A'!$B$91)","v":""},{"$f":"IF('Tex-438-A'!$B$93=\"\",\"\",'Tex-438-A'!$B$93)","v":""}]
[175,{"$f":"IF('Tex-438-A'!$I$93=\"\",\"\",'Tex-438-A'!$I$93)","v":""},{"$f":"IF('Tex-438-A'!$C$90=\"\",\"\",'Tex-438-A'!$C$90)","v":"Tex-612-J"},{"$f":"IF('Tex-438-A'!$I$91=\"\",\"\",'Tex-438-A'!$I$91)","v":"% Acid"},{"$f":"IF('Tex-438-A'!$B$91=\"\",\"\",'Tex-438-A'!$B$91)","v":""},{"$f":"IF('Tex-438-A'!$B$93=\"\",\"\",'Tex-438-A'!$B$93)","v":""}]
[176,{"$f":"IF('Tex-438-A'!$C$94=\"\",\"\",'Tex-438-A'!$C$94)","v":""},{"$f":"IF('Tex-438-A'!$C$90=\"\",\"\",'Tex-438-A'!$C$90)","v":"Tex-612-J"},{"$f":"IF('Tex-438-A'!$C$91=\"\",\"\",'Tex-438-A'!$C$91)","v":"Sample Number"},{"$f":"IF('Tex-438-A'!$B$91=\"\",\"\",'Tex-438-A'!$B$91)","v":""},{"$f":"IF('Tex-438-A'!$B$94=\"\",\"\",'Tex-438-A'!$B$94)","v":""}]
[177,{"$f":"IF('Tex-438-A'!$D$94=\"\",\"\",'Tex-438-A'!$D$94)","v":""},{"$f":"IF('Tex-438-A'!$C$90=\"\",\"\",'Tex-438-A'!$C$90)","v":"Tex-612-J"},{"$f":"IF('Tex-438-A'!$D$91=\"\",\"\",'Tex-438-A'!$D$91)","v":"Dish Number"},{"$f":"IF('Tex-438-A'!$B$91=\"\",\"\",'Tex-438-A'!$B$91)","v":""},{"$f":"IF('Tex-438-A'!$B$94=\"\",\"\",'Tex-438-A'!$B$94)","v":""}]
[178,{"$f":"IF('Tex-438-A'!$E$94=\"\",\"\",'Tex-438-A'!$E$94)","v":""},{"$f":"IF('Tex-438-A'!$C$90=\"\",\"\",'Tex-438-A'!$C$90)","v":"Tex-612-J"},{"$f":"IF('Tex-438-A'!$E$91=\"\",\"\",'Tex-438-A'!$E$91)","v":"Total Weight"},{"$f":"IF('Tex-438-A'!$B$91=\"\",\"\",'Tex-438-A'!$B$91)","v":""},{"$f":"IF('Tex-438-A'!$B$94=\"\",\"\",'Tex-438-A'!$B$94)","v":""}]
[179,{"$f":"IF('Tex-438-A'!$F$94=\"\",\"\",'Tex-438-A'!$F$94)","v":""},{"$f":"IF('Tex-438-A'!$C$90=\"\",\"\",'Tex-438-A'!$C$90)","v":"Tex-612-J"},{"$f":"IF('Tex-438-A'!$F$91=\"\",\"\",'Tex-438-A'!$F$91)","v":"Weight of Filter and Residue"},{"$f":"IF('Tex-438-A'!$B$91=\"\",\"\",'Tex-438-A'!$B$91)","v":""},{"$f":"IF('Tex-438-A'!$B$94=\"\",\"\",'Tex-438-A'!$B$94)","v":""}]
[180,{"$f":"IF('Tex-438-A'!$G$94=\"\",\"\",'Tex-438-A'!$G$94)","v":""},{"$f":"IF('Tex-438-A'!$C$90=\"\",\"\",'Tex-438-A'!$C$90)","v":"Tex-612-J"},{"$f":"IF('Tex-438-A'!$G$91=\"\",\"\",'Tex-438-A'!$G$91)","v":"Weight of Filter"},{"$f":"IF('Tex-438-A'!$B$91=\"\",\"\",'Tex-438-A'!$B$91)","v":""},{"$f":"IF('Tex-438-A'!$B$94=\"\",\"\",'Tex-438-A'!$B$94)","v":""}]
[181,{"$f":"IF('Tex-438-A'!$H$94=\"\",\"\",'Tex-438-A'!$H$94)","v":""},{"$f":"IF('Tex-438-A'!$C$90=\"\",\"\",'Tex-438-A'!$C$90)","v":"Tex-612-J"},{"$f":"IF('Tex-438-A'!$H$91=\"\",\"\",'Tex-438-A'!$H$91)","v":"Weight of Residue"},{"$f":"IF('Tex-438-A'!$B$91=\"\",\"\",'Tex-438-A'!$B$91)","v":""},{"$f":"IF('Tex-438-A'!$B$94=\"\",\"\",'Tex-438-A'!$B$94)","v":""}]
[182,{"$f":"IF('Tex-438-A'!$I$94=\"\",\"\",'Tex-438-A'!$I$94)","v":""},{"$f":"IF('Tex-438-A'!$C$90=\"\",\"\",'Tex-438-A'!$C$90)","v":"Tex-612-J"},{"$f":"IF('Tex-438-A'!$I$91=\"\",\"\",'Tex-438-A'!$I$91)","v":"% Acid"},{"$f":"IF('Tex-438-A'!$B$91=\"\",\"\",'Tex-438-A'!$B$91)","v":""},{"$f":"IF('Tex-438-A'!$B$94=\"\",\"\",'Tex-438-A'!$B$94)","v":""}]
[183,{"$f":"IF('Tex-438-A'!$C$95=\"\",\"\",'Tex-438-A'!$C$95)","v":""},{"$f":"IF('Tex-438-A'!$C$90=\"\",\"\",'Tex-438-A'!$C$90)","v":"Tex-612-J"},{"$f":"IF('Tex-438-A'!$C$91=\"\",\"\",'Tex-438-A'!$C$91)","v":"Sample Number"},{"$f":"IF('Tex-438-A'!$B$91=\"\",\"\",'Tex-438-A'!$B$91)","v":""},{"$f":"IF('Tex-438-A'!$B$95=\"\",\"\",'Tex-438-A'!$B$95)","v":""}]
[184,{"$f":"IF('Tex-438-A'!$D$95=\"\",\"\",'Tex-438-A'!$D$95)","v":""},{"$f":"IF('Tex-438-A'!$C$90=\"\",\"\",'Tex-438-A'!$C$90)","v":"Tex-612-J"},{"$f":"IF('Tex-438-A'!$D$91=\"\",\"\",'Tex-438-A'!$D$91)","v":"Dish Number"},{"$f":"IF('Tex-438-A'!$B$91=\"\",\"\",'Tex-438-A'!$B$91)","v":""},{"$f":"IF('Tex-438-A'!$B$95=\"\",\"\",'Tex-438-A'!$B$95)","v":""}]
[185,{"$f":"IF('Tex-438-A'!$E$95=\"\",\"\",'Tex-438-A'!$E$95)","v":""},{"$f":"IF('Tex-438-A'!$C$90=\"\",\"\",'Tex-438-A'!$C$90)","v":"Tex-612-J"},{"$f":"IF('Tex-438-A'!$E$91=\"\",\"\",'Tex-438-A'!$E$91)","v":"Total Weight"},{"$f":"IF('Tex-438-A'!$B$91=\"\",\"\",'Tex-438-A'!$B$91)","v":""},{"$f":"IF('Tex-438-A'!$B$95=\"\",\"\",'Tex-438-A'!$B$95)","v":""}]
[186,{"$f":"IF('Tex-438-A'!$F$95=\"\",\"\",'Tex-438-A'!$F$95)","v":""},{"$f":"IF('Tex-438-A'!$C$90=\"\",\"\",'Tex-438-A'!$C$90)","v":"Tex-612-J"},{"$f":"IF('Tex-438-A'!$F$91=\"\",\"\",'Tex-438-A'!$F$91)","v":"Weight of Filter and Residue"},{"$f":"IF('Tex-438-A'!$B$91=\"\",\"\",'Tex-438-A'!$B$91)","v":""},{"$f":"IF('Tex-438-A'!$B$95=\"\",\"\",'Tex-438-A'!$B$95)","v":""}]
[187,{"$f":"IF('Tex-438-A'!$G$95=\"\",\"\",'Tex-438-A'!$G$95)","v":""},{"$f":"IF('Tex-438-A'!$C$90=\"\",\"\",'Tex-438-A'!$C$90)","v":"Tex-612-J"},{"$f":"IF('Tex-438-A'!$G$91=\"\",\"\",'Tex-438-A'!$G$91)","v":"Weight of Filter"},{"$f":"IF('Tex-438-A'!$B$91=\"\",\"\",'Tex-438-A'!$B$91)","v":""},{"$f":"IF('Tex-438-A'!$B$95=\"\",\"\",'Tex-438-A'!$B$95)","v":""}]
[188,{"$f":"IF('Tex-438-A'!$H$95=\"\",\"\",'Tex-438-A'!$H$95)","v":""},{"$f":"IF('Tex-438-A'!$C$90=\"\",\"\",'Tex-438-A'!$C$90)","v":"Tex-612-J"},{"$f":"IF('Tex-438-A'!$H$91=\"\",\"\",'Tex-438-A'!$H$91)","v":"Weight of Residue"},{"$f":"IF('Tex-438-A'!$B$91=\"\",\"\",'Tex-438-A'!$B$91)","v":""},{"$f":"IF('Tex-438-A'!$B$95=\"\",\"\",'Tex-438-A'!$B$95)","v":""}]
[189,{"$f":"IF('Tex-438-A'!$I$95=\"\",\"\",'Tex-438-A'!$I$95)","v":""},{"$f":"IF('Tex-438-A'!$C$90=\"\",\"\",'Tex-438-A'!$C$90)","v":"Tex-612-J"},{"$f":"IF('Tex-438-A'!$I$91=\"\",\"\",'Tex-438-A'!$I$91)","v":"% Acid"},{"$f":"IF('Tex-438-A'!$B$91=\"\",\"\",'Tex-438-A'!$B$91)","v":""},{"$f":"IF('Tex-438-A'!$B$95=\"\",\"\",'Tex-438-A'!$B$95)","v":""}]
[190,{"$f":"IF('Tex-438-A'!$I$97=\"\",\"\",'Tex-438-A'!$I$97)","v":""},{"$f":"IF('Tex-438-A'!$C$90=\"\",\"\",'Tex-438-A'!$C$90)","v":"Tex-612-J"},{"$f":"IF('Tex-438-A'!$F$97=\"\",\"\",'Tex-438-A'!$F$97)","v":"Average % Acid Insoluble:"}]
[191,{"$f":"IF('Tex-438-A'!$D$107=\"\",\"\",'Tex-438-A'!$D$107)","v":""},"Sampled By ",{"$f":"IF('Tex-438-A'!$B$107=\"\",\"\",'Tex-438-A'!$B$107)","v":"TX400"}]
[192,{"$f":"IF('Tex-438-A'!$G$107=\"\",\"\",'Tex-438-A'!$G$107)","v":""},"Sampled Date ",{"$f":"IF('Tex-438-A'!$B$107=\"\",\"\",'Tex-438-A'!$B$107)","v":"TX400"}]