{"text_format":"1","workbook":"xlsx","n_sheets":9,"sheets":["Summary","Contractor Test Data","Contractor Fresh Test Data","TxDOT Test Data","TxDOT Fresh Test Data","Correction Factor","RX","Revisions","L to D Lookup"],"not_rendered":{"charts":0,"images":1,"macros":1,"external_links":0,"defined_names":849,"comments":3,"pivot_tables":0},"unopened":[],"bounds":{"document_bytes":16777216,"sheet_cells":100000,"rows_first":2000,"rows_last":500,"rows_between":2000,"halvings":0,"cell_chars":16384,"cell_head_chars":4096},"cells_cut":0,"cells_raw":0,"read":"whole","date_system":"1900"}

{"sheet":"Summary","index":0,"n_rows":157,"n_cols":14,"rows_kept":157,"cut":false,"hidden":false,"merged":[[109,6,110,6],[109,7,110,7],[111,6,112,6],[111,7,112,7],[113,6,114,6],[113,7,114,7],[103,2,103,7],[104,2,104,7],[131,6,132,6],[131,7,132,7],[115,6,116,6],[115,7,116,7],[122,6,124,6],[122,7,124,7],[125,6,126,6],[125,7,126,7],[127,6,128,6],[127,7,128,7],[129,6,130,6],[129,7,130,7],[120,2,120,7],[119,2,119,7],[97,6,98,6],[97,7,98,7],[87,2,87,7],[88,2,88,7],[82,5,83,5],[99,6,100,6],[99,7,100,7],[106,6,108,6],[106,7,108,7],[90,6,92,6],[90,7,92,7],[93,6,94,6],[93,7,94,7],[95,6,96,6],[95,7,96,7],[80,9,81,9],[82,10,83,10],[64,3,65,3],[64,9,65,9],[64,5,65,5],[66,5,67,5],[71,12,72,12],[71,13,72,13],[73,12,74,12],[73,13,74,13],[75,12,76,12],[75,13,76,13],[76,9,77,9],[80,5,81,5],[28,2,28,5],[36,3,37,3],[38,3,39,3],[40,3,41,3],[34,2,35,2],[36,2,37,2],[36,13,37,13],[52,13,53,13],[36,11,37,11],[38,11,39,11],[44,13,45,13],[40,12,41,12],[76,2,77,2],[66,2,67,2],[68,2,69,2],[70,2,71,2],[72,2,73,2],[40,4,41,4],[42,3,43,3],[46,2,47,2],[48,2,49,2],[59,2,59,5],[68,3,69,3],[70,3,71,3],[66,3,67,3],[56,2,56,12],[55,2,55,12],[52,10,53,10],[40,11,41,11],[42,11,43,11],[44,11,45,11],[46,11,47,11],[48,11,49,11],[50,11,51,11],[48,12,49,12],[52,12,53,12],[137,2,137,10],[135,2,136,10],[138,2,138,10],[68,11,69,11],[70,11,71,11],[72,11,73,11],[82,11,83,11],[74,11,75,11],[76,11,77,11],[72,4,73,4],[80,3,81,3],[82,3,83,3],[78,4,79,4],[80,4,81,4],[82,4,83,4],[80,10,81,10],[70,9,71,9],[72,9,73,9],[74,9,75,9],[72,10,73,10],[74,10,75,10],[76,10,77,10],[78,10,79,10],[78,9,79,9],[26,7,26,8],[27,7,27,8],[62,11,63,11],[64,11,65,11],[66,11,67,11],[14,5,14,10],[40,9,41,9],[42,9,43,9],[44,9,45,9],[36,9,37,9],[48,9,49,9],[26,2,26,5],[30,6,30,7],[30,8,30,9],[31,9,33,9],[34,10,35,10],[34,7,35,7],[57,2,57,5],[31,2,33,2],[34,3,35,3],[48,5,49,5],[48,7,49,7],[40,7,41,7],[27,2,27,5],[0,0,0,2],[11,5,11,6],[12,5,12,6],[13,5,13,6],[9,5,9,6],[10,5,10,6],[7,5,7,6],[8,5,8,6],[12,9,12,10],[7,9,7,10],[8,9,8,10],[9,9,9,10],[10,9,10,10],[11,9,11,10],[13,9,13,10],[15,5,15,10],[16,9,16,10],[34,11,35,11],[34,9,35,9],[16,5,16,6],[22,2,22,5],[25,2,25,12],[38,9,39,9],[52,11,53,11],[44,5,45,5],[46,5,47,5],[36,12,37,12],[36,10,37,10],[38,10,39,10],[34,4,35,4],[36,4,37,4],[38,4,39,4],[42,5,43,5],[42,12,43,12],[44,12,45,12],[42,7,43,7],[44,7,45,7],[46,7,47,7],[24,2,24,12],[61,6,61,7],[61,8,61,9],[66,9,67,9],[62,9,63,9],[50,13,51,13],[82,7,83,7],[64,7,65,7],[62,12,64,12],[62,13,64,13],[65,12,66,12],[65,13,66,13],[67,12,68,12],[67,13,68,13],[69,12,70,12],[69,13,70,13],[58,7,58,8],[77,12,78,12],[77,13,78,13],[79,12,80,12],[76,7,77,7],[79,13,80,13],[81,12,82,12],[81,13,82,13],[82,9,83,9],[145,2,145,5],[141,8,141,11],[152,3,152,5],[148,3,148,5],[154,3,154,5],[141,2,141,5],[149,3,149,5],[150,3,150,5],[151,3,151,5],[153,3,153,5],[42,1,43,1],[44,1,45,1],[46,1,47,1],[48,1,49,1],[34,1,35,1],[36,1,37,1],[38,1,39,1],[40,1,41,1],[80,11,81,11],[50,1,51,1],[52,1,53,1],[70,5,71,5],[72,5,73,5],[50,5,51,5],[72,1,73,1],[64,1,65,1],[66,1,67,1],[68,1,69,1],[70,1,71,1],[70,7,71,7],[72,7,73,7],[74,7,75,7],[78,11,79,11],[80,1,81,1],[74,1,75,1],[76,1,77,1],[78,1,79,1],[82,1,83,1],[31,5,33,5],[34,5,35,5],[36,5,37,5],[38,5,39,5],[40,5,41,5],[44,3,45,3],[46,3,47,3],[48,3,49,3],[50,2,51,2],[52,2,53,2],[62,2,63,2],[64,4,65,4],[66,4,67,4],[68,4,69,4],[72,3,73,3],[74,3,75,3],[74,4,75,4],[76,4,77,4],[76,3,77,3],[78,3,79,3],[52,14,53,14],[62,5,63,5],[58,2,58,5],[57,7,57,8],[50,3,51,3],[52,3,53,3],[46,13,47,13],[52,9,53,9],[50,9,51,9],[46,9,47,9],[46,10,47,10],[46,4,47,4],[48,4,49,4],[52,7,53,7],[50,7,51,7],[52,5,53,5],[50,4,51,4],[52,4,53,4],[62,4,63,4],[46,12,47,12],[62,6,63,6],[62,7,63,7],[62,8,63,8],[48,13,49,13],[36,14,37,14],[38,14,39,14],[40,14,41,14],[42,14,43,14],[31,13,33,13],[44,14,45,14],[38,13,39,13],[40,13,41,13],[42,13,43,13],[34,13,35,13],[46,14,47,14],[48,14,49,14],[50,14,51,14],[31,4,33,4],[31,6,33,6],[31,7,33,7],[31,8,33,8],[42,4,43,4],[44,4,45,4],[36,7,37,7],[38,7,39,7],[50,12,51,12],[38,12,39,12],[31,10,33,10],[31,12,33,12],[31,11,33,11],[34,12,35,12],[40,10,41,10],[42,10,43,10],[44,10,45,10],[48,10,49,10],[50,10,51,10],[31,14,33,14],[34,14,35,14],[78,2,79,2],[80,2,81,2],[82,2,83,2],[64,2,65,2],[68,9,69,9],[74,2,75,2],[62,10,63,10],[38,2,39,2],[40,2,41,2],[42,2,43,2],[44,2,45,2],[70,10,71,10],[66,10,67,10],[68,10,69,10],[64,10,65,10],[70,4,71,4],[74,5,75,5],[76,5,77,5],[78,5,79,5],[68,5,69,5],[66,7,67,7],[68,7,69,7],[78,7,79,7],[80,7,81,7]]}
["TxDOT Manuals >",null,null,null,null,"Tex-418-A","Tex-448-A","Tex-414-A","Tex-415-A","Tex-416-A","Tex-422-A"]
[null,null,"TEXAS DEPARTMENT OF TRANSPORTATION",null,null,null,null,null,null,null,null,null,732]
[null,null,null,null,null,null,null,null,null,null,null,null,14]
[null,null,null,null,null,null,null,null,null,null,null,null,"tx4pave04.xlsm::45028.636331"]
[null,null,"HYDRAULIC CEMENT CONCRETE REPORT FOR CONCRETE PAVEMENT"]
[null,null,"Summary"]
[null,null,null,null,null,null,null,null,null,null,{"$f":"\"TX4PAVE04 :: File Version: \" & TEXT(MID(sn,SEARCH(\"::\",sn,1)+2,20),\"mm/dd/yy hh:mm:ss\")","v":"TX4PAVE04 :: File Version: 04/12/23 15:16:19"}]
[null,null,null,null,"SAMPLE ID:",null,null,null,"SAMPLED DATE:"]
[null,null,null,null,"TEST NUMBER:",null,null,null,"LETTING DATE:"]
[null,null,null,null,"SAMPLE STATUS:",null,null,null,"CONTROLLING CSJ:"]
[null,null,null,null,"COUNTY:",null,null,null,"SPEC YEAR:"]
[null,null,null,null,"SAMPLED BY:",null,null,null,"SPEC ITEM:"]
[null,null,null,null,"SAMPLE LOCATION:","",null,null,"SPECIAL PROVISION:"]
[null,null,null,null,"MATERIAL CODE:",null,null,null,"CLASS:"]
[null,null,null,null,"MATERIAL NAME:"]
[null,null,null,null,"PRODUCER:"]
[null,null,null,null,"AREA ENGINEER:",null,null,null,"PROJECT MANAGER:"]
[]
[null,null,null,null,"COURSE\\LIFT:",null,"STATION:",null,null,"DIST. FROM CL:"]
[]
[]
[]
[null,null,"Waive Contractor Job Control Testing?: ",null,null,null,null,null,"Mix Design:"]
[]
[null,null,"COMPRESSIVE STRENGTH"]
[null,null,"Summary:Tex-418-A"]
[null,null,"Source of Job Control Strength (psi): ",null,null,null,null,"Job Control Age (days): "]
[null,null,{"$f":"IF(J27=7,\"7-Day Job Control Strength (psi): \",\"Other - Day Job Control Strength (psi): \")","v":"Other - Day Job Control Strength (psi): "},null,null,null,{"$f":"IF(NOT($G$27=\"Spec. Book Value\"),\"\",3200)","v":""},"Job Control Age (days): "]
[null,null,{"$f":"IF(J27=7,\"7-Day Job Control Strength (psi): \",\"Other - Day Job Control Strength (psi): \")","v":"Other - Day Job Control Strength (psi): "},null,null,null,null,null,null,{"$f":"IF(J27=\"Other\",J28,7)","v":7}]
[]
[null,null,null,null,null,null,"Contractor Test Data",null,"TxDOT Test Data"]
[null,null,"Date Cast",null,"Station","Age (Days)","Compressive Strength (psi)","Compressive Strength (avg) (psi)","Compressive Strength (psi)","Compressive Strength (avg) (psi)","Split-Sample Percent Difference","Within Allowable Difference for Split-Sample?","Percent Difference","Within Allowable Difference?"]
[]
[]
[null,1,{"$f":"+IF(AND('TxDOT Test Data'!C31=\"\",'Contractor Test Data'!C31=\"\"),IF(D35=\"\",\"\",D35),IF($G$23=\"Yes\",'TxDOT Test Data'!C31,'Contractor Test Data'!C31))","v":""},null,{"$f":"IF(AND('TxDOT Test Data'!D31=\"\",'Contractor Test Data'!D31=\"\"),\"\",IF($G$23=\"Yes\",'TxDOT Test Data'!D31,'Contractor Test Data'!D31))","v":""},{"$f":"IF(AND('TxDOT Test Data'!E31=\"\",'Contractor Test Data'!E31=\"\"),\"\",IF($G$23=\"Yes\",'TxDOT Test Data'!E31,'Contractor Test Data'!E31))","v":""},{"$f":"'Contractor Test Data'!M31","v":""},{"$f":"IF(ISERROR(IF(SpecYear=\"1995\",ROUND(AVERAGE(G35:G36),2),ROUND(AVERAGE(G35:G36),-1))),\"\",IF(SpecYear=\"1995\",ROUND(AVERAGE(G35:G36),2),ROUND(AVERAGE(G35:G36),-1)))","v":""},{"$f":"'TxDOT Test Data'!M31","v":""},{"$f":"IF(ISERROR(IF(SpecYear=\"1995\",ROUND(AVERAGE(I35:I36),2),ROUND(AVERAGE(I35:I36),-1))),\"\",IF(SpecYear=\"1995\",ROUND(AVERAGE(I35:I36),2),ROUND(AVERAGE(I35:I36),-1)))","v":""},{"$f":"IF(ISERROR(ABS((J35-H35)/J35*100)),\"\",IF(ABS((J35-H35)/J35*100)=0, \"0.00\", ABS((J35-H35)/J35*100)))","v":""},{"$f":"IF(K35=\"\",\"\",IF(K35<=10,\"Yes\",\"No\"))","v":""},{"$f":"IF(ISERROR(ABS((J35-H$55)/J35*100)),\"\",IF(ABS((J35-H$55)/J35*100)=0, \"0.00\", ABS((J35-H$55)/J35*100)))","v":""},{"$f":"IF(M35=\"\",\"\",IF(M35<=10,\"Yes\",\"No\"))","v":""}]
[null,null,null,null,null,null,{"$f":"'Contractor Test Data'!M32","v":""},null,{"$f":"'TxDOT Test Data'!M32","v":""}]
[null,2,{"$f":"+IF(AND('TxDOT Test Data'!C33=\"\",'Contractor Test Data'!C33=\"\"),IF(D37=\"\",\"\",D37),IF($G$23=\"Yes\",'TxDOT Test Data'!C33,'Contractor Test Data'!C33))","v":""},null,{"$f":"IF(AND('TxDOT Test Data'!D33=\"\",'Contractor Test Data'!D33=\"\"),\"\",IF($G$23=\"Yes\",'TxDOT Test Data'!D33,'Contractor Test Data'!D33))","v":""},{"$f":"IF(AND('TxDOT Test Data'!E33=\"\",'Contractor Test Data'!E33=\"\"),\"\",IF($G$23=\"Yes\",'TxDOT Test Data'!E33,'Contractor Test Data'!E33))","v":""},{"$f":"'Contractor Test Data'!M33","v":""},{"$f":"IF(ISERROR(IF(SpecYear=\"1995\",ROUND(AVERAGE(G37:G38),2),ROUND(AVERAGE(G37:G38),-1))),\"\",IF(SpecYear=\"1995\",ROUND(AVERAGE(G37:G38),2),ROUND(AVERAGE(G37:G38),-1)))","v":""},{"$f":"'TxDOT Test Data'!M33","v":""},{"$f":"IF(ISERROR(IF(SpecYear=\"1995\",ROUND(AVERAGE(I37:I38),2),ROUND(AVERAGE(I37:I38),-1))),\"\",IF(SpecYear=\"1995\",ROUND(AVERAGE(I37:I38),2),ROUND(AVERAGE(I37:I38),-1)))","v":""},{"$f":"IF(ISERROR(ABS((J37-H37)/J37*100)),\"\",IF(ABS((J37-H37)/J37*100)=0, \"0.00\", ABS((J37-H37)/J37*100)))","v":""},{"$f":"IF(K37=\"\",\"\",IF(K37<=10,\"Yes\",\"No\"))","v":""},{"$f":"IF(ISERROR(ABS((J37-H$55)/J37*100)),\"\",IF(ABS((J37-H$55)/J37*100)=0, \"0.00\", ABS((J37-H$55)/J37*100)))","v":""},{"$f":"IF(M37=\"\",\"\",IF(M37<=10,\"Yes\",\"No\"))","v":""}]
[null,null,null,null,null,null,{"$f":"'Contractor Test Data'!M34","v":""},null,{"$f":"'TxDOT Test Data'!M34","v":""}]
[null,3,{"$f":"+IF(AND('TxDOT Test Data'!C35=\"\",'Contractor Test Data'!C35=\"\"),IF(D39=\"\",\"\",D39),IF($G$23=\"Yes\",'TxDOT Test Data'!C35,'Contractor Test Data'!C35))","v":""},null,{"$f":"IF(AND('TxDOT Test Data'!D35=\"\",'Contractor Test Data'!D35=\"\"),\"\",IF($G$23=\"Yes\",'TxDOT Test Data'!D35,'Contractor Test Data'!D35))","v":""},{"$f":"IF(AND('TxDOT Test Data'!E35=\"\",'Contractor Test Data'!E35=\"\"),\"\",IF($G$23=\"Yes\",'TxDOT Test Data'!E35,'Contractor Test Data'!E35))","v":""},{"$f":"'Contractor Test Data'!M35","v":""},{"$f":"IF(ISERROR(IF(SpecYear=\"1995\",ROUND(AVERAGE(G39:G40),2),ROUND(AVERAGE(G39:G40),-1))),\"\",IF(SpecYear=\"1995\",ROUND(AVERAGE(G39:G40),2),ROUND(AVERAGE(G39:G40),-1)))","v":""},{"$f":"'TxDOT Test Data'!M35","v":""},{"$f":"IF(ISERROR(IF(SpecYear=\"1995\",ROUND(AVERAGE(I39:I40),2),ROUND(AVERAGE(I39:I40),-1))),\"\",IF(SpecYear=\"1995\",ROUND(AVERAGE(I39:I40),2),ROUND(AVERAGE(I39:I40),-1)))","v":""},{"$f":"IF(ISERROR(ABS((J39-H39)/J39*100)),\"\",IF(ABS((J39-H39)/J39*100)=0, \"0.00\", ABS((J39-H39)/J39*100)))","v":""},{"$f":"IF(K39=\"\",\"\",IF(K39<=10,\"Yes\",\"No\"))","v":""},{"$f":"IF(ISERROR(ABS((J39-H$55)/J39*100)),\"\",IF(ABS((J39-H$55)/J39*100)=0, \"0.00\", ABS((J39-H$55)/J39*100)))","v":""},{"$f":"IF(M39=\"\",\"\",IF(M39<=10,\"Yes\",\"No\"))","v":""}]
[null,null,null,null,null,null,{"$f":"'Contractor Test Data'!M36","v":""},null,{"$f":"'TxDOT Test Data'!M36","v":""}]
[null,4,{"$f":"+IF(AND('TxDOT Test Data'!C37=\"\",'Contractor Test Data'!C37=\"\"),IF(D41=\"\",\"\",D41),IF($G$23=\"Yes\",'TxDOT Test Data'!C37,'Contractor Test Data'!C37))","v":""},null,{"$f":"IF(AND('TxDOT Test Data'!D37=\"\",'Contractor Test Data'!D37=\"\"),\"\",IF($G$23=\"Yes\",'TxDOT Test Data'!D37,'Contractor Test Data'!D37))","v":""},{"$f":"IF(AND('TxDOT Test Data'!E37=\"\",'Contractor Test Data'!E37=\"\"),\"\",IF($G$23=\"Yes\",'TxDOT Test Data'!E37,'Contractor Test Data'!E37))","v":""},{"$f":"'Contractor Test Data'!M37","v":""},{"$f":"IF(ISERROR(IF(SpecYear=\"1995\",ROUND(AVERAGE(G41:G42),2),ROUND(AVERAGE(G41:G42),-1))),\"\",IF(SpecYear=\"1995\",ROUND(AVERAGE(G41:G42),2),ROUND(AVERAGE(G41:G42),-1)))","v":""},{"$f":"'TxDOT Test Data'!M37","v":""},{"$f":"IF(ISERROR(IF(SpecYear=\"1995\",ROUND(AVERAGE(I41:I42),2),ROUND(AVERAGE(I41:I42),-1))),\"\",IF(SpecYear=\"1995\",ROUND(AVERAGE(I41:I42),2),ROUND(AVERAGE(I41:I42),-1)))","v":""},{"$f":"IF(ISERROR(ABS((J41-H41)/J41*100)),\"\",IF(ABS((J41-H41)/J41*100)=0, \"0.00\", ABS((J41-H41)/J41*100)))","v":""},{"$f":"IF(K41=\"\",\"\",IF(K41<=10,\"Yes\",\"No\"))","v":""},{"$f":"IF(ISERROR(ABS((J41-H$55)/J41*100)),\"\",IF(ABS((J41-H$55)/J41*100)=0, \"0.00\", ABS((J41-H$55)/J41*100)))","v":""},{"$f":"IF(M41=\"\",\"\",IF(M41<=10,\"Yes\",\"No\"))","v":""}]
[null,null,null,null,null,null,{"$f":"'Contractor Test Data'!M38","v":""},null,{"$f":"'TxDOT Test Data'!M38","v":""}]
[null,5,{"$f":"+IF(AND('TxDOT Test Data'!C39=\"\",'Contractor Test Data'!C39=\"\"),IF(D43=\"\",\"\",D43),IF($G$23=\"Yes\",'TxDOT Test Data'!C39,'Contractor Test Data'!C39))","v":""},null,{"$f":"IF(AND('TxDOT Test Data'!D39=\"\",'Contractor Test Data'!D39=\"\"),\"\",IF($G$23=\"Yes\",'TxDOT Test Data'!D39,'Contractor Test Data'!D39))","v":""},{"$f":"IF(AND('TxDOT Test Data'!E39=\"\",'Contractor Test Data'!E39=\"\"),\"\",IF($G$23=\"Yes\",'TxDOT Test Data'!E39,'Contractor Test Data'!E39))","v":""},{"$f":"'Contractor Test Data'!M39","v":""},{"$f":"IF(ISERROR(IF(SpecYear=\"1995\",ROUND(AVERAGE(G43:G44),2),ROUND(AVERAGE(G43:G44),-1))),\"\",IF(SpecYear=\"1995\",ROUND(AVERAGE(G43:G44),2),ROUND(AVERAGE(G43:G44),-1)))","v":""},{"$f":"'TxDOT Test Data'!M39","v":""},{"$f":"IF(ISERROR(IF(SpecYear=\"1995\",ROUND(AVERAGE(I43:I44),2),ROUND(AVERAGE(I43:I44),-1))),\"\",IF(SpecYear=\"1995\",ROUND(AVERAGE(I43:I44),2),ROUND(AVERAGE(I43:I44),-1)))","v":""},{"$f":"IF(ISERROR(ABS((J43-H43)/J43*100)),\"\",IF(ABS((J43-H43)/J43*100)=0, \"0.00\", ABS((J43-H43)/J43*100)))","v":""},{"$f":"IF(K43=\"\",\"\",IF(K43<=10,\"Yes\",\"No\"))","v":""},{"$f":"IF(ISERROR(ABS((J43-H$55)/J43*100)),\"\",IF(ABS((J43-H$55)/J43*100)=0, \"0.00\", ABS((J43-H$55)/J43*100)))","v":""},{"$f":"IF(M43=\"\",\"\",IF(M43<=10,\"Yes\",\"No\"))","v":""}]
[null,null,null,null,null,null,{"$f":"'Contractor Test Data'!M40","v":""},null,{"$f":"'TxDOT Test Data'!M40","v":""}]
[null,6,{"$f":"+IF(AND('TxDOT Test Data'!C41=\"\",'Contractor Test Data'!C41=\"\"),IF(D45=\"\",\"\",D45),IF($G$23=\"Yes\",'TxDOT Test Data'!C41,'Contractor Test Data'!C41))","v":""},null,{"$f":"IF(AND('TxDOT Test Data'!D41=\"\",'Contractor Test Data'!D41=\"\"),\"\",IF($G$23=\"Yes\",'TxDOT Test Data'!D41,'Contractor Test Data'!D41))","v":""},{"$f":"IF(AND('TxDOT Test Data'!E41=\"\",'Contractor Test Data'!E41=\"\"),\"\",IF($G$23=\"Yes\",'TxDOT Test Data'!E41,'Contractor Test Data'!E41))","v":""},{"$f":"'Contractor Test Data'!M41","v":""},{"$f":"IF(ISERROR(IF(SpecYear=\"1995\",ROUND(AVERAGE(G45:G46),2),ROUND(AVERAGE(G45:G46),-1))),\"\",IF(SpecYear=\"1995\",ROUND(AVERAGE(G45:G46),2),ROUND(AVERAGE(G45:G46),-1)))","v":""},{"$f":"'TxDOT Test Data'!M41","v":""},{"$f":"IF(ISERROR(IF(SpecYear=\"1995\",ROUND(AVERAGE(I45:I46),2),ROUND(AVERAGE(I45:I46),-1))),\"\",IF(SpecYear=\"1995\",ROUND(AVERAGE(I45:I46),2),ROUND(AVERAGE(I45:I46),-1)))","v":""},{"$f":"IF(ISERROR(ABS((J45-H45)/J45*100)),\"\",IF(ABS((J45-H45)/J45*100)=0, \"0.00\", ABS((J45-H45)/J45*100)))","v":""},{"$f":"IF(K45=\"\",\"\",IF(K45<=10,\"Yes\",\"No\"))","v":""},{"$f":"IF(ISERROR(ABS((J45-H$55)/J45*100)),\"\",IF(ABS((J45-H$55)/J45*100)=0, \"0.00\", ABS((J45-H$55)/J45*100)))","v":""},{"$f":"IF(M45=\"\",\"\",IF(M45<=10,\"Yes\",\"No\"))","v":""}]
[null,null,null,null,null,null,{"$f":"'Contractor Test Data'!M42","v":""},null,{"$f":"'TxDOT Test Data'!M42","v":""}]
[null,7,{"$f":"+IF(AND('TxDOT Test Data'!C43=\"\",'Contractor Test Data'!C43=\"\"),IF(D47=\"\",\"\",D47),IF($G$23=\"Yes\",'TxDOT Test Data'!C43,'Contractor Test Data'!C43))","v":""},null,{"$f":"IF(AND('TxDOT Test Data'!D43=\"\",'Contractor Test Data'!D43=\"\"),\"\",IF($G$23=\"Yes\",'TxDOT Test Data'!D43,'Contractor Test Data'!D43))","v":""},{"$f":"IF(AND('TxDOT Test Data'!E43=\"\",'Contractor Test Data'!E43=\"\"),\"\",IF($G$23=\"Yes\",'TxDOT Test Data'!E43,'Contractor Test Data'!E43))","v":""},{"$f":"'Contractor Test Data'!M43","v":""},{"$f":"IF(ISERROR(IF(SpecYear=\"1995\",ROUND(AVERAGE(G47:G48),2),ROUND(AVERAGE(G47:G48),-1))),\"\",IF(SpecYear=\"1995\",ROUND(AVERAGE(G47:G48),2),ROUND(AVERAGE(G47:G48),-1)))","v":""},{"$f":"'TxDOT Test Data'!M43","v":""},{"$f":"IF(ISERROR(IF(SpecYear=\"1995\",ROUND(AVERAGE(I47:I48),2),ROUND(AVERAGE(I47:I48),-1))),\"\",IF(SpecYear=\"1995\",ROUND(AVERAGE(I47:I48),2),ROUND(AVERAGE(I47:I48),-1)))","v":""},{"$f":"IF(ISERROR(ABS((J47-H47)/J47*100)),\"\",IF(ABS((J47-H47)/J47*100)=0, \"0.00\", ABS((J47-H47)/J47*100)))","v":""},{"$f":"IF(K47=\"\",\"\",IF(K47<=10,\"Yes\",\"No\"))","v":""},{"$f":"IF(ISERROR(ABS((J47-H$55)/J47*100)),\"\",IF(ABS((J47-H$55)/J47*100)=0, \"0.00\", ABS((J47-H$55)/J47*100)))","v":""},{"$f":"IF(M47=\"\",\"\",IF(M47<=10,\"Yes\",\"No\"))","v":""}]
[null,null,null,null,null,null,{"$f":"'Contractor Test Data'!M44","v":""},null,{"$f":"'TxDOT Test Data'!M44","v":""}]
[null,8,{"$f":"+IF(AND('TxDOT Test Data'!C45=\"\",'Contractor Test Data'!C45=\"\"),IF(D49=\"\",\"\",D49),IF($G$23=\"Yes\",'TxDOT Test Data'!C45,'Contractor Test Data'!C45))","v":""},null,{"$f":"IF(AND('TxDOT Test Data'!D45=\"\",'Contractor Test Data'!D45=\"\"),\"\",IF($G$23=\"Yes\",'TxDOT Test Data'!D45,'Contractor Test Data'!D45))","v":""},{"$f":"IF(AND('TxDOT Test Data'!E45=\"\",'Contractor Test Data'!E45=\"\"),\"\",IF($G$23=\"Yes\",'TxDOT Test Data'!E45,'Contractor Test Data'!E45))","v":""},{"$f":"'Contractor Test Data'!M45","v":""},{"$f":"IF(ISERROR(IF(SpecYear=\"1995\",ROUND(AVERAGE(G49:G50),2),ROUND(AVERAGE(G49:G50),-1))),\"\",IF(SpecYear=\"1995\",ROUND(AVERAGE(G49:G50),2),ROUND(AVERAGE(G49:G50),-1)))","v":""},{"$f":"'TxDOT Test Data'!M45","v":""},{"$f":"IF(ISERROR(IF(SpecYear=\"1995\",ROUND(AVERAGE(I49:I50),2),ROUND(AVERAGE(I49:I50),-1))),\"\",IF(SpecYear=\"1995\",ROUND(AVERAGE(I49:I50),2),ROUND(AVERAGE(I49:I50),-1)))","v":""},{"$f":"IF(ISERROR(ABS((J49-H49)/J49*100)),\"\",IF(ABS((J49-H49)/J49*100)=0, \"0.00\", ABS((J49-H49)/J49*100)))","v":""},{"$f":"IF(K49=\"\",\"\",IF(K49<=10,\"Yes\",\"No\"))","v":""},{"$f":"IF(ISERROR(ABS((J49-H$55)/J49*100)),\"\",IF(ABS((J49-H$55)/J49*100)=0, \"0.00\", ABS((J49-H$55)/J49*100)))","v":""},{"$f":"IF(M49=\"\",\"\",IF(M49<=10,\"Yes\",\"No\"))","v":""}]
[null,null,null,null,null,null,{"$f":"'Contractor Test Data'!M46","v":""},null,{"$f":"'TxDOT Test Data'!M46","v":""}]
[null,9,{"$f":"+IF(AND('TxDOT Test Data'!C47=\"\",'Contractor Test Data'!C47=\"\"),IF(D51=\"\",\"\",D51),IF($G$23=\"Yes\",'TxDOT Test Data'!C47,'Contractor Test Data'!C47))","v":""},null,{"$f":"IF(AND('TxDOT Test Data'!D47=\"\",'Contractor Test Data'!D47=\"\"),\"\",IF($G$23=\"Yes\",'TxDOT Test Data'!D47,'Contractor Test Data'!D47))","v":""},{"$f":"IF(AND('TxDOT Test Data'!E47=\"\",'Contractor Test Data'!E47=\"\"),\"\",IF($G$23=\"Yes\",'TxDOT Test Data'!E47,'Contractor Test Data'!E47))","v":""},{"$f":"'Contractor Test Data'!M47","v":""},{"$f":"IF(ISERROR(IF(SpecYear=\"1995\",ROUND(AVERAGE(G51:G52),2),ROUND(AVERAGE(G51:G52),-1))),\"\",IF(SpecYear=\"1995\",ROUND(AVERAGE(G51:G52),2),ROUND(AVERAGE(G51:G52),-1)))","v":""},{"$f":"'TxDOT Test Data'!M47","v":""},{"$f":"IF(ISERROR(IF(SpecYear=\"1995\",ROUND(AVERAGE(I51:I52),2),ROUND(AVERAGE(I51:I52),-1))),\"\",IF(SpecYear=\"1995\",ROUND(AVERAGE(I51:I52),2),ROUND(AVERAGE(I51:I52),-1)))","v":""},{"$f":"IF(ISERROR(ABS((J51-H51)/J51*100)),\"\",IF(ABS((J51-H51)/J51*100)=0, \"0.00\", ABS((J51-H51)/J51*100)))","v":""},{"$f":"IF(K51=\"\",\"\",IF(K51<=10,\"Yes\",\"No\"))","v":""},{"$f":"IF(ISERROR(ABS((J51-H$55)/J51*100)),\"\",IF(ABS((J51-H$55)/J51*100)=0, \"0.00\", ABS((J51-H$55)/J51*100)))","v":""},{"$f":"IF(M51=\"\",\"\",IF(M51<=10,\"Yes\",\"No\"))","v":""}]
[null,null,null,null,null,null,{"$f":"'Contractor Test Data'!M48","v":""},null,{"$f":"'TxDOT Test Data'!M48","v":""}]
[null,10,{"$f":"IF(AND('TxDOT Test Data'!C49=\"\",'Contractor Test Data'!C49=\"\"),IF(D53=\"\",\"\",D53),IF($G$23=\"Yes\",'TxDOT Test Data'!C49,'Contractor Test Data'!C49))","v":""},null,{"$f":"IF(AND('TxDOT Test Data'!D49=\"\",'Contractor Test Data'!D49=\"\"),\"\",IF($G$23=\"Yes\",'TxDOT Test Data'!D49,'Contractor Test Data'!D49))","v":""},{"$f":"IF(AND('TxDOT Test Data'!E49=\"\",'Contractor Test Data'!E49=\"\"),\"\",IF($G$23=\"Yes\",'TxDOT Test Data'!E49,'Contractor Test Data'!E49))","v":""},{"$f":"'Contractor Test Data'!M49","v":""},{"$f":"IF(ISERROR(IF(SpecYear=\"1995\",ROUND(AVERAGE(G53:G54),2),ROUND(AVERAGE(G53:G54),-1))),\"\",IF(SpecYear=\"1995\",ROUND(AVERAGE(G53:G54),2),ROUND(AVERAGE(G53:G54),-1)))","v":""},{"$f":"'TxDOT Test Data'!M49","v":""},{"$f":"IF(ISERROR(IF(SpecYear=\"1995\",ROUND(AVERAGE(I53:I54),2),ROUND(AVERAGE(I53:I54),-1))),\"\",IF(SpecYear=\"1995\",ROUND(AVERAGE(I53:I54),2),ROUND(AVERAGE(I53:I54),-1)))","v":""},{"$f":"IF(ISERROR(ABS((J53-H53)/J53*100)),\"\",IF(ABS((J53-H53)/J53*100)=0, \"0.00\", ABS((J53-H53)/J53*100)))","v":""},{"$f":"IF(K53=\"\",\"\",IF(K53<=10,\"Yes\",\"No\"))","v":""},{"$f":"IF(ISERROR(ABS((J53-H$55)/J53*100)),\"\",IF(ABS((J53-H$55)/J53*100)=0, \"0.00\", ABS((J53-H$55)/J53*100)))","v":""},{"$f":"IF(M53=\"\",\"\",IF(M53<=10,\"Yes\",\"No\"))","v":""}]
[null,null,null,null,null,null,{"$f":"'Contractor Test Data'!M50","v":""},null,{"$f":"'TxDOT Test Data'!M50","v":""}]
[null,null,null,null,null,null,"Average",{"$f":"IF(ISERROR(AVERAGE(H35:H54)),\"\",AVERAGE(H35:H54))","v":""}]
[null,null,"FLEXURAL STRENGTH"]
[null,null,"Summary:Tex-448-A"]
[null,null,"Source of Job Control Strength (psi): ",null,null,null,null,"Job Control Age (days): "]
[null,null,{"$f":"IF(J58=7,\"7-Day Job Control Strength (psi): \",\"Other - Day Job Control Strength (psi): \")","v":"Other - Day Job Control Strength (psi): "},null,null,null,{"$f":"IF(NOT($G$58=\"Spec. Book Value\"),\"\",520)","v":""},"Job Control Age (days): "]
[null,null,{"$f":"IF(J58=7,\"7-Day Job Control Strength (psi): \",\"Other - Day Job Control Strength (psi): \")","v":"Other - Day Job Control Strength (psi): "},null,null,null,null,null,null,{"$f":"IF(J58=\"Other\",J59,7)","v":7}]
[]
[null,null,null,null,null,null,"Contractor Test Data",null,"TxDOT Test Data"]
[null,null,"Date Cast",null,"Station","Age (Days)","Modulus of Rupture (psi)","Modulus of Rupture (avg) (psi)","Modulus of Rupture (psi)","Modulus of Rupture (avg) (psi)","Split-Sample Percent Difference","Within Allowable Difference for Split-Sample?","Percent Difference","Within Allowable Difference?"]
[]
[null,1,{"$f":"IF(AND('TxDOT Test Data'!C61=\"\",'Contractor Test Data'!C61=\"\"),IF(D65=\"\",\"\",D65),IF($G$23=\"Yes\",'TxDOT Test Data'!C61,'Contractor Test Data'!C61))","v":""},null,{"$f":"IF(AND('TxDOT Test Data'!D61=\"\",'Contractor Test Data'!D61=\"\"),\"\",IF($G$23=\"Yes\",'TxDOT Test Data'!D61,'Contractor Test Data'!D61))","v":""},{"$f":"IF(ISERROR('Contractor Test Data'!E62:E63),\"\",IF(G23=\"Yes\",'TxDOT Test Data'!E62:E63,'Contractor Test Data'!E62:E63))","v":""},{"$f":"'Contractor Test Data'!L61","v":""},{"$f":"IF(ISERROR(IF(SpecYear=\"1995\",ROUND(AVERAGE(G65:G66)*2,-2)/2,ROUND(AVERAGE(G65:G66)*2,-1)/2)),\"\",IF(SpecYear=\"1995\",ROUND(AVERAGE(G65:G66)*2,-2)/2,ROUND(AVERAGE(G65:G66)*2,-1)/2))","v":""},{"$f":"'TxDOT Test Data'!L61","v":""},{"$f":"IF(ISERROR(IF(SpecYear=\"1995\",ROUND(AVERAGE(I65:I66)*2,-2)/2,ROUND(AVERAGE(I65:I66)*2,-1)/2)),\"\",IF(SpecYear=\"1995\",ROUND(AVERAGE(I65:I66)*2,-2)/2,ROUND(AVERAGE(I65:I66)*2,-1)/2))","v":""},{"$f":"IF(ISERROR(ABS((J65-H65)/J65*100)),\"\",IF(ABS((J65-H65)/J65*100)=0, \"0.00\", ABS((J65-H65)/J65*100)))","v":""},{"$f":"IF(K65=\"\",\"\",IF(K65<=19,\"Yes\",\"No\"))","v":""},{"$f":"IF(ISERROR(ABS((J65-H$85)/J65*100)),\"\",IF(ABS((J65-H$85)/J65*100)=0, \"0.00\", ABS((J65-H$85)/J65*100)))","v":""},{"$f":"IF(M65=\"\",\"\",IF(M65<=10,\"Yes\",\"No\"))","v":""}]
[null,null,null,null,null,null,{"$f":"'Contractor Test Data'!L62","v":""},null,{"$f":"'TxDOT Test Data'!L62","v":""}]
[null,2,{"$f":"IF(AND('TxDOT Test Data'!C63=\"\",'Contractor Test Data'!C63=\"\"),IF(D67=\"\",\"\",D67),IF($G$23=\"Yes\",'TxDOT Test Data'!C63,'Contractor Test Data'!C63))","v":""},null,{"$f":"IF(AND('TxDOT Test Data'!D63=\"\",'Contractor Test Data'!D63=\"\"),\"\",IF($G$23=\"Yes\",'TxDOT Test Data'!D63,'Contractor Test Data'!D63))","v":""},{"$f":"IF(ISERROR('Contractor Test Data'!E64:E65),\"\",IF(G23=\"Yes\",'TxDOT Test Data'!E64:E65,'Contractor Test Data'!E64:E65))","v":""},{"$f":"'Contractor Test Data'!L63","v":""},{"$f":"IF(ISERROR(IF(SpecYear=\"1995\",ROUND(AVERAGE(G67:G68)*2,-2)/2,ROUND(AVERAGE(G67:G68)*2,-1)/2)),\"\",IF(SpecYear=\"1995\",ROUND(AVERAGE(G67:G68)*2,-2)/2,ROUND(AVERAGE(G67:G68)*2,-1)/2))","v":""},{"$f":"'TxDOT Test Data'!L63","v":""},{"$f":"IF(ISERROR(IF(SpecYear=\"1995\",ROUND(AVERAGE(I67:I68)*2,-2)/2,ROUND(AVERAGE(I67:I68)*2,-1)/2)),\"\",IF(SpecYear=\"1995\",ROUND(AVERAGE(I67:I68)*2,-2)/2,ROUND(AVERAGE(I67:I68)*2,-1)/2))","v":""},{"$f":"IF(ISERROR(ABS((J67-H67)/J67*100)),\"\",IF(ABS((J67-H67)/J67*100)=0, \"0.00\", ABS((J67-H67)/J67*100)))","v":""},{"$f":"IF(K67=\"\",\"\",IF(K67<=19,\"Yes\",\"No\"))","v":""},{"$f":"IF(ISERROR(ABS((J67-H$85)/J67*100)),\"\",IF(ABS((J67-H$85)/J67*100)=0, \"0.00\", ABS((J67-H$85)/J67*100)))","v":""},{"$f":"IF(M67=\"\",\"\",IF(M67<=10,\"Yes\",\"No\"))","v":""}]
[null,null,null,null,null,null,{"$f":"'Contractor Test Data'!L64","v":""},null,{"$f":"'TxDOT Test Data'!L64","v":""}]
[null,3,{"$f":"IF(AND('TxDOT Test Data'!C65=\"\",'Contractor Test Data'!C65=\"\"),IF(D69=\"\",\"\",D69),IF($G$23=\"Yes\",'TxDOT Test Data'!C65,'Contractor Test Data'!C65))","v":""},null,{"$f":"IF(AND('TxDOT Test Data'!D65=\"\",'Contractor Test Data'!D65=\"\"),\"\",IF($G$23=\"Yes\",'TxDOT Test Data'!D65,'Contractor Test Data'!D65))","v":""},{"$f":"IF(ISERROR('Contractor Test Data'!E66:E67),\"\",IF(G23=\"Yes\",'TxDOT Test Data'!E66:E67,'Contractor Test Data'!E66:E67))","v":""},{"$f":"'Contractor Test Data'!L65","v":""},{"$f":"IF(ISERROR(IF(SpecYear=\"1995\",ROUND(AVERAGE(G69:G70)*2,-2)/2,ROUND(AVERAGE(G69:G70)*2,-1)/2)),\"\",IF(SpecYear=\"1995\",ROUND(AVERAGE(G69:G70)*2,-2)/2,ROUND(AVERAGE(G69:G70)*2,-1)/2))","v":""},{"$f":"'TxDOT Test Data'!L65","v":""},{"$f":"IF(ISERROR(IF(SpecYear=\"1995\",ROUND(AVERAGE(I69:I70)*2,-2)/2,ROUND(AVERAGE(I69:I70)*2,-1)/2)),\"\",IF(SpecYear=\"1995\",ROUND(AVERAGE(I69:I70)*2,-2)/2,ROUND(AVERAGE(I69:I70)*2,-1)/2))","v":""},{"$f":"IF(ISERROR(ABS((J69-H69)/J69*100)),\"\",IF(ABS((J69-H69)/J69*100)=0, \"0.00\", ABS((J69-H69)/J69*100)))","v":""},{"$f":"IF(K69=\"\",\"\",IF(K69<=19,\"Yes\",\"No\"))","v":""},{"$f":"IF(ISERROR(ABS((J69-H$85)/J69*100)),\"\",IF(ABS((J69-H$85)/J69*100)=0, \"0.00\", ABS((J69-H$85)/J69*100)))","v":""},{"$f":"IF(M69=\"\",\"\",IF(M69<=10,\"Yes\",\"No\"))","v":""}]
[null,null,null,null,null,null,{"$f":"'Contractor Test Data'!L66","v":""},null,{"$f":"'TxDOT Test Data'!L66","v":""}]
[null,4,{"$f":"IF(AND('TxDOT Test Data'!C67=\"\",'Contractor Test Data'!C67=\"\"),IF(D71=\"\",\"\",D71),IF($G$23=\"Yes\",'TxDOT Test Data'!C67,'Contractor Test Data'!C67))","v":""},null,{"$f":"IF(AND('TxDOT Test Data'!D67=\"\",'Contractor Test Data'!D67=\"\"),\"\",IF($G$23=\"Yes\",'TxDOT Test Data'!D67,'Contractor Test Data'!D67))","v":""},{"$f":"IF(ISERROR('Contractor Test Data'!E68:E69),\"\",IF(G23=\"Yes\",'TxDOT Test Data'!E68:E69,'Contractor Test Data'!E68:E69))","v":""},{"$f":"'Contractor Test Data'!L67","v":""},{"$f":"IF(ISERROR(IF(SpecYear=\"1995\",ROUND(AVERAGE(G71:G72)*2,-2)/2,ROUND(AVERAGE(G71:G72)*2,-1)/2)),\"\",IF(SpecYear=\"1995\",ROUND(AVERAGE(G71:G72)*2,-2)/2,ROUND(AVERAGE(G71:G72)*2,-1)/2))","v":""},{"$f":"'TxDOT Test Data'!L67","v":""},{"$f":"IF(ISERROR(IF(SpecYear=\"1995\",ROUND(AVERAGE(I71:I72)*2,-2)/2,ROUND(AVERAGE(I71:I72)*2,-1)/2)),\"\",IF(SpecYear=\"1995\",ROUND(AVERAGE(I71:I72)*2,-2)/2,ROUND(AVERAGE(I71:I72)*2,-1)/2))","v":""},{"$f":"IF(ISERROR(ABS((J71-H71)/J71*100)),\"\",IF(ABS((J71-H71)/J71*100)=0, \"0.00\", ABS((J71-H71)/J71*100)))","v":""},{"$f":"IF(K71=\"\",\"\",IF(K71<=19,\"Yes\",\"No\"))","v":""},{"$f":"IF(ISERROR(ABS((J71-H$85)/J71*100)),\"\",IF(ABS((J71-H$85)/J71*100)=0, \"0.00\", ABS((J71-H$85)/J71*100)))","v":""},{"$f":"IF(M71=\"\",\"\",IF(M71<=10,\"Yes\",\"No\"))","v":""}]
[null,null,null,null,null,null,{"$f":"'Contractor Test Data'!L68","v":""},null,{"$f":"'TxDOT Test Data'!L68","v":""}]
[null,5,{"$f":"IF(AND('TxDOT Test Data'!C69=\"\",'Contractor Test Data'!C69=\"\"),IF(D73=\"\",\"\",D73),IF($G$23=\"Yes\",'TxDOT Test Data'!C69,'Contractor Test Data'!C69))","v":""},null,{"$f":"IF(AND('TxDOT Test Data'!D69=\"\",'Contractor Test Data'!D69=\"\"),\"\",IF($G$23=\"Yes\",'TxDOT Test Data'!D69,'Contractor Test Data'!D69))","v":""},{"$f":"IF(ISERROR('Contractor Test Data'!E70:E71),\"\",IF(G23=\"Yes\",'TxDOT Test Data'!E70:E71,'Contractor Test Data'!E70:E71))","v":""},{"$f":"'Contractor Test Data'!L69","v":""},{"$f":"IF(ISERROR(IF(SpecYear=\"1995\",ROUND(AVERAGE(G73:G74)*2,-2)/2,ROUND(AVERAGE(G73:G74)*2,-1)/2)),\"\",IF(SpecYear=\"1995\",ROUND(AVERAGE(G73:G74)*2,-2)/2,ROUND(AVERAGE(G73:G74)*2,-1)/2))","v":""},{"$f":"'TxDOT Test Data'!L69","v":""},{"$f":"IF(ISERROR(IF(SpecYear=\"1995\",ROUND(AVERAGE(I73:I74)*2,-2)/2,ROUND(AVERAGE(I73:I74)*2,-1)/2)),\"\",IF(SpecYear=\"1995\",ROUND(AVERAGE(I73:I74)*2,-2)/2,ROUND(AVERAGE(I73:I74)*2,-1)/2))","v":""},{"$f":"IF(ISERROR(ABS((J73-H73)/J73*100)),\"\",IF(ABS((J73-H73)/J73*100)=0, \"0.00\", ABS((J73-H73)/J73*100)))","v":""},{"$f":"IF(K73=\"\",\"\",IF(K73<=19,\"Yes\",\"No\"))","v":""},{"$f":"IF(ISERROR(ABS((J73-H$85)/J73*100)),\"\",IF(ABS((J73-H$85)/J73*100)=0, \"0.00\", ABS((J73-H$85)/J73*100)))","v":""},{"$f":"IF(M73=\"\",\"\",IF(M73<=10,\"Yes\",\"No\"))","v":""}]
[null,null,null,null,null,null,{"$f":"'Contractor Test Data'!L70","v":""},null,{"$f":"'TxDOT Test Data'!L70","v":""}]
[null,6,{"$f":"IF(AND('TxDOT Test Data'!C71=\"\",'Contractor Test Data'!C71=\"\"),IF(D75=\"\",\"\",D75),IF($G$23=\"Yes\",'TxDOT Test Data'!C71,'Contractor Test Data'!C71))","v":""},null,{"$f":"IF(AND('TxDOT Test Data'!D71=\"\",'Contractor Test Data'!D71=\"\"),\"\",IF($G$23=\"Yes\",'TxDOT Test Data'!D71,'Contractor Test Data'!D71))","v":""},{"$f":"IF(ISERROR('Contractor Test Data'!E72:E73),\"\",IF(G23=\"Yes\",'TxDOT Test Data'!E72:E73,'Contractor Test Data'!E72:E73))","v":""},{"$f":"'Contractor Test Data'!L71","v":""},{"$f":"IF(ISERROR(IF(SpecYear=\"1995\",ROUND(AVERAGE(G75:G76)*2,-2)/2,ROUND(AVERAGE(G75:G76)*2,-1)/2)),\"\",IF(SpecYear=\"1995\",ROUND(AVERAGE(G75:G76)*2,-2)/2,ROUND(AVERAGE(G75:G76)*2,-1)/2))","v":""},{"$f":"'TxDOT Test Data'!L71","v":""},{"$f":"IF(ISERROR(IF(SpecYear=\"1995\",ROUND(AVERAGE(I75:I76)*2,-2)/2,ROUND(AVERAGE(I75:I76)*2,-1)/2)),\"\",IF(SpecYear=\"1995\",ROUND(AVERAGE(I75:I76)*2,-2)/2,ROUND(AVERAGE(I75:I76)*2,-1)/2))","v":""},{"$f":"IF(ISERROR(ABS((J75-H75)/J75*100)),\"\",IF(ABS((J75-H75)/J75*100)=0, \"0.00\", ABS((J75-H75)/J75*100)))","v":""},{"$f":"IF(K75=\"\",\"\",IF(K75<=19,\"Yes\",\"No\"))","v":""},{"$f":"IF(ISERROR(ABS((J75-H$85)/J75*100)),\"\",IF(ABS((J75-H$85)/J75*100)=0, \"0.00\", ABS((J75-H$85)/J75*100)))","v":""},{"$f":"IF(M75=\"\",\"\",IF(M75<=10,\"Yes\",\"No\"))","v":""}]
[null,null,null,null,null,null,{"$f":"'Contractor Test Data'!L72","v":""},null,{"$f":"'TxDOT Test Data'!L72","v":""}]
[null,7,{"$f":"IF(AND('TxDOT Test Data'!C73=\"\",'Contractor Test Data'!C73=\"\"),IF(D77=\"\",\"\",D77),IF($G$23=\"Yes\",'TxDOT Test Data'!C73,'Contractor Test Data'!C73))","v":""},null,{"$f":"IF(AND('TxDOT Test Data'!D73=\"\",'Contractor Test Data'!D73=\"\"),\"\",IF($G$23=\"Yes\",'TxDOT Test Data'!D73,'Contractor Test Data'!D73))","v":""},{"$f":"IF(ISERROR('Contractor Test Data'!E74:E75),\"\",IF(G23=\"Yes\",'TxDOT Test Data'!E74:E75,'Contractor Test Data'!E74:E75))","v":""},{"$f":"'Contractor Test Data'!L73","v":""},{"$f":"IF(ISERROR(IF(SpecYear=\"1995\",ROUND(AVERAGE(G77:G78)*2,-2)/2,ROUND(AVERAGE(G77:G78)*2,-1)/2)),\"\",IF(SpecYear=\"1995\",ROUND(AVERAGE(G77:G78)*2,-2)/2,ROUND(AVERAGE(G77:G78)*2,-1)/2))","v":""},{"$f":"'TxDOT Test Data'!L73","v":""},{"$f":"IF(ISERROR(IF(SpecYear=\"1995\",ROUND(AVERAGE(I77:I78)*2,-2)/2,ROUND(AVERAGE(I77:I78)*2,-1)/2)),\"\",IF(SpecYear=\"1995\",ROUND(AVERAGE(I77:I78)*2,-2)/2,ROUND(AVERAGE(I77:I78)*2,-1)/2))","v":""},{"$f":"IF(ISERROR(ABS((J77-H77)/J77*100)),\"\",IF(ABS((J77-H77)/J77*100)=0, \"0.00\", ABS((J77-H77)/J77*100)))","v":""},{"$f":"IF(K77=\"\",\"\",IF(K77<=19,\"Yes\",\"No\"))","v":""},{"$f":"IF(ISERROR(ABS((J77-H$85)/J77*100)),\"\",IF(ABS((J77-H$85)/J77*100)=0, \"0.00\", ABS((J77-H$85)/J77*100)))","v":""},{"$f":"IF(M77=\"\",\"\",IF(M77<=10,\"Yes\",\"No\"))","v":""}]
[null,null,null,null,null,null,{"$f":"'Contractor Test Data'!L74","v":""},null,{"$f":"'TxDOT Test Data'!L74","v":""}]
[null,8,{"$f":"IF(AND('TxDOT Test Data'!C75=\"\",'Contractor Test Data'!C75=\"\"),IF(D79=\"\",\"\",D79),IF($G$23=\"Yes\",'TxDOT Test Data'!C75,'Contractor Test Data'!C75))","v":""},null,{"$f":"IF(AND('TxDOT Test Data'!D75=\"\",'Contractor Test Data'!D75=\"\"),\"\",IF($G$23=\"Yes\",'TxDOT Test Data'!D75,'Contractor Test Data'!D75))","v":""},{"$f":"IF(ISERROR('Contractor Test Data'!E76:E77),\"\",IF(G23=\"Yes\",'TxDOT Test Data'!E76:E77,'Contractor Test Data'!E76:E77))","v":""},{"$f":"'Contractor Test Data'!L75","v":""},{"$f":"IF(ISERROR(IF(SpecYear=\"1995\",ROUND(AVERAGE(G79:G80)*2,-2)/2,ROUND(AVERAGE(G79:G80)*2,-1)/2)),\"\",IF(SpecYear=\"1995\",ROUND(AVERAGE(G79:G80)*2,-2)/2,ROUND(AVERAGE(G79:G80)*2,-1)/2))","v":""},{"$f":"'TxDOT Test Data'!L75","v":""},{"$f":"IF(ISERROR(IF(SpecYear=\"1995\",ROUND(AVERAGE(I79:I80)*2,-2)/2,ROUND(AVERAGE(I79:I80)*2,-1)/2)),\"\",IF(SpecYear=\"1995\",ROUND(AVERAGE(I79:I80)*2,-2)/2,ROUND(AVERAGE(I79:I80)*2,-1)/2))","v":""},{"$f":"IF(ISERROR(ABS((J79-H79)/J79*100)),\"\",IF(ABS((J79-H79)/J79*100)=0, \"0.00\", ABS((J79-H79)/J79*100)))","v":""},{"$f":"IF(K79=\"\",\"\",IF(K79<=19,\"Yes\",\"No\"))","v":""},{"$f":"IF(ISERROR(ABS((J79-H$85)/J79*100)),\"\",IF(ABS((J79-H$85)/J79*100)=0, \"0.00\", ABS((J79-H$85)/J79*100)))","v":""},{"$f":"IF(M79=\"\",\"\",IF(M79<=10,\"Yes\",\"No\"))","v":""}]
[null,null,null,null,null,null,{"$f":"'Contractor Test Data'!L76","v":""},null,{"$f":"'TxDOT Test Data'!L76","v":""}]
[null,9,{"$f":"IF(AND('TxDOT Test Data'!C77=\"\",'Contractor Test Data'!C77=\"\"),IF(D81=\"\",\"\",D81),IF($G$23=\"Yes\",'TxDOT Test Data'!C77,'Contractor Test Data'!C77))","v":""},null,{"$f":"IF(AND('TxDOT Test Data'!D77=\"\",'Contractor Test Data'!D77=\"\"),\"\",IF($G$23=\"Yes\",'TxDOT Test Data'!D77,'Contractor Test Data'!D77))","v":""},{"$f":"IF(ISERROR('Contractor Test Data'!E78:E79),\"\",IF(G23=\"Yes\",'TxDOT Test Data'!E78:E79,'Contractor Test Data'!E78:E79))","v":""},{"$f":"'Contractor Test Data'!L77","v":""},{"$f":"IF(ISERROR(IF(SpecYear=\"1995\",ROUND(AVERAGE(G81:G82)*2,-2)/2,ROUND(AVERAGE(G81:G82)*2,-1)/2)),\"\",IF(SpecYear=\"1995\",ROUND(AVERAGE(G81:G82)*2,-2)/2,ROUND(AVERAGE(G81:G82)*2,-1)/2))","v":""},{"$f":"'TxDOT Test Data'!L77","v":""},{"$f":"IF(ISERROR(IF(SpecYear=\"1995\",ROUND(AVERAGE(I81:I82)*2,-2)/2,ROUND(AVERAGE(I81:I82)*2,-1)/2)),\"\",IF(SpecYear=\"1995\",ROUND(AVERAGE(I81:I82)*2,-2)/2,ROUND(AVERAGE(I81:I82)*2,-1)/2))","v":""},{"$f":"IF(ISERROR(ABS((J81-H81)/J81*100)),\"\",IF(ABS((J81-H81)/J81*100)=0, \"0.00\", ABS((J81-H81)/J81*100)))","v":""},{"$f":"IF(K81=\"\",\"\",IF(K81<=19,\"Yes\",\"No\"))","v":""},{"$f":"IF(ISERROR(ABS((J81-H$85)/J81*100)),\"\",IF(ABS((J81-H$85)/J81*100)=0, \"0.00\", ABS((J81-H$85)/J81*100)))","v":""},{"$f":"IF(M81=\"\",\"\",IF(M81<=10,\"Yes\",\"No\"))","v":""}]
[null,null,null,null,null,null,{"$f":"'Contractor Test Data'!L78","v":""},null,{"$f":"'TxDOT Test Data'!L78","v":""}]
[null,10,{"$f":"IF(AND('TxDOT Test Data'!C79=\"\",'Contractor Test Data'!C79=\"\"),IF(D83=\"\",\"\",D83),IF($G$23=\"Yes\",'TxDOT Test Data'!C79,'Contractor Test Data'!C79))","v":""},null,{"$f":"IF(AND('TxDOT Test Data'!D79=\"\",'Contractor Test Data'!D79=\"\"),\"\",IF($G$23=\"Yes\",'TxDOT Test Data'!D79,'Contractor Test Data'!D79))","v":""},{"$f":"IF(ISERROR('Contractor Test Data'!F80:F81),\"\",IF(G23=\"Yes\",'TxDOT Test Data'!F80:F81,'Contractor Test Data'!F80:F81))","v":""},{"$f":"'Contractor Test Data'!L79","v":""},{"$f":"IF(ISERROR(IF(SpecYear=\"1995\",ROUND(AVERAGE(G83:G84)*2,-2)/2,ROUND(AVERAGE(G83:G84)*2,-1)/2)),\"\",IF(SpecYear=\"1995\",ROUND(AVERAGE(G83:G84)*2,-2)/2,ROUND(AVERAGE(G83:G84)*2,-1)/2))","v":""},{"$f":"'TxDOT Test Data'!L79","v":""},{"$f":"IF(ISERROR(IF(SpecYear=\"1995\",ROUND(AVERAGE(I83:I84)*2,-2)/2,ROUND(AVERAGE(I83:I84)*2,-1)/2)),\"\",IF(SpecYear=\"1995\",ROUND(AVERAGE(I83:I84)*2,-2)/2,ROUND(AVERAGE(I83:I84)*2,-1)/2))","v":""},{"$f":"IF(ISERROR(ABS((J83-H83)/J83*100)),\"\",IF(ABS((J83-H83)/J83*100)=0, \"0.00\", ABS((J83-H83)/J83*100)))","v":""},{"$f":"IF(K83=\"\",\"\",IF(K83<=19,\"Yes\",\"No\"))","v":""},{"$f":"IF(ISERROR(ABS((J83-H$85)/J83*100)),\"\",IF(ABS((J83-H$85)/J83*100)=0, \"0.00\", ABS((J83-H$85)/J83*100)))","v":""},{"$f":"IF(M83=\"\",\"\",IF(M83<=10,\"Yes\",\"No\"))","v":""}]
[null,null,null,null,null,null,{"$f":"'Contractor Test Data'!L80","v":""},null,{"$f":"'TxDOT Test Data'!L80","v":""}]
[null,null,null,null,null,null,"Average",{"$f":"IF(ISERROR(AVERAGE(H65:H84)),\"\",AVERAGE(H65:H84))","v":""}]
["* When outside the middle 1/3, distance from the line of the fracture to the nearest support measured along the bottom of the beam."]
[]
[null,null,"TEMPERATURE"]
[null,null,"Summary:Tex-422-A"]
[null,null,"Contractor","TxDOT"]
[null,null,"Temperature (°F)","Temperature (°F)","Split-Sample Difference (°F)","Within Allowable Difference for Split-Sample?","Percent Difference","Within Allowable Difference?"]
[null,1,{"$f":"IF('Contractor Fresh Test Data'!E31=0,\"\",'Contractor Fresh Test Data'!E31)","v":""},{"$f":"IF('TxDOT Fresh Test Data'!E31=0,\"\",'TxDOT Fresh Test Data'!E31)","v":""},{"$f":"IF(OR(ISBLANK('Contractor Fresh Test Data'!E31),ISBLANK('TxDOT Fresh Test Data'!E31)),\"\",ABS(D92-C92))","v":""},{"$f":"IF(E92=\"\",\"\",IF(E92<=2,\"Yes\",\"No\"))","v":""},{"$f":"IF(ISERROR(ABS((D92-C$102)/D92*100)),\"\",IF(ABS((D92-C$102)/D92*100)=0, \"0.00\", ABS((D92-C$102)/D92*100)))","v":""},{"$f":"IF(G92=\"\",\"\",IF(OR(G92<=10,ABS((D92-C$102)/D92*100)=0),\"Yes\",\"No\"))","v":""}]
[null,2,{"$f":"IF('Contractor Fresh Test Data'!E32=0,\"\",'Contractor Fresh Test Data'!E32)","v":""},{"$f":"IF('TxDOT Fresh Test Data'!E32=0,\"\",'TxDOT Fresh Test Data'!E32)","v":""},{"$f":"IF(OR(ISBLANK('Contractor Fresh Test Data'!E32),ISBLANK('TxDOT Fresh Test Data'!E32)),\"\",ABS(D93-C93))","v":""},"",{"$f":"IF(ISERROR(ABS((D93-C$102)/D93*100)),\"\",IF(ABS((D93-C$102)/D93*100)=0, \"0.00\", ABS((D93-C$102)/D93*100)))","v":""},{"$f":"IF(G93=\"\",\"\",IF(OR(G93<=10,ABS((D93-C$102)/D93*100)=0),\"Yes\",\"No\"))","v":""}]
[null,3,{"$f":"IF('Contractor Fresh Test Data'!E33=0,\"\",'Contractor Fresh Test Data'!E33)","v":""},{"$f":"IF('TxDOT Fresh Test Data'!E33=0,\"\",'TxDOT Fresh Test Data'!E33)","v":""},{"$f":"IF(OR(ISBLANK('Contractor Fresh Test Data'!E33),ISBLANK('TxDOT Fresh Test Data'!E33)),\"\",ABS(D94-C94))","v":""},"",{"$f":"IF(ISERROR(ABS((D94-C$102)/D94*100)),\"\",IF(ABS((D94-C$102)/D94*100)=0, \"0.00\", ABS((D94-C$102)/D94*100)))","v":""},""]
[null,4,{"$f":"IF('Contractor Fresh Test Data'!E34=0,\"\",'Contractor Fresh Test Data'!E34)","v":""},{"$f":"IF('TxDOT Fresh Test Data'!E34=0,\"\",'TxDOT Fresh Test Data'!E34)","v":""},{"$f":"IF(OR(ISBLANK('Contractor Fresh Test Data'!E34),ISBLANK('TxDOT Fresh Test Data'!E34)),\"\",ABS(D95-C95))","v":""},"",{"$f":"IF(ISERROR(ABS((D95-C$102)/D95*100)),\"\",IF(ABS((D95-C$102)/D95*100)=0, \"0.00\", ABS((D95-C$102)/D95*100)))","v":""},""]
[null,5,{"$f":"IF('Contractor Fresh Test Data'!E35=0,\"\",'Contractor Fresh Test Data'!E35)","v":""},{"$f":"IF('TxDOT Fresh Test Data'!E35=0,\"\",'TxDOT Fresh Test Data'!E35)","v":""},{"$f":"IF(OR(ISBLANK('Contractor Fresh Test Data'!E35),ISBLANK('TxDOT Fresh Test Data'!E35)),\"\",ABS(D96-C96))","v":""},"","",""]
[null,6,{"$f":"IF('Contractor Fresh Test Data'!E36=0,\"\",'Contractor Fresh Test Data'!E36)","v":""},{"$f":"IF('TxDOT Fresh Test Data'!E36=0,\"\",'TxDOT Fresh Test Data'!E36)","v":""},{"$f":"IF(OR(ISBLANK('Contractor Fresh Test Data'!E36),ISBLANK('TxDOT Fresh Test Data'!E36)),\"\",ABS(D97-C97))","v":""},"","",""]
[null,7,{"$f":"IF('Contractor Fresh Test Data'!E37=0,\"\",'Contractor Fresh Test Data'!E37)","v":""},{"$f":"IF('TxDOT Fresh Test Data'!E37=0,\"\",'TxDOT Fresh Test Data'!E37)","v":""},{"$f":"IF(OR(ISBLANK('Contractor Fresh Test Data'!E37),ISBLANK('TxDOT Fresh Test Data'!E37)),\"\",ABS(D98-C98))","v":""},"","",""]
[null,8,{"$f":"IF('Contractor Fresh Test Data'!E38=0,\"\",'Contractor Fresh Test Data'!E38)","v":""},{"$f":"IF('TxDOT Fresh Test Data'!E38=0,\"\",'TxDOT Fresh Test Data'!E38)","v":""},{"$f":"IF(OR(ISBLANK('Contractor Fresh Test Data'!E38),ISBLANK('TxDOT Fresh Test Data'!E38)),\"\",ABS(D99-C99))","v":""},"","",""]
[null,9,{"$f":"IF('Contractor Fresh Test Data'!E39=0,\"\",'Contractor Fresh Test Data'!E39)","v":""},{"$f":"IF('TxDOT Fresh Test Data'!E39=0,\"\",'TxDOT Fresh Test Data'!E39)","v":""},{"$f":"IF(OR(ISBLANK('Contractor Fresh Test Data'!E39),ISBLANK('TxDOT Fresh Test Data'!E39)),\"\",ABS(D100-C100))","v":""},"","",""]
[null,10,{"$f":"IF('Contractor Fresh Test Data'!E40=0,\"\",'Contractor Fresh Test Data'!E40)","v":""},{"$f":"IF('TxDOT Fresh Test Data'!E40=0,\"\",'TxDOT Fresh Test Data'!E40)","v":""},{"$f":"IF(OR(ISBLANK('Contractor Fresh Test Data'!E40),ISBLANK('TxDOT Fresh Test Data'!E40)),\"\",ABS(D101-C101))","v":""},"",{"$f":"IF(ISERROR(ABS((D101-C$102)/D101*100)),\"\",IF(ABS((D101-C$102)/D101*100)=0, \"0.00\", ABS((D101-C$102)/D101*100)))","v":""},""]
[null,"Avg.",{"$f":"IF(ISERROR(AVERAGE(C92:C101)),\"\",AVERAGE(C92:C101))","v":""}]
[]
[null,null,"SLUMP"]
[null,null,"Summary:Tex-415-A"]
[null,null,"Contractor","TxDOT"]
[null,null,"Slump (inches)","Slump (inches)","Split-Sample Difference (inches)","Within Allowable Difference for Split-Sample?","Percent Difference","Within Allowable Difference?"]
[null,1,{"$f":"IF('Contractor Fresh Test Data'!C31=0,\"\",'Contractor Fresh Test Data'!C31)","v":""},{"$f":"IF('TxDOT Fresh Test Data'!C31=0,\"\",'TxDOT Fresh Test Data'!C31)","v":""},{"$f":"IF(OR(ISBLANK('Contractor Fresh Test Data'!C31),ISBLANK('TxDOT Fresh Test Data'!C31)),\"\",ABS(D108-C108))","v":""},{"$f":"IF(E108=\"\",\"\",IF(E108<=1,\"Yes\",\"No\"))","v":""},{"$f":"IF(ISERROR(ABS((D108-C$118)/D108*100)),\"\",IF(ABS((D108-C$118)/D108*100)=0, \"0.00\", ABS((D108-C$118)/D108*100)))","v":""},{"$f":"IF(G108=\"\",\"\",IF(OR(G108<=10,ABS((D108-C$118)/D108*100)=0),\"Yes\",\"No\"))","v":""}]
[null,2,{"$f":"IF('Contractor Fresh Test Data'!C32=0,\"\",'Contractor Fresh Test Data'!C32)","v":""},{"$f":"IF('TxDOT Fresh Test Data'!C32=0,\"\",'TxDOT Fresh Test Data'!C32)","v":""},{"$f":"IF(OR(ISBLANK('Contractor Fresh Test Data'!C32),ISBLANK('TxDOT Fresh Test Data'!C32)),\"\",ABS(D109-C109))","v":""},{"$f":"IF(E109=\"\",\"\",IF(E109<=1,\"Yes\",\"No\"))","v":""},{"$f":"IF(ISERROR(ABS((D109-C$118)/D109*100)),\"\",IF(ABS((D109-C$118)/D109*100)=0, \"0.00\", ABS((D109-C$118)/D109*100)))","v":""},{"$f":"IF(G109=\"\",\"\",IF(OR(G109<=10,ABS((D109-C$118)/D109*100)=0),\"Yes\",\"No\"))","v":""}]
[null,3,{"$f":"IF('Contractor Fresh Test Data'!C33=0,\"\",'Contractor Fresh Test Data'!C33)","v":""},{"$f":"IF('TxDOT Fresh Test Data'!C33=0,\"\",'TxDOT Fresh Test Data'!C33)","v":""},{"$f":"IF(OR(ISBLANK('Contractor Fresh Test Data'!C33),ISBLANK('TxDOT Fresh Test Data'!C33)),\"\",ABS(D110-C110))","v":""},{"$f":"IF(E110=\"\",\"\",IF(E110<=1,\"Yes\",\"No\"))","v":""},{"$f":"IF(ISERROR(ABS((D110-C$118)/D110*100)),\"\",IF(ABS((D110-C$118)/D110*100)=0, \"0.00\", ABS((D110-C$118)/D110*100)))","v":""},""]
[null,4,{"$f":"IF('Contractor Fresh Test Data'!C34=0,\"\",'Contractor Fresh Test Data'!C34)","v":""},{"$f":"IF('TxDOT Fresh Test Data'!C34=0,\"\",'TxDOT Fresh Test Data'!C34)","v":""},{"$f":"IF(OR(ISBLANK('Contractor Fresh Test Data'!C34),ISBLANK('TxDOT Fresh Test Data'!C34)),\"\",ABS(D111-C111))","v":""},"","",""]
[null,5,{"$f":"IF('Contractor Fresh Test Data'!C35=0,\"\",'Contractor Fresh Test Data'!C35)","v":""},{"$f":"IF('TxDOT Fresh Test Data'!C35=0,\"\",'TxDOT Fresh Test Data'!C35)","v":""},{"$f":"IF(OR(ISBLANK('Contractor Fresh Test Data'!C35),ISBLANK('TxDOT Fresh Test Data'!C35)),\"\",ABS(D112-C112))","v":""},"","",""]
[null,6,{"$f":"IF('Contractor Fresh Test Data'!C36=0,\"\",'Contractor Fresh Test Data'!C36)","v":""},{"$f":"IF('TxDOT Fresh Test Data'!C36=0,\"\",'TxDOT Fresh Test Data'!C36)","v":""},{"$f":"IF(OR(ISBLANK('Contractor Fresh Test Data'!C36),ISBLANK('TxDOT Fresh Test Data'!C36)),\"\",ABS(D113-C113))","v":""},"","",""]
[null,7,{"$f":"IF('Contractor Fresh Test Data'!C37=0,\"\",'Contractor Fresh Test Data'!C37)","v":""},{"$f":"IF('TxDOT Fresh Test Data'!C37=0,\"\",'TxDOT Fresh Test Data'!C37)","v":""},{"$f":"IF(OR(ISBLANK('Contractor Fresh Test Data'!C37),ISBLANK('TxDOT Fresh Test Data'!C37)),\"\",ABS(D114-C114))","v":""},"","",""]
[null,8,{"$f":"IF('Contractor Fresh Test Data'!C38=0,\"\",'Contractor Fresh Test Data'!C38)","v":""},{"$f":"IF('TxDOT Fresh Test Data'!C38=0,\"\",'TxDOT Fresh Test Data'!C38)","v":""},{"$f":"IF(OR(ISBLANK('Contractor Fresh Test Data'!C38),ISBLANK('TxDOT Fresh Test Data'!C38)),\"\",ABS(D115-C115))","v":""},"","",""]
[null,9,{"$f":"IF('Contractor Fresh Test Data'!C39=0,\"\",'Contractor Fresh Test Data'!C39)","v":""},{"$f":"IF('TxDOT Fresh Test Data'!C39=0,\"\",'TxDOT Fresh Test Data'!C39)","v":""},{"$f":"IF(OR(ISBLANK('Contractor Fresh Test Data'!C39),ISBLANK('TxDOT Fresh Test Data'!C39)),\"\",ABS(D116-C116))","v":""},"","",""]
[null,10,{"$f":"IF('Contractor Fresh Test Data'!C40=0,\"\",'Contractor Fresh Test Data'!C40)","v":""},{"$f":"IF('TxDOT Fresh Test Data'!C40=0,\"\",'TxDOT Fresh Test Data'!C40)","v":""},{"$f":"IF(OR(ISBLANK('Contractor Fresh Test Data'!C40),ISBLANK('TxDOT Fresh Test Data'!C40)),\"\",ABS(D117-C117))","v":""},"","",""]
[null,"Avg.",{"$f":"IF(ISERROR(AVERAGE(C108:C117)),\"\",AVERAGE(C108:C117))","v":""}]
[]
[null,null,"AIR CONTENT"]
[null,null,"Summary:Tex-414-A or Tex-416-A"]
[null,null,"Contractor","TxDOT"]
[null,null,"Air Content (%)","Air Content (%)","Split-Sample Percent Difference","Within Allowable Difference for Split-Sample?","Percent Difference","Within Allowable Difference?"]
[null,1,{"$f":"IF('Contractor Fresh Test Data'!J31=0,\"\",'Contractor Fresh Test Data'!J31)","v":""},{"$f":"IF('TxDOT Fresh Test Data'!J31=0,\"\",'TxDOT Fresh Test Data'!J31)","v":""},{"$f":"IF(OR(ISBLANK('Contractor Fresh Test Data'!J31),ISBLANK('TxDOT Fresh Test Data'!J31)),\"\",IF(ISERROR(ABS(D124-C124)),\"\",ABS(D124-C124)))","v":""},{"$f":"IF(E124=\"\",\"\",IF(E124<=1,\"Yes\",\"No\"))","v":""},{"$f":"IF(ISERROR(ABS((D124-C$134)/D124*100)),\"\",IF(ABS((D124-C$134)/D124*100)=0, \"0.00\", ABS((D124-C$134)/D124*100)))","v":""},{"$f":"IF(G124=\"\",\"\",IF(OR(G124<=10,ABS((D124-C$134)/D124*100)=0),\"Yes\",\"No\"))","v":""}]
[null,2,{"$f":"IF('Contractor Fresh Test Data'!J32=0,\"\",'Contractor Fresh Test Data'!J32)","v":""},{"$f":"IF('TxDOT Fresh Test Data'!J32=0,\"\",'TxDOT Fresh Test Data'!J32)","v":""},{"$f":"IF(OR(ISBLANK('Contractor Fresh Test Data'!J32),ISBLANK('TxDOT Fresh Test Data'!J32)),\"\",IF(ISERROR(ABS(D125-C125)),\"\",ABS(D125-C125)))","v":""},{"$f":"IF(E125=\"\",\"\",IF(E125<=1,\"Yes\",\"No\"))","v":""},{"$f":"IF(ISERROR(ABS((D125-C$134)/D125*100)),\"\",IF(ABS((D125-C$134)/D125*100)=0, \"0.00\", ABS((D125-C$134)/D125*100)))","v":""},{"$f":"IF(G125=\"\",\"\",IF(OR(G125<=10,ABS((D125-C$134)/D125*100)=0),\"Yes\",\"No\"))","v":""}]
[null,3,{"$f":"IF('Contractor Fresh Test Data'!J33=0,\"\",'Contractor Fresh Test Data'!J33)","v":""},{"$f":"IF('TxDOT Fresh Test Data'!J33=0,\"\",'TxDOT Fresh Test Data'!J33)","v":""},{"$f":"IF(OR(ISBLANK('Contractor Fresh Test Data'!J33),ISBLANK('TxDOT Fresh Test Data'!J33)),\"\",IF(ISERROR(ABS(D126-C126)),\"\",ABS(D126-C126)))","v":""},"",{"$f":"IF(ISERROR(ABS((D126-C$134)/D126*100)),\"\",IF(ABS((D126-C$134)/D126*100)=0, \"0.00\", ABS((D126-C$134)/D126*100)))","v":""},""]
[null,4,{"$f":"IF('Contractor Fresh Test Data'!J34=0,\"\",'Contractor Fresh Test Data'!J34)","v":""},{"$f":"IF('TxDOT Fresh Test Data'!J34=0,\"\",'TxDOT Fresh Test Data'!J34)","v":""},{"$f":"IF(OR(ISBLANK('Contractor Fresh Test Data'!J34),ISBLANK('TxDOT Fresh Test Data'!J34)),\"\",IF(ISERROR(ABS(D127-C127)),\"\",ABS(D127-C127)))","v":""},"","",""]
[null,5,{"$f":"IF('Contractor Fresh Test Data'!J35=0,\"\",'Contractor Fresh Test Data'!J35)","v":""},{"$f":"IF('TxDOT Fresh Test Data'!J35=0,\"\",'TxDOT Fresh Test Data'!J35)","v":""},{"$f":"IF(OR(ISBLANK('Contractor Fresh Test Data'!J35),ISBLANK('TxDOT Fresh Test Data'!J35)),\"\",IF(ISERROR(ABS(D128-C128)),\"\",ABS(D128-C128)))","v":""},"","",""]
[null,6,{"$f":"IF('Contractor Fresh Test Data'!J36=0,\"\",'Contractor Fresh Test Data'!J36)","v":""},{"$f":"IF('TxDOT Fresh Test Data'!J36=0,\"\",'TxDOT Fresh Test Data'!J36)","v":""},{"$f":"IF(OR(ISBLANK('Contractor Fresh Test Data'!J36),ISBLANK('TxDOT Fresh Test Data'!J36)),\"\",IF(ISERROR(ABS(D129-C129)),\"\",ABS(D129-C129)))","v":""},"","",""]
[null,7,{"$f":"IF('Contractor Fresh Test Data'!J37=0,\"\",'Contractor Fresh Test Data'!J37)","v":""},{"$f":"IF('TxDOT Fresh Test Data'!J37=0,\"\",'TxDOT Fresh Test Data'!J37)","v":""},{"$f":"IF(OR(ISBLANK('Contractor Fresh Test Data'!J37),ISBLANK('TxDOT Fresh Test Data'!J37)),\"\",IF(ISERROR(ABS(D130-C130)),\"\",ABS(D130-C130)))","v":""},"","",""]
[null,8,{"$f":"IF('Contractor Fresh Test Data'!J38=0,\"\",'Contractor Fresh Test Data'!J38)","v":""},{"$f":"IF('TxDOT Fresh Test Data'!J38=0,\"\",'TxDOT Fresh Test Data'!J38)","v":""},{"$f":"IF(OR(ISBLANK('Contractor Fresh Test Data'!J38),ISBLANK('TxDOT Fresh Test Data'!J38)),\"\",IF(ISERROR(ABS(D131-C131)),\"\",ABS(D131-C131)))","v":""},"","",""]
[null,9,{"$f":"IF('Contractor Fresh Test Data'!J39=0,\"\",'Contractor Fresh Test Data'!J39)","v":""},{"$f":"IF('TxDOT Fresh Test Data'!J39=0,\"\",'TxDOT Fresh Test Data'!J39)","v":""},{"$f":"IF(OR(ISBLANK('Contractor Fresh Test Data'!J39),ISBLANK('TxDOT Fresh Test Data'!J39)),\"\",IF(ISERROR(ABS(D132-C132)),\"\",ABS(D132-C132)))","v":""},"","",""]
[null,10,{"$f":"IF('Contractor Fresh Test Data'!J40=0,\"\",'Contractor Fresh Test Data'!J40)","v":""},{"$f":"IF('TxDOT Fresh Test Data'!J40=0,\"\",'TxDOT Fresh Test Data'!J40)","v":""},{"$f":"IF(OR(ISBLANK('Contractor Fresh Test Data'!J40),ISBLANK('TxDOT Fresh Test Data'!J40)),\"\",IF(ISERROR(ABS(D133-C133)),\"\",ABS(D133-C133)))","v":""},"","",""]
[null,"Avg.",{"$f":"IF(ISERROR(AVERAGE(C124:C133)),\"\",AVERAGE(C124:C133))","v":""}]
[null,null,"Remarks:",null,{"$f":"NOW()","v":"2023-04-12T15:16:19.890"}]
[]
[]
[]
[]
[]
[null,null,"Test Stamp Code:",null,null,null,"Omit Test:","Completed Date:","Reviewed By:"]
[]
[null,null,"Locked By:","TxDOT:","District:","Area:"]
[]
[null,null,"Authorized By:",null,null,null,"Authorized Date:"]
[]
[]
[]
[null,null,"Test Method:","Tested By:",null,null,"Tested Date:"]
[null,null,"TX414"]
[null,null,"TX415"]
[null,null,"TX416"]
[null,null,"TX418"]
[null,null,"TX422"]
[null,null,"TX448"]
[]
[null,null,"*Effective 10/21/13 see the individual spreadsheets to record testers."]

{"sheet":"Contractor Test Data","index":1,"n_rows":86,"n_cols":17,"rows_kept":86,"cut":false,"hidden":false,"merged":[[83,3,83,5],[85,3,85,5],[64,2,65,2],[66,2,67,2],[82,3,82,5],[78,2,79,2],[74,2,75,2],[74,3,75,3],[76,3,77,3],[78,3,79,3],[32,2,33,2],[34,2,35,2],[36,2,37,2],[38,2,39,2],[40,2,41,2],[42,2,43,2],[44,2,45,2],[76,2,77,2],[46,2,47,2],[48,2,49,2],[58,2,59,2],[68,2,69,2],[70,2,71,2],[72,2,73,2],[60,2,61,2],[62,2,63,2],[76,13,77,13],[78,13,79,13],[66,13,67,13],[68,13,69,13],[70,13,71,13],[72,13,73,13],[76,12,77,12],[74,13,75,13],[74,12,75,12],[70,12,71,12],[72,12,73,12],[27,14,29,14],[30,14,31,14],[32,14,33,14],[34,14,35,14],[36,14,37,14],[38,14,39,14],[40,14,41,14],[66,12,67,12],[68,12,69,12],[42,14,43,14],[44,14,45,14],[46,14,47,14],[48,14,49,14],[34,13,35,13],[76,1,77,1],[78,1,79,1],[40,3,41,3],[42,3,43,3],[68,1,69,1],[70,1,71,1],[27,3,29,3],[30,3,31,3],[32,3,33,3],[34,3,35,3],[36,3,37,3],[38,3,39,3],[72,1,73,1],[74,1,75,1],[60,1,61,1],[62,1,63,1],[64,1,65,1],[66,1,67,1],[62,3,63,3],[64,3,65,3],[66,3,67,3],[68,3,69,3],[70,3,71,3],[72,3,73,3],[42,1,43,1],[44,1,45,1],[46,1,47,1],[48,1,49,1],[66,4,67,4],[68,4,69,4],[46,3,47,3],[48,3,49,3],[58,3,59,3],[60,3,61,3],[64,4,65,4],[42,4,43,4],[44,4,45,4],[30,1,31,1],[32,1,33,1],[34,1,35,1],[36,1,37,1],[38,1,39,1],[40,1,41,1],[78,12,79,12],[78,4,79,4],[48,4,49,4],[46,4,47,4],[60,4,61,4],[62,4,63,4],[70,4,71,4],[72,4,73,4],[74,4,75,4],[76,4,77,4],[54,2,54,5],[52,2,52,13],[51,2,51,13],[42,13,43,13],[58,10,59,10],[58,11,59,11],[58,12,59,12],[58,6,59,6],[36,4,37,4],[38,4,39,4],[40,4,41,4],[34,4,35,4],[36,13,37,13],[64,12,65,12],[58,13,59,13],[60,13,61,13],[62,13,63,13],[64,13,65,13],[60,12,61,12],[62,12,63,12],[53,6,53,7],[53,8,53,9],[46,13,47,13],[48,13,49,13],[58,4,59,4],[55,2,55,5],[53,2,53,5],[58,7,59,7],[58,8,59,8],[58,9,59,9],[54,8,54,9],[58,5,59,5],[20,2,20,13],[19,2,19,13],[21,8,21,9],[30,13,31,13],[27,8,29,8],[27,11,29,11],[27,10,29,10],[27,13,29,13],[21,6,21,7],[27,9,29,9],[24,2,24,5],[21,2,21,5],[24,6,24,7],[30,2,31,2],[11,10,11,11],[13,10,13,11],[14,6,14,11],[15,10,15,11],[12,10,12,11],[7,10,7,11],[8,10,8,11],[9,10,9,11],[10,10,10,11],[15,6,15,7],[0,0,0,2],[11,6,11,7],[12,6,12,7],[13,6,13,7],[9,6,9,7],[10,6,10,7],[7,6,7,7],[8,6,8,7],[44,13,45,13],[32,13,33,13],[40,13,41,13],[38,13,39,13],[27,5,29,5],[30,4,31,4],[27,4,29,4],[44,3,45,3],[32,4,33,4],[27,2,29,2],[22,2,22,5],[22,8,22,9],[23,2,23,5],[28,6,29,6],[27,12,29,12],[27,7,29,7]]}
["TxDOT Manuals >",null,null,null,null,null,"Tex-418-A","Tex-448-A"]
[null,null,"TEXAS DEPARTMENT OF TRANSPORTATION"]
[]
[]
[null,null,"HYDRAULIC CEMENT CONCRETE REPORT FOR CONCRETE PAVEMENT"]
[null,null,"Contractor: Hardened Properties"]
[]
[null,null,null,null,null,"SAMPLE ID:",{"$f":"Summary!F8","v":0},null,null,"SAMPLED DATE:",{"$f":"Summary!J8","v":"00:00:00"}]
[null,null,null,null,null,"TEST NUMBER:",{"$f":"Summary!F9","v":0},null,null,"LETTING DATE:",{"$f":"Summary!J9","v":"00:00:00"}]
[null,null,null,null,null,"STATUS:",{"$f":"Summary!F10","v":0},null,null,"CONTROLLING CSJ:",{"$f":"Summary!J10","v":0}]
[null,null,null,null,null,"COUNTY:",{"$f":"Summary!F11","v":0},null,null,"SPEC YEAR:",{"$f":"Summary!J11","v":0}]
[null,null,null,null,null,"SAMPLED BY:",{"$f":"Summary!F12","v":0},null,null,"SPEC ITEM:",{"$f":"Summary!J12","v":0}]
[null,null,null,null,null,"SAMPLE LOCATION:",{"$f":"Summary!F13","v":""},null,null,"SPECIAL PROVISION:",{"$f":"Summary!J13","v":0}]
[null,null,null,null,null,"MATERIAL:",{"$f":"Summary!F14","v":0},null,null,"CLASS:",{"$f":"Summary!J14","v":0}]
[null,null,null,null,null,"PRODUCER:",{"$f":"Summary!$F$16","v":0}]
[null,null,null,null,null,"AREA ENGINEER:",{"$f":"Summary!$F$17","v":0},null,null,"PROJECT MANAGER:",{"$f":"Summary!$J$17","v":0}]
[]
[null,null,null,null,null,"COURSE\\LIFT:",{"$f":"Summary!$F$19","v":0},"STATION:",{"$f":"Summary!$H$19","v":0},null,"DIST. FROM CL:",{"$f":"Summary!$K$19","v":0}]
[]
[null,null,"COMPRESSIVE STRENGTH"]
[null,null,"Contractor:Tex-418-A"]
[null,null,"Source of Job Control Strength (psi): ",null,null,null,null,null,"Job Control Age (days): "]
[null,null,{"$f":"IF(K22=7,\"7-Day Job Control Strength (psi): \",CONCATENATE(K23,\"-Day Job Control Strength (psi): \"))","v":"-Day Job Control Strength (psi): "},null,null,null,{"$f":"IF(NOT($G$22=\"Spec. Book Value\"),\"\",3200)","v":""},null,"Job Control Age (days): "]
[null,null,{"$f":"IF(K22=7,\"7-Day Job Control Strength (psi): \",CONCATENATE(K23,\"-Day Job Control Strength (psi): \"))","v":"-Day Job Control Strength (psi): "},null,null,null,null,null,null,null,{"$f":"IF(K22=\"Other\",K23,7)","v":7}]
[null,null,"Grade of Aggregate (Nominal Size): ",null,null,null,null,null,{"$f":"IF(OR(G25=\"Gr. 1 (2-in)\",G25=\"Gr. 2 (1-1/2-in)\",G25=\"Gr. 3 (1-1/2-in)\"),\"Aggregate size requires use of 6x12 cylinder molds.\",\"\")","v":""}]
[]
[]
[null,null,"Date Cast","Station","Age (Days)","Cylinder Number",null,"Length of Cylinder (inches)","Length to Diameter Ratio","Max Load (lbs.)","Failure Type","Correction Factor","Compressive Strength (psi)","Compressive Strength (avg) (psi)","Meets Job Control Strength"]
[null,null,null,null,null,null,{"$f":"CircumDiameter1 & \" of Cylinder (inches)\"","v":" of Cylinder (inches)"}]
[]
[null,1,null,null,null,null,null,null,{"$f":"IF(ISERROR(IF(CircumDiameter1=\"circumference\",$H31/(SQRT($G31/PI())*2),($H31/$G31))),\"\",IF(CircumDiameter1=\"circumference\",$H31/(SQRT($G31/PI())*2),($H31/$G31)))","v":""},null,null,{"$f":"IF(I31=\"\",\"\",IF(I31<1,\"CHK SIZES\",IF(I31>1.8,1,VLOOKUP(I31,CorrectionFactors,2))))","v":""},{"$f":"IF(ISERROR(IF(SpecYear=\"1995\",'L to D Lookup'!$F34,'L to D Lookup'!$E34)),0,IF(SpecYear=\"1995\",'L to D Lookup'!$F34,'L to D Lookup'!$E34))","v":""},{"$f":"IF(ISERROR(IF(SpecYear=\"1995\",ROUND(AVERAGE(M31:M32),2),ROUND(AVERAGE(M31:M32),-1))),\"\",IF(SpecYear=\"1995\",ROUND(AVERAGE(M31:M32),2),ROUND(AVERAGE(M31:M32),-1)))","v":""},{"$f":"IF(NOT(E31=K24),\"\",IF(AND(E31=K24,$G$22=\"Spec. Book Value\",N31>=$G$23,NOT(ISBLANK(J31))),\"Yes\",IF(AND(E31=K24,$G$22=\"Other\",N31>=$G$24,NOT(ISBLANK(J31))),\"Yes\",\"No\")))","v":""},null,{"$f":"IF(AND(Field43>0,Field43<4.5),1,0)","v":0}]
[null,null,null,null,null,null,null,null,"",null,null,"",{"$f":"IF(ISERROR(IF(SpecYear=\"1995\",'L to D Lookup'!$F35,'L to D Lookup'!$E35)),0,IF(SpecYear=\"1995\",'L to D Lookup'!$F35,'L to D Lookup'!$E35))","v":""},null,null,null,{"$f":"IF(AND(Field48>0,Field48<4.5),1,0)","v":0}]
[null,2,null,null,null,null,null,null,"",null,null,"",{"$f":"IF(ISERROR(IF(SpecYear=\"1995\",'L to D Lookup'!$F36,'L to D Lookup'!$E36)),0,IF(SpecYear=\"1995\",'L to D Lookup'!$F36,'L to D Lookup'!$E36))","v":""},{"$f":"IF(ISERROR(IF(SpecYear=\"1995\",ROUND(AVERAGE(M33:M34),2),ROUND(AVERAGE(M33:M34),-1))),\"\",IF(SpecYear=\"1995\",ROUND(AVERAGE(M33:M34),2),ROUND(AVERAGE(M33:M34),-1)))","v":""},{"$f":"IF(NOT(E33=K24),\"\",IF(AND(E33=K24,$G$22=\"Spec. Book Value\",N33>=$G$23,NOT(ISBLANK(J33))),\"Yes\",IF(AND(E33=K24,$G$22=\"Other\",N33>=$G$24,NOT(ISBLANK(J33))),\"Yes\",\"No\")))","v":""},null,{"$f":"IF(AND(Field55>0,Field55<4.5),1,0)","v":0}]
[null,null,null,null,null,null,null,null,"",null,null,"",{"$f":"IF(ISERROR(IF(SpecYear=\"1995\",'L to D Lookup'!$F37,'L to D Lookup'!$E37)),0,IF(SpecYear=\"1995\",'L to D Lookup'!$F37,'L to D Lookup'!$E37))","v":""},null,null,null,{"$f":"IF(AND(Field60>0,Field60<4.5),1,0)","v":0}]
[null,3,null,null,null,null,null,null,"",null,null,"",{"$f":"IF(ISERROR(IF(SpecYear=\"1995\",'L to D Lookup'!$F38,'L to D Lookup'!$E38)),0,IF(SpecYear=\"1995\",'L to D Lookup'!$F38,'L to D Lookup'!$E38))","v":""},{"$f":"IF(ISERROR(IF(SpecYear=\"1995\",ROUND(AVERAGE(M35:M36),2),ROUND(AVERAGE(M35:M36),-1))),\"\",IF(SpecYear=\"1995\",ROUND(AVERAGE(M35:M36),2),ROUND(AVERAGE(M35:M36),-1)))","v":""},{"$f":"IF(NOT(E35=K24),\"\",IF(AND(E35=K24,$G$22=\"Spec. Book Value\",N35>=$G$23,NOT(ISBLANK(J35))),\"Yes\",IF(AND(E35=K24,$G$22=\"Other\",N35>=$G$24,NOT(ISBLANK(J35))),\"Yes\",\"No\")))","v":""},null,{"$f":"IF(AND(Field67>0,Field67<4.5),1,0)","v":0}]
[null,null,null,null,null,null,null,null,"",null,null,"",{"$f":"IF(ISERROR(IF(SpecYear=\"1995\",'L to D Lookup'!$F39,'L to D Lookup'!$E39)),0,IF(SpecYear=\"1995\",'L to D Lookup'!$F39,'L to D Lookup'!$E39))","v":""},null,null,null,{"$f":"IF(AND(Field72>0,Field72<4.5),1,0)","v":0}]
[null,4,null,null,null,null,null,null,"",null,null,"",{"$f":"IF(ISERROR(IF(SpecYear=\"1995\",'L to D Lookup'!$F40,'L to D Lookup'!$E40)),0,IF(SpecYear=\"1995\",'L to D Lookup'!$F40,'L to D Lookup'!$E40))","v":""},{"$f":"IF(ISERROR(IF(SpecYear=\"1995\",ROUND(AVERAGE(M37:M38),2),ROUND(AVERAGE(M37:M38),-1))),\"\",IF(SpecYear=\"1995\",ROUND(AVERAGE(M37:M38),2),ROUND(AVERAGE(M37:M38),-1)))","v":""},{"$f":"IF(NOT(E37=K24),\"\",IF(AND(E37=K24,$G$22=\"Spec. Book Value\",N37>=$G$23,NOT(ISBLANK(J37))),\"Yes\",IF(AND(E37=K24,$G$22=\"Other\",N37>=$G$24,NOT(ISBLANK(J37))),\"Yes\",\"No\")))","v":""},null,{"$f":"IF(AND(Field79>0,Field79<4.5),1,0)","v":0}]
[null,null,null,null,null,null,null,null,"",null,null,"",{"$f":"IF(ISERROR(IF(SpecYear=\"1995\",'L to D Lookup'!$F41,'L to D Lookup'!$E41)),0,IF(SpecYear=\"1995\",'L to D Lookup'!$F41,'L to D Lookup'!$E41))","v":""},null,null,null,{"$f":"IF(AND(Field84>0,Field84<4.5),1,0)","v":0}]
[null,5,null,null,null,null,null,null,"",null,null,"",{"$f":"IF(ISERROR(IF(SpecYear=\"1995\",'L to D Lookup'!$F42,'L to D Lookup'!$E42)),0,IF(SpecYear=\"1995\",'L to D Lookup'!$F42,'L to D Lookup'!$E42))","v":""},{"$f":"IF(ISERROR(IF(SpecYear=\"1995\",ROUND(AVERAGE(M39:M40),2),ROUND(AVERAGE(M39:M40),-1))),\"\",IF(SpecYear=\"1995\",ROUND(AVERAGE(M39:M40),2),ROUND(AVERAGE(M39:M40),-1)))","v":""},{"$f":"IF(NOT(E39=K24),\"\",IF(AND(E39=K24,$G$22=\"Spec. Book Value\",N39>=$G$23,NOT(ISBLANK(J39))),\"Yes\",IF(AND(E39=K24,$G$22=\"Other\",N39>=$G$24,NOT(ISBLANK(J39))),\"Yes\",\"No\")))","v":""},null,{"$f":"IF(AND(Field91>0,Field91<4.5),1,0)","v":0}]
[null,null,null,null,null,null,null,null,"",null,null,"",{"$f":"IF(ISERROR(IF(SpecYear=\"1995\",'L to D Lookup'!$F43,'L to D Lookup'!$E43)),0,IF(SpecYear=\"1995\",'L to D Lookup'!$F43,'L to D Lookup'!$E43))","v":""},null,null,null,{"$f":"IF(AND(Field96>0,Field96<4.5),1,0)","v":0}]
[null,6,null,null,null,null,null,null,"",null,null,"",{"$f":"IF(ISERROR(IF(SpecYear=\"1995\",'L to D Lookup'!$F44,'L to D Lookup'!$E44)),0,IF(SpecYear=\"1995\",'L to D Lookup'!$F44,'L to D Lookup'!$E44))","v":""},{"$f":"IF(ISERROR(IF(SpecYear=\"1995\",ROUND(AVERAGE(M41:M42),2),ROUND(AVERAGE(M41:M42),-1))),\"\",IF(SpecYear=\"1995\",ROUND(AVERAGE(M41:M42),2),ROUND(AVERAGE(M41:M42),-1)))","v":""},{"$f":"IF(NOT(E41=K24),\"\",IF(AND(E41=K24,$G$22=\"Spec. Book Value\",N41>=$G$23,NOT(ISBLANK(J41))),\"Yes\",IF(AND(E41=K24,$G$22=\"Other\",N41>=$G$24,NOT(ISBLANK(J41))),\"Yes\",\"No\")))","v":""},null,{"$f":"IF(AND(Field103>0,Field103<4.5),1,0)","v":0}]
[null,null,null,null,null,null,null,null,"",null,null,"",{"$f":"IF(ISERROR(IF(SpecYear=\"1995\",'L to D Lookup'!$F45,'L to D Lookup'!$E45)),0,IF(SpecYear=\"1995\",'L to D Lookup'!$F45,'L to D Lookup'!$E45))","v":""},null,null,null,{"$f":"IF(AND(Field108>0,Field108<4.5),1,0)","v":0}]
[null,7,null,null,null,null,null,null,"",null,null,"",{"$f":"IF(ISERROR(IF(SpecYear=\"1995\",'L to D Lookup'!$F46,'L to D Lookup'!$E46)),0,IF(SpecYear=\"1995\",'L to D Lookup'!$F46,'L to D Lookup'!$E46))","v":""},{"$f":"IF(ISERROR(IF(SpecYear=\"1995\",ROUND(AVERAGE(M43:M44),2),ROUND(AVERAGE(M43:M44),-1))),\"\",IF(SpecYear=\"1995\",ROUND(AVERAGE(M43:M44),2),ROUND(AVERAGE(M43:M44),-1)))","v":""},{"$f":"IF(NOT(E43=K24),\"\",IF(AND(E43=K24,$G$22=\"Spec. Book Value\",N43>=$G$23,NOT(ISBLANK(J43))),\"Yes\",IF(AND(E43=K24,$G$22=\"Other\",N43>=$G$24,NOT(ISBLANK(J43))),\"Yes\",\"No\")))","v":""},null,{"$f":"IF(AND(Field115>0,Field115<4.5),1,0)","v":0}]
[null,null,null,null,null,null,null,null,"",null,null,"",{"$f":"IF(ISERROR(IF(SpecYear=\"1995\",'L to D Lookup'!$F47,'L to D Lookup'!$E47)),0,IF(SpecYear=\"1995\",'L to D Lookup'!$F47,'L to D Lookup'!$E47))","v":""},null,null,null,{"$f":"IF(AND(Field120>0,Field120<4.5),1,0)","v":0}]
[null,8,null,null,null,null,null,null,"",null,null,"",{"$f":"IF(ISERROR(IF(SpecYear=\"1995\",'L to D Lookup'!$F48,'L to D Lookup'!$E48)),0,IF(SpecYear=\"1995\",'L to D Lookup'!$F48,'L to D Lookup'!$E48))","v":""},{"$f":"IF(ISERROR(IF(SpecYear=\"1995\",ROUND(AVERAGE(M45:M46),2),ROUND(AVERAGE(M45:M46),-1))),\"\",IF(SpecYear=\"1995\",ROUND(AVERAGE(M45:M46),2),ROUND(AVERAGE(M45:M46),-1)))","v":""},{"$f":"IF(NOT(E45=K24),\"\",IF(AND(E45=K24,$G$22=\"Spec. Book Value\",N45>=$G$23,NOT(ISBLANK(J45))),\"Yes\",IF(AND(E45=K24,$G$22=\"Other\",N45>=$G$24,NOT(ISBLANK(J45))),\"Yes\",\"No\")))","v":""},null,{"$f":"IF(AND(Field127>0,Field127<4.5),1,0)","v":0}]
[null,null,null,null,null,null,null,null,"",null,null,"",{"$f":"IF(ISERROR(IF(SpecYear=\"1995\",'L to D Lookup'!$F49,'L to D Lookup'!$E49)),0,IF(SpecYear=\"1995\",'L to D Lookup'!$F49,'L to D Lookup'!$E49))","v":""},null,null,null,{"$f":"IF(AND(Field132>0,Field132<4.5),1,0)","v":0}]
[null,9,null,null,null,null,null,null,"",null,null,"",{"$f":"IF(ISERROR(IF(SpecYear=\"1995\",'L to D Lookup'!$F50,'L to D Lookup'!$E50)),0,IF(SpecYear=\"1995\",'L to D Lookup'!$F50,'L to D Lookup'!$E50))","v":""},{"$f":"IF(ISERROR(IF(SpecYear=\"1995\",ROUND(AVERAGE(M47:M48),2),ROUND(AVERAGE(M47:M48),-1))),\"\",IF(SpecYear=\"1995\",ROUND(AVERAGE(M47:M48),2),ROUND(AVERAGE(M47:M48),-1)))","v":""},{"$f":"IF(NOT(E47=K24),\"\",IF(AND(E47=K24,$G$22=\"Spec. Book Value\",N47>=$G$23,NOT(ISBLANK(J47))),\"Yes\",IF(AND(E47=K24,$G$22=\"Other\",N47>=$G$24,NOT(ISBLANK(J47))),\"Yes\",\"No\")))","v":""},null,{"$f":"IF(AND(Field139>0,Field139<4.5),1,0)","v":0}]
[null,null,null,null,null,null,null,null,"",null,null,"",{"$f":"IF(ISERROR(IF(SpecYear=\"1995\",'L to D Lookup'!$F51,'L to D Lookup'!$E51)),0,IF(SpecYear=\"1995\",'L to D Lookup'!$F51,'L to D Lookup'!$E51))","v":""},null,null,null,{"$f":"IF(AND(Field144>0,Field144<4.5),1,0)","v":0}]
[null,10,null,null,null,null,null,null,{"$f":"IF(ISERROR(IF(CircumDiameter1=\"circumference\",$H49/(SQRT($G49/PI())*2),($H49/$G49))),\"\",IF(CircumDiameter1=\"circumference\",$H49/(SQRT($G49/PI())*2),($H49/$G49)))","v":""},null,null,{"$f":"IF(I49=\"\",\"\",IF(I49<1,\"CHK SIZES\",IF(I49>1.8,1,VLOOKUP(I49,CorrectionFactors,2))))","v":""},{"$f":"IF(ISERROR(IF(SpecYear=\"1995\",'L to D Lookup'!$F52,'L to D Lookup'!$E52)),0,IF(SpecYear=\"1995\",'L to D Lookup'!$F52,'L to D Lookup'!$E52))","v":""},{"$f":"IF(ISERROR(IF(SpecYear=\"1995\",ROUND(AVERAGE(M49:M50),2),ROUND(AVERAGE(M49:M50),-1))),\"\",IF(SpecYear=\"1995\",ROUND(AVERAGE(M49:M50),2),ROUND(AVERAGE(M49:M50),-1)))","v":""},{"$f":"IF(NOT(E49=K24),\"\",IF(AND(E49=K24,$G$22=\"Spec. Book Value\",N49>=$G$23,NOT(ISBLANK(J49))),\"Yes\",IF(AND(E49=K24,$G$22=\"Other\",N49>=$G$24,NOT(ISBLANK(J49))),\"Yes\",\"No\")))","v":""},null,{"$f":"IF(AND(Field151>0,Field151<4.5),1,0)","v":0}]
[null,null,null,null,null,null,null,null,{"$f":"IF(ISERROR(IF(CircumDiameter1=\"circumference\",$H50/(SQRT($G50/PI())*2),($H50/$G50))),\"\",IF(CircumDiameter1=\"circumference\",$H50/(SQRT($G50/PI())*2),($H50/$G50)))","v":""},null,null,{"$f":"IF(I50=\"\",\"\",IF(I50<1,\"CHK SIZES\",IF(I50>1.8,1,VLOOKUP(I50,CorrectionFactors,2))))","v":""},{"$f":"IF(ISERROR(IF(SpecYear=\"1995\",'L to D Lookup'!$F53,'L to D Lookup'!$E53)),0,IF(SpecYear=\"1995\",'L to D Lookup'!$F53,'L to D Lookup'!$E53))","v":""},null,null,null,{"$f":"IF(AND(Field156>0,Field156<4.5),1,0)","v":0}]
[null,null,{"$f":"IF(AND(OR(G25=\"Gr. 1 (2-in)\",G25=\"Gr. 2 (1-1/2-in)\",G25=\"Gr. 3 (1-1/2-in)\"),Q51>0),\"Verify size of cylinder is appropriate for grade of aggregate.\",\"\")","v":""},null,null,null,null,null,null,null,null,null,null,null,null,null,{"$f":"SUM(Q31:Q50)","v":0}]
[null,null,"FLEXURAL STRENGTH"]
[null,null,"Contractor:Tex-448-A"]
[null,null,"Source of Job Control Strength (psi): ",null,null,null,null,null,"Job Control Age (days): "]
[null,null,{"$f":"IF(K54=7,\"7-Day Job Control Strength (psi): \",CONCATENATE(K55,\"-Day Job Control Strength (psi): \"))","v":"-Day Job Control Strength (psi): "},null,null,null,{"$f":"IF(NOT($G$54=\"Spec. Book Value\"),\"\",520)","v":""},null,"Job Control Age (days): "]
[null,null,{"$f":"IF(K54=7,\"7-Day Job Control Strength (psi): \",CONCATENATE(K55,\"-Day Job Control Strength (psi): \"))","v":"-Day Job Control Strength (psi): "},null,null,null,null,null,null,null,{"$f":"IF(K54=\"Other\",K55,7)","v":7}]
[]
[]
[null,null,"Date Cast","Station","Age (Days)","Beam Number","Width of Beam (inches)","Depth of Beam  (inches)","Span Length  (inches)","Max Recording (Lbs.)","*Failure Location (inches)","Modulus of Rupture (psi)","Modulus of Rupture (avg) (psi)","Meets Job Control Strength"]
[]
[null,1,null,null,null,null,null,null,{"$f":"IF(OR(H61=0,SpecYear=\"\"),\"\",IF(SpecYear=\"1995\",457,18))","v":""},null,null,{"$f":"IF(SpecYear=\"1995\",'L to D Lookup'!$F4,'L to D Lookup'!$E4)","v":""},{"$f":"IF(ISERROR(IF(SpecYear=\"1995\",ROUND(AVERAGE(L61:L62)*2,-2)/2,ROUND(AVERAGE(L61:L62)*2,-1)/2)),\"\",IF(SpecYear=\"1995\",ROUND(AVERAGE(L61:L62)*2,-2)/2,ROUND(AVERAGE(L61:L62)*2,-1)/2))","v":""},{"$f":"IF(NOT(E61=$K$56),\"\",IF(AND(E61=$K$56,$G$22=\"Spec. Book Value\",M61>=$G$55,NOT(ISBLANK(J61))),\"Yes\",IF(AND(E61=$K$56,$G$54=\"Other\",M61>=$G$56,NOT(ISBLANK(J61))),\"Yes\",\"No\")))","v":""}]
[null,null,null,null,null,null,null,null,"",null,null,{"$f":"IF(SpecYear=\"1995\",'L to D Lookup'!$F5,'L to D Lookup'!$E5)","v":""}]
[null,2,null,null,null,null,null,null,"",null,null,{"$f":"IF(SpecYear=\"1995\",'L to D Lookup'!$F6,'L to D Lookup'!$E6)","v":""},{"$f":"IF(ISERROR(IF(SpecYear=\"1995\",ROUND(AVERAGE(L63:L64)*2,-2)/2,ROUND(AVERAGE(L63:L64)*2,-1)/2)),\"\",IF(SpecYear=\"1995\",ROUND(AVERAGE(L63:L64)*2,-2)/2,ROUND(AVERAGE(L63:L64)*2,-1)/2))","v":""},{"$f":"IF(NOT(E63=$K$56),\"\",IF(AND(E63=$K$56,$G$22=\"Spec. Book Value\",M63>=$G$55,NOT(ISBLANK(J63))),\"Yes\",IF(AND(E63=$K$56,$G$54=\"Other\",M63>=$G$56,NOT(ISBLANK(J63))),\"Yes\",\"No\")))","v":""}]
[null,null,null,null,null,null,null,null,"",null,null,{"$f":"IF(SpecYear=\"1995\",'L to D Lookup'!$F7,'L to D Lookup'!$E7)","v":""}]
[null,3,null,null,null,null,null,null,"",null,null,{"$f":"IF(SpecYear=\"1995\",'L to D Lookup'!$F8,'L to D Lookup'!$E8)","v":""},{"$f":"IF(ISERROR(IF(SpecYear=\"1995\",ROUND(AVERAGE(L65:L66)*2,-2)/2,ROUND(AVERAGE(L65:L66)*2,-1)/2)),\"\",IF(SpecYear=\"1995\",ROUND(AVERAGE(L65:L66)*2,-2)/2,ROUND(AVERAGE(L65:L66)*2,-1)/2))","v":""},{"$f":"IF(NOT(E65=$K$56),\"\",IF(AND(E65=$K$56,$G$22=\"Spec. Book Value\",M65>=$G$55,NOT(ISBLANK(J65))),\"Yes\",IF(AND(E65=$K$56,$G$54=\"Other\",M65>=$G$56,NOT(ISBLANK(J65))),\"Yes\",\"No\")))","v":""}]
[null,null,null,null,null,null,null,null,"",null,null,{"$f":"IF(SpecYear=\"1995\",'L to D Lookup'!$F9,'L to D Lookup'!$E9)","v":""}]
[null,4,null,null,null,null,null,null,"",null,null,{"$f":"IF(SpecYear=\"1995\",'L to D Lookup'!$F10,'L to D Lookup'!$E10)","v":""},{"$f":"IF(ISERROR(IF(SpecYear=\"1995\",ROUND(AVERAGE(L67:L68)*2,-2)/2,ROUND(AVERAGE(L67:L68)*2,-1)/2)),\"\",IF(SpecYear=\"1995\",ROUND(AVERAGE(L67:L68)*2,-2)/2,ROUND(AVERAGE(L67:L68)*2,-1)/2))","v":""},{"$f":"IF(NOT(E67=$K$56),\"\",IF(AND(E67=$K$56,$G$22=\"Spec. Book Value\",M67>=$G$55,NOT(ISBLANK(J67))),\"Yes\",IF(AND(E67=$K$56,$G$54=\"Other\",M67>=$G$56,NOT(ISBLANK(J67))),\"Yes\",\"No\")))","v":""}]
[null,null,null,null,null,null,null,null,"",null,null,{"$f":"IF(SpecYear=\"1995\",'L to D Lookup'!$F11,'L to D Lookup'!$E11)","v":""}]
[null,5,null,null,null,null,null,null,"",null,null,{"$f":"IF(SpecYear=\"1995\",'L to D Lookup'!$F12,'L to D Lookup'!$E12)","v":""},{"$f":"IF(ISERROR(IF(SpecYear=\"1995\",ROUND(AVERAGE(L69:L70)*2,-2)/2,ROUND(AVERAGE(L69:L70)*2,-1)/2)),\"\",IF(SpecYear=\"1995\",ROUND(AVERAGE(L69:L70)*2,-2)/2,ROUND(AVERAGE(L69:L70)*2,-1)/2))","v":""},{"$f":"IF(NOT(E69=$K$56),\"\",IF(AND(E69=$K$56,$G$22=\"Spec. Book Value\",M69>=$G$55,NOT(ISBLANK(J69))),\"Yes\",IF(AND(E69=$K$56,$G$54=\"Other\",M69>=$G$56,NOT(ISBLANK(J69))),\"Yes\",\"No\")))","v":""}]
[null,null,null,null,null,null,null,null,"",null,null,{"$f":"IF(SpecYear=\"1995\",'L to D Lookup'!$F13,'L to D Lookup'!$E13)","v":""}]
[null,6,null,null,null,null,null,null,"",null,null,{"$f":"IF(SpecYear=\"1995\",'L to D Lookup'!$F14,'L to D Lookup'!$E14)","v":""},{"$f":"IF(ISERROR(IF(SpecYear=\"1995\",ROUND(AVERAGE(L71:L72)*2,-2)/2,ROUND(AVERAGE(L71:L72)*2,-1)/2)),\"\",IF(SpecYear=\"1995\",ROUND(AVERAGE(L71:L72)*2,-2)/2,ROUND(AVERAGE(L71:L72)*2,-1)/2))","v":""},{"$f":"IF(NOT(E71=$K$56),\"\",IF(AND(E71=$K$56,$G$22=\"Spec. Book Value\",M71>=$G$55,NOT(ISBLANK(J71))),\"Yes\",IF(AND(E71=$K$56,$G$54=\"Other\",M71>=$G$56,NOT(ISBLANK(J71))),\"Yes\",\"No\")))","v":""}]
[null,null,null,null,null,null,null,null,"",null,null,{"$f":"IF(SpecYear=\"1995\",'L to D Lookup'!$F15,'L to D Lookup'!$E15)","v":""}]
[null,7,null,null,null,null,null,null,"",null,null,{"$f":"IF(SpecYear=\"1995\",'L to D Lookup'!$F16,'L to D Lookup'!$E16)","v":""},{"$f":"IF(ISERROR(IF(SpecYear=\"1995\",ROUND(AVERAGE(L73:L74)*2,-2)/2,ROUND(AVERAGE(L73:L74)*2,-1)/2)),\"\",IF(SpecYear=\"1995\",ROUND(AVERAGE(L73:L74)*2,-2)/2,ROUND(AVERAGE(L73:L74)*2,-1)/2))","v":""},{"$f":"IF(NOT(E73=$K$56),\"\",IF(AND(E73=$K$56,$G$22=\"Spec. Book Value\",M73>=$G$55,NOT(ISBLANK(J73))),\"Yes\",IF(AND(E73=$K$56,$G$54=\"Other\",M73>=$G$56,NOT(ISBLANK(J73))),\"Yes\",\"No\")))","v":""}]
[null,null,null,null,null,null,null,null,"",null,null,{"$f":"IF(SpecYear=\"1995\",'L to D Lookup'!$F17,'L to D Lookup'!$E17)","v":""}]
[null,8,null,null,null,null,null,null,"",null,null,{"$f":"IF(SpecYear=\"1995\",'L to D Lookup'!$F18,'L to D Lookup'!$E18)","v":""},{"$f":"IF(ISERROR(IF(SpecYear=\"1995\",ROUND(AVERAGE(L75:L76)*2,-2)/2,ROUND(AVERAGE(L75:L76)*2,-1)/2)),\"\",IF(SpecYear=\"1995\",ROUND(AVERAGE(L75:L76)*2,-2)/2,ROUND(AVERAGE(L75:L76)*2,-1)/2))","v":""},{"$f":"IF(NOT(E75=$K$56),\"\",IF(AND(E75=$K$56,$G$22=\"Spec. Book Value\",M75>=$G$55,NOT(ISBLANK(J75))),\"Yes\",IF(AND(E75=$K$56,$G$54=\"Other\",M75>=$G$56,NOT(ISBLANK(J75))),\"Yes\",\"No\")))","v":""}]
[null,null,null,null,null,null,null,null,"",null,null,{"$f":"IF(SpecYear=\"1995\",'L to D Lookup'!$F19,'L to D Lookup'!$E19)","v":""}]
[null,9,null,null,null,null,null,null,"",null,null,{"$f":"IF(SpecYear=\"1995\",'L to D Lookup'!$F20,'L to D Lookup'!$E20)","v":""},{"$f":"IF(ISERROR(IF(SpecYear=\"1995\",ROUND(AVERAGE(L77:L78)*2,-2)/2,ROUND(AVERAGE(L77:L78)*2,-1)/2)),\"\",IF(SpecYear=\"1995\",ROUND(AVERAGE(L77:L78)*2,-2)/2,ROUND(AVERAGE(L77:L78)*2,-1)/2))","v":""},{"$f":"IF(NOT(E77=$K$56),\"\",IF(AND(E77=$K$56,$G$22=\"Spec. Book Value\",M77>=$G$55,NOT(ISBLANK(J77))),\"Yes\",IF(AND(E77=$K$56,$G$54=\"Other\",M77>=$G$56,NOT(ISBLANK(J77))),\"Yes\",\"No\")))","v":""}]
[null,null,null,null,null,null,null,null,"",null,null,{"$f":"IF(SpecYear=\"1995\",'L to D Lookup'!$F21,'L to D Lookup'!$E21)","v":""}]
[null,10,null,null,null,null,null,null,{"$f":"IF(OR(H79=0,SpecYear=\"\"),\"\",IF(SpecYear=\"1995\",457,18))","v":""},null,null,{"$f":"IF(SpecYear=\"1995\",'L to D Lookup'!$F22,'L to D Lookup'!$E22)","v":""},{"$f":"IF(ISERROR(IF(SpecYear=\"1995\",ROUND(AVERAGE(L79:L80)*2,-2)/2,ROUND(AVERAGE(L79:L80)*2,-1)/2)),\"\",IF(SpecYear=\"1995\",ROUND(AVERAGE(L79:L80)*2,-2)/2,ROUND(AVERAGE(L79:L80)*2,-1)/2))","v":""},{"$f":"IF(NOT(E79=$K$56),\"\",IF(AND(E79=$K$56,$G$22=\"Spec. Book Value\",M79>=$G$55,NOT(ISBLANK(J79))),\"Yes\",IF(AND(E79=$K$56,$G$54=\"Other\",M79>=$G$56,NOT(ISBLANK(J79))),\"Yes\",\"No\")))","v":""}]
[null,null,null,null,null,null,null,null,{"$f":"IF(OR(H80=0,SpecYear=\"\"),\"\",IF(SpecYear=\"1995\",457,18))","v":""},null,null,{"$f":"IF(SpecYear=\"1995\",'L to D Lookup'!$F23,'L to D Lookup'!$E23)","v":""}]
["* When outside the middle 1/3, distance from the line of the fracture to the nearest support measured along the bottom of the beam."]
[]
[null,null,"Test Method:","Tested By:",null,null,"Tested Date:"]
[null,null,"TX418"]
[]
[null,null,"TX448"]

{"sheet":"Contractor Fresh Test Data","index":2,"n_rows":50,"n_cols":15,"rows_kept":50,"cut":false,"hidden":false,"merged":[[45,3,45,5],[47,3,47,5],[49,3,49,5],[27,8,27,9],[28,9,29,9],[26,3,29,3],[26,5,29,5],[28,6,29,6],[43,3,43,5],[23,2,23,3],[26,2,28,2],[26,4,28,4],[28,8,29,8],[42,3,42,5],[28,7,29,7],[26,6,26,9],[22,2,22,4],[12,5,12,6],[13,5,13,6],[0,0,0,2],[11,5,11,6],[9,5,9,6],[10,5,10,6],[7,5,7,6],[8,5,8,6],[7,9,7,10],[8,9,8,10],[9,9,9,10],[10,9,10,10],[26,10,29,10],[20,2,20,10],[19,2,19,10],[11,9,11,10],[13,9,13,10],[14,5,14,10],[15,9,15,10],[12,9,12,10],[15,5,15,6],[21,2,21,3],[21,5,21,8],[22,6,22,8]]}
["TxDOT Manuals >",null,null,null,"Tex-414-A","Tex-415-A","Tex-416-A","Tex-422-A"]
[null,null,"TEXAS DEPARTMENT OF TRANSPORTATION"]
[]
[]
[null,null,"HYDRAULIC CEMENT CONCRETE REPORT FOR CONCRETE PAVEMENT"]
[null,null,"Contractor: Fresh Properties"]
[]
[null,null,null,null,"SAMPLE ID:",{"$f":"Summary!F8","v":0},null,null,"SAMPLED DATE:",{"$f":"Summary!J8","v":"00:00:00"}]
[null,null,null,null,"TEST NUMBER:",{"$f":"Summary!F9","v":0},null,null,"LETTING DATE:",{"$f":"Summary!J9","v":"00:00:00"}]
[null,null,null,null,"STATUS:",{"$f":"Summary!F10","v":0},null,null,"CONTROLLING CSJ:",{"$f":"Summary!J10","v":0}]
[null,null,null,null,"COUNTY:",{"$f":"Summary!F11","v":0},null,null,"SPEC YEAR:",{"$f":"Summary!J11","v":0}]
[null,null,null,null,"SAMPLED BY:",{"$f":"Summary!F12","v":0},null,null,"SPEC ITEM:",{"$f":"Summary!J12","v":0}]
[null,null,null,null,"SAMPLE LOCATION:",{"$f":"Summary!F13","v":""},null,null,"SPECIAL PROVISION:",{"$f":"Summary!J13","v":0}]
[null,null,null,null,"MATERIAL:",{"$f":"Summary!F14","v":0},null,null,"CLASS:",{"$f":"Summary!J14","v":0}]
[null,null,null,null,"PRODUCER:",{"$f":"Summary!$F$16","v":0}]
[null,null,null,null,"AREA ENGINEER:",{"$f":"Summary!$F$17","v":0},null,null,"PROJECT MANAGER:",{"$f":"Summary!$J$17","v":0}]
[]
[null,null,null,null,"COURSE\\LIFT:",{"$f":"Summary!$F$19","v":0},"STATION:",{"$f":"Summary!$H$19","v":0},null,"DIST. FROM CL:",{"$f":"Summary!$K$19","v":0}]
[]
[null,null,"FRESH PROPERTIES"]
[null,null,"Contractor:Fresh"]
[null,null,"Method of Placement: ",null,null,"Maximum Acceptable Placement Slump (inches): ",null,null,null,{"$f":"IF(ISBLANK(E22),\"\",IF(E22=\"Formed\",6.5,3))","v":""}]
[null,null,"Minimum Concrete Temperature (°F): ",null,null,40,"Maximum Concrete Temperature (°F): ",null,null,95]
[null,null,"Target Air Content (%): "]
[]
[]
[null,null,"Slump (inches)","Meets Job Control Requirements","Temperature (°F)","Meets Job Control Requirements","Air Content",null,null,null,"Meets Job Control Requirements"]
[null,null,null,null,null,null,"by:","Test Method:"]
[null,null,null,null,null,null,{"$f":"IF(AirMethodC=\"Tex-414-A\",\"Final Meter Reading (%)\",\"Uncorrected Air Content (%)\")","v":"Uncorrected Air Content (%)"},{"$f":"IF(AirMethodC=\"Tex-414-A\",\"*Calibrated Cups of Water (cups)\",\"Aggr. Correction Factor (%)\")","v":"Aggr. Correction Factor (%)"},{"$f":"IF(AirMethodC=\"Tex-414-A\",\"Amount of Isopropyl Alcohol (pints)\",\"\")","v":""},{"$f":"IF(AirMethodC=\"Tex-414-A\",\"Air Content (%)\",\"Corrected Air Content (%)\")","v":"Corrected Air Content (%)"}]
[null,null,"Tex-415-A",null,"Tex-422-A"]
[null,1,null,{"$f":"IF(ISBLANK(C31),\"\",IF(ISBLANK($E$22),\"Missing Input\",IF(OR(C31<$J$22,C31=$J$22),\"Yes\",\"No\")))","v":""},null,{"$f":"IF(ISBLANK(E31),\"\",IF(AND(OR(E31<$J$23,E31=$J$23),OR(E31>$F$23,E31=$F$23)),\"Yes\",\"No\"))","v":""},null,null,null,{"$f":"IF(AND(G31=\"\",H31=\"\",I31=\"\"),\"\",IF(ISERROR(IF(AirMethodC=\"Tex-414-A\",ROUND(((G31+H31-VLOOKUP(ROUND(I31,0),ctable,4))/25),2)*25,ROUND(G31-H31,1))),\"\",IF(AirMethodC=\"Tex-414-A\",ROUND(((G31+H31-VLOOKUP(ROUND(I31,0),ctable,4))/25),2)*25,ROUND(G31-H31,1))))","v":""},{"$f":"IF(J31=\"\",\"\",IF(AND(OR(J31>$N$31,J31=$N$31),OR(J31<$N$32,J31=$N$32)),\"Yes\",IF(AND(OR(J31>$N$31,J31=$N$31),OR(J31<$N$33,J31=$N$33)),\"Conditional**\",\"No\")))","v":""},null,null,{"$f":"IF(E24=\"\",\"\",IF(E24=\"Other\",F24-1.5,E24-1.5))","v":""},"Minimum Air Content Tolerance"]
[null,2,null,{"$f":"IF(ISBLANK(C32),\"\",IF(ISBLANK($E$22),\"Missing Input\",IF(OR(C32<$J$22,C32=$J$22),\"Yes\",\"No\")))","v":""},null,{"$f":"IF(ISBLANK(E32),\"\",IF(AND(OR(E32<$J$23,E32=$J$23),OR(E32>$F$23,E32=$F$23)),\"Yes\",\"No\"))","v":""},null,null,null,"",{"$f":"IF(J32=\"\",\"\",IF(AND(OR(J32>$N$31,J32=$N$31),OR(J32<$N$32,J32=$N$32)),\"Yes\",IF(AND(OR(J32>$N$31,J32=$N$31),OR(J32<$N$33,J32=$N$33)),\"Conditional**\",\"No\")))","v":""},null,null,{"$f":"IF(E24=\"\",\"\",IF(E24=\"Other\",F24+1.5,E24+1.5))","v":""},"Maximum Air Content Tolerance"]
[null,3,null,"",null,"",null,null,null,"","",null,null,{"$f":"IF(E24=\"\",\"\",IF(E24=\"Other\",F24+3,E24+3))","v":""},"Maximum Air Content Tolerance with Special Circumstances"]
[null,4,null,"",null,"",null,null,null,"",""]
[null,5,null,"",null,"",null,null,null,"",""]
[null,6,null,"",null,"",null,null,null,"",""]
[null,7,null,"",null,"",null,null,null,"",""]
[null,8,null,"",null,"",null,null,null,"",""]
[null,9,null,"",null,"",null,null,null,"",""]
[null,10,null,"",null,"",null,null,null,"",""]
[null,null,{"$f":"IF(AirMethodC=\"Tex-414-A\",\"* Only necessary if the air content is greater than the 9% range of the meter.\",\"\")","v":""}]
[null,null,"** May be accepted based on strength tests."]
[null,null,"Test Method:","Tested By:",null,null,"Tested Date:"]
[null,null,"TX414"]
[]
[null,null,"TX415"]
[]
[null,null,"TX416"]
[]
[null,null,"TX422"]

{"sheet":"TxDOT Test Data","index":3,"n_rows":88,"n_cols":17,"rows_kept":88,"cut":false,"hidden":false,"merged":[[76,3,77,3],[46,2,47,2],[84,3,84,5],[85,3,85,5],[87,3,87,5],[76,2,77,2],[78,2,79,2],[68,2,69,2],[70,2,71,2],[72,2,73,2],[74,2,75,2],[46,3,47,3],[48,3,49,3],[58,3,59,3],[60,3,61,3],[62,3,63,3],[74,3,75,3],[82,3,82,5],[83,3,83,5],[30,3,31,3],[38,2,39,2],[40,2,41,2],[42,2,43,2],[44,2,45,2],[30,2,31,2],[32,2,33,2],[24,6,24,7],[42,4,43,4],[44,4,45,4],[40,4,41,4],[36,4,37,4],[38,4,39,4],[34,4,35,4],[28,6,29,6],[34,3,35,3],[36,3,37,3],[38,3,39,3],[40,3,41,3],[42,3,43,3],[32,3,33,3],[15,6,15,7],[21,2,21,5],[27,5,29,5],[32,4,33,4],[30,4,31,4],[27,4,29,4],[24,2,24,5],[27,2,29,2],[14,6,14,11],[15,10,15,11],[21,6,21,7],[19,2,19,13],[27,7,29,7],[30,13,31,13],[27,3,29,3],[20,2,20,13],[21,8,21,9],[22,2,22,5],[22,8,22,9],[23,2,23,5],[27,8,29,8],[27,11,29,11],[27,10,29,10],[27,12,29,12],[0,0,0,2],[11,6,11,7],[12,6,12,7],[13,6,13,7],[9,6,9,7],[10,6,10,7],[7,10,7,11],[8,10,8,11],[9,10,9,11],[10,10,10,11],[11,10,11,11],[13,10,13,11],[7,6,7,7],[8,6,8,7],[12,10,12,11],[78,12,79,12],[78,4,79,4],[48,4,49,4],[46,4,47,4],[60,4,61,4],[62,4,63,4],[70,4,71,4],[72,4,73,4],[74,4,75,4],[68,12,69,12],[76,12,77,12],[68,4,69,4],[53,8,53,9],[58,12,59,12],[58,8,59,8],[58,9,59,9],[74,12,75,12],[54,8,54,9],[58,10,59,10],[58,11,59,11],[66,12,67,12],[53,6,53,7],[58,7,59,7],[76,1,77,1],[78,1,79,1],[78,3,79,3],[70,1,71,1],[72,1,73,1],[30,1,31,1],[32,1,33,1],[34,1,35,1],[36,1,37,1],[66,3,67,3],[68,3,69,3],[70,3,71,3],[72,3,73,3],[62,2,63,2],[64,2,65,2],[66,2,67,2],[38,1,39,1],[40,1,41,1],[42,1,43,1],[44,1,45,1],[48,2,49,2],[54,2,54,5],[66,4,67,4],[58,5,59,5],[48,1,49,1],[58,2,59,2],[60,2,61,2],[60,1,61,1],[62,1,63,1],[64,1,65,1],[66,1,67,1],[68,1,69,1],[53,2,53,5],[64,4,65,4],[55,2,55,5],[58,4,59,4],[46,1,47,1],[74,1,75,1],[76,4,77,4],[64,3,65,3],[27,14,29,14],[30,14,31,14],[32,14,33,14],[34,14,35,14],[36,14,37,14],[38,14,39,14],[40,14,41,14],[42,14,43,14],[44,14,45,14],[46,14,47,14],[48,14,49,14],[42,13,43,13],[34,13,35,13],[36,13,37,13],[38,13,39,13],[32,13,33,13],[34,2,35,2],[44,13,45,13],[27,9,29,9],[27,13,29,13],[40,13,41,13],[48,13,49,13],[44,3,45,3],[36,2,37,2],[78,13,79,13],[66,13,67,13],[68,13,69,13],[70,13,71,13],[72,13,73,13],[62,13,63,13],[64,13,65,13],[46,13,47,13],[74,13,75,13],[76,13,77,13],[58,13,59,13],[60,13,61,13],[52,2,52,13],[51,2,51,13],[70,12,71,12],[72,12,73,12],[60,12,61,12],[62,12,63,12],[64,12,65,12],[58,6,59,6]]}
["TxDOT Manuals >",null,null,null,null,null,"Tex-418-A","Tex-448-A"]
[null,null,"TEXAS DEPARTMENT OF TRANSPORTATION"]
[]
[]
[null,null,"HYDRAULIC CEMENT CONCRETE REPORT FOR CONCRETE PAVEMENT"]
[null,null,"TxDOT: Hardened Properties"]
[]
[null,null,null,null,null,"SAMPLE ID:",{"$f":"Summary!F8","v":0},null,null,"SAMPLED DATE:",{"$f":"Summary!J8","v":"00:00:00"}]
[null,null,null,null,null,"TEST NUMBER:",{"$f":"Summary!F9","v":0},null,null,"LETTING DATE:",{"$f":"Summary!J9","v":"00:00:00"}]
[null,null,null,null,null,"STATUS:",{"$f":"Summary!F10","v":0},null,null,"CONTROLLING CSJ:",{"$f":"Summary!J10","v":0}]
[null,null,null,null,null,"COUNTY:",{"$f":"Summary!F11","v":0},null,null,"SPEC YEAR:",{"$f":"Summary!J11","v":0}]
[null,null,null,null,null,"SAMPLED BY:",{"$f":"Summary!F12","v":0},null,null,"SPEC ITEM:",{"$f":"Summary!J12","v":0}]
[null,null,null,null,null,"SAMPLE LOCATION:",{"$f":"Summary!F13","v":""},null,null,"SPECIAL PROVISION:",{"$f":"Summary!J13","v":0}]
[null,null,null,null,null,"MATERIAL:",{"$f":"Summary!F14","v":0},null,null,"CLASS:",{"$f":"Summary!J14","v":0}]
[null,null,null,null,null,"PRODUCER:",{"$f":"Summary!$F$16","v":0}]
[null,null,null,null,null,"AREA ENGINEER:",{"$f":"Summary!$F$17","v":0},null,null,"PROJECT MANAGER:",{"$f":"Summary!$J$17","v":0}]
[]
[null,null,null,null,null,"COURSE\\LIFT:",{"$f":"Summary!$F$19","v":0},"STATION:",{"$f":"Summary!$H$19","v":0},null,"DIST. FROM CL:",{"$f":"Summary!$K$19","v":0}]
[]
[null,null,"COMPRESSIVE STRENGTH"]
[null,null,"TXDOT:Tex-418-A"]
[null,null,"Source of Job Control Strength (psi): ",null,null,null,null,null,"Job Control Age (days): "]
[null,null,{"$f":"IF(K22=7,\"7-Day Job Control Strength (psi): \",CONCATENATE(K23,\"-Day Job Control Strength (psi): \"))","v":"-Day Job Control Strength (psi): "},null,null,null,{"$f":"IF(NOT($G$22=\"Spec. Book Value\"),\"\",3200)","v":""},null,"Job Control Age (days): "]
[null,null,{"$f":"IF(K22=7,\"7-Day Job Control Strength (psi): \",CONCATENATE(K23,\"-Day Job Control Strength (psi): \"))","v":"-Day Job Control Strength (psi): "},null,null,null,null,null,null,null,{"$f":"IF(K22=\"Other\",K23,7)","v":7}]
[null,null,"Grade of Aggregate (Nominal Size): ",null,null,null,null,null,{"$f":"IF(OR(G25=\"Gr. 1 (2-in)\",G25=\"Gr. 2 (1-1/2-in)\",G25=\"Gr. 3 (1-1/2-in)\"),\"Aggregate size requires use of 6x12 cylinder molds.\",\"\")","v":""}]
[]
[]
[null,null,"Cast Date","Station","Age (Days)","Cylinder Number",null,"Length of Cylinder (inches)","Length to Diameter Ratio","Max Load (lbs.)","Failure Type","Correction Factor","Compressive Strength (psi)","Compressive Strength (avg) (psi)","Meets Job Control Strength"]
[null,null,null,null,null,null,{"$f":"CircumDiameter2 & \" of Cylinder (inches)\"","v":" of Cylinder (inches)"}]
[]
[null,1,null,null,null,null,null,null,{"$f":"IF(ISERROR(IF(CircumDiameter2=\"circumference\",$H31/(SQRT($G31/PI())*2),($H31/$G31))),\"\",IF(CircumDiameter2=\"circumference\",$H31/(SQRT($G31/PI())*2),($H31/$G31)))","v":""},null,null,{"$f":"IF(I31=\"\",\"\",IF(I31<1,\"CHK SIZES\",IF(I31>1.8,1,VLOOKUP(I31,CorrectionFactors,2))))","v":""},{"$f":"IF(ISERROR(IF(SpecYear=\"1995\",'L to D Lookup'!$H34,'L to D Lookup'!$G34)),0,IF(SpecYear=\"1995\",'L to D Lookup'!$H34,'L to D Lookup'!$G34))","v":""},{"$f":"IF(ISERROR(IF(SpecYear=\"1995\",ROUND(AVERAGE(M31:M32),2),ROUND(AVERAGE(M31:M32),-1))),\"\",IF(SpecYear=\"1995\",ROUND(AVERAGE(M31:M32),2),ROUND(AVERAGE(M31:M32),-1)))","v":""},{"$f":"IF(NOT(E31=K24),\"\",IF(AND(E31=K24,$G$22=\"Spec. Book Value\",N31>=$G$23,NOT(ISBLANK(J31))),\"Yes\",IF(AND(E31=K24,$G$22=\"Other\",N31>=$G$24,NOT(ISBLANK(J31))),\"Yes\",\"No\")))","v":""},null,{"$f":"IF(AND(Field288>0,Field288<4.5),1,0)","v":0}]
[null,null,null,null,null,null,null,null,"",null,null,"",{"$f":"IF(ISERROR(IF(SpecYear=\"1995\",'L to D Lookup'!$H35,'L to D Lookup'!$G35)),0,IF(SpecYear=\"1995\",'L to D Lookup'!$H35,'L to D Lookup'!$G35))","v":""},null,null,null,{"$f":"IF(AND(Field293>0,Field293<4.5),1,0)","v":0}]
[null,2,null,null,null,null,null,null,"",null,null,"",{"$f":"IF(ISERROR(IF(SpecYear=\"1995\",'L to D Lookup'!$H36,'L to D Lookup'!$G36)),0,IF(SpecYear=\"1995\",'L to D Lookup'!$H36,'L to D Lookup'!$G36))","v":""},{"$f":"IF(ISERROR(IF(SpecYear=\"1995\",ROUND(AVERAGE(M33:M34),2),ROUND(AVERAGE(M33:M34),-1))),\"\",IF(SpecYear=\"1995\",ROUND(AVERAGE(M33:M34),2),ROUND(AVERAGE(M33:M34),-1)))","v":""},{"$f":"IF(NOT(E33=K24),\"\",IF(AND(E33=K24,$G$22=\"Spec. Book Value\",N33>=$G$23,NOT(ISBLANK(J33))),\"Yes\",IF(AND(E33=K24,$G$22=\"Other\",N33>=$G$24,NOT(ISBLANK(J33))),\"Yes\",\"No\")))","v":""},null,{"$f":"IF(AND(Field300>0,Field300<4.5),1,0)","v":0}]
[null,null,null,null,null,null,null,null,"",null,null,"",{"$f":"IF(ISERROR(IF(SpecYear=\"1995\",'L to D Lookup'!$H37,'L to D Lookup'!$G37)),0,IF(SpecYear=\"1995\",'L to D Lookup'!$H37,'L to D Lookup'!$G37))","v":""},null,null,null,{"$f":"IF(AND(Field305>0,Field305<4.5),1,0)","v":0}]
[null,3,null,null,null,null,null,null,"",null,null,"",{"$f":"IF(ISERROR(IF(SpecYear=\"1995\",'L to D Lookup'!$H38,'L to D Lookup'!$G38)),0,IF(SpecYear=\"1995\",'L to D Lookup'!$H38,'L to D Lookup'!$G38))","v":""},{"$f":"IF(ISERROR(IF(SpecYear=\"1995\",ROUND(AVERAGE(M35:M36),2),ROUND(AVERAGE(M35:M36),-1))),\"\",IF(SpecYear=\"1995\",ROUND(AVERAGE(M35:M36),2),ROUND(AVERAGE(M35:M36),-1)))","v":""},{"$f":"IF(NOT(E35=K24),\"\",IF(AND(E35=K24,$G$22=\"Spec. Book Value\",N35>=$G$23,NOT(ISBLANK(J35))),\"Yes\",IF(AND(E35=K24,$G$22=\"Other\",N35>=$G$24,NOT(ISBLANK(J35))),\"Yes\",\"No\")))","v":""},null,{"$f":"IF(AND(Field312>0,Field312<4.5),1,0)","v":0}]
[null,null,null,null,null,null,null,null,"",null,null,"",{"$f":"IF(ISERROR(IF(SpecYear=\"1995\",'L to D Lookup'!$H39,'L to D Lookup'!$G39)),0,IF(SpecYear=\"1995\",'L to D Lookup'!$H39,'L to D Lookup'!$G39))","v":""},null,null,null,{"$f":"IF(AND(Field317>0,Field317<4.5),1,0)","v":0}]
[null,4,null,null,null,null,null,null,"",null,null,"",{"$f":"IF(ISERROR(IF(SpecYear=\"1995\",'L to D Lookup'!$H40,'L to D Lookup'!$G40)),0,IF(SpecYear=\"1995\",'L to D Lookup'!$H40,'L to D Lookup'!$G40))","v":""},{"$f":"IF(ISERROR(IF(SpecYear=\"1995\",ROUND(AVERAGE(M37:M38),2),ROUND(AVERAGE(M37:M38),-1))),\"\",IF(SpecYear=\"1995\",ROUND(AVERAGE(M37:M38),2),ROUND(AVERAGE(M37:M38),-1)))","v":""},{"$f":"IF(NOT(E37=K24),\"\",IF(AND(E37=K24,$G$22=\"Spec. Book Value\",N37>=$G$23,NOT(ISBLANK(J37))),\"Yes\",IF(AND(E37=K24,$G$22=\"Other\",N37>=$G$24,NOT(ISBLANK(J37))),\"Yes\",\"No\")))","v":""},null,{"$f":"IF(AND(Field324>0,Field324<4.5),1,0)","v":0}]
[null,null,null,null,null,null,null,null,"",null,null,"",{"$f":"IF(ISERROR(IF(SpecYear=\"1995\",'L to D Lookup'!$H41,'L to D Lookup'!$G41)),0,IF(SpecYear=\"1995\",'L to D Lookup'!$H41,'L to D Lookup'!$G41))","v":""},null,null,null,{"$f":"IF(AND(Field329>0,Field329<4.5),1,0)","v":0}]
[null,5,null,null,null,null,null,null,"",null,null,"",{"$f":"IF(ISERROR(IF(SpecYear=\"1995\",'L to D Lookup'!$H42,'L to D Lookup'!$G42)),0,IF(SpecYear=\"1995\",'L to D Lookup'!$H42,'L to D Lookup'!$G42))","v":""},{"$f":"IF(ISERROR(IF(SpecYear=\"1995\",ROUND(AVERAGE(M39:M40),2),ROUND(AVERAGE(M39:M40),-1))),\"\",IF(SpecYear=\"1995\",ROUND(AVERAGE(M39:M40),2),ROUND(AVERAGE(M39:M40),-1)))","v":""},{"$f":"IF(NOT(E39=K24),\"\",IF(AND(E39=K24,$G$22=\"Spec. Book Value\",N39>=$G$23,NOT(ISBLANK(J39))),\"Yes\",IF(AND(E39=K24,$G$22=\"Other\",N39>=$G$24,NOT(ISBLANK(J39))),\"Yes\",\"No\")))","v":""},null,{"$f":"IF(AND(Field336>0,Field336<4.5),1,0)","v":0}]
[null,null,null,null,null,null,null,null,"",null,null,"",{"$f":"IF(ISERROR(IF(SpecYear=\"1995\",'L to D Lookup'!$H43,'L to D Lookup'!$G43)),0,IF(SpecYear=\"1995\",'L to D Lookup'!$H43,'L to D Lookup'!$G43))","v":""},null,null,null,{"$f":"IF(AND(Field341>0,Field341<4.5),1,0)","v":0}]
[null,6,null,null,null,null,null,null,"",null,null,"",{"$f":"IF(ISERROR(IF(SpecYear=\"1995\",'L to D Lookup'!$H44,'L to D Lookup'!$G44)),0,IF(SpecYear=\"1995\",'L to D Lookup'!$H44,'L to D Lookup'!$G44))","v":""},{"$f":"IF(ISERROR(IF(SpecYear=\"1995\",ROUND(AVERAGE(M41:M42),2),ROUND(AVERAGE(M41:M42),-1))),\"\",IF(SpecYear=\"1995\",ROUND(AVERAGE(M41:M42),2),ROUND(AVERAGE(M41:M42),-1)))","v":""},{"$f":"IF(NOT(E41=K24),\"\",IF(AND(E41=K24,$G$22=\"Spec. Book Value\",N41>=$G$23,NOT(ISBLANK(J41))),\"Yes\",IF(AND(E41=K24,$G$22=\"Other\",N41>=$G$24,NOT(ISBLANK(J41))),\"Yes\",\"No\")))","v":""},null,{"$f":"IF(AND(Field348>0,Field348<4.5),1,0)","v":0}]
[null,null,null,null,null,null,null,null,"",null,null,"",{"$f":"IF(ISERROR(IF(SpecYear=\"1995\",'L to D Lookup'!$H45,'L to D Lookup'!$G45)),0,IF(SpecYear=\"1995\",'L to D Lookup'!$H45,'L to D Lookup'!$G45))","v":""},null,null,null,{"$f":"IF(AND(Field353>0,Field353<4.5),1,0)","v":0}]
[null,7,null,null,null,null,null,null,"",null,null,"",{"$f":"IF(ISERROR(IF(SpecYear=\"1995\",'L to D Lookup'!$H46,'L to D Lookup'!$G46)),0,IF(SpecYear=\"1995\",'L to D Lookup'!$H46,'L to D Lookup'!$G46))","v":""},{"$f":"IF(ISERROR(IF(SpecYear=\"1995\",ROUND(AVERAGE(M43:M44),2),ROUND(AVERAGE(M43:M44),-1))),\"\",IF(SpecYear=\"1995\",ROUND(AVERAGE(M43:M44),2),ROUND(AVERAGE(M43:M44),-1)))","v":""},{"$f":"IF(NOT(E43=K24),\"\",IF(AND(E43=K24,$G$22=\"Spec. Book Value\",N43>=$G$23,NOT(ISBLANK(J43))),\"Yes\",IF(AND(E43=K24,$G$22=\"Other\",N43>=$G$24,NOT(ISBLANK(J43))),\"Yes\",\"No\")))","v":""},null,{"$f":"IF(AND(Field360>0,Field360<4.5),1,0)","v":0}]
[null,null,null,null,null,null,null,null,"",null,null,"",{"$f":"IF(ISERROR(IF(SpecYear=\"1995\",'L to D Lookup'!$H47,'L to D Lookup'!$G47)),0,IF(SpecYear=\"1995\",'L to D Lookup'!$H47,'L to D Lookup'!$G47))","v":""},null,null,null,{"$f":"IF(AND(Field365>0,Field365<4.5),1,0)","v":0}]
[null,8,null,null,null,null,null,null,"",null,null,"",{"$f":"IF(ISERROR(IF(SpecYear=\"1995\",'L to D Lookup'!$H48,'L to D Lookup'!$G48)),0,IF(SpecYear=\"1995\",'L to D Lookup'!$H48,'L to D Lookup'!$G48))","v":""},{"$f":"IF(ISERROR(IF(SpecYear=\"1995\",ROUND(AVERAGE(M45:M46),2),ROUND(AVERAGE(M45:M46),-1))),\"\",IF(SpecYear=\"1995\",ROUND(AVERAGE(M45:M46),2),ROUND(AVERAGE(M45:M46),-1)))","v":""},{"$f":"IF(NOT(E45=K24),\"\",IF(AND(E45=K24,$G$22=\"Spec. Book Value\",N45>=$G$23,NOT(ISBLANK(J45))),\"Yes\",IF(AND(E45=K24,$G$22=\"Other\",N45>=$G$24,NOT(ISBLANK(J45))),\"Yes\",\"No\")))","v":""},null,{"$f":"IF(AND(Field372>0,Field372<4.5),1,0)","v":0}]
[null,null,null,null,null,null,null,null,"",null,null,"",{"$f":"IF(ISERROR(IF(SpecYear=\"1995\",'L to D Lookup'!$H49,'L to D Lookup'!$G49)),0,IF(SpecYear=\"1995\",'L to D Lookup'!$H49,'L to D Lookup'!$G49))","v":""},null,null,null,{"$f":"IF(AND(Field377>0,Field377<4.5),1,0)","v":0}]
[null,9,null,null,null,null,null,null,"",null,null,"",{"$f":"IF(ISERROR(IF(SpecYear=\"1995\",'L to D Lookup'!$H50,'L to D Lookup'!$G50)),0,IF(SpecYear=\"1995\",'L to D Lookup'!$H50,'L to D Lookup'!$G50))","v":""},{"$f":"IF(ISERROR(IF(SpecYear=\"1995\",ROUND(AVERAGE(M47:M48),2),ROUND(AVERAGE(M47:M48),-1))),\"\",IF(SpecYear=\"1995\",ROUND(AVERAGE(M47:M48),2),ROUND(AVERAGE(M47:M48),-1)))","v":""},{"$f":"IF(NOT(E47=K24),\"\",IF(AND(E47=K24,$G$22=\"Spec. Book Value\",N47>=$G$23,NOT(ISBLANK(J47))),\"Yes\",IF(AND(E47=K24,$G$22=\"Other\",N47>=$G$24,NOT(ISBLANK(J47))),\"Yes\",\"No\")))","v":""},null,{"$f":"IF(AND(Field384>0,Field384<4.5),1,0)","v":0}]
[null,null,null,null,null,null,null,null,"",null,null,"",{"$f":"IF(ISERROR(IF(SpecYear=\"1995\",'L to D Lookup'!$H51,'L to D Lookup'!$G51)),0,IF(SpecYear=\"1995\",'L to D Lookup'!$H51,'L to D Lookup'!$G51))","v":""},null,null,null,{"$f":"IF(AND(Field389>0,Field389<4.5),1,0)","v":0}]
[null,10,null,null,null,null,null,null,"",null,null,{"$f":"IF(I49=\"\",\"\",IF(I49<1,\"CHK SIZES\",IF(I49>1.8,1,VLOOKUP(I49,CorrectionFactors,2))))","v":""},{"$f":"IF(ISERROR(IF(SpecYear=\"1995\",'L to D Lookup'!$H52,'L to D Lookup'!$G52)),0,IF(SpecYear=\"1995\",'L to D Lookup'!$H52,'L to D Lookup'!$G52))","v":""},{"$f":"IF(ISERROR(IF(SpecYear=\"1995\",ROUND(AVERAGE(M49:M50),2),ROUND(AVERAGE(M49:M50),-1))),\"\",IF(SpecYear=\"1995\",ROUND(AVERAGE(M49:M50),2),ROUND(AVERAGE(M49:M50),-1)))","v":""},{"$f":"IF(NOT(E49=K24),\"\",IF(AND(E49=K24,$G$22=\"Spec. Book Value\",N49>=$G$23,NOT(ISBLANK(J49))),\"Yes\",IF(AND(E49=K24,$G$22=\"Other\",N49>=$G$24,NOT(ISBLANK(J49))),\"Yes\",\"No\")))","v":""},null,{"$f":"IF(AND(Field396>0,Field396<4.5),1,0)","v":0}]
[null,null,null,null,null,null,null,null,"",null,null,{"$f":"IF(I50=\"\",\"\",IF(I50<1,\"CHK SIZES\",IF(I50>1.8,1,VLOOKUP(I50,CorrectionFactors,2))))","v":""},{"$f":"IF(ISERROR(IF(SpecYear=\"1995\",'L to D Lookup'!$H53,'L to D Lookup'!$G53)),0,IF(SpecYear=\"1995\",'L to D Lookup'!$H53,'L to D Lookup'!$G53))","v":""},null,null,null,{"$f":"IF(AND(Field401>0,Field401<4.5),1,0)","v":0}]
[null,null,{"$f":"IF(AND(OR(G25=\"Gr. 1 (2-in)\",G25=\"Gr. 2 (1-1/2-in)\",G25=\"Gr. 3 (1-1/2-in)\"),Q51>0),\"Verify size of cylinder is appropriate for grade of aggregate.\",\"\")","v":""},null,null,null,null,null,null,null,null,null,null,null,null,null,{"$f":"SUM(Q31:Q50)","v":0}]
[null,null,"FLEXURAL STRENGTH"]
[null,null,"TXDOT:Tex-448-A"]
[null,null,"Source of Job Control Strength (psi): ",null,null,null,null,null,"Job Control Age (days): "]
[null,null,{"$f":"IF(K54=7,\"7-Day Job Control Strength (psi): \",CONCATENATE(K55,\"-Day Job Control Strength (psi): \"))","v":"-Day Job Control Strength (psi): "},null,null,null,{"$f":"IF(NOT($G$54=\"Spec. Book Value\"),\"\",520)","v":""},null,"Job Control Age (days): "]
[null,null,{"$f":"IF(K54=7,\"7-Day Job Control Strength (psi): \",CONCATENATE(K55,\"-Day Job Control Strength (psi): \"))","v":"-Day Job Control Strength (psi): "},null,null,null,null,null,null,null,{"$f":"IF(K54=\"Other\",K55,7)","v":7}]
[]
[]
[null,null,"Cast Date","Station","Age (Days)","Beam Number","Width of Beam (inches)","Depth of Beam  (inches)","Span Length  (inches)","Max Recording (Lbs.)","*Failure Location (inches)","Modulus of Rupture (psi)","Modulus of Rupture (avg) (psi)","Meets Job Control Strength"]
[]
[null,1,null,null,null,null,null,null,{"$f":"IF(OR(H61=0,SpecYear=\"\"),\"\",IF(SpecYear=\"1995\",457,18))","v":""},null,null,{"$f":"IF(SpecYear=\"1995\",'L to D Lookup'!$H4,'L to D Lookup'!$G4)","v":""},{"$f":"IF(ISERROR(IF(SpecYear=\"1995\",ROUND(AVERAGE(L61:L62)*2,-2)/2,ROUND(AVERAGE(L61:L62)*2,-1)/2)),\"\",IF(SpecYear=\"1995\",ROUND(AVERAGE(L61:L62)*2,-2)/2,ROUND(AVERAGE(L61:L62)*2,-1)/2))","v":""},{"$f":"IF(NOT(E61=$K$56),\"\",IF(AND(E61=$K$56,$G$22=\"Spec. Book Value\",M61>=$G$55,NOT(ISBLANK(J61))),\"Yes\",IF(AND(E61=$K$56,$G$54=\"Other\",M61>=$G$56,NOT(ISBLANK(J61))),\"Yes\",\"No\")))","v":""}]
[null,null,null,null,null,null,null,null,"",null,null,{"$f":"IF(SpecYear=\"1995\",'L to D Lookup'!$H5,'L to D Lookup'!$G5)","v":""}]
[null,2,null,null,null,null,null,null,"",null,null,{"$f":"IF(SpecYear=\"1995\",'L to D Lookup'!$H6,'L to D Lookup'!$G6)","v":""},{"$f":"IF(ISERROR(IF(SpecYear=\"1995\",ROUND(AVERAGE(L63:L64)*2,-2)/2,ROUND(AVERAGE(L63:L64)*2,-1)/2)),\"\",IF(SpecYear=\"1995\",ROUND(AVERAGE(L63:L64)*2,-2)/2,ROUND(AVERAGE(L63:L64)*2,-1)/2))","v":""},{"$f":"IF(NOT(E63=$K$56),\"\",IF(AND(E63=$K$56,$G$22=\"Spec. Book Value\",M63>=$G$55,NOT(ISBLANK(J63))),\"Yes\",IF(AND(E63=$K$56,$G$54=\"Other\",M63>=$G$56,NOT(ISBLANK(J63))),\"Yes\",\"No\")))","v":""}]
[null,null,null,null,null,null,null,null,"",null,null,{"$f":"IF(SpecYear=\"1995\",'L to D Lookup'!$H7,'L to D Lookup'!$G7)","v":""}]
[null,3,null,null,null,null,null,null,"",null,null,{"$f":"IF(SpecYear=\"1995\",'L to D Lookup'!$H8,'L to D Lookup'!$G8)","v":""},{"$f":"IF(ISERROR(IF(SpecYear=\"1995\",ROUND(AVERAGE(L65:L66)*2,-2)/2,ROUND(AVERAGE(L65:L66)*2,-1)/2)),\"\",IF(SpecYear=\"1995\",ROUND(AVERAGE(L65:L66)*2,-2)/2,ROUND(AVERAGE(L65:L66)*2,-1)/2))","v":""},{"$f":"IF(NOT(E65=$K$56),\"\",IF(AND(E65=$K$56,$G$22=\"Spec. Book Value\",M65>=$G$55,NOT(ISBLANK(J65))),\"Yes\",IF(AND(E65=$K$56,$G$54=\"Other\",M65>=$G$56,NOT(ISBLANK(J65))),\"Yes\",\"No\")))","v":""}]
[null,null,null,null,null,null,null,null,"",null,null,{"$f":"IF(SpecYear=\"1995\",'L to D Lookup'!$H9,'L to D Lookup'!$G9)","v":""}]
[null,4,null,null,null,null,null,null,"",null,null,{"$f":"IF(SpecYear=\"1995\",'L to D Lookup'!$H10,'L to D Lookup'!$G10)","v":""},{"$f":"IF(ISERROR(IF(SpecYear=\"1995\",ROUND(AVERAGE(L67:L68)*2,-2)/2,ROUND(AVERAGE(L67:L68)*2,-1)/2)),\"\",IF(SpecYear=\"1995\",ROUND(AVERAGE(L67:L68)*2,-2)/2,ROUND(AVERAGE(L67:L68)*2,-1)/2))","v":""},{"$f":"IF(NOT(E67=$K$56),\"\",IF(AND(E67=$K$56,$G$22=\"Spec. Book Value\",M67>=$G$55,NOT(ISBLANK(J67))),\"Yes\",IF(AND(E67=$K$56,$G$54=\"Other\",M67>=$G$56,NOT(ISBLANK(J67))),\"Yes\",\"No\")))","v":""}]
[null,null,null,null,null,null,null,null,"",null,null,{"$f":"IF(SpecYear=\"1995\",'L to D Lookup'!$H11,'L to D Lookup'!$G11)","v":""}]
[null,5,null,null,null,null,null,null,"",null,null,{"$f":"IF(SpecYear=\"1995\",'L to D Lookup'!$H12,'L to D Lookup'!$G12)","v":""},{"$f":"IF(ISERROR(IF(SpecYear=\"1995\",ROUND(AVERAGE(L69:L70)*2,-2)/2,ROUND(AVERAGE(L69:L70)*2,-1)/2)),\"\",IF(SpecYear=\"1995\",ROUND(AVERAGE(L69:L70)*2,-2)/2,ROUND(AVERAGE(L69:L70)*2,-1)/2))","v":""},{"$f":"IF(NOT(E69=$K$56),\"\",IF(AND(E69=$K$56,$G$22=\"Spec. Book Value\",M69>=$G$55,NOT(ISBLANK(J69))),\"Yes\",IF(AND(E69=$K$56,$G$54=\"Other\",M69>=$G$56,NOT(ISBLANK(J69))),\"Yes\",\"No\")))","v":""}]
[null,null,null,null,null,null,null,null,"",null,null,{"$f":"IF(SpecYear=\"1995\",'L to D Lookup'!$H13,'L to D Lookup'!$G13)","v":""}]
[null,6,null,null,null,null,null,null,"",null,null,{"$f":"IF(SpecYear=\"1995\",'L to D Lookup'!$H14,'L to D Lookup'!$G14)","v":""},{"$f":"IF(ISERROR(IF(SpecYear=\"1995\",ROUND(AVERAGE(L71:L72)*2,-2)/2,ROUND(AVERAGE(L71:L72)*2,-1)/2)),\"\",IF(SpecYear=\"1995\",ROUND(AVERAGE(L71:L72)*2,-2)/2,ROUND(AVERAGE(L71:L72)*2,-1)/2))","v":""},{"$f":"IF(NOT(E71=$K$56),\"\",IF(AND(E71=$K$56,$G$22=\"Spec. Book Value\",M71>=$G$55,NOT(ISBLANK(J71))),\"Yes\",IF(AND(E71=$K$56,$G$54=\"Other\",M71>=$G$56,NOT(ISBLANK(J71))),\"Yes\",\"No\")))","v":""}]
[null,null,null,null,null,null,null,null,"",null,null,{"$f":"IF(SpecYear=\"1995\",'L to D Lookup'!$H15,'L to D Lookup'!$G15)","v":""}]
[null,7,null,null,null,null,null,null,"",null,null,{"$f":"IF(SpecYear=\"1995\",'L to D Lookup'!$H16,'L to D Lookup'!$G16)","v":""},{"$f":"IF(ISERROR(IF(SpecYear=\"1995\",ROUND(AVERAGE(L73:L74)*2,-2)/2,ROUND(AVERAGE(L73:L74)*2,-1)/2)),\"\",IF(SpecYear=\"1995\",ROUND(AVERAGE(L73:L74)*2,-2)/2,ROUND(AVERAGE(L73:L74)*2,-1)/2))","v":""},{"$f":"IF(NOT(E73=$K$56),\"\",IF(AND(E73=$K$56,$G$22=\"Spec. Book Value\",M73>=$G$55,NOT(ISBLANK(J73))),\"Yes\",IF(AND(E73=$K$56,$G$54=\"Other\",M73>=$G$56,NOT(ISBLANK(J73))),\"Yes\",\"No\")))","v":""}]
[null,null,null,null,null,null,null,null,"",null,null,{"$f":"IF(SpecYear=\"1995\",'L to D Lookup'!$H17,'L to D Lookup'!$G17)","v":""}]
[null,8,null,null,null,null,null,null,"",null,null,{"$f":"IF(SpecYear=\"1995\",'L to D Lookup'!$H18,'L to D Lookup'!$G18)","v":""},{"$f":"IF(ISERROR(IF(SpecYear=\"1995\",ROUND(AVERAGE(L75:L76)*2,-2)/2,ROUND(AVERAGE(L75:L76)*2,-1)/2)),\"\",IF(SpecYear=\"1995\",ROUND(AVERAGE(L75:L76)*2,-2)/2,ROUND(AVERAGE(L75:L76)*2,-1)/2))","v":""},{"$f":"IF(NOT(E75=$K$56),\"\",IF(AND(E75=$K$56,$G$22=\"Spec. Book Value\",M75>=$G$55,NOT(ISBLANK(J75))),\"Yes\",IF(AND(E75=$K$56,$G$54=\"Other\",M75>=$G$56,NOT(ISBLANK(J75))),\"Yes\",\"No\")))","v":""}]
[null,null,null,null,null,null,null,null,"",null,null,{"$f":"IF(SpecYear=\"1995\",'L to D Lookup'!$H19,'L to D Lookup'!$G19)","v":""}]
[null,9,null,null,null,null,null,null,"",null,null,{"$f":"IF(SpecYear=\"1995\",'L to D Lookup'!$H20,'L to D Lookup'!$G20)","v":""},{"$f":"IF(ISERROR(IF(SpecYear=\"1995\",ROUND(AVERAGE(L77:L78)*2,-2)/2,ROUND(AVERAGE(L77:L78)*2,-1)/2)),\"\",IF(SpecYear=\"1995\",ROUND(AVERAGE(L77:L78)*2,-2)/2,ROUND(AVERAGE(L77:L78)*2,-1)/2))","v":""},{"$f":"IF(NOT(E77=$K$56),\"\",IF(AND(E77=$K$56,$G$22=\"Spec. Book Value\",M77>=$G$55,NOT(ISBLANK(J77))),\"Yes\",IF(AND(E77=$K$56,$G$54=\"Other\",M77>=$G$56,NOT(ISBLANK(J77))),\"Yes\",\"No\")))","v":""}]
[null,null,null,null,null,null,null,null,"",null,null,{"$f":"IF(SpecYear=\"1995\",'L to D Lookup'!$H21,'L to D Lookup'!$G21)","v":""}]
[null,10,null,null,null,null,null,null,{"$f":"IF(OR(H79=0,SpecYear=\"\"),\"\",IF(SpecYear=\"1995\",457,18))","v":""},null,null,{"$f":"IF(SpecYear=\"1995\",'L to D Lookup'!$H22,'L to D Lookup'!$G22)","v":""},{"$f":"IF(ISERROR(IF(SpecYear=\"1995\",ROUND(AVERAGE(L79:L80)*2,-2)/2,ROUND(AVERAGE(L79:L80)*2,-1)/2)),\"\",IF(SpecYear=\"1995\",ROUND(AVERAGE(L79:L80)*2,-2)/2,ROUND(AVERAGE(L79:L80)*2,-1)/2))","v":""},{"$f":"IF(NOT(E79=$K$56),\"\",IF(AND(E79=$K$56,$G$22=\"Spec. Book Value\",M79>=$G$55,NOT(ISBLANK(J79))),\"Yes\",IF(AND(E79=$K$56,$G$54=\"Other\",M79>=$G$56,NOT(ISBLANK(J79))),\"Yes\",\"No\")))","v":""}]
[null,null,null,null,null,null,null,null,{"$f":"IF(OR(H80=0,SpecYear=\"\"),\"\",IF(SpecYear=\"1995\",457,18))","v":""},null,null,{"$f":"IF(SpecYear=\"1995\",'L to D Lookup'!$H23,'L to D Lookup'!$G23)","v":""}]
["* When outside the middle 1/3, distance from the line of the fracture to the nearest support measured along the bottom of the beam."]
[]
[null,null,"Sample Method:","Sampled By:",null,null,"Sampled Date:"]
[null,null,"TX407"]
[null,null,"Test Method:","Tested By:",null,null,"Tested Date:"]
[null,null,"TX418"]
[]
[null,null,"TX448"]

{"sheet":"TxDOT Fresh Test Data","index":4,"n_rows":51,"n_cols":15,"rows_kept":51,"cut":false,"hidden":false,"merged":[[41,3,41,5],[42,3,42,5],[50,3,50,5],[12,9,12,10],[15,5,15,6],[43,3,43,5],[44,3,44,5],[46,3,46,5],[48,3,48,5],[26,10,29,10],[21,2,21,3],[20,2,20,10],[19,2,19,10],[26,3,29,3],[22,2,22,4],[23,2,23,3],[7,9,7,10],[8,9,8,10],[9,9,9,10],[10,9,10,10],[21,5,21,8],[15,9,15,10],[8,5,8,6],[26,2,28,2],[26,4,28,4],[28,8,29,8],[26,6,26,9],[11,9,11,10],[13,9,13,10],[14,5,14,10],[27,8,27,9],[28,9,29,9],[26,5,29,5],[28,6,29,6],[28,7,29,7],[22,6,22,8],[0,0,0,2],[11,5,11,6],[12,5,12,6],[13,5,13,6],[9,5,9,6],[10,5,10,6],[7,5,7,6]]}
["TxDOT Manuals >",null,null,null,"Tex-414-A","Tex-415-A","Tex-416-A","Tex-422-A"]
[null,null,"TEXAS DEPARTMENT OF TRANSPORTATION"]
[]
[]
[null,null,"HYDRAULIC CEMENT CONCRETE REPORT FOR CONCRETE PAVEMENT"]
[null,null,"TxDOT: Fresh Properties"]
[]
[null,null,null,null,"SAMPLE ID:",{"$f":"Summary!F8","v":0},null,null,"SAMPLED DATE:",{"$f":"Summary!J8","v":"00:00:00"}]
[null,null,null,null,"TEST NUMBER:",{"$f":"Summary!F9","v":0},null,null,"LETTING DATE:",{"$f":"Summary!J9","v":"00:00:00"}]
[null,null,null,null,"STATUS:",{"$f":"Summary!F10","v":0},null,null,"CONTROLLING CSJ:",{"$f":"Summary!J10","v":0}]
[null,null,null,null,"COUNTY:",{"$f":"Summary!F11","v":0},null,null,"SPEC YEAR:",{"$f":"Summary!J11","v":0}]
[null,null,null,null,"SAMPLED BY:",{"$f":"Summary!F12","v":0},null,null,"SPEC ITEM:",{"$f":"Summary!J12","v":0}]
[null,null,null,null,"SAMPLE LOCATION:",{"$f":"Summary!F13","v":""},null,null,"SPECIAL PROVISION:",{"$f":"Summary!J13","v":0}]
[null,null,null,null,"MATERIAL:",{"$f":"Summary!F14","v":0},null,null,"CLASS:",{"$f":"Summary!J14","v":0}]
[null,null,null,null,"PRODUCER:",{"$f":"Summary!$F$16","v":0}]
[null,null,null,null,"AREA ENGINEER:",{"$f":"Summary!$F$17","v":0},null,null,"PROJECT MANAGER:",{"$f":"Summary!$J$17","v":0}]
[]
[null,null,null,null,"COURSE\\LIFT:",{"$f":"Summary!$F$19","v":0},"STATION:",{"$f":"Summary!$H$19","v":0},null,"DIST. FROM CL:",{"$f":"Summary!$K$19","v":0}]
[]
[null,null,"FRESH PROPERTIES"]
[null,null,"TxDOT:Fresh"]
[null,null,"Method of Placement: ",null,null,"Maximum Acceptable Placement Slump (inches): ",null,null,null,{"$f":"IF(ISBLANK(E22),\"\",IF(E22=\"Formed\",6.5,3))","v":""}]
[null,null,"Minimum Concrete Temperature (°F): ",null,null,40,"Maximum Concrete Temperature (°F): ",null,null,95]
[null,null,"Target Air Content (%): "]
[]
[]
[null,null,"Slump (inches)","Meets Job Control Requirements","Temperature (°F)","Meets Job Control Requirements","Air Content",null,null,null,"Meets Job Control Requirements"]
[null,null,null,null,null,null,"by:","Test Method:"]
[null,null,null,null,null,null,{"$f":"IF(AirMethodT=\"Tex-414-A\",\"Final Meter Reading (%)\",\"Uncorrected Air Content (%)\")","v":"Uncorrected Air Content (%)"},{"$f":"IF(AirMethodT=\"Tex-414-A\",\"*Calibrated Cups of Water (cups)\",\"Aggr. Correction Factor (%)\")","v":"Aggr. Correction Factor (%)"},{"$f":"IF(AirMethodT=\"Tex-414-A\",\"Amount of Isopropyl Alcohol (pints)\",\"\")","v":""},{"$f":"IF(AirMethodT=\"Tex-414-A\",\"Air Content (%)\",\"Corrected Air Content (%)\")","v":"Corrected Air Content (%)"}]
[null,null,"Tex-415-A",null,"Tex-422-A"]
[null,1,null,{"$f":"IF(ISBLANK(C31),\"\",IF(ISBLANK($E$22),\"Missing Input\",IF(OR(C31<$J$22,C31=$J$22),\"Yes\",\"No\")))","v":""},null,{"$f":"IF(ISBLANK(E31),\"\",IF(AND(OR(E31<$J$23,E31=$J$23),OR(E31>$F$23,E31=$F$23)),\"Yes\",\"No\"))","v":""},null,null,null,{"$f":"IF(AND(G31=\"\",H31=\"\",I31=\"\"),\"\",IF(ISERROR(IF(AirMethodT=\"Tex-414-A\",ROUND(((G31+H31-VLOOKUP(ROUND(I31,0),ctable,4))/25),2)*25,ROUND(G31-H31,1))),\"\",IF(AirMethodT=\"Tex-414-A\",ROUND(((G31+H31-VLOOKUP(ROUND(I31,0),ctable,4))/25),2)*25,ROUND(G31-H31,1))))","v":""},{"$f":"IF(J31=\"\",\"\",IF(AND(OR(J31>$N$31,J31=$N$31),OR(J31<$N$32,J31=$N$32)),\"Yes\",IF(AND(OR(J31>$N$31,J31=$N$31),OR(J31<$N$33,J31=$N$33)),\"Conditional**\",\"No\")))","v":""},null,null,{"$f":"IF(E24=\"\",\"\",IF(E24=\"Other\",F24-1.5,E24-1.5))","v":""},"Minimum Air Content Tolerance"]
[null,2,null,{"$f":"IF(ISBLANK(C32),\"\",IF(ISBLANK($E$22),\"Missing Input\",IF(OR(C32<$J$22,C32=$J$22),\"Yes\",\"No\")))","v":""},null,"",null,null,null,"",{"$f":"IF(J32=\"\",\"\",IF(AND(OR(J32>$N$31,J32=$N$31),OR(J32<$N$32,J32=$N$32)),\"Yes\",IF(AND(OR(J32>$N$31,J32=$N$31),OR(J32<$N$33,J32=$N$33)),\"Conditional**\",\"No\")))","v":""},null,null,{"$f":"IF(E24=\"\",\"\",IF(E24=\"Other\",F24+1.5,E24+1.5))","v":""},"Maximum Air Content Tolerance"]
[null,3,null,"",null,"",null,null,null,"","",null,null,{"$f":"IF(E24=\"\",\"\",IF(E24=\"Other\",F24+3,E24+3))","v":""},"Maximum Air Content Tolerance with Special Circumstances"]
[null,4,null,"",null,"",null,null,null,"",""]
[null,5,null,"",null,"",null,null,null,"",""]
[null,6,null,"",null,"",null,null,null,"",{"$f":"IF(J36=\"\",\"\",IF(AND(OR(J36>$N$31,J36=$N$31),OR(J36<$N$32,J36=$N$32)),\"Yes\",IF(AND(OR(J36>$N$31,J36=$N$31),OR(J36<$N$33,J36=$N$33)),\"Conditional**\",\"No\")))","v":""}]
[null,7,null,"",null,"",null,null,null,"",{"$f":"IF(J37=\"\",\"\",IF(AND(OR(J37>$N$31,J37=$N$31),OR(J37<$N$32,J37=$N$32)),\"Yes\",IF(AND(OR(J37>$N$31,J37=$N$31),OR(J37<$N$33,J37=$N$33)),\"Conditional**\",\"No\")))","v":""}]
[null,8,null,"",null,"",null,null,null,"",""]
[null,9,null,"",null,"",null,null,null,"",""]
[null,10,null,"",null,"",null,null,null,"",""]
[null,null,{"$f":"IF(AirMethodT=\"Tex-414-A\",\"* Only necessary if the air content is greater than the 9% range of the meter.\",\"\")","v":""}]
[null,null,"Sample Method:","Sampled By:",null,null,"Sampled Date:"]
[null,null,"TX407"]
[null,null,"Test Method:","Tested By:",null,null,"Tested Date:"]
[null,null,"TX414"]
[null,null,null,null,null,null,"2023-12-06"]
[null,null,"TX415"]
[]
[null,null,"TX416"]
[]
[null,null,"TX422"]

{"sheet":"Correction Factor","index":5,"n_rows":9,"n_cols":4,"rows_kept":9,"cut":false,"hidden":true,"merged":[[0,0,0,2],[0,3,1,3],[8,0,8,3]]}
["70% Isopropyl Alcohol Used",null,null,"Correction Factor"]
["Pints","Ounces","Liters"]
[0,0,0,0]
[1,16,0.5,0]
[2,32,0.9,0]
[3,48,1.4,0.25]
[4,64,1.9,0.5]
[5,80,2.4,0.75]
["The values given are for air meters that have a bowl volume of 0.075 ft2 (2.1 L) and a top section that is 1.2 times the volume of the bowl."]

{"sheet":"RX","index":6,"n_rows":1472,"n_cols":9,"rows_kept":1472,"cut":false,"hidden":true,"merged":[]}
[1470]
["Fld_nbr","Value","Desc_1","Desc_2","Desc_3","Desc_4","Desc_5","Desc_6","Desc_7"]
[1,{"$f":"IF(Summary!$C$136=\"\",\"\",Summary!$C$136)","v":""},{"$f":"Summary!$C$135","v":"Remarks:"}]
[2,{"$f":"IF(Summary!$F$19=\"\",\"\",Summary!$F$19)","v":""},{"$f":"IF(Summary!$E$19=\"\",\"\",Summary!$E$19)","v":"COURSE\\LIFT:"}]
[3,{"$f":"IF('Contractor Fresh Test Data'!$D$44=\"\",\"\",'Contractor Fresh Test Data'!$D$44)","v":""},"Tested By ",{"$f":"IF(Summary!$C$150=\"\",\"\",Summary!$C$150)","v":"TX414"},"Contractor"]
[4,{"$f":"IF('Contractor Fresh Test Data'!$G$44=\"\",\"\",'Contractor Fresh Test Data'!$G$44)","v":""},"Tested Date ",{"$f":"IF(Summary!$C$150=\"\",\"\",Summary!$C$150)","v":"TX414"},"Contractor"]
[5,{"$f":"IF('Contractor Fresh Test Data'!$D$46=\"\",\"\",'Contractor Fresh Test Data'!$D$46)","v":""},"Tested By ",{"$f":"IF(Summary!$C$151=\"\",\"\",Summary!$C$151)","v":"TX415"},"Contractor"]
[6,{"$f":"IF('Contractor Fresh Test Data'!$G$46=\"\",\"\",'Contractor Fresh Test Data'!$G$46)","v":""},"Tested Date ",{"$f":"IF(Summary!$C$151=\"\",\"\",Summary!$C$151)","v":"TX415"},"Contractor"]
[7,{"$f":"IF('Contractor Fresh Test Data'!$D$48=\"\",\"\",'Contractor Fresh Test Data'!$D$48)","v":""},"Tested By ",{"$f":"IF(Summary!$C$152=\"\",\"\",Summary!$C$152)","v":"TX416"},"Contractor"]
[8,{"$f":"IF('Contractor Fresh Test Data'!$G$48=\"\",\"\",'Contractor Fresh Test Data'!$G$48)","v":""},"Tested Date ",{"$f":"IF(Summary!$C$152=\"\",\"\",Summary!$C$152)","v":"TX416"},"Contractor"]
[9,{"$f":"IF('Contractor Test Data'!$D$84=\"\",\"\",'Contractor Test Data'!$D$84)","v":""},"Tested By ",{"$f":"IF(Summary!$C$153=\"\",\"\",Summary!$C$153)","v":"TX418"},"Contractor"]
[10,{"$f":"IF('Contractor Test Data'!$G$84=\"\",\"\",'Contractor Test Data'!$G$84)","v":""},"Tested Date ",{"$f":"IF(Summary!$C$153=\"\",\"\",Summary!$C$153)","v":"TX418"},"Contractor"]
[11,{"$f":"IF('Contractor Fresh Test Data'!$D$50=\"\",\"\",'Contractor Fresh Test Data'!$D$50)","v":""},"Tested By ",{"$f":"IF(Summary!$C$154=\"\",\"\",Summary!$C$154)","v":"TX422"},"Contractor"]
[12,{"$f":"IF('Contractor Fresh Test Data'!$G$50=\"\",\"\",'Contractor Fresh Test Data'!$G$50)","v":""},"Tested Date ",{"$f":"IF(Summary!$C$154=\"\",\"\",Summary!$C$154)","v":"TX422"},"Contractor"]
[13,{"$f":"IF('Contractor Test Data'!$D$86=\"\",\"\",'Contractor Test Data'!$D$86)","v":""},"Tested By ",{"$f":"IF(Summary!$C$155=\"\",\"\",Summary!$C$155)","v":"TX448"},"Contractor"]
[14,{"$f":"IF('Contractor Test Data'!$G$86=\"\",\"\",'Contractor Test Data'!$G$86)","v":""},"Tested Date ",{"$f":"IF(Summary!$C$155=\"\",\"\",Summary!$C$155)","v":"TX448"},"Contractor"]
[15,{"$f":"IF(Summary!$G$23=\"\",\"\",Summary!$G$23)","v":""},{"$f":"IF(Summary!$C$6=\"\",\"\",Summary!$C$6)","v":"Summary"},{"$f":"IF(Summary!$C$23=\"\",\"\",Summary!$C$23)","v":"Waive Contractor Job Control Testing?: "}]
[16,{"$f":"IF(Summary!$G$27=\"\",\"\",Summary!$G$27)","v":""},{"$f":"IF(Summary!$C$26=\"\",\"\",Summary!$C$26)","v":"Summary:Tex-418-A"},{"$f":"IF(Summary!$C$27=\"\",\"\",Summary!$C$27)","v":"Source of Job Control Strength (psi): "}]
[17,{"$f":"IF(Summary!$G$28=\"\",\"\",Summary!$G$28)","v":""},{"$f":"IF(Summary!$C$26=\"\",\"\",Summary!$C$26)","v":"Summary:Tex-418-A"},{"$f":"IF(Summary!$C$28=\"\",\"\",Summary!$C$28)","v":"Other - Day Job Control Strength (psi): "}]
[18,{"$f":"IF(Summary!$G$29=\"\",\"\",Summary!$G$29)","v":""},{"$f":"IF(Summary!$C$26=\"\",\"\",Summary!$C$26)","v":"Summary:Tex-418-A"},{"$f":"IF(Summary!$C$29=\"\",\"\",Summary!$C$29)","v":"Other - Day Job Control Strength (psi): "}]
[19,{"$f":"IF(Summary!$J$27=\"\",\"\",Summary!$J$27)","v":""},{"$f":"IF(Summary!$C$26=\"\",\"\",Summary!$C$26)","v":"Summary:Tex-418-A"},{"$f":"IF(Summary!$H$27=\"\",\"\",Summary!$H$27)","v":"Job Control Age (days): "}]
[20,{"$f":"IF(Summary!$J$28=\"\",\"\",Summary!$J$28)","v":""},{"$f":"IF(Summary!$C$26=\"\",\"\",Summary!$C$26)","v":"Summary:Tex-418-A"},{"$f":"IF(Summary!$H$28=\"\",\"\",Summary!$H$28)","v":"Job Control Age (days): "}]
[21,{"$f":"IF(Summary!$C$35=\"\",\"\",Summary!$C$35)","v":""},{"$f":"IF(Summary!$C$26=\"\",\"\",Summary!$C$26)","v":"Summary:Tex-418-A"},{"$f":"IF(Summary!$B$35=\"\",\"\",Summary!$B$35)","v":1},{"$f":"IF(Summary!$C$32=\"\",\"\",Summary!$C$32)","v":"Date Cast"}]
[22,{"$f":"IF(Summary!$E$35=\"\",\"\",Summary!$E$35)","v":""},{"$f":"IF(Summary!$C$26=\"\",\"\",Summary!$C$26)","v":"Summary:Tex-418-A"},{"$f":"IF(Summary!$B$35=\"\",\"\",Summary!$B$35)","v":1},{"$f":"IF(Summary!$E$32=\"\",\"\",Summary!$E$32)","v":"Station"}]
[23,{"$f":"IF(Summary!$F$35=\"\",\"\",Summary!$F$35)","v":""},{"$f":"IF(Summary!$C$26=\"\",\"\",Summary!$C$26)","v":"Summary:Tex-418-A"},{"$f":"IF(Summary!$B$35=\"\",\"\",Summary!$B$35)","v":1},{"$f":"IF(Summary!$F$32=\"\",\"\",Summary!$F$32)","v":"Age (Days)"}]
[24,{"$f":"IF(Summary!$G$35=\"\",\"\",Summary!$G$35)","v":""},{"$f":"IF(Summary!$C$26=\"\",\"\",Summary!$C$26)","v":"Summary:Tex-418-A"},{"$f":"IF(Summary!$B$35=\"\",\"\",Summary!$B$35)","v":1},{"$f":"IF(Summary!$G$31=\"\",\"\",Summary!$G$31)","v":"Contractor Test Data"},{"$f":"IF(Summary!$G$32=\"\",\"\",Summary!$G$32)","v":"Compressive Strength (psi)"}]
[25,{"$f":"IF(Summary!$H$35=\"\",\"\",Summary!$H$35)","v":""},{"$f":"IF(Summary!$C$26=\"\",\"\",Summary!$C$26)","v":"Summary:Tex-418-A"},{"$f":"IF(Summary!$B$35=\"\",\"\",Summary!$B$35)","v":1},{"$f":"IF(Summary!$G$31=\"\",\"\",Summary!$G$31)","v":"Contractor Test Data"},{"$f":"IF(Summary!$H$32=\"\",\"\",Summary!$H$32)","v":"Compressive Strength (avg) (psi)"}]
[26,{"$f":"IF(Summary!$I$35=\"\",\"\",Summary!$I$35)","v":""},{"$f":"IF(Summary!$C$26=\"\",\"\",Summary!$C$26)","v":"Summary:Tex-418-A"},{"$f":"IF(Summary!$B$35=\"\",\"\",Summary!$B$35)","v":1},{"$f":"IF(Summary!$I$31=\"\",\"\",Summary!$I$31)","v":"TxDOT Test Data"},{"$f":"IF(Summary!$I$32=\"\",\"\",Summary!$I$32)","v":"Compressive Strength (psi)"}]
[27,{"$f":"IF(Summary!$J$35=\"\",\"\",Summary!$J$35)","v":""},{"$f":"IF(Summary!$C$26=\"\",\"\",Summary!$C$26)","v":"Summary:Tex-418-A"},{"$f":"IF(Summary!$B$35=\"\",\"\",Summary!$B$35)","v":1},{"$f":"IF(Summary!$I$31=\"\",\"\",Summary!$I$31)","v":"TxDOT Test Data"},{"$f":"IF(Summary!$J$32=\"\",\"\",Summary!$J$32)","v":"Compressive Strength (avg) (psi)"}]
[28,{"$f":"IF(Summary!$K$35=\"\",\"\",Summary!$K$35)","v":""},{"$f":"IF(Summary!$C$26=\"\",\"\",Summary!$C$26)","v":"Summary:Tex-418-A"},{"$f":"IF(Summary!$B$35=\"\",\"\",Summary!$B$35)","v":1},{"$f":"IF(Summary!$K$32=\"\",\"\",Summary!$K$32)","v":"Split-Sample Percent Difference"}]
[29,{"$f":"IF(Summary!$L$35=\"\",\"\",Summary!$L$35)","v":""},{"$f":"IF(Summary!$C$26=\"\",\"\",Summary!$C$26)","v":"Summary:Tex-418-A"},{"$f":"IF(Summary!$B$35=\"\",\"\",Summary!$B$35)","v":1},{"$f":"IF(Summary!$L$32=\"\",\"\",Summary!$L$32)","v":"Within Allowable Difference for Split-Sample?"}]
[30,{"$f":"IF(Summary!$M$35=\"\",\"\",Summary!$M$35)","v":""},{"$f":"IF(Summary!$C$26=\"\",\"\",Summary!$C$26)","v":"Summary:Tex-418-A"},{"$f":"IF(Summary!$B$35=\"\",\"\",Summary!$B$35)","v":1},{"$f":"IF(Summary!$M$32=\"\",\"\",Summary!$M$32)","v":"Percent Difference"}]
[31,{"$f":"IF(Summary!$N$35=\"\",\"\",Summary!$N$35)","v":""},{"$f":"IF(Summary!$C$26=\"\",\"\",Summary!$C$26)","v":"Summary:Tex-418-A"},{"$f":"IF(Summary!$B$35=\"\",\"\",Summary!$B$35)","v":1},{"$f":"IF(Summary!$N$32=\"\",\"\",Summary!$N$32)","v":"Within Allowable Difference?"}]
[32,{"$f":"IF(Summary!$G$36=\"\",\"\",Summary!$G$36)","v":""},{"$f":"IF(Summary!$C$26=\"\",\"\",Summary!$C$26)","v":"Summary:Tex-418-A"},{"$f":"IF(Summary!$B$35=\"\",\"\",Summary!$B$35)","v":1},{"$f":"IF(Summary!$G$31=\"\",\"\",Summary!$G$31)","v":"Contractor Test Data"},{"$f":"IF(Summary!$G$32=\"\",\"\",Summary!$G$32)","v":"Compressive Strength (psi)"}]
[33,{"$f":"IF(Summary!$I$36=\"\",\"\",Summary!$I$36)","v":""},{"$f":"IF(Summary!$C$26=\"\",\"\",Summary!$C$26)","v":"Summary:Tex-418-A"},{"$f":"IF(Summary!$B$35=\"\",\"\",Summary!$B$35)","v":1},{"$f":"IF(Summary!$I$31=\"\",\"\",Summary!$I$31)","v":"TxDOT Test Data"},{"$f":"IF(Summary!$I$32=\"\",\"\",Summary!$I$32)","v":"Compressive Strength (psi)"}]
[34,{"$f":"IF(Summary!$C$37=\"\",\"\",Summary!$C$37)","v":""},{"$f":"IF(Summary!$C$26=\"\",\"\",Summary!$C$26)","v":"Summary:Tex-418-A"},{"$f":"IF(Summary!$B$37=\"\",\"\",Summary!$B$37)","v":2},{"$f":"IF(Summary!$C$32=\"\",\"\",Summary!$C$32)","v":"Date Cast"}]
[35,{"$f":"IF(Summary!$E$37=\"\",\"\",Summary!$E$37)","v":""},{"$f":"IF(Summary!$C$26=\"\",\"\",Summary!$C$26)","v":"Summary:Tex-418-A"},{"$f":"IF(Summary!$B$37=\"\",\"\",Summary!$B$37)","v":2},{"$f":"IF(Summary!$E$32=\"\",\"\",Summary!$E$32)","v":"Station"}]
[36,{"$f":"IF(Summary!$F$37=\"\",\"\",Summary!$F$37)","v":""},{"$f":"IF(Summary!$C$26=\"\",\"\",Summary!$C$26)","v":"Summary:Tex-418-A"},{"$f":"IF(Summary!$B$37=\"\",\"\",Summary!$B$37)","v":2},{"$f":"IF(Summary!$F$32=\"\",\"\",Summary!$F$32)","v":"Age (Days)"}]
[37,{"$f":"IF(Summary!$G$37=\"\",\"\",Summary!$G$37)","v":""},{"$f":"IF(Summary!$C$26=\"\",\"\",Summary!$C$26)","v":"Summary:Tex-418-A"},{"$f":"IF(Summary!$B$37=\"\",\"\",Summary!$B$37)","v":2},{"$f":"IF(Summary!$G$31=\"\",\"\",Summary!$G$31)","v":"Contractor Test Data"},{"$f":"IF(Summary!$G$32=\"\",\"\",Summary!$G$32)","v":"Compressive Strength (psi)"}]
[38,{"$f":"IF(Summary!$H$37=\"\",\"\",Summary!$H$37)","v":""},{"$f":"IF(Summary!$C$26=\"\",\"\",Summary!$C$26)","v":"Summary:Tex-418-A"},{"$f":"IF(Summary!$B$37=\"\",\"\",Summary!$B$37)","v":2},{"$f":"IF(Summary!$G$31=\"\",\"\",Summary!$G$31)","v":"Contractor Test Data"},{"$f":"IF(Summary!$H$32=\"\",\"\",Summary!$H$32)","v":"Compressive Strength (avg) (psi)"}]
[39,{"$f":"IF(Summary!$I$37=\"\",\"\",Summary!$I$37)","v":""},{"$f":"IF(Summary!$C$26=\"\",\"\",Summary!$C$26)","v":"Summary:Tex-418-A"},{"$f":"IF(Summary!$B$37=\"\",\"\",Summary!$B$37)","v":2},{"$f":"IF(Summary!$I$31=\"\",\"\",Summary!$I$31)","v":"TxDOT Test Data"},{"$f":"IF(Summary!$I$32=\"\",\"\",Summary!$I$32)","v":"Compressive Strength (psi)"}]
[40,{"$f":"IF(Summary!$J$37=\"\",\"\",Summary!$J$37)","v":""},{"$f":"IF(Summary!$C$26=\"\",\"\",Summary!$C$26)","v":"Summary:Tex-418-A"},{"$f":"IF(Summary!$B$37=\"\",\"\",Summary!$B$37)","v":2},{"$f":"IF(Summary!$I$31=\"\",\"\",Summary!$I$31)","v":"TxDOT Test Data"},{"$f":"IF(Summary!$J$32=\"\",\"\",Summary!$J$32)","v":"Compressive Strength (avg) (psi)"}]
[41,{"$f":"IF(Summary!$K$37=\"\",\"\",Summary!$K$37)","v":""},{"$f":"IF(Summary!$C$26=\"\",\"\",Summary!$C$26)","v":"Summary:Tex-418-A"},{"$f":"IF(Summary!$B$37=\"\",\"\",Summary!$B$37)","v":2},{"$f":"IF(Summary!$K$32=\"\",\"\",Summary!$K$32)","v":"Split-Sample Percent Difference"}]
[42,{"$f":"IF(Summary!$L$37=\"\",\"\",Summary!$L$37)","v":""},{"$f":"IF(Summary!$C$26=\"\",\"\",Summary!$C$26)","v":"Summary:Tex-418-A"},{"$f":"IF(Summary!$B$37=\"\",\"\",Summary!$B$37)","v":2},{"$f":"IF(Summary!$L$32=\"\",\"\",Summary!$L$32)","v":"Within Allowable Difference for Split-Sample?"}]
[43,{"$f":"IF(Summary!$M$37=\"\",\"\",Summary!$M$37)","v":""},{"$f":"IF(Summary!$C$26=\"\",\"\",Summary!$C$26)","v":"Summary:Tex-418-A"},{"$f":"IF(Summary!$B$37=\"\",\"\",Summary!$B$37)","v":2},{"$f":"IF(Summary!$M$32=\"\",\"\",Summary!$M$32)","v":"Percent Difference"}]
[44,{"$f":"IF(Summary!$N$37=\"\",\"\",Summary!$N$37)","v":""},{"$f":"IF(Summary!$C$26=\"\",\"\",Summary!$C$26)","v":"Summary:Tex-418-A"},{"$f":"IF(Summary!$B$37=\"\",\"\",Summary!$B$37)","v":2},{"$f":"IF(Summary!$N$32=\"\",\"\",Summary!$N$32)","v":"Within Allowable Difference?"}]
[45,{"$f":"IF(Summary!$G$38=\"\",\"\",Summary!$G$38)","v":""},{"$f":"IF(Summary!$C$26=\"\",\"\",Summary!$C$26)","v":"Summary:Tex-418-A"},{"$f":"IF(Summary!$B$37=\"\",\"\",Summary!$B$37)","v":2},{"$f":"IF(Summary!$G$31=\"\",\"\",Summary!$G$31)","v":"Contractor Test Data"},{"$f":"IF(Summary!$G$32=\"\",\"\",Summary!$G$32)","v":"Compressive Strength (psi)"}]
[46,{"$f":"IF(Summary!$I$38=\"\",\"\",Summary!$I$38)","v":""},{"$f":"IF(Summary!$C$26=\"\",\"\",Summary!$C$26)","v":"Summary:Tex-418-A"},{"$f":"IF(Summary!$B$37=\"\",\"\",Summary!$B$37)","v":2},{"$f":"IF(Summary!$I$31=\"\",\"\",Summary!$I$31)","v":"TxDOT Test Data"},{"$f":"IF(Summary!$I$32=\"\",\"\",Summary!$I$32)","v":"Compressive Strength (psi)"}]
[47,{"$f":"IF(Summary!$C$39=\"\",\"\",Summary!$C$39)","v":""},{"$f":"IF(Summary!$C$26=\"\",\"\",Summary!$C$26)","v":"Summary:Tex-418-A"},{"$f":"IF(Summary!$B$39=\"\",\"\",Summary!$B$39)","v":3},{"$f":"IF(Summary!$C$32=\"\",\"\",Summary!$C$32)","v":"Date Cast"}]
[48,{"$f":"IF(Summary!$E$39=\"\",\"\",Summary!$E$39)","v":""},{"$f":"IF(Summary!$C$26=\"\",\"\",Summary!$C$26)","v":"Summary:Tex-418-A"},{"$f":"IF(Summary!$B$39=\"\",\"\",Summary!$B$39)","v":3},{"$f":"IF(Summary!$E$32=\"\",\"\",Summary!$E$32)","v":"Station"}]
[49,{"$f":"IF(Summary!$F$39=\"\",\"\",Summary!$F$39)","v":""},{"$f":"IF(Summary!$C$26=\"\",\"\",Summary!$C$26)","v":"Summary:Tex-418-A"},{"$f":"IF(Summary!$B$39=\"\",\"\",Summary!$B$39)","v":3},{"$f":"IF(Summary!$F$32=\"\",\"\",Summary!$F$32)","v":"Age (Days)"}]
[50,{"$f":"IF(Summary!$G$39=\"\",\"\",Summary!$G$39)","v":""},{"$f":"IF(Summary!$C$26=\"\",\"\",Summary!$C$26)","v":"Summary:Tex-418-A"},{"$f":"IF(Summary!$B$39=\"\",\"\",Summary!$B$39)","v":3},{"$f":"IF(Summary!$G$31=\"\",\"\",Summary!$G$31)","v":"Contractor Test Data"},{"$f":"IF(Summary!$G$32=\"\",\"\",Summary!$G$32)","v":"Compressive Strength (psi)"}]
[51,{"$f":"IF(Summary!$H$39=\"\",\"\",Summary!$H$39)","v":""},{"$f":"IF(Summary!$C$26=\"\",\"\",Summary!$C$26)","v":"Summary:Tex-418-A"},{"$f":"IF(Summary!$B$39=\"\",\"\",Summary!$B$39)","v":3},{"$f":"IF(Summary!$G$31=\"\",\"\",Summary!$G$31)","v":"Contractor Test Data"},{"$f":"IF(Summary!$H$32=\"\",\"\",Summary!$H$32)","v":"Compressive Strength (avg) (psi)"}]
[52,{"$f":"IF(Summary!$I$39=\"\",\"\",Summary!$I$39)","v":""},{"$f":"IF(Summary!$C$26=\"\",\"\",Summary!$C$26)","v":"Summary:Tex-418-A"},{"$f":"IF(Summary!$B$39=\"\",\"\",Summary!$B$39)","v":3},{"$f":"IF(Summary!$I$31=\"\",\"\",Summary!$I$31)","v":"TxDOT Test Data"},{"$f":"IF(Summary!$I$32=\"\",\"\",Summary!$I$32)","v":"Compressive Strength (psi)"}]
[53,{"$f":"IF(Summary!$J$39=\"\",\"\",Summary!$J$39)","v":""},{"$f":"IF(Summary!$C$26=\"\",\"\",Summary!$C$26)","v":"Summary:Tex-418-A"},{"$f":"IF(Summary!$B$39=\"\",\"\",Summary!$B$39)","v":3},{"$f":"IF(Summary!$I$31=\"\",\"\",Summary!$I$31)","v":"TxDOT Test Data"},{"$f":"IF(Summary!$J$32=\"\",\"\",Summary!$J$32)","v":"Compressive Strength (avg) (psi)"}]
[54,{"$f":"IF(Summary!$K$39=\"\",\"\",Summary!$K$39)","v":""},{"$f":"IF(Summary!$C$26=\"\",\"\",Summary!$C$26)","v":"Summary:Tex-418-A"},{"$f":"IF(Summary!$B$39=\"\",\"\",Summary!$B$39)","v":3},{"$f":"IF(Summary!$K$32=\"\",\"\",Summary!$K$32)","v":"Split-Sample Percent Difference"}]
[55,{"$f":"IF(Summary!$L$39=\"\",\"\",Summary!$L$39)","v":""},{"$f":"IF(Summary!$C$26=\"\",\"\",Summary!$C$26)","v":"Summary:Tex-418-A"},{"$f":"IF(Summary!$B$39=\"\",\"\",Summary!$B$39)","v":3},{"$f":"IF(Summary!$L$32=\"\",\"\",Summary!$L$32)","v":"Within Allowable Difference for Split-Sample?"}]
[56,{"$f":"IF(Summary!$M$39=\"\",\"\",Summary!$M$39)","v":""},{"$f":"IF(Summary!$C$26=\"\",\"\",Summary!$C$26)","v":"Summary:Tex-418-A"},{"$f":"IF(Summary!$B$39=\"\",\"\",Summary!$B$39)","v":3},{"$f":"IF(Summary!$M$32=\"\",\"\",Summary!$M$32)","v":"Percent Difference"}]
[57,{"$f":"IF(Summary!$N$39=\"\",\"\",Summary!$N$39)","v":""},{"$f":"IF(Summary!$C$26=\"\",\"\",Summary!$C$26)","v":"Summary:Tex-418-A"},{"$f":"IF(Summary!$B$39=\"\",\"\",Summary!$B$39)","v":3},{"$f":"IF(Summary!$N$32=\"\",\"\",Summary!$N$32)","v":"Within Allowable Difference?"}]
[58,{"$f":"IF(Summary!$G$40=\"\",\"\",Summary!$G$40)","v":""},{"$f":"IF(Summary!$C$26=\"\",\"\",Summary!$C$26)","v":"Summary:Tex-418-A"},{"$f":"IF(Summary!$B$39=\"\",\"\",Summary!$B$39)","v":3},{"$f":"IF(Summary!$G$31=\"\",\"\",Summary!$G$31)","v":"Contractor Test Data"},{"$f":"IF(Summary!$G$32=\"\",\"\",Summary!$G$32)","v":"Compressive Strength (psi)"}]
[59,{"$f":"IF(Summary!$I$40=\"\",\"\",Summary!$I$40)","v":""},{"$f":"IF(Summary!$C$26=\"\",\"\",Summary!$C$26)","v":"Summary:Tex-418-A"},{"$f":"IF(Summary!$B$39=\"\",\"\",Summary!$B$39)","v":3},{"$f":"IF(Summary!$I$31=\"\",\"\",Summary!$I$31)","v":"TxDOT Test Data"},{"$f":"IF(Summary!$I$32=\"\",\"\",Summary!$I$32)","v":"Compressive Strength (psi)"}]
[60,{"$f":"IF(Summary!$C$41=\"\",\"\",Summary!$C$41)","v":""},{"$f":"IF(Summary!$C$26=\"\",\"\",Summary!$C$26)","v":"Summary:Tex-418-A"},{"$f":"IF(Summary!$B$41=\"\",\"\",Summary!$B$41)","v":4},{"$f":"IF(Summary!$C$32=\"\",\"\",Summary!$C$32)","v":"Date Cast"}]
[61,{"$f":"IF(Summary!$E$41=\"\",\"\",Summary!$E$41)","v":""},{"$f":"IF(Summary!$C$26=\"\",\"\",Summary!$C$26)","v":"Summary:Tex-418-A"},{"$f":"IF(Summary!$B$41=\"\",\"\",Summary!$B$41)","v":4},{"$f":"IF(Summary!$E$32=\"\",\"\",Summary!$E$32)","v":"Station"}]
[62,{"$f":"IF(Summary!$F$41=\"\",\"\",Summary!$F$41)","v":""},{"$f":"IF(Summary!$C$26=\"\",\"\",Summary!$C$26)","v":"Summary:Tex-418-A"},{"$f":"IF(Summary!$B$41=\"\",\"\",Summary!$B$41)","v":4},{"$f":"IF(Summary!$F$32=\"\",\"\",Summary!$F$32)","v":"Age (Days)"}]
[63,{"$f":"IF(Summary!$G$41=\"\",\"\",Summary!$G$41)","v":""},{"$f":"IF(Summary!$C$26=\"\",\"\",Summary!$C$26)","v":"Summary:Tex-418-A"},{"$f":"IF(Summary!$B$41=\"\",\"\",Summary!$B$41)","v":4},{"$f":"IF(Summary!$G$31=\"\",\"\",Summary!$G$31)","v":"Contractor Test Data"},{"$f":"IF(Summary!$G$32=\"\",\"\",Summary!$G$32)","v":"Compressive Strength (psi)"}]
[64,{"$f":"IF(Summary!$H$41=\"\",\"\",Summary!$H$41)","v":""},{"$f":"IF(Summary!$C$26=\"\",\"\",Summary!$C$26)","v":"Summary:Tex-418-A"},{"$f":"IF(Summary!$B$41=\"\",\"\",Summary!$B$41)","v":4},{"$f":"IF(Summary!$G$31=\"\",\"\",Summary!$G$31)","v":"Contractor Test Data"},{"$f":"IF(Summary!$H$32=\"\",\"\",Summary!$H$32)","v":"Compressive Strength (avg) (psi)"}]
[65,{"$f":"IF(Summary!$I$41=\"\",\"\",Summary!$I$41)","v":""},{"$f":"IF(Summary!$C$26=\"\",\"\",Summary!$C$26)","v":"Summary:Tex-418-A"},{"$f":"IF(Summary!$B$41=\"\",\"\",Summary!$B$41)","v":4},{"$f":"IF(Summary!$I$31=\"\",\"\",Summary!$I$31)","v":"TxDOT Test Data"},{"$f":"IF(Summary!$I$32=\"\",\"\",Summary!$I$32)","v":"Compressive Strength (psi)"}]
[66,{"$f":"IF(Summary!$J$41=\"\",\"\",Summary!$J$41)","v":""},{"$f":"IF(Summary!$C$26=\"\",\"\",Summary!$C$26)","v":"Summary:Tex-418-A"},{"$f":"IF(Summary!$B$41=\"\",\"\",Summary!$B$41)","v":4},{"$f":"IF(Summary!$I$31=\"\",\"\",Summary!$I$31)","v":"TxDOT Test Data"},{"$f":"IF(Summary!$J$32=\"\",\"\",Summary!$J$32)","v":"Compressive Strength (avg) (psi)"}]
[67,{"$f":"IF(Summary!$K$41=\"\",\"\",Summary!$K$41)","v":""},{"$f":"IF(Summary!$C$26=\"\",\"\",Summary!$C$26)","v":"Summary:Tex-418-A"},{"$f":"IF(Summary!$B$41=\"\",\"\",Summary!$B$41)","v":4},{"$f":"IF(Summary!$K$32=\"\",\"\",Summary!$K$32)","v":"Split-Sample Percent Difference"}]
[68,{"$f":"IF(Summary!$L$41=\"\",\"\",Summary!$L$41)","v":""},{"$f":"IF(Summary!$C$26=\"\",\"\",Summary!$C$26)","v":"Summary:Tex-418-A"},{"$f":"IF(Summary!$B$41=\"\",\"\",Summary!$B$41)","v":4},{"$f":"IF(Summary!$L$32=\"\",\"\",Summary!$L$32)","v":"Within Allowable Difference for Split-Sample?"}]
[69,{"$f":"IF(Summary!$M$41=\"\",\"\",Summary!$M$41)","v":""},{"$f":"IF(Summary!$C$26=\"\",\"\",Summary!$C$26)","v":"Summary:Tex-418-A"},{"$f":"IF(Summary!$B$41=\"\",\"\",Summary!$B$41)","v":4},{"$f":"IF(Summary!$M$32=\"\",\"\",Summary!$M$32)","v":"Percent Difference"}]
[70,{"$f":"IF(Summary!$N$41=\"\",\"\",Summary!$N$41)","v":""},{"$f":"IF(Summary!$C$26=\"\",\"\",Summary!$C$26)","v":"Summary:Tex-418-A"},{"$f":"IF(Summary!$B$41=\"\",\"\",Summary!$B$41)","v":4},{"$f":"IF(Summary!$N$32=\"\",\"\",Summary!$N$32)","v":"Within Allowable Difference?"}]
[71,{"$f":"IF(Summary!$G$42=\"\",\"\",Summary!$G$42)","v":""},{"$f":"IF(Summary!$C$26=\"\",\"\",Summary!$C$26)","v":"Summary:Tex-418-A"},{"$f":"IF(Summary!$B$41=\"\",\"\",Summary!$B$41)","v":4},{"$f":"IF(Summary!$G$31=\"\",\"\",Summary!$G$31)","v":"Contractor Test Data"},{"$f":"IF(Summary!$G$32=\"\",\"\",Summary!$G$32)","v":"Compressive Strength (psi)"}]
[72,{"$f":"IF(Summary!$I$42=\"\",\"\",Summary!$I$42)","v":""},{"$f":"IF(Summary!$C$26=\"\",\"\",Summary!$C$26)","v":"Summary:Tex-418-A"},{"$f":"IF(Summary!$B$41=\"\",\"\",Summary!$B$41)","v":4},{"$f":"IF(Summary!$I$31=\"\",\"\",Summary!$I$31)","v":"TxDOT Test Data"},{"$f":"IF(Summary!$I$32=\"\",\"\",Summary!$I$32)","v":"Compressive Strength (psi)"}]
[73,{"$f":"IF(Summary!$C$43=\"\",\"\",Summary!$C$43)","v":""},{"$f":"IF(Summary!$C$26=\"\",\"\",Summary!$C$26)","v":"Summary:Tex-418-A"},{"$f":"IF(Summary!$B$43=\"\",\"\",Summary!$B$43)","v":5},{"$f":"IF(Summary!$C$32=\"\",\"\",Summary!$C$32)","v":"Date Cast"}]
[74,{"$f":"IF(Summary!$E$43=\"\",\"\",Summary!$E$43)","v":""},{"$f":"IF(Summary!$C$26=\"\",\"\",Summary!$C$26)","v":"Summary:Tex-418-A"},{"$f":"IF(Summary!$B$43=\"\",\"\",Summary!$B$43)","v":5},{"$f":"IF(Summary!$E$32=\"\",\"\",Summary!$E$32)","v":"Station"}]
[75,{"$f":"IF(Summary!$F$43=\"\",\"\",Summary!$F$43)","v":""},{"$f":"IF(Summary!$C$26=\"\",\"\",Summary!$C$26)","v":"Summary:Tex-418-A"},{"$f":"IF(Summary!$B$43=\"\",\"\",Summary!$B$43)","v":5},{"$f":"IF(Summary!$F$32=\"\",\"\",Summary!$F$32)","v":"Age (Days)"}]
[76,{"$f":"IF(Summary!$G$43=\"\",\"\",Summary!$G$43)","v":""},{"$f":"IF(Summary!$C$26=\"\",\"\",Summary!$C$26)","v":"Summary:Tex-418-A"},{"$f":"IF(Summary!$B$43=\"\",\"\",Summary!$B$43)","v":5},{"$f":"IF(Summary!$G$31=\"\",\"\",Summary!$G$31)","v":"Contractor Test Data"},{"$f":"IF(Summary!$G$32=\"\",\"\",Summary!$G$32)","v":"Compressive Strength (psi)"}]
[77,{"$f":"IF(Summary!$H$43=\"\",\"\",Summary!$H$43)","v":""},{"$f":"IF(Summary!$C$26=\"\",\"\",Summary!$C$26)","v":"Summary:Tex-418-A"},{"$f":"IF(Summary!$B$43=\"\",\"\",Summary!$B$43)","v":5},{"$f":"IF(Summary!$G$31=\"\",\"\",Summary!$G$31)","v":"Contractor Test Data"},{"$f":"IF(Summary!$H$32=\"\",\"\",Summary!$H$32)","v":"Compressive Strength (avg) (psi)"}]
[78,{"$f":"IF(Summary!$I$43=\"\",\"\",Summary!$I$43)","v":""},{"$f":"IF(Summary!$C$26=\"\",\"\",Summary!$C$26)","v":"Summary:Tex-418-A"},{"$f":"IF(Summary!$B$43=\"\",\"\",Summary!$B$43)","v":5},{"$f":"IF(Summary!$I$31=\"\",\"\",Summary!$I$31)","v":"TxDOT Test Data"},{"$f":"IF(Summary!$I$32=\"\",\"\",Summary!$I$32)","v":"Compressive Strength (psi)"}]
[79,{"$f":"IF(Summary!$J$43=\"\",\"\",Summary!$J$43)","v":""},{"$f":"IF(Summary!$C$26=\"\",\"\",Summary!$C$26)","v":"Summary:Tex-418-A"},{"$f":"IF(Summary!$B$43=\"\",\"\",Summary!$B$43)","v":5},{"$f":"IF(Summary!$I$31=\"\",\"\",Summary!$I$31)","v":"TxDOT Test Data"},{"$f":"IF(Summary!$J$32=\"\",\"\",Summary!$J$32)","v":"Compressive Strength (avg) (psi)"}]
[80,{"$f":"IF(Summary!$K$43=\"\",\"\",Summary!$K$43)","v":""},{"$f":"IF(Summary!$C$26=\"\",\"\",Summary!$C$26)","v":"Summary:Tex-418-A"},{"$f":"IF(Summary!$B$43=\"\",\"\",Summary!$B$43)","v":5},{"$f":"IF(Summary!$K$32=\"\",\"\",Summary!$K$32)","v":"Split-Sample Percent Difference"}]
[81,{"$f":"IF(Summary!$L$43=\"\",\"\",Summary!$L$43)","v":""},{"$f":"IF(Summary!$C$26=\"\",\"\",Summary!$C$26)","v":"Summary:Tex-418-A"},{"$f":"IF(Summary!$B$43=\"\",\"\",Summary!$B$43)","v":5},{"$f":"IF(Summary!$L$32=\"\",\"\",Summary!$L$32)","v":"Within Allowable Difference for Split-Sample?"}]
[82,{"$f":"IF(Summary!$M$43=\"\",\"\",Summary!$M$43)","v":""},{"$f":"IF(Summary!$C$26=\"\",\"\",Summary!$C$26)","v":"Summary:Tex-418-A"},{"$f":"IF(Summary!$B$43=\"\",\"\",Summary!$B$43)","v":5},{"$f":"IF(Summary!$M$32=\"\",\"\",Summary!$M$32)","v":"Percent Difference"}]
[83,{"$f":"IF(Summary!$N$43=\"\",\"\",Summary!$N$43)","v":""},{"$f":"IF(Summary!$C$26=\"\",\"\",Summary!$C$26)","v":"Summary:Tex-418-A"},{"$f":"IF(Summary!$B$43=\"\",\"\",Summary!$B$43)","v":5},{"$f":"IF(Summary!$N$32=\"\",\"\",Summary!$N$32)","v":"Within Allowable Difference?"}]
[84,{"$f":"IF(Summary!$G$44=\"\",\"\",Summary!$G$44)","v":""},{"$f":"IF(Summary!$C$26=\"\",\"\",Summary!$C$26)","v":"Summary:Tex-418-A"},{"$f":"IF(Summary!$B$43=\"\",\"\",Summary!$B$43)","v":5},{"$f":"IF(Summary!$G$31=\"\",\"\",Summary!$G$31)","v":"Contractor Test Data"},{"$f":"IF(Summary!$G$32=\"\",\"\",Summary!$G$32)","v":"Compressive Strength (psi)"}]
[85,{"$f":"IF(Summary!$I$44=\"\",\"\",Summary!$I$44)","v":""},{"$f":"IF(Summary!$C$26=\"\",\"\",Summary!$C$26)","v":"Summary:Tex-418-A"},{"$f":"IF(Summary!$B$43=\"\",\"\",Summary!$B$43)","v":5},{"$f":"IF(Summary!$I$31=\"\",\"\",Summary!$I$31)","v":"TxDOT Test Data"},{"$f":"IF(Summary!$I$32=\"\",\"\",Summary!$I$32)","v":"Compressive Strength (psi)"}]
[86,{"$f":"IF(Summary!$C$45=\"\",\"\",Summary!$C$45)","v":""},{"$f":"IF(Summary!$C$26=\"\",\"\",Summary!$C$26)","v":"Summary:Tex-418-A"},{"$f":"IF(Summary!$B$45=\"\",\"\",Summary!$B$45)","v":6},{"$f":"IF(Summary!$C$32=\"\",\"\",Summary!$C$32)","v":"Date Cast"}]
[87,{"$f":"IF(Summary!$E$45=\"\",\"\",Summary!$E$45)","v":""},{"$f":"IF(Summary!$C$26=\"\",\"\",Summary!$C$26)","v":"Summary:Tex-418-A"},{"$f":"IF(Summary!$B$45=\"\",\"\",Summary!$B$45)","v":6},{"$f":"IF(Summary!$E$32=\"\",\"\",Summary!$E$32)","v":"Station"}]
[88,{"$f":"IF(Summary!$F$45=\"\",\"\",Summary!$F$45)","v":""},{"$f":"IF(Summary!$C$26=\"\",\"\",Summary!$C$26)","v":"Summary:Tex-418-A"},{"$f":"IF(Summary!$B$45=\"\",\"\",Summary!$B$45)","v":6},{"$f":"IF(Summary!$F$32=\"\",\"\",Summary!$F$32)","v":"Age (Days)"}]
[89,{"$f":"IF(Summary!$G$45=\"\",\"\",Summary!$G$45)","v":""},{"$f":"IF(Summary!$C$26=\"\",\"\",Summary!$C$26)","v":"Summary:Tex-418-A"},{"$f":"IF(Summary!$B$45=\"\",\"\",Summary!$B$45)","v":6},{"$f":"IF(Summary!$G$31=\"\",\"\",Summary!$G$31)","v":"Contractor Test Data"},{"$f":"IF(Summary!$G$32=\"\",\"\",Summary!$G$32)","v":"Compressive Strength (psi)"}]
[90,{"$f":"IF(Summary!$H$45=\"\",\"\",Summary!$H$45)","v":""},{"$f":"IF(Summary!$C$26=\"\",\"\",Summary!$C$26)","v":"Summary:Tex-418-A"},{"$f":"IF(Summary!$B$45=\"\",\"\",Summary!$B$45)","v":6},{"$f":"IF(Summary!$G$31=\"\",\"\",Summary!$G$31)","v":"Contractor Test Data"},{"$f":"IF(Summary!$H$32=\"\",\"\",Summary!$H$32)","v":"Compressive Strength (avg) (psi)"}]
[91,{"$f":"IF(Summary!$I$45=\"\",\"\",Summary!$I$45)","v":""},{"$f":"IF(Summary!$C$26=\"\",\"\",Summary!$C$26)","v":"Summary:Tex-418-A"},{"$f":"IF(Summary!$B$45=\"\",\"\",Summary!$B$45)","v":6},{"$f":"IF(Summary!$I$31=\"\",\"\",Summary!$I$31)","v":"TxDOT Test Data"},{"$f":"IF(Summary!$I$32=\"\",\"\",Summary!$I$32)","v":"Compressive Strength (psi)"}]
[92,{"$f":"IF(Summary!$J$45=\"\",\"\",Summary!$J$45)","v":""},{"$f":"IF(Summary!$C$26=\"\",\"\",Summary!$C$26)","v":"Summary:Tex-418-A"},{"$f":"IF(Summary!$B$45=\"\",\"\",Summary!$B$45)","v":6},{"$f":"IF(Summary!$I$31=\"\",\"\",Summary!$I$31)","v":"TxDOT Test Data"},{"$f":"IF(Summary!$J$32=\"\",\"\",Summary!$J$32)","v":"Compressive Strength (avg) (psi)"}]
[93,{"$f":"IF(Summary!$K$45=\"\",\"\",Summary!$K$45)","v":""},{"$f":"IF(Summary!$C$26=\"\",\"\",Summary!$C$26)","v":"Summary:Tex-418-A"},{"$f":"IF(Summary!$B$45=\"\",\"\",Summary!$B$45)","v":6},{"$f":"IF(Summary!$K$32=\"\",\"\",Summary!$K$32)","v":"Split-Sample Percent Difference"}]
[94,{"$f":"IF(Summary!$L$45=\"\",\"\",Summary!$L$45)","v":""},{"$f":"IF(Summary!$C$26=\"\",\"\",Summary!$C$26)","v":"Summary:Tex-418-A"},{"$f":"IF(Summary!$B$45=\"\",\"\",Summary!$B$45)","v":6},{"$f":"IF(Summary!$L$32=\"\",\"\",Summary!$L$32)","v":"Within Allowable Difference for Split-Sample?"}]
[95,{"$f":"IF(Summary!$M$45=\"\",\"\",Summary!$M$45)","v":""},{"$f":"IF(Summary!$C$26=\"\",\"\",Summary!$C$26)","v":"Summary:Tex-418-A"},{"$f":"IF(Summary!$B$45=\"\",\"\",Summary!$B$45)","v":6},{"$f":"IF(Summary!$M$32=\"\",\"\",Summary!$M$32)","v":"Percent Difference"}]
[96,{"$f":"IF(Summary!$N$45=\"\",\"\",Summary!$N$45)","v":""},{"$f":"IF(Summary!$C$26=\"\",\"\",Summary!$C$26)","v":"Summary:Tex-418-A"},{"$f":"IF(Summary!$B$45=\"\",\"\",Summary!$B$45)","v":6},{"$f":"IF(Summary!$N$32=\"\",\"\",Summary!$N$32)","v":"Within Allowable Difference?"}]
[97,{"$f":"IF(Summary!$G$46=\"\",\"\",Summary!$G$46)","v":""},{"$f":"IF(Summary!$C$26=\"\",\"\",Summary!$C$26)","v":"Summary:Tex-418-A"},{"$f":"IF(Summary!$B$45=\"\",\"\",Summary!$B$45)","v":6},{"$f":"IF(Summary!$G$31=\"\",\"\",Summary!$G$31)","v":"Contractor Test Data"},{"$f":"IF(Summary!$G$32=\"\",\"\",Summary!$G$32)","v":"Compressive Strength (psi)"}]
[98,{"$f":"IF(Summary!$I$46=\"\",\"\",Summary!$I$46)","v":""},{"$f":"IF(Summary!$C$26=\"\",\"\",Summary!$C$26)","v":"Summary:Tex-418-A"},{"$f":"IF(Summary!$B$45=\"\",\"\",Summary!$B$45)","v":6},{"$f":"IF(Summary!$I$31=\"\",\"\",Summary!$I$31)","v":"TxDOT Test Data"},{"$f":"IF(Summary!$I$32=\"\",\"\",Summary!$I$32)","v":"Compressive Strength (psi)"}]
[99,{"$f":"IF(Summary!$C$47=\"\",\"\",Summary!$C$47)","v":""},{"$f":"IF(Summary!$C$26=\"\",\"\",Summary!$C$26)","v":"Summary:Tex-418-A"},{"$f":"IF(Summary!$B$47=\"\",\"\",Summary!$B$47)","v":7},{"$f":"IF(Summary!$C$32=\"\",\"\",Summary!$C$32)","v":"Date Cast"}]
[100,{"$f":"IF(Summary!$E$47=\"\",\"\",Summary!$E$47)","v":""},{"$f":"IF(Summary!$C$26=\"\",\"\",Summary!$C$26)","v":"Summary:Tex-418-A"},{"$f":"IF(Summary!$B$47=\"\",\"\",Summary!$B$47)","v":7},{"$f":"IF(Summary!$E$32=\"\",\"\",Summary!$E$32)","v":"Station"}]
[101,{"$f":"IF(Summary!$F$47=\"\",\"\",Summary!$F$47)","v":""},{"$f":"IF(Summary!$C$26=\"\",\"\",Summary!$C$26)","v":"Summary:Tex-418-A"},{"$f":"IF(Summary!$B$47=\"\",\"\",Summary!$B$47)","v":7},{"$f":"IF(Summary!$F$32=\"\",\"\",Summary!$F$32)","v":"Age (Days)"}]
[102,{"$f":"IF(Summary!$G$47=\"\",\"\",Summary!$G$47)","v":""},{"$f":"IF(Summary!$C$26=\"\",\"\",Summary!$C$26)","v":"Summary:Tex-418-A"},{"$f":"IF(Summary!$B$47=\"\",\"\",Summary!$B$47)","v":7},{"$f":"IF(Summary!$G$31=\"\",\"\",Summary!$G$31)","v":"Contractor Test Data"},{"$f":"IF(Summary!$G$32=\"\",\"\",Summary!$G$32)","v":"Compressive Strength (psi)"}]
[103,{"$f":"IF(Summary!$H$47=\"\",\"\",Summary!$H$47)","v":""},{"$f":"IF(Summary!$C$26=\"\",\"\",Summary!$C$26)","v":"Summary:Tex-418-A"},{"$f":"IF(Summary!$B$47=\"\",\"\",Summary!$B$47)","v":7},{"$f":"IF(Summary!$G$31=\"\",\"\",Summary!$G$31)","v":"Contractor Test Data"},{"$f":"IF(Summary!$H$32=\"\",\"\",Summary!$H$32)","v":"Compressive Strength (avg) (psi)"}]
[104,{"$f":"IF(Summary!$I$47=\"\",\"\",Summary!$I$47)","v":""},{"$f":"IF(Summary!$C$26=\"\",\"\",Summary!$C$26)","v":"Summary:Tex-418-A"},{"$f":"IF(Summary!$B$47=\"\",\"\",Summary!$B$47)","v":7},{"$f":"IF(Summary!$I$31=\"\",\"\",Summary!$I$31)","v":"TxDOT Test Data"},{"$f":"IF(Summary!$I$32=\"\",\"\",Summary!$I$32)","v":"Compressive Strength (psi)"}]
[105,{"$f":"IF(Summary!$J$47=\"\",\"\",Summary!$J$47)","v":""},{"$f":"IF(Summary!$C$26=\"\",\"\",Summary!$C$26)","v":"Summary:Tex-418-A"},{"$f":"IF(Summary!$B$47=\"\",\"\",Summary!$B$47)","v":7},{"$f":"IF(Summary!$I$31=\"\",\"\",Summary!$I$31)","v":"TxDOT Test Data"},{"$f":"IF(Summary!$J$32=\"\",\"\",Summary!$J$32)","v":"Compressive Strength (avg) (psi)"}]
[106,{"$f":"IF(Summary!$K$47=\"\",\"\",Summary!$K$47)","v":""},{"$f":"IF(Summary!$C$26=\"\",\"\",Summary!$C$26)","v":"Summary:Tex-418-A"},{"$f":"IF(Summary!$B$47=\"\",\"\",Summary!$B$47)","v":7},{"$f":"IF(Summary!$K$32=\"\",\"\",Summary!$K$32)","v":"Split-Sample Percent Difference"}]
[107,{"$f":"IF(Summary!$L$47=\"\",\"\",Summary!$L$47)","v":""},{"$f":"IF(Summary!$C$26=\"\",\"\",Summary!$C$26)","v":"Summary:Tex-418-A"},{"$f":"IF(Summary!$B$47=\"\",\"\",Summary!$B$47)","v":7},{"$f":"IF(Summary!$L$32=\"\",\"\",Summary!$L$32)","v":"Within Allowable Difference for Split-Sample?"}]
[108,{"$f":"IF(Summary!$M$47=\"\",\"\",Summary!$M$47)","v":""},{"$f":"IF(Summary!$C$26=\"\",\"\",Summary!$C$26)","v":"Summary:Tex-418-A"},{"$f":"IF(Summary!$B$47=\"\",\"\",Summary!$B$47)","v":7},{"$f":"IF(Summary!$M$32=\"\",\"\",Summary!$M$32)","v":"Percent Difference"}]
[109,{"$f":"IF(Summary!$N$47=\"\",\"\",Summary!$N$47)","v":""},{"$f":"IF(Summary!$C$26=\"\",\"\",Summary!$C$26)","v":"Summary:Tex-418-A"},{"$f":"IF(Summary!$B$47=\"\",\"\",Summary!$B$47)","v":7},{"$f":"IF(Summary!$N$32=\"\",\"\",Summary!$N$32)","v":"Within Allowable Difference?"}]
[110,{"$f":"IF(Summary!$G$48=\"\",\"\",Summary!$G$48)","v":""},{"$f":"IF(Summary!$C$26=\"\",\"\",Summary!$C$26)","v":"Summary:Tex-418-A"},{"$f":"IF(Summary!$B$47=\"\",\"\",Summary!$B$47)","v":7},{"$f":"IF(Summary!$G$31=\"\",\"\",Summary!$G$31)","v":"Contractor Test Data"},{"$f":"IF(Summary!$G$32=\"\",\"\",Summary!$G$32)","v":"Compressive Strength (psi)"}]
[111,{"$f":"IF(Summary!$I$48=\"\",\"\",Summary!$I$48)","v":""},{"$f":"IF(Summary!$C$26=\"\",\"\",Summary!$C$26)","v":"Summary:Tex-418-A"},{"$f":"IF(Summary!$B$47=\"\",\"\",Summary!$B$47)","v":7},{"$f":"IF(Summary!$I$31=\"\",\"\",Summary!$I$31)","v":"TxDOT Test Data"},{"$f":"IF(Summary!$I$32=\"\",\"\",Summary!$I$32)","v":"Compressive Strength (psi)"}]
[112,{"$f":"IF(Summary!$C$49=\"\",\"\",Summary!$C$49)","v":""},{"$f":"IF(Summary!$C$26=\"\",\"\",Summary!$C$26)","v":"Summary:Tex-418-A"},{"$f":"IF(Summary!$B$49=\"\",\"\",Summary!$B$49)","v":8},{"$f":"IF(Summary!$C$32=\"\",\"\",Summary!$C$32)","v":"Date Cast"}]
[113,{"$f":"IF(Summary!$E$49=\"\",\"\",Summary!$E$49)","v":""},{"$f":"IF(Summary!$C$26=\"\",\"\",Summary!$C$26)","v":"Summary:Tex-418-A"},{"$f":"IF(Summary!$B$49=\"\",\"\",Summary!$B$49)","v":8},{"$f":"IF(Summary!$E$32=\"\",\"\",Summary!$E$32)","v":"Station"}]
[114,{"$f":"IF(Summary!$F$49=\"\",\"\",Summary!$F$49)","v":""},{"$f":"IF(Summary!$C$26=\"\",\"\",Summary!$C$26)","v":"Summary:Tex-418-A"},{"$f":"IF(Summary!$B$49=\"\",\"\",Summary!$B$49)","v":8},{"$f":"IF(Summary!$F$32=\"\",\"\",Summary!$F$32)","v":"Age (Days)"}]
[115,{"$f":"IF(Summary!$G$49=\"\",\"\",Summary!$G$49)","v":""},{"$f":"IF(Summary!$C$26=\"\",\"\",Summary!$C$26)","v":"Summary:Tex-418-A"},{"$f":"IF(Summary!$B$49=\"\",\"\",Summary!$B$49)","v":8},{"$f":"IF(Summary!$G$31=\"\",\"\",Summary!$G$31)","v":"Contractor Test Data"},{"$f":"IF(Summary!$G$32=\"\",\"\",Summary!$G$32)","v":"Compressive Strength (psi)"}]
[116,{"$f":"IF(Summary!$H$49=\"\",\"\",Summary!$H$49)","v":""},{"$f":"IF(Summary!$C$26=\"\",\"\",Summary!$C$26)","v":"Summary:Tex-418-A"},{"$f":"IF(Summary!$B$49=\"\",\"\",Summary!$B$49)","v":8},{"$f":"IF(Summary!$G$31=\"\",\"\",Summary!$G$31)","v":"Contractor Test Data"},{"$f":"IF(Summary!$H$32=\"\",\"\",Summary!$H$32)","v":"Compressive Strength (avg) (psi)"}]
[117,{"$f":"IF(Summary!$I$49=\"\",\"\",Summary!$I$49)","v":""},{"$f":"IF(Summary!$C$26=\"\",\"\",Summary!$C$26)","v":"Summary:Tex-418-A"},{"$f":"IF(Summary!$B$49=\"\",\"\",Summary!$B$49)","v":8},{"$f":"IF(Summary!$I$31=\"\",\"\",Summary!$I$31)","v":"TxDOT Test Data"},{"$f":"IF(Summary!$I$32=\"\",\"\",Summary!$I$32)","v":"Compressive Strength (psi)"}]
[118,{"$f":"IF(Summary!$J$49=\"\",\"\",Summary!$J$49)","v":""},{"$f":"IF(Summary!$C$26=\"\",\"\",Summary!$C$26)","v":"Summary:Tex-418-A"},{"$f":"IF(Summary!$B$49=\"\",\"\",Summary!$B$49)","v":8},{"$f":"IF(Summary!$I$31=\"\",\"\",Summary!$I$31)","v":"TxDOT Test Data"},{"$f":"IF(Summary!$J$32=\"\",\"\",Summary!$J$32)","v":"Compressive Strength (avg) (psi)"}]
[119,{"$f":"IF(Summary!$K$49=\"\",\"\",Summary!$K$49)","v":""},{"$f":"IF(Summary!$C$26=\"\",\"\",Summary!$C$26)","v":"Summary:Tex-418-A"},{"$f":"IF(Summary!$B$49=\"\",\"\",Summary!$B$49)","v":8},{"$f":"IF(Summary!$K$32=\"\",\"\",Summary!$K$32)","v":"Split-Sample Percent Difference"}]
[120,{"$f":"IF(Summary!$L$49=\"\",\"\",Summary!$L$49)","v":""},{"$f":"IF(Summary!$C$26=\"\",\"\",Summary!$C$26)","v":"Summary:Tex-418-A"},{"$f":"IF(Summary!$B$49=\"\",\"\",Summary!$B$49)","v":8},{"$f":"IF(Summary!$L$32=\"\",\"\",Summary!$L$32)","v":"Within Allowable Difference for Split-Sample?"}]
[121,{"$f":"IF(Summary!$M$49=\"\",\"\",Summary!$M$49)","v":""},{"$f":"IF(Summary!$C$26=\"\",\"\",Summary!$C$26)","v":"Summary:Tex-418-A"},{"$f":"IF(Summary!$B$49=\"\",\"\",Summary!$B$49)","v":8},{"$f":"IF(Summary!$M$32=\"\",\"\",Summary!$M$32)","v":"Percent Difference"}]
[122,{"$f":"IF(Summary!$N$49=\"\",\"\",Summary!$N$49)","v":""},{"$f":"IF(Summary!$C$26=\"\",\"\",Summary!$C$26)","v":"Summary:Tex-418-A"},{"$f":"IF(Summary!$B$49=\"\",\"\",Summary!$B$49)","v":8},{"$f":"IF(Summary!$N$32=\"\",\"\",Summary!$N$32)","v":"Within Allowable Difference?"}]
[123,{"$f":"IF(Summary!$G$50=\"\",\"\",Summary!$G$50)","v":""},{"$f":"IF(Summary!$C$26=\"\",\"\",Summary!$C$26)","v":"Summary:Tex-418-A"},{"$f":"IF(Summary!$B$49=\"\",\"\",Summary!$B$49)","v":8},{"$f":"IF(Summary!$G$31=\"\",\"\",Summary!$G$31)","v":"Contractor Test Data"},{"$f":"IF(Summary!$G$32=\"\",\"\",Summary!$G$32)","v":"Compressive Strength (psi)"}]
[124,{"$f":"IF(Summary!$I$50=\"\",\"\",Summary!$I$50)","v":""},{"$f":"IF(Summary!$C$26=\"\",\"\",Summary!$C$26)","v":"Summary:Tex-418-A"},{"$f":"IF(Summary!$B$49=\"\",\"\",Summary!$B$49)","v":8},{"$f":"IF(Summary!$I$31=\"\",\"\",Summary!$I$31)","v":"TxDOT Test Data"},{"$f":"IF(Summary!$I$32=\"\",\"\",Summary!$I$32)","v":"Compressive Strength (psi)"}]
[125,{"$f":"IF(Summary!$C$51=\"\",\"\",Summary!$C$51)","v":""},{"$f":"IF(Summary!$C$26=\"\",\"\",Summary!$C$26)","v":"Summary:Tex-418-A"},{"$f":"IF(Summary!$B$51=\"\",\"\",Summary!$B$51)","v":9},{"$f":"IF(Summary!$C$32=\"\",\"\",Summary!$C$32)","v":"Date Cast"}]
[126,{"$f":"IF(Summary!$E$51=\"\",\"\",Summary!$E$51)","v":""},{"$f":"IF(Summary!$C$26=\"\",\"\",Summary!$C$26)","v":"Summary:Tex-418-A"},{"$f":"IF(Summary!$B$51=\"\",\"\",Summary!$B$51)","v":9},{"$f":"IF(Summary!$E$32=\"\",\"\",Summary!$E$32)","v":"Station"}]
[127,{"$f":"IF(Summary!$F$51=\"\",\"\",Summary!$F$51)","v":""},{"$f":"IF(Summary!$C$26=\"\",\"\",Summary!$C$26)","v":"Summary:Tex-418-A"},{"$f":"IF(Summary!$B$51=\"\",\"\",Summary!$B$51)","v":9},{"$f":"IF(Summary!$F$32=\"\",\"\",Summary!$F$32)","v":"Age (Days)"}]
[128,{"$f":"IF(Summary!$G$51=\"\",\"\",Summary!$G$51)","v":""},{"$f":"IF(Summary!$C$26=\"\",\"\",Summary!$C$26)","v":"Summary:Tex-418-A"},{"$f":"IF(Summary!$B$51=\"\",\"\",Summary!$B$51)","v":9},{"$f":"IF(Summary!$G$31=\"\",\"\",Summary!$G$31)","v":"Contractor Test Data"},{"$f":"IF(Summary!$G$32=\"\",\"\",Summary!$G$32)","v":"Compressive Strength (psi)"}]
[129,{"$f":"IF(Summary!$H$51=\"\",\"\",Summary!$H$51)","v":""},{"$f":"IF(Summary!$C$26=\"\",\"\",Summary!$C$26)","v":"Summary:Tex-418-A"},{"$f":"IF(Summary!$B$51=\"\",\"\",Summary!$B$51)","v":9},{"$f":"IF(Summary!$G$31=\"\",\"\",Summary!$G$31)","v":"Contractor Test Data"},{"$f":"IF(Summary!$H$32=\"\",\"\",Summary!$H$32)","v":"Compressive Strength (avg) (psi)"}]
[130,{"$f":"IF(Summary!$I$51=\"\",\"\",Summary!$I$51)","v":""},{"$f":"IF(Summary!$C$26=\"\",\"\",Summary!$C$26)","v":"Summary:Tex-418-A"},{"$f":"IF(Summary!$B$51=\"\",\"\",Summary!$B$51)","v":9},{"$f":"IF(Summary!$I$31=\"\",\"\",Summary!$I$31)","v":"TxDOT Test Data"},{"$f":"IF(Summary!$I$32=\"\",\"\",Summary!$I$32)","v":"Compressive Strength (psi)"}]
[131,{"$f":"IF(Summary!$J$51=\"\",\"\",Summary!$J$51)","v":""},{"$f":"IF(Summary!$C$26=\"\",\"\",Summary!$C$26)","v":"Summary:Tex-418-A"},{"$f":"IF(Summary!$B$51=\"\",\"\",Summary!$B$51)","v":9},{"$f":"IF(Summary!$I$31=\"\",\"\",Summary!$I$31)","v":"TxDOT Test Data"},{"$f":"IF(Summary!$J$32=\"\",\"\",Summary!$J$32)","v":"Compressive Strength (avg) (psi)"}]
[132,{"$f":"IF(Summary!$K$51=\"\",\"\",Summary!$K$51)","v":""},{"$f":"IF(Summary!$C$26=\"\",\"\",Summary!$C$26)","v":"Summary:Tex-418-A"},{"$f":"IF(Summary!$B$51=\"\",\"\",Summary!$B$51)","v":9},{"$f":"IF(Summary!$K$32=\"\",\"\",Summary!$K$32)","v":"Split-Sample Percent Difference"}]
[133,{"$f":"IF(Summary!$L$51=\"\",\"\",Summary!$L$51)","v":""},{"$f":"IF(Summary!$C$26=\"\",\"\",Summary!$C$26)","v":"Summary:Tex-418-A"},{"$f":"IF(Summary!$B$51=\"\",\"\",Summary!$B$51)","v":9},{"$f":"IF(Summary!$L$32=\"\",\"\",Summary!$L$32)","v":"Within Allowable Difference for Split-Sample?"}]
[134,{"$f":"IF(Summary!$M$51=\"\",\"\",Summary!$M$51)","v":""},{"$f":"IF(Summary!$C$26=\"\",\"\",Summary!$C$26)","v":"Summary:Tex-418-A"},{"$f":"IF(Summary!$B$51=\"\",\"\",Summary!$B$51)","v":9},{"$f":"IF(Summary!$M$32=\"\",\"\",Summary!$M$32)","v":"Percent Difference"}]
[135,{"$f":"IF(Summary!$N$51=\"\",\"\",Summary!$N$51)","v":""},{"$f":"IF(Summary!$C$26=\"\",\"\",Summary!$C$26)","v":"Summary:Tex-418-A"},{"$f":"IF(Summary!$B$51=\"\",\"\",Summary!$B$51)","v":9},{"$f":"IF(Summary!$N$32=\"\",\"\",Summary!$N$32)","v":"Within Allowable Difference?"}]
[136,{"$f":"IF(Summary!$G$52=\"\",\"\",Summary!$G$52)","v":""},{"$f":"IF(Summary!$C$26=\"\",\"\",Summary!$C$26)","v":"Summary:Tex-418-A"},{"$f":"IF(Summary!$B$51=\"\",\"\",Summary!$B$51)","v":9},{"$f":"IF(Summary!$G$31=\"\",\"\",Summary!$G$31)","v":"Contractor Test Data"},{"$f":"IF(Summary!$G$32=\"\",\"\",Summary!$G$32)","v":"Compressive Strength (psi)"}]
[137,{"$f":"IF(Summary!$I$52=\"\",\"\",Summary!$I$52)","v":""},{"$f":"IF(Summary!$C$26=\"\",\"\",Summary!$C$26)","v":"Summary:Tex-418-A"},{"$f":"IF(Summary!$B$51=\"\",\"\",Summary!$B$51)","v":9},{"$f":"IF(Summary!$I$31=\"\",\"\",Summary!$I$31)","v":"TxDOT Test Data"},{"$f":"IF(Summary!$I$32=\"\",\"\",Summary!$I$32)","v":"Compressive Strength (psi)"}]
[138,{"$f":"IF(Summary!$C$53=\"\",\"\",Summary!$C$53)","v":""},{"$f":"IF(Summary!$C$26=\"\",\"\",Summary!$C$26)","v":"Summary:Tex-418-A"},{"$f":"IF(Summary!$B$53=\"\",\"\",Summary!$B$53)","v":10},{"$f":"IF(Summary!$C$32=\"\",\"\",Summary!$C$32)","v":"Date Cast"}]
[139,{"$f":"IF(Summary!$E$53=\"\",\"\",Summary!$E$53)","v":""},{"$f":"IF(Summary!$C$26=\"\",\"\",Summary!$C$26)","v":"Summary:Tex-418-A"},{"$f":"IF(Summary!$B$53=\"\",\"\",Summary!$B$53)","v":10},{"$f":"IF(Summary!$E$32=\"\",\"\",Summary!$E$32)","v":"Station"}]
[140,{"$f":"IF(Summary!$F$53=\"\",\"\",Summary!$F$53)","v":""},{"$f":"IF(Summary!$C$26=\"\",\"\",Summary!$C$26)","v":"Summary:Tex-418-A"},{"$f":"IF(Summary!$B$53=\"\",\"\",Summary!$B$53)","v":10},{"$f":"IF(Summary!$F$32=\"\",\"\",Summary!$F$32)","v":"Age (Days)"}]
[141,{"$f":"IF(Summary!$G$53=\"\",\"\",Summary!$G$53)","v":""},{"$f":"IF(Summary!$C$26=\"\",\"\",Summary!$C$26)","v":"Summary:Tex-418-A"},{"$f":"IF(Summary!$B$53=\"\",\"\",Summary!$B$53)","v":10},{"$f":"IF(Summary!$G$31=\"\",\"\",Summary!$G$31)","v":"Contractor Test Data"},{"$f":"IF(Summary!$G$32=\"\",\"\",Summary!$G$32)","v":"Compressive Strength (psi)"}]
[142,{"$f":"IF(Summary!$H$53=\"\",\"\",Summary!$H$53)","v":""},{"$f":"IF(Summary!$C$26=\"\",\"\",Summary!$C$26)","v":"Summary:Tex-418-A"},{"$f":"IF(Summary!$B$53=\"\",\"\",Summary!$B$53)","v":10},{"$f":"IF(Summary!$G$31=\"\",\"\",Summary!$G$31)","v":"Contractor Test Data"},{"$f":"IF(Summary!$H$32=\"\",\"\",Summary!$H$32)","v":"Compressive Strength (avg) (psi)"}]
[143,{"$f":"IF(Summary!$I$53=\"\",\"\",Summary!$I$53)","v":""},{"$f":"IF(Summary!$C$26=\"\",\"\",Summary!$C$26)","v":"Summary:Tex-418-A"},{"$f":"IF(Summary!$B$53=\"\",\"\",Summary!$B$53)","v":10},{"$f":"IF(Summary!$I$31=\"\",\"\",Summary!$I$31)","v":"TxDOT Test Data"},{"$f":"IF(Summary!$I$32=\"\",\"\",Summary!$I$32)","v":"Compressive Strength (psi)"}]
[144,{"$f":"IF(Summary!$J$53=\"\",\"\",Summary!$J$53)","v":""},{"$f":"IF(Summary!$C$26=\"\",\"\",Summary!$C$26)","v":"Summary:Tex-418-A"},{"$f":"IF(Summary!$B$53=\"\",\"\",Summary!$B$53)","v":10},{"$f":"IF(Summary!$I$31=\"\",\"\",Summary!$I$31)","v":"TxDOT Test Data"},{"$f":"IF(Summary!$J$32=\"\",\"\",Summary!$J$32)","v":"Compressive Strength (avg) (psi)"}]
[145,{"$f":"IF(Summary!$K$53=\"\",\"\",Summary!$K$53)","v":""},{"$f":"IF(Summary!$C$26=\"\",\"\",Summary!$C$26)","v":"Summary:Tex-418-A"},{"$f":"IF(Summary!$B$53=\"\",\"\",Summary!$B$53)","v":10},{"$f":"IF(Summary!$K$32=\"\",\"\",Summary!$K$32)","v":"Split-Sample Percent Difference"}]
[146,{"$f":"IF(Summary!$L$53=\"\",\"\",Summary!$L$53)","v":""},{"$f":"IF(Summary!$C$26=\"\",\"\",Summary!$C$26)","v":"Summary:Tex-418-A"},{"$f":"IF(Summary!$B$53=\"\",\"\",Summary!$B$53)","v":10},{"$f":"IF(Summary!$L$32=\"\",\"\",Summary!$L$32)","v":"Within Allowable Difference for Split-Sample?"}]
[147,{"$f":"IF(Summary!$M$53=\"\",\"\",Summary!$M$53)","v":""},{"$f":"IF(Summary!$C$26=\"\",\"\",Summary!$C$26)","v":"Summary:Tex-418-A"},{"$f":"IF(Summary!$B$53=\"\",\"\",Summary!$B$53)","v":10},{"$f":"IF(Summary!$M$32=\"\",\"\",Summary!$M$32)","v":"Percent Difference"}]
[148,{"$f":"IF(Summary!$N$53=\"\",\"\",Summary!$N$53)","v":""},{"$f":"IF(Summary!$C$26=\"\",\"\",Summary!$C$26)","v":"Summary:Tex-418-A"},{"$f":"IF(Summary!$B$53=\"\",\"\",Summary!$B$53)","v":10},{"$f":"IF(Summary!$N$32=\"\",\"\",Summary!$N$32)","v":"Within Allowable Difference?"}]
[149,{"$f":"IF(Summary!$G$54=\"\",\"\",Summary!$G$54)","v":""},{"$f":"IF(Summary!$C$26=\"\",\"\",Summary!$C$26)","v":"Summary:Tex-418-A"},{"$f":"IF(Summary!$B$53=\"\",\"\",Summary!$B$53)","v":10},{"$f":"IF(Summary!$G$31=\"\",\"\",Summary!$G$31)","v":"Contractor Test Data"},{"$f":"IF(Summary!$G$32=\"\",\"\",Summary!$G$32)","v":"Compressive Strength (psi)"}]
[150,{"$f":"IF(Summary!$I$54=\"\",\"\",Summary!$I$54)","v":""},{"$f":"IF(Summary!$C$26=\"\",\"\",Summary!$C$26)","v":"Summary:Tex-418-A"},{"$f":"IF(Summary!$B$53=\"\",\"\",Summary!$B$53)","v":10},{"$f":"IF(Summary!$I$31=\"\",\"\",Summary!$I$31)","v":"TxDOT Test Data"},{"$f":"IF(Summary!$I$32=\"\",\"\",Summary!$I$32)","v":"Compressive Strength (psi)"}]
[151,{"$f":"IF(Summary!$H$55=\"\",\"\",Summary!$H$55)","v":""},{"$f":"IF(Summary!$C$26=\"\",\"\",Summary!$C$26)","v":"Summary:Tex-418-A"},{"$f":"IF(Summary!$G$55=\"\",\"\",Summary!$G$55)","v":"Average"},{"$f":"IF(Summary!$G$31=\"\",\"\",Summary!$G$31)","v":"Contractor Test Data"},{"$f":"IF(Summary!$H$32=\"\",\"\",Summary!$H$32)","v":"Compressive Strength (avg) (psi)"}]
[152,{"$f":"IF(Summary!$G$58=\"\",\"\",Summary!$G$58)","v":""},{"$f":"IF(Summary!$C$57=\"\",\"\",Summary!$C$57)","v":"Summary:Tex-448-A"},{"$f":"IF(Summary!$C$58=\"\",\"\",Summary!$C$58)","v":"Source of Job Control Strength (psi): "}]
[153,{"$f":"IF(Summary!$G$59=\"\",\"\",Summary!$G$59)","v":""},{"$f":"IF(Summary!$C$57=\"\",\"\",Summary!$C$57)","v":"Summary:Tex-448-A"},{"$f":"IF(Summary!$C$59=\"\",\"\",Summary!$C$59)","v":"Other - Day Job Control Strength (psi): "}]
[154,{"$f":"IF(Summary!$G$60=\"\",\"\",Summary!$G$60)","v":""},{"$f":"IF(Summary!$C$57=\"\",\"\",Summary!$C$57)","v":"Summary:Tex-448-A"},{"$f":"IF(Summary!$C$60=\"\",\"\",Summary!$C$60)","v":"Other - Day Job Control Strength (psi): "}]
[155,{"$f":"IF(Summary!$J$58=\"\",\"\",Summary!$J$58)","v":""},{"$f":"IF(Summary!$C$57=\"\",\"\",Summary!$C$57)","v":"Summary:Tex-448-A"},{"$f":"IF(Summary!$H$58=\"\",\"\",Summary!$H$58)","v":"Job Control Age (days): "}]
[156,{"$f":"IF(Summary!$J$59=\"\",\"\",Summary!$J$59)","v":""},{"$f":"IF(Summary!$C$57=\"\",\"\",Summary!$C$57)","v":"Summary:Tex-448-A"},{"$f":"IF(Summary!$H$59=\"\",\"\",Summary!$H$59)","v":"Job Control Age (days): "}]
[157,{"$f":"IF(Summary!$C$65=\"\",\"\",Summary!$C$65)","v":""},{"$f":"IF(Summary!$C$57=\"\",\"\",Summary!$C$57)","v":"Summary:Tex-448-A"},{"$f":"IF(Summary!$B$65=\"\",\"\",Summary!$B$65)","v":1},{"$f":"IF(Summary!$C$63=\"\",\"\",Summary!$C$63)","v":"Date Cast"}]
[158,{"$f":"IF(Summary!$E$65=\"\",\"\",Summary!$E$65)","v":""},{"$f":"IF(Summary!$C$57=\"\",\"\",Summary!$C$57)","v":"Summary:Tex-448-A"},{"$f":"IF(Summary!$B$65=\"\",\"\",Summary!$B$65)","v":1},{"$f":"IF(Summary!$E$63=\"\",\"\",Summary!$E$63)","v":"Station"}]
[159,{"$f":"IF(Summary!$F$65=\"\",\"\",Summary!$F$65)","v":""},{"$f":"IF(Summary!$C$57=\"\",\"\",Summary!$C$57)","v":"Summary:Tex-448-A"},{"$f":"IF(Summary!$B$65=\"\",\"\",Summary!$B$65)","v":1},{"$f":"IF(Summary!$F$63=\"\",\"\",Summary!$F$63)","v":"Age (Days)"}]
[160,{"$f":"IF(Summary!$G$65=\"\",\"\",Summary!$G$65)","v":""},{"$f":"IF(Summary!$C$57=\"\",\"\",Summary!$C$57)","v":"Summary:Tex-448-A"},{"$f":"IF(Summary!$B$65=\"\",\"\",Summary!$B$65)","v":1},{"$f":"IF(Summary!$G$62=\"\",\"\",Summary!$G$62)","v":"Contractor Test Data"},{"$f":"IF(Summary!$G$63=\"\",\"\",Summary!$G$63)","v":"Modulus of Rupture (psi)"}]
[161,{"$f":"IF(Summary!$H$65=\"\",\"\",Summary!$H$65)","v":""},{"$f":"IF(Summary!$C$57=\"\",\"\",Summary!$C$57)","v":"Summary:Tex-448-A"},{"$f":"IF(Summary!$B$65=\"\",\"\",Summary!$B$65)","v":1},{"$f":"IF(Summary!$G$62=\"\",\"\",Summary!$G$62)","v":"Contractor Test Data"},{"$f":"IF(Summary!$H$63=\"\",\"\",Summary!$H$63)","v":"Modulus of Rupture (avg) (psi)"}]
[162,{"$f":"IF(Summary!$I$65=\"\",\"\",Summary!$I$65)","v":""},{"$f":"IF(Summary!$C$57=\"\",\"\",Summary!$C$57)","v":"Summary:Tex-448-A"},{"$f":"IF(Summary!$B$65=\"\",\"\",Summary!$B$65)","v":1},{"$f":"IF(Summary!$I$62=\"\",\"\",Summary!$I$62)","v":"TxDOT Test Data"},{"$f":"IF(Summary!$I$63=\"\",\"\",Summary!$I$63)","v":"Modulus of Rupture (psi)"}]
[163,{"$f":"IF(Summary!$J$65=\"\",\"\",Summary!$J$65)","v":""},{"$f":"IF(Summary!$C$57=\"\",\"\",Summary!$C$57)","v":"Summary:Tex-448-A"},{"$f":"IF(Summary!$B$65=\"\",\"\",Summary!$B$65)","v":1},{"$f":"IF(Summary!$I$62=\"\",\"\",Summary!$I$62)","v":"TxDOT Test Data"},{"$f":"IF(Summary!$J$63=\"\",\"\",Summary!$J$63)","v":"Modulus of Rupture (avg) (psi)"}]
[164,{"$f":"IF(Summary!$K$65=\"\",\"\",Summary!$K$65)","v":""},{"$f":"IF(Summary!$C$57=\"\",\"\",Summary!$C$57)","v":"Summary:Tex-448-A"},{"$f":"IF(Summary!$B$65=\"\",\"\",Summary!$B$65)","v":1},{"$f":"IF(Summary!$K$63=\"\",\"\",Summary!$K$63)","v":"Split-Sample Percent Difference"}]
[165,{"$f":"IF(Summary!$L$65=\"\",\"\",Summary!$L$65)","v":""},{"$f":"IF(Summary!$C$57=\"\",\"\",Summary!$C$57)","v":"Summary:Tex-448-A"},{"$f":"IF(Summary!$B$65=\"\",\"\",Summary!$B$65)","v":1},{"$f":"IF(Summary!$L$63=\"\",\"\",Summary!$L$63)","v":"Within Allowable Difference for Split-Sample?"}]
[166,{"$f":"IF(Summary!$M$65=\"\",\"\",Summary!$M$65)","v":""},{"$f":"IF(Summary!$C$57=\"\",\"\",Summary!$C$57)","v":"Summary:Tex-448-A"},{"$f":"IF(Summary!$B$65=\"\",\"\",Summary!$B$65)","v":1},{"$f":"IF(Summary!$M$63=\"\",\"\",Summary!$M$63)","v":"Percent Difference"}]
[167,{"$f":"IF(Summary!$N$65=\"\",\"\",Summary!$N$65)","v":""},{"$f":"IF(Summary!$C$57=\"\",\"\",Summary!$C$57)","v":"Summary:Tex-448-A"},{"$f":"IF(Summary!$B$65=\"\",\"\",Summary!$B$65)","v":1},{"$f":"IF(Summary!$N$63=\"\",\"\",Summary!$N$63)","v":"Within Allowable Difference?"}]
[168,{"$f":"IF(Summary!$G$66=\"\",\"\",Summary!$G$66)","v":""},{"$f":"IF(Summary!$C$57=\"\",\"\",Summary!$C$57)","v":"Summary:Tex-448-A"},{"$f":"IF(Summary!$B$65=\"\",\"\",Summary!$B$65)","v":1},{"$f":"IF(Summary!$G$62=\"\",\"\",Summary!$G$62)","v":"Contractor Test Data"},{"$f":"IF(Summary!$G$63=\"\",\"\",Summary!$G$63)","v":"Modulus of Rupture (psi)"}]
[169,{"$f":"IF(Summary!$I$66=\"\",\"\",Summary!$I$66)","v":""},{"$f":"IF(Summary!$C$57=\"\",\"\",Summary!$C$57)","v":"Summary:Tex-448-A"},{"$f":"IF(Summary!$B$65=\"\",\"\",Summary!$B$65)","v":1},{"$f":"IF(Summary!$I$62=\"\",\"\",Summary!$I$62)","v":"TxDOT Test Data"},{"$f":"IF(Summary!$I$63=\"\",\"\",Summary!$I$63)","v":"Modulus of Rupture (psi)"}]
[170,{"$f":"IF(Summary!$C$67=\"\",\"\",Summary!$C$67)","v":""},{"$f":"IF(Summary!$C$57=\"\",\"\",Summary!$C$57)","v":"Summary:Tex-448-A"},{"$f":"IF(Summary!$B$67=\"\",\"\",Summary!$B$67)","v":2},{"$f":"IF(Summary!$C$63=\"\",\"\",Summary!$C$63)","v":"Date Cast"}]
[171,{"$f":"IF(Summary!$E$67=\"\",\"\",Summary!$E$67)","v":""},{"$f":"IF(Summary!$C$57=\"\",\"\",Summary!$C$57)","v":"Summary:Tex-448-A"},{"$f":"IF(Summary!$B$67=\"\",\"\",Summary!$B$67)","v":2},{"$f":"IF(Summary!$E$63=\"\",\"\",Summary!$E$63)","v":"Station"}]
[172,{"$f":"IF(Summary!$F$67=\"\",\"\",Summary!$F$67)","v":""},{"$f":"IF(Summary!$C$57=\"\",\"\",Summary!$C$57)","v":"Summary:Tex-448-A"},{"$f":"IF(Summary!$B$67=\"\",\"\",Summary!$B$67)","v":2},{"$f":"IF(Summary!$F$63=\"\",\"\",Summary!$F$63)","v":"Age (Days)"}]
[173,{"$f":"IF(Summary!$G$67=\"\",\"\",Summary!$G$67)","v":""},{"$f":"IF(Summary!$C$57=\"\",\"\",Summary!$C$57)","v":"Summary:Tex-448-A"},{"$f":"IF(Summary!$B$67=\"\",\"\",Summary!$B$67)","v":2},{"$f":"IF(Summary!$G$62=\"\",\"\",Summary!$G$62)","v":"Contractor Test Data"},{"$f":"IF(Summary!$G$63=\"\",\"\",Summary!$G$63)","v":"Modulus of Rupture (psi)"}]
[174,{"$f":"IF(Summary!$H$67=\"\",\"\",Summary!$H$67)","v":""},{"$f":"IF(Summary!$C$57=\"\",\"\",Summary!$C$57)","v":"Summary:Tex-448-A"},{"$f":"IF(Summary!$B$67=\"\",\"\",Summary!$B$67)","v":2},{"$f":"IF(Summary!$G$62=\"\",\"\",Summary!$G$62)","v":"Contractor Test Data"},{"$f":"IF(Summary!$H$63=\"\",\"\",Summary!$H$63)","v":"Modulus of Rupture (avg) (psi)"}]
[175,{"$f":"IF(Summary!$I$67=\"\",\"\",Summary!$I$67)","v":""},{"$f":"IF(Summary!$C$57=\"\",\"\",Summary!$C$57)","v":"Summary:Tex-448-A"},{"$f":"IF(Summary!$B$67=\"\",\"\",Summary!$B$67)","v":2},{"$f":"IF(Summary!$I$62=\"\",\"\",Summary!$I$62)","v":"TxDOT Test Data"},{"$f":"IF(Summary!$I$63=\"\",\"\",Summary!$I$63)","v":"Modulus of Rupture (psi)"}]
[176,{"$f":"IF(Summary!$J$67=\"\",\"\",Summary!$J$67)","v":""},{"$f":"IF(Summary!$C$57=\"\",\"\",Summary!$C$57)","v":"Summary:Tex-448-A"},{"$f":"IF(Summary!$B$67=\"\",\"\",Summary!$B$67)","v":2},{"$f":"IF(Summary!$I$62=\"\",\"\",Summary!$I$62)","v":"TxDOT Test Data"},{"$f":"IF(Summary!$J$63=\"\",\"\",Summary!$J$63)","v":"Modulus of Rupture (avg) (psi)"}]
[177,{"$f":"IF(Summary!$K$67=\"\",\"\",Summary!$K$67)","v":""},{"$f":"IF(Summary!$C$57=\"\",\"\",Summary!$C$57)","v":"Summary:Tex-448-A"},{"$f":"IF(Summary!$B$67=\"\",\"\",Summary!$B$67)","v":2},{"$f":"IF(Summary!$K$63=\"\",\"\",Summary!$K$63)","v":"Split-Sample Percent Difference"}]
[178,{"$f":"IF(Summary!$L$67=\"\",\"\",Summary!$L$67)","v":""},{"$f":"IF(Summary!$C$57=\"\",\"\",Summary!$C$57)","v":"Summary:Tex-448-A"},{"$f":"IF(Summary!$B$67=\"\",\"\",Summary!$B$67)","v":2},{"$f":"IF(Summary!$L$63=\"\",\"\",Summary!$L$63)","v":"Within Allowable Difference for Split-Sample?"}]
[179,{"$f":"IF(Summary!$M$67=\"\",\"\",Summary!$M$67)","v":""},{"$f":"IF(Summary!$C$57=\"\",\"\",Summary!$C$57)","v":"Summary:Tex-448-A"},{"$f":"IF(Summary!$B$67=\"\",\"\",Summary!$B$67)","v":2},{"$f":"IF(Summary!$M$63=\"\",\"\",Summary!$M$63)","v":"Percent Difference"}]
[180,{"$f":"IF(Summary!$N$67=\"\",\"\",Summary!$N$67)","v":""},{"$f":"IF(Summary!$C$57=\"\",\"\",Summary!$C$57)","v":"Summary:Tex-448-A"},{"$f":"IF(Summary!$B$67=\"\",\"\",Summary!$B$67)","v":2},{"$f":"IF(Summary!$N$63=\"\",\"\",Summary!$N$63)","v":"Within Allowable Difference?"}]
[181,{"$f":"IF(Summary!$G$68=\"\",\"\",Summary!$G$68)","v":""},{"$f":"IF(Summary!$C$57=\"\",\"\",Summary!$C$57)","v":"Summary:Tex-448-A"},{"$f":"IF(Summary!$B$67=\"\",\"\",Summary!$B$67)","v":2},{"$f":"IF(Summary!$G$62=\"\",\"\",Summary!$G$62)","v":"Contractor Test Data"},{"$f":"IF(Summary!$G$63=\"\",\"\",Summary!$G$63)","v":"Modulus of Rupture (psi)"}]
[182,{"$f":"IF(Summary!$I$68=\"\",\"\",Summary!$I$68)","v":""},{"$f":"IF(Summary!$C$57=\"\",\"\",Summary!$C$57)","v":"Summary:Tex-448-A"},{"$f":"IF(Summary!$B$67=\"\",\"\",Summary!$B$67)","v":2},{"$f":"IF(Summary!$I$62=\"\",\"\",Summary!$I$62)","v":"TxDOT Test Data"},{"$f":"IF(Summary!$I$63=\"\",\"\",Summary!$I$63)","v":"Modulus of Rupture (psi)"}]
[183,{"$f":"IF(Summary!$C$69=\"\",\"\",Summary!$C$69)","v":""},{"$f":"IF(Summary!$C$57=\"\",\"\",Summary!$C$57)","v":"Summary:Tex-448-A"},{"$f":"IF(Summary!$B$69=\"\",\"\",Summary!$B$69)","v":3},{"$f":"IF(Summary!$C$63=\"\",\"\",Summary!$C$63)","v":"Date Cast"}]
[184,{"$f":"IF(Summary!$E$69=\"\",\"\",Summary!$E$69)","v":""},{"$f":"IF(Summary!$C$57=\"\",\"\",Summary!$C$57)","v":"Summary:Tex-448-A"},{"$f":"IF(Summary!$B$69=\"\",\"\",Summary!$B$69)","v":3},{"$f":"IF(Summary!$E$63=\"\",\"\",Summary!$E$63)","v":"Station"}]
[185,{"$f":"IF(Summary!$F$69=\"\",\"\",Summary!$F$69)","v":""},{"$f":"IF(Summary!$C$57=\"\",\"\",Summary!$C$57)","v":"Summary:Tex-448-A"},{"$f":"IF(Summary!$B$69=\"\",\"\",Summary!$B$69)","v":3},{"$f":"IF(Summary!$F$63=\"\",\"\",Summary!$F$63)","v":"Age (Days)"}]
[186,{"$f":"IF(Summary!$G$69=\"\",\"\",Summary!$G$69)","v":""},{"$f":"IF(Summary!$C$57=\"\",\"\",Summary!$C$57)","v":"Summary:Tex-448-A"},{"$f":"IF(Summary!$B$69=\"\",\"\",Summary!$B$69)","v":3},{"$f":"IF(Summary!$G$62=\"\",\"\",Summary!$G$62)","v":"Contractor Test Data"},{"$f":"IF(Summary!$G$63=\"\",\"\",Summary!$G$63)","v":"Modulus of Rupture (psi)"}]
[187,{"$f":"IF(Summary!$H$69=\"\",\"\",Summary!$H$69)","v":""},{"$f":"IF(Summary!$C$57=\"\",\"\",Summary!$C$57)","v":"Summary:Tex-448-A"},{"$f":"IF(Summary!$B$69=\"\",\"\",Summary!$B$69)","v":3},{"$f":"IF(Summary!$G$62=\"\",\"\",Summary!$G$62)","v":"Contractor Test Data"},{"$f":"IF(Summary!$H$63=\"\",\"\",Summary!$H$63)","v":"Modulus of Rupture (avg) (psi)"}]
[188,{"$f":"IF(Summary!$I$69=\"\",\"\",Summary!$I$69)","v":""},{"$f":"IF(Summary!$C$57=\"\",\"\",Summary!$C$57)","v":"Summary:Tex-448-A"},{"$f":"IF(Summary!$B$69=\"\",\"\",Summary!$B$69)","v":3},{"$f":"IF(Summary!$I$62=\"\",\"\",Summary!$I$62)","v":"TxDOT Test Data"},{"$f":"IF(Summary!$I$63=\"\",\"\",Summary!$I$63)","v":"Modulus of Rupture (psi)"}]
[189,{"$f":"IF(Summary!$J$69=\"\",\"\",Summary!$J$69)","v":""},{"$f":"IF(Summary!$C$57=\"\",\"\",Summary!$C$57)","v":"Summary:Tex-448-A"},{"$f":"IF(Summary!$B$69=\"\",\"\",Summary!$B$69)","v":3},{"$f":"IF(Summary!$I$62=\"\",\"\",Summary!$I$62)","v":"TxDOT Test Data"},{"$f":"IF(Summary!$J$63=\"\",\"\",Summary!$J$63)","v":"Modulus of Rupture (avg) (psi)"}]
[190,{"$f":"IF(Summary!$K$69=\"\",\"\",Summary!$K$69)","v":""},{"$f":"IF(Summary!$C$57=\"\",\"\",Summary!$C$57)","v":"Summary:Tex-448-A"},{"$f":"IF(Summary!$B$69=\"\",\"\",Summary!$B$69)","v":3},{"$f":"IF(Summary!$K$63=\"\",\"\",Summary!$K$63)","v":"Split-Sample Percent Difference"}]
[191,{"$f":"IF(Summary!$L$69=\"\",\"\",Summary!$L$69)","v":""},{"$f":"IF(Summary!$C$57=\"\",\"\",Summary!$C$57)","v":"Summary:Tex-448-A"},{"$f":"IF(Summary!$B$69=\"\",\"\",Summary!$B$69)","v":3},{"$f":"IF(Summary!$L$63=\"\",\"\",Summary!$L$63)","v":"Within Allowable Difference for Split-Sample?"}]
[192,{"$f":"IF(Summary!$M$69=\"\",\"\",Summary!$M$69)","v":""},{"$f":"IF(Summary!$C$57=\"\",\"\",Summary!$C$57)","v":"Summary:Tex-448-A"},{"$f":"IF(Summary!$B$69=\"\",\"\",Summary!$B$69)","v":3},{"$f":"IF(Summary!$M$63=\"\",\"\",Summary!$M$63)","v":"Percent Difference"}]
[193,{"$f":"IF(Summary!$N$69=\"\",\"\",Summary!$N$69)","v":""},{"$f":"IF(Summary!$C$57=\"\",\"\",Summary!$C$57)","v":"Summary:Tex-448-A"},{"$f":"IF(Summary!$B$69=\"\",\"\",Summary!$B$69)","v":3},{"$f":"IF(Summary!$N$63=\"\",\"\",Summary!$N$63)","v":"Within Allowable Difference?"}]
[194,{"$f":"IF(Summary!$G$70=\"\",\"\",Summary!$G$70)","v":""},{"$f":"IF(Summary!$C$57=\"\",\"\",Summary!$C$57)","v":"Summary:Tex-448-A"},{"$f":"IF(Summary!$B$69=\"\",\"\",Summary!$B$69)","v":3},{"$f":"IF(Summary!$G$62=\"\",\"\",Summary!$G$62)","v":"Contractor Test Data"},{"$f":"IF(Summary!$G$63=\"\",\"\",Summary!$G$63)","v":"Modulus of Rupture (psi)"}]
[195,{"$f":"IF(Summary!$I$70=\"\",\"\",Summary!$I$70)","v":""},{"$f":"IF(Summary!$C$57=\"\",\"\",Summary!$C$57)","v":"Summary:Tex-448-A"},{"$f":"IF(Summary!$B$69=\"\",\"\",Summary!$B$69)","v":3},{"$f":"IF(Summary!$I$62=\"\",\"\",Summary!$I$62)","v":"TxDOT Test Data"},{"$f":"IF(Summary!$I$63=\"\",\"\",Summary!$I$63)","v":"Modulus of Rupture (psi)"}]
[196,{"$f":"IF(Summary!$C$71=\"\",\"\",Summary!$C$71)","v":""},{"$f":"IF(Summary!$C$57=\"\",\"\",Summary!$C$57)","v":"Summary:Tex-448-A"},{"$f":"IF(Summary!$B$71=\"\",\"\",Summary!$B$71)","v":4},{"$f":"IF(Summary!$C$63=\"\",\"\",Summary!$C$63)","v":"Date Cast"}]
[197,{"$f":"IF(Summary!$E$71=\"\",\"\",Summary!$E$71)","v":""},{"$f":"IF(Summary!$C$57=\"\",\"\",Summary!$C$57)","v":"Summary:Tex-448-A"},{"$f":"IF(Summary!$B$71=\"\",\"\",Summary!$B$71)","v":4},{"$f":"IF(Summary!$E$63=\"\",\"\",Summary!$E$63)","v":"Station"}]
[198,{"$f":"IF(Summary!$F$71=\"\",\"\",Summary!$F$71)","v":""},{"$f":"IF(Summary!$C$57=\"\",\"\",Summary!$C$57)","v":"Summary:Tex-448-A"},{"$f":"IF(Summary!$B$71=\"\",\"\",Summary!$B$71)","v":4},{"$f":"IF(Summary!$F$63=\"\",\"\",Summary!$F$63)","v":"Age (Days)"}]
[199,{"$f":"IF(Summary!$G$71=\"\",\"\",Summary!$G$71)","v":""},{"$f":"IF(Summary!$C$57=\"\",\"\",Summary!$C$57)","v":"Summary:Tex-448-A"},{"$f":"IF(Summary!$B$71=\"\",\"\",Summary!$B$71)","v":4},{"$f":"IF(Summary!$G$62=\"\",\"\",Summary!$G$62)","v":"Contractor Test Data"},{"$f":"IF(Summary!$G$63=\"\",\"\",Summary!$G$63)","v":"Modulus of Rupture (psi)"}]
[200,{"$f":"IF(Summary!$H$71=\"\",\"\",Summary!$H$71)","v":""},{"$f":"IF(Summary!$C$57=\"\",\"\",Summary!$C$57)","v":"Summary:Tex-448-A"},{"$f":"IF(Summary!$B$71=\"\",\"\",Summary!$B$71)","v":4},{"$f":"IF(Summary!$G$62=\"\",\"\",Summary!$G$62)","v":"Contractor Test Data"},{"$f":"IF(Summary!$H$63=\"\",\"\",Summary!$H$63)","v":"Modulus of Rupture (avg) (psi)"}]
[201,{"$f":"IF(Summary!$I$71=\"\",\"\",Summary!$I$71)","v":""},{"$f":"IF(Summary!$C$57=\"\",\"\",Summary!$C$57)","v":"Summary:Tex-448-A"},{"$f":"IF(Summary!$B$71=\"\",\"\",Summary!$B$71)","v":4},{"$f":"IF(Summary!$I$62=\"\",\"\",Summary!$I$62)","v":"TxDOT Test Data"},{"$f":"IF(Summary!$I$63=\"\",\"\",Summary!$I$63)","v":"Modulus of Rupture (psi)"}]
[202,{"$f":"IF(Summary!$J$71=\"\",\"\",Summary!$J$71)","v":""},{"$f":"IF(Summary!$C$57=\"\",\"\",Summary!$C$57)","v":"Summary:Tex-448-A"},{"$f":"IF(Summary!$B$71=\"\",\"\",Summary!$B$71)","v":4},{"$f":"IF(Summary!$I$62=\"\",\"\",Summary!$I$62)","v":"TxDOT Test Data"},{"$f":"IF(Summary!$J$63=\"\",\"\",Summary!$J$63)","v":"Modulus of Rupture (avg) (psi)"}]
[203,{"$f":"IF(Summary!$K$71=\"\",\"\",Summary!$K$71)","v":""},{"$f":"IF(Summary!$C$57=\"\",\"\",Summary!$C$57)","v":"Summary:Tex-448-A"},{"$f":"IF(Summary!$B$71=\"\",\"\",Summary!$B$71)","v":4},{"$f":"IF(Summary!$K$63=\"\",\"\",Summary!$K$63)","v":"Split-Sample Percent Difference"}]
[204,{"$f":"IF(Summary!$L$71=\"\",\"\",Summary!$L$71)","v":""},{"$f":"IF(Summary!$C$57=\"\",\"\",Summary!$C$57)","v":"Summary:Tex-448-A"},{"$f":"IF(Summary!$B$71=\"\",\"\",Summary!$B$71)","v":4},{"$f":"IF(Summary!$L$63=\"\",\"\",Summary!$L$63)","v":"Within Allowable Difference for Split-Sample?"}]
[205,{"$f":"IF(Summary!$M$71=\"\",\"\",Summary!$M$71)","v":""},{"$f":"IF(Summary!$C$57=\"\",\"\",Summary!$C$57)","v":"Summary:Tex-448-A"},{"$f":"IF(Summary!$B$71=\"\",\"\",Summary!$B$71)","v":4},{"$f":"IF(Summary!$M$63=\"\",\"\",Summary!$M$63)","v":"Percent Difference"}]
[206,{"$f":"IF(Summary!$N$71=\"\",\"\",Summary!$N$71)","v":""},{"$f":"IF(Summary!$C$57=\"\",\"\",Summary!$C$57)","v":"Summary:Tex-448-A"},{"$f":"IF(Summary!$B$71=\"\",\"\",Summary!$B$71)","v":4},{"$f":"IF(Summary!$N$63=\"\",\"\",Summary!$N$63)","v":"Within Allowable Difference?"}]
[207,{"$f":"IF(Summary!$G$72=\"\",\"\",Summary!$G$72)","v":""},{"$f":"IF(Summary!$C$57=\"\",\"\",Summary!$C$57)","v":"Summary:Tex-448-A"},{"$f":"IF(Summary!$B$71=\"\",\"\",Summary!$B$71)","v":4},{"$f":"IF(Summary!$G$62=\"\",\"\",Summary!$G$62)","v":"Contractor Test Data"},{"$f":"IF(Summary!$G$63=\"\",\"\",Summary!$G$63)","v":"Modulus of Rupture (psi)"}]
[208,{"$f":"IF(Summary!$I$72=\"\",\"\",Summary!$I$72)","v":""},{"$f":"IF(Summary!$C$57=\"\",\"\",Summary!$C$57)","v":"Summary:Tex-448-A"},{"$f":"IF(Summary!$B$71=\"\",\"\",Summary!$B$71)","v":4},{"$f":"IF(Summary!$I$62=\"\",\"\",Summary!$I$62)","v":"TxDOT Test Data"},{"$f":"IF(Summary!$I$63=\"\",\"\",Summary!$I$63)","v":"Modulus of Rupture (psi)"}]
[209,{"$f":"IF(Summary!$C$73=\"\",\"\",Summary!$C$73)","v":""},{"$f":"IF(Summary!$C$57=\"\",\"\",Summary!$C$57)","v":"Summary:Tex-448-A"},{"$f":"IF(Summary!$B$73=\"\",\"\",Summary!$B$73)","v":5},{"$f":"IF(Summary!$C$63=\"\",\"\",Summary!$C$63)","v":"Date Cast"}]
[210,{"$f":"IF(Summary!$E$73=\"\",\"\",Summary!$E$73)","v":""},{"$f":"IF(Summary!$C$57=\"\",\"\",Summary!$C$57)","v":"Summary:Tex-448-A"},{"$f":"IF(Summary!$B$73=\"\",\"\",Summary!$B$73)","v":5},{"$f":"IF(Summary!$E$63=\"\",\"\",Summary!$E$63)","v":"Station"}]
[211,{"$f":"IF(Summary!$F$73=\"\",\"\",Summary!$F$73)","v":""},{"$f":"IF(Summary!$C$57=\"\",\"\",Summary!$C$57)","v":"Summary:Tex-448-A"},{"$f":"IF(Summary!$B$73=\"\",\"\",Summary!$B$73)","v":5},{"$f":"IF(Summary!$F$63=\"\",\"\",Summary!$F$63)","v":"Age (Days)"}]
[212,{"$f":"IF(Summary!$G$73=\"\",\"\",Summary!$G$73)","v":""},{"$f":"IF(Summary!$C$57=\"\",\"\",Summary!$C$57)","v":"Summary:Tex-448-A"},{"$f":"IF(Summary!$B$73=\"\",\"\",Summary!$B$73)","v":5},{"$f":"IF(Summary!$G$62=\"\",\"\",Summary!$G$62)","v":"Contractor Test Data"},{"$f":"IF(Summary!$G$63=\"\",\"\",Summary!$G$63)","v":"Modulus of Rupture (psi)"}]
[213,{"$f":"IF(Summary!$H$73=\"\",\"\",Summary!$H$73)","v":""},{"$f":"IF(Summary!$C$57=\"\",\"\",Summary!$C$57)","v":"Summary:Tex-448-A"},{"$f":"IF(Summary!$B$73=\"\",\"\",Summary!$B$73)","v":5},{"$f":"IF(Summary!$G$62=\"\",\"\",Summary!$G$62)","v":"Contractor Test Data"},{"$f":"IF(Summary!$H$63=\"\",\"\",Summary!$H$63)","v":"Modulus of Rupture (avg) (psi)"}]
[214,{"$f":"IF(Summary!$I$73=\"\",\"\",Summary!$I$73)","v":""},{"$f":"IF(Summary!$C$57=\"\",\"\",Summary!$C$57)","v":"Summary:Tex-448-A"},{"$f":"IF(Summary!$B$73=\"\",\"\",Summary!$B$73)","v":5},{"$f":"IF(Summary!$I$62=\"\",\"\",Summary!$I$62)","v":"TxDOT Test Data"},{"$f":"IF(Summary!$I$63=\"\",\"\",Summary!$I$63)","v":"Modulus of Rupture (psi)"}]
[215,{"$f":"IF(Summary!$J$73=\"\",\"\",Summary!$J$73)","v":""},{"$f":"IF(Summary!$C$57=\"\",\"\",Summary!$C$57)","v":"Summary:Tex-448-A"},{"$f":"IF(Summary!$B$73=\"\",\"\",Summary!$B$73)","v":5},{"$f":"IF(Summary!$I$62=\"\",\"\",Summary!$I$62)","v":"TxDOT Test Data"},{"$f":"IF(Summary!$J$63=\"\",\"\",Summary!$J$63)","v":"Modulus of Rupture (avg) (psi)"}]
[216,{"$f":"IF(Summary!$K$73=\"\",\"\",Summary!$K$73)","v":""},{"$f":"IF(Summary!$C$57=\"\",\"\",Summary!$C$57)","v":"Summary:Tex-448-A"},{"$f":"IF(Summary!$B$73=\"\",\"\",Summary!$B$73)","v":5},{"$f":"IF(Summary!$K$63=\"\",\"\",Summary!$K$63)","v":"Split-Sample Percent Difference"}]
[217,{"$f":"IF(Summary!$L$73=\"\",\"\",Summary!$L$73)","v":""},{"$f":"IF(Summary!$C$57=\"\",\"\",Summary!$C$57)","v":"Summary:Tex-448-A"},{"$f":"IF(Summary!$B$73=\"\",\"\",Summary!$B$73)","v":5},{"$f":"IF(Summary!$L$63=\"\",\"\",Summary!$L$63)","v":"Within Allowable Difference for Split-Sample?"}]
[218,{"$f":"IF(Summary!$M$73=\"\",\"\",Summary!$M$73)","v":""},{"$f":"IF(Summary!$C$57=\"\",\"\",Summary!$C$57)","v":"Summary:Tex-448-A"},{"$f":"IF(Summary!$B$73=\"\",\"\",Summary!$B$73)","v":5},{"$f":"IF(Summary!$M$63=\"\",\"\",Summary!$M$63)","v":"Percent Difference"}]
[219,{"$f":"IF(Summary!$N$73=\"\",\"\",Summary!$N$73)","v":""},{"$f":"IF(Summary!$C$57=\"\",\"\",Summary!$C$57)","v":"Summary:Tex-448-A"},{"$f":"IF(Summary!$B$73=\"\",\"\",Summary!$B$73)","v":5},{"$f":"IF(Summary!$N$63=\"\",\"\",Summary!$N$63)","v":"Within Allowable Difference?"}]
[220,{"$f":"IF(Summary!$G$74=\"\",\"\",Summary!$G$74)","v":""},{"$f":"IF(Summary!$C$57=\"\",\"\",Summary!$C$57)","v":"Summary:Tex-448-A"},{"$f":"IF(Summary!$B$73=\"\",\"\",Summary!$B$73)","v":5},{"$f":"IF(Summary!$G$62=\"\",\"\",Summary!$G$62)","v":"Contractor Test Data"},{"$f":"IF(Summary!$G$63=\"\",\"\",Summary!$G$63)","v":"Modulus of Rupture (psi)"}]
[221,{"$f":"IF(Summary!$I$74=\"\",\"\",Summary!$I$74)","v":""},{"$f":"IF(Summary!$C$57=\"\",\"\",Summary!$C$57)","v":"Summary:Tex-448-A"},{"$f":"IF(Summary!$B$73=\"\",\"\",Summary!$B$73)","v":5},{"$f":"IF(Summary!$I$62=\"\",\"\",Summary!$I$62)","v":"TxDOT Test Data"},{"$f":"IF(Summary!$I$63=\"\",\"\",Summary!$I$63)","v":"Modulus of Rupture (psi)"}]
[222,{"$f":"IF(Summary!$C$75=\"\",\"\",Summary!$C$75)","v":""},{"$f":"IF(Summary!$C$57=\"\",\"\",Summary!$C$57)","v":"Summary:Tex-448-A"},{"$f":"IF(Summary!$B$75=\"\",\"\",Summary!$B$75)","v":6},{"$f":"IF(Summary!$C$63=\"\",\"\",Summary!$C$63)","v":"Date Cast"}]
[223,{"$f":"IF(Summary!$E$75=\"\",\"\",Summary!$E$75)","v":""},{"$f":"IF(Summary!$C$57=\"\",\"\",Summary!$C$57)","v":"Summary:Tex-448-A"},{"$f":"IF(Summary!$B$75=\"\",\"\",Summary!$B$75)","v":6},{"$f":"IF(Summary!$E$63=\"\",\"\",Summary!$E$63)","v":"Station"}]
[224,{"$f":"IF(Summary!$F$75=\"\",\"\",Summary!$F$75)","v":""},{"$f":"IF(Summary!$C$57=\"\",\"\",Summary!$C$57)","v":"Summary:Tex-448-A"},{"$f":"IF(Summary!$B$75=\"\",\"\",Summary!$B$75)","v":6},{"$f":"IF(Summary!$F$63=\"\",\"\",Summary!$F$63)","v":"Age (Days)"}]
[225,{"$f":"IF(Summary!$G$75=\"\",\"\",Summary!$G$75)","v":""},{"$f":"IF(Summary!$C$57=\"\",\"\",Summary!$C$57)","v":"Summary:Tex-448-A"},{"$f":"IF(Summary!$B$75=\"\",\"\",Summary!$B$75)","v":6},{"$f":"IF(Summary!$G$62=\"\",\"\",Summary!$G$62)","v":"Contractor Test Data"},{"$f":"IF(Summary!$G$63=\"\",\"\",Summary!$G$63)","v":"Modulus of Rupture (psi)"}]
[226,{"$f":"IF(Summary!$H$75=\"\",\"\",Summary!$H$75)","v":""},{"$f":"IF(Summary!$C$57=\"\",\"\",Summary!$C$57)","v":"Summary:Tex-448-A"},{"$f":"IF(Summary!$B$75=\"\",\"\",Summary!$B$75)","v":6},{"$f":"IF(Summary!$G$62=\"\",\"\",Summary!$G$62)","v":"Contractor Test Data"},{"$f":"IF(Summary!$H$63=\"\",\"\",Summary!$H$63)","v":"Modulus of Rupture (avg) (psi)"}]
[227,{"$f":"IF(Summary!$I$75=\"\",\"\",Summary!$I$75)","v":""},{"$f":"IF(Summary!$C$57=\"\",\"\",Summary!$C$57)","v":"Summary:Tex-448-A"},{"$f":"IF(Summary!$B$75=\"\",\"\",Summary!$B$75)","v":6},{"$f":"IF(Summary!$I$62=\"\",\"\",Summary!$I$62)","v":"TxDOT Test Data"},{"$f":"IF(Summary!$I$63=\"\",\"\",Summary!$I$63)","v":"Modulus of Rupture (psi)"}]
[228,{"$f":"IF(Summary!$J$75=\"\",\"\",Summary!$J$75)","v":""},{"$f":"IF(Summary!$C$57=\"\",\"\",Summary!$C$57)","v":"Summary:Tex-448-A"},{"$f":"IF(Summary!$B$75=\"\",\"\",Summary!$B$75)","v":6},{"$f":"IF(Summary!$I$62=\"\",\"\",Summary!$I$62)","v":"TxDOT Test Data"},{"$f":"IF(Summary!$J$63=\"\",\"\",Summary!$J$63)","v":"Modulus of Rupture (avg) (psi)"}]
[229,{"$f":"IF(Summary!$K$75=\"\",\"\",Summary!$K$75)","v":""},{"$f":"IF(Summary!$C$57=\"\",\"\",Summary!$C$57)","v":"Summary:Tex-448-A"},{"$f":"IF(Summary!$B$75=\"\",\"\",Summary!$B$75)","v":6},{"$f":"IF(Summary!$K$63=\"\",\"\",Summary!$K$63)","v":"Split-Sample Percent Difference"}]
[230,{"$f":"IF(Summary!$L$75=\"\",\"\",Summary!$L$75)","v":""},{"$f":"IF(Summary!$C$57=\"\",\"\",Summary!$C$57)","v":"Summary:Tex-448-A"},{"$f":"IF(Summary!$B$75=\"\",\"\",Summary!$B$75)","v":6},{"$f":"IF(Summary!$L$63=\"\",\"\",Summary!$L$63)","v":"Within Allowable Difference for Split-Sample?"}]
[231,{"$f":"IF(Summary!$M$75=\"\",\"\",Summary!$M$75)","v":""},{"$f":"IF(Summary!$C$57=\"\",\"\",Summary!$C$57)","v":"Summary:Tex-448-A"},{"$f":"IF(Summary!$B$75=\"\",\"\",Summary!$B$75)","v":6},{"$f":"IF(Summary!$M$63=\"\",\"\",Summary!$M$63)","v":"Percent Difference"}]
[232,{"$f":"IF(Summary!$N$75=\"\",\"\",Summary!$N$75)","v":""},{"$f":"IF(Summary!$C$57=\"\",\"\",Summary!$C$57)","v":"Summary:Tex-448-A"},{"$f":"IF(Summary!$B$75=\"\",\"\",Summary!$B$75)","v":6},{"$f":"IF(Summary!$N$63=\"\",\"\",Summary!$N$63)","v":"Within Allowable Difference?"}]
[233,{"$f":"IF(Summary!$G$76=\"\",\"\",Summary!$G$76)","v":""},{"$f":"IF(Summary!$C$57=\"\",\"\",Summary!$C$57)","v":"Summary:Tex-448-A"},{"$f":"IF(Summary!$B$75=\"\",\"\",Summary!$B$75)","v":6},{"$f":"IF(Summary!$G$62=\"\",\"\",Summary!$G$62)","v":"Contractor Test Data"},{"$f":"IF(Summary!$G$63=\"\",\"\",Summary!$G$63)","v":"Modulus of Rupture (psi)"}]
[234,{"$f":"IF(Summary!$I$76=\"\",\"\",Summary!$I$76)","v":""},{"$f":"IF(Summary!$C$57=\"\",\"\",Summary!$C$57)","v":"Summary:Tex-448-A"},{"$f":"IF(Summary!$B$75=\"\",\"\",Summary!$B$75)","v":6},{"$f":"IF(Summary!$I$62=\"\",\"\",Summary!$I$62)","v":"TxDOT Test Data"},{"$f":"IF(Summary!$I$63=\"\",\"\",Summary!$I$63)","v":"Modulus of Rupture (psi)"}]
[235,{"$f":"IF(Summary!$C$77=\"\",\"\",Summary!$C$77)","v":""},{"$f":"IF(Summary!$C$57=\"\",\"\",Summary!$C$57)","v":"Summary:Tex-448-A"},{"$f":"IF(Summary!$B$77=\"\",\"\",Summary!$B$77)","v":7},{"$f":"IF(Summary!$C$63=\"\",\"\",Summary!$C$63)","v":"Date Cast"}]
[236,{"$f":"IF(Summary!$E$77=\"\",\"\",Summary!$E$77)","v":""},{"$f":"IF(Summary!$C$57=\"\",\"\",Summary!$C$57)","v":"Summary:Tex-448-A"},{"$f":"IF(Summary!$B$77=\"\",\"\",Summary!$B$77)","v":7},{"$f":"IF(Summary!$E$63=\"\",\"\",Summary!$E$63)","v":"Station"}]
[237,{"$f":"IF(Summary!$F$77=\"\",\"\",Summary!$F$77)","v":""},{"$f":"IF(Summary!$C$57=\"\",\"\",Summary!$C$57)","v":"Summary:Tex-448-A"},{"$f":"IF(Summary!$B$77=\"\",\"\",Summary!$B$77)","v":7},{"$f":"IF(Summary!$F$63=\"\",\"\",Summary!$F$63)","v":"Age (Days)"}]
[238,{"$f":"IF(Summary!$G$77=\"\",\"\",Summary!$G$77)","v":""},{"$f":"IF(Summary!$C$57=\"\",\"\",Summary!$C$57)","v":"Summary:Tex-448-A"},{"$f":"IF(Summary!$B$77=\"\",\"\",Summary!$B$77)","v":7},{"$f":"IF(Summary!$G$62=\"\",\"\",Summary!$G$62)","v":"Contractor Test Data"},{"$f":"IF(Summary!$G$63=\"\",\"\",Summary!$G$63)","v":"Modulus of Rupture (psi)"}]
[239,{"$f":"IF(Summary!$H$77=\"\",\"\",Summary!$H$77)","v":""},{"$f":"IF(Summary!$C$57=\"\",\"\",Summary!$C$57)","v":"Summary:Tex-448-A"},{"$f":"IF(Summary!$B$77=\"\",\"\",Summary!$B$77)","v":7},{"$f":"IF(Summary!$G$62=\"\",\"\",Summary!$G$62)","v":"Contractor Test Data"},{"$f":"IF(Summary!$H$63=\"\",\"\",Summary!$H$63)","v":"Modulus of Rupture (avg) (psi)"}]
[240,{"$f":"IF(Summary!$I$77=\"\",\"\",Summary!$I$77)","v":""},{"$f":"IF(Summary!$C$57=\"\",\"\",Summary!$C$57)","v":"Summary:Tex-448-A"},{"$f":"IF(Summary!$B$77=\"\",\"\",Summary!$B$77)","v":7},{"$f":"IF(Summary!$I$62=\"\",\"\",Summary!$I$62)","v":"TxDOT Test Data"},{"$f":"IF(Summary!$I$63=\"\",\"\",Summary!$I$63)","v":"Modulus of Rupture (psi)"}]
[241,{"$f":"IF(Summary!$J$77=\"\",\"\",Summary!$J$77)","v":""},{"$f":"IF(Summary!$C$57=\"\",\"\",Summary!$C$57)","v":"Summary:Tex-448-A"},{"$f":"IF(Summary!$B$77=\"\",\"\",Summary!$B$77)","v":7},{"$f":"IF(Summary!$I$62=\"\",\"\",Summary!$I$62)","v":"TxDOT Test Data"},{"$f":"IF(Summary!$J$63=\"\",\"\",Summary!$J$63)","v":"Modulus of Rupture (avg) (psi)"}]
[242,{"$f":"IF(Summary!$K$77=\"\",\"\",Summary!$K$77)","v":""},{"$f":"IF(Summary!$C$57=\"\",\"\",Summary!$C$57)","v":"Summary:Tex-448-A"},{"$f":"IF(Summary!$B$77=\"\",\"\",Summary!$B$77)","v":7},{"$f":"IF(Summary!$K$63=\"\",\"\",Summary!$K$63)","v":"Split-Sample Percent Difference"}]
[243,{"$f":"IF(Summary!$L$77=\"\",\"\",Summary!$L$77)","v":""},{"$f":"IF(Summary!$C$57=\"\",\"\",Summary!$C$57)","v":"Summary:Tex-448-A"},{"$f":"IF(Summary!$B$77=\"\",\"\",Summary!$B$77)","v":7},{"$f":"IF(Summary!$L$63=\"\",\"\",Summary!$L$63)","v":"Within Allowable Difference for Split-Sample?"}]
[244,{"$f":"IF(Summary!$M$77=\"\",\"\",Summary!$M$77)","v":""},{"$f":"IF(Summary!$C$57=\"\",\"\",Summary!$C$57)","v":"Summary:Tex-448-A"},{"$f":"IF(Summary!$B$77=\"\",\"\",Summary!$B$77)","v":7},{"$f":"IF(Summary!$M$63=\"\",\"\",Summary!$M$63)","v":"Percent Difference"}]
[245,{"$f":"IF(Summary!$N$77=\"\",\"\",Summary!$N$77)","v":""},{"$f":"IF(Summary!$C$57=\"\",\"\",Summary!$C$57)","v":"Summary:Tex-448-A"},{"$f":"IF(Summary!$B$77=\"\",\"\",Summary!$B$77)","v":7},{"$f":"IF(Summary!$N$63=\"\",\"\",Summary!$N$63)","v":"Within Allowable Difference?"}]
[246,{"$f":"IF(Summary!$G$78=\"\",\"\",Summary!$G$78)","v":""},{"$f":"IF(Summary!$C$57=\"\",\"\",Summary!$C$57)","v":"Summary:Tex-448-A"},{"$f":"IF(Summary!$B$77=\"\",\"\",Summary!$B$77)","v":7},{"$f":"IF(Summary!$G$62=\"\",\"\",Summary!$G$62)","v":"Contractor Test Data"},{"$f":"IF(Summary!$G$63=\"\",\"\",Summary!$G$63)","v":"Modulus of Rupture (psi)"}]
[247,{"$f":"IF(Summary!$I$78=\"\",\"\",Summary!$I$78)","v":""},{"$f":"IF(Summary!$C$57=\"\",\"\",Summary!$C$57)","v":"Summary:Tex-448-A"},{"$f":"IF(Summary!$B$77=\"\",\"\",Summary!$B$77)","v":7},{"$f":"IF(Summary!$I$62=\"\",\"\",Summary!$I$62)","v":"TxDOT Test Data"},{"$f":"IF(Summary!$I$63=\"\",\"\",Summary!$I$63)","v":"Modulus of Rupture (psi)"}]
[248,{"$f":"IF(Summary!$C$79=\"\",\"\",Summary!$C$79)","v":""},{"$f":"IF(Summary!$C$57=\"\",\"\",Summary!$C$57)","v":"Summary:Tex-448-A"},{"$f":"IF(Summary!$B$79=\"\",\"\",Summary!$B$79)","v":8},{"$f":"IF(Summary!$C$63=\"\",\"\",Summary!$C$63)","v":"Date Cast"}]
[249,{"$f":"IF(Summary!$E$79=\"\",\"\",Summary!$E$79)","v":""},{"$f":"IF(Summary!$C$57=\"\",\"\",Summary!$C$57)","v":"Summary:Tex-448-A"},{"$f":"IF(Summary!$B$79=\"\",\"\",Summary!$B$79)","v":8},{"$f":"IF(Summary!$E$63=\"\",\"\",Summary!$E$63)","v":"Station"}]
[250,{"$f":"IF(Summary!$F$79=\"\",\"\",Summary!$F$79)","v":""},{"$f":"IF(Summary!$C$57=\"\",\"\",Summary!$C$57)","v":"Summary:Tex-448-A"},{"$f":"IF(Summary!$B$79=\"\",\"\",Summary!$B$79)","v":8},{"$f":"IF(Summary!$F$63=\"\",\"\",Summary!$F$63)","v":"Age (Days)"}]
[251,{"$f":"IF(Summary!$G$79=\"\",\"\",Summary!$G$79)","v":""},{"$f":"IF(Summary!$C$57=\"\",\"\",Summary!$C$57)","v":"Summary:Tex-448-A"},{"$f":"IF(Summary!$B$79=\"\",\"\",Summary!$B$79)","v":8},{"$f":"IF(Summary!$G$62=\"\",\"\",Summary!$G$62)","v":"Contractor Test Data"},{"$f":"IF(Summary!$G$63=\"\",\"\",Summary!$G$63)","v":"Modulus of Rupture (psi)"}]
[252,{"$f":"IF(Summary!$H$79=\"\",\"\",Summary!$H$79)","v":""},{"$f":"IF(Summary!$C$57=\"\",\"\",Summary!$C$57)","v":"Summary:Tex-448-A"},{"$f":"IF(Summary!$B$79=\"\",\"\",Summary!$B$79)","v":8},{"$f":"IF(Summary!$G$62=\"\",\"\",Summary!$G$62)","v":"Contractor Test Data"},{"$f":"IF(Summary!$H$63=\"\",\"\",Summary!$H$63)","v":"Modulus of Rupture (avg) (psi)"}]
[253,{"$f":"IF(Summary!$I$79=\"\",\"\",Summary!$I$79)","v":""},{"$f":"IF(Summary!$C$57=\"\",\"\",Summary!$C$57)","v":"Summary:Tex-448-A"},{"$f":"IF(Summary!$B$79=\"\",\"\",Summary!$B$79)","v":8},{"$f":"IF(Summary!$I$62=\"\",\"\",Summary!$I$62)","v":"TxDOT Test Data"},{"$f":"IF(Summary!$I$63=\"\",\"\",Summary!$I$63)","v":"Modulus of Rupture (psi)"}]
[254,{"$f":"IF(Summary!$J$79=\"\",\"\",Summary!$J$79)","v":""},{"$f":"IF(Summary!$C$57=\"\",\"\",Summary!$C$57)","v":"Summary:Tex-448-A"},{"$f":"IF(Summary!$B$79=\"\",\"\",Summary!$B$79)","v":8},{"$f":"IF(Summary!$I$62=\"\",\"\",Summary!$I$62)","v":"TxDOT Test Data"},{"$f":"IF(Summary!$J$63=\"\",\"\",Summary!$J$63)","v":"Modulus of Rupture (avg) (psi)"}]
[255,{"$f":"IF(Summary!$K$79=\"\",\"\",Summary!$K$79)","v":""},{"$f":"IF(Summary!$C$57=\"\",\"\",Summary!$C$57)","v":"Summary:Tex-448-A"},{"$f":"IF(Summary!$B$79=\"\",\"\",Summary!$B$79)","v":8},{"$f":"IF(Summary!$K$63=\"\",\"\",Summary!$K$63)","v":"Split-Sample Percent Difference"}]
[256,{"$f":"IF(Summary!$L$79=\"\",\"\",Summary!$L$79)","v":""},{"$f":"IF(Summary!$C$57=\"\",\"\",Summary!$C$57)","v":"Summary:Tex-448-A"},{"$f":"IF(Summary!$B$79=\"\",\"\",Summary!$B$79)","v":8},{"$f":"IF(Summary!$L$63=\"\",\"\",Summary!$L$63)","v":"Within Allowable Difference for Split-Sample?"}]
[257,{"$f":"IF(Summary!$M$79=\"\",\"\",Summary!$M$79)","v":""},{"$f":"IF(Summary!$C$57=\"\",\"\",Summary!$C$57)","v":"Summary:Tex-448-A"},{"$f":"IF(Summary!$B$79=\"\",\"\",Summary!$B$79)","v":8},{"$f":"IF(Summary!$M$63=\"\",\"\",Summary!$M$63)","v":"Percent Difference"}]
[258,{"$f":"IF(Summary!$N$79=\"\",\"\",Summary!$N$79)","v":""},{"$f":"IF(Summary!$C$57=\"\",\"\",Summary!$C$57)","v":"Summary:Tex-448-A"},{"$f":"IF(Summary!$B$79=\"\",\"\",Summary!$B$79)","v":8},{"$f":"IF(Summary!$N$63=\"\",\"\",Summary!$N$63)","v":"Within Allowable Difference?"}]
[259,{"$f":"IF(Summary!$G$80=\"\",\"\",Summary!$G$80)","v":""},{"$f":"IF(Summary!$C$57=\"\",\"\",Summary!$C$57)","v":"Summary:Tex-448-A"},{"$f":"IF(Summary!$B$79=\"\",\"\",Summary!$B$79)","v":8},{"$f":"IF(Summary!$G$62=\"\",\"\",Summary!$G$62)","v":"Contractor Test Data"},{"$f":"IF(Summary!$G$63=\"\",\"\",Summary!$G$63)","v":"Modulus of Rupture (psi)"}]
[260,{"$f":"IF(Summary!$I$80=\"\",\"\",Summary!$I$80)","v":""},{"$f":"IF(Summary!$C$57=\"\",\"\",Summary!$C$57)","v":"Summary:Tex-448-A"},{"$f":"IF(Summary!$B$79=\"\",\"\",Summary!$B$79)","v":8},{"$f":"IF(Summary!$I$62=\"\",\"\",Summary!$I$62)","v":"TxDOT Test Data"},{"$f":"IF(Summary!$I$63=\"\",\"\",Summary!$I$63)","v":"Modulus of Rupture (psi)"}]
[261,{"$f":"IF(Summary!$C$81=\"\",\"\",Summary!$C$81)","v":""},{"$f":"IF(Summary!$C$57=\"\",\"\",Summary!$C$57)","v":"Summary:Tex-448-A"},{"$f":"IF(Summary!$B$81=\"\",\"\",Summary!$B$81)","v":9},{"$f":"IF(Summary!$C$63=\"\",\"\",Summary!$C$63)","v":"Date Cast"}]
[262,{"$f":"IF(Summary!$E$81=\"\",\"\",Summary!$E$81)","v":""},{"$f":"IF(Summary!$C$57=\"\",\"\",Summary!$C$57)","v":"Summary:Tex-448-A"},{"$f":"IF(Summary!$B$81=\"\",\"\",Summary!$B$81)","v":9},{"$f":"IF(Summary!$E$63=\"\",\"\",Summary!$E$63)","v":"Station"}]
[263,{"$f":"IF(Summary!$F$81=\"\",\"\",Summary!$F$81)","v":""},{"$f":"IF(Summary!$C$57=\"\",\"\",Summary!$C$57)","v":"Summary:Tex-448-A"},{"$f":"IF(Summary!$B$81=\"\",\"\",Summary!$B$81)","v":9},{"$f":"IF(Summary!$F$63=\"\",\"\",Summary!$F$63)","v":"Age (Days)"}]
[264,{"$f":"IF(Summary!$G$81=\"\",\"\",Summary!$G$81)","v":""},{"$f":"IF(Summary!$C$57=\"\",\"\",Summary!$C$57)","v":"Summary:Tex-448-A"},{"$f":"IF(Summary!$B$81=\"\",\"\",Summary!$B$81)","v":9},{"$f":"IF(Summary!$G$62=\"\",\"\",Summary!$G$62)","v":"Contractor Test Data"},{"$f":"IF(Summary!$G$63=\"\",\"\",Summary!$G$63)","v":"Modulus of Rupture (psi)"}]
[265,{"$f":"IF(Summary!$H$81=\"\",\"\",Summary!$H$81)","v":""},{"$f":"IF(Summary!$C$57=\"\",\"\",Summary!$C$57)","v":"Summary:Tex-448-A"},{"$f":"IF(Summary!$B$81=\"\",\"\",Summary!$B$81)","v":9},{"$f":"IF(Summary!$G$62=\"\",\"\",Summary!$G$62)","v":"Contractor Test Data"},{"$f":"IF(Summary!$H$63=\"\",\"\",Summary!$H$63)","v":"Modulus of Rupture (avg) (psi)"}]
[266,{"$f":"IF(Summary!$I$81=\"\",\"\",Summary!$I$81)","v":""},{"$f":"IF(Summary!$C$57=\"\",\"\",Summary!$C$57)","v":"Summary:Tex-448-A"},{"$f":"IF(Summary!$B$81=\"\",\"\",Summary!$B$81)","v":9},{"$f":"IF(Summary!$I$62=\"\",\"\",Summary!$I$62)","v":"TxDOT Test Data"},{"$f":"IF(Summary!$I$63=\"\",\"\",Summary!$I$63)","v":"Modulus of Rupture (psi)"}]
[267,{"$f":"IF(Summary!$J$81=\"\",\"\",Summary!$J$81)","v":""},{"$f":"IF(Summary!$C$57=\"\",\"\",Summary!$C$57)","v":"Summary:Tex-448-A"},{"$f":"IF(Summary!$B$81=\"\",\"\",Summary!$B$81)","v":9},{"$f":"IF(Summary!$I$62=\"\",\"\",Summary!$I$62)","v":"TxDOT Test Data"},{"$f":"IF(Summary!$J$63=\"\",\"\",Summary!$J$63)","v":"Modulus of Rupture (avg) (psi)"}]
[268,{"$f":"IF(Summary!$K$81=\"\",\"\",Summary!$K$81)","v":""},{"$f":"IF(Summary!$C$57=\"\",\"\",Summary!$C$57)","v":"Summary:Tex-448-A"},{"$f":"IF(Summary!$B$81=\"\",\"\",Summary!$B$81)","v":9},{"$f":"IF(Summary!$K$63=\"\",\"\",Summary!$K$63)","v":"Split-Sample Percent Difference"}]
[269,{"$f":"IF(Summary!$L$81=\"\",\"\",Summary!$L$81)","v":""},{"$f":"IF(Summary!$C$57=\"\",\"\",Summary!$C$57)","v":"Summary:Tex-448-A"},{"$f":"IF(Summary!$B$81=\"\",\"\",Summary!$B$81)","v":9},{"$f":"IF(Summary!$L$63=\"\",\"\",Summary!$L$63)","v":"Within Allowable Difference for Split-Sample?"}]
[270,{"$f":"IF(Summary!$M$81=\"\",\"\",Summary!$M$81)","v":""},{"$f":"IF(Summary!$C$57=\"\",\"\",Summary!$C$57)","v":"Summary:Tex-448-A"},{"$f":"IF(Summary!$B$81=\"\",\"\",Summary!$B$81)","v":9},{"$f":"IF(Summary!$M$63=\"\",\"\",Summary!$M$63)","v":"Percent Difference"}]
[271,{"$f":"IF(Summary!$N$81=\"\",\"\",Summary!$N$81)","v":""},{"$f":"IF(Summary!$C$57=\"\",\"\",Summary!$C$57)","v":"Summary:Tex-448-A"},{"$f":"IF(Summary!$B$81=\"\",\"\",Summary!$B$81)","v":9},{"$f":"IF(Summary!$N$63=\"\",\"\",Summary!$N$63)","v":"Within Allowable Difference?"}]
[272,{"$f":"IF(Summary!$G$82=\"\",\"\",Summary!$G$82)","v":""},{"$f":"IF(Summary!$C$57=\"\",\"\",Summary!$C$57)","v":"Summary:Tex-448-A"},{"$f":"IF(Summary!$B$81=\"\",\"\",Summary!$B$81)","v":9},{"$f":"IF(Summary!$G$62=\"\",\"\",Summary!$G$62)","v":"Contractor Test Data"},{"$f":"IF(Summary!$G$63=\"\",\"\",Summary!$G$63)","v":"Modulus of Rupture (psi)"}]
[273,{"$f":"IF(Summary!$I$82=\"\",\"\",Summary!$I$82)","v":""},{"$f":"IF(Summary!$C$57=\"\",\"\",Summary!$C$57)","v":"Summary:Tex-448-A"},{"$f":"IF(Summary!$B$81=\"\",\"\",Summary!$B$81)","v":9},{"$f":"IF(Summary!$I$62=\"\",\"\",Summary!$I$62)","v":"TxDOT Test Data"},{"$f":"IF(Summary!$I$63=\"\",\"\",Summary!$I$63)","v":"Modulus of Rupture (psi)"}]
[274,{"$f":"IF(Summary!$C$83=\"\",\"\",Summary!$C$83)","v":""},{"$f":"IF(Summary!$C$57=\"\",\"\",Summary!$C$57)","v":"Summary:Tex-448-A"},{"$f":"IF(Summary!$B$83=\"\",\"\",Summary!$B$83)","v":10},{"$f":"IF(Summary!$C$63=\"\",\"\",Summary!$C$63)","v":"Date Cast"}]
[275,{"$f":"IF(Summary!$E$83=\"\",\"\",Summary!$E$83)","v":""},{"$f":"IF(Summary!$C$57=\"\",\"\",Summary!$C$57)","v":"Summary:Tex-448-A"},{"$f":"IF(Summary!$B$83=\"\",\"\",Summary!$B$83)","v":10},{"$f":"IF(Summary!$E$63=\"\",\"\",Summary!$E$63)","v":"Station"}]
[276,{"$f":"IF(Summary!$F$83=\"\",\"\",Summary!$F$83)","v":""},{"$f":"IF(Summary!$C$57=\"\",\"\",Summary!$C$57)","v":"Summary:Tex-448-A"},{"$f":"IF(Summary!$B$83=\"\",\"\",Summary!$B$83)","v":10},{"$f":"IF(Summary!$F$63=\"\",\"\",Summary!$F$63)","v":"Age (Days)"}]
[277,{"$f":"IF(Summary!$G$83=\"\",\"\",Summary!$G$83)","v":""},{"$f":"IF(Summary!$C$57=\"\",\"\",Summary!$C$57)","v":"Summary:Tex-448-A"},{"$f":"IF(Summary!$B$83=\"\",\"\",Summary!$B$83)","v":10},{"$f":"IF(Summary!$G$62=\"\",\"\",Summary!$G$62)","v":"Contractor Test Data"},{"$f":"IF(Summary!$G$63=\"\",\"\",Summary!$G$63)","v":"Modulus of Rupture (psi)"}]
[278,{"$f":"IF(Summary!$H$83=\"\",\"\",Summary!$H$83)","v":""},{"$f":"IF(Summary!$C$57=\"\",\"\",Summary!$C$57)","v":"Summary:Tex-448-A"},{"$f":"IF(Summary!$B$83=\"\",\"\",Summary!$B$83)","v":10},{"$f":"IF(Summary!$G$62=\"\",\"\",Summary!$G$62)","v":"Contractor Test Data"},{"$f":"IF(Summary!$H$63=\"\",\"\",Summary!$H$63)","v":"Modulus of Rupture (avg) (psi)"}]
[279,{"$f":"IF(Summary!$I$83=\"\",\"\",Summary!$I$83)","v":""},{"$f":"IF(Summary!$C$57=\"\",\"\",Summary!$C$57)","v":"Summary:Tex-448-A"},{"$f":"IF(Summary!$B$83=\"\",\"\",Summary!$B$83)","v":10},{"$f":"IF(Summary!$I$62=\"\",\"\",Summary!$I$62)","v":"TxDOT Test Data"},{"$f":"IF(Summary!$I$63=\"\",\"\",Summary!$I$63)","v":"Modulus of Rupture (psi)"}]
[280,{"$f":"IF(Summary!$J$83=\"\",\"\",Summary!$J$83)","v":""},{"$f":"IF(Summary!$C$57=\"\",\"\",Summary!$C$57)","v":"Summary:Tex-448-A"},{"$f":"IF(Summary!$B$83=\"\",\"\",Summary!$B$83)","v":10},{"$f":"IF(Summary!$I$62=\"\",\"\",Summary!$I$62)","v":"TxDOT Test Data"},{"$f":"IF(Summary!$J$63=\"\",\"\",Summary!$J$63)","v":"Modulus of Rupture (avg) (psi)"}]
[281,{"$f":"IF(Summary!$K$83=\"\",\"\",Summary!$K$83)","v":""},{"$f":"IF(Summary!$C$57=\"\",\"\",Summary!$C$57)","v":"Summary:Tex-448-A"},{"$f":"IF(Summary!$B$83=\"\",\"\",Summary!$B$83)","v":10},{"$f":"IF(Summary!$K$63=\"\",\"\",Summary!$K$63)","v":"Split-Sample Percent Difference"}]
[282,{"$f":"IF(Summary!$L$83=\"\",\"\",Summary!$L$83)","v":""},{"$f":"IF(Summary!$C$57=\"\",\"\",Summary!$C$57)","v":"Summary:Tex-448-A"},{"$f":"IF(Summary!$B$83=\"\",\"\",Summary!$B$83)","v":10},{"$f":"IF(Summary!$L$63=\"\",\"\",Summary!$L$63)","v":"Within Allowable Difference for Split-Sample?"}]
[283,{"$f":"IF(Summary!$M$83=\"\",\"\",Summary!$M$83)","v":""},{"$f":"IF(Summary!$C$57=\"\",\"\",Summary!$C$57)","v":"Summary:Tex-448-A"},{"$f":"IF(Summary!$B$83=\"\",\"\",Summary!$B$83)","v":10},{"$f":"IF(Summary!$M$63=\"\",\"\",Summary!$M$63)","v":"Percent Difference"}]
[284,{"$f":"IF(Summary!$N$83=\"\",\"\",Summary!$N$83)","v":""},{"$f":"IF(Summary!$C$57=\"\",\"\",Summary!$C$57)","v":"Summary:Tex-448-A"},{"$f":"IF(Summary!$B$83=\"\",\"\",Summary!$B$83)","v":10},{"$f":"IF(Summary!$N$63=\"\",\"\",Summary!$N$63)","v":"Within Allowable Difference?"}]
[285,{"$f":"IF(Summary!$G$84=\"\",\"\",Summary!$G$84)","v":""},{"$f":"IF(Summary!$C$57=\"\",\"\",Summary!$C$57)","v":"Summary:Tex-448-A"},{"$f":"IF(Summary!$B$83=\"\",\"\",Summary!$B$83)","v":10},{"$f":"IF(Summary!$G$62=\"\",\"\",Summary!$G$62)","v":"Contractor Test Data"},{"$f":"IF(Summary!$G$63=\"\",\"\",Summary!$G$63)","v":"Modulus of Rupture (psi)"}]
[286,{"$f":"IF(Summary!$I$84=\"\",\"\",Summary!$I$84)","v":""},{"$f":"IF(Summary!$C$57=\"\",\"\",Summary!$C$57)","v":"Summary:Tex-448-A"},{"$f":"IF(Summary!$B$83=\"\",\"\",Summary!$B$83)","v":10},{"$f":"IF(Summary!$I$62=\"\",\"\",Summary!$I$62)","v":"TxDOT Test Data"},{"$f":"IF(Summary!$I$63=\"\",\"\",Summary!$I$63)","v":"Modulus of Rupture (psi)"}]
[287,{"$f":"IF(Summary!$H$85=\"\",\"\",Summary!$H$85)","v":""},{"$f":"IF(Summary!$C$57=\"\",\"\",Summary!$C$57)","v":"Summary:Tex-448-A"},{"$f":"IF(Summary!$G$85=\"\",\"\",Summary!$G$85)","v":"Average"},{"$f":"IF(Summary!$G$62=\"\",\"\",Summary!$G$62)","v":"Contractor Test Data"},{"$f":"IF(Summary!$H$63=\"\",\"\",Summary!$H$63)","v":"Modulus of Rupture (avg) (psi)"}]
[288,{"$f":"IF('Contractor Test Data'!$G$22=\"\",\"\",'Contractor Test Data'!$G$22)","v":""},{"$f":"IF('Contractor Test Data'!$C$21=\"\",\"\",'Contractor Test Data'!$C$21)","v":"Contractor:Tex-418-A"},{"$f":"IF('Contractor Test Data'!$C$22=\"\",\"\",'Contractor Test Data'!$C$22)","v":"Source of Job Control Strength (psi): "}]
[289,{"$f":"IF('Contractor Test Data'!$G$23=\"\",\"\",'Contractor Test Data'!$G$23)","v":""},{"$f":"IF('Contractor Test Data'!$C$21=\"\",\"\",'Contractor Test Data'!$C$21)","v":"Contractor:Tex-418-A"},{"$f":"IF('Contractor Test Data'!$C$23=\"\",\"\",'Contractor Test Data'!$C$23)","v":"-Day Job Control Strength (psi): "}]
[290,{"$f":"IF('Contractor Test Data'!$G$24=\"\",\"\",'Contractor Test Data'!$G$24)","v":""},{"$f":"IF('Contractor Test Data'!$C$21=\"\",\"\",'Contractor Test Data'!$C$21)","v":"Contractor:Tex-418-A"},{"$f":"IF('Contractor Test Data'!$C$24=\"\",\"\",'Contractor Test Data'!$C$24)","v":"-Day Job Control Strength (psi): "}]
[291,{"$f":"IF('Contractor Test Data'!$K$22=\"\",\"\",'Contractor Test Data'!$K$22)","v":""},{"$f":"IF('Contractor Test Data'!$C$21=\"\",\"\",'Contractor Test Data'!$C$21)","v":"Contractor:Tex-418-A"},{"$f":"IF('Contractor Test Data'!$I$22=\"\",\"\",'Contractor Test Data'!$I$22)","v":"Job Control Age (days): "}]
[292,{"$f":"IF('Contractor Test Data'!$K$23=\"\",\"\",'Contractor Test Data'!$K$23)","v":""},{"$f":"IF('Contractor Test Data'!$C$21=\"\",\"\",'Contractor Test Data'!$C$21)","v":"Contractor:Tex-418-A"},{"$f":"IF('Contractor Test Data'!$I$23=\"\",\"\",'Contractor Test Data'!$I$23)","v":"Job Control Age (days): "}]
[293,{"$f":"IF('Contractor Test Data'!$F$31=\"\",\"\",'Contractor Test Data'!$F$31)","v":""},{"$f":"IF('Contractor Test Data'!$C$21=\"\",\"\",'Contractor Test Data'!$C$21)","v":"Contractor:Tex-418-A"},{"$f":"IF('Contractor Test Data'!$B$31=\"\",\"\",'Contractor Test Data'!$B$31)","v":1},{"$f":"IF('Contractor Test Data'!$F$28=\"\",\"\",'Contractor Test Data'!$F$28)","v":"Cylinder Number"}]
[294,{"$f":"IF('Contractor Test Data'!$D$31=\"\",\"\",'Contractor Test Data'!$D$31)","v":""},{"$f":"IF('Contractor Test Data'!$C$21=\"\",\"\",'Contractor Test Data'!$C$21)","v":"Contractor:Tex-418-A"},{"$f":"IF('Contractor Test Data'!$B$31=\"\",\"\",'Contractor Test Data'!$B$31)","v":1},{"$f":"IF('Contractor Test Data'!$D$28=\"\",\"\",'Contractor Test Data'!$D$28)","v":"Station"}]
[295,{"$f":"IF('Contractor Test Data'!$E$31=\"\",\"\",'Contractor Test Data'!$E$31)","v":""},{"$f":"IF('Contractor Test Data'!$C$21=\"\",\"\",'Contractor Test Data'!$C$21)","v":"Contractor:Tex-418-A"},{"$f":"IF('Contractor Test Data'!$B$31=\"\",\"\",'Contractor Test Data'!$B$31)","v":1},{"$f":"IF('Contractor Test Data'!$E$28=\"\",\"\",'Contractor Test Data'!$E$28)","v":"Age (Days)"}]
[296,{"$f":"IF('Contractor Test Data'!$G$31=\"\",\"\",'Contractor Test Data'!$G$31)","v":""},{"$f":"IF('Contractor Test Data'!$C$21=\"\",\"\",'Contractor Test Data'!$C$21)","v":"Contractor:Tex-418-A"},{"$f":"IF('Contractor Test Data'!$B$31=\"\",\"\",'Contractor Test Data'!$B$31)","v":1},{"$f":"IF('Contractor Test Data'!$G$29=\"\",\"\",'Contractor Test Data'!$G$29)","v":" of Cylinder (inches)"}]
[297,{"$f":"IF('Contractor Test Data'!$H$31=\"\",\"\",'Contractor Test Data'!$H$31)","v":""},{"$f":"IF('Contractor Test Data'!$C$21=\"\",\"\",'Contractor Test Data'!$C$21)","v":"Contractor:Tex-418-A"},{"$f":"IF('Contractor Test Data'!$B$31=\"\",\"\",'Contractor Test Data'!$B$31)","v":1},{"$f":"IF('Contractor Test Data'!$H$28=\"\",\"\",'Contractor Test Data'!$H$28)","v":"Length of Cylinder (inches)"}]
[298,{"$f":"IF('Contractor Test Data'!$I$31=\"\",\"\",'Contractor Test Data'!$I$31)","v":""},{"$f":"IF('Contractor Test Data'!$C$21=\"\",\"\",'Contractor Test Data'!$C$21)","v":"Contractor:Tex-418-A"},{"$f":"IF('Contractor Test Data'!$B$31=\"\",\"\",'Contractor Test Data'!$B$31)","v":1},{"$f":"IF('Contractor Test Data'!$I$28=\"\",\"\",'Contractor Test Data'!$I$28)","v":"Length to Diameter Ratio"}]
[299,{"$f":"IF('Contractor Test Data'!$J$31=\"\",\"\",'Contractor Test Data'!$J$31)","v":""},{"$f":"IF('Contractor Test Data'!$C$21=\"\",\"\",'Contractor Test Data'!$C$21)","v":"Contractor:Tex-418-A"},{"$f":"IF('Contractor Test Data'!$B$31=\"\",\"\",'Contractor Test Data'!$B$31)","v":1},{"$f":"IF('Contractor Test Data'!$J$28=\"\",\"\",'Contractor Test Data'!$J$28)","v":"Max Load (lbs.)"}]
[300,{"$f":"IF('Contractor Test Data'!$K$31=\"\",\"\",'Contractor Test Data'!$K$31)","v":""},{"$f":"IF('Contractor Test Data'!$C$21=\"\",\"\",'Contractor Test Data'!$C$21)","v":"Contractor:Tex-418-A"},{"$f":"IF('Contractor Test Data'!$B$31=\"\",\"\",'Contractor Test Data'!$B$31)","v":1},{"$f":"IF('Contractor Test Data'!$K$28=\"\",\"\",'Contractor Test Data'!$K$28)","v":"Failure Type"}]
[301,{"$f":"IF('Contractor Test Data'!$L$31=\"\",\"\",'Contractor Test Data'!$L$31)","v":""},{"$f":"IF('Contractor Test Data'!$C$21=\"\",\"\",'Contractor Test Data'!$C$21)","v":"Contractor:Tex-418-A"},{"$f":"IF('Contractor Test Data'!$B$31=\"\",\"\",'Contractor Test Data'!$B$31)","v":1},{"$f":"IF('Contractor Test Data'!$L$28=\"\",\"\",'Contractor Test Data'!$L$28)","v":"Correction Factor"}]
[302,{"$f":"IF('Contractor Test Data'!$M$31=\"\",\"\",'Contractor Test Data'!$M$31)","v":""},{"$f":"IF('Contractor Test Data'!$C$21=\"\",\"\",'Contractor Test Data'!$C$21)","v":"Contractor:Tex-418-A"},{"$f":"IF('Contractor Test Data'!$B$31=\"\",\"\",'Contractor Test Data'!$B$31)","v":1},{"$f":"IF('Contractor Test Data'!$M$28=\"\",\"\",'Contractor Test Data'!$M$28)","v":"Compressive Strength (psi)"}]
[303,{"$f":"IF('Contractor Test Data'!$N$31=\"\",\"\",'Contractor Test Data'!$N$31)","v":""},{"$f":"IF('Contractor Test Data'!$C$21=\"\",\"\",'Contractor Test Data'!$C$21)","v":"Contractor:Tex-418-A"},{"$f":"IF('Contractor Test Data'!$B$31=\"\",\"\",'Contractor Test Data'!$B$31)","v":1},{"$f":"IF('Contractor Test Data'!$N$28=\"\",\"\",'Contractor Test Data'!$N$28)","v":"Compressive Strength (avg) (psi)"}]
[304,{"$f":"IF('Contractor Test Data'!$O$31=\"\",\"\",'Contractor Test Data'!$O$31)","v":""},{"$f":"IF('Contractor Test Data'!$C$21=\"\",\"\",'Contractor Test Data'!$C$21)","v":"Contractor:Tex-418-A"},{"$f":"IF('Contractor Test Data'!$B$31=\"\",\"\",'Contractor Test Data'!$B$31)","v":1},{"$f":"IF('Contractor Test Data'!$O$28=\"\",\"\",'Contractor Test Data'!$O$28)","v":"Meets Job Control Strength"}]
[305,{"$f":"IF('Contractor Test Data'!$F$32=\"\",\"\",'Contractor Test Data'!$F$32)","v":""},{"$f":"IF('Contractor Test Data'!$C$21=\"\",\"\",'Contractor Test Data'!$C$21)","v":"Contractor:Tex-418-A"},{"$f":"IF('Contractor Test Data'!$B$31=\"\",\"\",'Contractor Test Data'!$B$31)","v":1},{"$f":"IF('Contractor Test Data'!$F$28=\"\",\"\",'Contractor Test Data'!$F$28)","v":"Cylinder Number"}]
[306,{"$f":"IF('Contractor Test Data'!$G$32=\"\",\"\",'Contractor Test Data'!$G$32)","v":""},{"$f":"IF('Contractor Test Data'!$C$21=\"\",\"\",'Contractor Test Data'!$C$21)","v":"Contractor:Tex-418-A"},{"$f":"IF('Contractor Test Data'!$B$31=\"\",\"\",'Contractor Test Data'!$B$31)","v":1},{"$f":"IF('Contractor Test Data'!$G$29=\"\",\"\",'Contractor Test Data'!$G$29)","v":" of Cylinder (inches)"}]
[307,{"$f":"IF('Contractor Test Data'!$H$32=\"\",\"\",'Contractor Test Data'!$H$32)","v":""},{"$f":"IF('Contractor Test Data'!$C$21=\"\",\"\",'Contractor Test Data'!$C$21)","v":"Contractor:Tex-418-A"},{"$f":"IF('Contractor Test Data'!$B$31=\"\",\"\",'Contractor Test Data'!$B$31)","v":1},{"$f":"IF('Contractor Test Data'!$H$28=\"\",\"\",'Contractor Test Data'!$H$28)","v":"Length of Cylinder (inches)"}]
[308,{"$f":"IF('Contractor Test Data'!$I$32=\"\",\"\",'Contractor Test Data'!$I$32)","v":""},{"$f":"IF('Contractor Test Data'!$C$21=\"\",\"\",'Contractor Test Data'!$C$21)","v":"Contractor:Tex-418-A"},{"$f":"IF('Contractor Test Data'!$B$31=\"\",\"\",'Contractor Test Data'!$B$31)","v":1},{"$f":"IF('Contractor Test Data'!$I$28=\"\",\"\",'Contractor Test Data'!$I$28)","v":"Length to Diameter Ratio"}]
[309,{"$f":"IF('Contractor Test Data'!$J$32=\"\",\"\",'Contractor Test Data'!$J$32)","v":""},{"$f":"IF('Contractor Test Data'!$C$21=\"\",\"\",'Contractor Test Data'!$C$21)","v":"Contractor:Tex-418-A"},{"$f":"IF('Contractor Test Data'!$B$31=\"\",\"\",'Contractor Test Data'!$B$31)","v":1},{"$f":"IF('Contractor Test Data'!$J$28=\"\",\"\",'Contractor Test Data'!$J$28)","v":"Max Load (lbs.)"}]
[310,{"$f":"IF('Contractor Test Data'!$K$32=\"\",\"\",'Contractor Test Data'!$K$32)","v":""},{"$f":"IF('Contractor Test Data'!$C$21=\"\",\"\",'Contractor Test Data'!$C$21)","v":"Contractor:Tex-418-A"},{"$f":"IF('Contractor Test Data'!$B$31=\"\",\"\",'Contractor Test Data'!$B$31)","v":1},{"$f":"IF('Contractor Test Data'!$K$28=\"\",\"\",'Contractor Test Data'!$K$28)","v":"Failure Type"}]
[311,{"$f":"IF('Contractor Test Data'!$L$32=\"\",\"\",'Contractor Test Data'!$L$32)","v":""},{"$f":"IF('Contractor Test Data'!$C$21=\"\",\"\",'Contractor Test Data'!$C$21)","v":"Contractor:Tex-418-A"},{"$f":"IF('Contractor Test Data'!$B$31=\"\",\"\",'Contractor Test Data'!$B$31)","v":1},{"$f":"IF('Contractor Test Data'!$L$28=\"\",\"\",'Contractor Test Data'!$L$28)","v":"Correction Factor"}]
[312,{"$f":"IF('Contractor Test Data'!$M$32=\"\",\"\",'Contractor Test Data'!$M$32)","v":""},{"$f":"IF('Contractor Test Data'!$C$21=\"\",\"\",'Contractor Test Data'!$C$21)","v":"Contractor:Tex-418-A"},{"$f":"IF('Contractor Test Data'!$B$31=\"\",\"\",'Contractor Test Data'!$B$31)","v":1},{"$f":"IF('Contractor Test Data'!$M$28=\"\",\"\",'Contractor Test Data'!$M$28)","v":"Compressive Strength (psi)"}]
[313,{"$f":"IF('Contractor Test Data'!$F$33=\"\",\"\",'Contractor Test Data'!$F$33)","v":""},{"$f":"IF('Contractor Test Data'!$C$21=\"\",\"\",'Contractor Test Data'!$C$21)","v":"Contractor:Tex-418-A"},{"$f":"IF('Contractor Test Data'!$B$33=\"\",\"\",'Contractor Test Data'!$B$33)","v":2},{"$f":"IF('Contractor Test Data'!$F$28=\"\",\"\",'Contractor Test Data'!$F$28)","v":"Cylinder Number"}]
[314,{"$f":"IF('Contractor Test Data'!$D$33=\"\",\"\",'Contractor Test Data'!$D$33)","v":""},{"$f":"IF('Contractor Test Data'!$C$21=\"\",\"\",'Contractor Test Data'!$C$21)","v":"Contractor:Tex-418-A"},{"$f":"IF('Contractor Test Data'!$B$33=\"\",\"\",'Contractor Test Data'!$B$33)","v":2},{"$f":"IF('Contractor Test Data'!$D$28=\"\",\"\",'Contractor Test Data'!$D$28)","v":"Station"}]
[315,{"$f":"IF('Contractor Test Data'!$E$33=\"\",\"\",'Contractor Test Data'!$E$33)","v":""},{"$f":"IF('Contractor Test Data'!$C$21=\"\",\"\",'Contractor Test Data'!$C$21)","v":"Contractor:Tex-418-A"},{"$f":"IF('Contractor Test Data'!$B$33=\"\",\"\",'Contractor Test Data'!$B$33)","v":2},{"$f":"IF('Contractor Test Data'!$E$28=\"\",\"\",'Contractor Test Data'!$E$28)","v":"Age (Days)"}]
[316,{"$f":"IF('Contractor Test Data'!$G$33=\"\",\"\",'Contractor Test Data'!$G$33)","v":""},{"$f":"IF('Contractor Test Data'!$C$21=\"\",\"\",'Contractor Test Data'!$C$21)","v":"Contractor:Tex-418-A"},{"$f":"IF('Contractor Test Data'!$B$33=\"\",\"\",'Contractor Test Data'!$B$33)","v":2},{"$f":"IF('Contractor Test Data'!$G$29=\"\",\"\",'Contractor Test Data'!$G$29)","v":" of Cylinder (inches)"}]
[317,{"$f":"IF('Contractor Test Data'!$H$33=\"\",\"\",'Contractor Test Data'!$H$33)","v":""},{"$f":"IF('Contractor Test Data'!$C$21=\"\",\"\",'Contractor Test Data'!$C$21)","v":"Contractor:Tex-418-A"},{"$f":"IF('Contractor Test Data'!$B$33=\"\",\"\",'Contractor Test Data'!$B$33)","v":2},{"$f":"IF('Contractor Test Data'!$H$28=\"\",\"\",'Contractor Test Data'!$H$28)","v":"Length of Cylinder (inches)"}]
[318,{"$f":"IF('Contractor Test Data'!$I$33=\"\",\"\",'Contractor Test Data'!$I$33)","v":""},{"$f":"IF('Contractor Test Data'!$C$21=\"\",\"\",'Contractor Test Data'!$C$21)","v":"Contractor:Tex-418-A"},{"$f":"IF('Contractor Test Data'!$B$33=\"\",\"\",'Contractor Test Data'!$B$33)","v":2},{"$f":"IF('Contractor Test Data'!$I$28=\"\",\"\",'Contractor Test Data'!$I$28)","v":"Length to Diameter Ratio"}]
[319,{"$f":"IF('Contractor Test Data'!$J$33=\"\",\"\",'Contractor Test Data'!$J$33)","v":""},{"$f":"IF('Contractor Test Data'!$C$21=\"\",\"\",'Contractor Test Data'!$C$21)","v":"Contractor:Tex-418-A"},{"$f":"IF('Contractor Test Data'!$B$33=\"\",\"\",'Contractor Test Data'!$B$33)","v":2},{"$f":"IF('Contractor Test Data'!$J$28=\"\",\"\",'Contractor Test Data'!$J$28)","v":"Max Load (lbs.)"}]
[320,{"$f":"IF('Contractor Test Data'!$K$33=\"\",\"\",'Contractor Test Data'!$K$33)","v":""},{"$f":"IF('Contractor Test Data'!$C$21=\"\",\"\",'Contractor Test Data'!$C$21)","v":"Contractor:Tex-418-A"},{"$f":"IF('Contractor Test Data'!$B$33=\"\",\"\",'Contractor Test Data'!$B$33)","v":2},{"$f":"IF('Contractor Test Data'!$K$28=\"\",\"\",'Contractor Test Data'!$K$28)","v":"Failure Type"}]
[321,{"$f":"IF('Contractor Test Data'!$L$33=\"\",\"\",'Contractor Test Data'!$L$33)","v":""},{"$f":"IF('Contractor Test Data'!$C$21=\"\",\"\",'Contractor Test Data'!$C$21)","v":"Contractor:Tex-418-A"},{"$f":"IF('Contractor Test Data'!$B$33=\"\",\"\",'Contractor Test Data'!$B$33)","v":2},{"$f":"IF('Contractor Test Data'!$L$28=\"\",\"\",'Contractor Test Data'!$L$28)","v":"Correction Factor"}]
[322,{"$f":"IF('Contractor Test Data'!$M$33=\"\",\"\",'Contractor Test Data'!$M$33)","v":""},{"$f":"IF('Contractor Test Data'!$C$21=\"\",\"\",'Contractor Test Data'!$C$21)","v":"Contractor:Tex-418-A"},{"$f":"IF('Contractor Test Data'!$B$33=\"\",\"\",'Contractor Test Data'!$B$33)","v":2},{"$f":"IF('Contractor Test Data'!$M$28=\"\",\"\",'Contractor Test Data'!$M$28)","v":"Compressive Strength (psi)"}]
[323,{"$f":"IF('Contractor Test Data'!$N$33=\"\",\"\",'Contractor Test Data'!$N$33)","v":""},{"$f":"IF('Contractor Test Data'!$C$21=\"\",\"\",'Contractor Test Data'!$C$21)","v":"Contractor:Tex-418-A"},{"$f":"IF('Contractor Test Data'!$B$33=\"\",\"\",'Contractor Test Data'!$B$33)","v":2},{"$f":"IF('Contractor Test Data'!$N$28=\"\",\"\",'Contractor Test Data'!$N$28)","v":"Compressive Strength (avg) (psi)"}]
[324,{"$f":"IF('Contractor Test Data'!$O$33=\"\",\"\",'Contractor Test Data'!$O$33)","v":""},{"$f":"IF('Contractor Test Data'!$C$21=\"\",\"\",'Contractor Test Data'!$C$21)","v":"Contractor:Tex-418-A"},{"$f":"IF('Contractor Test Data'!$B$33=\"\",\"\",'Contractor Test Data'!$B$33)","v":2},{"$f":"IF('Contractor Test Data'!$O$28=\"\",\"\",'Contractor Test Data'!$O$28)","v":"Meets Job Control Strength"}]
[325,{"$f":"IF('Contractor Test Data'!$F$34=\"\",\"\",'Contractor Test Data'!$F$34)","v":""},{"$f":"IF('Contractor Test Data'!$C$21=\"\",\"\",'Contractor Test Data'!$C$21)","v":"Contractor:Tex-418-A"},{"$f":"IF('Contractor Test Data'!$B$33=\"\",\"\",'Contractor Test Data'!$B$33)","v":2},{"$f":"IF('Contractor Test Data'!$F$28=\"\",\"\",'Contractor Test Data'!$F$28)","v":"Cylinder Number"}]
[326,{"$f":"IF('Contractor Test Data'!$G$34=\"\",\"\",'Contractor Test Data'!$G$34)","v":""},{"$f":"IF('Contractor Test Data'!$C$21=\"\",\"\",'Contractor Test Data'!$C$21)","v":"Contractor:Tex-418-A"},{"$f":"IF('Contractor Test Data'!$B$33=\"\",\"\",'Contractor Test Data'!$B$33)","v":2},{"$f":"IF('Contractor Test Data'!$G$29=\"\",\"\",'Contractor Test Data'!$G$29)","v":" of Cylinder (inches)"}]
[327,{"$f":"IF('Contractor Test Data'!$H$34=\"\",\"\",'Contractor Test Data'!$H$34)","v":""},{"$f":"IF('Contractor Test Data'!$C$21=\"\",\"\",'Contractor Test Data'!$C$21)","v":"Contractor:Tex-418-A"},{"$f":"IF('Contractor Test Data'!$B$33=\"\",\"\",'Contractor Test Data'!$B$33)","v":2},{"$f":"IF('Contractor Test Data'!$H$28=\"\",\"\",'Contractor Test Data'!$H$28)","v":"Length of Cylinder (inches)"}]
[328,{"$f":"IF('Contractor Test Data'!$I$34=\"\",\"\",'Contractor Test Data'!$I$34)","v":""},{"$f":"IF('Contractor Test Data'!$C$21=\"\",\"\",'Contractor Test Data'!$C$21)","v":"Contractor:Tex-418-A"},{"$f":"IF('Contractor Test Data'!$B$33=\"\",\"\",'Contractor Test Data'!$B$33)","v":2},{"$f":"IF('Contractor Test Data'!$I$28=\"\",\"\",'Contractor Test Data'!$I$28)","v":"Length to Diameter Ratio"}]
[329,{"$f":"IF('Contractor Test Data'!$J$34=\"\",\"\",'Contractor Test Data'!$J$34)","v":""},{"$f":"IF('Contractor Test Data'!$C$21=\"\",\"\",'Contractor Test Data'!$C$21)","v":"Contractor:Tex-418-A"},{"$f":"IF('Contractor Test Data'!$B$33=\"\",\"\",'Contractor Test Data'!$B$33)","v":2},{"$f":"IF('Contractor Test Data'!$J$28=\"\",\"\",'Contractor Test Data'!$J$28)","v":"Max Load (lbs.)"}]
[330,{"$f":"IF('Contractor Test Data'!$K$34=\"\",\"\",'Contractor Test Data'!$K$34)","v":""},{"$f":"IF('Contractor Test Data'!$C$21=\"\",\"\",'Contractor Test Data'!$C$21)","v":"Contractor:Tex-418-A"},{"$f":"IF('Contractor Test Data'!$B$33=\"\",\"\",'Contractor Test Data'!$B$33)","v":2},{"$f":"IF('Contractor Test Data'!$K$28=\"\",\"\",'Contractor Test Data'!$K$28)","v":"Failure Type"}]
[331,{"$f":"IF('Contractor Test Data'!$L$34=\"\",\"\",'Contractor Test Data'!$L$34)","v":""},{"$f":"IF('Contractor Test Data'!$C$21=\"\",\"\",'Contractor Test Data'!$C$21)","v":"Contractor:Tex-418-A"},{"$f":"IF('Contractor Test Data'!$B$33=\"\",\"\",'Contractor Test Data'!$B$33)","v":2},{"$f":"IF('Contractor Test Data'!$L$28=\"\",\"\",'Contractor Test Data'!$L$28)","v":"Correction Factor"}]
[332,{"$f":"IF('Contractor Test Data'!$M$34=\"\",\"\",'Contractor Test Data'!$M$34)","v":""},{"$f":"IF('Contractor Test Data'!$C$21=\"\",\"\",'Contractor Test Data'!$C$21)","v":"Contractor:Tex-418-A"},{"$f":"IF('Contractor Test Data'!$B$33=\"\",\"\",'Contractor Test Data'!$B$33)","v":2},{"$f":"IF('Contractor Test Data'!$M$28=\"\",\"\",'Contractor Test Data'!$M$28)","v":"Compressive Strength (psi)"}]
[333,{"$f":"IF('Contractor Test Data'!$F$35=\"\",\"\",'Contractor Test Data'!$F$35)","v":""},{"$f":"IF('Contractor Test Data'!$C$21=\"\",\"\",'Contractor Test Data'!$C$21)","v":"Contractor:Tex-418-A"},{"$f":"IF('Contractor Test Data'!$B$35=\"\",\"\",'Contractor Test Data'!$B$35)","v":3},{"$f":"IF('Contractor Test Data'!$F$28=\"\",\"\",'Contractor Test Data'!$F$28)","v":"Cylinder Number"}]
[334,{"$f":"IF('Contractor Test Data'!$D$35=\"\",\"\",'Contractor Test Data'!$D$35)","v":""},{"$f":"IF('Contractor Test Data'!$C$21=\"\",\"\",'Contractor Test Data'!$C$21)","v":"Contractor:Tex-418-A"},{"$f":"IF('Contractor Test Data'!$B$35=\"\",\"\",'Contractor Test Data'!$B$35)","v":3},{"$f":"IF('Contractor Test Data'!$D$28=\"\",\"\",'Contractor Test Data'!$D$28)","v":"Station"}]
[335,{"$f":"IF('Contractor Test Data'!$E$35=\"\",\"\",'Contractor Test Data'!$E$35)","v":""},{"$f":"IF('Contractor Test Data'!$C$21=\"\",\"\",'Contractor Test Data'!$C$21)","v":"Contractor:Tex-418-A"},{"$f":"IF('Contractor Test Data'!$B$35=\"\",\"\",'Contractor Test Data'!$B$35)","v":3},{"$f":"IF('Contractor Test Data'!$E$28=\"\",\"\",'Contractor Test Data'!$E$28)","v":"Age (Days)"}]
[336,{"$f":"IF('Contractor Test Data'!$G$35=\"\",\"\",'Contractor Test Data'!$G$35)","v":""},{"$f":"IF('Contractor Test Data'!$C$21=\"\",\"\",'Contractor Test Data'!$C$21)","v":"Contractor:Tex-418-A"},{"$f":"IF('Contractor Test Data'!$B$35=\"\",\"\",'Contractor Test Data'!$B$35)","v":3},{"$f":"IF('Contractor Test Data'!$G$29=\"\",\"\",'Contractor Test Data'!$G$29)","v":" of Cylinder (inches)"}]
[337,{"$f":"IF('Contractor Test Data'!$H$35=\"\",\"\",'Contractor Test Data'!$H$35)","v":""},{"$f":"IF('Contractor Test Data'!$C$21=\"\",\"\",'Contractor Test Data'!$C$21)","v":"Contractor:Tex-418-A"},{"$f":"IF('Contractor Test Data'!$B$35=\"\",\"\",'Contractor Test Data'!$B$35)","v":3},{"$f":"IF('Contractor Test Data'!$H$28=\"\",\"\",'Contractor Test Data'!$H$28)","v":"Length of Cylinder (inches)"}]
[338,{"$f":"IF('Contractor Test Data'!$I$35=\"\",\"\",'Contractor Test Data'!$I$35)","v":""},{"$f":"IF('Contractor Test Data'!$C$21=\"\",\"\",'Contractor Test Data'!$C$21)","v":"Contractor:Tex-418-A"},{"$f":"IF('Contractor Test Data'!$B$35=\"\",\"\",'Contractor Test Data'!$B$35)","v":3},{"$f":"IF('Contractor Test Data'!$I$28=\"\",\"\",'Contractor Test Data'!$I$28)","v":"Length to Diameter Ratio"}]
[339,{"$f":"IF('Contractor Test Data'!$J$35=\"\",\"\",'Contractor Test Data'!$J$35)","v":""},{"$f":"IF('Contractor Test Data'!$C$21=\"\",\"\",'Contractor Test Data'!$C$21)","v":"Contractor:Tex-418-A"},{"$f":"IF('Contractor Test Data'!$B$35=\"\",\"\",'Contractor Test Data'!$B$35)","v":3},{"$f":"IF('Contractor Test Data'!$J$28=\"\",\"\",'Contractor Test Data'!$J$28)","v":"Max Load (lbs.)"}]
[340,{"$f":"IF('Contractor Test Data'!$K$35=\"\",\"\",'Contractor Test Data'!$K$35)","v":""},{"$f":"IF('Contractor Test Data'!$C$21=\"\",\"\",'Contractor Test Data'!$C$21)","v":"Contractor:Tex-418-A"},{"$f":"IF('Contractor Test Data'!$B$35=\"\",\"\",'Contractor Test Data'!$B$35)","v":3},{"$f":"IF('Contractor Test Data'!$K$28=\"\",\"\",'Contractor Test Data'!$K$28)","v":"Failure Type"}]
[341,{"$f":"IF('Contractor Test Data'!$L$35=\"\",\"\",'Contractor Test Data'!$L$35)","v":""},{"$f":"IF('Contractor Test Data'!$C$21=\"\",\"\",'Contractor Test Data'!$C$21)","v":"Contractor:Tex-418-A"},{"$f":"IF('Contractor Test Data'!$B$35=\"\",\"\",'Contractor Test Data'!$B$35)","v":3},{"$f":"IF('Contractor Test Data'!$L$28=\"\",\"\",'Contractor Test Data'!$L$28)","v":"Correction Factor"}]
[342,{"$f":"IF('Contractor Test Data'!$M$35=\"\",\"\",'Contractor Test Data'!$M$35)","v":""},{"$f":"IF('Contractor Test Data'!$C$21=\"\",\"\",'Contractor Test Data'!$C$21)","v":"Contractor:Tex-418-A"},{"$f":"IF('Contractor Test Data'!$B$35=\"\",\"\",'Contractor Test Data'!$B$35)","v":3},{"$f":"IF('Contractor Test Data'!$M$28=\"\",\"\",'Contractor Test Data'!$M$28)","v":"Compressive Strength (psi)"}]
[343,{"$f":"IF('Contractor Test Data'!$N$35=\"\",\"\",'Contractor Test Data'!$N$35)","v":""},{"$f":"IF('Contractor Test Data'!$C$21=\"\",\"\",'Contractor Test Data'!$C$21)","v":"Contractor:Tex-418-A"},{"$f":"IF('Contractor Test Data'!$B$35=\"\",\"\",'Contractor Test Data'!$B$35)","v":3},{"$f":"IF('Contractor Test Data'!$N$28=\"\",\"\",'Contractor Test Data'!$N$28)","v":"Compressive Strength (avg) (psi)"}]
[344,{"$f":"IF('Contractor Test Data'!$O$35=\"\",\"\",'Contractor Test Data'!$O$35)","v":""},{"$f":"IF('Contractor Test Data'!$C$21=\"\",\"\",'Contractor Test Data'!$C$21)","v":"Contractor:Tex-418-A"},{"$f":"IF('Contractor Test Data'!$B$35=\"\",\"\",'Contractor Test Data'!$B$35)","v":3},{"$f":"IF('Contractor Test Data'!$O$28=\"\",\"\",'Contractor Test Data'!$O$28)","v":"Meets Job Control Strength"}]
[345,{"$f":"IF('Contractor Test Data'!$F$36=\"\",\"\",'Contractor Test Data'!$F$36)","v":""},{"$f":"IF('Contractor Test Data'!$C$21=\"\",\"\",'Contractor Test Data'!$C$21)","v":"Contractor:Tex-418-A"},{"$f":"IF('Contractor Test Data'!$B$35=\"\",\"\",'Contractor Test Data'!$B$35)","v":3},{"$f":"IF('Contractor Test Data'!$F$28=\"\",\"\",'Contractor Test Data'!$F$28)","v":"Cylinder Number"}]
[346,{"$f":"IF('Contractor Test Data'!$G$36=\"\",\"\",'Contractor Test Data'!$G$36)","v":""},{"$f":"IF('Contractor Test Data'!$C$21=\"\",\"\",'Contractor Test Data'!$C$21)","v":"Contractor:Tex-418-A"},{"$f":"IF('Contractor Test Data'!$B$35=\"\",\"\",'Contractor Test Data'!$B$35)","v":3},{"$f":"IF('Contractor Test Data'!$G$29=\"\",\"\",'Contractor Test Data'!$G$29)","v":" of Cylinder (inches)"}]
[347,{"$f":"IF('Contractor Test Data'!$H$36=\"\",\"\",'Contractor Test Data'!$H$36)","v":""},{"$f":"IF('Contractor Test Data'!$C$21=\"\",\"\",'Contractor Test Data'!$C$21)","v":"Contractor:Tex-418-A"},{"$f":"IF('Contractor Test Data'!$B$35=\"\",\"\",'Contractor Test Data'!$B$35)","v":3},{"$f":"IF('Contractor Test Data'!$H$28=\"\",\"\",'Contractor Test Data'!$H$28)","v":"Length of Cylinder (inches)"}]
[348,{"$f":"IF('Contractor Test Data'!$I$36=\"\",\"\",'Contractor Test Data'!$I$36)","v":""},{"$f":"IF('Contractor Test Data'!$C$21=\"\",\"\",'Contractor Test Data'!$C$21)","v":"Contractor:Tex-418-A"},{"$f":"IF('Contractor Test Data'!$B$35=\"\",\"\",'Contractor Test Data'!$B$35)","v":3},{"$f":"IF('Contractor Test Data'!$I$28=\"\",\"\",'Contractor Test Data'!$I$28)","v":"Length to Diameter Ratio"}]
[349,{"$f":"IF('Contractor Test Data'!$J$36=\"\",\"\",'Contractor Test Data'!$J$36)","v":""},{"$f":"IF('Contractor Test Data'!$C$21=\"\",\"\",'Contractor Test Data'!$C$21)","v":"Contractor:Tex-418-A"},{"$f":"IF('Contractor Test Data'!$B$35=\"\",\"\",'Contractor Test Data'!$B$35)","v":3},{"$f":"IF('Contractor Test Data'!$J$28=\"\",\"\",'Contractor Test Data'!$J$28)","v":"Max Load (lbs.)"}]
[350,{"$f":"IF('Contractor Test Data'!$K$36=\"\",\"\",'Contractor Test Data'!$K$36)","v":""},{"$f":"IF('Contractor Test Data'!$C$21=\"\",\"\",'Contractor Test Data'!$C$21)","v":"Contractor:Tex-418-A"},{"$f":"IF('Contractor Test Data'!$B$35=\"\",\"\",'Contractor Test Data'!$B$35)","v":3},{"$f":"IF('Contractor Test Data'!$K$28=\"\",\"\",'Contractor Test Data'!$K$28)","v":"Failure Type"}]
[351,{"$f":"IF('Contractor Test Data'!$L$36=\"\",\"\",'Contractor Test Data'!$L$36)","v":""},{"$f":"IF('Contractor Test Data'!$C$21=\"\",\"\",'Contractor Test Data'!$C$21)","v":"Contractor:Tex-418-A"},{"$f":"IF('Contractor Test Data'!$B$35=\"\",\"\",'Contractor Test Data'!$B$35)","v":3},{"$f":"IF('Contractor Test Data'!$L$28=\"\",\"\",'Contractor Test Data'!$L$28)","v":"Correction Factor"}]
[352,{"$f":"IF('Contractor Test Data'!$M$36=\"\",\"\",'Contractor Test Data'!$M$36)","v":""},{"$f":"IF('Contractor Test Data'!$C$21=\"\",\"\",'Contractor Test Data'!$C$21)","v":"Contractor:Tex-418-A"},{"$f":"IF('Contractor Test Data'!$B$35=\"\",\"\",'Contractor Test Data'!$B$35)","v":3},{"$f":"IF('Contractor Test Data'!$M$28=\"\",\"\",'Contractor Test Data'!$M$28)","v":"Compressive Strength (psi)"}]
[353,{"$f":"IF('Contractor Test Data'!$F$37=\"\",\"\",'Contractor Test Data'!$F$37)","v":""},{"$f":"IF('Contractor Test Data'!$C$21=\"\",\"\",'Contractor Test Data'!$C$21)","v":"Contractor:Tex-418-A"},{"$f":"IF('Contractor Test Data'!$B$37=\"\",\"\",'Contractor Test Data'!$B$37)","v":4},{"$f":"IF('Contractor Test Data'!$F$28=\"\",\"\",'Contractor Test Data'!$F$28)","v":"Cylinder Number"}]
[354,{"$f":"IF('Contractor Test Data'!$D$37=\"\",\"\",'Contractor Test Data'!$D$37)","v":""},{"$f":"IF('Contractor Test Data'!$C$21=\"\",\"\",'Contractor Test Data'!$C$21)","v":"Contractor:Tex-418-A"},{"$f":"IF('Contractor Test Data'!$B$37=\"\",\"\",'Contractor Test Data'!$B$37)","v":4},{"$f":"IF('Contractor Test Data'!$D$28=\"\",\"\",'Contractor Test Data'!$D$28)","v":"Station"}]
[355,{"$f":"IF('Contractor Test Data'!$E$37=\"\",\"\",'Contractor Test Data'!$E$37)","v":""},{"$f":"IF('Contractor Test Data'!$C$21=\"\",\"\",'Contractor Test Data'!$C$21)","v":"Contractor:Tex-418-A"},{"$f":"IF('Contractor Test Data'!$B$37=\"\",\"\",'Contractor Test Data'!$B$37)","v":4},{"$f":"IF('Contractor Test Data'!$E$28=\"\",\"\",'Contractor Test Data'!$E$28)","v":"Age (Days)"}]
[356,{"$f":"IF('Contractor Test Data'!$G$37=\"\",\"\",'Contractor Test Data'!$G$37)","v":""},{"$f":"IF('Contractor Test Data'!$C$21=\"\",\"\",'Contractor Test Data'!$C$21)","v":"Contractor:Tex-418-A"},{"$f":"IF('Contractor Test Data'!$B$37=\"\",\"\",'Contractor Test Data'!$B$37)","v":4},{"$f":"IF('Contractor Test Data'!$G$29=\"\",\"\",'Contractor Test Data'!$G$29)","v":" of Cylinder (inches)"}]
[357,{"$f":"IF('Contractor Test Data'!$H$37=\"\",\"\",'Contractor Test Data'!$H$37)","v":""},{"$f":"IF('Contractor Test Data'!$C$21=\"\",\"\",'Contractor Test Data'!$C$21)","v":"Contractor:Tex-418-A"},{"$f":"IF('Contractor Test Data'!$B$37=\"\",\"\",'Contractor Test Data'!$B$37)","v":4},{"$f":"IF('Contractor Test Data'!$H$28=\"\",\"\",'Contractor Test Data'!$H$28)","v":"Length of Cylinder (inches)"}]
[358,{"$f":"IF('Contractor Test Data'!$I$37=\"\",\"\",'Contractor Test Data'!$I$37)","v":""},{"$f":"IF('Contractor Test Data'!$C$21=\"\",\"\",'Contractor Test Data'!$C$21)","v":"Contractor:Tex-418-A"},{"$f":"IF('Contractor Test Data'!$B$37=\"\",\"\",'Contractor Test Data'!$B$37)","v":4},{"$f":"IF('Contractor Test Data'!$I$28=\"\",\"\",'Contractor Test Data'!$I$28)","v":"Length to Diameter Ratio"}]
[359,{"$f":"IF('Contractor Test Data'!$J$37=\"\",\"\",'Contractor Test Data'!$J$37)","v":""},{"$f":"IF('Contractor Test Data'!$C$21=\"\",\"\",'Contractor Test Data'!$C$21)","v":"Contractor:Tex-418-A"},{"$f":"IF('Contractor Test Data'!$B$37=\"\",\"\",'Contractor Test Data'!$B$37)","v":4},{"$f":"IF('Contractor Test Data'!$J$28=\"\",\"\",'Contractor Test Data'!$J$28)","v":"Max Load (lbs.)"}]
[360,{"$f":"IF('Contractor Test Data'!$K$37=\"\",\"\",'Contractor Test Data'!$K$37)","v":""},{"$f":"IF('Contractor Test Data'!$C$21=\"\",\"\",'Contractor Test Data'!$C$21)","v":"Contractor:Tex-418-A"},{"$f":"IF('Contractor Test Data'!$B$37=\"\",\"\",'Contractor Test Data'!$B$37)","v":4},{"$f":"IF('Contractor Test Data'!$K$28=\"\",\"\",'Contractor Test Data'!$K$28)","v":"Failure Type"}]
[361,{"$f":"IF('Contractor Test Data'!$L$37=\"\",\"\",'Contractor Test Data'!$L$37)","v":""},{"$f":"IF('Contractor Test Data'!$C$21=\"\",\"\",'Contractor Test Data'!$C$21)","v":"Contractor:Tex-418-A"},{"$f":"IF('Contractor Test Data'!$B$37=\"\",\"\",'Contractor Test Data'!$B$37)","v":4},{"$f":"IF('Contractor Test Data'!$L$28=\"\",\"\",'Contractor Test Data'!$L$28)","v":"Correction Factor"}]
[362,{"$f":"IF('Contractor Test Data'!$M$37=\"\",\"\",'Contractor Test Data'!$M$37)","v":""},{"$f":"IF('Contractor Test Data'!$C$21=\"\",\"\",'Contractor Test Data'!$C$21)","v":"Contractor:Tex-418-A"},{"$f":"IF('Contractor Test Data'!$B$37=\"\",\"\",'Contractor Test Data'!$B$37)","v":4},{"$f":"IF('Contractor Test Data'!$M$28=\"\",\"\",'Contractor Test Data'!$M$28)","v":"Compressive Strength (psi)"}]
[363,{"$f":"IF('Contractor Test Data'!$N$37=\"\",\"\",'Contractor Test Data'!$N$37)","v":""},{"$f":"IF('Contractor Test Data'!$C$21=\"\",\"\",'Contractor Test Data'!$C$21)","v":"Contractor:Tex-418-A"},{"$f":"IF('Contractor Test Data'!$B$37=\"\",\"\",'Contractor Test Data'!$B$37)","v":4},{"$f":"IF('Contractor Test Data'!$N$28=\"\",\"\",'Contractor Test Data'!$N$28)","v":"Compressive Strength (avg) (psi)"}]
[364,{"$f":"IF('Contractor Test Data'!$O$37=\"\",\"\",'Contractor Test Data'!$O$37)","v":""},{"$f":"IF('Contractor Test Data'!$C$21=\"\",\"\",'Contractor Test Data'!$C$21)","v":"Contractor:Tex-418-A"},{"$f":"IF('Contractor Test Data'!$B$37=\"\",\"\",'Contractor Test Data'!$B$37)","v":4},{"$f":"IF('Contractor Test Data'!$O$28=\"\",\"\",'Contractor Test Data'!$O$28)","v":"Meets Job Control Strength"}]
[365,{"$f":"IF('Contractor Test Data'!$F$38=\"\",\"\",'Contractor Test Data'!$F$38)","v":""},{"$f":"IF('Contractor Test Data'!$C$21=\"\",\"\",'Contractor Test Data'!$C$21)","v":"Contractor:Tex-418-A"},{"$f":"IF('Contractor Test Data'!$B$37=\"\",\"\",'Contractor Test Data'!$B$37)","v":4},{"$f":"IF('Contractor Test Data'!$F$28=\"\",\"\",'Contractor Test Data'!$F$28)","v":"Cylinder Number"}]
[366,{"$f":"IF('Contractor Test Data'!$G$38=\"\",\"\",'Contractor Test Data'!$G$38)","v":""},{"$f":"IF('Contractor Test Data'!$C$21=\"\",\"\",'Contractor Test Data'!$C$21)","v":"Contractor:Tex-418-A"},{"$f":"IF('Contractor Test Data'!$B$37=\"\",\"\",'Contractor Test Data'!$B$37)","v":4},{"$f":"IF('Contractor Test Data'!$G$29=\"\",\"\",'Contractor Test Data'!$G$29)","v":" of Cylinder (inches)"}]
[367,{"$f":"IF('Contractor Test Data'!$H$38=\"\",\"\",'Contractor Test Data'!$H$38)","v":""},{"$f":"IF('Contractor Test Data'!$C$21=\"\",\"\",'Contractor Test Data'!$C$21)","v":"Contractor:Tex-418-A"},{"$f":"IF('Contractor Test Data'!$B$37=\"\",\"\",'Contractor Test Data'!$B$37)","v":4},{"$f":"IF('Contractor Test Data'!$H$28=\"\",\"\",'Contractor Test Data'!$H$28)","v":"Length of Cylinder (inches)"}]
[368,{"$f":"IF('Contractor Test Data'!$I$38=\"\",\"\",'Contractor Test Data'!$I$38)","v":""},{"$f":"IF('Contractor Test Data'!$C$21=\"\",\"\",'Contractor Test Data'!$C$21)","v":"Contractor:Tex-418-A"},{"$f":"IF('Contractor Test Data'!$B$37=\"\",\"\",'Contractor Test Data'!$B$37)","v":4},{"$f":"IF('Contractor Test Data'!$I$28=\"\",\"\",'Contractor Test Data'!$I$28)","v":"Length to Diameter Ratio"}]
[369,{"$f":"IF('Contractor Test Data'!$J$38=\"\",\"\",'Contractor Test Data'!$J$38)","v":""},{"$f":"IF('Contractor Test Data'!$C$21=\"\",\"\",'Contractor Test Data'!$C$21)","v":"Contractor:Tex-418-A"},{"$f":"IF('Contractor Test Data'!$B$37=\"\",\"\",'Contractor Test Data'!$B$37)","v":4},{"$f":"IF('Contractor Test Data'!$J$28=\"\",\"\",'Contractor Test Data'!$J$28)","v":"Max Load (lbs.)"}]
[370,{"$f":"IF('Contractor Test Data'!$K$38=\"\",\"\",'Contractor Test Data'!$K$38)","v":""},{"$f":"IF('Contractor Test Data'!$C$21=\"\",\"\",'Contractor Test Data'!$C$21)","v":"Contractor:Tex-418-A"},{"$f":"IF('Contractor Test Data'!$B$37=\"\",\"\",'Contractor Test Data'!$B$37)","v":4},{"$f":"IF('Contractor Test Data'!$K$28=\"\",\"\",'Contractor Test Data'!$K$28)","v":"Failure Type"}]
[371,{"$f":"IF('Contractor Test Data'!$L$38=\"\",\"\",'Contractor Test Data'!$L$38)","v":""},{"$f":"IF('Contractor Test Data'!$C$21=\"\",\"\",'Contractor Test Data'!$C$21)","v":"Contractor:Tex-418-A"},{"$f":"IF('Contractor Test Data'!$B$37=\"\",\"\",'Contractor Test Data'!$B$37)","v":4},{"$f":"IF('Contractor Test Data'!$L$28=\"\",\"\",'Contractor Test Data'!$L$28)","v":"Correction Factor"}]
[372,{"$f":"IF('Contractor Test Data'!$M$38=\"\",\"\",'Contractor Test Data'!$M$38)","v":""},{"$f":"IF('Contractor Test Data'!$C$21=\"\",\"\",'Contractor Test Data'!$C$21)","v":"Contractor:Tex-418-A"},{"$f":"IF('Contractor Test Data'!$B$37=\"\",\"\",'Contractor Test Data'!$B$37)","v":4},{"$f":"IF('Contractor Test Data'!$M$28=\"\",\"\",'Contractor Test Data'!$M$28)","v":"Compressive Strength (psi)"}]
[373,{"$f":"IF('Contractor Test Data'!$F$39=\"\",\"\",'Contractor Test Data'!$F$39)","v":""},{"$f":"IF('Contractor Test Data'!$C$21=\"\",\"\",'Contractor Test Data'!$C$21)","v":"Contractor:Tex-418-A"},{"$f":"IF('Contractor Test Data'!$B$39=\"\",\"\",'Contractor Test Data'!$B$39)","v":5},{"$f":"IF('Contractor Test Data'!$F$28=\"\",\"\",'Contractor Test Data'!$F$28)","v":"Cylinder Number"}]
[374,{"$f":"IF('Contractor Test Data'!$D$39=\"\",\"\",'Contractor Test Data'!$D$39)","v":""},{"$f":"IF('Contractor Test Data'!$C$21=\"\",\"\",'Contractor Test Data'!$C$21)","v":"Contractor:Tex-418-A"},{"$f":"IF('Contractor Test Data'!$B$39=\"\",\"\",'Contractor Test Data'!$B$39)","v":5},{"$f":"IF('Contractor Test Data'!$D$28=\"\",\"\",'Contractor Test Data'!$D$28)","v":"Station"}]
[375,{"$f":"IF('Contractor Test Data'!$E$39=\"\",\"\",'Contractor Test Data'!$E$39)","v":""},{"$f":"IF('Contractor Test Data'!$C$21=\"\",\"\",'Contractor Test Data'!$C$21)","v":"Contractor:Tex-418-A"},{"$f":"IF('Contractor Test Data'!$B$39=\"\",\"\",'Contractor Test Data'!$B$39)","v":5},{"$f":"IF('Contractor Test Data'!$E$28=\"\",\"\",'Contractor Test Data'!$E$28)","v":"Age (Days)"}]
[376,{"$f":"IF('Contractor Test Data'!$G$39=\"\",\"\",'Contractor Test Data'!$G$39)","v":""},{"$f":"IF('Contractor Test Data'!$C$21=\"\",\"\",'Contractor Test Data'!$C$21)","v":"Contractor:Tex-418-A"},{"$f":"IF('Contractor Test Data'!$B$39=\"\",\"\",'Contractor Test Data'!$B$39)","v":5},{"$f":"IF('Contractor Test Data'!$G$29=\"\",\"\",'Contractor Test Data'!$G$29)","v":" of Cylinder (inches)"}]
[377,{"$f":"IF('Contractor Test Data'!$H$39=\"\",\"\",'Contractor Test Data'!$H$39)","v":""},{"$f":"IF('Contractor Test Data'!$C$21=\"\",\"\",'Contractor Test Data'!$C$21)","v":"Contractor:Tex-418-A"},{"$f":"IF('Contractor Test Data'!$B$39=\"\",\"\",'Contractor Test Data'!$B$39)","v":5},{"$f":"IF('Contractor Test Data'!$H$28=\"\",\"\",'Contractor Test Data'!$H$28)","v":"Length of Cylinder (inches)"}]
[378,{"$f":"IF('Contractor Test Data'!$I$39=\"\",\"\",'Contractor Test Data'!$I$39)","v":""},{"$f":"IF('Contractor Test Data'!$C$21=\"\",\"\",'Contractor Test Data'!$C$21)","v":"Contractor:Tex-418-A"},{"$f":"IF('Contractor Test Data'!$B$39=\"\",\"\",'Contractor Test Data'!$B$39)","v":5},{"$f":"IF('Contractor Test Data'!$I$28=\"\",\"\",'Contractor Test Data'!$I$28)","v":"Length to Diameter Ratio"}]
[379,{"$f":"IF('Contractor Test Data'!$J$39=\"\",\"\",'Contractor Test Data'!$J$39)","v":""},{"$f":"IF('Contractor Test Data'!$C$21=\"\",\"\",'Contractor Test Data'!$C$21)","v":"Contractor:Tex-418-A"},{"$f":"IF('Contractor Test Data'!$B$39=\"\",\"\",'Contractor Test Data'!$B$39)","v":5},{"$f":"IF('Contractor Test Data'!$J$28=\"\",\"\",'Contractor Test Data'!$J$28)","v":"Max Load (lbs.)"}]
[380,{"$f":"IF('Contractor Test Data'!$K$39=\"\",\"\",'Contractor Test Data'!$K$39)","v":""},{"$f":"IF('Contractor Test Data'!$C$21=\"\",\"\",'Contractor Test Data'!$C$21)","v":"Contractor:Tex-418-A"},{"$f":"IF('Contractor Test Data'!$B$39=\"\",\"\",'Contractor Test Data'!$B$39)","v":5},{"$f":"IF('Contractor Test Data'!$K$28=\"\",\"\",'Contractor Test Data'!$K$28)","v":"Failure Type"}]
[381,{"$f":"IF('Contractor Test Data'!$L$39=\"\",\"\",'Contractor Test Data'!$L$39)","v":""},{"$f":"IF('Contractor Test Data'!$C$21=\"\",\"\",'Contractor Test Data'!$C$21)","v":"Contractor:Tex-418-A"},{"$f":"IF('Contractor Test Data'!$B$39=\"\",\"\",'Contractor Test Data'!$B$39)","v":5},{"$f":"IF('Contractor Test Data'!$L$28=\"\",\"\",'Contractor Test Data'!$L$28)","v":"Correction Factor"}]
[382,{"$f":"IF('Contractor Test Data'!$M$39=\"\",\"\",'Contractor Test Data'!$M$39)","v":""},{"$f":"IF('Contractor Test Data'!$C$21=\"\",\"\",'Contractor Test Data'!$C$21)","v":"Contractor:Tex-418-A"},{"$f":"IF('Contractor Test Data'!$B$39=\"\",\"\",'Contractor Test Data'!$B$39)","v":5},{"$f":"IF('Contractor Test Data'!$M$28=\"\",\"\",'Contractor Test Data'!$M$28)","v":"Compressive Strength (psi)"}]
[383,{"$f":"IF('Contractor Test Data'!$N$39=\"\",\"\",'Contractor Test Data'!$N$39)","v":""},{"$f":"IF('Contractor Test Data'!$C$21=\"\",\"\",'Contractor Test Data'!$C$21)","v":"Contractor:Tex-418-A"},{"$f":"IF('Contractor Test Data'!$B$39=\"\",\"\",'Contractor Test Data'!$B$39)","v":5},{"$f":"IF('Contractor Test Data'!$N$28=\"\",\"\",'Contractor Test Data'!$N$28)","v":"Compressive Strength (avg) (psi)"}]
[384,{"$f":"IF('Contractor Test Data'!$O$39=\"\",\"\",'Contractor Test Data'!$O$39)","v":""},{"$f":"IF('Contractor Test Data'!$C$21=\"\",\"\",'Contractor Test Data'!$C$21)","v":"Contractor:Tex-418-A"},{"$f":"IF('Contractor Test Data'!$B$39=\"\",\"\",'Contractor Test Data'!$B$39)","v":5},{"$f":"IF('Contractor Test Data'!$O$28=\"\",\"\",'Contractor Test Data'!$O$28)","v":"Meets Job Control Strength"}]
[385,{"$f":"IF('Contractor Test Data'!$F$40=\"\",\"\",'Contractor Test Data'!$F$40)","v":""},{"$f":"IF('Contractor Test Data'!$C$21=\"\",\"\",'Contractor Test Data'!$C$21)","v":"Contractor:Tex-418-A"},{"$f":"IF('Contractor Test Data'!$B$39=\"\",\"\",'Contractor Test Data'!$B$39)","v":5},{"$f":"IF('Contractor Test Data'!$F$28=\"\",\"\",'Contractor Test Data'!$F$28)","v":"Cylinder Number"}]
[386,{"$f":"IF('Contractor Test Data'!$G$40=\"\",\"\",'Contractor Test Data'!$G$40)","v":""},{"$f":"IF('Contractor Test Data'!$C$21=\"\",\"\",'Contractor Test Data'!$C$21)","v":"Contractor:Tex-418-A"},{"$f":"IF('Contractor Test Data'!$B$39=\"\",\"\",'Contractor Test Data'!$B$39)","v":5},{"$f":"IF('Contractor Test Data'!$G$29=\"\",\"\",'Contractor Test Data'!$G$29)","v":" of Cylinder (inches)"}]
[387,{"$f":"IF('Contractor Test Data'!$H$40=\"\",\"\",'Contractor Test Data'!$H$40)","v":""},{"$f":"IF('Contractor Test Data'!$C$21=\"\",\"\",'Contractor Test Data'!$C$21)","v":"Contractor:Tex-418-A"},{"$f":"IF('Contractor Test Data'!$B$39=\"\",\"\",'Contractor Test Data'!$B$39)","v":5},{"$f":"IF('Contractor Test Data'!$H$28=\"\",\"\",'Contractor Test Data'!$H$28)","v":"Length of Cylinder (inches)"}]
[388,{"$f":"IF('Contractor Test Data'!$I$40=\"\",\"\",'Contractor Test Data'!$I$40)","v":""},{"$f":"IF('Contractor Test Data'!$C$21=\"\",\"\",'Contractor Test Data'!$C$21)","v":"Contractor:Tex-418-A"},{"$f":"IF('Contractor Test Data'!$B$39=\"\",\"\",'Contractor Test Data'!$B$39)","v":5},{"$f":"IF('Contractor Test Data'!$I$28=\"\",\"\",'Contractor Test Data'!$I$28)","v":"Length to Diameter Ratio"}]
[389,{"$f":"IF('Contractor Test Data'!$J$40=\"\",\"\",'Contractor Test Data'!$J$40)","v":""},{"$f":"IF('Contractor Test Data'!$C$21=\"\",\"\",'Contractor Test Data'!$C$21)","v":"Contractor:Tex-418-A"},{"$f":"IF('Contractor Test Data'!$B$39=\"\",\"\",'Contractor Test Data'!$B$39)","v":5},{"$f":"IF('Contractor Test Data'!$J$28=\"\",\"\",'Contractor Test Data'!$J$28)","v":"Max Load (lbs.)"}]
[390,{"$f":"IF('Contractor Test Data'!$K$40=\"\",\"\",'Contractor Test Data'!$K$40)","v":""},{"$f":"IF('Contractor Test Data'!$C$21=\"\",\"\",'Contractor Test Data'!$C$21)","v":"Contractor:Tex-418-A"},{"$f":"IF('Contractor Test Data'!$B$39=\"\",\"\",'Contractor Test Data'!$B$39)","v":5},{"$f":"IF('Contractor Test Data'!$K$28=\"\",\"\",'Contractor Test Data'!$K$28)","v":"Failure Type"}]
[391,{"$f":"IF('Contractor Test Data'!$L$40=\"\",\"\",'Contractor Test Data'!$L$40)","v":""},{"$f":"IF('Contractor Test Data'!$C$21=\"\",\"\",'Contractor Test Data'!$C$21)","v":"Contractor:Tex-418-A"},{"$f":"IF('Contractor Test Data'!$B$39=\"\",\"\",'Contractor Test Data'!$B$39)","v":5},{"$f":"IF('Contractor Test Data'!$L$28=\"\",\"\",'Contractor Test Data'!$L$28)","v":"Correction Factor"}]
[392,{"$f":"IF('Contractor Test Data'!$M$40=\"\",\"\",'Contractor Test Data'!$M$40)","v":""},{"$f":"IF('Contractor Test Data'!$C$21=\"\",\"\",'Contractor Test Data'!$C$21)","v":"Contractor:Tex-418-A"},{"$f":"IF('Contractor Test Data'!$B$39=\"\",\"\",'Contractor Test Data'!$B$39)","v":5},{"$f":"IF('Contractor Test Data'!$M$28=\"\",\"\",'Contractor Test Data'!$M$28)","v":"Compressive Strength (psi)"}]
[393,{"$f":"IF('Contractor Test Data'!$F$41=\"\",\"\",'Contractor Test Data'!$F$41)","v":""},{"$f":"IF('Contractor Test Data'!$C$21=\"\",\"\",'Contractor Test Data'!$C$21)","v":"Contractor:Tex-418-A"},{"$f":"IF('Contractor Test Data'!$B$41=\"\",\"\",'Contractor Test Data'!$B$41)","v":6},{"$f":"IF('Contractor Test Data'!$F$28=\"\",\"\",'Contractor Test Data'!$F$28)","v":"Cylinder Number"}]
[394,{"$f":"IF('Contractor Test Data'!$D$41=\"\",\"\",'Contractor Test Data'!$D$41)","v":""},{"$f":"IF('Contractor Test Data'!$C$21=\"\",\"\",'Contractor Test Data'!$C$21)","v":"Contractor:Tex-418-A"},{"$f":"IF('Contractor Test Data'!$B$41=\"\",\"\",'Contractor Test Data'!$B$41)","v":6},{"$f":"IF('Contractor Test Data'!$D$28=\"\",\"\",'Contractor Test Data'!$D$28)","v":"Station"}]
[395,{"$f":"IF('Contractor Test Data'!$E$41=\"\",\"\",'Contractor Test Data'!$E$41)","v":""},{"$f":"IF('Contractor Test Data'!$C$21=\"\",\"\",'Contractor Test Data'!$C$21)","v":"Contractor:Tex-418-A"},{"$f":"IF('Contractor Test Data'!$B$41=\"\",\"\",'Contractor Test Data'!$B$41)","v":6},{"$f":"IF('Contractor Test Data'!$E$28=\"\",\"\",'Contractor Test Data'!$E$28)","v":"Age (Days)"}]
[396,{"$f":"IF('Contractor Test Data'!$G$41=\"\",\"\",'Contractor Test Data'!$G$41)","v":""},{"$f":"IF('Contractor Test Data'!$C$21=\"\",\"\",'Contractor Test Data'!$C$21)","v":"Contractor:Tex-418-A"},{"$f":"IF('Contractor Test Data'!$B$41=\"\",\"\",'Contractor Test Data'!$B$41)","v":6},{"$f":"IF('Contractor Test Data'!$G$29=\"\",\"\",'Contractor Test Data'!$G$29)","v":" of Cylinder (inches)"}]
[397,{"$f":"IF('Contractor Test Data'!$H$41=\"\",\"\",'Contractor Test Data'!$H$41)","v":""},{"$f":"IF('Contractor Test Data'!$C$21=\"\",\"\",'Contractor Test Data'!$C$21)","v":"Contractor:Tex-418-A"},{"$f":"IF('Contractor Test Data'!$B$41=\"\",\"\",'Contractor Test Data'!$B$41)","v":6},{"$f":"IF('Contractor Test Data'!$H$28=\"\",\"\",'Contractor Test Data'!$H$28)","v":"Length of Cylinder (inches)"}]
[398,{"$f":"IF('Contractor Test Data'!$I$41=\"\",\"\",'Contractor Test Data'!$I$41)","v":""},{"$f":"IF('Contractor Test Data'!$C$21=\"\",\"\",'Contractor Test Data'!$C$21)","v":"Contractor:Tex-418-A"},{"$f":"IF('Contractor Test Data'!$B$41=\"\",\"\",'Contractor Test Data'!$B$41)","v":6},{"$f":"IF('Contractor Test Data'!$I$28=\"\",\"\",'Contractor Test Data'!$I$28)","v":"Length to Diameter Ratio"}]
[399,{"$f":"IF('Contractor Test Data'!$J$41=\"\",\"\",'Contractor Test Data'!$J$41)","v":""},{"$f":"IF('Contractor Test Data'!$C$21=\"\",\"\",'Contractor Test Data'!$C$21)","v":"Contractor:Tex-418-A"},{"$f":"IF('Contractor Test Data'!$B$41=\"\",\"\",'Contractor Test Data'!$B$41)","v":6},{"$f":"IF('Contractor Test Data'!$J$28=\"\",\"\",'Contractor Test Data'!$J$28)","v":"Max Load (lbs.)"}]
[400,{"$f":"IF('Contractor Test Data'!$K$41=\"\",\"\",'Contractor Test Data'!$K$41)","v":""},{"$f":"IF('Contractor Test Data'!$C$21=\"\",\"\",'Contractor Test Data'!$C$21)","v":"Contractor:Tex-418-A"},{"$f":"IF('Contractor Test Data'!$B$41=\"\",\"\",'Contractor Test Data'!$B$41)","v":6},{"$f":"IF('Contractor Test Data'!$K$28=\"\",\"\",'Contractor Test Data'!$K$28)","v":"Failure Type"}]
[401,{"$f":"IF('Contractor Test Data'!$L$41=\"\",\"\",'Contractor Test Data'!$L$41)","v":""},{"$f":"IF('Contractor Test Data'!$C$21=\"\",\"\",'Contractor Test Data'!$C$21)","v":"Contractor:Tex-418-A"},{"$f":"IF('Contractor Test Data'!$B$41=\"\",\"\",'Contractor Test Data'!$B$41)","v":6},{"$f":"IF('Contractor Test Data'!$L$28=\"\",\"\",'Contractor Test Data'!$L$28)","v":"Correction Factor"}]
[402,{"$f":"IF('Contractor Test Data'!$M$41=\"\",\"\",'Contractor Test Data'!$M$41)","v":""},{"$f":"IF('Contractor Test Data'!$C$21=\"\",\"\",'Contractor Test Data'!$C$21)","v":"Contractor:Tex-418-A"},{"$f":"IF('Contractor Test Data'!$B$41=\"\",\"\",'Contractor Test Data'!$B$41)","v":6},{"$f":"IF('Contractor Test Data'!$M$28=\"\",\"\",'Contractor Test Data'!$M$28)","v":"Compressive Strength (psi)"}]
[403,{"$f":"IF('Contractor Test Data'!$N$41=\"\",\"\",'Contractor Test Data'!$N$41)","v":""},{"$f":"IF('Contractor Test Data'!$C$21=\"\",\"\",'Contractor Test Data'!$C$21)","v":"Contractor:Tex-418-A"},{"$f":"IF('Contractor Test Data'!$B$41=\"\",\"\",'Contractor Test Data'!$B$41)","v":6},{"$f":"IF('Contractor Test Data'!$N$28=\"\",\"\",'Contractor Test Data'!$N$28)","v":"Compressive Strength (avg) (psi)"}]
[404,{"$f":"IF('Contractor Test Data'!$O$41=\"\",\"\",'Contractor Test Data'!$O$41)","v":""},{"$f":"IF('Contractor Test Data'!$C$21=\"\",\"\",'Contractor Test Data'!$C$21)","v":"Contractor:Tex-418-A"},{"$f":"IF('Contractor Test Data'!$B$41=\"\",\"\",'Contractor Test Data'!$B$41)","v":6},{"$f":"IF('Contractor Test Data'!$O$28=\"\",\"\",'Contractor Test Data'!$O$28)","v":"Meets Job Control Strength"}]
[405,{"$f":"IF('Contractor Test Data'!$F$42=\"\",\"\",'Contractor Test Data'!$F$42)","v":""},{"$f":"IF('Contractor Test Data'!$C$21=\"\",\"\",'Contractor Test Data'!$C$21)","v":"Contractor:Tex-418-A"},{"$f":"IF('Contractor Test Data'!$B$41=\"\",\"\",'Contractor Test Data'!$B$41)","v":6},{"$f":"IF('Contractor Test Data'!$F$28=\"\",\"\",'Contractor Test Data'!$F$28)","v":"Cylinder Number"}]
[406,{"$f":"IF('Contractor Test Data'!$G$42=\"\",\"\",'Contractor Test Data'!$G$42)","v":""},{"$f":"IF('Contractor Test Data'!$C$21=\"\",\"\",'Contractor Test Data'!$C$21)","v":"Contractor:Tex-418-A"},{"$f":"IF('Contractor Test Data'!$B$41=\"\",\"\",'Contractor Test Data'!$B$41)","v":6},{"$f":"IF('Contractor Test Data'!$G$29=\"\",\"\",'Contractor Test Data'!$G$29)","v":" of Cylinder (inches)"}]
[407,{"$f":"IF('Contractor Test Data'!$H$42=\"\",\"\",'Contractor Test Data'!$H$42)","v":""},{"$f":"IF('Contractor Test Data'!$C$21=\"\",\"\",'Contractor Test Data'!$C$21)","v":"Contractor:Tex-418-A"},{"$f":"IF('Contractor Test Data'!$B$41=\"\",\"\",'Contractor Test Data'!$B$41)","v":6},{"$f":"IF('Contractor Test Data'!$H$28=\"\",\"\",'Contractor Test Data'!$H$28)","v":"Length of Cylinder (inches)"}]
[408,{"$f":"IF('Contractor Test Data'!$I$42=\"\",\"\",'Contractor Test Data'!$I$42)","v":""},{"$f":"IF('Contractor Test Data'!$C$21=\"\",\"\",'Contractor Test Data'!$C$21)","v":"Contractor:Tex-418-A"},{"$f":"IF('Contractor Test Data'!$B$41=\"\",\"\",'Contractor Test Data'!$B$41)","v":6},{"$f":"IF('Contractor Test Data'!$I$28=\"\",\"\",'Contractor Test Data'!$I$28)","v":"Length to Diameter Ratio"}]
[409,{"$f":"IF('Contractor Test Data'!$J$42=\"\",\"\",'Contractor Test Data'!$J$42)","v":""},{"$f":"IF('Contractor Test Data'!$C$21=\"\",\"\",'Contractor Test Data'!$C$21)","v":"Contractor:Tex-418-A"},{"$f":"IF('Contractor Test Data'!$B$41=\"\",\"\",'Contractor Test Data'!$B$41)","v":6},{"$f":"IF('Contractor Test Data'!$J$28=\"\",\"\",'Contractor Test Data'!$J$28)","v":"Max Load (lbs.)"}]
[410,{"$f":"IF('Contractor Test Data'!$K$42=\"\",\"\",'Contractor Test Data'!$K$42)","v":""},{"$f":"IF('Contractor Test Data'!$C$21=\"\",\"\",'Contractor Test Data'!$C$21)","v":"Contractor:Tex-418-A"},{"$f":"IF('Contractor Test Data'!$B$41=\"\",\"\",'Contractor Test Data'!$B$41)","v":6},{"$f":"IF('Contractor Test Data'!$K$28=\"\",\"\",'Contractor Test Data'!$K$28)","v":"Failure Type"}]
[411,{"$f":"IF('Contractor Test Data'!$L$42=\"\",\"\",'Contractor Test Data'!$L$42)","v":""},{"$f":"IF('Contractor Test Data'!$C$21=\"\",\"\",'Contractor Test Data'!$C$21)","v":"Contractor:Tex-418-A"},{"$f":"IF('Contractor Test Data'!$B$41=\"\",\"\",'Contractor Test Data'!$B$41)","v":6},{"$f":"IF('Contractor Test Data'!$L$28=\"\",\"\",'Contractor Test Data'!$L$28)","v":"Correction Factor"}]
[412,{"$f":"IF('Contractor Test Data'!$M$42=\"\",\"\",'Contractor Test Data'!$M$42)","v":""},{"$f":"IF('Contractor Test Data'!$C$21=\"\",\"\",'Contractor Test Data'!$C$21)","v":"Contractor:Tex-418-A"},{"$f":"IF('Contractor Test Data'!$B$41=\"\",\"\",'Contractor Test Data'!$B$41)","v":6},{"$f":"IF('Contractor Test Data'!$M$28=\"\",\"\",'Contractor Test Data'!$M$28)","v":"Compressive Strength (psi)"}]
[413,{"$f":"IF('Contractor Test Data'!$F$43=\"\",\"\",'Contractor Test Data'!$F$43)","v":""},{"$f":"IF('Contractor Test Data'!$C$21=\"\",\"\",'Contractor Test Data'!$C$21)","v":"Contractor:Tex-418-A"},{"$f":"IF('Contractor Test Data'!$B$43=\"\",\"\",'Contractor Test Data'!$B$43)","v":7},{"$f":"IF('Contractor Test Data'!$F$28=\"\",\"\",'Contractor Test Data'!$F$28)","v":"Cylinder Number"}]
[414,{"$f":"IF('Contractor Test Data'!$D$43=\"\",\"\",'Contractor Test Data'!$D$43)","v":""},{"$f":"IF('Contractor Test Data'!$C$21=\"\",\"\",'Contractor Test Data'!$C$21)","v":"Contractor:Tex-418-A"},{"$f":"IF('Contractor Test Data'!$B$43=\"\",\"\",'Contractor Test Data'!$B$43)","v":7},{"$f":"IF('Contractor Test Data'!$D$28=\"\",\"\",'Contractor Test Data'!$D$28)","v":"Station"}]
[415,{"$f":"IF('Contractor Test Data'!$E$43=\"\",\"\",'Contractor Test Data'!$E$43)","v":""},{"$f":"IF('Contractor Test Data'!$C$21=\"\",\"\",'Contractor Test Data'!$C$21)","v":"Contractor:Tex-418-A"},{"$f":"IF('Contractor Test Data'!$B$43=\"\",\"\",'Contractor Test Data'!$B$43)","v":7},{"$f":"IF('Contractor Test Data'!$E$28=\"\",\"\",'Contractor Test Data'!$E$28)","v":"Age (Days)"}]
[416,{"$f":"IF('Contractor Test Data'!$G$43=\"\",\"\",'Contractor Test Data'!$G$43)","v":""},{"$f":"IF('Contractor Test Data'!$C$21=\"\",\"\",'Contractor Test Data'!$C$21)","v":"Contractor:Tex-418-A"},{"$f":"IF('Contractor Test Data'!$B$43=\"\",\"\",'Contractor Test Data'!$B$43)","v":7},{"$f":"IF('Contractor Test Data'!$G$29=\"\",\"\",'Contractor Test Data'!$G$29)","v":" of Cylinder (inches)"}]
[417,{"$f":"IF('Contractor Test Data'!$H$43=\"\",\"\",'Contractor Test Data'!$H$43)","v":""},{"$f":"IF('Contractor Test Data'!$C$21=\"\",\"\",'Contractor Test Data'!$C$21)","v":"Contractor:Tex-418-A"},{"$f":"IF('Contractor Test Data'!$B$43=\"\",\"\",'Contractor Test Data'!$B$43)","v":7},{"$f":"IF('Contractor Test Data'!$H$28=\"\",\"\",'Contractor Test Data'!$H$28)","v":"Length of Cylinder (inches)"}]
[418,{"$f":"IF('Contractor Test Data'!$I$43=\"\",\"\",'Contractor Test Data'!$I$43)","v":""},{"$f":"IF('Contractor Test Data'!$C$21=\"\",\"\",'Contractor Test Data'!$C$21)","v":"Contractor:Tex-418-A"},{"$f":"IF('Contractor Test Data'!$B$43=\"\",\"\",'Contractor Test Data'!$B$43)","v":7},{"$f":"IF('Contractor Test Data'!$I$28=\"\",\"\",'Contractor Test Data'!$I$28)","v":"Length to Diameter Ratio"}]
[419,{"$f":"IF('Contractor Test Data'!$J$43=\"\",\"\",'Contractor Test Data'!$J$43)","v":""},{"$f":"IF('Contractor Test Data'!$C$21=\"\",\"\",'Contractor Test Data'!$C$21)","v":"Contractor:Tex-418-A"},{"$f":"IF('Contractor Test Data'!$B$43=\"\",\"\",'Contractor Test Data'!$B$43)","v":7},{"$f":"IF('Contractor Test Data'!$J$28=\"\",\"\",'Contractor Test Data'!$J$28)","v":"Max Load (lbs.)"}]
[420,{"$f":"IF('Contractor Test Data'!$K$43=\"\",\"\",'Contractor Test Data'!$K$43)","v":""},{"$f":"IF('Contractor Test Data'!$C$21=\"\",\"\",'Contractor Test Data'!$C$21)","v":"Contractor:Tex-418-A"},{"$f":"IF('Contractor Test Data'!$B$43=\"\",\"\",'Contractor Test Data'!$B$43)","v":7},{"$f":"IF('Contractor Test Data'!$K$28=\"\",\"\",'Contractor Test Data'!$K$28)","v":"Failure Type"}]
[421,{"$f":"IF('Contractor Test Data'!$L$43=\"\",\"\",'Contractor Test Data'!$L$43)","v":""},{"$f":"IF('Contractor Test Data'!$C$21=\"\",\"\",'Contractor Test Data'!$C$21)","v":"Contractor:Tex-418-A"},{"$f":"IF('Contractor Test Data'!$B$43=\"\",\"\",'Contractor Test Data'!$B$43)","v":7},{"$f":"IF('Contractor Test Data'!$L$28=\"\",\"\",'Contractor Test Data'!$L$28)","v":"Correction Factor"}]
[422,{"$f":"IF('Contractor Test Data'!$M$43=\"\",\"\",'Contractor Test Data'!$M$43)","v":""},{"$f":"IF('Contractor Test Data'!$C$21=\"\",\"\",'Contractor Test Data'!$C$21)","v":"Contractor:Tex-418-A"},{"$f":"IF('Contractor Test Data'!$B$43=\"\",\"\",'Contractor Test Data'!$B$43)","v":7},{"$f":"IF('Contractor Test Data'!$M$28=\"\",\"\",'Contractor Test Data'!$M$28)","v":"Compressive Strength (psi)"}]
[423,{"$f":"IF('Contractor Test Data'!$N$43=\"\",\"\",'Contractor Test Data'!$N$43)","v":""},{"$f":"IF('Contractor Test Data'!$C$21=\"\",\"\",'Contractor Test Data'!$C$21)","v":"Contractor:Tex-418-A"},{"$f":"IF('Contractor Test Data'!$B$43=\"\",\"\",'Contractor Test Data'!$B$43)","v":7},{"$f":"IF('Contractor Test Data'!$N$28=\"\",\"\",'Contractor Test Data'!$N$28)","v":"Compressive Strength (avg) (psi)"}]
[424,{"$f":"IF('Contractor Test Data'!$O$43=\"\",\"\",'Contractor Test Data'!$O$43)","v":""},{"$f":"IF('Contractor Test Data'!$C$21=\"\",\"\",'Contractor Test Data'!$C$21)","v":"Contractor:Tex-418-A"},{"$f":"IF('Contractor Test Data'!$B$43=\"\",\"\",'Contractor Test Data'!$B$43)","v":7},{"$f":"IF('Contractor Test Data'!$O$28=\"\",\"\",'Contractor Test Data'!$O$28)","v":"Meets Job Control Strength"}]
[425,{"$f":"IF('Contractor Test Data'!$F$44=\"\",\"\",'Contractor Test Data'!$F$44)","v":""},{"$f":"IF('Contractor Test Data'!$C$21=\"\",\"\",'Contractor Test Data'!$C$21)","v":"Contractor:Tex-418-A"},{"$f":"IF('Contractor Test Data'!$B$43=\"\",\"\",'Contractor Test Data'!$B$43)","v":7},{"$f":"IF('Contractor Test Data'!$F$28=\"\",\"\",'Contractor Test Data'!$F$28)","v":"Cylinder Number"}]
[426,{"$f":"IF('Contractor Test Data'!$G$44=\"\",\"\",'Contractor Test Data'!$G$44)","v":""},{"$f":"IF('Contractor Test Data'!$C$21=\"\",\"\",'Contractor Test Data'!$C$21)","v":"Contractor:Tex-418-A"},{"$f":"IF('Contractor Test Data'!$B$43=\"\",\"\",'Contractor Test Data'!$B$43)","v":7},{"$f":"IF('Contractor Test Data'!$G$29=\"\",\"\",'Contractor Test Data'!$G$29)","v":" of Cylinder (inches)"}]
[427,{"$f":"IF('Contractor Test Data'!$H$44=\"\",\"\",'Contractor Test Data'!$H$44)","v":""},{"$f":"IF('Contractor Test Data'!$C$21=\"\",\"\",'Contractor Test Data'!$C$21)","v":"Contractor:Tex-418-A"},{"$f":"IF('Contractor Test Data'!$B$43=\"\",\"\",'Contractor Test Data'!$B$43)","v":7},{"$f":"IF('Contractor Test Data'!$H$28=\"\",\"\",'Contractor Test Data'!$H$28)","v":"Length of Cylinder (inches)"}]
[428,{"$f":"IF('Contractor Test Data'!$I$44=\"\",\"\",'Contractor Test Data'!$I$44)","v":""},{"$f":"IF('Contractor Test Data'!$C$21=\"\",\"\",'Contractor Test Data'!$C$21)","v":"Contractor:Tex-418-A"},{"$f":"IF('Contractor Test Data'!$B$43=\"\",\"\",'Contractor Test Data'!$B$43)","v":7},{"$f":"IF('Contractor Test Data'!$I$28=\"\",\"\",'Contractor Test Data'!$I$28)","v":"Length to Diameter Ratio"}]
[429,{"$f":"IF('Contractor Test Data'!$J$44=\"\",\"\",'Contractor Test Data'!$J$44)","v":""},{"$f":"IF('Contractor Test Data'!$C$21=\"\",\"\",'Contractor Test Data'!$C$21)","v":"Contractor:Tex-418-A"},{"$f":"IF('Contractor Test Data'!$B$43=\"\",\"\",'Contractor Test Data'!$B$43)","v":7},{"$f":"IF('Contractor Test Data'!$J$28=\"\",\"\",'Contractor Test Data'!$J$28)","v":"Max Load (lbs.)"}]
[430,{"$f":"IF('Contractor Test Data'!$K$44=\"\",\"\",'Contractor Test Data'!$K$44)","v":""},{"$f":"IF('Contractor Test Data'!$C$21=\"\",\"\",'Contractor Test Data'!$C$21)","v":"Contractor:Tex-418-A"},{"$f":"IF('Contractor Test Data'!$B$43=\"\",\"\",'Contractor Test Data'!$B$43)","v":7},{"$f":"IF('Contractor Test Data'!$K$28=\"\",\"\",'Contractor Test Data'!$K$28)","v":"Failure Type"}]
[431,{"$f":"IF('Contractor Test Data'!$L$44=\"\",\"\",'Contractor Test Data'!$L$44)","v":""},{"$f":"IF('Contractor Test Data'!$C$21=\"\",\"\",'Contractor Test Data'!$C$21)","v":"Contractor:Tex-418-A"},{"$f":"IF('Contractor Test Data'!$B$43=\"\",\"\",'Contractor Test Data'!$B$43)","v":7},{"$f":"IF('Contractor Test Data'!$L$28=\"\",\"\",'Contractor Test Data'!$L$28)","v":"Correction Factor"}]
[432,{"$f":"IF('Contractor Test Data'!$M$44=\"\",\"\",'Contractor Test Data'!$M$44)","v":""},{"$f":"IF('Contractor Test Data'!$C$21=\"\",\"\",'Contractor Test Data'!$C$21)","v":"Contractor:Tex-418-A"},{"$f":"IF('Contractor Test Data'!$B$43=\"\",\"\",'Contractor Test Data'!$B$43)","v":7},{"$f":"IF('Contractor Test Data'!$M$28=\"\",\"\",'Contractor Test Data'!$M$28)","v":"Compressive Strength (psi)"}]
[433,{"$f":"IF('Contractor Test Data'!$F$45=\"\",\"\",'Contractor Test Data'!$F$45)","v":""},{"$f":"IF('Contractor Test Data'!$C$21=\"\",\"\",'Contractor Test Data'!$C$21)","v":"Contractor:Tex-418-A"},{"$f":"IF('Contractor Test Data'!$B$45=\"\",\"\",'Contractor Test Data'!$B$45)","v":8},{"$f":"IF('Contractor Test Data'!$F$28=\"\",\"\",'Contractor Test Data'!$F$28)","v":"Cylinder Number"}]
[434,{"$f":"IF('Contractor Test Data'!$D$45=\"\",\"\",'Contractor Test Data'!$D$45)","v":""},{"$f":"IF('Contractor Test Data'!$C$21=\"\",\"\",'Contractor Test Data'!$C$21)","v":"Contractor:Tex-418-A"},{"$f":"IF('Contractor Test Data'!$B$45=\"\",\"\",'Contractor Test Data'!$B$45)","v":8},{"$f":"IF('Contractor Test Data'!$D$28=\"\",\"\",'Contractor Test Data'!$D$28)","v":"Station"}]
[435,{"$f":"IF('Contractor Test Data'!$E$45=\"\",\"\",'Contractor Test Data'!$E$45)","v":""},{"$f":"IF('Contractor Test Data'!$C$21=\"\",\"\",'Contractor Test Data'!$C$21)","v":"Contractor:Tex-418-A"},{"$f":"IF('Contractor Test Data'!$B$45=\"\",\"\",'Contractor Test Data'!$B$45)","v":8},{"$f":"IF('Contractor Test Data'!$E$28=\"\",\"\",'Contractor Test Data'!$E$28)","v":"Age (Days)"}]
[436,{"$f":"IF('Contractor Test Data'!$G$45=\"\",\"\",'Contractor Test Data'!$G$45)","v":""},{"$f":"IF('Contractor Test Data'!$C$21=\"\",\"\",'Contractor Test Data'!$C$21)","v":"Contractor:Tex-418-A"},{"$f":"IF('Contractor Test Data'!$B$45=\"\",\"\",'Contractor Test Data'!$B$45)","v":8},{"$f":"IF('Contractor Test Data'!$G$29=\"\",\"\",'Contractor Test Data'!$G$29)","v":" of Cylinder (inches)"}]
[437,{"$f":"IF('Contractor Test Data'!$H$45=\"\",\"\",'Contractor Test Data'!$H$45)","v":""},{"$f":"IF('Contractor Test Data'!$C$21=\"\",\"\",'Contractor Test Data'!$C$21)","v":"Contractor:Tex-418-A"},{"$f":"IF('Contractor Test Data'!$B$45=\"\",\"\",'Contractor Test Data'!$B$45)","v":8},{"$f":"IF('Contractor Test Data'!$H$28=\"\",\"\",'Contractor Test Data'!$H$28)","v":"Length of Cylinder (inches)"}]
[438,{"$f":"IF('Contractor Test Data'!$I$45=\"\",\"\",'Contractor Test Data'!$I$45)","v":""},{"$f":"IF('Contractor Test Data'!$C$21=\"\",\"\",'Contractor Test Data'!$C$21)","v":"Contractor:Tex-418-A"},{"$f":"IF('Contractor Test Data'!$B$45=\"\",\"\",'Contractor Test Data'!$B$45)","v":8},{"$f":"IF('Contractor Test Data'!$I$28=\"\",\"\",'Contractor Test Data'!$I$28)","v":"Length to Diameter Ratio"}]
[439,{"$f":"IF('Contractor Test Data'!$J$45=\"\",\"\",'Contractor Test Data'!$J$45)","v":""},{"$f":"IF('Contractor Test Data'!$C$21=\"\",\"\",'Contractor Test Data'!$C$21)","v":"Contractor:Tex-418-A"},{"$f":"IF('Contractor Test Data'!$B$45=\"\",\"\",'Contractor Test Data'!$B$45)","v":8},{"$f":"IF('Contractor Test Data'!$J$28=\"\",\"\",'Contractor Test Data'!$J$28)","v":"Max Load (lbs.)"}]
[440,{"$f":"IF('Contractor Test Data'!$K$45=\"\",\"\",'Contractor Test Data'!$K$45)","v":""},{"$f":"IF('Contractor Test Data'!$C$21=\"\",\"\",'Contractor Test Data'!$C$21)","v":"Contractor:Tex-418-A"},{"$f":"IF('Contractor Test Data'!$B$45=\"\",\"\",'Contractor Test Data'!$B$45)","v":8},{"$f":"IF('Contractor Test Data'!$K$28=\"\",\"\",'Contractor Test Data'!$K$28)","v":"Failure Type"}]
[441,{"$f":"IF('Contractor Test Data'!$L$45=\"\",\"\",'Contractor Test Data'!$L$45)","v":""},{"$f":"IF('Contractor Test Data'!$C$21=\"\",\"\",'Contractor Test Data'!$C$21)","v":"Contractor:Tex-418-A"},{"$f":"IF('Contractor Test Data'!$B$45=\"\",\"\",'Contractor Test Data'!$B$45)","v":8},{"$f":"IF('Contractor Test Data'!$L$28=\"\",\"\",'Contractor Test Data'!$L$28)","v":"Correction Factor"}]
[442,{"$f":"IF('Contractor Test Data'!$M$45=\"\",\"\",'Contractor Test Data'!$M$45)","v":""},{"$f":"IF('Contractor Test Data'!$C$21=\"\",\"\",'Contractor Test Data'!$C$21)","v":"Contractor:Tex-418-A"},{"$f":"IF('Contractor Test Data'!$B$45=\"\",\"\",'Contractor Test Data'!$B$45)","v":8},{"$f":"IF('Contractor Test Data'!$M$28=\"\",\"\",'Contractor Test Data'!$M$28)","v":"Compressive Strength (psi)"}]
[443,{"$f":"IF('Contractor Test Data'!$N$45=\"\",\"\",'Contractor Test Data'!$N$45)","v":""},{"$f":"IF('Contractor Test Data'!$C$21=\"\",\"\",'Contractor Test Data'!$C$21)","v":"Contractor:Tex-418-A"},{"$f":"IF('Contractor Test Data'!$B$45=\"\",\"\",'Contractor Test Data'!$B$45)","v":8},{"$f":"IF('Contractor Test Data'!$N$28=\"\",\"\",'Contractor Test Data'!$N$28)","v":"Compressive Strength (avg) (psi)"}]
[444,{"$f":"IF('Contractor Test Data'!$O$45=\"\",\"\",'Contractor Test Data'!$O$45)","v":""},{"$f":"IF('Contractor Test Data'!$C$21=\"\",\"\",'Contractor Test Data'!$C$21)","v":"Contractor:Tex-418-A"},{"$f":"IF('Contractor Test Data'!$B$45=\"\",\"\",'Contractor Test Data'!$B$45)","v":8},{"$f":"IF('Contractor Test Data'!$O$28=\"\",\"\",'Contractor Test Data'!$O$28)","v":"Meets Job Control Strength"}]
[445,{"$f":"IF('Contractor Test Data'!$F$46=\"\",\"\",'Contractor Test Data'!$F$46)","v":""},{"$f":"IF('Contractor Test Data'!$C$21=\"\",\"\",'Contractor Test Data'!$C$21)","v":"Contractor:Tex-418-A"},{"$f":"IF('Contractor Test Data'!$B$45=\"\",\"\",'Contractor Test Data'!$B$45)","v":8},{"$f":"IF('Contractor Test Data'!$F$28=\"\",\"\",'Contractor Test Data'!$F$28)","v":"Cylinder Number"}]
[446,{"$f":"IF('Contractor Test Data'!$G$46=\"\",\"\",'Contractor Test Data'!$G$46)","v":""},{"$f":"IF('Contractor Test Data'!$C$21=\"\",\"\",'Contractor Test Data'!$C$21)","v":"Contractor:Tex-418-A"},{"$f":"IF('Contractor Test Data'!$B$45=\"\",\"\",'Contractor Test Data'!$B$45)","v":8},{"$f":"IF('Contractor Test Data'!$G$29=\"\",\"\",'Contractor Test Data'!$G$29)","v":" of Cylinder (inches)"}]
[447,{"$f":"IF('Contractor Test Data'!$H$46=\"\",\"\",'Contractor Test Data'!$H$46)","v":""},{"$f":"IF('Contractor Test Data'!$C$21=\"\",\"\",'Contractor Test Data'!$C$21)","v":"Contractor:Tex-418-A"},{"$f":"IF('Contractor Test Data'!$B$45=\"\",\"\",'Contractor Test Data'!$B$45)","v":8},{"$f":"IF('Contractor Test Data'!$H$28=\"\",\"\",'Contractor Test Data'!$H$28)","v":"Length of Cylinder (inches)"}]
[448,{"$f":"IF('Contractor Test Data'!$I$46=\"\",\"\",'Contractor Test Data'!$I$46)","v":""},{"$f":"IF('Contractor Test Data'!$C$21=\"\",\"\",'Contractor Test Data'!$C$21)","v":"Contractor:Tex-418-A"},{"$f":"IF('Contractor Test Data'!$B$45=\"\",\"\",'Contractor Test Data'!$B$45)","v":8},{"$f":"IF('Contractor Test Data'!$I$28=\"\",\"\",'Contractor Test Data'!$I$28)","v":"Length to Diameter Ratio"}]
[449,{"$f":"IF('Contractor Test Data'!$J$46=\"\",\"\",'Contractor Test Data'!$J$46)","v":""},{"$f":"IF('Contractor Test Data'!$C$21=\"\",\"\",'Contractor Test Data'!$C$21)","v":"Contractor:Tex-418-A"},{"$f":"IF('Contractor Test Data'!$B$45=\"\",\"\",'Contractor Test Data'!$B$45)","v":8},{"$f":"IF('Contractor Test Data'!$J$28=\"\",\"\",'Contractor Test Data'!$J$28)","v":"Max Load (lbs.)"}]
[450,{"$f":"IF('Contractor Test Data'!$K$46=\"\",\"\",'Contractor Test Data'!$K$46)","v":""},{"$f":"IF('Contractor Test Data'!$C$21=\"\",\"\",'Contractor Test Data'!$C$21)","v":"Contractor:Tex-418-A"},{"$f":"IF('Contractor Test Data'!$B$45=\"\",\"\",'Contractor Test Data'!$B$45)","v":8},{"$f":"IF('Contractor Test Data'!$K$28=\"\",\"\",'Contractor Test Data'!$K$28)","v":"Failure Type"}]
[451,{"$f":"IF('Contractor Test Data'!$L$46=\"\",\"\",'Contractor Test Data'!$L$46)","v":""},{"$f":"IF('Contractor Test Data'!$C$21=\"\",\"\",'Contractor Test Data'!$C$21)","v":"Contractor:Tex-418-A"},{"$f":"IF('Contractor Test Data'!$B$45=\"\",\"\",'Contractor Test Data'!$B$45)","v":8},{"$f":"IF('Contractor Test Data'!$L$28=\"\",\"\",'Contractor Test Data'!$L$28)","v":"Correction Factor"}]
[452,{"$f":"IF('Contractor Test Data'!$M$46=\"\",\"\",'Contractor Test Data'!$M$46)","v":""},{"$f":"IF('Contractor Test Data'!$C$21=\"\",\"\",'Contractor Test Data'!$C$21)","v":"Contractor:Tex-418-A"},{"$f":"IF('Contractor Test Data'!$B$45=\"\",\"\",'Contractor Test Data'!$B$45)","v":8},{"$f":"IF('Contractor Test Data'!$M$28=\"\",\"\",'Contractor Test Data'!$M$28)","v":"Compressive Strength (psi)"}]
[453,{"$f":"IF('Contractor Test Data'!$F$47=\"\",\"\",'Contractor Test Data'!$F$47)","v":""},{"$f":"IF('Contractor Test Data'!$C$21=\"\",\"\",'Contractor Test Data'!$C$21)","v":"Contractor:Tex-418-A"},{"$f":"IF('Contractor Test Data'!$B$47=\"\",\"\",'Contractor Test Data'!$B$47)","v":9},{"$f":"IF('Contractor Test Data'!$F$28=\"\",\"\",'Contractor Test Data'!$F$28)","v":"Cylinder Number"}]
[454,{"$f":"IF('Contractor Test Data'!$D$47=\"\",\"\",'Contractor Test Data'!$D$47)","v":""},{"$f":"IF('Contractor Test Data'!$C$21=\"\",\"\",'Contractor Test Data'!$C$21)","v":"Contractor:Tex-418-A"},{"$f":"IF('Contractor Test Data'!$B$47=\"\",\"\",'Contractor Test Data'!$B$47)","v":9},{"$f":"IF('Contractor Test Data'!$D$28=\"\",\"\",'Contractor Test Data'!$D$28)","v":"Station"}]
[455,{"$f":"IF('Contractor Test Data'!$E$47=\"\",\"\",'Contractor Test Data'!$E$47)","v":""},{"$f":"IF('Contractor Test Data'!$C$21=\"\",\"\",'Contractor Test Data'!$C$21)","v":"Contractor:Tex-418-A"},{"$f":"IF('Contractor Test Data'!$B$47=\"\",\"\",'Contractor Test Data'!$B$47)","v":9},{"$f":"IF('Contractor Test Data'!$E$28=\"\",\"\",'Contractor Test Data'!$E$28)","v":"Age (Days)"}]
[456,{"$f":"IF('Contractor Test Data'!$G$47=\"\",\"\",'Contractor Test Data'!$G$47)","v":""},{"$f":"IF('Contractor Test Data'!$C$21=\"\",\"\",'Contractor Test Data'!$C$21)","v":"Contractor:Tex-418-A"},{"$f":"IF('Contractor Test Data'!$B$47=\"\",\"\",'Contractor Test Data'!$B$47)","v":9},{"$f":"IF('Contractor Test Data'!$G$29=\"\",\"\",'Contractor Test Data'!$G$29)","v":" of Cylinder (inches)"}]
[457,{"$f":"IF('Contractor Test Data'!$H$47=\"\",\"\",'Contractor Test Data'!$H$47)","v":""},{"$f":"IF('Contractor Test Data'!$C$21=\"\",\"\",'Contractor Test Data'!$C$21)","v":"Contractor:Tex-418-A"},{"$f":"IF('Contractor Test Data'!$B$47=\"\",\"\",'Contractor Test Data'!$B$47)","v":9},{"$f":"IF('Contractor Test Data'!$H$28=\"\",\"\",'Contractor Test Data'!$H$28)","v":"Length of Cylinder (inches)"}]
[458,{"$f":"IF('Contractor Test Data'!$I$47=\"\",\"\",'Contractor Test Data'!$I$47)","v":""},{"$f":"IF('Contractor Test Data'!$C$21=\"\",\"\",'Contractor Test Data'!$C$21)","v":"Contractor:Tex-418-A"},{"$f":"IF('Contractor Test Data'!$B$47=\"\",\"\",'Contractor Test Data'!$B$47)","v":9},{"$f":"IF('Contractor Test Data'!$I$28=\"\",\"\",'Contractor Test Data'!$I$28)","v":"Length to Diameter Ratio"}]
[459,{"$f":"IF('Contractor Test Data'!$J$47=\"\",\"\",'Contractor Test Data'!$J$47)","v":""},{"$f":"IF('Contractor Test Data'!$C$21=\"\",\"\",'Contractor Test Data'!$C$21)","v":"Contractor:Tex-418-A"},{"$f":"IF('Contractor Test Data'!$B$47=\"\",\"\",'Contractor Test Data'!$B$47)","v":9},{"$f":"IF('Contractor Test Data'!$J$28=\"\",\"\",'Contractor Test Data'!$J$28)","v":"Max Load (lbs.)"}]
[460,{"$f":"IF('Contractor Test Data'!$K$47=\"\",\"\",'Contractor Test Data'!$K$47)","v":""},{"$f":"IF('Contractor Test Data'!$C$21=\"\",\"\",'Contractor Test Data'!$C$21)","v":"Contractor:Tex-418-A"},{"$f":"IF('Contractor Test Data'!$B$47=\"\",\"\",'Contractor Test Data'!$B$47)","v":9},{"$f":"IF('Contractor Test Data'!$K$28=\"\",\"\",'Contractor Test Data'!$K$28)","v":"Failure Type"}]
[461,{"$f":"IF('Contractor Test Data'!$L$47=\"\",\"\",'Contractor Test Data'!$L$47)","v":""},{"$f":"IF('Contractor Test Data'!$C$21=\"\",\"\",'Contractor Test Data'!$C$21)","v":"Contractor:Tex-418-A"},{"$f":"IF('Contractor Test Data'!$B$47=\"\",\"\",'Contractor Test Data'!$B$47)","v":9},{"$f":"IF('Contractor Test Data'!$L$28=\"\",\"\",'Contractor Test Data'!$L$28)","v":"Correction Factor"}]
[462,{"$f":"IF('Contractor Test Data'!$M$47=\"\",\"\",'Contractor Test Data'!$M$47)","v":""},{"$f":"IF('Contractor Test Data'!$C$21=\"\",\"\",'Contractor Test Data'!$C$21)","v":"Contractor:Tex-418-A"},{"$f":"IF('Contractor Test Data'!$B$47=\"\",\"\",'Contractor Test Data'!$B$47)","v":9},{"$f":"IF('Contractor Test Data'!$M$28=\"\",\"\",'Contractor Test Data'!$M$28)","v":"Compressive Strength (psi)"}]
[463,{"$f":"IF('Contractor Test Data'!$N$47=\"\",\"\",'Contractor Test Data'!$N$47)","v":""},{"$f":"IF('Contractor Test Data'!$C$21=\"\",\"\",'Contractor Test Data'!$C$21)","v":"Contractor:Tex-418-A"},{"$f":"IF('Contractor Test Data'!$B$47=\"\",\"\",'Contractor Test Data'!$B$47)","v":9},{"$f":"IF('Contractor Test Data'!$N$28=\"\",\"\",'Contractor Test Data'!$N$28)","v":"Compressive Strength (avg) (psi)"}]
[464,{"$f":"IF('Contractor Test Data'!$O$47=\"\",\"\",'Contractor Test Data'!$O$47)","v":""},{"$f":"IF('Contractor Test Data'!$C$21=\"\",\"\",'Contractor Test Data'!$C$21)","v":"Contractor:Tex-418-A"},{"$f":"IF('Contractor Test Data'!$B$47=\"\",\"\",'Contractor Test Data'!$B$47)","v":9},{"$f":"IF('Contractor Test Data'!$O$28=\"\",\"\",'Contractor Test Data'!$O$28)","v":"Meets Job Control Strength"}]
[465,{"$f":"IF('Contractor Test Data'!$F$48=\"\",\"\",'Contractor Test Data'!$F$48)","v":""},{"$f":"IF('Contractor Test Data'!$C$21=\"\",\"\",'Contractor Test Data'!$C$21)","v":"Contractor:Tex-418-A"},{"$f":"IF('Contractor Test Data'!$B$47=\"\",\"\",'Contractor Test Data'!$B$47)","v":9},{"$f":"IF('Contractor Test Data'!$F$28=\"\",\"\",'Contractor Test Data'!$F$28)","v":"Cylinder Number"}]
[466,{"$f":"IF('Contractor Test Data'!$G$48=\"\",\"\",'Contractor Test Data'!$G$48)","v":""},{"$f":"IF('Contractor Test Data'!$C$21=\"\",\"\",'Contractor Test Data'!$C$21)","v":"Contractor:Tex-418-A"},{"$f":"IF('Contractor Test Data'!$B$47=\"\",\"\",'Contractor Test Data'!$B$47)","v":9},{"$f":"IF('Contractor Test Data'!$G$29=\"\",\"\",'Contractor Test Data'!$G$29)","v":" of Cylinder (inches)"}]
[467,{"$f":"IF('Contractor Test Data'!$H$48=\"\",\"\",'Contractor Test Data'!$H$48)","v":""},{"$f":"IF('Contractor Test Data'!$C$21=\"\",\"\",'Contractor Test Data'!$C$21)","v":"Contractor:Tex-418-A"},{"$f":"IF('Contractor Test Data'!$B$47=\"\",\"\",'Contractor Test Data'!$B$47)","v":9},{"$f":"IF('Contractor Test Data'!$H$28=\"\",\"\",'Contractor Test Data'!$H$28)","v":"Length of Cylinder (inches)"}]
[468,{"$f":"IF('Contractor Test Data'!$I$48=\"\",\"\",'Contractor Test Data'!$I$48)","v":""},{"$f":"IF('Contractor Test Data'!$C$21=\"\",\"\",'Contractor Test Data'!$C$21)","v":"Contractor:Tex-418-A"},{"$f":"IF('Contractor Test Data'!$B$47=\"\",\"\",'Contractor Test Data'!$B$47)","v":9},{"$f":"IF('Contractor Test Data'!$I$28=\"\",\"\",'Contractor Test Data'!$I$28)","v":"Length to Diameter Ratio"}]
[469,{"$f":"IF('Contractor Test Data'!$J$48=\"\",\"\",'Contractor Test Data'!$J$48)","v":""},{"$f":"IF('Contractor Test Data'!$C$21=\"\",\"\",'Contractor Test Data'!$C$21)","v":"Contractor:Tex-418-A"},{"$f":"IF('Contractor Test Data'!$B$47=\"\",\"\",'Contractor Test Data'!$B$47)","v":9},{"$f":"IF('Contractor Test Data'!$J$28=\"\",\"\",'Contractor Test Data'!$J$28)","v":"Max Load (lbs.)"}]
[470,{"$f":"IF('Contractor Test Data'!$K$48=\"\",\"\",'Contractor Test Data'!$K$48)","v":""},{"$f":"IF('Contractor Test Data'!$C$21=\"\",\"\",'Contractor Test Data'!$C$21)","v":"Contractor:Tex-418-A"},{"$f":"IF('Contractor Test Data'!$B$47=\"\",\"\",'Contractor Test Data'!$B$47)","v":9},{"$f":"IF('Contractor Test Data'!$K$28=\"\",\"\",'Contractor Test Data'!$K$28)","v":"Failure Type"}]
[471,{"$f":"IF('Contractor Test Data'!$L$48=\"\",\"\",'Contractor Test Data'!$L$48)","v":""},{"$f":"IF('Contractor Test Data'!$C$21=\"\",\"\",'Contractor Test Data'!$C$21)","v":"Contractor:Tex-418-A"},{"$f":"IF('Contractor Test Data'!$B$47=\"\",\"\",'Contractor Test Data'!$B$47)","v":9},{"$f":"IF('Contractor Test Data'!$L$28=\"\",\"\",'Contractor Test Data'!$L$28)","v":"Correction Factor"}]
[472,{"$f":"IF('Contractor Test Data'!$M$48=\"\",\"\",'Contractor Test Data'!$M$48)","v":""},{"$f":"IF('Contractor Test Data'!$C$21=\"\",\"\",'Contractor Test Data'!$C$21)","v":"Contractor:Tex-418-A"},{"$f":"IF('Contractor Test Data'!$B$47=\"\",\"\",'Contractor Test Data'!$B$47)","v":9},{"$f":"IF('Contractor Test Data'!$M$28=\"\",\"\",'Contractor Test Data'!$M$28)","v":"Compressive Strength (psi)"}]
[473,{"$f":"IF('Contractor Test Data'!$F$49=\"\",\"\",'Contractor Test Data'!$F$49)","v":""},{"$f":"IF('Contractor Test Data'!$C$21=\"\",\"\",'Contractor Test Data'!$C$21)","v":"Contractor:Tex-418-A"},{"$f":"IF('Contractor Test Data'!$B$49=\"\",\"\",'Contractor Test Data'!$B$49)","v":10},{"$f":"IF('Contractor Test Data'!$F$28=\"\",\"\",'Contractor Test Data'!$F$28)","v":"Cylinder Number"}]
[474,{"$f":"IF('Contractor Test Data'!$D$49=\"\",\"\",'Contractor Test Data'!$D$49)","v":""},{"$f":"IF('Contractor Test Data'!$C$21=\"\",\"\",'Contractor Test Data'!$C$21)","v":"Contractor:Tex-418-A"},{"$f":"IF('Contractor Test Data'!$B$49=\"\",\"\",'Contractor Test Data'!$B$49)","v":10},{"$f":"IF('Contractor Test Data'!$D$28=\"\",\"\",'Contractor Test Data'!$D$28)","v":"Station"}]
[475,{"$f":"IF('Contractor Test Data'!$E$49=\"\",\"\",'Contractor Test Data'!$E$49)","v":""},{"$f":"IF('Contractor Test Data'!$C$21=\"\",\"\",'Contractor Test Data'!$C$21)","v":"Contractor:Tex-418-A"},{"$f":"IF('Contractor Test Data'!$B$49=\"\",\"\",'Contractor Test Data'!$B$49)","v":10},{"$f":"IF('Contractor Test Data'!$E$28=\"\",\"\",'Contractor Test Data'!$E$28)","v":"Age (Days)"}]
[476,{"$f":"IF('Contractor Test Data'!$G$49=\"\",\"\",'Contractor Test Data'!$G$49)","v":""},{"$f":"IF('Contractor Test Data'!$C$21=\"\",\"\",'Contractor Test Data'!$C$21)","v":"Contractor:Tex-418-A"},{"$f":"IF('Contractor Test Data'!$B$49=\"\",\"\",'Contractor Test Data'!$B$49)","v":10},{"$f":"IF('Contractor Test Data'!$G$29=\"\",\"\",'Contractor Test Data'!$G$29)","v":" of Cylinder (inches)"}]
[477,{"$f":"IF('Contractor Test Data'!$H$49=\"\",\"\",'Contractor Test Data'!$H$49)","v":""},{"$f":"IF('Contractor Test Data'!$C$21=\"\",\"\",'Contractor Test Data'!$C$21)","v":"Contractor:Tex-418-A"},{"$f":"IF('Contractor Test Data'!$B$49=\"\",\"\",'Contractor Test Data'!$B$49)","v":10},{"$f":"IF('Contractor Test Data'!$H$28=\"\",\"\",'Contractor Test Data'!$H$28)","v":"Length of Cylinder (inches)"}]
[478,{"$f":"IF('Contractor Test Data'!$I$49=\"\",\"\",'Contractor Test Data'!$I$49)","v":""},{"$f":"IF('Contractor Test Data'!$C$21=\"\",\"\",'Contractor Test Data'!$C$21)","v":"Contractor:Tex-418-A"},{"$f":"IF('Contractor Test Data'!$B$49=\"\",\"\",'Contractor Test Data'!$B$49)","v":10},{"$f":"IF('Contractor Test Data'!$I$28=\"\",\"\",'Contractor Test Data'!$I$28)","v":"Length to Diameter Ratio"}]
[479,{"$f":"IF('Contractor Test Data'!$J$49=\"\",\"\",'Contractor Test Data'!$J$49)","v":""},{"$f":"IF('Contractor Test Data'!$C$21=\"\",\"\",'Contractor Test Data'!$C$21)","v":"Contractor:Tex-418-A"},{"$f":"IF('Contractor Test Data'!$B$49=\"\",\"\",'Contractor Test Data'!$B$49)","v":10},{"$f":"IF('Contractor Test Data'!$J$28=\"\",\"\",'Contractor Test Data'!$J$28)","v":"Max Load (lbs.)"}]
[480,{"$f":"IF('Contractor Test Data'!$K$49=\"\",\"\",'Contractor Test Data'!$K$49)","v":""},{"$f":"IF('Contractor Test Data'!$C$21=\"\",\"\",'Contractor Test Data'!$C$21)","v":"Contractor:Tex-418-A"},{"$f":"IF('Contractor Test Data'!$B$49=\"\",\"\",'Contractor Test Data'!$B$49)","v":10},{"$f":"IF('Contractor Test Data'!$K$28=\"\",\"\",'Contractor Test Data'!$K$28)","v":"Failure Type"}]
[481,{"$f":"IF('Contractor Test Data'!$L$49=\"\",\"\",'Contractor Test Data'!$L$49)","v":""},{"$f":"IF('Contractor Test Data'!$C$21=\"\",\"\",'Contractor Test Data'!$C$21)","v":"Contractor:Tex-418-A"},{"$f":"IF('Contractor Test Data'!$B$49=\"\",\"\",'Contractor Test Data'!$B$49)","v":10},{"$f":"IF('Contractor Test Data'!$L$28=\"\",\"\",'Contractor Test Data'!$L$28)","v":"Correction Factor"}]
[482,{"$f":"IF('Contractor Test Data'!$M$49=\"\",\"\",'Contractor Test Data'!$M$49)","v":""},{"$f":"IF('Contractor Test Data'!$C$21=\"\",\"\",'Contractor Test Data'!$C$21)","v":"Contractor:Tex-418-A"},{"$f":"IF('Contractor Test Data'!$B$49=\"\",\"\",'Contractor Test Data'!$B$49)","v":10},{"$f":"IF('Contractor Test Data'!$M$28=\"\",\"\",'Contractor Test Data'!$M$28)","v":"Compressive Strength (psi)"}]
[483,{"$f":"IF('Contractor Test Data'!$N$49=\"\",\"\",'Contractor Test Data'!$N$49)","v":""},{"$f":"IF('Contractor Test Data'!$C$21=\"\",\"\",'Contractor Test Data'!$C$21)","v":"Contractor:Tex-418-A"},{"$f":"IF('Contractor Test Data'!$B$49=\"\",\"\",'Contractor Test Data'!$B$49)","v":10},{"$f":"IF('Contractor Test Data'!$N$28=\"\",\"\",'Contractor Test Data'!$N$28)","v":"Compressive Strength (avg) (psi)"}]
[484,{"$f":"IF('Contractor Test Data'!$O$49=\"\",\"\",'Contractor Test Data'!$O$49)","v":""},{"$f":"IF('Contractor Test Data'!$C$21=\"\",\"\",'Contractor Test Data'!$C$21)","v":"Contractor:Tex-418-A"},{"$f":"IF('Contractor Test Data'!$B$49=\"\",\"\",'Contractor Test Data'!$B$49)","v":10},{"$f":"IF('Contractor Test Data'!$O$28=\"\",\"\",'Contractor Test Data'!$O$28)","v":"Meets Job Control Strength"}]
[485,{"$f":"IF('Contractor Test Data'!$F$50=\"\",\"\",'Contractor Test Data'!$F$50)","v":""},{"$f":"IF('Contractor Test Data'!$C$21=\"\",\"\",'Contractor Test Data'!$C$21)","v":"Contractor:Tex-418-A"},{"$f":"IF('Contractor Test Data'!$B$49=\"\",\"\",'Contractor Test Data'!$B$49)","v":10},{"$f":"IF('Contractor Test Data'!$F$28=\"\",\"\",'Contractor Test Data'!$F$28)","v":"Cylinder Number"}]
[486,{"$f":"IF('Contractor Test Data'!$G$50=\"\",\"\",'Contractor Test Data'!$G$50)","v":""},{"$f":"IF('Contractor Test Data'!$C$21=\"\",\"\",'Contractor Test Data'!$C$21)","v":"Contractor:Tex-418-A"},{"$f":"IF('Contractor Test Data'!$B$49=\"\",\"\",'Contractor Test Data'!$B$49)","v":10},{"$f":"IF('Contractor Test Data'!$G$29=\"\",\"\",'Contractor Test Data'!$G$29)","v":" of Cylinder (inches)"}]
[487,{"$f":"IF('Contractor Test Data'!$H$50=\"\",\"\",'Contractor Test Data'!$H$50)","v":""},{"$f":"IF('Contractor Test Data'!$C$21=\"\",\"\",'Contractor Test Data'!$C$21)","v":"Contractor:Tex-418-A"},{"$f":"IF('Contractor Test Data'!$B$49=\"\",\"\",'Contractor Test Data'!$B$49)","v":10},{"$f":"IF('Contractor Test Data'!$H$28=\"\",\"\",'Contractor Test Data'!$H$28)","v":"Length of Cylinder (inches)"}]
[488,{"$f":"IF('Contractor Test Data'!$I$50=\"\",\"\",'Contractor Test Data'!$I$50)","v":""},{"$f":"IF('Contractor Test Data'!$C$21=\"\",\"\",'Contractor Test Data'!$C$21)","v":"Contractor:Tex-418-A"},{"$f":"IF('Contractor Test Data'!$B$49=\"\",\"\",'Contractor Test Data'!$B$49)","v":10},{"$f":"IF('Contractor Test Data'!$I$28=\"\",\"\",'Contractor Test Data'!$I$28)","v":"Length to Diameter Ratio"}]
[489,{"$f":"IF('Contractor Test Data'!$J$50=\"\",\"\",'Contractor Test Data'!$J$50)","v":""},{"$f":"IF('Contractor Test Data'!$C$21=\"\",\"\",'Contractor Test Data'!$C$21)","v":"Contractor:Tex-418-A"},{"$f":"IF('Contractor Test Data'!$B$49=\"\",\"\",'Contractor Test Data'!$B$49)","v":10},{"$f":"IF('Contractor Test Data'!$J$28=\"\",\"\",'Contractor Test Data'!$J$28)","v":"Max Load (lbs.)"}]
[490,{"$f":"IF('Contractor Test Data'!$K$50=\"\",\"\",'Contractor Test Data'!$K$50)","v":""},{"$f":"IF('Contractor Test Data'!$C$21=\"\",\"\",'Contractor Test Data'!$C$21)","v":"Contractor:Tex-418-A"},{"$f":"IF('Contractor Test Data'!$B$49=\"\",\"\",'Contractor Test Data'!$B$49)","v":10},{"$f":"IF('Contractor Test Data'!$K$28=\"\",\"\",'Contractor Test Data'!$K$28)","v":"Failure Type"}]
[491,{"$f":"IF('Contractor Test Data'!$L$50=\"\",\"\",'Contractor Test Data'!$L$50)","v":""},{"$f":"IF('Contractor Test Data'!$C$21=\"\",\"\",'Contractor Test Data'!$C$21)","v":"Contractor:Tex-418-A"},{"$f":"IF('Contractor Test Data'!$B$49=\"\",\"\",'Contractor Test Data'!$B$49)","v":10},{"$f":"IF('Contractor Test Data'!$L$28=\"\",\"\",'Contractor Test Data'!$L$28)","v":"Correction Factor"}]
[492,{"$f":"IF('Contractor Test Data'!$M$50=\"\",\"\",'Contractor Test Data'!$M$50)","v":""},{"$f":"IF('Contractor Test Data'!$C$21=\"\",\"\",'Contractor Test Data'!$C$21)","v":"Contractor:Tex-418-A"},{"$f":"IF('Contractor Test Data'!$B$49=\"\",\"\",'Contractor Test Data'!$B$49)","v":10},{"$f":"IF('Contractor Test Data'!$M$28=\"\",\"\",'Contractor Test Data'!$M$28)","v":"Compressive Strength (psi)"}]
[493,{"$f":"IF('Contractor Test Data'!$G$54=\"\",\"\",'Contractor Test Data'!$G$54)","v":""},{"$f":"IF('Contractor Test Data'!$C$53=\"\",\"\",'Contractor Test Data'!$C$53)","v":"Contractor:Tex-448-A"},{"$f":"IF('Contractor Test Data'!$C$54=\"\",\"\",'Contractor Test Data'!$C$54)","v":"Source of Job Control Strength (psi): "}]
[494,{"$f":"IF('Contractor Test Data'!$G$55=\"\",\"\",'Contractor Test Data'!$G$55)","v":""},{"$f":"IF('Contractor Test Data'!$C$53=\"\",\"\",'Contractor Test Data'!$C$53)","v":"Contractor:Tex-448-A"},{"$f":"IF('Contractor Test Data'!$C$55=\"\",\"\",'Contractor Test Data'!$C$55)","v":"-Day Job Control Strength (psi): "}]
[495,{"$f":"IF('Contractor Test Data'!$G$56=\"\",\"\",'Contractor Test Data'!$G$56)","v":""},{"$f":"IF('Contractor Test Data'!$C$53=\"\",\"\",'Contractor Test Data'!$C$53)","v":"Contractor:Tex-448-A"},{"$f":"IF('Contractor Test Data'!$C$56=\"\",\"\",'Contractor Test Data'!$C$56)","v":"-Day Job Control Strength (psi): "}]
[496,{"$f":"IF('Contractor Test Data'!$K$54=\"\",\"\",'Contractor Test Data'!$K$54)","v":""},{"$f":"IF('Contractor Test Data'!$C$53=\"\",\"\",'Contractor Test Data'!$C$53)","v":"Contractor:Tex-448-A"},{"$f":"IF('Contractor Test Data'!$I$54=\"\",\"\",'Contractor Test Data'!$I$54)","v":"Job Control Age (days): "}]
[497,{"$f":"IF('Contractor Test Data'!$K$55=\"\",\"\",'Contractor Test Data'!$K$55)","v":""},{"$f":"IF('Contractor Test Data'!$C$53=\"\",\"\",'Contractor Test Data'!$C$53)","v":"Contractor:Tex-448-A"},{"$f":"IF('Contractor Test Data'!$I$55=\"\",\"\",'Contractor Test Data'!$I$55)","v":"Job Control Age (days): "}]
[498,{"$f":"IF('Contractor Test Data'!$F$61=\"\",\"\",'Contractor Test Data'!$F$61)","v":""},{"$f":"IF('Contractor Test Data'!$C$53=\"\",\"\",'Contractor Test Data'!$C$53)","v":"Contractor:Tex-448-A"},{"$f":"IF('Contractor Test Data'!$B$61=\"\",\"\",'Contractor Test Data'!$B$61)","v":1},{"$f":"IF('Contractor Test Data'!$F$59=\"\",\"\",'Contractor Test Data'!$F$59)","v":"Beam Number"}]
[499,{"$f":"IF('Contractor Test Data'!$D$61=\"\",\"\",'Contractor Test Data'!$D$61)","v":""},{"$f":"IF('Contractor Test Data'!$C$53=\"\",\"\",'Contractor Test Data'!$C$53)","v":"Contractor:Tex-448-A"},{"$f":"IF('Contractor Test Data'!$B$61=\"\",\"\",'Contractor Test Data'!$B$61)","v":1},{"$f":"IF('Contractor Test Data'!$D$59=\"\",\"\",'Contractor Test Data'!$D$59)","v":"Station"}]
[500,{"$f":"IF('Contractor Test Data'!$E$61=\"\",\"\",'Contractor Test Data'!$E$61)","v":""},{"$f":"IF('Contractor Test Data'!$C$53=\"\",\"\",'Contractor Test Data'!$C$53)","v":"Contractor:Tex-448-A"},{"$f":"IF('Contractor Test Data'!$B$61=\"\",\"\",'Contractor Test Data'!$B$61)","v":1},{"$f":"IF('Contractor Test Data'!$E$59=\"\",\"\",'Contractor Test Data'!$E$59)","v":"Age (Days)"}]
[501,{"$f":"IF('Contractor Test Data'!$G$61=\"\",\"\",'Contractor Test Data'!$G$61)","v":""},{"$f":"IF('Contractor Test Data'!$C$53=\"\",\"\",'Contractor Test Data'!$C$53)","v":"Contractor:Tex-448-A"},{"$f":"IF('Contractor Test Data'!$B$61=\"\",\"\",'Contractor Test Data'!$B$61)","v":1},{"$f":"IF('Contractor Test Data'!$G$59=\"\",\"\",'Contractor Test Data'!$G$59)","v":"Width of Beam (inches)"}]
[502,{"$f":"IF('Contractor Test Data'!$H$61=\"\",\"\",'Contractor Test Data'!$H$61)","v":""},{"$f":"IF('Contractor Test Data'!$C$53=\"\",\"\",'Contractor Test Data'!$C$53)","v":"Contractor:Tex-448-A"},{"$f":"IF('Contractor Test Data'!$B$61=\"\",\"\",'Contractor Test Data'!$B$61)","v":1},{"$f":"IF('Contractor Test Data'!$H$59=\"\",\"\",'Contractor Test Data'!$H$59)","v":"Depth of Beam  (inches)"}]
[503,{"$f":"IF('Contractor Test Data'!$I$61=\"\",\"\",'Contractor Test Data'!$I$61)","v":""},{"$f":"IF('Contractor Test Data'!$C$53=\"\",\"\",'Contractor Test Data'!$C$53)","v":"Contractor:Tex-448-A"},{"$f":"IF('Contractor Test Data'!$B$61=\"\",\"\",'Contractor Test Data'!$B$61)","v":1},{"$f":"IF('Contractor Test Data'!$I$59=\"\",\"\",'Contractor Test Data'!$I$59)","v":"Span Length  (inches)"}]
[504,{"$f":"IF('Contractor Test Data'!$J$61=\"\",\"\",'Contractor Test Data'!$J$61)","v":""},{"$f":"IF('Contractor Test Data'!$C$53=\"\",\"\",'Contractor Test Data'!$C$53)","v":"Contractor:Tex-448-A"},{"$f":"IF('Contractor Test Data'!$B$61=\"\",\"\",'Contractor Test Data'!$B$61)","v":1},{"$f":"IF('Contractor Test Data'!$J$59=\"\",\"\",'Contractor Test Data'!$J$59)","v":"Max Recording (Lbs.)"}]
[505,{"$f":"IF('Contractor Test Data'!$K$61=\"\",\"\",'Contractor Test Data'!$K$61)","v":""},{"$f":"IF('Contractor Test Data'!$C$53=\"\",\"\",'Contractor Test Data'!$C$53)","v":"Contractor:Tex-448-A"},{"$f":"IF('Contractor Test Data'!$B$61=\"\",\"\",'Contractor Test Data'!$B$61)","v":1},{"$f":"IF('Contractor Test Data'!$K$59=\"\",\"\",'Contractor Test Data'!$K$59)","v":"*Failure Location (inches)"}]
[506,{"$f":"IF('Contractor Test Data'!$L$61=\"\",\"\",'Contractor Test Data'!$L$61)","v":""},{"$f":"IF('Contractor Test Data'!$C$53=\"\",\"\",'Contractor Test Data'!$C$53)","v":"Contractor:Tex-448-A"},{"$f":"IF('Contractor Test Data'!$B$61=\"\",\"\",'Contractor Test Data'!$B$61)","v":1},{"$f":"IF('Contractor Test Data'!$L$59=\"\",\"\",'Contractor Test Data'!$L$59)","v":"Modulus of Rupture (psi)"}]
[507,{"$f":"IF('Contractor Test Data'!$M$61=\"\",\"\",'Contractor Test Data'!$M$61)","v":""},{"$f":"IF('Contractor Test Data'!$C$53=\"\",\"\",'Contractor Test Data'!$C$53)","v":"Contractor:Tex-448-A"},{"$f":"IF('Contractor Test Data'!$B$61=\"\",\"\",'Contractor Test Data'!$B$61)","v":1},{"$f":"IF('Contractor Test Data'!$M$59=\"\",\"\",'Contractor Test Data'!$M$59)","v":"Modulus of Rupture (avg) (psi)"}]
[508,{"$f":"IF('Contractor Test Data'!$N$61=\"\",\"\",'Contractor Test Data'!$N$61)","v":""},{"$f":"IF('Contractor Test Data'!$C$53=\"\",\"\",'Contractor Test Data'!$C$53)","v":"Contractor:Tex-448-A"},{"$f":"IF('Contractor Test Data'!$B$61=\"\",\"\",'Contractor Test Data'!$B$61)","v":1},{"$f":"IF('Contractor Test Data'!$N$59=\"\",\"\",'Contractor Test Data'!$N$59)","v":"Meets Job Control Strength"}]
[509,{"$f":"IF('Contractor Test Data'!$F$62=\"\",\"\",'Contractor Test Data'!$F$62)","v":""},{"$f":"IF('Contractor Test Data'!$C$53=\"\",\"\",'Contractor Test Data'!$C$53)","v":"Contractor:Tex-448-A"},{"$f":"IF('Contractor Test Data'!$B$61=\"\",\"\",'Contractor Test Data'!$B$61)","v":1},{"$f":"IF('Contractor Test Data'!$F$59=\"\",\"\",'Contractor Test Data'!$F$59)","v":"Beam Number"}]
[510,{"$f":"IF('Contractor Test Data'!$G$62=\"\",\"\",'Contractor Test Data'!$G$62)","v":""},{"$f":"IF('Contractor Test Data'!$C$53=\"\",\"\",'Contractor Test Data'!$C$53)","v":"Contractor:Tex-448-A"},{"$f":"IF('Contractor Test Data'!$B$61=\"\",\"\",'Contractor Test Data'!$B$61)","v":1},{"$f":"IF('Contractor Test Data'!$G$59=\"\",\"\",'Contractor Test Data'!$G$59)","v":"Width of Beam (inches)"}]
[511,{"$f":"IF('Contractor Test Data'!$H$62=\"\",\"\",'Contractor Test Data'!$H$62)","v":""},{"$f":"IF('Contractor Test Data'!$C$53=\"\",\"\",'Contractor Test Data'!$C$53)","v":"Contractor:Tex-448-A"},{"$f":"IF('Contractor Test Data'!$B$61=\"\",\"\",'Contractor Test Data'!$B$61)","v":1},{"$f":"IF('Contractor Test Data'!$H$59=\"\",\"\",'Contractor Test Data'!$H$59)","v":"Depth of Beam  (inches)"}]
[512,{"$f":"IF('Contractor Test Data'!$I$62=\"\",\"\",'Contractor Test Data'!$I$62)","v":""},{"$f":"IF('Contractor Test Data'!$C$53=\"\",\"\",'Contractor Test Data'!$C$53)","v":"Contractor:Tex-448-A"},{"$f":"IF('Contractor Test Data'!$B$61=\"\",\"\",'Contractor Test Data'!$B$61)","v":1},{"$f":"IF('Contractor Test Data'!$I$59=\"\",\"\",'Contractor Test Data'!$I$59)","v":"Span Length  (inches)"}]
[513,{"$f":"IF('Contractor Test Data'!$J$62=\"\",\"\",'Contractor Test Data'!$J$62)","v":""},{"$f":"IF('Contractor Test Data'!$C$53=\"\",\"\",'Contractor Test Data'!$C$53)","v":"Contractor:Tex-448-A"},{"$f":"IF('Contractor Test Data'!$B$61=\"\",\"\",'Contractor Test Data'!$B$61)","v":1},{"$f":"IF('Contractor Test Data'!$J$59=\"\",\"\",'Contractor Test Data'!$J$59)","v":"Max Recording (Lbs.)"}]
[514,{"$f":"IF('Contractor Test Data'!$K$62=\"\",\"\",'Contractor Test Data'!$K$62)","v":""},{"$f":"IF('Contractor Test Data'!$C$53=\"\",\"\",'Contractor Test Data'!$C$53)","v":"Contractor:Tex-448-A"},{"$f":"IF('Contractor Test Data'!$B$61=\"\",\"\",'Contractor Test Data'!$B$61)","v":1},{"$f":"IF('Contractor Test Data'!$K$59=\"\",\"\",'Contractor Test Data'!$K$59)","v":"*Failure Location (inches)"}]
[515,{"$f":"IF('Contractor Test Data'!$L$62=\"\",\"\",'Contractor Test Data'!$L$62)","v":""},{"$f":"IF('Contractor Test Data'!$C$53=\"\",\"\",'Contractor Test Data'!$C$53)","v":"Contractor:Tex-448-A"},{"$f":"IF('Contractor Test Data'!$B$61=\"\",\"\",'Contractor Test Data'!$B$61)","v":1},{"$f":"IF('Contractor Test Data'!$L$59=\"\",\"\",'Contractor Test Data'!$L$59)","v":"Modulus of Rupture (psi)"}]
[516,{"$f":"IF('Contractor Test Data'!$F$63=\"\",\"\",'Contractor Test Data'!$F$63)","v":""},{"$f":"IF('Contractor Test Data'!$C$53=\"\",\"\",'Contractor Test Data'!$C$53)","v":"Contractor:Tex-448-A"},{"$f":"IF('Contractor Test Data'!$B$63=\"\",\"\",'Contractor Test Data'!$B$63)","v":2},{"$f":"IF('Contractor Test Data'!$F$59=\"\",\"\",'Contractor Test Data'!$F$59)","v":"Beam Number"}]
[517,{"$f":"IF('Contractor Test Data'!$D$63=\"\",\"\",'Contractor Test Data'!$D$63)","v":""},{"$f":"IF('Contractor Test Data'!$C$53=\"\",\"\",'Contractor Test Data'!$C$53)","v":"Contractor:Tex-448-A"},{"$f":"IF('Contractor Test Data'!$B$63=\"\",\"\",'Contractor Test Data'!$B$63)","v":2},{"$f":"IF('Contractor Test Data'!$D$59=\"\",\"\",'Contractor Test Data'!$D$59)","v":"Station"}]
[518,{"$f":"IF('Contractor Test Data'!$E$63=\"\",\"\",'Contractor Test Data'!$E$63)","v":""},{"$f":"IF('Contractor Test Data'!$C$53=\"\",\"\",'Contractor Test Data'!$C$53)","v":"Contractor:Tex-448-A"},{"$f":"IF('Contractor Test Data'!$B$63=\"\",\"\",'Contractor Test Data'!$B$63)","v":2},{"$f":"IF('Contractor Test Data'!$E$59=\"\",\"\",'Contractor Test Data'!$E$59)","v":"Age (Days)"}]
[519,{"$f":"IF('Contractor Test Data'!$G$63=\"\",\"\",'Contractor Test Data'!$G$63)","v":""},{"$f":"IF('Contractor Test Data'!$C$53=\"\",\"\",'Contractor Test Data'!$C$53)","v":"Contractor:Tex-448-A"},{"$f":"IF('Contractor Test Data'!$B$63=\"\",\"\",'Contractor Test Data'!$B$63)","v":2},{"$f":"IF('Contractor Test Data'!$G$59=\"\",\"\",'Contractor Test Data'!$G$59)","v":"Width of Beam (inches)"}]
[520,{"$f":"IF('Contractor Test Data'!$H$63=\"\",\"\",'Contractor Test Data'!$H$63)","v":""},{"$f":"IF('Contractor Test Data'!$C$53=\"\",\"\",'Contractor Test Data'!$C$53)","v":"Contractor:Tex-448-A"},{"$f":"IF('Contractor Test Data'!$B$63=\"\",\"\",'Contractor Test Data'!$B$63)","v":2},{"$f":"IF('Contractor Test Data'!$H$59=\"\",\"\",'Contractor Test Data'!$H$59)","v":"Depth of Beam  (inches)"}]
[521,{"$f":"IF('Contractor Test Data'!$I$63=\"\",\"\",'Contractor Test Data'!$I$63)","v":""},{"$f":"IF('Contractor Test Data'!$C$53=\"\",\"\",'Contractor Test Data'!$C$53)","v":"Contractor:Tex-448-A"},{"$f":"IF('Contractor Test Data'!$B$63=\"\",\"\",'Contractor Test Data'!$B$63)","v":2},{"$f":"IF('Contractor Test Data'!$I$59=\"\",\"\",'Contractor Test Data'!$I$59)","v":"Span Length  (inches)"}]
[522,{"$f":"IF('Contractor Test Data'!$J$63=\"\",\"\",'Contractor Test Data'!$J$63)","v":""},{"$f":"IF('Contractor Test Data'!$C$53=\"\",\"\",'Contractor Test Data'!$C$53)","v":"Contractor:Tex-448-A"},{"$f":"IF('Contractor Test Data'!$B$63=\"\",\"\",'Contractor Test Data'!$B$63)","v":2},{"$f":"IF('Contractor Test Data'!$J$59=\"\",\"\",'Contractor Test Data'!$J$59)","v":"Max Recording (Lbs.)"}]
[523,{"$f":"IF('Contractor Test Data'!$K$63=\"\",\"\",'Contractor Test Data'!$K$63)","v":""},{"$f":"IF('Contractor Test Data'!$C$53=\"\",\"\",'Contractor Test Data'!$C$53)","v":"Contractor:Tex-448-A"},{"$f":"IF('Contractor Test Data'!$B$63=\"\",\"\",'Contractor Test Data'!$B$63)","v":2},{"$f":"IF('Contractor Test Data'!$K$59=\"\",\"\",'Contractor Test Data'!$K$59)","v":"*Failure Location (inches)"}]
[524,{"$f":"IF('Contractor Test Data'!$L$63=\"\",\"\",'Contractor Test Data'!$L$63)","v":""},{"$f":"IF('Contractor Test Data'!$C$53=\"\",\"\",'Contractor Test Data'!$C$53)","v":"Contractor:Tex-448-A"},{"$f":"IF('Contractor Test Data'!$B$63=\"\",\"\",'Contractor Test Data'!$B$63)","v":2},{"$f":"IF('Contractor Test Data'!$L$59=\"\",\"\",'Contractor Test Data'!$L$59)","v":"Modulus of Rupture (psi)"}]
[525,{"$f":"IF('Contractor Test Data'!$M$63=\"\",\"\",'Contractor Test Data'!$M$63)","v":""},{"$f":"IF('Contractor Test Data'!$C$53=\"\",\"\",'Contractor Test Data'!$C$53)","v":"Contractor:Tex-448-A"},{"$f":"IF('Contractor Test Data'!$B$63=\"\",\"\",'Contractor Test Data'!$B$63)","v":2},{"$f":"IF('Contractor Test Data'!$M$59=\"\",\"\",'Contractor Test Data'!$M$59)","v":"Modulus of Rupture (avg) (psi)"}]
[526,{"$f":"IF('Contractor Test Data'!$N$63=\"\",\"\",'Contractor Test Data'!$N$63)","v":""},{"$f":"IF('Contractor Test Data'!$C$53=\"\",\"\",'Contractor Test Data'!$C$53)","v":"Contractor:Tex-448-A"},{"$f":"IF('Contractor Test Data'!$B$63=\"\",\"\",'Contractor Test Data'!$B$63)","v":2},{"$f":"IF('Contractor Test Data'!$N$59=\"\",\"\",'Contractor Test Data'!$N$59)","v":"Meets Job Control Strength"}]
[527,{"$f":"IF('Contractor Test Data'!$F$64=\"\",\"\",'Contractor Test Data'!$F$64)","v":""},{"$f":"IF('Contractor Test Data'!$C$53=\"\",\"\",'Contractor Test Data'!$C$53)","v":"Contractor:Tex-448-A"},{"$f":"IF('Contractor Test Data'!$B$63=\"\",\"\",'Contractor Test Data'!$B$63)","v":2},{"$f":"IF('Contractor Test Data'!$F$59=\"\",\"\",'Contractor Test Data'!$F$59)","v":"Beam Number"}]
[528,{"$f":"IF('Contractor Test Data'!$G$64=\"\",\"\",'Contractor Test Data'!$G$64)","v":""},{"$f":"IF('Contractor Test Data'!$C$53=\"\",\"\",'Contractor Test Data'!$C$53)","v":"Contractor:Tex-448-A"},{"$f":"IF('Contractor Test Data'!$B$63=\"\",\"\",'Contractor Test Data'!$B$63)","v":2},{"$f":"IF('Contractor Test Data'!$G$59=\"\",\"\",'Contractor Test Data'!$G$59)","v":"Width of Beam (inches)"}]
[529,{"$f":"IF('Contractor Test Data'!$H$64=\"\",\"\",'Contractor Test Data'!$H$64)","v":""},{"$f":"IF('Contractor Test Data'!$C$53=\"\",\"\",'Contractor Test Data'!$C$53)","v":"Contractor:Tex-448-A"},{"$f":"IF('Contractor Test Data'!$B$63=\"\",\"\",'Contractor Test Data'!$B$63)","v":2},{"$f":"IF('Contractor Test Data'!$H$59=\"\",\"\",'Contractor Test Data'!$H$59)","v":"Depth of Beam  (inches)"}]
[530,{"$f":"IF('Contractor Test Data'!$I$64=\"\",\"\",'Contractor Test Data'!$I$64)","v":""},{"$f":"IF('Contractor Test Data'!$C$53=\"\",\"\",'Contractor Test Data'!$C$53)","v":"Contractor:Tex-448-A"},{"$f":"IF('Contractor Test Data'!$B$63=\"\",\"\",'Contractor Test Data'!$B$63)","v":2},{"$f":"IF('Contractor Test Data'!$I$59=\"\",\"\",'Contractor Test Data'!$I$59)","v":"Span Length  (inches)"}]
[531,{"$f":"IF('Contractor Test Data'!$J$64=\"\",\"\",'Contractor Test Data'!$J$64)","v":""},{"$f":"IF('Contractor Test Data'!$C$53=\"\",\"\",'Contractor Test Data'!$C$53)","v":"Contractor:Tex-448-A"},{"$f":"IF('Contractor Test Data'!$B$63=\"\",\"\",'Contractor Test Data'!$B$63)","v":2},{"$f":"IF('Contractor Test Data'!$J$59=\"\",\"\",'Contractor Test Data'!$J$59)","v":"Max Recording (Lbs.)"}]
[532,{"$f":"IF('Contractor Test Data'!$K$64=\"\",\"\",'Contractor Test Data'!$K$64)","v":""},{"$f":"IF('Contractor Test Data'!$C$53=\"\",\"\",'Contractor Test Data'!$C$53)","v":"Contractor:Tex-448-A"},{"$f":"IF('Contractor Test Data'!$B$63=\"\",\"\",'Contractor Test Data'!$B$63)","v":2},{"$f":"IF('Contractor Test Data'!$K$59=\"\",\"\",'Contractor Test Data'!$K$59)","v":"*Failure Location (inches)"}]
[533,{"$f":"IF('Contractor Test Data'!$L$64=\"\",\"\",'Contractor Test Data'!$L$64)","v":""},{"$f":"IF('Contractor Test Data'!$C$53=\"\",\"\",'Contractor Test Data'!$C$53)","v":"Contractor:Tex-448-A"},{"$f":"IF('Contractor Test Data'!$B$63=\"\",\"\",'Contractor Test Data'!$B$63)","v":2},{"$f":"IF('Contractor Test Data'!$L$59=\"\",\"\",'Contractor Test Data'!$L$59)","v":"Modulus of Rupture (psi)"}]
[534,{"$f":"IF('Contractor Test Data'!$F$65=\"\",\"\",'Contractor Test Data'!$F$65)","v":""},{"$f":"IF('Contractor Test Data'!$C$53=\"\",\"\",'Contractor Test Data'!$C$53)","v":"Contractor:Tex-448-A"},{"$f":"IF('Contractor Test Data'!$B$65=\"\",\"\",'Contractor Test Data'!$B$65)","v":3},{"$f":"IF('Contractor Test Data'!$F$59=\"\",\"\",'Contractor Test Data'!$F$59)","v":"Beam Number"}]
[535,{"$f":"IF('Contractor Test Data'!$D$65=\"\",\"\",'Contractor Test Data'!$D$65)","v":""},{"$f":"IF('Contractor Test Data'!$C$53=\"\",\"\",'Contractor Test Data'!$C$53)","v":"Contractor:Tex-448-A"},{"$f":"IF('Contractor Test Data'!$B$65=\"\",\"\",'Contractor Test Data'!$B$65)","v":3},{"$f":"IF('Contractor Test Data'!$D$59=\"\",\"\",'Contractor Test Data'!$D$59)","v":"Station"}]
[536,{"$f":"IF('Contractor Test Data'!$E$65=\"\",\"\",'Contractor Test Data'!$E$65)","v":""},{"$f":"IF('Contractor Test Data'!$C$53=\"\",\"\",'Contractor Test Data'!$C$53)","v":"Contractor:Tex-448-A"},{"$f":"IF('Contractor Test Data'!$B$65=\"\",\"\",'Contractor Test Data'!$B$65)","v":3},{"$f":"IF('Contractor Test Data'!$E$59=\"\",\"\",'Contractor Test Data'!$E$59)","v":"Age (Days)"}]
[537,{"$f":"IF('Contractor Test Data'!$G$65=\"\",\"\",'Contractor Test Data'!$G$65)","v":""},{"$f":"IF('Contractor Test Data'!$C$53=\"\",\"\",'Contractor Test Data'!$C$53)","v":"Contractor:Tex-448-A"},{"$f":"IF('Contractor Test Data'!$B$65=\"\",\"\",'Contractor Test Data'!$B$65)","v":3},{"$f":"IF('Contractor Test Data'!$G$59=\"\",\"\",'Contractor Test Data'!$G$59)","v":"Width of Beam (inches)"}]
[538,{"$f":"IF('Contractor Test Data'!$H$65=\"\",\"\",'Contractor Test Data'!$H$65)","v":""},{"$f":"IF('Contractor Test Data'!$C$53=\"\",\"\",'Contractor Test Data'!$C$53)","v":"Contractor:Tex-448-A"},{"$f":"IF('Contractor Test Data'!$B$65=\"\",\"\",'Contractor Test Data'!$B$65)","v":3},{"$f":"IF('Contractor Test Data'!$H$59=\"\",\"\",'Contractor Test Data'!$H$59)","v":"Depth of Beam  (inches)"}]
[539,{"$f":"IF('Contractor Test Data'!$I$65=\"\",\"\",'Contractor Test Data'!$I$65)","v":""},{"$f":"IF('Contractor Test Data'!$C$53=\"\",\"\",'Contractor Test Data'!$C$53)","v":"Contractor:Tex-448-A"},{"$f":"IF('Contractor Test Data'!$B$65=\"\",\"\",'Contractor Test Data'!$B$65)","v":3},{"$f":"IF('Contractor Test Data'!$I$59=\"\",\"\",'Contractor Test Data'!$I$59)","v":"Span Length  (inches)"}]
[540,{"$f":"IF('Contractor Test Data'!$J$65=\"\",\"\",'Contractor Test Data'!$J$65)","v":""},{"$f":"IF('Contractor Test Data'!$C$53=\"\",\"\",'Contractor Test Data'!$C$53)","v":"Contractor:Tex-448-A"},{"$f":"IF('Contractor Test Data'!$B$65=\"\",\"\",'Contractor Test Data'!$B$65)","v":3},{"$f":"IF('Contractor Test Data'!$J$59=\"\",\"\",'Contractor Test Data'!$J$59)","v":"Max Recording (Lbs.)"}]
[541,{"$f":"IF('Contractor Test Data'!$K$65=\"\",\"\",'Contractor Test Data'!$K$65)","v":""},{"$f":"IF('Contractor Test Data'!$C$53=\"\",\"\",'Contractor Test Data'!$C$53)","v":"Contractor:Tex-448-A"},{"$f":"IF('Contractor Test Data'!$B$65=\"\",\"\",'Contractor Test Data'!$B$65)","v":3},{"$f":"IF('Contractor Test Data'!$K$59=\"\",\"\",'Contractor Test Data'!$K$59)","v":"*Failure Location (inches)"}]
[542,{"$f":"IF('Contractor Test Data'!$L$65=\"\",\"\",'Contractor Test Data'!$L$65)","v":""},{"$f":"IF('Contractor Test Data'!$C$53=\"\",\"\",'Contractor Test Data'!$C$53)","v":"Contractor:Tex-448-A"},{"$f":"IF('Contractor Test Data'!$B$65=\"\",\"\",'Contractor Test Data'!$B$65)","v":3},{"$f":"IF('Contractor Test Data'!$L$59=\"\",\"\",'Contractor Test Data'!$L$59)","v":"Modulus of Rupture (psi)"}]
[543,{"$f":"IF('Contractor Test Data'!$M$65=\"\",\"\",'Contractor Test Data'!$M$65)","v":""},{"$f":"IF('Contractor Test Data'!$C$53=\"\",\"\",'Contractor Test Data'!$C$53)","v":"Contractor:Tex-448-A"},{"$f":"IF('Contractor Test Data'!$B$65=\"\",\"\",'Contractor Test Data'!$B$65)","v":3},{"$f":"IF('Contractor Test Data'!$M$59=\"\",\"\",'Contractor Test Data'!$M$59)","v":"Modulus of Rupture (avg) (psi)"}]
[544,{"$f":"IF('Contractor Test Data'!$N$65=\"\",\"\",'Contractor Test Data'!$N$65)","v":""},{"$f":"IF('Contractor Test Data'!$C$53=\"\",\"\",'Contractor Test Data'!$C$53)","v":"Contractor:Tex-448-A"},{"$f":"IF('Contractor Test Data'!$B$65=\"\",\"\",'Contractor Test Data'!$B$65)","v":3},{"$f":"IF('Contractor Test Data'!$N$59=\"\",\"\",'Contractor Test Data'!$N$59)","v":"Meets Job Control Strength"}]
[545,{"$f":"IF('Contractor Test Data'!$F$66=\"\",\"\",'Contractor Test Data'!$F$66)","v":""},{"$f":"IF('Contractor Test Data'!$C$53=\"\",\"\",'Contractor Test Data'!$C$53)","v":"Contractor:Tex-448-A"},{"$f":"IF('Contractor Test Data'!$B$65=\"\",\"\",'Contractor Test Data'!$B$65)","v":3},{"$f":"IF('Contractor Test Data'!$F$59=\"\",\"\",'Contractor Test Data'!$F$59)","v":"Beam Number"}]
[546,{"$f":"IF('Contractor Test Data'!$G$66=\"\",\"\",'Contractor Test Data'!$G$66)","v":""},{"$f":"IF('Contractor Test Data'!$C$53=\"\",\"\",'Contractor Test Data'!$C$53)","v":"Contractor:Tex-448-A"},{"$f":"IF('Contractor Test Data'!$B$65=\"\",\"\",'Contractor Test Data'!$B$65)","v":3},{"$f":"IF('Contractor Test Data'!$G$59=\"\",\"\",'Contractor Test Data'!$G$59)","v":"Width of Beam (inches)"}]
[547,{"$f":"IF('Contractor Test Data'!$H$66=\"\",\"\",'Contractor Test Data'!$H$66)","v":""},{"$f":"IF('Contractor Test Data'!$C$53=\"\",\"\",'Contractor Test Data'!$C$53)","v":"Contractor:Tex-448-A"},{"$f":"IF('Contractor Test Data'!$B$65=\"\",\"\",'Contractor Test Data'!$B$65)","v":3},{"$f":"IF('Contractor Test Data'!$H$59=\"\",\"\",'Contractor Test Data'!$H$59)","v":"Depth of Beam  (inches)"}]
[548,{"$f":"IF('Contractor Test Data'!$I$66=\"\",\"\",'Contractor Test Data'!$I$66)","v":""},{"$f":"IF('Contractor Test Data'!$C$53=\"\",\"\",'Contractor Test Data'!$C$53)","v":"Contractor:Tex-448-A"},{"$f":"IF('Contractor Test Data'!$B$65=\"\",\"\",'Contractor Test Data'!$B$65)","v":3},{"$f":"IF('Contractor Test Data'!$I$59=\"\",\"\",'Contractor Test Data'!$I$59)","v":"Span Length  (inches)"}]
[549,{"$f":"IF('Contractor Test Data'!$J$66=\"\",\"\",'Contractor Test Data'!$J$66)","v":""},{"$f":"IF('Contractor Test Data'!$C$53=\"\",\"\",'Contractor Test Data'!$C$53)","v":"Contractor:Tex-448-A"},{"$f":"IF('Contractor Test Data'!$B$65=\"\",\"\",'Contractor Test Data'!$B$65)","v":3},{"$f":"IF('Contractor Test Data'!$J$59=\"\",\"\",'Contractor Test Data'!$J$59)","v":"Max Recording (Lbs.)"}]
[550,{"$f":"IF('Contractor Test Data'!$K$66=\"\",\"\",'Contractor Test Data'!$K$66)","v":""},{"$f":"IF('Contractor Test Data'!$C$53=\"\",\"\",'Contractor Test Data'!$C$53)","v":"Contractor:Tex-448-A"},{"$f":"IF('Contractor Test Data'!$B$65=\"\",\"\",'Contractor Test Data'!$B$65)","v":3},{"$f":"IF('Contractor Test Data'!$K$59=\"\",\"\",'Contractor Test Data'!$K$59)","v":"*Failure Location (inches)"}]
[551,{"$f":"IF('Contractor Test Data'!$L$66=\"\",\"\",'Contractor Test Data'!$L$66)","v":""},{"$f":"IF('Contractor Test Data'!$C$53=\"\",\"\",'Contractor Test Data'!$C$53)","v":"Contractor:Tex-448-A"},{"$f":"IF('Contractor Test Data'!$B$65=\"\",\"\",'Contractor Test Data'!$B$65)","v":3},{"$f":"IF('Contractor Test Data'!$L$59=\"\",\"\",'Contractor Test Data'!$L$59)","v":"Modulus of Rupture (psi)"}]
[552,{"$f":"IF('Contractor Test Data'!$F$67=\"\",\"\",'Contractor Test Data'!$F$67)","v":""},{"$f":"IF('Contractor Test Data'!$C$53=\"\",\"\",'Contractor Test Data'!$C$53)","v":"Contractor:Tex-448-A"},{"$f":"IF('Contractor Test Data'!$B$67=\"\",\"\",'Contractor Test Data'!$B$67)","v":4},{"$f":"IF('Contractor Test Data'!$F$59=\"\",\"\",'Contractor Test Data'!$F$59)","v":"Beam Number"}]
[553,{"$f":"IF('Contractor Test Data'!$D$67=\"\",\"\",'Contractor Test Data'!$D$67)","v":""},{"$f":"IF('Contractor Test Data'!$C$53=\"\",\"\",'Contractor Test Data'!$C$53)","v":"Contractor:Tex-448-A"},{"$f":"IF('Contractor Test Data'!$B$67=\"\",\"\",'Contractor Test Data'!$B$67)","v":4},{"$f":"IF('Contractor Test Data'!$D$59=\"\",\"\",'Contractor Test Data'!$D$59)","v":"Station"}]
[554,{"$f":"IF('Contractor Test Data'!$E$67=\"\",\"\",'Contractor Test Data'!$E$67)","v":""},{"$f":"IF('Contractor Test Data'!$C$53=\"\",\"\",'Contractor Test Data'!$C$53)","v":"Contractor:Tex-448-A"},{"$f":"IF('Contractor Test Data'!$B$67=\"\",\"\",'Contractor Test Data'!$B$67)","v":4},{"$f":"IF('Contractor Test Data'!$E$59=\"\",\"\",'Contractor Test Data'!$E$59)","v":"Age (Days)"}]
[555,{"$f":"IF('Contractor Test Data'!$G$67=\"\",\"\",'Contractor Test Data'!$G$67)","v":""},{"$f":"IF('Contractor Test Data'!$C$53=\"\",\"\",'Contractor Test Data'!$C$53)","v":"Contractor:Tex-448-A"},{"$f":"IF('Contractor Test Data'!$B$67=\"\",\"\",'Contractor Test Data'!$B$67)","v":4},{"$f":"IF('Contractor Test Data'!$G$59=\"\",\"\",'Contractor Test Data'!$G$59)","v":"Width of Beam (inches)"}]
[556,{"$f":"IF('Contractor Test Data'!$H$67=\"\",\"\",'Contractor Test Data'!$H$67)","v":""},{"$f":"IF('Contractor Test Data'!$C$53=\"\",\"\",'Contractor Test Data'!$C$53)","v":"Contractor:Tex-448-A"},{"$f":"IF('Contractor Test Data'!$B$67=\"\",\"\",'Contractor Test Data'!$B$67)","v":4},{"$f":"IF('Contractor Test Data'!$H$59=\"\",\"\",'Contractor Test Data'!$H$59)","v":"Depth of Beam  (inches)"}]
[557,{"$f":"IF('Contractor Test Data'!$I$67=\"\",\"\",'Contractor Test Data'!$I$67)","v":""},{"$f":"IF('Contractor Test Data'!$C$53=\"\",\"\",'Contractor Test Data'!$C$53)","v":"Contractor:Tex-448-A"},{"$f":"IF('Contractor Test Data'!$B$67=\"\",\"\",'Contractor Test Data'!$B$67)","v":4},{"$f":"IF('Contractor Test Data'!$I$59=\"\",\"\",'Contractor Test Data'!$I$59)","v":"Span Length  (inches)"}]
[558,{"$f":"IF('Contractor Test Data'!$J$67=\"\",\"\",'Contractor Test Data'!$J$67)","v":""},{"$f":"IF('Contractor Test Data'!$C$53=\"\",\"\",'Contractor Test Data'!$C$53)","v":"Contractor:Tex-448-A"},{"$f":"IF('Contractor Test Data'!$B$67=\"\",\"\",'Contractor Test Data'!$B$67)","v":4},{"$f":"IF('Contractor Test Data'!$J$59=\"\",\"\",'Contractor Test Data'!$J$59)","v":"Max Recording (Lbs.)"}]
[559,{"$f":"IF('Contractor Test Data'!$K$67=\"\",\"\",'Contractor Test Data'!$K$67)","v":""},{"$f":"IF('Contractor Test Data'!$C$53=\"\",\"\",'Contractor Test Data'!$C$53)","v":"Contractor:Tex-448-A"},{"$f":"IF('Contractor Test Data'!$B$67=\"\",\"\",'Contractor Test Data'!$B$67)","v":4},{"$f":"IF('Contractor Test Data'!$K$59=\"\",\"\",'Contractor Test Data'!$K$59)","v":"*Failure Location (inches)"}]
[560,{"$f":"IF('Contractor Test Data'!$L$67=\"\",\"\",'Contractor Test Data'!$L$67)","v":""},{"$f":"IF('Contractor Test Data'!$C$53=\"\",\"\",'Contractor Test Data'!$C$53)","v":"Contractor:Tex-448-A"},{"$f":"IF('Contractor Test Data'!$B$67=\"\",\"\",'Contractor Test Data'!$B$67)","v":4},{"$f":"IF('Contractor Test Data'!$L$59=\"\",\"\",'Contractor Test Data'!$L$59)","v":"Modulus of Rupture (psi)"}]
[561,{"$f":"IF('Contractor Test Data'!$M$67=\"\",\"\",'Contractor Test Data'!$M$67)","v":""},{"$f":"IF('Contractor Test Data'!$C$53=\"\",\"\",'Contractor Test Data'!$C$53)","v":"Contractor:Tex-448-A"},{"$f":"IF('Contractor Test Data'!$B$67=\"\",\"\",'Contractor Test Data'!$B$67)","v":4},{"$f":"IF('Contractor Test Data'!$M$59=\"\",\"\",'Contractor Test Data'!$M$59)","v":"Modulus of Rupture (avg) (psi)"}]
[562,{"$f":"IF('Contractor Test Data'!$N$67=\"\",\"\",'Contractor Test Data'!$N$67)","v":""},{"$f":"IF('Contractor Test Data'!$C$53=\"\",\"\",'Contractor Test Data'!$C$53)","v":"Contractor:Tex-448-A"},{"$f":"IF('Contractor Test Data'!$B$67=\"\",\"\",'Contractor Test Data'!$B$67)","v":4},{"$f":"IF('Contractor Test Data'!$N$59=\"\",\"\",'Contractor Test Data'!$N$59)","v":"Meets Job Control Strength"}]
[563,{"$f":"IF('Contractor Test Data'!$F$68=\"\",\"\",'Contractor Test Data'!$F$68)","v":""},{"$f":"IF('Contractor Test Data'!$C$53=\"\",\"\",'Contractor Test Data'!$C$53)","v":"Contractor:Tex-448-A"},{"$f":"IF('Contractor Test Data'!$B$67=\"\",\"\",'Contractor Test Data'!$B$67)","v":4},{"$f":"IF('Contractor Test Data'!$F$59=\"\",\"\",'Contractor Test Data'!$F$59)","v":"Beam Number"}]
[564,{"$f":"IF('Contractor Test Data'!$G$68=\"\",\"\",'Contractor Test Data'!$G$68)","v":""},{"$f":"IF('Contractor Test Data'!$C$53=\"\",\"\",'Contractor Test Data'!$C$53)","v":"Contractor:Tex-448-A"},{"$f":"IF('Contractor Test Data'!$B$67=\"\",\"\",'Contractor Test Data'!$B$67)","v":4},{"$f":"IF('Contractor Test Data'!$G$59=\"\",\"\",'Contractor Test Data'!$G$59)","v":"Width of Beam (inches)"}]
[565,{"$f":"IF('Contractor Test Data'!$H$68=\"\",\"\",'Contractor Test Data'!$H$68)","v":""},{"$f":"IF('Contractor Test Data'!$C$53=\"\",\"\",'Contractor Test Data'!$C$53)","v":"Contractor:Tex-448-A"},{"$f":"IF('Contractor Test Data'!$B$67=\"\",\"\",'Contractor Test Data'!$B$67)","v":4},{"$f":"IF('Contractor Test Data'!$H$59=\"\",\"\",'Contractor Test Data'!$H$59)","v":"Depth of Beam  (inches)"}]
[566,{"$f":"IF('Contractor Test Data'!$I$68=\"\",\"\",'Contractor Test Data'!$I$68)","v":""},{"$f":"IF('Contractor Test Data'!$C$53=\"\",\"\",'Contractor Test Data'!$C$53)","v":"Contractor:Tex-448-A"},{"$f":"IF('Contractor Test Data'!$B$67=\"\",\"\",'Contractor Test Data'!$B$67)","v":4},{"$f":"IF('Contractor Test Data'!$I$59=\"\",\"\",'Contractor Test Data'!$I$59)","v":"Span Length  (inches)"}]
[567,{"$f":"IF('Contractor Test Data'!$J$68=\"\",\"\",'Contractor Test Data'!$J$68)","v":""},{"$f":"IF('Contractor Test Data'!$C$53=\"\",\"\",'Contractor Test Data'!$C$53)","v":"Contractor:Tex-448-A"},{"$f":"IF('Contractor Test Data'!$B$67=\"\",\"\",'Contractor Test Data'!$B$67)","v":4},{"$f":"IF('Contractor Test Data'!$J$59=\"\",\"\",'Contractor Test Data'!$J$59)","v":"Max Recording (Lbs.)"}]
[568,{"$f":"IF('Contractor Test Data'!$K$68=\"\",\"\",'Contractor Test Data'!$K$68)","v":""},{"$f":"IF('Contractor Test Data'!$C$53=\"\",\"\",'Contractor Test Data'!$C$53)","v":"Contractor:Tex-448-A"},{"$f":"IF('Contractor Test Data'!$B$67=\"\",\"\",'Contractor Test Data'!$B$67)","v":4},{"$f":"IF('Contractor Test Data'!$K$59=\"\",\"\",'Contractor Test Data'!$K$59)","v":"*Failure Location (inches)"}]
[569,{"$f":"IF('Contractor Test Data'!$L$68=\"\",\"\",'Contractor Test Data'!$L$68)","v":""},{"$f":"IF('Contractor Test Data'!$C$53=\"\",\"\",'Contractor Test Data'!$C$53)","v":"Contractor:Tex-448-A"},{"$f":"IF('Contractor Test Data'!$B$67=\"\",\"\",'Contractor Test Data'!$B$67)","v":4},{"$f":"IF('Contractor Test Data'!$L$59=\"\",\"\",'Contractor Test Data'!$L$59)","v":"Modulus of Rupture (psi)"}]
[570,{"$f":"IF('Contractor Test Data'!$F$69=\"\",\"\",'Contractor Test Data'!$F$69)","v":""},{"$f":"IF('Contractor Test Data'!$C$53=\"\",\"\",'Contractor Test Data'!$C$53)","v":"Contractor:Tex-448-A"},{"$f":"IF('Contractor Test Data'!$B$69=\"\",\"\",'Contractor Test Data'!$B$69)","v":5},{"$f":"IF('Contractor Test Data'!$F$59=\"\",\"\",'Contractor Test Data'!$F$59)","v":"Beam Number"}]
[571,{"$f":"IF('Contractor Test Data'!$D$69=\"\",\"\",'Contractor Test Data'!$D$69)","v":""},{"$f":"IF('Contractor Test Data'!$C$53=\"\",\"\",'Contractor Test Data'!$C$53)","v":"Contractor:Tex-448-A"},{"$f":"IF('Contractor Test Data'!$B$69=\"\",\"\",'Contractor Test Data'!$B$69)","v":5},{"$f":"IF('Contractor Test Data'!$D$59=\"\",\"\",'Contractor Test Data'!$D$59)","v":"Station"}]
[572,{"$f":"IF('Contractor Test Data'!$E$69=\"\",\"\",'Contractor Test Data'!$E$69)","v":""},{"$f":"IF('Contractor Test Data'!$C$53=\"\",\"\",'Contractor Test Data'!$C$53)","v":"Contractor:Tex-448-A"},{"$f":"IF('Contractor Test Data'!$B$69=\"\",\"\",'Contractor Test Data'!$B$69)","v":5},{"$f":"IF('Contractor Test Data'!$E$59=\"\",\"\",'Contractor Test Data'!$E$59)","v":"Age (Days)"}]
[573,{"$f":"IF('Contractor Test Data'!$G$69=\"\",\"\",'Contractor Test Data'!$G$69)","v":""},{"$f":"IF('Contractor Test Data'!$C$53=\"\",\"\",'Contractor Test Data'!$C$53)","v":"Contractor:Tex-448-A"},{"$f":"IF('Contractor Test Data'!$B$69=\"\",\"\",'Contractor Test Data'!$B$69)","v":5},{"$f":"IF('Contractor Test Data'!$G$59=\"\",\"\",'Contractor Test Data'!$G$59)","v":"Width of Beam (inches)"}]
[574,{"$f":"IF('Contractor Test Data'!$H$69=\"\",\"\",'Contractor Test Data'!$H$69)","v":""},{"$f":"IF('Contractor Test Data'!$C$53=\"\",\"\",'Contractor Test Data'!$C$53)","v":"Contractor:Tex-448-A"},{"$f":"IF('Contractor Test Data'!$B$69=\"\",\"\",'Contractor Test Data'!$B$69)","v":5},{"$f":"IF('Contractor Test Data'!$H$59=\"\",\"\",'Contractor Test Data'!$H$59)","v":"Depth of Beam  (inches)"}]
[575,{"$f":"IF('Contractor Test Data'!$I$69=\"\",\"\",'Contractor Test Data'!$I$69)","v":""},{"$f":"IF('Contractor Test Data'!$C$53=\"\",\"\",'Contractor Test Data'!$C$53)","v":"Contractor:Tex-448-A"},{"$f":"IF('Contractor Test Data'!$B$69=\"\",\"\",'Contractor Test Data'!$B$69)","v":5},{"$f":"IF('Contractor Test Data'!$I$59=\"\",\"\",'Contractor Test Data'!$I$59)","v":"Span Length  (inches)"}]
[576,{"$f":"IF('Contractor Test Data'!$J$69=\"\",\"\",'Contractor Test Data'!$J$69)","v":""},{"$f":"IF('Contractor Test Data'!$C$53=\"\",\"\",'Contractor Test Data'!$C$53)","v":"Contractor:Tex-448-A"},{"$f":"IF('Contractor Test Data'!$B$69=\"\",\"\",'Contractor Test Data'!$B$69)","v":5},{"$f":"IF('Contractor Test Data'!$J$59=\"\",\"\",'Contractor Test Data'!$J$59)","v":"Max Recording (Lbs.)"}]
[577,{"$f":"IF('Contractor Test Data'!$K$69=\"\",\"\",'Contractor Test Data'!$K$69)","v":""},{"$f":"IF('Contractor Test Data'!$C$53=\"\",\"\",'Contractor Test Data'!$C$53)","v":"Contractor:Tex-448-A"},{"$f":"IF('Contractor Test Data'!$B$69=\"\",\"\",'Contractor Test Data'!$B$69)","v":5},{"$f":"IF('Contractor Test Data'!$K$59=\"\",\"\",'Contractor Test Data'!$K$59)","v":"*Failure Location (inches)"}]
[578,{"$f":"IF('Contractor Test Data'!$L$69=\"\",\"\",'Contractor Test Data'!$L$69)","v":""},{"$f":"IF('Contractor Test Data'!$C$53=\"\",\"\",'Contractor Test Data'!$C$53)","v":"Contractor:Tex-448-A"},{"$f":"IF('Contractor Test Data'!$B$69=\"\",\"\",'Contractor Test Data'!$B$69)","v":5},{"$f":"IF('Contractor Test Data'!$L$59=\"\",\"\",'Contractor Test Data'!$L$59)","v":"Modulus of Rupture (psi)"}]
[579,{"$f":"IF('Contractor Test Data'!$M$69=\"\",\"\",'Contractor Test Data'!$M$69)","v":""},{"$f":"IF('Contractor Test Data'!$C$53=\"\",\"\",'Contractor Test Data'!$C$53)","v":"Contractor:Tex-448-A"},{"$f":"IF('Contractor Test Data'!$B$69=\"\",\"\",'Contractor Test Data'!$B$69)","v":5},{"$f":"IF('Contractor Test Data'!$M$59=\"\",\"\",'Contractor Test Data'!$M$59)","v":"Modulus of Rupture (avg) (psi)"}]
[580,{"$f":"IF('Contractor Test Data'!$N$69=\"\",\"\",'Contractor Test Data'!$N$69)","v":""},{"$f":"IF('Contractor Test Data'!$C$53=\"\",\"\",'Contractor Test Data'!$C$53)","v":"Contractor:Tex-448-A"},{"$f":"IF('Contractor Test Data'!$B$69=\"\",\"\",'Contractor Test Data'!$B$69)","v":5},{"$f":"IF('Contractor Test Data'!$N$59=\"\",\"\",'Contractor Test Data'!$N$59)","v":"Meets Job Control Strength"}]
[581,{"$f":"IF('Contractor Test Data'!$F$70=\"\",\"\",'Contractor Test Data'!$F$70)","v":""},{"$f":"IF('Contractor Test Data'!$C$53=\"\",\"\",'Contractor Test Data'!$C$53)","v":"Contractor:Tex-448-A"},{"$f":"IF('Contractor Test Data'!$B$69=\"\",\"\",'Contractor Test Data'!$B$69)","v":5},{"$f":"IF('Contractor Test Data'!$F$59=\"\",\"\",'Contractor Test Data'!$F$59)","v":"Beam Number"}]
[582,{"$f":"IF('Contractor Test Data'!$G$70=\"\",\"\",'Contractor Test Data'!$G$70)","v":""},{"$f":"IF('Contractor Test Data'!$C$53=\"\",\"\",'Contractor Test Data'!$C$53)","v":"Contractor:Tex-448-A"},{"$f":"IF('Contractor Test Data'!$B$69=\"\",\"\",'Contractor Test Data'!$B$69)","v":5},{"$f":"IF('Contractor Test Data'!$G$59=\"\",\"\",'Contractor Test Data'!$G$59)","v":"Width of Beam (inches)"}]
[583,{"$f":"IF('Contractor Test Data'!$H$70=\"\",\"\",'Contractor Test Data'!$H$70)","v":""},{"$f":"IF('Contractor Test Data'!$C$53=\"\",\"\",'Contractor Test Data'!$C$53)","v":"Contractor:Tex-448-A"},{"$f":"IF('Contractor Test Data'!$B$69=\"\",\"\",'Contractor Test Data'!$B$69)","v":5},{"$f":"IF('Contractor Test Data'!$H$59=\"\",\"\",'Contractor Test Data'!$H$59)","v":"Depth of Beam  (inches)"}]
[584,{"$f":"IF('Contractor Test Data'!$I$70=\"\",\"\",'Contractor Test Data'!$I$70)","v":""},{"$f":"IF('Contractor Test Data'!$C$53=\"\",\"\",'Contractor Test Data'!$C$53)","v":"Contractor:Tex-448-A"},{"$f":"IF('Contractor Test Data'!$B$69=\"\",\"\",'Contractor Test Data'!$B$69)","v":5},{"$f":"IF('Contractor Test Data'!$I$59=\"\",\"\",'Contractor Test Data'!$I$59)","v":"Span Length  (inches)"}]
[585,{"$f":"IF('Contractor Test Data'!$J$70=\"\",\"\",'Contractor Test Data'!$J$70)","v":""},{"$f":"IF('Contractor Test Data'!$C$53=\"\",\"\",'Contractor Test Data'!$C$53)","v":"Contractor:Tex-448-A"},{"$f":"IF('Contractor Test Data'!$B$69=\"\",\"\",'Contractor Test Data'!$B$69)","v":5},{"$f":"IF('Contractor Test Data'!$J$59=\"\",\"\",'Contractor Test Data'!$J$59)","v":"Max Recording (Lbs.)"}]
[586,{"$f":"IF('Contractor Test Data'!$K$70=\"\",\"\",'Contractor Test Data'!$K$70)","v":""},{"$f":"IF('Contractor Test Data'!$C$53=\"\",\"\",'Contractor Test Data'!$C$53)","v":"Contractor:Tex-448-A"},{"$f":"IF('Contractor Test Data'!$B$69=\"\",\"\",'Contractor Test Data'!$B$69)","v":5},{"$f":"IF('Contractor Test Data'!$K$59=\"\",\"\",'Contractor Test Data'!$K$59)","v":"*Failure Location (inches)"}]
[587,{"$f":"IF('Contractor Test Data'!$L$70=\"\",\"\",'Contractor Test Data'!$L$70)","v":""},{"$f":"IF('Contractor Test Data'!$C$53=\"\",\"\",'Contractor Test Data'!$C$53)","v":"Contractor:Tex-448-A"},{"$f":"IF('Contractor Test Data'!$B$69=\"\",\"\",'Contractor Test Data'!$B$69)","v":5},{"$f":"IF('Contractor Test Data'!$L$59=\"\",\"\",'Contractor Test Data'!$L$59)","v":"Modulus of Rupture (psi)"}]
[588,{"$f":"IF('Contractor Test Data'!$F$71=\"\",\"\",'Contractor Test Data'!$F$71)","v":""},{"$f":"IF('Contractor Test Data'!$C$53=\"\",\"\",'Contractor Test Data'!$C$53)","v":"Contractor:Tex-448-A"},{"$f":"IF('Contractor Test Data'!$B$71=\"\",\"\",'Contractor Test Data'!$B$71)","v":6},{"$f":"IF('Contractor Test Data'!$F$59=\"\",\"\",'Contractor Test Data'!$F$59)","v":"Beam Number"}]
[589,{"$f":"IF('Contractor Test Data'!$D$71=\"\",\"\",'Contractor Test Data'!$D$71)","v":""},{"$f":"IF('Contractor Test Data'!$C$53=\"\",\"\",'Contractor Test Data'!$C$53)","v":"Contractor:Tex-448-A"},{"$f":"IF('Contractor Test Data'!$B$71=\"\",\"\",'Contractor Test Data'!$B$71)","v":6},{"$f":"IF('Contractor Test Data'!$D$59=\"\",\"\",'Contractor Test Data'!$D$59)","v":"Station"}]
[590,{"$f":"IF('Contractor Test Data'!$E$71=\"\",\"\",'Contractor Test Data'!$E$71)","v":""},{"$f":"IF('Contractor Test Data'!$C$53=\"\",\"\",'Contractor Test Data'!$C$53)","v":"Contractor:Tex-448-A"},{"$f":"IF('Contractor Test Data'!$B$71=\"\",\"\",'Contractor Test Data'!$B$71)","v":6},{"$f":"IF('Contractor Test Data'!$E$59=\"\",\"\",'Contractor Test Data'!$E$59)","v":"Age (Days)"}]
[591,{"$f":"IF('Contractor Test Data'!$G$71=\"\",\"\",'Contractor Test Data'!$G$71)","v":""},{"$f":"IF('Contractor Test Data'!$C$53=\"\",\"\",'Contractor Test Data'!$C$53)","v":"Contractor:Tex-448-A"},{"$f":"IF('Contractor Test Data'!$B$71=\"\",\"\",'Contractor Test Data'!$B$71)","v":6},{"$f":"IF('Contractor Test Data'!$G$59=\"\",\"\",'Contractor Test Data'!$G$59)","v":"Width of Beam (inches)"}]
[592,{"$f":"IF('Contractor Test Data'!$H$71=\"\",\"\",'Contractor Test Data'!$H$71)","v":""},{"$f":"IF('Contractor Test Data'!$C$53=\"\",\"\",'Contractor Test Data'!$C$53)","v":"Contractor:Tex-448-A"},{"$f":"IF('Contractor Test Data'!$B$71=\"\",\"\",'Contractor Test Data'!$B$71)","v":6},{"$f":"IF('Contractor Test Data'!$H$59=\"\",\"\",'Contractor Test Data'!$H$59)","v":"Depth of Beam  (inches)"}]
[593,{"$f":"IF('Contractor Test Data'!$I$71=\"\",\"\",'Contractor Test Data'!$I$71)","v":""},{"$f":"IF('Contractor Test Data'!$C$53=\"\",\"\",'Contractor Test Data'!$C$53)","v":"Contractor:Tex-448-A"},{"$f":"IF('Contractor Test Data'!$B$71=\"\",\"\",'Contractor Test Data'!$B$71)","v":6},{"$f":"IF('Contractor Test Data'!$I$59=\"\",\"\",'Contractor Test Data'!$I$59)","v":"Span Length  (inches)"}]
[594,{"$f":"IF('Contractor Test Data'!$J$71=\"\",\"\",'Contractor Test Data'!$J$71)","v":""},{"$f":"IF('Contractor Test Data'!$C$53=\"\",\"\",'Contractor Test Data'!$C$53)","v":"Contractor:Tex-448-A"},{"$f":"IF('Contractor Test Data'!$B$71=\"\",\"\",'Contractor Test Data'!$B$71)","v":6},{"$f":"IF('Contractor Test Data'!$J$59=\"\",\"\",'Contractor Test Data'!$J$59)","v":"Max Recording (Lbs.)"}]
[595,{"$f":"IF('Contractor Test Data'!$K$71=\"\",\"\",'Contractor Test Data'!$K$71)","v":""},{"$f":"IF('Contractor Test Data'!$C$53=\"\",\"\",'Contractor Test Data'!$C$53)","v":"Contractor:Tex-448-A"},{"$f":"IF('Contractor Test Data'!$B$71=\"\",\"\",'Contractor Test Data'!$B$71)","v":6},{"$f":"IF('Contractor Test Data'!$K$59=\"\",\"\",'Contractor Test Data'!$K$59)","v":"*Failure Location (inches)"}]
[596,{"$f":"IF('Contractor Test Data'!$L$71=\"\",\"\",'Contractor Test Data'!$L$71)","v":""},{"$f":"IF('Contractor Test Data'!$C$53=\"\",\"\",'Contractor Test Data'!$C$53)","v":"Contractor:Tex-448-A"},{"$f":"IF('Contractor Test Data'!$B$71=\"\",\"\",'Contractor Test Data'!$B$71)","v":6},{"$f":"IF('Contractor Test Data'!$L$59=\"\",\"\",'Contractor Test Data'!$L$59)","v":"Modulus of Rupture (psi)"}]
[597,{"$f":"IF('Contractor Test Data'!$M$71=\"\",\"\",'Contractor Test Data'!$M$71)","v":""},{"$f":"IF('Contractor Test Data'!$C$53=\"\",\"\",'Contractor Test Data'!$C$53)","v":"Contractor:Tex-448-A"},{"$f":"IF('Contractor Test Data'!$B$71=\"\",\"\",'Contractor Test Data'!$B$71)","v":6},{"$f":"IF('Contractor Test Data'!$M$59=\"\",\"\",'Contractor Test Data'!$M$59)","v":"Modulus of Rupture (avg) (psi)"}]
[598,{"$f":"IF('Contractor Test Data'!$N$71=\"\",\"\",'Contractor Test Data'!$N$71)","v":""},{"$f":"IF('Contractor Test Data'!$C$53=\"\",\"\",'Contractor Test Data'!$C$53)","v":"Contractor:Tex-448-A"},{"$f":"IF('Contractor Test Data'!$B$71=\"\",\"\",'Contractor Test Data'!$B$71)","v":6},{"$f":"IF('Contractor Test Data'!$N$59=\"\",\"\",'Contractor Test Data'!$N$59)","v":"Meets Job Control Strength"}]
[599,{"$f":"IF('Contractor Test Data'!$F$72=\"\",\"\",'Contractor Test Data'!$F$72)","v":""},{"$f":"IF('Contractor Test Data'!$C$53=\"\",\"\",'Contractor Test Data'!$C$53)","v":"Contractor:Tex-448-A"},{"$f":"IF('Contractor Test Data'!$B$71=\"\",\"\",'Contractor Test Data'!$B$71)","v":6},{"$f":"IF('Contractor Test Data'!$F$59=\"\",\"\",'Contractor Test Data'!$F$59)","v":"Beam Number"}]
[600,{"$f":"IF('Contractor Test Data'!$G$72=\"\",\"\",'Contractor Test Data'!$G$72)","v":""},{"$f":"IF('Contractor Test Data'!$C$53=\"\",\"\",'Contractor Test Data'!$C$53)","v":"Contractor:Tex-448-A"},{"$f":"IF('Contractor Test Data'!$B$71=\"\",\"\",'Contractor Test Data'!$B$71)","v":6},{"$f":"IF('Contractor Test Data'!$G$59=\"\",\"\",'Contractor Test Data'!$G$59)","v":"Width of Beam (inches)"}]
[601,{"$f":"IF('Contractor Test Data'!$H$72=\"\",\"\",'Contractor Test Data'!$H$72)","v":""},{"$f":"IF('Contractor Test Data'!$C$53=\"\",\"\",'Contractor Test Data'!$C$53)","v":"Contractor:Tex-448-A"},{"$f":"IF('Contractor Test Data'!$B$71=\"\",\"\",'Contractor Test Data'!$B$71)","v":6},{"$f":"IF('Contractor Test Data'!$H$59=\"\",\"\",'Contractor Test Data'!$H$59)","v":"Depth of Beam  (inches)"}]
[602,{"$f":"IF('Contractor Test Data'!$I$72=\"\",\"\",'Contractor Test Data'!$I$72)","v":""},{"$f":"IF('Contractor Test Data'!$C$53=\"\",\"\",'Contractor Test Data'!$C$53)","v":"Contractor:Tex-448-A"},{"$f":"IF('Contractor Test Data'!$B$71=\"\",\"\",'Contractor Test Data'!$B$71)","v":6},{"$f":"IF('Contractor Test Data'!$I$59=\"\",\"\",'Contractor Test Data'!$I$59)","v":"Span Length  (inches)"}]
[603,{"$f":"IF('Contractor Test Data'!$J$72=\"\",\"\",'Contractor Test Data'!$J$72)","v":""},{"$f":"IF('Contractor Test Data'!$C$53=\"\",\"\",'Contractor Test Data'!$C$53)","v":"Contractor:Tex-448-A"},{"$f":"IF('Contractor Test Data'!$B$71=\"\",\"\",'Contractor Test Data'!$B$71)","v":6},{"$f":"IF('Contractor Test Data'!$J$59=\"\",\"\",'Contractor Test Data'!$J$59)","v":"Max Recording (Lbs.)"}]
[604,{"$f":"IF('Contractor Test Data'!$K$72=\"\",\"\",'Contractor Test Data'!$K$72)","v":""},{"$f":"IF('Contractor Test Data'!$C$53=\"\",\"\",'Contractor Test Data'!$C$53)","v":"Contractor:Tex-448-A"},{"$f":"IF('Contractor Test Data'!$B$71=\"\",\"\",'Contractor Test Data'!$B$71)","v":6},{"$f":"IF('Contractor Test Data'!$K$59=\"\",\"\",'Contractor Test Data'!$K$59)","v":"*Failure Location (inches)"}]
[605,{"$f":"IF('Contractor Test Data'!$L$72=\"\",\"\",'Contractor Test Data'!$L$72)","v":""},{"$f":"IF('Contractor Test Data'!$C$53=\"\",\"\",'Contractor Test Data'!$C$53)","v":"Contractor:Tex-448-A"},{"$f":"IF('Contractor Test Data'!$B$71=\"\",\"\",'Contractor Test Data'!$B$71)","v":6},{"$f":"IF('Contractor Test Data'!$L$59=\"\",\"\",'Contractor Test Data'!$L$59)","v":"Modulus of Rupture (psi)"}]
[606,{"$f":"IF('Contractor Test Data'!$F$73=\"\",\"\",'Contractor Test Data'!$F$73)","v":""},{"$f":"IF('Contractor Test Data'!$C$53=\"\",\"\",'Contractor Test Data'!$C$53)","v":"Contractor:Tex-448-A"},{"$f":"IF('Contractor Test Data'!$B$73=\"\",\"\",'Contractor Test Data'!$B$73)","v":7},{"$f":"IF('Contractor Test Data'!$F$59=\"\",\"\",'Contractor Test Data'!$F$59)","v":"Beam Number"}]
[607,{"$f":"IF('Contractor Test Data'!$D$73=\"\",\"\",'Contractor Test Data'!$D$73)","v":""},{"$f":"IF('Contractor Test Data'!$C$53=\"\",\"\",'Contractor Test Data'!$C$53)","v":"Contractor:Tex-448-A"},{"$f":"IF('Contractor Test Data'!$B$73=\"\",\"\",'Contractor Test Data'!$B$73)","v":7},{"$f":"IF('Contractor Test Data'!$D$59=\"\",\"\",'Contractor Test Data'!$D$59)","v":"Station"}]
[608,{"$f":"IF('Contractor Test Data'!$E$73=\"\",\"\",'Contractor Test Data'!$E$73)","v":""},{"$f":"IF('Contractor Test Data'!$C$53=\"\",\"\",'Contractor Test Data'!$C$53)","v":"Contractor:Tex-448-A"},{"$f":"IF('Contractor Test Data'!$B$73=\"\",\"\",'Contractor Test Data'!$B$73)","v":7},{"$f":"IF('Contractor Test Data'!$E$59=\"\",\"\",'Contractor Test Data'!$E$59)","v":"Age (Days)"}]
[609,{"$f":"IF('Contractor Test Data'!$G$73=\"\",\"\",'Contractor Test Data'!$G$73)","v":""},{"$f":"IF('Contractor Test Data'!$C$53=\"\",\"\",'Contractor Test Data'!$C$53)","v":"Contractor:Tex-448-A"},{"$f":"IF('Contractor Test Data'!$B$73=\"\",\"\",'Contractor Test Data'!$B$73)","v":7},{"$f":"IF('Contractor Test Data'!$G$59=\"\",\"\",'Contractor Test Data'!$G$59)","v":"Width of Beam (inches)"}]
[610,{"$f":"IF('Contractor Test Data'!$H$73=\"\",\"\",'Contractor Test Data'!$H$73)","v":""},{"$f":"IF('Contractor Test Data'!$C$53=\"\",\"\",'Contractor Test Data'!$C$53)","v":"Contractor:Tex-448-A"},{"$f":"IF('Contractor Test Data'!$B$73=\"\",\"\",'Contractor Test Data'!$B$73)","v":7},{"$f":"IF('Contractor Test Data'!$H$59=\"\",\"\",'Contractor Test Data'!$H$59)","v":"Depth of Beam  (inches)"}]
[611,{"$f":"IF('Contractor Test Data'!$I$73=\"\",\"\",'Contractor Test Data'!$I$73)","v":""},{"$f":"IF('Contractor Test Data'!$C$53=\"\",\"\",'Contractor Test Data'!$C$53)","v":"Contractor:Tex-448-A"},{"$f":"IF('Contractor Test Data'!$B$73=\"\",\"\",'Contractor Test Data'!$B$73)","v":7},{"$f":"IF('Contractor Test Data'!$I$59=\"\",\"\",'Contractor Test Data'!$I$59)","v":"Span Length  (inches)"}]
[612,{"$f":"IF('Contractor Test Data'!$J$73=\"\",\"\",'Contractor Test Data'!$J$73)","v":""},{"$f":"IF('Contractor Test Data'!$C$53=\"\",\"\",'Contractor Test Data'!$C$53)","v":"Contractor:Tex-448-A"},{"$f":"IF('Contractor Test Data'!$B$73=\"\",\"\",'Contractor Test Data'!$B$73)","v":7},{"$f":"IF('Contractor Test Data'!$J$59=\"\",\"\",'Contractor Test Data'!$J$59)","v":"Max Recording (Lbs.)"}]
[613,{"$f":"IF('Contractor Test Data'!$K$73=\"\",\"\",'Contractor Test Data'!$K$73)","v":""},{"$f":"IF('Contractor Test Data'!$C$53=\"\",\"\",'Contractor Test Data'!$C$53)","v":"Contractor:Tex-448-A"},{"$f":"IF('Contractor Test Data'!$B$73=\"\",\"\",'Contractor Test Data'!$B$73)","v":7},{"$f":"IF('Contractor Test Data'!$K$59=\"\",\"\",'Contractor Test Data'!$K$59)","v":"*Failure Location (inches)"}]
[614,{"$f":"IF('Contractor Test Data'!$L$73=\"\",\"\",'Contractor Test Data'!$L$73)","v":""},{"$f":"IF('Contractor Test Data'!$C$53=\"\",\"\",'Contractor Test Data'!$C$53)","v":"Contractor:Tex-448-A"},{"$f":"IF('Contractor Test Data'!$B$73=\"\",\"\",'Contractor Test Data'!$B$73)","v":7},{"$f":"IF('Contractor Test Data'!$L$59=\"\",\"\",'Contractor Test Data'!$L$59)","v":"Modulus of Rupture (psi)"}]
[615,{"$f":"IF('Contractor Test Data'!$M$73=\"\",\"\",'Contractor Test Data'!$M$73)","v":""},{"$f":"IF('Contractor Test Data'!$C$53=\"\",\"\",'Contractor Test Data'!$C$53)","v":"Contractor:Tex-448-A"},{"$f":"IF('Contractor Test Data'!$B$73=\"\",\"\",'Contractor Test Data'!$B$73)","v":7},{"$f":"IF('Contractor Test Data'!$M$59=\"\",\"\",'Contractor Test Data'!$M$59)","v":"Modulus of Rupture (avg) (psi)"}]
[616,{"$f":"IF('Contractor Test Data'!$N$73=\"\",\"\",'Contractor Test Data'!$N$73)","v":""},{"$f":"IF('Contractor Test Data'!$C$53=\"\",\"\",'Contractor Test Data'!$C$53)","v":"Contractor:Tex-448-A"},{"$f":"IF('Contractor Test Data'!$B$73=\"\",\"\",'Contractor Test Data'!$B$73)","v":7},{"$f":"IF('Contractor Test Data'!$N$59=\"\",\"\",'Contractor Test Data'!$N$59)","v":"Meets Job Control Strength"}]
[617,{"$f":"IF('Contractor Test Data'!$F$74=\"\",\"\",'Contractor Test Data'!$F$74)","v":""},{"$f":"IF('Contractor Test Data'!$C$53=\"\",\"\",'Contractor Test Data'!$C$53)","v":"Contractor:Tex-448-A"},{"$f":"IF('Contractor Test Data'!$B$73=\"\",\"\",'Contractor Test Data'!$B$73)","v":7},{"$f":"IF('Contractor Test Data'!$F$59=\"\",\"\",'Contractor Test Data'!$F$59)","v":"Beam Number"}]
[618,{"$f":"IF('Contractor Test Data'!$G$74=\"\",\"\",'Contractor Test Data'!$G$74)","v":""},{"$f":"IF('Contractor Test Data'!$C$53=\"\",\"\",'Contractor Test Data'!$C$53)","v":"Contractor:Tex-448-A"},{"$f":"IF('Contractor Test Data'!$B$73=\"\",\"\",'Contractor Test Data'!$B$73)","v":7},{"$f":"IF('Contractor Test Data'!$G$59=\"\",\"\",'Contractor Test Data'!$G$59)","v":"Width of Beam (inches)"}]
[619,{"$f":"IF('Contractor Test Data'!$H$74=\"\",\"\",'Contractor Test Data'!$H$74)","v":""},{"$f":"IF('Contractor Test Data'!$C$53=\"\",\"\",'Contractor Test Data'!$C$53)","v":"Contractor:Tex-448-A"},{"$f":"IF('Contractor Test Data'!$B$73=\"\",\"\",'Contractor Test Data'!$B$73)","v":7},{"$f":"IF('Contractor Test Data'!$H$59=\"\",\"\",'Contractor Test Data'!$H$59)","v":"Depth of Beam  (inches)"}]
[620,{"$f":"IF('Contractor Test Data'!$I$74=\"\",\"\",'Contractor Test Data'!$I$74)","v":""},{"$f":"IF('Contractor Test Data'!$C$53=\"\",\"\",'Contractor Test Data'!$C$53)","v":"Contractor:Tex-448-A"},{"$f":"IF('Contractor Test Data'!$B$73=\"\",\"\",'Contractor Test Data'!$B$73)","v":7},{"$f":"IF('Contractor Test Data'!$I$59=\"\",\"\",'Contractor Test Data'!$I$59)","v":"Span Length  (inches)"}]
[621,{"$f":"IF('Contractor Test Data'!$J$74=\"\",\"\",'Contractor Test Data'!$J$74)","v":""},{"$f":"IF('Contractor Test Data'!$C$53=\"\",\"\",'Contractor Test Data'!$C$53)","v":"Contractor:Tex-448-A"},{"$f":"IF('Contractor Test Data'!$B$73=\"\",\"\",'Contractor Test Data'!$B$73)","v":7},{"$f":"IF('Contractor Test Data'!$J$59=\"\",\"\",'Contractor Test Data'!$J$59)","v":"Max Recording (Lbs.)"}]
[622,{"$f":"IF('Contractor Test Data'!$K$74=\"\",\"\",'Contractor Test Data'!$K$74)","v":""},{"$f":"IF('Contractor Test Data'!$C$53=\"\",\"\",'Contractor Test Data'!$C$53)","v":"Contractor:Tex-448-A"},{"$f":"IF('Contractor Test Data'!$B$73=\"\",\"\",'Contractor Test Data'!$B$73)","v":7},{"$f":"IF('Contractor Test Data'!$K$59=\"\",\"\",'Contractor Test Data'!$K$59)","v":"*Failure Location (inches)"}]
[623,{"$f":"IF('Contractor Test Data'!$L$74=\"\",\"\",'Contractor Test Data'!$L$74)","v":""},{"$f":"IF('Contractor Test Data'!$C$53=\"\",\"\",'Contractor Test Data'!$C$53)","v":"Contractor:Tex-448-A"},{"$f":"IF('Contractor Test Data'!$B$73=\"\",\"\",'Contractor Test Data'!$B$73)","v":7},{"$f":"IF('Contractor Test Data'!$L$59=\"\",\"\",'Contractor Test Data'!$L$59)","v":"Modulus of Rupture (psi)"}]
[624,{"$f":"IF('Contractor Test Data'!$F$75=\"\",\"\",'Contractor Test Data'!$F$75)","v":""},{"$f":"IF('Contractor Test Data'!$C$53=\"\",\"\",'Contractor Test Data'!$C$53)","v":"Contractor:Tex-448-A"},{"$f":"IF('Contractor Test Data'!$B$75=\"\",\"\",'Contractor Test Data'!$B$75)","v":8},{"$f":"IF('Contractor Test Data'!$F$59=\"\",\"\",'Contractor Test Data'!$F$59)","v":"Beam Number"}]
[625,{"$f":"IF('Contractor Test Data'!$D$75=\"\",\"\",'Contractor Test Data'!$D$75)","v":""},{"$f":"IF('Contractor Test Data'!$C$53=\"\",\"\",'Contractor Test Data'!$C$53)","v":"Contractor:Tex-448-A"},{"$f":"IF('Contractor Test Data'!$B$75=\"\",\"\",'Contractor Test Data'!$B$75)","v":8},{"$f":"IF('Contractor Test Data'!$D$59=\"\",\"\",'Contractor Test Data'!$D$59)","v":"Station"}]
[626,{"$f":"IF('Contractor Test Data'!$E$75=\"\",\"\",'Contractor Test Data'!$E$75)","v":""},{"$f":"IF('Contractor Test Data'!$C$53=\"\",\"\",'Contractor Test Data'!$C$53)","v":"Contractor:Tex-448-A"},{"$f":"IF('Contractor Test Data'!$B$75=\"\",\"\",'Contractor Test Data'!$B$75)","v":8},{"$f":"IF('Contractor Test Data'!$E$59=\"\",\"\",'Contractor Test Data'!$E$59)","v":"Age (Days)"}]
[627,{"$f":"IF('Contractor Test Data'!$G$75=\"\",\"\",'Contractor Test Data'!$G$75)","v":""},{"$f":"IF('Contractor Test Data'!$C$53=\"\",\"\",'Contractor Test Data'!$C$53)","v":"Contractor:Tex-448-A"},{"$f":"IF('Contractor Test Data'!$B$75=\"\",\"\",'Contractor Test Data'!$B$75)","v":8},{"$f":"IF('Contractor Test Data'!$G$59=\"\",\"\",'Contractor Test Data'!$G$59)","v":"Width of Beam (inches)"}]
[628,{"$f":"IF('Contractor Test Data'!$H$75=\"\",\"\",'Contractor Test Data'!$H$75)","v":""},{"$f":"IF('Contractor Test Data'!$C$53=\"\",\"\",'Contractor Test Data'!$C$53)","v":"Contractor:Tex-448-A"},{"$f":"IF('Contractor Test Data'!$B$75=\"\",\"\",'Contractor Test Data'!$B$75)","v":8},{"$f":"IF('Contractor Test Data'!$H$59=\"\",\"\",'Contractor Test Data'!$H$59)","v":"Depth of Beam  (inches)"}]
[629,{"$f":"IF('Contractor Test Data'!$I$75=\"\",\"\",'Contractor Test Data'!$I$75)","v":""},{"$f":"IF('Contractor Test Data'!$C$53=\"\",\"\",'Contractor Test Data'!$C$53)","v":"Contractor:Tex-448-A"},{"$f":"IF('Contractor Test Data'!$B$75=\"\",\"\",'Contractor Test Data'!$B$75)","v":8},{"$f":"IF('Contractor Test Data'!$I$59=\"\",\"\",'Contractor Test Data'!$I$59)","v":"Span Length  (inches)"}]
[630,{"$f":"IF('Contractor Test Data'!$J$75=\"\",\"\",'Contractor Test Data'!$J$75)","v":""},{"$f":"IF('Contractor Test Data'!$C$53=\"\",\"\",'Contractor Test Data'!$C$53)","v":"Contractor:Tex-448-A"},{"$f":"IF('Contractor Test Data'!$B$75=\"\",\"\",'Contractor Test Data'!$B$75)","v":8},{"$f":"IF('Contractor Test Data'!$J$59=\"\",\"\",'Contractor Test Data'!$J$59)","v":"Max Recording (Lbs.)"}]
[631,{"$f":"IF('Contractor Test Data'!$K$75=\"\",\"\",'Contractor Test Data'!$K$75)","v":""},{"$f":"IF('Contractor Test Data'!$C$53=\"\",\"\",'Contractor Test Data'!$C$53)","v":"Contractor:Tex-448-A"},{"$f":"IF('Contractor Test Data'!$B$75=\"\",\"\",'Contractor Test Data'!$B$75)","v":8},{"$f":"IF('Contractor Test Data'!$K$59=\"\",\"\",'Contractor Test Data'!$K$59)","v":"*Failure Location (inches)"}]
[632,{"$f":"IF('Contractor Test Data'!$L$75=\"\",\"\",'Contractor Test Data'!$L$75)","v":""},{"$f":"IF('Contractor Test Data'!$C$53=\"\",\"\",'Contractor Test Data'!$C$53)","v":"Contractor:Tex-448-A"},{"$f":"IF('Contractor Test Data'!$B$75=\"\",\"\",'Contractor Test Data'!$B$75)","v":8},{"$f":"IF('Contractor Test Data'!$L$59=\"\",\"\",'Contractor Test Data'!$L$59)","v":"Modulus of Rupture (psi)"}]
[633,{"$f":"IF('Contractor Test Data'!$M$75=\"\",\"\",'Contractor Test Data'!$M$75)","v":""},{"$f":"IF('Contractor Test Data'!$C$53=\"\",\"\",'Contractor Test Data'!$C$53)","v":"Contractor:Tex-448-A"},{"$f":"IF('Contractor Test Data'!$B$75=\"\",\"\",'Contractor Test Data'!$B$75)","v":8},{"$f":"IF('Contractor Test Data'!$M$59=\"\",\"\",'Contractor Test Data'!$M$59)","v":"Modulus of Rupture (avg) (psi)"}]
[634,{"$f":"IF('Contractor Test Data'!$N$75=\"\",\"\",'Contractor Test Data'!$N$75)","v":""},{"$f":"IF('Contractor Test Data'!$C$53=\"\",\"\",'Contractor Test Data'!$C$53)","v":"Contractor:Tex-448-A"},{"$f":"IF('Contractor Test Data'!$B$75=\"\",\"\",'Contractor Test Data'!$B$75)","v":8},{"$f":"IF('Contractor Test Data'!$N$59=\"\",\"\",'Contractor Test Data'!$N$59)","v":"Meets Job Control Strength"}]
[635,{"$f":"IF('Contractor Test Data'!$F$76=\"\",\"\",'Contractor Test Data'!$F$76)","v":""},{"$f":"IF('Contractor Test Data'!$C$53=\"\",\"\",'Contractor Test Data'!$C$53)","v":"Contractor:Tex-448-A"},{"$f":"IF('Contractor Test Data'!$B$75=\"\",\"\",'Contractor Test Data'!$B$75)","v":8},{"$f":"IF('Contractor Test Data'!$F$59=\"\",\"\",'Contractor Test Data'!$F$59)","v":"Beam Number"}]
[636,{"$f":"IF('Contractor Test Data'!$G$76=\"\",\"\",'Contractor Test Data'!$G$76)","v":""},{"$f":"IF('Contractor Test Data'!$C$53=\"\",\"\",'Contractor Test Data'!$C$53)","v":"Contractor:Tex-448-A"},{"$f":"IF('Contractor Test Data'!$B$75=\"\",\"\",'Contractor Test Data'!$B$75)","v":8},{"$f":"IF('Contractor Test Data'!$G$59=\"\",\"\",'Contractor Test Data'!$G$59)","v":"Width of Beam (inches)"}]
[637,{"$f":"IF('Contractor Test Data'!$H$76=\"\",\"\",'Contractor Test Data'!$H$76)","v":""},{"$f":"IF('Contractor Test Data'!$C$53=\"\",\"\",'Contractor Test Data'!$C$53)","v":"Contractor:Tex-448-A"},{"$f":"IF('Contractor Test Data'!$B$75=\"\",\"\",'Contractor Test Data'!$B$75)","v":8},{"$f":"IF('Contractor Test Data'!$H$59=\"\",\"\",'Contractor Test Data'!$H$59)","v":"Depth of Beam  (inches)"}]
[638,{"$f":"IF('Contractor Test Data'!$I$76=\"\",\"\",'Contractor Test Data'!$I$76)","v":""},{"$f":"IF('Contractor Test Data'!$C$53=\"\",\"\",'Contractor Test Data'!$C$53)","v":"Contractor:Tex-448-A"},{"$f":"IF('Contractor Test Data'!$B$75=\"\",\"\",'Contractor Test Data'!$B$75)","v":8},{"$f":"IF('Contractor Test Data'!$I$59=\"\",\"\",'Contractor Test Data'!$I$59)","v":"Span Length  (inches)"}]
[639,{"$f":"IF('Contractor Test Data'!$J$76=\"\",\"\",'Contractor Test Data'!$J$76)","v":""},{"$f":"IF('Contractor Test Data'!$C$53=\"\",\"\",'Contractor Test Data'!$C$53)","v":"Contractor:Tex-448-A"},{"$f":"IF('Contractor Test Data'!$B$75=\"\",\"\",'Contractor Test Data'!$B$75)","v":8},{"$f":"IF('Contractor Test Data'!$J$59=\"\",\"\",'Contractor Test Data'!$J$59)","v":"Max Recording (Lbs.)"}]
[640,{"$f":"IF('Contractor Test Data'!$K$76=\"\",\"\",'Contractor Test Data'!$K$76)","v":""},{"$f":"IF('Contractor Test Data'!$C$53=\"\",\"\",'Contractor Test Data'!$C$53)","v":"Contractor:Tex-448-A"},{"$f":"IF('Contractor Test Data'!$B$75=\"\",\"\",'Contractor Test Data'!$B$75)","v":8},{"$f":"IF('Contractor Test Data'!$K$59=\"\",\"\",'Contractor Test Data'!$K$59)","v":"*Failure Location (inches)"}]
[641,{"$f":"IF('Contractor Test Data'!$L$76=\"\",\"\",'Contractor Test Data'!$L$76)","v":""},{"$f":"IF('Contractor Test Data'!$C$53=\"\",\"\",'Contractor Test Data'!$C$53)","v":"Contractor:Tex-448-A"},{"$f":"IF('Contractor Test Data'!$B$75=\"\",\"\",'Contractor Test Data'!$B$75)","v":8},{"$f":"IF('Contractor Test Data'!$L$59=\"\",\"\",'Contractor Test Data'!$L$59)","v":"Modulus of Rupture (psi)"}]
[642,{"$f":"IF('Contractor Test Data'!$F$77=\"\",\"\",'Contractor Test Data'!$F$77)","v":""},{"$f":"IF('Contractor Test Data'!$C$53=\"\",\"\",'Contractor Test Data'!$C$53)","v":"Contractor:Tex-448-A"},{"$f":"IF('Contractor Test Data'!$B$77=\"\",\"\",'Contractor Test Data'!$B$77)","v":9},{"$f":"IF('Contractor Test Data'!$F$59=\"\",\"\",'Contractor Test Data'!$F$59)","v":"Beam Number"}]
[643,{"$f":"IF('Contractor Test Data'!$D$77=\"\",\"\",'Contractor Test Data'!$D$77)","v":""},{"$f":"IF('Contractor Test Data'!$C$53=\"\",\"\",'Contractor Test Data'!$C$53)","v":"Contractor:Tex-448-A"},{"$f":"IF('Contractor Test Data'!$B$77=\"\",\"\",'Contractor Test Data'!$B$77)","v":9},{"$f":"IF('Contractor Test Data'!$D$59=\"\",\"\",'Contractor Test Data'!$D$59)","v":"Station"}]
[644,{"$f":"IF('Contractor Test Data'!$E$77=\"\",\"\",'Contractor Test Data'!$E$77)","v":""},{"$f":"IF('Contractor Test Data'!$C$53=\"\",\"\",'Contractor Test Data'!$C$53)","v":"Contractor:Tex-448-A"},{"$f":"IF('Contractor Test Data'!$B$77=\"\",\"\",'Contractor Test Data'!$B$77)","v":9},{"$f":"IF('Contractor Test Data'!$E$59=\"\",\"\",'Contractor Test Data'!$E$59)","v":"Age (Days)"}]
[645,{"$f":"IF('Contractor Test Data'!$G$77=\"\",\"\",'Contractor Test Data'!$G$77)","v":""},{"$f":"IF('Contractor Test Data'!$C$53=\"\",\"\",'Contractor Test Data'!$C$53)","v":"Contractor:Tex-448-A"},{"$f":"IF('Contractor Test Data'!$B$77=\"\",\"\",'Contractor Test Data'!$B$77)","v":9},{"$f":"IF('Contractor Test Data'!$G$59=\"\",\"\",'Contractor Test Data'!$G$59)","v":"Width of Beam (inches)"}]
[646,{"$f":"IF('Contractor Test Data'!$H$77=\"\",\"\",'Contractor Test Data'!$H$77)","v":""},{"$f":"IF('Contractor Test Data'!$C$53=\"\",\"\",'Contractor Test Data'!$C$53)","v":"Contractor:Tex-448-A"},{"$f":"IF('Contractor Test Data'!$B$77=\"\",\"\",'Contractor Test Data'!$B$77)","v":9},{"$f":"IF('Contractor Test Data'!$H$59=\"\",\"\",'Contractor Test Data'!$H$59)","v":"Depth of Beam  (inches)"}]
[647,{"$f":"IF('Contractor Test Data'!$I$77=\"\",\"\",'Contractor Test Data'!$I$77)","v":""},{"$f":"IF('Contractor Test Data'!$C$53=\"\",\"\",'Contractor Test Data'!$C$53)","v":"Contractor:Tex-448-A"},{"$f":"IF('Contractor Test Data'!$B$77=\"\",\"\",'Contractor Test Data'!$B$77)","v":9},{"$f":"IF('Contractor Test Data'!$I$59=\"\",\"\",'Contractor Test Data'!$I$59)","v":"Span Length  (inches)"}]
[648,{"$f":"IF('Contractor Test Data'!$J$77=\"\",\"\",'Contractor Test Data'!$J$77)","v":""},{"$f":"IF('Contractor Test Data'!$C$53=\"\",\"\",'Contractor Test Data'!$C$53)","v":"Contractor:Tex-448-A"},{"$f":"IF('Contractor Test Data'!$B$77=\"\",\"\",'Contractor Test Data'!$B$77)","v":9},{"$f":"IF('Contractor Test Data'!$J$59=\"\",\"\",'Contractor Test Data'!$J$59)","v":"Max Recording (Lbs.)"}]
[649,{"$f":"IF('Contractor Test Data'!$K$77=\"\",\"\",'Contractor Test Data'!$K$77)","v":""},{"$f":"IF('Contractor Test Data'!$C$53=\"\",\"\",'Contractor Test Data'!$C$53)","v":"Contractor:Tex-448-A"},{"$f":"IF('Contractor Test Data'!$B$77=\"\",\"\",'Contractor Test Data'!$B$77)","v":9},{"$f":"IF('Contractor Test Data'!$K$59=\"\",\"\",'Contractor Test Data'!$K$59)","v":"*Failure Location (inches)"}]
[650,{"$f":"IF('Contractor Test Data'!$L$77=\"\",\"\",'Contractor Test Data'!$L$77)","v":""},{"$f":"IF('Contractor Test Data'!$C$53=\"\",\"\",'Contractor Test Data'!$C$53)","v":"Contractor:Tex-448-A"},{"$f":"IF('Contractor Test Data'!$B$77=\"\",\"\",'Contractor Test Data'!$B$77)","v":9},{"$f":"IF('Contractor Test Data'!$L$59=\"\",\"\",'Contractor Test Data'!$L$59)","v":"Modulus of Rupture (psi)"}]
[651,{"$f":"IF('Contractor Test Data'!$M$77=\"\",\"\",'Contractor Test Data'!$M$77)","v":""},{"$f":"IF('Contractor Test Data'!$C$53=\"\",\"\",'Contractor Test Data'!$C$53)","v":"Contractor:Tex-448-A"},{"$f":"IF('Contractor Test Data'!$B$77=\"\",\"\",'Contractor Test Data'!$B$77)","v":9},{"$f":"IF('Contractor Test Data'!$M$59=\"\",\"\",'Contractor Test Data'!$M$59)","v":"Modulus of Rupture (avg) (psi)"}]
[652,{"$f":"IF('Contractor Test Data'!$N$77=\"\",\"\",'Contractor Test Data'!$N$77)","v":""},{"$f":"IF('Contractor Test Data'!$C$53=\"\",\"\",'Contractor Test Data'!$C$53)","v":"Contractor:Tex-448-A"},{"$f":"IF('Contractor Test Data'!$B$77=\"\",\"\",'Contractor Test Data'!$B$77)","v":9},{"$f":"IF('Contractor Test Data'!$N$59=\"\",\"\",'Contractor Test Data'!$N$59)","v":"Meets Job Control Strength"}]
[653,{"$f":"IF('Contractor Test Data'!$F$78=\"\",\"\",'Contractor Test Data'!$F$78)","v":""},{"$f":"IF('Contractor Test Data'!$C$53=\"\",\"\",'Contractor Test Data'!$C$53)","v":"Contractor:Tex-448-A"},{"$f":"IF('Contractor Test Data'!$B$77=\"\",\"\",'Contractor Test Data'!$B$77)","v":9},{"$f":"IF('Contractor Test Data'!$F$59=\"\",\"\",'Contractor Test Data'!$F$59)","v":"Beam Number"}]
[654,{"$f":"IF('Contractor Test Data'!$G$78=\"\",\"\",'Contractor Test Data'!$G$78)","v":""},{"$f":"IF('Contractor Test Data'!$C$53=\"\",\"\",'Contractor Test Data'!$C$53)","v":"Contractor:Tex-448-A"},{"$f":"IF('Contractor Test Data'!$B$77=\"\",\"\",'Contractor Test Data'!$B$77)","v":9},{"$f":"IF('Contractor Test Data'!$G$59=\"\",\"\",'Contractor Test Data'!$G$59)","v":"Width of Beam (inches)"}]
[655,{"$f":"IF('Contractor Test Data'!$H$78=\"\",\"\",'Contractor Test Data'!$H$78)","v":""},{"$f":"IF('Contractor Test Data'!$C$53=\"\",\"\",'Contractor Test Data'!$C$53)","v":"Contractor:Tex-448-A"},{"$f":"IF('Contractor Test Data'!$B$77=\"\",\"\",'Contractor Test Data'!$B$77)","v":9},{"$f":"IF('Contractor Test Data'!$H$59=\"\",\"\",'Contractor Test Data'!$H$59)","v":"Depth of Beam  (inches)"}]
[656,{"$f":"IF('Contractor Test Data'!$I$78=\"\",\"\",'Contractor Test Data'!$I$78)","v":""},{"$f":"IF('Contractor Test Data'!$C$53=\"\",\"\",'Contractor Test Data'!$C$53)","v":"Contractor:Tex-448-A"},{"$f":"IF('Contractor Test Data'!$B$77=\"\",\"\",'Contractor Test Data'!$B$77)","v":9},{"$f":"IF('Contractor Test Data'!$I$59=\"\",\"\",'Contractor Test Data'!$I$59)","v":"Span Length  (inches)"}]
[657,{"$f":"IF('Contractor Test Data'!$J$78=\"\",\"\",'Contractor Test Data'!$J$78)","v":""},{"$f":"IF('Contractor Test Data'!$C$53=\"\",\"\",'Contractor Test Data'!$C$53)","v":"Contractor:Tex-448-A"},{"$f":"IF('Contractor Test Data'!$B$77=\"\",\"\",'Contractor Test Data'!$B$77)","v":9},{"$f":"IF('Contractor Test Data'!$J$59=\"\",\"\",'Contractor Test Data'!$J$59)","v":"Max Recording (Lbs.)"}]
[658,{"$f":"IF('Contractor Test Data'!$K$78=\"\",\"\",'Contractor Test Data'!$K$78)","v":""},{"$f":"IF('Contractor Test Data'!$C$53=\"\",\"\",'Contractor Test Data'!$C$53)","v":"Contractor:Tex-448-A"},{"$f":"IF('Contractor Test Data'!$B$77=\"\",\"\",'Contractor Test Data'!$B$77)","v":9},{"$f":"IF('Contractor Test Data'!$K$59=\"\",\"\",'Contractor Test Data'!$K$59)","v":"*Failure Location (inches)"}]
[659,{"$f":"IF('Contractor Test Data'!$L$78=\"\",\"\",'Contractor Test Data'!$L$78)","v":""},{"$f":"IF('Contractor Test Data'!$C$53=\"\",\"\",'Contractor Test Data'!$C$53)","v":"Contractor:Tex-448-A"},{"$f":"IF('Contractor Test Data'!$B$77=\"\",\"\",'Contractor Test Data'!$B$77)","v":9},{"$f":"IF('Contractor Test Data'!$L$59=\"\",\"\",'Contractor Test Data'!$L$59)","v":"Modulus of Rupture (psi)"}]
[660,{"$f":"IF('Contractor Test Data'!$F$79=\"\",\"\",'Contractor Test Data'!$F$79)","v":""},{"$f":"IF('Contractor Test Data'!$C$53=\"\",\"\",'Contractor Test Data'!$C$53)","v":"Contractor:Tex-448-A"},{"$f":"IF('Contractor Test Data'!$B$79=\"\",\"\",'Contractor Test Data'!$B$79)","v":10},{"$f":"IF('Contractor Test Data'!$F$59=\"\",\"\",'Contractor Test Data'!$F$59)","v":"Beam Number"}]
[661,{"$f":"IF('Contractor Test Data'!$D$79=\"\",\"\",'Contractor Test Data'!$D$79)","v":""},{"$f":"IF('Contractor Test Data'!$C$53=\"\",\"\",'Contractor Test Data'!$C$53)","v":"Contractor:Tex-448-A"},{"$f":"IF('Contractor Test Data'!$B$79=\"\",\"\",'Contractor Test Data'!$B$79)","v":10},{"$f":"IF('Contractor Test Data'!$D$59=\"\",\"\",'Contractor Test Data'!$D$59)","v":"Station"}]
[662,{"$f":"IF('Contractor Test Data'!$E$79=\"\",\"\",'Contractor Test Data'!$E$79)","v":""},{"$f":"IF('Contractor Test Data'!$C$53=\"\",\"\",'Contractor Test Data'!$C$53)","v":"Contractor:Tex-448-A"},{"$f":"IF('Contractor Test Data'!$B$79=\"\",\"\",'Contractor Test Data'!$B$79)","v":10},{"$f":"IF('Contractor Test Data'!$E$59=\"\",\"\",'Contractor Test Data'!$E$59)","v":"Age (Days)"}]
[663,{"$f":"IF('Contractor Test Data'!$G$79=\"\",\"\",'Contractor Test Data'!$G$79)","v":""},{"$f":"IF('Contractor Test Data'!$C$53=\"\",\"\",'Contractor Test Data'!$C$53)","v":"Contractor:Tex-448-A"},{"$f":"IF('Contractor Test Data'!$B$79=\"\",\"\",'Contractor Test Data'!$B$79)","v":10},{"$f":"IF('Contractor Test Data'!$G$59=\"\",\"\",'Contractor Test Data'!$G$59)","v":"Width of Beam (inches)"}]
[664,{"$f":"IF('Contractor Test Data'!$H$79=\"\",\"\",'Contractor Test Data'!$H$79)","v":""},{"$f":"IF('Contractor Test Data'!$C$53=\"\",\"\",'Contractor Test Data'!$C$53)","v":"Contractor:Tex-448-A"},{"$f":"IF('Contractor Test Data'!$B$79=\"\",\"\",'Contractor Test Data'!$B$79)","v":10},{"$f":"IF('Contractor Test Data'!$H$59=\"\",\"\",'Contractor Test Data'!$H$59)","v":"Depth of Beam  (inches)"}]
[665,{"$f":"IF('Contractor Test Data'!$I$79=\"\",\"\",'Contractor Test Data'!$I$79)","v":""},{"$f":"IF('Contractor Test Data'!$C$53=\"\",\"\",'Contractor Test Data'!$C$53)","v":"Contractor:Tex-448-A"},{"$f":"IF('Contractor Test Data'!$B$79=\"\",\"\",'Contractor Test Data'!$B$79)","v":10},{"$f":"IF('Contractor Test Data'!$I$59=\"\",\"\",'Contractor Test Data'!$I$59)","v":"Span Length  (inches)"}]
[666,{"$f":"IF('Contractor Test Data'!$J$79=\"\",\"\",'Contractor Test Data'!$J$79)","v":""},{"$f":"IF('Contractor Test Data'!$C$53=\"\",\"\",'Contractor Test Data'!$C$53)","v":"Contractor:Tex-448-A"},{"$f":"IF('Contractor Test Data'!$B$79=\"\",\"\",'Contractor Test Data'!$B$79)","v":10},{"$f":"IF('Contractor Test Data'!$J$59=\"\",\"\",'Contractor Test Data'!$J$59)","v":"Max Recording (Lbs.)"}]
[667,{"$f":"IF('Contractor Test Data'!$K$79=\"\",\"\",'Contractor Test Data'!$K$79)","v":""},{"$f":"IF('Contractor Test Data'!$C$53=\"\",\"\",'Contractor Test Data'!$C$53)","v":"Contractor:Tex-448-A"},{"$f":"IF('Contractor Test Data'!$B$79=\"\",\"\",'Contractor Test Data'!$B$79)","v":10},{"$f":"IF('Contractor Test Data'!$K$59=\"\",\"\",'Contractor Test Data'!$K$59)","v":"*Failure Location (inches)"}]
[668,{"$f":"IF('Contractor Test Data'!$L$79=\"\",\"\",'Contractor Test Data'!$L$79)","v":""},{"$f":"IF('Contractor Test Data'!$C$53=\"\",\"\",'Contractor Test Data'!$C$53)","v":"Contractor:Tex-448-A"},{"$f":"IF('Contractor Test Data'!$B$79=\"\",\"\",'Contractor Test Data'!$B$79)","v":10},{"$f":"IF('Contractor Test Data'!$L$59=\"\",\"\",'Contractor Test Data'!$L$59)","v":"Modulus of Rupture (psi)"}]
[669,{"$f":"IF('Contractor Test Data'!$M$79=\"\",\"\",'Contractor Test Data'!$M$79)","v":""},{"$f":"IF('Contractor Test Data'!$C$53=\"\",\"\",'Contractor Test Data'!$C$53)","v":"Contractor:Tex-448-A"},{"$f":"IF('Contractor Test Data'!$B$79=\"\",\"\",'Contractor Test Data'!$B$79)","v":10},{"$f":"IF('Contractor Test Data'!$M$59=\"\",\"\",'Contractor Test Data'!$M$59)","v":"Modulus of Rupture (avg) (psi)"}]
[670,{"$f":"IF('Contractor Test Data'!$N$79=\"\",\"\",'Contractor Test Data'!$N$79)","v":""},{"$f":"IF('Contractor Test Data'!$C$53=\"\",\"\",'Contractor Test Data'!$C$53)","v":"Contractor:Tex-448-A"},{"$f":"IF('Contractor Test Data'!$B$79=\"\",\"\",'Contractor Test Data'!$B$79)","v":10},{"$f":"IF('Contractor Test Data'!$N$59=\"\",\"\",'Contractor Test Data'!$N$59)","v":"Meets Job Control Strength"}]
[671,{"$f":"IF('Contractor Test Data'!$F$80=\"\",\"\",'Contractor Test Data'!$F$80)","v":""},{"$f":"IF('Contractor Test Data'!$C$53=\"\",\"\",'Contractor Test Data'!$C$53)","v":"Contractor:Tex-448-A"},{"$f":"IF('Contractor Test Data'!$B$79=\"\",\"\",'Contractor Test Data'!$B$79)","v":10},{"$f":"IF('Contractor Test Data'!$F$59=\"\",\"\",'Contractor Test Data'!$F$59)","v":"Beam Number"}]
[672,{"$f":"IF('Contractor Test Data'!$G$80=\"\",\"\",'Contractor Test Data'!$G$80)","v":""},{"$f":"IF('Contractor Test Data'!$C$53=\"\",\"\",'Contractor Test Data'!$C$53)","v":"Contractor:Tex-448-A"},{"$f":"IF('Contractor Test Data'!$B$79=\"\",\"\",'Contractor Test Data'!$B$79)","v":10},{"$f":"IF('Contractor Test Data'!$G$59=\"\",\"\",'Contractor Test Data'!$G$59)","v":"Width of Beam (inches)"}]
[673,{"$f":"IF('Contractor Test Data'!$H$80=\"\",\"\",'Contractor Test Data'!$H$80)","v":""},{"$f":"IF('Contractor Test Data'!$C$53=\"\",\"\",'Contractor Test Data'!$C$53)","v":"Contractor:Tex-448-A"},{"$f":"IF('Contractor Test Data'!$B$79=\"\",\"\",'Contractor Test Data'!$B$79)","v":10},{"$f":"IF('Contractor Test Data'!$H$59=\"\",\"\",'Contractor Test Data'!$H$59)","v":"Depth of Beam  (inches)"}]
[674,{"$f":"IF('Contractor Test Data'!$I$80=\"\",\"\",'Contractor Test Data'!$I$80)","v":""},{"$f":"IF('Contractor Test Data'!$C$53=\"\",\"\",'Contractor Test Data'!$C$53)","v":"Contractor:Tex-448-A"},{"$f":"IF('Contractor Test Data'!$B$79=\"\",\"\",'Contractor Test Data'!$B$79)","v":10},{"$f":"IF('Contractor Test Data'!$I$59=\"\",\"\",'Contractor Test Data'!$I$59)","v":"Span Length  (inches)"}]
[675,{"$f":"IF('Contractor Test Data'!$J$80=\"\",\"\",'Contractor Test Data'!$J$80)","v":""},{"$f":"IF('Contractor Test Data'!$C$53=\"\",\"\",'Contractor Test Data'!$C$53)","v":"Contractor:Tex-448-A"},{"$f":"IF('Contractor Test Data'!$B$79=\"\",\"\",'Contractor Test Data'!$B$79)","v":10},{"$f":"IF('Contractor Test Data'!$J$59=\"\",\"\",'Contractor Test Data'!$J$59)","v":"Max Recording (Lbs.)"}]
[676,{"$f":"IF('Contractor Test Data'!$K$80=\"\",\"\",'Contractor Test Data'!$K$80)","v":""},{"$f":"IF('Contractor Test Data'!$C$53=\"\",\"\",'Contractor Test Data'!$C$53)","v":"Contractor:Tex-448-A"},{"$f":"IF('Contractor Test Data'!$B$79=\"\",\"\",'Contractor Test Data'!$B$79)","v":10},{"$f":"IF('Contractor Test Data'!$K$59=\"\",\"\",'Contractor Test Data'!$K$59)","v":"*Failure Location (inches)"}]
[677,{"$f":"IF('Contractor Test Data'!$L$80=\"\",\"\",'Contractor Test Data'!$L$80)","v":""},{"$f":"IF('Contractor Test Data'!$C$53=\"\",\"\",'Contractor Test Data'!$C$53)","v":"Contractor:Tex-448-A"},{"$f":"IF('Contractor Test Data'!$B$79=\"\",\"\",'Contractor Test Data'!$B$79)","v":10},{"$f":"IF('Contractor Test Data'!$L$59=\"\",\"\",'Contractor Test Data'!$L$59)","v":"Modulus of Rupture (psi)"}]
[678,{"$f":"IF('TxDOT Test Data'!$G$22=\"\",\"\",'TxDOT Test Data'!$G$22)","v":""},{"$f":"IF('TxDOT Test Data'!$C$21=\"\",\"\",'TxDOT Test Data'!$C$21)","v":"TXDOT:Tex-418-A"},{"$f":"IF('TxDOT Test Data'!$C$22=\"\",\"\",'TxDOT Test Data'!$C$22)","v":"Source of Job Control Strength (psi): "}]
[679,{"$f":"IF('TxDOT Test Data'!$G$23=\"\",\"\",'TxDOT Test Data'!$G$23)","v":""},{"$f":"IF('TxDOT Test Data'!$C$21=\"\",\"\",'TxDOT Test Data'!$C$21)","v":"TXDOT:Tex-418-A"},{"$f":"IF('TxDOT Test Data'!$C$23=\"\",\"\",'TxDOT Test Data'!$C$23)","v":"-Day Job Control Strength (psi): "}]
[680,{"$f":"IF('TxDOT Test Data'!$G$24=\"\",\"\",'TxDOT Test Data'!$G$24)","v":""},{"$f":"IF('TxDOT Test Data'!$C$21=\"\",\"\",'TxDOT Test Data'!$C$21)","v":"TXDOT:Tex-418-A"},{"$f":"IF('TxDOT Test Data'!$C$24=\"\",\"\",'TxDOT Test Data'!$C$24)","v":"-Day Job Control Strength (psi): "}]
[681,{"$f":"IF('TxDOT Test Data'!$K$22=\"\",\"\",'TxDOT Test Data'!$K$22)","v":""},{"$f":"IF('TxDOT Test Data'!$C$21=\"\",\"\",'TxDOT Test Data'!$C$21)","v":"TXDOT:Tex-418-A"},{"$f":"IF('TxDOT Test Data'!$I$22=\"\",\"\",'TxDOT Test Data'!$I$22)","v":"Job Control Age (days): "}]
[682,{"$f":"IF('TxDOT Test Data'!$K$23=\"\",\"\",'TxDOT Test Data'!$K$23)","v":""},{"$f":"IF('TxDOT Test Data'!$C$21=\"\",\"\",'TxDOT Test Data'!$C$21)","v":"TXDOT:Tex-418-A"},{"$f":"IF('TxDOT Test Data'!$I$23=\"\",\"\",'TxDOT Test Data'!$I$23)","v":"Job Control Age (days): "}]
[683,{"$f":"IF('TxDOT Test Data'!$F$31=\"\",\"\",'TxDOT Test Data'!$F$31)","v":""},{"$f":"IF('TxDOT Test Data'!$C$21=\"\",\"\",'TxDOT Test Data'!$C$21)","v":"TXDOT:Tex-418-A"},{"$f":"IF('TxDOT Test Data'!$B$31=\"\",\"\",'TxDOT Test Data'!$B$31)","v":1},{"$f":"IF('TxDOT Test Data'!$F$28=\"\",\"\",'TxDOT Test Data'!$F$28)","v":"Cylinder Number"}]
[684,{"$f":"IF('TxDOT Test Data'!$D$31=\"\",\"\",'TxDOT Test Data'!$D$31)","v":""},{"$f":"IF('TxDOT Test Data'!$C$21=\"\",\"\",'TxDOT Test Data'!$C$21)","v":"TXDOT:Tex-418-A"},{"$f":"IF('TxDOT Test Data'!$B$31=\"\",\"\",'TxDOT Test Data'!$B$31)","v":1},{"$f":"IF('TxDOT Test Data'!$D$28=\"\",\"\",'TxDOT Test Data'!$D$28)","v":"Station"}]
[685,{"$f":"IF('TxDOT Test Data'!$E$31=\"\",\"\",'TxDOT Test Data'!$E$31)","v":""},{"$f":"IF('TxDOT Test Data'!$C$21=\"\",\"\",'TxDOT Test Data'!$C$21)","v":"TXDOT:Tex-418-A"},{"$f":"IF('TxDOT Test Data'!$B$31=\"\",\"\",'TxDOT Test Data'!$B$31)","v":1},{"$f":"IF('TxDOT Test Data'!$E$28=\"\",\"\",'TxDOT Test Data'!$E$28)","v":"Age (Days)"}]
[686,{"$f":"IF('TxDOT Test Data'!$G$31=\"\",\"\",'TxDOT Test Data'!$G$31)","v":""},{"$f":"IF('TxDOT Test Data'!$C$21=\"\",\"\",'TxDOT Test Data'!$C$21)","v":"TXDOT:Tex-418-A"},{"$f":"IF('TxDOT Test Data'!$B$31=\"\",\"\",'TxDOT Test Data'!$B$31)","v":1},{"$f":"IF('TxDOT Test Data'!$G$29=\"\",\"\",'TxDOT Test Data'!$G$29)","v":" of Cylinder (inches)"}]
[687,{"$f":"IF('TxDOT Test Data'!$H$31=\"\",\"\",'TxDOT Test Data'!$H$31)","v":""},{"$f":"IF('TxDOT Test Data'!$C$21=\"\",\"\",'TxDOT Test Data'!$C$21)","v":"TXDOT:Tex-418-A"},{"$f":"IF('TxDOT Test Data'!$B$31=\"\",\"\",'TxDOT Test Data'!$B$31)","v":1},{"$f":"IF('TxDOT Test Data'!$H$28=\"\",\"\",'TxDOT Test Data'!$H$28)","v":"Length of Cylinder (inches)"}]
[688,{"$f":"IF('TxDOT Test Data'!$I$31=\"\",\"\",'TxDOT Test Data'!$I$31)","v":""},{"$f":"IF('TxDOT Test Data'!$C$21=\"\",\"\",'TxDOT Test Data'!$C$21)","v":"TXDOT:Tex-418-A"},{"$f":"IF('TxDOT Test Data'!$B$31=\"\",\"\",'TxDOT Test Data'!$B$31)","v":1},{"$f":"IF('TxDOT Test Data'!$I$28=\"\",\"\",'TxDOT Test Data'!$I$28)","v":"Length to Diameter Ratio"}]
[689,{"$f":"IF('TxDOT Test Data'!$J$31=\"\",\"\",'TxDOT Test Data'!$J$31)","v":""},{"$f":"IF('TxDOT Test Data'!$C$21=\"\",\"\",'TxDOT Test Data'!$C$21)","v":"TXDOT:Tex-418-A"},{"$f":"IF('TxDOT Test Data'!$B$31=\"\",\"\",'TxDOT Test Data'!$B$31)","v":1},{"$f":"IF('TxDOT Test Data'!$J$28=\"\",\"\",'TxDOT Test Data'!$J$28)","v":"Max Load (lbs.)"}]
[690,{"$f":"IF('TxDOT Test Data'!$K$31=\"\",\"\",'TxDOT Test Data'!$K$31)","v":""},{"$f":"IF('TxDOT Test Data'!$C$21=\"\",\"\",'TxDOT Test Data'!$C$21)","v":"TXDOT:Tex-418-A"},{"$f":"IF('TxDOT Test Data'!$B$31=\"\",\"\",'TxDOT Test Data'!$B$31)","v":1},{"$f":"IF('TxDOT Test Data'!$K$28=\"\",\"\",'TxDOT Test Data'!$K$28)","v":"Failure Type"}]
[691,{"$f":"IF('TxDOT Test Data'!$L$31=\"\",\"\",'TxDOT Test Data'!$L$31)","v":""},{"$f":"IF('TxDOT Test Data'!$C$21=\"\",\"\",'TxDOT Test Data'!$C$21)","v":"TXDOT:Tex-418-A"},{"$f":"IF('TxDOT Test Data'!$B$31=\"\",\"\",'TxDOT Test Data'!$B$31)","v":1},{"$f":"IF('TxDOT Test Data'!$L$28=\"\",\"\",'TxDOT Test Data'!$L$28)","v":"Correction Factor"}]
[692,{"$f":"IF('TxDOT Test Data'!$M$31=\"\",\"\",'TxDOT Test Data'!$M$31)","v":""},{"$f":"IF('TxDOT Test Data'!$C$21=\"\",\"\",'TxDOT Test Data'!$C$21)","v":"TXDOT:Tex-418-A"},{"$f":"IF('TxDOT Test Data'!$B$31=\"\",\"\",'TxDOT Test Data'!$B$31)","v":1},{"$f":"IF('TxDOT Test Data'!$M$28=\"\",\"\",'TxDOT Test Data'!$M$28)","v":"Compressive Strength (psi)"}]
[693,{"$f":"IF('TxDOT Test Data'!$N$31=\"\",\"\",'TxDOT Test Data'!$N$31)","v":""},{"$f":"IF('TxDOT Test Data'!$C$21=\"\",\"\",'TxDOT Test Data'!$C$21)","v":"TXDOT:Tex-418-A"},{"$f":"IF('TxDOT Test Data'!$B$31=\"\",\"\",'TxDOT Test Data'!$B$31)","v":1},{"$f":"IF('TxDOT Test Data'!$N$28=\"\",\"\",'TxDOT Test Data'!$N$28)","v":"Compressive Strength (avg) (psi)"}]
[694,{"$f":"IF('TxDOT Test Data'!$O$31=\"\",\"\",'TxDOT Test Data'!$O$31)","v":""},{"$f":"IF('TxDOT Test Data'!$C$21=\"\",\"\",'TxDOT Test Data'!$C$21)","v":"TXDOT:Tex-418-A"},{"$f":"IF('TxDOT Test Data'!$B$31=\"\",\"\",'TxDOT Test Data'!$B$31)","v":1},{"$f":"IF('TxDOT Test Data'!$O$28=\"\",\"\",'TxDOT Test Data'!$O$28)","v":"Meets Job Control Strength"}]
[695,{"$f":"IF('TxDOT Test Data'!$F$32=\"\",\"\",'TxDOT Test Data'!$F$32)","v":""},{"$f":"IF('TxDOT Test Data'!$C$21=\"\",\"\",'TxDOT Test Data'!$C$21)","v":"TXDOT:Tex-418-A"},{"$f":"IF('TxDOT Test Data'!$B$31=\"\",\"\",'TxDOT Test Data'!$B$31)","v":1},{"$f":"IF('TxDOT Test Data'!$F$28=\"\",\"\",'TxDOT Test Data'!$F$28)","v":"Cylinder Number"}]
[696,{"$f":"IF('TxDOT Test Data'!$G$32=\"\",\"\",'TxDOT Test Data'!$G$32)","v":""},{"$f":"IF('TxDOT Test Data'!$C$21=\"\",\"\",'TxDOT Test Data'!$C$21)","v":"TXDOT:Tex-418-A"},{"$f":"IF('TxDOT Test Data'!$B$31=\"\",\"\",'TxDOT Test Data'!$B$31)","v":1},{"$f":"IF('TxDOT Test Data'!$G$29=\"\",\"\",'TxDOT Test Data'!$G$29)","v":" of Cylinder (inches)"}]
[697,{"$f":"IF('TxDOT Test Data'!$H$32=\"\",\"\",'TxDOT Test Data'!$H$32)","v":""},{"$f":"IF('TxDOT Test Data'!$C$21=\"\",\"\",'TxDOT Test Data'!$C$21)","v":"TXDOT:Tex-418-A"},{"$f":"IF('TxDOT Test Data'!$B$31=\"\",\"\",'TxDOT Test Data'!$B$31)","v":1},{"$f":"IF('TxDOT Test Data'!$H$28=\"\",\"\",'TxDOT Test Data'!$H$28)","v":"Length of Cylinder (inches)"}]
[698,{"$f":"IF('TxDOT Test Data'!$I$32=\"\",\"\",'TxDOT Test Data'!$I$32)","v":""},{"$f":"IF('TxDOT Test Data'!$C$21=\"\",\"\",'TxDOT Test Data'!$C$21)","v":"TXDOT:Tex-418-A"},{"$f":"IF('TxDOT Test Data'!$B$31=\"\",\"\",'TxDOT Test Data'!$B$31)","v":1},{"$f":"IF('TxDOT Test Data'!$I$28=\"\",\"\",'TxDOT Test Data'!$I$28)","v":"Length to Diameter Ratio"}]
[699,{"$f":"IF('TxDOT Test Data'!$J$32=\"\",\"\",'TxDOT Test Data'!$J$32)","v":""},{"$f":"IF('TxDOT Test Data'!$C$21=\"\",\"\",'TxDOT Test Data'!$C$21)","v":"TXDOT:Tex-418-A"},{"$f":"IF('TxDOT Test Data'!$B$31=\"\",\"\",'TxDOT Test Data'!$B$31)","v":1},{"$f":"IF('TxDOT Test Data'!$J$28=\"\",\"\",'TxDOT Test Data'!$J$28)","v":"Max Load (lbs.)"}]
[700,{"$f":"IF('TxDOT Test Data'!$K$32=\"\",\"\",'TxDOT Test Data'!$K$32)","v":""},{"$f":"IF('TxDOT Test Data'!$C$21=\"\",\"\",'TxDOT Test Data'!$C$21)","v":"TXDOT:Tex-418-A"},{"$f":"IF('TxDOT Test Data'!$B$31=\"\",\"\",'TxDOT Test Data'!$B$31)","v":1},{"$f":"IF('TxDOT Test Data'!$K$28=\"\",\"\",'TxDOT Test Data'!$K$28)","v":"Failure Type"}]
[701,{"$f":"IF('TxDOT Test Data'!$L$32=\"\",\"\",'TxDOT Test Data'!$L$32)","v":""},{"$f":"IF('TxDOT Test Data'!$C$21=\"\",\"\",'TxDOT Test Data'!$C$21)","v":"TXDOT:Tex-418-A"},{"$f":"IF('TxDOT Test Data'!$B$31=\"\",\"\",'TxDOT Test Data'!$B$31)","v":1},{"$f":"IF('TxDOT Test Data'!$L$28=\"\",\"\",'TxDOT Test Data'!$L$28)","v":"Correction Factor"}]
[702,{"$f":"IF('TxDOT Test Data'!$M$32=\"\",\"\",'TxDOT Test Data'!$M$32)","v":""},{"$f":"IF('TxDOT Test Data'!$C$21=\"\",\"\",'TxDOT Test Data'!$C$21)","v":"TXDOT:Tex-418-A"},{"$f":"IF('TxDOT Test Data'!$B$31=\"\",\"\",'TxDOT Test Data'!$B$31)","v":1},{"$f":"IF('TxDOT Test Data'!$M$28=\"\",\"\",'TxDOT Test Data'!$M$28)","v":"Compressive Strength (psi)"}]
[703,{"$f":"IF('TxDOT Test Data'!$F$33=\"\",\"\",'TxDOT Test Data'!$F$33)","v":""},{"$f":"IF('TxDOT Test Data'!$C$21=\"\",\"\",'TxDOT Test Data'!$C$21)","v":"TXDOT:Tex-418-A"},{"$f":"IF('TxDOT Test Data'!$B$33=\"\",\"\",'TxDOT Test Data'!$B$33)","v":2},{"$f":"IF('TxDOT Test Data'!$F$28=\"\",\"\",'TxDOT Test Data'!$F$28)","v":"Cylinder Number"}]
[704,{"$f":"IF('TxDOT Test Data'!$D$33=\"\",\"\",'TxDOT Test Data'!$D$33)","v":""},{"$f":"IF('TxDOT Test Data'!$C$21=\"\",\"\",'TxDOT Test Data'!$C$21)","v":"TXDOT:Tex-418-A"},{"$f":"IF('TxDOT Test Data'!$B$33=\"\",\"\",'TxDOT Test Data'!$B$33)","v":2},{"$f":"IF('TxDOT Test Data'!$D$28=\"\",\"\",'TxDOT Test Data'!$D$28)","v":"Station"}]
[705,{"$f":"IF('TxDOT Test Data'!$E$33=\"\",\"\",'TxDOT Test Data'!$E$33)","v":""},{"$f":"IF('TxDOT Test Data'!$C$21=\"\",\"\",'TxDOT Test Data'!$C$21)","v":"TXDOT:Tex-418-A"},{"$f":"IF('TxDOT Test Data'!$B$33=\"\",\"\",'TxDOT Test Data'!$B$33)","v":2},{"$f":"IF('TxDOT Test Data'!$E$28=\"\",\"\",'TxDOT Test Data'!$E$28)","v":"Age (Days)"}]
[706,{"$f":"IF('TxDOT Test Data'!$G$33=\"\",\"\",'TxDOT Test Data'!$G$33)","v":""},{"$f":"IF('TxDOT Test Data'!$C$21=\"\",\"\",'TxDOT Test Data'!$C$21)","v":"TXDOT:Tex-418-A"},{"$f":"IF('TxDOT Test Data'!$B$33=\"\",\"\",'TxDOT Test Data'!$B$33)","v":2},{"$f":"IF('TxDOT Test Data'!$G$29=\"\",\"\",'TxDOT Test Data'!$G$29)","v":" of Cylinder (inches)"}]
[707,{"$f":"IF('TxDOT Test Data'!$H$33=\"\",\"\",'TxDOT Test Data'!$H$33)","v":""},{"$f":"IF('TxDOT Test Data'!$C$21=\"\",\"\",'TxDOT Test Data'!$C$21)","v":"TXDOT:Tex-418-A"},{"$f":"IF('TxDOT Test Data'!$B$33=\"\",\"\",'TxDOT Test Data'!$B$33)","v":2},{"$f":"IF('TxDOT Test Data'!$H$28=\"\",\"\",'TxDOT Test Data'!$H$28)","v":"Length of Cylinder (inches)"}]
[708,{"$f":"IF('TxDOT Test Data'!$I$33=\"\",\"\",'TxDOT Test Data'!$I$33)","v":""},{"$f":"IF('TxDOT Test Data'!$C$21=\"\",\"\",'TxDOT Test Data'!$C$21)","v":"TXDOT:Tex-418-A"},{"$f":"IF('TxDOT Test Data'!$B$33=\"\",\"\",'TxDOT Test Data'!$B$33)","v":2},{"$f":"IF('TxDOT Test Data'!$I$28=\"\",\"\",'TxDOT Test Data'!$I$28)","v":"Length to Diameter Ratio"}]
[709,{"$f":"IF('TxDOT Test Data'!$J$33=\"\",\"\",'TxDOT Test Data'!$J$33)","v":""},{"$f":"IF('TxDOT Test Data'!$C$21=\"\",\"\",'TxDOT Test Data'!$C$21)","v":"TXDOT:Tex-418-A"},{"$f":"IF('TxDOT Test Data'!$B$33=\"\",\"\",'TxDOT Test Data'!$B$33)","v":2},{"$f":"IF('TxDOT Test Data'!$J$28=\"\",\"\",'TxDOT Test Data'!$J$28)","v":"Max Load (lbs.)"}]
[710,{"$f":"IF('TxDOT Test Data'!$K$33=\"\",\"\",'TxDOT Test Data'!$K$33)","v":""},{"$f":"IF('TxDOT Test Data'!$C$21=\"\",\"\",'TxDOT Test Data'!$C$21)","v":"TXDOT:Tex-418-A"},{"$f":"IF('TxDOT Test Data'!$B$33=\"\",\"\",'TxDOT Test Data'!$B$33)","v":2},{"$f":"IF('TxDOT Test Data'!$K$28=\"\",\"\",'TxDOT Test Data'!$K$28)","v":"Failure Type"}]
[711,{"$f":"IF('TxDOT Test Data'!$L$33=\"\",\"\",'TxDOT Test Data'!$L$33)","v":""},{"$f":"IF('TxDOT Test Data'!$C$21=\"\",\"\",'TxDOT Test Data'!$C$21)","v":"TXDOT:Tex-418-A"},{"$f":"IF('TxDOT Test Data'!$B$33=\"\",\"\",'TxDOT Test Data'!$B$33)","v":2},{"$f":"IF('TxDOT Test Data'!$L$28=\"\",\"\",'TxDOT Test Data'!$L$28)","v":"Correction Factor"}]
[712,{"$f":"IF('TxDOT Test Data'!$M$33=\"\",\"\",'TxDOT Test Data'!$M$33)","v":""},{"$f":"IF('TxDOT Test Data'!$C$21=\"\",\"\",'TxDOT Test Data'!$C$21)","v":"TXDOT:Tex-418-A"},{"$f":"IF('TxDOT Test Data'!$B$33=\"\",\"\",'TxDOT Test Data'!$B$33)","v":2},{"$f":"IF('TxDOT Test Data'!$M$28=\"\",\"\",'TxDOT Test Data'!$M$28)","v":"Compressive Strength (psi)"}]
[713,{"$f":"IF('TxDOT Test Data'!$N$33=\"\",\"\",'TxDOT Test Data'!$N$33)","v":""},{"$f":"IF('TxDOT Test Data'!$C$21=\"\",\"\",'TxDOT Test Data'!$C$21)","v":"TXDOT:Tex-418-A"},{"$f":"IF('TxDOT Test Data'!$B$33=\"\",\"\",'TxDOT Test Data'!$B$33)","v":2},{"$f":"IF('TxDOT Test Data'!$N$28=\"\",\"\",'TxDOT Test Data'!$N$28)","v":"Compressive Strength (avg) (psi)"}]
[714,{"$f":"IF('TxDOT Test Data'!$O$33=\"\",\"\",'TxDOT Test Data'!$O$33)","v":""},{"$f":"IF('TxDOT Test Data'!$C$21=\"\",\"\",'TxDOT Test Data'!$C$21)","v":"TXDOT:Tex-418-A"},{"$f":"IF('TxDOT Test Data'!$B$33=\"\",\"\",'TxDOT Test Data'!$B$33)","v":2},{"$f":"IF('TxDOT Test Data'!$O$28=\"\",\"\",'TxDOT Test Data'!$O$28)","v":"Meets Job Control Strength"}]
[715,{"$f":"IF('TxDOT Test Data'!$F$34=\"\",\"\",'TxDOT Test Data'!$F$34)","v":""},{"$f":"IF('TxDOT Test Data'!$C$21=\"\",\"\",'TxDOT Test Data'!$C$21)","v":"TXDOT:Tex-418-A"},{"$f":"IF('TxDOT Test Data'!$B$33=\"\",\"\",'TxDOT Test Data'!$B$33)","v":2},{"$f":"IF('TxDOT Test Data'!$F$28=\"\",\"\",'TxDOT Test Data'!$F$28)","v":"Cylinder Number"}]
[716,{"$f":"IF('TxDOT Test Data'!$G$34=\"\",\"\",'TxDOT Test Data'!$G$34)","v":""},{"$f":"IF('TxDOT Test Data'!$C$21=\"\",\"\",'TxDOT Test Data'!$C$21)","v":"TXDOT:Tex-418-A"},{"$f":"IF('TxDOT Test Data'!$B$33=\"\",\"\",'TxDOT Test Data'!$B$33)","v":2},{"$f":"IF('TxDOT Test Data'!$G$29=\"\",\"\",'TxDOT Test Data'!$G$29)","v":" of Cylinder (inches)"}]
[717,{"$f":"IF('TxDOT Test Data'!$H$34=\"\",\"\",'TxDOT Test Data'!$H$34)","v":""},{"$f":"IF('TxDOT Test Data'!$C$21=\"\",\"\",'TxDOT Test Data'!$C$21)","v":"TXDOT:Tex-418-A"},{"$f":"IF('TxDOT Test Data'!$B$33=\"\",\"\",'TxDOT Test Data'!$B$33)","v":2},{"$f":"IF('TxDOT Test Data'!$H$28=\"\",\"\",'TxDOT Test Data'!$H$28)","v":"Length of Cylinder (inches)"}]
[718,{"$f":"IF('TxDOT Test Data'!$I$34=\"\",\"\",'TxDOT Test Data'!$I$34)","v":""},{"$f":"IF('TxDOT Test Data'!$C$21=\"\",\"\",'TxDOT Test Data'!$C$21)","v":"TXDOT:Tex-418-A"},{"$f":"IF('TxDOT Test Data'!$B$33=\"\",\"\",'TxDOT Test Data'!$B$33)","v":2},{"$f":"IF('TxDOT Test Data'!$I$28=\"\",\"\",'TxDOT Test Data'!$I$28)","v":"Length to Diameter Ratio"}]
[719,{"$f":"IF('TxDOT Test Data'!$J$34=\"\",\"\",'TxDOT Test Data'!$J$34)","v":""},{"$f":"IF('TxDOT Test Data'!$C$21=\"\",\"\",'TxDOT Test Data'!$C$21)","v":"TXDOT:Tex-418-A"},{"$f":"IF('TxDOT Test Data'!$B$33=\"\",\"\",'TxDOT Test Data'!$B$33)","v":2},{"$f":"IF('TxDOT Test Data'!$J$28=\"\",\"\",'TxDOT Test Data'!$J$28)","v":"Max Load (lbs.)"}]
[720,{"$f":"IF('TxDOT Test Data'!$K$34=\"\",\"\",'TxDOT Test Data'!$K$34)","v":""},{"$f":"IF('TxDOT Test Data'!$C$21=\"\",\"\",'TxDOT Test Data'!$C$21)","v":"TXDOT:Tex-418-A"},{"$f":"IF('TxDOT Test Data'!$B$33=\"\",\"\",'TxDOT Test Data'!$B$33)","v":2},{"$f":"IF('TxDOT Test Data'!$K$28=\"\",\"\",'TxDOT Test Data'!$K$28)","v":"Failure Type"}]
[721,{"$f":"IF('TxDOT Test Data'!$L$34=\"\",\"\",'TxDOT Test Data'!$L$34)","v":""},{"$f":"IF('TxDOT Test Data'!$C$21=\"\",\"\",'TxDOT Test Data'!$C$21)","v":"TXDOT:Tex-418-A"},{"$f":"IF('TxDOT Test Data'!$B$33=\"\",\"\",'TxDOT Test Data'!$B$33)","v":2},{"$f":"IF('TxDOT Test Data'!$L$28=\"\",\"\",'TxDOT Test Data'!$L$28)","v":"Correction Factor"}]
[722,{"$f":"IF('TxDOT Test Data'!$M$34=\"\",\"\",'TxDOT Test Data'!$M$34)","v":""},{"$f":"IF('TxDOT Test Data'!$C$21=\"\",\"\",'TxDOT Test Data'!$C$21)","v":"TXDOT:Tex-418-A"},{"$f":"IF('TxDOT Test Data'!$B$33=\"\",\"\",'TxDOT Test Data'!$B$33)","v":2},{"$f":"IF('TxDOT Test Data'!$M$28=\"\",\"\",'TxDOT Test Data'!$M$28)","v":"Compressive Strength (psi)"}]
[723,{"$f":"IF('TxDOT Test Data'!$F$35=\"\",\"\",'TxDOT Test Data'!$F$35)","v":""},{"$f":"IF('TxDOT Test Data'!$C$21=\"\",\"\",'TxDOT Test Data'!$C$21)","v":"TXDOT:Tex-418-A"},{"$f":"IF('TxDOT Test Data'!$B$35=\"\",\"\",'TxDOT Test Data'!$B$35)","v":3},{"$f":"IF('TxDOT Test Data'!$F$28=\"\",\"\",'TxDOT Test Data'!$F$28)","v":"Cylinder Number"}]
[724,{"$f":"IF('TxDOT Test Data'!$D$35=\"\",\"\",'TxDOT Test Data'!$D$35)","v":""},{"$f":"IF('TxDOT Test Data'!$C$21=\"\",\"\",'TxDOT Test Data'!$C$21)","v":"TXDOT:Tex-418-A"},{"$f":"IF('TxDOT Test Data'!$B$35=\"\",\"\",'TxDOT Test Data'!$B$35)","v":3},{"$f":"IF('TxDOT Test Data'!$D$28=\"\",\"\",'TxDOT Test Data'!$D$28)","v":"Station"}]
[725,{"$f":"IF('TxDOT Test Data'!$E$35=\"\",\"\",'TxDOT Test Data'!$E$35)","v":""},{"$f":"IF('TxDOT Test Data'!$C$21=\"\",\"\",'TxDOT Test Data'!$C$21)","v":"TXDOT:Tex-418-A"},{"$f":"IF('TxDOT Test Data'!$B$35=\"\",\"\",'TxDOT Test Data'!$B$35)","v":3},{"$f":"IF('TxDOT Test Data'!$E$28=\"\",\"\",'TxDOT Test Data'!$E$28)","v":"Age (Days)"}]
[726,{"$f":"IF('TxDOT Test Data'!$G$35=\"\",\"\",'TxDOT Test Data'!$G$35)","v":""},{"$f":"IF('TxDOT Test Data'!$C$21=\"\",\"\",'TxDOT Test Data'!$C$21)","v":"TXDOT:Tex-418-A"},{"$f":"IF('TxDOT Test Data'!$B$35=\"\",\"\",'TxDOT Test Data'!$B$35)","v":3},{"$f":"IF('TxDOT Test Data'!$G$29=\"\",\"\",'TxDOT Test Data'!$G$29)","v":" of Cylinder (inches)"}]
[727,{"$f":"IF('TxDOT Test Data'!$H$35=\"\",\"\",'TxDOT Test Data'!$H$35)","v":""},{"$f":"IF('TxDOT Test Data'!$C$21=\"\",\"\",'TxDOT Test Data'!$C$21)","v":"TXDOT:Tex-418-A"},{"$f":"IF('TxDOT Test Data'!$B$35=\"\",\"\",'TxDOT Test Data'!$B$35)","v":3},{"$f":"IF('TxDOT Test Data'!$H$28=\"\",\"\",'TxDOT Test Data'!$H$28)","v":"Length of Cylinder (inches)"}]
[728,{"$f":"IF('TxDOT Test Data'!$I$35=\"\",\"\",'TxDOT Test Data'!$I$35)","v":""},{"$f":"IF('TxDOT Test Data'!$C$21=\"\",\"\",'TxDOT Test Data'!$C$21)","v":"TXDOT:Tex-418-A"},{"$f":"IF('TxDOT Test Data'!$B$35=\"\",\"\",'TxDOT Test Data'!$B$35)","v":3},{"$f":"IF('TxDOT Test Data'!$I$28=\"\",\"\",'TxDOT Test Data'!$I$28)","v":"Length to Diameter Ratio"}]
[729,{"$f":"IF('TxDOT Test Data'!$J$35=\"\",\"\",'TxDOT Test Data'!$J$35)","v":""},{"$f":"IF('TxDOT Test Data'!$C$21=\"\",\"\",'TxDOT Test Data'!$C$21)","v":"TXDOT:Tex-418-A"},{"$f":"IF('TxDOT Test Data'!$B$35=\"\",\"\",'TxDOT Test Data'!$B$35)","v":3},{"$f":"IF('TxDOT Test Data'!$J$28=\"\",\"\",'TxDOT Test Data'!$J$28)","v":"Max Load (lbs.)"}]
[730,{"$f":"IF('TxDOT Test Data'!$K$35=\"\",\"\",'TxDOT Test Data'!$K$35)","v":""},{"$f":"IF('TxDOT Test Data'!$C$21=\"\",\"\",'TxDOT Test Data'!$C$21)","v":"TXDOT:Tex-418-A"},{"$f":"IF('TxDOT Test Data'!$B$35=\"\",\"\",'TxDOT Test Data'!$B$35)","v":3},{"$f":"IF('TxDOT Test Data'!$K$28=\"\",\"\",'TxDOT Test Data'!$K$28)","v":"Failure Type"}]
[731,{"$f":"IF('TxDOT Test Data'!$L$35=\"\",\"\",'TxDOT Test Data'!$L$35)","v":""},{"$f":"IF('TxDOT Test Data'!$C$21=\"\",\"\",'TxDOT Test Data'!$C$21)","v":"TXDOT:Tex-418-A"},{"$f":"IF('TxDOT Test Data'!$B$35=\"\",\"\",'TxDOT Test Data'!$B$35)","v":3},{"$f":"IF('TxDOT Test Data'!$L$28=\"\",\"\",'TxDOT Test Data'!$L$28)","v":"Correction Factor"}]
[732,{"$f":"IF('TxDOT Test Data'!$M$35=\"\",\"\",'TxDOT Test Data'!$M$35)","v":""},{"$f":"IF('TxDOT Test Data'!$C$21=\"\",\"\",'TxDOT Test Data'!$C$21)","v":"TXDOT:Tex-418-A"},{"$f":"IF('TxDOT Test Data'!$B$35=\"\",\"\",'TxDOT Test Data'!$B$35)","v":3},{"$f":"IF('TxDOT Test Data'!$M$28=\"\",\"\",'TxDOT Test Data'!$M$28)","v":"Compressive Strength (psi)"}]
[733,{"$f":"IF('TxDOT Test Data'!$N$35=\"\",\"\",'TxDOT Test Data'!$N$35)","v":""},{"$f":"IF('TxDOT Test Data'!$C$21=\"\",\"\",'TxDOT Test Data'!$C$21)","v":"TXDOT:Tex-418-A"},{"$f":"IF('TxDOT Test Data'!$B$35=\"\",\"\",'TxDOT Test Data'!$B$35)","v":3},{"$f":"IF('TxDOT Test Data'!$N$28=\"\",\"\",'TxDOT Test Data'!$N$28)","v":"Compressive Strength (avg) (psi)"}]
[734,{"$f":"IF('TxDOT Test Data'!$O$35=\"\",\"\",'TxDOT Test Data'!$O$35)","v":""},{"$f":"IF('TxDOT Test Data'!$C$21=\"\",\"\",'TxDOT Test Data'!$C$21)","v":"TXDOT:Tex-418-A"},{"$f":"IF('TxDOT Test Data'!$B$35=\"\",\"\",'TxDOT Test Data'!$B$35)","v":3},{"$f":"IF('TxDOT Test Data'!$O$28=\"\",\"\",'TxDOT Test Data'!$O$28)","v":"Meets Job Control Strength"}]
[735,{"$f":"IF('TxDOT Test Data'!$F$36=\"\",\"\",'TxDOT Test Data'!$F$36)","v":""},{"$f":"IF('TxDOT Test Data'!$C$21=\"\",\"\",'TxDOT Test Data'!$C$21)","v":"TXDOT:Tex-418-A"},{"$f":"IF('TxDOT Test Data'!$B$35=\"\",\"\",'TxDOT Test Data'!$B$35)","v":3},{"$f":"IF('TxDOT Test Data'!$F$28=\"\",\"\",'TxDOT Test Data'!$F$28)","v":"Cylinder Number"}]
[736,{"$f":"IF('TxDOT Test Data'!$G$36=\"\",\"\",'TxDOT Test Data'!$G$36)","v":""},{"$f":"IF('TxDOT Test Data'!$C$21=\"\",\"\",'TxDOT Test Data'!$C$21)","v":"TXDOT:Tex-418-A"},{"$f":"IF('TxDOT Test Data'!$B$35=\"\",\"\",'TxDOT Test Data'!$B$35)","v":3},{"$f":"IF('TxDOT Test Data'!$G$29=\"\",\"\",'TxDOT Test Data'!$G$29)","v":" of Cylinder (inches)"}]
[737,{"$f":"IF('TxDOT Test Data'!$H$36=\"\",\"\",'TxDOT Test Data'!$H$36)","v":""},{"$f":"IF('TxDOT Test Data'!$C$21=\"\",\"\",'TxDOT Test Data'!$C$21)","v":"TXDOT:Tex-418-A"},{"$f":"IF('TxDOT Test Data'!$B$35=\"\",\"\",'TxDOT Test Data'!$B$35)","v":3},{"$f":"IF('TxDOT Test Data'!$H$28=\"\",\"\",'TxDOT Test Data'!$H$28)","v":"Length of Cylinder (inches)"}]
[738,{"$f":"IF('TxDOT Test Data'!$I$36=\"\",\"\",'TxDOT Test Data'!$I$36)","v":""},{"$f":"IF('TxDOT Test Data'!$C$21=\"\",\"\",'TxDOT Test Data'!$C$21)","v":"TXDOT:Tex-418-A"},{"$f":"IF('TxDOT Test Data'!$B$35=\"\",\"\",'TxDOT Test Data'!$B$35)","v":3},{"$f":"IF('TxDOT Test Data'!$I$28=\"\",\"\",'TxDOT Test Data'!$I$28)","v":"Length to Diameter Ratio"}]
[739,{"$f":"IF('TxDOT Test Data'!$J$36=\"\",\"\",'TxDOT Test Data'!$J$36)","v":""},{"$f":"IF('TxDOT Test Data'!$C$21=\"\",\"\",'TxDOT Test Data'!$C$21)","v":"TXDOT:Tex-418-A"},{"$f":"IF('TxDOT Test Data'!$B$35=\"\",\"\",'TxDOT Test Data'!$B$35)","v":3},{"$f":"IF('TxDOT Test Data'!$J$28=\"\",\"\",'TxDOT Test Data'!$J$28)","v":"Max Load (lbs.)"}]
[740,{"$f":"IF('TxDOT Test Data'!$K$36=\"\",\"\",'TxDOT Test Data'!$K$36)","v":""},{"$f":"IF('TxDOT Test Data'!$C$21=\"\",\"\",'TxDOT Test Data'!$C$21)","v":"TXDOT:Tex-418-A"},{"$f":"IF('TxDOT Test Data'!$B$35=\"\",\"\",'TxDOT Test Data'!$B$35)","v":3},{"$f":"IF('TxDOT Test Data'!$K$28=\"\",\"\",'TxDOT Test Data'!$K$28)","v":"Failure Type"}]
[741,{"$f":"IF('TxDOT Test Data'!$L$36=\"\",\"\",'TxDOT Test Data'!$L$36)","v":""},{"$f":"IF('TxDOT Test Data'!$C$21=\"\",\"\",'TxDOT Test Data'!$C$21)","v":"TXDOT:Tex-418-A"},{"$f":"IF('TxDOT Test Data'!$B$35=\"\",\"\",'TxDOT Test Data'!$B$35)","v":3},{"$f":"IF('TxDOT Test Data'!$L$28=\"\",\"\",'TxDOT Test Data'!$L$28)","v":"Correction Factor"}]
[742,{"$f":"IF('TxDOT Test Data'!$M$36=\"\",\"\",'TxDOT Test Data'!$M$36)","v":""},{"$f":"IF('TxDOT Test Data'!$C$21=\"\",\"\",'TxDOT Test Data'!$C$21)","v":"TXDOT:Tex-418-A"},{"$f":"IF('TxDOT Test Data'!$B$35=\"\",\"\",'TxDOT Test Data'!$B$35)","v":3},{"$f":"IF('TxDOT Test Data'!$M$28=\"\",\"\",'TxDOT Test Data'!$M$28)","v":"Compressive Strength (psi)"}]
[743,{"$f":"IF('TxDOT Test Data'!$F$37=\"\",\"\",'TxDOT Test Data'!$F$37)","v":""},{"$f":"IF('TxDOT Test Data'!$C$21=\"\",\"\",'TxDOT Test Data'!$C$21)","v":"TXDOT:Tex-418-A"},{"$f":"IF('TxDOT Test Data'!$B$37=\"\",\"\",'TxDOT Test Data'!$B$37)","v":4},{"$f":"IF('TxDOT Test Data'!$F$28=\"\",\"\",'TxDOT Test Data'!$F$28)","v":"Cylinder Number"}]
[744,{"$f":"IF('TxDOT Test Data'!$D$37=\"\",\"\",'TxDOT Test Data'!$D$37)","v":""},{"$f":"IF('TxDOT Test Data'!$C$21=\"\",\"\",'TxDOT Test Data'!$C$21)","v":"TXDOT:Tex-418-A"},{"$f":"IF('TxDOT Test Data'!$B$37=\"\",\"\",'TxDOT Test Data'!$B$37)","v":4},{"$f":"IF('TxDOT Test Data'!$D$28=\"\",\"\",'TxDOT Test Data'!$D$28)","v":"Station"}]
[745,{"$f":"IF('TxDOT Test Data'!$E$37=\"\",\"\",'TxDOT Test Data'!$E$37)","v":""},{"$f":"IF('TxDOT Test Data'!$C$21=\"\",\"\",'TxDOT Test Data'!$C$21)","v":"TXDOT:Tex-418-A"},{"$f":"IF('TxDOT Test Data'!$B$37=\"\",\"\",'TxDOT Test Data'!$B$37)","v":4},{"$f":"IF('TxDOT Test Data'!$E$28=\"\",\"\",'TxDOT Test Data'!$E$28)","v":"Age (Days)"}]
[746,{"$f":"IF('TxDOT Test Data'!$G$37=\"\",\"\",'TxDOT Test Data'!$G$37)","v":""},{"$f":"IF('TxDOT Test Data'!$C$21=\"\",\"\",'TxDOT Test Data'!$C$21)","v":"TXDOT:Tex-418-A"},{"$f":"IF('TxDOT Test Data'!$B$37=\"\",\"\",'TxDOT Test Data'!$B$37)","v":4},{"$f":"IF('TxDOT Test Data'!$G$29=\"\",\"\",'TxDOT Test Data'!$G$29)","v":" of Cylinder (inches)"}]
[747,{"$f":"IF('TxDOT Test Data'!$H$37=\"\",\"\",'TxDOT Test Data'!$H$37)","v":""},{"$f":"IF('TxDOT Test Data'!$C$21=\"\",\"\",'TxDOT Test Data'!$C$21)","v":"TXDOT:Tex-418-A"},{"$f":"IF('TxDOT Test Data'!$B$37=\"\",\"\",'TxDOT Test Data'!$B$37)","v":4},{"$f":"IF('TxDOT Test Data'!$H$28=\"\",\"\",'TxDOT Test Data'!$H$28)","v":"Length of Cylinder (inches)"}]
[748,{"$f":"IF('TxDOT Test Data'!$I$37=\"\",\"\",'TxDOT Test Data'!$I$37)","v":""},{"$f":"IF('TxDOT Test Data'!$C$21=\"\",\"\",'TxDOT Test Data'!$C$21)","v":"TXDOT:Tex-418-A"},{"$f":"IF('TxDOT Test Data'!$B$37=\"\",\"\",'TxDOT Test Data'!$B$37)","v":4},{"$f":"IF('TxDOT Test Data'!$I$28=\"\",\"\",'TxDOT Test Data'!$I$28)","v":"Length to Diameter Ratio"}]
[749,{"$f":"IF('TxDOT Test Data'!$J$37=\"\",\"\",'TxDOT Test Data'!$J$37)","v":""},{"$f":"IF('TxDOT Test Data'!$C$21=\"\",\"\",'TxDOT Test Data'!$C$21)","v":"TXDOT:Tex-418-A"},{"$f":"IF('TxDOT Test Data'!$B$37=\"\",\"\",'TxDOT Test Data'!$B$37)","v":4},{"$f":"IF('TxDOT Test Data'!$J$28=\"\",\"\",'TxDOT Test Data'!$J$28)","v":"Max Load (lbs.)"}]
[750,{"$f":"IF('TxDOT Test Data'!$K$37=\"\",\"\",'TxDOT Test Data'!$K$37)","v":""},{"$f":"IF('TxDOT Test Data'!$C$21=\"\",\"\",'TxDOT Test Data'!$C$21)","v":"TXDOT:Tex-418-A"},{"$f":"IF('TxDOT Test Data'!$B$37=\"\",\"\",'TxDOT Test Data'!$B$37)","v":4},{"$f":"IF('TxDOT Test Data'!$K$28=\"\",\"\",'TxDOT Test Data'!$K$28)","v":"Failure Type"}]
[751,{"$f":"IF('TxDOT Test Data'!$L$37=\"\",\"\",'TxDOT Test Data'!$L$37)","v":""},{"$f":"IF('TxDOT Test Data'!$C$21=\"\",\"\",'TxDOT Test Data'!$C$21)","v":"TXDOT:Tex-418-A"},{"$f":"IF('TxDOT Test Data'!$B$37=\"\",\"\",'TxDOT Test Data'!$B$37)","v":4},{"$f":"IF('TxDOT Test Data'!$L$28=\"\",\"\",'TxDOT Test Data'!$L$28)","v":"Correction Factor"}]
[752,{"$f":"IF('TxDOT Test Data'!$M$37=\"\",\"\",'TxDOT Test Data'!$M$37)","v":""},{"$f":"IF('TxDOT Test Data'!$C$21=\"\",\"\",'TxDOT Test Data'!$C$21)","v":"TXDOT:Tex-418-A"},{"$f":"IF('TxDOT Test Data'!$B$37=\"\",\"\",'TxDOT Test Data'!$B$37)","v":4},{"$f":"IF('TxDOT Test Data'!$M$28=\"\",\"\",'TxDOT Test Data'!$M$28)","v":"Compressive Strength (psi)"}]
[753,{"$f":"IF('TxDOT Test Data'!$N$37=\"\",\"\",'TxDOT Test Data'!$N$37)","v":""},{"$f":"IF('TxDOT Test Data'!$C$21=\"\",\"\",'TxDOT Test Data'!$C$21)","v":"TXDOT:Tex-418-A"},{"$f":"IF('TxDOT Test Data'!$B$37=\"\",\"\",'TxDOT Test Data'!$B$37)","v":4},{"$f":"IF('TxDOT Test Data'!$N$28=\"\",\"\",'TxDOT Test Data'!$N$28)","v":"Compressive Strength (avg) (psi)"}]
[754,{"$f":"IF('TxDOT Test Data'!$O$37=\"\",\"\",'TxDOT Test Data'!$O$37)","v":""},{"$f":"IF('TxDOT Test Data'!$C$21=\"\",\"\",'TxDOT Test Data'!$C$21)","v":"TXDOT:Tex-418-A"},{"$f":"IF('TxDOT Test Data'!$B$37=\"\",\"\",'TxDOT Test Data'!$B$37)","v":4},{"$f":"IF('TxDOT Test Data'!$O$28=\"\",\"\",'TxDOT Test Data'!$O$28)","v":"Meets Job Control Strength"}]
[755,{"$f":"IF('TxDOT Test Data'!$F$38=\"\",\"\",'TxDOT Test Data'!$F$38)","v":""},{"$f":"IF('TxDOT Test Data'!$C$21=\"\",\"\",'TxDOT Test Data'!$C$21)","v":"TXDOT:Tex-418-A"},{"$f":"IF('TxDOT Test Data'!$B$37=\"\",\"\",'TxDOT Test Data'!$B$37)","v":4},{"$f":"IF('TxDOT Test Data'!$F$28=\"\",\"\",'TxDOT Test Data'!$F$28)","v":"Cylinder Number"}]
[756,{"$f":"IF('TxDOT Test Data'!$G$38=\"\",\"\",'TxDOT Test Data'!$G$38)","v":""},{"$f":"IF('TxDOT Test Data'!$C$21=\"\",\"\",'TxDOT Test Data'!$C$21)","v":"TXDOT:Tex-418-A"},{"$f":"IF('TxDOT Test Data'!$B$37=\"\",\"\",'TxDOT Test Data'!$B$37)","v":4},{"$f":"IF('TxDOT Test Data'!$G$29=\"\",\"\",'TxDOT Test Data'!$G$29)","v":" of Cylinder (inches)"}]
[757,{"$f":"IF('TxDOT Test Data'!$H$38=\"\",\"\",'TxDOT Test Data'!$H$38)","v":""},{"$f":"IF('TxDOT Test Data'!$C$21=\"\",\"\",'TxDOT Test Data'!$C$21)","v":"TXDOT:Tex-418-A"},{"$f":"IF('TxDOT Test Data'!$B$37=\"\",\"\",'TxDOT Test Data'!$B$37)","v":4},{"$f":"IF('TxDOT Test Data'!$H$28=\"\",\"\",'TxDOT Test Data'!$H$28)","v":"Length of Cylinder (inches)"}]
[758,{"$f":"IF('TxDOT Test Data'!$I$38=\"\",\"\",'TxDOT Test Data'!$I$38)","v":""},{"$f":"IF('TxDOT Test Data'!$C$21=\"\",\"\",'TxDOT Test Data'!$C$21)","v":"TXDOT:Tex-418-A"},{"$f":"IF('TxDOT Test Data'!$B$37=\"\",\"\",'TxDOT Test Data'!$B$37)","v":4},{"$f":"IF('TxDOT Test Data'!$I$28=\"\",\"\",'TxDOT Test Data'!$I$28)","v":"Length to Diameter Ratio"}]
[759,{"$f":"IF('TxDOT Test Data'!$J$38=\"\",\"\",'TxDOT Test Data'!$J$38)","v":""},{"$f":"IF('TxDOT Test Data'!$C$21=\"\",\"\",'TxDOT Test Data'!$C$21)","v":"TXDOT:Tex-418-A"},{"$f":"IF('TxDOT Test Data'!$B$37=\"\",\"\",'TxDOT Test Data'!$B$37)","v":4},{"$f":"IF('TxDOT Test Data'!$J$28=\"\",\"\",'TxDOT Test Data'!$J$28)","v":"Max Load (lbs.)"}]
[760,{"$f":"IF('TxDOT Test Data'!$K$38=\"\",\"\",'TxDOT Test Data'!$K$38)","v":""},{"$f":"IF('TxDOT Test Data'!$C$21=\"\",\"\",'TxDOT Test Data'!$C$21)","v":"TXDOT:Tex-418-A"},{"$f":"IF('TxDOT Test Data'!$B$37=\"\",\"\",'TxDOT Test Data'!$B$37)","v":4},{"$f":"IF('TxDOT Test Data'!$K$28=\"\",\"\",'TxDOT Test Data'!$K$28)","v":"Failure Type"}]
[761,{"$f":"IF('TxDOT Test Data'!$L$38=\"\",\"\",'TxDOT Test Data'!$L$38)","v":""},{"$f":"IF('TxDOT Test Data'!$C$21=\"\",\"\",'TxDOT Test Data'!$C$21)","v":"TXDOT:Tex-418-A"},{"$f":"IF('TxDOT Test Data'!$B$37=\"\",\"\",'TxDOT Test Data'!$B$37)","v":4},{"$f":"IF('TxDOT Test Data'!$L$28=\"\",\"\",'TxDOT Test Data'!$L$28)","v":"Correction Factor"}]
[762,{"$f":"IF('TxDOT Test Data'!$M$38=\"\",\"\",'TxDOT Test Data'!$M$38)","v":""},{"$f":"IF('TxDOT Test Data'!$C$21=\"\",\"\",'TxDOT Test Data'!$C$21)","v":"TXDOT:Tex-418-A"},{"$f":"IF('TxDOT Test Data'!$B$37=\"\",\"\",'TxDOT Test Data'!$B$37)","v":4},{"$f":"IF('TxDOT Test Data'!$M$28=\"\",\"\",'TxDOT Test Data'!$M$28)","v":"Compressive Strength (psi)"}]
[763,{"$f":"IF('TxDOT Test Data'!$F$39=\"\",\"\",'TxDOT Test Data'!$F$39)","v":""},{"$f":"IF('TxDOT Test Data'!$C$21=\"\",\"\",'TxDOT Test Data'!$C$21)","v":"TXDOT:Tex-418-A"},{"$f":"IF('TxDOT Test Data'!$B$39=\"\",\"\",'TxDOT Test Data'!$B$39)","v":5},{"$f":"IF('TxDOT Test Data'!$F$28=\"\",\"\",'TxDOT Test Data'!$F$28)","v":"Cylinder Number"}]
[764,{"$f":"IF('TxDOT Test Data'!$D$39=\"\",\"\",'TxDOT Test Data'!$D$39)","v":""},{"$f":"IF('TxDOT Test Data'!$C$21=\"\",\"\",'TxDOT Test Data'!$C$21)","v":"TXDOT:Tex-418-A"},{"$f":"IF('TxDOT Test Data'!$B$39=\"\",\"\",'TxDOT Test Data'!$B$39)","v":5},{"$f":"IF('TxDOT Test Data'!$D$28=\"\",\"\",'TxDOT Test Data'!$D$28)","v":"Station"}]
[765,{"$f":"IF('TxDOT Test Data'!$E$39=\"\",\"\",'TxDOT Test Data'!$E$39)","v":""},{"$f":"IF('TxDOT Test Data'!$C$21=\"\",\"\",'TxDOT Test Data'!$C$21)","v":"TXDOT:Tex-418-A"},{"$f":"IF('TxDOT Test Data'!$B$39=\"\",\"\",'TxDOT Test Data'!$B$39)","v":5},{"$f":"IF('TxDOT Test Data'!$E$28=\"\",\"\",'TxDOT Test Data'!$E$28)","v":"Age (Days)"}]
[766,{"$f":"IF('TxDOT Test Data'!$G$39=\"\",\"\",'TxDOT Test Data'!$G$39)","v":""},{"$f":"IF('TxDOT Test Data'!$C$21=\"\",\"\",'TxDOT Test Data'!$C$21)","v":"TXDOT:Tex-418-A"},{"$f":"IF('TxDOT Test Data'!$B$39=\"\",\"\",'TxDOT Test Data'!$B$39)","v":5},{"$f":"IF('TxDOT Test Data'!$G$29=\"\",\"\",'TxDOT Test Data'!$G$29)","v":" of Cylinder (inches)"}]
[767,{"$f":"IF('TxDOT Test Data'!$H$39=\"\",\"\",'TxDOT Test Data'!$H$39)","v":""},{"$f":"IF('TxDOT Test Data'!$C$21=\"\",\"\",'TxDOT Test Data'!$C$21)","v":"TXDOT:Tex-418-A"},{"$f":"IF('TxDOT Test Data'!$B$39=\"\",\"\",'TxDOT Test Data'!$B$39)","v":5},{"$f":"IF('TxDOT Test Data'!$H$28=\"\",\"\",'TxDOT Test Data'!$H$28)","v":"Length of Cylinder (inches)"}]
[768,{"$f":"IF('TxDOT Test Data'!$I$39=\"\",\"\",'TxDOT Test Data'!$I$39)","v":""},{"$f":"IF('TxDOT Test Data'!$C$21=\"\",\"\",'TxDOT Test Data'!$C$21)","v":"TXDOT:Tex-418-A"},{"$f":"IF('TxDOT Test Data'!$B$39=\"\",\"\",'TxDOT Test Data'!$B$39)","v":5},{"$f":"IF('TxDOT Test Data'!$I$28=\"\",\"\",'TxDOT Test Data'!$I$28)","v":"Length to Diameter Ratio"}]
[769,{"$f":"IF('TxDOT Test Data'!$J$39=\"\",\"\",'TxDOT Test Data'!$J$39)","v":""},{"$f":"IF('TxDOT Test Data'!$C$21=\"\",\"\",'TxDOT Test Data'!$C$21)","v":"TXDOT:Tex-418-A"},{"$f":"IF('TxDOT Test Data'!$B$39=\"\",\"\",'TxDOT Test Data'!$B$39)","v":5},{"$f":"IF('TxDOT Test Data'!$J$28=\"\",\"\",'TxDOT Test Data'!$J$28)","v":"Max Load (lbs.)"}]
[770,{"$f":"IF('TxDOT Test Data'!$K$39=\"\",\"\",'TxDOT Test Data'!$K$39)","v":""},{"$f":"IF('TxDOT Test Data'!$C$21=\"\",\"\",'TxDOT Test Data'!$C$21)","v":"TXDOT:Tex-418-A"},{"$f":"IF('TxDOT Test Data'!$B$39=\"\",\"\",'TxDOT Test Data'!$B$39)","v":5},{"$f":"IF('TxDOT Test Data'!$K$28=\"\",\"\",'TxDOT Test Data'!$K$28)","v":"Failure Type"}]
[771,{"$f":"IF('TxDOT Test Data'!$L$39=\"\",\"\",'TxDOT Test Data'!$L$39)","v":""},{"$f":"IF('TxDOT Test Data'!$C$21=\"\",\"\",'TxDOT Test Data'!$C$21)","v":"TXDOT:Tex-418-A"},{"$f":"IF('TxDOT Test Data'!$B$39=\"\",\"\",'TxDOT Test Data'!$B$39)","v":5},{"$f":"IF('TxDOT Test Data'!$L$28=\"\",\"\",'TxDOT Test Data'!$L$28)","v":"Correction Factor"}]
[772,{"$f":"IF('TxDOT Test Data'!$M$39=\"\",\"\",'TxDOT Test Data'!$M$39)","v":""},{"$f":"IF('TxDOT Test Data'!$C$21=\"\",\"\",'TxDOT Test Data'!$C$21)","v":"TXDOT:Tex-418-A"},{"$f":"IF('TxDOT Test Data'!$B$39=\"\",\"\",'TxDOT Test Data'!$B$39)","v":5},{"$f":"IF('TxDOT Test Data'!$M$28=\"\",\"\",'TxDOT Test Data'!$M$28)","v":"Compressive Strength (psi)"}]
[773,{"$f":"IF('TxDOT Test Data'!$N$39=\"\",\"\",'TxDOT Test Data'!$N$39)","v":""},{"$f":"IF('TxDOT Test Data'!$C$21=\"\",\"\",'TxDOT Test Data'!$C$21)","v":"TXDOT:Tex-418-A"},{"$f":"IF('TxDOT Test Data'!$B$39=\"\",\"\",'TxDOT Test Data'!$B$39)","v":5},{"$f":"IF('TxDOT Test Data'!$N$28=\"\",\"\",'TxDOT Test Data'!$N$28)","v":"Compressive Strength (avg) (psi)"}]
[774,{"$f":"IF('TxDOT Test Data'!$O$39=\"\",\"\",'TxDOT Test Data'!$O$39)","v":""},{"$f":"IF('TxDOT Test Data'!$C$21=\"\",\"\",'TxDOT Test Data'!$C$21)","v":"TXDOT:Tex-418-A"},{"$f":"IF('TxDOT Test Data'!$B$39=\"\",\"\",'TxDOT Test Data'!$B$39)","v":5},{"$f":"IF('TxDOT Test Data'!$O$28=\"\",\"\",'TxDOT Test Data'!$O$28)","v":"Meets Job Control Strength"}]
[775,{"$f":"IF('TxDOT Test Data'!$F$40=\"\",\"\",'TxDOT Test Data'!$F$40)","v":""},{"$f":"IF('TxDOT Test Data'!$C$21=\"\",\"\",'TxDOT Test Data'!$C$21)","v":"TXDOT:Tex-418-A"},{"$f":"IF('TxDOT Test Data'!$B$39=\"\",\"\",'TxDOT Test Data'!$B$39)","v":5},{"$f":"IF('TxDOT Test Data'!$F$28=\"\",\"\",'TxDOT Test Data'!$F$28)","v":"Cylinder Number"}]
[776,{"$f":"IF('TxDOT Test Data'!$G$40=\"\",\"\",'TxDOT Test Data'!$G$40)","v":""},{"$f":"IF('TxDOT Test Data'!$C$21=\"\",\"\",'TxDOT Test Data'!$C$21)","v":"TXDOT:Tex-418-A"},{"$f":"IF('TxDOT Test Data'!$B$39=\"\",\"\",'TxDOT Test Data'!$B$39)","v":5},{"$f":"IF('TxDOT Test Data'!$G$29=\"\",\"\",'TxDOT Test Data'!$G$29)","v":" of Cylinder (inches)"}]
[777,{"$f":"IF('TxDOT Test Data'!$H$40=\"\",\"\",'TxDOT Test Data'!$H$40)","v":""},{"$f":"IF('TxDOT Test Data'!$C$21=\"\",\"\",'TxDOT Test Data'!$C$21)","v":"TXDOT:Tex-418-A"},{"$f":"IF('TxDOT Test Data'!$B$39=\"\",\"\",'TxDOT Test Data'!$B$39)","v":5},{"$f":"IF('TxDOT Test Data'!$H$28=\"\",\"\",'TxDOT Test Data'!$H$28)","v":"Length of Cylinder (inches)"}]
[778,{"$f":"IF('TxDOT Test Data'!$I$40=\"\",\"\",'TxDOT Test Data'!$I$40)","v":""},{"$f":"IF('TxDOT Test Data'!$C$21=\"\",\"\",'TxDOT Test Data'!$C$21)","v":"TXDOT:Tex-418-A"},{"$f":"IF('TxDOT Test Data'!$B$39=\"\",\"\",'TxDOT Test Data'!$B$39)","v":5},{"$f":"IF('TxDOT Test Data'!$I$28=\"\",\"\",'TxDOT Test Data'!$I$28)","v":"Length to Diameter Ratio"}]
[779,{"$f":"IF('TxDOT Test Data'!$J$40=\"\",\"\",'TxDOT Test Data'!$J$40)","v":""},{"$f":"IF('TxDOT Test Data'!$C$21=\"\",\"\",'TxDOT Test Data'!$C$21)","v":"TXDOT:Tex-418-A"},{"$f":"IF('TxDOT Test Data'!$B$39=\"\",\"\",'TxDOT Test Data'!$B$39)","v":5},{"$f":"IF('TxDOT Test Data'!$J$28=\"\",\"\",'TxDOT Test Data'!$J$28)","v":"Max Load (lbs.)"}]
[780,{"$f":"IF('TxDOT Test Data'!$K$40=\"\",\"\",'TxDOT Test Data'!$K$40)","v":""},{"$f":"IF('TxDOT Test Data'!$C$21=\"\",\"\",'TxDOT Test Data'!$C$21)","v":"TXDOT:Tex-418-A"},{"$f":"IF('TxDOT Test Data'!$B$39=\"\",\"\",'TxDOT Test Data'!$B$39)","v":5},{"$f":"IF('TxDOT Test Data'!$K$28=\"\",\"\",'TxDOT Test Data'!$K$28)","v":"Failure Type"}]
[781,{"$f":"IF('TxDOT Test Data'!$L$40=\"\",\"\",'TxDOT Test Data'!$L$40)","v":""},{"$f":"IF('TxDOT Test Data'!$C$21=\"\",\"\",'TxDOT Test Data'!$C$21)","v":"TXDOT:Tex-418-A"},{"$f":"IF('TxDOT Test Data'!$B$39=\"\",\"\",'TxDOT Test Data'!$B$39)","v":5},{"$f":"IF('TxDOT Test Data'!$L$28=\"\",\"\",'TxDOT Test Data'!$L$28)","v":"Correction Factor"}]
[782,{"$f":"IF('TxDOT Test Data'!$M$40=\"\",\"\",'TxDOT Test Data'!$M$40)","v":""},{"$f":"IF('TxDOT Test Data'!$C$21=\"\",\"\",'TxDOT Test Data'!$C$21)","v":"TXDOT:Tex-418-A"},{"$f":"IF('TxDOT Test Data'!$B$39=\"\",\"\",'TxDOT Test Data'!$B$39)","v":5},{"$f":"IF('TxDOT Test Data'!$M$28=\"\",\"\",'TxDOT Test Data'!$M$28)","v":"Compressive Strength (psi)"}]
[783,{"$f":"IF('TxDOT Test Data'!$F$41=\"\",\"\",'TxDOT Test Data'!$F$41)","v":""},{"$f":"IF('TxDOT Test Data'!$C$21=\"\",\"\",'TxDOT Test Data'!$C$21)","v":"TXDOT:Tex-418-A"},{"$f":"IF('TxDOT Test Data'!$B$41=\"\",\"\",'TxDOT Test Data'!$B$41)","v":6},{"$f":"IF('TxDOT Test Data'!$F$28=\"\",\"\",'TxDOT Test Data'!$F$28)","v":"Cylinder Number"}]
[784,{"$f":"IF('TxDOT Test Data'!$D$41=\"\",\"\",'TxDOT Test Data'!$D$41)","v":""},{"$f":"IF('TxDOT Test Data'!$C$21=\"\",\"\",'TxDOT Test Data'!$C$21)","v":"TXDOT:Tex-418-A"},{"$f":"IF('TxDOT Test Data'!$B$41=\"\",\"\",'TxDOT Test Data'!$B$41)","v":6},{"$f":"IF('TxDOT Test Data'!$D$28=\"\",\"\",'TxDOT Test Data'!$D$28)","v":"Station"}]
[785,{"$f":"IF('TxDOT Test Data'!$E$41=\"\",\"\",'TxDOT Test Data'!$E$41)","v":""},{"$f":"IF('TxDOT Test Data'!$C$21=\"\",\"\",'TxDOT Test Data'!$C$21)","v":"TXDOT:Tex-418-A"},{"$f":"IF('TxDOT Test Data'!$B$41=\"\",\"\",'TxDOT Test Data'!$B$41)","v":6},{"$f":"IF('TxDOT Test Data'!$E$28=\"\",\"\",'TxDOT Test Data'!$E$28)","v":"Age (Days)"}]
[786,{"$f":"IF('TxDOT Test Data'!$G$41=\"\",\"\",'TxDOT Test Data'!$G$41)","v":""},{"$f":"IF('TxDOT Test Data'!$C$21=\"\",\"\",'TxDOT Test Data'!$C$21)","v":"TXDOT:Tex-418-A"},{"$f":"IF('TxDOT Test Data'!$B$41=\"\",\"\",'TxDOT Test Data'!$B$41)","v":6},{"$f":"IF('TxDOT Test Data'!$G$29=\"\",\"\",'TxDOT Test Data'!$G$29)","v":" of Cylinder (inches)"}]
[787,{"$f":"IF('TxDOT Test Data'!$H$41=\"\",\"\",'TxDOT Test Data'!$H$41)","v":""},{"$f":"IF('TxDOT Test Data'!$C$21=\"\",\"\",'TxDOT Test Data'!$C$21)","v":"TXDOT:Tex-418-A"},{"$f":"IF('TxDOT Test Data'!$B$41=\"\",\"\",'TxDOT Test Data'!$B$41)","v":6},{"$f":"IF('TxDOT Test Data'!$H$28=\"\",\"\",'TxDOT Test Data'!$H$28)","v":"Length of Cylinder (inches)"}]
[788,{"$f":"IF('TxDOT Test Data'!$I$41=\"\",\"\",'TxDOT Test Data'!$I$41)","v":""},{"$f":"IF('TxDOT Test Data'!$C$21=\"\",\"\",'TxDOT Test Data'!$C$21)","v":"TXDOT:Tex-418-A"},{"$f":"IF('TxDOT Test Data'!$B$41=\"\",\"\",'TxDOT Test Data'!$B$41)","v":6},{"$f":"IF('TxDOT Test Data'!$I$28=\"\",\"\",'TxDOT Test Data'!$I$28)","v":"Length to Diameter Ratio"}]
[789,{"$f":"IF('TxDOT Test Data'!$J$41=\"\",\"\",'TxDOT Test Data'!$J$41)","v":""},{"$f":"IF('TxDOT Test Data'!$C$21=\"\",\"\",'TxDOT Test Data'!$C$21)","v":"TXDOT:Tex-418-A"},{"$f":"IF('TxDOT Test Data'!$B$41=\"\",\"\",'TxDOT Test Data'!$B$41)","v":6},{"$f":"IF('TxDOT Test Data'!$J$28=\"\",\"\",'TxDOT Test Data'!$J$28)","v":"Max Load (lbs.)"}]
[790,{"$f":"IF('TxDOT Test Data'!$K$41=\"\",\"\",'TxDOT Test Data'!$K$41)","v":""},{"$f":"IF('TxDOT Test Data'!$C$21=\"\",\"\",'TxDOT Test Data'!$C$21)","v":"TXDOT:Tex-418-A"},{"$f":"IF('TxDOT Test Data'!$B$41=\"\",\"\",'TxDOT Test Data'!$B$41)","v":6},{"$f":"IF('TxDOT Test Data'!$K$28=\"\",\"\",'TxDOT Test Data'!$K$28)","v":"Failure Type"}]
[791,{"$f":"IF('TxDOT Test Data'!$L$41=\"\",\"\",'TxDOT Test Data'!$L$41)","v":""},{"$f":"IF('TxDOT Test Data'!$C$21=\"\",\"\",'TxDOT Test Data'!$C$21)","v":"TXDOT:Tex-418-A"},{"$f":"IF('TxDOT Test Data'!$B$41=\"\",\"\",'TxDOT Test Data'!$B$41)","v":6},{"$f":"IF('TxDOT Test Data'!$L$28=\"\",\"\",'TxDOT Test Data'!$L$28)","v":"Correction Factor"}]
[792,{"$f":"IF('TxDOT Test Data'!$M$41=\"\",\"\",'TxDOT Test Data'!$M$41)","v":""},{"$f":"IF('TxDOT Test Data'!$C$21=\"\",\"\",'TxDOT Test Data'!$C$21)","v":"TXDOT:Tex-418-A"},{"$f":"IF('TxDOT Test Data'!$B$41=\"\",\"\",'TxDOT Test Data'!$B$41)","v":6},{"$f":"IF('TxDOT Test Data'!$M$28=\"\",\"\",'TxDOT Test Data'!$M$28)","v":"Compressive Strength (psi)"}]
[793,{"$f":"IF('TxDOT Test Data'!$N$41=\"\",\"\",'TxDOT Test Data'!$N$41)","v":""},{"$f":"IF('TxDOT Test Data'!$C$21=\"\",\"\",'TxDOT Test Data'!$C$21)","v":"TXDOT:Tex-418-A"},{"$f":"IF('TxDOT Test Data'!$B$41=\"\",\"\",'TxDOT Test Data'!$B$41)","v":6},{"$f":"IF('TxDOT Test Data'!$N$28=\"\",\"\",'TxDOT Test Data'!$N$28)","v":"Compressive Strength (avg) (psi)"}]
[794,{"$f":"IF('TxDOT Test Data'!$O$41=\"\",\"\",'TxDOT Test Data'!$O$41)","v":""},{"$f":"IF('TxDOT Test Data'!$C$21=\"\",\"\",'TxDOT Test Data'!$C$21)","v":"TXDOT:Tex-418-A"},{"$f":"IF('TxDOT Test Data'!$B$41=\"\",\"\",'TxDOT Test Data'!$B$41)","v":6},{"$f":"IF('TxDOT Test Data'!$O$28=\"\",\"\",'TxDOT Test Data'!$O$28)","v":"Meets Job Control Strength"}]
[795,{"$f":"IF('TxDOT Test Data'!$F$42=\"\",\"\",'TxDOT Test Data'!$F$42)","v":""},{"$f":"IF('TxDOT Test Data'!$C$21=\"\",\"\",'TxDOT Test Data'!$C$21)","v":"TXDOT:Tex-418-A"},{"$f":"IF('TxDOT Test Data'!$B$41=\"\",\"\",'TxDOT Test Data'!$B$41)","v":6},{"$f":"IF('TxDOT Test Data'!$F$28=\"\",\"\",'TxDOT Test Data'!$F$28)","v":"Cylinder Number"}]
[796,{"$f":"IF('TxDOT Test Data'!$G$42=\"\",\"\",'TxDOT Test Data'!$G$42)","v":""},{"$f":"IF('TxDOT Test Data'!$C$21=\"\",\"\",'TxDOT Test Data'!$C$21)","v":"TXDOT:Tex-418-A"},{"$f":"IF('TxDOT Test Data'!$B$41=\"\",\"\",'TxDOT Test Data'!$B$41)","v":6},{"$f":"IF('TxDOT Test Data'!$G$29=\"\",\"\",'TxDOT Test Data'!$G$29)","v":" of Cylinder (inches)"}]
[797,{"$f":"IF('TxDOT Test Data'!$H$42=\"\",\"\",'TxDOT Test Data'!$H$42)","v":""},{"$f":"IF('TxDOT Test Data'!$C$21=\"\",\"\",'TxDOT Test Data'!$C$21)","v":"TXDOT:Tex-418-A"},{"$f":"IF('TxDOT Test Data'!$B$41=\"\",\"\",'TxDOT Test Data'!$B$41)","v":6},{"$f":"IF('TxDOT Test Data'!$H$28=\"\",\"\",'TxDOT Test Data'!$H$28)","v":"Length of Cylinder (inches)"}]
[798,{"$f":"IF('TxDOT Test Data'!$I$42=\"\",\"\",'TxDOT Test Data'!$I$42)","v":""},{"$f":"IF('TxDOT Test Data'!$C$21=\"\",\"\",'TxDOT Test Data'!$C$21)","v":"TXDOT:Tex-418-A"},{"$f":"IF('TxDOT Test Data'!$B$41=\"\",\"\",'TxDOT Test Data'!$B$41)","v":6},{"$f":"IF('TxDOT Test Data'!$I$28=\"\",\"\",'TxDOT Test Data'!$I$28)","v":"Length to Diameter Ratio"}]
[799,{"$f":"IF('TxDOT Test Data'!$J$42=\"\",\"\",'TxDOT Test Data'!$J$42)","v":""},{"$f":"IF('TxDOT Test Data'!$C$21=\"\",\"\",'TxDOT Test Data'!$C$21)","v":"TXDOT:Tex-418-A"},{"$f":"IF('TxDOT Test Data'!$B$41=\"\",\"\",'TxDOT Test Data'!$B$41)","v":6},{"$f":"IF('TxDOT Test Data'!$J$28=\"\",\"\",'TxDOT Test Data'!$J$28)","v":"Max Load (lbs.)"}]
[800,{"$f":"IF('TxDOT Test Data'!$K$42=\"\",\"\",'TxDOT Test Data'!$K$42)","v":""},{"$f":"IF('TxDOT Test Data'!$C$21=\"\",\"\",'TxDOT Test Data'!$C$21)","v":"TXDOT:Tex-418-A"},{"$f":"IF('TxDOT Test Data'!$B$41=\"\",\"\",'TxDOT Test Data'!$B$41)","v":6},{"$f":"IF('TxDOT Test Data'!$K$28=\"\",\"\",'TxDOT Test Data'!$K$28)","v":"Failure Type"}]
[801,{"$f":"IF('TxDOT Test Data'!$L$42=\"\",\"\",'TxDOT Test Data'!$L$42)","v":""},{"$f":"IF('TxDOT Test Data'!$C$21=\"\",\"\",'TxDOT Test Data'!$C$21)","v":"TXDOT:Tex-418-A"},{"$f":"IF('TxDOT Test Data'!$B$41=\"\",\"\",'TxDOT Test Data'!$B$41)","v":6},{"$f":"IF('TxDOT Test Data'!$L$28=\"\",\"\",'TxDOT Test Data'!$L$28)","v":"Correction Factor"}]
[802,{"$f":"IF('TxDOT Test Data'!$M$42=\"\",\"\",'TxDOT Test Data'!$M$42)","v":""},{"$f":"IF('TxDOT Test Data'!$C$21=\"\",\"\",'TxDOT Test Data'!$C$21)","v":"TXDOT:Tex-418-A"},{"$f":"IF('TxDOT Test Data'!$B$41=\"\",\"\",'TxDOT Test Data'!$B$41)","v":6},{"$f":"IF('TxDOT Test Data'!$M$28=\"\",\"\",'TxDOT Test Data'!$M$28)","v":"Compressive Strength (psi)"}]
[803,{"$f":"IF('TxDOT Test Data'!$F$43=\"\",\"\",'TxDOT Test Data'!$F$43)","v":""},{"$f":"IF('TxDOT Test Data'!$C$21=\"\",\"\",'TxDOT Test Data'!$C$21)","v":"TXDOT:Tex-418-A"},{"$f":"IF('TxDOT Test Data'!$B$43=\"\",\"\",'TxDOT Test Data'!$B$43)","v":7},{"$f":"IF('TxDOT Test Data'!$F$28=\"\",\"\",'TxDOT Test Data'!$F$28)","v":"Cylinder Number"}]
[804,{"$f":"IF('TxDOT Test Data'!$D$43=\"\",\"\",'TxDOT Test Data'!$D$43)","v":""},{"$f":"IF('TxDOT Test Data'!$C$21=\"\",\"\",'TxDOT Test Data'!$C$21)","v":"TXDOT:Tex-418-A"},{"$f":"IF('TxDOT Test Data'!$B$43=\"\",\"\",'TxDOT Test Data'!$B$43)","v":7},{"$f":"IF('TxDOT Test Data'!$D$28=\"\",\"\",'TxDOT Test Data'!$D$28)","v":"Station"}]
[805,{"$f":"IF('TxDOT Test Data'!$E$43=\"\",\"\",'TxDOT Test Data'!$E$43)","v":""},{"$f":"IF('TxDOT Test Data'!$C$21=\"\",\"\",'TxDOT Test Data'!$C$21)","v":"TXDOT:Tex-418-A"},{"$f":"IF('TxDOT Test Data'!$B$43=\"\",\"\",'TxDOT Test Data'!$B$43)","v":7},{"$f":"IF('TxDOT Test Data'!$E$28=\"\",\"\",'TxDOT Test Data'!$E$28)","v":"Age (Days)"}]
[806,{"$f":"IF('TxDOT Test Data'!$G$43=\"\",\"\",'TxDOT Test Data'!$G$43)","v":""},{"$f":"IF('TxDOT Test Data'!$C$21=\"\",\"\",'TxDOT Test Data'!$C$21)","v":"TXDOT:Tex-418-A"},{"$f":"IF('TxDOT Test Data'!$B$43=\"\",\"\",'TxDOT Test Data'!$B$43)","v":7},{"$f":"IF('TxDOT Test Data'!$G$29=\"\",\"\",'TxDOT Test Data'!$G$29)","v":" of Cylinder (inches)"}]
[807,{"$f":"IF('TxDOT Test Data'!$H$43=\"\",\"\",'TxDOT Test Data'!$H$43)","v":""},{"$f":"IF('TxDOT Test Data'!$C$21=\"\",\"\",'TxDOT Test Data'!$C$21)","v":"TXDOT:Tex-418-A"},{"$f":"IF('TxDOT Test Data'!$B$43=\"\",\"\",'TxDOT Test Data'!$B$43)","v":7},{"$f":"IF('TxDOT Test Data'!$H$28=\"\",\"\",'TxDOT Test Data'!$H$28)","v":"Length of Cylinder (inches)"}]
[808,{"$f":"IF('TxDOT Test Data'!$I$43=\"\",\"\",'TxDOT Test Data'!$I$43)","v":""},{"$f":"IF('TxDOT Test Data'!$C$21=\"\",\"\",'TxDOT Test Data'!$C$21)","v":"TXDOT:Tex-418-A"},{"$f":"IF('TxDOT Test Data'!$B$43=\"\",\"\",'TxDOT Test Data'!$B$43)","v":7},{"$f":"IF('TxDOT Test Data'!$I$28=\"\",\"\",'TxDOT Test Data'!$I$28)","v":"Length to Diameter Ratio"}]
[809,{"$f":"IF('TxDOT Test Data'!$J$43=\"\",\"\",'TxDOT Test Data'!$J$43)","v":""},{"$f":"IF('TxDOT Test Data'!$C$21=\"\",\"\",'TxDOT Test Data'!$C$21)","v":"TXDOT:Tex-418-A"},{"$f":"IF('TxDOT Test Data'!$B$43=\"\",\"\",'TxDOT Test Data'!$B$43)","v":7},{"$f":"IF('TxDOT Test Data'!$J$28=\"\",\"\",'TxDOT Test Data'!$J$28)","v":"Max Load (lbs.)"}]
[810,{"$f":"IF('TxDOT Test Data'!$K$43=\"\",\"\",'TxDOT Test Data'!$K$43)","v":""},{"$f":"IF('TxDOT Test Data'!$C$21=\"\",\"\",'TxDOT Test Data'!$C$21)","v":"TXDOT:Tex-418-A"},{"$f":"IF('TxDOT Test Data'!$B$43=\"\",\"\",'TxDOT Test Data'!$B$43)","v":7},{"$f":"IF('TxDOT Test Data'!$K$28=\"\",\"\",'TxDOT Test Data'!$K$28)","v":"Failure Type"}]
[811,{"$f":"IF('TxDOT Test Data'!$L$43=\"\",\"\",'TxDOT Test Data'!$L$43)","v":""},{"$f":"IF('TxDOT Test Data'!$C$21=\"\",\"\",'TxDOT Test Data'!$C$21)","v":"TXDOT:Tex-418-A"},{"$f":"IF('TxDOT Test Data'!$B$43=\"\",\"\",'TxDOT Test Data'!$B$43)","v":7},{"$f":"IF('TxDOT Test Data'!$L$28=\"\",\"\",'TxDOT Test Data'!$L$28)","v":"Correction Factor"}]
[812,{"$f":"IF('TxDOT Test Data'!$M$43=\"\",\"\",'TxDOT Test Data'!$M$43)","v":""},{"$f":"IF('TxDOT Test Data'!$C$21=\"\",\"\",'TxDOT Test Data'!$C$21)","v":"TXDOT:Tex-418-A"},{"$f":"IF('TxDOT Test Data'!$B$43=\"\",\"\",'TxDOT Test Data'!$B$43)","v":7},{"$f":"IF('TxDOT Test Data'!$M$28=\"\",\"\",'TxDOT Test Data'!$M$28)","v":"Compressive Strength (psi)"}]
[813,{"$f":"IF('TxDOT Test Data'!$N$43=\"\",\"\",'TxDOT Test Data'!$N$43)","v":""},{"$f":"IF('TxDOT Test Data'!$C$21=\"\",\"\",'TxDOT Test Data'!$C$21)","v":"TXDOT:Tex-418-A"},{"$f":"IF('TxDOT Test Data'!$B$43=\"\",\"\",'TxDOT Test Data'!$B$43)","v":7},{"$f":"IF('TxDOT Test Data'!$N$28=\"\",\"\",'TxDOT Test Data'!$N$28)","v":"Compressive Strength (avg) (psi)"}]
[814,{"$f":"IF('TxDOT Test Data'!$O$43=\"\",\"\",'TxDOT Test Data'!$O$43)","v":""},{"$f":"IF('TxDOT Test Data'!$C$21=\"\",\"\",'TxDOT Test Data'!$C$21)","v":"TXDOT:Tex-418-A"},{"$f":"IF('TxDOT Test Data'!$B$43=\"\",\"\",'TxDOT Test Data'!$B$43)","v":7},{"$f":"IF('TxDOT Test Data'!$O$28=\"\",\"\",'TxDOT Test Data'!$O$28)","v":"Meets Job Control Strength"}]
[815,{"$f":"IF('TxDOT Test Data'!$F$44=\"\",\"\",'TxDOT Test Data'!$F$44)","v":""},{"$f":"IF('TxDOT Test Data'!$C$21=\"\",\"\",'TxDOT Test Data'!$C$21)","v":"TXDOT:Tex-418-A"},{"$f":"IF('TxDOT Test Data'!$B$43=\"\",\"\",'TxDOT Test Data'!$B$43)","v":7},{"$f":"IF('TxDOT Test Data'!$F$28=\"\",\"\",'TxDOT Test Data'!$F$28)","v":"Cylinder Number"}]
[816,{"$f":"IF('TxDOT Test Data'!$G$44=\"\",\"\",'TxDOT Test Data'!$G$44)","v":""},{"$f":"IF('TxDOT Test Data'!$C$21=\"\",\"\",'TxDOT Test Data'!$C$21)","v":"TXDOT:Tex-418-A"},{"$f":"IF('TxDOT Test Data'!$B$43=\"\",\"\",'TxDOT Test Data'!$B$43)","v":7},{"$f":"IF('TxDOT Test Data'!$G$29=\"\",\"\",'TxDOT Test Data'!$G$29)","v":" of Cylinder (inches)"}]
[817,{"$f":"IF('TxDOT Test Data'!$H$44=\"\",\"\",'TxDOT Test Data'!$H$44)","v":""},{"$f":"IF('TxDOT Test Data'!$C$21=\"\",\"\",'TxDOT Test Data'!$C$21)","v":"TXDOT:Tex-418-A"},{"$f":"IF('TxDOT Test Data'!$B$43=\"\",\"\",'TxDOT Test Data'!$B$43)","v":7},{"$f":"IF('TxDOT Test Data'!$H$28=\"\",\"\",'TxDOT Test Data'!$H$28)","v":"Length of Cylinder (inches)"}]
[818,{"$f":"IF('TxDOT Test Data'!$I$44=\"\",\"\",'TxDOT Test Data'!$I$44)","v":""},{"$f":"IF('TxDOT Test Data'!$C$21=\"\",\"\",'TxDOT Test Data'!$C$21)","v":"TXDOT:Tex-418-A"},{"$f":"IF('TxDOT Test Data'!$B$43=\"\",\"\",'TxDOT Test Data'!$B$43)","v":7},{"$f":"IF('TxDOT Test Data'!$I$28=\"\",\"\",'TxDOT Test Data'!$I$28)","v":"Length to Diameter Ratio"}]
[819,{"$f":"IF('TxDOT Test Data'!$J$44=\"\",\"\",'TxDOT Test Data'!$J$44)","v":""},{"$f":"IF('TxDOT Test Data'!$C$21=\"\",\"\",'TxDOT Test Data'!$C$21)","v":"TXDOT:Tex-418-A"},{"$f":"IF('TxDOT Test Data'!$B$43=\"\",\"\",'TxDOT Test Data'!$B$43)","v":7},{"$f":"IF('TxDOT Test Data'!$J$28=\"\",\"\",'TxDOT Test Data'!$J$28)","v":"Max Load (lbs.)"}]
[820,{"$f":"IF('TxDOT Test Data'!$K$44=\"\",\"\",'TxDOT Test Data'!$K$44)","v":""},{"$f":"IF('TxDOT Test Data'!$C$21=\"\",\"\",'TxDOT Test Data'!$C$21)","v":"TXDOT:Tex-418-A"},{"$f":"IF('TxDOT Test Data'!$B$43=\"\",\"\",'TxDOT Test Data'!$B$43)","v":7},{"$f":"IF('TxDOT Test Data'!$K$28=\"\",\"\",'TxDOT Test Data'!$K$28)","v":"Failure Type"}]
[821,{"$f":"IF('TxDOT Test Data'!$L$44=\"\",\"\",'TxDOT Test Data'!$L$44)","v":""},{"$f":"IF('TxDOT Test Data'!$C$21=\"\",\"\",'TxDOT Test Data'!$C$21)","v":"TXDOT:Tex-418-A"},{"$f":"IF('TxDOT Test Data'!$B$43=\"\",\"\",'TxDOT Test Data'!$B$43)","v":7},{"$f":"IF('TxDOT Test Data'!$L$28=\"\",\"\",'TxDOT Test Data'!$L$28)","v":"Correction Factor"}]
[822,{"$f":"IF('TxDOT Test Data'!$M$44=\"\",\"\",'TxDOT Test Data'!$M$44)","v":""},{"$f":"IF('TxDOT Test Data'!$C$21=\"\",\"\",'TxDOT Test Data'!$C$21)","v":"TXDOT:Tex-418-A"},{"$f":"IF('TxDOT Test Data'!$B$43=\"\",\"\",'TxDOT Test Data'!$B$43)","v":7},{"$f":"IF('TxDOT Test Data'!$M$28=\"\",\"\",'TxDOT Test Data'!$M$28)","v":"Compressive Strength (psi)"}]
[823,{"$f":"IF('TxDOT Test Data'!$F$45=\"\",\"\",'TxDOT Test Data'!$F$45)","v":""},{"$f":"IF('TxDOT Test Data'!$C$21=\"\",\"\",'TxDOT Test Data'!$C$21)","v":"TXDOT:Tex-418-A"},{"$f":"IF('TxDOT Test Data'!$B$45=\"\",\"\",'TxDOT Test Data'!$B$45)","v":8},{"$f":"IF('TxDOT Test Data'!$F$28=\"\",\"\",'TxDOT Test Data'!$F$28)","v":"Cylinder Number"}]
[824,{"$f":"IF('TxDOT Test Data'!$D$45=\"\",\"\",'TxDOT Test Data'!$D$45)","v":""},{"$f":"IF('TxDOT Test Data'!$C$21=\"\",\"\",'TxDOT Test Data'!$C$21)","v":"TXDOT:Tex-418-A"},{"$f":"IF('TxDOT Test Data'!$B$45=\"\",\"\",'TxDOT Test Data'!$B$45)","v":8},{"$f":"IF('TxDOT Test Data'!$D$28=\"\",\"\",'TxDOT Test Data'!$D$28)","v":"Station"}]
[825,{"$f":"IF('TxDOT Test Data'!$E$45=\"\",\"\",'TxDOT Test Data'!$E$45)","v":""},{"$f":"IF('TxDOT Test Data'!$C$21=\"\",\"\",'TxDOT Test Data'!$C$21)","v":"TXDOT:Tex-418-A"},{"$f":"IF('TxDOT Test Data'!$B$45=\"\",\"\",'TxDOT Test Data'!$B$45)","v":8},{"$f":"IF('TxDOT Test Data'!$E$28=\"\",\"\",'TxDOT Test Data'!$E$28)","v":"Age (Days)"}]
[826,{"$f":"IF('TxDOT Test Data'!$G$45=\"\",\"\",'TxDOT Test Data'!$G$45)","v":""},{"$f":"IF('TxDOT Test Data'!$C$21=\"\",\"\",'TxDOT Test Data'!$C$21)","v":"TXDOT:Tex-418-A"},{"$f":"IF('TxDOT Test Data'!$B$45=\"\",\"\",'TxDOT Test Data'!$B$45)","v":8},{"$f":"IF('TxDOT Test Data'!$G$29=\"\",\"\",'TxDOT Test Data'!$G$29)","v":" of Cylinder (inches)"}]
[827,{"$f":"IF('TxDOT Test Data'!$H$45=\"\",\"\",'TxDOT Test Data'!$H$45)","v":""},{"$f":"IF('TxDOT Test Data'!$C$21=\"\",\"\",'TxDOT Test Data'!$C$21)","v":"TXDOT:Tex-418-A"},{"$f":"IF('TxDOT Test Data'!$B$45=\"\",\"\",'TxDOT Test Data'!$B$45)","v":8},{"$f":"IF('TxDOT Test Data'!$H$28=\"\",\"\",'TxDOT Test Data'!$H$28)","v":"Length of Cylinder (inches)"}]
[828,{"$f":"IF('TxDOT Test Data'!$I$45=\"\",\"\",'TxDOT Test Data'!$I$45)","v":""},{"$f":"IF('TxDOT Test Data'!$C$21=\"\",\"\",'TxDOT Test Data'!$C$21)","v":"TXDOT:Tex-418-A"},{"$f":"IF('TxDOT Test Data'!$B$45=\"\",\"\",'TxDOT Test Data'!$B$45)","v":8},{"$f":"IF('TxDOT Test Data'!$I$28=\"\",\"\",'TxDOT Test Data'!$I$28)","v":"Length to Diameter Ratio"}]
[829,{"$f":"IF('TxDOT Test Data'!$J$45=\"\",\"\",'TxDOT Test Data'!$J$45)","v":""},{"$f":"IF('TxDOT Test Data'!$C$21=\"\",\"\",'TxDOT Test Data'!$C$21)","v":"TXDOT:Tex-418-A"},{"$f":"IF('TxDOT Test Data'!$B$45=\"\",\"\",'TxDOT Test Data'!$B$45)","v":8},{"$f":"IF('TxDOT Test Data'!$J$28=\"\",\"\",'TxDOT Test Data'!$J$28)","v":"Max Load (lbs.)"}]
[830,{"$f":"IF('TxDOT Test Data'!$K$45=\"\",\"\",'TxDOT Test Data'!$K$45)","v":""},{"$f":"IF('TxDOT Test Data'!$C$21=\"\",\"\",'TxDOT Test Data'!$C$21)","v":"TXDOT:Tex-418-A"},{"$f":"IF('TxDOT Test Data'!$B$45=\"\",\"\",'TxDOT Test Data'!$B$45)","v":8},{"$f":"IF('TxDOT Test Data'!$K$28=\"\",\"\",'TxDOT Test Data'!$K$28)","v":"Failure Type"}]
[831,{"$f":"IF('TxDOT Test Data'!$L$45=\"\",\"\",'TxDOT Test Data'!$L$45)","v":""},{"$f":"IF('TxDOT Test Data'!$C$21=\"\",\"\",'TxDOT Test Data'!$C$21)","v":"TXDOT:Tex-418-A"},{"$f":"IF('TxDOT Test Data'!$B$45=\"\",\"\",'TxDOT Test Data'!$B$45)","v":8},{"$f":"IF('TxDOT Test Data'!$L$28=\"\",\"\",'TxDOT Test Data'!$L$28)","v":"Correction Factor"}]
[832,{"$f":"IF('TxDOT Test Data'!$M$45=\"\",\"\",'TxDOT Test Data'!$M$45)","v":""},{"$f":"IF('TxDOT Test Data'!$C$21=\"\",\"\",'TxDOT Test Data'!$C$21)","v":"TXDOT:Tex-418-A"},{"$f":"IF('TxDOT Test Data'!$B$45=\"\",\"\",'TxDOT Test Data'!$B$45)","v":8},{"$f":"IF('TxDOT Test Data'!$M$28=\"\",\"\",'TxDOT Test Data'!$M$28)","v":"Compressive Strength (psi)"}]
[833,{"$f":"IF('TxDOT Test Data'!$N$45=\"\",\"\",'TxDOT Test Data'!$N$45)","v":""},{"$f":"IF('TxDOT Test Data'!$C$21=\"\",\"\",'TxDOT Test Data'!$C$21)","v":"TXDOT:Tex-418-A"},{"$f":"IF('TxDOT Test Data'!$B$45=\"\",\"\",'TxDOT Test Data'!$B$45)","v":8},{"$f":"IF('TxDOT Test Data'!$N$28=\"\",\"\",'TxDOT Test Data'!$N$28)","v":"Compressive Strength (avg) (psi)"}]
[834,{"$f":"IF('TxDOT Test Data'!$O$45=\"\",\"\",'TxDOT Test Data'!$O$45)","v":""},{"$f":"IF('TxDOT Test Data'!$C$21=\"\",\"\",'TxDOT Test Data'!$C$21)","v":"TXDOT:Tex-418-A"},{"$f":"IF('TxDOT Test Data'!$B$45=\"\",\"\",'TxDOT Test Data'!$B$45)","v":8},{"$f":"IF('TxDOT Test Data'!$O$28=\"\",\"\",'TxDOT Test Data'!$O$28)","v":"Meets Job Control Strength"}]
[835,{"$f":"IF('TxDOT Test Data'!$F$46=\"\",\"\",'TxDOT Test Data'!$F$46)","v":""},{"$f":"IF('TxDOT Test Data'!$C$21=\"\",\"\",'TxDOT Test Data'!$C$21)","v":"TXDOT:Tex-418-A"},{"$f":"IF('TxDOT Test Data'!$B$45=\"\",\"\",'TxDOT Test Data'!$B$45)","v":8},{"$f":"IF('TxDOT Test Data'!$F$28=\"\",\"\",'TxDOT Test Data'!$F$28)","v":"Cylinder Number"}]
[836,{"$f":"IF('TxDOT Test Data'!$G$46=\"\",\"\",'TxDOT Test Data'!$G$46)","v":""},{"$f":"IF('TxDOT Test Data'!$C$21=\"\",\"\",'TxDOT Test Data'!$C$21)","v":"TXDOT:Tex-418-A"},{"$f":"IF('TxDOT Test Data'!$B$45=\"\",\"\",'TxDOT Test Data'!$B$45)","v":8},{"$f":"IF('TxDOT Test Data'!$G$29=\"\",\"\",'TxDOT Test Data'!$G$29)","v":" of Cylinder (inches)"}]
[837,{"$f":"IF('TxDOT Test Data'!$H$46=\"\",\"\",'TxDOT Test Data'!$H$46)","v":""},{"$f":"IF('TxDOT Test Data'!$C$21=\"\",\"\",'TxDOT Test Data'!$C$21)","v":"TXDOT:Tex-418-A"},{"$f":"IF('TxDOT Test Data'!$B$45=\"\",\"\",'TxDOT Test Data'!$B$45)","v":8},{"$f":"IF('TxDOT Test Data'!$H$28=\"\",\"\",'TxDOT Test Data'!$H$28)","v":"Length of Cylinder (inches)"}]
[838,{"$f":"IF('TxDOT Test Data'!$I$46=\"\",\"\",'TxDOT Test Data'!$I$46)","v":""},{"$f":"IF('TxDOT Test Data'!$C$21=\"\",\"\",'TxDOT Test Data'!$C$21)","v":"TXDOT:Tex-418-A"},{"$f":"IF('TxDOT Test Data'!$B$45=\"\",\"\",'TxDOT Test Data'!$B$45)","v":8},{"$f":"IF('TxDOT Test Data'!$I$28=\"\",\"\",'TxDOT Test Data'!$I$28)","v":"Length to Diameter Ratio"}]
[839,{"$f":"IF('TxDOT Test Data'!$J$46=\"\",\"\",'TxDOT Test Data'!$J$46)","v":""},{"$f":"IF('TxDOT Test Data'!$C$21=\"\",\"\",'TxDOT Test Data'!$C$21)","v":"TXDOT:Tex-418-A"},{"$f":"IF('TxDOT Test Data'!$B$45=\"\",\"\",'TxDOT Test Data'!$B$45)","v":8},{"$f":"IF('TxDOT Test Data'!$J$28=\"\",\"\",'TxDOT Test Data'!$J$28)","v":"Max Load (lbs.)"}]
[840,{"$f":"IF('TxDOT Test Data'!$K$46=\"\",\"\",'TxDOT Test Data'!$K$46)","v":""},{"$f":"IF('TxDOT Test Data'!$C$21=\"\",\"\",'TxDOT Test Data'!$C$21)","v":"TXDOT:Tex-418-A"},{"$f":"IF('TxDOT Test Data'!$B$45=\"\",\"\",'TxDOT Test Data'!$B$45)","v":8},{"$f":"IF('TxDOT Test Data'!$K$28=\"\",\"\",'TxDOT Test Data'!$K$28)","v":"Failure Type"}]
[841,{"$f":"IF('TxDOT Test Data'!$L$46=\"\",\"\",'TxDOT Test Data'!$L$46)","v":""},{"$f":"IF('TxDOT Test Data'!$C$21=\"\",\"\",'TxDOT Test Data'!$C$21)","v":"TXDOT:Tex-418-A"},{"$f":"IF('TxDOT Test Data'!$B$45=\"\",\"\",'TxDOT Test Data'!$B$45)","v":8},{"$f":"IF('TxDOT Test Data'!$L$28=\"\",\"\",'TxDOT Test Data'!$L$28)","v":"Correction Factor"}]
[842,{"$f":"IF('TxDOT Test Data'!$M$46=\"\",\"\",'TxDOT Test Data'!$M$46)","v":""},{"$f":"IF('TxDOT Test Data'!$C$21=\"\",\"\",'TxDOT Test Data'!$C$21)","v":"TXDOT:Tex-418-A"},{"$f":"IF('TxDOT Test Data'!$B$45=\"\",\"\",'TxDOT Test Data'!$B$45)","v":8},{"$f":"IF('TxDOT Test Data'!$M$28=\"\",\"\",'TxDOT Test Data'!$M$28)","v":"Compressive Strength (psi)"}]
[843,{"$f":"IF('TxDOT Test Data'!$F$47=\"\",\"\",'TxDOT Test Data'!$F$47)","v":""},{"$f":"IF('TxDOT Test Data'!$C$21=\"\",\"\",'TxDOT Test Data'!$C$21)","v":"TXDOT:Tex-418-A"},{"$f":"IF('TxDOT Test Data'!$B$47=\"\",\"\",'TxDOT Test Data'!$B$47)","v":9},{"$f":"IF('TxDOT Test Data'!$F$28=\"\",\"\",'TxDOT Test Data'!$F$28)","v":"Cylinder Number"}]
[844,{"$f":"IF('TxDOT Test Data'!$D$47=\"\",\"\",'TxDOT Test Data'!$D$47)","v":""},{"$f":"IF('TxDOT Test Data'!$C$21=\"\",\"\",'TxDOT Test Data'!$C$21)","v":"TXDOT:Tex-418-A"},{"$f":"IF('TxDOT Test Data'!$B$47=\"\",\"\",'TxDOT Test Data'!$B$47)","v":9},{"$f":"IF('TxDOT Test Data'!$D$28=\"\",\"\",'TxDOT Test Data'!$D$28)","v":"Station"}]
[845,{"$f":"IF('TxDOT Test Data'!$E$47=\"\",\"\",'TxDOT Test Data'!$E$47)","v":""},{"$f":"IF('TxDOT Test Data'!$C$21=\"\",\"\",'TxDOT Test Data'!$C$21)","v":"TXDOT:Tex-418-A"},{"$f":"IF('TxDOT Test Data'!$B$47=\"\",\"\",'TxDOT Test Data'!$B$47)","v":9},{"$f":"IF('TxDOT Test Data'!$E$28=\"\",\"\",'TxDOT Test Data'!$E$28)","v":"Age (Days)"}]
[846,{"$f":"IF('TxDOT Test Data'!$G$47=\"\",\"\",'TxDOT Test Data'!$G$47)","v":""},{"$f":"IF('TxDOT Test Data'!$C$21=\"\",\"\",'TxDOT Test Data'!$C$21)","v":"TXDOT:Tex-418-A"},{"$f":"IF('TxDOT Test Data'!$B$47=\"\",\"\",'TxDOT Test Data'!$B$47)","v":9},{"$f":"IF('TxDOT Test Data'!$G$29=\"\",\"\",'TxDOT Test Data'!$G$29)","v":" of Cylinder (inches)"}]
[847,{"$f":"IF('TxDOT Test Data'!$H$47=\"\",\"\",'TxDOT Test Data'!$H$47)","v":""},{"$f":"IF('TxDOT Test Data'!$C$21=\"\",\"\",'TxDOT Test Data'!$C$21)","v":"TXDOT:Tex-418-A"},{"$f":"IF('TxDOT Test Data'!$B$47=\"\",\"\",'TxDOT Test Data'!$B$47)","v":9},{"$f":"IF('TxDOT Test Data'!$H$28=\"\",\"\",'TxDOT Test Data'!$H$28)","v":"Length of Cylinder (inches)"}]
[848,{"$f":"IF('TxDOT Test Data'!$I$47=\"\",\"\",'TxDOT Test Data'!$I$47)","v":""},{"$f":"IF('TxDOT Test Data'!$C$21=\"\",\"\",'TxDOT Test Data'!$C$21)","v":"TXDOT:Tex-418-A"},{"$f":"IF('TxDOT Test Data'!$B$47=\"\",\"\",'TxDOT Test Data'!$B$47)","v":9},{"$f":"IF('TxDOT Test Data'!$I$28=\"\",\"\",'TxDOT Test Data'!$I$28)","v":"Length to Diameter Ratio"}]
[849,{"$f":"IF('TxDOT Test Data'!$J$47=\"\",\"\",'TxDOT Test Data'!$J$47)","v":""},{"$f":"IF('TxDOT Test Data'!$C$21=\"\",\"\",'TxDOT Test Data'!$C$21)","v":"TXDOT:Tex-418-A"},{"$f":"IF('TxDOT Test Data'!$B$47=\"\",\"\",'TxDOT Test Data'!$B$47)","v":9},{"$f":"IF('TxDOT Test Data'!$J$28=\"\",\"\",'TxDOT Test Data'!$J$28)","v":"Max Load (lbs.)"}]
[850,{"$f":"IF('TxDOT Test Data'!$K$47=\"\",\"\",'TxDOT Test Data'!$K$47)","v":""},{"$f":"IF('TxDOT Test Data'!$C$21=\"\",\"\",'TxDOT Test Data'!$C$21)","v":"TXDOT:Tex-418-A"},{"$f":"IF('TxDOT Test Data'!$B$47=\"\",\"\",'TxDOT Test Data'!$B$47)","v":9},{"$f":"IF('TxDOT Test Data'!$K$28=\"\",\"\",'TxDOT Test Data'!$K$28)","v":"Failure Type"}]
[851,{"$f":"IF('TxDOT Test Data'!$L$47=\"\",\"\",'TxDOT Test Data'!$L$47)","v":""},{"$f":"IF('TxDOT Test Data'!$C$21=\"\",\"\",'TxDOT Test Data'!$C$21)","v":"TXDOT:Tex-418-A"},{"$f":"IF('TxDOT Test Data'!$B$47=\"\",\"\",'TxDOT Test Data'!$B$47)","v":9},{"$f":"IF('TxDOT Test Data'!$L$28=\"\",\"\",'TxDOT Test Data'!$L$28)","v":"Correction Factor"}]
[852,{"$f":"IF('TxDOT Test Data'!$M$47=\"\",\"\",'TxDOT Test Data'!$M$47)","v":""},{"$f":"IF('TxDOT Test Data'!$C$21=\"\",\"\",'TxDOT Test Data'!$C$21)","v":"TXDOT:Tex-418-A"},{"$f":"IF('TxDOT Test Data'!$B$47=\"\",\"\",'TxDOT Test Data'!$B$47)","v":9},{"$f":"IF('TxDOT Test Data'!$M$28=\"\",\"\",'TxDOT Test Data'!$M$28)","v":"Compressive Strength (psi)"}]
[853,{"$f":"IF('TxDOT Test Data'!$N$47=\"\",\"\",'TxDOT Test Data'!$N$47)","v":""},{"$f":"IF('TxDOT Test Data'!$C$21=\"\",\"\",'TxDOT Test Data'!$C$21)","v":"TXDOT:Tex-418-A"},{"$f":"IF('TxDOT Test Data'!$B$47=\"\",\"\",'TxDOT Test Data'!$B$47)","v":9},{"$f":"IF('TxDOT Test Data'!$N$28=\"\",\"\",'TxDOT Test Data'!$N$28)","v":"Compressive Strength (avg) (psi)"}]
[854,{"$f":"IF('TxDOT Test Data'!$O$47=\"\",\"\",'TxDOT Test Data'!$O$47)","v":""},{"$f":"IF('TxDOT Test Data'!$C$21=\"\",\"\",'TxDOT Test Data'!$C$21)","v":"TXDOT:Tex-418-A"},{"$f":"IF('TxDOT Test Data'!$B$47=\"\",\"\",'TxDOT Test Data'!$B$47)","v":9},{"$f":"IF('TxDOT Test Data'!$O$28=\"\",\"\",'TxDOT Test Data'!$O$28)","v":"Meets Job Control Strength"}]
[855,{"$f":"IF('TxDOT Test Data'!$F$48=\"\",\"\",'TxDOT Test Data'!$F$48)","v":""},{"$f":"IF('TxDOT Test Data'!$C$21=\"\",\"\",'TxDOT Test Data'!$C$21)","v":"TXDOT:Tex-418-A"},{"$f":"IF('TxDOT Test Data'!$B$47=\"\",\"\",'TxDOT Test Data'!$B$47)","v":9},{"$f":"IF('TxDOT Test Data'!$F$28=\"\",\"\",'TxDOT Test Data'!$F$28)","v":"Cylinder Number"}]
[856,{"$f":"IF('TxDOT Test Data'!$G$48=\"\",\"\",'TxDOT Test Data'!$G$48)","v":""},{"$f":"IF('TxDOT Test Data'!$C$21=\"\",\"\",'TxDOT Test Data'!$C$21)","v":"TXDOT:Tex-418-A"},{"$f":"IF('TxDOT Test Data'!$B$47=\"\",\"\",'TxDOT Test Data'!$B$47)","v":9},{"$f":"IF('TxDOT Test Data'!$G$29=\"\",\"\",'TxDOT Test Data'!$G$29)","v":" of Cylinder (inches)"}]
[857,{"$f":"IF('TxDOT Test Data'!$H$48=\"\",\"\",'TxDOT Test Data'!$H$48)","v":""},{"$f":"IF('TxDOT Test Data'!$C$21=\"\",\"\",'TxDOT Test Data'!$C$21)","v":"TXDOT:Tex-418-A"},{"$f":"IF('TxDOT Test Data'!$B$47=\"\",\"\",'TxDOT Test Data'!$B$47)","v":9},{"$f":"IF('TxDOT Test Data'!$H$28=\"\",\"\",'TxDOT Test Data'!$H$28)","v":"Length of Cylinder (inches)"}]
[858,{"$f":"IF('TxDOT Test Data'!$I$48=\"\",\"\",'TxDOT Test Data'!$I$48)","v":""},{"$f":"IF('TxDOT Test Data'!$C$21=\"\",\"\",'TxDOT Test Data'!$C$21)","v":"TXDOT:Tex-418-A"},{"$f":"IF('TxDOT Test Data'!$B$47=\"\",\"\",'TxDOT Test Data'!$B$47)","v":9},{"$f":"IF('TxDOT Test Data'!$I$28=\"\",\"\",'TxDOT Test Data'!$I$28)","v":"Length to Diameter Ratio"}]
[859,{"$f":"IF('TxDOT Test Data'!$J$48=\"\",\"\",'TxDOT Test Data'!$J$48)","v":""},{"$f":"IF('TxDOT Test Data'!$C$21=\"\",\"\",'TxDOT Test Data'!$C$21)","v":"TXDOT:Tex-418-A"},{"$f":"IF('TxDOT Test Data'!$B$47=\"\",\"\",'TxDOT Test Data'!$B$47)","v":9},{"$f":"IF('TxDOT Test Data'!$J$28=\"\",\"\",'TxDOT Test Data'!$J$28)","v":"Max Load (lbs.)"}]
[860,{"$f":"IF('TxDOT Test Data'!$K$48=\"\",\"\",'TxDOT Test Data'!$K$48)","v":""},{"$f":"IF('TxDOT Test Data'!$C$21=\"\",\"\",'TxDOT Test Data'!$C$21)","v":"TXDOT:Tex-418-A"},{"$f":"IF('TxDOT Test Data'!$B$47=\"\",\"\",'TxDOT Test Data'!$B$47)","v":9},{"$f":"IF('TxDOT Test Data'!$K$28=\"\",\"\",'TxDOT Test Data'!$K$28)","v":"Failure Type"}]
[861,{"$f":"IF('TxDOT Test Data'!$L$48=\"\",\"\",'TxDOT Test Data'!$L$48)","v":""},{"$f":"IF('TxDOT Test Data'!$C$21=\"\",\"\",'TxDOT Test Data'!$C$21)","v":"TXDOT:Tex-418-A"},{"$f":"IF('TxDOT Test Data'!$B$47=\"\",\"\",'TxDOT Test Data'!$B$47)","v":9},{"$f":"IF('TxDOT Test Data'!$L$28=\"\",\"\",'TxDOT Test Data'!$L$28)","v":"Correction Factor"}]
[862,{"$f":"IF('TxDOT Test Data'!$M$48=\"\",\"\",'TxDOT Test Data'!$M$48)","v":""},{"$f":"IF('TxDOT Test Data'!$C$21=\"\",\"\",'TxDOT Test Data'!$C$21)","v":"TXDOT:Tex-418-A"},{"$f":"IF('TxDOT Test Data'!$B$47=\"\",\"\",'TxDOT Test Data'!$B$47)","v":9},{"$f":"IF('TxDOT Test Data'!$M$28=\"\",\"\",'TxDOT Test Data'!$M$28)","v":"Compressive Strength (psi)"}]
[863,{"$f":"IF('TxDOT Test Data'!$F$49=\"\",\"\",'TxDOT Test Data'!$F$49)","v":""},{"$f":"IF('TxDOT Test Data'!$C$21=\"\",\"\",'TxDOT Test Data'!$C$21)","v":"TXDOT:Tex-418-A"},{"$f":"IF('TxDOT Test Data'!$B$49=\"\",\"\",'TxDOT Test Data'!$B$49)","v":10},{"$f":"IF('TxDOT Test Data'!$F$28=\"\",\"\",'TxDOT Test Data'!$F$28)","v":"Cylinder Number"}]
[864,{"$f":"IF('TxDOT Test Data'!$D$49=\"\",\"\",'TxDOT Test Data'!$D$49)","v":""},{"$f":"IF('TxDOT Test Data'!$C$21=\"\",\"\",'TxDOT Test Data'!$C$21)","v":"TXDOT:Tex-418-A"},{"$f":"IF('TxDOT Test Data'!$B$49=\"\",\"\",'TxDOT Test Data'!$B$49)","v":10},{"$f":"IF('TxDOT Test Data'!$D$28=\"\",\"\",'TxDOT Test Data'!$D$28)","v":"Station"}]
[865,{"$f":"IF('TxDOT Test Data'!$E$49=\"\",\"\",'TxDOT Test Data'!$E$49)","v":""},{"$f":"IF('TxDOT Test Data'!$C$21=\"\",\"\",'TxDOT Test Data'!$C$21)","v":"TXDOT:Tex-418-A"},{"$f":"IF('TxDOT Test Data'!$B$49=\"\",\"\",'TxDOT Test Data'!$B$49)","v":10},{"$f":"IF('TxDOT Test Data'!$E$28=\"\",\"\",'TxDOT Test Data'!$E$28)","v":"Age (Days)"}]
[866,{"$f":"IF('TxDOT Test Data'!$G$49=\"\",\"\",'TxDOT Test Data'!$G$49)","v":""},{"$f":"IF('TxDOT Test Data'!$C$21=\"\",\"\",'TxDOT Test Data'!$C$21)","v":"TXDOT:Tex-418-A"},{"$f":"IF('TxDOT Test Data'!$B$49=\"\",\"\",'TxDOT Test Data'!$B$49)","v":10},{"$f":"IF('TxDOT Test Data'!$G$29=\"\",\"\",'TxDOT Test Data'!$G$29)","v":" of Cylinder (inches)"}]
[867,{"$f":"IF('TxDOT Test Data'!$H$49=\"\",\"\",'TxDOT Test Data'!$H$49)","v":""},{"$f":"IF('TxDOT Test Data'!$C$21=\"\",\"\",'TxDOT Test Data'!$C$21)","v":"TXDOT:Tex-418-A"},{"$f":"IF('TxDOT Test Data'!$B$49=\"\",\"\",'TxDOT Test Data'!$B$49)","v":10},{"$f":"IF('TxDOT Test Data'!$H$28=\"\",\"\",'TxDOT Test Data'!$H$28)","v":"Length of Cylinder (inches)"}]
[868,{"$f":"IF('TxDOT Test Data'!$I$49=\"\",\"\",'TxDOT Test Data'!$I$49)","v":""},{"$f":"IF('TxDOT Test Data'!$C$21=\"\",\"\",'TxDOT Test Data'!$C$21)","v":"TXDOT:Tex-418-A"},{"$f":"IF('TxDOT Test Data'!$B$49=\"\",\"\",'TxDOT Test Data'!$B$49)","v":10},{"$f":"IF('TxDOT Test Data'!$I$28=\"\",\"\",'TxDOT Test Data'!$I$28)","v":"Length to Diameter Ratio"}]
[869,{"$f":"IF('TxDOT Test Data'!$J$49=\"\",\"\",'TxDOT Test Data'!$J$49)","v":""},{"$f":"IF('TxDOT Test Data'!$C$21=\"\",\"\",'TxDOT Test Data'!$C$21)","v":"TXDOT:Tex-418-A"},{"$f":"IF('TxDOT Test Data'!$B$49=\"\",\"\",'TxDOT Test Data'!$B$49)","v":10},{"$f":"IF('TxDOT Test Data'!$J$28=\"\",\"\",'TxDOT Test Data'!$J$28)","v":"Max Load (lbs.)"}]
[870,{"$f":"IF('TxDOT Test Data'!$K$49=\"\",\"\",'TxDOT Test Data'!$K$49)","v":""},{"$f":"IF('TxDOT Test Data'!$C$21=\"\",\"\",'TxDOT Test Data'!$C$21)","v":"TXDOT:Tex-418-A"},{"$f":"IF('TxDOT Test Data'!$B$49=\"\",\"\",'TxDOT Test Data'!$B$49)","v":10},{"$f":"IF('TxDOT Test Data'!$K$28=\"\",\"\",'TxDOT Test Data'!$K$28)","v":"Failure Type"}]
[871,{"$f":"IF('TxDOT Test Data'!$L$49=\"\",\"\",'TxDOT Test Data'!$L$49)","v":""},{"$f":"IF('TxDOT Test Data'!$C$21=\"\",\"\",'TxDOT Test Data'!$C$21)","v":"TXDOT:Tex-418-A"},{"$f":"IF('TxDOT Test Data'!$B$49=\"\",\"\",'TxDOT Test Data'!$B$49)","v":10},{"$f":"IF('TxDOT Test Data'!$L$28=\"\",\"\",'TxDOT Test Data'!$L$28)","v":"Correction Factor"}]
[872,{"$f":"IF('TxDOT Test Data'!$M$49=\"\",\"\",'TxDOT Test Data'!$M$49)","v":""},{"$f":"IF('TxDOT Test Data'!$C$21=\"\",\"\",'TxDOT Test Data'!$C$21)","v":"TXDOT:Tex-418-A"},{"$f":"IF('TxDOT Test Data'!$B$49=\"\",\"\",'TxDOT Test Data'!$B$49)","v":10},{"$f":"IF('TxDOT Test Data'!$M$28=\"\",\"\",'TxDOT Test Data'!$M$28)","v":"Compressive Strength (psi)"}]
[873,{"$f":"IF('TxDOT Test Data'!$N$49=\"\",\"\",'TxDOT Test Data'!$N$49)","v":""},{"$f":"IF('TxDOT Test Data'!$C$21=\"\",\"\",'TxDOT Test Data'!$C$21)","v":"TXDOT:Tex-418-A"},{"$f":"IF('TxDOT Test Data'!$B$49=\"\",\"\",'TxDOT Test Data'!$B$49)","v":10},{"$f":"IF('TxDOT Test Data'!$N$28=\"\",\"\",'TxDOT Test Data'!$N$28)","v":"Compressive Strength (avg) (psi)"}]
[874,{"$f":"IF('TxDOT Test Data'!$O$49=\"\",\"\",'TxDOT Test Data'!$O$49)","v":""},{"$f":"IF('TxDOT Test Data'!$C$21=\"\",\"\",'TxDOT Test Data'!$C$21)","v":"TXDOT:Tex-418-A"},{"$f":"IF('TxDOT Test Data'!$B$49=\"\",\"\",'TxDOT Test Data'!$B$49)","v":10},{"$f":"IF('TxDOT Test Data'!$O$28=\"\",\"\",'TxDOT Test Data'!$O$28)","v":"Meets Job Control Strength"}]
[875,{"$f":"IF('TxDOT Test Data'!$F$50=\"\",\"\",'TxDOT Test Data'!$F$50)","v":""},{"$f":"IF('TxDOT Test Data'!$C$21=\"\",\"\",'TxDOT Test Data'!$C$21)","v":"TXDOT:Tex-418-A"},{"$f":"IF('TxDOT Test Data'!$B$49=\"\",\"\",'TxDOT Test Data'!$B$49)","v":10},{"$f":"IF('TxDOT Test Data'!$F$28=\"\",\"\",'TxDOT Test Data'!$F$28)","v":"Cylinder Number"}]
[876,{"$f":"IF('TxDOT Test Data'!$G$50=\"\",\"\",'TxDOT Test Data'!$G$50)","v":""},{"$f":"IF('TxDOT Test Data'!$C$21=\"\",\"\",'TxDOT Test Data'!$C$21)","v":"TXDOT:Tex-418-A"},{"$f":"IF('TxDOT Test Data'!$B$49=\"\",\"\",'TxDOT Test Data'!$B$49)","v":10},{"$f":"IF('TxDOT Test Data'!$G$29=\"\",\"\",'TxDOT Test Data'!$G$29)","v":" of Cylinder (inches)"}]
[877,{"$f":"IF('TxDOT Test Data'!$H$50=\"\",\"\",'TxDOT Test Data'!$H$50)","v":""},{"$f":"IF('TxDOT Test Data'!$C$21=\"\",\"\",'TxDOT Test Data'!$C$21)","v":"TXDOT:Tex-418-A"},{"$f":"IF('TxDOT Test Data'!$B$49=\"\",\"\",'TxDOT Test Data'!$B$49)","v":10},{"$f":"IF('TxDOT Test Data'!$H$28=\"\",\"\",'TxDOT Test Data'!$H$28)","v":"Length of Cylinder (inches)"}]
[878,{"$f":"IF('TxDOT Test Data'!$I$50=\"\",\"\",'TxDOT Test Data'!$I$50)","v":""},{"$f":"IF('TxDOT Test Data'!$C$21=\"\",\"\",'TxDOT Test Data'!$C$21)","v":"TXDOT:Tex-418-A"},{"$f":"IF('TxDOT Test Data'!$B$49=\"\",\"\",'TxDOT Test Data'!$B$49)","v":10},{"$f":"IF('TxDOT Test Data'!$I$28=\"\",\"\",'TxDOT Test Data'!$I$28)","v":"Length to Diameter Ratio"}]
[879,{"$f":"IF('TxDOT Test Data'!$J$50=\"\",\"\",'TxDOT Test Data'!$J$50)","v":""},{"$f":"IF('TxDOT Test Data'!$C$21=\"\",\"\",'TxDOT Test Data'!$C$21)","v":"TXDOT:Tex-418-A"},{"$f":"IF('TxDOT Test Data'!$B$49=\"\",\"\",'TxDOT Test Data'!$B$49)","v":10},{"$f":"IF('TxDOT Test Data'!$J$28=\"\",\"\",'TxDOT Test Data'!$J$28)","v":"Max Load (lbs.)"}]
[880,{"$f":"IF('TxDOT Test Data'!$K$50=\"\",\"\",'TxDOT Test Data'!$K$50)","v":""},{"$f":"IF('TxDOT Test Data'!$C$21=\"\",\"\",'TxDOT Test Data'!$C$21)","v":"TXDOT:Tex-418-A"},{"$f":"IF('TxDOT Test Data'!$B$49=\"\",\"\",'TxDOT Test Data'!$B$49)","v":10},{"$f":"IF('TxDOT Test Data'!$K$28=\"\",\"\",'TxDOT Test Data'!$K$28)","v":"Failure Type"}]
[881,{"$f":"IF('TxDOT Test Data'!$L$50=\"\",\"\",'TxDOT Test Data'!$L$50)","v":""},{"$f":"IF('TxDOT Test Data'!$C$21=\"\",\"\",'TxDOT Test Data'!$C$21)","v":"TXDOT:Tex-418-A"},{"$f":"IF('TxDOT Test Data'!$B$49=\"\",\"\",'TxDOT Test Data'!$B$49)","v":10},{"$f":"IF('TxDOT Test Data'!$L$28=\"\",\"\",'TxDOT Test Data'!$L$28)","v":"Correction Factor"}]
[882,{"$f":"IF('TxDOT Test Data'!$M$50=\"\",\"\",'TxDOT Test Data'!$M$50)","v":""},{"$f":"IF('TxDOT Test Data'!$C$21=\"\",\"\",'TxDOT Test Data'!$C$21)","v":"TXDOT:Tex-418-A"},{"$f":"IF('TxDOT Test Data'!$B$49=\"\",\"\",'TxDOT Test Data'!$B$49)","v":10},{"$f":"IF('TxDOT Test Data'!$M$28=\"\",\"\",'TxDOT Test Data'!$M$28)","v":"Compressive Strength (psi)"}]
[883,{"$f":"IF('TxDOT Test Data'!$G$54=\"\",\"\",'TxDOT Test Data'!$G$54)","v":""},{"$f":"IF('TxDOT Test Data'!$C$53=\"\",\"\",'TxDOT Test Data'!$C$53)","v":"TXDOT:Tex-448-A"},{"$f":"IF('TxDOT Test Data'!$C$54=\"\",\"\",'TxDOT Test Data'!$C$54)","v":"Source of Job Control Strength (psi): "}]
[884,{"$f":"IF('TxDOT Test Data'!$G$55=\"\",\"\",'TxDOT Test Data'!$G$55)","v":""},{"$f":"IF('TxDOT Test Data'!$C$53=\"\",\"\",'TxDOT Test Data'!$C$53)","v":"TXDOT:Tex-448-A"},{"$f":"IF('TxDOT Test Data'!$C$55=\"\",\"\",'TxDOT Test Data'!$C$55)","v":"-Day Job Control Strength (psi): "}]
[885,{"$f":"IF('TxDOT Test Data'!$G$56=\"\",\"\",'TxDOT Test Data'!$G$56)","v":""},{"$f":"IF('TxDOT Test Data'!$C$53=\"\",\"\",'TxDOT Test Data'!$C$53)","v":"TXDOT:Tex-448-A"},{"$f":"IF('TxDOT Test Data'!$C$56=\"\",\"\",'TxDOT Test Data'!$C$56)","v":"-Day Job Control Strength (psi): "}]
[886,{"$f":"IF('TxDOT Test Data'!$K$54=\"\",\"\",'TxDOT Test Data'!$K$54)","v":""},{"$f":"IF('TxDOT Test Data'!$C$53=\"\",\"\",'TxDOT Test Data'!$C$53)","v":"TXDOT:Tex-448-A"},{"$f":"IF('TxDOT Test Data'!$I$54=\"\",\"\",'TxDOT Test Data'!$I$54)","v":"Job Control Age (days): "}]
[887,{"$f":"IF('TxDOT Test Data'!$K$55=\"\",\"\",'TxDOT Test Data'!$K$55)","v":""},{"$f":"IF('TxDOT Test Data'!$C$53=\"\",\"\",'TxDOT Test Data'!$C$53)","v":"TXDOT:Tex-448-A"},{"$f":"IF('TxDOT Test Data'!$I$55=\"\",\"\",'TxDOT Test Data'!$I$55)","v":"Job Control Age (days): "}]
[888,{"$f":"IF('TxDOT Test Data'!$F$61=\"\",\"\",'TxDOT Test Data'!$F$61)","v":""},{"$f":"IF('TxDOT Test Data'!$C$53=\"\",\"\",'TxDOT Test Data'!$C$53)","v":"TXDOT:Tex-448-A"},{"$f":"IF('TxDOT Test Data'!$B$61=\"\",\"\",'TxDOT Test Data'!$B$61)","v":1},{"$f":"IF('TxDOT Test Data'!$F$59=\"\",\"\",'TxDOT Test Data'!$F$59)","v":"Beam Number"}]
[889,{"$f":"IF('TxDOT Test Data'!$D$61=\"\",\"\",'TxDOT Test Data'!$D$61)","v":""},{"$f":"IF('TxDOT Test Data'!$C$53=\"\",\"\",'TxDOT Test Data'!$C$53)","v":"TXDOT:Tex-448-A"},{"$f":"IF('TxDOT Test Data'!$B$61=\"\",\"\",'TxDOT Test Data'!$B$61)","v":1},{"$f":"IF('TxDOT Test Data'!$D$59=\"\",\"\",'TxDOT Test Data'!$D$59)","v":"Station"}]
[890,{"$f":"IF('TxDOT Test Data'!$E$61=\"\",\"\",'TxDOT Test Data'!$E$61)","v":""},{"$f":"IF('TxDOT Test Data'!$C$53=\"\",\"\",'TxDOT Test Data'!$C$53)","v":"TXDOT:Tex-448-A"},{"$f":"IF('TxDOT Test Data'!$B$61=\"\",\"\",'TxDOT Test Data'!$B$61)","v":1},{"$f":"IF('TxDOT Test Data'!$E$59=\"\",\"\",'TxDOT Test Data'!$E$59)","v":"Age (Days)"}]
[891,{"$f":"IF('TxDOT Test Data'!$G$61=\"\",\"\",'TxDOT Test Data'!$G$61)","v":""},{"$f":"IF('TxDOT Test Data'!$C$53=\"\",\"\",'TxDOT Test Data'!$C$53)","v":"TXDOT:Tex-448-A"},{"$f":"IF('TxDOT Test Data'!$B$61=\"\",\"\",'TxDOT Test Data'!$B$61)","v":1},{"$f":"IF('TxDOT Test Data'!$G$59=\"\",\"\",'TxDOT Test Data'!$G$59)","v":"Width of Beam (inches)"}]
[892,{"$f":"IF('TxDOT Test Data'!$H$61=\"\",\"\",'TxDOT Test Data'!$H$61)","v":""},{"$f":"IF('TxDOT Test Data'!$C$53=\"\",\"\",'TxDOT Test Data'!$C$53)","v":"TXDOT:Tex-448-A"},{"$f":"IF('TxDOT Test Data'!$B$61=\"\",\"\",'TxDOT Test Data'!$B$61)","v":1},{"$f":"IF('TxDOT Test Data'!$H$59=\"\",\"\",'TxDOT Test Data'!$H$59)","v":"Depth of Beam  (inches)"}]
[893,{"$f":"IF('TxDOT Test Data'!$I$61=\"\",\"\",'TxDOT Test Data'!$I$61)","v":""},{"$f":"IF('TxDOT Test Data'!$C$53=\"\",\"\",'TxDOT Test Data'!$C$53)","v":"TXDOT:Tex-448-A"},{"$f":"IF('TxDOT Test Data'!$B$61=\"\",\"\",'TxDOT Test Data'!$B$61)","v":1},{"$f":"IF('TxDOT Test Data'!$I$59=\"\",\"\",'TxDOT Test Data'!$I$59)","v":"Span Length  (inches)"}]
[894,{"$f":"IF('TxDOT Test Data'!$J$61=\"\",\"\",'TxDOT Test Data'!$J$61)","v":""},{"$f":"IF('TxDOT Test Data'!$C$53=\"\",\"\",'TxDOT Test Data'!$C$53)","v":"TXDOT:Tex-448-A"},{"$f":"IF('TxDOT Test Data'!$B$61=\"\",\"\",'TxDOT Test Data'!$B$61)","v":1},{"$f":"IF('TxDOT Test Data'!$J$59=\"\",\"\",'TxDOT Test Data'!$J$59)","v":"Max Recording (Lbs.)"}]
[895,{"$f":"IF('TxDOT Test Data'!$K$61=\"\",\"\",'TxDOT Test Data'!$K$61)","v":""},{"$f":"IF('TxDOT Test Data'!$C$53=\"\",\"\",'TxDOT Test Data'!$C$53)","v":"TXDOT:Tex-448-A"},{"$f":"IF('TxDOT Test Data'!$B$61=\"\",\"\",'TxDOT Test Data'!$B$61)","v":1},{"$f":"IF('TxDOT Test Data'!$K$59=\"\",\"\",'TxDOT Test Data'!$K$59)","v":"*Failure Location (inches)"}]
[896,{"$f":"IF('TxDOT Test Data'!$L$61=\"\",\"\",'TxDOT Test Data'!$L$61)","v":""},{"$f":"IF('TxDOT Test Data'!$C$53=\"\",\"\",'TxDOT Test Data'!$C$53)","v":"TXDOT:Tex-448-A"},{"$f":"IF('TxDOT Test Data'!$B$61=\"\",\"\",'TxDOT Test Data'!$B$61)","v":1},{"$f":"IF('TxDOT Test Data'!$L$59=\"\",\"\",'TxDOT Test Data'!$L$59)","v":"Modulus of Rupture (psi)"}]
[897,{"$f":"IF('TxDOT Test Data'!$M$61=\"\",\"\",'TxDOT Test Data'!$M$61)","v":""},{"$f":"IF('TxDOT Test Data'!$C$53=\"\",\"\",'TxDOT Test Data'!$C$53)","v":"TXDOT:Tex-448-A"},{"$f":"IF('TxDOT Test Data'!$B$61=\"\",\"\",'TxDOT Test Data'!$B$61)","v":1},{"$f":"IF('TxDOT Test Data'!$M$59=\"\",\"\",'TxDOT Test Data'!$M$59)","v":"Modulus of Rupture (avg) (psi)"}]
[898,{"$f":"IF('TxDOT Test Data'!$N$61=\"\",\"\",'TxDOT Test Data'!$N$61)","v":""},{"$f":"IF('TxDOT Test Data'!$C$53=\"\",\"\",'TxDOT Test Data'!$C$53)","v":"TXDOT:Tex-448-A"},{"$f":"IF('TxDOT Test Data'!$B$61=\"\",\"\",'TxDOT Test Data'!$B$61)","v":1},{"$f":"IF('TxDOT Test Data'!$N$59=\"\",\"\",'TxDOT Test Data'!$N$59)","v":"Meets Job Control Strength"}]
[899,{"$f":"IF('TxDOT Test Data'!$F$62=\"\",\"\",'TxDOT Test Data'!$F$62)","v":""},{"$f":"IF('TxDOT Test Data'!$C$53=\"\",\"\",'TxDOT Test Data'!$C$53)","v":"TXDOT:Tex-448-A"},{"$f":"IF('TxDOT Test Data'!$B$61=\"\",\"\",'TxDOT Test Data'!$B$61)","v":1},{"$f":"IF('TxDOT Test Data'!$F$59=\"\",\"\",'TxDOT Test Data'!$F$59)","v":"Beam Number"}]
[900,{"$f":"IF('TxDOT Test Data'!$G$62=\"\",\"\",'TxDOT Test Data'!$G$62)","v":""},{"$f":"IF('TxDOT Test Data'!$C$53=\"\",\"\",'TxDOT Test Data'!$C$53)","v":"TXDOT:Tex-448-A"},{"$f":"IF('TxDOT Test Data'!$B$61=\"\",\"\",'TxDOT Test Data'!$B$61)","v":1},{"$f":"IF('TxDOT Test Data'!$G$59=\"\",\"\",'TxDOT Test Data'!$G$59)","v":"Width of Beam (inches)"}]
[901,{"$f":"IF('TxDOT Test Data'!$H$62=\"\",\"\",'TxDOT Test Data'!$H$62)","v":""},{"$f":"IF('TxDOT Test Data'!$C$53=\"\",\"\",'TxDOT Test Data'!$C$53)","v":"TXDOT:Tex-448-A"},{"$f":"IF('TxDOT Test Data'!$B$61=\"\",\"\",'TxDOT Test Data'!$B$61)","v":1},{"$f":"IF('TxDOT Test Data'!$H$59=\"\",\"\",'TxDOT Test Data'!$H$59)","v":"Depth of Beam  (inches)"}]
[902,{"$f":"IF('TxDOT Test Data'!$I$62=\"\",\"\",'TxDOT Test Data'!$I$62)","v":""},{"$f":"IF('TxDOT Test Data'!$C$53=\"\",\"\",'TxDOT Test Data'!$C$53)","v":"TXDOT:Tex-448-A"},{"$f":"IF('TxDOT Test Data'!$B$61=\"\",\"\",'TxDOT Test Data'!$B$61)","v":1},{"$f":"IF('TxDOT Test Data'!$I$59=\"\",\"\",'TxDOT Test Data'!$I$59)","v":"Span Length  (inches)"}]
[903,{"$f":"IF('TxDOT Test Data'!$J$62=\"\",\"\",'TxDOT Test Data'!$J$62)","v":""},{"$f":"IF('TxDOT Test Data'!$C$53=\"\",\"\",'TxDOT Test Data'!$C$53)","v":"TXDOT:Tex-448-A"},{"$f":"IF('TxDOT Test Data'!$B$61=\"\",\"\",'TxDOT Test Data'!$B$61)","v":1},{"$f":"IF('TxDOT Test Data'!$J$59=\"\",\"\",'TxDOT Test Data'!$J$59)","v":"Max Recording (Lbs.)"}]
[904,{"$f":"IF('TxDOT Test Data'!$K$62=\"\",\"\",'TxDOT Test Data'!$K$62)","v":""},{"$f":"IF('TxDOT Test Data'!$C$53=\"\",\"\",'TxDOT Test Data'!$C$53)","v":"TXDOT:Tex-448-A"},{"$f":"IF('TxDOT Test Data'!$B$61=\"\",\"\",'TxDOT Test Data'!$B$61)","v":1},{"$f":"IF('TxDOT Test Data'!$K$59=\"\",\"\",'TxDOT Test Data'!$K$59)","v":"*Failure Location (inches)"}]
[905,{"$f":"IF('TxDOT Test Data'!$L$62=\"\",\"\",'TxDOT Test Data'!$L$62)","v":""},{"$f":"IF('TxDOT Test Data'!$C$53=\"\",\"\",'TxDOT Test Data'!$C$53)","v":"TXDOT:Tex-448-A"},{"$f":"IF('TxDOT Test Data'!$B$61=\"\",\"\",'TxDOT Test Data'!$B$61)","v":1},{"$f":"IF('TxDOT Test Data'!$L$59=\"\",\"\",'TxDOT Test Data'!$L$59)","v":"Modulus of Rupture (psi)"}]
[906,{"$f":"IF('TxDOT Test Data'!$F$63=\"\",\"\",'TxDOT Test Data'!$F$63)","v":""},{"$f":"IF('TxDOT Test Data'!$C$53=\"\",\"\",'TxDOT Test Data'!$C$53)","v":"TXDOT:Tex-448-A"},{"$f":"IF('TxDOT Test Data'!$B$63=\"\",\"\",'TxDOT Test Data'!$B$63)","v":2},{"$f":"IF('TxDOT Test Data'!$F$59=\"\",\"\",'TxDOT Test Data'!$F$59)","v":"Beam Number"}]
[907,{"$f":"IF('TxDOT Test Data'!$D$63=\"\",\"\",'TxDOT Test Data'!$D$63)","v":""},{"$f":"IF('TxDOT Test Data'!$C$53=\"\",\"\",'TxDOT Test Data'!$C$53)","v":"TXDOT:Tex-448-A"},{"$f":"IF('TxDOT Test Data'!$B$63=\"\",\"\",'TxDOT Test Data'!$B$63)","v":2},{"$f":"IF('TxDOT Test Data'!$D$59=\"\",\"\",'TxDOT Test Data'!$D$59)","v":"Station"}]
[908,{"$f":"IF('TxDOT Test Data'!$E$63=\"\",\"\",'TxDOT Test Data'!$E$63)","v":""},{"$f":"IF('TxDOT Test Data'!$C$53=\"\",\"\",'TxDOT Test Data'!$C$53)","v":"TXDOT:Tex-448-A"},{"$f":"IF('TxDOT Test Data'!$B$63=\"\",\"\",'TxDOT Test Data'!$B$63)","v":2},{"$f":"IF('TxDOT Test Data'!$E$59=\"\",\"\",'TxDOT Test Data'!$E$59)","v":"Age (Days)"}]
[909,{"$f":"IF('TxDOT Test Data'!$G$63=\"\",\"\",'TxDOT Test Data'!$G$63)","v":""},{"$f":"IF('TxDOT Test Data'!$C$53=\"\",\"\",'TxDOT Test Data'!$C$53)","v":"TXDOT:Tex-448-A"},{"$f":"IF('TxDOT Test Data'!$B$63=\"\",\"\",'TxDOT Test Data'!$B$63)","v":2},{"$f":"IF('TxDOT Test Data'!$G$59=\"\",\"\",'TxDOT Test Data'!$G$59)","v":"Width of Beam (inches)"}]
[910,{"$f":"IF('TxDOT Test Data'!$H$63=\"\",\"\",'TxDOT Test Data'!$H$63)","v":""},{"$f":"IF('TxDOT Test Data'!$C$53=\"\",\"\",'TxDOT Test Data'!$C$53)","v":"TXDOT:Tex-448-A"},{"$f":"IF('TxDOT Test Data'!$B$63=\"\",\"\",'TxDOT Test Data'!$B$63)","v":2},{"$f":"IF('TxDOT Test Data'!$H$59=\"\",\"\",'TxDOT Test Data'!$H$59)","v":"Depth of Beam  (inches)"}]
[911,{"$f":"IF('TxDOT Test Data'!$I$63=\"\",\"\",'TxDOT Test Data'!$I$63)","v":""},{"$f":"IF('TxDOT Test Data'!$C$53=\"\",\"\",'TxDOT Test Data'!$C$53)","v":"TXDOT:Tex-448-A"},{"$f":"IF('TxDOT Test Data'!$B$63=\"\",\"\",'TxDOT Test Data'!$B$63)","v":2},{"$f":"IF('TxDOT Test Data'!$I$59=\"\",\"\",'TxDOT Test Data'!$I$59)","v":"Span Length  (inches)"}]
[912,{"$f":"IF('TxDOT Test Data'!$J$63=\"\",\"\",'TxDOT Test Data'!$J$63)","v":""},{"$f":"IF('TxDOT Test Data'!$C$53=\"\",\"\",'TxDOT Test Data'!$C$53)","v":"TXDOT:Tex-448-A"},{"$f":"IF('TxDOT Test Data'!$B$63=\"\",\"\",'TxDOT Test Data'!$B$63)","v":2},{"$f":"IF('TxDOT Test Data'!$J$59=\"\",\"\",'TxDOT Test Data'!$J$59)","v":"Max Recording (Lbs.)"}]
[913,{"$f":"IF('TxDOT Test Data'!$K$63=\"\",\"\",'TxDOT Test Data'!$K$63)","v":""},{"$f":"IF('TxDOT Test Data'!$C$53=\"\",\"\",'TxDOT Test Data'!$C$53)","v":"TXDOT:Tex-448-A"},{"$f":"IF('TxDOT Test Data'!$B$63=\"\",\"\",'TxDOT Test Data'!$B$63)","v":2},{"$f":"IF('TxDOT Test Data'!$K$59=\"\",\"\",'TxDOT Test Data'!$K$59)","v":"*Failure Location (inches)"}]
[914,{"$f":"IF('TxDOT Test Data'!$L$63=\"\",\"\",'TxDOT Test Data'!$L$63)","v":""},{"$f":"IF('TxDOT Test Data'!$C$53=\"\",\"\",'TxDOT Test Data'!$C$53)","v":"TXDOT:Tex-448-A"},{"$f":"IF('TxDOT Test Data'!$B$63=\"\",\"\",'TxDOT Test Data'!$B$63)","v":2},{"$f":"IF('TxDOT Test Data'!$L$59=\"\",\"\",'TxDOT Test Data'!$L$59)","v":"Modulus of Rupture (psi)"}]
[915,{"$f":"IF('TxDOT Test Data'!$M$63=\"\",\"\",'TxDOT Test Data'!$M$63)","v":""},{"$f":"IF('TxDOT Test Data'!$C$53=\"\",\"\",'TxDOT Test Data'!$C$53)","v":"TXDOT:Tex-448-A"},{"$f":"IF('TxDOT Test Data'!$B$63=\"\",\"\",'TxDOT Test Data'!$B$63)","v":2},{"$f":"IF('TxDOT Test Data'!$M$59=\"\",\"\",'TxDOT Test Data'!$M$59)","v":"Modulus of Rupture (avg) (psi)"}]
[916,{"$f":"IF('TxDOT Test Data'!$N$63=\"\",\"\",'TxDOT Test Data'!$N$63)","v":""},{"$f":"IF('TxDOT Test Data'!$C$53=\"\",\"\",'TxDOT Test Data'!$C$53)","v":"TXDOT:Tex-448-A"},{"$f":"IF('TxDOT Test Data'!$B$63=\"\",\"\",'TxDOT Test Data'!$B$63)","v":2},{"$f":"IF('TxDOT Test Data'!$N$59=\"\",\"\",'TxDOT Test Data'!$N$59)","v":"Meets Job Control Strength"}]
[917,{"$f":"IF('TxDOT Test Data'!$F$64=\"\",\"\",'TxDOT Test Data'!$F$64)","v":""},{"$f":"IF('TxDOT Test Data'!$C$53=\"\",\"\",'TxDOT Test Data'!$C$53)","v":"TXDOT:Tex-448-A"},{"$f":"IF('TxDOT Test Data'!$B$63=\"\",\"\",'TxDOT Test Data'!$B$63)","v":2},{"$f":"IF('TxDOT Test Data'!$F$59=\"\",\"\",'TxDOT Test Data'!$F$59)","v":"Beam Number"}]
[918,{"$f":"IF('TxDOT Test Data'!$G$64=\"\",\"\",'TxDOT Test Data'!$G$64)","v":""},{"$f":"IF('TxDOT Test Data'!$C$53=\"\",\"\",'TxDOT Test Data'!$C$53)","v":"TXDOT:Tex-448-A"},{"$f":"IF('TxDOT Test Data'!$B$63=\"\",\"\",'TxDOT Test Data'!$B$63)","v":2},{"$f":"IF('TxDOT Test Data'!$G$59=\"\",\"\",'TxDOT Test Data'!$G$59)","v":"Width of Beam (inches)"}]
[919,{"$f":"IF('TxDOT Test Data'!$H$64=\"\",\"\",'TxDOT Test Data'!$H$64)","v":""},{"$f":"IF('TxDOT Test Data'!$C$53=\"\",\"\",'TxDOT Test Data'!$C$53)","v":"TXDOT:Tex-448-A"},{"$f":"IF('TxDOT Test Data'!$B$63=\"\",\"\",'TxDOT Test Data'!$B$63)","v":2},{"$f":"IF('TxDOT Test Data'!$H$59=\"\",\"\",'TxDOT Test Data'!$H$59)","v":"Depth of Beam  (inches)"}]
[920,{"$f":"IF('TxDOT Test Data'!$I$64=\"\",\"\",'TxDOT Test Data'!$I$64)","v":""},{"$f":"IF('TxDOT Test Data'!$C$53=\"\",\"\",'TxDOT Test Data'!$C$53)","v":"TXDOT:Tex-448-A"},{"$f":"IF('TxDOT Test Data'!$B$63=\"\",\"\",'TxDOT Test Data'!$B$63)","v":2},{"$f":"IF('TxDOT Test Data'!$I$59=\"\",\"\",'TxDOT Test Data'!$I$59)","v":"Span Length  (inches)"}]
[921,{"$f":"IF('TxDOT Test Data'!$J$64=\"\",\"\",'TxDOT Test Data'!$J$64)","v":""},{"$f":"IF('TxDOT Test Data'!$C$53=\"\",\"\",'TxDOT Test Data'!$C$53)","v":"TXDOT:Tex-448-A"},{"$f":"IF('TxDOT Test Data'!$B$63=\"\",\"\",'TxDOT Test Data'!$B$63)","v":2},{"$f":"IF('TxDOT Test Data'!$J$59=\"\",\"\",'TxDOT Test Data'!$J$59)","v":"Max Recording (Lbs.)"}]
[922,{"$f":"IF('TxDOT Test Data'!$K$64=\"\",\"\",'TxDOT Test Data'!$K$64)","v":""},{"$f":"IF('TxDOT Test Data'!$C$53=\"\",\"\",'TxDOT Test Data'!$C$53)","v":"TXDOT:Tex-448-A"},{"$f":"IF('TxDOT Test Data'!$B$63=\"\",\"\",'TxDOT Test Data'!$B$63)","v":2},{"$f":"IF('TxDOT Test Data'!$K$59=\"\",\"\",'TxDOT Test Data'!$K$59)","v":"*Failure Location (inches)"}]
[923,{"$f":"IF('TxDOT Test Data'!$L$64=\"\",\"\",'TxDOT Test Data'!$L$64)","v":""},{"$f":"IF('TxDOT Test Data'!$C$53=\"\",\"\",'TxDOT Test Data'!$C$53)","v":"TXDOT:Tex-448-A"},{"$f":"IF('TxDOT Test Data'!$B$63=\"\",\"\",'TxDOT Test Data'!$B$63)","v":2},{"$f":"IF('TxDOT Test Data'!$L$59=\"\",\"\",'TxDOT Test Data'!$L$59)","v":"Modulus of Rupture (psi)"}]
[924,{"$f":"IF('TxDOT Test Data'!$F$65=\"\",\"\",'TxDOT Test Data'!$F$65)","v":""},{"$f":"IF('TxDOT Test Data'!$C$53=\"\",\"\",'TxDOT Test Data'!$C$53)","v":"TXDOT:Tex-448-A"},{"$f":"IF('TxDOT Test Data'!$B$65=\"\",\"\",'TxDOT Test Data'!$B$65)","v":3},{"$f":"IF('TxDOT Test Data'!$F$59=\"\",\"\",'TxDOT Test Data'!$F$59)","v":"Beam Number"}]
[925,{"$f":"IF('TxDOT Test Data'!$D$65=\"\",\"\",'TxDOT Test Data'!$D$65)","v":""},{"$f":"IF('TxDOT Test Data'!$C$53=\"\",\"\",'TxDOT Test Data'!$C$53)","v":"TXDOT:Tex-448-A"},{"$f":"IF('TxDOT Test Data'!$B$65=\"\",\"\",'TxDOT Test Data'!$B$65)","v":3},{"$f":"IF('TxDOT Test Data'!$D$59=\"\",\"\",'TxDOT Test Data'!$D$59)","v":"Station"}]
[926,{"$f":"IF('TxDOT Test Data'!$E$65=\"\",\"\",'TxDOT Test Data'!$E$65)","v":""},{"$f":"IF('TxDOT Test Data'!$C$53=\"\",\"\",'TxDOT Test Data'!$C$53)","v":"TXDOT:Tex-448-A"},{"$f":"IF('TxDOT Test Data'!$B$65=\"\",\"\",'TxDOT Test Data'!$B$65)","v":3},{"$f":"IF('TxDOT Test Data'!$E$59=\"\",\"\",'TxDOT Test Data'!$E$59)","v":"Age (Days)"}]
[927,{"$f":"IF('TxDOT Test Data'!$G$65=\"\",\"\",'TxDOT Test Data'!$G$65)","v":""},{"$f":"IF('TxDOT Test Data'!$C$53=\"\",\"\",'TxDOT Test Data'!$C$53)","v":"TXDOT:Tex-448-A"},{"$f":"IF('TxDOT Test Data'!$B$65=\"\",\"\",'TxDOT Test Data'!$B$65)","v":3},{"$f":"IF('TxDOT Test Data'!$G$59=\"\",\"\",'TxDOT Test Data'!$G$59)","v":"Width of Beam (inches)"}]
[928,{"$f":"IF('TxDOT Test Data'!$H$65=\"\",\"\",'TxDOT Test Data'!$H$65)","v":""},{"$f":"IF('TxDOT Test Data'!$C$53=\"\",\"\",'TxDOT Test Data'!$C$53)","v":"TXDOT:Tex-448-A"},{"$f":"IF('TxDOT Test Data'!$B$65=\"\",\"\",'TxDOT Test Data'!$B$65)","v":3},{"$f":"IF('TxDOT Test Data'!$H$59=\"\",\"\",'TxDOT Test Data'!$H$59)","v":"Depth of Beam  (inches)"}]
[929,{"$f":"IF('TxDOT Test Data'!$I$65=\"\",\"\",'TxDOT Test Data'!$I$65)","v":""},{"$f":"IF('TxDOT Test Data'!$C$53=\"\",\"\",'TxDOT Test Data'!$C$53)","v":"TXDOT:Tex-448-A"},{"$f":"IF('TxDOT Test Data'!$B$65=\"\",\"\",'TxDOT Test Data'!$B$65)","v":3},{"$f":"IF('TxDOT Test Data'!$I$59=\"\",\"\",'TxDOT Test Data'!$I$59)","v":"Span Length  (inches)"}]
[930,{"$f":"IF('TxDOT Test Data'!$J$65=\"\",\"\",'TxDOT Test Data'!$J$65)","v":""},{"$f":"IF('TxDOT Test Data'!$C$53=\"\",\"\",'TxDOT Test Data'!$C$53)","v":"TXDOT:Tex-448-A"},{"$f":"IF('TxDOT Test Data'!$B$65=\"\",\"\",'TxDOT Test Data'!$B$65)","v":3},{"$f":"IF('TxDOT Test Data'!$J$59=\"\",\"\",'TxDOT Test Data'!$J$59)","v":"Max Recording (Lbs.)"}]
[931,{"$f":"IF('TxDOT Test Data'!$K$65=\"\",\"\",'TxDOT Test Data'!$K$65)","v":""},{"$f":"IF('TxDOT Test Data'!$C$53=\"\",\"\",'TxDOT Test Data'!$C$53)","v":"TXDOT:Tex-448-A"},{"$f":"IF('TxDOT Test Data'!$B$65=\"\",\"\",'TxDOT Test Data'!$B$65)","v":3},{"$f":"IF('TxDOT Test Data'!$K$59=\"\",\"\",'TxDOT Test Data'!$K$59)","v":"*Failure Location (inches)"}]
[932,{"$f":"IF('TxDOT Test Data'!$L$65=\"\",\"\",'TxDOT Test Data'!$L$65)","v":""},{"$f":"IF('TxDOT Test Data'!$C$53=\"\",\"\",'TxDOT Test Data'!$C$53)","v":"TXDOT:Tex-448-A"},{"$f":"IF('TxDOT Test Data'!$B$65=\"\",\"\",'TxDOT Test Data'!$B$65)","v":3},{"$f":"IF('TxDOT Test Data'!$L$59=\"\",\"\",'TxDOT Test Data'!$L$59)","v":"Modulus of Rupture (psi)"}]
[933,{"$f":"IF('TxDOT Test Data'!$M$65=\"\",\"\",'TxDOT Test Data'!$M$65)","v":""},{"$f":"IF('TxDOT Test Data'!$C$53=\"\",\"\",'TxDOT Test Data'!$C$53)","v":"TXDOT:Tex-448-A"},{"$f":"IF('TxDOT Test Data'!$B$65=\"\",\"\",'TxDOT Test Data'!$B$65)","v":3},{"$f":"IF('TxDOT Test Data'!$M$59=\"\",\"\",'TxDOT Test Data'!$M$59)","v":"Modulus of Rupture (avg) (psi)"}]
[934,{"$f":"IF('TxDOT Test Data'!$N$65=\"\",\"\",'TxDOT Test Data'!$N$65)","v":""},{"$f":"IF('TxDOT Test Data'!$C$53=\"\",\"\",'TxDOT Test Data'!$C$53)","v":"TXDOT:Tex-448-A"},{"$f":"IF('TxDOT Test Data'!$B$65=\"\",\"\",'TxDOT Test Data'!$B$65)","v":3},{"$f":"IF('TxDOT Test Data'!$N$59=\"\",\"\",'TxDOT Test Data'!$N$59)","v":"Meets Job Control Strength"}]
[935,{"$f":"IF('TxDOT Test Data'!$F$66=\"\",\"\",'TxDOT Test Data'!$F$66)","v":""},{"$f":"IF('TxDOT Test Data'!$C$53=\"\",\"\",'TxDOT Test Data'!$C$53)","v":"TXDOT:Tex-448-A"},{"$f":"IF('TxDOT Test Data'!$B$65=\"\",\"\",'TxDOT Test Data'!$B$65)","v":3},{"$f":"IF('TxDOT Test Data'!$F$59=\"\",\"\",'TxDOT Test Data'!$F$59)","v":"Beam Number"}]
[936,{"$f":"IF('TxDOT Test Data'!$G$66=\"\",\"\",'TxDOT Test Data'!$G$66)","v":""},{"$f":"IF('TxDOT Test Data'!$C$53=\"\",\"\",'TxDOT Test Data'!$C$53)","v":"TXDOT:Tex-448-A"},{"$f":"IF('TxDOT Test Data'!$B$65=\"\",\"\",'TxDOT Test Data'!$B$65)","v":3},{"$f":"IF('TxDOT Test Data'!$G$59=\"\",\"\",'TxDOT Test Data'!$G$59)","v":"Width of Beam (inches)"}]
[937,{"$f":"IF('TxDOT Test Data'!$H$66=\"\",\"\",'TxDOT Test Data'!$H$66)","v":""},{"$f":"IF('TxDOT Test Data'!$C$53=\"\",\"\",'TxDOT Test Data'!$C$53)","v":"TXDOT:Tex-448-A"},{"$f":"IF('TxDOT Test Data'!$B$65=\"\",\"\",'TxDOT Test Data'!$B$65)","v":3},{"$f":"IF('TxDOT Test Data'!$H$59=\"\",\"\",'TxDOT Test Data'!$H$59)","v":"Depth of Beam  (inches)"}]
[938,{"$f":"IF('TxDOT Test Data'!$I$66=\"\",\"\",'TxDOT Test Data'!$I$66)","v":""},{"$f":"IF('TxDOT Test Data'!$C$53=\"\",\"\",'TxDOT Test Data'!$C$53)","v":"TXDOT:Tex-448-A"},{"$f":"IF('TxDOT Test Data'!$B$65=\"\",\"\",'TxDOT Test Data'!$B$65)","v":3},{"$f":"IF('TxDOT Test Data'!$I$59=\"\",\"\",'TxDOT Test Data'!$I$59)","v":"Span Length  (inches)"}]
[939,{"$f":"IF('TxDOT Test Data'!$J$66=\"\",\"\",'TxDOT Test Data'!$J$66)","v":""},{"$f":"IF('TxDOT Test Data'!$C$53=\"\",\"\",'TxDOT Test Data'!$C$53)","v":"TXDOT:Tex-448-A"},{"$f":"IF('TxDOT Test Data'!$B$65=\"\",\"\",'TxDOT Test Data'!$B$65)","v":3},{"$f":"IF('TxDOT Test Data'!$J$59=\"\",\"\",'TxDOT Test Data'!$J$59)","v":"Max Recording (Lbs.)"}]
[940,{"$f":"IF('TxDOT Test Data'!$K$66=\"\",\"\",'TxDOT Test Data'!$K$66)","v":""},{"$f":"IF('TxDOT Test Data'!$C$53=\"\",\"\",'TxDOT Test Data'!$C$53)","v":"TXDOT:Tex-448-A"},{"$f":"IF('TxDOT Test Data'!$B$65=\"\",\"\",'TxDOT Test Data'!$B$65)","v":3},{"$f":"IF('TxDOT Test Data'!$K$59=\"\",\"\",'TxDOT Test Data'!$K$59)","v":"*Failure Location (inches)"}]
[941,{"$f":"IF('TxDOT Test Data'!$L$66=\"\",\"\",'TxDOT Test Data'!$L$66)","v":""},{"$f":"IF('TxDOT Test Data'!$C$53=\"\",\"\",'TxDOT Test Data'!$C$53)","v":"TXDOT:Tex-448-A"},{"$f":"IF('TxDOT Test Data'!$B$65=\"\",\"\",'TxDOT Test Data'!$B$65)","v":3},{"$f":"IF('TxDOT Test Data'!$L$59=\"\",\"\",'TxDOT Test Data'!$L$59)","v":"Modulus of Rupture (psi)"}]
[942,{"$f":"IF('TxDOT Test Data'!$F$67=\"\",\"\",'TxDOT Test Data'!$F$67)","v":""},{"$f":"IF('TxDOT Test Data'!$C$53=\"\",\"\",'TxDOT Test Data'!$C$53)","v":"TXDOT:Tex-448-A"},{"$f":"IF('TxDOT Test Data'!$B$67=\"\",\"\",'TxDOT Test Data'!$B$67)","v":4},{"$f":"IF('TxDOT Test Data'!$F$59=\"\",\"\",'TxDOT Test Data'!$F$59)","v":"Beam Number"}]
[943,{"$f":"IF('TxDOT Test Data'!$D$67=\"\",\"\",'TxDOT Test Data'!$D$67)","v":""},{"$f":"IF('TxDOT Test Data'!$C$53=\"\",\"\",'TxDOT Test Data'!$C$53)","v":"TXDOT:Tex-448-A"},{"$f":"IF('TxDOT Test Data'!$B$67=\"\",\"\",'TxDOT Test Data'!$B$67)","v":4},{"$f":"IF('TxDOT Test Data'!$D$59=\"\",\"\",'TxDOT Test Data'!$D$59)","v":"Station"}]
[944,{"$f":"IF('TxDOT Test Data'!$E$67=\"\",\"\",'TxDOT Test Data'!$E$67)","v":""},{"$f":"IF('TxDOT Test Data'!$C$53=\"\",\"\",'TxDOT Test Data'!$C$53)","v":"TXDOT:Tex-448-A"},{"$f":"IF('TxDOT Test Data'!$B$67=\"\",\"\",'TxDOT Test Data'!$B$67)","v":4},{"$f":"IF('TxDOT Test Data'!$E$59=\"\",\"\",'TxDOT Test Data'!$E$59)","v":"Age (Days)"}]
[945,{"$f":"IF('TxDOT Test Data'!$G$67=\"\",\"\",'TxDOT Test Data'!$G$67)","v":""},{"$f":"IF('TxDOT Test Data'!$C$53=\"\",\"\",'TxDOT Test Data'!$C$53)","v":"TXDOT:Tex-448-A"},{"$f":"IF('TxDOT Test Data'!$B$67=\"\",\"\",'TxDOT Test Data'!$B$67)","v":4},{"$f":"IF('TxDOT Test Data'!$G$59=\"\",\"\",'TxDOT Test Data'!$G$59)","v":"Width of Beam (inches)"}]
[946,{"$f":"IF('TxDOT Test Data'!$H$67=\"\",\"\",'TxDOT Test Data'!$H$67)","v":""},{"$f":"IF('TxDOT Test Data'!$C$53=\"\",\"\",'TxDOT Test Data'!$C$53)","v":"TXDOT:Tex-448-A"},{"$f":"IF('TxDOT Test Data'!$B$67=\"\",\"\",'TxDOT Test Data'!$B$67)","v":4},{"$f":"IF('TxDOT Test Data'!$H$59=\"\",\"\",'TxDOT Test Data'!$H$59)","v":"Depth of Beam  (inches)"}]
[947,{"$f":"IF('TxDOT Test Data'!$I$67=\"\",\"\",'TxDOT Test Data'!$I$67)","v":""},{"$f":"IF('TxDOT Test Data'!$C$53=\"\",\"\",'TxDOT Test Data'!$C$53)","v":"TXDOT:Tex-448-A"},{"$f":"IF('TxDOT Test Data'!$B$67=\"\",\"\",'TxDOT Test Data'!$B$67)","v":4},{"$f":"IF('TxDOT Test Data'!$I$59=\"\",\"\",'TxDOT Test Data'!$I$59)","v":"Span Length  (inches)"}]
[948,{"$f":"IF('TxDOT Test Data'!$J$67=\"\",\"\",'TxDOT Test Data'!$J$67)","v":""},{"$f":"IF('TxDOT Test Data'!$C$53=\"\",\"\",'TxDOT Test Data'!$C$53)","v":"TXDOT:Tex-448-A"},{"$f":"IF('TxDOT Test Data'!$B$67=\"\",\"\",'TxDOT Test Data'!$B$67)","v":4},{"$f":"IF('TxDOT Test Data'!$J$59=\"\",\"\",'TxDOT Test Data'!$J$59)","v":"Max Recording (Lbs.)"}]
[949,{"$f":"IF('TxDOT Test Data'!$K$67=\"\",\"\",'TxDOT Test Data'!$K$67)","v":""},{"$f":"IF('TxDOT Test Data'!$C$53=\"\",\"\",'TxDOT Test Data'!$C$53)","v":"TXDOT:Tex-448-A"},{"$f":"IF('TxDOT Test Data'!$B$67=\"\",\"\",'TxDOT Test Data'!$B$67)","v":4},{"$f":"IF('TxDOT Test Data'!$K$59=\"\",\"\",'TxDOT Test Data'!$K$59)","v":"*Failure Location (inches)"}]
[950,{"$f":"IF('TxDOT Test Data'!$L$67=\"\",\"\",'TxDOT Test Data'!$L$67)","v":""},{"$f":"IF('TxDOT Test Data'!$C$53=\"\",\"\",'TxDOT Test Data'!$C$53)","v":"TXDOT:Tex-448-A"},{"$f":"IF('TxDOT Test Data'!$B$67=\"\",\"\",'TxDOT Test Data'!$B$67)","v":4},{"$f":"IF('TxDOT Test Data'!$L$59=\"\",\"\",'TxDOT Test Data'!$L$59)","v":"Modulus of Rupture (psi)"}]
[951,{"$f":"IF('TxDOT Test Data'!$M$67=\"\",\"\",'TxDOT Test Data'!$M$67)","v":""},{"$f":"IF('TxDOT Test Data'!$C$53=\"\",\"\",'TxDOT Test Data'!$C$53)","v":"TXDOT:Tex-448-A"},{"$f":"IF('TxDOT Test Data'!$B$67=\"\",\"\",'TxDOT Test Data'!$B$67)","v":4},{"$f":"IF('TxDOT Test Data'!$M$59=\"\",\"\",'TxDOT Test Data'!$M$59)","v":"Modulus of Rupture (avg) (psi)"}]
[952,{"$f":"IF('TxDOT Test Data'!$N$67=\"\",\"\",'TxDOT Test Data'!$N$67)","v":""},{"$f":"IF('TxDOT Test Data'!$C$53=\"\",\"\",'TxDOT Test Data'!$C$53)","v":"TXDOT:Tex-448-A"},{"$f":"IF('TxDOT Test Data'!$B$67=\"\",\"\",'TxDOT Test Data'!$B$67)","v":4},{"$f":"IF('TxDOT Test Data'!$N$59=\"\",\"\",'TxDOT Test Data'!$N$59)","v":"Meets Job Control Strength"}]
[953,{"$f":"IF('TxDOT Test Data'!$F$68=\"\",\"\",'TxDOT Test Data'!$F$68)","v":""},{"$f":"IF('TxDOT Test Data'!$C$53=\"\",\"\",'TxDOT Test Data'!$C$53)","v":"TXDOT:Tex-448-A"},{"$f":"IF('TxDOT Test Data'!$B$67=\"\",\"\",'TxDOT Test Data'!$B$67)","v":4},{"$f":"IF('TxDOT Test Data'!$F$59=\"\",\"\",'TxDOT Test Data'!$F$59)","v":"Beam Number"}]
[954,{"$f":"IF('TxDOT Test Data'!$G$68=\"\",\"\",'TxDOT Test Data'!$G$68)","v":""},{"$f":"IF('TxDOT Test Data'!$C$53=\"\",\"\",'TxDOT Test Data'!$C$53)","v":"TXDOT:Tex-448-A"},{"$f":"IF('TxDOT Test Data'!$B$67=\"\",\"\",'TxDOT Test Data'!$B$67)","v":4},{"$f":"IF('TxDOT Test Data'!$G$59=\"\",\"\",'TxDOT Test Data'!$G$59)","v":"Width of Beam (inches)"}]
[955,{"$f":"IF('TxDOT Test Data'!$H$68=\"\",\"\",'TxDOT Test Data'!$H$68)","v":""},{"$f":"IF('TxDOT Test Data'!$C$53=\"\",\"\",'TxDOT Test Data'!$C$53)","v":"TXDOT:Tex-448-A"},{"$f":"IF('TxDOT Test Data'!$B$67=\"\",\"\",'TxDOT Test Data'!$B$67)","v":4},{"$f":"IF('TxDOT Test Data'!$H$59=\"\",\"\",'TxDOT Test Data'!$H$59)","v":"Depth of Beam  (inches)"}]
[956,{"$f":"IF('TxDOT Test Data'!$I$68=\"\",\"\",'TxDOT Test Data'!$I$68)","v":""},{"$f":"IF('TxDOT Test Data'!$C$53=\"\",\"\",'TxDOT Test Data'!$C$53)","v":"TXDOT:Tex-448-A"},{"$f":"IF('TxDOT Test Data'!$B$67=\"\",\"\",'TxDOT Test Data'!$B$67)","v":4},{"$f":"IF('TxDOT Test Data'!$I$59=\"\",\"\",'TxDOT Test Data'!$I$59)","v":"Span Length  (inches)"}]
[957,{"$f":"IF('TxDOT Test Data'!$J$68=\"\",\"\",'TxDOT Test Data'!$J$68)","v":""},{"$f":"IF('TxDOT Test Data'!$C$53=\"\",\"\",'TxDOT Test Data'!$C$53)","v":"TXDOT:Tex-448-A"},{"$f":"IF('TxDOT Test Data'!$B$67=\"\",\"\",'TxDOT Test Data'!$B$67)","v":4},{"$f":"IF('TxDOT Test Data'!$J$59=\"\",\"\",'TxDOT Test Data'!$J$59)","v":"Max Recording (Lbs.)"}]
[958,{"$f":"IF('TxDOT Test Data'!$K$68=\"\",\"\",'TxDOT Test Data'!$K$68)","v":""},{"$f":"IF('TxDOT Test Data'!$C$53=\"\",\"\",'TxDOT Test Data'!$C$53)","v":"TXDOT:Tex-448-A"},{"$f":"IF('TxDOT Test Data'!$B$67=\"\",\"\",'TxDOT Test Data'!$B$67)","v":4},{"$f":"IF('TxDOT Test Data'!$K$59=\"\",\"\",'TxDOT Test Data'!$K$59)","v":"*Failure Location (inches)"}]
[959,{"$f":"IF('TxDOT Test Data'!$L$68=\"\",\"\",'TxDOT Test Data'!$L$68)","v":""},{"$f":"IF('TxDOT Test Data'!$C$53=\"\",\"\",'TxDOT Test Data'!$C$53)","v":"TXDOT:Tex-448-A"},{"$f":"IF('TxDOT Test Data'!$B$67=\"\",\"\",'TxDOT Test Data'!$B$67)","v":4},{"$f":"IF('TxDOT Test Data'!$L$59=\"\",\"\",'TxDOT Test Data'!$L$59)","v":"Modulus of Rupture (psi)"}]
[960,{"$f":"IF('TxDOT Test Data'!$F$69=\"\",\"\",'TxDOT Test Data'!$F$69)","v":""},{"$f":"IF('TxDOT Test Data'!$C$53=\"\",\"\",'TxDOT Test Data'!$C$53)","v":"TXDOT:Tex-448-A"},{"$f":"IF('TxDOT Test Data'!$B$69=\"\",\"\",'TxDOT Test Data'!$B$69)","v":5},{"$f":"IF('TxDOT Test Data'!$F$59=\"\",\"\",'TxDOT Test Data'!$F$59)","v":"Beam Number"}]
[961,{"$f":"IF('TxDOT Test Data'!$D$69=\"\",\"\",'TxDOT Test Data'!$D$69)","v":""},{"$f":"IF('TxDOT Test Data'!$C$53=\"\",\"\",'TxDOT Test Data'!$C$53)","v":"TXDOT:Tex-448-A"},{"$f":"IF('TxDOT Test Data'!$B$69=\"\",\"\",'TxDOT Test Data'!$B$69)","v":5},{"$f":"IF('TxDOT Test Data'!$D$59=\"\",\"\",'TxDOT Test Data'!$D$59)","v":"Station"}]
[962,{"$f":"IF('TxDOT Test Data'!$E$69=\"\",\"\",'TxDOT Test Data'!$E$69)","v":""},{"$f":"IF('TxDOT Test Data'!$C$53=\"\",\"\",'TxDOT Test Data'!$C$53)","v":"TXDOT:Tex-448-A"},{"$f":"IF('TxDOT Test Data'!$B$69=\"\",\"\",'TxDOT Test Data'!$B$69)","v":5},{"$f":"IF('TxDOT Test Data'!$E$59=\"\",\"\",'TxDOT Test Data'!$E$59)","v":"Age (Days)"}]
[963,{"$f":"IF('TxDOT Test Data'!$G$69=\"\",\"\",'TxDOT Test Data'!$G$69)","v":""},{"$f":"IF('TxDOT Test Data'!$C$53=\"\",\"\",'TxDOT Test Data'!$C$53)","v":"TXDOT:Tex-448-A"},{"$f":"IF('TxDOT Test Data'!$B$69=\"\",\"\",'TxDOT Test Data'!$B$69)","v":5},{"$f":"IF('TxDOT Test Data'!$G$59=\"\",\"\",'TxDOT Test Data'!$G$59)","v":"Width of Beam (inches)"}]
[964,{"$f":"IF('TxDOT Test Data'!$H$69=\"\",\"\",'TxDOT Test Data'!$H$69)","v":""},{"$f":"IF('TxDOT Test Data'!$C$53=\"\",\"\",'TxDOT Test Data'!$C$53)","v":"TXDOT:Tex-448-A"},{"$f":"IF('TxDOT Test Data'!$B$69=\"\",\"\",'TxDOT Test Data'!$B$69)","v":5},{"$f":"IF('TxDOT Test Data'!$H$59=\"\",\"\",'TxDOT Test Data'!$H$59)","v":"Depth of Beam  (inches)"}]
[965,{"$f":"IF('TxDOT Test Data'!$I$69=\"\",\"\",'TxDOT Test Data'!$I$69)","v":""},{"$f":"IF('TxDOT Test Data'!$C$53=\"\",\"\",'TxDOT Test Data'!$C$53)","v":"TXDOT:Tex-448-A"},{"$f":"IF('TxDOT Test Data'!$B$69=\"\",\"\",'TxDOT Test Data'!$B$69)","v":5},{"$f":"IF('TxDOT Test Data'!$I$59=\"\",\"\",'TxDOT Test Data'!$I$59)","v":"Span Length  (inches)"}]
[966,{"$f":"IF('TxDOT Test Data'!$J$69=\"\",\"\",'TxDOT Test Data'!$J$69)","v":""},{"$f":"IF('TxDOT Test Data'!$C$53=\"\",\"\",'TxDOT Test Data'!$C$53)","v":"TXDOT:Tex-448-A"},{"$f":"IF('TxDOT Test Data'!$B$69=\"\",\"\",'TxDOT Test Data'!$B$69)","v":5},{"$f":"IF('TxDOT Test Data'!$J$59=\"\",\"\",'TxDOT Test Data'!$J$59)","v":"Max Recording (Lbs.)"}]
[967,{"$f":"IF('TxDOT Test Data'!$K$69=\"\",\"\",'TxDOT Test Data'!$K$69)","v":""},{"$f":"IF('TxDOT Test Data'!$C$53=\"\",\"\",'TxDOT Test Data'!$C$53)","v":"TXDOT:Tex-448-A"},{"$f":"IF('TxDOT Test Data'!$B$69=\"\",\"\",'TxDOT Test Data'!$B$69)","v":5},{"$f":"IF('TxDOT Test Data'!$K$59=\"\",\"\",'TxDOT Test Data'!$K$59)","v":"*Failure Location (inches)"}]
[968,{"$f":"IF('TxDOT Test Data'!$L$69=\"\",\"\",'TxDOT Test Data'!$L$69)","v":""},{"$f":"IF('TxDOT Test Data'!$C$53=\"\",\"\",'TxDOT Test Data'!$C$53)","v":"TXDOT:Tex-448-A"},{"$f":"IF('TxDOT Test Data'!$B$69=\"\",\"\",'TxDOT Test Data'!$B$69)","v":5},{"$f":"IF('TxDOT Test Data'!$L$59=\"\",\"\",'TxDOT Test Data'!$L$59)","v":"Modulus of Rupture (psi)"}]
[969,{"$f":"IF('TxDOT Test Data'!$M$69=\"\",\"\",'TxDOT Test Data'!$M$69)","v":""},{"$f":"IF('TxDOT Test Data'!$C$53=\"\",\"\",'TxDOT Test Data'!$C$53)","v":"TXDOT:Tex-448-A"},{"$f":"IF('TxDOT Test Data'!$B$69=\"\",\"\",'TxDOT Test Data'!$B$69)","v":5},{"$f":"IF('TxDOT Test Data'!$M$59=\"\",\"\",'TxDOT Test Data'!$M$59)","v":"Modulus of Rupture (avg) (psi)"}]
[970,{"$f":"IF('TxDOT Test Data'!$N$69=\"\",\"\",'TxDOT Test Data'!$N$69)","v":""},{"$f":"IF('TxDOT Test Data'!$C$53=\"\",\"\",'TxDOT Test Data'!$C$53)","v":"TXDOT:Tex-448-A"},{"$f":"IF('TxDOT Test Data'!$B$69=\"\",\"\",'TxDOT Test Data'!$B$69)","v":5},{"$f":"IF('TxDOT Test Data'!$N$59=\"\",\"\",'TxDOT Test Data'!$N$59)","v":"Meets Job Control Strength"}]
[971,{"$f":"IF('TxDOT Test Data'!$F$70=\"\",\"\",'TxDOT Test Data'!$F$70)","v":""},{"$f":"IF('TxDOT Test Data'!$C$53=\"\",\"\",'TxDOT Test Data'!$C$53)","v":"TXDOT:Tex-448-A"},{"$f":"IF('TxDOT Test Data'!$B$69=\"\",\"\",'TxDOT Test Data'!$B$69)","v":5},{"$f":"IF('TxDOT Test Data'!$F$59=\"\",\"\",'TxDOT Test Data'!$F$59)","v":"Beam Number"}]
[972,{"$f":"IF('TxDOT Test Data'!$G$70=\"\",\"\",'TxDOT Test Data'!$G$70)","v":""},{"$f":"IF('TxDOT Test Data'!$C$53=\"\",\"\",'TxDOT Test Data'!$C$53)","v":"TXDOT:Tex-448-A"},{"$f":"IF('TxDOT Test Data'!$B$69=\"\",\"\",'TxDOT Test Data'!$B$69)","v":5},{"$f":"IF('TxDOT Test Data'!$G$59=\"\",\"\",'TxDOT Test Data'!$G$59)","v":"Width of Beam (inches)"}]
[973,{"$f":"IF('TxDOT Test Data'!$H$70=\"\",\"\",'TxDOT Test Data'!$H$70)","v":""},{"$f":"IF('TxDOT Test Data'!$C$53=\"\",\"\",'TxDOT Test Data'!$C$53)","v":"TXDOT:Tex-448-A"},{"$f":"IF('TxDOT Test Data'!$B$69=\"\",\"\",'TxDOT Test Data'!$B$69)","v":5},{"$f":"IF('TxDOT Test Data'!$H$59=\"\",\"\",'TxDOT Test Data'!$H$59)","v":"Depth of Beam  (inches)"}]
[974,{"$f":"IF('TxDOT Test Data'!$I$70=\"\",\"\",'TxDOT Test Data'!$I$70)","v":""},{"$f":"IF('TxDOT Test Data'!$C$53=\"\",\"\",'TxDOT Test Data'!$C$53)","v":"TXDOT:Tex-448-A"},{"$f":"IF('TxDOT Test Data'!$B$69=\"\",\"\",'TxDOT Test Data'!$B$69)","v":5},{"$f":"IF('TxDOT Test Data'!$I$59=\"\",\"\",'TxDOT Test Data'!$I$59)","v":"Span Length  (inches)"}]
[975,{"$f":"IF('TxDOT Test Data'!$J$70=\"\",\"\",'TxDOT Test Data'!$J$70)","v":""},{"$f":"IF('TxDOT Test Data'!$C$53=\"\",\"\",'TxDOT Test Data'!$C$53)","v":"TXDOT:Tex-448-A"},{"$f":"IF('TxDOT Test Data'!$B$69=\"\",\"\",'TxDOT Test Data'!$B$69)","v":5},{"$f":"IF('TxDOT Test Data'!$J$59=\"\",\"\",'TxDOT Test Data'!$J$59)","v":"Max Recording (Lbs.)"}]
[976,{"$f":"IF('TxDOT Test Data'!$K$70=\"\",\"\",'TxDOT Test Data'!$K$70)","v":""},{"$f":"IF('TxDOT Test Data'!$C$53=\"\",\"\",'TxDOT Test Data'!$C$53)","v":"TXDOT:Tex-448-A"},{"$f":"IF('TxDOT Test Data'!$B$69=\"\",\"\",'TxDOT Test Data'!$B$69)","v":5},{"$f":"IF('TxDOT Test Data'!$K$59=\"\",\"\",'TxDOT Test Data'!$K$59)","v":"*Failure Location (inches)"}]
[977,{"$f":"IF('TxDOT Test Data'!$L$70=\"\",\"\",'TxDOT Test Data'!$L$70)","v":""},{"$f":"IF('TxDOT Test Data'!$C$53=\"\",\"\",'TxDOT Test Data'!$C$53)","v":"TXDOT:Tex-448-A"},{"$f":"IF('TxDOT Test Data'!$B$69=\"\",\"\",'TxDOT Test Data'!$B$69)","v":5},{"$f":"IF('TxDOT Test Data'!$L$59=\"\",\"\",'TxDOT Test Data'!$L$59)","v":"Modulus of Rupture (psi)"}]
[978,{"$f":"IF('TxDOT Test Data'!$F$71=\"\",\"\",'TxDOT Test Data'!$F$71)","v":""},{"$f":"IF('TxDOT Test Data'!$C$53=\"\",\"\",'TxDOT Test Data'!$C$53)","v":"TXDOT:Tex-448-A"},{"$f":"IF('TxDOT Test Data'!$B$71=\"\",\"\",'TxDOT Test Data'!$B$71)","v":6},{"$f":"IF('TxDOT Test Data'!$F$59=\"\",\"\",'TxDOT Test Data'!$F$59)","v":"Beam Number"}]
[979,{"$f":"IF('TxDOT Test Data'!$D$71=\"\",\"\",'TxDOT Test Data'!$D$71)","v":""},{"$f":"IF('TxDOT Test Data'!$C$53=\"\",\"\",'TxDOT Test Data'!$C$53)","v":"TXDOT:Tex-448-A"},{"$f":"IF('TxDOT Test Data'!$B$71=\"\",\"\",'TxDOT Test Data'!$B$71)","v":6},{"$f":"IF('TxDOT Test Data'!$D$59=\"\",\"\",'TxDOT Test Data'!$D$59)","v":"Station"}]
[980,{"$f":"IF('TxDOT Test Data'!$E$71=\"\",\"\",'TxDOT Test Data'!$E$71)","v":""},{"$f":"IF('TxDOT Test Data'!$C$53=\"\",\"\",'TxDOT Test Data'!$C$53)","v":"TXDOT:Tex-448-A"},{"$f":"IF('TxDOT Test Data'!$B$71=\"\",\"\",'TxDOT Test Data'!$B$71)","v":6},{"$f":"IF('TxDOT Test Data'!$E$59=\"\",\"\",'TxDOT Test Data'!$E$59)","v":"Age (Days)"}]
[981,{"$f":"IF('TxDOT Test Data'!$G$71=\"\",\"\",'TxDOT Test Data'!$G$71)","v":""},{"$f":"IF('TxDOT Test Data'!$C$53=\"\",\"\",'TxDOT Test Data'!$C$53)","v":"TXDOT:Tex-448-A"},{"$f":"IF('TxDOT Test Data'!$B$71=\"\",\"\",'TxDOT Test Data'!$B$71)","v":6},{"$f":"IF('TxDOT Test Data'!$G$59=\"\",\"\",'TxDOT Test Data'!$G$59)","v":"Width of Beam (inches)"}]
[982,{"$f":"IF('TxDOT Test Data'!$H$71=\"\",\"\",'TxDOT Test Data'!$H$71)","v":""},{"$f":"IF('TxDOT Test Data'!$C$53=\"\",\"\",'TxDOT Test Data'!$C$53)","v":"TXDOT:Tex-448-A"},{"$f":"IF('TxDOT Test Data'!$B$71=\"\",\"\",'TxDOT Test Data'!$B$71)","v":6},{"$f":"IF('TxDOT Test Data'!$H$59=\"\",\"\",'TxDOT Test Data'!$H$59)","v":"Depth of Beam  (inches)"}]
[983,{"$f":"IF('TxDOT Test Data'!$I$71=\"\",\"\",'TxDOT Test Data'!$I$71)","v":""},{"$f":"IF('TxDOT Test Data'!$C$53=\"\",\"\",'TxDOT Test Data'!$C$53)","v":"TXDOT:Tex-448-A"},{"$f":"IF('TxDOT Test Data'!$B$71=\"\",\"\",'TxDOT Test Data'!$B$71)","v":6},{"$f":"IF('TxDOT Test Data'!$I$59=\"\",\"\",'TxDOT Test Data'!$I$59)","v":"Span Length  (inches)"}]
[984,{"$f":"IF('TxDOT Test Data'!$J$71=\"\",\"\",'TxDOT Test Data'!$J$71)","v":""},{"$f":"IF('TxDOT Test Data'!$C$53=\"\",\"\",'TxDOT Test Data'!$C$53)","v":"TXDOT:Tex-448-A"},{"$f":"IF('TxDOT Test Data'!$B$71=\"\",\"\",'TxDOT Test Data'!$B$71)","v":6},{"$f":"IF('TxDOT Test Data'!$J$59=\"\",\"\",'TxDOT Test Data'!$J$59)","v":"Max Recording (Lbs.)"}]
[985,{"$f":"IF('TxDOT Test Data'!$K$71=\"\",\"\",'TxDOT Test Data'!$K$71)","v":""},{"$f":"IF('TxDOT Test Data'!$C$53=\"\",\"\",'TxDOT Test Data'!$C$53)","v":"TXDOT:Tex-448-A"},{"$f":"IF('TxDOT Test Data'!$B$71=\"\",\"\",'TxDOT Test Data'!$B$71)","v":6},{"$f":"IF('TxDOT Test Data'!$K$59=\"\",\"\",'TxDOT Test Data'!$K$59)","v":"*Failure Location (inches)"}]
[986,{"$f":"IF('TxDOT Test Data'!$L$71=\"\",\"\",'TxDOT Test Data'!$L$71)","v":""},{"$f":"IF('TxDOT Test Data'!$C$53=\"\",\"\",'TxDOT Test Data'!$C$53)","v":"TXDOT:Tex-448-A"},{"$f":"IF('TxDOT Test Data'!$B$71=\"\",\"\",'TxDOT Test Data'!$B$71)","v":6},{"$f":"IF('TxDOT Test Data'!$L$59=\"\",\"\",'TxDOT Test Data'!$L$59)","v":"Modulus of Rupture (psi)"}]
[987,{"$f":"IF('TxDOT Test Data'!$M$71=\"\",\"\",'TxDOT Test Data'!$M$71)","v":""},{"$f":"IF('TxDOT Test Data'!$C$53=\"\",\"\",'TxDOT Test Data'!$C$53)","v":"TXDOT:Tex-448-A"},{"$f":"IF('TxDOT Test Data'!$B$71=\"\",\"\",'TxDOT Test Data'!$B$71)","v":6},{"$f":"IF('TxDOT Test Data'!$M$59=\"\",\"\",'TxDOT Test Data'!$M$59)","v":"Modulus of Rupture (avg) (psi)"}]
[988,{"$f":"IF('TxDOT Test Data'!$N$71=\"\",\"\",'TxDOT Test Data'!$N$71)","v":""},{"$f":"IF('TxDOT Test Data'!$C$53=\"\",\"\",'TxDOT Test Data'!$C$53)","v":"TXDOT:Tex-448-A"},{"$f":"IF('TxDOT Test Data'!$B$71=\"\",\"\",'TxDOT Test Data'!$B$71)","v":6},{"$f":"IF('TxDOT Test Data'!$N$59=\"\",\"\",'TxDOT Test Data'!$N$59)","v":"Meets Job Control Strength"}]
[989,{"$f":"IF('TxDOT Test Data'!$F$72=\"\",\"\",'TxDOT Test Data'!$F$72)","v":""},{"$f":"IF('TxDOT Test Data'!$C$53=\"\",\"\",'TxDOT Test Data'!$C$53)","v":"TXDOT:Tex-448-A"},{"$f":"IF('TxDOT Test Data'!$B$71=\"\",\"\",'TxDOT Test Data'!$B$71)","v":6},{"$f":"IF('TxDOT Test Data'!$F$59=\"\",\"\",'TxDOT Test Data'!$F$59)","v":"Beam Number"}]
[990,{"$f":"IF('TxDOT Test Data'!$G$72=\"\",\"\",'TxDOT Test Data'!$G$72)","v":""},{"$f":"IF('TxDOT Test Data'!$C$53=\"\",\"\",'TxDOT Test Data'!$C$53)","v":"TXDOT:Tex-448-A"},{"$f":"IF('TxDOT Test Data'!$B$71=\"\",\"\",'TxDOT Test Data'!$B$71)","v":6},{"$f":"IF('TxDOT Test Data'!$G$59=\"\",\"\",'TxDOT Test Data'!$G$59)","v":"Width of Beam (inches)"}]
[991,{"$f":"IF('TxDOT Test Data'!$H$72=\"\",\"\",'TxDOT Test Data'!$H$72)","v":""},{"$f":"IF('TxDOT Test Data'!$C$53=\"\",\"\",'TxDOT Test Data'!$C$53)","v":"TXDOT:Tex-448-A"},{"$f":"IF('TxDOT Test Data'!$B$71=\"\",\"\",'TxDOT Test Data'!$B$71)","v":6},{"$f":"IF('TxDOT Test Data'!$H$59=\"\",\"\",'TxDOT Test Data'!$H$59)","v":"Depth of Beam  (inches)"}]
[992,{"$f":"IF('TxDOT Test Data'!$I$72=\"\",\"\",'TxDOT Test Data'!$I$72)","v":""},{"$f":"IF('TxDOT Test Data'!$C$53=\"\",\"\",'TxDOT Test Data'!$C$53)","v":"TXDOT:Tex-448-A"},{"$f":"IF('TxDOT Test Data'!$B$71=\"\",\"\",'TxDOT Test Data'!$B$71)","v":6},{"$f":"IF('TxDOT Test Data'!$I$59=\"\",\"\",'TxDOT Test Data'!$I$59)","v":"Span Length  (inches)"}]
[993,{"$f":"IF('TxDOT Test Data'!$J$72=\"\",\"\",'TxDOT Test Data'!$J$72)","v":""},{"$f":"IF('TxDOT Test Data'!$C$53=\"\",\"\",'TxDOT Test Data'!$C$53)","v":"TXDOT:Tex-448-A"},{"$f":"IF('TxDOT Test Data'!$B$71=\"\",\"\",'TxDOT Test Data'!$B$71)","v":6},{"$f":"IF('TxDOT Test Data'!$J$59=\"\",\"\",'TxDOT Test Data'!$J$59)","v":"Max Recording (Lbs.)"}]
[994,{"$f":"IF('TxDOT Test Data'!$K$72=\"\",\"\",'TxDOT Test Data'!$K$72)","v":""},{"$f":"IF('TxDOT Test Data'!$C$53=\"\",\"\",'TxDOT Test Data'!$C$53)","v":"TXDOT:Tex-448-A"},{"$f":"IF('TxDOT Test Data'!$B$71=\"\",\"\",'TxDOT Test Data'!$B$71)","v":6},{"$f":"IF('TxDOT Test Data'!$K$59=\"\",\"\",'TxDOT Test Data'!$K$59)","v":"*Failure Location (inches)"}]
[995,{"$f":"IF('TxDOT Test Data'!$L$72=\"\",\"\",'TxDOT Test Data'!$L$72)","v":""},{"$f":"IF('TxDOT Test Data'!$C$53=\"\",\"\",'TxDOT Test Data'!$C$53)","v":"TXDOT:Tex-448-A"},{"$f":"IF('TxDOT Test Data'!$B$71=\"\",\"\",'TxDOT Test Data'!$B$71)","v":6},{"$f":"IF('TxDOT Test Data'!$L$59=\"\",\"\",'TxDOT Test Data'!$L$59)","v":"Modulus of Rupture (psi)"}]
[996,{"$f":"IF('TxDOT Test Data'!$F$73=\"\",\"\",'TxDOT Test Data'!$F$73)","v":""},{"$f":"IF('TxDOT Test Data'!$C$53=\"\",\"\",'TxDOT Test Data'!$C$53)","v":"TXDOT:Tex-448-A"},{"$f":"IF('TxDOT Test Data'!$B$73=\"\",\"\",'TxDOT Test Data'!$B$73)","v":7},{"$f":"IF('TxDOT Test Data'!$F$59=\"\",\"\",'TxDOT Test Data'!$F$59)","v":"Beam Number"}]
[997,{"$f":"IF('TxDOT Test Data'!$D$73=\"\",\"\",'TxDOT Test Data'!$D$73)","v":""},{"$f":"IF('TxDOT Test Data'!$C$53=\"\",\"\",'TxDOT Test Data'!$C$53)","v":"TXDOT:Tex-448-A"},{"$f":"IF('TxDOT Test Data'!$B$73=\"\",\"\",'TxDOT Test Data'!$B$73)","v":7},{"$f":"IF('TxDOT Test Data'!$D$59=\"\",\"\",'TxDOT Test Data'!$D$59)","v":"Station"}]
[998,{"$f":"IF('TxDOT Test Data'!$E$73=\"\",\"\",'TxDOT Test Data'!$E$73)","v":""},{"$f":"IF('TxDOT Test Data'!$C$53=\"\",\"\",'TxDOT Test Data'!$C$53)","v":"TXDOT:Tex-448-A"},{"$f":"IF('TxDOT Test Data'!$B$73=\"\",\"\",'TxDOT Test Data'!$B$73)","v":7},{"$f":"IF('TxDOT Test Data'!$E$59=\"\",\"\",'TxDOT Test Data'!$E$59)","v":"Age (Days)"}]
[999,{"$f":"IF('TxDOT Test Data'!$G$73=\"\",\"\",'TxDOT Test Data'!$G$73)","v":""},{"$f":"IF('TxDOT Test Data'!$C$53=\"\",\"\",'TxDOT Test Data'!$C$53)","v":"TXDOT:Tex-448-A"},{"$f":"IF('TxDOT Test Data'!$B$73=\"\",\"\",'TxDOT Test Data'!$B$73)","v":7},{"$f":"IF('TxDOT Test Data'!$G$59=\"\",\"\",'TxDOT Test Data'!$G$59)","v":"Width of Beam (inches)"}]
[1000,{"$f":"IF('TxDOT Test Data'!$H$73=\"\",\"\",'TxDOT Test Data'!$H$73)","v":""},{"$f":"IF('TxDOT Test Data'!$C$53=\"\",\"\",'TxDOT Test Data'!$C$53)","v":"TXDOT:Tex-448-A"},{"$f":"IF('TxDOT Test Data'!$B$73=\"\",\"\",'TxDOT Test Data'!$B$73)","v":7},{"$f":"IF('TxDOT Test Data'!$H$59=\"\",\"\",'TxDOT Test Data'!$H$59)","v":"Depth of Beam  (inches)"}]
[1001,{"$f":"IF('TxDOT Test Data'!$I$73=\"\",\"\",'TxDOT Test Data'!$I$73)","v":""},{"$f":"IF('TxDOT Test Data'!$C$53=\"\",\"\",'TxDOT Test Data'!$C$53)","v":"TXDOT:Tex-448-A"},{"$f":"IF('TxDOT Test Data'!$B$73=\"\",\"\",'TxDOT Test Data'!$B$73)","v":7},{"$f":"IF('TxDOT Test Data'!$I$59=\"\",\"\",'TxDOT Test Data'!$I$59)","v":"Span Length  (inches)"}]
[1002,{"$f":"IF('TxDOT Test Data'!$J$73=\"\",\"\",'TxDOT Test Data'!$J$73)","v":""},{"$f":"IF('TxDOT Test Data'!$C$53=\"\",\"\",'TxDOT Test Data'!$C$53)","v":"TXDOT:Tex-448-A"},{"$f":"IF('TxDOT Test Data'!$B$73=\"\",\"\",'TxDOT Test Data'!$B$73)","v":7},{"$f":"IF('TxDOT Test Data'!$J$59=\"\",\"\",'TxDOT Test Data'!$J$59)","v":"Max Recording (Lbs.)"}]
[1003,{"$f":"IF('TxDOT Test Data'!$K$73=\"\",\"\",'TxDOT Test Data'!$K$73)","v":""},{"$f":"IF('TxDOT Test Data'!$C$53=\"\",\"\",'TxDOT Test Data'!$C$53)","v":"TXDOT:Tex-448-A"},{"$f":"IF('TxDOT Test Data'!$B$73=\"\",\"\",'TxDOT Test Data'!$B$73)","v":7},{"$f":"IF('TxDOT Test Data'!$K$59=\"\",\"\",'TxDOT Test Data'!$K$59)","v":"*Failure Location (inches)"}]
[1004,{"$f":"IF('TxDOT Test Data'!$L$73=\"\",\"\",'TxDOT Test Data'!$L$73)","v":""},{"$f":"IF('TxDOT Test Data'!$C$53=\"\",\"\",'TxDOT Test Data'!$C$53)","v":"TXDOT:Tex-448-A"},{"$f":"IF('TxDOT Test Data'!$B$73=\"\",\"\",'TxDOT Test Data'!$B$73)","v":7},{"$f":"IF('TxDOT Test Data'!$L$59=\"\",\"\",'TxDOT Test Data'!$L$59)","v":"Modulus of Rupture (psi)"}]
[1005,{"$f":"IF('TxDOT Test Data'!$M$73=\"\",\"\",'TxDOT Test Data'!$M$73)","v":""},{"$f":"IF('TxDOT Test Data'!$C$53=\"\",\"\",'TxDOT Test Data'!$C$53)","v":"TXDOT:Tex-448-A"},{"$f":"IF('TxDOT Test Data'!$B$73=\"\",\"\",'TxDOT Test Data'!$B$73)","v":7},{"$f":"IF('TxDOT Test Data'!$M$59=\"\",\"\",'TxDOT Test Data'!$M$59)","v":"Modulus of Rupture (avg) (psi)"}]
[1006,{"$f":"IF('TxDOT Test Data'!$N$73=\"\",\"\",'TxDOT Test Data'!$N$73)","v":""},{"$f":"IF('TxDOT Test Data'!$C$53=\"\",\"\",'TxDOT Test Data'!$C$53)","v":"TXDOT:Tex-448-A"},{"$f":"IF('TxDOT Test Data'!$B$73=\"\",\"\",'TxDOT Test Data'!$B$73)","v":7},{"$f":"IF('TxDOT Test Data'!$N$59=\"\",\"\",'TxDOT Test Data'!$N$59)","v":"Meets Job Control Strength"}]
[1007,{"$f":"IF('TxDOT Test Data'!$F$74=\"\",\"\",'TxDOT Test Data'!$F$74)","v":""},{"$f":"IF('TxDOT Test Data'!$C$53=\"\",\"\",'TxDOT Test Data'!$C$53)","v":"TXDOT:Tex-448-A"},{"$f":"IF('TxDOT Test Data'!$B$73=\"\",\"\",'TxDOT Test Data'!$B$73)","v":7},{"$f":"IF('TxDOT Test Data'!$F$59=\"\",\"\",'TxDOT Test Data'!$F$59)","v":"Beam Number"}]
[1008,{"$f":"IF('TxDOT Test Data'!$G$74=\"\",\"\",'TxDOT Test Data'!$G$74)","v":""},{"$f":"IF('TxDOT Test Data'!$C$53=\"\",\"\",'TxDOT Test Data'!$C$53)","v":"TXDOT:Tex-448-A"},{"$f":"IF('TxDOT Test Data'!$B$73=\"\",\"\",'TxDOT Test Data'!$B$73)","v":7},{"$f":"IF('TxDOT Test Data'!$G$59=\"\",\"\",'TxDOT Test Data'!$G$59)","v":"Width of Beam (inches)"}]
[1009,{"$f":"IF('TxDOT Test Data'!$H$74=\"\",\"\",'TxDOT Test Data'!$H$74)","v":""},{"$f":"IF('TxDOT Test Data'!$C$53=\"\",\"\",'TxDOT Test Data'!$C$53)","v":"TXDOT:Tex-448-A"},{"$f":"IF('TxDOT Test Data'!$B$73=\"\",\"\",'TxDOT Test Data'!$B$73)","v":7},{"$f":"IF('TxDOT Test Data'!$H$59=\"\",\"\",'TxDOT Test Data'!$H$59)","v":"Depth of Beam  (inches)"}]
[1010,{"$f":"IF('TxDOT Test Data'!$I$74=\"\",\"\",'TxDOT Test Data'!$I$74)","v":""},{"$f":"IF('TxDOT Test Data'!$C$53=\"\",\"\",'TxDOT Test Data'!$C$53)","v":"TXDOT:Tex-448-A"},{"$f":"IF('TxDOT Test Data'!$B$73=\"\",\"\",'TxDOT Test Data'!$B$73)","v":7},{"$f":"IF('TxDOT Test Data'!$I$59=\"\",\"\",'TxDOT Test Data'!$I$59)","v":"Span Length  (inches)"}]
[1011,{"$f":"IF('TxDOT Test Data'!$J$74=\"\",\"\",'TxDOT Test Data'!$J$74)","v":""},{"$f":"IF('TxDOT Test Data'!$C$53=\"\",\"\",'TxDOT Test Data'!$C$53)","v":"TXDOT:Tex-448-A"},{"$f":"IF('TxDOT Test Data'!$B$73=\"\",\"\",'TxDOT Test Data'!$B$73)","v":7},{"$f":"IF('TxDOT Test Data'!$J$59=\"\",\"\",'TxDOT Test Data'!$J$59)","v":"Max Recording (Lbs.)"}]
[1012,{"$f":"IF('TxDOT Test Data'!$K$74=\"\",\"\",'TxDOT Test Data'!$K$74)","v":""},{"$f":"IF('TxDOT Test Data'!$C$53=\"\",\"\",'TxDOT Test Data'!$C$53)","v":"TXDOT:Tex-448-A"},{"$f":"IF('TxDOT Test Data'!$B$73=\"\",\"\",'TxDOT Test Data'!$B$73)","v":7},{"$f":"IF('TxDOT Test Data'!$K$59=\"\",\"\",'TxDOT Test Data'!$K$59)","v":"*Failure Location (inches)"}]
[1013,{"$f":"IF('TxDOT Test Data'!$L$74=\"\",\"\",'TxDOT Test Data'!$L$74)","v":""},{"$f":"IF('TxDOT Test Data'!$C$53=\"\",\"\",'TxDOT Test Data'!$C$53)","v":"TXDOT:Tex-448-A"},{"$f":"IF('TxDOT Test Data'!$B$73=\"\",\"\",'TxDOT Test Data'!$B$73)","v":7},{"$f":"IF('TxDOT Test Data'!$L$59=\"\",\"\",'TxDOT Test Data'!$L$59)","v":"Modulus of Rupture (psi)"}]
[1014,{"$f":"IF('TxDOT Test Data'!$F$75=\"\",\"\",'TxDOT Test Data'!$F$75)","v":""},{"$f":"IF('TxDOT Test Data'!$C$53=\"\",\"\",'TxDOT Test Data'!$C$53)","v":"TXDOT:Tex-448-A"},{"$f":"IF('TxDOT Test Data'!$B$75=\"\",\"\",'TxDOT Test Data'!$B$75)","v":8},{"$f":"IF('TxDOT Test Data'!$F$59=\"\",\"\",'TxDOT Test Data'!$F$59)","v":"Beam Number"}]
[1015,{"$f":"IF('TxDOT Test Data'!$D$75=\"\",\"\",'TxDOT Test Data'!$D$75)","v":""},{"$f":"IF('TxDOT Test Data'!$C$53=\"\",\"\",'TxDOT Test Data'!$C$53)","v":"TXDOT:Tex-448-A"},{"$f":"IF('TxDOT Test Data'!$B$75=\"\",\"\",'TxDOT Test Data'!$B$75)","v":8},{"$f":"IF('TxDOT Test Data'!$D$59=\"\",\"\",'TxDOT Test Data'!$D$59)","v":"Station"}]
[1016,{"$f":"IF('TxDOT Test Data'!$E$75=\"\",\"\",'TxDOT Test Data'!$E$75)","v":""},{"$f":"IF('TxDOT Test Data'!$C$53=\"\",\"\",'TxDOT Test Data'!$C$53)","v":"TXDOT:Tex-448-A"},{"$f":"IF('TxDOT Test Data'!$B$75=\"\",\"\",'TxDOT Test Data'!$B$75)","v":8},{"$f":"IF('TxDOT Test Data'!$E$59=\"\",\"\",'TxDOT Test Data'!$E$59)","v":"Age (Days)"}]
[1017,{"$f":"IF('TxDOT Test Data'!$G$75=\"\",\"\",'TxDOT Test Data'!$G$75)","v":""},{"$f":"IF('TxDOT Test Data'!$C$53=\"\",\"\",'TxDOT Test Data'!$C$53)","v":"TXDOT:Tex-448-A"},{"$f":"IF('TxDOT Test Data'!$B$75=\"\",\"\",'TxDOT Test Data'!$B$75)","v":8},{"$f":"IF('TxDOT Test Data'!$G$59=\"\",\"\",'TxDOT Test Data'!$G$59)","v":"Width of Beam (inches)"}]
[1018,{"$f":"IF('TxDOT Test Data'!$H$75=\"\",\"\",'TxDOT Test Data'!$H$75)","v":""},{"$f":"IF('TxDOT Test Data'!$C$53=\"\",\"\",'TxDOT Test Data'!$C$53)","v":"TXDOT:Tex-448-A"},{"$f":"IF('TxDOT Test Data'!$B$75=\"\",\"\",'TxDOT Test Data'!$B$75)","v":8},{"$f":"IF('TxDOT Test Data'!$H$59=\"\",\"\",'TxDOT Test Data'!$H$59)","v":"Depth of Beam  (inches)"}]
[1019,{"$f":"IF('TxDOT Test Data'!$I$75=\"\",\"\",'TxDOT Test Data'!$I$75)","v":""},{"$f":"IF('TxDOT Test Data'!$C$53=\"\",\"\",'TxDOT Test Data'!$C$53)","v":"TXDOT:Tex-448-A"},{"$f":"IF('TxDOT Test Data'!$B$75=\"\",\"\",'TxDOT Test Data'!$B$75)","v":8},{"$f":"IF('TxDOT Test Data'!$I$59=\"\",\"\",'TxDOT Test Data'!$I$59)","v":"Span Length  (inches)"}]
[1020,{"$f":"IF('TxDOT Test Data'!$J$75=\"\",\"\",'TxDOT Test Data'!$J$75)","v":""},{"$f":"IF('TxDOT Test Data'!$C$53=\"\",\"\",'TxDOT Test Data'!$C$53)","v":"TXDOT:Tex-448-A"},{"$f":"IF('TxDOT Test Data'!$B$75=\"\",\"\",'TxDOT Test Data'!$B$75)","v":8},{"$f":"IF('TxDOT Test Data'!$J$59=\"\",\"\",'TxDOT Test Data'!$J$59)","v":"Max Recording (Lbs.)"}]
[1021,{"$f":"IF('TxDOT Test Data'!$K$75=\"\",\"\",'TxDOT Test Data'!$K$75)","v":""},{"$f":"IF('TxDOT Test Data'!$C$53=\"\",\"\",'TxDOT Test Data'!$C$53)","v":"TXDOT:Tex-448-A"},{"$f":"IF('TxDOT Test Data'!$B$75=\"\",\"\",'TxDOT Test Data'!$B$75)","v":8},{"$f":"IF('TxDOT Test Data'!$K$59=\"\",\"\",'TxDOT Test Data'!$K$59)","v":"*Failure Location (inches)"}]
[1022,{"$f":"IF('TxDOT Test Data'!$L$75=\"\",\"\",'TxDOT Test Data'!$L$75)","v":""},{"$f":"IF('TxDOT Test Data'!$C$53=\"\",\"\",'TxDOT Test Data'!$C$53)","v":"TXDOT:Tex-448-A"},{"$f":"IF('TxDOT Test Data'!$B$75=\"\",\"\",'TxDOT Test Data'!$B$75)","v":8},{"$f":"IF('TxDOT Test Data'!$L$59=\"\",\"\",'TxDOT Test Data'!$L$59)","v":"Modulus of Rupture (psi)"}]
[1023,{"$f":"IF('TxDOT Test Data'!$M$75=\"\",\"\",'TxDOT Test Data'!$M$75)","v":""},{"$f":"IF('TxDOT Test Data'!$C$53=\"\",\"\",'TxDOT Test Data'!$C$53)","v":"TXDOT:Tex-448-A"},{"$f":"IF('TxDOT Test Data'!$B$75=\"\",\"\",'TxDOT Test Data'!$B$75)","v":8},{"$f":"IF('TxDOT Test Data'!$M$59=\"\",\"\",'TxDOT Test Data'!$M$59)","v":"Modulus of Rupture (avg) (psi)"}]
[1024,{"$f":"IF('TxDOT Test Data'!$N$75=\"\",\"\",'TxDOT Test Data'!$N$75)","v":""},{"$f":"IF('TxDOT Test Data'!$C$53=\"\",\"\",'TxDOT Test Data'!$C$53)","v":"TXDOT:Tex-448-A"},{"$f":"IF('TxDOT Test Data'!$B$75=\"\",\"\",'TxDOT Test Data'!$B$75)","v":8},{"$f":"IF('TxDOT Test Data'!$N$59=\"\",\"\",'TxDOT Test Data'!$N$59)","v":"Meets Job Control Strength"}]
[1025,{"$f":"IF('TxDOT Test Data'!$F$76=\"\",\"\",'TxDOT Test Data'!$F$76)","v":""},{"$f":"IF('TxDOT Test Data'!$C$53=\"\",\"\",'TxDOT Test Data'!$C$53)","v":"TXDOT:Tex-448-A"},{"$f":"IF('TxDOT Test Data'!$B$75=\"\",\"\",'TxDOT Test Data'!$B$75)","v":8},{"$f":"IF('TxDOT Test Data'!$F$59=\"\",\"\",'TxDOT Test Data'!$F$59)","v":"Beam Number"}]
[1026,{"$f":"IF('TxDOT Test Data'!$G$76=\"\",\"\",'TxDOT Test Data'!$G$76)","v":""},{"$f":"IF('TxDOT Test Data'!$C$53=\"\",\"\",'TxDOT Test Data'!$C$53)","v":"TXDOT:Tex-448-A"},{"$f":"IF('TxDOT Test Data'!$B$75=\"\",\"\",'TxDOT Test Data'!$B$75)","v":8},{"$f":"IF('TxDOT Test Data'!$G$59=\"\",\"\",'TxDOT Test Data'!$G$59)","v":"Width of Beam (inches)"}]
[1027,{"$f":"IF('TxDOT Test Data'!$H$76=\"\",\"\",'TxDOT Test Data'!$H$76)","v":""},{"$f":"IF('TxDOT Test Data'!$C$53=\"\",\"\",'TxDOT Test Data'!$C$53)","v":"TXDOT:Tex-448-A"},{"$f":"IF('TxDOT Test Data'!$B$75=\"\",\"\",'TxDOT Test Data'!$B$75)","v":8},{"$f":"IF('TxDOT Test Data'!$H$59=\"\",\"\",'TxDOT Test Data'!$H$59)","v":"Depth of Beam  (inches)"}]
[1028,{"$f":"IF('TxDOT Test Data'!$I$76=\"\",\"\",'TxDOT Test Data'!$I$76)","v":""},{"$f":"IF('TxDOT Test Data'!$C$53=\"\",\"\",'TxDOT Test Data'!$C$53)","v":"TXDOT:Tex-448-A"},{"$f":"IF('TxDOT Test Data'!$B$75=\"\",\"\",'TxDOT Test Data'!$B$75)","v":8},{"$f":"IF('TxDOT Test Data'!$I$59=\"\",\"\",'TxDOT Test Data'!$I$59)","v":"Span Length  (inches)"}]
[1029,{"$f":"IF('TxDOT Test Data'!$J$76=\"\",\"\",'TxDOT Test Data'!$J$76)","v":""},{"$f":"IF('TxDOT Test Data'!$C$53=\"\",\"\",'TxDOT Test Data'!$C$53)","v":"TXDOT:Tex-448-A"},{"$f":"IF('TxDOT Test Data'!$B$75=\"\",\"\",'TxDOT Test Data'!$B$75)","v":8},{"$f":"IF('TxDOT Test Data'!$J$59=\"\",\"\",'TxDOT Test Data'!$J$59)","v":"Max Recording (Lbs.)"}]
[1030,{"$f":"IF('TxDOT Test Data'!$K$76=\"\",\"\",'TxDOT Test Data'!$K$76)","v":""},{"$f":"IF('TxDOT Test Data'!$C$53=\"\",\"\",'TxDOT Test Data'!$C$53)","v":"TXDOT:Tex-448-A"},{"$f":"IF('TxDOT Test Data'!$B$75=\"\",\"\",'TxDOT Test Data'!$B$75)","v":8},{"$f":"IF('TxDOT Test Data'!$K$59=\"\",\"\",'TxDOT Test Data'!$K$59)","v":"*Failure Location (inches)"}]
[1031,{"$f":"IF('TxDOT Test Data'!$L$76=\"\",\"\",'TxDOT Test Data'!$L$76)","v":""},{"$f":"IF('TxDOT Test Data'!$C$53=\"\",\"\",'TxDOT Test Data'!$C$53)","v":"TXDOT:Tex-448-A"},{"$f":"IF('TxDOT Test Data'!$B$75=\"\",\"\",'TxDOT Test Data'!$B$75)","v":8},{"$f":"IF('TxDOT Test Data'!$L$59=\"\",\"\",'TxDOT Test Data'!$L$59)","v":"Modulus of Rupture (psi)"}]
[1032,{"$f":"IF('TxDOT Test Data'!$F$77=\"\",\"\",'TxDOT Test Data'!$F$77)","v":""},{"$f":"IF('TxDOT Test Data'!$C$53=\"\",\"\",'TxDOT Test Data'!$C$53)","v":"TXDOT:Tex-448-A"},{"$f":"IF('TxDOT Test Data'!$B$77=\"\",\"\",'TxDOT Test Data'!$B$77)","v":9},{"$f":"IF('TxDOT Test Data'!$F$59=\"\",\"\",'TxDOT Test Data'!$F$59)","v":"Beam Number"}]
[1033,{"$f":"IF('TxDOT Test Data'!$D$77=\"\",\"\",'TxDOT Test Data'!$D$77)","v":""},{"$f":"IF('TxDOT Test Data'!$C$53=\"\",\"\",'TxDOT Test Data'!$C$53)","v":"TXDOT:Tex-448-A"},{"$f":"IF('TxDOT Test Data'!$B$77=\"\",\"\",'TxDOT Test Data'!$B$77)","v":9},{"$f":"IF('TxDOT Test Data'!$D$59=\"\",\"\",'TxDOT Test Data'!$D$59)","v":"Station"}]
[1034,{"$f":"IF('TxDOT Test Data'!$E$77=\"\",\"\",'TxDOT Test Data'!$E$77)","v":""},{"$f":"IF('TxDOT Test Data'!$C$53=\"\",\"\",'TxDOT Test Data'!$C$53)","v":"TXDOT:Tex-448-A"},{"$f":"IF('TxDOT Test Data'!$B$77=\"\",\"\",'TxDOT Test Data'!$B$77)","v":9},{"$f":"IF('TxDOT Test Data'!$E$59=\"\",\"\",'TxDOT Test Data'!$E$59)","v":"Age (Days)"}]
[1035,{"$f":"IF('TxDOT Test Data'!$G$77=\"\",\"\",'TxDOT Test Data'!$G$77)","v":""},{"$f":"IF('TxDOT Test Data'!$C$53=\"\",\"\",'TxDOT Test Data'!$C$53)","v":"TXDOT:Tex-448-A"},{"$f":"IF('TxDOT Test Data'!$B$77=\"\",\"\",'TxDOT Test Data'!$B$77)","v":9},{"$f":"IF('TxDOT Test Data'!$G$59=\"\",\"\",'TxDOT Test Data'!$G$59)","v":"Width of Beam (inches)"}]
[1036,{"$f":"IF('TxDOT Test Data'!$H$77=\"\",\"\",'TxDOT Test Data'!$H$77)","v":""},{"$f":"IF('TxDOT Test Data'!$C$53=\"\",\"\",'TxDOT Test Data'!$C$53)","v":"TXDOT:Tex-448-A"},{"$f":"IF('TxDOT Test Data'!$B$77=\"\",\"\",'TxDOT Test Data'!$B$77)","v":9},{"$f":"IF('TxDOT Test Data'!$H$59=\"\",\"\",'TxDOT Test Data'!$H$59)","v":"Depth of Beam  (inches)"}]
[1037,{"$f":"IF('TxDOT Test Data'!$I$77=\"\",\"\",'TxDOT Test Data'!$I$77)","v":""},{"$f":"IF('TxDOT Test Data'!$C$53=\"\",\"\",'TxDOT Test Data'!$C$53)","v":"TXDOT:Tex-448-A"},{"$f":"IF('TxDOT Test Data'!$B$77=\"\",\"\",'TxDOT Test Data'!$B$77)","v":9},{"$f":"IF('TxDOT Test Data'!$I$59=\"\",\"\",'TxDOT Test Data'!$I$59)","v":"Span Length  (inches)"}]
[1038,{"$f":"IF('TxDOT Test Data'!$J$77=\"\",\"\",'TxDOT Test Data'!$J$77)","v":""},{"$f":"IF('TxDOT Test Data'!$C$53=\"\",\"\",'TxDOT Test Data'!$C$53)","v":"TXDOT:Tex-448-A"},{"$f":"IF('TxDOT Test Data'!$B$77=\"\",\"\",'TxDOT Test Data'!$B$77)","v":9},{"$f":"IF('TxDOT Test Data'!$J$59=\"\",\"\",'TxDOT Test Data'!$J$59)","v":"Max Recording (Lbs.)"}]
[1039,{"$f":"IF('TxDOT Test Data'!$K$77=\"\",\"\",'TxDOT Test Data'!$K$77)","v":""},{"$f":"IF('TxDOT Test Data'!$C$53=\"\",\"\",'TxDOT Test Data'!$C$53)","v":"TXDOT:Tex-448-A"},{"$f":"IF('TxDOT Test Data'!$B$77=\"\",\"\",'TxDOT Test Data'!$B$77)","v":9},{"$f":"IF('TxDOT Test Data'!$K$59=\"\",\"\",'TxDOT Test Data'!$K$59)","v":"*Failure Location (inches)"}]
[1040,{"$f":"IF('TxDOT Test Data'!$L$77=\"\",\"\",'TxDOT Test Data'!$L$77)","v":""},{"$f":"IF('TxDOT Test Data'!$C$53=\"\",\"\",'TxDOT Test Data'!$C$53)","v":"TXDOT:Tex-448-A"},{"$f":"IF('TxDOT Test Data'!$B$77=\"\",\"\",'TxDOT Test Data'!$B$77)","v":9},{"$f":"IF('TxDOT Test Data'!$L$59=\"\",\"\",'TxDOT Test Data'!$L$59)","v":"Modulus of Rupture (psi)"}]
[1041,{"$f":"IF('TxDOT Test Data'!$M$77=\"\",\"\",'TxDOT Test Data'!$M$77)","v":""},{"$f":"IF('TxDOT Test Data'!$C$53=\"\",\"\",'TxDOT Test Data'!$C$53)","v":"TXDOT:Tex-448-A"},{"$f":"IF('TxDOT Test Data'!$B$77=\"\",\"\",'TxDOT Test Data'!$B$77)","v":9},{"$f":"IF('TxDOT Test Data'!$M$59=\"\",\"\",'TxDOT Test Data'!$M$59)","v":"Modulus of Rupture (avg) (psi)"}]
[1042,{"$f":"IF('TxDOT Test Data'!$N$77=\"\",\"\",'TxDOT Test Data'!$N$77)","v":""},{"$f":"IF('TxDOT Test Data'!$C$53=\"\",\"\",'TxDOT Test Data'!$C$53)","v":"TXDOT:Tex-448-A"},{"$f":"IF('TxDOT Test Data'!$B$77=\"\",\"\",'TxDOT Test Data'!$B$77)","v":9},{"$f":"IF('TxDOT Test Data'!$N$59=\"\",\"\",'TxDOT Test Data'!$N$59)","v":"Meets Job Control Strength"}]
[1043,{"$f":"IF('TxDOT Test Data'!$F$78=\"\",\"\",'TxDOT Test Data'!$F$78)","v":""},{"$f":"IF('TxDOT Test Data'!$C$53=\"\",\"\",'TxDOT Test Data'!$C$53)","v":"TXDOT:Tex-448-A"},{"$f":"IF('TxDOT Test Data'!$B$77=\"\",\"\",'TxDOT Test Data'!$B$77)","v":9},{"$f":"IF('TxDOT Test Data'!$F$59=\"\",\"\",'TxDOT Test Data'!$F$59)","v":"Beam Number"}]
[1044,{"$f":"IF('TxDOT Test Data'!$G$78=\"\",\"\",'TxDOT Test Data'!$G$78)","v":""},{"$f":"IF('TxDOT Test Data'!$C$53=\"\",\"\",'TxDOT Test Data'!$C$53)","v":"TXDOT:Tex-448-A"},{"$f":"IF('TxDOT Test Data'!$B$77=\"\",\"\",'TxDOT Test Data'!$B$77)","v":9},{"$f":"IF('TxDOT Test Data'!$G$59=\"\",\"\",'TxDOT Test Data'!$G$59)","v":"Width of Beam (inches)"}]
[1045,{"$f":"IF('TxDOT Test Data'!$H$78=\"\",\"\",'TxDOT Test Data'!$H$78)","v":""},{"$f":"IF('TxDOT Test Data'!$C$53=\"\",\"\",'TxDOT Test Data'!$C$53)","v":"TXDOT:Tex-448-A"},{"$f":"IF('TxDOT Test Data'!$B$77=\"\",\"\",'TxDOT Test Data'!$B$77)","v":9},{"$f":"IF('TxDOT Test Data'!$H$59=\"\",\"\",'TxDOT Test Data'!$H$59)","v":"Depth of Beam  (inches)"}]
[1046,{"$f":"IF('TxDOT Test Data'!$I$78=\"\",\"\",'TxDOT Test Data'!$I$78)","v":""},{"$f":"IF('TxDOT Test Data'!$C$53=\"\",\"\",'TxDOT Test Data'!$C$53)","v":"TXDOT:Tex-448-A"},{"$f":"IF('TxDOT Test Data'!$B$77=\"\",\"\",'TxDOT Test Data'!$B$77)","v":9},{"$f":"IF('TxDOT Test Data'!$I$59=\"\",\"\",'TxDOT Test Data'!$I$59)","v":"Span Length  (inches)"}]
[1047,{"$f":"IF('TxDOT Test Data'!$J$78=\"\",\"\",'TxDOT Test Data'!$J$78)","v":""},{"$f":"IF('TxDOT Test Data'!$C$53=\"\",\"\",'TxDOT Test Data'!$C$53)","v":"TXDOT:Tex-448-A"},{"$f":"IF('TxDOT Test Data'!$B$77=\"\",\"\",'TxDOT Test Data'!$B$77)","v":9},{"$f":"IF('TxDOT Test Data'!$J$59=\"\",\"\",'TxDOT Test Data'!$J$59)","v":"Max Recording (Lbs.)"}]
[1048,{"$f":"IF('TxDOT Test Data'!$K$78=\"\",\"\",'TxDOT Test Data'!$K$78)","v":""},{"$f":"IF('TxDOT Test Data'!$C$53=\"\",\"\",'TxDOT Test Data'!$C$53)","v":"TXDOT:Tex-448-A"},{"$f":"IF('TxDOT Test Data'!$B$77=\"\",\"\",'TxDOT Test Data'!$B$77)","v":9},{"$f":"IF('TxDOT Test Data'!$K$59=\"\",\"\",'TxDOT Test Data'!$K$59)","v":"*Failure Location (inches)"}]
[1049,{"$f":"IF('TxDOT Test Data'!$L$78=\"\",\"\",'TxDOT Test Data'!$L$78)","v":""},{"$f":"IF('TxDOT Test Data'!$C$53=\"\",\"\",'TxDOT Test Data'!$C$53)","v":"TXDOT:Tex-448-A"},{"$f":"IF('TxDOT Test Data'!$B$77=\"\",\"\",'TxDOT Test Data'!$B$77)","v":9},{"$f":"IF('TxDOT Test Data'!$L$59=\"\",\"\",'TxDOT Test Data'!$L$59)","v":"Modulus of Rupture (psi)"}]
[1050,{"$f":"IF('TxDOT Test Data'!$F$79=\"\",\"\",'TxDOT Test Data'!$F$79)","v":""},{"$f":"IF('TxDOT Test Data'!$C$53=\"\",\"\",'TxDOT Test Data'!$C$53)","v":"TXDOT:Tex-448-A"},{"$f":"IF('TxDOT Test Data'!$B$79=\"\",\"\",'TxDOT Test Data'!$B$79)","v":10},{"$f":"IF('TxDOT Test Data'!$F$59=\"\",\"\",'TxDOT Test Data'!$F$59)","v":"Beam Number"}]
[1051,{"$f":"IF('TxDOT Test Data'!$D$79=\"\",\"\",'TxDOT Test Data'!$D$79)","v":""},{"$f":"IF('TxDOT Test Data'!$C$53=\"\",\"\",'TxDOT Test Data'!$C$53)","v":"TXDOT:Tex-448-A"},{"$f":"IF('TxDOT Test Data'!$B$79=\"\",\"\",'TxDOT Test Data'!$B$79)","v":10},{"$f":"IF('TxDOT Test Data'!$D$59=\"\",\"\",'TxDOT Test Data'!$D$59)","v":"Station"}]
[1052,{"$f":"IF('TxDOT Test Data'!$E$79=\"\",\"\",'TxDOT Test Data'!$E$79)","v":""},{"$f":"IF('TxDOT Test Data'!$C$53=\"\",\"\",'TxDOT Test Data'!$C$53)","v":"TXDOT:Tex-448-A"},{"$f":"IF('TxDOT Test Data'!$B$79=\"\",\"\",'TxDOT Test Data'!$B$79)","v":10},{"$f":"IF('TxDOT Test Data'!$E$59=\"\",\"\",'TxDOT Test Data'!$E$59)","v":"Age (Days)"}]
[1053,{"$f":"IF('TxDOT Test Data'!$G$79=\"\",\"\",'TxDOT Test Data'!$G$79)","v":""},{"$f":"IF('TxDOT Test Data'!$C$53=\"\",\"\",'TxDOT Test Data'!$C$53)","v":"TXDOT:Tex-448-A"},{"$f":"IF('TxDOT Test Data'!$B$79=\"\",\"\",'TxDOT Test Data'!$B$79)","v":10},{"$f":"IF('TxDOT Test Data'!$G$59=\"\",\"\",'TxDOT Test Data'!$G$59)","v":"Width of Beam (inches)"}]
[1054,{"$f":"IF('TxDOT Test Data'!$H$79=\"\",\"\",'TxDOT Test Data'!$H$79)","v":""},{"$f":"IF('TxDOT Test Data'!$C$53=\"\",\"\",'TxDOT Test Data'!$C$53)","v":"TXDOT:Tex-448-A"},{"$f":"IF('TxDOT Test Data'!$B$79=\"\",\"\",'TxDOT Test Data'!$B$79)","v":10},{"$f":"IF('TxDOT Test Data'!$H$59=\"\",\"\",'TxDOT Test Data'!$H$59)","v":"Depth of Beam  (inches)"}]
[1055,{"$f":"IF('TxDOT Test Data'!$I$79=\"\",\"\",'TxDOT Test Data'!$I$79)","v":""},{"$f":"IF('TxDOT Test Data'!$C$53=\"\",\"\",'TxDOT Test Data'!$C$53)","v":"TXDOT:Tex-448-A"},{"$f":"IF('TxDOT Test Data'!$B$79=\"\",\"\",'TxDOT Test Data'!$B$79)","v":10},{"$f":"IF('TxDOT Test Data'!$I$59=\"\",\"\",'TxDOT Test Data'!$I$59)","v":"Span Length  (inches)"}]
[1056,{"$f":"IF('TxDOT Test Data'!$J$79=\"\",\"\",'TxDOT Test Data'!$J$79)","v":""},{"$f":"IF('TxDOT Test Data'!$C$53=\"\",\"\",'TxDOT Test Data'!$C$53)","v":"TXDOT:Tex-448-A"},{"$f":"IF('TxDOT Test Data'!$B$79=\"\",\"\",'TxDOT Test Data'!$B$79)","v":10},{"$f":"IF('TxDOT Test Data'!$J$59=\"\",\"\",'TxDOT Test Data'!$J$59)","v":"Max Recording (Lbs.)"}]
[1057,{"$f":"IF('TxDOT Test Data'!$K$79=\"\",\"\",'TxDOT Test Data'!$K$79)","v":""},{"$f":"IF('TxDOT Test Data'!$C$53=\"\",\"\",'TxDOT Test Data'!$C$53)","v":"TXDOT:Tex-448-A"},{"$f":"IF('TxDOT Test Data'!$B$79=\"\",\"\",'TxDOT Test Data'!$B$79)","v":10},{"$f":"IF('TxDOT Test Data'!$K$59=\"\",\"\",'TxDOT Test Data'!$K$59)","v":"*Failure Location (inches)"}]
[1058,{"$f":"IF('TxDOT Test Data'!$L$79=\"\",\"\",'TxDOT Test Data'!$L$79)","v":""},{"$f":"IF('TxDOT Test Data'!$C$53=\"\",\"\",'TxDOT Test Data'!$C$53)","v":"TXDOT:Tex-448-A"},{"$f":"IF('TxDOT Test Data'!$B$79=\"\",\"\",'TxDOT Test Data'!$B$79)","v":10},{"$f":"IF('TxDOT Test Data'!$L$59=\"\",\"\",'TxDOT Test Data'!$L$59)","v":"Modulus of Rupture (psi)"}]
[1059,{"$f":"IF('TxDOT Test Data'!$M$79=\"\",\"\",'TxDOT Test Data'!$M$79)","v":""},{"$f":"IF('TxDOT Test Data'!$C$53=\"\",\"\",'TxDOT Test Data'!$C$53)","v":"TXDOT:Tex-448-A"},{"$f":"IF('TxDOT Test Data'!$B$79=\"\",\"\",'TxDOT Test Data'!$B$79)","v":10},{"$f":"IF('TxDOT Test Data'!$M$59=\"\",\"\",'TxDOT Test Data'!$M$59)","v":"Modulus of Rupture (avg) (psi)"}]
[1060,{"$f":"IF('TxDOT Test Data'!$N$79=\"\",\"\",'TxDOT Test Data'!$N$79)","v":""},{"$f":"IF('TxDOT Test Data'!$C$53=\"\",\"\",'TxDOT Test Data'!$C$53)","v":"TXDOT:Tex-448-A"},{"$f":"IF('TxDOT Test Data'!$B$79=\"\",\"\",'TxDOT Test Data'!$B$79)","v":10},{"$f":"IF('TxDOT Test Data'!$N$59=\"\",\"\",'TxDOT Test Data'!$N$59)","v":"Meets Job Control Strength"}]
[1061,{"$f":"IF('TxDOT Test Data'!$F$80=\"\",\"\",'TxDOT Test Data'!$F$80)","v":""},{"$f":"IF('TxDOT Test Data'!$C$53=\"\",\"\",'TxDOT Test Data'!$C$53)","v":"TXDOT:Tex-448-A"},{"$f":"IF('TxDOT Test Data'!$B$79=\"\",\"\",'TxDOT Test Data'!$B$79)","v":10},{"$f":"IF('TxDOT Test Data'!$F$59=\"\",\"\",'TxDOT Test Data'!$F$59)","v":"Beam Number"}]
[1062,{"$f":"IF('TxDOT Test Data'!$G$80=\"\",\"\",'TxDOT Test Data'!$G$80)","v":""},{"$f":"IF('TxDOT Test Data'!$C$53=\"\",\"\",'TxDOT Test Data'!$C$53)","v":"TXDOT:Tex-448-A"},{"$f":"IF('TxDOT Test Data'!$B$79=\"\",\"\",'TxDOT Test Data'!$B$79)","v":10},{"$f":"IF('TxDOT Test Data'!$G$59=\"\",\"\",'TxDOT Test Data'!$G$59)","v":"Width of Beam (inches)"}]
[1063,{"$f":"IF('TxDOT Test Data'!$H$80=\"\",\"\",'TxDOT Test Data'!$H$80)","v":""},{"$f":"IF('TxDOT Test Data'!$C$53=\"\",\"\",'TxDOT Test Data'!$C$53)","v":"TXDOT:Tex-448-A"},{"$f":"IF('TxDOT Test Data'!$B$79=\"\",\"\",'TxDOT Test Data'!$B$79)","v":10},{"$f":"IF('TxDOT Test Data'!$H$59=\"\",\"\",'TxDOT Test Data'!$H$59)","v":"Depth of Beam  (inches)"}]
[1064,{"$f":"IF('TxDOT Test Data'!$I$80=\"\",\"\",'TxDOT Test Data'!$I$80)","v":""},{"$f":"IF('TxDOT Test Data'!$C$53=\"\",\"\",'TxDOT Test Data'!$C$53)","v":"TXDOT:Tex-448-A"},{"$f":"IF('TxDOT Test Data'!$B$79=\"\",\"\",'TxDOT Test Data'!$B$79)","v":10},{"$f":"IF('TxDOT Test Data'!$I$59=\"\",\"\",'TxDOT Test Data'!$I$59)","v":"Span Length  (inches)"}]
[1065,{"$f":"IF('TxDOT Test Data'!$J$80=\"\",\"\",'TxDOT Test Data'!$J$80)","v":""},{"$f":"IF('TxDOT Test Data'!$C$53=\"\",\"\",'TxDOT Test Data'!$C$53)","v":"TXDOT:Tex-448-A"},{"$f":"IF('TxDOT Test Data'!$B$79=\"\",\"\",'TxDOT Test Data'!$B$79)","v":10},{"$f":"IF('TxDOT Test Data'!$J$59=\"\",\"\",'TxDOT Test Data'!$J$59)","v":"Max Recording (Lbs.)"}]
[1066,{"$f":"IF('TxDOT Test Data'!$K$80=\"\",\"\",'TxDOT Test Data'!$K$80)","v":""},{"$f":"IF('TxDOT Test Data'!$C$53=\"\",\"\",'TxDOT Test Data'!$C$53)","v":"TXDOT:Tex-448-A"},{"$f":"IF('TxDOT Test Data'!$B$79=\"\",\"\",'TxDOT Test Data'!$B$79)","v":10},{"$f":"IF('TxDOT Test Data'!$K$59=\"\",\"\",'TxDOT Test Data'!$K$59)","v":"*Failure Location (inches)"}]
[1067,{"$f":"IF('TxDOT Test Data'!$L$80=\"\",\"\",'TxDOT Test Data'!$L$80)","v":""},{"$f":"IF('TxDOT Test Data'!$C$53=\"\",\"\",'TxDOT Test Data'!$C$53)","v":"TXDOT:Tex-448-A"},{"$f":"IF('TxDOT Test Data'!$B$79=\"\",\"\",'TxDOT Test Data'!$B$79)","v":10},{"$f":"IF('TxDOT Test Data'!$L$59=\"\",\"\",'TxDOT Test Data'!$L$59)","v":"Modulus of Rupture (psi)"}]
[1068,{"$f":"IF('Contractor Test Data'!$E$25=\"\",\"\",'Contractor Test Data'!$E$25)","v":""},{"$f":"IF('Contractor Test Data'!$C$21=\"\",\"\",'Contractor Test Data'!$C$21)","v":"Contractor:Tex-418-A"},{"$f":"IF('Contractor Test Data'!$C$25=\"\",\"\",'Contractor Test Data'!$C$25)","v":"Grade of Aggregate (Nominal Size): "}]
[1069,{"$f":"IF('TxDOT Test Data'!$E$25=\"\",\"\",'TxDOT Test Data'!$E$25)","v":""},{"$f":"IF('TxDOT Test Data'!$C$21=\"\",\"\",'TxDOT Test Data'!$C$21)","v":"TXDOT:Tex-418-A"},{"$f":"IF('TxDOT Test Data'!$C$25=\"\",\"\",'TxDOT Test Data'!$C$25)","v":"Grade of Aggregate (Nominal Size): "}]
[1070,{"$f":"IF(Summary!$C$92=\"\",\"\",Summary!$C$92)","v":""},{"$f":"IF(Summary!$C$89=\"\",\"\",Summary!$C$89)","v":"Summary:Tex-422-A"},{"$f":"IF(Summary!$B$92=\"\",\"\",Summary!$B$92)","v":1},{"$f":"IF(Summary!$C$90=\"\",\"\",Summary!$C$90)","v":"Contractor"},{"$f":"IF(Summary!$C$91=\"\",\"\",Summary!$C$91)","v":"Temperature (°F)"}]
[1071,{"$f":"IF(Summary!$D$92=\"\",\"\",Summary!$D$92)","v":""},{"$f":"IF(Summary!$C$89=\"\",\"\",Summary!$C$89)","v":"Summary:Tex-422-A"},{"$f":"IF(Summary!$B$92=\"\",\"\",Summary!$B$92)","v":1},{"$f":"IF(Summary!$D$90=\"\",\"\",Summary!$D$90)","v":"TxDOT"},{"$f":"IF(Summary!$D$91=\"\",\"\",Summary!$D$91)","v":"Temperature (°F)"}]
[1072,{"$f":"IF(Summary!$E$92=\"\",\"\",Summary!$E$92)","v":""},{"$f":"IF(Summary!$C$89=\"\",\"\",Summary!$C$89)","v":"Summary:Tex-422-A"},{"$f":"IF(Summary!$B$92=\"\",\"\",Summary!$B$92)","v":1},{"$f":"IF(Summary!$E$91=\"\",\"\",Summary!$E$91)","v":"Split-Sample Difference (°F)"}]
[1073,{"$f":"IF(Summary!$F$92=\"\",\"\",Summary!$F$92)","v":""},{"$f":"IF(Summary!$C$89=\"\",\"\",Summary!$C$89)","v":"Summary:Tex-422-A"},{"$f":"IF(Summary!$B$92=\"\",\"\",Summary!$B$92)","v":1},{"$f":"IF(Summary!$F$91=\"\",\"\",Summary!$F$91)","v":"Within Allowable Difference for Split-Sample?"}]
[1074,{"$f":"IF(Summary!$G$92=\"\",\"\",Summary!$G$92)","v":""},{"$f":"IF(Summary!$C$89=\"\",\"\",Summary!$C$89)","v":"Summary:Tex-422-A"},{"$f":"IF(Summary!$B$92=\"\",\"\",Summary!$B$92)","v":1},{"$f":"IF(Summary!$G$91=\"\",\"\",Summary!$G$91)","v":"Percent Difference"}]
[1075,{"$f":"IF(Summary!$H$92=\"\",\"\",Summary!$H$92)","v":""},{"$f":"IF(Summary!$C$89=\"\",\"\",Summary!$C$89)","v":"Summary:Tex-422-A"},{"$f":"IF(Summary!$B$92=\"\",\"\",Summary!$B$92)","v":1},{"$f":"IF(Summary!$H$91=\"\",\"\",Summary!$H$91)","v":"Within Allowable Difference?"}]
[1076,{"$f":"IF(Summary!$C$93=\"\",\"\",Summary!$C$93)","v":""},{"$f":"IF(Summary!$C$89=\"\",\"\",Summary!$C$89)","v":"Summary:Tex-422-A"},{"$f":"IF(Summary!$B$93=\"\",\"\",Summary!$B$93)","v":2},{"$f":"IF(Summary!$C$90=\"\",\"\",Summary!$C$90)","v":"Contractor"},{"$f":"IF(Summary!$C$91=\"\",\"\",Summary!$C$91)","v":"Temperature (°F)"}]
[1077,{"$f":"IF(Summary!$D$93=\"\",\"\",Summary!$D$93)","v":""},{"$f":"IF(Summary!$C$89=\"\",\"\",Summary!$C$89)","v":"Summary:Tex-422-A"},{"$f":"IF(Summary!$B$93=\"\",\"\",Summary!$B$93)","v":2},{"$f":"IF(Summary!$D$90=\"\",\"\",Summary!$D$90)","v":"TxDOT"},{"$f":"IF(Summary!$D$91=\"\",\"\",Summary!$D$91)","v":"Temperature (°F)"}]
[1078,{"$f":"IF(Summary!$E$93=\"\",\"\",Summary!$E$93)","v":""},{"$f":"IF(Summary!$C$89=\"\",\"\",Summary!$C$89)","v":"Summary:Tex-422-A"},{"$f":"IF(Summary!$B$93=\"\",\"\",Summary!$B$93)","v":2},{"$f":"IF(Summary!$E$91=\"\",\"\",Summary!$E$91)","v":"Split-Sample Difference (°F)"}]
[1079,{"$f":"IF(Summary!$F$93=\"\",\"\",Summary!$F$93)","v":""},{"$f":"IF(Summary!$C$89=\"\",\"\",Summary!$C$89)","v":"Summary:Tex-422-A"},{"$f":"IF(Summary!$B$93=\"\",\"\",Summary!$B$93)","v":2},{"$f":"IF(Summary!$F$91=\"\",\"\",Summary!$F$91)","v":"Within Allowable Difference for Split-Sample?"}]
[1080,{"$f":"IF(Summary!$G$93=\"\",\"\",Summary!$G$93)","v":""},{"$f":"IF(Summary!$C$89=\"\",\"\",Summary!$C$89)","v":"Summary:Tex-422-A"},{"$f":"IF(Summary!$B$93=\"\",\"\",Summary!$B$93)","v":2},{"$f":"IF(Summary!$G$91=\"\",\"\",Summary!$G$91)","v":"Percent Difference"}]
[1081,{"$f":"IF(Summary!$H$93=\"\",\"\",Summary!$H$93)","v":""},{"$f":"IF(Summary!$C$89=\"\",\"\",Summary!$C$89)","v":"Summary:Tex-422-A"},{"$f":"IF(Summary!$B$93=\"\",\"\",Summary!$B$93)","v":2},{"$f":"IF(Summary!$H$91=\"\",\"\",Summary!$H$91)","v":"Within Allowable Difference?"}]
[1082,{"$f":"IF(Summary!$C$94=\"\",\"\",Summary!$C$94)","v":""},{"$f":"IF(Summary!$C$89=\"\",\"\",Summary!$C$89)","v":"Summary:Tex-422-A"},{"$f":"IF(Summary!$B$94=\"\",\"\",Summary!$B$94)","v":3},{"$f":"IF(Summary!$C$90=\"\",\"\",Summary!$C$90)","v":"Contractor"},{"$f":"IF(Summary!$C$91=\"\",\"\",Summary!$C$91)","v":"Temperature (°F)"}]
[1083,{"$f":"IF(Summary!$D$94=\"\",\"\",Summary!$D$94)","v":""},{"$f":"IF(Summary!$C$89=\"\",\"\",Summary!$C$89)","v":"Summary:Tex-422-A"},{"$f":"IF(Summary!$B$94=\"\",\"\",Summary!$B$94)","v":3},{"$f":"IF(Summary!$D$90=\"\",\"\",Summary!$D$90)","v":"TxDOT"},{"$f":"IF(Summary!$D$91=\"\",\"\",Summary!$D$91)","v":"Temperature (°F)"}]
[1084,{"$f":"IF(Summary!$E$94=\"\",\"\",Summary!$E$94)","v":""},{"$f":"IF(Summary!$C$89=\"\",\"\",Summary!$C$89)","v":"Summary:Tex-422-A"},{"$f":"IF(Summary!$B$94=\"\",\"\",Summary!$B$94)","v":3},{"$f":"IF(Summary!$E$91=\"\",\"\",Summary!$E$91)","v":"Split-Sample Difference (°F)"}]
[1085,{"$f":"IF(Summary!$F$94=\"\",\"\",Summary!$F$94)","v":""},{"$f":"IF(Summary!$C$89=\"\",\"\",Summary!$C$89)","v":"Summary:Tex-422-A"},{"$f":"IF(Summary!$B$94=\"\",\"\",Summary!$B$94)","v":3},{"$f":"IF(Summary!$F$91=\"\",\"\",Summary!$F$91)","v":"Within Allowable Difference for Split-Sample?"}]
[1086,{"$f":"IF(Summary!$G$94=\"\",\"\",Summary!$G$94)","v":""},{"$f":"IF(Summary!$C$89=\"\",\"\",Summary!$C$89)","v":"Summary:Tex-422-A"},{"$f":"IF(Summary!$B$94=\"\",\"\",Summary!$B$94)","v":3},{"$f":"IF(Summary!$G$91=\"\",\"\",Summary!$G$91)","v":"Percent Difference"}]
[1087,{"$f":"IF(Summary!$H$94=\"\",\"\",Summary!$H$94)","v":""},{"$f":"IF(Summary!$C$89=\"\",\"\",Summary!$C$89)","v":"Summary:Tex-422-A"},{"$f":"IF(Summary!$B$94=\"\",\"\",Summary!$B$94)","v":3},{"$f":"IF(Summary!$H$91=\"\",\"\",Summary!$H$91)","v":"Within Allowable Difference?"}]
[1088,{"$f":"IF(Summary!$C$95=\"\",\"\",Summary!$C$95)","v":""},{"$f":"IF(Summary!$C$89=\"\",\"\",Summary!$C$89)","v":"Summary:Tex-422-A"},{"$f":"IF(Summary!$B$95=\"\",\"\",Summary!$B$95)","v":4},{"$f":"IF(Summary!$C$90=\"\",\"\",Summary!$C$90)","v":"Contractor"},{"$f":"IF(Summary!$C$91=\"\",\"\",Summary!$C$91)","v":"Temperature (°F)"}]
[1089,{"$f":"IF(Summary!$D$95=\"\",\"\",Summary!$D$95)","v":""},{"$f":"IF(Summary!$C$89=\"\",\"\",Summary!$C$89)","v":"Summary:Tex-422-A"},{"$f":"IF(Summary!$B$95=\"\",\"\",Summary!$B$95)","v":4},{"$f":"IF(Summary!$D$90=\"\",\"\",Summary!$D$90)","v":"TxDOT"},{"$f":"IF(Summary!$D$91=\"\",\"\",Summary!$D$91)","v":"Temperature (°F)"}]
[1090,{"$f":"IF(Summary!$E$95=\"\",\"\",Summary!$E$95)","v":""},{"$f":"IF(Summary!$C$89=\"\",\"\",Summary!$C$89)","v":"Summary:Tex-422-A"},{"$f":"IF(Summary!$B$95=\"\",\"\",Summary!$B$95)","v":4},{"$f":"IF(Summary!$E$91=\"\",\"\",Summary!$E$91)","v":"Split-Sample Difference (°F)"}]
[1091,{"$f":"IF(Summary!$F$95=\"\",\"\",Summary!$F$95)","v":""},{"$f":"IF(Summary!$C$89=\"\",\"\",Summary!$C$89)","v":"Summary:Tex-422-A"},{"$f":"IF(Summary!$B$95=\"\",\"\",Summary!$B$95)","v":4},{"$f":"IF(Summary!$F$91=\"\",\"\",Summary!$F$91)","v":"Within Allowable Difference for Split-Sample?"}]
[1092,{"$f":"IF(Summary!$G$95=\"\",\"\",Summary!$G$95)","v":""},{"$f":"IF(Summary!$C$89=\"\",\"\",Summary!$C$89)","v":"Summary:Tex-422-A"},{"$f":"IF(Summary!$B$95=\"\",\"\",Summary!$B$95)","v":4},{"$f":"IF(Summary!$G$91=\"\",\"\",Summary!$G$91)","v":"Percent Difference"}]
[1093,{"$f":"IF(Summary!$H$95=\"\",\"\",Summary!$H$95)","v":""},{"$f":"IF(Summary!$C$89=\"\",\"\",Summary!$C$89)","v":"Summary:Tex-422-A"},{"$f":"IF(Summary!$B$95=\"\",\"\",Summary!$B$95)","v":4},{"$f":"IF(Summary!$H$91=\"\",\"\",Summary!$H$91)","v":"Within Allowable Difference?"}]
[1094,{"$f":"IF(Summary!$C$96=\"\",\"\",Summary!$C$96)","v":""},{"$f":"IF(Summary!$C$89=\"\",\"\",Summary!$C$89)","v":"Summary:Tex-422-A"},{"$f":"IF(Summary!$B$96=\"\",\"\",Summary!$B$96)","v":5},{"$f":"IF(Summary!$C$90=\"\",\"\",Summary!$C$90)","v":"Contractor"},{"$f":"IF(Summary!$C$91=\"\",\"\",Summary!$C$91)","v":"Temperature (°F)"}]
[1095,{"$f":"IF(Summary!$D$96=\"\",\"\",Summary!$D$96)","v":""},{"$f":"IF(Summary!$C$89=\"\",\"\",Summary!$C$89)","v":"Summary:Tex-422-A"},{"$f":"IF(Summary!$B$96=\"\",\"\",Summary!$B$96)","v":5},{"$f":"IF(Summary!$D$90=\"\",\"\",Summary!$D$90)","v":"TxDOT"},{"$f":"IF(Summary!$D$91=\"\",\"\",Summary!$D$91)","v":"Temperature (°F)"}]
[1096,{"$f":"IF(Summary!$E$96=\"\",\"\",Summary!$E$96)","v":""},{"$f":"IF(Summary!$C$89=\"\",\"\",Summary!$C$89)","v":"Summary:Tex-422-A"},{"$f":"IF(Summary!$B$96=\"\",\"\",Summary!$B$96)","v":5},{"$f":"IF(Summary!$E$91=\"\",\"\",Summary!$E$91)","v":"Split-Sample Difference (°F)"}]
[1097,{"$f":"IF(Summary!$F$96=\"\",\"\",Summary!$F$96)","v":""},{"$f":"IF(Summary!$C$89=\"\",\"\",Summary!$C$89)","v":"Summary:Tex-422-A"},{"$f":"IF(Summary!$B$96=\"\",\"\",Summary!$B$96)","v":5},{"$f":"IF(Summary!$F$91=\"\",\"\",Summary!$F$91)","v":"Within Allowable Difference for Split-Sample?"}]
[1098,{"$f":"IF(Summary!$G$96=\"\",\"\",Summary!$G$96)","v":""},{"$f":"IF(Summary!$C$89=\"\",\"\",Summary!$C$89)","v":"Summary:Tex-422-A"},{"$f":"IF(Summary!$B$96=\"\",\"\",Summary!$B$96)","v":5},{"$f":"IF(Summary!$G$91=\"\",\"\",Summary!$G$91)","v":"Percent Difference"}]
[1099,{"$f":"IF(Summary!$H$96=\"\",\"\",Summary!$H$96)","v":""},{"$f":"IF(Summary!$C$89=\"\",\"\",Summary!$C$89)","v":"Summary:Tex-422-A"},{"$f":"IF(Summary!$B$96=\"\",\"\",Summary!$B$96)","v":5},{"$f":"IF(Summary!$H$91=\"\",\"\",Summary!$H$91)","v":"Within Allowable Difference?"}]
[1100,{"$f":"IF(Summary!$C$97=\"\",\"\",Summary!$C$97)","v":""},{"$f":"IF(Summary!$C$89=\"\",\"\",Summary!$C$89)","v":"Summary:Tex-422-A"},{"$f":"IF(Summary!$B$97=\"\",\"\",Summary!$B$97)","v":6},{"$f":"IF(Summary!$C$90=\"\",\"\",Summary!$C$90)","v":"Contractor"},{"$f":"IF(Summary!$C$91=\"\",\"\",Summary!$C$91)","v":"Temperature (°F)"}]
[1101,{"$f":"IF(Summary!$D$97=\"\",\"\",Summary!$D$97)","v":""},{"$f":"IF(Summary!$C$89=\"\",\"\",Summary!$C$89)","v":"Summary:Tex-422-A"},{"$f":"IF(Summary!$B$97=\"\",\"\",Summary!$B$97)","v":6},{"$f":"IF(Summary!$D$90=\"\",\"\",Summary!$D$90)","v":"TxDOT"},{"$f":"IF(Summary!$D$91=\"\",\"\",Summary!$D$91)","v":"Temperature (°F)"}]
[1102,{"$f":"IF(Summary!$E$97=\"\",\"\",Summary!$E$97)","v":""},{"$f":"IF(Summary!$C$89=\"\",\"\",Summary!$C$89)","v":"Summary:Tex-422-A"},{"$f":"IF(Summary!$B$97=\"\",\"\",Summary!$B$97)","v":6},{"$f":"IF(Summary!$E$91=\"\",\"\",Summary!$E$91)","v":"Split-Sample Difference (°F)"}]
[1103,{"$f":"IF(Summary!$F$97=\"\",\"\",Summary!$F$97)","v":""},{"$f":"IF(Summary!$C$89=\"\",\"\",Summary!$C$89)","v":"Summary:Tex-422-A"},{"$f":"IF(Summary!$B$97=\"\",\"\",Summary!$B$97)","v":6},{"$f":"IF(Summary!$F$91=\"\",\"\",Summary!$F$91)","v":"Within Allowable Difference for Split-Sample?"}]
[1104,{"$f":"IF(Summary!$G$97=\"\",\"\",Summary!$G$97)","v":""},{"$f":"IF(Summary!$C$89=\"\",\"\",Summary!$C$89)","v":"Summary:Tex-422-A"},{"$f":"IF(Summary!$B$97=\"\",\"\",Summary!$B$97)","v":6},{"$f":"IF(Summary!$G$91=\"\",\"\",Summary!$G$91)","v":"Percent Difference"}]
[1105,{"$f":"IF(Summary!$H$97=\"\",\"\",Summary!$H$97)","v":""},{"$f":"IF(Summary!$C$89=\"\",\"\",Summary!$C$89)","v":"Summary:Tex-422-A"},{"$f":"IF(Summary!$B$97=\"\",\"\",Summary!$B$97)","v":6},{"$f":"IF(Summary!$H$91=\"\",\"\",Summary!$H$91)","v":"Within Allowable Difference?"}]
[1106,{"$f":"IF(Summary!$C$98=\"\",\"\",Summary!$C$98)","v":""},{"$f":"IF(Summary!$C$89=\"\",\"\",Summary!$C$89)","v":"Summary:Tex-422-A"},{"$f":"IF(Summary!$B$98=\"\",\"\",Summary!$B$98)","v":7},{"$f":"IF(Summary!$C$90=\"\",\"\",Summary!$C$90)","v":"Contractor"},{"$f":"IF(Summary!$C$91=\"\",\"\",Summary!$C$91)","v":"Temperature (°F)"}]
[1107,{"$f":"IF(Summary!$D$98=\"\",\"\",Summary!$D$98)","v":""},{"$f":"IF(Summary!$C$89=\"\",\"\",Summary!$C$89)","v":"Summary:Tex-422-A"},{"$f":"IF(Summary!$B$98=\"\",\"\",Summary!$B$98)","v":7},{"$f":"IF(Summary!$D$90=\"\",\"\",Summary!$D$90)","v":"TxDOT"},{"$f":"IF(Summary!$D$91=\"\",\"\",Summary!$D$91)","v":"Temperature (°F)"}]
[1108,{"$f":"IF(Summary!$E$98=\"\",\"\",Summary!$E$98)","v":""},{"$f":"IF(Summary!$C$89=\"\",\"\",Summary!$C$89)","v":"Summary:Tex-422-A"},{"$f":"IF(Summary!$B$98=\"\",\"\",Summary!$B$98)","v":7},{"$f":"IF(Summary!$E$91=\"\",\"\",Summary!$E$91)","v":"Split-Sample Difference (°F)"}]
[1109,{"$f":"IF(Summary!$F$98=\"\",\"\",Summary!$F$98)","v":""},{"$f":"IF(Summary!$C$89=\"\",\"\",Summary!$C$89)","v":"Summary:Tex-422-A"},{"$f":"IF(Summary!$B$98=\"\",\"\",Summary!$B$98)","v":7},{"$f":"IF(Summary!$F$91=\"\",\"\",Summary!$F$91)","v":"Within Allowable Difference for Split-Sample?"}]
[1110,{"$f":"IF(Summary!$G$98=\"\",\"\",Summary!$G$98)","v":""},{"$f":"IF(Summary!$C$89=\"\",\"\",Summary!$C$89)","v":"Summary:Tex-422-A"},{"$f":"IF(Summary!$B$98=\"\",\"\",Summary!$B$98)","v":7},{"$f":"IF(Summary!$G$91=\"\",\"\",Summary!$G$91)","v":"Percent Difference"}]
[1111,{"$f":"IF(Summary!$H$98=\"\",\"\",Summary!$H$98)","v":""},{"$f":"IF(Summary!$C$89=\"\",\"\",Summary!$C$89)","v":"Summary:Tex-422-A"},{"$f":"IF(Summary!$B$98=\"\",\"\",Summary!$B$98)","v":7},{"$f":"IF(Summary!$H$91=\"\",\"\",Summary!$H$91)","v":"Within Allowable Difference?"}]
[1112,{"$f":"IF(Summary!$C$99=\"\",\"\",Summary!$C$99)","v":""},{"$f":"IF(Summary!$C$89=\"\",\"\",Summary!$C$89)","v":"Summary:Tex-422-A"},{"$f":"IF(Summary!$B$99=\"\",\"\",Summary!$B$99)","v":8},{"$f":"IF(Summary!$C$90=\"\",\"\",Summary!$C$90)","v":"Contractor"},{"$f":"IF(Summary!$C$91=\"\",\"\",Summary!$C$91)","v":"Temperature (°F)"}]
[1113,{"$f":"IF(Summary!$D$99=\"\",\"\",Summary!$D$99)","v":""},{"$f":"IF(Summary!$C$89=\"\",\"\",Summary!$C$89)","v":"Summary:Tex-422-A"},{"$f":"IF(Summary!$B$99=\"\",\"\",Summary!$B$99)","v":8},{"$f":"IF(Summary!$D$90=\"\",\"\",Summary!$D$90)","v":"TxDOT"},{"$f":"IF(Summary!$D$91=\"\",\"\",Summary!$D$91)","v":"Temperature (°F)"}]
[1114,{"$f":"IF(Summary!$E$99=\"\",\"\",Summary!$E$99)","v":""},{"$f":"IF(Summary!$C$89=\"\",\"\",Summary!$C$89)","v":"Summary:Tex-422-A"},{"$f":"IF(Summary!$B$99=\"\",\"\",Summary!$B$99)","v":8},{"$f":"IF(Summary!$E$91=\"\",\"\",Summary!$E$91)","v":"Split-Sample Difference (°F)"}]
[1115,{"$f":"IF(Summary!$F$99=\"\",\"\",Summary!$F$99)","v":""},{"$f":"IF(Summary!$C$89=\"\",\"\",Summary!$C$89)","v":"Summary:Tex-422-A"},{"$f":"IF(Summary!$B$99=\"\",\"\",Summary!$B$99)","v":8},{"$f":"IF(Summary!$F$91=\"\",\"\",Summary!$F$91)","v":"Within Allowable Difference for Split-Sample?"}]
[1116,{"$f":"IF(Summary!$G$99=\"\",\"\",Summary!$G$99)","v":""},{"$f":"IF(Summary!$C$89=\"\",\"\",Summary!$C$89)","v":"Summary:Tex-422-A"},{"$f":"IF(Summary!$B$99=\"\",\"\",Summary!$B$99)","v":8},{"$f":"IF(Summary!$G$91=\"\",\"\",Summary!$G$91)","v":"Percent Difference"}]
[1117,{"$f":"IF(Summary!$H$99=\"\",\"\",Summary!$H$99)","v":""},{"$f":"IF(Summary!$C$89=\"\",\"\",Summary!$C$89)","v":"Summary:Tex-422-A"},{"$f":"IF(Summary!$B$99=\"\",\"\",Summary!$B$99)","v":8},{"$f":"IF(Summary!$H$91=\"\",\"\",Summary!$H$91)","v":"Within Allowable Difference?"}]
[1118,{"$f":"IF(Summary!$C$100=\"\",\"\",Summary!$C$100)","v":""},{"$f":"IF(Summary!$C$89=\"\",\"\",Summary!$C$89)","v":"Summary:Tex-422-A"},{"$f":"IF(Summary!$B$100=\"\",\"\",Summary!$B$100)","v":9},{"$f":"IF(Summary!$C$90=\"\",\"\",Summary!$C$90)","v":"Contractor"},{"$f":"IF(Summary!$C$91=\"\",\"\",Summary!$C$91)","v":"Temperature (°F)"}]
[1119,{"$f":"IF(Summary!$D$100=\"\",\"\",Summary!$D$100)","v":""},{"$f":"IF(Summary!$C$89=\"\",\"\",Summary!$C$89)","v":"Summary:Tex-422-A"},{"$f":"IF(Summary!$B$100=\"\",\"\",Summary!$B$100)","v":9},{"$f":"IF(Summary!$D$90=\"\",\"\",Summary!$D$90)","v":"TxDOT"},{"$f":"IF(Summary!$D$91=\"\",\"\",Summary!$D$91)","v":"Temperature (°F)"}]
[1120,{"$f":"IF(Summary!$E$100=\"\",\"\",Summary!$E$100)","v":""},{"$f":"IF(Summary!$C$89=\"\",\"\",Summary!$C$89)","v":"Summary:Tex-422-A"},{"$f":"IF(Summary!$B$100=\"\",\"\",Summary!$B$100)","v":9},{"$f":"IF(Summary!$E$91=\"\",\"\",Summary!$E$91)","v":"Split-Sample Difference (°F)"}]
[1121,{"$f":"IF(Summary!$F$100=\"\",\"\",Summary!$F$100)","v":""},{"$f":"IF(Summary!$C$89=\"\",\"\",Summary!$C$89)","v":"Summary:Tex-422-A"},{"$f":"IF(Summary!$B$100=\"\",\"\",Summary!$B$100)","v":9},{"$f":"IF(Summary!$F$91=\"\",\"\",Summary!$F$91)","v":"Within Allowable Difference for Split-Sample?"}]
[1122,{"$f":"IF(Summary!$G$100=\"\",\"\",Summary!$G$100)","v":""},{"$f":"IF(Summary!$C$89=\"\",\"\",Summary!$C$89)","v":"Summary:Tex-422-A"},{"$f":"IF(Summary!$B$100=\"\",\"\",Summary!$B$100)","v":9},{"$f":"IF(Summary!$G$91=\"\",\"\",Summary!$G$91)","v":"Percent Difference"}]
[1123,{"$f":"IF(Summary!$H$100=\"\",\"\",Summary!$H$100)","v":""},{"$f":"IF(Summary!$C$89=\"\",\"\",Summary!$C$89)","v":"Summary:Tex-422-A"},{"$f":"IF(Summary!$B$100=\"\",\"\",Summary!$B$100)","v":9},{"$f":"IF(Summary!$H$91=\"\",\"\",Summary!$H$91)","v":"Within Allowable Difference?"}]
[1124,{"$f":"IF(Summary!$C$101=\"\",\"\",Summary!$C$101)","v":""},{"$f":"IF(Summary!$C$89=\"\",\"\",Summary!$C$89)","v":"Summary:Tex-422-A"},{"$f":"IF(Summary!$B$101=\"\",\"\",Summary!$B$101)","v":10},{"$f":"IF(Summary!$C$90=\"\",\"\",Summary!$C$90)","v":"Contractor"},{"$f":"IF(Summary!$C$91=\"\",\"\",Summary!$C$91)","v":"Temperature (°F)"}]
[1125,{"$f":"IF(Summary!$D$101=\"\",\"\",Summary!$D$101)","v":""},{"$f":"IF(Summary!$C$89=\"\",\"\",Summary!$C$89)","v":"Summary:Tex-422-A"},{"$f":"IF(Summary!$B$101=\"\",\"\",Summary!$B$101)","v":10},{"$f":"IF(Summary!$D$90=\"\",\"\",Summary!$D$90)","v":"TxDOT"},{"$f":"IF(Summary!$D$91=\"\",\"\",Summary!$D$91)","v":"Temperature (°F)"}]
[1126,{"$f":"IF(Summary!$E$101=\"\",\"\",Summary!$E$101)","v":""},{"$f":"IF(Summary!$C$89=\"\",\"\",Summary!$C$89)","v":"Summary:Tex-422-A"},{"$f":"IF(Summary!$B$101=\"\",\"\",Summary!$B$101)","v":10},{"$f":"IF(Summary!$E$91=\"\",\"\",Summary!$E$91)","v":"Split-Sample Difference (°F)"}]
[1127,{"$f":"IF(Summary!$F$101=\"\",\"\",Summary!$F$101)","v":""},{"$f":"IF(Summary!$C$89=\"\",\"\",Summary!$C$89)","v":"Summary:Tex-422-A"},{"$f":"IF(Summary!$B$101=\"\",\"\",Summary!$B$101)","v":10},{"$f":"IF(Summary!$F$91=\"\",\"\",Summary!$F$91)","v":"Within Allowable Difference for Split-Sample?"}]
[1128,{"$f":"IF(Summary!$G$101=\"\",\"\",Summary!$G$101)","v":""},{"$f":"IF(Summary!$C$89=\"\",\"\",Summary!$C$89)","v":"Summary:Tex-422-A"},{"$f":"IF(Summary!$B$101=\"\",\"\",Summary!$B$101)","v":10},{"$f":"IF(Summary!$G$91=\"\",\"\",Summary!$G$91)","v":"Percent Difference"}]
[1129,{"$f":"IF(Summary!$H$101=\"\",\"\",Summary!$H$101)","v":""},{"$f":"IF(Summary!$C$89=\"\",\"\",Summary!$C$89)","v":"Summary:Tex-422-A"},{"$f":"IF(Summary!$B$101=\"\",\"\",Summary!$B$101)","v":10},{"$f":"IF(Summary!$H$91=\"\",\"\",Summary!$H$91)","v":"Within Allowable Difference?"}]
[1130,{"$f":"IF(Summary!$C$102=\"\",\"\",Summary!$C$102)","v":""},{"$f":"IF(Summary!$C$89=\"\",\"\",Summary!$C$89)","v":"Summary:Tex-422-A"},{"$f":"IF(Summary!$B$102=\"\",\"\",Summary!$B$102)","v":"Avg."},{"$f":"IF(Summary!$C$90=\"\",\"\",Summary!$C$90)","v":"Contractor"},{"$f":"IF(Summary!$C$91=\"\",\"\",Summary!$C$91)","v":"Temperature (°F)"}]
[1131,{"$f":"IF(Summary!$C$108=\"\",\"\",Summary!$C$108)","v":""},{"$f":"IF(Summary!$C$105=\"\",\"\",Summary!$C$105)","v":"Summary:Tex-415-A"},{"$f":"IF(Summary!$B$108=\"\",\"\",Summary!$B$108)","v":1},{"$f":"IF(Summary!$C$106=\"\",\"\",Summary!$C$106)","v":"Contractor"},{"$f":"IF(Summary!$C$107=\"\",\"\",Summary!$C$107)","v":"Slump (inches)"}]
[1132,{"$f":"IF(Summary!$D$108=\"\",\"\",Summary!$D$108)","v":""},{"$f":"IF(Summary!$C$105=\"\",\"\",Summary!$C$105)","v":"Summary:Tex-415-A"},{"$f":"IF(Summary!$B$108=\"\",\"\",Summary!$B$108)","v":1},{"$f":"IF(Summary!$D$106=\"\",\"\",Summary!$D$106)","v":"TxDOT"},{"$f":"IF(Summary!$D$107=\"\",\"\",Summary!$D$107)","v":"Slump (inches)"}]
[1133,{"$f":"IF(Summary!$E$108=\"\",\"\",Summary!$E$108)","v":""},{"$f":"IF(Summary!$C$105=\"\",\"\",Summary!$C$105)","v":"Summary:Tex-415-A"},{"$f":"IF(Summary!$B$108=\"\",\"\",Summary!$B$108)","v":1},{"$f":"IF(Summary!$E$107=\"\",\"\",Summary!$E$107)","v":"Split-Sample Difference (inches)"}]
[1134,{"$f":"IF(Summary!$F$108=\"\",\"\",Summary!$F$108)","v":""},{"$f":"IF(Summary!$C$105=\"\",\"\",Summary!$C$105)","v":"Summary:Tex-415-A"},{"$f":"IF(Summary!$B$108=\"\",\"\",Summary!$B$108)","v":1},{"$f":"IF(Summary!$F$107=\"\",\"\",Summary!$F$107)","v":"Within Allowable Difference for Split-Sample?"}]
[1135,{"$f":"IF(Summary!$G$108=\"\",\"\",Summary!$G$108)","v":""},{"$f":"IF(Summary!$C$105=\"\",\"\",Summary!$C$105)","v":"Summary:Tex-415-A"},{"$f":"IF(Summary!$B$108=\"\",\"\",Summary!$B$108)","v":1},{"$f":"IF(Summary!$G$107=\"\",\"\",Summary!$G$107)","v":"Percent Difference"}]
[1136,{"$f":"IF(Summary!$H$108=\"\",\"\",Summary!$H$108)","v":""},{"$f":"IF(Summary!$C$105=\"\",\"\",Summary!$C$105)","v":"Summary:Tex-415-A"},{"$f":"IF(Summary!$B$108=\"\",\"\",Summary!$B$108)","v":1},{"$f":"IF(Summary!$H$107=\"\",\"\",Summary!$H$107)","v":"Within Allowable Difference?"}]
[1137,{"$f":"IF(Summary!$C$109=\"\",\"\",Summary!$C$109)","v":""},{"$f":"IF(Summary!$C$105=\"\",\"\",Summary!$C$105)","v":"Summary:Tex-415-A"},{"$f":"IF(Summary!$B$109=\"\",\"\",Summary!$B$109)","v":2},{"$f":"IF(Summary!$C$106=\"\",\"\",Summary!$C$106)","v":"Contractor"},{"$f":"IF(Summary!$C$107=\"\",\"\",Summary!$C$107)","v":"Slump (inches)"}]
[1138,{"$f":"IF(Summary!$D$109=\"\",\"\",Summary!$D$109)","v":""},{"$f":"IF(Summary!$C$105=\"\",\"\",Summary!$C$105)","v":"Summary:Tex-415-A"},{"$f":"IF(Summary!$B$109=\"\",\"\",Summary!$B$109)","v":2},{"$f":"IF(Summary!$D$106=\"\",\"\",Summary!$D$106)","v":"TxDOT"},{"$f":"IF(Summary!$D$107=\"\",\"\",Summary!$D$107)","v":"Slump (inches)"}]
[1139,{"$f":"IF(Summary!$E$109=\"\",\"\",Summary!$E$109)","v":""},{"$f":"IF(Summary!$C$105=\"\",\"\",Summary!$C$105)","v":"Summary:Tex-415-A"},{"$f":"IF(Summary!$B$109=\"\",\"\",Summary!$B$109)","v":2},{"$f":"IF(Summary!$E$107=\"\",\"\",Summary!$E$107)","v":"Split-Sample Difference (inches)"}]
[1140,{"$f":"IF(Summary!$F$109=\"\",\"\",Summary!$F$109)","v":""},{"$f":"IF(Summary!$C$105=\"\",\"\",Summary!$C$105)","v":"Summary:Tex-415-A"},{"$f":"IF(Summary!$B$109=\"\",\"\",Summary!$B$109)","v":2},{"$f":"IF(Summary!$F$107=\"\",\"\",Summary!$F$107)","v":"Within Allowable Difference for Split-Sample?"}]
[1141,{"$f":"IF(Summary!$G$109=\"\",\"\",Summary!$G$109)","v":""},{"$f":"IF(Summary!$C$105=\"\",\"\",Summary!$C$105)","v":"Summary:Tex-415-A"},{"$f":"IF(Summary!$B$109=\"\",\"\",Summary!$B$109)","v":2},{"$f":"IF(Summary!$G$107=\"\",\"\",Summary!$G$107)","v":"Percent Difference"}]
[1142,{"$f":"IF(Summary!$H$109=\"\",\"\",Summary!$H$109)","v":""},{"$f":"IF(Summary!$C$105=\"\",\"\",Summary!$C$105)","v":"Summary:Tex-415-A"},{"$f":"IF(Summary!$B$109=\"\",\"\",Summary!$B$109)","v":2},{"$f":"IF(Summary!$H$107=\"\",\"\",Summary!$H$107)","v":"Within Allowable Difference?"}]
[1143,{"$f":"IF(Summary!$C$110=\"\",\"\",Summary!$C$110)","v":""},{"$f":"IF(Summary!$C$105=\"\",\"\",Summary!$C$105)","v":"Summary:Tex-415-A"},{"$f":"IF(Summary!$B$110=\"\",\"\",Summary!$B$110)","v":3},{"$f":"IF(Summary!$C$106=\"\",\"\",Summary!$C$106)","v":"Contractor"},{"$f":"IF(Summary!$C$107=\"\",\"\",Summary!$C$107)","v":"Slump (inches)"}]
[1144,{"$f":"IF(Summary!$D$110=\"\",\"\",Summary!$D$110)","v":""},{"$f":"IF(Summary!$C$105=\"\",\"\",Summary!$C$105)","v":"Summary:Tex-415-A"},{"$f":"IF(Summary!$B$110=\"\",\"\",Summary!$B$110)","v":3},{"$f":"IF(Summary!$D$106=\"\",\"\",Summary!$D$106)","v":"TxDOT"},{"$f":"IF(Summary!$D$107=\"\",\"\",Summary!$D$107)","v":"Slump (inches)"}]
[1145,{"$f":"IF(Summary!$E$110=\"\",\"\",Summary!$E$110)","v":""},{"$f":"IF(Summary!$C$105=\"\",\"\",Summary!$C$105)","v":"Summary:Tex-415-A"},{"$f":"IF(Summary!$B$110=\"\",\"\",Summary!$B$110)","v":3},{"$f":"IF(Summary!$E$107=\"\",\"\",Summary!$E$107)","v":"Split-Sample Difference (inches)"}]
[1146,{"$f":"IF(Summary!$F$110=\"\",\"\",Summary!$F$110)","v":""},{"$f":"IF(Summary!$C$105=\"\",\"\",Summary!$C$105)","v":"Summary:Tex-415-A"},{"$f":"IF(Summary!$B$110=\"\",\"\",Summary!$B$110)","v":3},{"$f":"IF(Summary!$F$107=\"\",\"\",Summary!$F$107)","v":"Within Allowable Difference for Split-Sample?"}]
[1147,{"$f":"IF(Summary!$G$110=\"\",\"\",Summary!$G$110)","v":""},{"$f":"IF(Summary!$C$105=\"\",\"\",Summary!$C$105)","v":"Summary:Tex-415-A"},{"$f":"IF(Summary!$B$110=\"\",\"\",Summary!$B$110)","v":3},{"$f":"IF(Summary!$G$107=\"\",\"\",Summary!$G$107)","v":"Percent Difference"}]
[1148,{"$f":"IF(Summary!$H$110=\"\",\"\",Summary!$H$110)","v":""},{"$f":"IF(Summary!$C$105=\"\",\"\",Summary!$C$105)","v":"Summary:Tex-415-A"},{"$f":"IF(Summary!$B$110=\"\",\"\",Summary!$B$110)","v":3},{"$f":"IF(Summary!$H$107=\"\",\"\",Summary!$H$107)","v":"Within Allowable Difference?"}]
[1149,{"$f":"IF(Summary!$C$111=\"\",\"\",Summary!$C$111)","v":""},{"$f":"IF(Summary!$C$105=\"\",\"\",Summary!$C$105)","v":"Summary:Tex-415-A"},{"$f":"IF(Summary!$B$111=\"\",\"\",Summary!$B$111)","v":4},{"$f":"IF(Summary!$C$106=\"\",\"\",Summary!$C$106)","v":"Contractor"},{"$f":"IF(Summary!$C$107=\"\",\"\",Summary!$C$107)","v":"Slump (inches)"}]
[1150,{"$f":"IF(Summary!$D$111=\"\",\"\",Summary!$D$111)","v":""},{"$f":"IF(Summary!$C$105=\"\",\"\",Summary!$C$105)","v":"Summary:Tex-415-A"},{"$f":"IF(Summary!$B$111=\"\",\"\",Summary!$B$111)","v":4},{"$f":"IF(Summary!$D$106=\"\",\"\",Summary!$D$106)","v":"TxDOT"},{"$f":"IF(Summary!$D$107=\"\",\"\",Summary!$D$107)","v":"Slump (inches)"}]
[1151,{"$f":"IF(Summary!$E$111=\"\",\"\",Summary!$E$111)","v":""},{"$f":"IF(Summary!$C$105=\"\",\"\",Summary!$C$105)","v":"Summary:Tex-415-A"},{"$f":"IF(Summary!$B$111=\"\",\"\",Summary!$B$111)","v":4},{"$f":"IF(Summary!$E$107=\"\",\"\",Summary!$E$107)","v":"Split-Sample Difference (inches)"}]
[1152,{"$f":"IF(Summary!$F$111=\"\",\"\",Summary!$F$111)","v":""},{"$f":"IF(Summary!$C$105=\"\",\"\",Summary!$C$105)","v":"Summary:Tex-415-A"},{"$f":"IF(Summary!$B$111=\"\",\"\",Summary!$B$111)","v":4},{"$f":"IF(Summary!$F$107=\"\",\"\",Summary!$F$107)","v":"Within Allowable Difference for Split-Sample?"}]
[1153,{"$f":"IF(Summary!$G$111=\"\",\"\",Summary!$G$111)","v":""},{"$f":"IF(Summary!$C$105=\"\",\"\",Summary!$C$105)","v":"Summary:Tex-415-A"},{"$f":"IF(Summary!$B$111=\"\",\"\",Summary!$B$111)","v":4},{"$f":"IF(Summary!$G$107=\"\",\"\",Summary!$G$107)","v":"Percent Difference"}]
[1154,{"$f":"IF(Summary!$H$111=\"\",\"\",Summary!$H$111)","v":""},{"$f":"IF(Summary!$C$105=\"\",\"\",Summary!$C$105)","v":"Summary:Tex-415-A"},{"$f":"IF(Summary!$B$111=\"\",\"\",Summary!$B$111)","v":4},{"$f":"IF(Summary!$H$107=\"\",\"\",Summary!$H$107)","v":"Within Allowable Difference?"}]
[1155,{"$f":"IF(Summary!$C$112=\"\",\"\",Summary!$C$112)","v":""},{"$f":"IF(Summary!$C$105=\"\",\"\",Summary!$C$105)","v":"Summary:Tex-415-A"},{"$f":"IF(Summary!$B$112=\"\",\"\",Summary!$B$112)","v":5},{"$f":"IF(Summary!$C$106=\"\",\"\",Summary!$C$106)","v":"Contractor"},{"$f":"IF(Summary!$C$107=\"\",\"\",Summary!$C$107)","v":"Slump (inches)"}]
[1156,{"$f":"IF(Summary!$D$112=\"\",\"\",Summary!$D$112)","v":""},{"$f":"IF(Summary!$C$105=\"\",\"\",Summary!$C$105)","v":"Summary:Tex-415-A"},{"$f":"IF(Summary!$B$112=\"\",\"\",Summary!$B$112)","v":5},{"$f":"IF(Summary!$D$106=\"\",\"\",Summary!$D$106)","v":"TxDOT"},{"$f":"IF(Summary!$D$107=\"\",\"\",Summary!$D$107)","v":"Slump (inches)"}]
[1157,{"$f":"IF(Summary!$E$112=\"\",\"\",Summary!$E$112)","v":""},{"$f":"IF(Summary!$C$105=\"\",\"\",Summary!$C$105)","v":"Summary:Tex-415-A"},{"$f":"IF(Summary!$B$112=\"\",\"\",Summary!$B$112)","v":5},{"$f":"IF(Summary!$E$107=\"\",\"\",Summary!$E$107)","v":"Split-Sample Difference (inches)"}]
[1158,{"$f":"IF(Summary!$F$112=\"\",\"\",Summary!$F$112)","v":""},{"$f":"IF(Summary!$C$105=\"\",\"\",Summary!$C$105)","v":"Summary:Tex-415-A"},{"$f":"IF(Summary!$B$112=\"\",\"\",Summary!$B$112)","v":5},{"$f":"IF(Summary!$F$107=\"\",\"\",Summary!$F$107)","v":"Within Allowable Difference for Split-Sample?"}]
[1159,{"$f":"IF(Summary!$G$112=\"\",\"\",Summary!$G$112)","v":""},{"$f":"IF(Summary!$C$105=\"\",\"\",Summary!$C$105)","v":"Summary:Tex-415-A"},{"$f":"IF(Summary!$B$112=\"\",\"\",Summary!$B$112)","v":5},{"$f":"IF(Summary!$G$107=\"\",\"\",Summary!$G$107)","v":"Percent Difference"}]
[1160,{"$f":"IF(Summary!$H$112=\"\",\"\",Summary!$H$112)","v":""},{"$f":"IF(Summary!$C$105=\"\",\"\",Summary!$C$105)","v":"Summary:Tex-415-A"},{"$f":"IF(Summary!$B$112=\"\",\"\",Summary!$B$112)","v":5},{"$f":"IF(Summary!$H$107=\"\",\"\",Summary!$H$107)","v":"Within Allowable Difference?"}]
[1161,{"$f":"IF(Summary!$C$113=\"\",\"\",Summary!$C$113)","v":""},{"$f":"IF(Summary!$C$105=\"\",\"\",Summary!$C$105)","v":"Summary:Tex-415-A"},{"$f":"IF(Summary!$B$113=\"\",\"\",Summary!$B$113)","v":6},{"$f":"IF(Summary!$C$106=\"\",\"\",Summary!$C$106)","v":"Contractor"},{"$f":"IF(Summary!$C$107=\"\",\"\",Summary!$C$107)","v":"Slump (inches)"}]
[1162,{"$f":"IF(Summary!$D$113=\"\",\"\",Summary!$D$113)","v":""},{"$f":"IF(Summary!$C$105=\"\",\"\",Summary!$C$105)","v":"Summary:Tex-415-A"},{"$f":"IF(Summary!$B$113=\"\",\"\",Summary!$B$113)","v":6},{"$f":"IF(Summary!$D$106=\"\",\"\",Summary!$D$106)","v":"TxDOT"},{"$f":"IF(Summary!$D$107=\"\",\"\",Summary!$D$107)","v":"Slump (inches)"}]
[1163,{"$f":"IF(Summary!$E$113=\"\",\"\",Summary!$E$113)","v":""},{"$f":"IF(Summary!$C$105=\"\",\"\",Summary!$C$105)","v":"Summary:Tex-415-A"},{"$f":"IF(Summary!$B$113=\"\",\"\",Summary!$B$113)","v":6},{"$f":"IF(Summary!$E$107=\"\",\"\",Summary!$E$107)","v":"Split-Sample Difference (inches)"}]
[1164,{"$f":"IF(Summary!$F$113=\"\",\"\",Summary!$F$113)","v":""},{"$f":"IF(Summary!$C$105=\"\",\"\",Summary!$C$105)","v":"Summary:Tex-415-A"},{"$f":"IF(Summary!$B$113=\"\",\"\",Summary!$B$113)","v":6},{"$f":"IF(Summary!$F$107=\"\",\"\",Summary!$F$107)","v":"Within Allowable Difference for Split-Sample?"}]
[1165,{"$f":"IF(Summary!$G$113=\"\",\"\",Summary!$G$113)","v":""},{"$f":"IF(Summary!$C$105=\"\",\"\",Summary!$C$105)","v":"Summary:Tex-415-A"},{"$f":"IF(Summary!$B$113=\"\",\"\",Summary!$B$113)","v":6},{"$f":"IF(Summary!$G$107=\"\",\"\",Summary!$G$107)","v":"Percent Difference"}]
[1166,{"$f":"IF(Summary!$H$113=\"\",\"\",Summary!$H$113)","v":""},{"$f":"IF(Summary!$C$105=\"\",\"\",Summary!$C$105)","v":"Summary:Tex-415-A"},{"$f":"IF(Summary!$B$113=\"\",\"\",Summary!$B$113)","v":6},{"$f":"IF(Summary!$H$107=\"\",\"\",Summary!$H$107)","v":"Within Allowable Difference?"}]
[1167,{"$f":"IF(Summary!$C$114=\"\",\"\",Summary!$C$114)","v":""},{"$f":"IF(Summary!$C$105=\"\",\"\",Summary!$C$105)","v":"Summary:Tex-415-A"},{"$f":"IF(Summary!$B$114=\"\",\"\",Summary!$B$114)","v":7},{"$f":"IF(Summary!$C$106=\"\",\"\",Summary!$C$106)","v":"Contractor"},{"$f":"IF(Summary!$C$107=\"\",\"\",Summary!$C$107)","v":"Slump (inches)"}]
[1168,{"$f":"IF(Summary!$D$114=\"\",\"\",Summary!$D$114)","v":""},{"$f":"IF(Summary!$C$105=\"\",\"\",Summary!$C$105)","v":"Summary:Tex-415-A"},{"$f":"IF(Summary!$B$114=\"\",\"\",Summary!$B$114)","v":7},{"$f":"IF(Summary!$D$106=\"\",\"\",Summary!$D$106)","v":"TxDOT"},{"$f":"IF(Summary!$D$107=\"\",\"\",Summary!$D$107)","v":"Slump (inches)"}]
[1169,{"$f":"IF(Summary!$E$114=\"\",\"\",Summary!$E$114)","v":""},{"$f":"IF(Summary!$C$105=\"\",\"\",Summary!$C$105)","v":"Summary:Tex-415-A"},{"$f":"IF(Summary!$B$114=\"\",\"\",Summary!$B$114)","v":7},{"$f":"IF(Summary!$E$107=\"\",\"\",Summary!$E$107)","v":"Split-Sample Difference (inches)"}]
[1170,{"$f":"IF(Summary!$F$114=\"\",\"\",Summary!$F$114)","v":""},{"$f":"IF(Summary!$C$105=\"\",\"\",Summary!$C$105)","v":"Summary:Tex-415-A"},{"$f":"IF(Summary!$B$114=\"\",\"\",Summary!$B$114)","v":7},{"$f":"IF(Summary!$F$107=\"\",\"\",Summary!$F$107)","v":"Within Allowable Difference for Split-Sample?"}]
[1171,{"$f":"IF(Summary!$G$114=\"\",\"\",Summary!$G$114)","v":""},{"$f":"IF(Summary!$C$105=\"\",\"\",Summary!$C$105)","v":"Summary:Tex-415-A"},{"$f":"IF(Summary!$B$114=\"\",\"\",Summary!$B$114)","v":7},{"$f":"IF(Summary!$G$107=\"\",\"\",Summary!$G$107)","v":"Percent Difference"}]
[1172,{"$f":"IF(Summary!$H$114=\"\",\"\",Summary!$H$114)","v":""},{"$f":"IF(Summary!$C$105=\"\",\"\",Summary!$C$105)","v":"Summary:Tex-415-A"},{"$f":"IF(Summary!$B$114=\"\",\"\",Summary!$B$114)","v":7},{"$f":"IF(Summary!$H$107=\"\",\"\",Summary!$H$107)","v":"Within Allowable Difference?"}]
[1173,{"$f":"IF(Summary!$C$115=\"\",\"\",Summary!$C$115)","v":""},{"$f":"IF(Summary!$C$105=\"\",\"\",Summary!$C$105)","v":"Summary:Tex-415-A"},{"$f":"IF(Summary!$B$115=\"\",\"\",Summary!$B$115)","v":8},{"$f":"IF(Summary!$C$106=\"\",\"\",Summary!$C$106)","v":"Contractor"},{"$f":"IF(Summary!$C$107=\"\",\"\",Summary!$C$107)","v":"Slump (inches)"}]
[1174,{"$f":"IF(Summary!$D$115=\"\",\"\",Summary!$D$115)","v":""},{"$f":"IF(Summary!$C$105=\"\",\"\",Summary!$C$105)","v":"Summary:Tex-415-A"},{"$f":"IF(Summary!$B$115=\"\",\"\",Summary!$B$115)","v":8},{"$f":"IF(Summary!$D$106=\"\",\"\",Summary!$D$106)","v":"TxDOT"},{"$f":"IF(Summary!$D$107=\"\",\"\",Summary!$D$107)","v":"Slump (inches)"}]
[1175,{"$f":"IF(Summary!$E$115=\"\",\"\",Summary!$E$115)","v":""},{"$f":"IF(Summary!$C$105=\"\",\"\",Summary!$C$105)","v":"Summary:Tex-415-A"},{"$f":"IF(Summary!$B$115=\"\",\"\",Summary!$B$115)","v":8},{"$f":"IF(Summary!$E$107=\"\",\"\",Summary!$E$107)","v":"Split-Sample Difference (inches)"}]
[1176,{"$f":"IF(Summary!$F$115=\"\",\"\",Summary!$F$115)","v":""},{"$f":"IF(Summary!$C$105=\"\",\"\",Summary!$C$105)","v":"Summary:Tex-415-A"},{"$f":"IF(Summary!$B$115=\"\",\"\",Summary!$B$115)","v":8},{"$f":"IF(Summary!$F$107=\"\",\"\",Summary!$F$107)","v":"Within Allowable Difference for Split-Sample?"}]
[1177,{"$f":"IF(Summary!$G$115=\"\",\"\",Summary!$G$115)","v":""},{"$f":"IF(Summary!$C$105=\"\",\"\",Summary!$C$105)","v":"Summary:Tex-415-A"},{"$f":"IF(Summary!$B$115=\"\",\"\",Summary!$B$115)","v":8},{"$f":"IF(Summary!$G$107=\"\",\"\",Summary!$G$107)","v":"Percent Difference"}]
[1178,{"$f":"IF(Summary!$H$115=\"\",\"\",Summary!$H$115)","v":""},{"$f":"IF(Summary!$C$105=\"\",\"\",Summary!$C$105)","v":"Summary:Tex-415-A"},{"$f":"IF(Summary!$B$115=\"\",\"\",Summary!$B$115)","v":8},{"$f":"IF(Summary!$H$107=\"\",\"\",Summary!$H$107)","v":"Within Allowable Difference?"}]
[1179,{"$f":"IF(Summary!$C$116=\"\",\"\",Summary!$C$116)","v":""},{"$f":"IF(Summary!$C$105=\"\",\"\",Summary!$C$105)","v":"Summary:Tex-415-A"},{"$f":"IF(Summary!$B$116=\"\",\"\",Summary!$B$116)","v":9},{"$f":"IF(Summary!$C$106=\"\",\"\",Summary!$C$106)","v":"Contractor"},{"$f":"IF(Summary!$C$107=\"\",\"\",Summary!$C$107)","v":"Slump (inches)"}]
[1180,{"$f":"IF(Summary!$D$116=\"\",\"\",Summary!$D$116)","v":""},{"$f":"IF(Summary!$C$105=\"\",\"\",Summary!$C$105)","v":"Summary:Tex-415-A"},{"$f":"IF(Summary!$B$116=\"\",\"\",Summary!$B$116)","v":9},{"$f":"IF(Summary!$D$106=\"\",\"\",Summary!$D$106)","v":"TxDOT"},{"$f":"IF(Summary!$D$107=\"\",\"\",Summary!$D$107)","v":"Slump (inches)"}]
[1181,{"$f":"IF(Summary!$E$116=\"\",\"\",Summary!$E$116)","v":""},{"$f":"IF(Summary!$C$105=\"\",\"\",Summary!$C$105)","v":"Summary:Tex-415-A"},{"$f":"IF(Summary!$B$116=\"\",\"\",Summary!$B$116)","v":9},{"$f":"IF(Summary!$E$107=\"\",\"\",Summary!$E$107)","v":"Split-Sample Difference (inches)"}]
[1182,{"$f":"IF(Summary!$F$116=\"\",\"\",Summary!$F$116)","v":""},{"$f":"IF(Summary!$C$105=\"\",\"\",Summary!$C$105)","v":"Summary:Tex-415-A"},{"$f":"IF(Summary!$B$116=\"\",\"\",Summary!$B$116)","v":9},{"$f":"IF(Summary!$F$107=\"\",\"\",Summary!$F$107)","v":"Within Allowable Difference for Split-Sample?"}]
[1183,{"$f":"IF(Summary!$G$116=\"\",\"\",Summary!$G$116)","v":""},{"$f":"IF(Summary!$C$105=\"\",\"\",Summary!$C$105)","v":"Summary:Tex-415-A"},{"$f":"IF(Summary!$B$116=\"\",\"\",Summary!$B$116)","v":9},{"$f":"IF(Summary!$G$107=\"\",\"\",Summary!$G$107)","v":"Percent Difference"}]
[1184,{"$f":"IF(Summary!$H$116=\"\",\"\",Summary!$H$116)","v":""},{"$f":"IF(Summary!$C$105=\"\",\"\",Summary!$C$105)","v":"Summary:Tex-415-A"},{"$f":"IF(Summary!$B$116=\"\",\"\",Summary!$B$116)","v":9},{"$f":"IF(Summary!$H$107=\"\",\"\",Summary!$H$107)","v":"Within Allowable Difference?"}]
[1185,{"$f":"IF(Summary!$C$117=\"\",\"\",Summary!$C$117)","v":""},{"$f":"IF(Summary!$C$105=\"\",\"\",Summary!$C$105)","v":"Summary:Tex-415-A"},{"$f":"IF(Summary!$B$117=\"\",\"\",Summary!$B$117)","v":10},{"$f":"IF(Summary!$C$106=\"\",\"\",Summary!$C$106)","v":"Contractor"},{"$f":"IF(Summary!$C$107=\"\",\"\",Summary!$C$107)","v":"Slump (inches)"}]
[1186,{"$f":"IF(Summary!$D$117=\"\",\"\",Summary!$D$117)","v":""},{"$f":"IF(Summary!$C$105=\"\",\"\",Summary!$C$105)","v":"Summary:Tex-415-A"},{"$f":"IF(Summary!$B$117=\"\",\"\",Summary!$B$117)","v":10},{"$f":"IF(Summary!$D$106=\"\",\"\",Summary!$D$106)","v":"TxDOT"},{"$f":"IF(Summary!$D$107=\"\",\"\",Summary!$D$107)","v":"Slump (inches)"}]
[1187,{"$f":"IF(Summary!$E$117=\"\",\"\",Summary!$E$117)","v":""},{"$f":"IF(Summary!$C$105=\"\",\"\",Summary!$C$105)","v":"Summary:Tex-415-A"},{"$f":"IF(Summary!$B$117=\"\",\"\",Summary!$B$117)","v":10},{"$f":"IF(Summary!$E$107=\"\",\"\",Summary!$E$107)","v":"Split-Sample Difference (inches)"}]
[1188,{"$f":"IF(Summary!$F$117=\"\",\"\",Summary!$F$117)","v":""},{"$f":"IF(Summary!$C$105=\"\",\"\",Summary!$C$105)","v":"Summary:Tex-415-A"},{"$f":"IF(Summary!$B$117=\"\",\"\",Summary!$B$117)","v":10},{"$f":"IF(Summary!$F$107=\"\",\"\",Summary!$F$107)","v":"Within Allowable Difference for Split-Sample?"}]
[1189,{"$f":"IF(Summary!$G$117=\"\",\"\",Summary!$G$117)","v":""},{"$f":"IF(Summary!$C$105=\"\",\"\",Summary!$C$105)","v":"Summary:Tex-415-A"},{"$f":"IF(Summary!$B$117=\"\",\"\",Summary!$B$117)","v":10},{"$f":"IF(Summary!$G$107=\"\",\"\",Summary!$G$107)","v":"Percent Difference"}]
[1190,{"$f":"IF(Summary!$H$117=\"\",\"\",Summary!$H$117)","v":""},{"$f":"IF(Summary!$C$105=\"\",\"\",Summary!$C$105)","v":"Summary:Tex-415-A"},{"$f":"IF(Summary!$B$117=\"\",\"\",Summary!$B$117)","v":10},{"$f":"IF(Summary!$H$107=\"\",\"\",Summary!$H$107)","v":"Within Allowable Difference?"}]
[1191,{"$f":"IF(Summary!$C$118=\"\",\"\",Summary!$C$118)","v":""},{"$f":"IF(Summary!$C$105=\"\",\"\",Summary!$C$105)","v":"Summary:Tex-415-A"},{"$f":"IF(Summary!$B$118=\"\",\"\",Summary!$B$118)","v":"Avg."},{"$f":"IF(Summary!$C$106=\"\",\"\",Summary!$C$106)","v":"Contractor"},{"$f":"IF(Summary!$C$107=\"\",\"\",Summary!$C$107)","v":"Slump (inches)"}]
[1192,{"$f":"IF(Summary!$C$124=\"\",\"\",Summary!$C$124)","v":""},{"$f":"IF(Summary!$C$121=\"\",\"\",Summary!$C$121)","v":"Summary:Tex-414-A or Tex-416-A"},{"$f":"IF(Summary!$B$124=\"\",\"\",Summary!$B$124)","v":1},{"$f":"IF(Summary!$C$122=\"\",\"\",Summary!$C$122)","v":"Contractor"},{"$f":"IF(Summary!$C$123=\"\",\"\",Summary!$C$123)","v":"Air Content (%)"}]
[1193,{"$f":"IF(Summary!$D$124=\"\",\"\",Summary!$D$124)","v":""},{"$f":"IF(Summary!$C$121=\"\",\"\",Summary!$C$121)","v":"Summary:Tex-414-A or Tex-416-A"},{"$f":"IF(Summary!$B$124=\"\",\"\",Summary!$B$124)","v":1},{"$f":"IF(Summary!$D$122=\"\",\"\",Summary!$D$122)","v":"TxDOT"},{"$f":"IF(Summary!$D$123=\"\",\"\",Summary!$D$123)","v":"Air Content (%)"}]
[1194,{"$f":"IF(Summary!$E$124=\"\",\"\",Summary!$E$124)","v":""},{"$f":"IF(Summary!$C$121=\"\",\"\",Summary!$C$121)","v":"Summary:Tex-414-A or Tex-416-A"},{"$f":"IF(Summary!$B$124=\"\",\"\",Summary!$B$124)","v":1},{"$f":"IF(Summary!$E$123=\"\",\"\",Summary!$E$123)","v":"Split-Sample Percent Difference"}]
[1195,{"$f":"IF(Summary!$F$124=\"\",\"\",Summary!$F$124)","v":""},{"$f":"IF(Summary!$C$121=\"\",\"\",Summary!$C$121)","v":"Summary:Tex-414-A or Tex-416-A"},{"$f":"IF(Summary!$B$124=\"\",\"\",Summary!$B$124)","v":1},{"$f":"IF(Summary!$F$123=\"\",\"\",Summary!$F$123)","v":"Within Allowable Difference for Split-Sample?"}]
[1196,{"$f":"IF(Summary!$G$124=\"\",\"\",Summary!$G$124)","v":""},{"$f":"IF(Summary!$C$121=\"\",\"\",Summary!$C$121)","v":"Summary:Tex-414-A or Tex-416-A"},{"$f":"IF(Summary!$B$124=\"\",\"\",Summary!$B$124)","v":1},{"$f":"IF(Summary!$G$123=\"\",\"\",Summary!$G$123)","v":"Percent Difference"}]
[1197,{"$f":"IF(Summary!$H$124=\"\",\"\",Summary!$H$124)","v":""},{"$f":"IF(Summary!$C$121=\"\",\"\",Summary!$C$121)","v":"Summary:Tex-414-A or Tex-416-A"},{"$f":"IF(Summary!$B$124=\"\",\"\",Summary!$B$124)","v":1},{"$f":"IF(Summary!$H$123=\"\",\"\",Summary!$H$123)","v":"Within Allowable Difference?"}]
[1198,{"$f":"IF(Summary!$C$125=\"\",\"\",Summary!$C$125)","v":""},{"$f":"IF(Summary!$C$121=\"\",\"\",Summary!$C$121)","v":"Summary:Tex-414-A or Tex-416-A"},{"$f":"IF(Summary!$B$125=\"\",\"\",Summary!$B$125)","v":2},{"$f":"IF(Summary!$C$122=\"\",\"\",Summary!$C$122)","v":"Contractor"},{"$f":"IF(Summary!$C$123=\"\",\"\",Summary!$C$123)","v":"Air Content (%)"}]
[1199,{"$f":"IF(Summary!$D$125=\"\",\"\",Summary!$D$125)","v":""},{"$f":"IF(Summary!$C$121=\"\",\"\",Summary!$C$121)","v":"Summary:Tex-414-A or Tex-416-A"},{"$f":"IF(Summary!$B$125=\"\",\"\",Summary!$B$125)","v":2},{"$f":"IF(Summary!$D$122=\"\",\"\",Summary!$D$122)","v":"TxDOT"},{"$f":"IF(Summary!$D$123=\"\",\"\",Summary!$D$123)","v":"Air Content (%)"}]
[1200,{"$f":"IF(Summary!$E$125=\"\",\"\",Summary!$E$125)","v":""},{"$f":"IF(Summary!$C$121=\"\",\"\",Summary!$C$121)","v":"Summary:Tex-414-A or Tex-416-A"},{"$f":"IF(Summary!$B$125=\"\",\"\",Summary!$B$125)","v":2},{"$f":"IF(Summary!$E$123=\"\",\"\",Summary!$E$123)","v":"Split-Sample Percent Difference"}]
[1201,{"$f":"IF(Summary!$F$125=\"\",\"\",Summary!$F$125)","v":""},{"$f":"IF(Summary!$C$121=\"\",\"\",Summary!$C$121)","v":"Summary:Tex-414-A or Tex-416-A"},{"$f":"IF(Summary!$B$125=\"\",\"\",Summary!$B$125)","v":2},{"$f":"IF(Summary!$F$123=\"\",\"\",Summary!$F$123)","v":"Within Allowable Difference for Split-Sample?"}]
[1202,{"$f":"IF(Summary!$G$125=\"\",\"\",Summary!$G$125)","v":""},{"$f":"IF(Summary!$C$121=\"\",\"\",Summary!$C$121)","v":"Summary:Tex-414-A or Tex-416-A"},{"$f":"IF(Summary!$B$125=\"\",\"\",Summary!$B$125)","v":2},{"$f":"IF(Summary!$G$123=\"\",\"\",Summary!$G$123)","v":"Percent Difference"}]
[1203,{"$f":"IF(Summary!$H$125=\"\",\"\",Summary!$H$125)","v":""},{"$f":"IF(Summary!$C$121=\"\",\"\",Summary!$C$121)","v":"Summary:Tex-414-A or Tex-416-A"},{"$f":"IF(Summary!$B$125=\"\",\"\",Summary!$B$125)","v":2},{"$f":"IF(Summary!$H$123=\"\",\"\",Summary!$H$123)","v":"Within Allowable Difference?"}]
[1204,{"$f":"IF(Summary!$C$126=\"\",\"\",Summary!$C$126)","v":""},{"$f":"IF(Summary!$C$121=\"\",\"\",Summary!$C$121)","v":"Summary:Tex-414-A or Tex-416-A"},{"$f":"IF(Summary!$B$126=\"\",\"\",Summary!$B$126)","v":3},{"$f":"IF(Summary!$C$122=\"\",\"\",Summary!$C$122)","v":"Contractor"},{"$f":"IF(Summary!$C$123=\"\",\"\",Summary!$C$123)","v":"Air Content (%)"}]
[1205,{"$f":"IF(Summary!$D$126=\"\",\"\",Summary!$D$126)","v":""},{"$f":"IF(Summary!$C$121=\"\",\"\",Summary!$C$121)","v":"Summary:Tex-414-A or Tex-416-A"},{"$f":"IF(Summary!$B$126=\"\",\"\",Summary!$B$126)","v":3},{"$f":"IF(Summary!$D$122=\"\",\"\",Summary!$D$122)","v":"TxDOT"},{"$f":"IF(Summary!$D$123=\"\",\"\",Summary!$D$123)","v":"Air Content (%)"}]
[1206,{"$f":"IF(Summary!$E$126=\"\",\"\",Summary!$E$126)","v":""},{"$f":"IF(Summary!$C$121=\"\",\"\",Summary!$C$121)","v":"Summary:Tex-414-A or Tex-416-A"},{"$f":"IF(Summary!$B$126=\"\",\"\",Summary!$B$126)","v":3},{"$f":"IF(Summary!$E$123=\"\",\"\",Summary!$E$123)","v":"Split-Sample Percent Difference"}]
[1207,{"$f":"IF(Summary!$F$126=\"\",\"\",Summary!$F$126)","v":""},{"$f":"IF(Summary!$C$121=\"\",\"\",Summary!$C$121)","v":"Summary:Tex-414-A or Tex-416-A"},{"$f":"IF(Summary!$B$126=\"\",\"\",Summary!$B$126)","v":3},{"$f":"IF(Summary!$F$123=\"\",\"\",Summary!$F$123)","v":"Within Allowable Difference for Split-Sample?"}]
[1208,{"$f":"IF(Summary!$G$126=\"\",\"\",Summary!$G$126)","v":""},{"$f":"IF(Summary!$C$121=\"\",\"\",Summary!$C$121)","v":"Summary:Tex-414-A or Tex-416-A"},{"$f":"IF(Summary!$B$126=\"\",\"\",Summary!$B$126)","v":3},{"$f":"IF(Summary!$G$123=\"\",\"\",Summary!$G$123)","v":"Percent Difference"}]
[1209,{"$f":"IF(Summary!$H$126=\"\",\"\",Summary!$H$126)","v":""},{"$f":"IF(Summary!$C$121=\"\",\"\",Summary!$C$121)","v":"Summary:Tex-414-A or Tex-416-A"},{"$f":"IF(Summary!$B$126=\"\",\"\",Summary!$B$126)","v":3},{"$f":"IF(Summary!$H$123=\"\",\"\",Summary!$H$123)","v":"Within Allowable Difference?"}]
[1210,{"$f":"IF(Summary!$C$127=\"\",\"\",Summary!$C$127)","v":""},{"$f":"IF(Summary!$C$121=\"\",\"\",Summary!$C$121)","v":"Summary:Tex-414-A or Tex-416-A"},{"$f":"IF(Summary!$B$127=\"\",\"\",Summary!$B$127)","v":4},{"$f":"IF(Summary!$C$122=\"\",\"\",Summary!$C$122)","v":"Contractor"},{"$f":"IF(Summary!$C$123=\"\",\"\",Summary!$C$123)","v":"Air Content (%)"}]
[1211,{"$f":"IF(Summary!$D$127=\"\",\"\",Summary!$D$127)","v":""},{"$f":"IF(Summary!$C$121=\"\",\"\",Summary!$C$121)","v":"Summary:Tex-414-A or Tex-416-A"},{"$f":"IF(Summary!$B$127=\"\",\"\",Summary!$B$127)","v":4},{"$f":"IF(Summary!$D$122=\"\",\"\",Summary!$D$122)","v":"TxDOT"},{"$f":"IF(Summary!$D$123=\"\",\"\",Summary!$D$123)","v":"Air Content (%)"}]
[1212,{"$f":"IF(Summary!$E$127=\"\",\"\",Summary!$E$127)","v":""},{"$f":"IF(Summary!$C$121=\"\",\"\",Summary!$C$121)","v":"Summary:Tex-414-A or Tex-416-A"},{"$f":"IF(Summary!$B$127=\"\",\"\",Summary!$B$127)","v":4},{"$f":"IF(Summary!$E$123=\"\",\"\",Summary!$E$123)","v":"Split-Sample Percent Difference"}]
[1213,{"$f":"IF(Summary!$F$127=\"\",\"\",Summary!$F$127)","v":""},{"$f":"IF(Summary!$C$121=\"\",\"\",Summary!$C$121)","v":"Summary:Tex-414-A or Tex-416-A"},{"$f":"IF(Summary!$B$127=\"\",\"\",Summary!$B$127)","v":4},{"$f":"IF(Summary!$F$123=\"\",\"\",Summary!$F$123)","v":"Within Allowable Difference for Split-Sample?"}]
[1214,{"$f":"IF(Summary!$G$127=\"\",\"\",Summary!$G$127)","v":""},{"$f":"IF(Summary!$C$121=\"\",\"\",Summary!$C$121)","v":"Summary:Tex-414-A or Tex-416-A"},{"$f":"IF(Summary!$B$127=\"\",\"\",Summary!$B$127)","v":4},{"$f":"IF(Summary!$G$123=\"\",\"\",Summary!$G$123)","v":"Percent Difference"}]
[1215,{"$f":"IF(Summary!$H$127=\"\",\"\",Summary!$H$127)","v":""},{"$f":"IF(Summary!$C$121=\"\",\"\",Summary!$C$121)","v":"Summary:Tex-414-A or Tex-416-A"},{"$f":"IF(Summary!$B$127=\"\",\"\",Summary!$B$127)","v":4},{"$f":"IF(Summary!$H$123=\"\",\"\",Summary!$H$123)","v":"Within Allowable Difference?"}]
[1216,{"$f":"IF(Summary!$C$128=\"\",\"\",Summary!$C$128)","v":""},{"$f":"IF(Summary!$C$121=\"\",\"\",Summary!$C$121)","v":"Summary:Tex-414-A or Tex-416-A"},{"$f":"IF(Summary!$B$128=\"\",\"\",Summary!$B$128)","v":5},{"$f":"IF(Summary!$C$122=\"\",\"\",Summary!$C$122)","v":"Contractor"},{"$f":"IF(Summary!$C$123=\"\",\"\",Summary!$C$123)","v":"Air Content (%)"}]
[1217,{"$f":"IF(Summary!$D$128=\"\",\"\",Summary!$D$128)","v":""},{"$f":"IF(Summary!$C$121=\"\",\"\",Summary!$C$121)","v":"Summary:Tex-414-A or Tex-416-A"},{"$f":"IF(Summary!$B$128=\"\",\"\",Summary!$B$128)","v":5},{"$f":"IF(Summary!$D$122=\"\",\"\",Summary!$D$122)","v":"TxDOT"},{"$f":"IF(Summary!$D$123=\"\",\"\",Summary!$D$123)","v":"Air Content (%)"}]
[1218,{"$f":"IF(Summary!$E$128=\"\",\"\",Summary!$E$128)","v":""},{"$f":"IF(Summary!$C$121=\"\",\"\",Summary!$C$121)","v":"Summary:Tex-414-A or Tex-416-A"},{"$f":"IF(Summary!$B$128=\"\",\"\",Summary!$B$128)","v":5},{"$f":"IF(Summary!$E$123=\"\",\"\",Summary!$E$123)","v":"Split-Sample Percent Difference"}]
[1219,{"$f":"IF(Summary!$F$128=\"\",\"\",Summary!$F$128)","v":""},{"$f":"IF(Summary!$C$121=\"\",\"\",Summary!$C$121)","v":"Summary:Tex-414-A or Tex-416-A"},{"$f":"IF(Summary!$B$128=\"\",\"\",Summary!$B$128)","v":5},{"$f":"IF(Summary!$F$123=\"\",\"\",Summary!$F$123)","v":"Within Allowable Difference for Split-Sample?"}]
[1220,{"$f":"IF(Summary!$G$128=\"\",\"\",Summary!$G$128)","v":""},{"$f":"IF(Summary!$C$121=\"\",\"\",Summary!$C$121)","v":"Summary:Tex-414-A or Tex-416-A"},{"$f":"IF(Summary!$B$128=\"\",\"\",Summary!$B$128)","v":5},{"$f":"IF(Summary!$G$123=\"\",\"\",Summary!$G$123)","v":"Percent Difference"}]
[1221,{"$f":"IF(Summary!$H$128=\"\",\"\",Summary!$H$128)","v":""},{"$f":"IF(Summary!$C$121=\"\",\"\",Summary!$C$121)","v":"Summary:Tex-414-A or Tex-416-A"},{"$f":"IF(Summary!$B$128=\"\",\"\",Summary!$B$128)","v":5},{"$f":"IF(Summary!$H$123=\"\",\"\",Summary!$H$123)","v":"Within Allowable Difference?"}]
[1222,{"$f":"IF(Summary!$C$129=\"\",\"\",Summary!$C$129)","v":""},{"$f":"IF(Summary!$C$121=\"\",\"\",Summary!$C$121)","v":"Summary:Tex-414-A or Tex-416-A"},{"$f":"IF(Summary!$B$129=\"\",\"\",Summary!$B$129)","v":6},{"$f":"IF(Summary!$C$122=\"\",\"\",Summary!$C$122)","v":"Contractor"},{"$f":"IF(Summary!$C$123=\"\",\"\",Summary!$C$123)","v":"Air Content (%)"}]
[1223,{"$f":"IF(Summary!$D$129=\"\",\"\",Summary!$D$129)","v":""},{"$f":"IF(Summary!$C$121=\"\",\"\",Summary!$C$121)","v":"Summary:Tex-414-A or Tex-416-A"},{"$f":"IF(Summary!$B$129=\"\",\"\",Summary!$B$129)","v":6},{"$f":"IF(Summary!$D$122=\"\",\"\",Summary!$D$122)","v":"TxDOT"},{"$f":"IF(Summary!$D$123=\"\",\"\",Summary!$D$123)","v":"Air Content (%)"}]
[1224,{"$f":"IF(Summary!$E$129=\"\",\"\",Summary!$E$129)","v":""},{"$f":"IF(Summary!$C$121=\"\",\"\",Summary!$C$121)","v":"Summary:Tex-414-A or Tex-416-A"},{"$f":"IF(Summary!$B$129=\"\",\"\",Summary!$B$129)","v":6},{"$f":"IF(Summary!$E$123=\"\",\"\",Summary!$E$123)","v":"Split-Sample Percent Difference"}]
[1225,{"$f":"IF(Summary!$F$129=\"\",\"\",Summary!$F$129)","v":""},{"$f":"IF(Summary!$C$121=\"\",\"\",Summary!$C$121)","v":"Summary:Tex-414-A or Tex-416-A"},{"$f":"IF(Summary!$B$129=\"\",\"\",Summary!$B$129)","v":6},{"$f":"IF(Summary!$F$123=\"\",\"\",Summary!$F$123)","v":"Within Allowable Difference for Split-Sample?"}]
[1226,{"$f":"IF(Summary!$G$129=\"\",\"\",Summary!$G$129)","v":""},{"$f":"IF(Summary!$C$121=\"\",\"\",Summary!$C$121)","v":"Summary:Tex-414-A or Tex-416-A"},{"$f":"IF(Summary!$B$129=\"\",\"\",Summary!$B$129)","v":6},{"$f":"IF(Summary!$G$123=\"\",\"\",Summary!$G$123)","v":"Percent Difference"}]
[1227,{"$f":"IF(Summary!$H$129=\"\",\"\",Summary!$H$129)","v":""},{"$f":"IF(Summary!$C$121=\"\",\"\",Summary!$C$121)","v":"Summary:Tex-414-A or Tex-416-A"},{"$f":"IF(Summary!$B$129=\"\",\"\",Summary!$B$129)","v":6},{"$f":"IF(Summary!$H$123=\"\",\"\",Summary!$H$123)","v":"Within Allowable Difference?"}]
[1228,{"$f":"IF(Summary!$C$130=\"\",\"\",Summary!$C$130)","v":""},{"$f":"IF(Summary!$C$121=\"\",\"\",Summary!$C$121)","v":"Summary:Tex-414-A or Tex-416-A"},{"$f":"IF(Summary!$B$130=\"\",\"\",Summary!$B$130)","v":7},{"$f":"IF(Summary!$C$122=\"\",\"\",Summary!$C$122)","v":"Contractor"},{"$f":"IF(Summary!$C$123=\"\",\"\",Summary!$C$123)","v":"Air Content (%)"}]
[1229,{"$f":"IF(Summary!$D$130=\"\",\"\",Summary!$D$130)","v":""},{"$f":"IF(Summary!$C$121=\"\",\"\",Summary!$C$121)","v":"Summary:Tex-414-A or Tex-416-A"},{"$f":"IF(Summary!$B$130=\"\",\"\",Summary!$B$130)","v":7},{"$f":"IF(Summary!$D$122=\"\",\"\",Summary!$D$122)","v":"TxDOT"},{"$f":"IF(Summary!$D$123=\"\",\"\",Summary!$D$123)","v":"Air Content (%)"}]
[1230,{"$f":"IF(Summary!$E$130=\"\",\"\",Summary!$E$130)","v":""},{"$f":"IF(Summary!$C$121=\"\",\"\",Summary!$C$121)","v":"Summary:Tex-414-A or Tex-416-A"},{"$f":"IF(Summary!$B$130=\"\",\"\",Summary!$B$130)","v":7},{"$f":"IF(Summary!$E$123=\"\",\"\",Summary!$E$123)","v":"Split-Sample Percent Difference"}]
[1231,{"$f":"IF(Summary!$F$130=\"\",\"\",Summary!$F$130)","v":""},{"$f":"IF(Summary!$C$121=\"\",\"\",Summary!$C$121)","v":"Summary:Tex-414-A or Tex-416-A"},{"$f":"IF(Summary!$B$130=\"\",\"\",Summary!$B$130)","v":7},{"$f":"IF(Summary!$F$123=\"\",\"\",Summary!$F$123)","v":"Within Allowable Difference for Split-Sample?"}]
[1232,{"$f":"IF(Summary!$G$130=\"\",\"\",Summary!$G$130)","v":""},{"$f":"IF(Summary!$C$121=\"\",\"\",Summary!$C$121)","v":"Summary:Tex-414-A or Tex-416-A"},{"$f":"IF(Summary!$B$130=\"\",\"\",Summary!$B$130)","v":7},{"$f":"IF(Summary!$G$123=\"\",\"\",Summary!$G$123)","v":"Percent Difference"}]
[1233,{"$f":"IF(Summary!$H$130=\"\",\"\",Summary!$H$130)","v":""},{"$f":"IF(Summary!$C$121=\"\",\"\",Summary!$C$121)","v":"Summary:Tex-414-A or Tex-416-A"},{"$f":"IF(Summary!$B$130=\"\",\"\",Summary!$B$130)","v":7},{"$f":"IF(Summary!$H$123=\"\",\"\",Summary!$H$123)","v":"Within Allowable Difference?"}]
[1234,{"$f":"IF(Summary!$C$131=\"\",\"\",Summary!$C$131)","v":""},{"$f":"IF(Summary!$C$121=\"\",\"\",Summary!$C$121)","v":"Summary:Tex-414-A or Tex-416-A"},{"$f":"IF(Summary!$B$131=\"\",\"\",Summary!$B$131)","v":8},{"$f":"IF(Summary!$C$122=\"\",\"\",Summary!$C$122)","v":"Contractor"},{"$f":"IF(Summary!$C$123=\"\",\"\",Summary!$C$123)","v":"Air Content (%)"}]
[1235,{"$f":"IF(Summary!$D$131=\"\",\"\",Summary!$D$131)","v":""},{"$f":"IF(Summary!$C$121=\"\",\"\",Summary!$C$121)","v":"Summary:Tex-414-A or Tex-416-A"},{"$f":"IF(Summary!$B$131=\"\",\"\",Summary!$B$131)","v":8},{"$f":"IF(Summary!$D$122=\"\",\"\",Summary!$D$122)","v":"TxDOT"},{"$f":"IF(Summary!$D$123=\"\",\"\",Summary!$D$123)","v":"Air Content (%)"}]
[1236,{"$f":"IF(Summary!$E$131=\"\",\"\",Summary!$E$131)","v":""},{"$f":"IF(Summary!$C$121=\"\",\"\",Summary!$C$121)","v":"Summary:Tex-414-A or Tex-416-A"},{"$f":"IF(Summary!$B$131=\"\",\"\",Summary!$B$131)","v":8},{"$f":"IF(Summary!$E$123=\"\",\"\",Summary!$E$123)","v":"Split-Sample Percent Difference"}]
[1237,{"$f":"IF(Summary!$F$131=\"\",\"\",Summary!$F$131)","v":""},{"$f":"IF(Summary!$C$121=\"\",\"\",Summary!$C$121)","v":"Summary:Tex-414-A or Tex-416-A"},{"$f":"IF(Summary!$B$131=\"\",\"\",Summary!$B$131)","v":8},{"$f":"IF(Summary!$F$123=\"\",\"\",Summary!$F$123)","v":"Within Allowable Difference for Split-Sample?"}]
[1238,{"$f":"IF(Summary!$G$131=\"\",\"\",Summary!$G$131)","v":""},{"$f":"IF(Summary!$C$121=\"\",\"\",Summary!$C$121)","v":"Summary:Tex-414-A or Tex-416-A"},{"$f":"IF(Summary!$B$131=\"\",\"\",Summary!$B$131)","v":8},{"$f":"IF(Summary!$G$123=\"\",\"\",Summary!$G$123)","v":"Percent Difference"}]
[1239,{"$f":"IF(Summary!$H$131=\"\",\"\",Summary!$H$131)","v":""},{"$f":"IF(Summary!$C$121=\"\",\"\",Summary!$C$121)","v":"Summary:Tex-414-A or Tex-416-A"},{"$f":"IF(Summary!$B$131=\"\",\"\",Summary!$B$131)","v":8},{"$f":"IF(Summary!$H$123=\"\",\"\",Summary!$H$123)","v":"Within Allowable Difference?"}]
[1240,{"$f":"IF(Summary!$C$132=\"\",\"\",Summary!$C$132)","v":""},{"$f":"IF(Summary!$C$121=\"\",\"\",Summary!$C$121)","v":"Summary:Tex-414-A or Tex-416-A"},{"$f":"IF(Summary!$B$132=\"\",\"\",Summary!$B$132)","v":9},{"$f":"IF(Summary!$C$122=\"\",\"\",Summary!$C$122)","v":"Contractor"},{"$f":"IF(Summary!$C$123=\"\",\"\",Summary!$C$123)","v":"Air Content (%)"}]
[1241,{"$f":"IF(Summary!$D$132=\"\",\"\",Summary!$D$132)","v":""},{"$f":"IF(Summary!$C$121=\"\",\"\",Summary!$C$121)","v":"Summary:Tex-414-A or Tex-416-A"},{"$f":"IF(Summary!$B$132=\"\",\"\",Summary!$B$132)","v":9},{"$f":"IF(Summary!$D$122=\"\",\"\",Summary!$D$122)","v":"TxDOT"},{"$f":"IF(Summary!$D$123=\"\",\"\",Summary!$D$123)","v":"Air Content (%)"}]
[1242,{"$f":"IF(Summary!$E$132=\"\",\"\",Summary!$E$132)","v":""},{"$f":"IF(Summary!$C$121=\"\",\"\",Summary!$C$121)","v":"Summary:Tex-414-A or Tex-416-A"},{"$f":"IF(Summary!$B$132=\"\",\"\",Summary!$B$132)","v":9},{"$f":"IF(Summary!$E$123=\"\",\"\",Summary!$E$123)","v":"Split-Sample Percent Difference"}]
[1243,{"$f":"IF(Summary!$F$132=\"\",\"\",Summary!$F$132)","v":""},{"$f":"IF(Summary!$C$121=\"\",\"\",Summary!$C$121)","v":"Summary:Tex-414-A or Tex-416-A"},{"$f":"IF(Summary!$B$132=\"\",\"\",Summary!$B$132)","v":9},{"$f":"IF(Summary!$F$123=\"\",\"\",Summary!$F$123)","v":"Within Allowable Difference for Split-Sample?"}]
[1244,{"$f":"IF(Summary!$G$132=\"\",\"\",Summary!$G$132)","v":""},{"$f":"IF(Summary!$C$121=\"\",\"\",Summary!$C$121)","v":"Summary:Tex-414-A or Tex-416-A"},{"$f":"IF(Summary!$B$132=\"\",\"\",Summary!$B$132)","v":9},{"$f":"IF(Summary!$G$123=\"\",\"\",Summary!$G$123)","v":"Percent Difference"}]
[1245,{"$f":"IF(Summary!$H$132=\"\",\"\",Summary!$H$132)","v":""},{"$f":"IF(Summary!$C$121=\"\",\"\",Summary!$C$121)","v":"Summary:Tex-414-A or Tex-416-A"},{"$f":"IF(Summary!$B$132=\"\",\"\",Summary!$B$132)","v":9},{"$f":"IF(Summary!$H$123=\"\",\"\",Summary!$H$123)","v":"Within Allowable Difference?"}]
[1246,{"$f":"IF(Summary!$C$133=\"\",\"\",Summary!$C$133)","v":""},{"$f":"IF(Summary!$C$121=\"\",\"\",Summary!$C$121)","v":"Summary:Tex-414-A or Tex-416-A"},{"$f":"IF(Summary!$B$133=\"\",\"\",Summary!$B$133)","v":10},{"$f":"IF(Summary!$C$122=\"\",\"\",Summary!$C$122)","v":"Contractor"},{"$f":"IF(Summary!$C$123=\"\",\"\",Summary!$C$123)","v":"Air Content (%)"}]
[1247,{"$f":"IF(Summary!$D$133=\"\",\"\",Summary!$D$133)","v":""},{"$f":"IF(Summary!$C$121=\"\",\"\",Summary!$C$121)","v":"Summary:Tex-414-A or Tex-416-A"},{"$f":"IF(Summary!$B$133=\"\",\"\",Summary!$B$133)","v":10},{"$f":"IF(Summary!$D$122=\"\",\"\",Summary!$D$122)","v":"TxDOT"},{"$f":"IF(Summary!$D$123=\"\",\"\",Summary!$D$123)","v":"Air Content (%)"}]
[1248,{"$f":"IF(Summary!$E$133=\"\",\"\",Summary!$E$133)","v":""},{"$f":"IF(Summary!$C$121=\"\",\"\",Summary!$C$121)","v":"Summary:Tex-414-A or Tex-416-A"},{"$f":"IF(Summary!$B$133=\"\",\"\",Summary!$B$133)","v":10},{"$f":"IF(Summary!$E$123=\"\",\"\",Summary!$E$123)","v":"Split-Sample Percent Difference"}]
[1249,{"$f":"IF(Summary!$F$133=\"\",\"\",Summary!$F$133)","v":""},{"$f":"IF(Summary!$C$121=\"\",\"\",Summary!$C$121)","v":"Summary:Tex-414-A or Tex-416-A"},{"$f":"IF(Summary!$B$133=\"\",\"\",Summary!$B$133)","v":10},{"$f":"IF(Summary!$F$123=\"\",\"\",Summary!$F$123)","v":"Within Allowable Difference for Split-Sample?"}]
[1250,{"$f":"IF(Summary!$G$133=\"\",\"\",Summary!$G$133)","v":""},{"$f":"IF(Summary!$C$121=\"\",\"\",Summary!$C$121)","v":"Summary:Tex-414-A or Tex-416-A"},{"$f":"IF(Summary!$B$133=\"\",\"\",Summary!$B$133)","v":10},{"$f":"IF(Summary!$G$123=\"\",\"\",Summary!$G$123)","v":"Percent Difference"}]
[1251,{"$f":"IF(Summary!$H$133=\"\",\"\",Summary!$H$133)","v":""},{"$f":"IF(Summary!$C$121=\"\",\"\",Summary!$C$121)","v":"Summary:Tex-414-A or Tex-416-A"},{"$f":"IF(Summary!$B$133=\"\",\"\",Summary!$B$133)","v":10},{"$f":"IF(Summary!$H$123=\"\",\"\",Summary!$H$123)","v":"Within Allowable Difference?"}]
[1252,{"$f":"IF(Summary!$C$134=\"\",\"\",Summary!$C$134)","v":""},{"$f":"IF(Summary!$C$105=\"\",\"\",Summary!$C$105)","v":"Summary:Tex-415-A"},{"$f":"IF(Summary!$B$134=\"\",\"\",Summary!$B$134)","v":"Avg."},{"$f":"IF(Summary!$C$122=\"\",\"\",Summary!$C$122)","v":"Contractor"},{"$f":"IF(Summary!$C$123=\"\",\"\",Summary!$C$123)","v":"Air Content (%)"}]
[1253,{"$f":"IF('Contractor Test Data'!$G$22=\"\",\"\",'Contractor Test Data'!$G$22)","v":""},{"$f":"IF('Contractor Test Data'!$C$21=\"\",\"\",'Contractor Test Data'!$C$21)","v":"Contractor:Tex-418-A"},{"$f":"IF('Contractor Test Data'!$C$22=\"\",\"\",'Contractor Test Data'!$C$22)","v":"Source of Job Control Strength (psi): "}]
[1254,{"$f":"IF('TxDOT Fresh Test Data'!$E$22=\"\",\"\",'TxDOT Fresh Test Data'!$E$22)","v":""},{"$f":"IF('TxDOT Fresh Test Data'!$C$21=\"\",\"\",'TxDOT Fresh Test Data'!$C$21)","v":"TxDOT:Fresh"},{"$f":"IF('TxDOT Fresh Test Data'!$C$22=\"\",\"\",'TxDOT Fresh Test Data'!$C$22)","v":"Method of Placement: "}]
[1255,{"$f":"IF('TxDOT Fresh Test Data'!$J$22=\"\",\"\",'TxDOT Fresh Test Data'!$J$22)","v":""},{"$f":"IF('TxDOT Fresh Test Data'!$C$21=\"\",\"\",'TxDOT Fresh Test Data'!$C$21)","v":"TxDOT:Fresh"},{"$f":"IF('TxDOT Fresh Test Data'!$F$22=\"\",\"\",'TxDOT Fresh Test Data'!$F$22)","v":"Maximum Acceptable Placement Slump (inches): "}]
[1256,{"$f":"IF('TxDOT Fresh Test Data'!$F$23=\"\",\"\",'TxDOT Fresh Test Data'!$F$23)","v":40},{"$f":"IF('TxDOT Fresh Test Data'!$C$21=\"\",\"\",'TxDOT Fresh Test Data'!$C$21)","v":"TxDOT:Fresh"},{"$f":"IF('TxDOT Fresh Test Data'!$C$23=\"\",\"\",'TxDOT Fresh Test Data'!$C$23)","v":"Minimum Concrete Temperature (°F): "}]
[1257,{"$f":"IF('TxDOT Fresh Test Data'!$J$23=\"\",\"\",'TxDOT Fresh Test Data'!$J$23)","v":95},{"$f":"IF('TxDOT Fresh Test Data'!$C$21=\"\",\"\",'TxDOT Fresh Test Data'!$C$21)","v":"TxDOT:Fresh"},{"$f":"IF('TxDOT Fresh Test Data'!$G$23=\"\",\"\",'TxDOT Fresh Test Data'!$G$23)","v":"Maximum Concrete Temperature (°F): "}]
[1258,{"$f":"IF('TxDOT Fresh Test Data'!$E$24=\"\",\"\",'TxDOT Fresh Test Data'!$E$24)","v":""},{"$f":"IF('TxDOT Fresh Test Data'!$C$21=\"\",\"\",'TxDOT Fresh Test Data'!$C$21)","v":"TxDOT:Fresh"},{"$f":"IF('TxDOT Fresh Test Data'!$C$24=\"\",\"\",'TxDOT Fresh Test Data'!$C$24)","v":"Target Air Content (%): "}]
[1259,{"$f":"IF('TxDOT Fresh Test Data'!$F$24=\"\",\"\",'TxDOT Fresh Test Data'!$F$24)","v":""},{"$f":"IF('TxDOT Fresh Test Data'!$C$21=\"\",\"\",'TxDOT Fresh Test Data'!$C$21)","v":"TxDOT:Fresh"},{"$f":"IF('TxDOT Fresh Test Data'!$C$24=\"\",\"\",'TxDOT Fresh Test Data'!$C$24)","v":"Target Air Content (%): "}]
[1260,{"$f":"IF('TxDOT Fresh Test Data'!$I$28=\"\",\"\",'TxDOT Fresh Test Data'!$I$28)","v":""},{"$f":"IF('TxDOT Fresh Test Data'!$C$21=\"\",\"\",'TxDOT Fresh Test Data'!$C$21)","v":"TxDOT:Fresh"},{"$f":"IF('TxDOT Fresh Test Data'!$H$28=\"\",\"\",'TxDOT Fresh Test Data'!$H$28)","v":"Test Method:"}]
[1261,{"$f":"IF('TxDOT Fresh Test Data'!$C$31=\"\",\"\",'TxDOT Fresh Test Data'!$C$31)","v":""},{"$f":"IF('TxDOT Fresh Test Data'!$C$21=\"\",\"\",'TxDOT Fresh Test Data'!$C$21)","v":"TxDOT:Fresh"},{"$f":"IF('TxDOT Fresh Test Data'!$B$31=\"\",\"\",'TxDOT Fresh Test Data'!$B$31)","v":1},{"$f":"IF('TxDOT Fresh Test Data'!$C$27=\"\",\"\",'TxDOT Fresh Test Data'!$C$27)","v":"Slump (inches)"},{"$f":"IF('TxDOT Fresh Test Data'!$C$30=\"\",\"\",'TxDOT Fresh Test Data'!$C$30)","v":"Tex-415-A"}]
[1262,{"$f":"IF('TxDOT Fresh Test Data'!$D$31=\"\",\"\",'TxDOT Fresh Test Data'!$D$31)","v":""},{"$f":"IF('TxDOT Fresh Test Data'!$C$21=\"\",\"\",'TxDOT Fresh Test Data'!$C$21)","v":"TxDOT:Fresh"},{"$f":"IF('TxDOT Fresh Test Data'!$B$31=\"\",\"\",'TxDOT Fresh Test Data'!$B$31)","v":1},{"$f":"IF('TxDOT Fresh Test Data'!$D$27=\"\",\"\",'TxDOT Fresh Test Data'!$D$27)","v":"Meets Job Control Requirements"}]
[1263,{"$f":"IF('TxDOT Fresh Test Data'!$E$31=\"\",\"\",'TxDOT Fresh Test Data'!$E$31)","v":""},{"$f":"IF('TxDOT Fresh Test Data'!$C$21=\"\",\"\",'TxDOT Fresh Test Data'!$C$21)","v":"TxDOT:Fresh"},{"$f":"IF('TxDOT Fresh Test Data'!$B$31=\"\",\"\",'TxDOT Fresh Test Data'!$B$31)","v":1},{"$f":"IF('TxDOT Fresh Test Data'!$E$27=\"\",\"\",'TxDOT Fresh Test Data'!$E$27)","v":"Temperature (°F)"},{"$f":"IF('TxDOT Fresh Test Data'!$E$30=\"\",\"\",'TxDOT Fresh Test Data'!$E$30)","v":"Tex-422-A"}]
[1264,{"$f":"IF('TxDOT Fresh Test Data'!$F$31=\"\",\"\",'TxDOT Fresh Test Data'!$F$31)","v":""},{"$f":"IF('TxDOT Fresh Test Data'!$C$21=\"\",\"\",'TxDOT Fresh Test Data'!$C$21)","v":"TxDOT:Fresh"},{"$f":"IF('TxDOT Fresh Test Data'!$B$31=\"\",\"\",'TxDOT Fresh Test Data'!$B$31)","v":1},{"$f":"IF('TxDOT Fresh Test Data'!$F$27=\"\",\"\",'TxDOT Fresh Test Data'!$F$27)","v":"Meets Job Control Requirements"}]
[1265,{"$f":"IF('TxDOT Fresh Test Data'!$G$31=\"\",\"\",'TxDOT Fresh Test Data'!$G$31)","v":""},{"$f":"IF('TxDOT Fresh Test Data'!$C$21=\"\",\"\",'TxDOT Fresh Test Data'!$C$21)","v":"TxDOT:Fresh"},{"$f":"IF('TxDOT Fresh Test Data'!$B$31=\"\",\"\",'TxDOT Fresh Test Data'!$B$31)","v":1},{"$f":"IF('TxDOT Fresh Test Data'!$G$27=\"\",\"\",'TxDOT Fresh Test Data'!$G$27)","v":"Air Content"},{"$f":"IF('TxDOT Fresh Test Data'!$G$29=\"\",\"\",'TxDOT Fresh Test Data'!$G$29)","v":"Uncorrected Air Content (%)"}]
[1266,{"$f":"IF('TxDOT Fresh Test Data'!$H$31=\"\",\"\",'TxDOT Fresh Test Data'!$H$31)","v":""},{"$f":"IF('TxDOT Fresh Test Data'!$C$21=\"\",\"\",'TxDOT Fresh Test Data'!$C$21)","v":"TxDOT:Fresh"},{"$f":"IF('TxDOT Fresh Test Data'!$B$31=\"\",\"\",'TxDOT Fresh Test Data'!$B$31)","v":1},{"$f":"IF('TxDOT Fresh Test Data'!$G$27=\"\",\"\",'TxDOT Fresh Test Data'!$G$27)","v":"Air Content"},{"$f":"IF('TxDOT Fresh Test Data'!$H$29=\"\",\"\",'TxDOT Fresh Test Data'!$H$29)","v":"Aggr. Correction Factor (%)"}]
[1267,{"$f":"IF('TxDOT Fresh Test Data'!$I$31=\"\",\"\",'TxDOT Fresh Test Data'!$I$31)","v":""},{"$f":"IF('TxDOT Fresh Test Data'!$C$21=\"\",\"\",'TxDOT Fresh Test Data'!$C$21)","v":"TxDOT:Fresh"},{"$f":"IF('TxDOT Fresh Test Data'!$B$31=\"\",\"\",'TxDOT Fresh Test Data'!$B$31)","v":1},{"$f":"IF('TxDOT Fresh Test Data'!$G$27=\"\",\"\",'TxDOT Fresh Test Data'!$G$27)","v":"Air Content"},{"$f":"IF('TxDOT Fresh Test Data'!$I$29=\"\",\"\",'TxDOT Fresh Test Data'!$I$29)","v":""}]
[1268,{"$f":"IF('TxDOT Fresh Test Data'!$J$31=\"\",\"\",'TxDOT Fresh Test Data'!$J$31)","v":""},{"$f":"IF('TxDOT Fresh Test Data'!$C$21=\"\",\"\",'TxDOT Fresh Test Data'!$C$21)","v":"TxDOT:Fresh"},{"$f":"IF('TxDOT Fresh Test Data'!$B$31=\"\",\"\",'TxDOT Fresh Test Data'!$B$31)","v":1},{"$f":"IF('TxDOT Fresh Test Data'!$G$27=\"\",\"\",'TxDOT Fresh Test Data'!$G$27)","v":"Air Content"},{"$f":"IF('TxDOT Fresh Test Data'!$J$29=\"\",\"\",'TxDOT Fresh Test Data'!$J$29)","v":"Corrected Air Content (%)"}]
[1269,{"$f":"IF('TxDOT Fresh Test Data'!$K$31=\"\",\"\",'TxDOT Fresh Test Data'!$K$31)","v":""},{"$f":"IF('TxDOT Fresh Test Data'!$C$21=\"\",\"\",'TxDOT Fresh Test Data'!$C$21)","v":"TxDOT:Fresh"},{"$f":"IF('TxDOT Fresh Test Data'!$B$31=\"\",\"\",'TxDOT Fresh Test Data'!$B$31)","v":1},{"$f":"IF('TxDOT Fresh Test Data'!$K$27=\"\",\"\",'TxDOT Fresh Test Data'!$K$27)","v":"Meets Job Control Requirements"}]
[1270,{"$f":"IF('TxDOT Fresh Test Data'!$C$32=\"\",\"\",'TxDOT Fresh Test Data'!$C$32)","v":""},{"$f":"IF('TxDOT Fresh Test Data'!$C$21=\"\",\"\",'TxDOT Fresh Test Data'!$C$21)","v":"TxDOT:Fresh"},{"$f":"IF('TxDOT Fresh Test Data'!$B$32=\"\",\"\",'TxDOT Fresh Test Data'!$B$32)","v":2},{"$f":"IF('TxDOT Fresh Test Data'!$C$27=\"\",\"\",'TxDOT Fresh Test Data'!$C$27)","v":"Slump (inches)"},{"$f":"IF('TxDOT Fresh Test Data'!$C$30=\"\",\"\",'TxDOT Fresh Test Data'!$C$30)","v":"Tex-415-A"}]
[1271,{"$f":"IF('TxDOT Fresh Test Data'!$D$32=\"\",\"\",'TxDOT Fresh Test Data'!$D$32)","v":""},{"$f":"IF('TxDOT Fresh Test Data'!$C$21=\"\",\"\",'TxDOT Fresh Test Data'!$C$21)","v":"TxDOT:Fresh"},{"$f":"IF('TxDOT Fresh Test Data'!$B$32=\"\",\"\",'TxDOT Fresh Test Data'!$B$32)","v":2},{"$f":"IF('TxDOT Fresh Test Data'!$D$27=\"\",\"\",'TxDOT Fresh Test Data'!$D$27)","v":"Meets Job Control Requirements"}]
[1272,{"$f":"IF('TxDOT Fresh Test Data'!$E$32=\"\",\"\",'TxDOT Fresh Test Data'!$E$32)","v":""},{"$f":"IF('TxDOT Fresh Test Data'!$C$21=\"\",\"\",'TxDOT Fresh Test Data'!$C$21)","v":"TxDOT:Fresh"},{"$f":"IF('TxDOT Fresh Test Data'!$B$32=\"\",\"\",'TxDOT Fresh Test Data'!$B$32)","v":2},{"$f":"IF('TxDOT Fresh Test Data'!$E$27=\"\",\"\",'TxDOT Fresh Test Data'!$E$27)","v":"Temperature (°F)"},{"$f":"IF('TxDOT Fresh Test Data'!$E$30=\"\",\"\",'TxDOT Fresh Test Data'!$E$30)","v":"Tex-422-A"}]
[1273,{"$f":"IF('TxDOT Fresh Test Data'!$F$32=\"\",\"\",'TxDOT Fresh Test Data'!$F$32)","v":""},{"$f":"IF('TxDOT Fresh Test Data'!$C$21=\"\",\"\",'TxDOT Fresh Test Data'!$C$21)","v":"TxDOT:Fresh"},{"$f":"IF('TxDOT Fresh Test Data'!$B$32=\"\",\"\",'TxDOT Fresh Test Data'!$B$32)","v":2},{"$f":"IF('TxDOT Fresh Test Data'!$F$27=\"\",\"\",'TxDOT Fresh Test Data'!$F$27)","v":"Meets Job Control Requirements"}]
[1274,{"$f":"IF('TxDOT Fresh Test Data'!$G$32=\"\",\"\",'TxDOT Fresh Test Data'!$G$32)","v":""},{"$f":"IF('TxDOT Fresh Test Data'!$C$21=\"\",\"\",'TxDOT Fresh Test Data'!$C$21)","v":"TxDOT:Fresh"},{"$f":"IF('TxDOT Fresh Test Data'!$B$32=\"\",\"\",'TxDOT Fresh Test Data'!$B$32)","v":2},{"$f":"IF('TxDOT Fresh Test Data'!$G$27=\"\",\"\",'TxDOT Fresh Test Data'!$G$27)","v":"Air Content"},{"$f":"IF('TxDOT Fresh Test Data'!$G$29=\"\",\"\",'TxDOT Fresh Test Data'!$G$29)","v":"Uncorrected Air Content (%)"}]
[1275,{"$f":"IF('TxDOT Fresh Test Data'!$H$32=\"\",\"\",'TxDOT Fresh Test Data'!$H$32)","v":""},{"$f":"IF('TxDOT Fresh Test Data'!$C$21=\"\",\"\",'TxDOT Fresh Test Data'!$C$21)","v":"TxDOT:Fresh"},{"$f":"IF('TxDOT Fresh Test Data'!$B$32=\"\",\"\",'TxDOT Fresh Test Data'!$B$32)","v":2},{"$f":"IF('TxDOT Fresh Test Data'!$G$27=\"\",\"\",'TxDOT Fresh Test Data'!$G$27)","v":"Air Content"},{"$f":"IF('TxDOT Fresh Test Data'!$H$29=\"\",\"\",'TxDOT Fresh Test Data'!$H$29)","v":"Aggr. Correction Factor (%)"}]
[1276,{"$f":"IF('TxDOT Fresh Test Data'!$I$32=\"\",\"\",'TxDOT Fresh Test Data'!$I$32)","v":""},{"$f":"IF('TxDOT Fresh Test Data'!$C$21=\"\",\"\",'TxDOT Fresh Test Data'!$C$21)","v":"TxDOT:Fresh"},{"$f":"IF('TxDOT Fresh Test Data'!$B$32=\"\",\"\",'TxDOT Fresh Test Data'!$B$32)","v":2},{"$f":"IF('TxDOT Fresh Test Data'!$G$27=\"\",\"\",'TxDOT Fresh Test Data'!$G$27)","v":"Air Content"},{"$f":"IF('TxDOT Fresh Test Data'!$I$29=\"\",\"\",'TxDOT Fresh Test Data'!$I$29)","v":""}]
[1277,{"$f":"IF('TxDOT Fresh Test Data'!$J$32=\"\",\"\",'TxDOT Fresh Test Data'!$J$32)","v":""},{"$f":"IF('TxDOT Fresh Test Data'!$C$21=\"\",\"\",'TxDOT Fresh Test Data'!$C$21)","v":"TxDOT:Fresh"},{"$f":"IF('TxDOT Fresh Test Data'!$B$32=\"\",\"\",'TxDOT Fresh Test Data'!$B$32)","v":2},{"$f":"IF('TxDOT Fresh Test Data'!$G$27=\"\",\"\",'TxDOT Fresh Test Data'!$G$27)","v":"Air Content"},{"$f":"IF('TxDOT Fresh Test Data'!$J$29=\"\",\"\",'TxDOT Fresh Test Data'!$J$29)","v":"Corrected Air Content (%)"}]
[1278,{"$f":"IF('TxDOT Fresh Test Data'!$K$32=\"\",\"\",'TxDOT Fresh Test Data'!$K$32)","v":""},{"$f":"IF('TxDOT Fresh Test Data'!$C$21=\"\",\"\",'TxDOT Fresh Test Data'!$C$21)","v":"TxDOT:Fresh"},{"$f":"IF('TxDOT Fresh Test Data'!$B$32=\"\",\"\",'TxDOT Fresh Test Data'!$B$32)","v":2},{"$f":"IF('TxDOT Fresh Test Data'!$K$27=\"\",\"\",'TxDOT Fresh Test Data'!$K$27)","v":"Meets Job Control Requirements"}]
[1279,{"$f":"IF('TxDOT Fresh Test Data'!$C$33=\"\",\"\",'TxDOT Fresh Test Data'!$C$33)","v":""},{"$f":"IF('TxDOT Fresh Test Data'!$C$21=\"\",\"\",'TxDOT Fresh Test Data'!$C$21)","v":"TxDOT:Fresh"},{"$f":"IF('TxDOT Fresh Test Data'!$B$33=\"\",\"\",'TxDOT Fresh Test Data'!$B$33)","v":3},{"$f":"IF('TxDOT Fresh Test Data'!$C$27=\"\",\"\",'TxDOT Fresh Test Data'!$C$27)","v":"Slump (inches)"},{"$f":"IF('TxDOT Fresh Test Data'!$C$30=\"\",\"\",'TxDOT Fresh Test Data'!$C$30)","v":"Tex-415-A"}]
[1280,{"$f":"IF('TxDOT Fresh Test Data'!$D$33=\"\",\"\",'TxDOT Fresh Test Data'!$D$33)","v":""},{"$f":"IF('TxDOT Fresh Test Data'!$C$21=\"\",\"\",'TxDOT Fresh Test Data'!$C$21)","v":"TxDOT:Fresh"},{"$f":"IF('TxDOT Fresh Test Data'!$B$33=\"\",\"\",'TxDOT Fresh Test Data'!$B$33)","v":3},{"$f":"IF('TxDOT Fresh Test Data'!$D$27=\"\",\"\",'TxDOT Fresh Test Data'!$D$27)","v":"Meets Job Control Requirements"}]
[1281,{"$f":"IF('TxDOT Fresh Test Data'!$E$33=\"\",\"\",'TxDOT Fresh Test Data'!$E$33)","v":""},{"$f":"IF('TxDOT Fresh Test Data'!$C$21=\"\",\"\",'TxDOT Fresh Test Data'!$C$21)","v":"TxDOT:Fresh"},{"$f":"IF('TxDOT Fresh Test Data'!$B$33=\"\",\"\",'TxDOT Fresh Test Data'!$B$33)","v":3},{"$f":"IF('TxDOT Fresh Test Data'!$E$27=\"\",\"\",'TxDOT Fresh Test Data'!$E$27)","v":"Temperature (°F)"},{"$f":"IF('TxDOT Fresh Test Data'!$E$30=\"\",\"\",'TxDOT Fresh Test Data'!$E$30)","v":"Tex-422-A"}]
[1282,{"$f":"IF('TxDOT Fresh Test Data'!$F$33=\"\",\"\",'TxDOT Fresh Test Data'!$F$33)","v":""},{"$f":"IF('TxDOT Fresh Test Data'!$C$21=\"\",\"\",'TxDOT Fresh Test Data'!$C$21)","v":"TxDOT:Fresh"},{"$f":"IF('TxDOT Fresh Test Data'!$B$33=\"\",\"\",'TxDOT Fresh Test Data'!$B$33)","v":3},{"$f":"IF('TxDOT Fresh Test Data'!$F$27=\"\",\"\",'TxDOT Fresh Test Data'!$F$27)","v":"Meets Job Control Requirements"}]
[1283,{"$f":"IF('TxDOT Fresh Test Data'!$G$33=\"\",\"\",'TxDOT Fresh Test Data'!$G$33)","v":""},{"$f":"IF('TxDOT Fresh Test Data'!$C$21=\"\",\"\",'TxDOT Fresh Test Data'!$C$21)","v":"TxDOT:Fresh"},{"$f":"IF('TxDOT Fresh Test Data'!$B$33=\"\",\"\",'TxDOT Fresh Test Data'!$B$33)","v":3},{"$f":"IF('TxDOT Fresh Test Data'!$G$27=\"\",\"\",'TxDOT Fresh Test Data'!$G$27)","v":"Air Content"},{"$f":"IF('TxDOT Fresh Test Data'!$G$29=\"\",\"\",'TxDOT Fresh Test Data'!$G$29)","v":"Uncorrected Air Content (%)"}]
[1284,{"$f":"IF('TxDOT Fresh Test Data'!$H$33=\"\",\"\",'TxDOT Fresh Test Data'!$H$33)","v":""},{"$f":"IF('TxDOT Fresh Test Data'!$C$21=\"\",\"\",'TxDOT Fresh Test Data'!$C$21)","v":"TxDOT:Fresh"},{"$f":"IF('TxDOT Fresh Test Data'!$B$33=\"\",\"\",'TxDOT Fresh Test Data'!$B$33)","v":3},{"$f":"IF('TxDOT Fresh Test Data'!$G$27=\"\",\"\",'TxDOT Fresh Test Data'!$G$27)","v":"Air Content"},{"$f":"IF('TxDOT Fresh Test Data'!$H$29=\"\",\"\",'TxDOT Fresh Test Data'!$H$29)","v":"Aggr. Correction Factor (%)"}]
[1285,{"$f":"IF('TxDOT Fresh Test Data'!$I$33=\"\",\"\",'TxDOT Fresh Test Data'!$I$33)","v":""},{"$f":"IF('TxDOT Fresh Test Data'!$C$21=\"\",\"\",'TxDOT Fresh Test Data'!$C$21)","v":"TxDOT:Fresh"},{"$f":"IF('TxDOT Fresh Test Data'!$B$33=\"\",\"\",'TxDOT Fresh Test Data'!$B$33)","v":3},{"$f":"IF('TxDOT Fresh Test Data'!$G$27=\"\",\"\",'TxDOT Fresh Test Data'!$G$27)","v":"Air Content"},{"$f":"IF('TxDOT Fresh Test Data'!$I$29=\"\",\"\",'TxDOT Fresh Test Data'!$I$29)","v":""}]
[1286,{"$f":"IF('TxDOT Fresh Test Data'!$J$33=\"\",\"\",'TxDOT Fresh Test Data'!$J$33)","v":""},{"$f":"IF('TxDOT Fresh Test Data'!$C$21=\"\",\"\",'TxDOT Fresh Test Data'!$C$21)","v":"TxDOT:Fresh"},{"$f":"IF('TxDOT Fresh Test Data'!$B$33=\"\",\"\",'TxDOT Fresh Test Data'!$B$33)","v":3},{"$f":"IF('TxDOT Fresh Test Data'!$G$27=\"\",\"\",'TxDOT Fresh Test Data'!$G$27)","v":"Air Content"},{"$f":"IF('TxDOT Fresh Test Data'!$J$29=\"\",\"\",'TxDOT Fresh Test Data'!$J$29)","v":"Corrected Air Content (%)"}]
[1287,{"$f":"IF('TxDOT Fresh Test Data'!$K$33=\"\",\"\",'TxDOT Fresh Test Data'!$K$33)","v":""},{"$f":"IF('TxDOT Fresh Test Data'!$C$21=\"\",\"\",'TxDOT Fresh Test Data'!$C$21)","v":"TxDOT:Fresh"},{"$f":"IF('TxDOT Fresh Test Data'!$B$33=\"\",\"\",'TxDOT Fresh Test Data'!$B$33)","v":3},{"$f":"IF('TxDOT Fresh Test Data'!$K$27=\"\",\"\",'TxDOT Fresh Test Data'!$K$27)","v":"Meets Job Control Requirements"}]
[1288,{"$f":"IF('TxDOT Fresh Test Data'!$C$34=\"\",\"\",'TxDOT Fresh Test Data'!$C$34)","v":""},{"$f":"IF('TxDOT Fresh Test Data'!$C$21=\"\",\"\",'TxDOT Fresh Test Data'!$C$21)","v":"TxDOT:Fresh"},{"$f":"IF('TxDOT Fresh Test Data'!$B$34=\"\",\"\",'TxDOT Fresh Test Data'!$B$34)","v":4},{"$f":"IF('TxDOT Fresh Test Data'!$C$27=\"\",\"\",'TxDOT Fresh Test Data'!$C$27)","v":"Slump (inches)"},{"$f":"IF('TxDOT Fresh Test Data'!$C$30=\"\",\"\",'TxDOT Fresh Test Data'!$C$30)","v":"Tex-415-A"}]
[1289,{"$f":"IF('TxDOT Fresh Test Data'!$D$34=\"\",\"\",'TxDOT Fresh Test Data'!$D$34)","v":""},{"$f":"IF('TxDOT Fresh Test Data'!$C$21=\"\",\"\",'TxDOT Fresh Test Data'!$C$21)","v":"TxDOT:Fresh"},{"$f":"IF('TxDOT Fresh Test Data'!$B$34=\"\",\"\",'TxDOT Fresh Test Data'!$B$34)","v":4},{"$f":"IF('TxDOT Fresh Test Data'!$D$27=\"\",\"\",'TxDOT Fresh Test Data'!$D$27)","v":"Meets Job Control Requirements"}]
[1290,{"$f":"IF('TxDOT Fresh Test Data'!$E$34=\"\",\"\",'TxDOT Fresh Test Data'!$E$34)","v":""},{"$f":"IF('TxDOT Fresh Test Data'!$C$21=\"\",\"\",'TxDOT Fresh Test Data'!$C$21)","v":"TxDOT:Fresh"},{"$f":"IF('TxDOT Fresh Test Data'!$B$34=\"\",\"\",'TxDOT Fresh Test Data'!$B$34)","v":4},{"$f":"IF('TxDOT Fresh Test Data'!$E$27=\"\",\"\",'TxDOT Fresh Test Data'!$E$27)","v":"Temperature (°F)"},{"$f":"IF('TxDOT Fresh Test Data'!$E$30=\"\",\"\",'TxDOT Fresh Test Data'!$E$30)","v":"Tex-422-A"}]
[1291,{"$f":"IF('TxDOT Fresh Test Data'!$F$34=\"\",\"\",'TxDOT Fresh Test Data'!$F$34)","v":""},{"$f":"IF('TxDOT Fresh Test Data'!$C$21=\"\",\"\",'TxDOT Fresh Test Data'!$C$21)","v":"TxDOT:Fresh"},{"$f":"IF('TxDOT Fresh Test Data'!$B$34=\"\",\"\",'TxDOT Fresh Test Data'!$B$34)","v":4},{"$f":"IF('TxDOT Fresh Test Data'!$F$27=\"\",\"\",'TxDOT Fresh Test Data'!$F$27)","v":"Meets Job Control Requirements"}]
[1292,{"$f":"IF('TxDOT Fresh Test Data'!$G$34=\"\",\"\",'TxDOT Fresh Test Data'!$G$34)","v":""},{"$f":"IF('TxDOT Fresh Test Data'!$C$21=\"\",\"\",'TxDOT Fresh Test Data'!$C$21)","v":"TxDOT:Fresh"},{"$f":"IF('TxDOT Fresh Test Data'!$B$34=\"\",\"\",'TxDOT Fresh Test Data'!$B$34)","v":4},{"$f":"IF('TxDOT Fresh Test Data'!$G$27=\"\",\"\",'TxDOT Fresh Test Data'!$G$27)","v":"Air Content"},{"$f":"IF('TxDOT Fresh Test Data'!$G$29=\"\",\"\",'TxDOT Fresh Test Data'!$G$29)","v":"Uncorrected Air Content (%)"}]
[1293,{"$f":"IF('TxDOT Fresh Test Data'!$H$34=\"\",\"\",'TxDOT Fresh Test Data'!$H$34)","v":""},{"$f":"IF('TxDOT Fresh Test Data'!$C$21=\"\",\"\",'TxDOT Fresh Test Data'!$C$21)","v":"TxDOT:Fresh"},{"$f":"IF('TxDOT Fresh Test Data'!$B$34=\"\",\"\",'TxDOT Fresh Test Data'!$B$34)","v":4},{"$f":"IF('TxDOT Fresh Test Data'!$G$27=\"\",\"\",'TxDOT Fresh Test Data'!$G$27)","v":"Air Content"},{"$f":"IF('TxDOT Fresh Test Data'!$H$29=\"\",\"\",'TxDOT Fresh Test Data'!$H$29)","v":"Aggr. Correction Factor (%)"}]
[1294,{"$f":"IF('TxDOT Fresh Test Data'!$I$34=\"\",\"\",'TxDOT Fresh Test Data'!$I$34)","v":""},{"$f":"IF('TxDOT Fresh Test Data'!$C$21=\"\",\"\",'TxDOT Fresh Test Data'!$C$21)","v":"TxDOT:Fresh"},{"$f":"IF('TxDOT Fresh Test Data'!$B$34=\"\",\"\",'TxDOT Fresh Test Data'!$B$34)","v":4},{"$f":"IF('TxDOT Fresh Test Data'!$G$27=\"\",\"\",'TxDOT Fresh Test Data'!$G$27)","v":"Air Content"},{"$f":"IF('TxDOT Fresh Test Data'!$I$29=\"\",\"\",'TxDOT Fresh Test Data'!$I$29)","v":""}]
[1295,{"$f":"IF('TxDOT Fresh Test Data'!$J$34=\"\",\"\",'TxDOT Fresh Test Data'!$J$34)","v":""},{"$f":"IF('TxDOT Fresh Test Data'!$C$21=\"\",\"\",'TxDOT Fresh Test Data'!$C$21)","v":"TxDOT:Fresh"},{"$f":"IF('TxDOT Fresh Test Data'!$B$34=\"\",\"\",'TxDOT Fresh Test Data'!$B$34)","v":4},{"$f":"IF('TxDOT Fresh Test Data'!$G$27=\"\",\"\",'TxDOT Fresh Test Data'!$G$27)","v":"Air Content"},{"$f":"IF('TxDOT Fresh Test Data'!$J$29=\"\",\"\",'TxDOT Fresh Test Data'!$J$29)","v":"Corrected Air Content (%)"}]
[1296,{"$f":"IF('TxDOT Fresh Test Data'!$K$34=\"\",\"\",'TxDOT Fresh Test Data'!$K$34)","v":""},{"$f":"IF('TxDOT Fresh Test Data'!$C$21=\"\",\"\",'TxDOT Fresh Test Data'!$C$21)","v":"TxDOT:Fresh"},{"$f":"IF('TxDOT Fresh Test Data'!$B$34=\"\",\"\",'TxDOT Fresh Test Data'!$B$34)","v":4},{"$f":"IF('TxDOT Fresh Test Data'!$K$27=\"\",\"\",'TxDOT Fresh Test Data'!$K$27)","v":"Meets Job Control Requirements"}]
[1297,{"$f":"IF('TxDOT Fresh Test Data'!$C$35=\"\",\"\",'TxDOT Fresh Test Data'!$C$35)","v":""},{"$f":"IF('TxDOT Fresh Test Data'!$C$21=\"\",\"\",'TxDOT Fresh Test Data'!$C$21)","v":"TxDOT:Fresh"},{"$f":"IF('TxDOT Fresh Test Data'!$B$35=\"\",\"\",'TxDOT Fresh Test Data'!$B$35)","v":5},{"$f":"IF('TxDOT Fresh Test Data'!$C$27=\"\",\"\",'TxDOT Fresh Test Data'!$C$27)","v":"Slump (inches)"},{"$f":"IF('TxDOT Fresh Test Data'!$C$30=\"\",\"\",'TxDOT Fresh Test Data'!$C$30)","v":"Tex-415-A"}]
[1298,{"$f":"IF('TxDOT Fresh Test Data'!$D$35=\"\",\"\",'TxDOT Fresh Test Data'!$D$35)","v":""},{"$f":"IF('TxDOT Fresh Test Data'!$C$21=\"\",\"\",'TxDOT Fresh Test Data'!$C$21)","v":"TxDOT:Fresh"},{"$f":"IF('TxDOT Fresh Test Data'!$B$35=\"\",\"\",'TxDOT Fresh Test Data'!$B$35)","v":5},{"$f":"IF('TxDOT Fresh Test Data'!$D$27=\"\",\"\",'TxDOT Fresh Test Data'!$D$27)","v":"Meets Job Control Requirements"}]
[1299,{"$f":"IF('TxDOT Fresh Test Data'!$E$35=\"\",\"\",'TxDOT Fresh Test Data'!$E$35)","v":""},{"$f":"IF('TxDOT Fresh Test Data'!$C$21=\"\",\"\",'TxDOT Fresh Test Data'!$C$21)","v":"TxDOT:Fresh"},{"$f":"IF('TxDOT Fresh Test Data'!$B$35=\"\",\"\",'TxDOT Fresh Test Data'!$B$35)","v":5},{"$f":"IF('TxDOT Fresh Test Data'!$E$27=\"\",\"\",'TxDOT Fresh Test Data'!$E$27)","v":"Temperature (°F)"},{"$f":"IF('TxDOT Fresh Test Data'!$E$30=\"\",\"\",'TxDOT Fresh Test Data'!$E$30)","v":"Tex-422-A"}]
[1300,{"$f":"IF('TxDOT Fresh Test Data'!$F$35=\"\",\"\",'TxDOT Fresh Test Data'!$F$35)","v":""},{"$f":"IF('TxDOT Fresh Test Data'!$C$21=\"\",\"\",'TxDOT Fresh Test Data'!$C$21)","v":"TxDOT:Fresh"},{"$f":"IF('TxDOT Fresh Test Data'!$B$35=\"\",\"\",'TxDOT Fresh Test Data'!$B$35)","v":5},{"$f":"IF('TxDOT Fresh Test Data'!$F$27=\"\",\"\",'TxDOT Fresh Test Data'!$F$27)","v":"Meets Job Control Requirements"}]
[1301,{"$f":"IF('TxDOT Fresh Test Data'!$G$35=\"\",\"\",'TxDOT Fresh Test Data'!$G$35)","v":""},{"$f":"IF('TxDOT Fresh Test Data'!$C$21=\"\",\"\",'TxDOT Fresh Test Data'!$C$21)","v":"TxDOT:Fresh"},{"$f":"IF('TxDOT Fresh Test Data'!$B$35=\"\",\"\",'TxDOT Fresh Test Data'!$B$35)","v":5},{"$f":"IF('TxDOT Fresh Test Data'!$G$27=\"\",\"\",'TxDOT Fresh Test Data'!$G$27)","v":"Air Content"},{"$f":"IF('TxDOT Fresh Test Data'!$G$29=\"\",\"\",'TxDOT Fresh Test Data'!$G$29)","v":"Uncorrected Air Content (%)"}]
[1302,{"$f":"IF('TxDOT Fresh Test Data'!$H$35=\"\",\"\",'TxDOT Fresh Test Data'!$H$35)","v":""},{"$f":"IF('TxDOT Fresh Test Data'!$C$21=\"\",\"\",'TxDOT Fresh Test Data'!$C$21)","v":"TxDOT:Fresh"},{"$f":"IF('TxDOT Fresh Test Data'!$B$35=\"\",\"\",'TxDOT Fresh Test Data'!$B$35)","v":5},{"$f":"IF('TxDOT Fresh Test Data'!$G$27=\"\",\"\",'TxDOT Fresh Test Data'!$G$27)","v":"Air Content"},{"$f":"IF('TxDOT Fresh Test Data'!$H$29=\"\",\"\",'TxDOT Fresh Test Data'!$H$29)","v":"Aggr. Correction Factor (%)"}]
[1303,{"$f":"IF('TxDOT Fresh Test Data'!$I$35=\"\",\"\",'TxDOT Fresh Test Data'!$I$35)","v":""},{"$f":"IF('TxDOT Fresh Test Data'!$C$21=\"\",\"\",'TxDOT Fresh Test Data'!$C$21)","v":"TxDOT:Fresh"},{"$f":"IF('TxDOT Fresh Test Data'!$B$35=\"\",\"\",'TxDOT Fresh Test Data'!$B$35)","v":5},{"$f":"IF('TxDOT Fresh Test Data'!$G$27=\"\",\"\",'TxDOT Fresh Test Data'!$G$27)","v":"Air Content"},{"$f":"IF('TxDOT Fresh Test Data'!$I$29=\"\",\"\",'TxDOT Fresh Test Data'!$I$29)","v":""}]
[1304,{"$f":"IF('TxDOT Fresh Test Data'!$J$35=\"\",\"\",'TxDOT Fresh Test Data'!$J$35)","v":""},{"$f":"IF('TxDOT Fresh Test Data'!$C$21=\"\",\"\",'TxDOT Fresh Test Data'!$C$21)","v":"TxDOT:Fresh"},{"$f":"IF('TxDOT Fresh Test Data'!$B$35=\"\",\"\",'TxDOT Fresh Test Data'!$B$35)","v":5},{"$f":"IF('TxDOT Fresh Test Data'!$G$27=\"\",\"\",'TxDOT Fresh Test Data'!$G$27)","v":"Air Content"},{"$f":"IF('TxDOT Fresh Test Data'!$J$29=\"\",\"\",'TxDOT Fresh Test Data'!$J$29)","v":"Corrected Air Content (%)"}]
[1305,{"$f":"IF('TxDOT Fresh Test Data'!$K$35=\"\",\"\",'TxDOT Fresh Test Data'!$K$35)","v":""},{"$f":"IF('TxDOT Fresh Test Data'!$C$21=\"\",\"\",'TxDOT Fresh Test Data'!$C$21)","v":"TxDOT:Fresh"},{"$f":"IF('TxDOT Fresh Test Data'!$B$35=\"\",\"\",'TxDOT Fresh Test Data'!$B$35)","v":5},{"$f":"IF('TxDOT Fresh Test Data'!$K$27=\"\",\"\",'TxDOT Fresh Test Data'!$K$27)","v":"Meets Job Control Requirements"}]
[1306,{"$f":"IF('TxDOT Fresh Test Data'!$C$36=\"\",\"\",'TxDOT Fresh Test Data'!$C$36)","v":""},{"$f":"IF('TxDOT Fresh Test Data'!$C$21=\"\",\"\",'TxDOT Fresh Test Data'!$C$21)","v":"TxDOT:Fresh"},{"$f":"IF('TxDOT Fresh Test Data'!$B$36=\"\",\"\",'TxDOT Fresh Test Data'!$B$36)","v":6},{"$f":"IF('TxDOT Fresh Test Data'!$C$27=\"\",\"\",'TxDOT Fresh Test Data'!$C$27)","v":"Slump (inches)"},{"$f":"IF('TxDOT Fresh Test Data'!$C$30=\"\",\"\",'TxDOT Fresh Test Data'!$C$30)","v":"Tex-415-A"}]
[1307,{"$f":"IF('TxDOT Fresh Test Data'!$D$36=\"\",\"\",'TxDOT Fresh Test Data'!$D$36)","v":""},{"$f":"IF('TxDOT Fresh Test Data'!$C$21=\"\",\"\",'TxDOT Fresh Test Data'!$C$21)","v":"TxDOT:Fresh"},{"$f":"IF('TxDOT Fresh Test Data'!$B$36=\"\",\"\",'TxDOT Fresh Test Data'!$B$36)","v":6},{"$f":"IF('TxDOT Fresh Test Data'!$D$27=\"\",\"\",'TxDOT Fresh Test Data'!$D$27)","v":"Meets Job Control Requirements"}]
[1308,{"$f":"IF('TxDOT Fresh Test Data'!$E$36=\"\",\"\",'TxDOT Fresh Test Data'!$E$36)","v":""},{"$f":"IF('TxDOT Fresh Test Data'!$C$21=\"\",\"\",'TxDOT Fresh Test Data'!$C$21)","v":"TxDOT:Fresh"},{"$f":"IF('TxDOT Fresh Test Data'!$B$36=\"\",\"\",'TxDOT Fresh Test Data'!$B$36)","v":6},{"$f":"IF('TxDOT Fresh Test Data'!$E$27=\"\",\"\",'TxDOT Fresh Test Data'!$E$27)","v":"Temperature (°F)"},{"$f":"IF('TxDOT Fresh Test Data'!$E$30=\"\",\"\",'TxDOT Fresh Test Data'!$E$30)","v":"Tex-422-A"}]
[1309,{"$f":"IF('TxDOT Fresh Test Data'!$F$36=\"\",\"\",'TxDOT Fresh Test Data'!$F$36)","v":""},{"$f":"IF('TxDOT Fresh Test Data'!$C$21=\"\",\"\",'TxDOT Fresh Test Data'!$C$21)","v":"TxDOT:Fresh"},{"$f":"IF('TxDOT Fresh Test Data'!$B$36=\"\",\"\",'TxDOT Fresh Test Data'!$B$36)","v":6},{"$f":"IF('TxDOT Fresh Test Data'!$F$27=\"\",\"\",'TxDOT Fresh Test Data'!$F$27)","v":"Meets Job Control Requirements"}]
[1310,{"$f":"IF('TxDOT Fresh Test Data'!$G$36=\"\",\"\",'TxDOT Fresh Test Data'!$G$36)","v":""},{"$f":"IF('TxDOT Fresh Test Data'!$C$21=\"\",\"\",'TxDOT Fresh Test Data'!$C$21)","v":"TxDOT:Fresh"},{"$f":"IF('TxDOT Fresh Test Data'!$B$36=\"\",\"\",'TxDOT Fresh Test Data'!$B$36)","v":6},{"$f":"IF('TxDOT Fresh Test Data'!$G$27=\"\",\"\",'TxDOT Fresh Test Data'!$G$27)","v":"Air Content"},{"$f":"IF('TxDOT Fresh Test Data'!$G$29=\"\",\"\",'TxDOT Fresh Test Data'!$G$29)","v":"Uncorrected Air Content (%)"}]
[1311,{"$f":"IF('TxDOT Fresh Test Data'!$H$36=\"\",\"\",'TxDOT Fresh Test Data'!$H$36)","v":""},{"$f":"IF('TxDOT Fresh Test Data'!$C$21=\"\",\"\",'TxDOT Fresh Test Data'!$C$21)","v":"TxDOT:Fresh"},{"$f":"IF('TxDOT Fresh Test Data'!$B$36=\"\",\"\",'TxDOT Fresh Test Data'!$B$36)","v":6},{"$f":"IF('TxDOT Fresh Test Data'!$G$27=\"\",\"\",'TxDOT Fresh Test Data'!$G$27)","v":"Air Content"},{"$f":"IF('TxDOT Fresh Test Data'!$H$29=\"\",\"\",'TxDOT Fresh Test Data'!$H$29)","v":"Aggr. Correction Factor (%)"}]
[1312,{"$f":"IF('TxDOT Fresh Test Data'!$I$36=\"\",\"\",'TxDOT Fresh Test Data'!$I$36)","v":""},{"$f":"IF('TxDOT Fresh Test Data'!$C$21=\"\",\"\",'TxDOT Fresh Test Data'!$C$21)","v":"TxDOT:Fresh"},{"$f":"IF('TxDOT Fresh Test Data'!$B$36=\"\",\"\",'TxDOT Fresh Test Data'!$B$36)","v":6},{"$f":"IF('TxDOT Fresh Test Data'!$G$27=\"\",\"\",'TxDOT Fresh Test Data'!$G$27)","v":"Air Content"},{"$f":"IF('TxDOT Fresh Test Data'!$I$29=\"\",\"\",'TxDOT Fresh Test Data'!$I$29)","v":""}]
[1313,{"$f":"IF('TxDOT Fresh Test Data'!$J$36=\"\",\"\",'TxDOT Fresh Test Data'!$J$36)","v":""},{"$f":"IF('TxDOT Fresh Test Data'!$C$21=\"\",\"\",'TxDOT Fresh Test Data'!$C$21)","v":"TxDOT:Fresh"},{"$f":"IF('TxDOT Fresh Test Data'!$B$36=\"\",\"\",'TxDOT Fresh Test Data'!$B$36)","v":6},{"$f":"IF('TxDOT Fresh Test Data'!$G$27=\"\",\"\",'TxDOT Fresh Test Data'!$G$27)","v":"Air Content"},{"$f":"IF('TxDOT Fresh Test Data'!$J$29=\"\",\"\",'TxDOT Fresh Test Data'!$J$29)","v":"Corrected Air Content (%)"}]
[1314,{"$f":"IF('TxDOT Fresh Test Data'!$K$36=\"\",\"\",'TxDOT Fresh Test Data'!$K$36)","v":""},{"$f":"IF('TxDOT Fresh Test Data'!$C$21=\"\",\"\",'TxDOT Fresh Test Data'!$C$21)","v":"TxDOT:Fresh"},{"$f":"IF('TxDOT Fresh Test Data'!$B$36=\"\",\"\",'TxDOT Fresh Test Data'!$B$36)","v":6},{"$f":"IF('TxDOT Fresh Test Data'!$K$27=\"\",\"\",'TxDOT Fresh Test Data'!$K$27)","v":"Meets Job Control Requirements"}]
[1315,{"$f":"IF('TxDOT Fresh Test Data'!$C$37=\"\",\"\",'TxDOT Fresh Test Data'!$C$37)","v":""},{"$f":"IF('TxDOT Fresh Test Data'!$C$21=\"\",\"\",'TxDOT Fresh Test Data'!$C$21)","v":"TxDOT:Fresh"},{"$f":"IF('TxDOT Fresh Test Data'!$B$37=\"\",\"\",'TxDOT Fresh Test Data'!$B$37)","v":7},{"$f":"IF('TxDOT Fresh Test Data'!$C$27=\"\",\"\",'TxDOT Fresh Test Data'!$C$27)","v":"Slump (inches)"},{"$f":"IF('TxDOT Fresh Test Data'!$C$30=\"\",\"\",'TxDOT Fresh Test Data'!$C$30)","v":"Tex-415-A"}]
[1316,{"$f":"IF('TxDOT Fresh Test Data'!$D$37=\"\",\"\",'TxDOT Fresh Test Data'!$D$37)","v":""},{"$f":"IF('TxDOT Fresh Test Data'!$C$21=\"\",\"\",'TxDOT Fresh Test Data'!$C$21)","v":"TxDOT:Fresh"},{"$f":"IF('TxDOT Fresh Test Data'!$B$37=\"\",\"\",'TxDOT Fresh Test Data'!$B$37)","v":7},{"$f":"IF('TxDOT Fresh Test Data'!$D$27=\"\",\"\",'TxDOT Fresh Test Data'!$D$27)","v":"Meets Job Control Requirements"}]
[1317,{"$f":"IF('TxDOT Fresh Test Data'!$E$37=\"\",\"\",'TxDOT Fresh Test Data'!$E$37)","v":""},{"$f":"IF('TxDOT Fresh Test Data'!$C$21=\"\",\"\",'TxDOT Fresh Test Data'!$C$21)","v":"TxDOT:Fresh"},{"$f":"IF('TxDOT Fresh Test Data'!$B$37=\"\",\"\",'TxDOT Fresh Test Data'!$B$37)","v":7},{"$f":"IF('TxDOT Fresh Test Data'!$E$27=\"\",\"\",'TxDOT Fresh Test Data'!$E$27)","v":"Temperature (°F)"},{"$f":"IF('TxDOT Fresh Test Data'!$E$30=\"\",\"\",'TxDOT Fresh Test Data'!$E$30)","v":"Tex-422-A"}]
[1318,{"$f":"IF('TxDOT Fresh Test Data'!$F$37=\"\",\"\",'TxDOT Fresh Test Data'!$F$37)","v":""},{"$f":"IF('TxDOT Fresh Test Data'!$C$21=\"\",\"\",'TxDOT Fresh Test Data'!$C$21)","v":"TxDOT:Fresh"},{"$f":"IF('TxDOT Fresh Test Data'!$B$37=\"\",\"\",'TxDOT Fresh Test Data'!$B$37)","v":7},{"$f":"IF('TxDOT Fresh Test Data'!$F$27=\"\",\"\",'TxDOT Fresh Test Data'!$F$27)","v":"Meets Job Control Requirements"}]
[1319,{"$f":"IF('TxDOT Fresh Test Data'!$G$37=\"\",\"\",'TxDOT Fresh Test Data'!$G$37)","v":""},{"$f":"IF('TxDOT Fresh Test Data'!$C$21=\"\",\"\",'TxDOT Fresh Test Data'!$C$21)","v":"TxDOT:Fresh"},{"$f":"IF('TxDOT Fresh Test Data'!$B$37=\"\",\"\",'TxDOT Fresh Test Data'!$B$37)","v":7},{"$f":"IF('TxDOT Fresh Test Data'!$G$27=\"\",\"\",'TxDOT Fresh Test Data'!$G$27)","v":"Air Content"},{"$f":"IF('TxDOT Fresh Test Data'!$G$29=\"\",\"\",'TxDOT Fresh Test Data'!$G$29)","v":"Uncorrected Air Content (%)"}]
[1320,{"$f":"IF('TxDOT Fresh Test Data'!$H$37=\"\",\"\",'TxDOT Fresh Test Data'!$H$37)","v":""},{"$f":"IF('TxDOT Fresh Test Data'!$C$21=\"\",\"\",'TxDOT Fresh Test Data'!$C$21)","v":"TxDOT:Fresh"},{"$f":"IF('TxDOT Fresh Test Data'!$B$37=\"\",\"\",'TxDOT Fresh Test Data'!$B$37)","v":7},{"$f":"IF('TxDOT Fresh Test Data'!$G$27=\"\",\"\",'TxDOT Fresh Test Data'!$G$27)","v":"Air Content"},{"$f":"IF('TxDOT Fresh Test Data'!$H$29=\"\",\"\",'TxDOT Fresh Test Data'!$H$29)","v":"Aggr. Correction Factor (%)"}]
[1321,{"$f":"IF('TxDOT Fresh Test Data'!$I$37=\"\",\"\",'TxDOT Fresh Test Data'!$I$37)","v":""},{"$f":"IF('TxDOT Fresh Test Data'!$C$21=\"\",\"\",'TxDOT Fresh Test Data'!$C$21)","v":"TxDOT:Fresh"},{"$f":"IF('TxDOT Fresh Test Data'!$B$37=\"\",\"\",'TxDOT Fresh Test Data'!$B$37)","v":7},{"$f":"IF('TxDOT Fresh Test Data'!$G$27=\"\",\"\",'TxDOT Fresh Test Data'!$G$27)","v":"Air Content"},{"$f":"IF('TxDOT Fresh Test Data'!$I$29=\"\",\"\",'TxDOT Fresh Test Data'!$I$29)","v":""}]
[1322,{"$f":"IF('TxDOT Fresh Test Data'!$J$37=\"\",\"\",'TxDOT Fresh Test Data'!$J$37)","v":""},{"$f":"IF('TxDOT Fresh Test Data'!$C$21=\"\",\"\",'TxDOT Fresh Test Data'!$C$21)","v":"TxDOT:Fresh"},{"$f":"IF('TxDOT Fresh Test Data'!$B$37=\"\",\"\",'TxDOT Fresh Test Data'!$B$37)","v":7},{"$f":"IF('TxDOT Fresh Test Data'!$G$27=\"\",\"\",'TxDOT Fresh Test Data'!$G$27)","v":"Air Content"},{"$f":"IF('TxDOT Fresh Test Data'!$J$29=\"\",\"\",'TxDOT Fresh Test Data'!$J$29)","v":"Corrected Air Content (%)"}]
[1323,{"$f":"IF('TxDOT Fresh Test Data'!$K$37=\"\",\"\",'TxDOT Fresh Test Data'!$K$37)","v":""},{"$f":"IF('TxDOT Fresh Test Data'!$C$21=\"\",\"\",'TxDOT Fresh Test Data'!$C$21)","v":"TxDOT:Fresh"},{"$f":"IF('TxDOT Fresh Test Data'!$B$37=\"\",\"\",'TxDOT Fresh Test Data'!$B$37)","v":7},{"$f":"IF('TxDOT Fresh Test Data'!$K$27=\"\",\"\",'TxDOT Fresh Test Data'!$K$27)","v":"Meets Job Control Requirements"}]
[1324,{"$f":"IF('TxDOT Fresh Test Data'!$C$38=\"\",\"\",'TxDOT Fresh Test Data'!$C$38)","v":""},{"$f":"IF('TxDOT Fresh Test Data'!$C$21=\"\",\"\",'TxDOT Fresh Test Data'!$C$21)","v":"TxDOT:Fresh"},{"$f":"IF('TxDOT Fresh Test Data'!$B$38=\"\",\"\",'TxDOT Fresh Test Data'!$B$38)","v":8},{"$f":"IF('TxDOT Fresh Test Data'!$C$27=\"\",\"\",'TxDOT Fresh Test Data'!$C$27)","v":"Slump (inches)"},{"$f":"IF('TxDOT Fresh Test Data'!$C$30=\"\",\"\",'TxDOT Fresh Test Data'!$C$30)","v":"Tex-415-A"}]
[1325,{"$f":"IF('TxDOT Fresh Test Data'!$D$38=\"\",\"\",'TxDOT Fresh Test Data'!$D$38)","v":""},{"$f":"IF('TxDOT Fresh Test Data'!$C$21=\"\",\"\",'TxDOT Fresh Test Data'!$C$21)","v":"TxDOT:Fresh"},{"$f":"IF('TxDOT Fresh Test Data'!$B$38=\"\",\"\",'TxDOT Fresh Test Data'!$B$38)","v":8},{"$f":"IF('TxDOT Fresh Test Data'!$D$27=\"\",\"\",'TxDOT Fresh Test Data'!$D$27)","v":"Meets Job Control Requirements"}]
[1326,{"$f":"IF('TxDOT Fresh Test Data'!$E$38=\"\",\"\",'TxDOT Fresh Test Data'!$E$38)","v":""},{"$f":"IF('TxDOT Fresh Test Data'!$C$21=\"\",\"\",'TxDOT Fresh Test Data'!$C$21)","v":"TxDOT:Fresh"},{"$f":"IF('TxDOT Fresh Test Data'!$B$38=\"\",\"\",'TxDOT Fresh Test Data'!$B$38)","v":8},{"$f":"IF('TxDOT Fresh Test Data'!$E$27=\"\",\"\",'TxDOT Fresh Test Data'!$E$27)","v":"Temperature (°F)"},{"$f":"IF('TxDOT Fresh Test Data'!$E$30=\"\",\"\",'TxDOT Fresh Test Data'!$E$30)","v":"Tex-422-A"}]
[1327,{"$f":"IF('TxDOT Fresh Test Data'!$F$38=\"\",\"\",'TxDOT Fresh Test Data'!$F$38)","v":""},{"$f":"IF('TxDOT Fresh Test Data'!$C$21=\"\",\"\",'TxDOT Fresh Test Data'!$C$21)","v":"TxDOT:Fresh"},{"$f":"IF('TxDOT Fresh Test Data'!$B$38=\"\",\"\",'TxDOT Fresh Test Data'!$B$38)","v":8},{"$f":"IF('TxDOT Fresh Test Data'!$F$27=\"\",\"\",'TxDOT Fresh Test Data'!$F$27)","v":"Meets Job Control Requirements"}]
[1328,{"$f":"IF('TxDOT Fresh Test Data'!$G$38=\"\",\"\",'TxDOT Fresh Test Data'!$G$38)","v":""},{"$f":"IF('TxDOT Fresh Test Data'!$C$21=\"\",\"\",'TxDOT Fresh Test Data'!$C$21)","v":"TxDOT:Fresh"},{"$f":"IF('TxDOT Fresh Test Data'!$B$38=\"\",\"\",'TxDOT Fresh Test Data'!$B$38)","v":8},{"$f":"IF('TxDOT Fresh Test Data'!$G$27=\"\",\"\",'TxDOT Fresh Test Data'!$G$27)","v":"Air Content"},{"$f":"IF('TxDOT Fresh Test Data'!$G$29=\"\",\"\",'TxDOT Fresh Test Data'!$G$29)","v":"Uncorrected Air Content (%)"}]
[1329,{"$f":"IF('TxDOT Fresh Test Data'!$H$38=\"\",\"\",'TxDOT Fresh Test Data'!$H$38)","v":""},{"$f":"IF('TxDOT Fresh Test Data'!$C$21=\"\",\"\",'TxDOT Fresh Test Data'!$C$21)","v":"TxDOT:Fresh"},{"$f":"IF('TxDOT Fresh Test Data'!$B$38=\"\",\"\",'TxDOT Fresh Test Data'!$B$38)","v":8},{"$f":"IF('TxDOT Fresh Test Data'!$G$27=\"\",\"\",'TxDOT Fresh Test Data'!$G$27)","v":"Air Content"},{"$f":"IF('TxDOT Fresh Test Data'!$H$29=\"\",\"\",'TxDOT Fresh Test Data'!$H$29)","v":"Aggr. Correction Factor (%)"}]
[1330,{"$f":"IF('TxDOT Fresh Test Data'!$I$38=\"\",\"\",'TxDOT Fresh Test Data'!$I$38)","v":""},{"$f":"IF('TxDOT Fresh Test Data'!$C$21=\"\",\"\",'TxDOT Fresh Test Data'!$C$21)","v":"TxDOT:Fresh"},{"$f":"IF('TxDOT Fresh Test Data'!$B$38=\"\",\"\",'TxDOT Fresh Test Data'!$B$38)","v":8},{"$f":"IF('TxDOT Fresh Test Data'!$G$27=\"\",\"\",'TxDOT Fresh Test Data'!$G$27)","v":"Air Content"},{"$f":"IF('TxDOT Fresh Test Data'!$I$29=\"\",\"\",'TxDOT Fresh Test Data'!$I$29)","v":""}]
[1331,{"$f":"IF('TxDOT Fresh Test Data'!$J$38=\"\",\"\",'TxDOT Fresh Test Data'!$J$38)","v":""},{"$f":"IF('TxDOT Fresh Test Data'!$C$21=\"\",\"\",'TxDOT Fresh Test Data'!$C$21)","v":"TxDOT:Fresh"},{"$f":"IF('TxDOT Fresh Test Data'!$B$38=\"\",\"\",'TxDOT Fresh Test Data'!$B$38)","v":8},{"$f":"IF('TxDOT Fresh Test Data'!$G$27=\"\",\"\",'TxDOT Fresh Test Data'!$G$27)","v":"Air Content"},{"$f":"IF('TxDOT Fresh Test Data'!$J$29=\"\",\"\",'TxDOT Fresh Test Data'!$J$29)","v":"Corrected Air Content (%)"}]
[1332,{"$f":"IF('TxDOT Fresh Test Data'!$K$38=\"\",\"\",'TxDOT Fresh Test Data'!$K$38)","v":""},{"$f":"IF('TxDOT Fresh Test Data'!$C$21=\"\",\"\",'TxDOT Fresh Test Data'!$C$21)","v":"TxDOT:Fresh"},{"$f":"IF('TxDOT Fresh Test Data'!$B$38=\"\",\"\",'TxDOT Fresh Test Data'!$B$38)","v":8},{"$f":"IF('TxDOT Fresh Test Data'!$K$27=\"\",\"\",'TxDOT Fresh Test Data'!$K$27)","v":"Meets Job Control Requirements"}]
[1333,{"$f":"IF('TxDOT Fresh Test Data'!$C$39=\"\",\"\",'TxDOT Fresh Test Data'!$C$39)","v":""},{"$f":"IF('TxDOT Fresh Test Data'!$C$21=\"\",\"\",'TxDOT Fresh Test Data'!$C$21)","v":"TxDOT:Fresh"},{"$f":"IF('TxDOT Fresh Test Data'!$B$39=\"\",\"\",'TxDOT Fresh Test Data'!$B$39)","v":9},{"$f":"IF('TxDOT Fresh Test Data'!$C$27=\"\",\"\",'TxDOT Fresh Test Data'!$C$27)","v":"Slump (inches)"},{"$f":"IF('TxDOT Fresh Test Data'!$C$30=\"\",\"\",'TxDOT Fresh Test Data'!$C$30)","v":"Tex-415-A"}]
[1334,{"$f":"IF('TxDOT Fresh Test Data'!$D$39=\"\",\"\",'TxDOT Fresh Test Data'!$D$39)","v":""},{"$f":"IF('TxDOT Fresh Test Data'!$C$21=\"\",\"\",'TxDOT Fresh Test Data'!$C$21)","v":"TxDOT:Fresh"},{"$f":"IF('TxDOT Fresh Test Data'!$B$39=\"\",\"\",'TxDOT Fresh Test Data'!$B$39)","v":9},{"$f":"IF('TxDOT Fresh Test Data'!$D$27=\"\",\"\",'TxDOT Fresh Test Data'!$D$27)","v":"Meets Job Control Requirements"}]
[1335,{"$f":"IF('TxDOT Fresh Test Data'!$E$39=\"\",\"\",'TxDOT Fresh Test Data'!$E$39)","v":""},{"$f":"IF('TxDOT Fresh Test Data'!$C$21=\"\",\"\",'TxDOT Fresh Test Data'!$C$21)","v":"TxDOT:Fresh"},{"$f":"IF('TxDOT Fresh Test Data'!$B$39=\"\",\"\",'TxDOT Fresh Test Data'!$B$39)","v":9},{"$f":"IF('TxDOT Fresh Test Data'!$E$27=\"\",\"\",'TxDOT Fresh Test Data'!$E$27)","v":"Temperature (°F)"},{"$f":"IF('TxDOT Fresh Test Data'!$E$30=\"\",\"\",'TxDOT Fresh Test Data'!$E$30)","v":"Tex-422-A"}]
[1336,{"$f":"IF('TxDOT Fresh Test Data'!$F$39=\"\",\"\",'TxDOT Fresh Test Data'!$F$39)","v":""},{"$f":"IF('TxDOT Fresh Test Data'!$C$21=\"\",\"\",'TxDOT Fresh Test Data'!$C$21)","v":"TxDOT:Fresh"},{"$f":"IF('TxDOT Fresh Test Data'!$B$39=\"\",\"\",'TxDOT Fresh Test Data'!$B$39)","v":9},{"$f":"IF('TxDOT Fresh Test Data'!$F$27=\"\",\"\",'TxDOT Fresh Test Data'!$F$27)","v":"Meets Job Control Requirements"}]
[1337,{"$f":"IF('TxDOT Fresh Test Data'!$G$39=\"\",\"\",'TxDOT Fresh Test Data'!$G$39)","v":""},{"$f":"IF('TxDOT Fresh Test Data'!$C$21=\"\",\"\",'TxDOT Fresh Test Data'!$C$21)","v":"TxDOT:Fresh"},{"$f":"IF('TxDOT Fresh Test Data'!$B$39=\"\",\"\",'TxDOT Fresh Test Data'!$B$39)","v":9},{"$f":"IF('TxDOT Fresh Test Data'!$G$27=\"\",\"\",'TxDOT Fresh Test Data'!$G$27)","v":"Air Content"},{"$f":"IF('TxDOT Fresh Test Data'!$G$29=\"\",\"\",'TxDOT Fresh Test Data'!$G$29)","v":"Uncorrected Air Content (%)"}]
[1338,{"$f":"IF('TxDOT Fresh Test Data'!$H$39=\"\",\"\",'TxDOT Fresh Test Data'!$H$39)","v":""},{"$f":"IF('TxDOT Fresh Test Data'!$C$21=\"\",\"\",'TxDOT Fresh Test Data'!$C$21)","v":"TxDOT:Fresh"},{"$f":"IF('TxDOT Fresh Test Data'!$B$39=\"\",\"\",'TxDOT Fresh Test Data'!$B$39)","v":9},{"$f":"IF('TxDOT Fresh Test Data'!$G$27=\"\",\"\",'TxDOT Fresh Test Data'!$G$27)","v":"Air Content"},{"$f":"IF('TxDOT Fresh Test Data'!$H$29=\"\",\"\",'TxDOT Fresh Test Data'!$H$29)","v":"Aggr. Correction Factor (%)"}]
[1339,{"$f":"IF('TxDOT Fresh Test Data'!$I$39=\"\",\"\",'TxDOT Fresh Test Data'!$I$39)","v":""},{"$f":"IF('TxDOT Fresh Test Data'!$C$21=\"\",\"\",'TxDOT Fresh Test Data'!$C$21)","v":"TxDOT:Fresh"},{"$f":"IF('TxDOT Fresh Test Data'!$B$39=\"\",\"\",'TxDOT Fresh Test Data'!$B$39)","v":9},{"$f":"IF('TxDOT Fresh Test Data'!$G$27=\"\",\"\",'TxDOT Fresh Test Data'!$G$27)","v":"Air Content"},{"$f":"IF('TxDOT Fresh Test Data'!$I$29=\"\",\"\",'TxDOT Fresh Test Data'!$I$29)","v":""}]
[1340,{"$f":"IF('TxDOT Fresh Test Data'!$J$39=\"\",\"\",'TxDOT Fresh Test Data'!$J$39)","v":""},{"$f":"IF('TxDOT Fresh Test Data'!$C$21=\"\",\"\",'TxDOT Fresh Test Data'!$C$21)","v":"TxDOT:Fresh"},{"$f":"IF('TxDOT Fresh Test Data'!$B$39=\"\",\"\",'TxDOT Fresh Test Data'!$B$39)","v":9},{"$f":"IF('TxDOT Fresh Test Data'!$G$27=\"\",\"\",'TxDOT Fresh Test Data'!$G$27)","v":"Air Content"},{"$f":"IF('TxDOT Fresh Test Data'!$J$29=\"\",\"\",'TxDOT Fresh Test Data'!$J$29)","v":"Corrected Air Content (%)"}]
[1341,{"$f":"IF('TxDOT Fresh Test Data'!$K$39=\"\",\"\",'TxDOT Fresh Test Data'!$K$39)","v":""},{"$f":"IF('TxDOT Fresh Test Data'!$C$21=\"\",\"\",'TxDOT Fresh Test Data'!$C$21)","v":"TxDOT:Fresh"},{"$f":"IF('TxDOT Fresh Test Data'!$B$39=\"\",\"\",'TxDOT Fresh Test Data'!$B$39)","v":9},{"$f":"IF('TxDOT Fresh Test Data'!$K$27=\"\",\"\",'TxDOT Fresh Test Data'!$K$27)","v":"Meets Job Control Requirements"}]
[1342,{"$f":"IF('TxDOT Fresh Test Data'!$C$40=\"\",\"\",'TxDOT Fresh Test Data'!$C$40)","v":""},{"$f":"IF('TxDOT Fresh Test Data'!$C$21=\"\",\"\",'TxDOT Fresh Test Data'!$C$21)","v":"TxDOT:Fresh"},{"$f":"IF('TxDOT Fresh Test Data'!$B$40=\"\",\"\",'TxDOT Fresh Test Data'!$B$40)","v":10},{"$f":"IF('TxDOT Fresh Test Data'!$C$27=\"\",\"\",'TxDOT Fresh Test Data'!$C$27)","v":"Slump (inches)"},{"$f":"IF('TxDOT Fresh Test Data'!$C$30=\"\",\"\",'TxDOT Fresh Test Data'!$C$30)","v":"Tex-415-A"}]
[1343,{"$f":"IF('TxDOT Fresh Test Data'!$D$40=\"\",\"\",'TxDOT Fresh Test Data'!$D$40)","v":""},{"$f":"IF('TxDOT Fresh Test Data'!$C$21=\"\",\"\",'TxDOT Fresh Test Data'!$C$21)","v":"TxDOT:Fresh"},{"$f":"IF('TxDOT Fresh Test Data'!$B$40=\"\",\"\",'TxDOT Fresh Test Data'!$B$40)","v":10},{"$f":"IF('TxDOT Fresh Test Data'!$D$27=\"\",\"\",'TxDOT Fresh Test Data'!$D$27)","v":"Meets Job Control Requirements"}]
[1344,{"$f":"IF('TxDOT Fresh Test Data'!$E$40=\"\",\"\",'TxDOT Fresh Test Data'!$E$40)","v":""},{"$f":"IF('TxDOT Fresh Test Data'!$C$21=\"\",\"\",'TxDOT Fresh Test Data'!$C$21)","v":"TxDOT:Fresh"},{"$f":"IF('TxDOT Fresh Test Data'!$B$40=\"\",\"\",'TxDOT Fresh Test Data'!$B$40)","v":10},{"$f":"IF('TxDOT Fresh Test Data'!$E$27=\"\",\"\",'TxDOT Fresh Test Data'!$E$27)","v":"Temperature (°F)"},{"$f":"IF('TxDOT Fresh Test Data'!$E$30=\"\",\"\",'TxDOT Fresh Test Data'!$E$30)","v":"Tex-422-A"}]
[1345,{"$f":"IF('TxDOT Fresh Test Data'!$F$40=\"\",\"\",'TxDOT Fresh Test Data'!$F$40)","v":""},{"$f":"IF('TxDOT Fresh Test Data'!$C$21=\"\",\"\",'TxDOT Fresh Test Data'!$C$21)","v":"TxDOT:Fresh"},{"$f":"IF('TxDOT Fresh Test Data'!$B$40=\"\",\"\",'TxDOT Fresh Test Data'!$B$40)","v":10},{"$f":"IF('TxDOT Fresh Test Data'!$F$27=\"\",\"\",'TxDOT Fresh Test Data'!$F$27)","v":"Meets Job Control Requirements"}]
[1346,{"$f":"IF('TxDOT Fresh Test Data'!$G$40=\"\",\"\",'TxDOT Fresh Test Data'!$G$40)","v":""},{"$f":"IF('TxDOT Fresh Test Data'!$C$21=\"\",\"\",'TxDOT Fresh Test Data'!$C$21)","v":"TxDOT:Fresh"},{"$f":"IF('TxDOT Fresh Test Data'!$B$40=\"\",\"\",'TxDOT Fresh Test Data'!$B$40)","v":10},{"$f":"IF('TxDOT Fresh Test Data'!$G$27=\"\",\"\",'TxDOT Fresh Test Data'!$G$27)","v":"Air Content"},{"$f":"IF('TxDOT Fresh Test Data'!$G$29=\"\",\"\",'TxDOT Fresh Test Data'!$G$29)","v":"Uncorrected Air Content (%)"}]
[1347,{"$f":"IF('TxDOT Fresh Test Data'!$H$40=\"\",\"\",'TxDOT Fresh Test Data'!$H$40)","v":""},{"$f":"IF('TxDOT Fresh Test Data'!$C$21=\"\",\"\",'TxDOT Fresh Test Data'!$C$21)","v":"TxDOT:Fresh"},{"$f":"IF('TxDOT Fresh Test Data'!$B$40=\"\",\"\",'TxDOT Fresh Test Data'!$B$40)","v":10},{"$f":"IF('TxDOT Fresh Test Data'!$G$27=\"\",\"\",'TxDOT Fresh Test Data'!$G$27)","v":"Air Content"},{"$f":"IF('TxDOT Fresh Test Data'!$H$29=\"\",\"\",'TxDOT Fresh Test Data'!$H$29)","v":"Aggr. Correction Factor (%)"}]
[1348,{"$f":"IF('TxDOT Fresh Test Data'!$I$40=\"\",\"\",'TxDOT Fresh Test Data'!$I$40)","v":""},{"$f":"IF('TxDOT Fresh Test Data'!$C$21=\"\",\"\",'TxDOT Fresh Test Data'!$C$21)","v":"TxDOT:Fresh"},{"$f":"IF('TxDOT Fresh Test Data'!$B$40=\"\",\"\",'TxDOT Fresh Test Data'!$B$40)","v":10},{"$f":"IF('TxDOT Fresh Test Data'!$G$27=\"\",\"\",'TxDOT Fresh Test Data'!$G$27)","v":"Air Content"},{"$f":"IF('TxDOT Fresh Test Data'!$I$29=\"\",\"\",'TxDOT Fresh Test Data'!$I$29)","v":""}]
[1349,{"$f":"IF('TxDOT Fresh Test Data'!$J$40=\"\",\"\",'TxDOT Fresh Test Data'!$J$40)","v":""},{"$f":"IF('TxDOT Fresh Test Data'!$C$21=\"\",\"\",'TxDOT Fresh Test Data'!$C$21)","v":"TxDOT:Fresh"},{"$f":"IF('TxDOT Fresh Test Data'!$B$40=\"\",\"\",'TxDOT Fresh Test Data'!$B$40)","v":10},{"$f":"IF('TxDOT Fresh Test Data'!$G$27=\"\",\"\",'TxDOT Fresh Test Data'!$G$27)","v":"Air Content"},{"$f":"IF('TxDOT Fresh Test Data'!$J$29=\"\",\"\",'TxDOT Fresh Test Data'!$J$29)","v":"Corrected Air Content (%)"}]
[1350,{"$f":"IF('TxDOT Fresh Test Data'!$K$40=\"\",\"\",'TxDOT Fresh Test Data'!$K$40)","v":""},{"$f":"IF('TxDOT Fresh Test Data'!$C$21=\"\",\"\",'TxDOT Fresh Test Data'!$C$21)","v":"TxDOT:Fresh"},{"$f":"IF('TxDOT Fresh Test Data'!$B$40=\"\",\"\",'TxDOT Fresh Test Data'!$B$40)","v":10},{"$f":"IF('TxDOT Fresh Test Data'!$K$27=\"\",\"\",'TxDOT Fresh Test Data'!$K$27)","v":"Meets Job Control Requirements"}]
[1351,{"$f":"IF('TxDOT Fresh Test Data'!$N$31=\"\",\"\",'TxDOT Fresh Test Data'!$N$31)","v":""},{"$f":"IF('TxDOT Fresh Test Data'!$C$21=\"\",\"\",'TxDOT Fresh Test Data'!$C$21)","v":"TxDOT:Fresh"},{"$f":"IF('TxDOT Fresh Test Data'!$O$31=\"\",\"\",'TxDOT Fresh Test Data'!$O$31)","v":"Minimum Air Content Tolerance"}]
[1352,{"$f":"IF('TxDOT Fresh Test Data'!$N$32=\"\",\"\",'TxDOT Fresh Test Data'!$N$32)","v":""},{"$f":"IF('TxDOT Fresh Test Data'!$C$21=\"\",\"\",'TxDOT Fresh Test Data'!$C$21)","v":"TxDOT:Fresh"},{"$f":"IF('TxDOT Fresh Test Data'!$O$32=\"\",\"\",'TxDOT Fresh Test Data'!$O$32)","v":"Maximum Air Content Tolerance"}]
[1353,{"$f":"IF('TxDOT Fresh Test Data'!$N$33=\"\",\"\",'TxDOT Fresh Test Data'!$N$33)","v":""},{"$f":"IF('TxDOT Fresh Test Data'!$C$21=\"\",\"\",'TxDOT Fresh Test Data'!$C$21)","v":"TxDOT:Fresh"},{"$f":"IF('TxDOT Fresh Test Data'!$O$33=\"\",\"\",'TxDOT Fresh Test Data'!$O$33)","v":"Maximum Air Content Tolerance with Special Circumstances"}]
[1354,{"$f":"IF('Contractor Fresh Test Data'!$E$22=\"\",\"\",'Contractor Fresh Test Data'!$E$22)","v":""},{"$f":"IF('Contractor Fresh Test Data'!$C$21=\"\",\"\",'Contractor Fresh Test Data'!$C$21)","v":"Contractor:Fresh"},{"$f":"IF('Contractor Fresh Test Data'!$C$22=\"\",\"\",'Contractor Fresh Test Data'!$C$22)","v":"Method of Placement: "}]
[1355,{"$f":"IF('Contractor Fresh Test Data'!$J$22=\"\",\"\",'Contractor Fresh Test Data'!$J$22)","v":""},{"$f":"IF('Contractor Fresh Test Data'!$C$21=\"\",\"\",'Contractor Fresh Test Data'!$C$21)","v":"Contractor:Fresh"},{"$f":"IF('Contractor Fresh Test Data'!$F$22=\"\",\"\",'Contractor Fresh Test Data'!$F$22)","v":"Maximum Acceptable Placement Slump (inches): "}]
[1356,{"$f":"IF('Contractor Fresh Test Data'!$F$23=\"\",\"\",'Contractor Fresh Test Data'!$F$23)","v":40},{"$f":"IF('Contractor Fresh Test Data'!$C$21=\"\",\"\",'Contractor Fresh Test Data'!$C$21)","v":"Contractor:Fresh"},{"$f":"IF('Contractor Fresh Test Data'!$C$23=\"\",\"\",'Contractor Fresh Test Data'!$C$23)","v":"Minimum Concrete Temperature (°F): "}]
[1357,{"$f":"IF('Contractor Fresh Test Data'!$J$23=\"\",\"\",'Contractor Fresh Test Data'!$J$23)","v":95},{"$f":"IF('Contractor Fresh Test Data'!$C$21=\"\",\"\",'Contractor Fresh Test Data'!$C$21)","v":"Contractor:Fresh"},{"$f":"IF('Contractor Fresh Test Data'!$G$23=\"\",\"\",'Contractor Fresh Test Data'!$G$23)","v":"Maximum Concrete Temperature (°F): "}]
[1358,{"$f":"IF('Contractor Fresh Test Data'!$E$24=\"\",\"\",'Contractor Fresh Test Data'!$E$24)","v":""},{"$f":"IF('Contractor Fresh Test Data'!$C$21=\"\",\"\",'Contractor Fresh Test Data'!$C$21)","v":"Contractor:Fresh"},{"$f":"IF('Contractor Fresh Test Data'!$C$24=\"\",\"\",'Contractor Fresh Test Data'!$C$24)","v":"Target Air Content (%): "}]
[1359,{"$f":"IF('Contractor Fresh Test Data'!$F$24=\"\",\"\",'Contractor Fresh Test Data'!$F$24)","v":""},{"$f":"IF('Contractor Fresh Test Data'!$C$21=\"\",\"\",'Contractor Fresh Test Data'!$C$21)","v":"Contractor:Fresh"},{"$f":"IF('Contractor Fresh Test Data'!$C$24=\"\",\"\",'Contractor Fresh Test Data'!$C$24)","v":"Target Air Content (%): "}]
[1360,{"$f":"IF('Contractor Fresh Test Data'!$I$28=\"\",\"\",'Contractor Fresh Test Data'!$I$28)","v":""},{"$f":"IF('Contractor Fresh Test Data'!$C$21=\"\",\"\",'Contractor Fresh Test Data'!$C$21)","v":"Contractor:Fresh"},{"$f":"IF('Contractor Fresh Test Data'!$H$28=\"\",\"\",'Contractor Fresh Test Data'!$H$28)","v":"Test Method:"}]
[1361,{"$f":"IF('Contractor Fresh Test Data'!$C$31=\"\",\"\",'Contractor Fresh Test Data'!$C$31)","v":""},{"$f":"IF('Contractor Fresh Test Data'!$C$21=\"\",\"\",'Contractor Fresh Test Data'!$C$21)","v":"Contractor:Fresh"},{"$f":"IF('Contractor Fresh Test Data'!$B$31=\"\",\"\",'Contractor Fresh Test Data'!$B$31)","v":1},{"$f":"IF('Contractor Fresh Test Data'!$C$27=\"\",\"\",'Contractor Fresh Test Data'!$C$27)","v":"Slump (inches)"},{"$f":"IF('Contractor Fresh Test Data'!$C$30=\"\",\"\",'Contractor Fresh Test Data'!$C$30)","v":"Tex-415-A"}]
[1362,{"$f":"IF('Contractor Fresh Test Data'!$D$31=\"\",\"\",'Contractor Fresh Test Data'!$D$31)","v":""},{"$f":"IF('Contractor Fresh Test Data'!$C$21=\"\",\"\",'Contractor Fresh Test Data'!$C$21)","v":"Contractor:Fresh"},{"$f":"IF('Contractor Fresh Test Data'!$B$31=\"\",\"\",'Contractor Fresh Test Data'!$B$31)","v":1},{"$f":"IF('Contractor Fresh Test Data'!$D$27=\"\",\"\",'Contractor Fresh Test Data'!$D$27)","v":"Meets Job Control Requirements"}]
[1363,{"$f":"IF('Contractor Fresh Test Data'!$E$31=\"\",\"\",'Contractor Fresh Test Data'!$E$31)","v":""},{"$f":"IF('Contractor Fresh Test Data'!$C$21=\"\",\"\",'Contractor Fresh Test Data'!$C$21)","v":"Contractor:Fresh"},{"$f":"IF('Contractor Fresh Test Data'!$B$31=\"\",\"\",'Contractor Fresh Test Data'!$B$31)","v":1},{"$f":"IF('Contractor Fresh Test Data'!$E$27=\"\",\"\",'Contractor Fresh Test Data'!$E$27)","v":"Temperature (°F)"},{"$f":"IF('Contractor Fresh Test Data'!$E$30=\"\",\"\",'Contractor Fresh Test Data'!$E$30)","v":"Tex-422-A"}]
[1364,{"$f":"IF('Contractor Fresh Test Data'!$F$31=\"\",\"\",'Contractor Fresh Test Data'!$F$31)","v":""},{"$f":"IF('Contractor Fresh Test Data'!$C$21=\"\",\"\",'Contractor Fresh Test Data'!$C$21)","v":"Contractor:Fresh"},{"$f":"IF('Contractor Fresh Test Data'!$B$31=\"\",\"\",'Contractor Fresh Test Data'!$B$31)","v":1},{"$f":"IF('Contractor Fresh Test Data'!$F$27=\"\",\"\",'Contractor Fresh Test Data'!$F$27)","v":"Meets Job Control Requirements"}]
[1365,{"$f":"IF('Contractor Fresh Test Data'!$G$31=\"\",\"\",'Contractor Fresh Test Data'!$G$31)","v":""},{"$f":"IF('Contractor Fresh Test Data'!$C$21=\"\",\"\",'Contractor Fresh Test Data'!$C$21)","v":"Contractor:Fresh"},{"$f":"IF('Contractor Fresh Test Data'!$B$31=\"\",\"\",'Contractor Fresh Test Data'!$B$31)","v":1},{"$f":"IF('Contractor Fresh Test Data'!$G$27=\"\",\"\",'Contractor Fresh Test Data'!$G$27)","v":"Air Content"},{"$f":"IF('Contractor Fresh Test Data'!$G$29=\"\",\"\",'Contractor Fresh Test Data'!$G$29)","v":"Uncorrected Air Content (%)"}]
[1366,{"$f":"IF('Contractor Fresh Test Data'!$H$31=\"\",\"\",'Contractor Fresh Test Data'!$H$31)","v":""},{"$f":"IF('Contractor Fresh Test Data'!$C$21=\"\",\"\",'Contractor Fresh Test Data'!$C$21)","v":"Contractor:Fresh"},{"$f":"IF('Contractor Fresh Test Data'!$B$31=\"\",\"\",'Contractor Fresh Test Data'!$B$31)","v":1},{"$f":"IF('Contractor Fresh Test Data'!$G$27=\"\",\"\",'Contractor Fresh Test Data'!$G$27)","v":"Air Content"},{"$f":"IF('Contractor Fresh Test Data'!$H$29=\"\",\"\",'Contractor Fresh Test Data'!$H$29)","v":"Aggr. Correction Factor (%)"}]
[1367,{"$f":"IF('Contractor Fresh Test Data'!$I$31=\"\",\"\",'Contractor Fresh Test Data'!$I$31)","v":""},{"$f":"IF('Contractor Fresh Test Data'!$C$21=\"\",\"\",'Contractor Fresh Test Data'!$C$21)","v":"Contractor:Fresh"},{"$f":"IF('Contractor Fresh Test Data'!$B$31=\"\",\"\",'Contractor Fresh Test Data'!$B$31)","v":1},{"$f":"IF('Contractor Fresh Test Data'!$G$27=\"\",\"\",'Contractor Fresh Test Data'!$G$27)","v":"Air Content"},{"$f":"IF('Contractor Fresh Test Data'!$I$29=\"\",\"\",'Contractor Fresh Test Data'!$I$29)","v":""}]
[1368,{"$f":"IF('Contractor Fresh Test Data'!$J$31=\"\",\"\",'Contractor Fresh Test Data'!$J$31)","v":""},{"$f":"IF('Contractor Fresh Test Data'!$C$21=\"\",\"\",'Contractor Fresh Test Data'!$C$21)","v":"Contractor:Fresh"},{"$f":"IF('Contractor Fresh Test Data'!$B$31=\"\",\"\",'Contractor Fresh Test Data'!$B$31)","v":1},{"$f":"IF('Contractor Fresh Test Data'!$G$27=\"\",\"\",'Contractor Fresh Test Data'!$G$27)","v":"Air Content"},{"$f":"IF('Contractor Fresh Test Data'!$J$29=\"\",\"\",'Contractor Fresh Test Data'!$J$29)","v":"Corrected Air Content (%)"}]
[1369,{"$f":"IF('Contractor Fresh Test Data'!$K$31=\"\",\"\",'Contractor Fresh Test Data'!$K$31)","v":""},{"$f":"IF('Contractor Fresh Test Data'!$C$21=\"\",\"\",'Contractor Fresh Test Data'!$C$21)","v":"Contractor:Fresh"},{"$f":"IF('Contractor Fresh Test Data'!$B$31=\"\",\"\",'Contractor Fresh Test Data'!$B$31)","v":1},{"$f":"IF('Contractor Fresh Test Data'!$K$27=\"\",\"\",'Contractor Fresh Test Data'!$K$27)","v":"Meets Job Control Requirements"}]
[1370,{"$f":"IF('Contractor Fresh Test Data'!$C$32=\"\",\"\",'Contractor Fresh Test Data'!$C$32)","v":""},{"$f":"IF('Contractor Fresh Test Data'!$C$21=\"\",\"\",'Contractor Fresh Test Data'!$C$21)","v":"Contractor:Fresh"},{"$f":"IF('Contractor Fresh Test Data'!$B$32=\"\",\"\",'Contractor Fresh Test Data'!$B$32)","v":2},{"$f":"IF('Contractor Fresh Test Data'!$C$27=\"\",\"\",'Contractor Fresh Test Data'!$C$27)","v":"Slump (inches)"},{"$f":"IF('Contractor Fresh Test Data'!$C$30=\"\",\"\",'Contractor Fresh Test Data'!$C$30)","v":"Tex-415-A"}]
[1371,{"$f":"IF('Contractor Fresh Test Data'!$D$32=\"\",\"\",'Contractor Fresh Test Data'!$D$32)","v":""},{"$f":"IF('Contractor Fresh Test Data'!$C$21=\"\",\"\",'Contractor Fresh Test Data'!$C$21)","v":"Contractor:Fresh"},{"$f":"IF('Contractor Fresh Test Data'!$B$32=\"\",\"\",'Contractor Fresh Test Data'!$B$32)","v":2},{"$f":"IF('Contractor Fresh Test Data'!$D$27=\"\",\"\",'Contractor Fresh Test Data'!$D$27)","v":"Meets Job Control Requirements"}]
[1372,{"$f":"IF('Contractor Fresh Test Data'!$E$32=\"\",\"\",'Contractor Fresh Test Data'!$E$32)","v":""},{"$f":"IF('Contractor Fresh Test Data'!$C$21=\"\",\"\",'Contractor Fresh Test Data'!$C$21)","v":"Contractor:Fresh"},{"$f":"IF('Contractor Fresh Test Data'!$B$32=\"\",\"\",'Contractor Fresh Test Data'!$B$32)","v":2},{"$f":"IF('Contractor Fresh Test Data'!$E$27=\"\",\"\",'Contractor Fresh Test Data'!$E$27)","v":"Temperature (°F)"},{"$f":"IF('Contractor Fresh Test Data'!$E$30=\"\",\"\",'Contractor Fresh Test Data'!$E$30)","v":"Tex-422-A"}]
[1373,{"$f":"IF('Contractor Fresh Test Data'!$F$32=\"\",\"\",'Contractor Fresh Test Data'!$F$32)","v":""},{"$f":"IF('Contractor Fresh Test Data'!$C$21=\"\",\"\",'Contractor Fresh Test Data'!$C$21)","v":"Contractor:Fresh"},{"$f":"IF('Contractor Fresh Test Data'!$B$32=\"\",\"\",'Contractor Fresh Test Data'!$B$32)","v":2},{"$f":"IF('Contractor Fresh Test Data'!$F$27=\"\",\"\",'Contractor Fresh Test Data'!$F$27)","v":"Meets Job Control Requirements"}]
[1374,{"$f":"IF('Contractor Fresh Test Data'!$G$32=\"\",\"\",'Contractor Fresh Test Data'!$G$32)","v":""},{"$f":"IF('Contractor Fresh Test Data'!$C$21=\"\",\"\",'Contractor Fresh Test Data'!$C$21)","v":"Contractor:Fresh"},{"$f":"IF('Contractor Fresh Test Data'!$B$32=\"\",\"\",'Contractor Fresh Test Data'!$B$32)","v":2},{"$f":"IF('Contractor Fresh Test Data'!$G$27=\"\",\"\",'Contractor Fresh Test Data'!$G$27)","v":"Air Content"},{"$f":"IF('Contractor Fresh Test Data'!$G$29=\"\",\"\",'Contractor Fresh Test Data'!$G$29)","v":"Uncorrected Air Content (%)"}]
[1375,{"$f":"IF('Contractor Fresh Test Data'!$H$32=\"\",\"\",'Contractor Fresh Test Data'!$H$32)","v":""},{"$f":"IF('Contractor Fresh Test Data'!$C$21=\"\",\"\",'Contractor Fresh Test Data'!$C$21)","v":"Contractor:Fresh"},{"$f":"IF('Contractor Fresh Test Data'!$B$32=\"\",\"\",'Contractor Fresh Test Data'!$B$32)","v":2},{"$f":"IF('Contractor Fresh Test Data'!$G$27=\"\",\"\",'Contractor Fresh Test Data'!$G$27)","v":"Air Content"},{"$f":"IF('Contractor Fresh Test Data'!$H$29=\"\",\"\",'Contractor Fresh Test Data'!$H$29)","v":"Aggr. Correction Factor (%)"}]
[1376,{"$f":"IF('Contractor Fresh Test Data'!$I$32=\"\",\"\",'Contractor Fresh Test Data'!$I$32)","v":""},{"$f":"IF('Contractor Fresh Test Data'!$C$21=\"\",\"\",'Contractor Fresh Test Data'!$C$21)","v":"Contractor:Fresh"},{"$f":"IF('Contractor Fresh Test Data'!$B$32=\"\",\"\",'Contractor Fresh Test Data'!$B$32)","v":2},{"$f":"IF('Contractor Fresh Test Data'!$G$27=\"\",\"\",'Contractor Fresh Test Data'!$G$27)","v":"Air Content"},{"$f":"IF('Contractor Fresh Test Data'!$I$29=\"\",\"\",'Contractor Fresh Test Data'!$I$29)","v":""}]
[1377,{"$f":"IF('Contractor Fresh Test Data'!$J$32=\"\",\"\",'Contractor Fresh Test Data'!$J$32)","v":""},{"$f":"IF('Contractor Fresh Test Data'!$C$21=\"\",\"\",'Contractor Fresh Test Data'!$C$21)","v":"Contractor:Fresh"},{"$f":"IF('Contractor Fresh Test Data'!$B$32=\"\",\"\",'Contractor Fresh Test Data'!$B$32)","v":2},{"$f":"IF('Contractor Fresh Test Data'!$G$27=\"\",\"\",'Contractor Fresh Test Data'!$G$27)","v":"Air Content"},{"$f":"IF('Contractor Fresh Test Data'!$J$29=\"\",\"\",'Contractor Fresh Test Data'!$J$29)","v":"Corrected Air Content (%)"}]
[1378,{"$f":"IF('Contractor Fresh Test Data'!$K$32=\"\",\"\",'Contractor Fresh Test Data'!$K$32)","v":""},{"$f":"IF('Contractor Fresh Test Data'!$C$21=\"\",\"\",'Contractor Fresh Test Data'!$C$21)","v":"Contractor:Fresh"},{"$f":"IF('Contractor Fresh Test Data'!$B$32=\"\",\"\",'Contractor Fresh Test Data'!$B$32)","v":2},{"$f":"IF('Contractor Fresh Test Data'!$K$27=\"\",\"\",'Contractor Fresh Test Data'!$K$27)","v":"Meets Job Control Requirements"}]
[1379,{"$f":"IF('Contractor Fresh Test Data'!$C$33=\"\",\"\",'Contractor Fresh Test Data'!$C$33)","v":""},{"$f":"IF('Contractor Fresh Test Data'!$C$21=\"\",\"\",'Contractor Fresh Test Data'!$C$21)","v":"Contractor:Fresh"},{"$f":"IF('Contractor Fresh Test Data'!$B$33=\"\",\"\",'Contractor Fresh Test Data'!$B$33)","v":3},{"$f":"IF('Contractor Fresh Test Data'!$C$27=\"\",\"\",'Contractor Fresh Test Data'!$C$27)","v":"Slump (inches)"},{"$f":"IF('Contractor Fresh Test Data'!$C$30=\"\",\"\",'Contractor Fresh Test Data'!$C$30)","v":"Tex-415-A"}]
[1380,{"$f":"IF('Contractor Fresh Test Data'!$D$33=\"\",\"\",'Contractor Fresh Test Data'!$D$33)","v":""},{"$f":"IF('Contractor Fresh Test Data'!$C$21=\"\",\"\",'Contractor Fresh Test Data'!$C$21)","v":"Contractor:Fresh"},{"$f":"IF('Contractor Fresh Test Data'!$B$33=\"\",\"\",'Contractor Fresh Test Data'!$B$33)","v":3},{"$f":"IF('Contractor Fresh Test Data'!$D$27=\"\",\"\",'Contractor Fresh Test Data'!$D$27)","v":"Meets Job Control Requirements"}]
[1381,{"$f":"IF('Contractor Fresh Test Data'!$E$33=\"\",\"\",'Contractor Fresh Test Data'!$E$33)","v":""},{"$f":"IF('Contractor Fresh Test Data'!$C$21=\"\",\"\",'Contractor Fresh Test Data'!$C$21)","v":"Contractor:Fresh"},{"$f":"IF('Contractor Fresh Test Data'!$B$33=\"\",\"\",'Contractor Fresh Test Data'!$B$33)","v":3},{"$f":"IF('Contractor Fresh Test Data'!$E$27=\"\",\"\",'Contractor Fresh Test Data'!$E$27)","v":"Temperature (°F)"},{"$f":"IF('Contractor Fresh Test Data'!$E$30=\"\",\"\",'Contractor Fresh Test Data'!$E$30)","v":"Tex-422-A"}]
[1382,{"$f":"IF('Contractor Fresh Test Data'!$F$33=\"\",\"\",'Contractor Fresh Test Data'!$F$33)","v":""},{"$f":"IF('Contractor Fresh Test Data'!$C$21=\"\",\"\",'Contractor Fresh Test Data'!$C$21)","v":"Contractor:Fresh"},{"$f":"IF('Contractor Fresh Test Data'!$B$33=\"\",\"\",'Contractor Fresh Test Data'!$B$33)","v":3},{"$f":"IF('Contractor Fresh Test Data'!$F$27=\"\",\"\",'Contractor Fresh Test Data'!$F$27)","v":"Meets Job Control Requirements"}]
[1383,{"$f":"IF('Contractor Fresh Test Data'!$G$33=\"\",\"\",'Contractor Fresh Test Data'!$G$33)","v":""},{"$f":"IF('Contractor Fresh Test Data'!$C$21=\"\",\"\",'Contractor Fresh Test Data'!$C$21)","v":"Contractor:Fresh"},{"$f":"IF('Contractor Fresh Test Data'!$B$33=\"\",\"\",'Contractor Fresh Test Data'!$B$33)","v":3},{"$f":"IF('Contractor Fresh Test Data'!$G$27=\"\",\"\",'Contractor Fresh Test Data'!$G$27)","v":"Air Content"},{"$f":"IF('Contractor Fresh Test Data'!$G$29=\"\",\"\",'Contractor Fresh Test Data'!$G$29)","v":"Uncorrected Air Content (%)"}]
[1384,{"$f":"IF('Contractor Fresh Test Data'!$H$33=\"\",\"\",'Contractor Fresh Test Data'!$H$33)","v":""},{"$f":"IF('Contractor Fresh Test Data'!$C$21=\"\",\"\",'Contractor Fresh Test Data'!$C$21)","v":"Contractor:Fresh"},{"$f":"IF('Contractor Fresh Test Data'!$B$33=\"\",\"\",'Contractor Fresh Test Data'!$B$33)","v":3},{"$f":"IF('Contractor Fresh Test Data'!$G$27=\"\",\"\",'Contractor Fresh Test Data'!$G$27)","v":"Air Content"},{"$f":"IF('Contractor Fresh Test Data'!$H$29=\"\",\"\",'Contractor Fresh Test Data'!$H$29)","v":"Aggr. Correction Factor (%)"}]
[1385,{"$f":"IF('Contractor Fresh Test Data'!$I$33=\"\",\"\",'Contractor Fresh Test Data'!$I$33)","v":""},{"$f":"IF('Contractor Fresh Test Data'!$C$21=\"\",\"\",'Contractor Fresh Test Data'!$C$21)","v":"Contractor:Fresh"},{"$f":"IF('Contractor Fresh Test Data'!$B$33=\"\",\"\",'Contractor Fresh Test Data'!$B$33)","v":3},{"$f":"IF('Contractor Fresh Test Data'!$G$27=\"\",\"\",'Contractor Fresh Test Data'!$G$27)","v":"Air Content"},{"$f":"IF('Contractor Fresh Test Data'!$I$29=\"\",\"\",'Contractor Fresh Test Data'!$I$29)","v":""}]
[1386,{"$f":"IF('Contractor Fresh Test Data'!$J$33=\"\",\"\",'Contractor Fresh Test Data'!$J$33)","v":""},{"$f":"IF('Contractor Fresh Test Data'!$C$21=\"\",\"\",'Contractor Fresh Test Data'!$C$21)","v":"Contractor:Fresh"},{"$f":"IF('Contractor Fresh Test Data'!$B$33=\"\",\"\",'Contractor Fresh Test Data'!$B$33)","v":3},{"$f":"IF('Contractor Fresh Test Data'!$G$27=\"\",\"\",'Contractor Fresh Test Data'!$G$27)","v":"Air Content"},{"$f":"IF('Contractor Fresh Test Data'!$J$29=\"\",\"\",'Contractor Fresh Test Data'!$J$29)","v":"Corrected Air Content (%)"}]
[1387,{"$f":"IF('Contractor Fresh Test Data'!$K$33=\"\",\"\",'Contractor Fresh Test Data'!$K$33)","v":""},{"$f":"IF('Contractor Fresh Test Data'!$C$21=\"\",\"\",'Contractor Fresh Test Data'!$C$21)","v":"Contractor:Fresh"},{"$f":"IF('Contractor Fresh Test Data'!$B$33=\"\",\"\",'Contractor Fresh Test Data'!$B$33)","v":3},{"$f":"IF('Contractor Fresh Test Data'!$K$27=\"\",\"\",'Contractor Fresh Test Data'!$K$27)","v":"Meets Job Control Requirements"}]
[1388,{"$f":"IF('Contractor Fresh Test Data'!$C$34=\"\",\"\",'Contractor Fresh Test Data'!$C$34)","v":""},{"$f":"IF('Contractor Fresh Test Data'!$C$21=\"\",\"\",'Contractor Fresh Test Data'!$C$21)","v":"Contractor:Fresh"},{"$f":"IF('Contractor Fresh Test Data'!$B$34=\"\",\"\",'Contractor Fresh Test Data'!$B$34)","v":4},{"$f":"IF('Contractor Fresh Test Data'!$C$27=\"\",\"\",'Contractor Fresh Test Data'!$C$27)","v":"Slump (inches)"},{"$f":"IF('Contractor Fresh Test Data'!$C$30=\"\",\"\",'Contractor Fresh Test Data'!$C$30)","v":"Tex-415-A"}]
[1389,{"$f":"IF('Contractor Fresh Test Data'!$D$34=\"\",\"\",'Contractor Fresh Test Data'!$D$34)","v":""},{"$f":"IF('Contractor Fresh Test Data'!$C$21=\"\",\"\",'Contractor Fresh Test Data'!$C$21)","v":"Contractor:Fresh"},{"$f":"IF('Contractor Fresh Test Data'!$B$34=\"\",\"\",'Contractor Fresh Test Data'!$B$34)","v":4},{"$f":"IF('Contractor Fresh Test Data'!$D$27=\"\",\"\",'Contractor Fresh Test Data'!$D$27)","v":"Meets Job Control Requirements"}]
[1390,{"$f":"IF('Contractor Fresh Test Data'!$E$34=\"\",\"\",'Contractor Fresh Test Data'!$E$34)","v":""},{"$f":"IF('Contractor Fresh Test Data'!$C$21=\"\",\"\",'Contractor Fresh Test Data'!$C$21)","v":"Contractor:Fresh"},{"$f":"IF('Contractor Fresh Test Data'!$B$34=\"\",\"\",'Contractor Fresh Test Data'!$B$34)","v":4},{"$f":"IF('Contractor Fresh Test Data'!$E$27=\"\",\"\",'Contractor Fresh Test Data'!$E$27)","v":"Temperature (°F)"},{"$f":"IF('Contractor Fresh Test Data'!$E$30=\"\",\"\",'Contractor Fresh Test Data'!$E$30)","v":"Tex-422-A"}]
[1391,{"$f":"IF('Contractor Fresh Test Data'!$F$34=\"\",\"\",'Contractor Fresh Test Data'!$F$34)","v":""},{"$f":"IF('Contractor Fresh Test Data'!$C$21=\"\",\"\",'Contractor Fresh Test Data'!$C$21)","v":"Contractor:Fresh"},{"$f":"IF('Contractor Fresh Test Data'!$B$34=\"\",\"\",'Contractor Fresh Test Data'!$B$34)","v":4},{"$f":"IF('Contractor Fresh Test Data'!$F$27=\"\",\"\",'Contractor Fresh Test Data'!$F$27)","v":"Meets Job Control Requirements"}]
[1392,{"$f":"IF('Contractor Fresh Test Data'!$G$34=\"\",\"\",'Contractor Fresh Test Data'!$G$34)","v":""},{"$f":"IF('Contractor Fresh Test Data'!$C$21=\"\",\"\",'Contractor Fresh Test Data'!$C$21)","v":"Contractor:Fresh"},{"$f":"IF('Contractor Fresh Test Data'!$B$34=\"\",\"\",'Contractor Fresh Test Data'!$B$34)","v":4},{"$f":"IF('Contractor Fresh Test Data'!$G$27=\"\",\"\",'Contractor Fresh Test Data'!$G$27)","v":"Air Content"},{"$f":"IF('Contractor Fresh Test Data'!$G$29=\"\",\"\",'Contractor Fresh Test Data'!$G$29)","v":"Uncorrected Air Content (%)"}]
[1393,{"$f":"IF('Contractor Fresh Test Data'!$H$34=\"\",\"\",'Contractor Fresh Test Data'!$H$34)","v":""},{"$f":"IF('Contractor Fresh Test Data'!$C$21=\"\",\"\",'Contractor Fresh Test Data'!$C$21)","v":"Contractor:Fresh"},{"$f":"IF('Contractor Fresh Test Data'!$B$34=\"\",\"\",'Contractor Fresh Test Data'!$B$34)","v":4},{"$f":"IF('Contractor Fresh Test Data'!$G$27=\"\",\"\",'Contractor Fresh Test Data'!$G$27)","v":"Air Content"},{"$f":"IF('Contractor Fresh Test Data'!$H$29=\"\",\"\",'Contractor Fresh Test Data'!$H$29)","v":"Aggr. Correction Factor (%)"}]
[1394,{"$f":"IF('Contractor Fresh Test Data'!$I$34=\"\",\"\",'Contractor Fresh Test Data'!$I$34)","v":""},{"$f":"IF('Contractor Fresh Test Data'!$C$21=\"\",\"\",'Contractor Fresh Test Data'!$C$21)","v":"Contractor:Fresh"},{"$f":"IF('Contractor Fresh Test Data'!$B$34=\"\",\"\",'Contractor Fresh Test Data'!$B$34)","v":4},{"$f":"IF('Contractor Fresh Test Data'!$G$27=\"\",\"\",'Contractor Fresh Test Data'!$G$27)","v":"Air Content"},{"$f":"IF('Contractor Fresh Test Data'!$I$29=\"\",\"\",'Contractor Fresh Test Data'!$I$29)","v":""}]
[1395,{"$f":"IF('Contractor Fresh Test Data'!$J$34=\"\",\"\",'Contractor Fresh Test Data'!$J$34)","v":""},{"$f":"IF('Contractor Fresh Test Data'!$C$21=\"\",\"\",'Contractor Fresh Test Data'!$C$21)","v":"Contractor:Fresh"},{"$f":"IF('Contractor Fresh Test Data'!$B$34=\"\",\"\",'Contractor Fresh Test Data'!$B$34)","v":4},{"$f":"IF('Contractor Fresh Test Data'!$G$27=\"\",\"\",'Contractor Fresh Test Data'!$G$27)","v":"Air Content"},{"$f":"IF('Contractor Fresh Test Data'!$J$29=\"\",\"\",'Contractor Fresh Test Data'!$J$29)","v":"Corrected Air Content (%)"}]
[1396,{"$f":"IF('Contractor Fresh Test Data'!$K$34=\"\",\"\",'Contractor Fresh Test Data'!$K$34)","v":""},{"$f":"IF('Contractor Fresh Test Data'!$C$21=\"\",\"\",'Contractor Fresh Test Data'!$C$21)","v":"Contractor:Fresh"},{"$f":"IF('Contractor Fresh Test Data'!$B$34=\"\",\"\",'Contractor Fresh Test Data'!$B$34)","v":4},{"$f":"IF('Contractor Fresh Test Data'!$K$27=\"\",\"\",'Contractor Fresh Test Data'!$K$27)","v":"Meets Job Control Requirements"}]
[1397,{"$f":"IF('Contractor Fresh Test Data'!$C$35=\"\",\"\",'Contractor Fresh Test Data'!$C$35)","v":""},{"$f":"IF('Contractor Fresh Test Data'!$C$21=\"\",\"\",'Contractor Fresh Test Data'!$C$21)","v":"Contractor:Fresh"},{"$f":"IF('Contractor Fresh Test Data'!$B$35=\"\",\"\",'Contractor Fresh Test Data'!$B$35)","v":5},{"$f":"IF('Contractor Fresh Test Data'!$C$27=\"\",\"\",'Contractor Fresh Test Data'!$C$27)","v":"Slump (inches)"},{"$f":"IF('Contractor Fresh Test Data'!$C$30=\"\",\"\",'Contractor Fresh Test Data'!$C$30)","v":"Tex-415-A"}]
[1398,{"$f":"IF('Contractor Fresh Test Data'!$D$35=\"\",\"\",'Contractor Fresh Test Data'!$D$35)","v":""},{"$f":"IF('Contractor Fresh Test Data'!$C$21=\"\",\"\",'Contractor Fresh Test Data'!$C$21)","v":"Contractor:Fresh"},{"$f":"IF('Contractor Fresh Test Data'!$B$35=\"\",\"\",'Contractor Fresh Test Data'!$B$35)","v":5},{"$f":"IF('Contractor Fresh Test Data'!$D$27=\"\",\"\",'Contractor Fresh Test Data'!$D$27)","v":"Meets Job Control Requirements"}]
[1399,{"$f":"IF('Contractor Fresh Test Data'!$E$35=\"\",\"\",'Contractor Fresh Test Data'!$E$35)","v":""},{"$f":"IF('Contractor Fresh Test Data'!$C$21=\"\",\"\",'Contractor Fresh Test Data'!$C$21)","v":"Contractor:Fresh"},{"$f":"IF('Contractor Fresh Test Data'!$B$35=\"\",\"\",'Contractor Fresh Test Data'!$B$35)","v":5},{"$f":"IF('Contractor Fresh Test Data'!$E$27=\"\",\"\",'Contractor Fresh Test Data'!$E$27)","v":"Temperature (°F)"},{"$f":"IF('Contractor Fresh Test Data'!$E$30=\"\",\"\",'Contractor Fresh Test Data'!$E$30)","v":"Tex-422-A"}]
[1400,{"$f":"IF('Contractor Fresh Test Data'!$F$35=\"\",\"\",'Contractor Fresh Test Data'!$F$35)","v":""},{"$f":"IF('Contractor Fresh Test Data'!$C$21=\"\",\"\",'Contractor Fresh Test Data'!$C$21)","v":"Contractor:Fresh"},{"$f":"IF('Contractor Fresh Test Data'!$B$35=\"\",\"\",'Contractor Fresh Test Data'!$B$35)","v":5},{"$f":"IF('Contractor Fresh Test Data'!$F$27=\"\",\"\",'Contractor Fresh Test Data'!$F$27)","v":"Meets Job Control Requirements"}]
[1401,{"$f":"IF('Contractor Fresh Test Data'!$G$35=\"\",\"\",'Contractor Fresh Test Data'!$G$35)","v":""},{"$f":"IF('Contractor Fresh Test Data'!$C$21=\"\",\"\",'Contractor Fresh Test Data'!$C$21)","v":"Contractor:Fresh"},{"$f":"IF('Contractor Fresh Test Data'!$B$35=\"\",\"\",'Contractor Fresh Test Data'!$B$35)","v":5},{"$f":"IF('Contractor Fresh Test Data'!$G$27=\"\",\"\",'Contractor Fresh Test Data'!$G$27)","v":"Air Content"},{"$f":"IF('Contractor Fresh Test Data'!$G$29=\"\",\"\",'Contractor Fresh Test Data'!$G$29)","v":"Uncorrected Air Content (%)"}]
[1402,{"$f":"IF('Contractor Fresh Test Data'!$H$35=\"\",\"\",'Contractor Fresh Test Data'!$H$35)","v":""},{"$f":"IF('Contractor Fresh Test Data'!$C$21=\"\",\"\",'Contractor Fresh Test Data'!$C$21)","v":"Contractor:Fresh"},{"$f":"IF('Contractor Fresh Test Data'!$B$35=\"\",\"\",'Contractor Fresh Test Data'!$B$35)","v":5},{"$f":"IF('Contractor Fresh Test Data'!$G$27=\"\",\"\",'Contractor Fresh Test Data'!$G$27)","v":"Air Content"},{"$f":"IF('Contractor Fresh Test Data'!$H$29=\"\",\"\",'Contractor Fresh Test Data'!$H$29)","v":"Aggr. Correction Factor (%)"}]
[1403,{"$f":"IF('Contractor Fresh Test Data'!$I$35=\"\",\"\",'Contractor Fresh Test Data'!$I$35)","v":""},{"$f":"IF('Contractor Fresh Test Data'!$C$21=\"\",\"\",'Contractor Fresh Test Data'!$C$21)","v":"Contractor:Fresh"},{"$f":"IF('Contractor Fresh Test Data'!$B$35=\"\",\"\",'Contractor Fresh Test Data'!$B$35)","v":5},{"$f":"IF('Contractor Fresh Test Data'!$G$27=\"\",\"\",'Contractor Fresh Test Data'!$G$27)","v":"Air Content"},{"$f":"IF('Contractor Fresh Test Data'!$I$29=\"\",\"\",'Contractor Fresh Test Data'!$I$29)","v":""}]
[1404,{"$f":"IF('Contractor Fresh Test Data'!$J$35=\"\",\"\",'Contractor Fresh Test Data'!$J$35)","v":""},{"$f":"IF('Contractor Fresh Test Data'!$C$21=\"\",\"\",'Contractor Fresh Test Data'!$C$21)","v":"Contractor:Fresh"},{"$f":"IF('Contractor Fresh Test Data'!$B$35=\"\",\"\",'Contractor Fresh Test Data'!$B$35)","v":5},{"$f":"IF('Contractor Fresh Test Data'!$G$27=\"\",\"\",'Contractor Fresh Test Data'!$G$27)","v":"Air Content"},{"$f":"IF('Contractor Fresh Test Data'!$J$29=\"\",\"\",'Contractor Fresh Test Data'!$J$29)","v":"Corrected Air Content (%)"}]
[1405,{"$f":"IF('Contractor Fresh Test Data'!$K$35=\"\",\"\",'Contractor Fresh Test Data'!$K$35)","v":""},{"$f":"IF('Contractor Fresh Test Data'!$C$21=\"\",\"\",'Contractor Fresh Test Data'!$C$21)","v":"Contractor:Fresh"},{"$f":"IF('Contractor Fresh Test Data'!$B$35=\"\",\"\",'Contractor Fresh Test Data'!$B$35)","v":5},{"$f":"IF('Contractor Fresh Test Data'!$K$27=\"\",\"\",'Contractor Fresh Test Data'!$K$27)","v":"Meets Job Control Requirements"}]
[1406,{"$f":"IF('Contractor Fresh Test Data'!$C$36=\"\",\"\",'Contractor Fresh Test Data'!$C$36)","v":""},{"$f":"IF('Contractor Fresh Test Data'!$C$21=\"\",\"\",'Contractor Fresh Test Data'!$C$21)","v":"Contractor:Fresh"},{"$f":"IF('Contractor Fresh Test Data'!$B$36=\"\",\"\",'Contractor Fresh Test Data'!$B$36)","v":6},{"$f":"IF('Contractor Fresh Test Data'!$C$27=\"\",\"\",'Contractor Fresh Test Data'!$C$27)","v":"Slump (inches)"},{"$f":"IF('Contractor Fresh Test Data'!$C$30=\"\",\"\",'Contractor Fresh Test Data'!$C$30)","v":"Tex-415-A"}]
[1407,{"$f":"IF('Contractor Fresh Test Data'!$D$36=\"\",\"\",'Contractor Fresh Test Data'!$D$36)","v":""},{"$f":"IF('Contractor Fresh Test Data'!$C$21=\"\",\"\",'Contractor Fresh Test Data'!$C$21)","v":"Contractor:Fresh"},{"$f":"IF('Contractor Fresh Test Data'!$B$36=\"\",\"\",'Contractor Fresh Test Data'!$B$36)","v":6},{"$f":"IF('Contractor Fresh Test Data'!$D$27=\"\",\"\",'Contractor Fresh Test Data'!$D$27)","v":"Meets Job Control Requirements"}]
[1408,{"$f":"IF('Contractor Fresh Test Data'!$E$36=\"\",\"\",'Contractor Fresh Test Data'!$E$36)","v":""},{"$f":"IF('Contractor Fresh Test Data'!$C$21=\"\",\"\",'Contractor Fresh Test Data'!$C$21)","v":"Contractor:Fresh"},{"$f":"IF('Contractor Fresh Test Data'!$B$36=\"\",\"\",'Contractor Fresh Test Data'!$B$36)","v":6},{"$f":"IF('Contractor Fresh Test Data'!$E$27=\"\",\"\",'Contractor Fresh Test Data'!$E$27)","v":"Temperature (°F)"},{"$f":"IF('Contractor Fresh Test Data'!$E$30=\"\",\"\",'Contractor Fresh Test Data'!$E$30)","v":"Tex-422-A"}]
[1409,{"$f":"IF('Contractor Fresh Test Data'!$F$36=\"\",\"\",'Contractor Fresh Test Data'!$F$36)","v":""},{"$f":"IF('Contractor Fresh Test Data'!$C$21=\"\",\"\",'Contractor Fresh Test Data'!$C$21)","v":"Contractor:Fresh"},{"$f":"IF('Contractor Fresh Test Data'!$B$36=\"\",\"\",'Contractor Fresh Test Data'!$B$36)","v":6},{"$f":"IF('Contractor Fresh Test Data'!$F$27=\"\",\"\",'Contractor Fresh Test Data'!$F$27)","v":"Meets Job Control Requirements"}]
[1410,{"$f":"IF('Contractor Fresh Test Data'!$G$36=\"\",\"\",'Contractor Fresh Test Data'!$G$36)","v":""},{"$f":"IF('Contractor Fresh Test Data'!$C$21=\"\",\"\",'Contractor Fresh Test Data'!$C$21)","v":"Contractor:Fresh"},{"$f":"IF('Contractor Fresh Test Data'!$B$36=\"\",\"\",'Contractor Fresh Test Data'!$B$36)","v":6},{"$f":"IF('Contractor Fresh Test Data'!$G$27=\"\",\"\",'Contractor Fresh Test Data'!$G$27)","v":"Air Content"},{"$f":"IF('Contractor Fresh Test Data'!$G$29=\"\",\"\",'Contractor Fresh Test Data'!$G$29)","v":"Uncorrected Air Content (%)"}]
[1411,{"$f":"IF('Contractor Fresh Test Data'!$H$36=\"\",\"\",'Contractor Fresh Test Data'!$H$36)","v":""},{"$f":"IF('Contractor Fresh Test Data'!$C$21=\"\",\"\",'Contractor Fresh Test Data'!$C$21)","v":"Contractor:Fresh"},{"$f":"IF('Contractor Fresh Test Data'!$B$36=\"\",\"\",'Contractor Fresh Test Data'!$B$36)","v":6},{"$f":"IF('Contractor Fresh Test Data'!$G$27=\"\",\"\",'Contractor Fresh Test Data'!$G$27)","v":"Air Content"},{"$f":"IF('Contractor Fresh Test Data'!$H$29=\"\",\"\",'Contractor Fresh Test Data'!$H$29)","v":"Aggr. Correction Factor (%)"}]
[1412,{"$f":"IF('Contractor Fresh Test Data'!$I$36=\"\",\"\",'Contractor Fresh Test Data'!$I$36)","v":""},{"$f":"IF('Contractor Fresh Test Data'!$C$21=\"\",\"\",'Contractor Fresh Test Data'!$C$21)","v":"Contractor:Fresh"},{"$f":"IF('Contractor Fresh Test Data'!$B$36=\"\",\"\",'Contractor Fresh Test Data'!$B$36)","v":6},{"$f":"IF('Contractor Fresh Test Data'!$G$27=\"\",\"\",'Contractor Fresh Test Data'!$G$27)","v":"Air Content"},{"$f":"IF('Contractor Fresh Test Data'!$I$29=\"\",\"\",'Contractor Fresh Test Data'!$I$29)","v":""}]
[1413,{"$f":"IF('Contractor Fresh Test Data'!$J$36=\"\",\"\",'Contractor Fresh Test Data'!$J$36)","v":""},{"$f":"IF('Contractor Fresh Test Data'!$C$21=\"\",\"\",'Contractor Fresh Test Data'!$C$21)","v":"Contractor:Fresh"},{"$f":"IF('Contractor Fresh Test Data'!$B$36=\"\",\"\",'Contractor Fresh Test Data'!$B$36)","v":6},{"$f":"IF('Contractor Fresh Test Data'!$G$27=\"\",\"\",'Contractor Fresh Test Data'!$G$27)","v":"Air Content"},{"$f":"IF('Contractor Fresh Test Data'!$J$29=\"\",\"\",'Contractor Fresh Test Data'!$J$29)","v":"Corrected Air Content (%)"}]
[1414,{"$f":"IF('Contractor Fresh Test Data'!$K$36=\"\",\"\",'Contractor Fresh Test Data'!$K$36)","v":""},{"$f":"IF('Contractor Fresh Test Data'!$C$21=\"\",\"\",'Contractor Fresh Test Data'!$C$21)","v":"Contractor:Fresh"},{"$f":"IF('Contractor Fresh Test Data'!$B$36=\"\",\"\",'Contractor Fresh Test Data'!$B$36)","v":6},{"$f":"IF('Contractor Fresh Test Data'!$K$27=\"\",\"\",'Contractor Fresh Test Data'!$K$27)","v":"Meets Job Control Requirements"}]
[1415,{"$f":"IF('Contractor Fresh Test Data'!$C$37=\"\",\"\",'Contractor Fresh Test Data'!$C$37)","v":""},{"$f":"IF('Contractor Fresh Test Data'!$C$21=\"\",\"\",'Contractor Fresh Test Data'!$C$21)","v":"Contractor:Fresh"},{"$f":"IF('Contractor Fresh Test Data'!$B$37=\"\",\"\",'Contractor Fresh Test Data'!$B$37)","v":7},{"$f":"IF('Contractor Fresh Test Data'!$C$27=\"\",\"\",'Contractor Fresh Test Data'!$C$27)","v":"Slump (inches)"},{"$f":"IF('Contractor Fresh Test Data'!$C$30=\"\",\"\",'Contractor Fresh Test Data'!$C$30)","v":"Tex-415-A"}]
[1416,{"$f":"IF('Contractor Fresh Test Data'!$D$37=\"\",\"\",'Contractor Fresh Test Data'!$D$37)","v":""},{"$f":"IF('Contractor Fresh Test Data'!$C$21=\"\",\"\",'Contractor Fresh Test Data'!$C$21)","v":"Contractor:Fresh"},{"$f":"IF('Contractor Fresh Test Data'!$B$37=\"\",\"\",'Contractor Fresh Test Data'!$B$37)","v":7},{"$f":"IF('Contractor Fresh Test Data'!$D$27=\"\",\"\",'Contractor Fresh Test Data'!$D$27)","v":"Meets Job Control Requirements"}]
[1417,{"$f":"IF('Contractor Fresh Test Data'!$E$37=\"\",\"\",'Contractor Fresh Test Data'!$E$37)","v":""},{"$f":"IF('Contractor Fresh Test Data'!$C$21=\"\",\"\",'Contractor Fresh Test Data'!$C$21)","v":"Contractor:Fresh"},{"$f":"IF('Contractor Fresh Test Data'!$B$37=\"\",\"\",'Contractor Fresh Test Data'!$B$37)","v":7},{"$f":"IF('Contractor Fresh Test Data'!$E$27=\"\",\"\",'Contractor Fresh Test Data'!$E$27)","v":"Temperature (°F)"},{"$f":"IF('Contractor Fresh Test Data'!$E$30=\"\",\"\",'Contractor Fresh Test Data'!$E$30)","v":"Tex-422-A"}]
[1418,{"$f":"IF('Contractor Fresh Test Data'!$F$37=\"\",\"\",'Contractor Fresh Test Data'!$F$37)","v":""},{"$f":"IF('Contractor Fresh Test Data'!$C$21=\"\",\"\",'Contractor Fresh Test Data'!$C$21)","v":"Contractor:Fresh"},{"$f":"IF('Contractor Fresh Test Data'!$B$37=\"\",\"\",'Contractor Fresh Test Data'!$B$37)","v":7},{"$f":"IF('Contractor Fresh Test Data'!$F$27=\"\",\"\",'Contractor Fresh Test Data'!$F$27)","v":"Meets Job Control Requirements"}]
[1419,{"$f":"IF('Contractor Fresh Test Data'!$G$37=\"\",\"\",'Contractor Fresh Test Data'!$G$37)","v":""},{"$f":"IF('Contractor Fresh Test Data'!$C$21=\"\",\"\",'Contractor Fresh Test Data'!$C$21)","v":"Contractor:Fresh"},{"$f":"IF('Contractor Fresh Test Data'!$B$37=\"\",\"\",'Contractor Fresh Test Data'!$B$37)","v":7},{"$f":"IF('Contractor Fresh Test Data'!$G$27=\"\",\"\",'Contractor Fresh Test Data'!$G$27)","v":"Air Content"},{"$f":"IF('Contractor Fresh Test Data'!$G$29=\"\",\"\",'Contractor Fresh Test Data'!$G$29)","v":"Uncorrected Air Content (%)"}]
[1420,{"$f":"IF('Contractor Fresh Test Data'!$H$37=\"\",\"\",'Contractor Fresh Test Data'!$H$37)","v":""},{"$f":"IF('Contractor Fresh Test Data'!$C$21=\"\",\"\",'Contractor Fresh Test Data'!$C$21)","v":"Contractor:Fresh"},{"$f":"IF('Contractor Fresh Test Data'!$B$37=\"\",\"\",'Contractor Fresh Test Data'!$B$37)","v":7},{"$f":"IF('Contractor Fresh Test Data'!$G$27=\"\",\"\",'Contractor Fresh Test Data'!$G$27)","v":"Air Content"},{"$f":"IF('Contractor Fresh Test Data'!$H$29=\"\",\"\",'Contractor Fresh Test Data'!$H$29)","v":"Aggr. Correction Factor (%)"}]
[1421,{"$f":"IF('Contractor Fresh Test Data'!$I$37=\"\",\"\",'Contractor Fresh Test Data'!$I$37)","v":""},{"$f":"IF('Contractor Fresh Test Data'!$C$21=\"\",\"\",'Contractor Fresh Test Data'!$C$21)","v":"Contractor:Fresh"},{"$f":"IF('Contractor Fresh Test Data'!$B$37=\"\",\"\",'Contractor Fresh Test Data'!$B$37)","v":7},{"$f":"IF('Contractor Fresh Test Data'!$G$27=\"\",\"\",'Contractor Fresh Test Data'!$G$27)","v":"Air Content"},{"$f":"IF('Contractor Fresh Test Data'!$I$29=\"\",\"\",'Contractor Fresh Test Data'!$I$29)","v":""}]
[1422,{"$f":"IF('Contractor Fresh Test Data'!$J$37=\"\",\"\",'Contractor Fresh Test Data'!$J$37)","v":""},{"$f":"IF('Contractor Fresh Test Data'!$C$21=\"\",\"\",'Contractor Fresh Test Data'!$C$21)","v":"Contractor:Fresh"},{"$f":"IF('Contractor Fresh Test Data'!$B$37=\"\",\"\",'Contractor Fresh Test Data'!$B$37)","v":7},{"$f":"IF('Contractor Fresh Test Data'!$G$27=\"\",\"\",'Contractor Fresh Test Data'!$G$27)","v":"Air Content"},{"$f":"IF('Contractor Fresh Test Data'!$J$29=\"\",\"\",'Contractor Fresh Test Data'!$J$29)","v":"Corrected Air Content (%)"}]
[1423,{"$f":"IF('Contractor Fresh Test Data'!$K$37=\"\",\"\",'Contractor Fresh Test Data'!$K$37)","v":""},{"$f":"IF('Contractor Fresh Test Data'!$C$21=\"\",\"\",'Contractor Fresh Test Data'!$C$21)","v":"Contractor:Fresh"},{"$f":"IF('Contractor Fresh Test Data'!$B$37=\"\",\"\",'Contractor Fresh Test Data'!$B$37)","v":7},{"$f":"IF('Contractor Fresh Test Data'!$K$27=\"\",\"\",'Contractor Fresh Test Data'!$K$27)","v":"Meets Job Control Requirements"}]
[1424,{"$f":"IF('Contractor Fresh Test Data'!$C$38=\"\",\"\",'Contractor Fresh Test Data'!$C$38)","v":""},{"$f":"IF('Contractor Fresh Test Data'!$C$21=\"\",\"\",'Contractor Fresh Test Data'!$C$21)","v":"Contractor:Fresh"},{"$f":"IF('Contractor Fresh Test Data'!$B$38=\"\",\"\",'Contractor Fresh Test Data'!$B$38)","v":8},{"$f":"IF('Contractor Fresh Test Data'!$C$27=\"\",\"\",'Contractor Fresh Test Data'!$C$27)","v":"Slump (inches)"},{"$f":"IF('Contractor Fresh Test Data'!$C$30=\"\",\"\",'Contractor Fresh Test Data'!$C$30)","v":"Tex-415-A"}]
[1425,{"$f":"IF('Contractor Fresh Test Data'!$D$38=\"\",\"\",'Contractor Fresh Test Data'!$D$38)","v":""},{"$f":"IF('Contractor Fresh Test Data'!$C$21=\"\",\"\",'Contractor Fresh Test Data'!$C$21)","v":"Contractor:Fresh"},{"$f":"IF('Contractor Fresh Test Data'!$B$38=\"\",\"\",'Contractor Fresh Test Data'!$B$38)","v":8},{"$f":"IF('Contractor Fresh Test Data'!$D$27=\"\",\"\",'Contractor Fresh Test Data'!$D$27)","v":"Meets Job Control Requirements"}]
[1426,{"$f":"IF('Contractor Fresh Test Data'!$E$38=\"\",\"\",'Contractor Fresh Test Data'!$E$38)","v":""},{"$f":"IF('Contractor Fresh Test Data'!$C$21=\"\",\"\",'Contractor Fresh Test Data'!$C$21)","v":"Contractor:Fresh"},{"$f":"IF('Contractor Fresh Test Data'!$B$38=\"\",\"\",'Contractor Fresh Test Data'!$B$38)","v":8},{"$f":"IF('Contractor Fresh Test Data'!$E$27=\"\",\"\",'Contractor Fresh Test Data'!$E$27)","v":"Temperature (°F)"},{"$f":"IF('Contractor Fresh Test Data'!$E$30=\"\",\"\",'Contractor Fresh Test Data'!$E$30)","v":"Tex-422-A"}]
[1427,{"$f":"IF('Contractor Fresh Test Data'!$F$38=\"\",\"\",'Contractor Fresh Test Data'!$F$38)","v":""},{"$f":"IF('Contractor Fresh Test Data'!$C$21=\"\",\"\",'Contractor Fresh Test Data'!$C$21)","v":"Contractor:Fresh"},{"$f":"IF('Contractor Fresh Test Data'!$B$38=\"\",\"\",'Contractor Fresh Test Data'!$B$38)","v":8},{"$f":"IF('Contractor Fresh Test Data'!$F$27=\"\",\"\",'Contractor Fresh Test Data'!$F$27)","v":"Meets Job Control Requirements"}]
[1428,{"$f":"IF('Contractor Fresh Test Data'!$G$38=\"\",\"\",'Contractor Fresh Test Data'!$G$38)","v":""},{"$f":"IF('Contractor Fresh Test Data'!$C$21=\"\",\"\",'Contractor Fresh Test Data'!$C$21)","v":"Contractor:Fresh"},{"$f":"IF('Contractor Fresh Test Data'!$B$38=\"\",\"\",'Contractor Fresh Test Data'!$B$38)","v":8},{"$f":"IF('Contractor Fresh Test Data'!$G$27=\"\",\"\",'Contractor Fresh Test Data'!$G$27)","v":"Air Content"},{"$f":"IF('Contractor Fresh Test Data'!$G$29=\"\",\"\",'Contractor Fresh Test Data'!$G$29)","v":"Uncorrected Air Content (%)"}]
[1429,{"$f":"IF('Contractor Fresh Test Data'!$H$38=\"\",\"\",'Contractor Fresh Test Data'!$H$38)","v":""},{"$f":"IF('Contractor Fresh Test Data'!$C$21=\"\",\"\",'Contractor Fresh Test Data'!$C$21)","v":"Contractor:Fresh"},{"$f":"IF('Contractor Fresh Test Data'!$B$38=\"\",\"\",'Contractor Fresh Test Data'!$B$38)","v":8},{"$f":"IF('Contractor Fresh Test Data'!$G$27=\"\",\"\",'Contractor Fresh Test Data'!$G$27)","v":"Air Content"},{"$f":"IF('Contractor Fresh Test Data'!$H$29=\"\",\"\",'Contractor Fresh Test Data'!$H$29)","v":"Aggr. Correction Factor (%)"}]
[1430,{"$f":"IF('Contractor Fresh Test Data'!$I$38=\"\",\"\",'Contractor Fresh Test Data'!$I$38)","v":""},{"$f":"IF('Contractor Fresh Test Data'!$C$21=\"\",\"\",'Contractor Fresh Test Data'!$C$21)","v":"Contractor:Fresh"},{"$f":"IF('Contractor Fresh Test Data'!$B$38=\"\",\"\",'Contractor Fresh Test Data'!$B$38)","v":8},{"$f":"IF('Contractor Fresh Test Data'!$G$27=\"\",\"\",'Contractor Fresh Test Data'!$G$27)","v":"Air Content"},{"$f":"IF('Contractor Fresh Test Data'!$I$29=\"\",\"\",'Contractor Fresh Test Data'!$I$29)","v":""}]
[1431,{"$f":"IF('Contractor Fresh Test Data'!$J$38=\"\",\"\",'Contractor Fresh Test Data'!$J$38)","v":""},{"$f":"IF('Contractor Fresh Test Data'!$C$21=\"\",\"\",'Contractor Fresh Test Data'!$C$21)","v":"Contractor:Fresh"},{"$f":"IF('Contractor Fresh Test Data'!$B$38=\"\",\"\",'Contractor Fresh Test Data'!$B$38)","v":8},{"$f":"IF('Contractor Fresh Test Data'!$G$27=\"\",\"\",'Contractor Fresh Test Data'!$G$27)","v":"Air Content"},{"$f":"IF('Contractor Fresh Test Data'!$J$29=\"\",\"\",'Contractor Fresh Test Data'!$J$29)","v":"Corrected Air Content (%)"}]
[1432,{"$f":"IF('Contractor Fresh Test Data'!$K$38=\"\",\"\",'Contractor Fresh Test Data'!$K$38)","v":""},{"$f":"IF('Contractor Fresh Test Data'!$C$21=\"\",\"\",'Contractor Fresh Test Data'!$C$21)","v":"Contractor:Fresh"},{"$f":"IF('Contractor Fresh Test Data'!$B$38=\"\",\"\",'Contractor Fresh Test Data'!$B$38)","v":8},{"$f":"IF('Contractor Fresh Test Data'!$K$27=\"\",\"\",'Contractor Fresh Test Data'!$K$27)","v":"Meets Job Control Requirements"}]
[1433,{"$f":"IF('Contractor Fresh Test Data'!$C$39=\"\",\"\",'Contractor Fresh Test Data'!$C$39)","v":""},{"$f":"IF('Contractor Fresh Test Data'!$C$21=\"\",\"\",'Contractor Fresh Test Data'!$C$21)","v":"Contractor:Fresh"},{"$f":"IF('Contractor Fresh Test Data'!$B$39=\"\",\"\",'Contractor Fresh Test Data'!$B$39)","v":9},{"$f":"IF('Contractor Fresh Test Data'!$C$27=\"\",\"\",'Contractor Fresh Test Data'!$C$27)","v":"Slump (inches)"},{"$f":"IF('Contractor Fresh Test Data'!$C$30=\"\",\"\",'Contractor Fresh Test Data'!$C$30)","v":"Tex-415-A"}]
[1434,{"$f":"IF('Contractor Fresh Test Data'!$D$39=\"\",\"\",'Contractor Fresh Test Data'!$D$39)","v":""},{"$f":"IF('Contractor Fresh Test Data'!$C$21=\"\",\"\",'Contractor Fresh Test Data'!$C$21)","v":"Contractor:Fresh"},{"$f":"IF('Contractor Fresh Test Data'!$B$39=\"\",\"\",'Contractor Fresh Test Data'!$B$39)","v":9},{"$f":"IF('Contractor Fresh Test Data'!$D$27=\"\",\"\",'Contractor Fresh Test Data'!$D$27)","v":"Meets Job Control Requirements"}]
[1435,{"$f":"IF('Contractor Fresh Test Data'!$E$39=\"\",\"\",'Contractor Fresh Test Data'!$E$39)","v":""},{"$f":"IF('Contractor Fresh Test Data'!$C$21=\"\",\"\",'Contractor Fresh Test Data'!$C$21)","v":"Contractor:Fresh"},{"$f":"IF('Contractor Fresh Test Data'!$B$39=\"\",\"\",'Contractor Fresh Test Data'!$B$39)","v":9},{"$f":"IF('Contractor Fresh Test Data'!$E$27=\"\",\"\",'Contractor Fresh Test Data'!$E$27)","v":"Temperature (°F)"},{"$f":"IF('Contractor Fresh Test Data'!$E$30=\"\",\"\",'Contractor Fresh Test Data'!$E$30)","v":"Tex-422-A"}]
[1436,{"$f":"IF('Contractor Fresh Test Data'!$F$39=\"\",\"\",'Contractor Fresh Test Data'!$F$39)","v":""},{"$f":"IF('Contractor Fresh Test Data'!$C$21=\"\",\"\",'Contractor Fresh Test Data'!$C$21)","v":"Contractor:Fresh"},{"$f":"IF('Contractor Fresh Test Data'!$B$39=\"\",\"\",'Contractor Fresh Test Data'!$B$39)","v":9},{"$f":"IF('Contractor Fresh Test Data'!$F$27=\"\",\"\",'Contractor Fresh Test Data'!$F$27)","v":"Meets Job Control Requirements"}]
[1437,{"$f":"IF('Contractor Fresh Test Data'!$G$39=\"\",\"\",'Contractor Fresh Test Data'!$G$39)","v":""},{"$f":"IF('Contractor Fresh Test Data'!$C$21=\"\",\"\",'Contractor Fresh Test Data'!$C$21)","v":"Contractor:Fresh"},{"$f":"IF('Contractor Fresh Test Data'!$B$39=\"\",\"\",'Contractor Fresh Test Data'!$B$39)","v":9},{"$f":"IF('Contractor Fresh Test Data'!$G$27=\"\",\"\",'Contractor Fresh Test Data'!$G$27)","v":"Air Content"},{"$f":"IF('Contractor Fresh Test Data'!$G$29=\"\",\"\",'Contractor Fresh Test Data'!$G$29)","v":"Uncorrected Air Content (%)"}]
[1438,{"$f":"IF('Contractor Fresh Test Data'!$H$39=\"\",\"\",'Contractor Fresh Test Data'!$H$39)","v":""},{"$f":"IF('Contractor Fresh Test Data'!$C$21=\"\",\"\",'Contractor Fresh Test Data'!$C$21)","v":"Contractor:Fresh"},{"$f":"IF('Contractor Fresh Test Data'!$B$39=\"\",\"\",'Contractor Fresh Test Data'!$B$39)","v":9},{"$f":"IF('Contractor Fresh Test Data'!$G$27=\"\",\"\",'Contractor Fresh Test Data'!$G$27)","v":"Air Content"},{"$f":"IF('Contractor Fresh Test Data'!$H$29=\"\",\"\",'Contractor Fresh Test Data'!$H$29)","v":"Aggr. Correction Factor (%)"}]
[1439,{"$f":"IF('Contractor Fresh Test Data'!$I$39=\"\",\"\",'Contractor Fresh Test Data'!$I$39)","v":""},{"$f":"IF('Contractor Fresh Test Data'!$C$21=\"\",\"\",'Contractor Fresh Test Data'!$C$21)","v":"Contractor:Fresh"},{"$f":"IF('Contractor Fresh Test Data'!$B$39=\"\",\"\",'Contractor Fresh Test Data'!$B$39)","v":9},{"$f":"IF('Contractor Fresh Test Data'!$G$27=\"\",\"\",'Contractor Fresh Test Data'!$G$27)","v":"Air Content"},{"$f":"IF('Contractor Fresh Test Data'!$I$29=\"\",\"\",'Contractor Fresh Test Data'!$I$29)","v":""}]
[1440,{"$f":"IF('Contractor Fresh Test Data'!$J$39=\"\",\"\",'Contractor Fresh Test Data'!$J$39)","v":""},{"$f":"IF('Contractor Fresh Test Data'!$C$21=\"\",\"\",'Contractor Fresh Test Data'!$C$21)","v":"Contractor:Fresh"},{"$f":"IF('Contractor Fresh Test Data'!$B$39=\"\",\"\",'Contractor Fresh Test Data'!$B$39)","v":9},{"$f":"IF('Contractor Fresh Test Data'!$G$27=\"\",\"\",'Contractor Fresh Test Data'!$G$27)","v":"Air Content"},{"$f":"IF('Contractor Fresh Test Data'!$J$29=\"\",\"\",'Contractor Fresh Test Data'!$J$29)","v":"Corrected Air Content (%)"}]
[1441,{"$f":"IF('Contractor Fresh Test Data'!$K$39=\"\",\"\",'Contractor Fresh Test Data'!$K$39)","v":""},{"$f":"IF('Contractor Fresh Test Data'!$C$21=\"\",\"\",'Contractor Fresh Test Data'!$C$21)","v":"Contractor:Fresh"},{"$f":"IF('Contractor Fresh Test Data'!$B$39=\"\",\"\",'Contractor Fresh Test Data'!$B$39)","v":9},{"$f":"IF('Contractor Fresh Test Data'!$K$27=\"\",\"\",'Contractor Fresh Test Data'!$K$27)","v":"Meets Job Control Requirements"}]
[1442,{"$f":"IF('Contractor Fresh Test Data'!$C$40=\"\",\"\",'Contractor Fresh Test Data'!$C$40)","v":""},{"$f":"IF('Contractor Fresh Test Data'!$C$21=\"\",\"\",'Contractor Fresh Test Data'!$C$21)","v":"Contractor:Fresh"},{"$f":"IF('Contractor Fresh Test Data'!$B$40=\"\",\"\",'Contractor Fresh Test Data'!$B$40)","v":10},{"$f":"IF('Contractor Fresh Test Data'!$C$27=\"\",\"\",'Contractor Fresh Test Data'!$C$27)","v":"Slump (inches)"},{"$f":"IF('Contractor Fresh Test Data'!$C$30=\"\",\"\",'Contractor Fresh Test Data'!$C$30)","v":"Tex-415-A"}]
[1443,{"$f":"IF('Contractor Fresh Test Data'!$D$40=\"\",\"\",'Contractor Fresh Test Data'!$D$40)","v":""},{"$f":"IF('Contractor Fresh Test Data'!$C$21=\"\",\"\",'Contractor Fresh Test Data'!$C$21)","v":"Contractor:Fresh"},{"$f":"IF('Contractor Fresh Test Data'!$B$40=\"\",\"\",'Contractor Fresh Test Data'!$B$40)","v":10},{"$f":"IF('Contractor Fresh Test Data'!$D$27=\"\",\"\",'Contractor Fresh Test Data'!$D$27)","v":"Meets Job Control Requirements"}]
[1444,{"$f":"IF('Contractor Fresh Test Data'!$E$40=\"\",\"\",'Contractor Fresh Test Data'!$E$40)","v":""},{"$f":"IF('Contractor Fresh Test Data'!$C$21=\"\",\"\",'Contractor Fresh Test Data'!$C$21)","v":"Contractor:Fresh"},{"$f":"IF('Contractor Fresh Test Data'!$B$40=\"\",\"\",'Contractor Fresh Test Data'!$B$40)","v":10},{"$f":"IF('Contractor Fresh Test Data'!$E$27=\"\",\"\",'Contractor Fresh Test Data'!$E$27)","v":"Temperature (°F)"},{"$f":"IF('Contractor Fresh Test Data'!$E$30=\"\",\"\",'Contractor Fresh Test Data'!$E$30)","v":"Tex-422-A"}]
[1445,{"$f":"IF('Contractor Fresh Test Data'!$F$40=\"\",\"\",'Contractor Fresh Test Data'!$F$40)","v":""},{"$f":"IF('Contractor Fresh Test Data'!$C$21=\"\",\"\",'Contractor Fresh Test Data'!$C$21)","v":"Contractor:Fresh"},{"$f":"IF('Contractor Fresh Test Data'!$B$40=\"\",\"\",'Contractor Fresh Test Data'!$B$40)","v":10},{"$f":"IF('Contractor Fresh Test Data'!$F$27=\"\",\"\",'Contractor Fresh Test Data'!$F$27)","v":"Meets Job Control Requirements"}]
[1446,{"$f":"IF('Contractor Fresh Test Data'!$G$40=\"\",\"\",'Contractor Fresh Test Data'!$G$40)","v":""},{"$f":"IF('Contractor Fresh Test Data'!$C$21=\"\",\"\",'Contractor Fresh Test Data'!$C$21)","v":"Contractor:Fresh"},{"$f":"IF('Contractor Fresh Test Data'!$B$40=\"\",\"\",'Contractor Fresh Test Data'!$B$40)","v":10},{"$f":"IF('Contractor Fresh Test Data'!$G$27=\"\",\"\",'Contractor Fresh Test Data'!$G$27)","v":"Air Content"},{"$f":"IF('Contractor Fresh Test Data'!$G$29=\"\",\"\",'Contractor Fresh Test Data'!$G$29)","v":"Uncorrected Air Content (%)"}]
[1447,{"$f":"IF('Contractor Fresh Test Data'!$H$40=\"\",\"\",'Contractor Fresh Test Data'!$H$40)","v":""},{"$f":"IF('Contractor Fresh Test Data'!$C$21=\"\",\"\",'Contractor Fresh Test Data'!$C$21)","v":"Contractor:Fresh"},{"$f":"IF('Contractor Fresh Test Data'!$B$40=\"\",\"\",'Contractor Fresh Test Data'!$B$40)","v":10},{"$f":"IF('Contractor Fresh Test Data'!$G$27=\"\",\"\",'Contractor Fresh Test Data'!$G$27)","v":"Air Content"},{"$f":"IF('Contractor Fresh Test Data'!$H$29=\"\",\"\",'Contractor Fresh Test Data'!$H$29)","v":"Aggr. Correction Factor (%)"}]
[1448,{"$f":"IF('Contractor Fresh Test Data'!$I$40=\"\",\"\",'Contractor Fresh Test Data'!$I$40)","v":""},{"$f":"IF('Contractor Fresh Test Data'!$C$21=\"\",\"\",'Contractor Fresh Test Data'!$C$21)","v":"Contractor:Fresh"},{"$f":"IF('Contractor Fresh Test Data'!$B$40=\"\",\"\",'Contractor Fresh Test Data'!$B$40)","v":10},{"$f":"IF('Contractor Fresh Test Data'!$G$27=\"\",\"\",'Contractor Fresh Test Data'!$G$27)","v":"Air Content"},{"$f":"IF('Contractor Fresh Test Data'!$I$29=\"\",\"\",'Contractor Fresh Test Data'!$I$29)","v":""}]
[1449,{"$f":"IF('Contractor Fresh Test Data'!$J$40=\"\",\"\",'Contractor Fresh Test Data'!$J$40)","v":""},{"$f":"IF('Contractor Fresh Test Data'!$C$21=\"\",\"\",'Contractor Fresh Test Data'!$C$21)","v":"Contractor:Fresh"},{"$f":"IF('Contractor Fresh Test Data'!$B$40=\"\",\"\",'Contractor Fresh Test Data'!$B$40)","v":10},{"$f":"IF('Contractor Fresh Test Data'!$G$27=\"\",\"\",'Contractor Fresh Test Data'!$G$27)","v":"Air Content"},{"$f":"IF('Contractor Fresh Test Data'!$J$29=\"\",\"\",'Contractor Fresh Test Data'!$J$29)","v":"Corrected Air Content (%)"}]
[1450,{"$f":"IF('Contractor Fresh Test Data'!$K$40=\"\",\"\",'Contractor Fresh Test Data'!$K$40)","v":""},{"$f":"IF('Contractor Fresh Test Data'!$C$21=\"\",\"\",'Contractor Fresh Test Data'!$C$21)","v":"Contractor:Fresh"},{"$f":"IF('Contractor Fresh Test Data'!$B$40=\"\",\"\",'Contractor Fresh Test Data'!$B$40)","v":10},{"$f":"IF('Contractor Fresh Test Data'!$K$27=\"\",\"\",'Contractor Fresh Test Data'!$K$27)","v":"Meets Job Control Requirements"}]
[1451,{"$f":"IF('Contractor Fresh Test Data'!$N$31=\"\",\"\",'Contractor Fresh Test Data'!$N$31)","v":""},{"$f":"IF('Contractor Fresh Test Data'!$C$21=\"\",\"\",'Contractor Fresh Test Data'!$C$21)","v":"Contractor:Fresh"},{"$f":"IF('Contractor Fresh Test Data'!$O$31=\"\",\"\",'Contractor Fresh Test Data'!$O$31)","v":"Minimum Air Content Tolerance"}]
[1452,{"$f":"IF('Contractor Fresh Test Data'!$N$32=\"\",\"\",'Contractor Fresh Test Data'!$N$32)","v":""},{"$f":"IF('Contractor Fresh Test Data'!$C$21=\"\",\"\",'Contractor Fresh Test Data'!$C$21)","v":"Contractor:Fresh"},{"$f":"IF('Contractor Fresh Test Data'!$O$32=\"\",\"\",'Contractor Fresh Test Data'!$O$32)","v":"Maximum Air Content Tolerance"}]
[1453,{"$f":"IF('Contractor Fresh Test Data'!$N$33=\"\",\"\",'Contractor Fresh Test Data'!$N$33)","v":""},{"$f":"IF('Contractor Fresh Test Data'!$C$21=\"\",\"\",'Contractor Fresh Test Data'!$C$21)","v":"Contractor:Fresh"},{"$f":"IF('Contractor Fresh Test Data'!$O$33=\"\",\"\",'Contractor Fresh Test Data'!$O$33)","v":"Maximum Air Content Tolerance with Special Circumstances"}]
[1454,{"$f":"IF('TxDOT Fresh Test Data'!$D$45=\"\",\"\",'TxDOT Fresh Test Data'!$D$45)","v":""},"Tested By ",{"$f":"IF(Summary!$C$150=\"\",\"\",Summary!$C$150)","v":"TX414"},"TxDOT"]
[1455,{"$f":"IF('TxDOT Fresh Test Data'!$G$45=\"\",\"\",'TxDOT Fresh Test Data'!$G$45)","v":""},"Tested Date ",{"$f":"IF(Summary!$C$150=\"\",\"\",Summary!$C$150)","v":"TX414"},"TxDOT"]
[1456,{"$f":"IF('TxDOT Fresh Test Data'!$D$47=\"\",\"\",'TxDOT Fresh Test Data'!$D$47)","v":""},"Tested By ",{"$f":"IF(Summary!$C$151=\"\",\"\",Summary!$C$151)","v":"TX415"},"TxDOT"]
[1457,{"$f":"IF('TxDOT Fresh Test Data'!$G$47=\"\",\"\",'TxDOT Fresh Test Data'!$G$47)","v":""},"Tested Date ",{"$f":"IF(Summary!$C$151=\"\",\"\",Summary!$C$151)","v":"TX415"},"TxDOT"]
[1458,{"$f":"IF('TxDOT Fresh Test Data'!$D$49=\"\",\"\",'TxDOT Fresh Test Data'!$D$49)","v":""},"Tested By ",{"$f":"IF(Summary!$C$152=\"\",\"\",Summary!$C$152)","v":"TX416"},"TxDOT"]
[1459,{"$f":"IF('TxDOT Fresh Test Data'!$G$49=\"\",\"\",'TxDOT Fresh Test Data'!$G$49)","v":""},"Tested Date ",{"$f":"IF(Summary!$C$152=\"\",\"\",Summary!$C$152)","v":"TX416"},"TxDOT"]
[1460,{"$f":"IF('TxDOT Test Data'!$D$86=\"\",\"\",'TxDOT Test Data'!$D$86)","v":""},"Tested By ",{"$f":"IF(Summary!$C$153=\"\",\"\",Summary!$C$153)","v":"TX418"},"TxDOT"]
[1461,{"$f":"IF('TxDOT Test Data'!$G$86=\"\",\"\",'TxDOT Test Data'!$G$86)","v":""},"Tested Date ",{"$f":"IF(Summary!$C$153=\"\",\"\",Summary!$C$153)","v":"TX418"},"TxDOT"]
[1462,{"$f":"IF('TxDOT Fresh Test Data'!$D$51=\"\",\"\",'TxDOT Fresh Test Data'!$D$51)","v":""},"Tested By ",{"$f":"IF(Summary!$C$154=\"\",\"\",Summary!$C$154)","v":"TX422"},"TxDOT"]
[1463,{"$f":"IF('TxDOT Fresh Test Data'!$G$51=\"\",\"\",'TxDOT Fresh Test Data'!$G$51)","v":""},"Tested Date ",{"$f":"IF(Summary!$C$154=\"\",\"\",Summary!$C$154)","v":"TX422"},"TxDOT"]
[1464,{"$f":"IF('TxDOT Test Data'!$D$88=\"\",\"\",'TxDOT Test Data'!$D$88)","v":""},"Tested By ",{"$f":"IF(Summary!$C$155=\"\",\"\",Summary!$C$155)","v":"TX448"},"TxDOT"]
[1465,{"$f":"IF('TxDOT Test Data'!$G$88=\"\",\"\",'TxDOT Test Data'!$G$88)","v":""},"Tested Date ",{"$f":"IF(Summary!$C$155=\"\",\"\",Summary!$C$155)","v":"TX448"},"TxDOT"]
[1466,{"$f":"IF(Summary!J23=\"\", \"\", Summary!J23)","v":""},"Summary",{"$f":"Summary!I23","v":"Mix Design:"}]
[1467,{"$f":"IF('TxDOT Test Data'!$D$84=\"\",\"\",'TxDOT Test Data'!$D$84)","v":""},"Sampled By ",{"$f":"IF('TxDOT Test Data'!$C$84=\"\",\"\",'TxDOT Test Data'!$C$84)","v":"TX407"},"TxDOT"]
[1468,{"$f":"IF('TxDOT Test Data'!$G$43=\"\",\"\",'TxDOT Test Data'!$G$43)","v":""},"Sampled Date ",{"$f":"IF('TxDOT Test Data'!$C$84=\"\",\"\",'TxDOT Test Data'!$C$84)","v":"TX407"},"TxDOT"]
[1469,{"$f":"IF('TxDOT Fresh Test Data'!$D$43=\"\",\"\",'TxDOT Fresh Test Data'!$D$43)","v":""},"Sampled By ",{"$f":"IF('TxDOT Fresh Test Data'!$C$43=\"\",\"\",'TxDOT Fresh Test Data'!$C$43)","v":"TX407"},"TxDOT"]
[1470,{"$f":"IF('TxDOT Fresh Test Data'!$G$43=\"\",\"\",'TxDOT Fresh Test Data'!$G$43)","v":""},"Sampled Date ",{"$f":"IF('TxDOT Fresh Test Data'!$C$43=\"\",\"\",'TxDOT Fresh Test Data'!$C$43)","v":"TX407"},"TxDOT"]

{"sheet":"Revisions","index":7,"n_rows":31,"n_cols":4,"rows_kept":31,"cut":false,"hidden":true,"merged":[]}
["Date","Changes","by","Comments"]
["2005-05-25","Sheet L to D lookup cell D2,D3,D4 unprotect,  add fields Field527,528,529","Joe Liu"]
["2005-06-22","Unprotect Summy-F29,J28 Contractor Test Data -F27,J26 TxDot Data -F27,J26,  Add fields 530 to 541, UPLC from 529 to 541","Joe Liu"]
["2005-08-02","Corrected error in K60:K79 and L32:L51 in Contractor Test Data","Stephen Guerra"]
["2005-08-02","Corrected error in K60:K79 and L32:L51 in TxDOT Test Data","Stephen Guerra"]
["2005-08-02","Inserted cells necessary into L to D Lookup for above corrections","Stephen Guerra"]
["2006-01-04","Corrected formula error in L40:L51 in Contractor Test Data","Jennifer Moore"]
["2006-01-04","Added formula to cells M38:M49 in Contractor Test Data","Jennifer Moore"]
["2006-01-20","Added formula to cells M38:M49 in TxDOT Test Data","Jennifer Moore"]
["2006-03-26","Removed blanks in CorrectionFactors table on L to D Lookup worksheet","Jennifer Moore"]
["2006-03-26","Added formula to K38:K49 in Contractor Test Data","Jennifer Moore"]
["2006-03-26","Added formula to H38:H49 in Contractor Test Data","Jennifer Moore"]
["2006-03-26","Added formula to H66:H77 in Contractor Test Data","Jennifer Moore"]
["2006-03-26","Added formula to K38:K49 in TxDOT Test Data","Jennifer Moore"]
["2006-03-26","Added formula to H38:H49 in TxDOT Test Data","Jennifer Moore"]
["2006-03-26","Added formula to H66:H77 in TxDOT Test Data","Jennifer Moore"]
["2006-03-26","Formatted L32:51 in Contractor Test Data to have no decimal places.","Jennifer Moore"]
["2006-03-26","Formatted L32:51 in TxDOT Test Data to have no decimal places.","Jennifer Moore"]
["2006-03-26","Corrected formula in E46:F47 on L to D Lookup worksheet","Jennifer Moore"]
["2006-03-26","Added formulas in colums G and H on L to D Lookup worksheet for TxDOT Test Data","Jennifer Moore"]
["2006-03-26","Corrected formula in L32:L51 on TxDOT Test Data to reflect change to above.","Jennifer Moore"]
["2006-03-26","Corrected formula in E38:F52 in L to D Lookup worksheet","Jennifer Moore"]
["2006-03-26","Corrected formula in G55 and G85 in Summary worksheet","Jennifer Moore"]
["2006-03-26","Corrected formula in K60:K79 in TxDOT Test Data","Jennifer Moore"]
["2006-03-26","Corrected formula in Summary worksheet, cells G35:G54, G65:G84, I35:I54, and I65:I84","Jennifer Moore"]
["2006-03-26","Corrected formula in Summary worksheet, cells J35:J54, J65:J84, L35:L54, and LI65:L84","Jennifer Moore"]
["2009-08-11","- Added fresh properties worksheets for Contractor and TxDOT\n- Added fresh properties to summary sheet\n- Added space to add grade of aggregate to both Contractor and TxDOT Tex-418-A testing\n- Added hidden formulas that determine if message to verify appropriateness of cylinder size to both Contractor and TxDOT Tex-418-A testing\n- Update L/D correction factors","Jennifer Moore"]
["2009-10-15","- Update correction factors\n- Updated formulas (J31:J40 on both contractor fresh and TxDOT fresh sheets) to round to nearest whole number before vlookup ctable\n- Correct split sample percent difference for air content (cells: E124:E133 on Summary sheet)","Jennifer Moore"]
["2010-04-19","Changed label in summary sheet c28&29 59&60 to not include user input string but the word \"other\".","SDEWITT"]
["2010-06-02","Reformatted RX sheet and test method and corrected others removed 3200 and 520 from always displaying in RX sheet","SDEWITT"]
["2010-12-13","Added cast date to the Txdot and Contractor Test Data pages. Changed Summary page to look at those dates.","SDEWITT"]

{"sheet":"L to D Lookup","index":8,"n_rows":114,"n_cols":8,"rows_kept":114,"cut":false,"hidden":true,"merged":[[31,4,31,5],[31,6,31,7],[30,4,30,7],[0,4,0,7],[2,2,2,3],[1,4,1,5],[1,6,1,7]]}
[null,null,null,null,"Flexural Strength"]
[null,null,null,null,"Contractor Test Data",null,"TxDOT Test Data"]
["Length to Diameter Ratio","Correction Factor","Display These Test Methods",null,"English MOR","Metric MOR","English MOR","Metric MOR"]
[1,0.87,"flexural",null,{"$f":"IF(ISERROR(IF('Contractor Test Data'!$K61>('Contractor Test Data'!$I61*0.05),\"RETEST\",IF('Contractor Test Data'!$K61=0,((('Contractor Test Data'!$J61*6^3/'Contractor Test Data'!$I61)*'Contractor Test Data'!$I61)/('Contractor Test Data'!$G61*'Contractor Test Data'!$H61^2)),3*((('Contractor Test Data'!$J61*6^3/'Contractor Test Data'!$I61)*('Contractor Test Data'!$I61/3-'Contractor Test Data'!$K61))/('Contractor Test Data'!$G61*'Contractor Test Data'!$H61^2))))),\"\",IF('Contractor Test Data'!$K61>('Contractor Test Data'!$I61*0.05),\"RETEST\",IF('Contractor Test Data'!$K61=0,((('Contractor Test Data'!$J61*6^3/'Contractor Test Data'!$I61)*'Contractor Test Data'!$I61)/('Contractor Test Data'!$G61*'Contractor Test Data'!$H61^2)),3*((('Contractor Test Data'!$J61*6^3/'Contractor Test Data'!$I61)*('Contractor Test Data'!$I61/3-'Contractor Test Data'!$K61))/('Contractor Test Data'!$G61*'Contractor Test Data'!$H61^2)))))","v":""},{"$f":"IF(ISERROR(IF('Contractor Test Data'!$K61>('Contractor Test Data'!$I61*0.05),\"RETEST\",IF('Contractor Test Data'!$K61=0,(((('Contractor Test Data'!$J61*1000)*('Contractor Test Data'!$I61))/(('Contractor Test Data'!$G61)*(('Contractor Test Data'!$H61))^2))),(3*((('Contractor Test Data'!$J61*1000)*('Contractor Test Data'!$I61/3-'Contractor Test Data'!$K61))/('Contractor Test Data'!$G61*'Contractor Test Data'!$H61^2)))))),\"\",IF('Contractor Test Data'!$K61>('Contractor Test Data'!$I61*0.05),\"RETEST\",IF('Contractor Test Data'!$K61=0,(((('Contractor Test Data'!$J61*1000)*('Contractor Test Data'!$I61))/(('Contractor Test Data'!$G61)*(('Contractor Test Data'!$H61))^2))),(3*((('Contractor Test Data'!$J61*1000)*('Contractor Test Data'!$I61/3-'Contractor Test Data'!$K61))/('Contractor Test Data'!$G61*'Contractor Test Data'!$H61^2))))))","v":""},{"$f":"IF(ISERROR(IF('TxDOT Test Data'!$K61>('TxDOT Test Data'!$I61*0.05),\"RETEST\",IF('TxDOT Test Data'!$K61=0,((('TxDOT Test Data'!$J61*6^3/'TxDOT Test Data'!$I61)*'TxDOT Test Data'!$I61)/('TxDOT Test Data'!$G61*'TxDOT Test Data'!$H61^2)),3*((('TxDOT Test Data'!$J61*6^3/'TxDOT Test Data'!$I61)*('TxDOT Test Data'!$I61/3-'TxDOT Test Data'!$K61))/('TxDOT Test Data'!$G61*'TxDOT Test Data'!$H61^2))))),\"\",IF('TxDOT Test Data'!$K61>('TxDOT Test Data'!$I61*0.05),\"RETEST\",IF('TxDOT Test Data'!$K61=0,((('TxDOT Test Data'!$J61*6^3/'TxDOT Test Data'!$I61)*'TxDOT Test Data'!$I61)/('TxDOT Test Data'!$G61*'TxDOT Test Data'!$H61^2)),3*((('TxDOT Test Data'!$J61*6^3/'TxDOT Test Data'!$I61)*('TxDOT Test Data'!$I61/3-'TxDOT Test Data'!$K61))/('TxDOT Test Data'!$G61*'TxDOT Test Data'!$H61^2)))))","v":""},{"$f":"IF(ISERROR(IF('TxDOT Test Data'!$K61>('TxDOT Test Data'!$I61*0.05),\"RETEST\",IF('TxDOT Test Data'!$K61=0,(((('TxDOT Test Data'!$J61*1000)*('TxDOT Test Data'!$I61))/(('TxDOT Test Data'!$G61)*(('TxDOT Test Data'!$H61))^2))),(3*((('TxDOT Test Data'!$J61*1000)*('TxDOT Test Data'!$I61/3-'TxDOT Test Data'!$K61))/('TxDOT Test Data'!$G61*'TxDOT Test Data'!$H61^2)))))),\"\",IF('TxDOT Test Data'!$K61>('TxDOT Test Data'!$I61*0.05),\"RETEST\",IF('TxDOT Test Data'!$K61=0,(((('TxDOT Test Data'!$J61*1000)*('TxDOT Test Data'!$I61))/(('TxDOT Test Data'!$G61)*(('TxDOT Test Data'!$H61))^2))),(3*((('TxDOT Test Data'!$J61*1000)*('TxDOT Test Data'!$I61/3-'TxDOT Test Data'!$K61))/('TxDOT Test Data'!$G61*'TxDOT Test Data'!$H61^2))))))","v":""}]
[1.01,0.87239999999999995,"compressive",null,{"$f":"IF(ISERROR(IF('Contractor Test Data'!$K62>('Contractor Test Data'!$I62*0.05),\"RETEST\",IF('Contractor Test Data'!K62=0,((('Contractor Test Data'!$J62*6^3/'Contractor Test Data'!I62)*'Contractor Test Data'!$I62)/('Contractor Test Data'!$G62*'Contractor Test Data'!$H62^2)),3*((('Contractor Test Data'!$J62*6^3/'Contractor Test Data'!I62)*('Contractor Test Data'!I62/3-'Contractor Test Data'!$K62))/('Contractor Test Data'!$G62*'Contractor Test Data'!$H62^2))))),\"\",IF('Contractor Test Data'!$K62>('Contractor Test Data'!$I62*0.05),\"RETEST\",IF('Contractor Test Data'!K62=0,((('Contractor Test Data'!$J62*6^3/'Contractor Test Data'!I62)*'Contractor Test Data'!$I62)/('Contractor Test Data'!$G62*'Contractor Test Data'!$H62^2)),3*((('Contractor Test Data'!$J62*6^3/'Contractor Test Data'!I62)*('Contractor Test Data'!I62/3-'Contractor Test Data'!$K62))/('Contractor Test Data'!$G62*'Contractor Test Data'!$H62^2)))))","v":""},{"$f":"IF(ISERROR(IF('Contractor Test Data'!$K62>('Contractor Test Data'!$I62*0.05),\"RETEST\",IF('Contractor Test Data'!K62=0,(((('Contractor Test Data'!$J62*1000)*('Contractor Test Data'!$I62))/(('Contractor Test Data'!$G62)*(('Contractor Test Data'!$H62))^2))),(3*((('Contractor Test Data'!$J62*1000)*('Contractor Test Data'!I62/3-'Contractor Test Data'!$K62))/('Contractor Test Data'!$G62*'Contractor Test Data'!$H62^2)))))),\"\",IF('Contractor Test Data'!$K62>('Contractor Test Data'!$I62*0.05),\"RETEST\",IF('Contractor Test Data'!K62=0,(((('Contractor Test Data'!$J62*1000)*('Contractor Test Data'!$I62))/(('Contractor Test Data'!$G62)*(('Contractor Test Data'!$H62))^2))),(3*((('Contractor Test Data'!$J62*1000)*('Contractor Test Data'!I62/3-'Contractor Test Data'!$K62))/('Contractor Test Data'!$G62*'Contractor Test Data'!$H62^2))))))","v":""},{"$f":"IF(ISERROR(IF('TxDOT Test Data'!$K62>('TxDOT Test Data'!$I62*0.05),\"RETEST\",IF('TxDOT Test Data'!$K62=0,((('TxDOT Test Data'!$J62*6^3/'TxDOT Test Data'!$I62)*'TxDOT Test Data'!$I62)/('TxDOT Test Data'!$G62*'TxDOT Test Data'!$H62^2)),3*((('TxDOT Test Data'!$J62*6^3/'TxDOT Test Data'!$I62)*('TxDOT Test Data'!$I62/3-'TxDOT Test Data'!$K62))/('TxDOT Test Data'!$G62*'TxDOT Test Data'!$H62^2))))),\"\",IF('TxDOT Test Data'!$K62>('TxDOT Test Data'!$I62*0.05),\"RETEST\",IF('TxDOT Test Data'!$K62=0,((('TxDOT Test Data'!$J62*6^3/'TxDOT Test Data'!$I62)*'TxDOT Test Data'!$I62)/('TxDOT Test Data'!$G62*'TxDOT Test Data'!$H62^2)),3*((('TxDOT Test Data'!$J62*6^3/'TxDOT Test Data'!$I62)*('TxDOT Test Data'!$I62/3-'TxDOT Test Data'!$K62))/('TxDOT Test Data'!$G62*'TxDOT Test Data'!$H62^2)))))","v":""},{"$f":"IF(ISERROR(IF('TxDOT Test Data'!$K62>('TxDOT Test Data'!$I62*0.05),\"RETEST\",IF('TxDOT Test Data'!$K62=0,(((('TxDOT Test Data'!$J62*1000)*('TxDOT Test Data'!$I62))/(('TxDOT Test Data'!$G62)*(('TxDOT Test Data'!$H62))^2))),(3*((('TxDOT Test Data'!$J62*1000)*('TxDOT Test Data'!$I62/3-'TxDOT Test Data'!$K62))/('TxDOT Test Data'!$G62*'TxDOT Test Data'!$H62^2)))))),\"\",IF('TxDOT Test Data'!$K62>('TxDOT Test Data'!$I62*0.05),\"RETEST\",IF('TxDOT Test Data'!$K62=0,(((('TxDOT Test Data'!$J62*1000)*('TxDOT Test Data'!$I62))/(('TxDOT Test Data'!$G62)*(('TxDOT Test Data'!$H62))^2))),(3*((('TxDOT Test Data'!$J62*1000)*('TxDOT Test Data'!$I62/3-'TxDOT Test Data'!$K62))/('TxDOT Test Data'!$G62*'TxDOT Test Data'!$H62^2))))))","v":""}]
[1.02,0.87480000000000002,"drilled cores",null,{"$f":"IF(ISERROR(IF('Contractor Test Data'!$K63>('Contractor Test Data'!$I63*0.05),\"RETEST\",IF('Contractor Test Data'!K63=0,((('Contractor Test Data'!$J63*6^3/'Contractor Test Data'!I63)*'Contractor Test Data'!$I63)/('Contractor Test Data'!$G63*'Contractor Test Data'!$H63^2)),3*((('Contractor Test Data'!$J63*6^3/'Contractor Test Data'!I63)*('Contractor Test Data'!I63/3-'Contractor Test Data'!$K63))/('Contractor Test Data'!$G63*'Contractor Test Data'!$H63^2))))),\"\",IF('Contractor Test Data'!$K63>('Contractor Test Data'!$I63*0.05),\"RETEST\",IF('Contractor Test Data'!K63=0,((('Contractor Test Data'!$J63*6^3/'Contractor Test Data'!I63)*'Contractor Test Data'!$I63)/('Contractor Test Data'!$G63*'Contractor Test Data'!$H63^2)),3*((('Contractor Test Data'!$J63*6^3/'Contractor Test Data'!I63)*('Contractor Test Data'!I63/3-'Contractor Test Data'!$K63))/('Contractor Test Data'!$G63*'Contractor Test Data'!$H63^2)))))","v":""},{"$f":"IF(ISERROR(IF('Contractor Test Data'!$K63>('Contractor Test Data'!$I63*0.05),\"RETEST\",IF('Contractor Test Data'!K63=0,(((('Contractor Test Data'!$J63*1000)*('Contractor Test Data'!$I63))/(('Contractor Test Data'!$G63)*(('Contractor Test Data'!$H63))^2))),(3*((('Contractor Test Data'!$J63*1000)*('Contractor Test Data'!I63/3-'Contractor Test Data'!$K63))/('Contractor Test Data'!$G63*'Contractor Test Data'!$H63^2)))))),\"\",IF('Contractor Test Data'!$K63>('Contractor Test Data'!$I63*0.05),\"RETEST\",IF('Contractor Test Data'!K63=0,(((('Contractor Test Data'!$J63*1000)*('Contractor Test Data'!$I63))/(('Contractor Test Data'!$G63)*(('Contractor Test Data'!$H63))^2))),(3*((('Contractor Test Data'!$J63*1000)*('Contractor Test Data'!I63/3-'Contractor Test Data'!$K63))/('Contractor Test Data'!$G63*'Contractor Test Data'!$H63^2))))))","v":""},{"$f":"IF(ISERROR(IF('TxDOT Test Data'!$K63>('TxDOT Test Data'!$I63*0.05),\"RETEST\",IF('TxDOT Test Data'!$K63=0,((('TxDOT Test Data'!$J63*6^3/'TxDOT Test Data'!$I63)*'TxDOT Test Data'!$I63)/('TxDOT Test Data'!$G63*'TxDOT Test Data'!$H63^2)),3*((('TxDOT Test Data'!$J63*6^3/'TxDOT Test Data'!$I63)*('TxDOT Test Data'!$I63/3-'TxDOT Test Data'!$K63))/('TxDOT Test Data'!$G63*'TxDOT Test Data'!$H63^2))))),\"\",IF('TxDOT Test Data'!$K63>('TxDOT Test Data'!$I63*0.05),\"RETEST\",IF('TxDOT Test Data'!$K63=0,((('TxDOT Test Data'!$J63*6^3/'TxDOT Test Data'!$I63)*'TxDOT Test Data'!$I63)/('TxDOT Test Data'!$G63*'TxDOT Test Data'!$H63^2)),3*((('TxDOT Test Data'!$J63*6^3/'TxDOT Test Data'!$I63)*('TxDOT Test Data'!$I63/3-'TxDOT Test Data'!$K63))/('TxDOT Test Data'!$G63*'TxDOT Test Data'!$H63^2)))))","v":""},{"$f":"IF(ISERROR(IF('TxDOT Test Data'!$K63>('TxDOT Test Data'!$I63*0.05),\"RETEST\",IF('TxDOT Test Data'!$K63=0,(((('TxDOT Test Data'!$J63*1000)*('TxDOT Test Data'!$I63))/(('TxDOT Test Data'!$G63)*(('TxDOT Test Data'!$H63))^2))),(3*((('TxDOT Test Data'!$J63*1000)*('TxDOT Test Data'!$I63/3-'TxDOT Test Data'!$K63))/('TxDOT Test Data'!$G63*'TxDOT Test Data'!$H63^2)))))),\"\",IF('TxDOT Test Data'!$K63>('TxDOT Test Data'!$I63*0.05),\"RETEST\",IF('TxDOT Test Data'!$K63=0,(((('TxDOT Test Data'!$J63*1000)*('TxDOT Test Data'!$I63))/(('TxDOT Test Data'!$G63)*(('TxDOT Test Data'!$H63))^2))),(3*((('TxDOT Test Data'!$J63*1000)*('TxDOT Test Data'!$I63/3-'TxDOT Test Data'!$K63))/('TxDOT Test Data'!$G63*'TxDOT Test Data'!$H63^2))))))","v":""}]
[1.03,0.87719999999999998,null,null,{"$f":"IF(ISERROR(IF('Contractor Test Data'!$K64>('Contractor Test Data'!$I64*0.05),\"RETEST\",IF('Contractor Test Data'!K64=0,((('Contractor Test Data'!$J64*6^3/'Contractor Test Data'!I64)*'Contractor Test Data'!$I64)/('Contractor Test Data'!$G64*'Contractor Test Data'!$H64^2)),3*((('Contractor Test Data'!$J64*6^3/'Contractor Test Data'!I64)*('Contractor Test Data'!I64/3-'Contractor Test Data'!$K64))/('Contractor Test Data'!$G64*'Contractor Test Data'!$H64^2))))),\"\",IF('Contractor Test Data'!$K64>('Contractor Test Data'!$I64*0.05),\"RETEST\",IF('Contractor Test Data'!K64=0,((('Contractor Test Data'!$J64*6^3/'Contractor Test Data'!I64)*'Contractor Test Data'!$I64)/('Contractor Test Data'!$G64*'Contractor Test Data'!$H64^2)),3*((('Contractor Test Data'!$J64*6^3/'Contractor Test Data'!I64)*('Contractor Test Data'!I64/3-'Contractor Test Data'!$K64))/('Contractor Test Data'!$G64*'Contractor Test Data'!$H64^2)))))","v":""},{"$f":"IF(ISERROR(IF('Contractor Test Data'!$K64>('Contractor Test Data'!$I64*0.05),\"RETEST\",IF('Contractor Test Data'!K64=0,(((('Contractor Test Data'!$J64*1000)*('Contractor Test Data'!$I64))/(('Contractor Test Data'!$G64)*(('Contractor Test Data'!$H64))^2))),(3*((('Contractor Test Data'!$J64*1000)*('Contractor Test Data'!I64/3-'Contractor Test Data'!$K64))/('Contractor Test Data'!$G64*'Contractor Test Data'!$H64^2)))))),\"\",IF('Contractor Test Data'!$K64>('Contractor Test Data'!$I64*0.05),\"RETEST\",IF('Contractor Test Data'!K64=0,(((('Contractor Test Data'!$J64*1000)*('Contractor Test Data'!$I64))/(('Contractor Test Data'!$G64)*(('Contractor Test Data'!$H64))^2))),(3*((('Contractor Test Data'!$J64*1000)*('Contractor Test Data'!I64/3-'Contractor Test Data'!$K64))/('Contractor Test Data'!$G64*'Contractor Test Data'!$H64^2))))))","v":""},{"$f":"IF(ISERROR(IF('TxDOT Test Data'!$K64>('TxDOT Test Data'!$I64*0.05),\"RETEST\",IF('TxDOT Test Data'!$K64=0,((('TxDOT Test Data'!$J64*6^3/'TxDOT Test Data'!$I64)*'TxDOT Test Data'!$I64)/('TxDOT Test Data'!$G64*'TxDOT Test Data'!$H64^2)),3*((('TxDOT Test Data'!$J64*6^3/'TxDOT Test Data'!$I64)*('TxDOT Test Data'!$I64/3-'TxDOT Test Data'!$K64))/('TxDOT Test Data'!$G64*'TxDOT Test Data'!$H64^2))))),\"\",IF('TxDOT Test Data'!$K64>('TxDOT Test Data'!$I64*0.05),\"RETEST\",IF('TxDOT Test Data'!$K64=0,((('TxDOT Test Data'!$J64*6^3/'TxDOT Test Data'!$I64)*'TxDOT Test Data'!$I64)/('TxDOT Test Data'!$G64*'TxDOT Test Data'!$H64^2)),3*((('TxDOT Test Data'!$J64*6^3/'TxDOT Test Data'!$I64)*('TxDOT Test Data'!$I64/3-'TxDOT Test Data'!$K64))/('TxDOT Test Data'!$G64*'TxDOT Test Data'!$H64^2)))))","v":""},{"$f":"IF(ISERROR(IF('TxDOT Test Data'!$K64>('TxDOT Test Data'!$I64*0.05),\"RETEST\",IF('TxDOT Test Data'!$K64=0,(((('TxDOT Test Data'!$J64*1000)*('TxDOT Test Data'!$I64))/(('TxDOT Test Data'!$G64)*(('TxDOT Test Data'!$H64))^2))),(3*((('TxDOT Test Data'!$J64*1000)*('TxDOT Test Data'!$I64/3-'TxDOT Test Data'!$K64))/('TxDOT Test Data'!$G64*'TxDOT Test Data'!$H64^2)))))),\"\",IF('TxDOT Test Data'!$K64>('TxDOT Test Data'!$I64*0.05),\"RETEST\",IF('TxDOT Test Data'!$K64=0,(((('TxDOT Test Data'!$J64*1000)*('TxDOT Test Data'!$I64))/(('TxDOT Test Data'!$G64)*(('TxDOT Test Data'!$H64))^2))),(3*((('TxDOT Test Data'!$J64*1000)*('TxDOT Test Data'!$I64/3-'TxDOT Test Data'!$K64))/('TxDOT Test Data'!$G64*'TxDOT Test Data'!$H64^2))))))","v":""}]
[1.04,0.87960000000000005,null,null,{"$f":"IF(ISERROR(IF('Contractor Test Data'!$K65>('Contractor Test Data'!$I65*0.05),\"RETEST\",IF('Contractor Test Data'!K65=0,((('Contractor Test Data'!$J65*6^3/'Contractor Test Data'!I65)*'Contractor Test Data'!$I65)/('Contractor Test Data'!$G65*'Contractor Test Data'!$H65^2)),3*((('Contractor Test Data'!$J65*6^3/'Contractor Test Data'!I65)*('Contractor Test Data'!I65/3-'Contractor Test Data'!$K65))/('Contractor Test Data'!$G65*'Contractor Test Data'!$H65^2))))),\"\",IF('Contractor Test Data'!$K65>('Contractor Test Data'!$I65*0.05),\"RETEST\",IF('Contractor Test Data'!K65=0,((('Contractor Test Data'!$J65*6^3/'Contractor Test Data'!I65)*'Contractor Test Data'!$I65)/('Contractor Test Data'!$G65*'Contractor Test Data'!$H65^2)),3*((('Contractor Test Data'!$J65*6^3/'Contractor Test Data'!I65)*('Contractor Test Data'!I65/3-'Contractor Test Data'!$K65))/('Contractor Test Data'!$G65*'Contractor Test Data'!$H65^2)))))","v":""},{"$f":"IF(ISERROR(IF('Contractor Test Data'!$K65>('Contractor Test Data'!$I65*0.05),\"RETEST\",IF('Contractor Test Data'!K65=0,(((('Contractor Test Data'!$J65*1000)*('Contractor Test Data'!$I65))/(('Contractor Test Data'!$G65)*(('Contractor Test Data'!$H65))^2))),(3*((('Contractor Test Data'!$J65*1000)*('Contractor Test Data'!I65/3-'Contractor Test Data'!$K65))/('Contractor Test Data'!$G65*'Contractor Test Data'!$H65^2)))))),\"\",IF('Contractor Test Data'!$K65>('Contractor Test Data'!$I65*0.05),\"RETEST\",IF('Contractor Test Data'!K65=0,(((('Contractor Test Data'!$J65*1000)*('Contractor Test Data'!$I65))/(('Contractor Test Data'!$G65)*(('Contractor Test Data'!$H65))^2))),(3*((('Contractor Test Data'!$J65*1000)*('Contractor Test Data'!I65/3-'Contractor Test Data'!$K65))/('Contractor Test Data'!$G65*'Contractor Test Data'!$H65^2))))))","v":""},{"$f":"IF(ISERROR(IF('TxDOT Test Data'!$K65>('TxDOT Test Data'!$I65*0.05),\"RETEST\",IF('TxDOT Test Data'!$K65=0,((('TxDOT Test Data'!$J65*6^3/'TxDOT Test Data'!$I65)*'TxDOT Test Data'!$I65)/('TxDOT Test Data'!$G65*'TxDOT Test Data'!$H65^2)),3*((('TxDOT Test Data'!$J65*6^3/'TxDOT Test Data'!$I65)*('TxDOT Test Data'!$I65/3-'TxDOT Test Data'!$K65))/('TxDOT Test Data'!$G65*'TxDOT Test Data'!$H65^2))))),\"\",IF('TxDOT Test Data'!$K65>('TxDOT Test Data'!$I65*0.05),\"RETEST\",IF('TxDOT Test Data'!$K65=0,((('TxDOT Test Data'!$J65*6^3/'TxDOT Test Data'!$I65)*'TxDOT Test Data'!$I65)/('TxDOT Test Data'!$G65*'TxDOT Test Data'!$H65^2)),3*((('TxDOT Test Data'!$J65*6^3/'TxDOT Test Data'!$I65)*('TxDOT Test Data'!$I65/3-'TxDOT Test Data'!$K65))/('TxDOT Test Data'!$G65*'TxDOT Test Data'!$H65^2)))))","v":""},{"$f":"IF(ISERROR(IF('TxDOT Test Data'!$K65>('TxDOT Test Data'!$I65*0.05),\"RETEST\",IF('TxDOT Test Data'!$K65=0,(((('TxDOT Test Data'!$J65*1000)*('TxDOT Test Data'!$I65))/(('TxDOT Test Data'!$G65)*(('TxDOT Test Data'!$H65))^2))),(3*((('TxDOT Test Data'!$J65*1000)*('TxDOT Test Data'!$I65/3-'TxDOT Test Data'!$K65))/('TxDOT Test Data'!$G65*'TxDOT Test Data'!$H65^2)))))),\"\",IF('TxDOT Test Data'!$K65>('TxDOT Test Data'!$I65*0.05),\"RETEST\",IF('TxDOT Test Data'!$K65=0,(((('TxDOT Test Data'!$J65*1000)*('TxDOT Test Data'!$I65))/(('TxDOT Test Data'!$G65)*(('TxDOT Test Data'!$H65))^2))),(3*((('TxDOT Test Data'!$J65*1000)*('TxDOT Test Data'!$I65/3-'TxDOT Test Data'!$K65))/('TxDOT Test Data'!$G65*'TxDOT Test Data'!$H65^2))))))","v":""}]
[1.05,0.88200000000000001,null,null,{"$f":"IF(ISERROR(IF('Contractor Test Data'!$K66>('Contractor Test Data'!$I66*0.05),\"RETEST\",IF('Contractor Test Data'!K66=0,((('Contractor Test Data'!$J66*6^3/'Contractor Test Data'!I66)*'Contractor Test Data'!$I66)/('Contractor Test Data'!$G66*'Contractor Test Data'!$H66^2)),3*((('Contractor Test Data'!$J66*6^3/'Contractor Test Data'!I66)*('Contractor Test Data'!I66/3-'Contractor Test Data'!$K66))/('Contractor Test Data'!$G66*'Contractor Test Data'!$H66^2))))),\"\",IF('Contractor Test Data'!$K66>('Contractor Test Data'!$I66*0.05),\"RETEST\",IF('Contractor Test Data'!K66=0,((('Contractor Test Data'!$J66*6^3/'Contractor Test Data'!I66)*'Contractor Test Data'!$I66)/('Contractor Test Data'!$G66*'Contractor Test Data'!$H66^2)),3*((('Contractor Test Data'!$J66*6^3/'Contractor Test Data'!I66)*('Contractor Test Data'!I66/3-'Contractor Test Data'!$K66))/('Contractor Test Data'!$G66*'Contractor Test Data'!$H66^2)))))","v":""},{"$f":"IF(ISERROR(IF('Contractor Test Data'!$K66>('Contractor Test Data'!$I66*0.05),\"RETEST\",IF('Contractor Test Data'!K66=0,(((('Contractor Test Data'!$J66*1000)*('Contractor Test Data'!$I66))/(('Contractor Test Data'!$G66)*(('Contractor Test Data'!$H66))^2))),(3*((('Contractor Test Data'!$J66*1000)*('Contractor Test Data'!I66/3-'Contractor Test Data'!$K66))/('Contractor Test Data'!$G66*'Contractor Test Data'!$H66^2)))))),\"\",IF('Contractor Test Data'!$K66>('Contractor Test Data'!$I66*0.05),\"RETEST\",IF('Contractor Test Data'!K66=0,(((('Contractor Test Data'!$J66*1000)*('Contractor Test Data'!$I66))/(('Contractor Test Data'!$G66)*(('Contractor Test Data'!$H66))^2))),(3*((('Contractor Test Data'!$J66*1000)*('Contractor Test Data'!I66/3-'Contractor Test Data'!$K66))/('Contractor Test Data'!$G66*'Contractor Test Data'!$H66^2))))))","v":""},{"$f":"IF(ISERROR(IF('TxDOT Test Data'!$K66>('TxDOT Test Data'!$I66*0.05),\"RETEST\",IF('TxDOT Test Data'!$K66=0,((('TxDOT Test Data'!$J66*6^3/'TxDOT Test Data'!$I66)*'TxDOT Test Data'!$I66)/('TxDOT Test Data'!$G66*'TxDOT Test Data'!$H66^2)),3*((('TxDOT Test Data'!$J66*6^3/'TxDOT Test Data'!$I66)*('TxDOT Test Data'!$I66/3-'TxDOT Test Data'!$K66))/('TxDOT Test Data'!$G66*'TxDOT Test Data'!$H66^2))))),\"\",IF('TxDOT Test Data'!$K66>('TxDOT Test Data'!$I66*0.05),\"RETEST\",IF('TxDOT Test Data'!$K66=0,((('TxDOT Test Data'!$J66*6^3/'TxDOT Test Data'!$I66)*'TxDOT Test Data'!$I66)/('TxDOT Test Data'!$G66*'TxDOT Test Data'!$H66^2)),3*((('TxDOT Test Data'!$J66*6^3/'TxDOT Test Data'!$I66)*('TxDOT Test Data'!$I66/3-'TxDOT Test Data'!$K66))/('TxDOT Test Data'!$G66*'TxDOT Test Data'!$H66^2)))))","v":""},{"$f":"IF(ISERROR(IF('TxDOT Test Data'!$K66>('TxDOT Test Data'!$I66*0.05),\"RETEST\",IF('TxDOT Test Data'!$K66=0,(((('TxDOT Test Data'!$J66*1000)*('TxDOT Test Data'!$I66))/(('TxDOT Test Data'!$G66)*(('TxDOT Test Data'!$H66))^2))),(3*((('TxDOT Test Data'!$J66*1000)*('TxDOT Test Data'!$I66/3-'TxDOT Test Data'!$K66))/('TxDOT Test Data'!$G66*'TxDOT Test Data'!$H66^2)))))),\"\",IF('TxDOT Test Data'!$K66>('TxDOT Test Data'!$I66*0.05),\"RETEST\",IF('TxDOT Test Data'!$K66=0,(((('TxDOT Test Data'!$J66*1000)*('TxDOT Test Data'!$I66))/(('TxDOT Test Data'!$G66)*(('TxDOT Test Data'!$H66))^2))),(3*((('TxDOT Test Data'!$J66*1000)*('TxDOT Test Data'!$I66/3-'TxDOT Test Data'!$K66))/('TxDOT Test Data'!$G66*'TxDOT Test Data'!$H66^2))))))","v":""}]
[1.06,0.88439999999999996,null,null,{"$f":"IF(ISERROR(IF('Contractor Test Data'!$K67>('Contractor Test Data'!$I67*0.05),\"RETEST\",IF('Contractor Test Data'!K67=0,((('Contractor Test Data'!$J67*6^3/'Contractor Test Data'!I67)*'Contractor Test Data'!$I67)/('Contractor Test Data'!$G67*'Contractor Test Data'!$H67^2)),3*((('Contractor Test Data'!$J67*6^3/'Contractor Test Data'!I67)*('Contractor Test Data'!I67/3-'Contractor Test Data'!$K67))/('Contractor Test Data'!$G67*'Contractor Test Data'!$H67^2))))),\"\",IF('Contractor Test Data'!$K67>('Contractor Test Data'!$I67*0.05),\"RETEST\",IF('Contractor Test Data'!K67=0,((('Contractor Test Data'!$J67*6^3/'Contractor Test Data'!I67)*'Contractor Test Data'!$I67)/('Contractor Test Data'!$G67*'Contractor Test Data'!$H67^2)),3*((('Contractor Test Data'!$J67*6^3/'Contractor Test Data'!I67)*('Contractor Test Data'!I67/3-'Contractor Test Data'!$K67))/('Contractor Test Data'!$G67*'Contractor Test Data'!$H67^2)))))","v":""},{"$f":"IF(ISERROR(IF('Contractor Test Data'!$K67>('Contractor Test Data'!$I67*0.05),\"RETEST\",IF('Contractor Test Data'!K67=0,(((('Contractor Test Data'!$J67*1000)*('Contractor Test Data'!$I67))/(('Contractor Test Data'!$G67)*(('Contractor Test Data'!$H67))^2))),(3*((('Contractor Test Data'!$J67*1000)*('Contractor Test Data'!I67/3-'Contractor Test Data'!$K67))/('Contractor Test Data'!$G67*'Contractor Test Data'!$H67^2)))))),\"\",IF('Contractor Test Data'!$K67>('Contractor Test Data'!$I67*0.05),\"RETEST\",IF('Contractor Test Data'!K67=0,(((('Contractor Test Data'!$J67*1000)*('Contractor Test Data'!$I67))/(('Contractor Test Data'!$G67)*(('Contractor Test Data'!$H67))^2))),(3*((('Contractor Test Data'!$J67*1000)*('Contractor Test Data'!I67/3-'Contractor Test Data'!$K67))/('Contractor Test Data'!$G67*'Contractor Test Data'!$H67^2))))))","v":""},{"$f":"IF(ISERROR(IF('TxDOT Test Data'!$K67>('TxDOT Test Data'!$I67*0.05),\"RETEST\",IF('TxDOT Test Data'!$K67=0,((('TxDOT Test Data'!$J67*6^3/'TxDOT Test Data'!$I67)*'TxDOT Test Data'!$I67)/('TxDOT Test Data'!$G67*'TxDOT Test Data'!$H67^2)),3*((('TxDOT Test Data'!$J67*6^3/'TxDOT Test Data'!$I67)*('TxDOT Test Data'!$I67/3-'TxDOT Test Data'!$K67))/('TxDOT Test Data'!$G67*'TxDOT Test Data'!$H67^2))))),\"\",IF('TxDOT Test Data'!$K67>('TxDOT Test Data'!$I67*0.05),\"RETEST\",IF('TxDOT Test Data'!$K67=0,((('TxDOT Test Data'!$J67*6^3/'TxDOT Test Data'!$I67)*'TxDOT Test Data'!$I67)/('TxDOT Test Data'!$G67*'TxDOT Test Data'!$H67^2)),3*((('TxDOT Test Data'!$J67*6^3/'TxDOT Test Data'!$I67)*('TxDOT Test Data'!$I67/3-'TxDOT Test Data'!$K67))/('TxDOT Test Data'!$G67*'TxDOT Test Data'!$H67^2)))))","v":""},{"$f":"IF(ISERROR(IF('TxDOT Test Data'!$K67>('TxDOT Test Data'!$I67*0.05),\"RETEST\",IF('TxDOT Test Data'!$K67=0,(((('TxDOT Test Data'!$J67*1000)*('TxDOT Test Data'!$I67))/(('TxDOT Test Data'!$G67)*(('TxDOT Test Data'!$H67))^2))),(3*((('TxDOT Test Data'!$J67*1000)*('TxDOT Test Data'!$I67/3-'TxDOT Test Data'!$K67))/('TxDOT Test Data'!$G67*'TxDOT Test Data'!$H67^2)))))),\"\",IF('TxDOT Test Data'!$K67>('TxDOT Test Data'!$I67*0.05),\"RETEST\",IF('TxDOT Test Data'!$K67=0,(((('TxDOT Test Data'!$J67*1000)*('TxDOT Test Data'!$I67))/(('TxDOT Test Data'!$G67)*(('TxDOT Test Data'!$H67))^2))),(3*((('TxDOT Test Data'!$J67*1000)*('TxDOT Test Data'!$I67/3-'TxDOT Test Data'!$K67))/('TxDOT Test Data'!$G67*'TxDOT Test Data'!$H67^2))))))","v":""}]
[1.07,0.88680000000000003,null,null,{"$f":"IF(ISERROR(IF('Contractor Test Data'!$K68>('Contractor Test Data'!$I68*0.05),\"RETEST\",IF('Contractor Test Data'!K68=0,((('Contractor Test Data'!$J68*6^3/'Contractor Test Data'!I68)*'Contractor Test Data'!$I68)/('Contractor Test Data'!$G68*'Contractor Test Data'!$H68^2)),3*((('Contractor Test Data'!$J68*6^3/'Contractor Test Data'!I68)*('Contractor Test Data'!I68/3-'Contractor Test Data'!$K68))/('Contractor Test Data'!$G68*'Contractor Test Data'!$H68^2))))),\"\",IF('Contractor Test Data'!$K68>('Contractor Test Data'!$I68*0.05),\"RETEST\",IF('Contractor Test Data'!K68=0,((('Contractor Test Data'!$J68*6^3/'Contractor Test Data'!I68)*'Contractor Test Data'!$I68)/('Contractor Test Data'!$G68*'Contractor Test Data'!$H68^2)),3*((('Contractor Test Data'!$J68*6^3/'Contractor Test Data'!I68)*('Contractor Test Data'!I68/3-'Contractor Test Data'!$K68))/('Contractor Test Data'!$G68*'Contractor Test Data'!$H68^2)))))","v":""},{"$f":"IF(ISERROR(IF('Contractor Test Data'!$K68>('Contractor Test Data'!$I68*0.05),\"RETEST\",IF('Contractor Test Data'!K68=0,(((('Contractor Test Data'!$J68*1000)*('Contractor Test Data'!$I68))/(('Contractor Test Data'!$G68)*(('Contractor Test Data'!$H68))^2))),(3*((('Contractor Test Data'!$J68*1000)*('Contractor Test Data'!I68/3-'Contractor Test Data'!$K68))/('Contractor Test Data'!$G68*'Contractor Test Data'!$H68^2)))))),\"\",IF('Contractor Test Data'!$K68>('Contractor Test Data'!$I68*0.05),\"RETEST\",IF('Contractor Test Data'!K68=0,(((('Contractor Test Data'!$J68*1000)*('Contractor Test Data'!$I68))/(('Contractor Test Data'!$G68)*(('Contractor Test Data'!$H68))^2))),(3*((('Contractor Test Data'!$J68*1000)*('Contractor Test Data'!I68/3-'Contractor Test Data'!$K68))/('Contractor Test Data'!$G68*'Contractor Test Data'!$H68^2))))))","v":""},{"$f":"IF(ISERROR(IF('TxDOT Test Data'!$K68>('TxDOT Test Data'!$I68*0.05),\"RETEST\",IF('TxDOT Test Data'!$K68=0,((('TxDOT Test Data'!$J68*6^3/'TxDOT Test Data'!$I68)*'TxDOT Test Data'!$I68)/('TxDOT Test Data'!$G68*'TxDOT Test Data'!$H68^2)),3*((('TxDOT Test Data'!$J68*6^3/'TxDOT Test Data'!$I68)*('TxDOT Test Data'!$I68/3-'TxDOT Test Data'!$K68))/('TxDOT Test Data'!$G68*'TxDOT Test Data'!$H68^2))))),\"\",IF('TxDOT Test Data'!$K68>('TxDOT Test Data'!$I68*0.05),\"RETEST\",IF('TxDOT Test Data'!$K68=0,((('TxDOT Test Data'!$J68*6^3/'TxDOT Test Data'!$I68)*'TxDOT Test Data'!$I68)/('TxDOT Test Data'!$G68*'TxDOT Test Data'!$H68^2)),3*((('TxDOT Test Data'!$J68*6^3/'TxDOT Test Data'!$I68)*('TxDOT Test Data'!$I68/3-'TxDOT Test Data'!$K68))/('TxDOT Test Data'!$G68*'TxDOT Test Data'!$H68^2)))))","v":""},{"$f":"IF(ISERROR(IF('TxDOT Test Data'!$K68>('TxDOT Test Data'!$I68*0.05),\"RETEST\",IF('TxDOT Test Data'!$K68=0,(((('TxDOT Test Data'!$J68*1000)*('TxDOT Test Data'!$I68))/(('TxDOT Test Data'!$G68)*(('TxDOT Test Data'!$H68))^2))),(3*((('TxDOT Test Data'!$J68*1000)*('TxDOT Test Data'!$I68/3-'TxDOT Test Data'!$K68))/('TxDOT Test Data'!$G68*'TxDOT Test Data'!$H68^2)))))),\"\",IF('TxDOT Test Data'!$K68>('TxDOT Test Data'!$I68*0.05),\"RETEST\",IF('TxDOT Test Data'!$K68=0,(((('TxDOT Test Data'!$J68*1000)*('TxDOT Test Data'!$I68))/(('TxDOT Test Data'!$G68)*(('TxDOT Test Data'!$H68))^2))),(3*((('TxDOT Test Data'!$J68*1000)*('TxDOT Test Data'!$I68/3-'TxDOT Test Data'!$K68))/('TxDOT Test Data'!$G68*'TxDOT Test Data'!$H68^2))))))","v":""}]
[1.08,0.88919999999999999,null,null,{"$f":"IF(ISERROR(IF('Contractor Test Data'!$K69>('Contractor Test Data'!$I69*0.05),\"RETEST\",IF('Contractor Test Data'!K69=0,((('Contractor Test Data'!$J69*6^3/'Contractor Test Data'!I69)*'Contractor Test Data'!$I69)/('Contractor Test Data'!$G69*'Contractor Test Data'!$H69^2)),3*((('Contractor Test Data'!$J69*6^3/'Contractor Test Data'!I69)*('Contractor Test Data'!I69/3-'Contractor Test Data'!$K69))/('Contractor Test Data'!$G69*'Contractor Test Data'!$H69^2))))),\"\",IF('Contractor Test Data'!$K69>('Contractor Test Data'!$I69*0.05),\"RETEST\",IF('Contractor Test Data'!K69=0,((('Contractor Test Data'!$J69*6^3/'Contractor Test Data'!I69)*'Contractor Test Data'!$I69)/('Contractor Test Data'!$G69*'Contractor Test Data'!$H69^2)),3*((('Contractor Test Data'!$J69*6^3/'Contractor Test Data'!I69)*('Contractor Test Data'!I69/3-'Contractor Test Data'!$K69))/('Contractor Test Data'!$G69*'Contractor Test Data'!$H69^2)))))","v":""},{"$f":"IF(ISERROR(IF('Contractor Test Data'!$K69>('Contractor Test Data'!$I69*0.05),\"RETEST\",IF('Contractor Test Data'!K69=0,(((('Contractor Test Data'!$J69*1000)*('Contractor Test Data'!$I69))/(('Contractor Test Data'!$G69)*(('Contractor Test Data'!$H69))^2))),(3*((('Contractor Test Data'!$J69*1000)*('Contractor Test Data'!I69/3-'Contractor Test Data'!$K69))/('Contractor Test Data'!$G69*'Contractor Test Data'!$H69^2)))))),\"\",IF('Contractor Test Data'!$K69>('Contractor Test Data'!$I69*0.05),\"RETEST\",IF('Contractor Test Data'!K69=0,(((('Contractor Test Data'!$J69*1000)*('Contractor Test Data'!$I69))/(('Contractor Test Data'!$G69)*(('Contractor Test Data'!$H69))^2))),(3*((('Contractor Test Data'!$J69*1000)*('Contractor Test Data'!I69/3-'Contractor Test Data'!$K69))/('Contractor Test Data'!$G69*'Contractor Test Data'!$H69^2))))))","v":""},{"$f":"IF(ISERROR(IF('TxDOT Test Data'!$K69>('TxDOT Test Data'!$I69*0.05),\"RETEST\",IF('TxDOT Test Data'!$K69=0,((('TxDOT Test Data'!$J69*6^3/'TxDOT Test Data'!$I69)*'TxDOT Test Data'!$I69)/('TxDOT Test Data'!$G69*'TxDOT Test Data'!$H69^2)),3*((('TxDOT Test Data'!$J69*6^3/'TxDOT Test Data'!$I69)*('TxDOT Test Data'!$I69/3-'TxDOT Test Data'!$K69))/('TxDOT Test Data'!$G69*'TxDOT Test Data'!$H69^2))))),\"\",IF('TxDOT Test Data'!$K69>('TxDOT Test Data'!$I69*0.05),\"RETEST\",IF('TxDOT Test Data'!$K69=0,((('TxDOT Test Data'!$J69*6^3/'TxDOT Test Data'!$I69)*'TxDOT Test Data'!$I69)/('TxDOT Test Data'!$G69*'TxDOT Test Data'!$H69^2)),3*((('TxDOT Test Data'!$J69*6^3/'TxDOT Test Data'!$I69)*('TxDOT Test Data'!$I69/3-'TxDOT Test Data'!$K69))/('TxDOT Test Data'!$G69*'TxDOT Test Data'!$H69^2)))))","v":""},{"$f":"IF(ISERROR(IF('TxDOT Test Data'!$K69>('TxDOT Test Data'!$I69*0.05),\"RETEST\",IF('TxDOT Test Data'!$K69=0,(((('TxDOT Test Data'!$J69*1000)*('TxDOT Test Data'!$I69))/(('TxDOT Test Data'!$G69)*(('TxDOT Test Data'!$H69))^2))),(3*((('TxDOT Test Data'!$J69*1000)*('TxDOT Test Data'!$I69/3-'TxDOT Test Data'!$K69))/('TxDOT Test Data'!$G69*'TxDOT Test Data'!$H69^2)))))),\"\",IF('TxDOT Test Data'!$K69>('TxDOT Test Data'!$I69*0.05),\"RETEST\",IF('TxDOT Test Data'!$K69=0,(((('TxDOT Test Data'!$J69*1000)*('TxDOT Test Data'!$I69))/(('TxDOT Test Data'!$G69)*(('TxDOT Test Data'!$H69))^2))),(3*((('TxDOT Test Data'!$J69*1000)*('TxDOT Test Data'!$I69/3-'TxDOT Test Data'!$K69))/('TxDOT Test Data'!$G69*'TxDOT Test Data'!$H69^2))))))","v":""}]
[1.0900000000000001,0.89159999999999995,null,null,{"$f":"IF(ISERROR(IF('Contractor Test Data'!$K70>('Contractor Test Data'!$I70*0.05),\"RETEST\",IF('Contractor Test Data'!K70=0,((('Contractor Test Data'!$J70*6^3/'Contractor Test Data'!I70)*'Contractor Test Data'!$I70)/('Contractor Test Data'!$G70*'Contractor Test Data'!$H70^2)),3*((('Contractor Test Data'!$J70*6^3/'Contractor Test Data'!I70)*('Contractor Test Data'!I70/3-'Contractor Test Data'!$K70))/('Contractor Test Data'!$G70*'Contractor Test Data'!$H70^2))))),\"\",IF('Contractor Test Data'!$K70>('Contractor Test Data'!$I70*0.05),\"RETEST\",IF('Contractor Test Data'!K70=0,((('Contractor Test Data'!$J70*6^3/'Contractor Test Data'!I70)*'Contractor Test Data'!$I70)/('Contractor Test Data'!$G70*'Contractor Test Data'!$H70^2)),3*((('Contractor Test Data'!$J70*6^3/'Contractor Test Data'!I70)*('Contractor Test Data'!I70/3-'Contractor Test Data'!$K70))/('Contractor Test Data'!$G70*'Contractor Test Data'!$H70^2)))))","v":""},{"$f":"IF(ISERROR(IF('Contractor Test Data'!$K70>('Contractor Test Data'!$I70*0.05),\"RETEST\",IF('Contractor Test Data'!K70=0,(((('Contractor Test Data'!$J70*1000)*('Contractor Test Data'!$I70))/(('Contractor Test Data'!$G70)*(('Contractor Test Data'!$H70))^2))),(3*((('Contractor Test Data'!$J70*1000)*('Contractor Test Data'!I70/3-'Contractor Test Data'!$K70))/('Contractor Test Data'!$G70*'Contractor Test Data'!$H70^2)))))),\"\",IF('Contractor Test Data'!$K70>('Contractor Test Data'!$I70*0.05),\"RETEST\",IF('Contractor Test Data'!K70=0,(((('Contractor Test Data'!$J70*1000)*('Contractor Test Data'!$I70))/(('Contractor Test Data'!$G70)*(('Contractor Test Data'!$H70))^2))),(3*((('Contractor Test Data'!$J70*1000)*('Contractor Test Data'!I70/3-'Contractor Test Data'!$K70))/('Contractor Test Data'!$G70*'Contractor Test Data'!$H70^2))))))","v":""},{"$f":"IF(ISERROR(IF('TxDOT Test Data'!$K70>('TxDOT Test Data'!$I70*0.05),\"RETEST\",IF('TxDOT Test Data'!$K70=0,((('TxDOT Test Data'!$J70*6^3/'TxDOT Test Data'!$I70)*'TxDOT Test Data'!$I70)/('TxDOT Test Data'!$G70*'TxDOT Test Data'!$H70^2)),3*((('TxDOT Test Data'!$J70*6^3/'TxDOT Test Data'!$I70)*('TxDOT Test Data'!$I70/3-'TxDOT Test Data'!$K70))/('TxDOT Test Data'!$G70*'TxDOT Test Data'!$H70^2))))),\"\",IF('TxDOT Test Data'!$K70>('TxDOT Test Data'!$I70*0.05),\"RETEST\",IF('TxDOT Test Data'!$K70=0,((('TxDOT Test Data'!$J70*6^3/'TxDOT Test Data'!$I70)*'TxDOT Test Data'!$I70)/('TxDOT Test Data'!$G70*'TxDOT Test Data'!$H70^2)),3*((('TxDOT Test Data'!$J70*6^3/'TxDOT Test Data'!$I70)*('TxDOT Test Data'!$I70/3-'TxDOT Test Data'!$K70))/('TxDOT Test Data'!$G70*'TxDOT Test Data'!$H70^2)))))","v":""},{"$f":"IF(ISERROR(IF('TxDOT Test Data'!$K70>('TxDOT Test Data'!$I70*0.05),\"RETEST\",IF('TxDOT Test Data'!$K70=0,(((('TxDOT Test Data'!$J70*1000)*('TxDOT Test Data'!$I70))/(('TxDOT Test Data'!$G70)*(('TxDOT Test Data'!$H70))^2))),(3*((('TxDOT Test Data'!$J70*1000)*('TxDOT Test Data'!$I70/3-'TxDOT Test Data'!$K70))/('TxDOT Test Data'!$G70*'TxDOT Test Data'!$H70^2)))))),\"\",IF('TxDOT Test Data'!$K70>('TxDOT Test Data'!$I70*0.05),\"RETEST\",IF('TxDOT Test Data'!$K70=0,(((('TxDOT Test Data'!$J70*1000)*('TxDOT Test Data'!$I70))/(('TxDOT Test Data'!$G70)*(('TxDOT Test Data'!$H70))^2))),(3*((('TxDOT Test Data'!$J70*1000)*('TxDOT Test Data'!$I70/3-'TxDOT Test Data'!$K70))/('TxDOT Test Data'!$G70*'TxDOT Test Data'!$H70^2))))))","v":""}]
[1.1000000000000001,0.89400000000000002,null,null,{"$f":"IF(ISERROR(IF('Contractor Test Data'!$K71>('Contractor Test Data'!$I71*0.05),\"RETEST\",IF('Contractor Test Data'!K71=0,((('Contractor Test Data'!$J71*6^3/'Contractor Test Data'!I71)*'Contractor Test Data'!$I71)/('Contractor Test Data'!$G71*'Contractor Test Data'!$H71^2)),3*((('Contractor Test Data'!$J71*6^3/'Contractor Test Data'!I71)*('Contractor Test Data'!I71/3-'Contractor Test Data'!$K71))/('Contractor Test Data'!$G71*'Contractor Test Data'!$H71^2))))),\"\",IF('Contractor Test Data'!$K71>('Contractor Test Data'!$I71*0.05),\"RETEST\",IF('Contractor Test Data'!K71=0,((('Contractor Test Data'!$J71*6^3/'Contractor Test Data'!I71)*'Contractor Test Data'!$I71)/('Contractor Test Data'!$G71*'Contractor Test Data'!$H71^2)),3*((('Contractor Test Data'!$J71*6^3/'Contractor Test Data'!I71)*('Contractor Test Data'!I71/3-'Contractor Test Data'!$K71))/('Contractor Test Data'!$G71*'Contractor Test Data'!$H71^2)))))","v":""},{"$f":"IF(ISERROR(IF('Contractor Test Data'!$K71>('Contractor Test Data'!$I71*0.05),\"RETEST\",IF('Contractor Test Data'!K71=0,(((('Contractor Test Data'!$J71*1000)*('Contractor Test Data'!$I71))/(('Contractor Test Data'!$G71)*(('Contractor Test Data'!$H71))^2))),(3*((('Contractor Test Data'!$J71*1000)*('Contractor Test Data'!I71/3-'Contractor Test Data'!$K71))/('Contractor Test Data'!$G71*'Contractor Test Data'!$H71^2)))))),\"\",IF('Contractor Test Data'!$K71>('Contractor Test Data'!$I71*0.05),\"RETEST\",IF('Contractor Test Data'!K71=0,(((('Contractor Test Data'!$J71*1000)*('Contractor Test Data'!$I71))/(('Contractor Test Data'!$G71)*(('Contractor Test Data'!$H71))^2))),(3*((('Contractor Test Data'!$J71*1000)*('Contractor Test Data'!I71/3-'Contractor Test Data'!$K71))/('Contractor Test Data'!$G71*'Contractor Test Data'!$H71^2))))))","v":""},{"$f":"IF(ISERROR(IF('TxDOT Test Data'!$K71>('TxDOT Test Data'!$I71*0.05),\"RETEST\",IF('TxDOT Test Data'!$K71=0,((('TxDOT Test Data'!$J71*6^3/'TxDOT Test Data'!$I71)*'TxDOT Test Data'!$I71)/('TxDOT Test Data'!$G71*'TxDOT Test Data'!$H71^2)),3*((('TxDOT Test Data'!$J71*6^3/'TxDOT Test Data'!$I71)*('TxDOT Test Data'!$I71/3-'TxDOT Test Data'!$K71))/('TxDOT Test Data'!$G71*'TxDOT Test Data'!$H71^2))))),\"\",IF('TxDOT Test Data'!$K71>('TxDOT Test Data'!$I71*0.05),\"RETEST\",IF('TxDOT Test Data'!$K71=0,((('TxDOT Test Data'!$J71*6^3/'TxDOT Test Data'!$I71)*'TxDOT Test Data'!$I71)/('TxDOT Test Data'!$G71*'TxDOT Test Data'!$H71^2)),3*((('TxDOT Test Data'!$J71*6^3/'TxDOT Test Data'!$I71)*('TxDOT Test Data'!$I71/3-'TxDOT Test Data'!$K71))/('TxDOT Test Data'!$G71*'TxDOT Test Data'!$H71^2)))))","v":""},{"$f":"IF(ISERROR(IF('TxDOT Test Data'!$K71>('TxDOT Test Data'!$I71*0.05),\"RETEST\",IF('TxDOT Test Data'!$K71=0,(((('TxDOT Test Data'!$J71*1000)*('TxDOT Test Data'!$I71))/(('TxDOT Test Data'!$G71)*(('TxDOT Test Data'!$H71))^2))),(3*((('TxDOT Test Data'!$J71*1000)*('TxDOT Test Data'!$I71/3-'TxDOT Test Data'!$K71))/('TxDOT Test Data'!$G71*'TxDOT Test Data'!$H71^2)))))),\"\",IF('TxDOT Test Data'!$K71>('TxDOT Test Data'!$I71*0.05),\"RETEST\",IF('TxDOT Test Data'!$K71=0,(((('TxDOT Test Data'!$J71*1000)*('TxDOT Test Data'!$I71))/(('TxDOT Test Data'!$G71)*(('TxDOT Test Data'!$H71))^2))),(3*((('TxDOT Test Data'!$J71*1000)*('TxDOT Test Data'!$I71/3-'TxDOT Test Data'!$K71))/('TxDOT Test Data'!$G71*'TxDOT Test Data'!$H71^2))))))","v":""}]
[1.1100000000000001,0.89639999999999997,null,null,{"$f":"IF(ISERROR(IF('Contractor Test Data'!$K72>('Contractor Test Data'!$I72*0.05),\"RETEST\",IF('Contractor Test Data'!K72=0,((('Contractor Test Data'!$J72*6^3/'Contractor Test Data'!I72)*'Contractor Test Data'!$I72)/('Contractor Test Data'!$G72*'Contractor Test Data'!$H72^2)),3*((('Contractor Test Data'!$J72*6^3/'Contractor Test Data'!I72)*('Contractor Test Data'!I72/3-'Contractor Test Data'!$K72))/('Contractor Test Data'!$G72*'Contractor Test Data'!$H72^2))))),\"\",IF('Contractor Test Data'!$K72>('Contractor Test Data'!$I72*0.05),\"RETEST\",IF('Contractor Test Data'!K72=0,((('Contractor Test Data'!$J72*6^3/'Contractor Test Data'!I72)*'Contractor Test Data'!$I72)/('Contractor Test Data'!$G72*'Contractor Test Data'!$H72^2)),3*((('Contractor Test Data'!$J72*6^3/'Contractor Test Data'!I72)*('Contractor Test Data'!I72/3-'Contractor Test Data'!$K72))/('Contractor Test Data'!$G72*'Contractor Test Data'!$H72^2)))))","v":""},{"$f":"IF(ISERROR(IF('Contractor Test Data'!$K72>('Contractor Test Data'!$I72*0.05),\"RETEST\",IF('Contractor Test Data'!K72=0,(((('Contractor Test Data'!$J72*1000)*('Contractor Test Data'!$I72))/(('Contractor Test Data'!$G72)*(('Contractor Test Data'!$H72))^2))),(3*((('Contractor Test Data'!$J72*1000)*('Contractor Test Data'!I72/3-'Contractor Test Data'!$K72))/('Contractor Test Data'!$G72*'Contractor Test Data'!$H72^2)))))),\"\",IF('Contractor Test Data'!$K72>('Contractor Test Data'!$I72*0.05),\"RETEST\",IF('Contractor Test Data'!K72=0,(((('Contractor Test Data'!$J72*1000)*('Contractor Test Data'!$I72))/(('Contractor Test Data'!$G72)*(('Contractor Test Data'!$H72))^2))),(3*((('Contractor Test Data'!$J72*1000)*('Contractor Test Data'!I72/3-'Contractor Test Data'!$K72))/('Contractor Test Data'!$G72*'Contractor Test Data'!$H72^2))))))","v":""},{"$f":"IF(ISERROR(IF('TxDOT Test Data'!$K72>('TxDOT Test Data'!$I72*0.05),\"RETEST\",IF('TxDOT Test Data'!$K72=0,((('TxDOT Test Data'!$J72*6^3/'TxDOT Test Data'!$I72)*'TxDOT Test Data'!$I72)/('TxDOT Test Data'!$G72*'TxDOT Test Data'!$H72^2)),3*((('TxDOT Test Data'!$J72*6^3/'TxDOT Test Data'!$I72)*('TxDOT Test Data'!$I72/3-'TxDOT Test Data'!$K72))/('TxDOT Test Data'!$G72*'TxDOT Test Data'!$H72^2))))),\"\",IF('TxDOT Test Data'!$K72>('TxDOT Test Data'!$I72*0.05),\"RETEST\",IF('TxDOT Test Data'!$K72=0,((('TxDOT Test Data'!$J72*6^3/'TxDOT Test Data'!$I72)*'TxDOT Test Data'!$I72)/('TxDOT Test Data'!$G72*'TxDOT Test Data'!$H72^2)),3*((('TxDOT Test Data'!$J72*6^3/'TxDOT Test Data'!$I72)*('TxDOT Test Data'!$I72/3-'TxDOT Test Data'!$K72))/('TxDOT Test Data'!$G72*'TxDOT Test Data'!$H72^2)))))","v":""},{"$f":"IF(ISERROR(IF('TxDOT Test Data'!$K72>('TxDOT Test Data'!$I72*0.05),\"RETEST\",IF('TxDOT Test Data'!$K72=0,(((('TxDOT Test Data'!$J72*1000)*('TxDOT Test Data'!$I72))/(('TxDOT Test Data'!$G72)*(('TxDOT Test Data'!$H72))^2))),(3*((('TxDOT Test Data'!$J72*1000)*('TxDOT Test Data'!$I72/3-'TxDOT Test Data'!$K72))/('TxDOT Test Data'!$G72*'TxDOT Test Data'!$H72^2)))))),\"\",IF('TxDOT Test Data'!$K72>('TxDOT Test Data'!$I72*0.05),\"RETEST\",IF('TxDOT Test Data'!$K72=0,(((('TxDOT Test Data'!$J72*1000)*('TxDOT Test Data'!$I72))/(('TxDOT Test Data'!$G72)*(('TxDOT Test Data'!$H72))^2))),(3*((('TxDOT Test Data'!$J72*1000)*('TxDOT Test Data'!$I72/3-'TxDOT Test Data'!$K72))/('TxDOT Test Data'!$G72*'TxDOT Test Data'!$H72^2))))))","v":""}]
[1.1200000000000001,0.89880000000000004,null,null,{"$f":"IF(ISERROR(IF('Contractor Test Data'!$K73>('Contractor Test Data'!$I73*0.05),\"RETEST\",IF('Contractor Test Data'!K73=0,((('Contractor Test Data'!$J73*6^3/'Contractor Test Data'!I73)*'Contractor Test Data'!$I73)/('Contractor Test Data'!$G73*'Contractor Test Data'!$H73^2)),3*((('Contractor Test Data'!$J73*6^3/'Contractor Test Data'!I73)*('Contractor Test Data'!I73/3-'Contractor Test Data'!$K73))/('Contractor Test Data'!$G73*'Contractor Test Data'!$H73^2))))),\"\",IF('Contractor Test Data'!$K73>('Contractor Test Data'!$I73*0.05),\"RETEST\",IF('Contractor Test Data'!K73=0,((('Contractor Test Data'!$J73*6^3/'Contractor Test Data'!I73)*'Contractor Test Data'!$I73)/('Contractor Test Data'!$G73*'Contractor Test Data'!$H73^2)),3*((('Contractor Test Data'!$J73*6^3/'Contractor Test Data'!I73)*('Contractor Test Data'!I73/3-'Contractor Test Data'!$K73))/('Contractor Test Data'!$G73*'Contractor Test Data'!$H73^2)))))","v":""},{"$f":"IF(ISERROR(IF('Contractor Test Data'!$K73>('Contractor Test Data'!$I73*0.05),\"RETEST\",IF('Contractor Test Data'!K73=0,(((('Contractor Test Data'!$J73*1000)*('Contractor Test Data'!$I73))/(('Contractor Test Data'!$G73)*(('Contractor Test Data'!$H73))^2))),(3*((('Contractor Test Data'!$J73*1000)*('Contractor Test Data'!I73/3-'Contractor Test Data'!$K73))/('Contractor Test Data'!$G73*'Contractor Test Data'!$H73^2)))))),\"\",IF('Contractor Test Data'!$K73>('Contractor Test Data'!$I73*0.05),\"RETEST\",IF('Contractor Test Data'!K73=0,(((('Contractor Test Data'!$J73*1000)*('Contractor Test Data'!$I73))/(('Contractor Test Data'!$G73)*(('Contractor Test Data'!$H73))^2))),(3*((('Contractor Test Data'!$J73*1000)*('Contractor Test Data'!I73/3-'Contractor Test Data'!$K73))/('Contractor Test Data'!$G73*'Contractor Test Data'!$H73^2))))))","v":""},{"$f":"IF(ISERROR(IF('TxDOT Test Data'!$K73>('TxDOT Test Data'!$I73*0.05),\"RETEST\",IF('TxDOT Test Data'!$K73=0,((('TxDOT Test Data'!$J73*6^3/'TxDOT Test Data'!$I73)*'TxDOT Test Data'!$I73)/('TxDOT Test Data'!$G73*'TxDOT Test Data'!$H73^2)),3*((('TxDOT Test Data'!$J73*6^3/'TxDOT Test Data'!$I73)*('TxDOT Test Data'!$I73/3-'TxDOT Test Data'!$K73))/('TxDOT Test Data'!$G73*'TxDOT Test Data'!$H73^2))))),\"\",IF('TxDOT Test Data'!$K73>('TxDOT Test Data'!$I73*0.05),\"RETEST\",IF('TxDOT Test Data'!$K73=0,((('TxDOT Test Data'!$J73*6^3/'TxDOT Test Data'!$I73)*'TxDOT Test Data'!$I73)/('TxDOT Test Data'!$G73*'TxDOT Test Data'!$H73^2)),3*((('TxDOT Test Data'!$J73*6^3/'TxDOT Test Data'!$I73)*('TxDOT Test Data'!$I73/3-'TxDOT Test Data'!$K73))/('TxDOT Test Data'!$G73*'TxDOT Test Data'!$H73^2)))))","v":""},{"$f":"IF(ISERROR(IF('TxDOT Test Data'!$K73>('TxDOT Test Data'!$I73*0.05),\"RETEST\",IF('TxDOT Test Data'!$K73=0,(((('TxDOT Test Data'!$J73*1000)*('TxDOT Test Data'!$I73))/(('TxDOT Test Data'!$G73)*(('TxDOT Test Data'!$H73))^2))),(3*((('TxDOT Test Data'!$J73*1000)*('TxDOT Test Data'!$I73/3-'TxDOT Test Data'!$K73))/('TxDOT Test Data'!$G73*'TxDOT Test Data'!$H73^2)))))),\"\",IF('TxDOT Test Data'!$K73>('TxDOT Test Data'!$I73*0.05),\"RETEST\",IF('TxDOT Test Data'!$K73=0,(((('TxDOT Test Data'!$J73*1000)*('TxDOT Test Data'!$I73))/(('TxDOT Test Data'!$G73)*(('TxDOT Test Data'!$H73))^2))),(3*((('TxDOT Test Data'!$J73*1000)*('TxDOT Test Data'!$I73/3-'TxDOT Test Data'!$K73))/('TxDOT Test Data'!$G73*'TxDOT Test Data'!$H73^2))))))","v":""}]
[1.1299999999999999,0.9012,null,null,{"$f":"IF(ISERROR(IF('Contractor Test Data'!$K74>('Contractor Test Data'!$I74*0.05),\"RETEST\",IF('Contractor Test Data'!K74=0,((('Contractor Test Data'!$J74*6^3/'Contractor Test Data'!I74)*'Contractor Test Data'!$I74)/('Contractor Test Data'!$G74*'Contractor Test Data'!$H74^2)),3*((('Contractor Test Data'!$J74*6^3/'Contractor Test Data'!I74)*('Contractor Test Data'!I74/3-'Contractor Test Data'!$K74))/('Contractor Test Data'!$G74*'Contractor Test Data'!$H74^2))))),\"\",IF('Contractor Test Data'!$K74>('Contractor Test Data'!$I74*0.05),\"RETEST\",IF('Contractor Test Data'!K74=0,((('Contractor Test Data'!$J74*6^3/'Contractor Test Data'!I74)*'Contractor Test Data'!$I74)/('Contractor Test Data'!$G74*'Contractor Test Data'!$H74^2)),3*((('Contractor Test Data'!$J74*6^3/'Contractor Test Data'!I74)*('Contractor Test Data'!I74/3-'Contractor Test Data'!$K74))/('Contractor Test Data'!$G74*'Contractor Test Data'!$H74^2)))))","v":""},{"$f":"IF(ISERROR(IF('Contractor Test Data'!$K74>('Contractor Test Data'!$I74*0.05),\"RETEST\",IF('Contractor Test Data'!K74=0,(((('Contractor Test Data'!$J74*1000)*('Contractor Test Data'!$I74))/(('Contractor Test Data'!$G74)*(('Contractor Test Data'!$H74))^2))),(3*((('Contractor Test Data'!$J74*1000)*('Contractor Test Data'!I74/3-'Contractor Test Data'!$K74))/('Contractor Test Data'!$G74*'Contractor Test Data'!$H74^2)))))),\"\",IF('Contractor Test Data'!$K74>('Contractor Test Data'!$I74*0.05),\"RETEST\",IF('Contractor Test Data'!K74=0,(((('Contractor Test Data'!$J74*1000)*('Contractor Test Data'!$I74))/(('Contractor Test Data'!$G74)*(('Contractor Test Data'!$H74))^2))),(3*((('Contractor Test Data'!$J74*1000)*('Contractor Test Data'!I74/3-'Contractor Test Data'!$K74))/('Contractor Test Data'!$G74*'Contractor Test Data'!$H74^2))))))","v":""},{"$f":"IF(ISERROR(IF('TxDOT Test Data'!$K74>('TxDOT Test Data'!$I74*0.05),\"RETEST\",IF('TxDOT Test Data'!$K74=0,((('TxDOT Test Data'!$J74*6^3/'TxDOT Test Data'!$I74)*'TxDOT Test Data'!$I74)/('TxDOT Test Data'!$G74*'TxDOT Test Data'!$H74^2)),3*((('TxDOT Test Data'!$J74*6^3/'TxDOT Test Data'!$I74)*('TxDOT Test Data'!$I74/3-'TxDOT Test Data'!$K74))/('TxDOT Test Data'!$G74*'TxDOT Test Data'!$H74^2))))),\"\",IF('TxDOT Test Data'!$K74>('TxDOT Test Data'!$I74*0.05),\"RETEST\",IF('TxDOT Test Data'!$K74=0,((('TxDOT Test Data'!$J74*6^3/'TxDOT Test Data'!$I74)*'TxDOT Test Data'!$I74)/('TxDOT Test Data'!$G74*'TxDOT Test Data'!$H74^2)),3*((('TxDOT Test Data'!$J74*6^3/'TxDOT Test Data'!$I74)*('TxDOT Test Data'!$I74/3-'TxDOT Test Data'!$K74))/('TxDOT Test Data'!$G74*'TxDOT Test Data'!$H74^2)))))","v":""},{"$f":"IF(ISERROR(IF('TxDOT Test Data'!$K74>('TxDOT Test Data'!$I74*0.05),\"RETEST\",IF('TxDOT Test Data'!$K74=0,(((('TxDOT Test Data'!$J74*1000)*('TxDOT Test Data'!$I74))/(('TxDOT Test Data'!$G74)*(('TxDOT Test Data'!$H74))^2))),(3*((('TxDOT Test Data'!$J74*1000)*('TxDOT Test Data'!$I74/3-'TxDOT Test Data'!$K74))/('TxDOT Test Data'!$G74*'TxDOT Test Data'!$H74^2)))))),\"\",IF('TxDOT Test Data'!$K74>('TxDOT Test Data'!$I74*0.05),\"RETEST\",IF('TxDOT Test Data'!$K74=0,(((('TxDOT Test Data'!$J74*1000)*('TxDOT Test Data'!$I74))/(('TxDOT Test Data'!$G74)*(('TxDOT Test Data'!$H74))^2))),(3*((('TxDOT Test Data'!$J74*1000)*('TxDOT Test Data'!$I74/3-'TxDOT Test Data'!$K74))/('TxDOT Test Data'!$G74*'TxDOT Test Data'!$H74^2))))))","v":""}]
[1.1399999999999999,0.90359999999999996,null,null,{"$f":"IF(ISERROR(IF('Contractor Test Data'!$K75>('Contractor Test Data'!$I75*0.05),\"RETEST\",IF('Contractor Test Data'!K75=0,((('Contractor Test Data'!$J75*6^3/'Contractor Test Data'!I75)*'Contractor Test Data'!$I75)/('Contractor Test Data'!$G75*'Contractor Test Data'!$H75^2)),3*((('Contractor Test Data'!$J75*6^3/'Contractor Test Data'!I75)*('Contractor Test Data'!I75/3-'Contractor Test Data'!$K75))/('Contractor Test Data'!$G75*'Contractor Test Data'!$H75^2))))),\"\",IF('Contractor Test Data'!$K75>('Contractor Test Data'!$I75*0.05),\"RETEST\",IF('Contractor Test Data'!K75=0,((('Contractor Test Data'!$J75*6^3/'Contractor Test Data'!I75)*'Contractor Test Data'!$I75)/('Contractor Test Data'!$G75*'Contractor Test Data'!$H75^2)),3*((('Contractor Test Data'!$J75*6^3/'Contractor Test Data'!I75)*('Contractor Test Data'!I75/3-'Contractor Test Data'!$K75))/('Contractor Test Data'!$G75*'Contractor Test Data'!$H75^2)))))","v":""},{"$f":"IF(ISERROR(IF('Contractor Test Data'!$K75>('Contractor Test Data'!$I75*0.05),\"RETEST\",IF('Contractor Test Data'!K75=0,(((('Contractor Test Data'!$J75*1000)*('Contractor Test Data'!$I75))/(('Contractor Test Data'!$G75)*(('Contractor Test Data'!$H75))^2))),(3*((('Contractor Test Data'!$J75*1000)*('Contractor Test Data'!I75/3-'Contractor Test Data'!$K75))/('Contractor Test Data'!$G75*'Contractor Test Data'!$H75^2)))))),\"\",IF('Contractor Test Data'!$K75>('Contractor Test Data'!$I75*0.05),\"RETEST\",IF('Contractor Test Data'!K75=0,(((('Contractor Test Data'!$J75*1000)*('Contractor Test Data'!$I75))/(('Contractor Test Data'!$G75)*(('Contractor Test Data'!$H75))^2))),(3*((('Contractor Test Data'!$J75*1000)*('Contractor Test Data'!I75/3-'Contractor Test Data'!$K75))/('Contractor Test Data'!$G75*'Contractor Test Data'!$H75^2))))))","v":""},{"$f":"IF(ISERROR(IF('TxDOT Test Data'!$K75>('TxDOT Test Data'!$I75*0.05),\"RETEST\",IF('TxDOT Test Data'!$K75=0,((('TxDOT Test Data'!$J75*6^3/'TxDOT Test Data'!$I75)*'TxDOT Test Data'!$I75)/('TxDOT Test Data'!$G75*'TxDOT Test Data'!$H75^2)),3*((('TxDOT Test Data'!$J75*6^3/'TxDOT Test Data'!$I75)*('TxDOT Test Data'!$I75/3-'TxDOT Test Data'!$K75))/('TxDOT Test Data'!$G75*'TxDOT Test Data'!$H75^2))))),\"\",IF('TxDOT Test Data'!$K75>('TxDOT Test Data'!$I75*0.05),\"RETEST\",IF('TxDOT Test Data'!$K75=0,((('TxDOT Test Data'!$J75*6^3/'TxDOT Test Data'!$I75)*'TxDOT Test Data'!$I75)/('TxDOT Test Data'!$G75*'TxDOT Test Data'!$H75^2)),3*((('TxDOT Test Data'!$J75*6^3/'TxDOT Test Data'!$I75)*('TxDOT Test Data'!$I75/3-'TxDOT Test Data'!$K75))/('TxDOT Test Data'!$G75*'TxDOT Test Data'!$H75^2)))))","v":""},{"$f":"IF(ISERROR(IF('TxDOT Test Data'!$K75>('TxDOT Test Data'!$I75*0.05),\"RETEST\",IF('TxDOT Test Data'!$K75=0,(((('TxDOT Test Data'!$J75*1000)*('TxDOT Test Data'!$I75))/(('TxDOT Test Data'!$G75)*(('TxDOT Test Data'!$H75))^2))),(3*((('TxDOT Test Data'!$J75*1000)*('TxDOT Test Data'!$I75/3-'TxDOT Test Data'!$K75))/('TxDOT Test Data'!$G75*'TxDOT Test Data'!$H75^2)))))),\"\",IF('TxDOT Test Data'!$K75>('TxDOT Test Data'!$I75*0.05),\"RETEST\",IF('TxDOT Test Data'!$K75=0,(((('TxDOT Test Data'!$J75*1000)*('TxDOT Test Data'!$I75))/(('TxDOT Test Data'!$G75)*(('TxDOT Test Data'!$H75))^2))),(3*((('TxDOT Test Data'!$J75*1000)*('TxDOT Test Data'!$I75/3-'TxDOT Test Data'!$K75))/('TxDOT Test Data'!$G75*'TxDOT Test Data'!$H75^2))))))","v":""}]
[1.1499999999999999,0.90600000000000003,null,null,{"$f":"IF(ISERROR(IF('Contractor Test Data'!$K76>('Contractor Test Data'!$I76*0.05),\"RETEST\",IF('Contractor Test Data'!K76=0,((('Contractor Test Data'!$J76*6^3/'Contractor Test Data'!I76)*'Contractor Test Data'!$I76)/('Contractor Test Data'!$G76*'Contractor Test Data'!$H76^2)),3*((('Contractor Test Data'!$J76*6^3/'Contractor Test Data'!I76)*('Contractor Test Data'!I76/3-'Contractor Test Data'!$K76))/('Contractor Test Data'!$G76*'Contractor Test Data'!$H76^2))))),\"\",IF('Contractor Test Data'!$K76>('Contractor Test Data'!$I76*0.05),\"RETEST\",IF('Contractor Test Data'!K76=0,((('Contractor Test Data'!$J76*6^3/'Contractor Test Data'!I76)*'Contractor Test Data'!$I76)/('Contractor Test Data'!$G76*'Contractor Test Data'!$H76^2)),3*((('Contractor Test Data'!$J76*6^3/'Contractor Test Data'!I76)*('Contractor Test Data'!I76/3-'Contractor Test Data'!$K76))/('Contractor Test Data'!$G76*'Contractor Test Data'!$H76^2)))))","v":""},{"$f":"IF(ISERROR(IF('Contractor Test Data'!$K76>('Contractor Test Data'!$I76*0.05),\"RETEST\",IF('Contractor Test Data'!K76=0,(((('Contractor Test Data'!$J76*1000)*('Contractor Test Data'!$I76))/(('Contractor Test Data'!$G76)*(('Contractor Test Data'!$H76))^2))),(3*((('Contractor Test Data'!$J76*1000)*('Contractor Test Data'!I76/3-'Contractor Test Data'!$K76))/('Contractor Test Data'!$G76*'Contractor Test Data'!$H76^2)))))),\"\",IF('Contractor Test Data'!$K76>('Contractor Test Data'!$I76*0.05),\"RETEST\",IF('Contractor Test Data'!K76=0,(((('Contractor Test Data'!$J76*1000)*('Contractor Test Data'!$I76))/(('Contractor Test Data'!$G76)*(('Contractor Test Data'!$H76))^2))),(3*((('Contractor Test Data'!$J76*1000)*('Contractor Test Data'!I76/3-'Contractor Test Data'!$K76))/('Contractor Test Data'!$G76*'Contractor Test Data'!$H76^2))))))","v":""},{"$f":"IF(ISERROR(IF('TxDOT Test Data'!$K76>('TxDOT Test Data'!$I76*0.05),\"RETEST\",IF('TxDOT Test Data'!$K76=0,((('TxDOT Test Data'!$J76*6^3/'TxDOT Test Data'!$I76)*'TxDOT Test Data'!$I76)/('TxDOT Test Data'!$G76*'TxDOT Test Data'!$H76^2)),3*((('TxDOT Test Data'!$J76*6^3/'TxDOT Test Data'!$I76)*('TxDOT Test Data'!$I76/3-'TxDOT Test Data'!$K76))/('TxDOT Test Data'!$G76*'TxDOT Test Data'!$H76^2))))),\"\",IF('TxDOT Test Data'!$K76>('TxDOT Test Data'!$I76*0.05),\"RETEST\",IF('TxDOT Test Data'!$K76=0,((('TxDOT Test Data'!$J76*6^3/'TxDOT Test Data'!$I76)*'TxDOT Test Data'!$I76)/('TxDOT Test Data'!$G76*'TxDOT Test Data'!$H76^2)),3*((('TxDOT Test Data'!$J76*6^3/'TxDOT Test Data'!$I76)*('TxDOT Test Data'!$I76/3-'TxDOT Test Data'!$K76))/('TxDOT Test Data'!$G76*'TxDOT Test Data'!$H76^2)))))","v":""},{"$f":"IF(ISERROR(IF('TxDOT Test Data'!$K76>('TxDOT Test Data'!$I76*0.05),\"RETEST\",IF('TxDOT Test Data'!$K76=0,(((('TxDOT Test Data'!$J76*1000)*('TxDOT Test Data'!$I76))/(('TxDOT Test Data'!$G76)*(('TxDOT Test Data'!$H76))^2))),(3*((('TxDOT Test Data'!$J76*1000)*('TxDOT Test Data'!$I76/3-'TxDOT Test Data'!$K76))/('TxDOT Test Data'!$G76*'TxDOT Test Data'!$H76^2)))))),\"\",IF('TxDOT Test Data'!$K76>('TxDOT Test Data'!$I76*0.05),\"RETEST\",IF('TxDOT Test Data'!$K76=0,(((('TxDOT Test Data'!$J76*1000)*('TxDOT Test Data'!$I76))/(('TxDOT Test Data'!$G76)*(('TxDOT Test Data'!$H76))^2))),(3*((('TxDOT Test Data'!$J76*1000)*('TxDOT Test Data'!$I76/3-'TxDOT Test Data'!$K76))/('TxDOT Test Data'!$G76*'TxDOT Test Data'!$H76^2))))))","v":""}]
[1.1599999999999999,0.90839999999999999,null,null,{"$f":"IF(ISERROR(IF('Contractor Test Data'!$K77>('Contractor Test Data'!$I77*0.05),\"RETEST\",IF('Contractor Test Data'!K77=0,((('Contractor Test Data'!$J77*6^3/'Contractor Test Data'!I77)*'Contractor Test Data'!$I77)/('Contractor Test Data'!$G77*'Contractor Test Data'!$H77^2)),3*((('Contractor Test Data'!$J77*6^3/'Contractor Test Data'!I77)*('Contractor Test Data'!I77/3-'Contractor Test Data'!$K77))/('Contractor Test Data'!$G77*'Contractor Test Data'!$H77^2))))),\"\",IF('Contractor Test Data'!$K77>('Contractor Test Data'!$I77*0.05),\"RETEST\",IF('Contractor Test Data'!K77=0,((('Contractor Test Data'!$J77*6^3/'Contractor Test Data'!I77)*'Contractor Test Data'!$I77)/('Contractor Test Data'!$G77*'Contractor Test Data'!$H77^2)),3*((('Contractor Test Data'!$J77*6^3/'Contractor Test Data'!I77)*('Contractor Test Data'!I77/3-'Contractor Test Data'!$K77))/('Contractor Test Data'!$G77*'Contractor Test Data'!$H77^2)))))","v":""},{"$f":"IF(ISERROR(IF('Contractor Test Data'!$K77>('Contractor Test Data'!$I77*0.05),\"RETEST\",IF('Contractor Test Data'!K77=0,(((('Contractor Test Data'!$J77*1000)*('Contractor Test Data'!$I77))/(('Contractor Test Data'!$G77)*(('Contractor Test Data'!$H77))^2))),(3*((('Contractor Test Data'!$J77*1000)*('Contractor Test Data'!I77/3-'Contractor Test Data'!$K77))/('Contractor Test Data'!$G77*'Contractor Test Data'!$H77^2)))))),\"\",IF('Contractor Test Data'!$K77>('Contractor Test Data'!$I77*0.05),\"RETEST\",IF('Contractor Test Data'!K77=0,(((('Contractor Test Data'!$J77*1000)*('Contractor Test Data'!$I77))/(('Contractor Test Data'!$G77)*(('Contractor Test Data'!$H77))^2))),(3*((('Contractor Test Data'!$J77*1000)*('Contractor Test Data'!I77/3-'Contractor Test Data'!$K77))/('Contractor Test Data'!$G77*'Contractor Test Data'!$H77^2))))))","v":""},{"$f":"IF(ISERROR(IF('TxDOT Test Data'!$K77>('TxDOT Test Data'!$I77*0.05),\"RETEST\",IF('TxDOT Test Data'!$K77=0,((('TxDOT Test Data'!$J77*6^3/'TxDOT Test Data'!$I77)*'TxDOT Test Data'!$I77)/('TxDOT Test Data'!$G77*'TxDOT Test Data'!$H77^2)),3*((('TxDOT Test Data'!$J77*6^3/'TxDOT Test Data'!$I77)*('TxDOT Test Data'!$I77/3-'TxDOT Test Data'!$K77))/('TxDOT Test Data'!$G77*'TxDOT Test Data'!$H77^2))))),\"\",IF('TxDOT Test Data'!$K77>('TxDOT Test Data'!$I77*0.05),\"RETEST\",IF('TxDOT Test Data'!$K77=0,((('TxDOT Test Data'!$J77*6^3/'TxDOT Test Data'!$I77)*'TxDOT Test Data'!$I77)/('TxDOT Test Data'!$G77*'TxDOT Test Data'!$H77^2)),3*((('TxDOT Test Data'!$J77*6^3/'TxDOT Test Data'!$I77)*('TxDOT Test Data'!$I77/3-'TxDOT Test Data'!$K77))/('TxDOT Test Data'!$G77*'TxDOT Test Data'!$H77^2)))))","v":""},{"$f":"IF(ISERROR(IF('TxDOT Test Data'!$K77>('TxDOT Test Data'!$I77*0.05),\"RETEST\",IF('TxDOT Test Data'!$K77=0,(((('TxDOT Test Data'!$J77*1000)*('TxDOT Test Data'!$I77))/(('TxDOT Test Data'!$G77)*(('TxDOT Test Data'!$H77))^2))),(3*((('TxDOT Test Data'!$J77*1000)*('TxDOT Test Data'!$I77/3-'TxDOT Test Data'!$K77))/('TxDOT Test Data'!$G77*'TxDOT Test Data'!$H77^2)))))),\"\",IF('TxDOT Test Data'!$K77>('TxDOT Test Data'!$I77*0.05),\"RETEST\",IF('TxDOT Test Data'!$K77=0,(((('TxDOT Test Data'!$J77*1000)*('TxDOT Test Data'!$I77))/(('TxDOT Test Data'!$G77)*(('TxDOT Test Data'!$H77))^2))),(3*((('TxDOT Test Data'!$J77*1000)*('TxDOT Test Data'!$I77/3-'TxDOT Test Data'!$K77))/('TxDOT Test Data'!$G77*'TxDOT Test Data'!$H77^2))))))","v":""}]
[1.17,0.91080000000000005,null,null,{"$f":"IF(ISERROR(IF('Contractor Test Data'!$K78>('Contractor Test Data'!$I78*0.05),\"RETEST\",IF('Contractor Test Data'!K78=0,((('Contractor Test Data'!$J78*6^3/'Contractor Test Data'!I78)*'Contractor Test Data'!$I78)/('Contractor Test Data'!$G78*'Contractor Test Data'!$H78^2)),3*((('Contractor Test Data'!$J78*6^3/'Contractor Test Data'!I78)*('Contractor Test Data'!I78/3-'Contractor Test Data'!$K78))/('Contractor Test Data'!$G78*'Contractor Test Data'!$H78^2))))),\"\",IF('Contractor Test Data'!$K78>('Contractor Test Data'!$I78*0.05),\"RETEST\",IF('Contractor Test Data'!K78=0,((('Contractor Test Data'!$J78*6^3/'Contractor Test Data'!I78)*'Contractor Test Data'!$I78)/('Contractor Test Data'!$G78*'Contractor Test Data'!$H78^2)),3*((('Contractor Test Data'!$J78*6^3/'Contractor Test Data'!I78)*('Contractor Test Data'!I78/3-'Contractor Test Data'!$K78))/('Contractor Test Data'!$G78*'Contractor Test Data'!$H78^2)))))","v":""},{"$f":"IF(ISERROR(IF('Contractor Test Data'!$K78>('Contractor Test Data'!$I78*0.05),\"RETEST\",IF('Contractor Test Data'!K78=0,(((('Contractor Test Data'!$J78*1000)*('Contractor Test Data'!$I78))/(('Contractor Test Data'!$G78)*(('Contractor Test Data'!$H78))^2))),(3*((('Contractor Test Data'!$J78*1000)*('Contractor Test Data'!I78/3-'Contractor Test Data'!$K78))/('Contractor Test Data'!$G78*'Contractor Test Data'!$H78^2)))))),\"\",IF('Contractor Test Data'!$K78>('Contractor Test Data'!$I78*0.05),\"RETEST\",IF('Contractor Test Data'!K78=0,(((('Contractor Test Data'!$J78*1000)*('Contractor Test Data'!$I78))/(('Contractor Test Data'!$G78)*(('Contractor Test Data'!$H78))^2))),(3*((('Contractor Test Data'!$J78*1000)*('Contractor Test Data'!I78/3-'Contractor Test Data'!$K78))/('Contractor Test Data'!$G78*'Contractor Test Data'!$H78^2))))))","v":""},{"$f":"IF(ISERROR(IF('TxDOT Test Data'!$K78>('TxDOT Test Data'!$I78*0.05),\"RETEST\",IF('TxDOT Test Data'!$K78=0,((('TxDOT Test Data'!$J78*6^3/'TxDOT Test Data'!$I78)*'TxDOT Test Data'!$I78)/('TxDOT Test Data'!$G78*'TxDOT Test Data'!$H78^2)),3*((('TxDOT Test Data'!$J78*6^3/'TxDOT Test Data'!$I78)*('TxDOT Test Data'!$I78/3-'TxDOT Test Data'!$K78))/('TxDOT Test Data'!$G78*'TxDOT Test Data'!$H78^2))))),\"\",IF('TxDOT Test Data'!$K78>('TxDOT Test Data'!$I78*0.05),\"RETEST\",IF('TxDOT Test Data'!$K78=0,((('TxDOT Test Data'!$J78*6^3/'TxDOT Test Data'!$I78)*'TxDOT Test Data'!$I78)/('TxDOT Test Data'!$G78*'TxDOT Test Data'!$H78^2)),3*((('TxDOT Test Data'!$J78*6^3/'TxDOT Test Data'!$I78)*('TxDOT Test Data'!$I78/3-'TxDOT Test Data'!$K78))/('TxDOT Test Data'!$G78*'TxDOT Test Data'!$H78^2)))))","v":""},{"$f":"IF(ISERROR(IF('TxDOT Test Data'!$K78>('TxDOT Test Data'!$I78*0.05),\"RETEST\",IF('TxDOT Test Data'!$K78=0,(((('TxDOT Test Data'!$J78*1000)*('TxDOT Test Data'!$I78))/(('TxDOT Test Data'!$G78)*(('TxDOT Test Data'!$H78))^2))),(3*((('TxDOT Test Data'!$J78*1000)*('TxDOT Test Data'!$I78/3-'TxDOT Test Data'!$K78))/('TxDOT Test Data'!$G78*'TxDOT Test Data'!$H78^2)))))),\"\",IF('TxDOT Test Data'!$K78>('TxDOT Test Data'!$I78*0.05),\"RETEST\",IF('TxDOT Test Data'!$K78=0,(((('TxDOT Test Data'!$J78*1000)*('TxDOT Test Data'!$I78))/(('TxDOT Test Data'!$G78)*(('TxDOT Test Data'!$H78))^2))),(3*((('TxDOT Test Data'!$J78*1000)*('TxDOT Test Data'!$I78/3-'TxDOT Test Data'!$K78))/('TxDOT Test Data'!$G78*'TxDOT Test Data'!$H78^2))))))","v":""}]
[1.18,0.91320000000000001,null,null,{"$f":"IF(ISERROR(IF('Contractor Test Data'!$K79>('Contractor Test Data'!$I79*0.05),\"RETEST\",IF('Contractor Test Data'!K79=0,((('Contractor Test Data'!$J79*6^3/'Contractor Test Data'!I79)*'Contractor Test Data'!$I79)/('Contractor Test Data'!$G79*'Contractor Test Data'!$H79^2)),3*((('Contractor Test Data'!$J79*6^3/'Contractor Test Data'!I79)*('Contractor Test Data'!I79/3-'Contractor Test Data'!$K79))/('Contractor Test Data'!$G79*'Contractor Test Data'!$H79^2))))),\"\",IF('Contractor Test Data'!$K79>('Contractor Test Data'!$I79*0.05),\"RETEST\",IF('Contractor Test Data'!K79=0,((('Contractor Test Data'!$J79*6^3/'Contractor Test Data'!I79)*'Contractor Test Data'!$I79)/('Contractor Test Data'!$G79*'Contractor Test Data'!$H79^2)),3*((('Contractor Test Data'!$J79*6^3/'Contractor Test Data'!I79)*('Contractor Test Data'!I79/3-'Contractor Test Data'!$K79))/('Contractor Test Data'!$G79*'Contractor Test Data'!$H79^2)))))","v":""},{"$f":"IF(ISERROR(IF('Contractor Test Data'!$K79>('Contractor Test Data'!$I79*0.05),\"RETEST\",IF('Contractor Test Data'!K79=0,(((('Contractor Test Data'!$J79*1000)*('Contractor Test Data'!$I79))/(('Contractor Test Data'!$G79)*(('Contractor Test Data'!$H79))^2))),(3*((('Contractor Test Data'!$J79*1000)*('Contractor Test Data'!I79/3-'Contractor Test Data'!$K79))/('Contractor Test Data'!$G79*'Contractor Test Data'!$H79^2)))))),\"\",IF('Contractor Test Data'!$K79>('Contractor Test Data'!$I79*0.05),\"RETEST\",IF('Contractor Test Data'!K79=0,(((('Contractor Test Data'!$J79*1000)*('Contractor Test Data'!$I79))/(('Contractor Test Data'!$G79)*(('Contractor Test Data'!$H79))^2))),(3*((('Contractor Test Data'!$J79*1000)*('Contractor Test Data'!I79/3-'Contractor Test Data'!$K79))/('Contractor Test Data'!$G79*'Contractor Test Data'!$H79^2))))))","v":""},{"$f":"IF(ISERROR(IF('TxDOT Test Data'!$K79>('TxDOT Test Data'!$I79*0.05),\"RETEST\",IF('TxDOT Test Data'!$K79=0,((('TxDOT Test Data'!$J79*6^3/'TxDOT Test Data'!$I79)*'TxDOT Test Data'!$I79)/('TxDOT Test Data'!$G79*'TxDOT Test Data'!$H79^2)),3*((('TxDOT Test Data'!$J79*6^3/'TxDOT Test Data'!$I79)*('TxDOT Test Data'!$I79/3-'TxDOT Test Data'!$K79))/('TxDOT Test Data'!$G79*'TxDOT Test Data'!$H79^2))))),\"\",IF('TxDOT Test Data'!$K79>('TxDOT Test Data'!$I79*0.05),\"RETEST\",IF('TxDOT Test Data'!$K79=0,((('TxDOT Test Data'!$J79*6^3/'TxDOT Test Data'!$I79)*'TxDOT Test Data'!$I79)/('TxDOT Test Data'!$G79*'TxDOT Test Data'!$H79^2)),3*((('TxDOT Test Data'!$J79*6^3/'TxDOT Test Data'!$I79)*('TxDOT Test Data'!$I79/3-'TxDOT Test Data'!$K79))/('TxDOT Test Data'!$G79*'TxDOT Test Data'!$H79^2)))))","v":""},{"$f":"IF(ISERROR(IF('TxDOT Test Data'!$K79>('TxDOT Test Data'!$I79*0.05),\"RETEST\",IF('TxDOT Test Data'!$K79=0,(((('TxDOT Test Data'!$J79*1000)*('TxDOT Test Data'!$I79))/(('TxDOT Test Data'!$G79)*(('TxDOT Test Data'!$H79))^2))),(3*((('TxDOT Test Data'!$J79*1000)*('TxDOT Test Data'!$I79/3-'TxDOT Test Data'!$K79))/('TxDOT Test Data'!$G79*'TxDOT Test Data'!$H79^2)))))),\"\",IF('TxDOT Test Data'!$K79>('TxDOT Test Data'!$I79*0.05),\"RETEST\",IF('TxDOT Test Data'!$K79=0,(((('TxDOT Test Data'!$J79*1000)*('TxDOT Test Data'!$I79))/(('TxDOT Test Data'!$G79)*(('TxDOT Test Data'!$H79))^2))),(3*((('TxDOT Test Data'!$J79*1000)*('TxDOT Test Data'!$I79/3-'TxDOT Test Data'!$K79))/('TxDOT Test Data'!$G79*'TxDOT Test Data'!$H79^2))))))","v":""}]
[1.19,0.91559999999999997,null,null,{"$f":"IF(ISERROR(IF('Contractor Test Data'!$K80>('Contractor Test Data'!$I80*0.05),\"RETEST\",IF('Contractor Test Data'!K80=0,((('Contractor Test Data'!$J80*6^3/'Contractor Test Data'!I80)*'Contractor Test Data'!$I80)/('Contractor Test Data'!$G80*'Contractor Test Data'!$H80^2)),3*((('Contractor Test Data'!$J80*6^3/'Contractor Test Data'!I80)*('Contractor Test Data'!I80/3-'Contractor Test Data'!$K80))/('Contractor Test Data'!$G80*'Contractor Test Data'!$H80^2))))),\"\",IF('Contractor Test Data'!$K80>('Contractor Test Data'!$I80*0.05),\"RETEST\",IF('Contractor Test Data'!K80=0,((('Contractor Test Data'!$J80*6^3/'Contractor Test Data'!I80)*'Contractor Test Data'!$I80)/('Contractor Test Data'!$G80*'Contractor Test Data'!$H80^2)),3*((('Contractor Test Data'!$J80*6^3/'Contractor Test Data'!I80)*('Contractor Test Data'!I80/3-'Contractor Test Data'!$K80))/('Contractor Test Data'!$G80*'Contractor Test Data'!$H80^2)))))","v":""},{"$f":"IF(ISERROR(IF('Contractor Test Data'!$K80>('Contractor Test Data'!$I80*0.05),\"RETEST\",IF('Contractor Test Data'!K80=0,(((('Contractor Test Data'!$J80*1000)*('Contractor Test Data'!$I80))/(('Contractor Test Data'!$G80)*(('Contractor Test Data'!$H80))^2))),(3*((('Contractor Test Data'!$J80*1000)*('Contractor Test Data'!I80/3-'Contractor Test Data'!$K80))/('Contractor Test Data'!$G80*'Contractor Test Data'!$H80^2)))))),\"\",IF('Contractor Test Data'!$K80>('Contractor Test Data'!$I80*0.05),\"RETEST\",IF('Contractor Test Data'!K80=0,(((('Contractor Test Data'!$J80*1000)*('Contractor Test Data'!$I80))/(('Contractor Test Data'!$G80)*(('Contractor Test Data'!$H80))^2))),(3*((('Contractor Test Data'!$J80*1000)*('Contractor Test Data'!I80/3-'Contractor Test Data'!$K80))/('Contractor Test Data'!$G80*'Contractor Test Data'!$H80^2))))))","v":""},{"$f":"IF(ISERROR(IF('TxDOT Test Data'!$K80>('TxDOT Test Data'!$I80*0.05),\"RETEST\",IF('TxDOT Test Data'!$K80=0,((('TxDOT Test Data'!$J80*6^3/'TxDOT Test Data'!$I80)*'TxDOT Test Data'!$I80)/('TxDOT Test Data'!$G80*'TxDOT Test Data'!$H80^2)),3*((('TxDOT Test Data'!$J80*6^3/'TxDOT Test Data'!$I80)*('TxDOT Test Data'!$I80/3-'TxDOT Test Data'!$K80))/('TxDOT Test Data'!$G80*'TxDOT Test Data'!$H80^2))))),\"\",IF('TxDOT Test Data'!$K80>('TxDOT Test Data'!$I80*0.05),\"RETEST\",IF('TxDOT Test Data'!$K80=0,((('TxDOT Test Data'!$J80*6^3/'TxDOT Test Data'!$I80)*'TxDOT Test Data'!$I80)/('TxDOT Test Data'!$G80*'TxDOT Test Data'!$H80^2)),3*((('TxDOT Test Data'!$J80*6^3/'TxDOT Test Data'!$I80)*('TxDOT Test Data'!$I80/3-'TxDOT Test Data'!$K80))/('TxDOT Test Data'!$G80*'TxDOT Test Data'!$H80^2)))))","v":""},{"$f":"IF(ISERROR(IF('TxDOT Test Data'!$K80>('TxDOT Test Data'!$I80*0.05),\"RETEST\",IF('TxDOT Test Data'!$K80=0,(((('TxDOT Test Data'!$J80*1000)*('TxDOT Test Data'!$I80))/(('TxDOT Test Data'!$G80)*(('TxDOT Test Data'!$H80))^2))),(3*((('TxDOT Test Data'!$J80*1000)*('TxDOT Test Data'!$I80/3-'TxDOT Test Data'!$K80))/('TxDOT Test Data'!$G80*'TxDOT Test Data'!$H80^2)))))),\"\",IF('TxDOT Test Data'!$K80>('TxDOT Test Data'!$I80*0.05),\"RETEST\",IF('TxDOT Test Data'!$K80=0,(((('TxDOT Test Data'!$J80*1000)*('TxDOT Test Data'!$I80))/(('TxDOT Test Data'!$G80)*(('TxDOT Test Data'!$H80))^2))),(3*((('TxDOT Test Data'!$J80*1000)*('TxDOT Test Data'!$I80/3-'TxDOT Test Data'!$K80))/('TxDOT Test Data'!$G80*'TxDOT Test Data'!$H80^2))))))","v":""}]
[1.2,0.91800000000000004]
[1.21,0.9204]
[1.22,0.92279999999999995]
[1.23,0.92520000000000002]
[1.24,0.92759999999999998]
[1.25,0.93]
[1.26,0.93120000000000003]
[1.27,0.93240000000000001,null,null,"Compressive Strength"]
[1.28,0.93359999999999999,null,null,"Contractor Test Data",null,"TxDOT Test Data"]
[1.29,0.93479999999999996,null,null,"English f'c","Metric f'c","English f'c","Metric f'c"]
[1.3,0.93600000000000005,null,null,{"$f":"IF(ISERROR('Contractor Test Data'!$L31*('Contractor Test Data'!$J31/(PI()*(IF(CircumDiameter1=\"circumference\",SQRT('Contractor Test Data'!$G31/PI())*2,'Contractor Test Data'!$G31)^2/4)))),\"\",'Contractor Test Data'!$L31*('Contractor Test Data'!$J31/(PI()*(IF(CircumDiameter1=\"circumference\",SQRT('Contractor Test Data'!$G31/PI())*2,'Contractor Test Data'!$G31)^2/4))))","v":""},{"$f":"IF(ISERROR(0.000001*('Contractor Test Data'!$L31*('Contractor Test Data'!$J31/(PI()*((IF(CircumDiameter1=\"circumference\",SQRT('Contractor Test Data'!$G31/PI())*2,'Contractor Test Data'!$G31)/1000)^2/4))))),\"\",0.000001*('Contractor Test Data'!$L31*('Contractor Test Data'!$J31/(PI()*((IF(CircumDiameter1=\"circumference\",SQRT('Contractor Test Data'!$G31/PI())*2,'Contractor Test Data'!$G31)/1000)^2/4)))))","v":""},{"$f":"IF(ISERROR('TxDOT Test Data'!$L31*('TxDOT Test Data'!$J31/(PI()*(IF(CircumDiameter2=\"circumference\",SQRT('TxDOT Test Data'!$G31/PI())*2,'TxDOT Test Data'!$G31)^2/4)))),\"\",'TxDOT Test Data'!$L31*('TxDOT Test Data'!$J31/(PI()*(IF(CircumDiameter2=\"circumference\",SQRT('TxDOT Test Data'!$G31/PI())*2,'TxDOT Test Data'!$G31)^2/4))))","v":""},{"$f":"IF(ISERROR(0.000001*('TxDOT Test Data'!$L31*('TxDOT Test Data'!$J31/(PI()*((IF(CircumDiameter2=\"circumference\",SQRT('TxDOT Test Data'!$G31/PI())*2,'TxDOT Test Data'!$G31)/1000)^2/4))))),\"\",0.000001*('TxDOT Test Data'!$L31*('TxDOT Test Data'!$J31/(PI()*((IF(CircumDiameter2=\"circumference\",SQRT('TxDOT Test Data'!$G31/PI())*2,'TxDOT Test Data'!$G31)/1000)^2/4)))))","v":""}]
[1.31,0.93720000000000003,null,null,{"$f":"IF(ISERROR('Contractor Test Data'!$L32*('Contractor Test Data'!$J32/(PI()*(IF(CircumDiameter1=\"circumference\",SQRT('Contractor Test Data'!$G32/PI())*2,'Contractor Test Data'!$G32)^2/4)))),\"\",'Contractor Test Data'!$L32*('Contractor Test Data'!$J32/(PI()*(IF(CircumDiameter1=\"circumference\",SQRT('Contractor Test Data'!$G32/PI())*2,'Contractor Test Data'!$G32)^2/4))))","v":""},{"$f":"IF(ISERROR(0.000001*('Contractor Test Data'!$L32*('Contractor Test Data'!$J32/(PI()*((IF(CircumDiameter1=\"circumference\",SQRT('Contractor Test Data'!$G32/PI())*2,'Contractor Test Data'!$G32)/1000)^2/4))))),\"\",0.000001*('Contractor Test Data'!$L32*('Contractor Test Data'!$J32/(PI()*((IF(CircumDiameter1=\"circumference\",SQRT('Contractor Test Data'!$G32/PI())*2,'Contractor Test Data'!$G32)/1000)^2/4)))))","v":""},{"$f":"IF(ISERROR('TxDOT Test Data'!$L32*('TxDOT Test Data'!$J32/(PI()*(IF(CircumDiameter2=\"circumference\",SQRT('TxDOT Test Data'!$G32/PI())*2,'TxDOT Test Data'!$G32)^2/4)))),\"\",'TxDOT Test Data'!$L32*('TxDOT Test Data'!$J32/(PI()*(IF(CircumDiameter2=\"circumference\",SQRT('TxDOT Test Data'!$G32/PI())*2,'TxDOT Test Data'!$G32)^2/4))))","v":""},{"$f":"IF(ISERROR(0.000001*('TxDOT Test Data'!$L32*('TxDOT Test Data'!$J32/(PI()*((IF(CircumDiameter2=\"circumference\",SQRT('TxDOT Test Data'!$G32/PI())*2,'TxDOT Test Data'!$G32)/1000)^2/4))))),\"\",0.000001*('TxDOT Test Data'!$L32*('TxDOT Test Data'!$J32/(PI()*((IF(CircumDiameter2=\"circumference\",SQRT('TxDOT Test Data'!$G32/PI())*2,'TxDOT Test Data'!$G32)/1000)^2/4)))))","v":""}]
[1.32,0.93840000000000001,null,null,{"$f":"IF(ISERROR('Contractor Test Data'!$L33*('Contractor Test Data'!$J33/(PI()*(IF(CircumDiameter1=\"circumference\",SQRT('Contractor Test Data'!$G33/PI())*2,'Contractor Test Data'!$G33)^2/4)))),\"\",'Contractor Test Data'!$L33*('Contractor Test Data'!$J33/(PI()*(IF(CircumDiameter1=\"circumference\",SQRT('Contractor Test Data'!$G33/PI())*2,'Contractor Test Data'!$G33)^2/4))))","v":""},{"$f":"IF(ISERROR(0.000001*('Contractor Test Data'!$L33*('Contractor Test Data'!$J33/(PI()*((IF(CircumDiameter1=\"circumference\",SQRT('Contractor Test Data'!$G33/PI())*2,'Contractor Test Data'!$G33)/1000)^2/4))))),\"\",0.000001*('Contractor Test Data'!$L33*('Contractor Test Data'!$J33/(PI()*((IF(CircumDiameter1=\"circumference\",SQRT('Contractor Test Data'!$G33/PI())*2,'Contractor Test Data'!$G33)/1000)^2/4)))))","v":""},{"$f":"IF(ISERROR('TxDOT Test Data'!$L33*('TxDOT Test Data'!$J33/(PI()*(IF(CircumDiameter2=\"circumference\",SQRT('TxDOT Test Data'!$G33/PI())*2,'TxDOT Test Data'!$G33)^2/4)))),\"\",'TxDOT Test Data'!$L33*('TxDOT Test Data'!$J33/(PI()*(IF(CircumDiameter2=\"circumference\",SQRT('TxDOT Test Data'!$G33/PI())*2,'TxDOT Test Data'!$G33)^2/4))))","v":""},{"$f":"IF(ISERROR(0.000001*('TxDOT Test Data'!$L33*('TxDOT Test Data'!$J33/(PI()*((IF(CircumDiameter2=\"circumference\",SQRT('TxDOT Test Data'!$G33/PI())*2,'TxDOT Test Data'!$G33)/1000)^2/4))))),\"\",0.000001*('TxDOT Test Data'!$L33*('TxDOT Test Data'!$J33/(PI()*((IF(CircumDiameter2=\"circumference\",SQRT('TxDOT Test Data'!$G33/PI())*2,'TxDOT Test Data'!$G33)/1000)^2/4)))))","v":""}]
[1.33,0.93959999999999999,null,null,{"$f":"IF(ISERROR('Contractor Test Data'!$L34*('Contractor Test Data'!$J34/(PI()*(IF(CircumDiameter1=\"circumference\",SQRT('Contractor Test Data'!$G34/PI())*2,'Contractor Test Data'!$G34)^2/4)))),\"\",'Contractor Test Data'!$L34*('Contractor Test Data'!$J34/(PI()*(IF(CircumDiameter1=\"circumference\",SQRT('Contractor Test Data'!$G34/PI())*2,'Contractor Test Data'!$G34)^2/4))))","v":""},{"$f":"IF(ISERROR(0.000001*('Contractor Test Data'!$L34*('Contractor Test Data'!$J34/(PI()*((IF(CircumDiameter1=\"circumference\",SQRT('Contractor Test Data'!$G34/PI())*2,'Contractor Test Data'!$G34)/1000)^2/4))))),\"\",0.000001*('Contractor Test Data'!$L34*('Contractor Test Data'!$J34/(PI()*((IF(CircumDiameter1=\"circumference\",SQRT('Contractor Test Data'!$G34/PI())*2,'Contractor Test Data'!$G34)/1000)^2/4)))))","v":""},{"$f":"IF(ISERROR('TxDOT Test Data'!$L34*('TxDOT Test Data'!$J34/(PI()*(IF(CircumDiameter2=\"circumference\",SQRT('TxDOT Test Data'!$G34/PI())*2,'TxDOT Test Data'!$G34)^2/4)))),\"\",'TxDOT Test Data'!$L34*('TxDOT Test Data'!$J34/(PI()*(IF(CircumDiameter2=\"circumference\",SQRT('TxDOT Test Data'!$G34/PI())*2,'TxDOT Test Data'!$G34)^2/4))))","v":""},{"$f":"IF(ISERROR(0.000001*('TxDOT Test Data'!$L34*('TxDOT Test Data'!$J34/(PI()*((IF(CircumDiameter2=\"circumference\",SQRT('TxDOT Test Data'!$G34/PI())*2,'TxDOT Test Data'!$G34)/1000)^2/4))))),\"\",0.000001*('TxDOT Test Data'!$L34*('TxDOT Test Data'!$J34/(PI()*((IF(CircumDiameter2=\"circumference\",SQRT('TxDOT Test Data'!$G34/PI())*2,'TxDOT Test Data'!$G34)/1000)^2/4)))))","v":""}]
[1.34,0.94079999999999997,null,null,{"$f":"IF(ISERROR('Contractor Test Data'!$L35*('Contractor Test Data'!$J35/(PI()*(IF(CircumDiameter1=\"circumference\",SQRT('Contractor Test Data'!$G35/PI())*2,'Contractor Test Data'!$G35)^2/4)))),\"\",'Contractor Test Data'!$L35*('Contractor Test Data'!$J35/(PI()*(IF(CircumDiameter1=\"circumference\",SQRT('Contractor Test Data'!$G35/PI())*2,'Contractor Test Data'!$G35)^2/4))))","v":""},{"$f":"IF(ISERROR(0.000001*('Contractor Test Data'!$L35*('Contractor Test Data'!$J35/(PI()*((IF(CircumDiameter1=\"circumference\",SQRT('Contractor Test Data'!$G35/PI())*2,'Contractor Test Data'!$G35)/1000)^2/4))))),\"\",0.000001*('Contractor Test Data'!$L35*('Contractor Test Data'!$J35/(PI()*((IF(CircumDiameter1=\"circumference\",SQRT('Contractor Test Data'!$G35/PI())*2,'Contractor Test Data'!$G35)/1000)^2/4)))))","v":""},{"$f":"IF(ISERROR('TxDOT Test Data'!$L35*('TxDOT Test Data'!$J35/(PI()*(IF(CircumDiameter2=\"circumference\",SQRT('TxDOT Test Data'!$G35/PI())*2,'TxDOT Test Data'!$G35)^2/4)))),\"\",'TxDOT Test Data'!$L35*('TxDOT Test Data'!$J35/(PI()*(IF(CircumDiameter2=\"circumference\",SQRT('TxDOT Test Data'!$G35/PI())*2,'TxDOT Test Data'!$G35)^2/4))))","v":""},{"$f":"IF(ISERROR(0.000001*('TxDOT Test Data'!$L35*('TxDOT Test Data'!$J35/(PI()*((IF(CircumDiameter2=\"circumference\",SQRT('TxDOT Test Data'!$G35/PI())*2,'TxDOT Test Data'!$G35)/1000)^2/4))))),\"\",0.000001*('TxDOT Test Data'!$L35*('TxDOT Test Data'!$J35/(PI()*((IF(CircumDiameter2=\"circumference\",SQRT('TxDOT Test Data'!$G35/PI())*2,'TxDOT Test Data'!$G35)/1000)^2/4)))))","v":""}]
[1.35,0.94199999999999995,null,null,{"$f":"IF(ISERROR('Contractor Test Data'!$L36*('Contractor Test Data'!$J36/(PI()*(IF(CircumDiameter1=\"circumference\",SQRT('Contractor Test Data'!$G36/PI())*2,'Contractor Test Data'!$G36)^2/4)))),\"\",'Contractor Test Data'!$L36*('Contractor Test Data'!$J36/(PI()*(IF(CircumDiameter1=\"circumference\",SQRT('Contractor Test Data'!$G36/PI())*2,'Contractor Test Data'!$G36)^2/4))))","v":""},{"$f":"IF(ISERROR(0.000001*('Contractor Test Data'!$L36*('Contractor Test Data'!$J36/(PI()*((IF(CircumDiameter1=\"circumference\",SQRT('Contractor Test Data'!$G36/PI())*2,'Contractor Test Data'!$G36)/1000)^2/4))))),\"\",0.000001*('Contractor Test Data'!$L36*('Contractor Test Data'!$J36/(PI()*((IF(CircumDiameter1=\"circumference\",SQRT('Contractor Test Data'!$G36/PI())*2,'Contractor Test Data'!$G36)/1000)^2/4)))))","v":""},{"$f":"IF(ISERROR('TxDOT Test Data'!$L36*('TxDOT Test Data'!$J36/(PI()*(IF(CircumDiameter2=\"circumference\",SQRT('TxDOT Test Data'!$G36/PI())*2,'TxDOT Test Data'!$G36)^2/4)))),\"\",'TxDOT Test Data'!$L36*('TxDOT Test Data'!$J36/(PI()*(IF(CircumDiameter2=\"circumference\",SQRT('TxDOT Test Data'!$G36/PI())*2,'TxDOT Test Data'!$G36)^2/4))))","v":""},{"$f":"IF(ISERROR(0.000001*('TxDOT Test Data'!$L36*('TxDOT Test Data'!$J36/(PI()*((IF(CircumDiameter2=\"circumference\",SQRT('TxDOT Test Data'!$G36/PI())*2,'TxDOT Test Data'!$G36)/1000)^2/4))))),\"\",0.000001*('TxDOT Test Data'!$L36*('TxDOT Test Data'!$J36/(PI()*((IF(CircumDiameter2=\"circumference\",SQRT('TxDOT Test Data'!$G36/PI())*2,'TxDOT Test Data'!$G36)/1000)^2/4)))))","v":""}]
[1.36,0.94320000000000004,null,null,{"$f":"IF(ISERROR('Contractor Test Data'!$L37*('Contractor Test Data'!$J37/(PI()*(IF(CircumDiameter1=\"circumference\",SQRT('Contractor Test Data'!$G37/PI())*2,'Contractor Test Data'!$G37)^2/4)))),\"\",'Contractor Test Data'!$L37*('Contractor Test Data'!$J37/(PI()*(IF(CircumDiameter1=\"circumference\",SQRT('Contractor Test Data'!$G37/PI())*2,'Contractor Test Data'!$G37)^2/4))))","v":""},{"$f":"IF(ISERROR(0.000001*('Contractor Test Data'!$L37*('Contractor Test Data'!$J37/(PI()*((IF(CircumDiameter1=\"circumference\",SQRT('Contractor Test Data'!$G37/PI())*2,'Contractor Test Data'!$G37)/1000)^2/4))))),\"\",0.000001*('Contractor Test Data'!$L37*('Contractor Test Data'!$J37/(PI()*((IF(CircumDiameter1=\"circumference\",SQRT('Contractor Test Data'!$G37/PI())*2,'Contractor Test Data'!$G37)/1000)^2/4)))))","v":""},{"$f":"IF(ISERROR('TxDOT Test Data'!$L37*('TxDOT Test Data'!$J37/(PI()*(IF(CircumDiameter2=\"circumference\",SQRT('TxDOT Test Data'!$G37/PI())*2,'TxDOT Test Data'!$G37)^2/4)))),\"\",'TxDOT Test Data'!$L37*('TxDOT Test Data'!$J37/(PI()*(IF(CircumDiameter2=\"circumference\",SQRT('TxDOT Test Data'!$G37/PI())*2,'TxDOT Test Data'!$G37)^2/4))))","v":""},{"$f":"IF(ISERROR(0.000001*('TxDOT Test Data'!$L37*('TxDOT Test Data'!$J37/(PI()*((IF(CircumDiameter2=\"circumference\",SQRT('TxDOT Test Data'!$G37/PI())*2,'TxDOT Test Data'!$G37)/1000)^2/4))))),\"\",0.000001*('TxDOT Test Data'!$L37*('TxDOT Test Data'!$J37/(PI()*((IF(CircumDiameter2=\"circumference\",SQRT('TxDOT Test Data'!$G37/PI())*2,'TxDOT Test Data'!$G37)/1000)^2/4)))))","v":""}]
[1.37,0.94440000000000002,null,null,{"$f":"IF(ISERROR('Contractor Test Data'!$L38*('Contractor Test Data'!$J38/(PI()*(IF(CircumDiameter1=\"circumference\",SQRT('Contractor Test Data'!$G38/PI())*2,'Contractor Test Data'!$G38)^2/4)))),\"\",'Contractor Test Data'!$L38*('Contractor Test Data'!$J38/(PI()*(IF(CircumDiameter1=\"circumference\",SQRT('Contractor Test Data'!$G38/PI())*2,'Contractor Test Data'!$G38)^2/4))))","v":""},{"$f":"IF(ISERROR(0.000001*('Contractor Test Data'!$L38*('Contractor Test Data'!$J38/(PI()*((IF(CircumDiameter1=\"circumference\",SQRT('Contractor Test Data'!$G38/PI())*2,'Contractor Test Data'!$G38)/1000)^2/4))))),\"\",0.000001*('Contractor Test Data'!$L38*('Contractor Test Data'!$J38/(PI()*((IF(CircumDiameter1=\"circumference\",SQRT('Contractor Test Data'!$G38/PI())*2,'Contractor Test Data'!$G38)/1000)^2/4)))))","v":""},{"$f":"IF(ISERROR('TxDOT Test Data'!$L38*('TxDOT Test Data'!$J38/(PI()*(IF(CircumDiameter2=\"circumference\",SQRT('TxDOT Test Data'!$G38/PI())*2,'TxDOT Test Data'!$G38)^2/4)))),\"\",'TxDOT Test Data'!$L38*('TxDOT Test Data'!$J38/(PI()*(IF(CircumDiameter2=\"circumference\",SQRT('TxDOT Test Data'!$G38/PI())*2,'TxDOT Test Data'!$G38)^2/4))))","v":""},{"$f":"IF(ISERROR(0.000001*('TxDOT Test Data'!$L38*('TxDOT Test Data'!$J38/(PI()*((IF(CircumDiameter2=\"circumference\",SQRT('TxDOT Test Data'!$G38/PI())*2,'TxDOT Test Data'!$G38)/1000)^2/4))))),\"\",0.000001*('TxDOT Test Data'!$L38*('TxDOT Test Data'!$J38/(PI()*((IF(CircumDiameter2=\"circumference\",SQRT('TxDOT Test Data'!$G38/PI())*2,'TxDOT Test Data'!$G38)/1000)^2/4)))))","v":""}]
[1.38,0.9456,null,null,{"$f":"IF(ISERROR('Contractor Test Data'!$L39*('Contractor Test Data'!$J39/(PI()*(IF(CircumDiameter1=\"circumference\",SQRT('Contractor Test Data'!$G39/PI())*2,'Contractor Test Data'!$G39)^2/4)))),\"\",'Contractor Test Data'!$L39*('Contractor Test Data'!$J39/(PI()*(IF(CircumDiameter1=\"circumference\",SQRT('Contractor Test Data'!$G39/PI())*2,'Contractor Test Data'!$G39)^2/4))))","v":""},{"$f":"IF(ISERROR(0.000001*('Contractor Test Data'!$L39*('Contractor Test Data'!$J39/(PI()*((IF(CircumDiameter1=\"circumference\",SQRT('Contractor Test Data'!$G39/PI())*2,'Contractor Test Data'!$G39)/1000)^2/4))))),\"\",0.000001*('Contractor Test Data'!$L39*('Contractor Test Data'!$J39/(PI()*((IF(CircumDiameter1=\"circumference\",SQRT('Contractor Test Data'!$G39/PI())*2,'Contractor Test Data'!$G39)/1000)^2/4)))))","v":""},{"$f":"IF(ISERROR('TxDOT Test Data'!$L39*('TxDOT Test Data'!$J39/(PI()*(IF(CircumDiameter2=\"circumference\",SQRT('TxDOT Test Data'!$G39/PI())*2,'TxDOT Test Data'!$G39)^2/4)))),\"\",'TxDOT Test Data'!$L39*('TxDOT Test Data'!$J39/(PI()*(IF(CircumDiameter2=\"circumference\",SQRT('TxDOT Test Data'!$G39/PI())*2,'TxDOT Test Data'!$G39)^2/4))))","v":""},{"$f":"IF(ISERROR(0.000001*('TxDOT Test Data'!$L39*('TxDOT Test Data'!$J39/(PI()*((IF(CircumDiameter2=\"circumference\",SQRT('TxDOT Test Data'!$G39/PI())*2,'TxDOT Test Data'!$G39)/1000)^2/4))))),\"\",0.000001*('TxDOT Test Data'!$L39*('TxDOT Test Data'!$J39/(PI()*((IF(CircumDiameter2=\"circumference\",SQRT('TxDOT Test Data'!$G39/PI())*2,'TxDOT Test Data'!$G39)/1000)^2/4)))))","v":""}]
[1.39,0.94679999999999997,null,null,{"$f":"IF(ISERROR('Contractor Test Data'!$L40*('Contractor Test Data'!$J40/(PI()*(IF(CircumDiameter1=\"circumference\",SQRT('Contractor Test Data'!$G40/PI())*2,'Contractor Test Data'!$G40)^2/4)))),\"\",'Contractor Test Data'!$L40*('Contractor Test Data'!$J40/(PI()*(IF(CircumDiameter1=\"circumference\",SQRT('Contractor Test Data'!$G40/PI())*2,'Contractor Test Data'!$G40)^2/4))))","v":""},{"$f":"IF(ISERROR(0.000001*('Contractor Test Data'!$L40*('Contractor Test Data'!$J40/(PI()*((IF(CircumDiameter1=\"circumference\",SQRT('Contractor Test Data'!$G40/PI())*2,'Contractor Test Data'!$G40)/1000)^2/4))))),\"\",0.000001*('Contractor Test Data'!$L40*('Contractor Test Data'!$J40/(PI()*((IF(CircumDiameter1=\"circumference\",SQRT('Contractor Test Data'!$G40/PI())*2,'Contractor Test Data'!$G40)/1000)^2/4)))))","v":""},{"$f":"IF(ISERROR('TxDOT Test Data'!$L40*('TxDOT Test Data'!$J40/(PI()*(IF(CircumDiameter2=\"circumference\",SQRT('TxDOT Test Data'!$G40/PI())*2,'TxDOT Test Data'!$G40)^2/4)))),\"\",'TxDOT Test Data'!$L40*('TxDOT Test Data'!$J40/(PI()*(IF(CircumDiameter2=\"circumference\",SQRT('TxDOT Test Data'!$G40/PI())*2,'TxDOT Test Data'!$G40)^2/4))))","v":""},{"$f":"IF(ISERROR(0.000001*('TxDOT Test Data'!$L40*('TxDOT Test Data'!$J40/(PI()*((IF(CircumDiameter2=\"circumference\",SQRT('TxDOT Test Data'!$G40/PI())*2,'TxDOT Test Data'!$G40)/1000)^2/4))))),\"\",0.000001*('TxDOT Test Data'!$L40*('TxDOT Test Data'!$J40/(PI()*((IF(CircumDiameter2=\"circumference\",SQRT('TxDOT Test Data'!$G40/PI())*2,'TxDOT Test Data'!$G40)/1000)^2/4)))))","v":""}]
[1.4,0.94799999999999995,null,null,{"$f":"IF(ISERROR('Contractor Test Data'!$L41*('Contractor Test Data'!$J41/(PI()*(IF(CircumDiameter1=\"circumference\",SQRT('Contractor Test Data'!$G41/PI())*2,'Contractor Test Data'!$G41)^2/4)))),\"\",'Contractor Test Data'!$L41*('Contractor Test Data'!$J41/(PI()*(IF(CircumDiameter1=\"circumference\",SQRT('Contractor Test Data'!$G41/PI())*2,'Contractor Test Data'!$G41)^2/4))))","v":""},{"$f":"IF(ISERROR(0.000001*('Contractor Test Data'!$L41*('Contractor Test Data'!$J41/(PI()*((IF(CircumDiameter1=\"circumference\",SQRT('Contractor Test Data'!$G41/PI())*2,'Contractor Test Data'!$G41)/1000)^2/4))))),\"\",0.000001*('Contractor Test Data'!$L41*('Contractor Test Data'!$J41/(PI()*((IF(CircumDiameter1=\"circumference\",SQRT('Contractor Test Data'!$G41/PI())*2,'Contractor Test Data'!$G41)/1000)^2/4)))))","v":""},{"$f":"IF(ISERROR('TxDOT Test Data'!$L41*('TxDOT Test Data'!$J41/(PI()*(IF(CircumDiameter2=\"circumference\",SQRT('TxDOT Test Data'!$G41/PI())*2,'TxDOT Test Data'!$G41)^2/4)))),\"\",'TxDOT Test Data'!$L41*('TxDOT Test Data'!$J41/(PI()*(IF(CircumDiameter2=\"circumference\",SQRT('TxDOT Test Data'!$G41/PI())*2,'TxDOT Test Data'!$G41)^2/4))))","v":""},{"$f":"IF(ISERROR(0.000001*('TxDOT Test Data'!$L41*('TxDOT Test Data'!$J41/(PI()*((IF(CircumDiameter2=\"circumference\",SQRT('TxDOT Test Data'!$G41/PI())*2,'TxDOT Test Data'!$G41)/1000)^2/4))))),\"\",0.000001*('TxDOT Test Data'!$L41*('TxDOT Test Data'!$J41/(PI()*((IF(CircumDiameter2=\"circumference\",SQRT('TxDOT Test Data'!$G41/PI())*2,'TxDOT Test Data'!$G41)/1000)^2/4)))))","v":""}]
[1.41,0.94920000000000004,null,null,{"$f":"IF(ISERROR('Contractor Test Data'!$L42*('Contractor Test Data'!$J42/(PI()*(IF(CircumDiameter1=\"circumference\",SQRT('Contractor Test Data'!$G42/PI())*2,'Contractor Test Data'!$G42)^2/4)))),\"\",'Contractor Test Data'!$L42*('Contractor Test Data'!$J42/(PI()*(IF(CircumDiameter1=\"circumference\",SQRT('Contractor Test Data'!$G42/PI())*2,'Contractor Test Data'!$G42)^2/4))))","v":""},{"$f":"IF(ISERROR(0.000001*('Contractor Test Data'!$L42*('Contractor Test Data'!$J42/(PI()*((IF(CircumDiameter1=\"circumference\",SQRT('Contractor Test Data'!$G42/PI())*2,'Contractor Test Data'!$G42)/1000)^2/4))))),\"\",0.000001*('Contractor Test Data'!$L42*('Contractor Test Data'!$J42/(PI()*((IF(CircumDiameter1=\"circumference\",SQRT('Contractor Test Data'!$G42/PI())*2,'Contractor Test Data'!$G42)/1000)^2/4)))))","v":""},{"$f":"IF(ISERROR('TxDOT Test Data'!$L42*('TxDOT Test Data'!$J42/(PI()*(IF(CircumDiameter2=\"circumference\",SQRT('TxDOT Test Data'!$G42/PI())*2,'TxDOT Test Data'!$G42)^2/4)))),\"\",'TxDOT Test Data'!$L42*('TxDOT Test Data'!$J42/(PI()*(IF(CircumDiameter2=\"circumference\",SQRT('TxDOT Test Data'!$G42/PI())*2,'TxDOT Test Data'!$G42)^2/4))))","v":""},{"$f":"IF(ISERROR(0.000001*('TxDOT Test Data'!$L42*('TxDOT Test Data'!$J42/(PI()*((IF(CircumDiameter2=\"circumference\",SQRT('TxDOT Test Data'!$G42/PI())*2,'TxDOT Test Data'!$G42)/1000)^2/4))))),\"\",0.000001*('TxDOT Test Data'!$L42*('TxDOT Test Data'!$J42/(PI()*((IF(CircumDiameter2=\"circumference\",SQRT('TxDOT Test Data'!$G42/PI())*2,'TxDOT Test Data'!$G42)/1000)^2/4)))))","v":""}]
[1.42,0.95040000000000002,null,null,{"$f":"IF(ISERROR('Contractor Test Data'!$L43*('Contractor Test Data'!$J43/(PI()*(IF(CircumDiameter1=\"circumference\",SQRT('Contractor Test Data'!$G43/PI())*2,'Contractor Test Data'!$G43)^2/4)))),\"\",'Contractor Test Data'!$L43*('Contractor Test Data'!$J43/(PI()*(IF(CircumDiameter1=\"circumference\",SQRT('Contractor Test Data'!$G43/PI())*2,'Contractor Test Data'!$G43)^2/4))))","v":""},{"$f":"IF(ISERROR(0.000001*('Contractor Test Data'!$L43*('Contractor Test Data'!$J43/(PI()*((IF(CircumDiameter1=\"circumference\",SQRT('Contractor Test Data'!$G43/PI())*2,'Contractor Test Data'!$G43)/1000)^2/4))))),\"\",0.000001*('Contractor Test Data'!$L43*('Contractor Test Data'!$J43/(PI()*((IF(CircumDiameter1=\"circumference\",SQRT('Contractor Test Data'!$G43/PI())*2,'Contractor Test Data'!$G43)/1000)^2/4)))))","v":""},{"$f":"IF(ISERROR('TxDOT Test Data'!$L43*('TxDOT Test Data'!$J43/(PI()*(IF(CircumDiameter2=\"circumference\",SQRT('TxDOT Test Data'!$G43/PI())*2,'TxDOT Test Data'!$G43)^2/4)))),\"\",'TxDOT Test Data'!$L43*('TxDOT Test Data'!$J43/(PI()*(IF(CircumDiameter2=\"circumference\",SQRT('TxDOT Test Data'!$G43/PI())*2,'TxDOT Test Data'!$G43)^2/4))))","v":""},{"$f":"IF(ISERROR(0.000001*('TxDOT Test Data'!$L43*('TxDOT Test Data'!$J43/(PI()*((IF(CircumDiameter2=\"circumference\",SQRT('TxDOT Test Data'!$G43/PI())*2,'TxDOT Test Data'!$G43)/1000)^2/4))))),\"\",0.000001*('TxDOT Test Data'!$L43*('TxDOT Test Data'!$J43/(PI()*((IF(CircumDiameter2=\"circumference\",SQRT('TxDOT Test Data'!$G43/PI())*2,'TxDOT Test Data'!$G43)/1000)^2/4)))))","v":""}]
[1.43,0.9516,null,null,{"$f":"IF(ISERROR('Contractor Test Data'!$L44*('Contractor Test Data'!$J44/(PI()*(IF(CircumDiameter1=\"circumference\",SQRT('Contractor Test Data'!$G44/PI())*2,'Contractor Test Data'!$G44)^2/4)))),\"\",'Contractor Test Data'!$L44*('Contractor Test Data'!$J44/(PI()*(IF(CircumDiameter1=\"circumference\",SQRT('Contractor Test Data'!$G44/PI())*2,'Contractor Test Data'!$G44)^2/4))))","v":""},{"$f":"IF(ISERROR(0.000001*('Contractor Test Data'!$L44*('Contractor Test Data'!$J44/(PI()*((IF(CircumDiameter1=\"circumference\",SQRT('Contractor Test Data'!$G44/PI())*2,'Contractor Test Data'!$G44)/1000)^2/4))))),\"\",0.000001*('Contractor Test Data'!$L44*('Contractor Test Data'!$J44/(PI()*((IF(CircumDiameter1=\"circumference\",SQRT('Contractor Test Data'!$G44/PI())*2,'Contractor Test Data'!$G44)/1000)^2/4)))))","v":""},{"$f":"IF(ISERROR('TxDOT Test Data'!$L44*('TxDOT Test Data'!$J44/(PI()*(IF(CircumDiameter2=\"circumference\",SQRT('TxDOT Test Data'!$G44/PI())*2,'TxDOT Test Data'!$G44)^2/4)))),\"\",'TxDOT Test Data'!$L44*('TxDOT Test Data'!$J44/(PI()*(IF(CircumDiameter2=\"circumference\",SQRT('TxDOT Test Data'!$G44/PI())*2,'TxDOT Test Data'!$G44)^2/4))))","v":""},{"$f":"IF(ISERROR(0.000001*('TxDOT Test Data'!$L44*('TxDOT Test Data'!$J44/(PI()*((IF(CircumDiameter2=\"circumference\",SQRT('TxDOT Test Data'!$G44/PI())*2,'TxDOT Test Data'!$G44)/1000)^2/4))))),\"\",0.000001*('TxDOT Test Data'!$L44*('TxDOT Test Data'!$J44/(PI()*((IF(CircumDiameter2=\"circumference\",SQRT('TxDOT Test Data'!$G44/PI())*2,'TxDOT Test Data'!$G44)/1000)^2/4)))))","v":""}]
[1.44,0.95279999999999998,null,null,{"$f":"IF(ISERROR('Contractor Test Data'!$L45*('Contractor Test Data'!$J45/(PI()*(IF(CircumDiameter1=\"circumference\",SQRT('Contractor Test Data'!$G45/PI())*2,'Contractor Test Data'!$G45)^2/4)))),\"\",'Contractor Test Data'!$L45*('Contractor Test Data'!$J45/(PI()*(IF(CircumDiameter1=\"circumference\",SQRT('Contractor Test Data'!$G45/PI())*2,'Contractor Test Data'!$G45)^2/4))))","v":""},{"$f":"IF(ISERROR(0.000001*('Contractor Test Data'!$L45*('Contractor Test Data'!$J45/(PI()*((IF(CircumDiameter1=\"circumference\",SQRT('Contractor Test Data'!$G45/PI())*2,'Contractor Test Data'!$G45)/1000)^2/4))))),\"\",0.000001*('Contractor Test Data'!$L45*('Contractor Test Data'!$J45/(PI()*((IF(CircumDiameter1=\"circumference\",SQRT('Contractor Test Data'!$G45/PI())*2,'Contractor Test Data'!$G45)/1000)^2/4)))))","v":""},{"$f":"IF(ISERROR('TxDOT Test Data'!$L45*('TxDOT Test Data'!$J45/(PI()*(IF(CircumDiameter2=\"circumference\",SQRT('TxDOT Test Data'!$G45/PI())*2,'TxDOT Test Data'!$G45)^2/4)))),\"\",'TxDOT Test Data'!$L45*('TxDOT Test Data'!$J45/(PI()*(IF(CircumDiameter2=\"circumference\",SQRT('TxDOT Test Data'!$G45/PI())*2,'TxDOT Test Data'!$G45)^2/4))))","v":""},{"$f":"IF(ISERROR(0.000001*('TxDOT Test Data'!$L45*('TxDOT Test Data'!$J45/(PI()*((IF(CircumDiameter2=\"circumference\",SQRT('TxDOT Test Data'!$G45/PI())*2,'TxDOT Test Data'!$G45)/1000)^2/4))))),\"\",0.000001*('TxDOT Test Data'!$L45*('TxDOT Test Data'!$J45/(PI()*((IF(CircumDiameter2=\"circumference\",SQRT('TxDOT Test Data'!$G45/PI())*2,'TxDOT Test Data'!$G45)/1000)^2/4)))))","v":""}]
[1.45,0.95399999999999996,null,null,{"$f":"IF(ISERROR('Contractor Test Data'!$L46*('Contractor Test Data'!$J46/(PI()*(IF(CircumDiameter1=\"circumference\",SQRT('Contractor Test Data'!$G46/PI())*2,'Contractor Test Data'!$G46)^2/4)))),\"\",'Contractor Test Data'!$L46*('Contractor Test Data'!$J46/(PI()*(IF(CircumDiameter1=\"circumference\",SQRT('Contractor Test Data'!$G46/PI())*2,'Contractor Test Data'!$G46)^2/4))))","v":""},{"$f":"IF(ISERROR(0.000001*('Contractor Test Data'!$L46*('Contractor Test Data'!$J46/(PI()*((IF(CircumDiameter1=\"circumference\",SQRT('Contractor Test Data'!$G46/PI())*2,'Contractor Test Data'!$G46)/1000)^2/4))))),\"\",0.000001*('Contractor Test Data'!$L46*('Contractor Test Data'!$J46/(PI()*((IF(CircumDiameter1=\"circumference\",SQRT('Contractor Test Data'!$G46/PI())*2,'Contractor Test Data'!$G46)/1000)^2/4)))))","v":""},{"$f":"IF(ISERROR('TxDOT Test Data'!$L46*('TxDOT Test Data'!$J46/(PI()*(IF(CircumDiameter2=\"circumference\",SQRT('TxDOT Test Data'!$G46/PI())*2,'TxDOT Test Data'!$G46)^2/4)))),\"\",'TxDOT Test Data'!$L46*('TxDOT Test Data'!$J46/(PI()*(IF(CircumDiameter2=\"circumference\",SQRT('TxDOT Test Data'!$G46/PI())*2,'TxDOT Test Data'!$G46)^2/4))))","v":""},{"$f":"IF(ISERROR(0.000001*('TxDOT Test Data'!$L46*('TxDOT Test Data'!$J46/(PI()*((IF(CircumDiameter2=\"circumference\",SQRT('TxDOT Test Data'!$G46/PI())*2,'TxDOT Test Data'!$G46)/1000)^2/4))))),\"\",0.000001*('TxDOT Test Data'!$L46*('TxDOT Test Data'!$J46/(PI()*((IF(CircumDiameter2=\"circumference\",SQRT('TxDOT Test Data'!$G46/PI())*2,'TxDOT Test Data'!$G46)/1000)^2/4)))))","v":""}]
[1.46,0.95520000000000005,null,null,{"$f":"IF(ISERROR('Contractor Test Data'!$L47*('Contractor Test Data'!$J47/(PI()*(IF(CircumDiameter1=\"circumference\",SQRT('Contractor Test Data'!$G47/PI())*2,'Contractor Test Data'!$G47)^2/4)))),\"\",'Contractor Test Data'!$L47*('Contractor Test Data'!$J47/(PI()*(IF(CircumDiameter1=\"circumference\",SQRT('Contractor Test Data'!$G47/PI())*2,'Contractor Test Data'!$G47)^2/4))))","v":""},{"$f":"IF(ISERROR(0.000001*('Contractor Test Data'!$L47*('Contractor Test Data'!$J47/(PI()*((IF(CircumDiameter1=\"circumference\",SQRT('Contractor Test Data'!$G47/PI())*2,'Contractor Test Data'!$G47)/1000)^2/4))))),\"\",0.000001*('Contractor Test Data'!$L47*('Contractor Test Data'!$J47/(PI()*((IF(CircumDiameter1=\"circumference\",SQRT('Contractor Test Data'!$G47/PI())*2,'Contractor Test Data'!$G47)/1000)^2/4)))))","v":""},{"$f":"IF(ISERROR('TxDOT Test Data'!$L47*('TxDOT Test Data'!$J47/(PI()*(IF(CircumDiameter2=\"circumference\",SQRT('TxDOT Test Data'!$G47/PI())*2,'TxDOT Test Data'!$G47)^2/4)))),\"\",'TxDOT Test Data'!$L47*('TxDOT Test Data'!$J47/(PI()*(IF(CircumDiameter2=\"circumference\",SQRT('TxDOT Test Data'!$G47/PI())*2,'TxDOT Test Data'!$G47)^2/4))))","v":""},{"$f":"IF(ISERROR(0.000001*('TxDOT Test Data'!$L47*('TxDOT Test Data'!$J47/(PI()*((IF(CircumDiameter2=\"circumference\",SQRT('TxDOT Test Data'!$G47/PI())*2,'TxDOT Test Data'!$G47)/1000)^2/4))))),\"\",0.000001*('TxDOT Test Data'!$L47*('TxDOT Test Data'!$J47/(PI()*((IF(CircumDiameter2=\"circumference\",SQRT('TxDOT Test Data'!$G47/PI())*2,'TxDOT Test Data'!$G47)/1000)^2/4)))))","v":""}]
[1.47,0.95640000000000003,null,null,{"$f":"IF(ISERROR('Contractor Test Data'!$L48*('Contractor Test Data'!$J48/(PI()*(IF(CircumDiameter1=\"circumference\",SQRT('Contractor Test Data'!$G48/PI())*2,'Contractor Test Data'!$G48)^2/4)))),\"\",'Contractor Test Data'!$L48*('Contractor Test Data'!$J48/(PI()*(IF(CircumDiameter1=\"circumference\",SQRT('Contractor Test Data'!$G48/PI())*2,'Contractor Test Data'!$G48)^2/4))))","v":""},{"$f":"IF(ISERROR(0.000001*('Contractor Test Data'!$L48*('Contractor Test Data'!$J48/(PI()*((IF(CircumDiameter1=\"circumference\",SQRT('Contractor Test Data'!$G48/PI())*2,'Contractor Test Data'!$G48)/1000)^2/4))))),\"\",0.000001*('Contractor Test Data'!$L48*('Contractor Test Data'!$J48/(PI()*((IF(CircumDiameter1=\"circumference\",SQRT('Contractor Test Data'!$G48/PI())*2,'Contractor Test Data'!$G48)/1000)^2/4)))))","v":""},{"$f":"IF(ISERROR('TxDOT Test Data'!$L48*('TxDOT Test Data'!$J48/(PI()*(IF(CircumDiameter2=\"circumference\",SQRT('TxDOT Test Data'!$G48/PI())*2,'TxDOT Test Data'!$G48)^2/4)))),\"\",'TxDOT Test Data'!$L48*('TxDOT Test Data'!$J48/(PI()*(IF(CircumDiameter2=\"circumference\",SQRT('TxDOT Test Data'!$G48/PI())*2,'TxDOT Test Data'!$G48)^2/4))))","v":""},{"$f":"IF(ISERROR(0.000001*('TxDOT Test Data'!$L48*('TxDOT Test Data'!$J48/(PI()*((IF(CircumDiameter2=\"circumference\",SQRT('TxDOT Test Data'!$G48/PI())*2,'TxDOT Test Data'!$G48)/1000)^2/4))))),\"\",0.000001*('TxDOT Test Data'!$L48*('TxDOT Test Data'!$J48/(PI()*((IF(CircumDiameter2=\"circumference\",SQRT('TxDOT Test Data'!$G48/PI())*2,'TxDOT Test Data'!$G48)/1000)^2/4)))))","v":""}]
[1.48,0.95760000000000001,null,null,{"$f":"IF(ISERROR('Contractor Test Data'!$L49*('Contractor Test Data'!$J49/(PI()*(IF(CircumDiameter1=\"circumference\",SQRT('Contractor Test Data'!$G49/PI())*2,'Contractor Test Data'!$G49)^2/4)))),\"\",'Contractor Test Data'!$L49*('Contractor Test Data'!$J49/(PI()*(IF(CircumDiameter1=\"circumference\",SQRT('Contractor Test Data'!$G49/PI())*2,'Contractor Test Data'!$G49)^2/4))))","v":""},{"$f":"IF(ISERROR(0.000001*('Contractor Test Data'!$L49*('Contractor Test Data'!$J49/(PI()*((IF(CircumDiameter1=\"circumference\",SQRT('Contractor Test Data'!$G49/PI())*2,'Contractor Test Data'!$G49)/1000)^2/4))))),\"\",0.000001*('Contractor Test Data'!$L49*('Contractor Test Data'!$J49/(PI()*((IF(CircumDiameter1=\"circumference\",SQRT('Contractor Test Data'!$G49/PI())*2,'Contractor Test Data'!$G49)/1000)^2/4)))))","v":""},{"$f":"IF(ISERROR('TxDOT Test Data'!$L49*('TxDOT Test Data'!$J49/(PI()*(IF(CircumDiameter2=\"circumference\",SQRT('TxDOT Test Data'!$G49/PI())*2,'TxDOT Test Data'!$G49)^2/4)))),\"\",'TxDOT Test Data'!$L49*('TxDOT Test Data'!$J49/(PI()*(IF(CircumDiameter2=\"circumference\",SQRT('TxDOT Test Data'!$G49/PI())*2,'TxDOT Test Data'!$G49)^2/4))))","v":""},{"$f":"IF(ISERROR(0.000001*('TxDOT Test Data'!$L49*('TxDOT Test Data'!$J49/(PI()*((IF(CircumDiameter2=\"circumference\",SQRT('TxDOT Test Data'!$G49/PI())*2,'TxDOT Test Data'!$G49)/1000)^2/4))))),\"\",0.000001*('TxDOT Test Data'!$L49*('TxDOT Test Data'!$J49/(PI()*((IF(CircumDiameter2=\"circumference\",SQRT('TxDOT Test Data'!$G49/PI())*2,'TxDOT Test Data'!$G49)/1000)^2/4)))))","v":""}]
[1.49,0.95879999999999999,null,null,{"$f":"IF(ISERROR('Contractor Test Data'!$L50*('Contractor Test Data'!$J50/(PI()*(IF(CircumDiameter1=\"circumference\",SQRT('Contractor Test Data'!$G50/PI())*2,'Contractor Test Data'!$G50)^2/4)))),\"\",'Contractor Test Data'!$L50*('Contractor Test Data'!$J50/(PI()*(IF(CircumDiameter1=\"circumference\",SQRT('Contractor Test Data'!$G50/PI())*2,'Contractor Test Data'!$G50)^2/4))))","v":""},{"$f":"IF(ISERROR(0.000001*('Contractor Test Data'!$L50*('Contractor Test Data'!$J50/(PI()*((IF(CircumDiameter1=\"circumference\",SQRT('Contractor Test Data'!$G50/PI())*2,'Contractor Test Data'!$G50)/1000)^2/4))))),\"\",0.000001*('Contractor Test Data'!$L50*('Contractor Test Data'!$J50/(PI()*((IF(CircumDiameter1=\"circumference\",SQRT('Contractor Test Data'!$G50/PI())*2,'Contractor Test Data'!$G50)/1000)^2/4)))))","v":""},{"$f":"IF(ISERROR('TxDOT Test Data'!$L50*('TxDOT Test Data'!$J50/(PI()*(IF(CircumDiameter2=\"circumference\",SQRT('TxDOT Test Data'!$G50/PI())*2,'TxDOT Test Data'!$G50)^2/4)))),\"\",'TxDOT Test Data'!$L50*('TxDOT Test Data'!$J50/(PI()*(IF(CircumDiameter2=\"circumference\",SQRT('TxDOT Test Data'!$G50/PI())*2,'TxDOT Test Data'!$G50)^2/4))))","v":""},{"$f":"IF(ISERROR(0.000001*('TxDOT Test Data'!$L50*('TxDOT Test Data'!$J50/(PI()*((IF(CircumDiameter2=\"circumference\",SQRT('TxDOT Test Data'!$G50/PI())*2,'TxDOT Test Data'!$G50)/1000)^2/4))))),\"\",0.000001*('TxDOT Test Data'!$L50*('TxDOT Test Data'!$J50/(PI()*((IF(CircumDiameter2=\"circumference\",SQRT('TxDOT Test Data'!$G50/PI())*2,'TxDOT Test Data'!$G50)/1000)^2/4)))))","v":""}]
[1.5,0.96]
[1.51,0.96079999999999999]
[1.52,0.96160000000000001]
[1.53,0.96240000000000003]
[1.54,0.96319999999999995]
[1.55,0.96399999999999997]
[1.56,0.96479999999999999]
[1.57,0.96560000000000001]
[1.58,0.96640000000000004]
[1.59,0.96719999999999995]
[1.6,0.96799999999999997]
[1.61,0.96879999999999999]
[1.62,0.96960000000000002]
[1.63,0.97040000000000004]
[1.64,0.97119999999999995]
[1.65,0.97199999999999998]
[1.66,0.9728]
[1.67,0.97360000000000002]
[1.68,0.97440000000000004]
[1.69,0.97519999999999996]
[1.7,0.97599999999999998]
[1.71,0.9768]
[1.72,0.97760000000000002]
[1.73,0.97840000000000005]
[1.74,0.97919999999999996]
[1.75,0.98]
[1.76,1]
[1.77,1]
[1.78,1]
[1.79,1]
[1.8,1]
[1.81,1]
[1.82,1]
[1.83,1]
[1.84,1]
[1.85,1]
[1.86,1]
[1.87,1]
[1.88,1]
[1.89,1]
[1.9,1]
[1.91,1]
[1.92,1]
[1.93,1]
[1.94,1]
[1.95,1]
[1.96,1]
[1.97,1]
[1.98,1]
[1.99,1]
[2,1]
[2.0099999999999998,1]
[2.02,1]
[2.0299999999999998,1]
[2.04,1]
[2.0499999999999998,1]
[2.06,1]
[2.0699999999999998,1]
[2.08,1]
[2.09,1]
[2.1,1]