{"text_format":"1","workbook":"xlsx","n_sheets":2,"sheets":["Tex-531-C","RX"],"not_rendered":{"charts":0,"images":1,"macros":1,"external_links":0,"defined_names":126,"comments":1,"pivot_tables":0},"unopened":[],"bounds":{"document_bytes":16777216,"sheet_cells":100000,"rows_first":2000,"rows_last":500,"rows_between":2000,"halvings":0,"cell_chars":16384,"cell_head_chars":4096},"cells_cut":0,"cells_raw":0,"read":"whole","date_system":"1900"}

{"sheet":"Tex-531-C","index":0,"n_rows":48,"n_cols":11,"rows_kept":48,"cut":false,"hidden":false,"merged":[[48,1,48,3],[12,7,12,8],[16,3,16,4],[16,7,16,8],[41,2,41,4],[27,1,27,2],[24,7,24,10],[44,6,44,8],[25,1,25,2],[44,1,44,3],[37,1,38,8],[42,2,42,4],[32,1,32,2],[40,1,40,8],[39,1,39,8],[15,3,15,8],[12,3,12,4],[22,1,22,2],[29,1,29,2],[14,3,14,8],[24,3,24,6],[0,0,0,1],[13,7,13,8],[30,1,30,2],[31,1,31,2],[10,3,10,4],[26,1,26,2],[13,3,13,4],[11,3,11,4],[11,7,11,8],[9,7,9,8],[9,3,9,4],[7,3,7,4],[7,7,7,8],[8,3,8,4],[8,7,8,8],[10,7,10,8]]}
["TxDOT Manuals >",null,null,"Tex-531-C"]
[null,"TEXAS DEPARTMENT OF TRANSPORTATION",null,null,null,null,null,null,null,null,42]
[null,null,null,null,null,null,null,null,null,null,1]
[null,null,null,null,null,null,null,null,null,null,"Tx531.xlsm::42072.435845"]
[null,"PREDICTION OF MOISTURE-INDUCED DAMAGE TO BITUMINOUS PAVING MIXTURES"]
[null,"Tex-531-C"]
[null,null,null,null,null,null,null,null,{"$f":"\"File Version: \" & TEXT(MID(sn,SEARCH(\"::\",sn,1)+2,20),\"mm/dd/yy hh:mm:ss\")","v":"File Version: 03/09/15 10:27:37"}]
[null,null,"SAMPLE ID:",null,null,null,"SAMPLED DATE:"]
[null,null,"TEST NUMBER:",null,null,null,"LETTING DATE:"]
[null,null,"SAMPLE STATUS:",null,null,null,"CONTROLLING CSJ:"]
[null,null,"COUNTY:",null,null,null,"SPEC YEAR:"]
[null,null,"SAMPLED BY:",null,null,null,"SPEC ITEM:"]
[null,null,"SAMPLE LOCATION:",null,null,null,"SPECIAL PROVISION:"]
[null,null,"MATERIAL CODE:",null,null,null,"GRADE:"]
[null,null,"MATERIAL NAME:"]
[null,null,"PRODUCER:"]
[null,null,"AREA ENGINEER:",null,null,null,"PROJECT MANAGER:"]
[]
[null,null,"COURSE\\LIFT:",null,"STATION:",null,null,"DIST. FROM CL:"]
[]
[null,"USING MOLDED SPECIMENS"]
[]
[null,"Rice Gravity :"]
[]
[null,null,null,"Conditioned",null,null,null,"Dry"]
[null,"Specimen:",null,1,2,3,4,1,2,3,4]
[null,"Specimen ID:"]
[null,"% Density:"]
[]
[null,"Height:"]
[null,"Load (lbs.):"]
[null,"Strength (psi.):",null,{"$f":"IF(ISERROR(+D31*0.156/D30),\"\",+D31*0.156/D30)","v":""},{"$f":"IF(ISERROR(+E31*0.156/E30),\"\",+E31*0.156/E30)","v":""},"","","","","",""]
[null,"Average Strength, (psi.):",null,{"$f":"IF(D32<>\"\",AVERAGE(D32:G32),\"\")","v":""},null,null,null,{"$f":"IF(H32<>\"\",AVERAGE(H32:K32),\"\")","v":""}]
[]
[null,null,null,null,"TSR:",{"$f":"IF(H33<>\"\",ROUND(+D33/H33,2),\"\")","v":""}]
[]
[null,"Remarks:",{"$f":"NOW()","v":"2015-06-23T14:57:19.280"}]
[]
[]
[]
[]
[null,"Test Method:","Tested By:",null,null,"Tested Date:"]
[null,"TX531"]
[null,"Test Stamp Code:",null,null,"Omit Test:","Completed Date:","Reviewed By:"]
[]
[null,"Locked By:","TxDOT:","District:","Area:"]
[]
[null,"Authorized By:",null,null,"Authorized Date:"]

{"sheet":"RX","index":1,"n_rows":50,"n_cols":9,"rows_kept":50,"cut":false,"hidden":true,"merged":[]}
[48]
["Fld_nbr","Value","Desc_1","Desc_2","Desc_3","Desc_4","Desc_5","Desc_6","Desc_7"]
[1,{"$f":"IF('Tex-531-C'!$B$38=\"\",\"\",'Tex-531-C'!$B$38)","v":""},{"$f":"'Tex-531-C'!$B$37","v":"Remarks:"}]
[2,{"$f":"IF('Tex-531-C'!$D$19=\"\",\"\",'Tex-531-C'!$D$19)","v":""},{"$f":"IF('Tex-531-C'!$C$19=\"\",\"\",'Tex-531-C'!$C$19)","v":"COURSE\\LIFT:"}]
[3,{"$f":"IF('Tex-531-C'!$C$43=\"\",\"\",'Tex-531-C'!$C$43)","v":""},"Tested By ",{"$f":"IF('Tex-531-C'!$B$43=\"\",\"\",'Tex-531-C'!$B$43)","v":"TX531"}]
[4,{"$f":"IF('Tex-531-C'!$F$43=\"\",\"\",'Tex-531-C'!$F$43)","v":""},"Tested Date ",{"$f":"IF('Tex-531-C'!$B$43=\"\",\"\",'Tex-531-C'!$B$43)","v":"TX531"}]
[5,{"$f":"IF('Tex-531-C'!$D$23=\"\",\"\",'Tex-531-C'!$D$23)","v":""},{"$f":"IF('Tex-531-C'!$B$6=\"\",\"\",'Tex-531-C'!$B$6)","v":"Tex-531-C"},{"$f":"IF('Tex-531-C'!$B$23=\"\",\"\",'Tex-531-C'!$B$23)","v":"Rice Gravity :"}]
[6,{"$f":"IF('Tex-531-C'!$D$27=\"\",\"\",'Tex-531-C'!$D$27)","v":""},{"$f":"IF('Tex-531-C'!$B$6=\"\",\"\",'Tex-531-C'!$B$6)","v":"Tex-531-C"},{"$f":"IF('Tex-531-C'!$B$27=\"\",\"\",'Tex-531-C'!$B$27)","v":"Specimen ID:"},{"$f":"IF('Tex-531-C'!$B$26=\"\",\"\",'Tex-531-C'!$B$26)","v":"Specimen:"},{"$f":"IF('Tex-531-C'!$D$25=\"\",\"\",'Tex-531-C'!$D$25)","v":"Conditioned"},{"$f":"IF('Tex-531-C'!$D$26=\"\",\"\",'Tex-531-C'!$D$26)","v":1}]
[7,{"$f":"IF('Tex-531-C'!$E$27=\"\",\"\",'Tex-531-C'!$E$27)","v":""},{"$f":"IF('Tex-531-C'!$B$6=\"\",\"\",'Tex-531-C'!$B$6)","v":"Tex-531-C"},{"$f":"IF('Tex-531-C'!$B$27=\"\",\"\",'Tex-531-C'!$B$27)","v":"Specimen ID:"},{"$f":"IF('Tex-531-C'!$B$26=\"\",\"\",'Tex-531-C'!$B$26)","v":"Specimen:"},{"$f":"IF('Tex-531-C'!$D$25=\"\",\"\",'Tex-531-C'!$D$25)","v":"Conditioned"},{"$f":"IF('Tex-531-C'!$E$26=\"\",\"\",'Tex-531-C'!$E$26)","v":2}]
[8,{"$f":"IF('Tex-531-C'!$F$27=\"\",\"\",'Tex-531-C'!$F$27)","v":""},{"$f":"IF('Tex-531-C'!$B$6=\"\",\"\",'Tex-531-C'!$B$6)","v":"Tex-531-C"},{"$f":"IF('Tex-531-C'!$B$27=\"\",\"\",'Tex-531-C'!$B$27)","v":"Specimen ID:"},{"$f":"IF('Tex-531-C'!$B$26=\"\",\"\",'Tex-531-C'!$B$26)","v":"Specimen:"},{"$f":"IF('Tex-531-C'!$D$25=\"\",\"\",'Tex-531-C'!$D$25)","v":"Conditioned"},{"$f":"IF('Tex-531-C'!$F$26=\"\",\"\",'Tex-531-C'!$F$26)","v":3}]
[9,{"$f":"IF('Tex-531-C'!$G$27=\"\",\"\",'Tex-531-C'!$G$27)","v":""},{"$f":"IF('Tex-531-C'!$B$6=\"\",\"\",'Tex-531-C'!$B$6)","v":"Tex-531-C"},{"$f":"IF('Tex-531-C'!$B$27=\"\",\"\",'Tex-531-C'!$B$27)","v":"Specimen ID:"},{"$f":"IF('Tex-531-C'!$B$26=\"\",\"\",'Tex-531-C'!$B$26)","v":"Specimen:"},{"$f":"IF('Tex-531-C'!$D$25=\"\",\"\",'Tex-531-C'!$D$25)","v":"Conditioned"},{"$f":"IF('Tex-531-C'!$G$26=\"\",\"\",'Tex-531-C'!$G$26)","v":4}]
[10,{"$f":"IF('Tex-531-C'!$H$27=\"\",\"\",'Tex-531-C'!$H$27)","v":""},{"$f":"IF('Tex-531-C'!$B$6=\"\",\"\",'Tex-531-C'!$B$6)","v":"Tex-531-C"},{"$f":"IF('Tex-531-C'!$B$27=\"\",\"\",'Tex-531-C'!$B$27)","v":"Specimen ID:"},{"$f":"IF('Tex-531-C'!$B$26=\"\",\"\",'Tex-531-C'!$B$26)","v":"Specimen:"},{"$f":"IF('Tex-531-C'!$H$25=\"\",\"\",'Tex-531-C'!$H$25)","v":"Dry"},{"$f":"IF('Tex-531-C'!$H$26=\"\",\"\",'Tex-531-C'!$H$26)","v":1}]
[11,{"$f":"IF('Tex-531-C'!$I$27=\"\",\"\",'Tex-531-C'!$I$27)","v":""},{"$f":"IF('Tex-531-C'!$B$6=\"\",\"\",'Tex-531-C'!$B$6)","v":"Tex-531-C"},{"$f":"IF('Tex-531-C'!$B$27=\"\",\"\",'Tex-531-C'!$B$27)","v":"Specimen ID:"},{"$f":"IF('Tex-531-C'!$B$26=\"\",\"\",'Tex-531-C'!$B$26)","v":"Specimen:"},{"$f":"IF('Tex-531-C'!$H$25=\"\",\"\",'Tex-531-C'!$H$25)","v":"Dry"},{"$f":"IF('Tex-531-C'!$I$26=\"\",\"\",'Tex-531-C'!$I$26)","v":2}]
[12,{"$f":"IF('Tex-531-C'!$J$27=\"\",\"\",'Tex-531-C'!$J$27)","v":""},{"$f":"IF('Tex-531-C'!$B$6=\"\",\"\",'Tex-531-C'!$B$6)","v":"Tex-531-C"},{"$f":"IF('Tex-531-C'!$B$27=\"\",\"\",'Tex-531-C'!$B$27)","v":"Specimen ID:"},{"$f":"IF('Tex-531-C'!$B$26=\"\",\"\",'Tex-531-C'!$B$26)","v":"Specimen:"},{"$f":"IF('Tex-531-C'!$H$25=\"\",\"\",'Tex-531-C'!$H$25)","v":"Dry"},{"$f":"IF('Tex-531-C'!$J$26=\"\",\"\",'Tex-531-C'!$J$26)","v":3}]
[13,{"$f":"IF('Tex-531-C'!$K$27=\"\",\"\",'Tex-531-C'!$K$27)","v":""},{"$f":"IF('Tex-531-C'!$B$6=\"\",\"\",'Tex-531-C'!$B$6)","v":"Tex-531-C"},{"$f":"IF('Tex-531-C'!$B$27=\"\",\"\",'Tex-531-C'!$B$27)","v":"Specimen ID:"},{"$f":"IF('Tex-531-C'!$B$26=\"\",\"\",'Tex-531-C'!$B$26)","v":"Specimen:"},{"$f":"IF('Tex-531-C'!$H$25=\"\",\"\",'Tex-531-C'!$H$25)","v":"Dry"},{"$f":"IF('Tex-531-C'!$K$26=\"\",\"\",'Tex-531-C'!$K$26)","v":4}]
[14,{"$f":"IF('Tex-531-C'!$D$28=\"\",\"\",'Tex-531-C'!$D$28)","v":""},{"$f":"IF('Tex-531-C'!$B$6=\"\",\"\",'Tex-531-C'!$B$6)","v":"Tex-531-C"},{"$f":"IF('Tex-531-C'!$B$28=\"\",\"\",'Tex-531-C'!$B$28)","v":"% Density:"},{"$f":"IF('Tex-531-C'!$B$26=\"\",\"\",'Tex-531-C'!$B$26)","v":"Specimen:"},{"$f":"IF('Tex-531-C'!$D$25=\"\",\"\",'Tex-531-C'!$D$25)","v":"Conditioned"},{"$f":"IF('Tex-531-C'!$D$26=\"\",\"\",'Tex-531-C'!$D$26)","v":1}]
[15,{"$f":"IF('Tex-531-C'!$E$28=\"\",\"\",'Tex-531-C'!$E$28)","v":""},{"$f":"IF('Tex-531-C'!$B$6=\"\",\"\",'Tex-531-C'!$B$6)","v":"Tex-531-C"},{"$f":"IF('Tex-531-C'!$B$28=\"\",\"\",'Tex-531-C'!$B$28)","v":"% Density:"},{"$f":"IF('Tex-531-C'!$B$26=\"\",\"\",'Tex-531-C'!$B$26)","v":"Specimen:"},{"$f":"IF('Tex-531-C'!$D$25=\"\",\"\",'Tex-531-C'!$D$25)","v":"Conditioned"},{"$f":"IF('Tex-531-C'!$E$26=\"\",\"\",'Tex-531-C'!$E$26)","v":2}]
[16,{"$f":"IF('Tex-531-C'!$F$28=\"\",\"\",'Tex-531-C'!$F$28)","v":""},{"$f":"IF('Tex-531-C'!$B$6=\"\",\"\",'Tex-531-C'!$B$6)","v":"Tex-531-C"},{"$f":"IF('Tex-531-C'!$B$28=\"\",\"\",'Tex-531-C'!$B$28)","v":"% Density:"},{"$f":"IF('Tex-531-C'!$B$26=\"\",\"\",'Tex-531-C'!$B$26)","v":"Specimen:"},{"$f":"IF('Tex-531-C'!$D$25=\"\",\"\",'Tex-531-C'!$D$25)","v":"Conditioned"},{"$f":"IF('Tex-531-C'!$F$26=\"\",\"\",'Tex-531-C'!$F$26)","v":3}]
[17,{"$f":"IF('Tex-531-C'!$G$28=\"\",\"\",'Tex-531-C'!$G$28)","v":""},{"$f":"IF('Tex-531-C'!$B$6=\"\",\"\",'Tex-531-C'!$B$6)","v":"Tex-531-C"},{"$f":"IF('Tex-531-C'!$B$28=\"\",\"\",'Tex-531-C'!$B$28)","v":"% Density:"},{"$f":"IF('Tex-531-C'!$B$26=\"\",\"\",'Tex-531-C'!$B$26)","v":"Specimen:"},{"$f":"IF('Tex-531-C'!$D$25=\"\",\"\",'Tex-531-C'!$D$25)","v":"Conditioned"},{"$f":"IF('Tex-531-C'!$G$26=\"\",\"\",'Tex-531-C'!$G$26)","v":4}]
[18,{"$f":"IF('Tex-531-C'!$H$28=\"\",\"\",'Tex-531-C'!$H$28)","v":""},{"$f":"IF('Tex-531-C'!$B$6=\"\",\"\",'Tex-531-C'!$B$6)","v":"Tex-531-C"},{"$f":"IF('Tex-531-C'!$B$28=\"\",\"\",'Tex-531-C'!$B$28)","v":"% Density:"},{"$f":"IF('Tex-531-C'!$B$26=\"\",\"\",'Tex-531-C'!$B$26)","v":"Specimen:"},{"$f":"IF('Tex-531-C'!$H$25=\"\",\"\",'Tex-531-C'!$H$25)","v":"Dry"},{"$f":"IF('Tex-531-C'!$H$26=\"\",\"\",'Tex-531-C'!$H$26)","v":1}]
[19,{"$f":"IF('Tex-531-C'!$I$28=\"\",\"\",'Tex-531-C'!$I$28)","v":""},{"$f":"IF('Tex-531-C'!$B$6=\"\",\"\",'Tex-531-C'!$B$6)","v":"Tex-531-C"},{"$f":"IF('Tex-531-C'!$B$28=\"\",\"\",'Tex-531-C'!$B$28)","v":"% Density:"},{"$f":"IF('Tex-531-C'!$B$26=\"\",\"\",'Tex-531-C'!$B$26)","v":"Specimen:"},{"$f":"IF('Tex-531-C'!$H$25=\"\",\"\",'Tex-531-C'!$H$25)","v":"Dry"},{"$f":"IF('Tex-531-C'!$I$26=\"\",\"\",'Tex-531-C'!$I$26)","v":2}]
[20,{"$f":"IF('Tex-531-C'!$J$28=\"\",\"\",'Tex-531-C'!$J$28)","v":""},{"$f":"IF('Tex-531-C'!$B$6=\"\",\"\",'Tex-531-C'!$B$6)","v":"Tex-531-C"},{"$f":"IF('Tex-531-C'!$B$28=\"\",\"\",'Tex-531-C'!$B$28)","v":"% Density:"},{"$f":"IF('Tex-531-C'!$B$26=\"\",\"\",'Tex-531-C'!$B$26)","v":"Specimen:"},{"$f":"IF('Tex-531-C'!$H$25=\"\",\"\",'Tex-531-C'!$H$25)","v":"Dry"},{"$f":"IF('Tex-531-C'!$J$26=\"\",\"\",'Tex-531-C'!$J$26)","v":3}]
[21,{"$f":"IF('Tex-531-C'!$K$28=\"\",\"\",'Tex-531-C'!$K$28)","v":""},{"$f":"IF('Tex-531-C'!$B$6=\"\",\"\",'Tex-531-C'!$B$6)","v":"Tex-531-C"},{"$f":"IF('Tex-531-C'!$B$28=\"\",\"\",'Tex-531-C'!$B$28)","v":"% Density:"},{"$f":"IF('Tex-531-C'!$B$26=\"\",\"\",'Tex-531-C'!$B$26)","v":"Specimen:"},{"$f":"IF('Tex-531-C'!$H$25=\"\",\"\",'Tex-531-C'!$H$25)","v":"Dry"},{"$f":"IF('Tex-531-C'!$K$26=\"\",\"\",'Tex-531-C'!$K$26)","v":4}]
[22,{"$f":"IF('Tex-531-C'!$D$30=\"\",\"\",'Tex-531-C'!$D$30)","v":""},{"$f":"IF('Tex-531-C'!$B$6=\"\",\"\",'Tex-531-C'!$B$6)","v":"Tex-531-C"},{"$f":"IF('Tex-531-C'!$B$30=\"\",\"\",'Tex-531-C'!$B$30)","v":"Height:"},{"$f":"IF('Tex-531-C'!$B$26=\"\",\"\",'Tex-531-C'!$B$26)","v":"Specimen:"},{"$f":"IF('Tex-531-C'!$D$25=\"\",\"\",'Tex-531-C'!$D$25)","v":"Conditioned"},{"$f":"IF('Tex-531-C'!$D$26=\"\",\"\",'Tex-531-C'!$D$26)","v":1}]
[23,{"$f":"IF('Tex-531-C'!$E$30=\"\",\"\",'Tex-531-C'!$E$30)","v":""},{"$f":"IF('Tex-531-C'!$B$6=\"\",\"\",'Tex-531-C'!$B$6)","v":"Tex-531-C"},{"$f":"IF('Tex-531-C'!$B$30=\"\",\"\",'Tex-531-C'!$B$30)","v":"Height:"},{"$f":"IF('Tex-531-C'!$B$26=\"\",\"\",'Tex-531-C'!$B$26)","v":"Specimen:"},{"$f":"IF('Tex-531-C'!$D$25=\"\",\"\",'Tex-531-C'!$D$25)","v":"Conditioned"},{"$f":"IF('Tex-531-C'!$E$26=\"\",\"\",'Tex-531-C'!$E$26)","v":2}]
[24,{"$f":"IF('Tex-531-C'!$F$30=\"\",\"\",'Tex-531-C'!$F$30)","v":""},{"$f":"IF('Tex-531-C'!$B$6=\"\",\"\",'Tex-531-C'!$B$6)","v":"Tex-531-C"},{"$f":"IF('Tex-531-C'!$B$30=\"\",\"\",'Tex-531-C'!$B$30)","v":"Height:"},{"$f":"IF('Tex-531-C'!$B$26=\"\",\"\",'Tex-531-C'!$B$26)","v":"Specimen:"},{"$f":"IF('Tex-531-C'!$D$25=\"\",\"\",'Tex-531-C'!$D$25)","v":"Conditioned"},{"$f":"IF('Tex-531-C'!$F$26=\"\",\"\",'Tex-531-C'!$F$26)","v":3}]
[25,{"$f":"IF('Tex-531-C'!$G$30=\"\",\"\",'Tex-531-C'!$G$30)","v":""},{"$f":"IF('Tex-531-C'!$B$6=\"\",\"\",'Tex-531-C'!$B$6)","v":"Tex-531-C"},{"$f":"IF('Tex-531-C'!$B$30=\"\",\"\",'Tex-531-C'!$B$30)","v":"Height:"},{"$f":"IF('Tex-531-C'!$B$26=\"\",\"\",'Tex-531-C'!$B$26)","v":"Specimen:"},{"$f":"IF('Tex-531-C'!$D$25=\"\",\"\",'Tex-531-C'!$D$25)","v":"Conditioned"},{"$f":"IF('Tex-531-C'!$G$26=\"\",\"\",'Tex-531-C'!$G$26)","v":4}]
[26,{"$f":"IF('Tex-531-C'!$H$30=\"\",\"\",'Tex-531-C'!$H$30)","v":""},{"$f":"IF('Tex-531-C'!$B$6=\"\",\"\",'Tex-531-C'!$B$6)","v":"Tex-531-C"},{"$f":"IF('Tex-531-C'!$B$30=\"\",\"\",'Tex-531-C'!$B$30)","v":"Height:"},{"$f":"IF('Tex-531-C'!$B$26=\"\",\"\",'Tex-531-C'!$B$26)","v":"Specimen:"},{"$f":"IF('Tex-531-C'!$H$25=\"\",\"\",'Tex-531-C'!$H$25)","v":"Dry"},{"$f":"IF('Tex-531-C'!$H$26=\"\",\"\",'Tex-531-C'!$H$26)","v":1}]
[27,{"$f":"IF('Tex-531-C'!$I$30=\"\",\"\",'Tex-531-C'!$I$30)","v":""},{"$f":"IF('Tex-531-C'!$B$6=\"\",\"\",'Tex-531-C'!$B$6)","v":"Tex-531-C"},{"$f":"IF('Tex-531-C'!$B$30=\"\",\"\",'Tex-531-C'!$B$30)","v":"Height:"},{"$f":"IF('Tex-531-C'!$B$26=\"\",\"\",'Tex-531-C'!$B$26)","v":"Specimen:"},{"$f":"IF('Tex-531-C'!$H$25=\"\",\"\",'Tex-531-C'!$H$25)","v":"Dry"},{"$f":"IF('Tex-531-C'!$I$26=\"\",\"\",'Tex-531-C'!$I$26)","v":2}]
[28,{"$f":"IF('Tex-531-C'!$J$30=\"\",\"\",'Tex-531-C'!$J$30)","v":""},{"$f":"IF('Tex-531-C'!$B$6=\"\",\"\",'Tex-531-C'!$B$6)","v":"Tex-531-C"},{"$f":"IF('Tex-531-C'!$B$30=\"\",\"\",'Tex-531-C'!$B$30)","v":"Height:"},{"$f":"IF('Tex-531-C'!$B$26=\"\",\"\",'Tex-531-C'!$B$26)","v":"Specimen:"},{"$f":"IF('Tex-531-C'!$H$25=\"\",\"\",'Tex-531-C'!$H$25)","v":"Dry"},{"$f":"IF('Tex-531-C'!$J$26=\"\",\"\",'Tex-531-C'!$J$26)","v":3}]
[29,{"$f":"IF('Tex-531-C'!$K$30=\"\",\"\",'Tex-531-C'!$K$30)","v":""},{"$f":"IF('Tex-531-C'!$B$6=\"\",\"\",'Tex-531-C'!$B$6)","v":"Tex-531-C"},{"$f":"IF('Tex-531-C'!$B$30=\"\",\"\",'Tex-531-C'!$B$30)","v":"Height:"},{"$f":"IF('Tex-531-C'!$B$26=\"\",\"\",'Tex-531-C'!$B$26)","v":"Specimen:"},{"$f":"IF('Tex-531-C'!$H$25=\"\",\"\",'Tex-531-C'!$H$25)","v":"Dry"},{"$f":"IF('Tex-531-C'!$K$26=\"\",\"\",'Tex-531-C'!$K$26)","v":4}]
[30,{"$f":"IF('Tex-531-C'!$D$31=\"\",\"\",'Tex-531-C'!$D$31)","v":""},{"$f":"IF('Tex-531-C'!$B$6=\"\",\"\",'Tex-531-C'!$B$6)","v":"Tex-531-C"},{"$f":"IF('Tex-531-C'!$B$31=\"\",\"\",'Tex-531-C'!$B$31)","v":"Load (lbs.):"},{"$f":"IF('Tex-531-C'!$B$26=\"\",\"\",'Tex-531-C'!$B$26)","v":"Specimen:"},{"$f":"IF('Tex-531-C'!$D$25=\"\",\"\",'Tex-531-C'!$D$25)","v":"Conditioned"},{"$f":"IF('Tex-531-C'!$D$26=\"\",\"\",'Tex-531-C'!$D$26)","v":1}]
[31,{"$f":"IF('Tex-531-C'!$E$31=\"\",\"\",'Tex-531-C'!$E$31)","v":""},{"$f":"IF('Tex-531-C'!$B$6=\"\",\"\",'Tex-531-C'!$B$6)","v":"Tex-531-C"},{"$f":"IF('Tex-531-C'!$B$31=\"\",\"\",'Tex-531-C'!$B$31)","v":"Load (lbs.):"},{"$f":"IF('Tex-531-C'!$B$26=\"\",\"\",'Tex-531-C'!$B$26)","v":"Specimen:"},{"$f":"IF('Tex-531-C'!$D$25=\"\",\"\",'Tex-531-C'!$D$25)","v":"Conditioned"},{"$f":"IF('Tex-531-C'!$E$26=\"\",\"\",'Tex-531-C'!$E$26)","v":2}]
[32,{"$f":"IF('Tex-531-C'!$F$31=\"\",\"\",'Tex-531-C'!$F$31)","v":""},{"$f":"IF('Tex-531-C'!$B$6=\"\",\"\",'Tex-531-C'!$B$6)","v":"Tex-531-C"},{"$f":"IF('Tex-531-C'!$B$31=\"\",\"\",'Tex-531-C'!$B$31)","v":"Load (lbs.):"},{"$f":"IF('Tex-531-C'!$B$26=\"\",\"\",'Tex-531-C'!$B$26)","v":"Specimen:"},{"$f":"IF('Tex-531-C'!$D$25=\"\",\"\",'Tex-531-C'!$D$25)","v":"Conditioned"},{"$f":"IF('Tex-531-C'!$F$26=\"\",\"\",'Tex-531-C'!$F$26)","v":3}]
[33,{"$f":"IF('Tex-531-C'!$G$31=\"\",\"\",'Tex-531-C'!$G$31)","v":""},{"$f":"IF('Tex-531-C'!$B$6=\"\",\"\",'Tex-531-C'!$B$6)","v":"Tex-531-C"},{"$f":"IF('Tex-531-C'!$B$31=\"\",\"\",'Tex-531-C'!$B$31)","v":"Load (lbs.):"},{"$f":"IF('Tex-531-C'!$B$26=\"\",\"\",'Tex-531-C'!$B$26)","v":"Specimen:"},{"$f":"IF('Tex-531-C'!$D$25=\"\",\"\",'Tex-531-C'!$D$25)","v":"Conditioned"},{"$f":"IF('Tex-531-C'!$G$26=\"\",\"\",'Tex-531-C'!$G$26)","v":4}]
[34,{"$f":"IF('Tex-531-C'!$H$31=\"\",\"\",'Tex-531-C'!$H$31)","v":""},{"$f":"IF('Tex-531-C'!$B$6=\"\",\"\",'Tex-531-C'!$B$6)","v":"Tex-531-C"},{"$f":"IF('Tex-531-C'!$B$31=\"\",\"\",'Tex-531-C'!$B$31)","v":"Load (lbs.):"},{"$f":"IF('Tex-531-C'!$B$26=\"\",\"\",'Tex-531-C'!$B$26)","v":"Specimen:"},{"$f":"IF('Tex-531-C'!$H$25=\"\",\"\",'Tex-531-C'!$H$25)","v":"Dry"},{"$f":"IF('Tex-531-C'!$H$26=\"\",\"\",'Tex-531-C'!$H$26)","v":1}]
[35,{"$f":"IF('Tex-531-C'!$I$31=\"\",\"\",'Tex-531-C'!$I$31)","v":""},{"$f":"IF('Tex-531-C'!$B$6=\"\",\"\",'Tex-531-C'!$B$6)","v":"Tex-531-C"},{"$f":"IF('Tex-531-C'!$B$31=\"\",\"\",'Tex-531-C'!$B$31)","v":"Load (lbs.):"},{"$f":"IF('Tex-531-C'!$B$26=\"\",\"\",'Tex-531-C'!$B$26)","v":"Specimen:"},{"$f":"IF('Tex-531-C'!$H$25=\"\",\"\",'Tex-531-C'!$H$25)","v":"Dry"},{"$f":"IF('Tex-531-C'!$I$26=\"\",\"\",'Tex-531-C'!$I$26)","v":2}]
[36,{"$f":"IF('Tex-531-C'!$J$31=\"\",\"\",'Tex-531-C'!$J$31)","v":""},{"$f":"IF('Tex-531-C'!$B$6=\"\",\"\",'Tex-531-C'!$B$6)","v":"Tex-531-C"},{"$f":"IF('Tex-531-C'!$B$31=\"\",\"\",'Tex-531-C'!$B$31)","v":"Load (lbs.):"},{"$f":"IF('Tex-531-C'!$B$26=\"\",\"\",'Tex-531-C'!$B$26)","v":"Specimen:"},{"$f":"IF('Tex-531-C'!$H$25=\"\",\"\",'Tex-531-C'!$H$25)","v":"Dry"},{"$f":"IF('Tex-531-C'!$J$26=\"\",\"\",'Tex-531-C'!$J$26)","v":3}]
[37,{"$f":"IF('Tex-531-C'!$K$31=\"\",\"\",'Tex-531-C'!$K$31)","v":""},{"$f":"IF('Tex-531-C'!$B$6=\"\",\"\",'Tex-531-C'!$B$6)","v":"Tex-531-C"},{"$f":"IF('Tex-531-C'!$B$31=\"\",\"\",'Tex-531-C'!$B$31)","v":"Load (lbs.):"},{"$f":"IF('Tex-531-C'!$B$26=\"\",\"\",'Tex-531-C'!$B$26)","v":"Specimen:"},{"$f":"IF('Tex-531-C'!$H$25=\"\",\"\",'Tex-531-C'!$H$25)","v":"Dry"},{"$f":"IF('Tex-531-C'!$K$26=\"\",\"\",'Tex-531-C'!$K$26)","v":4}]
[38,{"$f":"IF('Tex-531-C'!$D$32=\"\",\"\",'Tex-531-C'!$D$32)","v":""},{"$f":"IF('Tex-531-C'!$B$6=\"\",\"\",'Tex-531-C'!$B$6)","v":"Tex-531-C"},{"$f":"IF('Tex-531-C'!$B$32=\"\",\"\",'Tex-531-C'!$B$32)","v":"Strength (psi.):"},{"$f":"IF('Tex-531-C'!$B$26=\"\",\"\",'Tex-531-C'!$B$26)","v":"Specimen:"},{"$f":"IF('Tex-531-C'!$D$25=\"\",\"\",'Tex-531-C'!$D$25)","v":"Conditioned"},{"$f":"IF('Tex-531-C'!$D$26=\"\",\"\",'Tex-531-C'!$D$26)","v":1}]
[39,{"$f":"IF('Tex-531-C'!$E$32=\"\",\"\",'Tex-531-C'!$E$32)","v":""},{"$f":"IF('Tex-531-C'!$B$6=\"\",\"\",'Tex-531-C'!$B$6)","v":"Tex-531-C"},{"$f":"IF('Tex-531-C'!$B$32=\"\",\"\",'Tex-531-C'!$B$32)","v":"Strength (psi.):"},{"$f":"IF('Tex-531-C'!$B$26=\"\",\"\",'Tex-531-C'!$B$26)","v":"Specimen:"},{"$f":"IF('Tex-531-C'!$D$25=\"\",\"\",'Tex-531-C'!$D$25)","v":"Conditioned"},{"$f":"IF('Tex-531-C'!$E$26=\"\",\"\",'Tex-531-C'!$E$26)","v":2}]
[40,{"$f":"IF('Tex-531-C'!$F$32=\"\",\"\",'Tex-531-C'!$F$32)","v":""},{"$f":"IF('Tex-531-C'!$B$6=\"\",\"\",'Tex-531-C'!$B$6)","v":"Tex-531-C"},{"$f":"IF('Tex-531-C'!$B$32=\"\",\"\",'Tex-531-C'!$B$32)","v":"Strength (psi.):"},{"$f":"IF('Tex-531-C'!$B$26=\"\",\"\",'Tex-531-C'!$B$26)","v":"Specimen:"},{"$f":"IF('Tex-531-C'!$D$25=\"\",\"\",'Tex-531-C'!$D$25)","v":"Conditioned"},{"$f":"IF('Tex-531-C'!$F$26=\"\",\"\",'Tex-531-C'!$F$26)","v":3}]
[41,{"$f":"IF('Tex-531-C'!$G$32=\"\",\"\",'Tex-531-C'!$G$32)","v":""},{"$f":"IF('Tex-531-C'!$B$6=\"\",\"\",'Tex-531-C'!$B$6)","v":"Tex-531-C"},{"$f":"IF('Tex-531-C'!$B$32=\"\",\"\",'Tex-531-C'!$B$32)","v":"Strength (psi.):"},{"$f":"IF('Tex-531-C'!$B$26=\"\",\"\",'Tex-531-C'!$B$26)","v":"Specimen:"},{"$f":"IF('Tex-531-C'!$D$25=\"\",\"\",'Tex-531-C'!$D$25)","v":"Conditioned"},{"$f":"IF('Tex-531-C'!$G$26=\"\",\"\",'Tex-531-C'!$G$26)","v":4}]
[42,{"$f":"IF('Tex-531-C'!$H$32=\"\",\"\",'Tex-531-C'!$H$32)","v":""},{"$f":"IF('Tex-531-C'!$B$6=\"\",\"\",'Tex-531-C'!$B$6)","v":"Tex-531-C"},{"$f":"IF('Tex-531-C'!$B$32=\"\",\"\",'Tex-531-C'!$B$32)","v":"Strength (psi.):"},{"$f":"IF('Tex-531-C'!$B$26=\"\",\"\",'Tex-531-C'!$B$26)","v":"Specimen:"},{"$f":"IF('Tex-531-C'!$H$25=\"\",\"\",'Tex-531-C'!$H$25)","v":"Dry"},{"$f":"IF('Tex-531-C'!$H$26=\"\",\"\",'Tex-531-C'!$H$26)","v":1}]
[43,{"$f":"IF('Tex-531-C'!$I$32=\"\",\"\",'Tex-531-C'!$I$32)","v":""},{"$f":"IF('Tex-531-C'!$B$6=\"\",\"\",'Tex-531-C'!$B$6)","v":"Tex-531-C"},{"$f":"IF('Tex-531-C'!$B$32=\"\",\"\",'Tex-531-C'!$B$32)","v":"Strength (psi.):"},{"$f":"IF('Tex-531-C'!$B$26=\"\",\"\",'Tex-531-C'!$B$26)","v":"Specimen:"},{"$f":"IF('Tex-531-C'!$H$25=\"\",\"\",'Tex-531-C'!$H$25)","v":"Dry"},{"$f":"IF('Tex-531-C'!$I$26=\"\",\"\",'Tex-531-C'!$I$26)","v":2}]
[44,{"$f":"IF('Tex-531-C'!$J$32=\"\",\"\",'Tex-531-C'!$J$32)","v":""},{"$f":"IF('Tex-531-C'!$B$6=\"\",\"\",'Tex-531-C'!$B$6)","v":"Tex-531-C"},{"$f":"IF('Tex-531-C'!$B$32=\"\",\"\",'Tex-531-C'!$B$32)","v":"Strength (psi.):"},{"$f":"IF('Tex-531-C'!$B$26=\"\",\"\",'Tex-531-C'!$B$26)","v":"Specimen:"},{"$f":"IF('Tex-531-C'!$H$25=\"\",\"\",'Tex-531-C'!$H$25)","v":"Dry"},{"$f":"IF('Tex-531-C'!$J$26=\"\",\"\",'Tex-531-C'!$J$26)","v":3}]
[45,{"$f":"IF('Tex-531-C'!$K$32=\"\",\"\",'Tex-531-C'!$K$32)","v":""},{"$f":"IF('Tex-531-C'!$B$6=\"\",\"\",'Tex-531-C'!$B$6)","v":"Tex-531-C"},{"$f":"IF('Tex-531-C'!$B$32=\"\",\"\",'Tex-531-C'!$B$32)","v":"Strength (psi.):"},{"$f":"IF('Tex-531-C'!$B$26=\"\",\"\",'Tex-531-C'!$B$26)","v":"Specimen:"},{"$f":"IF('Tex-531-C'!$H$25=\"\",\"\",'Tex-531-C'!$H$25)","v":"Dry"},{"$f":"IF('Tex-531-C'!$K$26=\"\",\"\",'Tex-531-C'!$K$26)","v":4}]
[46,{"$f":"IF('Tex-531-C'!$D$33=\"\",\"\",'Tex-531-C'!$D$33)","v":""},{"$f":"IF('Tex-531-C'!$B$6=\"\",\"\",'Tex-531-C'!$B$6)","v":"Tex-531-C"},{"$f":"IF('Tex-531-C'!$B$33=\"\",\"\",'Tex-531-C'!$B$33)","v":"Average Strength, (psi.):"},{"$f":"IF('Tex-531-C'!$D$25=\"\",\"\",'Tex-531-C'!$D$25)","v":"Conditioned"}]
[47,{"$f":"IF('Tex-531-C'!$H$33=\"\",\"\",'Tex-531-C'!$H$33)","v":""},{"$f":"IF('Tex-531-C'!$B$6=\"\",\"\",'Tex-531-C'!$B$6)","v":"Tex-531-C"},{"$f":"IF('Tex-531-C'!$B$33=\"\",\"\",'Tex-531-C'!$B$33)","v":"Average Strength, (psi.):"},{"$f":"IF('Tex-531-C'!$H$25=\"\",\"\",'Tex-531-C'!$H$25)","v":"Dry"}]
[48,{"$f":"IF('Tex-531-C'!$F$35=\"\",\"\",'Tex-531-C'!$F$35)","v":""},{"$f":"IF('Tex-531-C'!$B$6=\"\",\"\",'Tex-531-C'!$B$6)","v":"Tex-531-C"},{"$f":"IF('Tex-531-C'!$E$35=\"\",\"\",'Tex-531-C'!$E$35)","v":"TSR:"}]