{"text_format":"1","workbook":"xlsx","n_sheets":2,"sheets":["Tex-600-J","RX"],"not_rendered":{"charts":0,"images":1,"macros":1,"external_links":0,"defined_names":81,"comments":1,"pivot_tables":0},"unopened":[],"bounds":{"document_bytes":16777216,"sheet_cells":100000,"rows_first":2000,"rows_last":500,"rows_between":2000,"halvings":0,"cell_chars":16384,"cell_head_chars":4096},"cells_cut":0,"cells_raw":0,"read":"whole","date_system":"1900"}

{"sheet":"Tex-600-J","index":0,"n_rows":64,"n_cols":11,"rows_kept":64,"cut":false,"hidden":false,"merged":[[9,3,9,4],[9,7,9,8],[0,0,0,1],[7,3,7,4],[7,7,7,8],[8,3,8,4],[8,7,8,8],[10,3,10,4],[10,7,10,8],[11,3,11,4],[11,7,11,8],[12,3,12,4],[12,7,12,8],[27,3,27,4],[13,3,13,4],[13,7,13,8],[15,3,15,8],[16,3,16,4],[16,7,16,8],[14,3,14,8],[22,3,22,4],[23,3,23,4],[24,3,24,4],[25,3,25,4],[26,3,26,4],[41,2,41,4],[28,3,28,4],[29,3,29,4],[30,3,30,4],[31,3,31,4],[34,2,34,4],[35,2,35,4],[36,2,36,4],[37,2,37,4],[38,2,38,4],[39,2,39,4],[40,2,40,4],[43,3,43,5],[58,2,58,4],[60,6,60,8],[64,1,64,3],[47,3,47,4],[48,3,48,4],[51,1,52,8],[57,2,57,4],[54,1,54,8],[60,1,60,3],[53,1,53,8],[44,3,44,4],[45,3,45,4],[55,2,55,4],[56,2,56,4]]}
["TxDOT Manuals >",null,null,"Tex-600-J"]
[null,"TEXAS DEPARTMENT OF TRANSPORTATION",null,null,null,null,null,null,null,null,25]
[null,null,null,null,null,null,null,null,null,null,1]
[null,null,null,null,null,null,null,null,null,null,"tx600.xlsm::45170.488229"]
[null,"Lime Testing"]
[null,"Tex-600-J"]
[null,null,null,null,null,null,null,null,{"$f":"\"File Version: \" & TEXT(MID(sn,SEARCH(\"::\",sn,1)+2,20),\"mm/dd/yy hh:mm:ss\")","v":"File Version: 09/01/23 11:43:03"}]
[null,null,"SAMPLE ID:",null,null,null,"SAMPLED DATE:"]
[null,null,"TEST NUMBER:",null,null,null,"LETTING DATE:"]
[null,null,"SAMPLE STATUS:",null,null,null,"CONTROLLING CSJ:"]
[null,null,"COUNTY:",null,null,null,"SPEC YEAR:"]
[null,null,"SAMPLED BY:",null,null,null,"SPEC ITEM:"]
[null,null,"SAMPLE LOCATION:",null,null,null,"SPECIAL PROVISION:"]
[null,null,"MATERIAL CODE:",null,null,null,"GRADE:"]
[null,null,"MATERIAL NAME:"]
[null,null,"PRODUCER:"]
[null,null,"AREA ENGINEER:",null,null,null,"PROJECT MANAGER:"]
[]
[null,null,"COURSE\\LIFT:",null,"STATION:",null,null,"DIST. FROM CL:"]
[]
[null,"Tex-600-J"]
[]
[null,null,null,"Titration Sample, (g):"]
[null,null,null,"HCl, (N):"]
[null,null,null,"HCl 8.3, (ml):"]
[null,null,null,"Total HCl, (ml):"]
[null,null,null,"NaOH, (N):"]
[null,null,null,"NaOH 4.4, (ml):"]
[null,null,null,"Muffle Sample, (g):"]
[null,null,null,"Crucible Weight, (g):"]
[null,null,null,"Crucible + Residue Wt, (g):"]
[null,null,null,"Bulk Density, (lbs/gl):"]
[]
[null,null,null,null,null,null,"Tolerance"]
[null,null,{"$f":"IF(Grade=\"Quicklime (Quicklime (Type C))\",\"Calcium Oxide,CaO, %:\",\"Unhydrated Lime, CaO, %:\")","v":"Unhydrated Lime, CaO, %:"},null,null,{"$f":"IF( ISERROR(IF(Grade=\"Hydrated Lime (Type A)\",IF((1.32126*2.804*_HCL83*NHCl/Titration)>4.1128*((Msmpl-CRWght+CWght)*100/Msmpl-2.804*0.78479*(NHCl*(HCl-_HCL83)-NNaOH*NaOH44)/Titration),((1.32126*2.804*_HCL83*NHCl/Titration)-4.1128*((Msmpl-CRWght+CWght)*100/Msmpl-2.804*0.78479*(NHCl*(HCl-_HCL83)-NNaOH*NaOH44)/Titration))*0.75686,0),HCl*2.804/Titration*NHCl)),\"\",IF(Grade=\"Hydrated Lime (Type A)\",IF((1.32126*2.804*_HCL83*NHCl/Titration)>4.1128*((Msmpl-CRWght+CWght)*100/Msmpl-2.804*0.78479*(NHCl*(HCl-_HCL83)-NNaOH*NaOH44)/Titration),((1.32126*2.804*_HCL83*NHCl/Titration)-4.1128*((Msmpl-CRWght+CWght)*100/Msmpl-2.804*0.78479*(NHCl*(HCl-_HCL83)-NNaOH*NaOH44)/Titration))*0.75686,0),HCl*2.804/Titration*NHCl))","v":""},{"$f":"IF(Grade=\"Quicklime (Type C)\",\"87.0% min.\",IF(Grade=\"Hydrated Lime (Type A)\",\"5.0% max.\",\"\"))","v":""}]
[null,null,"Hydrated Alkalinity, Ca(OH)2, %:",null,null,{"$f":"IF(ISERROR(IF(Grade=\"Hydrated Lime (Type A)\",IF((1.32126*2.804*_HCL83*NHCl/Titration)>4.1128*((Msmpl-CRWght+CWght)*100/Msmpl-2.804*0.78479*(NHCl*(HCl-_HCL83)-NNaOH*NaOH44)/Titration),4.1128*((Msmpl-CRWght+CWght)*100/Msmpl-2.804*0.78479*(NHCl*(HCl-_HCL83)-NNaOH*NaOH44)/Titration),(1.32126*2.804*_HCL83*NHCl/Titration)),1.32126*2.804*NHCl*_HCL83/Titration/(100-(((Msmpl-CRWght+CWght)*100/Msmpl-(2.804/Titration*(NHCl*(HCl-_HCL83)-NNaOH*NaOH44))*0.78479)*4.1128-(2.804*NHCl*_HCL83/Titration)*1.32126)*0.24314)*100)),\"\",IF(Grade=\"Hydrated Lime (Type A)\",IF((1.32126*2.804*_HCL83*NHCl/Titration)>4.1128*((Msmpl-CRWght+CWght)*100/Msmpl-2.804*0.78479*(NHCl*(HCl-_HCL83)-NNaOH*NaOH44)/Titration),4.1128*((Msmpl-CRWght+CWght)*100/Msmpl-2.804*0.78479*(NHCl*(HCl-_HCL83)-NNaOH*NaOH44)/Titration),(1.32126*2.804*_HCL83*NHCl/Titration)),1.32126*2.804*NHCl*_HCL83/Titration/(100-(((Msmpl-CRWght+CWght)*100/Msmpl-(2.804/Titration*(NHCl*(HCl-_HCL83)-NNaOH*NaOH44))*0.78479)*4.1128-(2.804*NHCl*_HCL83/Titration)*1.32126)*0.24314)*100))","v":""},{"$f":"IF(Grade=\"Lime Slurry (Type B)\",\"87.0% min\",\"\")","v":""}]
[null,null,"Loss on Ignition, LOI, %:",null,null,{"$f":"IF(ISERROR((Msmpl-CRWght+CWght)*100/Msmpl),\"\",(Msmpl-CRWght+CWght)*100/Msmpl)","v":""}]
[null,null,"Ca(OH)2+CaO, %:",null,null,{"$f":"IF(ISERROR(IF((1.32126*2.804*_HCL83*NHCl/Titration)>4.1128*((Msmpl-CRWght+CWght)*100/Msmpl-2.804*0.78479*(NHCl*(HCl-_HCL83)-NNaOH*NaOH44)/Titration),4.1128*((Msmpl-CRWght+CWght)*100/Msmpl-2.804*0.78479*(NHCl*(HCl-_HCL83)-NNaOH*NaOH44)/Titration)+((1.32126*2.804*_HCL83*NHCl/Titration)-4.1128*((Msmpl-CRWght+CWght)*100/Msmpl-2.804*0.78479*(NHCl*(HCl-_HCL83)-NNaOH*NaOH44)/Titration))*0.75686,(1.32126*2.804*_HCL83*NHCl/Titration))),\"\",IF((1.32126*2.804*_HCL83*NHCl/Titration)>4.1128*((Msmpl-CRWght+CWght)*100/Msmpl-2.804*0.78479*(NHCl*(HCl-_HCL83)-NNaOH*NaOH44)/Titration),4.1128*((Msmpl-CRWght+CWght)*100/Msmpl-2.804*0.78479*(NHCl*(HCl-_HCL83)-NNaOH*NaOH44)/Titration)+((1.32126*2.804*_HCL83*NHCl/Titration)-4.1128*((Msmpl-CRWght+CWght)*100/Msmpl-2.804*0.78479*(NHCl*(HCl-_HCL83)-NNaOH*NaOH44)/Titration))*0.75686,(1.32126*2.804*_HCL83*NHCl/Titration)))","v":""},{"$f":"IF(Grade=\"Hydrated Lime (Type A)\",\"90.0% min.\",\"\")","v":""}]
[null,null,"Free Water, H2O, %:",null,null,{"$f":"IF(ISERROR(IF((1.32126*2.804*_HCL83*NHCl/Titration)>4.1128*((Msmpl-CRWght+CWght)*100/Msmpl-2.804*0.78479*(NHCl*(HCl-_HCL83)-NNaOH*NaOH44)/Titration),0,(4.1128*((Msmpl-CRWght+CWght)*100/Msmpl-2.804*0.78479*(NHCl*(HCl-_HCL83)-NNaOH*NaOH44)/Titration)-(1.32126*2.804*_HCL83*NHCl/Titration))*0.24314)),\"\",IF((1.32126*2.804*_HCL83*NHCl/Titration)>4.1128*((Msmpl-CRWght+CWght)*100/Msmpl-2.804*0.78479*(NHCl*(HCl-_HCL83)-NNaOH*NaOH44)/Titration),0,(4.1128*((Msmpl-CRWght+CWght)*100/Msmpl-2.804*0.78479*(NHCl*(HCl-_HCL83)-NNaOH*NaOH44)/Titration)-(1.32126*2.804*_HCL83*NHCl/Titration))*0.24314))","v":""},{"$f":"IF(Grade=\"Hydrated Lime (Type A)\",\"5.0% max.\",\"\")","v":""}]
[null,null,"Calcium Carbonate, CaCO3, %:",null,null,{"$f":"IF(ISERROR(2.804*1.78479*(NHCl*(HCl-_HCL83)-NNaOH*NaOH44)/Titration),\"\",2.804*1.78479*(NHCl*(HCl-_HCL83)-NNaOH*NaOH44)/Titration)","v":""}]
[null,null,"Inert, %:",null,null,{"$f":"IF(ISERROR(100-(Msmpl-CRWght+CWght)*100/Msmpl-2.804/Titration*(NHCl*HCl-NNaOH*NaOH44)),\"\",100-(Msmpl-CRWght+CWght)*100/Msmpl-2.804/Titration*(NHCl*HCl-NNaOH*NaOH44))","v":""}]
[null,null,"Solids, %:",null,null,{"$f":"IF(ISERROR(100-(((Msmpl-CRWght+CWght)*100/Msmpl-(2.804/Titration*(NHCl*(HCl-_HCL83)-NNaOH*NaOH44))*0.78479)*4.1128-(2.804*NHCl*_HCL83/Titration)*1.32126)*0.24314),\"\",100-(((Msmpl-CRWght+CWght)*100/Msmpl-(2.804/Titration*(NHCl*(HCl-_HCL83)-NNaOH*NaOH44))*0.78479)*4.1128-(2.804*NHCl*_HCL83/Titration)*1.32126)*0.24314)","v":""},{"$f":"IF(Grade=\"Lime Slurry (Type B)\",\"*40.0% min\",\"\")","v":""},{"$f":"IF(Grade=\"Lime Slurry (Type B)\", \"* 29.0% min. required for 'Bealls'\",\"\")","v":""}]
[]
[null,null,null,"Sieve Results:",null,null,"Tolerance"]
[null,null,null,{"$f":"IF(Grade=\"Quicklime (Type C)\",\"(Wet) \",\"\") & \"Retained on No.6:\"","v":"Retained on No.6:"},null,null,{"$f":"IF(Grade=\"\",\"\",IF(Grade=\"Quicklime (Type C)\",\"8.0\",\"0.2\") & \"% max.\")","v":""}]
[null,null,null,"Retained on No.30:",null,null,"4.0% max."]
[]
[null,null,null,"(Dry) Retained on 1\":",null,null,"0.0% max."]
[null,null,null,"(Dry) Retained on 3/4\":",null,null,"10.0% max."]
[]
[null,"Remarks:",{"$f":"TODAY()","v":"2023-09-01"}]
[]
[]
[]
[]
[null,"Sample Method:","Sampled By:",null,null,"Sampled Date:"]
[null,"TX600"]
[null,"Test Method:","Tested By:",null,null,"Tested Date:"]
[null,"TX600"]
[null,"Test Stamp Code:",null,null,"Omit Test:","Completed Date:","Reviewed By:"]
[]
[null,"Locked By:","TxDOT:","District:","Area:"]
[]
[null,"Authorized By:",null,null,"Authorized Date:"]

{"sheet":"RX","index":1,"n_rows":30,"n_cols":9,"rows_kept":30,"cut":false,"hidden":true,"merged":[]}
[28]
["Fld_nbr","Value","Desc_1","Desc_2","Desc_3","Desc_4","Desc_5","Desc_6","Desc_7"]
[1,{"$f":"IF('Tex-600-J'!$B$52=\"\",\"\",'Tex-600-J'!$B$52)","v":""},{"$f":"'Tex-600-J'!$B$51","v":"Remarks:"}]
[2,{"$f":"IF('Tex-600-J'!$D$19=\"\",\"\",'Tex-600-J'!$D$19)","v":""},{"$f":"IF('Tex-600-J'!$C$19=\"\",\"\",'Tex-600-J'!$C$19)","v":"COURSE\\LIFT:"}]
[3,{"$f":"IF('Tex-600-J'!$C$59=\"\",\"\",'Tex-600-J'!$C$59)","v":""},"Tested By ",{"$f":"IF('Tex-600-J'!$B$59=\"\",\"\",'Tex-600-J'!$B$59)","v":"TX600"}]
[4,{"$f":"IF('Tex-600-J'!$F$59=\"\",\"\",'Tex-600-J'!$F$59)","v":""},"Tested Date ",{"$f":"IF('Tex-600-J'!$B$59=\"\",\"\",'Tex-600-J'!$B$59)","v":"TX600"}]
[5,{"$f":"IF('Tex-600-J'!$F$23=\"\",\"\",'Tex-600-J'!$F$23)","v":""},{"$f":"IF('Tex-600-J'!$B$21=\"\",\"\",'Tex-600-J'!$B$21)","v":"Tex-600-J"},{"$f":"IF('Tex-600-J'!$D$23=\"\",\"\",'Tex-600-J'!$D$23)","v":"Titration Sample, (g):"}]
[6,{"$f":"IF('Tex-600-J'!$F$24=\"\",\"\",'Tex-600-J'!$F$24)","v":""},{"$f":"IF('Tex-600-J'!$B$21=\"\",\"\",'Tex-600-J'!$B$21)","v":"Tex-600-J"},{"$f":"IF('Tex-600-J'!$D$24=\"\",\"\",'Tex-600-J'!$D$24)","v":"HCl, (N):"}]
[7,{"$f":"IF('Tex-600-J'!$F$25=\"\",\"\",'Tex-600-J'!$F$25)","v":""},{"$f":"IF('Tex-600-J'!$B$21=\"\",\"\",'Tex-600-J'!$B$21)","v":"Tex-600-J"},{"$f":"IF('Tex-600-J'!$D$25=\"\",\"\",'Tex-600-J'!$D$25)","v":"HCl 8.3, (ml):"}]
[8,{"$f":"IF('Tex-600-J'!$F$26=\"\",\"\",'Tex-600-J'!$F$26)","v":""},{"$f":"IF('Tex-600-J'!$B$21=\"\",\"\",'Tex-600-J'!$B$21)","v":"Tex-600-J"},{"$f":"IF('Tex-600-J'!$D$26=\"\",\"\",'Tex-600-J'!$D$26)","v":"Total HCl, (ml):"}]
[9,{"$f":"IF('Tex-600-J'!$F$27=\"\",\"\",'Tex-600-J'!$F$27)","v":""},{"$f":"IF('Tex-600-J'!$B$21=\"\",\"\",'Tex-600-J'!$B$21)","v":"Tex-600-J"},{"$f":"IF('Tex-600-J'!$D$27=\"\",\"\",'Tex-600-J'!$D$27)","v":"NaOH, (N):"}]
[10,{"$f":"IF('Tex-600-J'!$F$28=\"\",\"\",'Tex-600-J'!$F$28)","v":""},{"$f":"IF('Tex-600-J'!$B$21=\"\",\"\",'Tex-600-J'!$B$21)","v":"Tex-600-J"},{"$f":"IF('Tex-600-J'!$D$28=\"\",\"\",'Tex-600-J'!$D$28)","v":"NaOH 4.4, (ml):"}]
[11,{"$f":"IF('Tex-600-J'!$F$29=\"\",\"\",'Tex-600-J'!$F$29)","v":""},{"$f":"IF('Tex-600-J'!$B$21=\"\",\"\",'Tex-600-J'!$B$21)","v":"Tex-600-J"},{"$f":"IF('Tex-600-J'!$D$29=\"\",\"\",'Tex-600-J'!$D$29)","v":"Muffle Sample, (g):"}]
[12,{"$f":"IF('Tex-600-J'!$F$30=\"\",\"\",'Tex-600-J'!$F$30)","v":""},{"$f":"IF('Tex-600-J'!$B$21=\"\",\"\",'Tex-600-J'!$B$21)","v":"Tex-600-J"},{"$f":"IF('Tex-600-J'!$D$30=\"\",\"\",'Tex-600-J'!$D$30)","v":"Crucible Weight, (g):"}]
[13,{"$f":"IF('Tex-600-J'!$F$31=\"\",\"\",'Tex-600-J'!$F$31)","v":""},{"$f":"IF('Tex-600-J'!$B$21=\"\",\"\",'Tex-600-J'!$B$21)","v":"Tex-600-J"},{"$f":"IF('Tex-600-J'!$D$31=\"\",\"\",'Tex-600-J'!$D$31)","v":"Crucible + Residue Wt, (g):"}]
[14,{"$f":"IF('Tex-600-J'!$F$32=\"\",\"\",'Tex-600-J'!$F$32)","v":""},{"$f":"IF('Tex-600-J'!$B$21=\"\",\"\",'Tex-600-J'!$B$21)","v":"Tex-600-J"},{"$f":"IF('Tex-600-J'!$D$32=\"\",\"\",'Tex-600-J'!$D$32)","v":"Bulk Density, (lbs/gl):"}]
[15,{"$f":"IF('Tex-600-J'!$F$35=\"\",\"\",'Tex-600-J'!$F$35)","v":""},{"$f":"IF('Tex-600-J'!$B$21=\"\",\"\",'Tex-600-J'!$B$21)","v":"Tex-600-J"},{"$f":"IF('Tex-600-J'!$C$35=\"\",\"\",'Tex-600-J'!$C$35)","v":"Unhydrated Lime, CaO, %:"},{"$f":"IF('Tex-600-J'!$G$34=\"\",\"\",'Tex-600-J'!$G$34)","v":"Tolerance"},{"$f":"IF('Tex-600-J'!$G$35=\"\",\"\",'Tex-600-J'!$G$35)","v":""}]
[16,{"$f":"IF('Tex-600-J'!$F$36=\"\",\"\",'Tex-600-J'!$F$36)","v":""},{"$f":"IF('Tex-600-J'!$B$21=\"\",\"\",'Tex-600-J'!$B$21)","v":"Tex-600-J"},{"$f":"IF('Tex-600-J'!$C$36=\"\",\"\",'Tex-600-J'!$C$36)","v":"Hydrated Alkalinity, Ca(OH)2, %:"},{"$f":"IF('Tex-600-J'!$G$34=\"\",\"\",'Tex-600-J'!$G$34)","v":"Tolerance"},{"$f":"IF('Tex-600-J'!$G$36=\"\",\"\",'Tex-600-J'!$G$36)","v":""}]
[17,{"$f":"IF('Tex-600-J'!$F$37=\"\",\"\",'Tex-600-J'!$F$37)","v":""},{"$f":"IF('Tex-600-J'!$B$21=\"\",\"\",'Tex-600-J'!$B$21)","v":"Tex-600-J"},{"$f":"IF('Tex-600-J'!$C$37=\"\",\"\",'Tex-600-J'!$C$37)","v":"Loss on Ignition, LOI, %:"}]
[18,{"$f":"IF('Tex-600-J'!$F$38=\"\",\"\",'Tex-600-J'!$F$38)","v":""},{"$f":"IF('Tex-600-J'!$B$21=\"\",\"\",'Tex-600-J'!$B$21)","v":"Tex-600-J"},{"$f":"IF('Tex-600-J'!$C$38=\"\",\"\",'Tex-600-J'!$C$38)","v":"Ca(OH)2+CaO, %:"},{"$f":"IF('Tex-600-J'!$G$34=\"\",\"\",'Tex-600-J'!$G$34)","v":"Tolerance"},{"$f":"IF('Tex-600-J'!$G$38=\"\",\"\",'Tex-600-J'!$G$38)","v":""}]
[19,{"$f":"IF('Tex-600-J'!$F$39=\"\",\"\",'Tex-600-J'!$F$39)","v":""},{"$f":"IF('Tex-600-J'!$B$21=\"\",\"\",'Tex-600-J'!$B$21)","v":"Tex-600-J"},{"$f":"IF('Tex-600-J'!$C$39=\"\",\"\",'Tex-600-J'!$C$39)","v":"Free Water, H2O, %:"},{"$f":"IF('Tex-600-J'!$G$34=\"\",\"\",'Tex-600-J'!$G$34)","v":"Tolerance"},{"$f":"IF('Tex-600-J'!$G$39=\"\",\"\",'Tex-600-J'!$G$39)","v":""}]
[20,{"$f":"IF('Tex-600-J'!$F$40=\"\",\"\",'Tex-600-J'!$F$40)","v":""},{"$f":"IF('Tex-600-J'!$B$21=\"\",\"\",'Tex-600-J'!$B$21)","v":"Tex-600-J"},{"$f":"IF('Tex-600-J'!$C$40=\"\",\"\",'Tex-600-J'!$C$40)","v":"Calcium Carbonate, CaCO3, %:"}]
[21,{"$f":"IF('Tex-600-J'!$F$41=\"\",\"\",'Tex-600-J'!$F$41)","v":""},{"$f":"IF('Tex-600-J'!$B$21=\"\",\"\",'Tex-600-J'!$B$21)","v":"Tex-600-J"},{"$f":"IF('Tex-600-J'!$C$41=\"\",\"\",'Tex-600-J'!$C$41)","v":"Inert, %:"}]
[22,{"$f":"IF('Tex-600-J'!$F$42=\"\",\"\",'Tex-600-J'!$F$42)","v":""},{"$f":"IF('Tex-600-J'!$B$21=\"\",\"\",'Tex-600-J'!$B$21)","v":"Tex-600-J"},{"$f":"IF('Tex-600-J'!$C$42=\"\",\"\",'Tex-600-J'!$C$42)","v":"Solids, %:"},{"$f":"IF('Tex-600-J'!$G$34=\"\",\"\",'Tex-600-J'!$G$34)","v":"Tolerance"},{"$f":"IF('Tex-600-J'!$G$42=\"\",\"\",'Tex-600-J'!$G$42)","v":""}]
[23,{"$f":"IF('Tex-600-J'!$F$45=\"\",\"\",'Tex-600-J'!$F$45)","v":""},{"$f":"IF('Tex-600-J'!$B$21=\"\",\"\",'Tex-600-J'!$B$21)","v":"Tex-600-J"},{"$f":"IF('Tex-600-J'!$D$45=\"\",\"\",'Tex-600-J'!$D$45)","v":"Retained on No.6:"},{"$f":"IF('Tex-600-J'!$G$44=\"\",\"\",'Tex-600-J'!$G$44)","v":"Tolerance"},{"$f":"IF('Tex-600-J'!$G$45=\"\",\"\",'Tex-600-J'!$G$45)","v":""}]
[24,{"$f":"IF('Tex-600-J'!$F$46=\"\",\"\",'Tex-600-J'!$F$46)","v":""},{"$f":"IF('Tex-600-J'!$B$21=\"\",\"\",'Tex-600-J'!$B$21)","v":"Tex-600-J"},{"$f":"IF('Tex-600-J'!$D$46=\"\",\"\",'Tex-600-J'!$D$46)","v":"Retained on No.30:"},{"$f":"IF('Tex-600-J'!$G$44=\"\",\"\",'Tex-600-J'!$G$44)","v":"Tolerance"},{"$f":"IF('Tex-600-J'!$G$46=\"\",\"\",'Tex-600-J'!$G$46)","v":"4.0% max."}]
[25,{"$f":"IF('Tex-600-J'!$F$48=\"\",\"\",'Tex-600-J'!$F$48)","v":""},{"$f":"IF('Tex-600-J'!$B$21=\"\",\"\",'Tex-600-J'!$B$21)","v":"Tex-600-J"},{"$f":"IF('Tex-600-J'!$D$48=\"\",\"\",'Tex-600-J'!$D$48)","v":"(Dry) Retained on 1\":"},{"$f":"IF('Tex-600-J'!$G$44=\"\",\"\",'Tex-600-J'!$G$44)","v":"Tolerance"},{"$f":"IF('Tex-600-J'!$G$48=\"\",\"\",'Tex-600-J'!$G$48)","v":"0.0% max."}]
[26,{"$f":"IF('Tex-600-J'!$F$49=\"\",\"\",'Tex-600-J'!$F$49)","v":""},{"$f":"IF('Tex-600-J'!$B$21=\"\",\"\",'Tex-600-J'!$B$21)","v":"Tex-600-J"},{"$f":"IF('Tex-600-J'!$D$49=\"\",\"\",'Tex-600-J'!$D$49)","v":"(Dry) Retained on 3/4\":"},{"$f":"IF('Tex-600-J'!$G$44=\"\",\"\",'Tex-600-J'!$G$44)","v":"Tolerance"},{"$f":"IF('Tex-600-J'!$G$49=\"\",\"\",'Tex-600-J'!$G$49)","v":"10.0% max."}]
[27,{"$f":"IF('Tex-600-J'!$C$57=\"\",\"\",'Tex-600-J'!$C$57)","v":""},"Sampled By ",{"$f":"IF('Tex-600-J'!$B$57=\"\",\"\",'Tex-600-J'!$B$57)","v":"TX600"}]
[28,{"$f":"IF('Tex-600-J'!$F$57=\"\",\"\",'Tex-600-J'!$F$57)","v":""},"Sampled Date ",{"$f":"IF('Tex-600-J'!$B$57=\"\",\"\",'Tex-600-J'!$B$57)","v":"TX600"}]