{"text_format":"1","workbook":"xlsx","n_sheets":2,"sheets":["Tex-612-J","RX"],"not_rendered":{"charts":0,"images":1,"macros":1,"external_links":0,"defined_names":74,"comments":1,"pivot_tables":0},"unopened":[],"bounds":{"document_bytes":16777216,"sheet_cells":100000,"rows_first":2000,"rows_last":500,"rows_between":2000,"halvings":0,"cell_chars":16384,"cell_head_chars":4096},"cells_cut":0,"cells_raw":0,"read":"whole","date_system":"1900"}

{"sheet":"Tex-612-J","index":0,"n_rows":48,"n_cols":12,"rows_kept":48,"cut":false,"hidden":false,"merged":[[23,1,24,1],[23,6,24,6],[35,1,36,9],[23,2,24,2],[23,3,24,3],[23,4,24,4],[23,5,24,5],[23,7,24,7],[23,8,24,8],[37,1,37,9],[29,5,29,7],[38,1,38,9],[44,1,44,4],[49,3,49,5],[44,7,44,9],[48,1,48,4],[41,3,41,5],[42,3,42,5],[42,1,42,2],[46,1,46,2],[39,3,39,5],[40,1,40,2],[40,3,40,5],[9,4,9,5],[10,4,10,5],[0,0,0,1],[10,8,10,9],[8,8,8,9],[9,8,9,9],[7,8,7,9],[7,4,7,5],[8,4,8,5],[16,8,16,9],[14,4,14,9],[15,4,15,9],[11,4,11,5],[12,8,12,9],[12,4,12,5],[13,4,13,5],[11,8,11,9],[13,8,13,9],[16,4,16,5]]}
["TxDOT Manuals >",null,null,null,"Tex-612-J"]
[null,"TEXAS DEPARTMENT OF TRANSPORTATION",null,null,null,null,null,null,null,null,null,26]
[null,null,null,null,null,null,null,null,null,null,null,2]
[null,null,null,null,null,null,null,null,null,null,null,"tx612.xlsm::45463.380475"]
[null,"Acid Insoluble Residue for Fine Aggregate"]
[null,"Tex-612-J"]
[null,null,null,null,null,null,null,null,null,{"$f":"\"File Version: \" & TEXT(MID(sn,SEARCH(\"::\",sn,1)+2,20),\"mm/dd/yy hh:mm:ss\")","v":"File Version: 06/20/24 09:07:53"}]
[null,null,null,"SAMPLE ID:",null,null,null,"SAMPLED DATE:"]
[null,null,null,"TEST NUMBER:",null,null,null,"LETTING DATE:"]
[null,null,null,"SAMPLE STATUS:",null,null,null,"CONTROLLING CSJ:"]
[null,null,null,"COUNTY:",null,null,null,"SPEC YEAR:"]
[null,null,null,"SAMPLED BY:",null,null,null,"SPEC ITEM:"]
[null,null,null,"SAMPLE LOCATION:",null,null,null,"SPECIAL PROVISION:"]
[null,null,null,"MATERIAL CODE:",null,null,null,"GRADE:"]
[null,null,null,"MATERIAL NAME:"]
[null,null,null,"PRODUCER:"]
[null,null,null,"AREA ENGINEER:",null,null,null,"PROJECT MANAGER:"]
[]
[null,null,null,"COURSE\\LIFT:",null,"STATION:",null,null,"DIST. FROM CL:"]
[]
[]
[]
[]
[null,"SET","Sample Number","Dish Number","Sample Weight","Weight of Filter and Residue","Weight of Filter","Weight of Residue","% Acid Insoluble"]
[null,null,null,"Number","Weight","Filter & Residue","of Filter","Residue","Insoluble"]
[null,1,null,null,null,null,null,{"$f":"IF($F26-$G26=0,\"\",$F26-$G26)","v":""},{"$f":"IF($E26=\"\",\"\",100*(H26/E26))","v":""}]
[null,2,null,null,null,null,null,{"$f":"IF($F27-$G27=0,\"\",$F27-$G27)","v":""},{"$f":"IF($E27=\"\",\"\",100*(H27/E27))","v":""}]
[null,3,null,null,null,null,null,{"$f":"IF($F28-$G28=0,\"\",$F28-$G28)","v":""},{"$f":"IF($E28=\"\",\"\",100*(H28/E28))","v":""}]
[]
[null,null,null,null,null,"Average % Acid Insoluble:",null,null,{"$f":"IF(ISERROR(AVERAGE(I26:I28)),0,AVERAGE(I26:I28))","v":0}]
[]
[]
[]
[]
[null,"Remarks:",null,{"$f":"NOW()","v":"2024-06-20T09:07:53.200"}]
[]
[]
[]
[]
[null,"Sample Method:",null,"Sampled By:",null,null,"Sampled Date:"]
[null,"TX400"]
[null,"Test Method:",null,"Tested By:",null,null,"Tested Date:"]
[null,"TX612"]
[null,"Test Stamp Code:",null,null,null,"Omit Test:","Completed Date:","Reviewed By:"]
[]
[null,"Locked By:",null,"TxDOT:","District:","Area:"]
[]
[null,"Authorized By:",null,null,null,"Authorized Date:"]

{"sheet":"RX","index":1,"n_rows":30,"n_cols":9,"rows_kept":30,"cut":false,"hidden":true,"merged":[]}
[28]
["Fld_nbr","Value","Desc_1","Desc_2","Desc_3","Desc_4","Desc_5","Desc_6","Desc_7"]
[1,{"$f":"IF('Tex-612-J'!$B$36=\"\",\"\",'Tex-612-J'!$B$36)","v":""},{"$f":"'Tex-612-J'!$B$35","v":"Remarks:"}]
[2,{"$f":"IF('Tex-612-J'!$E$19=\"\",\"\",'Tex-612-J'!$E$19)","v":""},{"$f":"IF('Tex-612-J'!$D$19=\"\",\"\",'Tex-612-J'!$D$19)","v":"COURSE\\LIFT:"}]
[3,{"$f":"IF('Tex-612-J'!$D$43=\"\",\"\",'Tex-612-J'!$D$43)","v":""},"Tested By ",{"$f":"IF('Tex-612-J'!$B$43=\"\",\"\",'Tex-612-J'!$B$43)","v":"TX612"}]
[4,{"$f":"IF('Tex-612-J'!$G$43=\"\",\"\",'Tex-612-J'!$G$43)","v":""},"Tested Date ",{"$f":"IF('Tex-612-J'!$B$43=\"\",\"\",'Tex-612-J'!$B$43)","v":"TX612"}]
[5,{"$f":"IF('Tex-612-J'!$C$26=\"\",\"\",'Tex-612-J'!$C$26)","v":""},{"$f":"IF('Tex-612-J'!$B$6=\"\",\"\",'Tex-612-J'!$B$6)","v":"Tex-612-J"},{"$f":"IF('Tex-612-J'!$C$24=\"\",\"\",'Tex-612-J'!$C$24)","v":"Sample Number"},{"$f":"IF('Tex-612-J'!$B$24=\"\",\"\",'Tex-612-J'!$B$24)","v":"SET"},{"$f":"IF('Tex-612-J'!$B$26=\"\",\"\",'Tex-612-J'!$B$26)","v":1}]
[6,{"$f":"IF('Tex-612-J'!$D$26=\"\",\"\",'Tex-612-J'!$D$26)","v":""},{"$f":"IF('Tex-612-J'!$B$6=\"\",\"\",'Tex-612-J'!$B$6)","v":"Tex-612-J"},{"$f":"IF('Tex-612-J'!$D$24=\"\",\"\",'Tex-612-J'!$D$24)","v":"Dish Number"},{"$f":"IF('Tex-612-J'!$B$24=\"\",\"\",'Tex-612-J'!$B$24)","v":"SET"},{"$f":"IF('Tex-612-J'!$B$26=\"\",\"\",'Tex-612-J'!$B$26)","v":1}]
[7,{"$f":"IF('Tex-612-J'!$E$26=\"\",\"\",'Tex-612-J'!$E$26)","v":""},{"$f":"IF('Tex-612-J'!$B$6=\"\",\"\",'Tex-612-J'!$B$6)","v":"Tex-612-J"},{"$f":"IF('Tex-612-J'!$E$24=\"\",\"\",'Tex-612-J'!$E$24)","v":"Sample Weight"},{"$f":"IF('Tex-612-J'!$B$24=\"\",\"\",'Tex-612-J'!$B$24)","v":"SET"},{"$f":"IF('Tex-612-J'!$B$26=\"\",\"\",'Tex-612-J'!$B$26)","v":1}]
[8,{"$f":"IF('Tex-612-J'!$F$26=\"\",\"\",'Tex-612-J'!$F$26)","v":""},{"$f":"IF('Tex-612-J'!$B$6=\"\",\"\",'Tex-612-J'!$B$6)","v":"Tex-612-J"},{"$f":"IF('Tex-612-J'!$F$24=\"\",\"\",'Tex-612-J'!$F$24)","v":"Weight of Filter and Residue"},{"$f":"IF('Tex-612-J'!$B$24=\"\",\"\",'Tex-612-J'!$B$24)","v":"SET"},{"$f":"IF('Tex-612-J'!$B$26=\"\",\"\",'Tex-612-J'!$B$26)","v":1}]
[9,{"$f":"IF('Tex-612-J'!$G$26=\"\",\"\",'Tex-612-J'!$G$26)","v":""},{"$f":"IF('Tex-612-J'!$B$6=\"\",\"\",'Tex-612-J'!$B$6)","v":"Tex-612-J"},{"$f":"IF('Tex-612-J'!$G$24=\"\",\"\",'Tex-612-J'!$G$24)","v":"Weight of Filter"},{"$f":"IF('Tex-612-J'!$B$24=\"\",\"\",'Tex-612-J'!$B$24)","v":"SET"},{"$f":"IF('Tex-612-J'!$B$26=\"\",\"\",'Tex-612-J'!$B$26)","v":1}]
[10,{"$f":"IF('Tex-612-J'!$H$26=\"\",\"\",'Tex-612-J'!$H$26)","v":""},{"$f":"IF('Tex-612-J'!$B$6=\"\",\"\",'Tex-612-J'!$B$6)","v":"Tex-612-J"},{"$f":"IF('Tex-612-J'!$H$24=\"\",\"\",'Tex-612-J'!$H$24)","v":"Weight of Residue"},{"$f":"IF('Tex-612-J'!$B$24=\"\",\"\",'Tex-612-J'!$B$24)","v":"SET"},{"$f":"IF('Tex-612-J'!$B$26=\"\",\"\",'Tex-612-J'!$B$26)","v":1}]
[11,{"$f":"IF('Tex-612-J'!$I$26=\"\",\"\",'Tex-612-J'!$I$26)","v":""},{"$f":"IF('Tex-612-J'!$B$6=\"\",\"\",'Tex-612-J'!$B$6)","v":"Tex-612-J"},{"$f":"IF('Tex-612-J'!$I$24=\"\",\"\",'Tex-612-J'!$I$24)","v":"% Acid Insoluble"},{"$f":"IF('Tex-612-J'!$B$24=\"\",\"\",'Tex-612-J'!$B$24)","v":"SET"},{"$f":"IF('Tex-612-J'!$B$26=\"\",\"\",'Tex-612-J'!$B$26)","v":1}]
[12,{"$f":"IF('Tex-612-J'!$C$27=\"\",\"\",'Tex-612-J'!$C$27)","v":""},{"$f":"IF('Tex-612-J'!$B$6=\"\",\"\",'Tex-612-J'!$B$6)","v":"Tex-612-J"},{"$f":"IF('Tex-612-J'!$C$24=\"\",\"\",'Tex-612-J'!$C$24)","v":"Sample Number"},{"$f":"IF('Tex-612-J'!$B$24=\"\",\"\",'Tex-612-J'!$B$24)","v":"SET"},{"$f":"IF('Tex-612-J'!$B$27=\"\",\"\",'Tex-612-J'!$B$27)","v":2}]
[13,{"$f":"IF('Tex-612-J'!$D$27=\"\",\"\",'Tex-612-J'!$D$27)","v":""},{"$f":"IF('Tex-612-J'!$B$6=\"\",\"\",'Tex-612-J'!$B$6)","v":"Tex-612-J"},{"$f":"IF('Tex-612-J'!$D$24=\"\",\"\",'Tex-612-J'!$D$24)","v":"Dish Number"},{"$f":"IF('Tex-612-J'!$B$24=\"\",\"\",'Tex-612-J'!$B$24)","v":"SET"},{"$f":"IF('Tex-612-J'!$B$27=\"\",\"\",'Tex-612-J'!$B$27)","v":2}]
[14,{"$f":"IF('Tex-612-J'!$E$27=\"\",\"\",'Tex-612-J'!$E$27)","v":""},{"$f":"IF('Tex-612-J'!$B$6=\"\",\"\",'Tex-612-J'!$B$6)","v":"Tex-612-J"},{"$f":"IF('Tex-612-J'!$E$24=\"\",\"\",'Tex-612-J'!$E$24)","v":"Sample Weight"},{"$f":"IF('Tex-612-J'!$B$24=\"\",\"\",'Tex-612-J'!$B$24)","v":"SET"},{"$f":"IF('Tex-612-J'!$B$27=\"\",\"\",'Tex-612-J'!$B$27)","v":2}]
[15,{"$f":"IF('Tex-612-J'!$F$27=\"\",\"\",'Tex-612-J'!$F$27)","v":""},{"$f":"IF('Tex-612-J'!$B$6=\"\",\"\",'Tex-612-J'!$B$6)","v":"Tex-612-J"},{"$f":"IF('Tex-612-J'!$F$24=\"\",\"\",'Tex-612-J'!$F$24)","v":"Weight of Filter and Residue"},{"$f":"IF('Tex-612-J'!$B$24=\"\",\"\",'Tex-612-J'!$B$24)","v":"SET"},{"$f":"IF('Tex-612-J'!$B$27=\"\",\"\",'Tex-612-J'!$B$27)","v":2}]
[16,{"$f":"IF('Tex-612-J'!$G$27=\"\",\"\",'Tex-612-J'!$G$27)","v":""},{"$f":"IF('Tex-612-J'!$B$6=\"\",\"\",'Tex-612-J'!$B$6)","v":"Tex-612-J"},{"$f":"IF('Tex-612-J'!$G$24=\"\",\"\",'Tex-612-J'!$G$24)","v":"Weight of Filter"},{"$f":"IF('Tex-612-J'!$B$24=\"\",\"\",'Tex-612-J'!$B$24)","v":"SET"},{"$f":"IF('Tex-612-J'!$B$27=\"\",\"\",'Tex-612-J'!$B$27)","v":2}]
[17,{"$f":"IF('Tex-612-J'!$H$27=\"\",\"\",'Tex-612-J'!$H$27)","v":""},{"$f":"IF('Tex-612-J'!$B$6=\"\",\"\",'Tex-612-J'!$B$6)","v":"Tex-612-J"},{"$f":"IF('Tex-612-J'!$H$24=\"\",\"\",'Tex-612-J'!$H$24)","v":"Weight of Residue"},{"$f":"IF('Tex-612-J'!$B$24=\"\",\"\",'Tex-612-J'!$B$24)","v":"SET"},{"$f":"IF('Tex-612-J'!$B$27=\"\",\"\",'Tex-612-J'!$B$27)","v":2}]
[18,{"$f":"IF('Tex-612-J'!$I$27=\"\",\"\",'Tex-612-J'!$I$27)","v":""},{"$f":"IF('Tex-612-J'!$B$6=\"\",\"\",'Tex-612-J'!$B$6)","v":"Tex-612-J"},{"$f":"IF('Tex-612-J'!$I$24=\"\",\"\",'Tex-612-J'!$I$24)","v":"% Acid Insoluble"},{"$f":"IF('Tex-612-J'!$B$24=\"\",\"\",'Tex-612-J'!$B$24)","v":"SET"},{"$f":"IF('Tex-612-J'!$B$27=\"\",\"\",'Tex-612-J'!$B$27)","v":2}]
[19,{"$f":"IF('Tex-612-J'!$C$28=\"\",\"\",'Tex-612-J'!$C$28)","v":""},{"$f":"IF('Tex-612-J'!$B$6=\"\",\"\",'Tex-612-J'!$B$6)","v":"Tex-612-J"},{"$f":"IF('Tex-612-J'!$C$24=\"\",\"\",'Tex-612-J'!$C$24)","v":"Sample Number"},{"$f":"IF('Tex-612-J'!$B$24=\"\",\"\",'Tex-612-J'!$B$24)","v":"SET"},{"$f":"IF('Tex-612-J'!$B$28=\"\",\"\",'Tex-612-J'!$B$28)","v":3}]
[20,{"$f":"IF('Tex-612-J'!$D$28=\"\",\"\",'Tex-612-J'!$D$28)","v":""},{"$f":"IF('Tex-612-J'!$B$6=\"\",\"\",'Tex-612-J'!$B$6)","v":"Tex-612-J"},{"$f":"IF('Tex-612-J'!$D$24=\"\",\"\",'Tex-612-J'!$D$24)","v":"Dish Number"},{"$f":"IF('Tex-612-J'!$B$24=\"\",\"\",'Tex-612-J'!$B$24)","v":"SET"},{"$f":"IF('Tex-612-J'!$B$28=\"\",\"\",'Tex-612-J'!$B$28)","v":3}]
[21,{"$f":"IF('Tex-612-J'!$E$28=\"\",\"\",'Tex-612-J'!$E$28)","v":""},{"$f":"IF('Tex-612-J'!$B$6=\"\",\"\",'Tex-612-J'!$B$6)","v":"Tex-612-J"},{"$f":"IF('Tex-612-J'!$E$24=\"\",\"\",'Tex-612-J'!$E$24)","v":"Sample Weight"},{"$f":"IF('Tex-612-J'!$B$24=\"\",\"\",'Tex-612-J'!$B$24)","v":"SET"},{"$f":"IF('Tex-612-J'!$B$28=\"\",\"\",'Tex-612-J'!$B$28)","v":3}]
[22,{"$f":"IF('Tex-612-J'!$F$28=\"\",\"\",'Tex-612-J'!$F$28)","v":""},{"$f":"IF('Tex-612-J'!$B$6=\"\",\"\",'Tex-612-J'!$B$6)","v":"Tex-612-J"},{"$f":"IF('Tex-612-J'!$F$24=\"\",\"\",'Tex-612-J'!$F$24)","v":"Weight of Filter and Residue"},{"$f":"IF('Tex-612-J'!$B$24=\"\",\"\",'Tex-612-J'!$B$24)","v":"SET"},{"$f":"IF('Tex-612-J'!$B$28=\"\",\"\",'Tex-612-J'!$B$28)","v":3}]
[23,{"$f":"IF('Tex-612-J'!$G$28=\"\",\"\",'Tex-612-J'!$G$28)","v":""},{"$f":"IF('Tex-612-J'!$B$6=\"\",\"\",'Tex-612-J'!$B$6)","v":"Tex-612-J"},{"$f":"IF('Tex-612-J'!$G$24=\"\",\"\",'Tex-612-J'!$G$24)","v":"Weight of Filter"},{"$f":"IF('Tex-612-J'!$B$24=\"\",\"\",'Tex-612-J'!$B$24)","v":"SET"},{"$f":"IF('Tex-612-J'!$B$28=\"\",\"\",'Tex-612-J'!$B$28)","v":3}]
[24,{"$f":"IF('Tex-612-J'!$H$28=\"\",\"\",'Tex-612-J'!$H$28)","v":""},{"$f":"IF('Tex-612-J'!$B$6=\"\",\"\",'Tex-612-J'!$B$6)","v":"Tex-612-J"},{"$f":"IF('Tex-612-J'!$H$24=\"\",\"\",'Tex-612-J'!$H$24)","v":"Weight of Residue"},{"$f":"IF('Tex-612-J'!$B$24=\"\",\"\",'Tex-612-J'!$B$24)","v":"SET"},{"$f":"IF('Tex-612-J'!$B$28=\"\",\"\",'Tex-612-J'!$B$28)","v":3}]
[25,{"$f":"IF('Tex-612-J'!$I$28=\"\",\"\",'Tex-612-J'!$I$28)","v":""},{"$f":"IF('Tex-612-J'!$B$6=\"\",\"\",'Tex-612-J'!$B$6)","v":"Tex-612-J"},{"$f":"IF('Tex-612-J'!$I$24=\"\",\"\",'Tex-612-J'!$I$24)","v":"% Acid Insoluble"},{"$f":"IF('Tex-612-J'!$B$24=\"\",\"\",'Tex-612-J'!$B$24)","v":"SET"},{"$f":"IF('Tex-612-J'!$B$28=\"\",\"\",'Tex-612-J'!$B$28)","v":3}]
[26,{"$f":"IF('Tex-612-J'!$I$30=\"\",\"\",'Tex-612-J'!$I$30)","v":0},{"$f":"IF('Tex-612-J'!$B$6=\"\",\"\",'Tex-612-J'!$B$6)","v":"Tex-612-J"},{"$f":"IF('Tex-612-J'!$F$30=\"\",\"\",'Tex-612-J'!$F$30)","v":"Average % Acid Insoluble:"}]
[27,{"$f":"IF('Tex-612-J'!$D$41=\"\",\"\",'Tex-612-J'!$D$41)","v":""},"Tested By ",{"$f":"IF('Tex-612-J'!$B$41=\"\",\"\",'Tex-612-J'!$B$41)","v":"TX400"}]
[28,{"$f":"IF('Tex-612-J'!$G$41=\"\",\"\",'Tex-612-J'!$G$41)","v":""},"Tested Date ",{"$f":"IF('Tex-612-J'!$B$41=\"\",\"\",'Tex-612-J'!$B$41)","v":"TX400"}]