{"text_format":"1","workbook":"xlsx","n_sheets":2,"sheets":["Tx712","RX"],"not_rendered":{"charts":0,"images":1,"macros":1,"external_links":1,"defined_names":92,"comments":1,"pivot_tables":0},"unopened":[],"bounds":{"document_bytes":16777216,"sheet_cells":100000,"rows_first":2000,"rows_last":500,"rows_between":2000,"halvings":0,"cell_chars":16384,"cell_head_chars":4096},"cells_cut":0,"cells_raw":0,"read":"whole","date_system":"1900"}

{"sheet":"Tx712","index":0,"n_rows":51,"n_cols":11,"rows_kept":51,"cut":false,"hidden":false,"merged":[[40,1,41,8],[43,1,43,8],[14,3,14,8],[9,7,9,8],[9,3,9,4],[11,7,11,8],[16,3,16,4],[11,3,11,4],[15,3,15,8],[16,7,16,8],[42,1,42,8],[21,3,21,5],[21,1,21,2],[36,2,36,3],[0,0,0,1],[12,7,12,8],[12,3,12,4],[13,3,13,4],[13,7,13,8],[7,7,7,8],[10,7,10,8],[7,3,7,4],[10,3,10,4],[8,3,8,4],[8,7,8,8],[51,1,51,3],[47,6,47,8],[45,2,45,4],[44,2,44,4],[47,1,47,3]]}
["TxDOT Manuals >"]
[null,"TEXAS DEPARTMENT OF TRANSPORTATION",null,null,null,null,null,null,null,null,44]
[null,null,null,null,null,null,null,null,null,null,1]
[null,null,null,null,null,null,null,null,null,null,"tx712.xlsm::45821.448426"]
[null,"TEX-712-I: MULTIPLE - PIECE TIE BARS FOR CONCRETE PAVEMENT"]
[]
[null,null,null,null,null,null,null,null,{"$f":"\"File Version: \" & TEXT(MID(sn,SEARCH(\"::\",sn,1)+2,20),\"mm/dd/yy hh:mm:ss\")","v":"File Version: 06/13/25 10:45:44"}]
[null,null,"SAMPLE ID:",null,null,null,"SAMPLED DATE:"]
[null,null,"TEST NUMBER:",null,null,null,"LETTING DATE:"]
[null,null,"SAMPLE STATUS:",null,null,null,"CONTROLLING CSJ:"]
[null,null,"COUNTY:",null,null,null,"SPEC YEAR:"]
[null,null,"SAMPLED BY:",null,null,null,"SPEC ITEM:"]
[null,null,"SAMPLE LOCATION:",null,null,null,"SPECIAL PROVISION:"]
[null,null,"MATERIAL CODE:",null,null,null,"GRADE:"]
[null,null,"MATERIAL NAME:"]
[null,null,"PRODUCER:"]
[null,null,"AREA ENGINEER:",null,null,null,"PROJECT MANAGER:"]
[]
[null,null,"COURSE\\LIFT:",null,"STATION:",null,null,"DIST. FROM CL:"]
[]
[null,"Sample Type:",null,"Grade of Steel:",null,"Lot Size:",null,"Bar Size:"]
[null,"Visible Die Stamping:"]
[]
[null,"Ultimate Tensile Strength Results"]
[null,"Specimen No.","Ultimate Tensile Load\n(lbs)","Ultimate Tensile Strength\n(psi)","Percent of Nominal Yield\n(%)","Break Location","Quality of Die Stamp","Meets Specs?"]
[null,1,null,{"$f":"IF(ISBLANK(C26), \"\", IF($I$21=4, ROUND(C26/0.2, 1), IF($I$21=5, ROUND(C26/0.31, 1), IF($I$21=6, ROUND(C26/0.44, 1), IF($I$21=7, ROUND(C26/0.6, 1), \"\")))))","v":""},{"$f":"IF(D26=\"\", \"\", IF($E$21=60, ROUND(D26*100/60000, 1), IF($E$21=75, ROUND(D26*100/75000, 1), IF($E$21=80, ROUND(D26*100/80000,1), \"\"))))","v":""},null,null,{"$f":"IF(E26=\"\",\"\", IF(E26>=125, \"Yes\", \"No\"))","v":""}]
[null,2,null,{"$f":"IF(ISBLANK(C27), \"\", IF($I$21=4, ROUND(C27/0.2, 1), IF($I$21=5, ROUND(C27/0.31, 1), IF($I$21=6, ROUND(C27/0.44, 1), IF($I$21=7, ROUND(C27/0.6, 1), \"\")))))","v":""},{"$f":"IF(D27=\"\", \"\", IF($E$21=60, ROUND(D27*100/60000, 1), IF($E$21=75, ROUND(D27*100/75000, 1), IF($E$21=80, ROUND(D27*100/80000,1), \"\"))))","v":""},null,null,{"$f":"IF(E27=\"\",\"\", IF(E27>=125, \"Yes\", \"No\"))","v":""}]
[null,3,null,"","",null,null,""]
[null,4,null,"","",null,null,""]
[null,5,null,"","",null,null,""]
[null,6,null,"","",null,null,""]
[null,7,null,"","",null,null,""]
[null,8,null,"","",null,null,""]
[null,9,null,"","",null,null,""]
[null,10,null,"","",null,null,""]
[]
[null,null,"Sample meets specs?",null,{"$f":"IF(ISBLANK(C21), \"\", IF(ISBLANK(C26), \"\", IF(C21=\"Initial Test\", IF(COUNTIF(H26:H35, \"Yes\")>=9, \"Yes\", \"No\"), IF(C21=\"Retest\", IF(COUNTIF(H26:H35, \"Yes\")<10, \"No\", \"Yes\")))))","v":""}]
[]
[]
[null,"Remarks:",{"$f":"NOW()","v":"2025-06-13T14:26:47.890"}]
[]
[]
[]
[]
[null,"Test Method:","Tested By:",null,null,"Tested Date:"]
[null,"TX712"]
[null,"Test Stamp Code:",null,null,"Omit Test:","Completed Date:","Reviewed By:"]
[]
[null,"Locked By:","TxDOT:","District:","Area:"]
[]
[null,"Authorized By:",null,null,"Authorized Date:"]

{"sheet":"RX","index":1,"n_rows":72,"n_cols":9,"rows_kept":72,"cut":false,"hidden":false,"merged":[]}
[86]
["Fld_nbr","Value","Desc_1","Desc_2","Desc_3","Desc_4","Desc_5","Desc_6","Desc_7"]
[1,{"$f":"IF('Tx712'!$B$41=\"\",\"\",'Tx712'!$B$41)","v":""},{"$f":"IF('Tx712'!B40=\"\",\"\",'Tx712'!B40)","v":"Remarks:"}]
[2,{"$f":"IF('Tx712'!$D$19=\"\",\"\",'Tx712'!$D$19)","v":""},{"$f":"IF('Tx712'!C19=\"\",\"\",'Tx712'!C19)","v":"COURSE\\LIFT:"}]
[3,{"$f":"IF('Tx712'!$C$46=\"\",\"\",'Tx712'!$C$46)","v":""},"Tested By ",{"$f":"test1","v":"TX712"}]
[4,{"$f":"IF('Tx712'!$F$46=\"\",\"\",'Tx712'!$F$46)","v":""},"Tested Date ",{"$f":"test1","v":"TX712"}]
[5,{"$f":"IF('Tx712'!$C$21=\"\",\"\",'Tx712'!$C$21)","v":""},{"$f":"'Tx712'!$B$5","v":"TEX-712-I: MULTIPLE - PIECE TIE BARS FOR CONCRETE PAVEMENT"},{"$f":"'Tx712'!$B$21","v":"Sample Type:"}]
[6,{"$f":"IF('Tx712'!$E$21=\"\", \"\", 'Tx712'!$E$21)","v":""},{"$f":"'Tx712'!$B$5","v":"TEX-712-I: MULTIPLE - PIECE TIE BARS FOR CONCRETE PAVEMENT"},{"$f":"'Tx712'!$D$21","v":"Grade of Steel:"}]
[7,{"$f":"IF('Tx712'!$G$21=\"\", \"\", 'Tx712'!$G$21)","v":""},{"$f":"'Tx712'!$B$5","v":"TEX-712-I: MULTIPLE - PIECE TIE BARS FOR CONCRETE PAVEMENT"},{"$f":"'Tx712'!$F$21","v":"Lot Size:"}]
[8,{"$f":"IF('Tx712'!$I$21=\"\", \"\", 'Tx712'!$I$21)","v":""},{"$f":"'Tx712'!$B$5","v":"TEX-712-I: MULTIPLE - PIECE TIE BARS FOR CONCRETE PAVEMENT"},{"$f":"'Tx712'!$H$21","v":"Bar Size:"}]
[9,{"$f":"IF('Tx712'!$D$22=\"\", \"\", 'Tx712'!$D$22)","v":""},{"$f":"'Tx712'!$B$5","v":"TEX-712-I: MULTIPLE - PIECE TIE BARS FOR CONCRETE PAVEMENT"},{"$f":"'Tx712'!$B$22","v":"Visible Die Stamping:"}]
[10,{"$f":"IF('Tx712'!C26=\"\", \"\", 'Tx712'!C26)","v":""},{"$f":"'Tx712'!$B$5","v":"TEX-712-I: MULTIPLE - PIECE TIE BARS FOR CONCRETE PAVEMENT"},{"$f":"'Tx712'!$B$24","v":"Ultimate Tensile Strength Results"},{"$f":"'Tx712'!$C$25","v":"Ultimate Tensile Load\n(lbs)"},{"$f":"'Tx712'!$B26","v":1}]
[11,{"$f":"IF('Tx712'!C27=\"\", \"\", 'Tx712'!C27)","v":""},{"$f":"'Tx712'!$B$5","v":"TEX-712-I: MULTIPLE - PIECE TIE BARS FOR CONCRETE PAVEMENT"},{"$f":"'Tx712'!$B$24","v":"Ultimate Tensile Strength Results"},{"$f":"'Tx712'!$C$25","v":"Ultimate Tensile Load\n(lbs)"},{"$f":"'Tx712'!$B27","v":2}]
[12,{"$f":"IF('Tx712'!C28=\"\", \"\", 'Tx712'!C28)","v":""},{"$f":"'Tx712'!$B$5","v":"TEX-712-I: MULTIPLE - PIECE TIE BARS FOR CONCRETE PAVEMENT"},{"$f":"'Tx712'!$B$24","v":"Ultimate Tensile Strength Results"},{"$f":"'Tx712'!$C$25","v":"Ultimate Tensile Load\n(lbs)"},{"$f":"'Tx712'!$B28","v":3}]
[13,{"$f":"IF('Tx712'!C29=\"\", \"\", 'Tx712'!C29)","v":""},{"$f":"'Tx712'!$B$5","v":"TEX-712-I: MULTIPLE - PIECE TIE BARS FOR CONCRETE PAVEMENT"},{"$f":"'Tx712'!$B$24","v":"Ultimate Tensile Strength Results"},{"$f":"'Tx712'!$C$25","v":"Ultimate Tensile Load\n(lbs)"},{"$f":"'Tx712'!$B29","v":4}]
[14,{"$f":"IF('Tx712'!C30=\"\", \"\", 'Tx712'!C30)","v":""},{"$f":"'Tx712'!$B$5","v":"TEX-712-I: MULTIPLE - PIECE TIE BARS FOR CONCRETE PAVEMENT"},{"$f":"'Tx712'!$B$24","v":"Ultimate Tensile Strength Results"},{"$f":"'Tx712'!$C$25","v":"Ultimate Tensile Load\n(lbs)"},{"$f":"'Tx712'!$B30","v":5}]
[15,{"$f":"IF('Tx712'!C31=\"\", \"\", 'Tx712'!C31)","v":""},{"$f":"'Tx712'!$B$5","v":"TEX-712-I: MULTIPLE - PIECE TIE BARS FOR CONCRETE PAVEMENT"},{"$f":"'Tx712'!$B$24","v":"Ultimate Tensile Strength Results"},{"$f":"'Tx712'!$C$25","v":"Ultimate Tensile Load\n(lbs)"},{"$f":"'Tx712'!$B31","v":6}]
[16,{"$f":"IF('Tx712'!C32=\"\", \"\", 'Tx712'!C32)","v":""},{"$f":"'Tx712'!$B$5","v":"TEX-712-I: MULTIPLE - PIECE TIE BARS FOR CONCRETE PAVEMENT"},{"$f":"'Tx712'!$B$24","v":"Ultimate Tensile Strength Results"},{"$f":"'Tx712'!$C$25","v":"Ultimate Tensile Load\n(lbs)"},{"$f":"'Tx712'!$B32","v":7}]
[17,{"$f":"IF('Tx712'!C33=\"\", \"\", 'Tx712'!C33)","v":""},{"$f":"'Tx712'!$B$5","v":"TEX-712-I: MULTIPLE - PIECE TIE BARS FOR CONCRETE PAVEMENT"},{"$f":"'Tx712'!$B$24","v":"Ultimate Tensile Strength Results"},{"$f":"'Tx712'!$C$25","v":"Ultimate Tensile Load\n(lbs)"},{"$f":"'Tx712'!$B33","v":8}]
[18,{"$f":"IF('Tx712'!C34=\"\", \"\", 'Tx712'!C34)","v":""},{"$f":"'Tx712'!$B$5","v":"TEX-712-I: MULTIPLE - PIECE TIE BARS FOR CONCRETE PAVEMENT"},{"$f":"'Tx712'!$B$24","v":"Ultimate Tensile Strength Results"},{"$f":"'Tx712'!$C$25","v":"Ultimate Tensile Load\n(lbs)"},{"$f":"'Tx712'!$B34","v":9}]
[19,{"$f":"IF('Tx712'!C35=\"\", \"\", 'Tx712'!C35)","v":""},{"$f":"'Tx712'!$B$5","v":"TEX-712-I: MULTIPLE - PIECE TIE BARS FOR CONCRETE PAVEMENT"},{"$f":"'Tx712'!$B$24","v":"Ultimate Tensile Strength Results"},{"$f":"'Tx712'!$C$25","v":"Ultimate Tensile Load\n(lbs)"},{"$f":"'Tx712'!$B35","v":10}]
[20,{"$f":"IF('Tx712'!D26=\"\", \"\", 'Tx712'!D26)","v":""},{"$f":"'Tx712'!$B$5","v":"TEX-712-I: MULTIPLE - PIECE TIE BARS FOR CONCRETE PAVEMENT"},{"$f":"'Tx712'!$B$24","v":"Ultimate Tensile Strength Results"},{"$f":"'Tx712'!$D$25","v":"Ultimate Tensile Strength\n(psi)"},{"$f":"'Tx712'!$B26","v":1}]
[21,{"$f":"IF('Tx712'!D27=\"\", \"\", 'Tx712'!D27)","v":""},{"$f":"'Tx712'!$B$5","v":"TEX-712-I: MULTIPLE - PIECE TIE BARS FOR CONCRETE PAVEMENT"},{"$f":"'Tx712'!$B$24","v":"Ultimate Tensile Strength Results"},{"$f":"'Tx712'!$D$25","v":"Ultimate Tensile Strength\n(psi)"},{"$f":"'Tx712'!$B27","v":2}]
[22,{"$f":"IF('Tx712'!D28=\"\", \"\", 'Tx712'!D28)","v":""},{"$f":"'Tx712'!$B$5","v":"TEX-712-I: MULTIPLE - PIECE TIE BARS FOR CONCRETE PAVEMENT"},{"$f":"'Tx712'!$B$24","v":"Ultimate Tensile Strength Results"},{"$f":"'Tx712'!$D$25","v":"Ultimate Tensile Strength\n(psi)"},{"$f":"'Tx712'!$B28","v":3}]
[23,{"$f":"IF('Tx712'!D29=\"\", \"\", 'Tx712'!D29)","v":""},{"$f":"'Tx712'!$B$5","v":"TEX-712-I: MULTIPLE - PIECE TIE BARS FOR CONCRETE PAVEMENT"},{"$f":"'Tx712'!$B$24","v":"Ultimate Tensile Strength Results"},{"$f":"'Tx712'!$D$25","v":"Ultimate Tensile Strength\n(psi)"},{"$f":"'Tx712'!$B29","v":4}]
[24,{"$f":"IF('Tx712'!D30=\"\", \"\", 'Tx712'!D30)","v":""},{"$f":"'Tx712'!$B$5","v":"TEX-712-I: MULTIPLE - PIECE TIE BARS FOR CONCRETE PAVEMENT"},{"$f":"'Tx712'!$B$24","v":"Ultimate Tensile Strength Results"},{"$f":"'Tx712'!$D$25","v":"Ultimate Tensile Strength\n(psi)"},{"$f":"'Tx712'!$B30","v":5}]
[25,{"$f":"IF('Tx712'!D31=\"\", \"\", 'Tx712'!D31)","v":""},{"$f":"'Tx712'!$B$5","v":"TEX-712-I: MULTIPLE - PIECE TIE BARS FOR CONCRETE PAVEMENT"},{"$f":"'Tx712'!$B$24","v":"Ultimate Tensile Strength Results"},{"$f":"'Tx712'!$D$25","v":"Ultimate Tensile Strength\n(psi)"},{"$f":"'Tx712'!$B31","v":6}]
[26,{"$f":"IF('Tx712'!D32=\"\", \"\", 'Tx712'!D32)","v":""},{"$f":"'Tx712'!$B$5","v":"TEX-712-I: MULTIPLE - PIECE TIE BARS FOR CONCRETE PAVEMENT"},{"$f":"'Tx712'!$B$24","v":"Ultimate Tensile Strength Results"},{"$f":"'Tx712'!$D$25","v":"Ultimate Tensile Strength\n(psi)"},{"$f":"'Tx712'!$B32","v":7}]
[27,{"$f":"IF('Tx712'!D33=\"\", \"\", 'Tx712'!D33)","v":""},{"$f":"'Tx712'!$B$5","v":"TEX-712-I: MULTIPLE - PIECE TIE BARS FOR CONCRETE PAVEMENT"},{"$f":"'Tx712'!$B$24","v":"Ultimate Tensile Strength Results"},{"$f":"'Tx712'!$D$25","v":"Ultimate Tensile Strength\n(psi)"},{"$f":"'Tx712'!$B33","v":8}]
[28,{"$f":"IF('Tx712'!D34=\"\", \"\", 'Tx712'!D34)","v":""},{"$f":"'Tx712'!$B$5","v":"TEX-712-I: MULTIPLE - PIECE TIE BARS FOR CONCRETE PAVEMENT"},{"$f":"'Tx712'!$B$24","v":"Ultimate Tensile Strength Results"},{"$f":"'Tx712'!$D$25","v":"Ultimate Tensile Strength\n(psi)"},{"$f":"'Tx712'!$B34","v":9}]
[29,{"$f":"IF('Tx712'!D35=\"\", \"\", 'Tx712'!D35)","v":""},{"$f":"'Tx712'!$B$5","v":"TEX-712-I: MULTIPLE - PIECE TIE BARS FOR CONCRETE PAVEMENT"},{"$f":"'Tx712'!$B$24","v":"Ultimate Tensile Strength Results"},{"$f":"'Tx712'!$D$25","v":"Ultimate Tensile Strength\n(psi)"},{"$f":"'Tx712'!$B35","v":10}]
[30,{"$f":"IF('Tx712'!E26=\"\", \"\", 'Tx712'!E26)","v":""},{"$f":"'Tx712'!$B$5","v":"TEX-712-I: MULTIPLE - PIECE TIE BARS FOR CONCRETE PAVEMENT"},{"$f":"'Tx712'!$B$24","v":"Ultimate Tensile Strength Results"},{"$f":"'Tx712'!$E$25","v":"Percent of Nominal Yield\n(%)"},{"$f":"'Tx712'!$B26","v":1}]
[31,{"$f":"IF('Tx712'!E27=\"\", \"\", 'Tx712'!E27)","v":""},{"$f":"'Tx712'!$B$5","v":"TEX-712-I: MULTIPLE - PIECE TIE BARS FOR CONCRETE PAVEMENT"},{"$f":"'Tx712'!$B$24","v":"Ultimate Tensile Strength Results"},{"$f":"'Tx712'!$E$25","v":"Percent of Nominal Yield\n(%)"},{"$f":"'Tx712'!$B27","v":2}]
[32,{"$f":"IF('Tx712'!E28=\"\", \"\", 'Tx712'!E28)","v":""},{"$f":"'Tx712'!$B$5","v":"TEX-712-I: MULTIPLE - PIECE TIE BARS FOR CONCRETE PAVEMENT"},{"$f":"'Tx712'!$B$24","v":"Ultimate Tensile Strength Results"},{"$f":"'Tx712'!$E$25","v":"Percent of Nominal Yield\n(%)"},{"$f":"'Tx712'!$B28","v":3}]
[33,{"$f":"IF('Tx712'!E29=\"\", \"\", 'Tx712'!E29)","v":""},{"$f":"'Tx712'!$B$5","v":"TEX-712-I: MULTIPLE - PIECE TIE BARS FOR CONCRETE PAVEMENT"},{"$f":"'Tx712'!$B$24","v":"Ultimate Tensile Strength Results"},{"$f":"'Tx712'!$E$25","v":"Percent of Nominal Yield\n(%)"},{"$f":"'Tx712'!$B29","v":4}]
[34,{"$f":"IF('Tx712'!E30=\"\", \"\", 'Tx712'!E30)","v":""},{"$f":"'Tx712'!$B$5","v":"TEX-712-I: MULTIPLE - PIECE TIE BARS FOR CONCRETE PAVEMENT"},{"$f":"'Tx712'!$B$24","v":"Ultimate Tensile Strength Results"},{"$f":"'Tx712'!$E$25","v":"Percent of Nominal Yield\n(%)"},{"$f":"'Tx712'!$B30","v":5}]
[35,{"$f":"IF('Tx712'!E31=\"\", \"\", 'Tx712'!E31)","v":""},{"$f":"'Tx712'!$B$5","v":"TEX-712-I: MULTIPLE - PIECE TIE BARS FOR CONCRETE PAVEMENT"},{"$f":"'Tx712'!$B$24","v":"Ultimate Tensile Strength Results"},{"$f":"'Tx712'!$E$25","v":"Percent of Nominal Yield\n(%)"},{"$f":"'Tx712'!$B31","v":6}]
[36,{"$f":"IF('Tx712'!E32=\"\", \"\", 'Tx712'!E32)","v":""},{"$f":"'Tx712'!$B$5","v":"TEX-712-I: MULTIPLE - PIECE TIE BARS FOR CONCRETE PAVEMENT"},{"$f":"'Tx712'!$B$24","v":"Ultimate Tensile Strength Results"},{"$f":"'Tx712'!$E$25","v":"Percent of Nominal Yield\n(%)"},{"$f":"'Tx712'!$B32","v":7}]
[37,{"$f":"IF('Tx712'!E33=\"\", \"\", 'Tx712'!E33)","v":""},{"$f":"'Tx712'!$B$5","v":"TEX-712-I: MULTIPLE - PIECE TIE BARS FOR CONCRETE PAVEMENT"},{"$f":"'Tx712'!$B$24","v":"Ultimate Tensile Strength Results"},{"$f":"'Tx712'!$E$25","v":"Percent of Nominal Yield\n(%)"},{"$f":"'Tx712'!$B33","v":8}]
[38,{"$f":"IF('Tx712'!E34=\"\", \"\", 'Tx712'!E34)","v":""},{"$f":"'Tx712'!$B$5","v":"TEX-712-I: MULTIPLE - PIECE TIE BARS FOR CONCRETE PAVEMENT"},{"$f":"'Tx712'!$B$24","v":"Ultimate Tensile Strength Results"},{"$f":"'Tx712'!$E$25","v":"Percent of Nominal Yield\n(%)"},{"$f":"'Tx712'!$B34","v":9}]
[39,{"$f":"IF('Tx712'!E35=\"\", \"\", 'Tx712'!E35)","v":""},{"$f":"'Tx712'!$B$5","v":"TEX-712-I: MULTIPLE - PIECE TIE BARS FOR CONCRETE PAVEMENT"},{"$f":"'Tx712'!$B$24","v":"Ultimate Tensile Strength Results"},{"$f":"'Tx712'!$E$25","v":"Percent of Nominal Yield\n(%)"},{"$f":"'Tx712'!$B35","v":10}]
[40,{"$f":"IF('Tx712'!F26=\"\", \"\", 'Tx712'!F26)","v":""},{"$f":"'Tx712'!$B$5","v":"TEX-712-I: MULTIPLE - PIECE TIE BARS FOR CONCRETE PAVEMENT"},{"$f":"'Tx712'!$B$24","v":"Ultimate Tensile Strength Results"},{"$f":"'Tx712'!$F$25","v":"Break Location"},{"$f":"'Tx712'!$B26","v":1}]
[41,{"$f":"IF('Tx712'!F27=\"\", \"\", 'Tx712'!F27)","v":""},{"$f":"'Tx712'!$B$5","v":"TEX-712-I: MULTIPLE - PIECE TIE BARS FOR CONCRETE PAVEMENT"},{"$f":"'Tx712'!$B$24","v":"Ultimate Tensile Strength Results"},{"$f":"'Tx712'!$F$25","v":"Break Location"},{"$f":"'Tx712'!$B27","v":2}]
[42,{"$f":"IF('Tx712'!F28=\"\", \"\", 'Tx712'!F28)","v":""},{"$f":"'Tx712'!$B$5","v":"TEX-712-I: MULTIPLE - PIECE TIE BARS FOR CONCRETE PAVEMENT"},{"$f":"'Tx712'!$B$24","v":"Ultimate Tensile Strength Results"},{"$f":"'Tx712'!$F$25","v":"Break Location"},{"$f":"'Tx712'!$B28","v":3}]
[43,{"$f":"IF('Tx712'!F29=\"\", \"\", 'Tx712'!F29)","v":""},{"$f":"'Tx712'!$B$5","v":"TEX-712-I: MULTIPLE - PIECE TIE BARS FOR CONCRETE PAVEMENT"},{"$f":"'Tx712'!$B$24","v":"Ultimate Tensile Strength Results"},{"$f":"'Tx712'!$F$25","v":"Break Location"},{"$f":"'Tx712'!$B29","v":4}]
[44,{"$f":"IF('Tx712'!F30=\"\", \"\", 'Tx712'!F30)","v":""},{"$f":"'Tx712'!$B$5","v":"TEX-712-I: MULTIPLE - PIECE TIE BARS FOR CONCRETE PAVEMENT"},{"$f":"'Tx712'!$B$24","v":"Ultimate Tensile Strength Results"},{"$f":"'Tx712'!$F$25","v":"Break Location"},{"$f":"'Tx712'!$B30","v":5}]
[45,{"$f":"IF('Tx712'!F31=\"\", \"\", 'Tx712'!F31)","v":""},{"$f":"'Tx712'!$B$5","v":"TEX-712-I: MULTIPLE - PIECE TIE BARS FOR CONCRETE PAVEMENT"},{"$f":"'Tx712'!$B$24","v":"Ultimate Tensile Strength Results"},{"$f":"'Tx712'!$F$25","v":"Break Location"},{"$f":"'Tx712'!$B31","v":6}]
[46,{"$f":"IF('Tx712'!F32=\"\", \"\", 'Tx712'!F32)","v":""},{"$f":"'Tx712'!$B$5","v":"TEX-712-I: MULTIPLE - PIECE TIE BARS FOR CONCRETE PAVEMENT"},{"$f":"'Tx712'!$B$24","v":"Ultimate Tensile Strength Results"},{"$f":"'Tx712'!$F$25","v":"Break Location"},{"$f":"'Tx712'!$B32","v":7}]
[47,{"$f":"IF('Tx712'!F33=\"\", \"\", 'Tx712'!F33)","v":""},{"$f":"'Tx712'!$B$5","v":"TEX-712-I: MULTIPLE - PIECE TIE BARS FOR CONCRETE PAVEMENT"},{"$f":"'Tx712'!$B$24","v":"Ultimate Tensile Strength Results"},{"$f":"'Tx712'!$F$25","v":"Break Location"},{"$f":"'Tx712'!$B33","v":8}]
[48,{"$f":"IF('Tx712'!F34=\"\", \"\", 'Tx712'!F34)","v":""},{"$f":"'Tx712'!$B$5","v":"TEX-712-I: MULTIPLE - PIECE TIE BARS FOR CONCRETE PAVEMENT"},{"$f":"'Tx712'!$B$24","v":"Ultimate Tensile Strength Results"},{"$f":"'Tx712'!$F$25","v":"Break Location"},{"$f":"'Tx712'!$B34","v":9}]
[49,{"$f":"IF('Tx712'!F35=\"\", \"\", 'Tx712'!F35)","v":""},{"$f":"'Tx712'!$B$5","v":"TEX-712-I: MULTIPLE - PIECE TIE BARS FOR CONCRETE PAVEMENT"},{"$f":"'Tx712'!$B$24","v":"Ultimate Tensile Strength Results"},{"$f":"'Tx712'!$F$25","v":"Break Location"},{"$f":"'Tx712'!$B35","v":10}]
[50,{"$f":"IF('Tx712'!G26=\"\", \"\", 'Tx712'!G26)","v":""},{"$f":"'Tx712'!$B$5","v":"TEX-712-I: MULTIPLE - PIECE TIE BARS FOR CONCRETE PAVEMENT"},{"$f":"'Tx712'!$B$24","v":"Ultimate Tensile Strength Results"},{"$f":"'Tx712'!$G$25","v":"Quality of Die Stamp"},{"$f":"'Tx712'!$B26","v":1}]
[51,{"$f":"IF('Tx712'!G27=\"\", \"\", 'Tx712'!G27)","v":""},{"$f":"'Tx712'!$B$5","v":"TEX-712-I: MULTIPLE - PIECE TIE BARS FOR CONCRETE PAVEMENT"},{"$f":"'Tx712'!$B$24","v":"Ultimate Tensile Strength Results"},{"$f":"'Tx712'!$G$25","v":"Quality of Die Stamp"},{"$f":"'Tx712'!$B27","v":2}]
[52,{"$f":"IF('Tx712'!G28=\"\", \"\", 'Tx712'!G28)","v":""},{"$f":"'Tx712'!$B$5","v":"TEX-712-I: MULTIPLE - PIECE TIE BARS FOR CONCRETE PAVEMENT"},{"$f":"'Tx712'!$B$24","v":"Ultimate Tensile Strength Results"},{"$f":"'Tx712'!$G$25","v":"Quality of Die Stamp"},{"$f":"'Tx712'!$B28","v":3}]
[53,{"$f":"IF('Tx712'!G29=\"\", \"\", 'Tx712'!G29)","v":""},{"$f":"'Tx712'!$B$5","v":"TEX-712-I: MULTIPLE - PIECE TIE BARS FOR CONCRETE PAVEMENT"},{"$f":"'Tx712'!$B$24","v":"Ultimate Tensile Strength Results"},{"$f":"'Tx712'!$G$25","v":"Quality of Die Stamp"},{"$f":"'Tx712'!$B29","v":4}]
[54,{"$f":"IF('Tx712'!G30=\"\", \"\", 'Tx712'!G30)","v":""},{"$f":"'Tx712'!$B$5","v":"TEX-712-I: MULTIPLE - PIECE TIE BARS FOR CONCRETE PAVEMENT"},{"$f":"'Tx712'!$B$24","v":"Ultimate Tensile Strength Results"},{"$f":"'Tx712'!$G$25","v":"Quality of Die Stamp"},{"$f":"'Tx712'!$B30","v":5}]
[55,{"$f":"IF('Tx712'!G31=\"\", \"\", 'Tx712'!G31)","v":""},{"$f":"'Tx712'!$B$5","v":"TEX-712-I: MULTIPLE - PIECE TIE BARS FOR CONCRETE PAVEMENT"},{"$f":"'Tx712'!$B$24","v":"Ultimate Tensile Strength Results"},{"$f":"'Tx712'!$G$25","v":"Quality of Die Stamp"},{"$f":"'Tx712'!$B31","v":6}]
[56,{"$f":"IF('Tx712'!G32=\"\", \"\", 'Tx712'!G32)","v":""},{"$f":"'Tx712'!$B$5","v":"TEX-712-I: MULTIPLE - PIECE TIE BARS FOR CONCRETE PAVEMENT"},{"$f":"'Tx712'!$B$24","v":"Ultimate Tensile Strength Results"},{"$f":"'Tx712'!$G$25","v":"Quality of Die Stamp"},{"$f":"'Tx712'!$B32","v":7}]
[57,{"$f":"IF('Tx712'!G33=\"\", \"\", 'Tx712'!G33)","v":""},{"$f":"'Tx712'!$B$5","v":"TEX-712-I: MULTIPLE - PIECE TIE BARS FOR CONCRETE PAVEMENT"},{"$f":"'Tx712'!$B$24","v":"Ultimate Tensile Strength Results"},{"$f":"'Tx712'!$G$25","v":"Quality of Die Stamp"},{"$f":"'Tx712'!$B33","v":8}]
[58,{"$f":"IF('Tx712'!G34=\"\", \"\", 'Tx712'!G34)","v":""},{"$f":"'Tx712'!$B$5","v":"TEX-712-I: MULTIPLE - PIECE TIE BARS FOR CONCRETE PAVEMENT"},{"$f":"'Tx712'!$B$24","v":"Ultimate Tensile Strength Results"},{"$f":"'Tx712'!$G$25","v":"Quality of Die Stamp"},{"$f":"'Tx712'!$B34","v":9}]
[59,{"$f":"IF('Tx712'!G35=\"\", \"\", 'Tx712'!G35)","v":""},{"$f":"'Tx712'!$B$5","v":"TEX-712-I: MULTIPLE - PIECE TIE BARS FOR CONCRETE PAVEMENT"},{"$f":"'Tx712'!$B$24","v":"Ultimate Tensile Strength Results"},{"$f":"'Tx712'!$G$25","v":"Quality of Die Stamp"},{"$f":"'Tx712'!$B35","v":10}]
[60,{"$f":"IF('Tx712'!H26=\"\", \"\", 'Tx712'!H26)","v":""},{"$f":"'Tx712'!$B$5","v":"TEX-712-I: MULTIPLE - PIECE TIE BARS FOR CONCRETE PAVEMENT"},{"$f":"'Tx712'!$B$24","v":"Ultimate Tensile Strength Results"},{"$f":"'Tx712'!$H$25","v":"Meets Specs?"},{"$f":"'Tx712'!$B26","v":1}]
[61,{"$f":"IF('Tx712'!H27=\"\", \"\", 'Tx712'!H27)","v":""},{"$f":"'Tx712'!$B$5","v":"TEX-712-I: MULTIPLE - PIECE TIE BARS FOR CONCRETE PAVEMENT"},{"$f":"'Tx712'!$B$24","v":"Ultimate Tensile Strength Results"},{"$f":"'Tx712'!$H$25","v":"Meets Specs?"},{"$f":"'Tx712'!$B27","v":2}]
[62,{"$f":"IF('Tx712'!H28=\"\", \"\", 'Tx712'!H28)","v":""},{"$f":"'Tx712'!$B$5","v":"TEX-712-I: MULTIPLE - PIECE TIE BARS FOR CONCRETE PAVEMENT"},{"$f":"'Tx712'!$B$24","v":"Ultimate Tensile Strength Results"},{"$f":"'Tx712'!$H$25","v":"Meets Specs?"},{"$f":"'Tx712'!$B28","v":3}]
[63,{"$f":"IF('Tx712'!H29=\"\", \"\", 'Tx712'!H29)","v":""},{"$f":"'Tx712'!$B$5","v":"TEX-712-I: MULTIPLE - PIECE TIE BARS FOR CONCRETE PAVEMENT"},{"$f":"'Tx712'!$B$24","v":"Ultimate Tensile Strength Results"},{"$f":"'Tx712'!$H$25","v":"Meets Specs?"},{"$f":"'Tx712'!$B29","v":4}]
[64,{"$f":"IF('Tx712'!H30=\"\", \"\", 'Tx712'!H30)","v":""},{"$f":"'Tx712'!$B$5","v":"TEX-712-I: MULTIPLE - PIECE TIE BARS FOR CONCRETE PAVEMENT"},{"$f":"'Tx712'!$B$24","v":"Ultimate Tensile Strength Results"},{"$f":"'Tx712'!$H$25","v":"Meets Specs?"},{"$f":"'Tx712'!$B30","v":5}]
[65,{"$f":"IF('Tx712'!H31=\"\", \"\", 'Tx712'!H31)","v":""},{"$f":"'Tx712'!$B$5","v":"TEX-712-I: MULTIPLE - PIECE TIE BARS FOR CONCRETE PAVEMENT"},{"$f":"'Tx712'!$B$24","v":"Ultimate Tensile Strength Results"},{"$f":"'Tx712'!$H$25","v":"Meets Specs?"},{"$f":"'Tx712'!$B31","v":6}]
[66,{"$f":"IF('Tx712'!H32=\"\", \"\", 'Tx712'!H32)","v":""},{"$f":"'Tx712'!$B$5","v":"TEX-712-I: MULTIPLE - PIECE TIE BARS FOR CONCRETE PAVEMENT"},{"$f":"'Tx712'!$B$24","v":"Ultimate Tensile Strength Results"},{"$f":"'Tx712'!$H$25","v":"Meets Specs?"},{"$f":"'Tx712'!$B32","v":7}]
[67,{"$f":"IF('Tx712'!H33=\"\", \"\", 'Tx712'!H33)","v":""},{"$f":"'Tx712'!$B$5","v":"TEX-712-I: MULTIPLE - PIECE TIE BARS FOR CONCRETE PAVEMENT"},{"$f":"'Tx712'!$B$24","v":"Ultimate Tensile Strength Results"},{"$f":"'Tx712'!$H$25","v":"Meets Specs?"},{"$f":"'Tx712'!$B33","v":8}]
[68,{"$f":"IF('Tx712'!H34=\"\", \"\", 'Tx712'!H34)","v":""},{"$f":"'Tx712'!$B$5","v":"TEX-712-I: MULTIPLE - PIECE TIE BARS FOR CONCRETE PAVEMENT"},{"$f":"'Tx712'!$B$24","v":"Ultimate Tensile Strength Results"},{"$f":"'Tx712'!$H$25","v":"Meets Specs?"},{"$f":"'Tx712'!$B34","v":9}]
[69,{"$f":"IF('Tx712'!H35=\"\", \"\", 'Tx712'!H35)","v":""},{"$f":"'Tx712'!$B$5","v":"TEX-712-I: MULTIPLE - PIECE TIE BARS FOR CONCRETE PAVEMENT"},{"$f":"'Tx712'!$B$24","v":"Ultimate Tensile Strength Results"},{"$f":"'Tx712'!$H$25","v":"Meets Specs?"},{"$f":"'Tx712'!$B35","v":10}]
[70,{"$f":"IF('Tx712'!E37=\"\", \"\", 'Tx712'!E37)","v":""},{"$f":"'Tx712'!$B$5","v":"TEX-712-I: MULTIPLE - PIECE TIE BARS FOR CONCRETE PAVEMENT"},{"$f":"'Tx712'!$C$37","v":"Sample meets specs?"}]