{"text_format":"1","workbook":"xlsx","n_sheets":2,"sheets":["Tex-103-E","RX"],"not_rendered":{"charts":0,"images":1,"macros":1,"external_links":0,"defined_names":63,"comments":1,"pivot_tables":0},"unopened":[],"bounds":{"document_bytes":16777216,"sheet_cells":100000,"rows_first":2000,"rows_last":500,"rows_between":2000,"halvings":0,"cell_chars":16384,"cell_head_chars":4096},"cells_cut":0,"cells_raw":0,"read":"whole","date_system":"1900"}

{"sheet":"Tex-103-E","index":0,"n_rows":49,"n_cols":11,"rows_kept":49,"cut":false,"hidden":false,"merged":[[49,1,49,3],[45,6,45,8],[43,2,43,4],[42,2,42,4],[45,1,45,3],[38,1,39,8],[41,1,41,8],[16,3,16,4],[7,3,7,4],[8,3,8,4],[8,7,8,8],[40,1,40,8],[28,1,28,3],[29,1,29,3],[30,1,30,3],[16,7,16,8],[20,1,20,2],[20,3,20,6],[22,1,22,2],[15,3,15,8],[22,3,22,6],[0,0,0,1],[12,7,12,8],[11,3,11,4],[12,3,12,4],[13,3,13,4],[13,7,13,8],[7,7,7,8],[10,7,10,8],[9,7,9,8],[9,3,9,4],[11,7,11,8],[10,3,10,4],[14,3,14,8],[26,6,26,8],[24,1,24,2],[26,4,27,4],[26,5,27,5],[26,1,27,3],[31,1,31,3],[35,6,35,8],[34,6,34,8],[34,1,34,3],[35,1,35,3],[32,1,32,3],[33,1,33,3]]}
["TxDOT Manuals >"]
[null,"TEXAS DEPARTMENT OF TRANSPORTATION",null,null,null,null,null,null,null,null,20]
[null,null,null,null,null,null,null,null,null,null,1]
[null,null,null,null,null,null,null,null,null,null,"TxARDes.xlsm::42072.435891"]
[null,"ASPHALT-RUBBER BINDER DESIGN"]
[null,"Physical Properties of Asphalt-Rubber Binder"]
[null,null,null,null,null,null,null,null,{"$f":"\"File Version: \" & TEXT(MID(sn,SEARCH(\"::\",sn,1)+2,20),\"mm/dd/yy hh:mm:ss\")","v":"File Version: 03/09/15 10:27:41"}]
[null,null,"SAMPLE ID:",null,null,null,"SAMPLED DATE:"]
[null,null,"TEST NUMBER:",null,null,null,"LETTING DATE:"]
[null,null,"SAMPLE STATUS:",null,null,null,"CONTROLLING CSJ:"]
[null,null,"COUNTY:",null,null,null,"SPEC YEAR:"]
[null,null,"SAMPLED BY:",null,null,null,"SPEC ITEM:"]
[null,null,"SAMPLE LOCATION:",null,null,null,"SPECIAL PROVISION:"]
[null,null,"MATERIAL CODE:",null,null,null,"GRADE:"]
[null,null,"MATERIAL NAME:"]
[null,null,"PRODUCER:"]
[null,null,"AREA ENGINEER:",null,null,null,"PROJECT MANAGER:"]
[]
[null,null,"COURSE\\LIFT:",null,"STATION:",null,null,"DIST. FROM CL:"]
[]
[null,"Virgin Asphalt Binder:"]
[]
[null,"Crumb Rubber Type:"]
[]
[null,"Rubber Content, (%):"]
[]
[null,"Property",null,null,"Test Procedure","Asphalt-Rubber Binder Property","Specification Limits"]
[null,null,null,null,null,null,"Type I","Type II","Type III"]
[null,"Apparent Viscosity, 347F, cP",null,null,"D2196, Method A",null,"1500 - 5000","1500 - 5000","1500 - 5000"]
[null,"Penetration, 77F, 100g, 5 sec.",null,null,"T 49",null,"25 - 75","25 - 75","50-100"]
[null,"Penetration, 39.2F, 200g, 60 sec.",null,null,"T 49",null,"min 10","min 15","min 25"]
[null,"Softening Point, F",null,null,"T 53",null,"min 135","min 130","min 125"]
[null,"Resilience, 77F, %",null,null,"D 5329",null,"min 25","min 20","min 10"]
[null,"Flash Point, C.O.C., F",null,null,"T 48",null,"min 450","min 450","min 450"]
[null,"Tests on Residue from Thin Film Oven Test:",null,null,"T 179"]
[null,"Retained Penetration Ratio, 39.2F, 200g, 60 sec., % of original",null,null,"T 49",null,"min 75"]
[]
[null,"Remarks:",{"$f":"NOW()","v":"2015-06-23T14:57:49.310"}]
[]
[]
[]
[]
[null,"Test Method:","Tested By:",null,null,"Tested Date:"]
[null,"TXARDES"]
[null,"Test Stamp Code:",null,null,"Omit Test:","Completed Date:","Reviewed By:"]
[]
[null,"Locked By:","TxDOT:","District:","Area:"]
[]
[null,"Authorized By:",null,null,"Authorized Date:"]

{"sheet":"RX","index":1,"n_rows":17,"n_cols":9,"rows_kept":17,"cut":false,"hidden":true,"merged":[]}
[15]
["Fld_nbr","Value","Desc_1","Desc_2","Desc_3","Desc_4","Desc_5","Desc_6","Desc_7"]
[1,{"$f":"IF('Tex-103-E'!$B$39=\"\",\"\",'Tex-103-E'!$B$39)","v":""},{"$f":"'Tex-103-E'!$B$38","v":"Remarks:"}]
[2,{"$f":"IF('Tex-103-E'!$D$19=\"\",\"\",'Tex-103-E'!$D$19)","v":""},{"$f":"IF('Tex-103-E'!$C$19=\"\",\"\",'Tex-103-E'!$C$19)","v":"COURSE\\LIFT:"}]
[3,{"$f":"IF('Tex-103-E'!$C$44=\"\",\"\",'Tex-103-E'!$C$44)","v":""},"Tested By ",{"$f":"IF('Tex-103-E'!$B$44=\"\",\"\",'Tex-103-E'!$B$44)","v":"TXARDES"}]
[4,{"$f":"IF('Tex-103-E'!$F$44=\"\",\"\",'Tex-103-E'!$F$44)","v":""},"Tested Date ",{"$f":"IF('Tex-103-E'!$B$44=\"\",\"\",'Tex-103-E'!$B$44)","v":"TXARDES"}]
[5,{"$f":"IF('Tex-103-E'!$D$21=\"\",\"\",'Tex-103-E'!$D$21)","v":""},{"$f":"IF('Tex-103-E'!$B$6=\"\",\"\",'Tex-103-E'!$B$6)","v":"Physical Properties of Asphalt-Rubber Binder"},{"$f":"IF('Tex-103-E'!$B$21=\"\",\"\",'Tex-103-E'!$B$21)","v":"Virgin Asphalt Binder:"}]
[6,{"$f":"IF('Tex-103-E'!$D$23=\"\",\"\",'Tex-103-E'!$D$23)","v":""},{"$f":"IF('Tex-103-E'!$B$6=\"\",\"\",'Tex-103-E'!$B$6)","v":"Physical Properties of Asphalt-Rubber Binder"},{"$f":"IF('Tex-103-E'!$B$23=\"\",\"\",'Tex-103-E'!$B$23)","v":"Crumb Rubber Type:"}]
[7,{"$f":"IF('Tex-103-E'!$D$25=\"\",\"\",'Tex-103-E'!$D$25)","v":""},{"$f":"IF('Tex-103-E'!$B$6=\"\",\"\",'Tex-103-E'!$B$6)","v":"Physical Properties of Asphalt-Rubber Binder"},{"$f":"IF('Tex-103-E'!$B$25=\"\",\"\",'Tex-103-E'!$B$25)","v":"Rubber Content, (%):"}]
[8,{"$f":"IF('Tex-103-E'!$F$29=\"\",\"\",'Tex-103-E'!$F$29)","v":""},{"$f":"IF('Tex-103-E'!$E$29=\"\",\"\",'Tex-103-E'!$E$29)","v":"D2196, Method A"},{"$f":"IF('Tex-103-E'!$B$29=\"\",\"\",'Tex-103-E'!$B$29)","v":"Apparent Viscosity, 347F, cP"}]
[9,{"$f":"IF('Tex-103-E'!$F$30=\"\",\"\",'Tex-103-E'!$F$30)","v":""},{"$f":"IF('Tex-103-E'!$E$30=\"\",\"\",'Tex-103-E'!$E$30)","v":"T 49"},{"$f":"IF('Tex-103-E'!$B$30=\"\",\"\",'Tex-103-E'!$B$30)","v":"Penetration, 77F, 100g, 5 sec."}]
[10,{"$f":"IF('Tex-103-E'!$F$31=\"\",\"\",'Tex-103-E'!$F$31)","v":""},{"$f":"IF('Tex-103-E'!$E$31=\"\",\"\",'Tex-103-E'!$E$31)","v":"T 49"},{"$f":"IF('Tex-103-E'!$B$31=\"\",\"\",'Tex-103-E'!$B$31)","v":"Penetration, 39.2F, 200g, 60 sec."}]
[11,{"$f":"IF('Tex-103-E'!$F$32=\"\",\"\",'Tex-103-E'!$F$32)","v":""},{"$f":"IF('Tex-103-E'!$E$32=\"\",\"\",'Tex-103-E'!$E$32)","v":"T 53"},{"$f":"IF('Tex-103-E'!$B$32=\"\",\"\",'Tex-103-E'!$B$32)","v":"Softening Point, F"}]
[12,{"$f":"IF('Tex-103-E'!$F$33=\"\",\"\",'Tex-103-E'!$F$33)","v":""},{"$f":"IF('Tex-103-E'!$E$33=\"\",\"\",'Tex-103-E'!$E$33)","v":"D 5329"},{"$f":"IF('Tex-103-E'!$B$33=\"\",\"\",'Tex-103-E'!$B$33)","v":"Resilience, 77F, %"}]
[13,{"$f":"IF('Tex-103-E'!$F$34=\"\",\"\",'Tex-103-E'!$F$34)","v":""},{"$f":"IF('Tex-103-E'!$E$34=\"\",\"\",'Tex-103-E'!$E$34)","v":"T 48"},{"$f":"IF('Tex-103-E'!$B$34=\"\",\"\",'Tex-103-E'!$B$34)","v":"Flash Point, C.O.C., F"}]
[14,{"$f":"IF('Tex-103-E'!$F$35=\"\",\"\",'Tex-103-E'!$F$35)","v":""},{"$f":"IF('Tex-103-E'!$E$35=\"\",\"\",'Tex-103-E'!$E$35)","v":"T 179"},{"$f":"IF('Tex-103-E'!$B$35=\"\",\"\",'Tex-103-E'!$B$35)","v":"Tests on Residue from Thin Film Oven Test:"}]
[15,{"$f":"IF('Tex-103-E'!$F$36=\"\",\"\",'Tex-103-E'!$F$36)","v":""},{"$f":"IF('Tex-103-E'!$E$36=\"\",\"\",'Tex-103-E'!$E$36)","v":"T 49"},{"$f":"IF('Tex-103-E'!$B$36=\"\",\"\",'Tex-103-E'!$B$36)","v":"Retained Penetration Ratio, 39.2F, 200g, 60 sec., % of original"}]