{"text_format":"1","workbook":"xlsx","n_sheets":2,"sheets":["Drill Shaft","RX"],"not_rendered":{"charts":0,"images":1,"macros":1,"external_links":0,"defined_names":319,"comments":1,"pivot_tables":0},"unopened":[],"bounds":{"document_bytes":16777216,"sheet_cells":100000,"rows_first":2000,"rows_last":500,"rows_between":2000,"halvings":0,"cell_chars":16384,"cell_head_chars":4096},"cells_cut":0,"cells_raw":0,"read":"whole","date_system":"1900"}

{"sheet":"Drill Shaft","index":0,"n_rows":65,"n_cols":20,"rows_kept":65,"cut":false,"hidden":false,"merged":[[26,0,30,0],[24,0,25,0],[31,0,35,0],[36,0,40,0],[20,7,20,11],[48,7,48,8],[39,7,39,8],[22,1,22,2],[22,3,22,5],[22,9,22,11],[41,0,45,0],[46,0,50,0],[49,7,49,8],[45,7,45,8],[47,7,47,8],[31,1,35,1],[31,2,35,2],[24,10,24,12],[24,7,25,8],[50,13,50,18],[35,13,35,18],[36,7,36,8],[36,13,36,18],[37,7,37,8],[37,13,37,18],[47,13,47,18],[38,7,38,8],[38,13,38,18],[44,13,44,18],[41,13,41,18],[46,13,46,18],[43,7,43,8],[43,13,43,18],[42,7,42,8],[42,13,42,18],[45,13,45,18],[48,13,48,18],[49,13,49,18],[50,7,50,8],[44,7,44,8],[46,7,46,8],[41,7,41,8],[35,7,35,8],[65,1,65,6],[65,7,65,8],[53,1,54,15],[63,1,63,2],[63,3,63,4],[63,5,63,6],[39,13,39,18],[40,7,40,8],[40,13,40,18],[56,9,56,10],[57,1,57,2],[57,9,57,10],[63,7,63,8],[59,9,59,10],[59,11,59,16],[59,7,59,8],[59,1,59,6],[57,3,57,8],[41,1,45,1],[41,2,45,2],[46,1,50,1],[46,2,50,2],[36,1,40,1],[36,2,40,2],[26,13,26,18],[27,13,27,18],[28,13,28,18],[29,13,29,18],[7,1,7,4],[8,1,8,4],[9,1,9,4],[11,5,11,8],[12,5,12,8],[16,1,16,4],[26,2,30,2],[26,1,30,1],[18,7,18,8],[18,1,18,4],[18,5,18,6],[22,7,22,8],[20,13,20,14],[24,1,25,1],[24,2,25,2],[24,3,24,6],[24,13,25,18],[20,2,20,3],[20,5,20,6],[24,9,25,9],[31,13,31,18],[33,7,33,8],[33,13,33,18],[34,7,34,8],[34,13,34,18],[30,13,30,18],[32,13,32,18],[7,5,7,8],[8,5,8,8],[9,5,9,8],[12,13,12,16],[13,13,13,16],[16,9,16,12],[10,5,10,8],[13,5,13,8],[15,5,15,16],[16,5,16,8],[32,7,32,8],[31,7,31,8],[29,7,29,8],[30,7,30,8],[26,7,26,8],[27,7,27,8],[28,7,28,8],[0,0,0,2],[0,4,0,5],[16,13,16,16],[18,9,18,10],[18,14,18,16],[11,13,11,16],[7,13,7,16],[8,13,8,16],[9,13,9,16],[10,13,10,16],[12,9,12,12],[13,9,13,12],[7,9,7,12],[8,9,8,12],[9,9,9,12],[10,9,10,12],[13,1,13,4],[15,1,15,4],[10,1,10,4],[11,1,11,4],[12,1,12,4],[14,1,14,4],[14,5,14,16],[11,9,11,12]]}
["TxDOT Manuals >"]
[null,"TEXAS DEPARTMENT OF TRANSPORTATION",null,null,null,null,null,null,null,null,null,null,null,null,null,null,null,null,null,272]
[null,null,null,null,null,null,null,null,null,null,null,null,null,null,null,null,null,null,null,1]
[null,null,null,null,null,null,null,null,null,null,null,null,null,null,null,null,null,null,null,"TxDrlShft.xlsm::42072.436134"]
[null,"Drilled Shaft Record"]
[]
[null,null,null,null,null,null,null,null,null,null,null,null,null,null,null,null,{"$f":"\"File Version: \" & TEXT(MID(sn,SEARCH(\"::\",sn,1)+2,20),\"mm/dd/yy hh:mm:ss\")","v":"File Version: 03/09/15 10:28:02"}]
[null,"SAMPLE ID:",null,null,null,null,null,null,null,"SAMPLED DATE:"]
[null,"TEST NUMBER:",null,null,null,null,null,null,null,"LETTING DATE:"]
[null,"SAMPLE STATUS:",null,null,null,null,null,null,null,"CONTROLLING CSJ:"]
[null,"COUNTY:",null,null,null,null,null,null,null,"SPEC YEAR:"]
[null,"SAMPLED BY:",null,null,null,null,null,null,null,"SPEC ITEM:"]
[null,"SAMPLE LOCATION:",null,null,null,null,null,null,null,"SPECIAL PROVISION:"]
[null,"MATERIAL CODE:",null,null,null,null,null,null,null,"GRADE:"]
[null,"MATERIAL NAME:"]
[null,"PRODUCER:"]
[null,"AREA ENGINEER:",null,null,null,null,null,null,null,"PROJECT MANAGER:"]
[]
[null,"COURSE\\LIFT:",null,null,null,null,null,"STATION:",null,null,null,null,null,"DIST. FROM CL:"]
[]
[null,"CSJ:",null,null,null,"Structure Name:",null,null,null,null,null,null,null,"Structure #:"]
[]
[null,"From station:",null,null,null,null,null,"To Station:"]
[]
[null,"Bent No.","Design Load, (Tons Per Shaft)","DRILLED SHAFT",null,null,null,"Date Drilled",null,"Under water Place-ment","SLURRY PROPERTIES IF USED",null,null,"Remark"]
[null,null,null,"No.","Dia.  (in.)","Top of Shaft Elev.","Length (ft.)",null,null,null,"Specific Gravity","Viscosity (sec)","Sand Content (%)"]
[1]
[]
[]
[]
[]
[2]
[]
[]
[]
[]
[3]
[]
[]
[]
[]
[4]
[]
[]
[]
[]
[5]
[]
[]
[]
[]
[]
[null,"Remarks:",null,{"$f":"NOW()","v":"2015-06-23T14:58:14"}]
[]
[]
[]
[null,"Test Method:",null,"Tested By:",null,null,null,null,null,"Tested Date:"]
[null,"TXDRLSHFT"]
[null,"Test Stamp Code:",null,null,null,null,null,"Omit Test:",null,"Completed Date:",null,"Reviewed By:"]
[]
[]
[]
[null,"Locked By:",null,"TxDOT:",null,"District:",null,"Area:"]
[]
[null,"Authorized By:",null,null,null,null,null,"Authorized Date:"]

{"sheet":"RX","index":1,"n_rows":271,"n_cols":9,"rows_kept":271,"cut":false,"hidden":true,"merged":[]}
[269]
["Fld_nbr","Value","Desc_1","Desc_2","Desc_3","Desc_4","Desc_5","Desc_6","Desc_7"]
[1,{"$f":"IF('Drill Shaft'!$B$54=\"\",\"\",'Drill Shaft'!$B$54)","v":""},{"$f":"'Drill Shaft'!$B$53","v":"Remarks:"}]
[2,{"$f":"IF('Drill Shaft'!$F$19=\"\",\"\",'Drill Shaft'!$F$19)","v":""},{"$f":"IF('Drill Shaft'!$B$19=\"\",\"\",'Drill Shaft'!$B$19)","v":"COURSE\\LIFT:"}]
[3,{"$f":"IF('Drill Shaft'!$C$21=\"\",\"\",'Drill Shaft'!$C$21)","v":""},{"$f":"IF( 'Drill Shaft'!$B$5=\"\",\"\", 'Drill Shaft'!$B$5)","v":"Drilled Shaft Record"},{"$f":"IF('Drill Shaft'!$B$21=\"\",\"\",'Drill Shaft'!$B$21)","v":"CSJ:"}]
[4,{"$f":"IF('Drill Shaft'!$H$21=\"\",\"\",'Drill Shaft'!$H$21)","v":""},{"$f":"IF( 'Drill Shaft'!$B$5=\"\",\"\", 'Drill Shaft'!$B$5)","v":"Drilled Shaft Record"},{"$f":"IF('Drill Shaft'!$F$21=\"\",\"\",'Drill Shaft'!$F$21)","v":"Structure Name:"}]
[5,{"$f":"IF('Drill Shaft'!$P$21=\"\",\"\",'Drill Shaft'!$P$21)","v":""},{"$f":"IF( 'Drill Shaft'!$B$5=\"\",\"\", 'Drill Shaft'!$B$5)","v":"Drilled Shaft Record"},{"$f":"IF('Drill Shaft'!$N$21=\"\",\"\",'Drill Shaft'!$N$21)","v":"Structure #:"}]
[6,{"$f":"IF('Drill Shaft'!$D$23=\"\",\"\",'Drill Shaft'!$D$23)","v":""},{"$f":"IF( 'Drill Shaft'!$B$5=\"\",\"\", 'Drill Shaft'!$B$5)","v":"Drilled Shaft Record"},{"$f":"IF('Drill Shaft'!$B$23=\"\",\"\",'Drill Shaft'!$B$23)","v":"From station:"}]
[7,{"$f":"IF('Drill Shaft'!$J$23=\"\",\"\",'Drill Shaft'!$J$23)","v":""},{"$f":"IF( 'Drill Shaft'!$B$5=\"\",\"\", 'Drill Shaft'!$B$5)","v":"Drilled Shaft Record"},{"$f":"IF('Drill Shaft'!$H$23=\"\",\"\",'Drill Shaft'!$H$23)","v":"To Station:"}]
[8,{"$f":"IF('Drill Shaft'!$B$27=\"\",\"\",'Drill Shaft'!$B$27)","v":""},{"$f":"IF( 'Drill Shaft'!$B$5=\"\",\"\", 'Drill Shaft'!$B$5)","v":"Drilled Shaft Record"},{"$f":"IF('Drill Shaft'!$B$25=\"\",\"\",'Drill Shaft'!$B$25)","v":"Bent No."},{"$f":"IF('Drill Shaft'!$A$27=\"\",\"\",'Drill Shaft'!$A$27)","v":1}]
[9,{"$f":"IF('Drill Shaft'!$B$32=\"\",\"\",'Drill Shaft'!$B$32)","v":""},{"$f":"IF( 'Drill Shaft'!$B$5=\"\",\"\", 'Drill Shaft'!$B$5)","v":"Drilled Shaft Record"},{"$f":"IF('Drill Shaft'!$B$25=\"\",\"\",'Drill Shaft'!$B$25)","v":"Bent No."},{"$f":"IF('Drill Shaft'!$A$32=\"\",\"\",'Drill Shaft'!$A$32)","v":2}]
[10,{"$f":"IF('Drill Shaft'!$B$37=\"\",\"\",'Drill Shaft'!$B$37)","v":""},{"$f":"IF( 'Drill Shaft'!$B$5=\"\",\"\", 'Drill Shaft'!$B$5)","v":"Drilled Shaft Record"},{"$f":"IF('Drill Shaft'!$B$25=\"\",\"\",'Drill Shaft'!$B$25)","v":"Bent No."},{"$f":"IF('Drill Shaft'!$A$37=\"\",\"\",'Drill Shaft'!$A$37)","v":3}]
[11,{"$f":"IF('Drill Shaft'!$B$42=\"\",\"\",'Drill Shaft'!$B$42)","v":""},{"$f":"IF( 'Drill Shaft'!$B$5=\"\",\"\", 'Drill Shaft'!$B$5)","v":"Drilled Shaft Record"},{"$f":"IF('Drill Shaft'!$B$25=\"\",\"\",'Drill Shaft'!$B$25)","v":"Bent No."},{"$f":"IF('Drill Shaft'!$A$42=\"\",\"\",'Drill Shaft'!$A$42)","v":4}]
[12,{"$f":"IF('Drill Shaft'!$B$47=\"\",\"\",'Drill Shaft'!$B$47)","v":""},{"$f":"IF( 'Drill Shaft'!$B$5=\"\",\"\", 'Drill Shaft'!$B$5)","v":"Drilled Shaft Record"},{"$f":"IF('Drill Shaft'!$B$25=\"\",\"\",'Drill Shaft'!$B$25)","v":"Bent No."},{"$f":"IF('Drill Shaft'!$A$47=\"\",\"\",'Drill Shaft'!$A$47)","v":5}]
[13,{"$f":"IF('Drill Shaft'!$C$27=\"\",\"\",'Drill Shaft'!$C$27)","v":""},{"$f":"IF( 'Drill Shaft'!$B$5=\"\",\"\", 'Drill Shaft'!$B$5)","v":"Drilled Shaft Record"},{"$f":"IF('Drill Shaft'!$C$25=\"\",\"\",'Drill Shaft'!$C$25)","v":"Design Load, (Tons Per Shaft)"},{"$f":"IF('Drill Shaft'!$A$27=\"\",\"\",'Drill Shaft'!$A$27)","v":1}]
[14,{"$f":"IF('Drill Shaft'!$C$32=\"\",\"\",'Drill Shaft'!$C$32)","v":""},{"$f":"IF( 'Drill Shaft'!$B$5=\"\",\"\", 'Drill Shaft'!$B$5)","v":"Drilled Shaft Record"},{"$f":"IF('Drill Shaft'!$C$25=\"\",\"\",'Drill Shaft'!$C$25)","v":"Design Load, (Tons Per Shaft)"},{"$f":"IF('Drill Shaft'!$A$32=\"\",\"\",'Drill Shaft'!$A$32)","v":2}]
[15,{"$f":"IF('Drill Shaft'!$C$37=\"\",\"\",'Drill Shaft'!$C$37)","v":""},{"$f":"IF( 'Drill Shaft'!$B$5=\"\",\"\", 'Drill Shaft'!$B$5)","v":"Drilled Shaft Record"},{"$f":"IF('Drill Shaft'!$C$25=\"\",\"\",'Drill Shaft'!$C$25)","v":"Design Load, (Tons Per Shaft)"},{"$f":"IF('Drill Shaft'!$A$37=\"\",\"\",'Drill Shaft'!$A$37)","v":3}]
[16,{"$f":"IF('Drill Shaft'!$C$42=\"\",\"\",'Drill Shaft'!$C$42)","v":""},{"$f":"IF( 'Drill Shaft'!$B$5=\"\",\"\", 'Drill Shaft'!$B$5)","v":"Drilled Shaft Record"},{"$f":"IF('Drill Shaft'!$C$25=\"\",\"\",'Drill Shaft'!$C$25)","v":"Design Load, (Tons Per Shaft)"},{"$f":"IF('Drill Shaft'!$A$42=\"\",\"\",'Drill Shaft'!$A$42)","v":4}]
[17,{"$f":"IF('Drill Shaft'!$C$47=\"\",\"\",'Drill Shaft'!$C$47)","v":""},{"$f":"IF( 'Drill Shaft'!$B$5=\"\",\"\", 'Drill Shaft'!$B$5)","v":"Drilled Shaft Record"},{"$f":"IF('Drill Shaft'!$C$25=\"\",\"\",'Drill Shaft'!$C$25)","v":"Design Load, (Tons Per Shaft)"},{"$f":"IF('Drill Shaft'!$A$47=\"\",\"\",'Drill Shaft'!$A$47)","v":5}]
[18,{"$f":"IF('Drill Shaft'!$D$27=\"\",\"\",'Drill Shaft'!$D$27)","v":""},{"$f":"IF( 'Drill Shaft'!$B$5=\"\",\"\", 'Drill Shaft'!$B$5)","v":"Drilled Shaft Record"},{"$f":"IF('Drill Shaft'!$D$25=\"\",\"\",'Drill Shaft'!$D$25)","v":"DRILLED SHAFT"},{"$f":"IF('Drill Shaft'!$D$26=\"\",\"\",'Drill Shaft'!$D$26)","v":"No."},{"$f":"IF('Drill Shaft'!$A$27=\"\",\"\",'Drill Shaft'!$A$27)","v":1}]
[19,{"$f":"IF('Drill Shaft'!$D$28=\"\",\"\",'Drill Shaft'!$D$28)","v":""},{"$f":"IF( 'Drill Shaft'!$B$5=\"\",\"\", 'Drill Shaft'!$B$5)","v":"Drilled Shaft Record"},{"$f":"IF('Drill Shaft'!$D$25=\"\",\"\",'Drill Shaft'!$D$25)","v":"DRILLED SHAFT"},{"$f":"IF('Drill Shaft'!$D$26=\"\",\"\",'Drill Shaft'!$D$26)","v":"No."},{"$f":"IF('Drill Shaft'!$A$27=\"\",\"\",'Drill Shaft'!$A$27)","v":1}]
[20,{"$f":"IF('Drill Shaft'!$D$29=\"\",\"\",'Drill Shaft'!$D$29)","v":""},{"$f":"IF( 'Drill Shaft'!$B$5=\"\",\"\", 'Drill Shaft'!$B$5)","v":"Drilled Shaft Record"},{"$f":"IF('Drill Shaft'!$D$25=\"\",\"\",'Drill Shaft'!$D$25)","v":"DRILLED SHAFT"},{"$f":"IF('Drill Shaft'!$D$26=\"\",\"\",'Drill Shaft'!$D$26)","v":"No."},{"$f":"IF('Drill Shaft'!$A$27=\"\",\"\",'Drill Shaft'!$A$27)","v":1}]
[21,{"$f":"IF('Drill Shaft'!$D$30=\"\",\"\",'Drill Shaft'!$D$30)","v":""},{"$f":"IF( 'Drill Shaft'!$B$5=\"\",\"\", 'Drill Shaft'!$B$5)","v":"Drilled Shaft Record"},{"$f":"IF('Drill Shaft'!$D$25=\"\",\"\",'Drill Shaft'!$D$25)","v":"DRILLED SHAFT"},{"$f":"IF('Drill Shaft'!$D$26=\"\",\"\",'Drill Shaft'!$D$26)","v":"No."},{"$f":"IF('Drill Shaft'!$A$27=\"\",\"\",'Drill Shaft'!$A$27)","v":1}]
[22,{"$f":"IF('Drill Shaft'!$D$31=\"\",\"\",'Drill Shaft'!$D$31)","v":""},{"$f":"IF( 'Drill Shaft'!$B$5=\"\",\"\", 'Drill Shaft'!$B$5)","v":"Drilled Shaft Record"},{"$f":"IF('Drill Shaft'!$D$25=\"\",\"\",'Drill Shaft'!$D$25)","v":"DRILLED SHAFT"},{"$f":"IF('Drill Shaft'!$D$26=\"\",\"\",'Drill Shaft'!$D$26)","v":"No."},{"$f":"IF('Drill Shaft'!$A$27=\"\",\"\",'Drill Shaft'!$A$27)","v":1}]
[23,{"$f":"IF('Drill Shaft'!$D$32=\"\",\"\",'Drill Shaft'!$D$32)","v":""},{"$f":"IF( 'Drill Shaft'!$B$5=\"\",\"\", 'Drill Shaft'!$B$5)","v":"Drilled Shaft Record"},{"$f":"IF('Drill Shaft'!$D$25=\"\",\"\",'Drill Shaft'!$D$25)","v":"DRILLED SHAFT"},{"$f":"IF('Drill Shaft'!$D$26=\"\",\"\",'Drill Shaft'!$D$26)","v":"No."},{"$f":"IF('Drill Shaft'!$A$32=\"\",\"\",'Drill Shaft'!$A$32)","v":2}]
[24,{"$f":"IF('Drill Shaft'!$D$33=\"\",\"\",'Drill Shaft'!$D$33)","v":""},{"$f":"IF( 'Drill Shaft'!$B$5=\"\",\"\", 'Drill Shaft'!$B$5)","v":"Drilled Shaft Record"},{"$f":"IF('Drill Shaft'!$D$25=\"\",\"\",'Drill Shaft'!$D$25)","v":"DRILLED SHAFT"},{"$f":"IF('Drill Shaft'!$D$26=\"\",\"\",'Drill Shaft'!$D$26)","v":"No."},{"$f":"IF('Drill Shaft'!$A$32=\"\",\"\",'Drill Shaft'!$A$32)","v":2}]
[25,{"$f":"IF('Drill Shaft'!$D$34=\"\",\"\",'Drill Shaft'!$D$34)","v":""},{"$f":"IF( 'Drill Shaft'!$B$5=\"\",\"\", 'Drill Shaft'!$B$5)","v":"Drilled Shaft Record"},{"$f":"IF('Drill Shaft'!$D$25=\"\",\"\",'Drill Shaft'!$D$25)","v":"DRILLED SHAFT"},{"$f":"IF('Drill Shaft'!$D$26=\"\",\"\",'Drill Shaft'!$D$26)","v":"No."},{"$f":"IF('Drill Shaft'!$A$32=\"\",\"\",'Drill Shaft'!$A$32)","v":2}]
[26,{"$f":"IF('Drill Shaft'!$D$35=\"\",\"\",'Drill Shaft'!$D$35)","v":""},{"$f":"IF( 'Drill Shaft'!$B$5=\"\",\"\", 'Drill Shaft'!$B$5)","v":"Drilled Shaft Record"},{"$f":"IF('Drill Shaft'!$D$25=\"\",\"\",'Drill Shaft'!$D$25)","v":"DRILLED SHAFT"},{"$f":"IF('Drill Shaft'!$D$26=\"\",\"\",'Drill Shaft'!$D$26)","v":"No."},{"$f":"IF('Drill Shaft'!$A$32=\"\",\"\",'Drill Shaft'!$A$32)","v":2}]
[27,{"$f":"IF('Drill Shaft'!$D$36=\"\",\"\",'Drill Shaft'!$D$36)","v":""},{"$f":"IF( 'Drill Shaft'!$B$5=\"\",\"\", 'Drill Shaft'!$B$5)","v":"Drilled Shaft Record"},{"$f":"IF('Drill Shaft'!$D$25=\"\",\"\",'Drill Shaft'!$D$25)","v":"DRILLED SHAFT"},{"$f":"IF('Drill Shaft'!$D$26=\"\",\"\",'Drill Shaft'!$D$26)","v":"No."},{"$f":"IF('Drill Shaft'!$A$32=\"\",\"\",'Drill Shaft'!$A$32)","v":2}]
[28,{"$f":"IF('Drill Shaft'!$D$37=\"\",\"\",'Drill Shaft'!$D$37)","v":""},{"$f":"IF( 'Drill Shaft'!$B$5=\"\",\"\", 'Drill Shaft'!$B$5)","v":"Drilled Shaft Record"},{"$f":"IF('Drill Shaft'!$D$25=\"\",\"\",'Drill Shaft'!$D$25)","v":"DRILLED SHAFT"},{"$f":"IF('Drill Shaft'!$D$26=\"\",\"\",'Drill Shaft'!$D$26)","v":"No."},{"$f":"IF('Drill Shaft'!$A$37=\"\",\"\",'Drill Shaft'!$A$37)","v":3}]
[29,{"$f":"IF('Drill Shaft'!$D$38=\"\",\"\",'Drill Shaft'!$D$38)","v":""},{"$f":"IF( 'Drill Shaft'!$B$5=\"\",\"\", 'Drill Shaft'!$B$5)","v":"Drilled Shaft Record"},{"$f":"IF('Drill Shaft'!$D$25=\"\",\"\",'Drill Shaft'!$D$25)","v":"DRILLED SHAFT"},{"$f":"IF('Drill Shaft'!$D$26=\"\",\"\",'Drill Shaft'!$D$26)","v":"No."},{"$f":"IF('Drill Shaft'!$A$37=\"\",\"\",'Drill Shaft'!$A$37)","v":3}]
[30,{"$f":"IF('Drill Shaft'!$D$39=\"\",\"\",'Drill Shaft'!$D$39)","v":""},{"$f":"IF( 'Drill Shaft'!$B$5=\"\",\"\", 'Drill Shaft'!$B$5)","v":"Drilled Shaft Record"},{"$f":"IF('Drill Shaft'!$D$25=\"\",\"\",'Drill Shaft'!$D$25)","v":"DRILLED SHAFT"},{"$f":"IF('Drill Shaft'!$D$26=\"\",\"\",'Drill Shaft'!$D$26)","v":"No."},{"$f":"IF('Drill Shaft'!$A$37=\"\",\"\",'Drill Shaft'!$A$37)","v":3}]
[31,{"$f":"IF('Drill Shaft'!$D$40=\"\",\"\",'Drill Shaft'!$D$40)","v":""},{"$f":"IF( 'Drill Shaft'!$B$5=\"\",\"\", 'Drill Shaft'!$B$5)","v":"Drilled Shaft Record"},{"$f":"IF('Drill Shaft'!$D$25=\"\",\"\",'Drill Shaft'!$D$25)","v":"DRILLED SHAFT"},{"$f":"IF('Drill Shaft'!$D$26=\"\",\"\",'Drill Shaft'!$D$26)","v":"No."},{"$f":"IF('Drill Shaft'!$A$37=\"\",\"\",'Drill Shaft'!$A$37)","v":3}]
[32,{"$f":"IF('Drill Shaft'!$D$41=\"\",\"\",'Drill Shaft'!$D$41)","v":""},{"$f":"IF( 'Drill Shaft'!$B$5=\"\",\"\", 'Drill Shaft'!$B$5)","v":"Drilled Shaft Record"},{"$f":"IF('Drill Shaft'!$D$25=\"\",\"\",'Drill Shaft'!$D$25)","v":"DRILLED SHAFT"},{"$f":"IF('Drill Shaft'!$D$26=\"\",\"\",'Drill Shaft'!$D$26)","v":"No."},{"$f":"IF('Drill Shaft'!$A$37=\"\",\"\",'Drill Shaft'!$A$37)","v":3}]
[33,{"$f":"IF('Drill Shaft'!$D$42=\"\",\"\",'Drill Shaft'!$D$42)","v":""},{"$f":"IF( 'Drill Shaft'!$B$5=\"\",\"\", 'Drill Shaft'!$B$5)","v":"Drilled Shaft Record"},{"$f":"IF('Drill Shaft'!$D$25=\"\",\"\",'Drill Shaft'!$D$25)","v":"DRILLED SHAFT"},{"$f":"IF('Drill Shaft'!$D$26=\"\",\"\",'Drill Shaft'!$D$26)","v":"No."},{"$f":"IF('Drill Shaft'!$A$42=\"\",\"\",'Drill Shaft'!$A$42)","v":4}]
[34,{"$f":"IF('Drill Shaft'!$D$43=\"\",\"\",'Drill Shaft'!$D$43)","v":""},{"$f":"IF( 'Drill Shaft'!$B$5=\"\",\"\", 'Drill Shaft'!$B$5)","v":"Drilled Shaft Record"},{"$f":"IF('Drill Shaft'!$D$25=\"\",\"\",'Drill Shaft'!$D$25)","v":"DRILLED SHAFT"},{"$f":"IF('Drill Shaft'!$D$26=\"\",\"\",'Drill Shaft'!$D$26)","v":"No."},{"$f":"IF('Drill Shaft'!$A$42=\"\",\"\",'Drill Shaft'!$A$42)","v":4}]
[35,{"$f":"IF('Drill Shaft'!$D$44=\"\",\"\",'Drill Shaft'!$D$44)","v":""},{"$f":"IF( 'Drill Shaft'!$B$5=\"\",\"\", 'Drill Shaft'!$B$5)","v":"Drilled Shaft Record"},{"$f":"IF('Drill Shaft'!$D$25=\"\",\"\",'Drill Shaft'!$D$25)","v":"DRILLED SHAFT"},{"$f":"IF('Drill Shaft'!$D$26=\"\",\"\",'Drill Shaft'!$D$26)","v":"No."},{"$f":"IF('Drill Shaft'!$A$42=\"\",\"\",'Drill Shaft'!$A$42)","v":4}]
[36,{"$f":"IF('Drill Shaft'!$D$45=\"\",\"\",'Drill Shaft'!$D$45)","v":""},{"$f":"IF( 'Drill Shaft'!$B$5=\"\",\"\", 'Drill Shaft'!$B$5)","v":"Drilled Shaft Record"},{"$f":"IF('Drill Shaft'!$D$25=\"\",\"\",'Drill Shaft'!$D$25)","v":"DRILLED SHAFT"},{"$f":"IF('Drill Shaft'!$D$26=\"\",\"\",'Drill Shaft'!$D$26)","v":"No."},{"$f":"IF('Drill Shaft'!$A$42=\"\",\"\",'Drill Shaft'!$A$42)","v":4}]
[37,{"$f":"IF('Drill Shaft'!$D$46=\"\",\"\",'Drill Shaft'!$D$46)","v":""},{"$f":"IF( 'Drill Shaft'!$B$5=\"\",\"\", 'Drill Shaft'!$B$5)","v":"Drilled Shaft Record"},{"$f":"IF('Drill Shaft'!$D$25=\"\",\"\",'Drill Shaft'!$D$25)","v":"DRILLED SHAFT"},{"$f":"IF('Drill Shaft'!$D$26=\"\",\"\",'Drill Shaft'!$D$26)","v":"No."},{"$f":"IF('Drill Shaft'!$A$42=\"\",\"\",'Drill Shaft'!$A$42)","v":4}]
[38,{"$f":"IF('Drill Shaft'!$D$47=\"\",\"\",'Drill Shaft'!$D$47)","v":""},{"$f":"IF( 'Drill Shaft'!$B$5=\"\",\"\", 'Drill Shaft'!$B$5)","v":"Drilled Shaft Record"},{"$f":"IF('Drill Shaft'!$D$25=\"\",\"\",'Drill Shaft'!$D$25)","v":"DRILLED SHAFT"},{"$f":"IF('Drill Shaft'!$D$26=\"\",\"\",'Drill Shaft'!$D$26)","v":"No."},{"$f":"IF('Drill Shaft'!$A$47=\"\",\"\",'Drill Shaft'!$A$47)","v":5}]
[39,{"$f":"IF('Drill Shaft'!$D$48=\"\",\"\",'Drill Shaft'!$D$48)","v":""},{"$f":"IF( 'Drill Shaft'!$B$5=\"\",\"\", 'Drill Shaft'!$B$5)","v":"Drilled Shaft Record"},{"$f":"IF('Drill Shaft'!$D$25=\"\",\"\",'Drill Shaft'!$D$25)","v":"DRILLED SHAFT"},{"$f":"IF('Drill Shaft'!$D$26=\"\",\"\",'Drill Shaft'!$D$26)","v":"No."},{"$f":"IF('Drill Shaft'!$A$47=\"\",\"\",'Drill Shaft'!$A$47)","v":5}]
[40,{"$f":"IF('Drill Shaft'!$D$49=\"\",\"\",'Drill Shaft'!$D$49)","v":""},{"$f":"IF( 'Drill Shaft'!$B$5=\"\",\"\", 'Drill Shaft'!$B$5)","v":"Drilled Shaft Record"},{"$f":"IF('Drill Shaft'!$D$25=\"\",\"\",'Drill Shaft'!$D$25)","v":"DRILLED SHAFT"},{"$f":"IF('Drill Shaft'!$D$26=\"\",\"\",'Drill Shaft'!$D$26)","v":"No."},{"$f":"IF('Drill Shaft'!$A$47=\"\",\"\",'Drill Shaft'!$A$47)","v":5}]
[41,{"$f":"IF('Drill Shaft'!$D$50=\"\",\"\",'Drill Shaft'!$D$50)","v":""},{"$f":"IF( 'Drill Shaft'!$B$5=\"\",\"\", 'Drill Shaft'!$B$5)","v":"Drilled Shaft Record"},{"$f":"IF('Drill Shaft'!$D$25=\"\",\"\",'Drill Shaft'!$D$25)","v":"DRILLED SHAFT"},{"$f":"IF('Drill Shaft'!$D$26=\"\",\"\",'Drill Shaft'!$D$26)","v":"No."},{"$f":"IF('Drill Shaft'!$A$47=\"\",\"\",'Drill Shaft'!$A$47)","v":5}]
[42,{"$f":"IF('Drill Shaft'!$D$51=\"\",\"\",'Drill Shaft'!$D$51)","v":""},{"$f":"IF( 'Drill Shaft'!$B$5=\"\",\"\", 'Drill Shaft'!$B$5)","v":"Drilled Shaft Record"},{"$f":"IF('Drill Shaft'!$D$25=\"\",\"\",'Drill Shaft'!$D$25)","v":"DRILLED SHAFT"},{"$f":"IF('Drill Shaft'!$D$26=\"\",\"\",'Drill Shaft'!$D$26)","v":"No."},{"$f":"IF('Drill Shaft'!$A$47=\"\",\"\",'Drill Shaft'!$A$47)","v":5}]
[43,{"$f":"IF('Drill Shaft'!$E$27=\"\",\"\",'Drill Shaft'!$E$27)","v":""},{"$f":"IF( 'Drill Shaft'!$B$5=\"\",\"\", 'Drill Shaft'!$B$5)","v":"Drilled Shaft Record"},{"$f":"IF('Drill Shaft'!$D$25=\"\",\"\",'Drill Shaft'!$D$25)","v":"DRILLED SHAFT"},{"$f":"IF('Drill Shaft'!$E$26=\"\",\"\",'Drill Shaft'!$E$26)","v":"Dia.  (in.)"},{"$f":"IF('Drill Shaft'!$A$27=\"\",\"\",'Drill Shaft'!$A$27)","v":1}]
[44,{"$f":"IF('Drill Shaft'!$E$28=\"\",\"\",'Drill Shaft'!$E$28)","v":""},{"$f":"IF( 'Drill Shaft'!$B$5=\"\",\"\", 'Drill Shaft'!$B$5)","v":"Drilled Shaft Record"},{"$f":"IF('Drill Shaft'!$D$25=\"\",\"\",'Drill Shaft'!$D$25)","v":"DRILLED SHAFT"},{"$f":"IF('Drill Shaft'!$E$26=\"\",\"\",'Drill Shaft'!$E$26)","v":"Dia.  (in.)"},{"$f":"IF('Drill Shaft'!$A$27=\"\",\"\",'Drill Shaft'!$A$27)","v":1}]
[45,{"$f":"IF('Drill Shaft'!$E$29=\"\",\"\",'Drill Shaft'!$E$29)","v":""},{"$f":"IF( 'Drill Shaft'!$B$5=\"\",\"\", 'Drill Shaft'!$B$5)","v":"Drilled Shaft Record"},{"$f":"IF('Drill Shaft'!$D$25=\"\",\"\",'Drill Shaft'!$D$25)","v":"DRILLED SHAFT"},{"$f":"IF('Drill Shaft'!$E$26=\"\",\"\",'Drill Shaft'!$E$26)","v":"Dia.  (in.)"},{"$f":"IF('Drill Shaft'!$A$27=\"\",\"\",'Drill Shaft'!$A$27)","v":1}]
[46,{"$f":"IF('Drill Shaft'!$E$30=\"\",\"\",'Drill Shaft'!$E$30)","v":""},{"$f":"IF( 'Drill Shaft'!$B$5=\"\",\"\", 'Drill Shaft'!$B$5)","v":"Drilled Shaft Record"},{"$f":"IF('Drill Shaft'!$D$25=\"\",\"\",'Drill Shaft'!$D$25)","v":"DRILLED SHAFT"},{"$f":"IF('Drill Shaft'!$E$26=\"\",\"\",'Drill Shaft'!$E$26)","v":"Dia.  (in.)"},{"$f":"IF('Drill Shaft'!$A$27=\"\",\"\",'Drill Shaft'!$A$27)","v":1}]
[47,{"$f":"IF('Drill Shaft'!$E$31=\"\",\"\",'Drill Shaft'!$E$31)","v":""},{"$f":"IF( 'Drill Shaft'!$B$5=\"\",\"\", 'Drill Shaft'!$B$5)","v":"Drilled Shaft Record"},{"$f":"IF('Drill Shaft'!$D$25=\"\",\"\",'Drill Shaft'!$D$25)","v":"DRILLED SHAFT"},{"$f":"IF('Drill Shaft'!$E$26=\"\",\"\",'Drill Shaft'!$E$26)","v":"Dia.  (in.)"},{"$f":"IF('Drill Shaft'!$A$27=\"\",\"\",'Drill Shaft'!$A$27)","v":1}]
[48,{"$f":"IF('Drill Shaft'!$E$32=\"\",\"\",'Drill Shaft'!$E$32)","v":""},{"$f":"IF( 'Drill Shaft'!$B$5=\"\",\"\", 'Drill Shaft'!$B$5)","v":"Drilled Shaft Record"},{"$f":"IF('Drill Shaft'!$D$25=\"\",\"\",'Drill Shaft'!$D$25)","v":"DRILLED SHAFT"},{"$f":"IF('Drill Shaft'!$E$26=\"\",\"\",'Drill Shaft'!$E$26)","v":"Dia.  (in.)"},{"$f":"IF('Drill Shaft'!$A$32=\"\",\"\",'Drill Shaft'!$A$32)","v":2}]
[49,{"$f":"IF('Drill Shaft'!$E$33=\"\",\"\",'Drill Shaft'!$E$33)","v":""},{"$f":"IF( 'Drill Shaft'!$B$5=\"\",\"\", 'Drill Shaft'!$B$5)","v":"Drilled Shaft Record"},{"$f":"IF('Drill Shaft'!$D$25=\"\",\"\",'Drill Shaft'!$D$25)","v":"DRILLED SHAFT"},{"$f":"IF('Drill Shaft'!$E$26=\"\",\"\",'Drill Shaft'!$E$26)","v":"Dia.  (in.)"},{"$f":"IF('Drill Shaft'!$A$32=\"\",\"\",'Drill Shaft'!$A$32)","v":2}]
[50,{"$f":"IF('Drill Shaft'!$E$34=\"\",\"\",'Drill Shaft'!$E$34)","v":""},{"$f":"IF( 'Drill Shaft'!$B$5=\"\",\"\", 'Drill Shaft'!$B$5)","v":"Drilled Shaft Record"},{"$f":"IF('Drill Shaft'!$D$25=\"\",\"\",'Drill Shaft'!$D$25)","v":"DRILLED SHAFT"},{"$f":"IF('Drill Shaft'!$E$26=\"\",\"\",'Drill Shaft'!$E$26)","v":"Dia.  (in.)"},{"$f":"IF('Drill Shaft'!$A$32=\"\",\"\",'Drill Shaft'!$A$32)","v":2}]
[51,{"$f":"IF('Drill Shaft'!$E$35=\"\",\"\",'Drill Shaft'!$E$35)","v":""},{"$f":"IF( 'Drill Shaft'!$B$5=\"\",\"\", 'Drill Shaft'!$B$5)","v":"Drilled Shaft Record"},{"$f":"IF('Drill Shaft'!$D$25=\"\",\"\",'Drill Shaft'!$D$25)","v":"DRILLED SHAFT"},{"$f":"IF('Drill Shaft'!$E$26=\"\",\"\",'Drill Shaft'!$E$26)","v":"Dia.  (in.)"},{"$f":"IF('Drill Shaft'!$A$32=\"\",\"\",'Drill Shaft'!$A$32)","v":2}]
[52,{"$f":"IF('Drill Shaft'!$E$36=\"\",\"\",'Drill Shaft'!$E$36)","v":""},{"$f":"IF( 'Drill Shaft'!$B$5=\"\",\"\", 'Drill Shaft'!$B$5)","v":"Drilled Shaft Record"},{"$f":"IF('Drill Shaft'!$D$25=\"\",\"\",'Drill Shaft'!$D$25)","v":"DRILLED SHAFT"},{"$f":"IF('Drill Shaft'!$E$26=\"\",\"\",'Drill Shaft'!$E$26)","v":"Dia.  (in.)"},{"$f":"IF('Drill Shaft'!$A$32=\"\",\"\",'Drill Shaft'!$A$32)","v":2}]
[53,{"$f":"IF('Drill Shaft'!$E$37=\"\",\"\",'Drill Shaft'!$E$37)","v":""},{"$f":"IF( 'Drill Shaft'!$B$5=\"\",\"\", 'Drill Shaft'!$B$5)","v":"Drilled Shaft Record"},{"$f":"IF('Drill Shaft'!$D$25=\"\",\"\",'Drill Shaft'!$D$25)","v":"DRILLED SHAFT"},{"$f":"IF('Drill Shaft'!$E$26=\"\",\"\",'Drill Shaft'!$E$26)","v":"Dia.  (in.)"},{"$f":"IF('Drill Shaft'!$A$37=\"\",\"\",'Drill Shaft'!$A$37)","v":3}]
[54,{"$f":"IF('Drill Shaft'!$E$38=\"\",\"\",'Drill Shaft'!$E$38)","v":""},{"$f":"IF( 'Drill Shaft'!$B$5=\"\",\"\", 'Drill Shaft'!$B$5)","v":"Drilled Shaft Record"},{"$f":"IF('Drill Shaft'!$D$25=\"\",\"\",'Drill Shaft'!$D$25)","v":"DRILLED SHAFT"},{"$f":"IF('Drill Shaft'!$E$26=\"\",\"\",'Drill Shaft'!$E$26)","v":"Dia.  (in.)"},{"$f":"IF('Drill Shaft'!$A$37=\"\",\"\",'Drill Shaft'!$A$37)","v":3}]
[55,{"$f":"IF('Drill Shaft'!$E$39=\"\",\"\",'Drill Shaft'!$E$39)","v":""},{"$f":"IF( 'Drill Shaft'!$B$5=\"\",\"\", 'Drill Shaft'!$B$5)","v":"Drilled Shaft Record"},{"$f":"IF('Drill Shaft'!$D$25=\"\",\"\",'Drill Shaft'!$D$25)","v":"DRILLED SHAFT"},{"$f":"IF('Drill Shaft'!$E$26=\"\",\"\",'Drill Shaft'!$E$26)","v":"Dia.  (in.)"},{"$f":"IF('Drill Shaft'!$A$37=\"\",\"\",'Drill Shaft'!$A$37)","v":3}]
[56,{"$f":"IF('Drill Shaft'!$E$40=\"\",\"\",'Drill Shaft'!$E$40)","v":""},{"$f":"IF( 'Drill Shaft'!$B$5=\"\",\"\", 'Drill Shaft'!$B$5)","v":"Drilled Shaft Record"},{"$f":"IF('Drill Shaft'!$D$25=\"\",\"\",'Drill Shaft'!$D$25)","v":"DRILLED SHAFT"},{"$f":"IF('Drill Shaft'!$E$26=\"\",\"\",'Drill Shaft'!$E$26)","v":"Dia.  (in.)"},{"$f":"IF('Drill Shaft'!$A$37=\"\",\"\",'Drill Shaft'!$A$37)","v":3}]
[57,{"$f":"IF('Drill Shaft'!$E$41=\"\",\"\",'Drill Shaft'!$E$41)","v":""},{"$f":"IF( 'Drill Shaft'!$B$5=\"\",\"\", 'Drill Shaft'!$B$5)","v":"Drilled Shaft Record"},{"$f":"IF('Drill Shaft'!$D$25=\"\",\"\",'Drill Shaft'!$D$25)","v":"DRILLED SHAFT"},{"$f":"IF('Drill Shaft'!$E$26=\"\",\"\",'Drill Shaft'!$E$26)","v":"Dia.  (in.)"},{"$f":"IF('Drill Shaft'!$A$37=\"\",\"\",'Drill Shaft'!$A$37)","v":3}]
[58,{"$f":"IF('Drill Shaft'!$E$42=\"\",\"\",'Drill Shaft'!$E$42)","v":""},{"$f":"IF( 'Drill Shaft'!$B$5=\"\",\"\", 'Drill Shaft'!$B$5)","v":"Drilled Shaft Record"},{"$f":"IF('Drill Shaft'!$D$25=\"\",\"\",'Drill Shaft'!$D$25)","v":"DRILLED SHAFT"},{"$f":"IF('Drill Shaft'!$E$26=\"\",\"\",'Drill Shaft'!$E$26)","v":"Dia.  (in.)"},{"$f":"IF('Drill Shaft'!$A$42=\"\",\"\",'Drill Shaft'!$A$42)","v":4}]
[59,{"$f":"IF('Drill Shaft'!$E$43=\"\",\"\",'Drill Shaft'!$E$43)","v":""},{"$f":"IF( 'Drill Shaft'!$B$5=\"\",\"\", 'Drill Shaft'!$B$5)","v":"Drilled Shaft Record"},{"$f":"IF('Drill Shaft'!$D$25=\"\",\"\",'Drill Shaft'!$D$25)","v":"DRILLED SHAFT"},{"$f":"IF('Drill Shaft'!$E$26=\"\",\"\",'Drill Shaft'!$E$26)","v":"Dia.  (in.)"},{"$f":"IF('Drill Shaft'!$A$42=\"\",\"\",'Drill Shaft'!$A$42)","v":4}]
[60,{"$f":"IF('Drill Shaft'!$E$44=\"\",\"\",'Drill Shaft'!$E$44)","v":""},{"$f":"IF( 'Drill Shaft'!$B$5=\"\",\"\", 'Drill Shaft'!$B$5)","v":"Drilled Shaft Record"},{"$f":"IF('Drill Shaft'!$D$25=\"\",\"\",'Drill Shaft'!$D$25)","v":"DRILLED SHAFT"},{"$f":"IF('Drill Shaft'!$E$26=\"\",\"\",'Drill Shaft'!$E$26)","v":"Dia.  (in.)"},{"$f":"IF('Drill Shaft'!$A$42=\"\",\"\",'Drill Shaft'!$A$42)","v":4}]
[61,{"$f":"IF('Drill Shaft'!$E$45=\"\",\"\",'Drill Shaft'!$E$45)","v":""},{"$f":"IF( 'Drill Shaft'!$B$5=\"\",\"\", 'Drill Shaft'!$B$5)","v":"Drilled Shaft Record"},{"$f":"IF('Drill Shaft'!$D$25=\"\",\"\",'Drill Shaft'!$D$25)","v":"DRILLED SHAFT"},{"$f":"IF('Drill Shaft'!$E$26=\"\",\"\",'Drill Shaft'!$E$26)","v":"Dia.  (in.)"},{"$f":"IF('Drill Shaft'!$A$42=\"\",\"\",'Drill Shaft'!$A$42)","v":4}]
[62,{"$f":"IF('Drill Shaft'!$E$46=\"\",\"\",'Drill Shaft'!$E$46)","v":""},{"$f":"IF( 'Drill Shaft'!$B$5=\"\",\"\", 'Drill Shaft'!$B$5)","v":"Drilled Shaft Record"},{"$f":"IF('Drill Shaft'!$D$25=\"\",\"\",'Drill Shaft'!$D$25)","v":"DRILLED SHAFT"},{"$f":"IF('Drill Shaft'!$E$26=\"\",\"\",'Drill Shaft'!$E$26)","v":"Dia.  (in.)"},{"$f":"IF('Drill Shaft'!$A$42=\"\",\"\",'Drill Shaft'!$A$42)","v":4}]
[63,{"$f":"IF('Drill Shaft'!$E$47=\"\",\"\",'Drill Shaft'!$E$47)","v":""},{"$f":"IF( 'Drill Shaft'!$B$5=\"\",\"\", 'Drill Shaft'!$B$5)","v":"Drilled Shaft Record"},{"$f":"IF('Drill Shaft'!$D$25=\"\",\"\",'Drill Shaft'!$D$25)","v":"DRILLED SHAFT"},{"$f":"IF('Drill Shaft'!$E$26=\"\",\"\",'Drill Shaft'!$E$26)","v":"Dia.  (in.)"},{"$f":"IF('Drill Shaft'!$A$47=\"\",\"\",'Drill Shaft'!$A$47)","v":5}]
[64,{"$f":"IF('Drill Shaft'!$E$48=\"\",\"\",'Drill Shaft'!$E$48)","v":""},{"$f":"IF( 'Drill Shaft'!$B$5=\"\",\"\", 'Drill Shaft'!$B$5)","v":"Drilled Shaft Record"},{"$f":"IF('Drill Shaft'!$D$25=\"\",\"\",'Drill Shaft'!$D$25)","v":"DRILLED SHAFT"},{"$f":"IF('Drill Shaft'!$E$26=\"\",\"\",'Drill Shaft'!$E$26)","v":"Dia.  (in.)"},{"$f":"IF('Drill Shaft'!$A$47=\"\",\"\",'Drill Shaft'!$A$47)","v":5}]
[65,{"$f":"IF('Drill Shaft'!$E$49=\"\",\"\",'Drill Shaft'!$E$49)","v":""},{"$f":"IF( 'Drill Shaft'!$B$5=\"\",\"\", 'Drill Shaft'!$B$5)","v":"Drilled Shaft Record"},{"$f":"IF('Drill Shaft'!$D$25=\"\",\"\",'Drill Shaft'!$D$25)","v":"DRILLED SHAFT"},{"$f":"IF('Drill Shaft'!$E$26=\"\",\"\",'Drill Shaft'!$E$26)","v":"Dia.  (in.)"},{"$f":"IF('Drill Shaft'!$A$47=\"\",\"\",'Drill Shaft'!$A$47)","v":5}]
[66,{"$f":"IF('Drill Shaft'!$E$50=\"\",\"\",'Drill Shaft'!$E$50)","v":""},{"$f":"IF( 'Drill Shaft'!$B$5=\"\",\"\", 'Drill Shaft'!$B$5)","v":"Drilled Shaft Record"},{"$f":"IF('Drill Shaft'!$D$25=\"\",\"\",'Drill Shaft'!$D$25)","v":"DRILLED SHAFT"},{"$f":"IF('Drill Shaft'!$E$26=\"\",\"\",'Drill Shaft'!$E$26)","v":"Dia.  (in.)"},{"$f":"IF('Drill Shaft'!$A$47=\"\",\"\",'Drill Shaft'!$A$47)","v":5}]
[67,{"$f":"IF('Drill Shaft'!$E$51=\"\",\"\",'Drill Shaft'!$E$51)","v":""},{"$f":"IF( 'Drill Shaft'!$B$5=\"\",\"\", 'Drill Shaft'!$B$5)","v":"Drilled Shaft Record"},{"$f":"IF('Drill Shaft'!$D$25=\"\",\"\",'Drill Shaft'!$D$25)","v":"DRILLED SHAFT"},{"$f":"IF('Drill Shaft'!$E$26=\"\",\"\",'Drill Shaft'!$E$26)","v":"Dia.  (in.)"},{"$f":"IF('Drill Shaft'!$A$47=\"\",\"\",'Drill Shaft'!$A$47)","v":5}]
[68,{"$f":"IF('Drill Shaft'!$F$27=\"\",\"\",'Drill Shaft'!$F$27)","v":""},{"$f":"IF( 'Drill Shaft'!$B$5=\"\",\"\", 'Drill Shaft'!$B$5)","v":"Drilled Shaft Record"},{"$f":"IF('Drill Shaft'!$D$25=\"\",\"\",'Drill Shaft'!$D$25)","v":"DRILLED SHAFT"},{"$f":"IF('Drill Shaft'!$F$26=\"\",\"\",'Drill Shaft'!$F$26)","v":"Top of Shaft Elev."},{"$f":"IF('Drill Shaft'!$A$27=\"\",\"\",'Drill Shaft'!$A$27)","v":1}]
[69,{"$f":"IF('Drill Shaft'!$F$28=\"\",\"\",'Drill Shaft'!$F$28)","v":""},{"$f":"IF( 'Drill Shaft'!$B$5=\"\",\"\", 'Drill Shaft'!$B$5)","v":"Drilled Shaft Record"},{"$f":"IF('Drill Shaft'!$D$25=\"\",\"\",'Drill Shaft'!$D$25)","v":"DRILLED SHAFT"},{"$f":"IF('Drill Shaft'!$F$26=\"\",\"\",'Drill Shaft'!$F$26)","v":"Top of Shaft Elev."},{"$f":"IF('Drill Shaft'!$A$27=\"\",\"\",'Drill Shaft'!$A$27)","v":1}]
[70,{"$f":"IF('Drill Shaft'!$F$29=\"\",\"\",'Drill Shaft'!$F$29)","v":""},{"$f":"IF( 'Drill Shaft'!$B$5=\"\",\"\", 'Drill Shaft'!$B$5)","v":"Drilled Shaft Record"},{"$f":"IF('Drill Shaft'!$D$25=\"\",\"\",'Drill Shaft'!$D$25)","v":"DRILLED SHAFT"},{"$f":"IF('Drill Shaft'!$F$26=\"\",\"\",'Drill Shaft'!$F$26)","v":"Top of Shaft Elev."},{"$f":"IF('Drill Shaft'!$A$27=\"\",\"\",'Drill Shaft'!$A$27)","v":1}]
[71,{"$f":"IF('Drill Shaft'!$F$30=\"\",\"\",'Drill Shaft'!$F$30)","v":""},{"$f":"IF( 'Drill Shaft'!$B$5=\"\",\"\", 'Drill Shaft'!$B$5)","v":"Drilled Shaft Record"},{"$f":"IF('Drill Shaft'!$D$25=\"\",\"\",'Drill Shaft'!$D$25)","v":"DRILLED SHAFT"},{"$f":"IF('Drill Shaft'!$F$26=\"\",\"\",'Drill Shaft'!$F$26)","v":"Top of Shaft Elev."},{"$f":"IF('Drill Shaft'!$A$27=\"\",\"\",'Drill Shaft'!$A$27)","v":1}]
[72,{"$f":"IF('Drill Shaft'!$F$31=\"\",\"\",'Drill Shaft'!$F$31)","v":""},{"$f":"IF( 'Drill Shaft'!$B$5=\"\",\"\", 'Drill Shaft'!$B$5)","v":"Drilled Shaft Record"},{"$f":"IF('Drill Shaft'!$D$25=\"\",\"\",'Drill Shaft'!$D$25)","v":"DRILLED SHAFT"},{"$f":"IF('Drill Shaft'!$F$26=\"\",\"\",'Drill Shaft'!$F$26)","v":"Top of Shaft Elev."},{"$f":"IF('Drill Shaft'!$A$27=\"\",\"\",'Drill Shaft'!$A$27)","v":1}]
[73,{"$f":"IF('Drill Shaft'!$F$32=\"\",\"\",'Drill Shaft'!$F$32)","v":""},{"$f":"IF( 'Drill Shaft'!$B$5=\"\",\"\", 'Drill Shaft'!$B$5)","v":"Drilled Shaft Record"},{"$f":"IF('Drill Shaft'!$D$25=\"\",\"\",'Drill Shaft'!$D$25)","v":"DRILLED SHAFT"},{"$f":"IF('Drill Shaft'!$F$26=\"\",\"\",'Drill Shaft'!$F$26)","v":"Top of Shaft Elev."},{"$f":"IF('Drill Shaft'!$A$32=\"\",\"\",'Drill Shaft'!$A$32)","v":2}]
[74,{"$f":"IF('Drill Shaft'!$F$33=\"\",\"\",'Drill Shaft'!$F$33)","v":""},{"$f":"IF( 'Drill Shaft'!$B$5=\"\",\"\", 'Drill Shaft'!$B$5)","v":"Drilled Shaft Record"},{"$f":"IF('Drill Shaft'!$D$25=\"\",\"\",'Drill Shaft'!$D$25)","v":"DRILLED SHAFT"},{"$f":"IF('Drill Shaft'!$F$26=\"\",\"\",'Drill Shaft'!$F$26)","v":"Top of Shaft Elev."},{"$f":"IF('Drill Shaft'!$A$32=\"\",\"\",'Drill Shaft'!$A$32)","v":2}]
[75,{"$f":"IF('Drill Shaft'!$F$34=\"\",\"\",'Drill Shaft'!$F$34)","v":""},{"$f":"IF( 'Drill Shaft'!$B$5=\"\",\"\", 'Drill Shaft'!$B$5)","v":"Drilled Shaft Record"},{"$f":"IF('Drill Shaft'!$D$25=\"\",\"\",'Drill Shaft'!$D$25)","v":"DRILLED SHAFT"},{"$f":"IF('Drill Shaft'!$F$26=\"\",\"\",'Drill Shaft'!$F$26)","v":"Top of Shaft Elev."},{"$f":"IF('Drill Shaft'!$A$32=\"\",\"\",'Drill Shaft'!$A$32)","v":2}]
[76,{"$f":"IF('Drill Shaft'!$F$35=\"\",\"\",'Drill Shaft'!$F$35)","v":""},{"$f":"IF( 'Drill Shaft'!$B$5=\"\",\"\", 'Drill Shaft'!$B$5)","v":"Drilled Shaft Record"},{"$f":"IF('Drill Shaft'!$D$25=\"\",\"\",'Drill Shaft'!$D$25)","v":"DRILLED SHAFT"},{"$f":"IF('Drill Shaft'!$F$26=\"\",\"\",'Drill Shaft'!$F$26)","v":"Top of Shaft Elev."},{"$f":"IF('Drill Shaft'!$A$32=\"\",\"\",'Drill Shaft'!$A$32)","v":2}]
[77,{"$f":"IF('Drill Shaft'!$F$36=\"\",\"\",'Drill Shaft'!$F$36)","v":""},{"$f":"IF( 'Drill Shaft'!$B$5=\"\",\"\", 'Drill Shaft'!$B$5)","v":"Drilled Shaft Record"},{"$f":"IF('Drill Shaft'!$D$25=\"\",\"\",'Drill Shaft'!$D$25)","v":"DRILLED SHAFT"},{"$f":"IF('Drill Shaft'!$F$26=\"\",\"\",'Drill Shaft'!$F$26)","v":"Top of Shaft Elev."},{"$f":"IF('Drill Shaft'!$A$32=\"\",\"\",'Drill Shaft'!$A$32)","v":2}]
[78,{"$f":"IF('Drill Shaft'!$F$37=\"\",\"\",'Drill Shaft'!$F$37)","v":""},{"$f":"IF( 'Drill Shaft'!$B$5=\"\",\"\", 'Drill Shaft'!$B$5)","v":"Drilled Shaft Record"},{"$f":"IF('Drill Shaft'!$D$25=\"\",\"\",'Drill Shaft'!$D$25)","v":"DRILLED SHAFT"},{"$f":"IF('Drill Shaft'!$F$26=\"\",\"\",'Drill Shaft'!$F$26)","v":"Top of Shaft Elev."},{"$f":"IF('Drill Shaft'!$A$37=\"\",\"\",'Drill Shaft'!$A$37)","v":3}]
[79,{"$f":"IF('Drill Shaft'!$F$38=\"\",\"\",'Drill Shaft'!$F$38)","v":""},{"$f":"IF( 'Drill Shaft'!$B$5=\"\",\"\", 'Drill Shaft'!$B$5)","v":"Drilled Shaft Record"},{"$f":"IF('Drill Shaft'!$D$25=\"\",\"\",'Drill Shaft'!$D$25)","v":"DRILLED SHAFT"},{"$f":"IF('Drill Shaft'!$F$26=\"\",\"\",'Drill Shaft'!$F$26)","v":"Top of Shaft Elev."},{"$f":"IF('Drill Shaft'!$A$37=\"\",\"\",'Drill Shaft'!$A$37)","v":3}]
[80,{"$f":"IF('Drill Shaft'!$F$39=\"\",\"\",'Drill Shaft'!$F$39)","v":""},{"$f":"IF( 'Drill Shaft'!$B$5=\"\",\"\", 'Drill Shaft'!$B$5)","v":"Drilled Shaft Record"},{"$f":"IF('Drill Shaft'!$D$25=\"\",\"\",'Drill Shaft'!$D$25)","v":"DRILLED SHAFT"},{"$f":"IF('Drill Shaft'!$F$26=\"\",\"\",'Drill Shaft'!$F$26)","v":"Top of Shaft Elev."},{"$f":"IF('Drill Shaft'!$A$37=\"\",\"\",'Drill Shaft'!$A$37)","v":3}]
[81,{"$f":"IF('Drill Shaft'!$F$40=\"\",\"\",'Drill Shaft'!$F$40)","v":""},{"$f":"IF( 'Drill Shaft'!$B$5=\"\",\"\", 'Drill Shaft'!$B$5)","v":"Drilled Shaft Record"},{"$f":"IF('Drill Shaft'!$D$25=\"\",\"\",'Drill Shaft'!$D$25)","v":"DRILLED SHAFT"},{"$f":"IF('Drill Shaft'!$F$26=\"\",\"\",'Drill Shaft'!$F$26)","v":"Top of Shaft Elev."},{"$f":"IF('Drill Shaft'!$A$37=\"\",\"\",'Drill Shaft'!$A$37)","v":3}]
[82,{"$f":"IF('Drill Shaft'!$F$41=\"\",\"\",'Drill Shaft'!$F$41)","v":""},{"$f":"IF( 'Drill Shaft'!$B$5=\"\",\"\", 'Drill Shaft'!$B$5)","v":"Drilled Shaft Record"},{"$f":"IF('Drill Shaft'!$D$25=\"\",\"\",'Drill Shaft'!$D$25)","v":"DRILLED SHAFT"},{"$f":"IF('Drill Shaft'!$F$26=\"\",\"\",'Drill Shaft'!$F$26)","v":"Top of Shaft Elev."},{"$f":"IF('Drill Shaft'!$A$37=\"\",\"\",'Drill Shaft'!$A$37)","v":3}]
[83,{"$f":"IF('Drill Shaft'!$F$42=\"\",\"\",'Drill Shaft'!$F$42)","v":""},{"$f":"IF( 'Drill Shaft'!$B$5=\"\",\"\", 'Drill Shaft'!$B$5)","v":"Drilled Shaft Record"},{"$f":"IF('Drill Shaft'!$D$25=\"\",\"\",'Drill Shaft'!$D$25)","v":"DRILLED SHAFT"},{"$f":"IF('Drill Shaft'!$F$26=\"\",\"\",'Drill Shaft'!$F$26)","v":"Top of Shaft Elev."},{"$f":"IF('Drill Shaft'!$A$42=\"\",\"\",'Drill Shaft'!$A$42)","v":4}]
[84,{"$f":"IF('Drill Shaft'!$F$43=\"\",\"\",'Drill Shaft'!$F$43)","v":""},{"$f":"IF( 'Drill Shaft'!$B$5=\"\",\"\", 'Drill Shaft'!$B$5)","v":"Drilled Shaft Record"},{"$f":"IF('Drill Shaft'!$D$25=\"\",\"\",'Drill Shaft'!$D$25)","v":"DRILLED SHAFT"},{"$f":"IF('Drill Shaft'!$F$26=\"\",\"\",'Drill Shaft'!$F$26)","v":"Top of Shaft Elev."},{"$f":"IF('Drill Shaft'!$A$42=\"\",\"\",'Drill Shaft'!$A$42)","v":4}]
[85,{"$f":"IF('Drill Shaft'!$F$44=\"\",\"\",'Drill Shaft'!$F$44)","v":""},{"$f":"IF( 'Drill Shaft'!$B$5=\"\",\"\", 'Drill Shaft'!$B$5)","v":"Drilled Shaft Record"},{"$f":"IF('Drill Shaft'!$D$25=\"\",\"\",'Drill Shaft'!$D$25)","v":"DRILLED SHAFT"},{"$f":"IF('Drill Shaft'!$F$26=\"\",\"\",'Drill Shaft'!$F$26)","v":"Top of Shaft Elev."},{"$f":"IF('Drill Shaft'!$A$42=\"\",\"\",'Drill Shaft'!$A$42)","v":4}]
[86,{"$f":"IF('Drill Shaft'!$F$45=\"\",\"\",'Drill Shaft'!$F$45)","v":""},{"$f":"IF( 'Drill Shaft'!$B$5=\"\",\"\", 'Drill Shaft'!$B$5)","v":"Drilled Shaft Record"},{"$f":"IF('Drill Shaft'!$D$25=\"\",\"\",'Drill Shaft'!$D$25)","v":"DRILLED SHAFT"},{"$f":"IF('Drill Shaft'!$F$26=\"\",\"\",'Drill Shaft'!$F$26)","v":"Top of Shaft Elev."},{"$f":"IF('Drill Shaft'!$A$42=\"\",\"\",'Drill Shaft'!$A$42)","v":4}]
[87,{"$f":"IF('Drill Shaft'!$F$46=\"\",\"\",'Drill Shaft'!$F$46)","v":""},{"$f":"IF( 'Drill Shaft'!$B$5=\"\",\"\", 'Drill Shaft'!$B$5)","v":"Drilled Shaft Record"},{"$f":"IF('Drill Shaft'!$D$25=\"\",\"\",'Drill Shaft'!$D$25)","v":"DRILLED SHAFT"},{"$f":"IF('Drill Shaft'!$F$26=\"\",\"\",'Drill Shaft'!$F$26)","v":"Top of Shaft Elev."},{"$f":"IF('Drill Shaft'!$A$42=\"\",\"\",'Drill Shaft'!$A$42)","v":4}]
[88,{"$f":"IF('Drill Shaft'!$F$47=\"\",\"\",'Drill Shaft'!$F$47)","v":""},{"$f":"IF( 'Drill Shaft'!$B$5=\"\",\"\", 'Drill Shaft'!$B$5)","v":"Drilled Shaft Record"},{"$f":"IF('Drill Shaft'!$D$25=\"\",\"\",'Drill Shaft'!$D$25)","v":"DRILLED SHAFT"},{"$f":"IF('Drill Shaft'!$F$26=\"\",\"\",'Drill Shaft'!$F$26)","v":"Top of Shaft Elev."},{"$f":"IF('Drill Shaft'!$A$47=\"\",\"\",'Drill Shaft'!$A$47)","v":5}]
[89,{"$f":"IF('Drill Shaft'!$F$48=\"\",\"\",'Drill Shaft'!$F$48)","v":""},{"$f":"IF( 'Drill Shaft'!$B$5=\"\",\"\", 'Drill Shaft'!$B$5)","v":"Drilled Shaft Record"},{"$f":"IF('Drill Shaft'!$D$25=\"\",\"\",'Drill Shaft'!$D$25)","v":"DRILLED SHAFT"},{"$f":"IF('Drill Shaft'!$F$26=\"\",\"\",'Drill Shaft'!$F$26)","v":"Top of Shaft Elev."},{"$f":"IF('Drill Shaft'!$A$47=\"\",\"\",'Drill Shaft'!$A$47)","v":5}]
[90,{"$f":"IF('Drill Shaft'!$F$49=\"\",\"\",'Drill Shaft'!$F$49)","v":""},{"$f":"IF( 'Drill Shaft'!$B$5=\"\",\"\", 'Drill Shaft'!$B$5)","v":"Drilled Shaft Record"},{"$f":"IF('Drill Shaft'!$D$25=\"\",\"\",'Drill Shaft'!$D$25)","v":"DRILLED SHAFT"},{"$f":"IF('Drill Shaft'!$F$26=\"\",\"\",'Drill Shaft'!$F$26)","v":"Top of Shaft Elev."},{"$f":"IF('Drill Shaft'!$A$47=\"\",\"\",'Drill Shaft'!$A$47)","v":5}]
[91,{"$f":"IF('Drill Shaft'!$F$50=\"\",\"\",'Drill Shaft'!$F$50)","v":""},{"$f":"IF( 'Drill Shaft'!$B$5=\"\",\"\", 'Drill Shaft'!$B$5)","v":"Drilled Shaft Record"},{"$f":"IF('Drill Shaft'!$D$25=\"\",\"\",'Drill Shaft'!$D$25)","v":"DRILLED SHAFT"},{"$f":"IF('Drill Shaft'!$F$26=\"\",\"\",'Drill Shaft'!$F$26)","v":"Top of Shaft Elev."},{"$f":"IF('Drill Shaft'!$A$47=\"\",\"\",'Drill Shaft'!$A$47)","v":5}]
[92,{"$f":"IF('Drill Shaft'!$F$51=\"\",\"\",'Drill Shaft'!$F$51)","v":""},{"$f":"IF( 'Drill Shaft'!$B$5=\"\",\"\", 'Drill Shaft'!$B$5)","v":"Drilled Shaft Record"},{"$f":"IF('Drill Shaft'!$D$25=\"\",\"\",'Drill Shaft'!$D$25)","v":"DRILLED SHAFT"},{"$f":"IF('Drill Shaft'!$F$26=\"\",\"\",'Drill Shaft'!$F$26)","v":"Top of Shaft Elev."},{"$f":"IF('Drill Shaft'!$A$47=\"\",\"\",'Drill Shaft'!$A$47)","v":5}]
[93,{"$f":"IF('Drill Shaft'!$G$27=\"\",\"\",'Drill Shaft'!$G$27)","v":""},{"$f":"IF( 'Drill Shaft'!$B$5=\"\",\"\", 'Drill Shaft'!$B$5)","v":"Drilled Shaft Record"},{"$f":"IF('Drill Shaft'!$D$25=\"\",\"\",'Drill Shaft'!$D$25)","v":"DRILLED SHAFT"},{"$f":"IF('Drill Shaft'!$G$26=\"\",\"\",'Drill Shaft'!$G$26)","v":"Length (ft.)"},{"$f":"IF('Drill Shaft'!$A$27=\"\",\"\",'Drill Shaft'!$A$27)","v":1}]
[94,{"$f":"IF('Drill Shaft'!$G$28=\"\",\"\",'Drill Shaft'!$G$28)","v":""},{"$f":"IF( 'Drill Shaft'!$B$5=\"\",\"\", 'Drill Shaft'!$B$5)","v":"Drilled Shaft Record"},{"$f":"IF('Drill Shaft'!$D$25=\"\",\"\",'Drill Shaft'!$D$25)","v":"DRILLED SHAFT"},{"$f":"IF('Drill Shaft'!$G$26=\"\",\"\",'Drill Shaft'!$G$26)","v":"Length (ft.)"},{"$f":"IF('Drill Shaft'!$A$27=\"\",\"\",'Drill Shaft'!$A$27)","v":1}]
[95,{"$f":"IF('Drill Shaft'!$G$29=\"\",\"\",'Drill Shaft'!$G$29)","v":""},{"$f":"IF( 'Drill Shaft'!$B$5=\"\",\"\", 'Drill Shaft'!$B$5)","v":"Drilled Shaft Record"},{"$f":"IF('Drill Shaft'!$D$25=\"\",\"\",'Drill Shaft'!$D$25)","v":"DRILLED SHAFT"},{"$f":"IF('Drill Shaft'!$G$26=\"\",\"\",'Drill Shaft'!$G$26)","v":"Length (ft.)"},{"$f":"IF('Drill Shaft'!$A$27=\"\",\"\",'Drill Shaft'!$A$27)","v":1}]
[96,{"$f":"IF('Drill Shaft'!$G$30=\"\",\"\",'Drill Shaft'!$G$30)","v":""},{"$f":"IF( 'Drill Shaft'!$B$5=\"\",\"\", 'Drill Shaft'!$B$5)","v":"Drilled Shaft Record"},{"$f":"IF('Drill Shaft'!$D$25=\"\",\"\",'Drill Shaft'!$D$25)","v":"DRILLED SHAFT"},{"$f":"IF('Drill Shaft'!$G$26=\"\",\"\",'Drill Shaft'!$G$26)","v":"Length (ft.)"},{"$f":"IF('Drill Shaft'!$A$27=\"\",\"\",'Drill Shaft'!$A$27)","v":1}]
[97,{"$f":"IF('Drill Shaft'!$G$31=\"\",\"\",'Drill Shaft'!$G$31)","v":""},{"$f":"IF( 'Drill Shaft'!$B$5=\"\",\"\", 'Drill Shaft'!$B$5)","v":"Drilled Shaft Record"},{"$f":"IF('Drill Shaft'!$D$25=\"\",\"\",'Drill Shaft'!$D$25)","v":"DRILLED SHAFT"},{"$f":"IF('Drill Shaft'!$G$26=\"\",\"\",'Drill Shaft'!$G$26)","v":"Length (ft.)"},{"$f":"IF('Drill Shaft'!$A$27=\"\",\"\",'Drill Shaft'!$A$27)","v":1}]
[98,{"$f":"IF('Drill Shaft'!$G$32=\"\",\"\",'Drill Shaft'!$G$32)","v":""},{"$f":"IF( 'Drill Shaft'!$B$5=\"\",\"\", 'Drill Shaft'!$B$5)","v":"Drilled Shaft Record"},{"$f":"IF('Drill Shaft'!$D$25=\"\",\"\",'Drill Shaft'!$D$25)","v":"DRILLED SHAFT"},{"$f":"IF('Drill Shaft'!$G$26=\"\",\"\",'Drill Shaft'!$G$26)","v":"Length (ft.)"},{"$f":"IF('Drill Shaft'!$A$32=\"\",\"\",'Drill Shaft'!$A$32)","v":2}]
[99,{"$f":"IF('Drill Shaft'!$G$33=\"\",\"\",'Drill Shaft'!$G$33)","v":""},{"$f":"IF( 'Drill Shaft'!$B$5=\"\",\"\", 'Drill Shaft'!$B$5)","v":"Drilled Shaft Record"},{"$f":"IF('Drill Shaft'!$D$25=\"\",\"\",'Drill Shaft'!$D$25)","v":"DRILLED SHAFT"},{"$f":"IF('Drill Shaft'!$G$26=\"\",\"\",'Drill Shaft'!$G$26)","v":"Length (ft.)"},{"$f":"IF('Drill Shaft'!$A$32=\"\",\"\",'Drill Shaft'!$A$32)","v":2}]
[100,{"$f":"IF('Drill Shaft'!$G$34=\"\",\"\",'Drill Shaft'!$G$34)","v":""},{"$f":"IF( 'Drill Shaft'!$B$5=\"\",\"\", 'Drill Shaft'!$B$5)","v":"Drilled Shaft Record"},{"$f":"IF('Drill Shaft'!$D$25=\"\",\"\",'Drill Shaft'!$D$25)","v":"DRILLED SHAFT"},{"$f":"IF('Drill Shaft'!$G$26=\"\",\"\",'Drill Shaft'!$G$26)","v":"Length (ft.)"},{"$f":"IF('Drill Shaft'!$A$32=\"\",\"\",'Drill Shaft'!$A$32)","v":2}]
[101,{"$f":"IF('Drill Shaft'!$G$35=\"\",\"\",'Drill Shaft'!$G$35)","v":""},{"$f":"IF( 'Drill Shaft'!$B$5=\"\",\"\", 'Drill Shaft'!$B$5)","v":"Drilled Shaft Record"},{"$f":"IF('Drill Shaft'!$D$25=\"\",\"\",'Drill Shaft'!$D$25)","v":"DRILLED SHAFT"},{"$f":"IF('Drill Shaft'!$G$26=\"\",\"\",'Drill Shaft'!$G$26)","v":"Length (ft.)"},{"$f":"IF('Drill Shaft'!$A$32=\"\",\"\",'Drill Shaft'!$A$32)","v":2}]
[102,{"$f":"IF('Drill Shaft'!$G$36=\"\",\"\",'Drill Shaft'!$G$36)","v":""},{"$f":"IF( 'Drill Shaft'!$B$5=\"\",\"\", 'Drill Shaft'!$B$5)","v":"Drilled Shaft Record"},{"$f":"IF('Drill Shaft'!$D$25=\"\",\"\",'Drill Shaft'!$D$25)","v":"DRILLED SHAFT"},{"$f":"IF('Drill Shaft'!$G$26=\"\",\"\",'Drill Shaft'!$G$26)","v":"Length (ft.)"},{"$f":"IF('Drill Shaft'!$A$32=\"\",\"\",'Drill Shaft'!$A$32)","v":2}]
[103,{"$f":"IF('Drill Shaft'!$G$37=\"\",\"\",'Drill Shaft'!$G$37)","v":""},{"$f":"IF( 'Drill Shaft'!$B$5=\"\",\"\", 'Drill Shaft'!$B$5)","v":"Drilled Shaft Record"},{"$f":"IF('Drill Shaft'!$D$25=\"\",\"\",'Drill Shaft'!$D$25)","v":"DRILLED SHAFT"},{"$f":"IF('Drill Shaft'!$G$26=\"\",\"\",'Drill Shaft'!$G$26)","v":"Length (ft.)"},{"$f":"IF('Drill Shaft'!$A$37=\"\",\"\",'Drill Shaft'!$A$37)","v":3}]
[104,{"$f":"IF('Drill Shaft'!$G$38=\"\",\"\",'Drill Shaft'!$G$38)","v":""},{"$f":"IF( 'Drill Shaft'!$B$5=\"\",\"\", 'Drill Shaft'!$B$5)","v":"Drilled Shaft Record"},{"$f":"IF('Drill Shaft'!$D$25=\"\",\"\",'Drill Shaft'!$D$25)","v":"DRILLED SHAFT"},{"$f":"IF('Drill Shaft'!$G$26=\"\",\"\",'Drill Shaft'!$G$26)","v":"Length (ft.)"},{"$f":"IF('Drill Shaft'!$A$37=\"\",\"\",'Drill Shaft'!$A$37)","v":3}]
[105,{"$f":"IF('Drill Shaft'!$G$39=\"\",\"\",'Drill Shaft'!$G$39)","v":""},{"$f":"IF( 'Drill Shaft'!$B$5=\"\",\"\", 'Drill Shaft'!$B$5)","v":"Drilled Shaft Record"},{"$f":"IF('Drill Shaft'!$D$25=\"\",\"\",'Drill Shaft'!$D$25)","v":"DRILLED SHAFT"},{"$f":"IF('Drill Shaft'!$G$26=\"\",\"\",'Drill Shaft'!$G$26)","v":"Length (ft.)"},{"$f":"IF('Drill Shaft'!$A$37=\"\",\"\",'Drill Shaft'!$A$37)","v":3}]
[106,{"$f":"IF('Drill Shaft'!$G$40=\"\",\"\",'Drill Shaft'!$G$40)","v":""},{"$f":"IF( 'Drill Shaft'!$B$5=\"\",\"\", 'Drill Shaft'!$B$5)","v":"Drilled Shaft Record"},{"$f":"IF('Drill Shaft'!$D$25=\"\",\"\",'Drill Shaft'!$D$25)","v":"DRILLED SHAFT"},{"$f":"IF('Drill Shaft'!$G$26=\"\",\"\",'Drill Shaft'!$G$26)","v":"Length (ft.)"},{"$f":"IF('Drill Shaft'!$A$37=\"\",\"\",'Drill Shaft'!$A$37)","v":3}]
[107,{"$f":"IF('Drill Shaft'!$G$41=\"\",\"\",'Drill Shaft'!$G$41)","v":""},{"$f":"IF( 'Drill Shaft'!$B$5=\"\",\"\", 'Drill Shaft'!$B$5)","v":"Drilled Shaft Record"},{"$f":"IF('Drill Shaft'!$D$25=\"\",\"\",'Drill Shaft'!$D$25)","v":"DRILLED SHAFT"},{"$f":"IF('Drill Shaft'!$G$26=\"\",\"\",'Drill Shaft'!$G$26)","v":"Length (ft.)"},{"$f":"IF('Drill Shaft'!$A$37=\"\",\"\",'Drill Shaft'!$A$37)","v":3}]
[108,{"$f":"IF('Drill Shaft'!$G$42=\"\",\"\",'Drill Shaft'!$G$42)","v":""},{"$f":"IF( 'Drill Shaft'!$B$5=\"\",\"\", 'Drill Shaft'!$B$5)","v":"Drilled Shaft Record"},{"$f":"IF('Drill Shaft'!$D$25=\"\",\"\",'Drill Shaft'!$D$25)","v":"DRILLED SHAFT"},{"$f":"IF('Drill Shaft'!$G$26=\"\",\"\",'Drill Shaft'!$G$26)","v":"Length (ft.)"},{"$f":"IF('Drill Shaft'!$A$42=\"\",\"\",'Drill Shaft'!$A$42)","v":4}]
[109,{"$f":"IF('Drill Shaft'!$G$43=\"\",\"\",'Drill Shaft'!$G$43)","v":""},{"$f":"IF( 'Drill Shaft'!$B$5=\"\",\"\", 'Drill Shaft'!$B$5)","v":"Drilled Shaft Record"},{"$f":"IF('Drill Shaft'!$D$25=\"\",\"\",'Drill Shaft'!$D$25)","v":"DRILLED SHAFT"},{"$f":"IF('Drill Shaft'!$G$26=\"\",\"\",'Drill Shaft'!$G$26)","v":"Length (ft.)"},{"$f":"IF('Drill Shaft'!$A$42=\"\",\"\",'Drill Shaft'!$A$42)","v":4}]
[110,{"$f":"IF('Drill Shaft'!$G$44=\"\",\"\",'Drill Shaft'!$G$44)","v":""},{"$f":"IF( 'Drill Shaft'!$B$5=\"\",\"\", 'Drill Shaft'!$B$5)","v":"Drilled Shaft Record"},{"$f":"IF('Drill Shaft'!$D$25=\"\",\"\",'Drill Shaft'!$D$25)","v":"DRILLED SHAFT"},{"$f":"IF('Drill Shaft'!$G$26=\"\",\"\",'Drill Shaft'!$G$26)","v":"Length (ft.)"},{"$f":"IF('Drill Shaft'!$A$42=\"\",\"\",'Drill Shaft'!$A$42)","v":4}]
[111,{"$f":"IF('Drill Shaft'!$G$45=\"\",\"\",'Drill Shaft'!$G$45)","v":""},{"$f":"IF( 'Drill Shaft'!$B$5=\"\",\"\", 'Drill Shaft'!$B$5)","v":"Drilled Shaft Record"},{"$f":"IF('Drill Shaft'!$D$25=\"\",\"\",'Drill Shaft'!$D$25)","v":"DRILLED SHAFT"},{"$f":"IF('Drill Shaft'!$G$26=\"\",\"\",'Drill Shaft'!$G$26)","v":"Length (ft.)"},{"$f":"IF('Drill Shaft'!$A$42=\"\",\"\",'Drill Shaft'!$A$42)","v":4}]
[112,{"$f":"IF('Drill Shaft'!$G$46=\"\",\"\",'Drill Shaft'!$G$46)","v":""},{"$f":"IF( 'Drill Shaft'!$B$5=\"\",\"\", 'Drill Shaft'!$B$5)","v":"Drilled Shaft Record"},{"$f":"IF('Drill Shaft'!$D$25=\"\",\"\",'Drill Shaft'!$D$25)","v":"DRILLED SHAFT"},{"$f":"IF('Drill Shaft'!$G$26=\"\",\"\",'Drill Shaft'!$G$26)","v":"Length (ft.)"},{"$f":"IF('Drill Shaft'!$A$42=\"\",\"\",'Drill Shaft'!$A$42)","v":4}]
[113,{"$f":"IF('Drill Shaft'!$G$47=\"\",\"\",'Drill Shaft'!$G$47)","v":""},{"$f":"IF( 'Drill Shaft'!$B$5=\"\",\"\", 'Drill Shaft'!$B$5)","v":"Drilled Shaft Record"},{"$f":"IF('Drill Shaft'!$D$25=\"\",\"\",'Drill Shaft'!$D$25)","v":"DRILLED SHAFT"},{"$f":"IF('Drill Shaft'!$G$26=\"\",\"\",'Drill Shaft'!$G$26)","v":"Length (ft.)"},{"$f":"IF('Drill Shaft'!$A$47=\"\",\"\",'Drill Shaft'!$A$47)","v":5}]
[114,{"$f":"IF('Drill Shaft'!$G$48=\"\",\"\",'Drill Shaft'!$G$48)","v":""},{"$f":"IF( 'Drill Shaft'!$B$5=\"\",\"\", 'Drill Shaft'!$B$5)","v":"Drilled Shaft Record"},{"$f":"IF('Drill Shaft'!$D$25=\"\",\"\",'Drill Shaft'!$D$25)","v":"DRILLED SHAFT"},{"$f":"IF('Drill Shaft'!$G$26=\"\",\"\",'Drill Shaft'!$G$26)","v":"Length (ft.)"},{"$f":"IF('Drill Shaft'!$A$47=\"\",\"\",'Drill Shaft'!$A$47)","v":5}]
[115,{"$f":"IF('Drill Shaft'!$G$49=\"\",\"\",'Drill Shaft'!$G$49)","v":""},{"$f":"IF( 'Drill Shaft'!$B$5=\"\",\"\", 'Drill Shaft'!$B$5)","v":"Drilled Shaft Record"},{"$f":"IF('Drill Shaft'!$D$25=\"\",\"\",'Drill Shaft'!$D$25)","v":"DRILLED SHAFT"},{"$f":"IF('Drill Shaft'!$G$26=\"\",\"\",'Drill Shaft'!$G$26)","v":"Length (ft.)"},{"$f":"IF('Drill Shaft'!$A$47=\"\",\"\",'Drill Shaft'!$A$47)","v":5}]
[116,{"$f":"IF('Drill Shaft'!$G$50=\"\",\"\",'Drill Shaft'!$G$50)","v":""},{"$f":"IF( 'Drill Shaft'!$B$5=\"\",\"\", 'Drill Shaft'!$B$5)","v":"Drilled Shaft Record"},{"$f":"IF('Drill Shaft'!$D$25=\"\",\"\",'Drill Shaft'!$D$25)","v":"DRILLED SHAFT"},{"$f":"IF('Drill Shaft'!$G$26=\"\",\"\",'Drill Shaft'!$G$26)","v":"Length (ft.)"},{"$f":"IF('Drill Shaft'!$A$47=\"\",\"\",'Drill Shaft'!$A$47)","v":5}]
[117,{"$f":"IF('Drill Shaft'!$G$51=\"\",\"\",'Drill Shaft'!$G$51)","v":""},{"$f":"IF( 'Drill Shaft'!$B$5=\"\",\"\", 'Drill Shaft'!$B$5)","v":"Drilled Shaft Record"},{"$f":"IF('Drill Shaft'!$D$25=\"\",\"\",'Drill Shaft'!$D$25)","v":"DRILLED SHAFT"},{"$f":"IF('Drill Shaft'!$G$26=\"\",\"\",'Drill Shaft'!$G$26)","v":"Length (ft.)"},{"$f":"IF('Drill Shaft'!$A$47=\"\",\"\",'Drill Shaft'!$A$47)","v":5}]
[118,{"$f":"IF('Drill Shaft'!$H$27=\"\",\"\",'Drill Shaft'!$H$27)","v":""},{"$f":"IF( 'Drill Shaft'!$B$5=\"\",\"\", 'Drill Shaft'!$B$5)","v":"Drilled Shaft Record"},{"$f":"IF('Drill Shaft'!$H$25=\"\",\"\",'Drill Shaft'!$H$25)","v":"Date Drilled"},{"$f":"IF('Drill Shaft'!$A$27=\"\",\"\",'Drill Shaft'!$A$27)","v":1}]
[119,{"$f":"IF('Drill Shaft'!$H$28=\"\",\"\",'Drill Shaft'!$H$28)","v":""},{"$f":"IF( 'Drill Shaft'!$B$5=\"\",\"\", 'Drill Shaft'!$B$5)","v":"Drilled Shaft Record"},{"$f":"IF('Drill Shaft'!$H$25=\"\",\"\",'Drill Shaft'!$H$25)","v":"Date Drilled"},{"$f":"IF('Drill Shaft'!$A$27=\"\",\"\",'Drill Shaft'!$A$27)","v":1}]
[120,{"$f":"IF('Drill Shaft'!$H$29=\"\",\"\",'Drill Shaft'!$H$29)","v":""},{"$f":"IF( 'Drill Shaft'!$B$5=\"\",\"\", 'Drill Shaft'!$B$5)","v":"Drilled Shaft Record"},{"$f":"IF('Drill Shaft'!$H$25=\"\",\"\",'Drill Shaft'!$H$25)","v":"Date Drilled"},{"$f":"IF('Drill Shaft'!$A$27=\"\",\"\",'Drill Shaft'!$A$27)","v":1}]
[121,{"$f":"IF('Drill Shaft'!$H$30=\"\",\"\",'Drill Shaft'!$H$30)","v":""},{"$f":"IF( 'Drill Shaft'!$B$5=\"\",\"\", 'Drill Shaft'!$B$5)","v":"Drilled Shaft Record"},{"$f":"IF('Drill Shaft'!$H$25=\"\",\"\",'Drill Shaft'!$H$25)","v":"Date Drilled"},{"$f":"IF('Drill Shaft'!$A$27=\"\",\"\",'Drill Shaft'!$A$27)","v":1}]
[122,{"$f":"IF('Drill Shaft'!$H$31=\"\",\"\",'Drill Shaft'!$H$31)","v":""},{"$f":"IF( 'Drill Shaft'!$B$5=\"\",\"\", 'Drill Shaft'!$B$5)","v":"Drilled Shaft Record"},{"$f":"IF('Drill Shaft'!$H$25=\"\",\"\",'Drill Shaft'!$H$25)","v":"Date Drilled"},{"$f":"IF('Drill Shaft'!$A$27=\"\",\"\",'Drill Shaft'!$A$27)","v":1}]
[123,{"$f":"IF('Drill Shaft'!$H$32=\"\",\"\",'Drill Shaft'!$H$32)","v":""},{"$f":"IF( 'Drill Shaft'!$B$5=\"\",\"\", 'Drill Shaft'!$B$5)","v":"Drilled Shaft Record"},{"$f":"IF('Drill Shaft'!$H$25=\"\",\"\",'Drill Shaft'!$H$25)","v":"Date Drilled"},{"$f":"IF('Drill Shaft'!$A$32=\"\",\"\",'Drill Shaft'!$A$32)","v":2}]
[124,{"$f":"IF('Drill Shaft'!$H$33=\"\",\"\",'Drill Shaft'!$H$33)","v":""},{"$f":"IF( 'Drill Shaft'!$B$5=\"\",\"\", 'Drill Shaft'!$B$5)","v":"Drilled Shaft Record"},{"$f":"IF('Drill Shaft'!$H$25=\"\",\"\",'Drill Shaft'!$H$25)","v":"Date Drilled"},{"$f":"IF('Drill Shaft'!$A$32=\"\",\"\",'Drill Shaft'!$A$32)","v":2}]
[125,{"$f":"IF('Drill Shaft'!$H$34=\"\",\"\",'Drill Shaft'!$H$34)","v":""},{"$f":"IF( 'Drill Shaft'!$B$5=\"\",\"\", 'Drill Shaft'!$B$5)","v":"Drilled Shaft Record"},{"$f":"IF('Drill Shaft'!$H$25=\"\",\"\",'Drill Shaft'!$H$25)","v":"Date Drilled"},{"$f":"IF('Drill Shaft'!$A$32=\"\",\"\",'Drill Shaft'!$A$32)","v":2}]
[126,{"$f":"IF('Drill Shaft'!$H$35=\"\",\"\",'Drill Shaft'!$H$35)","v":""},{"$f":"IF( 'Drill Shaft'!$B$5=\"\",\"\", 'Drill Shaft'!$B$5)","v":"Drilled Shaft Record"},{"$f":"IF('Drill Shaft'!$H$25=\"\",\"\",'Drill Shaft'!$H$25)","v":"Date Drilled"},{"$f":"IF('Drill Shaft'!$A$32=\"\",\"\",'Drill Shaft'!$A$32)","v":2}]
[127,{"$f":"IF('Drill Shaft'!$H$36=\"\",\"\",'Drill Shaft'!$H$36)","v":""},{"$f":"IF( 'Drill Shaft'!$B$5=\"\",\"\", 'Drill Shaft'!$B$5)","v":"Drilled Shaft Record"},{"$f":"IF('Drill Shaft'!$H$25=\"\",\"\",'Drill Shaft'!$H$25)","v":"Date Drilled"},{"$f":"IF('Drill Shaft'!$A$32=\"\",\"\",'Drill Shaft'!$A$32)","v":2}]
[128,{"$f":"IF('Drill Shaft'!$H$37=\"\",\"\",'Drill Shaft'!$H$37)","v":""},{"$f":"IF( 'Drill Shaft'!$B$5=\"\",\"\", 'Drill Shaft'!$B$5)","v":"Drilled Shaft Record"},{"$f":"IF('Drill Shaft'!$H$25=\"\",\"\",'Drill Shaft'!$H$25)","v":"Date Drilled"},{"$f":"IF('Drill Shaft'!$A$37=\"\",\"\",'Drill Shaft'!$A$37)","v":3}]
[129,{"$f":"IF('Drill Shaft'!$H$38=\"\",\"\",'Drill Shaft'!$H$38)","v":""},{"$f":"IF( 'Drill Shaft'!$B$5=\"\",\"\", 'Drill Shaft'!$B$5)","v":"Drilled Shaft Record"},{"$f":"IF('Drill Shaft'!$H$25=\"\",\"\",'Drill Shaft'!$H$25)","v":"Date Drilled"},{"$f":"IF('Drill Shaft'!$A$37=\"\",\"\",'Drill Shaft'!$A$37)","v":3}]
[130,{"$f":"IF('Drill Shaft'!$H$39=\"\",\"\",'Drill Shaft'!$H$39)","v":""},{"$f":"IF( 'Drill Shaft'!$B$5=\"\",\"\", 'Drill Shaft'!$B$5)","v":"Drilled Shaft Record"},{"$f":"IF('Drill Shaft'!$H$25=\"\",\"\",'Drill Shaft'!$H$25)","v":"Date Drilled"},{"$f":"IF('Drill Shaft'!$A$37=\"\",\"\",'Drill Shaft'!$A$37)","v":3}]
[131,{"$f":"IF('Drill Shaft'!$H$40=\"\",\"\",'Drill Shaft'!$H$40)","v":""},{"$f":"IF( 'Drill Shaft'!$B$5=\"\",\"\", 'Drill Shaft'!$B$5)","v":"Drilled Shaft Record"},{"$f":"IF('Drill Shaft'!$H$25=\"\",\"\",'Drill Shaft'!$H$25)","v":"Date Drilled"},{"$f":"IF('Drill Shaft'!$A$37=\"\",\"\",'Drill Shaft'!$A$37)","v":3}]
[132,{"$f":"IF('Drill Shaft'!$H$41=\"\",\"\",'Drill Shaft'!$H$41)","v":""},{"$f":"IF( 'Drill Shaft'!$B$5=\"\",\"\", 'Drill Shaft'!$B$5)","v":"Drilled Shaft Record"},{"$f":"IF('Drill Shaft'!$H$25=\"\",\"\",'Drill Shaft'!$H$25)","v":"Date Drilled"},{"$f":"IF('Drill Shaft'!$A$37=\"\",\"\",'Drill Shaft'!$A$37)","v":3}]
[133,{"$f":"IF('Drill Shaft'!$H$42=\"\",\"\",'Drill Shaft'!$H$42)","v":""},{"$f":"IF( 'Drill Shaft'!$B$5=\"\",\"\", 'Drill Shaft'!$B$5)","v":"Drilled Shaft Record"},{"$f":"IF('Drill Shaft'!$H$25=\"\",\"\",'Drill Shaft'!$H$25)","v":"Date Drilled"},{"$f":"IF('Drill Shaft'!$A$42=\"\",\"\",'Drill Shaft'!$A$42)","v":4}]
[134,{"$f":"IF('Drill Shaft'!$H$43=\"\",\"\",'Drill Shaft'!$H$43)","v":""},{"$f":"IF( 'Drill Shaft'!$B$5=\"\",\"\", 'Drill Shaft'!$B$5)","v":"Drilled Shaft Record"},{"$f":"IF('Drill Shaft'!$H$25=\"\",\"\",'Drill Shaft'!$H$25)","v":"Date Drilled"},{"$f":"IF('Drill Shaft'!$A$42=\"\",\"\",'Drill Shaft'!$A$42)","v":4}]
[135,{"$f":"IF('Drill Shaft'!$H$44=\"\",\"\",'Drill Shaft'!$H$44)","v":""},{"$f":"IF( 'Drill Shaft'!$B$5=\"\",\"\", 'Drill Shaft'!$B$5)","v":"Drilled Shaft Record"},{"$f":"IF('Drill Shaft'!$H$25=\"\",\"\",'Drill Shaft'!$H$25)","v":"Date Drilled"},{"$f":"IF('Drill Shaft'!$A$42=\"\",\"\",'Drill Shaft'!$A$42)","v":4}]
[136,{"$f":"IF('Drill Shaft'!$H$45=\"\",\"\",'Drill Shaft'!$H$45)","v":""},{"$f":"IF( 'Drill Shaft'!$B$5=\"\",\"\", 'Drill Shaft'!$B$5)","v":"Drilled Shaft Record"},{"$f":"IF('Drill Shaft'!$H$25=\"\",\"\",'Drill Shaft'!$H$25)","v":"Date Drilled"},{"$f":"IF('Drill Shaft'!$A$42=\"\",\"\",'Drill Shaft'!$A$42)","v":4}]
[137,{"$f":"IF('Drill Shaft'!$H$46=\"\",\"\",'Drill Shaft'!$H$46)","v":""},{"$f":"IF( 'Drill Shaft'!$B$5=\"\",\"\", 'Drill Shaft'!$B$5)","v":"Drilled Shaft Record"},{"$f":"IF('Drill Shaft'!$H$25=\"\",\"\",'Drill Shaft'!$H$25)","v":"Date Drilled"},{"$f":"IF('Drill Shaft'!$A$42=\"\",\"\",'Drill Shaft'!$A$42)","v":4}]
[138,{"$f":"IF('Drill Shaft'!$H$47=\"\",\"\",'Drill Shaft'!$H$47)","v":""},{"$f":"IF( 'Drill Shaft'!$B$5=\"\",\"\", 'Drill Shaft'!$B$5)","v":"Drilled Shaft Record"},{"$f":"IF('Drill Shaft'!$H$25=\"\",\"\",'Drill Shaft'!$H$25)","v":"Date Drilled"},{"$f":"IF('Drill Shaft'!$A$47=\"\",\"\",'Drill Shaft'!$A$47)","v":5}]
[139,{"$f":"IF('Drill Shaft'!$H$48=\"\",\"\",'Drill Shaft'!$H$48)","v":""},{"$f":"IF( 'Drill Shaft'!$B$5=\"\",\"\", 'Drill Shaft'!$B$5)","v":"Drilled Shaft Record"},{"$f":"IF('Drill Shaft'!$H$25=\"\",\"\",'Drill Shaft'!$H$25)","v":"Date Drilled"},{"$f":"IF('Drill Shaft'!$A$47=\"\",\"\",'Drill Shaft'!$A$47)","v":5}]
[140,{"$f":"IF('Drill Shaft'!$H$49=\"\",\"\",'Drill Shaft'!$H$49)","v":""},{"$f":"IF( 'Drill Shaft'!$B$5=\"\",\"\", 'Drill Shaft'!$B$5)","v":"Drilled Shaft Record"},{"$f":"IF('Drill Shaft'!$H$25=\"\",\"\",'Drill Shaft'!$H$25)","v":"Date Drilled"},{"$f":"IF('Drill Shaft'!$A$47=\"\",\"\",'Drill Shaft'!$A$47)","v":5}]
[141,{"$f":"IF('Drill Shaft'!$H$50=\"\",\"\",'Drill Shaft'!$H$50)","v":""},{"$f":"IF( 'Drill Shaft'!$B$5=\"\",\"\", 'Drill Shaft'!$B$5)","v":"Drilled Shaft Record"},{"$f":"IF('Drill Shaft'!$H$25=\"\",\"\",'Drill Shaft'!$H$25)","v":"Date Drilled"},{"$f":"IF('Drill Shaft'!$A$47=\"\",\"\",'Drill Shaft'!$A$47)","v":5}]
[142,{"$f":"IF('Drill Shaft'!$H$51=\"\",\"\",'Drill Shaft'!$H$51)","v":""},{"$f":"IF( 'Drill Shaft'!$B$5=\"\",\"\", 'Drill Shaft'!$B$5)","v":"Drilled Shaft Record"},{"$f":"IF('Drill Shaft'!$H$25=\"\",\"\",'Drill Shaft'!$H$25)","v":"Date Drilled"},{"$f":"IF('Drill Shaft'!$A$47=\"\",\"\",'Drill Shaft'!$A$47)","v":5}]
[143,{"$f":"IF('Drill Shaft'!$J$27=\"\",\"\",'Drill Shaft'!$J$27)","v":""},{"$f":"IF( 'Drill Shaft'!$B$5=\"\",\"\", 'Drill Shaft'!$B$5)","v":"Drilled Shaft Record"},{"$f":"IF('Drill Shaft'!$J$25=\"\",\"\",'Drill Shaft'!$J$25)","v":"Under water Place-ment"},{"$f":"IF('Drill Shaft'!$A$27=\"\",\"\",'Drill Shaft'!$A$27)","v":1}]
[144,{"$f":"IF('Drill Shaft'!$J$28=\"\",\"\",'Drill Shaft'!$J$28)","v":""},{"$f":"IF( 'Drill Shaft'!$B$5=\"\",\"\", 'Drill Shaft'!$B$5)","v":"Drilled Shaft Record"},{"$f":"IF('Drill Shaft'!$J$25=\"\",\"\",'Drill Shaft'!$J$25)","v":"Under water Place-ment"},{"$f":"IF('Drill Shaft'!$A$27=\"\",\"\",'Drill Shaft'!$A$27)","v":1}]
[145,{"$f":"IF('Drill Shaft'!$J$29=\"\",\"\",'Drill Shaft'!$J$29)","v":""},{"$f":"IF( 'Drill Shaft'!$B$5=\"\",\"\", 'Drill Shaft'!$B$5)","v":"Drilled Shaft Record"},{"$f":"IF('Drill Shaft'!$J$25=\"\",\"\",'Drill Shaft'!$J$25)","v":"Under water Place-ment"},{"$f":"IF('Drill Shaft'!$A$27=\"\",\"\",'Drill Shaft'!$A$27)","v":1}]
[146,{"$f":"IF('Drill Shaft'!$J$30=\"\",\"\",'Drill Shaft'!$J$30)","v":""},{"$f":"IF( 'Drill Shaft'!$B$5=\"\",\"\", 'Drill Shaft'!$B$5)","v":"Drilled Shaft Record"},{"$f":"IF('Drill Shaft'!$J$25=\"\",\"\",'Drill Shaft'!$J$25)","v":"Under water Place-ment"},{"$f":"IF('Drill Shaft'!$A$27=\"\",\"\",'Drill Shaft'!$A$27)","v":1}]
[147,{"$f":"IF('Drill Shaft'!$J$31=\"\",\"\",'Drill Shaft'!$J$31)","v":""},{"$f":"IF( 'Drill Shaft'!$B$5=\"\",\"\", 'Drill Shaft'!$B$5)","v":"Drilled Shaft Record"},{"$f":"IF('Drill Shaft'!$J$25=\"\",\"\",'Drill Shaft'!$J$25)","v":"Under water Place-ment"},{"$f":"IF('Drill Shaft'!$A$27=\"\",\"\",'Drill Shaft'!$A$27)","v":1}]
[148,{"$f":"IF('Drill Shaft'!$J$32=\"\",\"\",'Drill Shaft'!$J$32)","v":""},{"$f":"IF( 'Drill Shaft'!$B$5=\"\",\"\", 'Drill Shaft'!$B$5)","v":"Drilled Shaft Record"},{"$f":"IF('Drill Shaft'!$J$25=\"\",\"\",'Drill Shaft'!$J$25)","v":"Under water Place-ment"},{"$f":"IF('Drill Shaft'!$A$32=\"\",\"\",'Drill Shaft'!$A$32)","v":2}]
[149,{"$f":"IF('Drill Shaft'!$J$33=\"\",\"\",'Drill Shaft'!$J$33)","v":""},{"$f":"IF( 'Drill Shaft'!$B$5=\"\",\"\", 'Drill Shaft'!$B$5)","v":"Drilled Shaft Record"},{"$f":"IF('Drill Shaft'!$J$25=\"\",\"\",'Drill Shaft'!$J$25)","v":"Under water Place-ment"},{"$f":"IF('Drill Shaft'!$A$32=\"\",\"\",'Drill Shaft'!$A$32)","v":2}]
[150,{"$f":"IF('Drill Shaft'!$J$34=\"\",\"\",'Drill Shaft'!$J$34)","v":""},{"$f":"IF( 'Drill Shaft'!$B$5=\"\",\"\", 'Drill Shaft'!$B$5)","v":"Drilled Shaft Record"},{"$f":"IF('Drill Shaft'!$J$25=\"\",\"\",'Drill Shaft'!$J$25)","v":"Under water Place-ment"},{"$f":"IF('Drill Shaft'!$A$32=\"\",\"\",'Drill Shaft'!$A$32)","v":2}]
[151,{"$f":"IF('Drill Shaft'!$J$35=\"\",\"\",'Drill Shaft'!$J$35)","v":""},{"$f":"IF( 'Drill Shaft'!$B$5=\"\",\"\", 'Drill Shaft'!$B$5)","v":"Drilled Shaft Record"},{"$f":"IF('Drill Shaft'!$J$25=\"\",\"\",'Drill Shaft'!$J$25)","v":"Under water Place-ment"},{"$f":"IF('Drill Shaft'!$A$32=\"\",\"\",'Drill Shaft'!$A$32)","v":2}]
[152,{"$f":"IF('Drill Shaft'!$J$36=\"\",\"\",'Drill Shaft'!$J$36)","v":""},{"$f":"IF( 'Drill Shaft'!$B$5=\"\",\"\", 'Drill Shaft'!$B$5)","v":"Drilled Shaft Record"},{"$f":"IF('Drill Shaft'!$J$25=\"\",\"\",'Drill Shaft'!$J$25)","v":"Under water Place-ment"},{"$f":"IF('Drill Shaft'!$A$32=\"\",\"\",'Drill Shaft'!$A$32)","v":2}]
[153,{"$f":"IF('Drill Shaft'!$J$37=\"\",\"\",'Drill Shaft'!$J$37)","v":""},{"$f":"IF( 'Drill Shaft'!$B$5=\"\",\"\", 'Drill Shaft'!$B$5)","v":"Drilled Shaft Record"},{"$f":"IF('Drill Shaft'!$J$25=\"\",\"\",'Drill Shaft'!$J$25)","v":"Under water Place-ment"},{"$f":"IF('Drill Shaft'!$A$37=\"\",\"\",'Drill Shaft'!$A$37)","v":3}]
[154,{"$f":"IF('Drill Shaft'!$J$38=\"\",\"\",'Drill Shaft'!$J$38)","v":""},{"$f":"IF( 'Drill Shaft'!$B$5=\"\",\"\", 'Drill Shaft'!$B$5)","v":"Drilled Shaft Record"},{"$f":"IF('Drill Shaft'!$J$25=\"\",\"\",'Drill Shaft'!$J$25)","v":"Under water Place-ment"},{"$f":"IF('Drill Shaft'!$A$37=\"\",\"\",'Drill Shaft'!$A$37)","v":3}]
[155,{"$f":"IF('Drill Shaft'!$J$39=\"\",\"\",'Drill Shaft'!$J$39)","v":""},{"$f":"IF( 'Drill Shaft'!$B$5=\"\",\"\", 'Drill Shaft'!$B$5)","v":"Drilled Shaft Record"},{"$f":"IF('Drill Shaft'!$J$25=\"\",\"\",'Drill Shaft'!$J$25)","v":"Under water Place-ment"},{"$f":"IF('Drill Shaft'!$A$37=\"\",\"\",'Drill Shaft'!$A$37)","v":3}]
[156,{"$f":"IF('Drill Shaft'!$J$40=\"\",\"\",'Drill Shaft'!$J$40)","v":""},{"$f":"IF( 'Drill Shaft'!$B$5=\"\",\"\", 'Drill Shaft'!$B$5)","v":"Drilled Shaft Record"},{"$f":"IF('Drill Shaft'!$J$25=\"\",\"\",'Drill Shaft'!$J$25)","v":"Under water Place-ment"},{"$f":"IF('Drill Shaft'!$A$37=\"\",\"\",'Drill Shaft'!$A$37)","v":3}]
[157,{"$f":"IF('Drill Shaft'!$J$41=\"\",\"\",'Drill Shaft'!$J$41)","v":""},{"$f":"IF( 'Drill Shaft'!$B$5=\"\",\"\", 'Drill Shaft'!$B$5)","v":"Drilled Shaft Record"},{"$f":"IF('Drill Shaft'!$J$25=\"\",\"\",'Drill Shaft'!$J$25)","v":"Under water Place-ment"},{"$f":"IF('Drill Shaft'!$A$37=\"\",\"\",'Drill Shaft'!$A$37)","v":3}]
[158,{"$f":"IF('Drill Shaft'!$J$42=\"\",\"\",'Drill Shaft'!$J$42)","v":""},{"$f":"IF( 'Drill Shaft'!$B$5=\"\",\"\", 'Drill Shaft'!$B$5)","v":"Drilled Shaft Record"},{"$f":"IF('Drill Shaft'!$J$25=\"\",\"\",'Drill Shaft'!$J$25)","v":"Under water Place-ment"},{"$f":"IF('Drill Shaft'!$A$42=\"\",\"\",'Drill Shaft'!$A$42)","v":4}]
[159,{"$f":"IF('Drill Shaft'!$J$43=\"\",\"\",'Drill Shaft'!$J$43)","v":""},{"$f":"IF( 'Drill Shaft'!$B$5=\"\",\"\", 'Drill Shaft'!$B$5)","v":"Drilled Shaft Record"},{"$f":"IF('Drill Shaft'!$J$25=\"\",\"\",'Drill Shaft'!$J$25)","v":"Under water Place-ment"},{"$f":"IF('Drill Shaft'!$A$42=\"\",\"\",'Drill Shaft'!$A$42)","v":4}]
[160,{"$f":"IF('Drill Shaft'!$J$44=\"\",\"\",'Drill Shaft'!$J$44)","v":""},{"$f":"IF( 'Drill Shaft'!$B$5=\"\",\"\", 'Drill Shaft'!$B$5)","v":"Drilled Shaft Record"},{"$f":"IF('Drill Shaft'!$J$25=\"\",\"\",'Drill Shaft'!$J$25)","v":"Under water Place-ment"},{"$f":"IF('Drill Shaft'!$A$42=\"\",\"\",'Drill Shaft'!$A$42)","v":4}]
[161,{"$f":"IF('Drill Shaft'!$J$45=\"\",\"\",'Drill Shaft'!$J$45)","v":""},{"$f":"IF( 'Drill Shaft'!$B$5=\"\",\"\", 'Drill Shaft'!$B$5)","v":"Drilled Shaft Record"},{"$f":"IF('Drill Shaft'!$J$25=\"\",\"\",'Drill Shaft'!$J$25)","v":"Under water Place-ment"},{"$f":"IF('Drill Shaft'!$A$42=\"\",\"\",'Drill Shaft'!$A$42)","v":4}]
[162,{"$f":"IF('Drill Shaft'!$J$46=\"\",\"\",'Drill Shaft'!$J$46)","v":""},{"$f":"IF( 'Drill Shaft'!$B$5=\"\",\"\", 'Drill Shaft'!$B$5)","v":"Drilled Shaft Record"},{"$f":"IF('Drill Shaft'!$J$25=\"\",\"\",'Drill Shaft'!$J$25)","v":"Under water Place-ment"},{"$f":"IF('Drill Shaft'!$A$42=\"\",\"\",'Drill Shaft'!$A$42)","v":4}]
[163,{"$f":"IF('Drill Shaft'!$J$47=\"\",\"\",'Drill Shaft'!$J$47)","v":""},{"$f":"IF( 'Drill Shaft'!$B$5=\"\",\"\", 'Drill Shaft'!$B$5)","v":"Drilled Shaft Record"},{"$f":"IF('Drill Shaft'!$J$25=\"\",\"\",'Drill Shaft'!$J$25)","v":"Under water Place-ment"},{"$f":"IF('Drill Shaft'!$A$47=\"\",\"\",'Drill Shaft'!$A$47)","v":5}]
[164,{"$f":"IF('Drill Shaft'!$J$48=\"\",\"\",'Drill Shaft'!$J$48)","v":""},{"$f":"IF( 'Drill Shaft'!$B$5=\"\",\"\", 'Drill Shaft'!$B$5)","v":"Drilled Shaft Record"},{"$f":"IF('Drill Shaft'!$J$25=\"\",\"\",'Drill Shaft'!$J$25)","v":"Under water Place-ment"},{"$f":"IF('Drill Shaft'!$A$47=\"\",\"\",'Drill Shaft'!$A$47)","v":5}]
[165,{"$f":"IF('Drill Shaft'!$J$49=\"\",\"\",'Drill Shaft'!$J$49)","v":""},{"$f":"IF( 'Drill Shaft'!$B$5=\"\",\"\", 'Drill Shaft'!$B$5)","v":"Drilled Shaft Record"},{"$f":"IF('Drill Shaft'!$J$25=\"\",\"\",'Drill Shaft'!$J$25)","v":"Under water Place-ment"},{"$f":"IF('Drill Shaft'!$A$47=\"\",\"\",'Drill Shaft'!$A$47)","v":5}]
[166,{"$f":"IF('Drill Shaft'!$J$50=\"\",\"\",'Drill Shaft'!$J$50)","v":""},{"$f":"IF( 'Drill Shaft'!$B$5=\"\",\"\", 'Drill Shaft'!$B$5)","v":"Drilled Shaft Record"},{"$f":"IF('Drill Shaft'!$J$25=\"\",\"\",'Drill Shaft'!$J$25)","v":"Under water Place-ment"},{"$f":"IF('Drill Shaft'!$A$47=\"\",\"\",'Drill Shaft'!$A$47)","v":5}]
[167,{"$f":"IF('Drill Shaft'!$J$51=\"\",\"\",'Drill Shaft'!$J$51)","v":""},{"$f":"IF( 'Drill Shaft'!$B$5=\"\",\"\", 'Drill Shaft'!$B$5)","v":"Drilled Shaft Record"},{"$f":"IF('Drill Shaft'!$J$25=\"\",\"\",'Drill Shaft'!$J$25)","v":"Under water Place-ment"},{"$f":"IF('Drill Shaft'!$A$47=\"\",\"\",'Drill Shaft'!$A$47)","v":5}]
[168,{"$f":"IF('Drill Shaft'!$K$27=\"\",\"\",'Drill Shaft'!$K$27)","v":""},{"$f":"IF( 'Drill Shaft'!$B$5=\"\",\"\", 'Drill Shaft'!$B$5)","v":"Drilled Shaft Record"},{"$f":"IF('Drill Shaft'!$K$25=\"\",\"\",'Drill Shaft'!$K$25)","v":"SLURRY PROPERTIES IF USED"},{"$f":"IF('Drill Shaft'!$K$26=\"\",\"\",'Drill Shaft'!$K$26)","v":"Specific Gravity"},{"$f":"IF('Drill Shaft'!$A$27=\"\",\"\",'Drill Shaft'!$A$27)","v":1}]
[169,{"$f":"IF('Drill Shaft'!$K$28=\"\",\"\",'Drill Shaft'!$K$28)","v":""},{"$f":"IF( 'Drill Shaft'!$B$5=\"\",\"\", 'Drill Shaft'!$B$5)","v":"Drilled Shaft Record"},{"$f":"IF('Drill Shaft'!$K$25=\"\",\"\",'Drill Shaft'!$K$25)","v":"SLURRY PROPERTIES IF USED"},{"$f":"IF('Drill Shaft'!$K$26=\"\",\"\",'Drill Shaft'!$K$26)","v":"Specific Gravity"},{"$f":"IF('Drill Shaft'!$A$27=\"\",\"\",'Drill Shaft'!$A$27)","v":1}]
[170,{"$f":"IF('Drill Shaft'!$K$29=\"\",\"\",'Drill Shaft'!$K$29)","v":""},{"$f":"IF( 'Drill Shaft'!$B$5=\"\",\"\", 'Drill Shaft'!$B$5)","v":"Drilled Shaft Record"},{"$f":"IF('Drill Shaft'!$K$25=\"\",\"\",'Drill Shaft'!$K$25)","v":"SLURRY PROPERTIES IF USED"},{"$f":"IF('Drill Shaft'!$K$26=\"\",\"\",'Drill Shaft'!$K$26)","v":"Specific Gravity"},{"$f":"IF('Drill Shaft'!$A$27=\"\",\"\",'Drill Shaft'!$A$27)","v":1}]
[171,{"$f":"IF('Drill Shaft'!$K$30=\"\",\"\",'Drill Shaft'!$K$30)","v":""},{"$f":"IF( 'Drill Shaft'!$B$5=\"\",\"\", 'Drill Shaft'!$B$5)","v":"Drilled Shaft Record"},{"$f":"IF('Drill Shaft'!$K$25=\"\",\"\",'Drill Shaft'!$K$25)","v":"SLURRY PROPERTIES IF USED"},{"$f":"IF('Drill Shaft'!$K$26=\"\",\"\",'Drill Shaft'!$K$26)","v":"Specific Gravity"},{"$f":"IF('Drill Shaft'!$A$27=\"\",\"\",'Drill Shaft'!$A$27)","v":1}]
[172,{"$f":"IF('Drill Shaft'!$K$31=\"\",\"\",'Drill Shaft'!$K$31)","v":""},{"$f":"IF( 'Drill Shaft'!$B$5=\"\",\"\", 'Drill Shaft'!$B$5)","v":"Drilled Shaft Record"},{"$f":"IF('Drill Shaft'!$K$25=\"\",\"\",'Drill Shaft'!$K$25)","v":"SLURRY PROPERTIES IF USED"},{"$f":"IF('Drill Shaft'!$K$26=\"\",\"\",'Drill Shaft'!$K$26)","v":"Specific Gravity"},{"$f":"IF('Drill Shaft'!$A$27=\"\",\"\",'Drill Shaft'!$A$27)","v":1}]
[173,{"$f":"IF('Drill Shaft'!$K$32=\"\",\"\",'Drill Shaft'!$K$32)","v":""},{"$f":"IF( 'Drill Shaft'!$B$5=\"\",\"\", 'Drill Shaft'!$B$5)","v":"Drilled Shaft Record"},{"$f":"IF('Drill Shaft'!$K$25=\"\",\"\",'Drill Shaft'!$K$25)","v":"SLURRY PROPERTIES IF USED"},{"$f":"IF('Drill Shaft'!$K$26=\"\",\"\",'Drill Shaft'!$K$26)","v":"Specific Gravity"},{"$f":"IF('Drill Shaft'!$A$32=\"\",\"\",'Drill Shaft'!$A$32)","v":2}]
[174,{"$f":"IF('Drill Shaft'!$K$33=\"\",\"\",'Drill Shaft'!$K$33)","v":""},{"$f":"IF( 'Drill Shaft'!$B$5=\"\",\"\", 'Drill Shaft'!$B$5)","v":"Drilled Shaft Record"},{"$f":"IF('Drill Shaft'!$K$25=\"\",\"\",'Drill Shaft'!$K$25)","v":"SLURRY PROPERTIES IF USED"},{"$f":"IF('Drill Shaft'!$K$26=\"\",\"\",'Drill Shaft'!$K$26)","v":"Specific Gravity"},{"$f":"IF('Drill Shaft'!$A$32=\"\",\"\",'Drill Shaft'!$A$32)","v":2}]
[175,{"$f":"IF('Drill Shaft'!$K$34=\"\",\"\",'Drill Shaft'!$K$34)","v":""},{"$f":"IF( 'Drill Shaft'!$B$5=\"\",\"\", 'Drill Shaft'!$B$5)","v":"Drilled Shaft Record"},{"$f":"IF('Drill Shaft'!$K$25=\"\",\"\",'Drill Shaft'!$K$25)","v":"SLURRY PROPERTIES IF USED"},{"$f":"IF('Drill Shaft'!$K$26=\"\",\"\",'Drill Shaft'!$K$26)","v":"Specific Gravity"},{"$f":"IF('Drill Shaft'!$A$32=\"\",\"\",'Drill Shaft'!$A$32)","v":2}]
[176,{"$f":"IF('Drill Shaft'!$K$35=\"\",\"\",'Drill Shaft'!$K$35)","v":""},{"$f":"IF( 'Drill Shaft'!$B$5=\"\",\"\", 'Drill Shaft'!$B$5)","v":"Drilled Shaft Record"},{"$f":"IF('Drill Shaft'!$K$25=\"\",\"\",'Drill Shaft'!$K$25)","v":"SLURRY PROPERTIES IF USED"},{"$f":"IF('Drill Shaft'!$K$26=\"\",\"\",'Drill Shaft'!$K$26)","v":"Specific Gravity"},{"$f":"IF('Drill Shaft'!$A$32=\"\",\"\",'Drill Shaft'!$A$32)","v":2}]
[177,{"$f":"IF('Drill Shaft'!$K$36=\"\",\"\",'Drill Shaft'!$K$36)","v":""},{"$f":"IF( 'Drill Shaft'!$B$5=\"\",\"\", 'Drill Shaft'!$B$5)","v":"Drilled Shaft Record"},{"$f":"IF('Drill Shaft'!$K$25=\"\",\"\",'Drill Shaft'!$K$25)","v":"SLURRY PROPERTIES IF USED"},{"$f":"IF('Drill Shaft'!$K$26=\"\",\"\",'Drill Shaft'!$K$26)","v":"Specific Gravity"},{"$f":"IF('Drill Shaft'!$A$32=\"\",\"\",'Drill Shaft'!$A$32)","v":2}]
[178,{"$f":"IF('Drill Shaft'!$K$37=\"\",\"\",'Drill Shaft'!$K$37)","v":""},{"$f":"IF( 'Drill Shaft'!$B$5=\"\",\"\", 'Drill Shaft'!$B$5)","v":"Drilled Shaft Record"},{"$f":"IF('Drill Shaft'!$K$25=\"\",\"\",'Drill Shaft'!$K$25)","v":"SLURRY PROPERTIES IF USED"},{"$f":"IF('Drill Shaft'!$K$26=\"\",\"\",'Drill Shaft'!$K$26)","v":"Specific Gravity"},{"$f":"IF('Drill Shaft'!$A$37=\"\",\"\",'Drill Shaft'!$A$37)","v":3}]
[179,{"$f":"IF('Drill Shaft'!$K$38=\"\",\"\",'Drill Shaft'!$K$38)","v":""},{"$f":"IF( 'Drill Shaft'!$B$5=\"\",\"\", 'Drill Shaft'!$B$5)","v":"Drilled Shaft Record"},{"$f":"IF('Drill Shaft'!$K$25=\"\",\"\",'Drill Shaft'!$K$25)","v":"SLURRY PROPERTIES IF USED"},{"$f":"IF('Drill Shaft'!$K$26=\"\",\"\",'Drill Shaft'!$K$26)","v":"Specific Gravity"},{"$f":"IF('Drill Shaft'!$A$37=\"\",\"\",'Drill Shaft'!$A$37)","v":3}]
[180,{"$f":"IF('Drill Shaft'!$K$39=\"\",\"\",'Drill Shaft'!$K$39)","v":""},{"$f":"IF( 'Drill Shaft'!$B$5=\"\",\"\", 'Drill Shaft'!$B$5)","v":"Drilled Shaft Record"},{"$f":"IF('Drill Shaft'!$K$25=\"\",\"\",'Drill Shaft'!$K$25)","v":"SLURRY PROPERTIES IF USED"},{"$f":"IF('Drill Shaft'!$K$26=\"\",\"\",'Drill Shaft'!$K$26)","v":"Specific Gravity"},{"$f":"IF('Drill Shaft'!$A$37=\"\",\"\",'Drill Shaft'!$A$37)","v":3}]
[181,{"$f":"IF('Drill Shaft'!$K$40=\"\",\"\",'Drill Shaft'!$K$40)","v":""},{"$f":"IF( 'Drill Shaft'!$B$5=\"\",\"\", 'Drill Shaft'!$B$5)","v":"Drilled Shaft Record"},{"$f":"IF('Drill Shaft'!$K$25=\"\",\"\",'Drill Shaft'!$K$25)","v":"SLURRY PROPERTIES IF USED"},{"$f":"IF('Drill Shaft'!$K$26=\"\",\"\",'Drill Shaft'!$K$26)","v":"Specific Gravity"},{"$f":"IF('Drill Shaft'!$A$37=\"\",\"\",'Drill Shaft'!$A$37)","v":3}]
[182,{"$f":"IF('Drill Shaft'!$K$41=\"\",\"\",'Drill Shaft'!$K$41)","v":""},{"$f":"IF( 'Drill Shaft'!$B$5=\"\",\"\", 'Drill Shaft'!$B$5)","v":"Drilled Shaft Record"},{"$f":"IF('Drill Shaft'!$K$25=\"\",\"\",'Drill Shaft'!$K$25)","v":"SLURRY PROPERTIES IF USED"},{"$f":"IF('Drill Shaft'!$K$26=\"\",\"\",'Drill Shaft'!$K$26)","v":"Specific Gravity"},{"$f":"IF('Drill Shaft'!$A$37=\"\",\"\",'Drill Shaft'!$A$37)","v":3}]
[183,{"$f":"IF('Drill Shaft'!$K$42=\"\",\"\",'Drill Shaft'!$K$42)","v":""},{"$f":"IF( 'Drill Shaft'!$B$5=\"\",\"\", 'Drill Shaft'!$B$5)","v":"Drilled Shaft Record"},{"$f":"IF('Drill Shaft'!$K$25=\"\",\"\",'Drill Shaft'!$K$25)","v":"SLURRY PROPERTIES IF USED"},{"$f":"IF('Drill Shaft'!$K$26=\"\",\"\",'Drill Shaft'!$K$26)","v":"Specific Gravity"},{"$f":"IF('Drill Shaft'!$A$42=\"\",\"\",'Drill Shaft'!$A$42)","v":4}]
[184,{"$f":"IF('Drill Shaft'!$K$43=\"\",\"\",'Drill Shaft'!$K$43)","v":""},{"$f":"IF( 'Drill Shaft'!$B$5=\"\",\"\", 'Drill Shaft'!$B$5)","v":"Drilled Shaft Record"},{"$f":"IF('Drill Shaft'!$K$25=\"\",\"\",'Drill Shaft'!$K$25)","v":"SLURRY PROPERTIES IF USED"},{"$f":"IF('Drill Shaft'!$K$26=\"\",\"\",'Drill Shaft'!$K$26)","v":"Specific Gravity"},{"$f":"IF('Drill Shaft'!$A$42=\"\",\"\",'Drill Shaft'!$A$42)","v":4}]
[185,{"$f":"IF('Drill Shaft'!$K$44=\"\",\"\",'Drill Shaft'!$K$44)","v":""},{"$f":"IF( 'Drill Shaft'!$B$5=\"\",\"\", 'Drill Shaft'!$B$5)","v":"Drilled Shaft Record"},{"$f":"IF('Drill Shaft'!$K$25=\"\",\"\",'Drill Shaft'!$K$25)","v":"SLURRY PROPERTIES IF USED"},{"$f":"IF('Drill Shaft'!$K$26=\"\",\"\",'Drill Shaft'!$K$26)","v":"Specific Gravity"},{"$f":"IF('Drill Shaft'!$A$42=\"\",\"\",'Drill Shaft'!$A$42)","v":4}]
[186,{"$f":"IF('Drill Shaft'!$K$45=\"\",\"\",'Drill Shaft'!$K$45)","v":""},{"$f":"IF( 'Drill Shaft'!$B$5=\"\",\"\", 'Drill Shaft'!$B$5)","v":"Drilled Shaft Record"},{"$f":"IF('Drill Shaft'!$K$25=\"\",\"\",'Drill Shaft'!$K$25)","v":"SLURRY PROPERTIES IF USED"},{"$f":"IF('Drill Shaft'!$K$26=\"\",\"\",'Drill Shaft'!$K$26)","v":"Specific Gravity"},{"$f":"IF('Drill Shaft'!$A$42=\"\",\"\",'Drill Shaft'!$A$42)","v":4}]
[187,{"$f":"IF('Drill Shaft'!$K$46=\"\",\"\",'Drill Shaft'!$K$46)","v":""},{"$f":"IF( 'Drill Shaft'!$B$5=\"\",\"\", 'Drill Shaft'!$B$5)","v":"Drilled Shaft Record"},{"$f":"IF('Drill Shaft'!$K$25=\"\",\"\",'Drill Shaft'!$K$25)","v":"SLURRY PROPERTIES IF USED"},{"$f":"IF('Drill Shaft'!$K$26=\"\",\"\",'Drill Shaft'!$K$26)","v":"Specific Gravity"},{"$f":"IF('Drill Shaft'!$A$42=\"\",\"\",'Drill Shaft'!$A$42)","v":4}]
[188,{"$f":"IF('Drill Shaft'!$K$47=\"\",\"\",'Drill Shaft'!$K$47)","v":""},{"$f":"IF( 'Drill Shaft'!$B$5=\"\",\"\", 'Drill Shaft'!$B$5)","v":"Drilled Shaft Record"},{"$f":"IF('Drill Shaft'!$K$25=\"\",\"\",'Drill Shaft'!$K$25)","v":"SLURRY PROPERTIES IF USED"},{"$f":"IF('Drill Shaft'!$K$26=\"\",\"\",'Drill Shaft'!$K$26)","v":"Specific Gravity"},{"$f":"IF('Drill Shaft'!$A$47=\"\",\"\",'Drill Shaft'!$A$47)","v":5}]
[189,{"$f":"IF('Drill Shaft'!$K$48=\"\",\"\",'Drill Shaft'!$K$48)","v":""},{"$f":"IF( 'Drill Shaft'!$B$5=\"\",\"\", 'Drill Shaft'!$B$5)","v":"Drilled Shaft Record"},{"$f":"IF('Drill Shaft'!$K$25=\"\",\"\",'Drill Shaft'!$K$25)","v":"SLURRY PROPERTIES IF USED"},{"$f":"IF('Drill Shaft'!$K$26=\"\",\"\",'Drill Shaft'!$K$26)","v":"Specific Gravity"},{"$f":"IF('Drill Shaft'!$A$47=\"\",\"\",'Drill Shaft'!$A$47)","v":5}]
[190,{"$f":"IF('Drill Shaft'!$K$49=\"\",\"\",'Drill Shaft'!$K$49)","v":""},{"$f":"IF( 'Drill Shaft'!$B$5=\"\",\"\", 'Drill Shaft'!$B$5)","v":"Drilled Shaft Record"},{"$f":"IF('Drill Shaft'!$K$25=\"\",\"\",'Drill Shaft'!$K$25)","v":"SLURRY PROPERTIES IF USED"},{"$f":"IF('Drill Shaft'!$K$26=\"\",\"\",'Drill Shaft'!$K$26)","v":"Specific Gravity"},{"$f":"IF('Drill Shaft'!$A$47=\"\",\"\",'Drill Shaft'!$A$47)","v":5}]
[191,{"$f":"IF('Drill Shaft'!$K$50=\"\",\"\",'Drill Shaft'!$K$50)","v":""},{"$f":"IF( 'Drill Shaft'!$B$5=\"\",\"\", 'Drill Shaft'!$B$5)","v":"Drilled Shaft Record"},{"$f":"IF('Drill Shaft'!$K$25=\"\",\"\",'Drill Shaft'!$K$25)","v":"SLURRY PROPERTIES IF USED"},{"$f":"IF('Drill Shaft'!$K$26=\"\",\"\",'Drill Shaft'!$K$26)","v":"Specific Gravity"},{"$f":"IF('Drill Shaft'!$A$47=\"\",\"\",'Drill Shaft'!$A$47)","v":5}]
[192,{"$f":"IF('Drill Shaft'!$K$51=\"\",\"\",'Drill Shaft'!$K$51)","v":""},{"$f":"IF( 'Drill Shaft'!$B$5=\"\",\"\", 'Drill Shaft'!$B$5)","v":"Drilled Shaft Record"},{"$f":"IF('Drill Shaft'!$K$25=\"\",\"\",'Drill Shaft'!$K$25)","v":"SLURRY PROPERTIES IF USED"},{"$f":"IF('Drill Shaft'!$K$26=\"\",\"\",'Drill Shaft'!$K$26)","v":"Specific Gravity"},{"$f":"IF('Drill Shaft'!$A$47=\"\",\"\",'Drill Shaft'!$A$47)","v":5}]
[193,{"$f":"IF('Drill Shaft'!$L$27=\"\",\"\",'Drill Shaft'!$L$27)","v":""},{"$f":"IF( 'Drill Shaft'!$B$5=\"\",\"\", 'Drill Shaft'!$B$5)","v":"Drilled Shaft Record"},{"$f":"IF('Drill Shaft'!$K$25=\"\",\"\",'Drill Shaft'!$K$25)","v":"SLURRY PROPERTIES IF USED"},{"$f":"IF('Drill Shaft'!$L$26=\"\",\"\",'Drill Shaft'!$L$26)","v":"Viscosity (sec)"},{"$f":"IF('Drill Shaft'!$A$27=\"\",\"\",'Drill Shaft'!$A$27)","v":1}]
[194,{"$f":"IF('Drill Shaft'!$L$28=\"\",\"\",'Drill Shaft'!$L$28)","v":""},{"$f":"IF( 'Drill Shaft'!$B$5=\"\",\"\", 'Drill Shaft'!$B$5)","v":"Drilled Shaft Record"},{"$f":"IF('Drill Shaft'!$K$25=\"\",\"\",'Drill Shaft'!$K$25)","v":"SLURRY PROPERTIES IF USED"},{"$f":"IF('Drill Shaft'!$L$26=\"\",\"\",'Drill Shaft'!$L$26)","v":"Viscosity (sec)"},{"$f":"IF('Drill Shaft'!$A$27=\"\",\"\",'Drill Shaft'!$A$27)","v":1}]
[195,{"$f":"IF('Drill Shaft'!$L$29=\"\",\"\",'Drill Shaft'!$L$29)","v":""},{"$f":"IF( 'Drill Shaft'!$B$5=\"\",\"\", 'Drill Shaft'!$B$5)","v":"Drilled Shaft Record"},{"$f":"IF('Drill Shaft'!$K$25=\"\",\"\",'Drill Shaft'!$K$25)","v":"SLURRY PROPERTIES IF USED"},{"$f":"IF('Drill Shaft'!$L$26=\"\",\"\",'Drill Shaft'!$L$26)","v":"Viscosity (sec)"},{"$f":"IF('Drill Shaft'!$A$27=\"\",\"\",'Drill Shaft'!$A$27)","v":1}]
[196,{"$f":"IF('Drill Shaft'!$L$30=\"\",\"\",'Drill Shaft'!$L$30)","v":""},{"$f":"IF( 'Drill Shaft'!$B$5=\"\",\"\", 'Drill Shaft'!$B$5)","v":"Drilled Shaft Record"},{"$f":"IF('Drill Shaft'!$K$25=\"\",\"\",'Drill Shaft'!$K$25)","v":"SLURRY PROPERTIES IF USED"},{"$f":"IF('Drill Shaft'!$L$26=\"\",\"\",'Drill Shaft'!$L$26)","v":"Viscosity (sec)"},{"$f":"IF('Drill Shaft'!$A$27=\"\",\"\",'Drill Shaft'!$A$27)","v":1}]
[197,{"$f":"IF('Drill Shaft'!$L$31=\"\",\"\",'Drill Shaft'!$L$31)","v":""},{"$f":"IF( 'Drill Shaft'!$B$5=\"\",\"\", 'Drill Shaft'!$B$5)","v":"Drilled Shaft Record"},{"$f":"IF('Drill Shaft'!$K$25=\"\",\"\",'Drill Shaft'!$K$25)","v":"SLURRY PROPERTIES IF USED"},{"$f":"IF('Drill Shaft'!$L$26=\"\",\"\",'Drill Shaft'!$L$26)","v":"Viscosity (sec)"},{"$f":"IF('Drill Shaft'!$A$27=\"\",\"\",'Drill Shaft'!$A$27)","v":1}]
[198,{"$f":"IF('Drill Shaft'!$L$32=\"\",\"\",'Drill Shaft'!$L$32)","v":""},{"$f":"IF( 'Drill Shaft'!$B$5=\"\",\"\", 'Drill Shaft'!$B$5)","v":"Drilled Shaft Record"},{"$f":"IF('Drill Shaft'!$K$25=\"\",\"\",'Drill Shaft'!$K$25)","v":"SLURRY PROPERTIES IF USED"},{"$f":"IF('Drill Shaft'!$L$26=\"\",\"\",'Drill Shaft'!$L$26)","v":"Viscosity (sec)"},{"$f":"IF('Drill Shaft'!$A$32=\"\",\"\",'Drill Shaft'!$A$32)","v":2}]
[199,{"$f":"IF('Drill Shaft'!$L$33=\"\",\"\",'Drill Shaft'!$L$33)","v":""},{"$f":"IF( 'Drill Shaft'!$B$5=\"\",\"\", 'Drill Shaft'!$B$5)","v":"Drilled Shaft Record"},{"$f":"IF('Drill Shaft'!$K$25=\"\",\"\",'Drill Shaft'!$K$25)","v":"SLURRY PROPERTIES IF USED"},{"$f":"IF('Drill Shaft'!$L$26=\"\",\"\",'Drill Shaft'!$L$26)","v":"Viscosity (sec)"},{"$f":"IF('Drill Shaft'!$A$32=\"\",\"\",'Drill Shaft'!$A$32)","v":2}]
[200,{"$f":"IF('Drill Shaft'!$L$34=\"\",\"\",'Drill Shaft'!$L$34)","v":""},{"$f":"IF( 'Drill Shaft'!$B$5=\"\",\"\", 'Drill Shaft'!$B$5)","v":"Drilled Shaft Record"},{"$f":"IF('Drill Shaft'!$K$25=\"\",\"\",'Drill Shaft'!$K$25)","v":"SLURRY PROPERTIES IF USED"},{"$f":"IF('Drill Shaft'!$L$26=\"\",\"\",'Drill Shaft'!$L$26)","v":"Viscosity (sec)"},{"$f":"IF('Drill Shaft'!$A$32=\"\",\"\",'Drill Shaft'!$A$32)","v":2}]
[201,{"$f":"IF('Drill Shaft'!$L$35=\"\",\"\",'Drill Shaft'!$L$35)","v":""},{"$f":"IF( 'Drill Shaft'!$B$5=\"\",\"\", 'Drill Shaft'!$B$5)","v":"Drilled Shaft Record"},{"$f":"IF('Drill Shaft'!$K$25=\"\",\"\",'Drill Shaft'!$K$25)","v":"SLURRY PROPERTIES IF USED"},{"$f":"IF('Drill Shaft'!$L$26=\"\",\"\",'Drill Shaft'!$L$26)","v":"Viscosity (sec)"},{"$f":"IF('Drill Shaft'!$A$32=\"\",\"\",'Drill Shaft'!$A$32)","v":2}]
[202,{"$f":"IF('Drill Shaft'!$L$36=\"\",\"\",'Drill Shaft'!$L$36)","v":""},{"$f":"IF( 'Drill Shaft'!$B$5=\"\",\"\", 'Drill Shaft'!$B$5)","v":"Drilled Shaft Record"},{"$f":"IF('Drill Shaft'!$K$25=\"\",\"\",'Drill Shaft'!$K$25)","v":"SLURRY PROPERTIES IF USED"},{"$f":"IF('Drill Shaft'!$L$26=\"\",\"\",'Drill Shaft'!$L$26)","v":"Viscosity (sec)"},{"$f":"IF('Drill Shaft'!$A$32=\"\",\"\",'Drill Shaft'!$A$32)","v":2}]
[203,{"$f":"IF('Drill Shaft'!$L$37=\"\",\"\",'Drill Shaft'!$L$37)","v":""},{"$f":"IF( 'Drill Shaft'!$B$5=\"\",\"\", 'Drill Shaft'!$B$5)","v":"Drilled Shaft Record"},{"$f":"IF('Drill Shaft'!$K$25=\"\",\"\",'Drill Shaft'!$K$25)","v":"SLURRY PROPERTIES IF USED"},{"$f":"IF('Drill Shaft'!$L$26=\"\",\"\",'Drill Shaft'!$L$26)","v":"Viscosity (sec)"},{"$f":"IF('Drill Shaft'!$A$37=\"\",\"\",'Drill Shaft'!$A$37)","v":3}]
[204,{"$f":"IF('Drill Shaft'!$L$38=\"\",\"\",'Drill Shaft'!$L$38)","v":""},{"$f":"IF( 'Drill Shaft'!$B$5=\"\",\"\", 'Drill Shaft'!$B$5)","v":"Drilled Shaft Record"},{"$f":"IF('Drill Shaft'!$K$25=\"\",\"\",'Drill Shaft'!$K$25)","v":"SLURRY PROPERTIES IF USED"},{"$f":"IF('Drill Shaft'!$L$26=\"\",\"\",'Drill Shaft'!$L$26)","v":"Viscosity (sec)"},{"$f":"IF('Drill Shaft'!$A$37=\"\",\"\",'Drill Shaft'!$A$37)","v":3}]
[205,{"$f":"IF('Drill Shaft'!$L$39=\"\",\"\",'Drill Shaft'!$L$39)","v":""},{"$f":"IF( 'Drill Shaft'!$B$5=\"\",\"\", 'Drill Shaft'!$B$5)","v":"Drilled Shaft Record"},{"$f":"IF('Drill Shaft'!$K$25=\"\",\"\",'Drill Shaft'!$K$25)","v":"SLURRY PROPERTIES IF USED"},{"$f":"IF('Drill Shaft'!$L$26=\"\",\"\",'Drill Shaft'!$L$26)","v":"Viscosity (sec)"},{"$f":"IF('Drill Shaft'!$A$37=\"\",\"\",'Drill Shaft'!$A$37)","v":3}]
[206,{"$f":"IF('Drill Shaft'!$L$40=\"\",\"\",'Drill Shaft'!$L$40)","v":""},{"$f":"IF( 'Drill Shaft'!$B$5=\"\",\"\", 'Drill Shaft'!$B$5)","v":"Drilled Shaft Record"},{"$f":"IF('Drill Shaft'!$K$25=\"\",\"\",'Drill Shaft'!$K$25)","v":"SLURRY PROPERTIES IF USED"},{"$f":"IF('Drill Shaft'!$L$26=\"\",\"\",'Drill Shaft'!$L$26)","v":"Viscosity (sec)"},{"$f":"IF('Drill Shaft'!$A$37=\"\",\"\",'Drill Shaft'!$A$37)","v":3}]
[207,{"$f":"IF('Drill Shaft'!$L$41=\"\",\"\",'Drill Shaft'!$L$41)","v":""},{"$f":"IF( 'Drill Shaft'!$B$5=\"\",\"\", 'Drill Shaft'!$B$5)","v":"Drilled Shaft Record"},{"$f":"IF('Drill Shaft'!$K$25=\"\",\"\",'Drill Shaft'!$K$25)","v":"SLURRY PROPERTIES IF USED"},{"$f":"IF('Drill Shaft'!$L$26=\"\",\"\",'Drill Shaft'!$L$26)","v":"Viscosity (sec)"},{"$f":"IF('Drill Shaft'!$A$37=\"\",\"\",'Drill Shaft'!$A$37)","v":3}]
[208,{"$f":"IF('Drill Shaft'!$L$42=\"\",\"\",'Drill Shaft'!$L$42)","v":""},{"$f":"IF( 'Drill Shaft'!$B$5=\"\",\"\", 'Drill Shaft'!$B$5)","v":"Drilled Shaft Record"},{"$f":"IF('Drill Shaft'!$K$25=\"\",\"\",'Drill Shaft'!$K$25)","v":"SLURRY PROPERTIES IF USED"},{"$f":"IF('Drill Shaft'!$L$26=\"\",\"\",'Drill Shaft'!$L$26)","v":"Viscosity (sec)"},{"$f":"IF('Drill Shaft'!$A$42=\"\",\"\",'Drill Shaft'!$A$42)","v":4}]
[209,{"$f":"IF('Drill Shaft'!$L$43=\"\",\"\",'Drill Shaft'!$L$43)","v":""},{"$f":"IF( 'Drill Shaft'!$B$5=\"\",\"\", 'Drill Shaft'!$B$5)","v":"Drilled Shaft Record"},{"$f":"IF('Drill Shaft'!$K$25=\"\",\"\",'Drill Shaft'!$K$25)","v":"SLURRY PROPERTIES IF USED"},{"$f":"IF('Drill Shaft'!$L$26=\"\",\"\",'Drill Shaft'!$L$26)","v":"Viscosity (sec)"},{"$f":"IF('Drill Shaft'!$A$42=\"\",\"\",'Drill Shaft'!$A$42)","v":4}]
[210,{"$f":"IF('Drill Shaft'!$L$44=\"\",\"\",'Drill Shaft'!$L$44)","v":""},{"$f":"IF( 'Drill Shaft'!$B$5=\"\",\"\", 'Drill Shaft'!$B$5)","v":"Drilled Shaft Record"},{"$f":"IF('Drill Shaft'!$K$25=\"\",\"\",'Drill Shaft'!$K$25)","v":"SLURRY PROPERTIES IF USED"},{"$f":"IF('Drill Shaft'!$L$26=\"\",\"\",'Drill Shaft'!$L$26)","v":"Viscosity (sec)"},{"$f":"IF('Drill Shaft'!$A$42=\"\",\"\",'Drill Shaft'!$A$42)","v":4}]
[211,{"$f":"IF('Drill Shaft'!$L$45=\"\",\"\",'Drill Shaft'!$L$45)","v":""},{"$f":"IF( 'Drill Shaft'!$B$5=\"\",\"\", 'Drill Shaft'!$B$5)","v":"Drilled Shaft Record"},{"$f":"IF('Drill Shaft'!$K$25=\"\",\"\",'Drill Shaft'!$K$25)","v":"SLURRY PROPERTIES IF USED"},{"$f":"IF('Drill Shaft'!$L$26=\"\",\"\",'Drill Shaft'!$L$26)","v":"Viscosity (sec)"},{"$f":"IF('Drill Shaft'!$A$42=\"\",\"\",'Drill Shaft'!$A$42)","v":4}]
[212,{"$f":"IF('Drill Shaft'!$L$46=\"\",\"\",'Drill Shaft'!$L$46)","v":""},{"$f":"IF( 'Drill Shaft'!$B$5=\"\",\"\", 'Drill Shaft'!$B$5)","v":"Drilled Shaft Record"},{"$f":"IF('Drill Shaft'!$K$25=\"\",\"\",'Drill Shaft'!$K$25)","v":"SLURRY PROPERTIES IF USED"},{"$f":"IF('Drill Shaft'!$L$26=\"\",\"\",'Drill Shaft'!$L$26)","v":"Viscosity (sec)"},{"$f":"IF('Drill Shaft'!$A$42=\"\",\"\",'Drill Shaft'!$A$42)","v":4}]
[213,{"$f":"IF('Drill Shaft'!$L$47=\"\",\"\",'Drill Shaft'!$L$47)","v":""},{"$f":"IF( 'Drill Shaft'!$B$5=\"\",\"\", 'Drill Shaft'!$B$5)","v":"Drilled Shaft Record"},{"$f":"IF('Drill Shaft'!$K$25=\"\",\"\",'Drill Shaft'!$K$25)","v":"SLURRY PROPERTIES IF USED"},{"$f":"IF('Drill Shaft'!$L$26=\"\",\"\",'Drill Shaft'!$L$26)","v":"Viscosity (sec)"},{"$f":"IF('Drill Shaft'!$A$47=\"\",\"\",'Drill Shaft'!$A$47)","v":5}]
[214,{"$f":"IF('Drill Shaft'!$L$48=\"\",\"\",'Drill Shaft'!$L$48)","v":""},{"$f":"IF( 'Drill Shaft'!$B$5=\"\",\"\", 'Drill Shaft'!$B$5)","v":"Drilled Shaft Record"},{"$f":"IF('Drill Shaft'!$K$25=\"\",\"\",'Drill Shaft'!$K$25)","v":"SLURRY PROPERTIES IF USED"},{"$f":"IF('Drill Shaft'!$L$26=\"\",\"\",'Drill Shaft'!$L$26)","v":"Viscosity (sec)"},{"$f":"IF('Drill Shaft'!$A$47=\"\",\"\",'Drill Shaft'!$A$47)","v":5}]
[215,{"$f":"IF('Drill Shaft'!$L$49=\"\",\"\",'Drill Shaft'!$L$49)","v":""},{"$f":"IF( 'Drill Shaft'!$B$5=\"\",\"\", 'Drill Shaft'!$B$5)","v":"Drilled Shaft Record"},{"$f":"IF('Drill Shaft'!$K$25=\"\",\"\",'Drill Shaft'!$K$25)","v":"SLURRY PROPERTIES IF USED"},{"$f":"IF('Drill Shaft'!$L$26=\"\",\"\",'Drill Shaft'!$L$26)","v":"Viscosity (sec)"},{"$f":"IF('Drill Shaft'!$A$47=\"\",\"\",'Drill Shaft'!$A$47)","v":5}]
[216,{"$f":"IF('Drill Shaft'!$L$50=\"\",\"\",'Drill Shaft'!$L$50)","v":""},{"$f":"IF( 'Drill Shaft'!$B$5=\"\",\"\", 'Drill Shaft'!$B$5)","v":"Drilled Shaft Record"},{"$f":"IF('Drill Shaft'!$K$25=\"\",\"\",'Drill Shaft'!$K$25)","v":"SLURRY PROPERTIES IF USED"},{"$f":"IF('Drill Shaft'!$L$26=\"\",\"\",'Drill Shaft'!$L$26)","v":"Viscosity (sec)"},{"$f":"IF('Drill Shaft'!$A$47=\"\",\"\",'Drill Shaft'!$A$47)","v":5}]
[217,{"$f":"IF('Drill Shaft'!$L$51=\"\",\"\",'Drill Shaft'!$L$51)","v":""},{"$f":"IF( 'Drill Shaft'!$B$5=\"\",\"\", 'Drill Shaft'!$B$5)","v":"Drilled Shaft Record"},{"$f":"IF('Drill Shaft'!$K$25=\"\",\"\",'Drill Shaft'!$K$25)","v":"SLURRY PROPERTIES IF USED"},{"$f":"IF('Drill Shaft'!$L$26=\"\",\"\",'Drill Shaft'!$L$26)","v":"Viscosity (sec)"},{"$f":"IF('Drill Shaft'!$A$47=\"\",\"\",'Drill Shaft'!$A$47)","v":5}]
[218,{"$f":"IF('Drill Shaft'!$M$27=\"\",\"\",'Drill Shaft'!$M$27)","v":""},{"$f":"IF( 'Drill Shaft'!$B$5=\"\",\"\", 'Drill Shaft'!$B$5)","v":"Drilled Shaft Record"},{"$f":"IF('Drill Shaft'!$K$25=\"\",\"\",'Drill Shaft'!$K$25)","v":"SLURRY PROPERTIES IF USED"},{"$f":"IF('Drill Shaft'!$M$26=\"\",\"\",'Drill Shaft'!$M$26)","v":"Sand Content (%)"},{"$f":"IF('Drill Shaft'!$A$27=\"\",\"\",'Drill Shaft'!$A$27)","v":1}]
[219,{"$f":"IF('Drill Shaft'!$M$28=\"\",\"\",'Drill Shaft'!$M$28)","v":""},{"$f":"IF( 'Drill Shaft'!$B$5=\"\",\"\", 'Drill Shaft'!$B$5)","v":"Drilled Shaft Record"},{"$f":"IF('Drill Shaft'!$K$25=\"\",\"\",'Drill Shaft'!$K$25)","v":"SLURRY PROPERTIES IF USED"},{"$f":"IF('Drill Shaft'!$M$26=\"\",\"\",'Drill Shaft'!$M$26)","v":"Sand Content (%)"},{"$f":"IF('Drill Shaft'!$A$27=\"\",\"\",'Drill Shaft'!$A$27)","v":1}]
[220,{"$f":"IF('Drill Shaft'!$M$29=\"\",\"\",'Drill Shaft'!$M$29)","v":""},{"$f":"IF( 'Drill Shaft'!$B$5=\"\",\"\", 'Drill Shaft'!$B$5)","v":"Drilled Shaft Record"},{"$f":"IF('Drill Shaft'!$K$25=\"\",\"\",'Drill Shaft'!$K$25)","v":"SLURRY PROPERTIES IF USED"},{"$f":"IF('Drill Shaft'!$M$26=\"\",\"\",'Drill Shaft'!$M$26)","v":"Sand Content (%)"},{"$f":"IF('Drill Shaft'!$A$27=\"\",\"\",'Drill Shaft'!$A$27)","v":1}]
[221,{"$f":"IF('Drill Shaft'!$M$30=\"\",\"\",'Drill Shaft'!$M$30)","v":""},{"$f":"IF( 'Drill Shaft'!$B$5=\"\",\"\", 'Drill Shaft'!$B$5)","v":"Drilled Shaft Record"},{"$f":"IF('Drill Shaft'!$K$25=\"\",\"\",'Drill Shaft'!$K$25)","v":"SLURRY PROPERTIES IF USED"},{"$f":"IF('Drill Shaft'!$M$26=\"\",\"\",'Drill Shaft'!$M$26)","v":"Sand Content (%)"},{"$f":"IF('Drill Shaft'!$A$27=\"\",\"\",'Drill Shaft'!$A$27)","v":1}]
[222,{"$f":"IF('Drill Shaft'!$M$31=\"\",\"\",'Drill Shaft'!$M$31)","v":""},{"$f":"IF( 'Drill Shaft'!$B$5=\"\",\"\", 'Drill Shaft'!$B$5)","v":"Drilled Shaft Record"},{"$f":"IF('Drill Shaft'!$K$25=\"\",\"\",'Drill Shaft'!$K$25)","v":"SLURRY PROPERTIES IF USED"},{"$f":"IF('Drill Shaft'!$M$26=\"\",\"\",'Drill Shaft'!$M$26)","v":"Sand Content (%)"},{"$f":"IF('Drill Shaft'!$A$27=\"\",\"\",'Drill Shaft'!$A$27)","v":1}]
[223,{"$f":"IF('Drill Shaft'!$M$32=\"\",\"\",'Drill Shaft'!$M$32)","v":""},{"$f":"IF( 'Drill Shaft'!$B$5=\"\",\"\", 'Drill Shaft'!$B$5)","v":"Drilled Shaft Record"},{"$f":"IF('Drill Shaft'!$K$25=\"\",\"\",'Drill Shaft'!$K$25)","v":"SLURRY PROPERTIES IF USED"},{"$f":"IF('Drill Shaft'!$M$26=\"\",\"\",'Drill Shaft'!$M$26)","v":"Sand Content (%)"},{"$f":"IF('Drill Shaft'!$A$32=\"\",\"\",'Drill Shaft'!$A$32)","v":2}]
[224,{"$f":"IF('Drill Shaft'!$M$33=\"\",\"\",'Drill Shaft'!$M$33)","v":""},{"$f":"IF( 'Drill Shaft'!$B$5=\"\",\"\", 'Drill Shaft'!$B$5)","v":"Drilled Shaft Record"},{"$f":"IF('Drill Shaft'!$K$25=\"\",\"\",'Drill Shaft'!$K$25)","v":"SLURRY PROPERTIES IF USED"},{"$f":"IF('Drill Shaft'!$M$26=\"\",\"\",'Drill Shaft'!$M$26)","v":"Sand Content (%)"},{"$f":"IF('Drill Shaft'!$A$32=\"\",\"\",'Drill Shaft'!$A$32)","v":2}]
[225,{"$f":"IF('Drill Shaft'!$M$34=\"\",\"\",'Drill Shaft'!$M$34)","v":""},{"$f":"IF( 'Drill Shaft'!$B$5=\"\",\"\", 'Drill Shaft'!$B$5)","v":"Drilled Shaft Record"},{"$f":"IF('Drill Shaft'!$K$25=\"\",\"\",'Drill Shaft'!$K$25)","v":"SLURRY PROPERTIES IF USED"},{"$f":"IF('Drill Shaft'!$M$26=\"\",\"\",'Drill Shaft'!$M$26)","v":"Sand Content (%)"},{"$f":"IF('Drill Shaft'!$A$32=\"\",\"\",'Drill Shaft'!$A$32)","v":2}]
[226,{"$f":"IF('Drill Shaft'!$M$35=\"\",\"\",'Drill Shaft'!$M$35)","v":""},{"$f":"IF( 'Drill Shaft'!$B$5=\"\",\"\", 'Drill Shaft'!$B$5)","v":"Drilled Shaft Record"},{"$f":"IF('Drill Shaft'!$K$25=\"\",\"\",'Drill Shaft'!$K$25)","v":"SLURRY PROPERTIES IF USED"},{"$f":"IF('Drill Shaft'!$M$26=\"\",\"\",'Drill Shaft'!$M$26)","v":"Sand Content (%)"},{"$f":"IF('Drill Shaft'!$A$32=\"\",\"\",'Drill Shaft'!$A$32)","v":2}]
[227,{"$f":"IF('Drill Shaft'!$M$36=\"\",\"\",'Drill Shaft'!$M$36)","v":""},{"$f":"IF( 'Drill Shaft'!$B$5=\"\",\"\", 'Drill Shaft'!$B$5)","v":"Drilled Shaft Record"},{"$f":"IF('Drill Shaft'!$K$25=\"\",\"\",'Drill Shaft'!$K$25)","v":"SLURRY PROPERTIES IF USED"},{"$f":"IF('Drill Shaft'!$M$26=\"\",\"\",'Drill Shaft'!$M$26)","v":"Sand Content (%)"},{"$f":"IF('Drill Shaft'!$A$32=\"\",\"\",'Drill Shaft'!$A$32)","v":2}]
[228,{"$f":"IF('Drill Shaft'!$M$37=\"\",\"\",'Drill Shaft'!$M$37)","v":""},{"$f":"IF( 'Drill Shaft'!$B$5=\"\",\"\", 'Drill Shaft'!$B$5)","v":"Drilled Shaft Record"},{"$f":"IF('Drill Shaft'!$K$25=\"\",\"\",'Drill Shaft'!$K$25)","v":"SLURRY PROPERTIES IF USED"},{"$f":"IF('Drill Shaft'!$M$26=\"\",\"\",'Drill Shaft'!$M$26)","v":"Sand Content (%)"},{"$f":"IF('Drill Shaft'!$A$37=\"\",\"\",'Drill Shaft'!$A$37)","v":3}]
[229,{"$f":"IF('Drill Shaft'!$M$38=\"\",\"\",'Drill Shaft'!$M$38)","v":""},{"$f":"IF( 'Drill Shaft'!$B$5=\"\",\"\", 'Drill Shaft'!$B$5)","v":"Drilled Shaft Record"},{"$f":"IF('Drill Shaft'!$K$25=\"\",\"\",'Drill Shaft'!$K$25)","v":"SLURRY PROPERTIES IF USED"},{"$f":"IF('Drill Shaft'!$M$26=\"\",\"\",'Drill Shaft'!$M$26)","v":"Sand Content (%)"},{"$f":"IF('Drill Shaft'!$A$37=\"\",\"\",'Drill Shaft'!$A$37)","v":3}]
[230,{"$f":"IF('Drill Shaft'!$M$39=\"\",\"\",'Drill Shaft'!$M$39)","v":""},{"$f":"IF( 'Drill Shaft'!$B$5=\"\",\"\", 'Drill Shaft'!$B$5)","v":"Drilled Shaft Record"},{"$f":"IF('Drill Shaft'!$K$25=\"\",\"\",'Drill Shaft'!$K$25)","v":"SLURRY PROPERTIES IF USED"},{"$f":"IF('Drill Shaft'!$M$26=\"\",\"\",'Drill Shaft'!$M$26)","v":"Sand Content (%)"},{"$f":"IF('Drill Shaft'!$A$37=\"\",\"\",'Drill Shaft'!$A$37)","v":3}]
[231,{"$f":"IF('Drill Shaft'!$M$40=\"\",\"\",'Drill Shaft'!$M$40)","v":""},{"$f":"IF( 'Drill Shaft'!$B$5=\"\",\"\", 'Drill Shaft'!$B$5)","v":"Drilled Shaft Record"},{"$f":"IF('Drill Shaft'!$K$25=\"\",\"\",'Drill Shaft'!$K$25)","v":"SLURRY PROPERTIES IF USED"},{"$f":"IF('Drill Shaft'!$M$26=\"\",\"\",'Drill Shaft'!$M$26)","v":"Sand Content (%)"},{"$f":"IF('Drill Shaft'!$A$37=\"\",\"\",'Drill Shaft'!$A$37)","v":3}]
[232,{"$f":"IF('Drill Shaft'!$M$41=\"\",\"\",'Drill Shaft'!$M$41)","v":""},{"$f":"IF( 'Drill Shaft'!$B$5=\"\",\"\", 'Drill Shaft'!$B$5)","v":"Drilled Shaft Record"},{"$f":"IF('Drill Shaft'!$K$25=\"\",\"\",'Drill Shaft'!$K$25)","v":"SLURRY PROPERTIES IF USED"},{"$f":"IF('Drill Shaft'!$M$26=\"\",\"\",'Drill Shaft'!$M$26)","v":"Sand Content (%)"},{"$f":"IF('Drill Shaft'!$A$37=\"\",\"\",'Drill Shaft'!$A$37)","v":3}]
[233,{"$f":"IF('Drill Shaft'!$M$42=\"\",\"\",'Drill Shaft'!$M$42)","v":""},{"$f":"IF( 'Drill Shaft'!$B$5=\"\",\"\", 'Drill Shaft'!$B$5)","v":"Drilled Shaft Record"},{"$f":"IF('Drill Shaft'!$K$25=\"\",\"\",'Drill Shaft'!$K$25)","v":"SLURRY PROPERTIES IF USED"},{"$f":"IF('Drill Shaft'!$M$26=\"\",\"\",'Drill Shaft'!$M$26)","v":"Sand Content (%)"},{"$f":"IF('Drill Shaft'!$A$42=\"\",\"\",'Drill Shaft'!$A$42)","v":4}]
[234,{"$f":"IF('Drill Shaft'!$M$43=\"\",\"\",'Drill Shaft'!$M$43)","v":""},{"$f":"IF( 'Drill Shaft'!$B$5=\"\",\"\", 'Drill Shaft'!$B$5)","v":"Drilled Shaft Record"},{"$f":"IF('Drill Shaft'!$K$25=\"\",\"\",'Drill Shaft'!$K$25)","v":"SLURRY PROPERTIES IF USED"},{"$f":"IF('Drill Shaft'!$M$26=\"\",\"\",'Drill Shaft'!$M$26)","v":"Sand Content (%)"},{"$f":"IF('Drill Shaft'!$A$42=\"\",\"\",'Drill Shaft'!$A$42)","v":4}]
[235,{"$f":"IF('Drill Shaft'!$M$44=\"\",\"\",'Drill Shaft'!$M$44)","v":""},{"$f":"IF( 'Drill Shaft'!$B$5=\"\",\"\", 'Drill Shaft'!$B$5)","v":"Drilled Shaft Record"},{"$f":"IF('Drill Shaft'!$K$25=\"\",\"\",'Drill Shaft'!$K$25)","v":"SLURRY PROPERTIES IF USED"},{"$f":"IF('Drill Shaft'!$M$26=\"\",\"\",'Drill Shaft'!$M$26)","v":"Sand Content (%)"},{"$f":"IF('Drill Shaft'!$A$42=\"\",\"\",'Drill Shaft'!$A$42)","v":4}]
[236,{"$f":"IF('Drill Shaft'!$M$45=\"\",\"\",'Drill Shaft'!$M$45)","v":""},{"$f":"IF( 'Drill Shaft'!$B$5=\"\",\"\", 'Drill Shaft'!$B$5)","v":"Drilled Shaft Record"},{"$f":"IF('Drill Shaft'!$K$25=\"\",\"\",'Drill Shaft'!$K$25)","v":"SLURRY PROPERTIES IF USED"},{"$f":"IF('Drill Shaft'!$M$26=\"\",\"\",'Drill Shaft'!$M$26)","v":"Sand Content (%)"},{"$f":"IF('Drill Shaft'!$A$42=\"\",\"\",'Drill Shaft'!$A$42)","v":4}]
[237,{"$f":"IF('Drill Shaft'!$M$46=\"\",\"\",'Drill Shaft'!$M$46)","v":""},{"$f":"IF( 'Drill Shaft'!$B$5=\"\",\"\", 'Drill Shaft'!$B$5)","v":"Drilled Shaft Record"},{"$f":"IF('Drill Shaft'!$K$25=\"\",\"\",'Drill Shaft'!$K$25)","v":"SLURRY PROPERTIES IF USED"},{"$f":"IF('Drill Shaft'!$M$26=\"\",\"\",'Drill Shaft'!$M$26)","v":"Sand Content (%)"},{"$f":"IF('Drill Shaft'!$A$42=\"\",\"\",'Drill Shaft'!$A$42)","v":4}]
[238,{"$f":"IF('Drill Shaft'!$M$47=\"\",\"\",'Drill Shaft'!$M$47)","v":""},{"$f":"IF( 'Drill Shaft'!$B$5=\"\",\"\", 'Drill Shaft'!$B$5)","v":"Drilled Shaft Record"},{"$f":"IF('Drill Shaft'!$K$25=\"\",\"\",'Drill Shaft'!$K$25)","v":"SLURRY PROPERTIES IF USED"},{"$f":"IF('Drill Shaft'!$M$26=\"\",\"\",'Drill Shaft'!$M$26)","v":"Sand Content (%)"},{"$f":"IF('Drill Shaft'!$A$47=\"\",\"\",'Drill Shaft'!$A$47)","v":5}]
[239,{"$f":"IF('Drill Shaft'!$M$48=\"\",\"\",'Drill Shaft'!$M$48)","v":""},{"$f":"IF( 'Drill Shaft'!$B$5=\"\",\"\", 'Drill Shaft'!$B$5)","v":"Drilled Shaft Record"},{"$f":"IF('Drill Shaft'!$K$25=\"\",\"\",'Drill Shaft'!$K$25)","v":"SLURRY PROPERTIES IF USED"},{"$f":"IF('Drill Shaft'!$M$26=\"\",\"\",'Drill Shaft'!$M$26)","v":"Sand Content (%)"},{"$f":"IF('Drill Shaft'!$A$47=\"\",\"\",'Drill Shaft'!$A$47)","v":5}]
[240,{"$f":"IF('Drill Shaft'!$M$49=\"\",\"\",'Drill Shaft'!$M$49)","v":""},{"$f":"IF( 'Drill Shaft'!$B$5=\"\",\"\", 'Drill Shaft'!$B$5)","v":"Drilled Shaft Record"},{"$f":"IF('Drill Shaft'!$K$25=\"\",\"\",'Drill Shaft'!$K$25)","v":"SLURRY PROPERTIES IF USED"},{"$f":"IF('Drill Shaft'!$M$26=\"\",\"\",'Drill Shaft'!$M$26)","v":"Sand Content (%)"},{"$f":"IF('Drill Shaft'!$A$47=\"\",\"\",'Drill Shaft'!$A$47)","v":5}]
[241,{"$f":"IF('Drill Shaft'!$M$50=\"\",\"\",'Drill Shaft'!$M$50)","v":""},{"$f":"IF( 'Drill Shaft'!$B$5=\"\",\"\", 'Drill Shaft'!$B$5)","v":"Drilled Shaft Record"},{"$f":"IF('Drill Shaft'!$K$25=\"\",\"\",'Drill Shaft'!$K$25)","v":"SLURRY PROPERTIES IF USED"},{"$f":"IF('Drill Shaft'!$M$26=\"\",\"\",'Drill Shaft'!$M$26)","v":"Sand Content (%)"},{"$f":"IF('Drill Shaft'!$A$47=\"\",\"\",'Drill Shaft'!$A$47)","v":5}]
[242,{"$f":"IF('Drill Shaft'!$M$51=\"\",\"\",'Drill Shaft'!$M$51)","v":""},{"$f":"IF( 'Drill Shaft'!$B$5=\"\",\"\", 'Drill Shaft'!$B$5)","v":"Drilled Shaft Record"},{"$f":"IF('Drill Shaft'!$K$25=\"\",\"\",'Drill Shaft'!$K$25)","v":"SLURRY PROPERTIES IF USED"},{"$f":"IF('Drill Shaft'!$M$26=\"\",\"\",'Drill Shaft'!$M$26)","v":"Sand Content (%)"},{"$f":"IF('Drill Shaft'!$A$47=\"\",\"\",'Drill Shaft'!$A$47)","v":5}]
[243,{"$f":"IF('Drill Shaft'!$N$27=\"\",\"\",'Drill Shaft'!$N$27)","v":""},{"$f":"IF( 'Drill Shaft'!$B$5=\"\",\"\", 'Drill Shaft'!$B$5)","v":"Drilled Shaft Record"},{"$f":"IF('Drill Shaft'!$N$25=\"\",\"\",'Drill Shaft'!$N$25)","v":"Remark"},{"$f":"IF('Drill Shaft'!$A$27=\"\",\"\",'Drill Shaft'!$A$27)","v":1}]
[244,{"$f":"IF('Drill Shaft'!$N$28=\"\",\"\",'Drill Shaft'!$N$28)","v":""},{"$f":"IF( 'Drill Shaft'!$B$5=\"\",\"\", 'Drill Shaft'!$B$5)","v":"Drilled Shaft Record"},{"$f":"IF('Drill Shaft'!$N$25=\"\",\"\",'Drill Shaft'!$N$25)","v":"Remark"},{"$f":"IF('Drill Shaft'!$A$27=\"\",\"\",'Drill Shaft'!$A$27)","v":1}]
[245,{"$f":"IF('Drill Shaft'!$N$29=\"\",\"\",'Drill Shaft'!$N$29)","v":""},{"$f":"IF( 'Drill Shaft'!$B$5=\"\",\"\", 'Drill Shaft'!$B$5)","v":"Drilled Shaft Record"},{"$f":"IF('Drill Shaft'!$N$25=\"\",\"\",'Drill Shaft'!$N$25)","v":"Remark"},{"$f":"IF('Drill Shaft'!$A$27=\"\",\"\",'Drill Shaft'!$A$27)","v":1}]
[246,{"$f":"IF('Drill Shaft'!$N$30=\"\",\"\",'Drill Shaft'!$N$30)","v":""},{"$f":"IF( 'Drill Shaft'!$B$5=\"\",\"\", 'Drill Shaft'!$B$5)","v":"Drilled Shaft Record"},{"$f":"IF('Drill Shaft'!$N$25=\"\",\"\",'Drill Shaft'!$N$25)","v":"Remark"},{"$f":"IF('Drill Shaft'!$A$27=\"\",\"\",'Drill Shaft'!$A$27)","v":1}]
[247,{"$f":"IF('Drill Shaft'!$N$31=\"\",\"\",'Drill Shaft'!$N$31)","v":""},{"$f":"IF( 'Drill Shaft'!$B$5=\"\",\"\", 'Drill Shaft'!$B$5)","v":"Drilled Shaft Record"},{"$f":"IF('Drill Shaft'!$N$25=\"\",\"\",'Drill Shaft'!$N$25)","v":"Remark"},{"$f":"IF('Drill Shaft'!$A$27=\"\",\"\",'Drill Shaft'!$A$27)","v":1}]
[248,{"$f":"IF('Drill Shaft'!$N$32=\"\",\"\",'Drill Shaft'!$N$32)","v":""},{"$f":"IF( 'Drill Shaft'!$B$5=\"\",\"\", 'Drill Shaft'!$B$5)","v":"Drilled Shaft Record"},{"$f":"IF('Drill Shaft'!$N$25=\"\",\"\",'Drill Shaft'!$N$25)","v":"Remark"},{"$f":"IF('Drill Shaft'!$A$32=\"\",\"\",'Drill Shaft'!$A$32)","v":2}]
[249,{"$f":"IF('Drill Shaft'!$N$33=\"\",\"\",'Drill Shaft'!$N$33)","v":""},{"$f":"IF( 'Drill Shaft'!$B$5=\"\",\"\", 'Drill Shaft'!$B$5)","v":"Drilled Shaft Record"},{"$f":"IF('Drill Shaft'!$N$25=\"\",\"\",'Drill Shaft'!$N$25)","v":"Remark"},{"$f":"IF('Drill Shaft'!$A$32=\"\",\"\",'Drill Shaft'!$A$32)","v":2}]
[250,{"$f":"IF('Drill Shaft'!$N$34=\"\",\"\",'Drill Shaft'!$N$34)","v":""},{"$f":"IF( 'Drill Shaft'!$B$5=\"\",\"\", 'Drill Shaft'!$B$5)","v":"Drilled Shaft Record"},{"$f":"IF('Drill Shaft'!$N$25=\"\",\"\",'Drill Shaft'!$N$25)","v":"Remark"},{"$f":"IF('Drill Shaft'!$A$32=\"\",\"\",'Drill Shaft'!$A$32)","v":2}]
[251,{"$f":"IF('Drill Shaft'!$N$35=\"\",\"\",'Drill Shaft'!$N$35)","v":""},{"$f":"IF( 'Drill Shaft'!$B$5=\"\",\"\", 'Drill Shaft'!$B$5)","v":"Drilled Shaft Record"},{"$f":"IF('Drill Shaft'!$N$25=\"\",\"\",'Drill Shaft'!$N$25)","v":"Remark"},{"$f":"IF('Drill Shaft'!$A$32=\"\",\"\",'Drill Shaft'!$A$32)","v":2}]
[252,{"$f":"IF('Drill Shaft'!$N$36=\"\",\"\",'Drill Shaft'!$N$36)","v":""},{"$f":"IF( 'Drill Shaft'!$B$5=\"\",\"\", 'Drill Shaft'!$B$5)","v":"Drilled Shaft Record"},{"$f":"IF('Drill Shaft'!$N$25=\"\",\"\",'Drill Shaft'!$N$25)","v":"Remark"},{"$f":"IF('Drill Shaft'!$A$32=\"\",\"\",'Drill Shaft'!$A$32)","v":2}]
[253,{"$f":"IF('Drill Shaft'!$N$37=\"\",\"\",'Drill Shaft'!$N$37)","v":""},{"$f":"IF( 'Drill Shaft'!$B$5=\"\",\"\", 'Drill Shaft'!$B$5)","v":"Drilled Shaft Record"},{"$f":"IF('Drill Shaft'!$N$25=\"\",\"\",'Drill Shaft'!$N$25)","v":"Remark"},{"$f":"IF('Drill Shaft'!$A$37=\"\",\"\",'Drill Shaft'!$A$37)","v":3}]
[254,{"$f":"IF('Drill Shaft'!$N$38=\"\",\"\",'Drill Shaft'!$N$38)","v":""},{"$f":"IF( 'Drill Shaft'!$B$5=\"\",\"\", 'Drill Shaft'!$B$5)","v":"Drilled Shaft Record"},{"$f":"IF('Drill Shaft'!$N$25=\"\",\"\",'Drill Shaft'!$N$25)","v":"Remark"},{"$f":"IF('Drill Shaft'!$A$37=\"\",\"\",'Drill Shaft'!$A$37)","v":3}]
[255,{"$f":"IF('Drill Shaft'!$N$39=\"\",\"\",'Drill Shaft'!$N$39)","v":""},{"$f":"IF( 'Drill Shaft'!$B$5=\"\",\"\", 'Drill Shaft'!$B$5)","v":"Drilled Shaft Record"},{"$f":"IF('Drill Shaft'!$N$25=\"\",\"\",'Drill Shaft'!$N$25)","v":"Remark"},{"$f":"IF('Drill Shaft'!$A$37=\"\",\"\",'Drill Shaft'!$A$37)","v":3}]
[256,{"$f":"IF('Drill Shaft'!$N$40=\"\",\"\",'Drill Shaft'!$N$40)","v":""},{"$f":"IF( 'Drill Shaft'!$B$5=\"\",\"\", 'Drill Shaft'!$B$5)","v":"Drilled Shaft Record"},{"$f":"IF('Drill Shaft'!$N$25=\"\",\"\",'Drill Shaft'!$N$25)","v":"Remark"},{"$f":"IF('Drill Shaft'!$A$37=\"\",\"\",'Drill Shaft'!$A$37)","v":3}]
[257,{"$f":"IF('Drill Shaft'!$N$41=\"\",\"\",'Drill Shaft'!$N$41)","v":""},{"$f":"IF( 'Drill Shaft'!$B$5=\"\",\"\", 'Drill Shaft'!$B$5)","v":"Drilled Shaft Record"},{"$f":"IF('Drill Shaft'!$N$25=\"\",\"\",'Drill Shaft'!$N$25)","v":"Remark"},{"$f":"IF('Drill Shaft'!$A$37=\"\",\"\",'Drill Shaft'!$A$37)","v":3}]
[258,{"$f":"IF('Drill Shaft'!$N$42=\"\",\"\",'Drill Shaft'!$N$42)","v":""},{"$f":"IF( 'Drill Shaft'!$B$5=\"\",\"\", 'Drill Shaft'!$B$5)","v":"Drilled Shaft Record"},{"$f":"IF('Drill Shaft'!$N$25=\"\",\"\",'Drill Shaft'!$N$25)","v":"Remark"},{"$f":"IF('Drill Shaft'!$A$42=\"\",\"\",'Drill Shaft'!$A$42)","v":4}]
[259,{"$f":"IF('Drill Shaft'!$N$43=\"\",\"\",'Drill Shaft'!$N$43)","v":""},{"$f":"IF( 'Drill Shaft'!$B$5=\"\",\"\", 'Drill Shaft'!$B$5)","v":"Drilled Shaft Record"},{"$f":"IF('Drill Shaft'!$N$25=\"\",\"\",'Drill Shaft'!$N$25)","v":"Remark"},{"$f":"IF('Drill Shaft'!$A$42=\"\",\"\",'Drill Shaft'!$A$42)","v":4}]
[260,{"$f":"IF('Drill Shaft'!$N$44=\"\",\"\",'Drill Shaft'!$N$44)","v":""},{"$f":"IF( 'Drill Shaft'!$B$5=\"\",\"\", 'Drill Shaft'!$B$5)","v":"Drilled Shaft Record"},{"$f":"IF('Drill Shaft'!$N$25=\"\",\"\",'Drill Shaft'!$N$25)","v":"Remark"},{"$f":"IF('Drill Shaft'!$A$42=\"\",\"\",'Drill Shaft'!$A$42)","v":4}]
[261,{"$f":"IF('Drill Shaft'!$N$45=\"\",\"\",'Drill Shaft'!$N$45)","v":""},{"$f":"IF( 'Drill Shaft'!$B$5=\"\",\"\", 'Drill Shaft'!$B$5)","v":"Drilled Shaft Record"},{"$f":"IF('Drill Shaft'!$N$25=\"\",\"\",'Drill Shaft'!$N$25)","v":"Remark"},{"$f":"IF('Drill Shaft'!$A$42=\"\",\"\",'Drill Shaft'!$A$42)","v":4}]
[262,{"$f":"IF('Drill Shaft'!$N$46=\"\",\"\",'Drill Shaft'!$N$46)","v":""},{"$f":"IF( 'Drill Shaft'!$B$5=\"\",\"\", 'Drill Shaft'!$B$5)","v":"Drilled Shaft Record"},{"$f":"IF('Drill Shaft'!$N$25=\"\",\"\",'Drill Shaft'!$N$25)","v":"Remark"},{"$f":"IF('Drill Shaft'!$A$42=\"\",\"\",'Drill Shaft'!$A$42)","v":4}]
[263,{"$f":"IF('Drill Shaft'!$N$47=\"\",\"\",'Drill Shaft'!$N$47)","v":""},{"$f":"IF( 'Drill Shaft'!$B$5=\"\",\"\", 'Drill Shaft'!$B$5)","v":"Drilled Shaft Record"},{"$f":"IF('Drill Shaft'!$N$25=\"\",\"\",'Drill Shaft'!$N$25)","v":"Remark"},{"$f":"IF('Drill Shaft'!$A$47=\"\",\"\",'Drill Shaft'!$A$47)","v":5}]
[264,{"$f":"IF('Drill Shaft'!$N$48=\"\",\"\",'Drill Shaft'!$N$48)","v":""},{"$f":"IF( 'Drill Shaft'!$B$5=\"\",\"\", 'Drill Shaft'!$B$5)","v":"Drilled Shaft Record"},{"$f":"IF('Drill Shaft'!$N$25=\"\",\"\",'Drill Shaft'!$N$25)","v":"Remark"},{"$f":"IF('Drill Shaft'!$A$47=\"\",\"\",'Drill Shaft'!$A$47)","v":5}]
[265,{"$f":"IF('Drill Shaft'!$N$49=\"\",\"\",'Drill Shaft'!$N$49)","v":""},{"$f":"IF( 'Drill Shaft'!$B$5=\"\",\"\", 'Drill Shaft'!$B$5)","v":"Drilled Shaft Record"},{"$f":"IF('Drill Shaft'!$N$25=\"\",\"\",'Drill Shaft'!$N$25)","v":"Remark"},{"$f":"IF('Drill Shaft'!$A$47=\"\",\"\",'Drill Shaft'!$A$47)","v":5}]
[266,{"$f":"IF('Drill Shaft'!$N$50=\"\",\"\",'Drill Shaft'!$N$50)","v":""},{"$f":"IF( 'Drill Shaft'!$B$5=\"\",\"\", 'Drill Shaft'!$B$5)","v":"Drilled Shaft Record"},{"$f":"IF('Drill Shaft'!$N$25=\"\",\"\",'Drill Shaft'!$N$25)","v":"Remark"},{"$f":"IF('Drill Shaft'!$A$47=\"\",\"\",'Drill Shaft'!$A$47)","v":5}]
[267,{"$f":"IF('Drill Shaft'!$N$51=\"\",\"\",'Drill Shaft'!$N$51)","v":""},{"$f":"IF( 'Drill Shaft'!$B$5=\"\",\"\", 'Drill Shaft'!$B$5)","v":"Drilled Shaft Record"},{"$f":"IF('Drill Shaft'!$N$25=\"\",\"\",'Drill Shaft'!$N$25)","v":"Remark"},{"$f":"IF('Drill Shaft'!$A$47=\"\",\"\",'Drill Shaft'!$A$47)","v":5}]
[268,{"$f":"IF(Field271=\"\",\"\",Field271)","v":""},{"$f":"IF(\"Tested By \"=\"\",\"\",\"Tested By \")","v":"Tested By "},{"$f":"IF(test1=\"\",\"\",test1)","v":"TXDRLSHFT"}]
[269,{"$f":"IF(Field272=\"\",\"\",Field272)","v":""},{"$f":"IF(\"Tested Date\"=\"\",\"\",\"Tested Date \")","v":"Tested Date "},{"$f":"IF(test1=\"\",\"\",test1)","v":"TXDRLSHFT"}]