{"text_format":"1","workbook":"xlsx","n_sheets":2,"sheets":["Tex-502,3, 28-C","RX"],"not_rendered":{"charts":0,"images":1,"macros":1,"external_links":0,"defined_names":84,"comments":1,"pivot_tables":0},"unopened":[],"bounds":{"document_bytes":16777216,"sheet_cells":100000,"rows_first":2000,"rows_last":500,"rows_between":2000,"halvings":0,"cell_chars":16384,"cell_head_chars":4096},"cells_cut":0,"cells_raw":0,"read":"whole","date_system":"1900"}

{"sheet":"Tex-502,3, 28-C","index":0,"n_rows":77,"n_cols":11,"rows_kept":77,"cut":false,"hidden":false,"merged":[[11,3,11,4],[9,3,9,4],[10,7,10,8],[30,4,30,5],[32,4,32,5],[77,1,77,3],[12,7,12,8],[13,7,13,8],[15,3,15,8],[12,3,12,4],[73,6,73,8],[36,3,36,5],[22,3,22,5],[55,5,56,5],[66,2,66,4],[73,1,73,3],[41,4,42,4],[71,2,71,4],[41,3,42,3],[55,3,56,3],[67,2,67,4],[69,2,69,4],[55,6,56,6],[50,3,50,5],[64,1,64,8],[65,1,65,8],[55,4,56,4],[62,1,63,8],[0,0,0,1],[16,3,16,4],[16,7,16,8],[41,5,42,5],[41,6,42,6],[7,7,7,8],[7,3,7,4],[28,4,28,5],[8,3,8,4],[13,3,13,4],[14,3,14,8],[24,4,24,5],[11,7,11,8],[8,7,8,8],[10,3,10,4],[9,7,9,8]]}
["TxDOT Manuals >",null,null,"Tex-501-C"]
[null,"TEXAS DEPARTMENT OF TRANSPORTATION",null,null,null,null,null,null,null,null,30]
[null,null,null,null,null,null,null,null,null,null,3]
[null,null,null,null,null,null,null,null,null,null,"TxRap2.xlsm::42072.436204"]
[null,"PROPERTIES OF RECOVERED ASPHALTS BY THE ABSON PROCESS"]
[null,"Tex-502, 503, & 528-C"]
[null,null,null,null,null,null,null,null,{"$f":"\"File Version: \" & TEXT(MID(sn,SEARCH(\"::\",sn,1)+2,20),\"mm/dd/yy hh:mm:ss\")","v":"File Version: 03/09/15 10:28:08"}]
[null,null,"SAMPLE ID:",null,null,null,"SAMPLED DATE:"]
[null,null,"TEST NUMBER:",null,null,null,"LETTING DATE:"]
[null,null,"SAMPLE STATUS:",null,null,null,"CONTROLLING CSJ:"]
[null,null,"COUNTY:",null,null,null,"SPEC YEAR:"]
[null,null,"SAMPLED BY:",null,null,null,"SPEC ITEM:"]
[null,null,"SAMPLE LOCATION:",null,null,null,"SPECIAL PROVISION:"]
[null,null,"MATERIAL CODE:",null,null,null,"GRADE:"]
[null,null,"MATERIAL NAME:"]
[null,null,"PRODUCER:"]
[null,null,"AREA ENGINEER:",null,null,null,"PROJECT MANAGER:"]
[]
[null,null,"COURSE\\LIFT:",null,"STATION:",null,null,"DIST. FROM CL:"]
[]
[null,null,null,"Tex 502-C : Penetration of Bituminous Materials"]
[]
[null,null,null,{"$f":"\"Penetration at \"&+G25&\"º \" & IF(SpecYear=\"\",\"\",IF(SpecYear=\"1995\",\"C\",\"F\")) & \", dmm\"","v":"Penetration at º , dmm"}]
[]
[null,null,null,null,{"$f":" \"Temperature, º\" & IF(SpecYear=\"\",\"\",IF(SpecYear=\"1995\",\"C\",\"F\"))","v":"Temperature, º"}]
[]
[null,null,null,"Tex 503-C : Ductility of Bituminous Materials"]
[]
[null,null,null,null,{"$f":"\"Ductility at \" & +G31 & \"º \" & IF(SpecYear=\"\",\"\",IF(SpecYear=\"1995\",\"C\",\"F\")) & \", cm\"","v":"Ductility at º , cm"}]
[]
[null,null,null,null,{"$f":" \"Temperature, º\" & IF(SpecYear=\"\",\"\",IF(SpecYear=\"1995\",\"C\",\"F\"))","v":"Temperature, º"}]
[]
[null,null,null,null,"Travel Speed, cm/minute"]
[]
[null,null,null,{"$f":"\"Tex 528-C : Viscosity by Vacuum Capillary Viscometer @ \" & IF(SpecYear=\"1995\",\"60° C\",\"140º F\")","v":"Tex 528-C : Viscosity by Vacuum Capillary Viscometer @ 140º F"}]
[]
[null,null,null,{"$f":"\"Viscosity at \" & IF(SpecYear=\"1995\",\"60° C\",\"140º F\") & \", poise\"","v":"Viscosity at 140º F, poise"},null,null,{"$f":"G47","v":""}]
[]
[null,null,null,null,"Tube Number"]
[null,null,null,null,"Size"]
[]
[null,null,null,"Bulb","Time, seconds","Viscosity Constant","Viscosity, poise"]
[]
[null,null,null,1,null,null,{"$f":"IF(COUNTBLANK(E44:F44)=2,\"\",F44*E44)","v":""}]
[null,null,null,2,null,null,{"$f":"IF(COUNTBLANK(E45:F45)=2,\"\",F45*E45)","v":""}]
[]
[null,null,null,null,null,"Average",{"$f":"IF(ISERROR(AVERAGE(G44:G45)),\"\",AVERAGE(G44:G45))","v":""}]
[]
[null,null,null,{"$f":"\"Tex 528-C : Viscosity by Vacuum Capillary Viscometer @ \" & IF(SpecYear=\"1995\",\"135° C\",\"275º F\")","v":"Tex 528-C : Viscosity by Vacuum Capillary Viscometer @ 275º F"}]
[]
[null,null,null,{"$f":"\"Viscosity at \" & IF(SpecYear=\"1995\",\"135° C\",\"275º F\") & \", poise\"","v":"Viscosity at 275º F, poise"},null,null,{"$f":"+G61","v":""}]
[]
[null,null,null,null,"Tube Number"]
[null,null,null,null,"Size"]
[]
[null,null,null,"Bulb","Time, seconds","Viscosity Constant","Viscosity, poise"]
[]
[null,null,null,1,null,null,{"$f":"IF(COUNTBLANK(E58:F58)=2,\"\",F58*E58)","v":""}]
[null,null,null,2,null,null,{"$f":"IF(COUNTBLANK(E59:F59)=2,\"\",F59*E59)","v":""}]
[]
[null,null,null,null,null,"Average",{"$f":"IF(ISERROR(AVERAGE(G58:G59)),\"\",AVERAGE(G58:G59))","v":""}]
[null,"Remarks:",{"$f":"NOW()","v":"2015-06-23T14:58:33.520"}]
[]
[]
[]
[]
[null,"Test Method:","Tested By:",null,null,"Tested Date:"]
[null,"TX502"]
[]
[null,"TX503"]
[]
[null,"TX528"]
[null,"Test Stamp Code:",null,null,"Omit Test:","Completed Date:","Reviewed By:"]
[]
[null,"Locked By:","TxDOT:","District:","Area:"]
[]
[null,"Authorized By:",null,null,"Authorized Date:"]

{"sheet":"RX","index":1,"n_rows":35,"n_cols":9,"rows_kept":35,"cut":false,"hidden":true,"merged":[]}
[33]
["Fld_nbr","Value","Desc_1","Desc_2","Desc_3","Desc_4","Desc_5","Desc_6","Desc_7"]
[1,{"$f":"IF('Tex-502,3, 28-C'!$B$63=\"\",\"\",'Tex-502,3, 28-C'!$B$63)","v":""},{"$f":"'Tex-502,3, 28-C'!$B$62","v":"Remarks:"}]
[2,{"$f":"IF('Tex-502,3, 28-C'!$D$19=\"\",\"\",'Tex-502,3, 28-C'!$D$19)","v":""},{"$f":"IF('Tex-502,3, 28-C'!$C$19=\"\",\"\",'Tex-502,3, 28-C'!$C$19)","v":"COURSE\\LIFT:"}]
[3,{"$f":"IF('Tex-502,3, 28-C'!$C$68=\"\",\"\",'Tex-502,3, 28-C'!$C$68)","v":""},"Tested By ",{"$f":"IF('Tex-502,3, 28-C'!$B$68=\"\",\"\",'Tex-502,3, 28-C'!$B$68)","v":"TX502"}]
[4,{"$f":"IF('Tex-502,3, 28-C'!$F$68=\"\",\"\",'Tex-502,3, 28-C'!$F$68)","v":""},"Tested Date ",{"$f":"IF('Tex-502,3, 28-C'!$B$68=\"\",\"\",'Tex-502,3, 28-C'!$B$68)","v":"TX502"}]
[5,{"$f":"IF('Tex-502,3, 28-C'!$C$70=\"\",\"\",'Tex-502,3, 28-C'!$C$70)","v":""},"Tested By ",{"$f":"IF('Tex-502,3, 28-C'!$B$70=\"\",\"\",'Tex-502,3, 28-C'!$B$70)","v":"TX503"}]
[6,{"$f":"IF('Tex-502,3, 28-C'!$F$70=\"\",\"\",'Tex-502,3, 28-C'!$F$70)","v":""},"Tested Date ",{"$f":"IF('Tex-502,3, 28-C'!$B$70=\"\",\"\",'Tex-502,3, 28-C'!$B$70)","v":"TX503"}]
[7,{"$f":"IF('Tex-502,3, 28-C'!$C$72=\"\",\"\",'Tex-502,3, 28-C'!$C$72)","v":""},"Tested By ",{"$f":"IF('Tex-502,3, 28-C'!$B$72=\"\",\"\",'Tex-502,3, 28-C'!$B$72)","v":"TX528"}]
[8,{"$f":"IF('Tex-502,3, 28-C'!$F$72=\"\",\"\",'Tex-502,3, 28-C'!$F$72)","v":""},"Tested Date ",{"$f":"IF('Tex-502,3, 28-C'!$B$72=\"\",\"\",'Tex-502,3, 28-C'!$B$72)","v":"TX528"}]
[9,{"$f":"IF('Tex-502,3, 28-C'!$G$23=\"\",\"\",'Tex-502,3, 28-C'!$G$23)","v":""},{"$f":"IF('Tex-502,3, 28-C'!$D$21=\"\",\"\",'Tex-502,3, 28-C'!$D$21)","v":"Tex 502-C : Penetration of Bituminous Materials"},{"$f":"IF('Tex-502,3, 28-C'!$D$23=\"\",\"\",'Tex-502,3, 28-C'!$D$23)","v":"Penetration at º , dmm"}]
[10,{"$f":"IF('Tex-502,3, 28-C'!$G$25=\"\",\"\",'Tex-502,3, 28-C'!$G$25)","v":""},{"$f":"IF('Tex-502,3, 28-C'!$D$21=\"\",\"\",'Tex-502,3, 28-C'!$D$21)","v":"Tex 502-C : Penetration of Bituminous Materials"},{"$f":"IF('Tex-502,3, 28-C'!$E$25=\"\",\"\",'Tex-502,3, 28-C'!$E$25)","v":"Temperature, º"}]
[11,{"$f":"IF('Tex-502,3, 28-C'!$G$29=\"\",\"\",'Tex-502,3, 28-C'!$G$29)","v":""},{"$f":"IF('Tex-502,3, 28-C'!$D$27=\"\",\"\",'Tex-502,3, 28-C'!$D$27)","v":"Tex 503-C : Ductility of Bituminous Materials"},{"$f":"IF('Tex-502,3, 28-C'!$E$29=\"\",\"\",'Tex-502,3, 28-C'!$E$29)","v":"Ductility at º , cm"}]
[12,{"$f":"IF('Tex-502,3, 28-C'!$G$31=\"\",\"\",'Tex-502,3, 28-C'!$G$31)","v":""},{"$f":"IF('Tex-502,3, 28-C'!$D$27=\"\",\"\",'Tex-502,3, 28-C'!$D$27)","v":"Tex 503-C : Ductility of Bituminous Materials"},{"$f":"IF('Tex-502,3, 28-C'!$E$31=\"\",\"\",'Tex-502,3, 28-C'!$E$31)","v":"Temperature, º"}]
[13,{"$f":"IF('Tex-502,3, 28-C'!$G$33=\"\",\"\",'Tex-502,3, 28-C'!$G$33)","v":""},{"$f":"IF('Tex-502,3, 28-C'!$D$27=\"\",\"\",'Tex-502,3, 28-C'!$D$27)","v":"Tex 503-C : Ductility of Bituminous Materials"},{"$f":"IF('Tex-502,3, 28-C'!$E$33=\"\",\"\",'Tex-502,3, 28-C'!$E$33)","v":"Travel Speed, cm/minute"}]
[14,{"$f":"IF('Tex-502,3, 28-C'!$G$37=\"\",\"\",'Tex-502,3, 28-C'!$G$37)","v":""},{"$f":"IF('Tex-502,3, 28-C'!$D$35=\"\",\"\",'Tex-502,3, 28-C'!$D$35)","v":"Tex 528-C : Viscosity by Vacuum Capillary Viscometer @ 140º F"},{"$f":"IF('Tex-502,3, 28-C'!$D$37=\"\",\"\",'Tex-502,3, 28-C'!$D$37)","v":"Viscosity at 140º F, poise"}]
[15,{"$f":"IF('Tex-502,3, 28-C'!$F$39=\"\",\"\",'Tex-502,3, 28-C'!$F$39)","v":""},{"$f":"IF('Tex-502,3, 28-C'!$D$35=\"\",\"\",'Tex-502,3, 28-C'!$D$35)","v":"Tex 528-C : Viscosity by Vacuum Capillary Viscometer @ 140º F"},{"$f":"IF('Tex-502,3, 28-C'!$E$39=\"\",\"\",'Tex-502,3, 28-C'!$E$39)","v":"Tube Number"}]
[16,{"$f":"IF('Tex-502,3, 28-C'!$F$40=\"\",\"\",'Tex-502,3, 28-C'!$F$40)","v":""},{"$f":"IF('Tex-502,3, 28-C'!$D$35=\"\",\"\",'Tex-502,3, 28-C'!$D$35)","v":"Tex 528-C : Viscosity by Vacuum Capillary Viscometer @ 140º F"},{"$f":"IF('Tex-502,3, 28-C'!$E$40=\"\",\"\",'Tex-502,3, 28-C'!$E$40)","v":"Size"}]
[17,{"$f":"IF('Tex-502,3, 28-C'!$E$44=\"\",\"\",'Tex-502,3, 28-C'!$E$44)","v":""},{"$f":"IF('Tex-502,3, 28-C'!$D$35=\"\",\"\",'Tex-502,3, 28-C'!$D$35)","v":"Tex 528-C : Viscosity by Vacuum Capillary Viscometer @ 140º F"},{"$f":"IF('Tex-502,3, 28-C'!$E$42=\"\",\"\",'Tex-502,3, 28-C'!$E$42)","v":"Time, seconds"},{"$f":"IF('Tex-502,3, 28-C'!$D$42=\"\",\"\",'Tex-502,3, 28-C'!$D$42)","v":"Bulb"},{"$f":"IF('Tex-502,3, 28-C'!$D$44=\"\",\"\",'Tex-502,3, 28-C'!$D$44)","v":1}]
[18,{"$f":"IF('Tex-502,3, 28-C'!$F$44=\"\",\"\",'Tex-502,3, 28-C'!$F$44)","v":""},{"$f":"IF('Tex-502,3, 28-C'!$D$35=\"\",\"\",'Tex-502,3, 28-C'!$D$35)","v":"Tex 528-C : Viscosity by Vacuum Capillary Viscometer @ 140º F"},{"$f":"IF('Tex-502,3, 28-C'!$F$42=\"\",\"\",'Tex-502,3, 28-C'!$F$42)","v":"Viscosity Constant"},{"$f":"IF('Tex-502,3, 28-C'!$D$42=\"\",\"\",'Tex-502,3, 28-C'!$D$42)","v":"Bulb"},{"$f":"IF('Tex-502,3, 28-C'!$D$44=\"\",\"\",'Tex-502,3, 28-C'!$D$44)","v":1}]
[19,{"$f":"IF('Tex-502,3, 28-C'!$G$44=\"\",\"\",'Tex-502,3, 28-C'!$G$44)","v":""},{"$f":"IF('Tex-502,3, 28-C'!$D$35=\"\",\"\",'Tex-502,3, 28-C'!$D$35)","v":"Tex 528-C : Viscosity by Vacuum Capillary Viscometer @ 140º F"},{"$f":"IF('Tex-502,3, 28-C'!$G$42=\"\",\"\",'Tex-502,3, 28-C'!$G$42)","v":"Viscosity, poise"},{"$f":"IF('Tex-502,3, 28-C'!$D$42=\"\",\"\",'Tex-502,3, 28-C'!$D$42)","v":"Bulb"},{"$f":"IF('Tex-502,3, 28-C'!$D$44=\"\",\"\",'Tex-502,3, 28-C'!$D$44)","v":1}]
[20,{"$f":"IF('Tex-502,3, 28-C'!$E$45=\"\",\"\",'Tex-502,3, 28-C'!$E$45)","v":""},{"$f":"IF('Tex-502,3, 28-C'!$D$35=\"\",\"\",'Tex-502,3, 28-C'!$D$35)","v":"Tex 528-C : Viscosity by Vacuum Capillary Viscometer @ 140º F"},{"$f":"IF('Tex-502,3, 28-C'!$E$42=\"\",\"\",'Tex-502,3, 28-C'!$E$42)","v":"Time, seconds"},{"$f":"IF('Tex-502,3, 28-C'!$D$42=\"\",\"\",'Tex-502,3, 28-C'!$D$42)","v":"Bulb"},{"$f":"IF('Tex-502,3, 28-C'!$D$45=\"\",\"\",'Tex-502,3, 28-C'!$D$45)","v":2}]
[21,{"$f":"IF('Tex-502,3, 28-C'!$F$45=\"\",\"\",'Tex-502,3, 28-C'!$F$45)","v":""},{"$f":"IF('Tex-502,3, 28-C'!$D$35=\"\",\"\",'Tex-502,3, 28-C'!$D$35)","v":"Tex 528-C : Viscosity by Vacuum Capillary Viscometer @ 140º F"},{"$f":"IF('Tex-502,3, 28-C'!$F$42=\"\",\"\",'Tex-502,3, 28-C'!$F$42)","v":"Viscosity Constant"},{"$f":"IF('Tex-502,3, 28-C'!$D$42=\"\",\"\",'Tex-502,3, 28-C'!$D$42)","v":"Bulb"},{"$f":"IF('Tex-502,3, 28-C'!$D$45=\"\",\"\",'Tex-502,3, 28-C'!$D$45)","v":2}]
[22,{"$f":"IF('Tex-502,3, 28-C'!$G$45=\"\",\"\",'Tex-502,3, 28-C'!$G$45)","v":""},{"$f":"IF('Tex-502,3, 28-C'!$D$35=\"\",\"\",'Tex-502,3, 28-C'!$D$35)","v":"Tex 528-C : Viscosity by Vacuum Capillary Viscometer @ 140º F"},{"$f":"IF('Tex-502,3, 28-C'!$G$42=\"\",\"\",'Tex-502,3, 28-C'!$G$42)","v":"Viscosity, poise"},{"$f":"IF('Tex-502,3, 28-C'!$D$42=\"\",\"\",'Tex-502,3, 28-C'!$D$42)","v":"Bulb"},{"$f":"IF('Tex-502,3, 28-C'!$D$45=\"\",\"\",'Tex-502,3, 28-C'!$D$45)","v":2}]
[23,{"$f":"IF('Tex-502,3, 28-C'!$G$47=\"\",\"\",'Tex-502,3, 28-C'!$G$47)","v":""},{"$f":"IF('Tex-502,3, 28-C'!$D$35=\"\",\"\",'Tex-502,3, 28-C'!$D$35)","v":"Tex 528-C : Viscosity by Vacuum Capillary Viscometer @ 140º F"},{"$f":"IF('Tex-502,3, 28-C'!$G$42=\"\",\"\",'Tex-502,3, 28-C'!$G$42)","v":"Viscosity, poise"},{"$f":"IF('Tex-502,3, 28-C'!$F$47=\"\",\"\",'Tex-502,3, 28-C'!$F$47)","v":"Average"}]
[24,{"$f":"IF('Tex-502,3, 28-C'!$G$51=\"\",\"\",'Tex-502,3, 28-C'!$G$51)","v":""},{"$f":"IF('Tex-502,3, 28-C'!$D$49=\"\",\"\",'Tex-502,3, 28-C'!$D$49)","v":"Tex 528-C : Viscosity by Vacuum Capillary Viscometer @ 275º F"},{"$f":"IF('Tex-502,3, 28-C'!$D$51=\"\",\"\",'Tex-502,3, 28-C'!$D$51)","v":"Viscosity at 275º F, poise"}]
[25,{"$f":"IF('Tex-502,3, 28-C'!$F$53=\"\",\"\",'Tex-502,3, 28-C'!$F$53)","v":""},{"$f":"IF('Tex-502,3, 28-C'!$D$49=\"\",\"\",'Tex-502,3, 28-C'!$D$49)","v":"Tex 528-C : Viscosity by Vacuum Capillary Viscometer @ 275º F"},{"$f":"IF('Tex-502,3, 28-C'!$E$53=\"\",\"\",'Tex-502,3, 28-C'!$E$53)","v":"Tube Number"}]
[26,{"$f":"IF('Tex-502,3, 28-C'!$F$54=\"\",\"\",'Tex-502,3, 28-C'!$F$54)","v":""},{"$f":"IF('Tex-502,3, 28-C'!$D$49=\"\",\"\",'Tex-502,3, 28-C'!$D$49)","v":"Tex 528-C : Viscosity by Vacuum Capillary Viscometer @ 275º F"},{"$f":"IF('Tex-502,3, 28-C'!$E$54=\"\",\"\",'Tex-502,3, 28-C'!$E$54)","v":"Size"}]
[27,{"$f":"IF('Tex-502,3, 28-C'!$E$58=\"\",\"\",'Tex-502,3, 28-C'!$E$58)","v":""},{"$f":"IF('Tex-502,3, 28-C'!$D$49=\"\",\"\",'Tex-502,3, 28-C'!$D$49)","v":"Tex 528-C : Viscosity by Vacuum Capillary Viscometer @ 275º F"},{"$f":"IF('Tex-502,3, 28-C'!$E$56=\"\",\"\",'Tex-502,3, 28-C'!$E$56)","v":"Time, seconds"},{"$f":"IF('Tex-502,3, 28-C'!$D$56=\"\",\"\",'Tex-502,3, 28-C'!$D$56)","v":"Bulb"},{"$f":"IF('Tex-502,3, 28-C'!$D$58=\"\",\"\",'Tex-502,3, 28-C'!$D$58)","v":1}]
[28,{"$f":"IF('Tex-502,3, 28-C'!$F$58=\"\",\"\",'Tex-502,3, 28-C'!$F$58)","v":""},{"$f":"IF('Tex-502,3, 28-C'!$D$49=\"\",\"\",'Tex-502,3, 28-C'!$D$49)","v":"Tex 528-C : Viscosity by Vacuum Capillary Viscometer @ 275º F"},{"$f":"IF('Tex-502,3, 28-C'!$F$56=\"\",\"\",'Tex-502,3, 28-C'!$F$56)","v":"Viscosity Constant"},{"$f":"IF('Tex-502,3, 28-C'!$D$56=\"\",\"\",'Tex-502,3, 28-C'!$D$56)","v":"Bulb"},{"$f":"IF('Tex-502,3, 28-C'!$D$58=\"\",\"\",'Tex-502,3, 28-C'!$D$58)","v":1}]
[29,{"$f":"IF('Tex-502,3, 28-C'!$G$58=\"\",\"\",'Tex-502,3, 28-C'!$G$58)","v":""},{"$f":"IF('Tex-502,3, 28-C'!$D$49=\"\",\"\",'Tex-502,3, 28-C'!$D$49)","v":"Tex 528-C : Viscosity by Vacuum Capillary Viscometer @ 275º F"},{"$f":"IF('Tex-502,3, 28-C'!$G$56=\"\",\"\",'Tex-502,3, 28-C'!$G$56)","v":"Viscosity, poise"},{"$f":"IF('Tex-502,3, 28-C'!$D$56=\"\",\"\",'Tex-502,3, 28-C'!$D$56)","v":"Bulb"},{"$f":"IF('Tex-502,3, 28-C'!$D$58=\"\",\"\",'Tex-502,3, 28-C'!$D$58)","v":1}]
[30,{"$f":"IF('Tex-502,3, 28-C'!$E$59=\"\",\"\",'Tex-502,3, 28-C'!$E$59)","v":""},{"$f":"IF('Tex-502,3, 28-C'!$D$49=\"\",\"\",'Tex-502,3, 28-C'!$D$49)","v":"Tex 528-C : Viscosity by Vacuum Capillary Viscometer @ 275º F"},{"$f":"IF('Tex-502,3, 28-C'!$E$56=\"\",\"\",'Tex-502,3, 28-C'!$E$56)","v":"Time, seconds"},{"$f":"IF('Tex-502,3, 28-C'!$D$56=\"\",\"\",'Tex-502,3, 28-C'!$D$56)","v":"Bulb"},{"$f":"IF('Tex-502,3, 28-C'!$D$59=\"\",\"\",'Tex-502,3, 28-C'!$D$59)","v":2}]
[31,{"$f":"IF('Tex-502,3, 28-C'!$F$59=\"\",\"\",'Tex-502,3, 28-C'!$F$59)","v":""},{"$f":"IF('Tex-502,3, 28-C'!$D$49=\"\",\"\",'Tex-502,3, 28-C'!$D$49)","v":"Tex 528-C : Viscosity by Vacuum Capillary Viscometer @ 275º F"},{"$f":"IF('Tex-502,3, 28-C'!$F$56=\"\",\"\",'Tex-502,3, 28-C'!$F$56)","v":"Viscosity Constant"},{"$f":"IF('Tex-502,3, 28-C'!$D$56=\"\",\"\",'Tex-502,3, 28-C'!$D$56)","v":"Bulb"},{"$f":"IF('Tex-502,3, 28-C'!$D$59=\"\",\"\",'Tex-502,3, 28-C'!$D$59)","v":2}]
[32,{"$f":"IF('Tex-502,3, 28-C'!$G$59=\"\",\"\",'Tex-502,3, 28-C'!$G$59)","v":""},{"$f":"IF('Tex-502,3, 28-C'!$D$49=\"\",\"\",'Tex-502,3, 28-C'!$D$49)","v":"Tex 528-C : Viscosity by Vacuum Capillary Viscometer @ 275º F"},{"$f":"IF('Tex-502,3, 28-C'!$G$56=\"\",\"\",'Tex-502,3, 28-C'!$G$56)","v":"Viscosity, poise"},{"$f":"IF('Tex-502,3, 28-C'!$D$56=\"\",\"\",'Tex-502,3, 28-C'!$D$56)","v":"Bulb"},{"$f":"IF('Tex-502,3, 28-C'!$D$59=\"\",\"\",'Tex-502,3, 28-C'!$D$59)","v":2}]
[33,{"$f":"IF('Tex-502,3, 28-C'!$G$61=\"\",\"\",'Tex-502,3, 28-C'!$G$61)","v":""},{"$f":"IF('Tex-502,3, 28-C'!$D$49=\"\",\"\",'Tex-502,3, 28-C'!$D$49)","v":"Tex 528-C : Viscosity by Vacuum Capillary Viscometer @ 275º F"},{"$f":"IF('Tex-502,3, 28-C'!$G$56=\"\",\"\",'Tex-502,3, 28-C'!$G$56)","v":"Viscosity, poise"},{"$f":"IF('Tex-502,3, 28-C'!$F$61=\"\",\"\",'Tex-502,3, 28-C'!$F$61)","v":"Average"}]