{"text_format":"1","workbook":"xlsx","n_sheets":4,"sheets":["Instructions","Sheet Counter","Current Standards","Standards LOOKUP"],"not_rendered":{"charts":0,"images":0,"macros":1,"external_links":0,"defined_names":1,"comments":0,"pivot_tables":0},"unopened":[],"bounds":{"document_bytes":16777216,"sheet_cells":100000,"rows_first":2000,"rows_last":500,"rows_between":2000,"halvings":0,"cell_chars":16384,"cell_head_chars":4096},"cells_cut":0,"cells_raw":0,"read":"whole","date_system":"1900"}

{"sheet":"Instructions","index":0,"n_rows":36,"n_cols":15,"rows_kept":36,"cut":false,"hidden":false,"merged":[[28,14,28,19]]}
[null,"ORIGINAL PLAN SHEETS"]
[null,"1)      Extract all plan sheets from a portfolio and place them in the same folder (preferably on the C drive)"]
[null,null,"(Place a blank copy of this spreadsheet in the same folder)"]
[null,"2)      Open this spreadsheet, click the \"Import Filenames\" button on the Sheet Counter tab and import every file in the plan set.  They will display in column C."]
[null,null,"(this could take several seconds depending on the size of the plan set)"]
[null,"3)      Sheets that contain a letter with the sheet number will display in column L (verify on index, and also review for duplicates)."]
[null,"4)      Flagged sheet numbers will appear under column U, with sheet count under column V"]
[null,null,"\"0\" count means sheet is omitted (verify on index), \"2\" means there are two files with the same sheet number"]
[null,"5)    Do not attempt to delete file names under column C.  Use the yellow CLEAR button instead if you need to reload files."]
[null,null,"(Applies to addendum files under Column X as well)"]
[]
[null,"ADDENDUMS"]
[null,"6)   If the project has an addendum, extract all of the addendum plan sheet files to a folder"]
[null,"7)   Use the \"Import Addendum\" button to load all of the addendum plan sheets into the spreadsheet"]
[null,null,"(will display under Column Y)"]
[null,"8)   The spreadsheet will attempt to find matching plan sheet file names from Column C and display under Column AB"]
[null,null,"NOTE:   The spreadsheet assumes that, at a minimum, the plan sheet file number is correct (001, 005A), including leading zeroes"]
[null,null,"So make sure that at least the file number part of the addendum file name is correct before loading into the spreadsheet"]
[null,"9)   NEW plan sheets that do not have an existing match under Column C will be flagged under Column AC"]
[null,null,"Verify that these are indeed new sheets and are documented as such in the addendum letter"]
[null,"10)   Review each file that does not have a match, or that is not new.  If you determine that it was necessary for a file to be intentionally renamed,"]
[null,null,"clear the list, re-import the files, but do not include those that should not be renamed"]
[null,"11)   Review the list one more time, then click the \"Rename Files\" button to rename the addendum sheets to exactly match the sheets from the original portfolio"]
[]
[null,"CURRENT STANDARDS"]
[null,"-","Tab of the current standards are included"]
[null,"-","If the files are named in accordance with the correct standard abbreviations/acronyms, the files will appear green on the Sheet Counter tab"]
[null,"-","For convenience, other common files at the beginning of a plan set will appear green as well, but if they are not green (and they are not standards) it is ok"]
[null,"-","Any standards not in green should be verified against the Current Standards tab, as well as the CAD Standards web page",null,null,null,null,null,null,null,null,null,null,null,"http://www.dot.state.tx.us/business/standardplanfiles.htm"]
[null,"-","NOTE:  due to the large number of Bridge standards, only the most recent standards (2019+) are included in this file"]
[null,null,"These will NOT be flagged green, and should be verified with the revision date (Sheet Counter - Column D) against the title block"]
[null,null,"Bridge standards older than 2019 will always turn green.  Unless you are working on updating an old backlog project,"]
[null,null,"you may assume the older Bridge standards in green are the latest version."]
[null,"-","NOTE:  Roadway standards that require 2+ options will be flagged as orange on the Sheet Counter tab."]
[null,null,"The related categories requiring 2+ options are color-coded on the Current Standards tab, so ensure that your plan set has"]
[null,null,"at least 2 options from any given color-coded group"]

{"sheet":"Sheet Counter","index":1,"n_rows":4000,"n_cols":38,"rows_kept":2250,"cut":true,"hidden":false,"merged":[],"bounds":{"rows_first":1000,"rows_last":250,"rows_between":1000,"halvings":1}}
["Path and Filenames that have been selected to Rename",null,"Original File list from portfolio","BRG Dates",null,null,null,0,"alpha",null,null,"Alpha-Numerals",null,null,null,null,0,"omit","list",null,"Flagged","Count",null,null,"Addendum File list from portfolio",null,null,"Original File Name Match"]
[null,null,{"$f":"IF(ISERROR(FIND(\"\\\",A2)),A2,RIGHT(A2,LEN(A2)-FIND(\"~\",SUBSTITUTE(A2,\"\\\",\"~\",LEN(A2)-LEN(SUBSTITUTE(A2,\"\\\",\"\"))))))","v":0},{"$f":"IF(AL2=\"\",\"\",AL2)","v":""},null,{"$f":"LEFT(C2,FIND(\"-\",SUBSTITUTE(SUBSTITUTE(C2,\"_\",\"-\"),\" \",\"-\"))-1)","v":{"$error":"#VALUE!"}},{"$f":"IF(ISNUMBER(F2*1),F2*1,\"\")","v":""},{"$f":"IF(I2=\"\",\"\",LARGE(H$1:H1,1)+1)","v":{"$error":"#VALUE!"}},{"$f":"IF(G2=\"\",F2,\"\")","v":{"$error":"#VALUE!"}},1,{"$f":"VLOOKUP(J2,H:I,2,0)","v":{"$error":"#N/A"}},{"$f":"IF(ISERROR(K2),\"\",K2)","v":""},null,null,1,{"$f":"COUNTIF(G:G,O2)","v":0},{"$f":"IF(R2=\"\",\"\",LARGE(Q$1:Q1,1)+1)","v":{"$error":"#NUM!"}},{"$f":"IF(AND(P2<>1,O2<=LARGE(G:G,1),O2>=SMALL(G:G,1)),O2,\"\")","v":{"$error":"#NUM!"}},1,{"$f":"VLOOKUP(S2,Q:R,2,0)","v":{"$error":"#N/A"}},{"$f":"IF(ISERROR(T2),\"\",T2)","v":""},{"$f":"IF(U2=\"\",\"\",VLOOKUP(U2,O:P,2,0))","v":""},null,null,{"$f":"IF(ISERROR(FIND(\"\\\",X2)),X2,RIGHT(X2,LEN(X2)-FIND(\"~\",SUBSTITUTE(X2,\"\\\",\"~\",LEN(X2)-LEN(SUBSTITUTE(X2,\"\\\",\"\"))))))","v":0},{"$f":"LEFT(Y2,FIND(\"-\",SUBSTITUTE(SUBSTITUTE(Y2,\"_\",\"-\"),\" \",\"-\"))-1)","v":{"$error":"#VALUE!"}},{"$f":"COUNTIF(F:F,Z2)","v":3999},{"$f":"IF(OR(AA2<1,ISERROR(Z2)),\"\",INDEX(C:C,MATCH(Z2,F:F)))","v":""},{"$f":"IF(AA2=0,\"New Sheet\",IF(EXACT(UPPER(Y2),UPPER(AB2)),\"Match\",\"\"))","v":""},null,null,null,null,{"$f":"IF(C2=\"\",\"\",LEFT(RIGHT(C2,LEN(C2)-SEARCH(\" \",C2,1)),LEN(RIGHT(C2,LEN(C2)-SEARCH(\" \",C2,1)))-4))","v":{"$error":"#VALUE!"}},{"$f":"TRIM(SUBSTITUTE(SUBSTITUTE(SUBSTITUTE(SUBSTITUTE(SUBSTITUTE(SUBSTITUTE(AH2,\"(\",\"\"),\")\",\"\"),\"-\",\"\"),\"&\",\"\"),\" \",\"\",1),\" \",\"\",1))","v":{"$error":"#VALUE!"}},{"$f":"COUNTIF('Standards LOOKUP'!B:B,AI2)","v":0},{"$f":"IFERROR(INDEX('Standards LOOKUP'!C:C,MATCH(AI2,'Standards LOOKUP'!B:B,0),0),0)","v":0},{"$f":"IFERROR(INDEX('Current Standards'!P:P,MATCH('Sheet Counter'!AI2,'Current Standards'!O:O,0),0),\"\")","v":""}]
[null,null,{"$f":"IF(ISERROR(FIND(\"\\\",A3)),A3,RIGHT(A3,LEN(A3)-FIND(\"~\",SUBSTITUTE(A3,\"\\\",\"~\",LEN(A3)-LEN(SUBSTITUTE(A3,\"\\\",\"\"))))))","v":0},{"$f":"IF(AL3=\"\",\"\",AL3)","v":""},null,{"$f":"LEFT(C3,FIND(\"-\",SUBSTITUTE(SUBSTITUTE(C3,\"_\",\"-\"),\" \",\"-\"))-1)","v":{"$error":"#VALUE!"}},{"$f":"IF(ISNUMBER(F3*1),F3*1,\"\")","v":""},{"$f":"IF(I3=\"\",\"\",LARGE(H$1:H2,1)+1)","v":{"$error":"#VALUE!"}},{"$error":"#VALUE!"},2,{"$f":"VLOOKUP(J3,H:I,2,0)","v":{"$error":"#N/A"}},{"$f":"IF(ISERROR(K3),\"\",K3)","v":""},null,null,2,0,{"$f":"IF(R3=\"\",\"\",LARGE(Q$1:Q2,1)+1)","v":{"$error":"#NUM!"}},{"$f":"IF(AND(P3<>1,O3<=LARGE(G:G,1),O3>=SMALL(G:G,1)),O3,\"\")","v":{"$error":"#NUM!"}},2,{"$f":"VLOOKUP(S3,Q:R,2,0)","v":{"$error":"#N/A"}},{"$f":"IF(ISERROR(T3),\"\",T3)","v":""},{"$f":"IF(U3=\"\",\"\",VLOOKUP(U3,O:P,2,0))","v":""},null,null,{"$f":"IF(ISERROR(FIND(\"\\\",X3)),X3,RIGHT(X3,LEN(X3)-FIND(\"~\",SUBSTITUTE(X3,\"\\\",\"~\",LEN(X3)-LEN(SUBSTITUTE(X3,\"\\\",\"\"))))))","v":0},{"$f":"LEFT(Y3,FIND(\"-\",SUBSTITUTE(SUBSTITUTE(Y3,\"_\",\"-\"),\" \",\"-\"))-1)","v":{"$error":"#VALUE!"}},{"$f":"COUNTIF(F:F,Z3)","v":3999},{"$f":"IF(OR(AA3<1,ISERROR(Z3)),\"\",INDEX(C:C,MATCH(Z3,F:F)))","v":""},{"$f":"IF(AA3=0,\"New Sheet\",IF(EXACT(UPPER(Y3),UPPER(AB3)),\"Match\",\"\"))","v":""},null,null,null,null,{"$f":"IF(C3=\"\",\"\",LEFT(RIGHT(C3,LEN(C3)-SEARCH(\" \",C3,1)),LEN(RIGHT(C3,LEN(C3)-SEARCH(\" \",C3,1)))-4))","v":{"$error":"#VALUE!"}},{"$f":"TRIM(SUBSTITUTE(SUBSTITUTE(SUBSTITUTE(SUBSTITUTE(SUBSTITUTE(SUBSTITUTE(AH3,\"(\",\"\"),\")\",\"\"),\"-\",\"\"),\"&\",\"\"),\" \",\"\",1),\" \",\"\",1))","v":{"$error":"#VALUE!"}},{"$f":"COUNTIF('Standards LOOKUP'!B:B,AI3)","v":0},{"$f":"IFERROR(INDEX('Standards LOOKUP'!C:C,MATCH(AI3,'Standards LOOKUP'!B:B,0),0),0)","v":0},{"$f":"IFERROR(INDEX('Current Standards'!P:P,MATCH('Sheet Counter'!AI3,'Current Standards'!O:O,0),0),\"\")","v":""}]
[null,null,0,"",null,{"$error":"#VALUE!"},"",{"$f":"IF(I4=\"\",\"\",LARGE(H$1:H3,1)+1)","v":{"$error":"#VALUE!"}},{"$error":"#VALUE!"},3,{"$error":"#N/A"},"",null,null,3,0,{"$f":"IF(R4=\"\",\"\",LARGE(Q$1:Q3,1)+1)","v":{"$error":"#NUM!"}},{"$f":"IF(AND(P4<>1,O4<=LARGE(G:G,1),O4>=SMALL(G:G,1)),O4,\"\")","v":{"$error":"#NUM!"}},3,{"$error":"#N/A"},"","",null,null,0,{"$error":"#VALUE!"},3999,"","",null,null,null,null,{"$error":"#VALUE!"},{"$error":"#VALUE!"},{"$f":"COUNTIF('Standards LOOKUP'!B:B,AI4)","v":0},{"$f":"IFERROR(INDEX('Standards LOOKUP'!C:C,MATCH(AI4,'Standards LOOKUP'!B:B,0),0),0)","v":0},{"$f":"IFERROR(INDEX('Current Standards'!P:P,MATCH('Sheet Counter'!AI4,'Current Standards'!O:O,0),0),\"\")","v":""}]
[null,null,0,"","# OF FILES:",{"$error":"#VALUE!"},"",{"$f":"IF(I5=\"\",\"\",LARGE(H$1:H4,1)+1)","v":{"$error":"#VALUE!"}},{"$error":"#VALUE!"},4,{"$error":"#N/A"},"",null,null,4,0,{"$f":"IF(R5=\"\",\"\",LARGE(Q$1:Q4,1)+1)","v":{"$error":"#NUM!"}},{"$error":"#NUM!"},4,{"$error":"#N/A"},"","","# OF FILES:",null,0,{"$error":"#VALUE!"},3999,"","",null,null,null,null,{"$error":"#VALUE!"},{"$error":"#VALUE!"},{"$f":"COUNTIF('Standards LOOKUP'!B:B,AI5)","v":0},{"$f":"IFERROR(INDEX('Standards LOOKUP'!C:C,MATCH(AI5,'Standards LOOKUP'!B:B,0),0),0)","v":0},{"$f":"IFERROR(INDEX('Current Standards'!P:P,MATCH('Sheet Counter'!AI5,'Current Standards'!O:O,0),0),\"\")","v":""}]
[null,null,0,"",{"$f":"COUNTA(A2:A4001)","v":0},{"$error":"#VALUE!"},"",{"$f":"IF(I6=\"\",\"\",LARGE(H$1:H5,1)+1)","v":{"$error":"#VALUE!"}},{"$error":"#VALUE!"},5,{"$error":"#N/A"},"",null,null,5,0,{"$f":"IF(R6=\"\",\"\",LARGE(Q$1:Q5,1)+1)","v":{"$error":"#NUM!"}},{"$error":"#NUM!"},5,{"$error":"#N/A"},"","",{"$f":"COUNTA(X2:X3001)","v":0},null,0,{"$error":"#VALUE!"},3999,"","",null,null,null,null,{"$error":"#VALUE!"},{"$error":"#VALUE!"},{"$f":"COUNTIF('Standards LOOKUP'!B:B,AI6)","v":0},{"$f":"IFERROR(INDEX('Standards LOOKUP'!C:C,MATCH(AI6,'Standards LOOKUP'!B:B,0),0),0)","v":0},{"$f":"IFERROR(INDEX('Current Standards'!P:P,MATCH('Sheet Counter'!AI6,'Current Standards'!O:O,0),0),\"\")","v":""}]
[null,null,0,"","",{"$error":"#VALUE!"},"",{"$f":"IF(I7=\"\",\"\",LARGE(H$1:H6,1)+1)","v":{"$error":"#VALUE!"}},{"$error":"#VALUE!"},6,{"$error":"#N/A"},"",null,null,6,0,{"$f":"IF(R7=\"\",\"\",LARGE(Q$1:Q6,1)+1)","v":{"$error":"#NUM!"}},{"$error":"#NUM!"},6,{"$error":"#N/A"},"","",null,null,0,{"$error":"#VALUE!"},3999,"","",null,null,null,null,{"$error":"#VALUE!"},{"$error":"#VALUE!"},{"$f":"COUNTIF('Standards LOOKUP'!B:B,AI7)","v":0},{"$f":"IFERROR(INDEX('Standards LOOKUP'!C:C,MATCH(AI7,'Standards LOOKUP'!B:B,0),0),0)","v":0},{"$f":"IFERROR(INDEX('Current Standards'!P:P,MATCH('Sheet Counter'!AI7,'Current Standards'!O:O,0),0),\"\")","v":""}]
[null,null,0,"","CCSJ:",{"$error":"#VALUE!"},"",{"$f":"IF(I8=\"\",\"\",LARGE(H$1:H7,1)+1)","v":{"$error":"#VALUE!"}},{"$error":"#VALUE!"},7,{"$error":"#N/A"},"",null,null,7,0,{"$f":"IF(R8=\"\",\"\",LARGE(Q$1:Q7,1)+1)","v":{"$error":"#NUM!"}},{"$error":"#NUM!"},7,{"$error":"#N/A"},"","",null,null,0,{"$error":"#VALUE!"},3999,"","",null,null,null,null,{"$error":"#VALUE!"},{"$error":"#VALUE!"},{"$f":"COUNTIF('Standards LOOKUP'!B:B,AI8)","v":0},{"$f":"IFERROR(INDEX('Standards LOOKUP'!C:C,MATCH(AI8,'Standards LOOKUP'!B:B,0),0),0)","v":0},{"$f":"IFERROR(INDEX('Current Standards'!P:P,MATCH('Sheet Counter'!AI8,'Current Standards'!O:O,0),0),\"\")","v":""}]
[null,null,0,"",null,{"$error":"#VALUE!"},"",{"$f":"IF(I9=\"\",\"\",LARGE(H$1:H8,1)+1)","v":{"$error":"#VALUE!"}},{"$error":"#VALUE!"},8,{"$error":"#N/A"},"",null,null,8,0,{"$f":"IF(R9=\"\",\"\",LARGE(Q$1:Q8,1)+1)","v":{"$error":"#NUM!"}},{"$error":"#NUM!"},8,{"$error":"#N/A"},"","",null,null,0,{"$error":"#VALUE!"},3999,"","",null,null,null,null,{"$error":"#VALUE!"},{"$error":"#VALUE!"},{"$f":"COUNTIF('Standards LOOKUP'!B:B,AI9)","v":0},{"$f":"IFERROR(INDEX('Standards LOOKUP'!C:C,MATCH(AI9,'Standards LOOKUP'!B:B,0),0),0)","v":0},{"$f":"IFERROR(INDEX('Current Standards'!P:P,MATCH('Sheet Counter'!AI9,'Current Standards'!O:O,0),0),\"\")","v":""}]
[null,null,0,"","",{"$error":"#VALUE!"},"",{"$f":"IF(I10=\"\",\"\",LARGE(H$1:H9,1)+1)","v":{"$error":"#VALUE!"}},{"$error":"#VALUE!"},9,{"$error":"#N/A"},"",null,null,9,0,{"$f":"IF(R10=\"\",\"\",LARGE(Q$1:Q9,1)+1)","v":{"$error":"#NUM!"}},{"$error":"#NUM!"},9,{"$error":"#N/A"},"","",null,null,0,{"$error":"#VALUE!"},3999,"","",null,null,null,null,{"$error":"#VALUE!"},{"$error":"#VALUE!"},{"$f":"COUNTIF('Standards LOOKUP'!B:B,AI10)","v":0},{"$f":"IFERROR(INDEX('Standards LOOKUP'!C:C,MATCH(AI10,'Standards LOOKUP'!B:B,0),0),0)","v":0},{"$f":"IFERROR(INDEX('Current Standards'!P:P,MATCH('Sheet Counter'!AI10,'Current Standards'!O:O,0),0),\"\")","v":""}]
[null,null,0,"","",{"$error":"#VALUE!"},"",{"$f":"IF(I11=\"\",\"\",LARGE(H$1:H10,1)+1)","v":{"$error":"#VALUE!"}},{"$error":"#VALUE!"},10,{"$error":"#N/A"},"",null,null,10,0,{"$f":"IF(R11=\"\",\"\",LARGE(Q$1:Q10,1)+1)","v":{"$error":"#NUM!"}},{"$error":"#NUM!"},10,{"$error":"#N/A"},"","",null,null,0,{"$error":"#VALUE!"},3999,"","",null,null,null,null,{"$error":"#VALUE!"},{"$error":"#VALUE!"},{"$f":"COUNTIF('Standards LOOKUP'!B:B,AI11)","v":0},{"$f":"IFERROR(INDEX('Standards LOOKUP'!C:C,MATCH(AI11,'Standards LOOKUP'!B:B,0),0),0)","v":0},{"$f":"IFERROR(INDEX('Current Standards'!P:P,MATCH('Sheet Counter'!AI11,'Current Standards'!O:O,0),0),\"\")","v":""}]
[null,null,0,"","",{"$error":"#VALUE!"},"",{"$f":"IF(I12=\"\",\"\",LARGE(H$1:H11,1)+1)","v":{"$error":"#VALUE!"}},{"$error":"#VALUE!"},11,{"$error":"#N/A"},"",null,null,11,0,{"$f":"IF(R12=\"\",\"\",LARGE(Q$1:Q11,1)+1)","v":{"$error":"#NUM!"}},{"$error":"#NUM!"},11,{"$error":"#N/A"},"","",null,null,0,{"$error":"#VALUE!"},3999,"","",null,null,null,null,{"$error":"#VALUE!"},{"$error":"#VALUE!"},{"$f":"COUNTIF('Standards LOOKUP'!B:B,AI12)","v":0},{"$f":"IFERROR(INDEX('Standards LOOKUP'!C:C,MATCH(AI12,'Standards LOOKUP'!B:B,0),0),0)","v":0},{"$f":"IFERROR(INDEX('Current Standards'!P:P,MATCH('Sheet Counter'!AI12,'Current Standards'!O:O,0),0),\"\")","v":""}]
[null,null,0,"","",{"$error":"#VALUE!"},"",{"$f":"IF(I13=\"\",\"\",LARGE(H$1:H12,1)+1)","v":{"$error":"#VALUE!"}},{"$error":"#VALUE!"},12,{"$error":"#N/A"},"",null,null,12,0,{"$f":"IF(R13=\"\",\"\",LARGE(Q$1:Q12,1)+1)","v":{"$error":"#NUM!"}},{"$error":"#NUM!"},12,{"$error":"#N/A"},"","",null,null,0,{"$error":"#VALUE!"},3999,"","",null,null,null,null,{"$error":"#VALUE!"},{"$error":"#VALUE!"},{"$f":"COUNTIF('Standards LOOKUP'!B:B,AI13)","v":0},{"$f":"IFERROR(INDEX('Standards LOOKUP'!C:C,MATCH(AI13,'Standards LOOKUP'!B:B,0),0),0)","v":0},{"$f":"IFERROR(INDEX('Current Standards'!P:P,MATCH('Sheet Counter'!AI13,'Current Standards'!O:O,0),0),\"\")","v":""}]
[null,null,0,"","",{"$error":"#VALUE!"},"",{"$f":"IF(I14=\"\",\"\",LARGE(H$1:H13,1)+1)","v":{"$error":"#VALUE!"}},{"$error":"#VALUE!"},13,{"$error":"#N/A"},"",null,null,13,0,{"$f":"IF(R14=\"\",\"\",LARGE(Q$1:Q13,1)+1)","v":{"$error":"#NUM!"}},{"$error":"#NUM!"},13,{"$error":"#N/A"},"","",null,null,0,{"$error":"#VALUE!"},3999,"","",null,null,null,null,{"$error":"#VALUE!"},{"$error":"#VALUE!"},{"$f":"COUNTIF('Standards LOOKUP'!B:B,AI14)","v":0},{"$f":"IFERROR(INDEX('Standards LOOKUP'!C:C,MATCH(AI14,'Standards LOOKUP'!B:B,0),0),0)","v":0},{"$f":"IFERROR(INDEX('Current Standards'!P:P,MATCH('Sheet Counter'!AI14,'Current Standards'!O:O,0),0),\"\")","v":""}]
[null,null,0,"","",{"$error":"#VALUE!"},"",{"$f":"IF(I15=\"\",\"\",LARGE(H$1:H14,1)+1)","v":{"$error":"#VALUE!"}},{"$error":"#VALUE!"},14,{"$error":"#N/A"},"",null,null,14,0,{"$f":"IF(R15=\"\",\"\",LARGE(Q$1:Q14,1)+1)","v":{"$error":"#NUM!"}},{"$error":"#NUM!"},14,{"$error":"#N/A"},"","",null,null,0,{"$error":"#VALUE!"},3999,"","",null,null,null,null,{"$error":"#VALUE!"},{"$error":"#VALUE!"},{"$f":"COUNTIF('Standards LOOKUP'!B:B,AI15)","v":0},{"$f":"IFERROR(INDEX('Standards LOOKUP'!C:C,MATCH(AI15,'Standards LOOKUP'!B:B,0),0),0)","v":0},{"$f":"IFERROR(INDEX('Current Standards'!P:P,MATCH('Sheet Counter'!AI15,'Current Standards'!O:O,0),0),\"\")","v":""}]
[null,null,0,"","",{"$error":"#VALUE!"},"",{"$f":"IF(I16=\"\",\"\",LARGE(H$1:H15,1)+1)","v":{"$error":"#VALUE!"}},{"$error":"#VALUE!"},15,{"$error":"#N/A"},"",null,null,15,0,{"$f":"IF(R16=\"\",\"\",LARGE(Q$1:Q15,1)+1)","v":{"$error":"#NUM!"}},{"$error":"#NUM!"},15,{"$error":"#N/A"},"","",null,null,0,{"$error":"#VALUE!"},3999,"","",null,null,null,null,{"$error":"#VALUE!"},{"$error":"#VALUE!"},{"$f":"COUNTIF('Standards LOOKUP'!B:B,AI16)","v":0},{"$f":"IFERROR(INDEX('Standards LOOKUP'!C:C,MATCH(AI16,'Standards LOOKUP'!B:B,0),0),0)","v":0},{"$f":"IFERROR(INDEX('Current Standards'!P:P,MATCH('Sheet Counter'!AI16,'Current Standards'!O:O,0),0),\"\")","v":""}]
[null,null,0,"","",{"$error":"#VALUE!"},"",{"$f":"IF(I17=\"\",\"\",LARGE(H$1:H16,1)+1)","v":{"$error":"#VALUE!"}},{"$error":"#VALUE!"},16,{"$error":"#N/A"},"",null,null,16,0,{"$f":"IF(R17=\"\",\"\",LARGE(Q$1:Q16,1)+1)","v":{"$error":"#NUM!"}},{"$error":"#NUM!"},16,{"$error":"#N/A"},"","",null,null,0,{"$error":"#VALUE!"},3999,"","",null,null,null,null,{"$error":"#VALUE!"},{"$error":"#VALUE!"},{"$f":"COUNTIF('Standards LOOKUP'!B:B,AI17)","v":0},{"$f":"IFERROR(INDEX('Standards LOOKUP'!C:C,MATCH(AI17,'Standards LOOKUP'!B:B,0),0),0)","v":0},{"$f":"IFERROR(INDEX('Current Standards'!P:P,MATCH('Sheet Counter'!AI17,'Current Standards'!O:O,0),0),\"\")","v":""}]
[null,null,0,"","",{"$error":"#VALUE!"},"",{"$f":"IF(I18=\"\",\"\",LARGE(H$1:H17,1)+1)","v":{"$error":"#VALUE!"}},{"$error":"#VALUE!"},17,{"$error":"#N/A"},"",null,null,17,0,{"$f":"IF(R18=\"\",\"\",LARGE(Q$1:Q17,1)+1)","v":{"$error":"#NUM!"}},{"$error":"#NUM!"},17,{"$error":"#N/A"},"","",null,null,0,{"$error":"#VALUE!"},3999,"","",null,null,null,null,{"$error":"#VALUE!"},{"$error":"#VALUE!"},{"$f":"COUNTIF('Standards LOOKUP'!B:B,AI18)","v":0},{"$f":"IFERROR(INDEX('Standards LOOKUP'!C:C,MATCH(AI18,'Standards LOOKUP'!B:B,0),0),0)","v":0},{"$f":"IFERROR(INDEX('Current Standards'!P:P,MATCH('Sheet Counter'!AI18,'Current Standards'!O:O,0),0),\"\")","v":""}]
[null,null,0,"","",{"$error":"#VALUE!"},"",{"$f":"IF(I19=\"\",\"\",LARGE(H$1:H18,1)+1)","v":{"$error":"#VALUE!"}},{"$error":"#VALUE!"},18,{"$error":"#N/A"},"",null,null,18,0,{"$f":"IF(R19=\"\",\"\",LARGE(Q$1:Q18,1)+1)","v":{"$error":"#NUM!"}},{"$error":"#NUM!"},18,{"$error":"#N/A"},"","",null,null,0,{"$error":"#VALUE!"},3999,"","",null,null,null,null,{"$error":"#VALUE!"},{"$error":"#VALUE!"},{"$f":"COUNTIF('Standards LOOKUP'!B:B,AI19)","v":0},{"$f":"IFERROR(INDEX('Standards LOOKUP'!C:C,MATCH(AI19,'Standards LOOKUP'!B:B,0),0),0)","v":0},{"$f":"IFERROR(INDEX('Current Standards'!P:P,MATCH('Sheet Counter'!AI19,'Current Standards'!O:O,0),0),\"\")","v":""}]
[null,null,0,"","",{"$error":"#VALUE!"},"",{"$f":"IF(I20=\"\",\"\",LARGE(H$1:H19,1)+1)","v":{"$error":"#VALUE!"}},{"$error":"#VALUE!"},19,{"$error":"#N/A"},"",null,null,19,0,{"$f":"IF(R20=\"\",\"\",LARGE(Q$1:Q19,1)+1)","v":{"$error":"#NUM!"}},{"$error":"#NUM!"},19,{"$error":"#N/A"},"","",null,null,0,{"$error":"#VALUE!"},3999,"","",null,null,null,null,{"$error":"#VALUE!"},{"$error":"#VALUE!"},{"$f":"COUNTIF('Standards LOOKUP'!B:B,AI20)","v":0},{"$f":"IFERROR(INDEX('Standards LOOKUP'!C:C,MATCH(AI20,'Standards LOOKUP'!B:B,0),0),0)","v":0},{"$f":"IFERROR(INDEX('Current Standards'!P:P,MATCH('Sheet Counter'!AI20,'Current Standards'!O:O,0),0),\"\")","v":""}]
[null,null,0,"","",{"$error":"#VALUE!"},"",{"$f":"IF(I21=\"\",\"\",LARGE(H$1:H20,1)+1)","v":{"$error":"#VALUE!"}},{"$error":"#VALUE!"},20,{"$error":"#N/A"},"",null,null,20,0,{"$f":"IF(R21=\"\",\"\",LARGE(Q$1:Q20,1)+1)","v":{"$error":"#NUM!"}},{"$error":"#NUM!"},20,{"$error":"#N/A"},"","",null,null,0,{"$error":"#VALUE!"},3999,"","",null,null,null,null,{"$error":"#VALUE!"},{"$error":"#VALUE!"},{"$f":"COUNTIF('Standards LOOKUP'!B:B,AI21)","v":0},{"$f":"IFERROR(INDEX('Standards LOOKUP'!C:C,MATCH(AI21,'Standards LOOKUP'!B:B,0),0),0)","v":0},{"$f":"IFERROR(INDEX('Current Standards'!P:P,MATCH('Sheet Counter'!AI21,'Current Standards'!O:O,0),0),\"\")","v":""}]
[null,null,0,"","",{"$error":"#VALUE!"},"",{"$f":"IF(I22=\"\",\"\",LARGE(H$1:H21,1)+1)","v":{"$error":"#VALUE!"}},{"$error":"#VALUE!"},21,{"$error":"#N/A"},"",null,null,21,0,{"$f":"IF(R22=\"\",\"\",LARGE(Q$1:Q21,1)+1)","v":{"$error":"#NUM!"}},{"$error":"#NUM!"},21,{"$error":"#N/A"},"","",null,null,0,{"$error":"#VALUE!"},3999,"","",null,null,null,null,{"$error":"#VALUE!"},{"$error":"#VALUE!"},{"$f":"COUNTIF('Standards LOOKUP'!B:B,AI22)","v":0},{"$f":"IFERROR(INDEX('Standards LOOKUP'!C:C,MATCH(AI22,'Standards LOOKUP'!B:B,0),0),0)","v":0},{"$f":"IFERROR(INDEX('Current Standards'!P:P,MATCH('Sheet Counter'!AI22,'Current Standards'!O:O,0),0),\"\")","v":""}]
[null,null,0,"","",{"$error":"#VALUE!"},"",{"$f":"IF(I23=\"\",\"\",LARGE(H$1:H22,1)+1)","v":{"$error":"#VALUE!"}},{"$error":"#VALUE!"},22,{"$error":"#N/A"},"",null,null,22,0,{"$f":"IF(R23=\"\",\"\",LARGE(Q$1:Q22,1)+1)","v":{"$error":"#NUM!"}},{"$error":"#NUM!"},22,{"$error":"#N/A"},"","",null,null,0,{"$error":"#VALUE!"},3999,"","",null,null,null,null,{"$error":"#VALUE!"},{"$error":"#VALUE!"},{"$f":"COUNTIF('Standards LOOKUP'!B:B,AI23)","v":0},{"$f":"IFERROR(INDEX('Standards LOOKUP'!C:C,MATCH(AI23,'Standards LOOKUP'!B:B,0),0),0)","v":0},{"$f":"IFERROR(INDEX('Current Standards'!P:P,MATCH('Sheet Counter'!AI23,'Current Standards'!O:O,0),0),\"\")","v":""}]
[null,null,0,"","",{"$error":"#VALUE!"},"",{"$f":"IF(I24=\"\",\"\",LARGE(H$1:H23,1)+1)","v":{"$error":"#VALUE!"}},{"$error":"#VALUE!"},23,{"$error":"#N/A"},"",null,null,23,0,{"$f":"IF(R24=\"\",\"\",LARGE(Q$1:Q23,1)+1)","v":{"$error":"#NUM!"}},{"$error":"#NUM!"},23,{"$error":"#N/A"},"","",null,null,0,{"$error":"#VALUE!"},3999,"","",null,null,null,null,{"$error":"#VALUE!"},{"$error":"#VALUE!"},{"$f":"COUNTIF('Standards LOOKUP'!B:B,AI24)","v":0},{"$f":"IFERROR(INDEX('Standards LOOKUP'!C:C,MATCH(AI24,'Standards LOOKUP'!B:B,0),0),0)","v":0},{"$f":"IFERROR(INDEX('Current Standards'!P:P,MATCH('Sheet Counter'!AI24,'Current Standards'!O:O,0),0),\"\")","v":""}]
[null,null,0,"","",{"$error":"#VALUE!"},"",{"$f":"IF(I25=\"\",\"\",LARGE(H$1:H24,1)+1)","v":{"$error":"#VALUE!"}},{"$error":"#VALUE!"},24,{"$error":"#N/A"},"",null,null,24,0,{"$f":"IF(R25=\"\",\"\",LARGE(Q$1:Q24,1)+1)","v":{"$error":"#NUM!"}},{"$error":"#NUM!"},24,{"$error":"#N/A"},"","",null,null,0,{"$error":"#VALUE!"},3999,"","",null,null,null,null,{"$error":"#VALUE!"},{"$error":"#VALUE!"},{"$f":"COUNTIF('Standards LOOKUP'!B:B,AI25)","v":0},{"$f":"IFERROR(INDEX('Standards LOOKUP'!C:C,MATCH(AI25,'Standards LOOKUP'!B:B,0),0),0)","v":0},{"$f":"IFERROR(INDEX('Current Standards'!P:P,MATCH('Sheet Counter'!AI25,'Current Standards'!O:O,0),0),\"\")","v":""}]
[null,null,0,"","",{"$error":"#VALUE!"},"",{"$f":"IF(I26=\"\",\"\",LARGE(H$1:H25,1)+1)","v":{"$error":"#VALUE!"}},{"$error":"#VALUE!"},25,{"$error":"#N/A"},"",null,null,25,0,{"$f":"IF(R26=\"\",\"\",LARGE(Q$1:Q25,1)+1)","v":{"$error":"#NUM!"}},{"$error":"#NUM!"},25,{"$error":"#N/A"},"","",null,null,0,{"$error":"#VALUE!"},3999,"","",null,null,null,null,{"$error":"#VALUE!"},{"$error":"#VALUE!"},{"$f":"COUNTIF('Standards LOOKUP'!B:B,AI26)","v":0},{"$f":"IFERROR(INDEX('Standards LOOKUP'!C:C,MATCH(AI26,'Standards LOOKUP'!B:B,0),0),0)","v":0},{"$f":"IFERROR(INDEX('Current Standards'!P:P,MATCH('Sheet Counter'!AI26,'Current Standards'!O:O,0),0),\"\")","v":""}]
[null,null,0,"","",{"$error":"#VALUE!"},"",{"$f":"IF(I27=\"\",\"\",LARGE(H$1:H26,1)+1)","v":{"$error":"#VALUE!"}},{"$error":"#VALUE!"},26,{"$error":"#N/A"},"",null,null,26,0,{"$f":"IF(R27=\"\",\"\",LARGE(Q$1:Q26,1)+1)","v":{"$error":"#NUM!"}},{"$error":"#NUM!"},26,{"$error":"#N/A"},"","",null,null,0,{"$error":"#VALUE!"},3999,"","",null,null,null,null,{"$error":"#VALUE!"},{"$error":"#VALUE!"},{"$f":"COUNTIF('Standards LOOKUP'!B:B,AI27)","v":0},{"$f":"IFERROR(INDEX('Standards LOOKUP'!C:C,MATCH(AI27,'Standards LOOKUP'!B:B,0),0),0)","v":0},{"$f":"IFERROR(INDEX('Current Standards'!P:P,MATCH('Sheet Counter'!AI27,'Current Standards'!O:O,0),0),\"\")","v":""}]
[null,null,0,"","",{"$error":"#VALUE!"},"",{"$f":"IF(I28=\"\",\"\",LARGE(H$1:H27,1)+1)","v":{"$error":"#VALUE!"}},{"$error":"#VALUE!"},27,{"$error":"#N/A"},"",null,null,27,0,{"$f":"IF(R28=\"\",\"\",LARGE(Q$1:Q27,1)+1)","v":{"$error":"#NUM!"}},{"$error":"#NUM!"},27,{"$error":"#N/A"},"","",null,null,0,{"$error":"#VALUE!"},3999,"","",null,null,null,null,{"$error":"#VALUE!"},{"$error":"#VALUE!"},{"$f":"COUNTIF('Standards LOOKUP'!B:B,AI28)","v":0},{"$f":"IFERROR(INDEX('Standards LOOKUP'!C:C,MATCH(AI28,'Standards LOOKUP'!B:B,0),0),0)","v":0},{"$f":"IFERROR(INDEX('Current Standards'!P:P,MATCH('Sheet Counter'!AI28,'Current Standards'!O:O,0),0),\"\")","v":""}]
[null,null,0,"","",{"$error":"#VALUE!"},"",{"$f":"IF(I29=\"\",\"\",LARGE(H$1:H28,1)+1)","v":{"$error":"#VALUE!"}},{"$error":"#VALUE!"},28,{"$error":"#N/A"},"",null,null,28,0,{"$f":"IF(R29=\"\",\"\",LARGE(Q$1:Q28,1)+1)","v":{"$error":"#NUM!"}},{"$error":"#NUM!"},28,{"$error":"#N/A"},"","",null,null,0,{"$error":"#VALUE!"},3999,"","",null,null,null,null,{"$error":"#VALUE!"},{"$error":"#VALUE!"},{"$f":"COUNTIF('Standards LOOKUP'!B:B,AI29)","v":0},{"$f":"IFERROR(INDEX('Standards LOOKUP'!C:C,MATCH(AI29,'Standards LOOKUP'!B:B,0),0),0)","v":0},{"$f":"IFERROR(INDEX('Current Standards'!P:P,MATCH('Sheet Counter'!AI29,'Current Standards'!O:O,0),0),\"\")","v":""}]
[null,null,0,"","",{"$error":"#VALUE!"},"",{"$f":"IF(I30=\"\",\"\",LARGE(H$1:H29,1)+1)","v":{"$error":"#VALUE!"}},{"$error":"#VALUE!"},29,{"$error":"#N/A"},"",null,null,29,0,{"$f":"IF(R30=\"\",\"\",LARGE(Q$1:Q29,1)+1)","v":{"$error":"#NUM!"}},{"$error":"#NUM!"},29,{"$error":"#N/A"},"","",null,null,0,{"$error":"#VALUE!"},3999,"","",null,null,null,null,{"$error":"#VALUE!"},{"$error":"#VALUE!"},{"$f":"COUNTIF('Standards LOOKUP'!B:B,AI30)","v":0},{"$f":"IFERROR(INDEX('Standards LOOKUP'!C:C,MATCH(AI30,'Standards LOOKUP'!B:B,0),0),0)","v":0},{"$f":"IFERROR(INDEX('Current Standards'!P:P,MATCH('Sheet Counter'!AI30,'Current Standards'!O:O,0),0),\"\")","v":""}]
[null,null,0,"","",{"$error":"#VALUE!"},"",{"$f":"IF(I31=\"\",\"\",LARGE(H$1:H30,1)+1)","v":{"$error":"#VALUE!"}},{"$error":"#VALUE!"},30,{"$error":"#N/A"},"",null,null,30,0,{"$f":"IF(R31=\"\",\"\",LARGE(Q$1:Q30,1)+1)","v":{"$error":"#NUM!"}},{"$error":"#NUM!"},30,{"$f":"VLOOKUP(S31,Q:R,2,0)","v":{"$error":"#N/A"}},"","",null,null,0,{"$error":"#VALUE!"},3999,"","",null,null,null,null,{"$error":"#VALUE!"},{"$error":"#VALUE!"},{"$f":"COUNTIF('Standards LOOKUP'!B:B,AI31)","v":0},{"$f":"IFERROR(INDEX('Standards LOOKUP'!C:C,MATCH(AI31,'Standards LOOKUP'!B:B,0),0),0)","v":0},{"$f":"IFERROR(INDEX('Current Standards'!P:P,MATCH('Sheet Counter'!AI31,'Current Standards'!O:O,0),0),\"\")","v":""}]
[null,null,0,"","",{"$error":"#VALUE!"},"",{"$f":"IF(I32=\"\",\"\",LARGE(H$1:H31,1)+1)","v":{"$error":"#VALUE!"}},{"$error":"#VALUE!"},31,{"$error":"#N/A"},"",null,null,31,0,{"$f":"IF(R32=\"\",\"\",LARGE(Q$1:Q31,1)+1)","v":{"$error":"#NUM!"}},{"$error":"#NUM!"},31,{"$error":"#N/A"},"","",null,null,0,{"$error":"#VALUE!"},3999,"","",null,null,null,null,{"$error":"#VALUE!"},{"$error":"#VALUE!"},{"$f":"COUNTIF('Standards LOOKUP'!B:B,AI32)","v":0},{"$f":"IFERROR(INDEX('Standards LOOKUP'!C:C,MATCH(AI32,'Standards LOOKUP'!B:B,0),0),0)","v":0},{"$f":"IFERROR(INDEX('Current Standards'!P:P,MATCH('Sheet Counter'!AI32,'Current Standards'!O:O,0),0),\"\")","v":""}]
[null,null,0,"","",{"$error":"#VALUE!"},"",{"$f":"IF(I33=\"\",\"\",LARGE(H$1:H32,1)+1)","v":{"$error":"#VALUE!"}},{"$error":"#VALUE!"},32,{"$error":"#N/A"},"",null,null,32,0,{"$f":"IF(R33=\"\",\"\",LARGE(Q$1:Q32,1)+1)","v":{"$error":"#NUM!"}},{"$error":"#NUM!"},32,{"$error":"#N/A"},"","",null,null,0,{"$error":"#VALUE!"},3999,"","",null,null,null,null,{"$error":"#VALUE!"},{"$error":"#VALUE!"},{"$f":"COUNTIF('Standards LOOKUP'!B:B,AI33)","v":0},{"$f":"IFERROR(INDEX('Standards LOOKUP'!C:C,MATCH(AI33,'Standards LOOKUP'!B:B,0),0),0)","v":0},{"$f":"IFERROR(INDEX('Current Standards'!P:P,MATCH('Sheet Counter'!AI33,'Current Standards'!O:O,0),0),\"\")","v":""}]
[null,null,0,"","",{"$error":"#VALUE!"},"",{"$f":"IF(I34=\"\",\"\",LARGE(H$1:H33,1)+1)","v":{"$error":"#VALUE!"}},{"$error":"#VALUE!"},33,{"$error":"#N/A"},"",null,null,33,0,{"$f":"IF(R34=\"\",\"\",LARGE(Q$1:Q33,1)+1)","v":{"$error":"#NUM!"}},{"$error":"#NUM!"},33,{"$error":"#N/A"},"","",null,null,0,{"$error":"#VALUE!"},3999,"","",null,null,null,null,{"$error":"#VALUE!"},{"$error":"#VALUE!"},{"$f":"COUNTIF('Standards LOOKUP'!B:B,AI34)","v":0},{"$f":"IFERROR(INDEX('Standards LOOKUP'!C:C,MATCH(AI34,'Standards LOOKUP'!B:B,0),0),0)","v":0},{"$f":"IFERROR(INDEX('Current Standards'!P:P,MATCH('Sheet Counter'!AI34,'Current Standards'!O:O,0),0),\"\")","v":""}]
[null,null,0,"","",{"$error":"#VALUE!"},"",{"$f":"IF(I35=\"\",\"\",LARGE(H$1:H34,1)+1)","v":{"$error":"#VALUE!"}},{"$error":"#VALUE!"},34,{"$error":"#N/A"},"",null,null,34,0,{"$f":"IF(R35=\"\",\"\",LARGE(Q$1:Q34,1)+1)","v":{"$error":"#NUM!"}},{"$error":"#NUM!"},34,{"$error":"#N/A"},"","",null,null,0,{"$error":"#VALUE!"},3999,"","",null,null,null,null,{"$error":"#VALUE!"},{"$error":"#VALUE!"},{"$f":"COUNTIF('Standards LOOKUP'!B:B,AI35)","v":0},{"$f":"IFERROR(INDEX('Standards LOOKUP'!C:C,MATCH(AI35,'Standards LOOKUP'!B:B,0),0),0)","v":0},{"$f":"IFERROR(INDEX('Current Standards'!P:P,MATCH('Sheet Counter'!AI35,'Current Standards'!O:O,0),0),\"\")","v":""}]
[null,null,0,"","",{"$error":"#VALUE!"},"",{"$f":"IF(I36=\"\",\"\",LARGE(H$1:H35,1)+1)","v":{"$error":"#VALUE!"}},{"$error":"#VALUE!"},35,{"$error":"#N/A"},"",null,null,35,0,{"$f":"IF(R36=\"\",\"\",LARGE(Q$1:Q35,1)+1)","v":{"$error":"#NUM!"}},{"$error":"#NUM!"},35,{"$error":"#N/A"},"","",null,null,0,{"$error":"#VALUE!"},3999,"","",null,null,null,null,{"$error":"#VALUE!"},{"$error":"#VALUE!"},{"$f":"COUNTIF('Standards LOOKUP'!B:B,AI36)","v":0},{"$f":"IFERROR(INDEX('Standards LOOKUP'!C:C,MATCH(AI36,'Standards LOOKUP'!B:B,0),0),0)","v":0},{"$f":"IFERROR(INDEX('Current Standards'!P:P,MATCH('Sheet Counter'!AI36,'Current Standards'!O:O,0),0),\"\")","v":""}]
[null,null,0,"","",{"$error":"#VALUE!"},"",{"$f":"IF(I37=\"\",\"\",LARGE(H$1:H36,1)+1)","v":{"$error":"#VALUE!"}},{"$error":"#VALUE!"},36,{"$error":"#N/A"},"",null,null,36,0,{"$f":"IF(R37=\"\",\"\",LARGE(Q$1:Q36,1)+1)","v":{"$error":"#NUM!"}},{"$error":"#NUM!"},36,{"$error":"#N/A"},"","",null,null,0,{"$error":"#VALUE!"},3999,"","",null,null,null,null,{"$error":"#VALUE!"},{"$error":"#VALUE!"},{"$f":"COUNTIF('Standards LOOKUP'!B:B,AI37)","v":0},{"$f":"IFERROR(INDEX('Standards LOOKUP'!C:C,MATCH(AI37,'Standards LOOKUP'!B:B,0),0),0)","v":0},{"$f":"IFERROR(INDEX('Current Standards'!P:P,MATCH('Sheet Counter'!AI37,'Current Standards'!O:O,0),0),\"\")","v":""}]
[null,null,0,"","",{"$error":"#VALUE!"},"",{"$f":"IF(I38=\"\",\"\",LARGE(H$1:H37,1)+1)","v":{"$error":"#VALUE!"}},{"$error":"#VALUE!"},37,{"$error":"#N/A"},"",null,null,37,0,{"$f":"IF(R38=\"\",\"\",LARGE(Q$1:Q37,1)+1)","v":{"$error":"#NUM!"}},{"$error":"#NUM!"},37,{"$error":"#N/A"},"","",null,null,0,{"$error":"#VALUE!"},3999,"","",null,null,null,null,{"$error":"#VALUE!"},{"$error":"#VALUE!"},{"$f":"COUNTIF('Standards LOOKUP'!B:B,AI38)","v":0},{"$f":"IFERROR(INDEX('Standards LOOKUP'!C:C,MATCH(AI38,'Standards LOOKUP'!B:B,0),0),0)","v":0},{"$f":"IFERROR(INDEX('Current Standards'!P:P,MATCH('Sheet Counter'!AI38,'Current Standards'!O:O,0),0),\"\")","v":""}]
[null,null,0,"","",{"$error":"#VALUE!"},"",{"$f":"IF(I39=\"\",\"\",LARGE(H$1:H38,1)+1)","v":{"$error":"#VALUE!"}},{"$error":"#VALUE!"},38,{"$error":"#N/A"},"",null,null,38,0,{"$f":"IF(R39=\"\",\"\",LARGE(Q$1:Q38,1)+1)","v":{"$error":"#NUM!"}},{"$error":"#NUM!"},38,{"$error":"#N/A"},"","",null,null,0,{"$error":"#VALUE!"},3999,"","",null,null,null,null,{"$error":"#VALUE!"},{"$error":"#VALUE!"},{"$f":"COUNTIF('Standards LOOKUP'!B:B,AI39)","v":0},{"$f":"IFERROR(INDEX('Standards LOOKUP'!C:C,MATCH(AI39,'Standards LOOKUP'!B:B,0),0),0)","v":0},{"$f":"IFERROR(INDEX('Current Standards'!P:P,MATCH('Sheet Counter'!AI39,'Current Standards'!O:O,0),0),\"\")","v":""}]
[null,null,0,"","",{"$error":"#VALUE!"},"",{"$f":"IF(I40=\"\",\"\",LARGE(H$1:H39,1)+1)","v":{"$error":"#VALUE!"}},{"$error":"#VALUE!"},39,{"$f":"VLOOKUP(J40,H:I,2,0)","v":{"$error":"#N/A"}},"",null,null,39,0,{"$f":"IF(R40=\"\",\"\",LARGE(Q$1:Q39,1)+1)","v":{"$error":"#NUM!"}},{"$error":"#NUM!"},39,{"$error":"#N/A"},"","",null,null,0,{"$error":"#VALUE!"},3999,"","",null,null,null,null,{"$error":"#VALUE!"},{"$error":"#VALUE!"},{"$f":"COUNTIF('Standards LOOKUP'!B:B,AI40)","v":0},{"$f":"IFERROR(INDEX('Standards LOOKUP'!C:C,MATCH(AI40,'Standards LOOKUP'!B:B,0),0),0)","v":0},{"$f":"IFERROR(INDEX('Current Standards'!P:P,MATCH('Sheet Counter'!AI40,'Current Standards'!O:O,0),0),\"\")","v":""}]
[null,null,0,"","",{"$error":"#VALUE!"},"",{"$f":"IF(I41=\"\",\"\",LARGE(H$1:H40,1)+1)","v":{"$error":"#VALUE!"}},{"$error":"#VALUE!"},40,{"$error":"#N/A"},"",null,null,40,0,{"$f":"IF(R41=\"\",\"\",LARGE(Q$1:Q40,1)+1)","v":{"$error":"#NUM!"}},{"$error":"#NUM!"},40,{"$error":"#N/A"},"","",null,null,0,{"$error":"#VALUE!"},3999,"","",null,null,null,null,{"$error":"#VALUE!"},{"$error":"#VALUE!"},{"$f":"COUNTIF('Standards LOOKUP'!B:B,AI41)","v":0},{"$f":"IFERROR(INDEX('Standards LOOKUP'!C:C,MATCH(AI41,'Standards LOOKUP'!B:B,0),0),0)","v":0},{"$f":"IFERROR(INDEX('Current Standards'!P:P,MATCH('Sheet Counter'!AI41,'Current Standards'!O:O,0),0),\"\")","v":""}]
[null,null,0,"","",{"$error":"#VALUE!"},"",{"$f":"IF(I42=\"\",\"\",LARGE(H$1:H41,1)+1)","v":{"$error":"#VALUE!"}},{"$error":"#VALUE!"},41,{"$error":"#N/A"},"",null,null,41,0,{"$f":"IF(R42=\"\",\"\",LARGE(Q$1:Q41,1)+1)","v":{"$error":"#NUM!"}},{"$error":"#NUM!"},41,{"$error":"#N/A"},"","",null,null,0,{"$error":"#VALUE!"},3999,"","",null,null,null,null,{"$error":"#VALUE!"},{"$error":"#VALUE!"},{"$f":"COUNTIF('Standards LOOKUP'!B:B,AI42)","v":0},{"$f":"IFERROR(INDEX('Standards LOOKUP'!C:C,MATCH(AI42,'Standards LOOKUP'!B:B,0),0),0)","v":0},{"$f":"IFERROR(INDEX('Current Standards'!P:P,MATCH('Sheet Counter'!AI42,'Current Standards'!O:O,0),0),\"\")","v":""}]
[null,null,0,"","",{"$error":"#VALUE!"},"",{"$f":"IF(I43=\"\",\"\",LARGE(H$1:H42,1)+1)","v":{"$error":"#VALUE!"}},{"$error":"#VALUE!"},42,{"$error":"#N/A"},"",null,null,42,0,{"$f":"IF(R43=\"\",\"\",LARGE(Q$1:Q42,1)+1)","v":{"$error":"#NUM!"}},{"$error":"#NUM!"},42,{"$error":"#N/A"},"","",null,null,0,{"$error":"#VALUE!"},3999,"","",null,null,null,null,{"$error":"#VALUE!"},{"$error":"#VALUE!"},{"$f":"COUNTIF('Standards LOOKUP'!B:B,AI43)","v":0},{"$f":"IFERROR(INDEX('Standards LOOKUP'!C:C,MATCH(AI43,'Standards LOOKUP'!B:B,0),0),0)","v":0},{"$f":"IFERROR(INDEX('Current Standards'!P:P,MATCH('Sheet Counter'!AI43,'Current Standards'!O:O,0),0),\"\")","v":""}]
[null,null,0,"","",{"$error":"#VALUE!"},"",{"$f":"IF(I44=\"\",\"\",LARGE(H$1:H43,1)+1)","v":{"$error":"#VALUE!"}},{"$error":"#VALUE!"},43,{"$error":"#N/A"},"",null,null,43,0,{"$f":"IF(R44=\"\",\"\",LARGE(Q$1:Q43,1)+1)","v":{"$error":"#NUM!"}},{"$error":"#NUM!"},43,{"$error":"#N/A"},"","",null,null,0,{"$error":"#VALUE!"},3999,"","",null,null,null,null,{"$error":"#VALUE!"},{"$error":"#VALUE!"},{"$f":"COUNTIF('Standards LOOKUP'!B:B,AI44)","v":0},{"$f":"IFERROR(INDEX('Standards LOOKUP'!C:C,MATCH(AI44,'Standards LOOKUP'!B:B,0),0),0)","v":0},{"$f":"IFERROR(INDEX('Current Standards'!P:P,MATCH('Sheet Counter'!AI44,'Current Standards'!O:O,0),0),\"\")","v":""}]
[null,null,0,"","",{"$error":"#VALUE!"},"",{"$f":"IF(I45=\"\",\"\",LARGE(H$1:H44,1)+1)","v":{"$error":"#VALUE!"}},{"$error":"#VALUE!"},44,{"$error":"#N/A"},"",null,null,44,0,{"$f":"IF(R45=\"\",\"\",LARGE(Q$1:Q44,1)+1)","v":{"$error":"#NUM!"}},{"$error":"#NUM!"},44,{"$error":"#N/A"},"","",null,null,0,{"$error":"#VALUE!"},3999,"","",null,null,null,null,{"$error":"#VALUE!"},{"$error":"#VALUE!"},{"$f":"COUNTIF('Standards LOOKUP'!B:B,AI45)","v":0},{"$f":"IFERROR(INDEX('Standards LOOKUP'!C:C,MATCH(AI45,'Standards LOOKUP'!B:B,0),0),0)","v":0},{"$f":"IFERROR(INDEX('Current Standards'!P:P,MATCH('Sheet Counter'!AI45,'Current Standards'!O:O,0),0),\"\")","v":""}]
[null,null,0,"","",{"$error":"#VALUE!"},"",{"$f":"IF(I46=\"\",\"\",LARGE(H$1:H45,1)+1)","v":{"$error":"#VALUE!"}},{"$error":"#VALUE!"},45,{"$error":"#N/A"},"",null,null,45,0,{"$f":"IF(R46=\"\",\"\",LARGE(Q$1:Q45,1)+1)","v":{"$error":"#NUM!"}},{"$error":"#NUM!"},45,{"$error":"#N/A"},"","",null,null,0,{"$error":"#VALUE!"},3999,"","",null,null,null,null,{"$error":"#VALUE!"},{"$error":"#VALUE!"},{"$f":"COUNTIF('Standards LOOKUP'!B:B,AI46)","v":0},{"$f":"IFERROR(INDEX('Standards LOOKUP'!C:C,MATCH(AI46,'Standards LOOKUP'!B:B,0),0),0)","v":0},{"$f":"IFERROR(INDEX('Current Standards'!P:P,MATCH('Sheet Counter'!AI46,'Current Standards'!O:O,0),0),\"\")","v":""}]
[null,null,0,"","",{"$error":"#VALUE!"},"",{"$f":"IF(I47=\"\",\"\",LARGE(H$1:H46,1)+1)","v":{"$error":"#VALUE!"}},{"$error":"#VALUE!"},46,{"$error":"#N/A"},"",null,null,46,0,{"$f":"IF(R47=\"\",\"\",LARGE(Q$1:Q46,1)+1)","v":{"$error":"#NUM!"}},{"$error":"#NUM!"},46,{"$error":"#N/A"},"","",null,null,0,{"$error":"#VALUE!"},3999,"","",null,null,null,null,{"$error":"#VALUE!"},{"$error":"#VALUE!"},{"$f":"COUNTIF('Standards LOOKUP'!B:B,AI47)","v":0},{"$f":"IFERROR(INDEX('Standards LOOKUP'!C:C,MATCH(AI47,'Standards LOOKUP'!B:B,0),0),0)","v":0},{"$f":"IFERROR(INDEX('Current Standards'!P:P,MATCH('Sheet Counter'!AI47,'Current Standards'!O:O,0),0),\"\")","v":""}]
[null,null,0,"","",{"$error":"#VALUE!"},"",{"$f":"IF(I48=\"\",\"\",LARGE(H$1:H47,1)+1)","v":{"$error":"#VALUE!"}},{"$error":"#VALUE!"},47,{"$error":"#N/A"},"",null,null,47,0,{"$f":"IF(R48=\"\",\"\",LARGE(Q$1:Q47,1)+1)","v":{"$error":"#NUM!"}},{"$error":"#NUM!"},47,{"$error":"#N/A"},"","",null,null,0,{"$error":"#VALUE!"},3999,"","",null,null,null,null,{"$error":"#VALUE!"},{"$error":"#VALUE!"},{"$f":"COUNTIF('Standards LOOKUP'!B:B,AI48)","v":0},{"$f":"IFERROR(INDEX('Standards LOOKUP'!C:C,MATCH(AI48,'Standards LOOKUP'!B:B,0),0),0)","v":0},{"$f":"IFERROR(INDEX('Current Standards'!P:P,MATCH('Sheet Counter'!AI48,'Current Standards'!O:O,0),0),\"\")","v":""}]
[null,null,0,"","",{"$error":"#VALUE!"},"",{"$f":"IF(I49=\"\",\"\",LARGE(H$1:H48,1)+1)","v":{"$error":"#VALUE!"}},{"$error":"#VALUE!"},48,{"$error":"#N/A"},"",null,null,48,0,{"$f":"IF(R49=\"\",\"\",LARGE(Q$1:Q48,1)+1)","v":{"$error":"#NUM!"}},{"$error":"#NUM!"},48,{"$error":"#N/A"},"","",null,null,0,{"$error":"#VALUE!"},3999,"","",null,null,null,null,{"$error":"#VALUE!"},{"$error":"#VALUE!"},{"$f":"COUNTIF('Standards LOOKUP'!B:B,AI49)","v":0},{"$f":"IFERROR(INDEX('Standards LOOKUP'!C:C,MATCH(AI49,'Standards LOOKUP'!B:B,0),0),0)","v":0},{"$f":"IFERROR(INDEX('Current Standards'!P:P,MATCH('Sheet Counter'!AI49,'Current Standards'!O:O,0),0),\"\")","v":""}]
[null,null,0,"","",{"$error":"#VALUE!"},"",{"$f":"IF(I50=\"\",\"\",LARGE(H$1:H49,1)+1)","v":{"$error":"#VALUE!"}},{"$error":"#VALUE!"},49,{"$error":"#N/A"},"",null,null,49,0,{"$f":"IF(R50=\"\",\"\",LARGE(Q$1:Q49,1)+1)","v":{"$error":"#NUM!"}},{"$error":"#NUM!"},49,{"$error":"#N/A"},"","",null,null,0,{"$error":"#VALUE!"},3999,"","",null,null,null,null,{"$error":"#VALUE!"},{"$error":"#VALUE!"},{"$f":"COUNTIF('Standards LOOKUP'!B:B,AI50)","v":0},{"$f":"IFERROR(INDEX('Standards LOOKUP'!C:C,MATCH(AI50,'Standards LOOKUP'!B:B,0),0),0)","v":0},{"$f":"IFERROR(INDEX('Current Standards'!P:P,MATCH('Sheet Counter'!AI50,'Current Standards'!O:O,0),0),\"\")","v":""}]
[null,null,0,"","",{"$error":"#VALUE!"},"",{"$f":"IF(I51=\"\",\"\",LARGE(H$1:H50,1)+1)","v":{"$error":"#VALUE!"}},{"$error":"#VALUE!"},50,{"$error":"#N/A"},"",null,null,50,0,{"$f":"IF(R51=\"\",\"\",LARGE(Q$1:Q50,1)+1)","v":{"$error":"#NUM!"}},{"$error":"#NUM!"},50,{"$error":"#N/A"},"","",null,null,0,{"$error":"#VALUE!"},3999,"","",null,null,null,null,{"$error":"#VALUE!"},{"$error":"#VALUE!"},{"$f":"COUNTIF('Standards LOOKUP'!B:B,AI51)","v":0},{"$f":"IFERROR(INDEX('Standards LOOKUP'!C:C,MATCH(AI51,'Standards LOOKUP'!B:B,0),0),0)","v":0},{"$f":"IFERROR(INDEX('Current Standards'!P:P,MATCH('Sheet Counter'!AI51,'Current Standards'!O:O,0),0),\"\")","v":""}]
[null,null,0,"","",{"$error":"#VALUE!"},"",{"$f":"IF(I52=\"\",\"\",LARGE(H$1:H51,1)+1)","v":{"$error":"#VALUE!"}},{"$error":"#VALUE!"},51,{"$error":"#N/A"},"",null,null,51,0,{"$f":"IF(R52=\"\",\"\",LARGE(Q$1:Q51,1)+1)","v":{"$error":"#NUM!"}},{"$error":"#NUM!"},51,{"$error":"#N/A"},"","",null,null,0,{"$error":"#VALUE!"},3999,"","",null,null,null,null,{"$error":"#VALUE!"},{"$error":"#VALUE!"},{"$f":"COUNTIF('Standards LOOKUP'!B:B,AI52)","v":0},{"$f":"IFERROR(INDEX('Standards LOOKUP'!C:C,MATCH(AI52,'Standards LOOKUP'!B:B,0),0),0)","v":0},{"$f":"IFERROR(INDEX('Current Standards'!P:P,MATCH('Sheet Counter'!AI52,'Current Standards'!O:O,0),0),\"\")","v":""}]
[null,null,0,"","",{"$error":"#VALUE!"},"",{"$f":"IF(I53=\"\",\"\",LARGE(H$1:H52,1)+1)","v":{"$error":"#VALUE!"}},{"$error":"#VALUE!"},52,{"$error":"#N/A"},"",null,null,52,0,{"$f":"IF(R53=\"\",\"\",LARGE(Q$1:Q52,1)+1)","v":{"$error":"#NUM!"}},{"$error":"#NUM!"},52,{"$error":"#N/A"},"","",null,null,0,{"$error":"#VALUE!"},3999,"","",null,null,null,null,{"$error":"#VALUE!"},{"$error":"#VALUE!"},{"$f":"COUNTIF('Standards LOOKUP'!B:B,AI53)","v":0},{"$f":"IFERROR(INDEX('Standards LOOKUP'!C:C,MATCH(AI53,'Standards LOOKUP'!B:B,0),0),0)","v":0},{"$f":"IFERROR(INDEX('Current Standards'!P:P,MATCH('Sheet Counter'!AI53,'Current Standards'!O:O,0),0),\"\")","v":""}]
[null,null,0,"","",{"$error":"#VALUE!"},"",{"$f":"IF(I54=\"\",\"\",LARGE(H$1:H53,1)+1)","v":{"$error":"#VALUE!"}},{"$error":"#VALUE!"},53,{"$error":"#N/A"},"",null,null,53,0,{"$f":"IF(R54=\"\",\"\",LARGE(Q$1:Q53,1)+1)","v":{"$error":"#NUM!"}},{"$error":"#NUM!"},53,{"$error":"#N/A"},"","",null,null,0,{"$error":"#VALUE!"},3999,"","",null,null,null,null,{"$error":"#VALUE!"},{"$error":"#VALUE!"},{"$f":"COUNTIF('Standards LOOKUP'!B:B,AI54)","v":0},{"$f":"IFERROR(INDEX('Standards LOOKUP'!C:C,MATCH(AI54,'Standards LOOKUP'!B:B,0),0),0)","v":0},{"$f":"IFERROR(INDEX('Current Standards'!P:P,MATCH('Sheet Counter'!AI54,'Current Standards'!O:O,0),0),\"\")","v":""}]
[null,null,0,"","",{"$error":"#VALUE!"},"",{"$f":"IF(I55=\"\",\"\",LARGE(H$1:H54,1)+1)","v":{"$error":"#VALUE!"}},{"$error":"#VALUE!"},54,{"$error":"#N/A"},"",null,null,54,0,{"$f":"IF(R55=\"\",\"\",LARGE(Q$1:Q54,1)+1)","v":{"$error":"#NUM!"}},{"$error":"#NUM!"},54,{"$error":"#N/A"},"","",null,null,0,{"$error":"#VALUE!"},3999,"","",null,null,null,null,{"$error":"#VALUE!"},{"$error":"#VALUE!"},{"$f":"COUNTIF('Standards LOOKUP'!B:B,AI55)","v":0},{"$f":"IFERROR(INDEX('Standards LOOKUP'!C:C,MATCH(AI55,'Standards LOOKUP'!B:B,0),0),0)","v":0},{"$f":"IFERROR(INDEX('Current Standards'!P:P,MATCH('Sheet Counter'!AI55,'Current Standards'!O:O,0),0),\"\")","v":""}]
[null,null,0,"","",{"$error":"#VALUE!"},"",{"$f":"IF(I56=\"\",\"\",LARGE(H$1:H55,1)+1)","v":{"$error":"#VALUE!"}},{"$error":"#VALUE!"},55,{"$error":"#N/A"},"",null,null,55,0,{"$f":"IF(R56=\"\",\"\",LARGE(Q$1:Q55,1)+1)","v":{"$error":"#NUM!"}},{"$error":"#NUM!"},55,{"$error":"#N/A"},"","",null,null,0,{"$error":"#VALUE!"},3999,"","",null,null,null,null,{"$error":"#VALUE!"},{"$error":"#VALUE!"},{"$f":"COUNTIF('Standards LOOKUP'!B:B,AI56)","v":0},{"$f":"IFERROR(INDEX('Standards LOOKUP'!C:C,MATCH(AI56,'Standards LOOKUP'!B:B,0),0),0)","v":0},{"$f":"IFERROR(INDEX('Current Standards'!P:P,MATCH('Sheet Counter'!AI56,'Current Standards'!O:O,0),0),\"\")","v":""}]
[null,null,0,"","",{"$error":"#VALUE!"},"",{"$f":"IF(I57=\"\",\"\",LARGE(H$1:H56,1)+1)","v":{"$error":"#VALUE!"}},{"$error":"#VALUE!"},56,{"$error":"#N/A"},"",null,null,56,0,{"$f":"IF(R57=\"\",\"\",LARGE(Q$1:Q56,1)+1)","v":{"$error":"#NUM!"}},{"$error":"#NUM!"},56,{"$error":"#N/A"},"","",null,null,0,{"$error":"#VALUE!"},3999,"","",null,null,null,null,{"$error":"#VALUE!"},{"$error":"#VALUE!"},{"$f":"COUNTIF('Standards LOOKUP'!B:B,AI57)","v":0},{"$f":"IFERROR(INDEX('Standards LOOKUP'!C:C,MATCH(AI57,'Standards LOOKUP'!B:B,0),0),0)","v":0},{"$f":"IFERROR(INDEX('Current Standards'!P:P,MATCH('Sheet Counter'!AI57,'Current Standards'!O:O,0),0),\"\")","v":""}]
[null,null,0,"","",{"$error":"#VALUE!"},"",{"$f":"IF(I58=\"\",\"\",LARGE(H$1:H57,1)+1)","v":{"$error":"#VALUE!"}},{"$error":"#VALUE!"},57,{"$error":"#N/A"},"",null,null,57,0,{"$f":"IF(R58=\"\",\"\",LARGE(Q$1:Q57,1)+1)","v":{"$error":"#NUM!"}},{"$error":"#NUM!"},57,{"$error":"#N/A"},"","",null,null,0,{"$error":"#VALUE!"},3999,"","",null,null,null,null,{"$error":"#VALUE!"},{"$error":"#VALUE!"},{"$f":"COUNTIF('Standards LOOKUP'!B:B,AI58)","v":0},{"$f":"IFERROR(INDEX('Standards LOOKUP'!C:C,MATCH(AI58,'Standards LOOKUP'!B:B,0),0),0)","v":0},{"$f":"IFERROR(INDEX('Current Standards'!P:P,MATCH('Sheet Counter'!AI58,'Current Standards'!O:O,0),0),\"\")","v":""}]
[null,null,0,"","",{"$error":"#VALUE!"},"",{"$f":"IF(I59=\"\",\"\",LARGE(H$1:H58,1)+1)","v":{"$error":"#VALUE!"}},{"$error":"#VALUE!"},58,{"$error":"#N/A"},"",null,null,58,0,{"$f":"IF(R59=\"\",\"\",LARGE(Q$1:Q58,1)+1)","v":{"$error":"#NUM!"}},{"$error":"#NUM!"},58,{"$error":"#N/A"},"","",null,null,0,{"$error":"#VALUE!"},3999,"","",null,null,null,null,{"$error":"#VALUE!"},{"$error":"#VALUE!"},{"$f":"COUNTIF('Standards LOOKUP'!B:B,AI59)","v":0},{"$f":"IFERROR(INDEX('Standards LOOKUP'!C:C,MATCH(AI59,'Standards LOOKUP'!B:B,0),0),0)","v":0},{"$f":"IFERROR(INDEX('Current Standards'!P:P,MATCH('Sheet Counter'!AI59,'Current Standards'!O:O,0),0),\"\")","v":""}]
[null,null,0,"","",{"$error":"#VALUE!"},"",{"$f":"IF(I60=\"\",\"\",LARGE(H$1:H59,1)+1)","v":{"$error":"#VALUE!"}},{"$error":"#VALUE!"},59,{"$error":"#N/A"},"",null,null,59,0,{"$f":"IF(R60=\"\",\"\",LARGE(Q$1:Q59,1)+1)","v":{"$error":"#NUM!"}},{"$error":"#NUM!"},59,{"$error":"#N/A"},"","",null,null,0,{"$error":"#VALUE!"},3999,"","",null,null,null,null,{"$error":"#VALUE!"},{"$error":"#VALUE!"},{"$f":"COUNTIF('Standards LOOKUP'!B:B,AI60)","v":0},{"$f":"IFERROR(INDEX('Standards LOOKUP'!C:C,MATCH(AI60,'Standards LOOKUP'!B:B,0),0),0)","v":0},{"$f":"IFERROR(INDEX('Current Standards'!P:P,MATCH('Sheet Counter'!AI60,'Current Standards'!O:O,0),0),\"\")","v":""}]
[null,null,0,"","",{"$error":"#VALUE!"},"",{"$f":"IF(I61=\"\",\"\",LARGE(H$1:H60,1)+1)","v":{"$error":"#VALUE!"}},{"$error":"#VALUE!"},60,{"$error":"#N/A"},"",null,null,60,0,{"$f":"IF(R61=\"\",\"\",LARGE(Q$1:Q60,1)+1)","v":{"$error":"#NUM!"}},{"$error":"#NUM!"},60,{"$error":"#N/A"},"","",null,null,0,{"$error":"#VALUE!"},3999,"","",null,null,null,null,{"$error":"#VALUE!"},{"$error":"#VALUE!"},{"$f":"COUNTIF('Standards LOOKUP'!B:B,AI61)","v":0},{"$f":"IFERROR(INDEX('Standards LOOKUP'!C:C,MATCH(AI61,'Standards LOOKUP'!B:B,0),0),0)","v":0},{"$f":"IFERROR(INDEX('Current Standards'!P:P,MATCH('Sheet Counter'!AI61,'Current Standards'!O:O,0),0),\"\")","v":""}]
[null,null,0,"","",{"$error":"#VALUE!"},"",{"$f":"IF(I62=\"\",\"\",LARGE(H$1:H61,1)+1)","v":{"$error":"#VALUE!"}},{"$error":"#VALUE!"},61,{"$error":"#N/A"},"",null,null,61,0,{"$f":"IF(R62=\"\",\"\",LARGE(Q$1:Q61,1)+1)","v":{"$error":"#NUM!"}},{"$error":"#NUM!"},61,{"$error":"#N/A"},"","",null,null,0,{"$error":"#VALUE!"},3999,"","",null,null,null,null,{"$error":"#VALUE!"},{"$error":"#VALUE!"},{"$f":"COUNTIF('Standards LOOKUP'!B:B,AI62)","v":0},{"$f":"IFERROR(INDEX('Standards LOOKUP'!C:C,MATCH(AI62,'Standards LOOKUP'!B:B,0),0),0)","v":0},{"$f":"IFERROR(INDEX('Current Standards'!P:P,MATCH('Sheet Counter'!AI62,'Current Standards'!O:O,0),0),\"\")","v":""}]
[null,null,0,"","",{"$error":"#VALUE!"},"",{"$f":"IF(I63=\"\",\"\",LARGE(H$1:H62,1)+1)","v":{"$error":"#VALUE!"}},{"$error":"#VALUE!"},62,{"$error":"#N/A"},"",null,null,62,0,{"$f":"IF(R63=\"\",\"\",LARGE(Q$1:Q62,1)+1)","v":{"$error":"#NUM!"}},{"$error":"#NUM!"},62,{"$error":"#N/A"},"","",null,null,0,{"$error":"#VALUE!"},3999,"","",null,null,null,null,{"$error":"#VALUE!"},{"$error":"#VALUE!"},{"$f":"COUNTIF('Standards LOOKUP'!B:B,AI63)","v":0},{"$f":"IFERROR(INDEX('Standards LOOKUP'!C:C,MATCH(AI63,'Standards LOOKUP'!B:B,0),0),0)","v":0},{"$f":"IFERROR(INDEX('Current Standards'!P:P,MATCH('Sheet Counter'!AI63,'Current Standards'!O:O,0),0),\"\")","v":""}]
[null,null,0,"","",{"$error":"#VALUE!"},"",{"$f":"IF(I64=\"\",\"\",LARGE(H$1:H63,1)+1)","v":{"$error":"#VALUE!"}},{"$error":"#VALUE!"},63,{"$error":"#N/A"},"",null,null,63,0,{"$f":"IF(R64=\"\",\"\",LARGE(Q$1:Q63,1)+1)","v":{"$error":"#NUM!"}},{"$error":"#NUM!"},63,{"$error":"#N/A"},"","",null,null,0,{"$error":"#VALUE!"},3999,"","",null,null,null,null,{"$error":"#VALUE!"},{"$error":"#VALUE!"},{"$f":"COUNTIF('Standards LOOKUP'!B:B,AI64)","v":0},{"$f":"IFERROR(INDEX('Standards LOOKUP'!C:C,MATCH(AI64,'Standards LOOKUP'!B:B,0),0),0)","v":0},{"$f":"IFERROR(INDEX('Current Standards'!P:P,MATCH('Sheet Counter'!AI64,'Current Standards'!O:O,0),0),\"\")","v":""}]
[null,null,0,"","",{"$error":"#VALUE!"},"",{"$f":"IF(I65=\"\",\"\",LARGE(H$1:H64,1)+1)","v":{"$error":"#VALUE!"}},{"$error":"#VALUE!"},64,{"$error":"#N/A"},"",null,null,64,0,{"$f":"IF(R65=\"\",\"\",LARGE(Q$1:Q64,1)+1)","v":{"$error":"#NUM!"}},{"$error":"#NUM!"},64,{"$error":"#N/A"},"","",null,null,0,{"$error":"#VALUE!"},3999,"","",null,null,null,null,{"$error":"#VALUE!"},{"$error":"#VALUE!"},{"$f":"COUNTIF('Standards LOOKUP'!B:B,AI65)","v":0},{"$f":"IFERROR(INDEX('Standards LOOKUP'!C:C,MATCH(AI65,'Standards LOOKUP'!B:B,0),0),0)","v":0},{"$f":"IFERROR(INDEX('Current Standards'!P:P,MATCH('Sheet Counter'!AI65,'Current Standards'!O:O,0),0),\"\")","v":""}]
[null,null,0,"","",{"$error":"#VALUE!"},"",{"$f":"IF(I66=\"\",\"\",LARGE(H$1:H65,1)+1)","v":{"$error":"#VALUE!"}},{"$f":"IF(G66=\"\",F66,\"\")","v":{"$error":"#VALUE!"}},65,{"$error":"#N/A"},"",null,null,65,{"$f":"COUNTIF(G:G,O66)","v":0},{"$f":"IF(R66=\"\",\"\",LARGE(Q$1:Q65,1)+1)","v":{"$error":"#NUM!"}},{"$error":"#NUM!"},65,{"$error":"#N/A"},"","",null,null,0,{"$error":"#VALUE!"},3999,"","",null,null,null,null,{"$error":"#VALUE!"},{"$error":"#VALUE!"},{"$f":"COUNTIF('Standards LOOKUP'!B:B,AI66)","v":0},{"$f":"IFERROR(INDEX('Standards LOOKUP'!C:C,MATCH(AI66,'Standards LOOKUP'!B:B,0),0),0)","v":0},{"$f":"IFERROR(INDEX('Current Standards'!P:P,MATCH('Sheet Counter'!AI66,'Current Standards'!O:O,0),0),\"\")","v":""}]
[null,null,{"$f":"IF(ISERROR(FIND(\"\\\",A67)),A67,RIGHT(A67,LEN(A67)-FIND(\"~\",SUBSTITUTE(A67,\"\\\",\"~\",LEN(A67)-LEN(SUBSTITUTE(A67,\"\\\",\"\"))))))","v":0},{"$f":"IF(AL67=\"\",\"\",AL67)","v":""},"",{"$f":"LEFT(C67,FIND(\"-\",SUBSTITUTE(SUBSTITUTE(C67,\"_\",\"-\"),\" \",\"-\"))-1)","v":{"$error":"#VALUE!"}},{"$f":"IF(ISNUMBER(F67*1),F67*1,\"\")","v":""},{"$f":"IF(I67=\"\",\"\",LARGE(H$1:H66,1)+1)","v":{"$error":"#VALUE!"}},{"$error":"#VALUE!"},66,{"$error":"#N/A"},{"$f":"IF(ISERROR(K67),\"\",K67)","v":""},null,null,66,0,{"$f":"IF(R67=\"\",\"\",LARGE(Q$1:Q66,1)+1)","v":{"$error":"#NUM!"}},{"$error":"#NUM!"},66,{"$error":"#N/A"},{"$f":"IF(ISERROR(T67),\"\",T67)","v":""},{"$f":"IF(U67=\"\",\"\",VLOOKUP(U67,O:P,2,0))","v":""},null,null,{"$f":"IF(ISERROR(FIND(\"\\\",X67)),X67,RIGHT(X67,LEN(X67)-FIND(\"~\",SUBSTITUTE(X67,\"\\\",\"~\",LEN(X67)-LEN(SUBSTITUTE(X67,\"\\\",\"\"))))))","v":0},{"$f":"LEFT(Y67,FIND(\"-\",SUBSTITUTE(SUBSTITUTE(Y67,\"_\",\"-\"),\" \",\"-\"))-1)","v":{"$error":"#VALUE!"}},{"$f":"COUNTIF(F:F,Z67)","v":3999},{"$f":"IF(OR(AA67<1,ISERROR(Z67)),\"\",INDEX(C:C,MATCH(Z67,F:F)))","v":""},{"$f":"IF(AA67=0,\"New Sheet\",IF(EXACT(UPPER(Y67),UPPER(AB67)),\"Match\",\"\"))","v":""},null,null,null,null,{"$f":"IF(C67=\"\",\"\",LEFT(RIGHT(C67,LEN(C67)-SEARCH(\" \",C67,1)),LEN(RIGHT(C67,LEN(C67)-SEARCH(\" \",C67,1)))-4))","v":{"$error":"#VALUE!"}},{"$f":"TRIM(SUBSTITUTE(SUBSTITUTE(SUBSTITUTE(SUBSTITUTE(SUBSTITUTE(SUBSTITUTE(AH67,\"(\",\"\"),\")\",\"\"),\"-\",\"\"),\"&\",\"\"),\" \",\"\",1),\" \",\"\",1))","v":{"$error":"#VALUE!"}},{"$f":"COUNTIF('Standards LOOKUP'!B:B,AI67)","v":0},{"$f":"IFERROR(INDEX('Standards LOOKUP'!C:C,MATCH(AI67,'Standards LOOKUP'!B:B,0),0),0)","v":0},{"$f":"IFERROR(INDEX('Current Standards'!P:P,MATCH('Sheet Counter'!AI67,'Current Standards'!O:O,0),0),\"\")","v":""}]
[null,null,0,"","",{"$error":"#VALUE!"},"",{"$f":"IF(I68=\"\",\"\",LARGE(H$1:H67,1)+1)","v":{"$error":"#VALUE!"}},{"$error":"#VALUE!"},67,{"$error":"#N/A"},"",null,null,67,0,{"$f":"IF(R68=\"\",\"\",LARGE(Q$1:Q67,1)+1)","v":{"$error":"#NUM!"}},{"$f":"IF(AND(P68<>1,O68<=LARGE(G:G,1),O68>=SMALL(G:G,1)),O68,\"\")","v":{"$error":"#NUM!"}},67,{"$error":"#N/A"},"","",null,null,0,{"$error":"#VALUE!"},3999,"","",null,null,null,null,{"$error":"#VALUE!"},{"$error":"#VALUE!"},{"$f":"COUNTIF('Standards LOOKUP'!B:B,AI68)","v":0},{"$f":"IFERROR(INDEX('Standards LOOKUP'!C:C,MATCH(AI68,'Standards LOOKUP'!B:B,0),0),0)","v":0},{"$f":"IFERROR(INDEX('Current Standards'!P:P,MATCH('Sheet Counter'!AI68,'Current Standards'!O:O,0),0),\"\")","v":""}]
[null,null,0,"","",{"$error":"#VALUE!"},"",{"$f":"IF(I69=\"\",\"\",LARGE(H$1:H68,1)+1)","v":{"$error":"#VALUE!"}},{"$error":"#VALUE!"},68,{"$error":"#N/A"},"",null,null,68,0,{"$f":"IF(R69=\"\",\"\",LARGE(Q$1:Q68,1)+1)","v":{"$error":"#NUM!"}},{"$error":"#NUM!"},68,{"$error":"#N/A"},"","",null,null,0,{"$error":"#VALUE!"},3999,"","",null,null,null,null,{"$error":"#VALUE!"},{"$error":"#VALUE!"},{"$f":"COUNTIF('Standards LOOKUP'!B:B,AI69)","v":0},{"$f":"IFERROR(INDEX('Standards LOOKUP'!C:C,MATCH(AI69,'Standards LOOKUP'!B:B,0),0),0)","v":0},{"$f":"IFERROR(INDEX('Current Standards'!P:P,MATCH('Sheet Counter'!AI69,'Current Standards'!O:O,0),0),\"\")","v":""}]
[null,null,0,"","",{"$error":"#VALUE!"},"",{"$f":"IF(I70=\"\",\"\",LARGE(H$1:H69,1)+1)","v":{"$error":"#VALUE!"}},{"$error":"#VALUE!"},69,{"$error":"#N/A"},"",null,null,69,0,{"$f":"IF(R70=\"\",\"\",LARGE(Q$1:Q69,1)+1)","v":{"$error":"#NUM!"}},{"$error":"#NUM!"},69,{"$error":"#N/A"},"","",null,null,0,{"$error":"#VALUE!"},3999,"","",null,null,null,null,{"$error":"#VALUE!"},{"$error":"#VALUE!"},{"$f":"COUNTIF('Standards LOOKUP'!B:B,AI70)","v":0},{"$f":"IFERROR(INDEX('Standards LOOKUP'!C:C,MATCH(AI70,'Standards LOOKUP'!B:B,0),0),0)","v":0},{"$f":"IFERROR(INDEX('Current Standards'!P:P,MATCH('Sheet Counter'!AI70,'Current Standards'!O:O,0),0),\"\")","v":""}]
[null,null,0,"","",{"$error":"#VALUE!"},"",{"$f":"IF(I71=\"\",\"\",LARGE(H$1:H70,1)+1)","v":{"$error":"#VALUE!"}},{"$error":"#VALUE!"},70,{"$error":"#N/A"},"",null,null,70,0,{"$f":"IF(R71=\"\",\"\",LARGE(Q$1:Q70,1)+1)","v":{"$error":"#NUM!"}},{"$error":"#NUM!"},70,{"$error":"#N/A"},"","",null,null,0,{"$error":"#VALUE!"},3999,"","",null,null,null,null,{"$error":"#VALUE!"},{"$error":"#VALUE!"},{"$f":"COUNTIF('Standards LOOKUP'!B:B,AI71)","v":0},{"$f":"IFERROR(INDEX('Standards LOOKUP'!C:C,MATCH(AI71,'Standards LOOKUP'!B:B,0),0),0)","v":0},{"$f":"IFERROR(INDEX('Current Standards'!P:P,MATCH('Sheet Counter'!AI71,'Current Standards'!O:O,0),0),\"\")","v":""}]
[null,null,0,"","",{"$error":"#VALUE!"},"",{"$f":"IF(I72=\"\",\"\",LARGE(H$1:H71,1)+1)","v":{"$error":"#VALUE!"}},{"$error":"#VALUE!"},71,{"$error":"#N/A"},"",null,null,71,0,{"$f":"IF(R72=\"\",\"\",LARGE(Q$1:Q71,1)+1)","v":{"$error":"#NUM!"}},{"$error":"#NUM!"},71,{"$error":"#N/A"},"","",null,null,0,{"$error":"#VALUE!"},3999,"","",null,null,null,null,{"$error":"#VALUE!"},{"$error":"#VALUE!"},{"$f":"COUNTIF('Standards LOOKUP'!B:B,AI72)","v":0},{"$f":"IFERROR(INDEX('Standards LOOKUP'!C:C,MATCH(AI72,'Standards LOOKUP'!B:B,0),0),0)","v":0},{"$f":"IFERROR(INDEX('Current Standards'!P:P,MATCH('Sheet Counter'!AI72,'Current Standards'!O:O,0),0),\"\")","v":""}]
[null,null,0,"","",{"$error":"#VALUE!"},"",{"$f":"IF(I73=\"\",\"\",LARGE(H$1:H72,1)+1)","v":{"$error":"#VALUE!"}},{"$error":"#VALUE!"},72,{"$error":"#N/A"},"",null,null,72,0,{"$f":"IF(R73=\"\",\"\",LARGE(Q$1:Q72,1)+1)","v":{"$error":"#NUM!"}},{"$error":"#NUM!"},72,{"$error":"#N/A"},"","",null,null,0,{"$error":"#VALUE!"},3999,"","",null,null,null,null,{"$error":"#VALUE!"},{"$error":"#VALUE!"},{"$f":"COUNTIF('Standards LOOKUP'!B:B,AI73)","v":0},{"$f":"IFERROR(INDEX('Standards LOOKUP'!C:C,MATCH(AI73,'Standards LOOKUP'!B:B,0),0),0)","v":0},{"$f":"IFERROR(INDEX('Current Standards'!P:P,MATCH('Sheet Counter'!AI73,'Current Standards'!O:O,0),0),\"\")","v":""}]
[null,null,0,"","",{"$error":"#VALUE!"},"",{"$f":"IF(I74=\"\",\"\",LARGE(H$1:H73,1)+1)","v":{"$error":"#VALUE!"}},{"$error":"#VALUE!"},73,{"$error":"#N/A"},"",null,null,73,0,{"$f":"IF(R74=\"\",\"\",LARGE(Q$1:Q73,1)+1)","v":{"$error":"#NUM!"}},{"$error":"#NUM!"},73,{"$error":"#N/A"},"","",null,null,0,{"$error":"#VALUE!"},3999,"","",null,null,null,null,{"$error":"#VALUE!"},{"$error":"#VALUE!"},{"$f":"COUNTIF('Standards LOOKUP'!B:B,AI74)","v":0},{"$f":"IFERROR(INDEX('Standards LOOKUP'!C:C,MATCH(AI74,'Standards LOOKUP'!B:B,0),0),0)","v":0},{"$f":"IFERROR(INDEX('Current Standards'!P:P,MATCH('Sheet Counter'!AI74,'Current Standards'!O:O,0),0),\"\")","v":""}]
[null,null,0,"","",{"$error":"#VALUE!"},"",{"$f":"IF(I75=\"\",\"\",LARGE(H$1:H74,1)+1)","v":{"$error":"#VALUE!"}},{"$error":"#VALUE!"},74,{"$error":"#N/A"},"",null,null,74,0,{"$f":"IF(R75=\"\",\"\",LARGE(Q$1:Q74,1)+1)","v":{"$error":"#NUM!"}},{"$error":"#NUM!"},74,{"$error":"#N/A"},"","",null,null,0,{"$error":"#VALUE!"},3999,"","",null,null,null,null,{"$error":"#VALUE!"},{"$error":"#VALUE!"},{"$f":"COUNTIF('Standards LOOKUP'!B:B,AI75)","v":0},{"$f":"IFERROR(INDEX('Standards LOOKUP'!C:C,MATCH(AI75,'Standards LOOKUP'!B:B,0),0),0)","v":0},{"$f":"IFERROR(INDEX('Current Standards'!P:P,MATCH('Sheet Counter'!AI75,'Current Standards'!O:O,0),0),\"\")","v":""}]
[null,null,0,"","",{"$error":"#VALUE!"},"",{"$f":"IF(I76=\"\",\"\",LARGE(H$1:H75,1)+1)","v":{"$error":"#VALUE!"}},{"$error":"#VALUE!"},75,{"$error":"#N/A"},"",null,null,75,0,{"$f":"IF(R76=\"\",\"\",LARGE(Q$1:Q75,1)+1)","v":{"$error":"#NUM!"}},{"$error":"#NUM!"},75,{"$error":"#N/A"},"","",null,null,0,{"$error":"#VALUE!"},3999,"","",null,null,null,null,{"$error":"#VALUE!"},{"$error":"#VALUE!"},{"$f":"COUNTIF('Standards LOOKUP'!B:B,AI76)","v":0},{"$f":"IFERROR(INDEX('Standards LOOKUP'!C:C,MATCH(AI76,'Standards LOOKUP'!B:B,0),0),0)","v":0},{"$f":"IFERROR(INDEX('Current Standards'!P:P,MATCH('Sheet Counter'!AI76,'Current Standards'!O:O,0),0),\"\")","v":""}]
[null,null,0,"","",{"$error":"#VALUE!"},"",{"$f":"IF(I77=\"\",\"\",LARGE(H$1:H76,1)+1)","v":{"$error":"#VALUE!"}},{"$error":"#VALUE!"},76,{"$error":"#N/A"},"",null,null,76,0,{"$f":"IF(R77=\"\",\"\",LARGE(Q$1:Q76,1)+1)","v":{"$error":"#NUM!"}},{"$error":"#NUM!"},76,{"$error":"#N/A"},"","",null,null,0,{"$error":"#VALUE!"},3999,"","",null,null,null,null,{"$error":"#VALUE!"},{"$error":"#VALUE!"},{"$f":"COUNTIF('Standards LOOKUP'!B:B,AI77)","v":0},{"$f":"IFERROR(INDEX('Standards LOOKUP'!C:C,MATCH(AI77,'Standards LOOKUP'!B:B,0),0),0)","v":0},{"$f":"IFERROR(INDEX('Current Standards'!P:P,MATCH('Sheet Counter'!AI77,'Current Standards'!O:O,0),0),\"\")","v":""}]
[null,null,0,"","",{"$error":"#VALUE!"},"",{"$f":"IF(I78=\"\",\"\",LARGE(H$1:H77,1)+1)","v":{"$error":"#VALUE!"}},{"$error":"#VALUE!"},77,{"$error":"#N/A"},"",null,null,77,0,{"$f":"IF(R78=\"\",\"\",LARGE(Q$1:Q77,1)+1)","v":{"$error":"#NUM!"}},{"$error":"#NUM!"},77,{"$error":"#N/A"},"","",null,null,0,{"$error":"#VALUE!"},3999,"","",null,null,null,null,{"$error":"#VALUE!"},{"$error":"#VALUE!"},{"$f":"COUNTIF('Standards LOOKUP'!B:B,AI78)","v":0},{"$f":"IFERROR(INDEX('Standards LOOKUP'!C:C,MATCH(AI78,'Standards LOOKUP'!B:B,0),0),0)","v":0},{"$f":"IFERROR(INDEX('Current Standards'!P:P,MATCH('Sheet Counter'!AI78,'Current Standards'!O:O,0),0),\"\")","v":""}]
[null,null,0,"","",{"$error":"#VALUE!"},"",{"$f":"IF(I79=\"\",\"\",LARGE(H$1:H78,1)+1)","v":{"$error":"#VALUE!"}},{"$error":"#VALUE!"},78,{"$error":"#N/A"},"",null,null,78,0,{"$f":"IF(R79=\"\",\"\",LARGE(Q$1:Q78,1)+1)","v":{"$error":"#NUM!"}},{"$error":"#NUM!"},78,{"$error":"#N/A"},"","",null,null,0,{"$error":"#VALUE!"},3999,"","",null,null,null,null,{"$error":"#VALUE!"},{"$error":"#VALUE!"},{"$f":"COUNTIF('Standards LOOKUP'!B:B,AI79)","v":0},{"$f":"IFERROR(INDEX('Standards LOOKUP'!C:C,MATCH(AI79,'Standards LOOKUP'!B:B,0),0),0)","v":0},{"$f":"IFERROR(INDEX('Current Standards'!P:P,MATCH('Sheet Counter'!AI79,'Current Standards'!O:O,0),0),\"\")","v":""}]
[null,null,0,"","",{"$error":"#VALUE!"},"",{"$f":"IF(I80=\"\",\"\",LARGE(H$1:H79,1)+1)","v":{"$error":"#VALUE!"}},{"$error":"#VALUE!"},79,{"$error":"#N/A"},"",null,null,79,0,{"$f":"IF(R80=\"\",\"\",LARGE(Q$1:Q79,1)+1)","v":{"$error":"#NUM!"}},{"$error":"#NUM!"},79,{"$error":"#N/A"},"","",null,null,0,{"$error":"#VALUE!"},3999,"","",null,null,null,null,{"$error":"#VALUE!"},{"$error":"#VALUE!"},{"$f":"COUNTIF('Standards LOOKUP'!B:B,AI80)","v":0},{"$f":"IFERROR(INDEX('Standards LOOKUP'!C:C,MATCH(AI80,'Standards LOOKUP'!B:B,0),0),0)","v":0},{"$f":"IFERROR(INDEX('Current Standards'!P:P,MATCH('Sheet Counter'!AI80,'Current Standards'!O:O,0),0),\"\")","v":""}]
[null,null,0,"","",{"$error":"#VALUE!"},"",{"$f":"IF(I81=\"\",\"\",LARGE(H$1:H80,1)+1)","v":{"$error":"#VALUE!"}},{"$error":"#VALUE!"},80,{"$error":"#N/A"},"",null,null,80,0,{"$f":"IF(R81=\"\",\"\",LARGE(Q$1:Q80,1)+1)","v":{"$error":"#NUM!"}},{"$error":"#NUM!"},80,{"$error":"#N/A"},"","",null,null,0,{"$error":"#VALUE!"},3999,"","",null,null,null,null,{"$error":"#VALUE!"},{"$error":"#VALUE!"},{"$f":"COUNTIF('Standards LOOKUP'!B:B,AI81)","v":0},{"$f":"IFERROR(INDEX('Standards LOOKUP'!C:C,MATCH(AI81,'Standards LOOKUP'!B:B,0),0),0)","v":0},{"$f":"IFERROR(INDEX('Current Standards'!P:P,MATCH('Sheet Counter'!AI81,'Current Standards'!O:O,0),0),\"\")","v":""}]
[null,null,0,"","",{"$error":"#VALUE!"},"",{"$f":"IF(I82=\"\",\"\",LARGE(H$1:H81,1)+1)","v":{"$error":"#VALUE!"}},{"$error":"#VALUE!"},81,{"$error":"#N/A"},"",null,null,81,0,{"$f":"IF(R82=\"\",\"\",LARGE(Q$1:Q81,1)+1)","v":{"$error":"#NUM!"}},{"$error":"#NUM!"},81,{"$error":"#N/A"},"","",null,null,0,{"$error":"#VALUE!"},3999,"","",null,null,null,null,{"$error":"#VALUE!"},{"$error":"#VALUE!"},{"$f":"COUNTIF('Standards LOOKUP'!B:B,AI82)","v":0},{"$f":"IFERROR(INDEX('Standards LOOKUP'!C:C,MATCH(AI82,'Standards LOOKUP'!B:B,0),0),0)","v":0},{"$f":"IFERROR(INDEX('Current Standards'!P:P,MATCH('Sheet Counter'!AI82,'Current Standards'!O:O,0),0),\"\")","v":""}]
[null,null,0,"","",{"$error":"#VALUE!"},"",{"$f":"IF(I83=\"\",\"\",LARGE(H$1:H82,1)+1)","v":{"$error":"#VALUE!"}},{"$error":"#VALUE!"},82,{"$error":"#N/A"},"",null,null,82,0,{"$f":"IF(R83=\"\",\"\",LARGE(Q$1:Q82,1)+1)","v":{"$error":"#NUM!"}},{"$error":"#NUM!"},82,{"$error":"#N/A"},"","",null,null,0,{"$error":"#VALUE!"},3999,"","",null,null,null,null,{"$error":"#VALUE!"},{"$error":"#VALUE!"},{"$f":"COUNTIF('Standards LOOKUP'!B:B,AI83)","v":0},{"$f":"IFERROR(INDEX('Standards LOOKUP'!C:C,MATCH(AI83,'Standards LOOKUP'!B:B,0),0),0)","v":0},{"$f":"IFERROR(INDEX('Current Standards'!P:P,MATCH('Sheet Counter'!AI83,'Current Standards'!O:O,0),0),\"\")","v":""}]
[null,null,0,"","",{"$error":"#VALUE!"},"",{"$f":"IF(I84=\"\",\"\",LARGE(H$1:H83,1)+1)","v":{"$error":"#VALUE!"}},{"$error":"#VALUE!"},83,{"$error":"#N/A"},"",null,null,83,0,{"$f":"IF(R84=\"\",\"\",LARGE(Q$1:Q83,1)+1)","v":{"$error":"#NUM!"}},{"$error":"#NUM!"},83,{"$error":"#N/A"},"","",null,null,0,{"$error":"#VALUE!"},3999,"","",null,null,null,null,{"$error":"#VALUE!"},{"$error":"#VALUE!"},{"$f":"COUNTIF('Standards LOOKUP'!B:B,AI84)","v":0},{"$f":"IFERROR(INDEX('Standards LOOKUP'!C:C,MATCH(AI84,'Standards LOOKUP'!B:B,0),0),0)","v":0},{"$f":"IFERROR(INDEX('Current Standards'!P:P,MATCH('Sheet Counter'!AI84,'Current Standards'!O:O,0),0),\"\")","v":""}]
[null,null,0,"","",{"$error":"#VALUE!"},"",{"$f":"IF(I85=\"\",\"\",LARGE(H$1:H84,1)+1)","v":{"$error":"#VALUE!"}},{"$error":"#VALUE!"},84,{"$error":"#N/A"},"",null,null,84,0,{"$f":"IF(R85=\"\",\"\",LARGE(Q$1:Q84,1)+1)","v":{"$error":"#NUM!"}},{"$error":"#NUM!"},84,{"$error":"#N/A"},"","",null,null,0,{"$error":"#VALUE!"},3999,"","",null,null,null,null,{"$error":"#VALUE!"},{"$error":"#VALUE!"},{"$f":"COUNTIF('Standards LOOKUP'!B:B,AI85)","v":0},{"$f":"IFERROR(INDEX('Standards LOOKUP'!C:C,MATCH(AI85,'Standards LOOKUP'!B:B,0),0),0)","v":0},{"$f":"IFERROR(INDEX('Current Standards'!P:P,MATCH('Sheet Counter'!AI85,'Current Standards'!O:O,0),0),\"\")","v":""}]
[null,null,0,"","",{"$error":"#VALUE!"},"",{"$f":"IF(I86=\"\",\"\",LARGE(H$1:H85,1)+1)","v":{"$error":"#VALUE!"}},{"$error":"#VALUE!"},85,{"$error":"#N/A"},"",null,null,85,0,{"$f":"IF(R86=\"\",\"\",LARGE(Q$1:Q85,1)+1)","v":{"$error":"#NUM!"}},{"$error":"#NUM!"},85,{"$error":"#N/A"},"","",null,null,0,{"$error":"#VALUE!"},3999,"","",null,null,null,null,{"$error":"#VALUE!"},{"$error":"#VALUE!"},{"$f":"COUNTIF('Standards LOOKUP'!B:B,AI86)","v":0},{"$f":"IFERROR(INDEX('Standards LOOKUP'!C:C,MATCH(AI86,'Standards LOOKUP'!B:B,0),0),0)","v":0},{"$f":"IFERROR(INDEX('Current Standards'!P:P,MATCH('Sheet Counter'!AI86,'Current Standards'!O:O,0),0),\"\")","v":""}]
[null,null,0,"","",{"$error":"#VALUE!"},"",{"$f":"IF(I87=\"\",\"\",LARGE(H$1:H86,1)+1)","v":{"$error":"#VALUE!"}},{"$error":"#VALUE!"},86,{"$error":"#N/A"},"",null,null,86,0,{"$f":"IF(R87=\"\",\"\",LARGE(Q$1:Q86,1)+1)","v":{"$error":"#NUM!"}},{"$error":"#NUM!"},86,{"$error":"#N/A"},"","",null,null,0,{"$error":"#VALUE!"},3999,"","",null,null,null,null,{"$error":"#VALUE!"},{"$error":"#VALUE!"},{"$f":"COUNTIF('Standards LOOKUP'!B:B,AI87)","v":0},{"$f":"IFERROR(INDEX('Standards LOOKUP'!C:C,MATCH(AI87,'Standards LOOKUP'!B:B,0),0),0)","v":0},{"$f":"IFERROR(INDEX('Current Standards'!P:P,MATCH('Sheet Counter'!AI87,'Current Standards'!O:O,0),0),\"\")","v":""}]
[null,null,0,"","",{"$error":"#VALUE!"},"",{"$f":"IF(I88=\"\",\"\",LARGE(H$1:H87,1)+1)","v":{"$error":"#VALUE!"}},{"$error":"#VALUE!"},87,{"$error":"#N/A"},"",null,null,87,0,{"$f":"IF(R88=\"\",\"\",LARGE(Q$1:Q87,1)+1)","v":{"$error":"#NUM!"}},{"$error":"#NUM!"},87,{"$error":"#N/A"},"","",null,null,0,{"$error":"#VALUE!"},3999,"","",null,null,null,null,{"$error":"#VALUE!"},{"$error":"#VALUE!"},{"$f":"COUNTIF('Standards LOOKUP'!B:B,AI88)","v":0},{"$f":"IFERROR(INDEX('Standards LOOKUP'!C:C,MATCH(AI88,'Standards LOOKUP'!B:B,0),0),0)","v":0},{"$f":"IFERROR(INDEX('Current Standards'!P:P,MATCH('Sheet Counter'!AI88,'Current Standards'!O:O,0),0),\"\")","v":""}]
[null,null,0,"","",{"$error":"#VALUE!"},"",{"$f":"IF(I89=\"\",\"\",LARGE(H$1:H88,1)+1)","v":{"$error":"#VALUE!"}},{"$error":"#VALUE!"},88,{"$error":"#N/A"},"",null,null,88,0,{"$f":"IF(R89=\"\",\"\",LARGE(Q$1:Q88,1)+1)","v":{"$error":"#NUM!"}},{"$error":"#NUM!"},88,{"$error":"#N/A"},"","",null,null,0,{"$error":"#VALUE!"},3999,"","",null,null,null,null,{"$error":"#VALUE!"},{"$error":"#VALUE!"},{"$f":"COUNTIF('Standards LOOKUP'!B:B,AI89)","v":0},{"$f":"IFERROR(INDEX('Standards LOOKUP'!C:C,MATCH(AI89,'Standards LOOKUP'!B:B,0),0),0)","v":0},{"$f":"IFERROR(INDEX('Current Standards'!P:P,MATCH('Sheet Counter'!AI89,'Current Standards'!O:O,0),0),\"\")","v":""}]
[null,null,0,"","",{"$error":"#VALUE!"},"",{"$f":"IF(I90=\"\",\"\",LARGE(H$1:H89,1)+1)","v":{"$error":"#VALUE!"}},{"$error":"#VALUE!"},89,{"$error":"#N/A"},"",null,null,89,0,{"$f":"IF(R90=\"\",\"\",LARGE(Q$1:Q89,1)+1)","v":{"$error":"#NUM!"}},{"$error":"#NUM!"},89,{"$error":"#N/A"},"","",null,null,0,{"$error":"#VALUE!"},3999,"","",null,null,null,null,{"$error":"#VALUE!"},{"$error":"#VALUE!"},{"$f":"COUNTIF('Standards LOOKUP'!B:B,AI90)","v":0},{"$f":"IFERROR(INDEX('Standards LOOKUP'!C:C,MATCH(AI90,'Standards LOOKUP'!B:B,0),0),0)","v":0},{"$f":"IFERROR(INDEX('Current Standards'!P:P,MATCH('Sheet Counter'!AI90,'Current Standards'!O:O,0),0),\"\")","v":""}]
[null,null,0,"","",{"$error":"#VALUE!"},"",{"$f":"IF(I91=\"\",\"\",LARGE(H$1:H90,1)+1)","v":{"$error":"#VALUE!"}},{"$error":"#VALUE!"},90,{"$error":"#N/A"},"",null,null,90,0,{"$f":"IF(R91=\"\",\"\",LARGE(Q$1:Q90,1)+1)","v":{"$error":"#NUM!"}},{"$error":"#NUM!"},90,{"$error":"#N/A"},"","",null,null,0,{"$error":"#VALUE!"},3999,"","",null,null,null,null,{"$error":"#VALUE!"},{"$error":"#VALUE!"},{"$f":"COUNTIF('Standards LOOKUP'!B:B,AI91)","v":0},{"$f":"IFERROR(INDEX('Standards LOOKUP'!C:C,MATCH(AI91,'Standards LOOKUP'!B:B,0),0),0)","v":0},{"$f":"IFERROR(INDEX('Current Standards'!P:P,MATCH('Sheet Counter'!AI91,'Current Standards'!O:O,0),0),\"\")","v":""}]
[null,null,0,"","",{"$error":"#VALUE!"},"",{"$f":"IF(I92=\"\",\"\",LARGE(H$1:H91,1)+1)","v":{"$error":"#VALUE!"}},{"$error":"#VALUE!"},91,{"$error":"#N/A"},"",null,null,91,0,{"$f":"IF(R92=\"\",\"\",LARGE(Q$1:Q91,1)+1)","v":{"$error":"#NUM!"}},{"$error":"#NUM!"},91,{"$error":"#N/A"},"","",null,null,0,{"$error":"#VALUE!"},3999,"","",null,null,null,null,{"$error":"#VALUE!"},{"$error":"#VALUE!"},{"$f":"COUNTIF('Standards LOOKUP'!B:B,AI92)","v":0},{"$f":"IFERROR(INDEX('Standards LOOKUP'!C:C,MATCH(AI92,'Standards LOOKUP'!B:B,0),0),0)","v":0},{"$f":"IFERROR(INDEX('Current Standards'!P:P,MATCH('Sheet Counter'!AI92,'Current Standards'!O:O,0),0),\"\")","v":""}]
[null,null,0,"","",{"$error":"#VALUE!"},"",{"$f":"IF(I93=\"\",\"\",LARGE(H$1:H92,1)+1)","v":{"$error":"#VALUE!"}},{"$error":"#VALUE!"},92,{"$error":"#N/A"},"",null,null,92,0,{"$f":"IF(R93=\"\",\"\",LARGE(Q$1:Q92,1)+1)","v":{"$error":"#NUM!"}},{"$error":"#NUM!"},92,{"$error":"#N/A"},"","",null,null,0,{"$error":"#VALUE!"},3999,"","",null,null,null,null,{"$error":"#VALUE!"},{"$error":"#VALUE!"},{"$f":"COUNTIF('Standards LOOKUP'!B:B,AI93)","v":0},{"$f":"IFERROR(INDEX('Standards LOOKUP'!C:C,MATCH(AI93,'Standards LOOKUP'!B:B,0),0),0)","v":0},{"$f":"IFERROR(INDEX('Current Standards'!P:P,MATCH('Sheet Counter'!AI93,'Current Standards'!O:O,0),0),\"\")","v":""}]
[null,null,0,"","",{"$error":"#VALUE!"},"",{"$f":"IF(I94=\"\",\"\",LARGE(H$1:H93,1)+1)","v":{"$error":"#VALUE!"}},{"$error":"#VALUE!"},93,{"$error":"#N/A"},"",null,null,93,0,{"$f":"IF(R94=\"\",\"\",LARGE(Q$1:Q93,1)+1)","v":{"$error":"#NUM!"}},{"$error":"#NUM!"},93,{"$error":"#N/A"},"","",null,null,0,{"$error":"#VALUE!"},3999,"","",null,null,null,null,{"$error":"#VALUE!"},{"$error":"#VALUE!"},{"$f":"COUNTIF('Standards LOOKUP'!B:B,AI94)","v":0},{"$f":"IFERROR(INDEX('Standards LOOKUP'!C:C,MATCH(AI94,'Standards LOOKUP'!B:B,0),0),0)","v":0},{"$f":"IFERROR(INDEX('Current Standards'!P:P,MATCH('Sheet Counter'!AI94,'Current Standards'!O:O,0),0),\"\")","v":""}]
[null,null,0,"","",{"$error":"#VALUE!"},"",{"$f":"IF(I95=\"\",\"\",LARGE(H$1:H94,1)+1)","v":{"$error":"#VALUE!"}},{"$error":"#VALUE!"},94,{"$error":"#N/A"},"",null,null,94,0,{"$f":"IF(R95=\"\",\"\",LARGE(Q$1:Q94,1)+1)","v":{"$error":"#NUM!"}},{"$error":"#NUM!"},94,{"$f":"VLOOKUP(S95,Q:R,2,0)","v":{"$error":"#N/A"}},"","",null,null,0,{"$error":"#VALUE!"},3999,"","",null,null,null,null,{"$error":"#VALUE!"},{"$error":"#VALUE!"},{"$f":"COUNTIF('Standards LOOKUP'!B:B,AI95)","v":0},{"$f":"IFERROR(INDEX('Standards LOOKUP'!C:C,MATCH(AI95,'Standards LOOKUP'!B:B,0),0),0)","v":0},{"$f":"IFERROR(INDEX('Current Standards'!P:P,MATCH('Sheet Counter'!AI95,'Current Standards'!O:O,0),0),\"\")","v":""}]
[null,null,0,"","",{"$error":"#VALUE!"},"",{"$f":"IF(I96=\"\",\"\",LARGE(H$1:H95,1)+1)","v":{"$error":"#VALUE!"}},{"$error":"#VALUE!"},95,{"$error":"#N/A"},"",null,null,95,0,{"$f":"IF(R96=\"\",\"\",LARGE(Q$1:Q95,1)+1)","v":{"$error":"#NUM!"}},{"$error":"#NUM!"},95,{"$error":"#N/A"},"","",null,null,0,{"$error":"#VALUE!"},3999,"","",null,null,null,null,{"$error":"#VALUE!"},{"$error":"#VALUE!"},{"$f":"COUNTIF('Standards LOOKUP'!B:B,AI96)","v":0},{"$f":"IFERROR(INDEX('Standards LOOKUP'!C:C,MATCH(AI96,'Standards LOOKUP'!B:B,0),0),0)","v":0},{"$f":"IFERROR(INDEX('Current Standards'!P:P,MATCH('Sheet Counter'!AI96,'Current Standards'!O:O,0),0),\"\")","v":""}]
[null,null,0,"","",{"$error":"#VALUE!"},"",{"$f":"IF(I97=\"\",\"\",LARGE(H$1:H96,1)+1)","v":{"$error":"#VALUE!"}},{"$error":"#VALUE!"},96,{"$error":"#N/A"},"",null,null,96,0,{"$f":"IF(R97=\"\",\"\",LARGE(Q$1:Q96,1)+1)","v":{"$error":"#NUM!"}},{"$error":"#NUM!"},96,{"$error":"#N/A"},"","",null,null,0,{"$error":"#VALUE!"},3999,"","",null,null,null,null,{"$error":"#VALUE!"},{"$error":"#VALUE!"},{"$f":"COUNTIF('Standards LOOKUP'!B:B,AI97)","v":0},{"$f":"IFERROR(INDEX('Standards LOOKUP'!C:C,MATCH(AI97,'Standards LOOKUP'!B:B,0),0),0)","v":0},{"$f":"IFERROR(INDEX('Current Standards'!P:P,MATCH('Sheet Counter'!AI97,'Current Standards'!O:O,0),0),\"\")","v":""}]
[null,null,0,"","",{"$error":"#VALUE!"},"",{"$f":"IF(I98=\"\",\"\",LARGE(H$1:H97,1)+1)","v":{"$error":"#VALUE!"}},{"$error":"#VALUE!"},97,{"$error":"#N/A"},"",null,null,97,0,{"$f":"IF(R98=\"\",\"\",LARGE(Q$1:Q97,1)+1)","v":{"$error":"#NUM!"}},{"$error":"#NUM!"},97,{"$error":"#N/A"},"","",null,null,0,{"$error":"#VALUE!"},3999,"","",null,null,null,null,{"$error":"#VALUE!"},{"$error":"#VALUE!"},{"$f":"COUNTIF('Standards LOOKUP'!B:B,AI98)","v":0},{"$f":"IFERROR(INDEX('Standards LOOKUP'!C:C,MATCH(AI98,'Standards LOOKUP'!B:B,0),0),0)","v":0},{"$f":"IFERROR(INDEX('Current Standards'!P:P,MATCH('Sheet Counter'!AI98,'Current Standards'!O:O,0),0),\"\")","v":""}]
[null,null,0,"","",{"$error":"#VALUE!"},"",{"$f":"IF(I99=\"\",\"\",LARGE(H$1:H98,1)+1)","v":{"$error":"#VALUE!"}},{"$error":"#VALUE!"},98,{"$error":"#N/A"},"",null,null,98,0,{"$f":"IF(R99=\"\",\"\",LARGE(Q$1:Q98,1)+1)","v":{"$error":"#NUM!"}},{"$error":"#NUM!"},98,{"$error":"#N/A"},"","",null,null,0,{"$error":"#VALUE!"},3999,"","",null,null,null,null,{"$error":"#VALUE!"},{"$error":"#VALUE!"},{"$f":"COUNTIF('Standards LOOKUP'!B:B,AI99)","v":0},{"$f":"IFERROR(INDEX('Standards LOOKUP'!C:C,MATCH(AI99,'Standards LOOKUP'!B:B,0),0),0)","v":0},{"$f":"IFERROR(INDEX('Current Standards'!P:P,MATCH('Sheet Counter'!AI99,'Current Standards'!O:O,0),0),\"\")","v":""}]
[null,null,0,"","",{"$error":"#VALUE!"},"",{"$f":"IF(I100=\"\",\"\",LARGE(H$1:H99,1)+1)","v":{"$error":"#VALUE!"}},{"$error":"#VALUE!"},99,{"$error":"#N/A"},"",null,null,99,0,{"$f":"IF(R100=\"\",\"\",LARGE(Q$1:Q99,1)+1)","v":{"$error":"#NUM!"}},{"$error":"#NUM!"},99,{"$error":"#N/A"},"","",null,null,0,{"$error":"#VALUE!"},3999,"","",null,null,null,null,{"$error":"#VALUE!"},{"$error":"#VALUE!"},{"$f":"COUNTIF('Standards LOOKUP'!B:B,AI100)","v":0},{"$f":"IFERROR(INDEX('Standards LOOKUP'!C:C,MATCH(AI100,'Standards LOOKUP'!B:B,0),0),0)","v":0},{"$f":"IFERROR(INDEX('Current Standards'!P:P,MATCH('Sheet Counter'!AI100,'Current Standards'!O:O,0),0),\"\")","v":""}]
[null,null,0,"","",{"$error":"#VALUE!"},"",{"$f":"IF(I101=\"\",\"\",LARGE(H$1:H100,1)+1)","v":{"$error":"#VALUE!"}},{"$error":"#VALUE!"},100,{"$error":"#N/A"},"",null,null,100,0,{"$f":"IF(R101=\"\",\"\",LARGE(Q$1:Q100,1)+1)","v":{"$error":"#NUM!"}},{"$error":"#NUM!"},100,{"$error":"#N/A"},"","",null,null,0,{"$error":"#VALUE!"},3999,"","",null,null,null,null,{"$error":"#VALUE!"},{"$error":"#VALUE!"},{"$f":"COUNTIF('Standards LOOKUP'!B:B,AI101)","v":0},{"$f":"IFERROR(INDEX('Standards LOOKUP'!C:C,MATCH(AI101,'Standards LOOKUP'!B:B,0),0),0)","v":0},{"$f":"IFERROR(INDEX('Current Standards'!P:P,MATCH('Sheet Counter'!AI101,'Current Standards'!O:O,0),0),\"\")","v":""}]
[null,null,0,"","",{"$error":"#VALUE!"},"",{"$f":"IF(I102=\"\",\"\",LARGE(H$1:H101,1)+1)","v":{"$error":"#VALUE!"}},{"$error":"#VALUE!"},101,{"$error":"#N/A"},"",null,null,101,0,{"$f":"IF(R102=\"\",\"\",LARGE(Q$1:Q101,1)+1)","v":{"$error":"#NUM!"}},{"$error":"#NUM!"},101,{"$error":"#N/A"},"","",null,null,0,{"$error":"#VALUE!"},3999,"","",null,null,null,null,{"$error":"#VALUE!"},{"$error":"#VALUE!"},{"$f":"COUNTIF('Standards LOOKUP'!B:B,AI102)","v":0},{"$f":"IFERROR(INDEX('Standards LOOKUP'!C:C,MATCH(AI102,'Standards LOOKUP'!B:B,0),0),0)","v":0},{"$f":"IFERROR(INDEX('Current Standards'!P:P,MATCH('Sheet Counter'!AI102,'Current Standards'!O:O,0),0),\"\")","v":""}]
[null,null,0,"","",{"$error":"#VALUE!"},"",{"$f":"IF(I103=\"\",\"\",LARGE(H$1:H102,1)+1)","v":{"$error":"#VALUE!"}},{"$error":"#VALUE!"},102,{"$error":"#N/A"},"",null,null,102,0,{"$f":"IF(R103=\"\",\"\",LARGE(Q$1:Q102,1)+1)","v":{"$error":"#NUM!"}},{"$error":"#NUM!"},102,{"$error":"#N/A"},"","",null,null,0,{"$error":"#VALUE!"},3999,"","",null,null,null,null,{"$error":"#VALUE!"},{"$error":"#VALUE!"},{"$f":"COUNTIF('Standards LOOKUP'!B:B,AI103)","v":0},{"$f":"IFERROR(INDEX('Standards LOOKUP'!C:C,MATCH(AI103,'Standards LOOKUP'!B:B,0),0),0)","v":0},{"$f":"IFERROR(INDEX('Current Standards'!P:P,MATCH('Sheet Counter'!AI103,'Current Standards'!O:O,0),0),\"\")","v":""}]
[null,null,0,"","",{"$error":"#VALUE!"},"",{"$f":"IF(I104=\"\",\"\",LARGE(H$1:H103,1)+1)","v":{"$error":"#VALUE!"}},{"$error":"#VALUE!"},103,{"$f":"VLOOKUP(J104,H:I,2,0)","v":{"$error":"#N/A"}},"",null,null,103,0,{"$f":"IF(R104=\"\",\"\",LARGE(Q$1:Q103,1)+1)","v":{"$error":"#NUM!"}},{"$error":"#NUM!"},103,{"$error":"#N/A"},"","",null,null,0,{"$error":"#VALUE!"},3999,"","",null,null,null,null,{"$error":"#VALUE!"},{"$error":"#VALUE!"},{"$f":"COUNTIF('Standards LOOKUP'!B:B,AI104)","v":0},{"$f":"IFERROR(INDEX('Standards LOOKUP'!C:C,MATCH(AI104,'Standards LOOKUP'!B:B,0),0),0)","v":0},{"$f":"IFERROR(INDEX('Current Standards'!P:P,MATCH('Sheet Counter'!AI104,'Current Standards'!O:O,0),0),\"\")","v":""}]
[null,null,0,"","",{"$error":"#VALUE!"},"",{"$f":"IF(I105=\"\",\"\",LARGE(H$1:H104,1)+1)","v":{"$error":"#VALUE!"}},{"$error":"#VALUE!"},104,{"$error":"#N/A"},"",null,null,104,0,{"$f":"IF(R105=\"\",\"\",LARGE(Q$1:Q104,1)+1)","v":{"$error":"#NUM!"}},{"$error":"#NUM!"},104,{"$error":"#N/A"},"","",null,null,0,{"$error":"#VALUE!"},3999,"","",null,null,null,null,{"$error":"#VALUE!"},{"$error":"#VALUE!"},{"$f":"COUNTIF('Standards LOOKUP'!B:B,AI105)","v":0},{"$f":"IFERROR(INDEX('Standards LOOKUP'!C:C,MATCH(AI105,'Standards LOOKUP'!B:B,0),0),0)","v":0},{"$f":"IFERROR(INDEX('Current Standards'!P:P,MATCH('Sheet Counter'!AI105,'Current Standards'!O:O,0),0),\"\")","v":""}]
[null,null,0,"","",{"$error":"#VALUE!"},"",{"$f":"IF(I106=\"\",\"\",LARGE(H$1:H105,1)+1)","v":{"$error":"#VALUE!"}},{"$error":"#VALUE!"},105,{"$error":"#N/A"},"",null,null,105,0,{"$f":"IF(R106=\"\",\"\",LARGE(Q$1:Q105,1)+1)","v":{"$error":"#NUM!"}},{"$error":"#NUM!"},105,{"$error":"#N/A"},"","",null,null,0,{"$error":"#VALUE!"},3999,"","",null,null,null,null,{"$error":"#VALUE!"},{"$error":"#VALUE!"},{"$f":"COUNTIF('Standards LOOKUP'!B:B,AI106)","v":0},{"$f":"IFERROR(INDEX('Standards LOOKUP'!C:C,MATCH(AI106,'Standards LOOKUP'!B:B,0),0),0)","v":0},{"$f":"IFERROR(INDEX('Current Standards'!P:P,MATCH('Sheet Counter'!AI106,'Current Standards'!O:O,0),0),\"\")","v":""}]
[null,null,0,"","",{"$error":"#VALUE!"},"",{"$f":"IF(I107=\"\",\"\",LARGE(H$1:H106,1)+1)","v":{"$error":"#VALUE!"}},{"$error":"#VALUE!"},106,{"$error":"#N/A"},"",null,null,106,0,{"$f":"IF(R107=\"\",\"\",LARGE(Q$1:Q106,1)+1)","v":{"$error":"#NUM!"}},{"$error":"#NUM!"},106,{"$error":"#N/A"},"","",null,null,0,{"$error":"#VALUE!"},3999,"","",null,null,null,null,{"$error":"#VALUE!"},{"$error":"#VALUE!"},{"$f":"COUNTIF('Standards LOOKUP'!B:B,AI107)","v":0},{"$f":"IFERROR(INDEX('Standards LOOKUP'!C:C,MATCH(AI107,'Standards LOOKUP'!B:B,0),0),0)","v":0},{"$f":"IFERROR(INDEX('Current Standards'!P:P,MATCH('Sheet Counter'!AI107,'Current Standards'!O:O,0),0),\"\")","v":""}]
[null,null,0,"","",{"$error":"#VALUE!"},"",{"$f":"IF(I108=\"\",\"\",LARGE(H$1:H107,1)+1)","v":{"$error":"#VALUE!"}},{"$error":"#VALUE!"},107,{"$error":"#N/A"},"",null,null,107,0,{"$f":"IF(R108=\"\",\"\",LARGE(Q$1:Q107,1)+1)","v":{"$error":"#NUM!"}},{"$error":"#NUM!"},107,{"$error":"#N/A"},"","",null,null,0,{"$error":"#VALUE!"},3999,"","",null,null,null,null,{"$error":"#VALUE!"},{"$error":"#VALUE!"},{"$f":"COUNTIF('Standards LOOKUP'!B:B,AI108)","v":0},{"$f":"IFERROR(INDEX('Standards LOOKUP'!C:C,MATCH(AI108,'Standards LOOKUP'!B:B,0),0),0)","v":0},{"$f":"IFERROR(INDEX('Current Standards'!P:P,MATCH('Sheet Counter'!AI108,'Current Standards'!O:O,0),0),\"\")","v":""}]
[null,null,0,"","",{"$error":"#VALUE!"},"",{"$f":"IF(I109=\"\",\"\",LARGE(H$1:H108,1)+1)","v":{"$error":"#VALUE!"}},{"$error":"#VALUE!"},108,{"$error":"#N/A"},"",null,null,108,0,{"$f":"IF(R109=\"\",\"\",LARGE(Q$1:Q108,1)+1)","v":{"$error":"#NUM!"}},{"$error":"#NUM!"},108,{"$error":"#N/A"},"","",null,null,0,{"$error":"#VALUE!"},3999,"","",null,null,null,null,{"$error":"#VALUE!"},{"$error":"#VALUE!"},{"$f":"COUNTIF('Standards LOOKUP'!B:B,AI109)","v":0},{"$f":"IFERROR(INDEX('Standards LOOKUP'!C:C,MATCH(AI109,'Standards LOOKUP'!B:B,0),0),0)","v":0},{"$f":"IFERROR(INDEX('Current Standards'!P:P,MATCH('Sheet Counter'!AI109,'Current Standards'!O:O,0),0),\"\")","v":""}]
[null,null,0,"","",{"$error":"#VALUE!"},"",{"$f":"IF(I110=\"\",\"\",LARGE(H$1:H109,1)+1)","v":{"$error":"#VALUE!"}},{"$error":"#VALUE!"},109,{"$error":"#N/A"},"",null,null,109,0,{"$f":"IF(R110=\"\",\"\",LARGE(Q$1:Q109,1)+1)","v":{"$error":"#NUM!"}},{"$error":"#NUM!"},109,{"$error":"#N/A"},"","",null,null,0,{"$error":"#VALUE!"},3999,"","",null,null,null,null,{"$error":"#VALUE!"},{"$error":"#VALUE!"},{"$f":"COUNTIF('Standards LOOKUP'!B:B,AI110)","v":0},{"$f":"IFERROR(INDEX('Standards LOOKUP'!C:C,MATCH(AI110,'Standards LOOKUP'!B:B,0),0),0)","v":0},{"$f":"IFERROR(INDEX('Current Standards'!P:P,MATCH('Sheet Counter'!AI110,'Current Standards'!O:O,0),0),\"\")","v":""}]
[null,null,0,"","",{"$error":"#VALUE!"},"",{"$f":"IF(I111=\"\",\"\",LARGE(H$1:H110,1)+1)","v":{"$error":"#VALUE!"}},{"$error":"#VALUE!"},110,{"$error":"#N/A"},"",null,null,110,0,{"$f":"IF(R111=\"\",\"\",LARGE(Q$1:Q110,1)+1)","v":{"$error":"#NUM!"}},{"$error":"#NUM!"},110,{"$error":"#N/A"},"","",null,null,0,{"$error":"#VALUE!"},3999,"","",null,null,null,null,{"$error":"#VALUE!"},{"$error":"#VALUE!"},{"$f":"COUNTIF('Standards LOOKUP'!B:B,AI111)","v":0},{"$f":"IFERROR(INDEX('Standards LOOKUP'!C:C,MATCH(AI111,'Standards LOOKUP'!B:B,0),0),0)","v":0},{"$f":"IFERROR(INDEX('Current Standards'!P:P,MATCH('Sheet Counter'!AI111,'Current Standards'!O:O,0),0),\"\")","v":""}]
[null,null,0,"","",{"$error":"#VALUE!"},"",{"$f":"IF(I112=\"\",\"\",LARGE(H$1:H111,1)+1)","v":{"$error":"#VALUE!"}},{"$error":"#VALUE!"},111,{"$error":"#N/A"},"",null,null,111,0,{"$f":"IF(R112=\"\",\"\",LARGE(Q$1:Q111,1)+1)","v":{"$error":"#NUM!"}},{"$error":"#NUM!"},111,{"$error":"#N/A"},"","",null,null,0,{"$error":"#VALUE!"},3999,"","",null,null,null,null,{"$error":"#VALUE!"},{"$error":"#VALUE!"},{"$f":"COUNTIF('Standards LOOKUP'!B:B,AI112)","v":0},{"$f":"IFERROR(INDEX('Standards LOOKUP'!C:C,MATCH(AI112,'Standards LOOKUP'!B:B,0),0),0)","v":0},{"$f":"IFERROR(INDEX('Current Standards'!P:P,MATCH('Sheet Counter'!AI112,'Current Standards'!O:O,0),0),\"\")","v":""}]
[null,null,0,"","",{"$error":"#VALUE!"},"",{"$f":"IF(I113=\"\",\"\",LARGE(H$1:H112,1)+1)","v":{"$error":"#VALUE!"}},{"$error":"#VALUE!"},112,{"$error":"#N/A"},"",null,null,112,0,{"$f":"IF(R113=\"\",\"\",LARGE(Q$1:Q112,1)+1)","v":{"$error":"#NUM!"}},{"$error":"#NUM!"},112,{"$error":"#N/A"},"","",null,null,0,{"$error":"#VALUE!"},3999,"","",null,null,null,null,{"$error":"#VALUE!"},{"$error":"#VALUE!"},{"$f":"COUNTIF('Standards LOOKUP'!B:B,AI113)","v":0},{"$f":"IFERROR(INDEX('Standards LOOKUP'!C:C,MATCH(AI113,'Standards LOOKUP'!B:B,0),0),0)","v":0},{"$f":"IFERROR(INDEX('Current Standards'!P:P,MATCH('Sheet Counter'!AI113,'Current Standards'!O:O,0),0),\"\")","v":""}]
[null,null,0,"","",{"$error":"#VALUE!"},"",{"$f":"IF(I114=\"\",\"\",LARGE(H$1:H113,1)+1)","v":{"$error":"#VALUE!"}},{"$error":"#VALUE!"},113,{"$error":"#N/A"},"",null,null,113,0,{"$f":"IF(R114=\"\",\"\",LARGE(Q$1:Q113,1)+1)","v":{"$error":"#NUM!"}},{"$error":"#NUM!"},113,{"$error":"#N/A"},"","",null,null,0,{"$error":"#VALUE!"},3999,"","",null,null,null,null,{"$error":"#VALUE!"},{"$error":"#VALUE!"},{"$f":"COUNTIF('Standards LOOKUP'!B:B,AI114)","v":0},{"$f":"IFERROR(INDEX('Standards LOOKUP'!C:C,MATCH(AI114,'Standards LOOKUP'!B:B,0),0),0)","v":0},{"$f":"IFERROR(INDEX('Current Standards'!P:P,MATCH('Sheet Counter'!AI114,'Current Standards'!O:O,0),0),\"\")","v":""}]
[null,null,0,"","",{"$error":"#VALUE!"},"",{"$f":"IF(I115=\"\",\"\",LARGE(H$1:H114,1)+1)","v":{"$error":"#VALUE!"}},{"$error":"#VALUE!"},114,{"$error":"#N/A"},"",null,null,114,0,{"$f":"IF(R115=\"\",\"\",LARGE(Q$1:Q114,1)+1)","v":{"$error":"#NUM!"}},{"$error":"#NUM!"},114,{"$error":"#N/A"},"","",null,null,0,{"$error":"#VALUE!"},3999,"","",null,null,null,null,{"$error":"#VALUE!"},{"$error":"#VALUE!"},{"$f":"COUNTIF('Standards LOOKUP'!B:B,AI115)","v":0},{"$f":"IFERROR(INDEX('Standards LOOKUP'!C:C,MATCH(AI115,'Standards LOOKUP'!B:B,0),0),0)","v":0},{"$f":"IFERROR(INDEX('Current Standards'!P:P,MATCH('Sheet Counter'!AI115,'Current Standards'!O:O,0),0),\"\")","v":""}]
[null,null,0,"","",{"$error":"#VALUE!"},"",{"$f":"IF(I116=\"\",\"\",LARGE(H$1:H115,1)+1)","v":{"$error":"#VALUE!"}},{"$error":"#VALUE!"},115,{"$error":"#N/A"},"",null,null,115,0,{"$f":"IF(R116=\"\",\"\",LARGE(Q$1:Q115,1)+1)","v":{"$error":"#NUM!"}},{"$error":"#NUM!"},115,{"$error":"#N/A"},"","",null,null,0,{"$error":"#VALUE!"},3999,"","",null,null,null,null,{"$error":"#VALUE!"},{"$error":"#VALUE!"},{"$f":"COUNTIF('Standards LOOKUP'!B:B,AI116)","v":0},{"$f":"IFERROR(INDEX('Standards LOOKUP'!C:C,MATCH(AI116,'Standards LOOKUP'!B:B,0),0),0)","v":0},{"$f":"IFERROR(INDEX('Current Standards'!P:P,MATCH('Sheet Counter'!AI116,'Current Standards'!O:O,0),0),\"\")","v":""}]
[null,null,0,"","",{"$error":"#VALUE!"},"",{"$f":"IF(I117=\"\",\"\",LARGE(H$1:H116,1)+1)","v":{"$error":"#VALUE!"}},{"$error":"#VALUE!"},116,{"$error":"#N/A"},"",null,null,116,0,{"$f":"IF(R117=\"\",\"\",LARGE(Q$1:Q116,1)+1)","v":{"$error":"#NUM!"}},{"$error":"#NUM!"},116,{"$error":"#N/A"},"","",null,null,0,{"$error":"#VALUE!"},3999,"","",null,null,null,null,{"$error":"#VALUE!"},{"$error":"#VALUE!"},{"$f":"COUNTIF('Standards LOOKUP'!B:B,AI117)","v":0},{"$f":"IFERROR(INDEX('Standards LOOKUP'!C:C,MATCH(AI117,'Standards LOOKUP'!B:B,0),0),0)","v":0},{"$f":"IFERROR(INDEX('Current Standards'!P:P,MATCH('Sheet Counter'!AI117,'Current Standards'!O:O,0),0),\"\")","v":""}]
[null,null,0,"","",{"$error":"#VALUE!"},"",{"$f":"IF(I118=\"\",\"\",LARGE(H$1:H117,1)+1)","v":{"$error":"#VALUE!"}},{"$error":"#VALUE!"},117,{"$error":"#N/A"},"",null,null,117,0,{"$f":"IF(R118=\"\",\"\",LARGE(Q$1:Q117,1)+1)","v":{"$error":"#NUM!"}},{"$error":"#NUM!"},117,{"$error":"#N/A"},"","",null,null,0,{"$error":"#VALUE!"},3999,"","",null,null,null,null,{"$error":"#VALUE!"},{"$error":"#VALUE!"},{"$f":"COUNTIF('Standards LOOKUP'!B:B,AI118)","v":0},{"$f":"IFERROR(INDEX('Standards LOOKUP'!C:C,MATCH(AI118,'Standards LOOKUP'!B:B,0),0),0)","v":0},{"$f":"IFERROR(INDEX('Current Standards'!P:P,MATCH('Sheet Counter'!AI118,'Current Standards'!O:O,0),0),\"\")","v":""}]
[null,null,0,"","",{"$error":"#VALUE!"},"",{"$f":"IF(I119=\"\",\"\",LARGE(H$1:H118,1)+1)","v":{"$error":"#VALUE!"}},{"$error":"#VALUE!"},118,{"$error":"#N/A"},"",null,null,118,0,{"$f":"IF(R119=\"\",\"\",LARGE(Q$1:Q118,1)+1)","v":{"$error":"#NUM!"}},{"$error":"#NUM!"},118,{"$error":"#N/A"},"","",null,null,0,{"$error":"#VALUE!"},3999,"","",null,null,null,null,{"$error":"#VALUE!"},{"$error":"#VALUE!"},{"$f":"COUNTIF('Standards LOOKUP'!B:B,AI119)","v":0},{"$f":"IFERROR(INDEX('Standards LOOKUP'!C:C,MATCH(AI119,'Standards LOOKUP'!B:B,0),0),0)","v":0},{"$f":"IFERROR(INDEX('Current Standards'!P:P,MATCH('Sheet Counter'!AI119,'Current Standards'!O:O,0),0),\"\")","v":""}]
[null,null,0,"","",{"$error":"#VALUE!"},"",{"$f":"IF(I120=\"\",\"\",LARGE(H$1:H119,1)+1)","v":{"$error":"#VALUE!"}},{"$error":"#VALUE!"},119,{"$error":"#N/A"},"",null,null,119,0,{"$f":"IF(R120=\"\",\"\",LARGE(Q$1:Q119,1)+1)","v":{"$error":"#NUM!"}},{"$error":"#NUM!"},119,{"$error":"#N/A"},"","",null,null,0,{"$error":"#VALUE!"},3999,"","",null,null,null,null,{"$error":"#VALUE!"},{"$error":"#VALUE!"},{"$f":"COUNTIF('Standards LOOKUP'!B:B,AI120)","v":0},{"$f":"IFERROR(INDEX('Standards LOOKUP'!C:C,MATCH(AI120,'Standards LOOKUP'!B:B,0),0),0)","v":0},{"$f":"IFERROR(INDEX('Current Standards'!P:P,MATCH('Sheet Counter'!AI120,'Current Standards'!O:O,0),0),\"\")","v":""}]
[null,null,0,"","",{"$error":"#VALUE!"},"",{"$f":"IF(I121=\"\",\"\",LARGE(H$1:H120,1)+1)","v":{"$error":"#VALUE!"}},{"$error":"#VALUE!"},120,{"$error":"#N/A"},"",null,null,120,0,{"$f":"IF(R121=\"\",\"\",LARGE(Q$1:Q120,1)+1)","v":{"$error":"#NUM!"}},{"$error":"#NUM!"},120,{"$error":"#N/A"},"","",null,null,0,{"$error":"#VALUE!"},3999,"","",null,null,null,null,{"$error":"#VALUE!"},{"$error":"#VALUE!"},{"$f":"COUNTIF('Standards LOOKUP'!B:B,AI121)","v":0},{"$f":"IFERROR(INDEX('Standards LOOKUP'!C:C,MATCH(AI121,'Standards LOOKUP'!B:B,0),0),0)","v":0},{"$f":"IFERROR(INDEX('Current Standards'!P:P,MATCH('Sheet Counter'!AI121,'Current Standards'!O:O,0),0),\"\")","v":""}]
[null,null,0,"","",{"$error":"#VALUE!"},"",{"$f":"IF(I122=\"\",\"\",LARGE(H$1:H121,1)+1)","v":{"$error":"#VALUE!"}},{"$error":"#VALUE!"},121,{"$error":"#N/A"},"",null,null,121,0,{"$f":"IF(R122=\"\",\"\",LARGE(Q$1:Q121,1)+1)","v":{"$error":"#NUM!"}},{"$error":"#NUM!"},121,{"$error":"#N/A"},"","",null,null,0,{"$error":"#VALUE!"},3999,"","",null,null,null,null,{"$error":"#VALUE!"},{"$error":"#VALUE!"},{"$f":"COUNTIF('Standards LOOKUP'!B:B,AI122)","v":0},{"$f":"IFERROR(INDEX('Standards LOOKUP'!C:C,MATCH(AI122,'Standards LOOKUP'!B:B,0),0),0)","v":0},{"$f":"IFERROR(INDEX('Current Standards'!P:P,MATCH('Sheet Counter'!AI122,'Current Standards'!O:O,0),0),\"\")","v":""}]
[null,null,0,"","",{"$error":"#VALUE!"},"",{"$f":"IF(I123=\"\",\"\",LARGE(H$1:H122,1)+1)","v":{"$error":"#VALUE!"}},{"$error":"#VALUE!"},122,{"$error":"#N/A"},"",null,null,122,0,{"$f":"IF(R123=\"\",\"\",LARGE(Q$1:Q122,1)+1)","v":{"$error":"#NUM!"}},{"$error":"#NUM!"},122,{"$error":"#N/A"},"","",null,null,0,{"$error":"#VALUE!"},3999,"","",null,null,null,null,{"$error":"#VALUE!"},{"$error":"#VALUE!"},{"$f":"COUNTIF('Standards LOOKUP'!B:B,AI123)","v":0},{"$f":"IFERROR(INDEX('Standards LOOKUP'!C:C,MATCH(AI123,'Standards LOOKUP'!B:B,0),0),0)","v":0},{"$f":"IFERROR(INDEX('Current Standards'!P:P,MATCH('Sheet Counter'!AI123,'Current Standards'!O:O,0),0),\"\")","v":""}]
[null,null,0,"","",{"$error":"#VALUE!"},"",{"$f":"IF(I124=\"\",\"\",LARGE(H$1:H123,1)+1)","v":{"$error":"#VALUE!"}},{"$error":"#VALUE!"},123,{"$error":"#N/A"},"",null,null,123,0,{"$f":"IF(R124=\"\",\"\",LARGE(Q$1:Q123,1)+1)","v":{"$error":"#NUM!"}},{"$error":"#NUM!"},123,{"$error":"#N/A"},"","",null,null,0,{"$error":"#VALUE!"},3999,"","",null,null,null,null,{"$error":"#VALUE!"},{"$error":"#VALUE!"},{"$f":"COUNTIF('Standards LOOKUP'!B:B,AI124)","v":0},{"$f":"IFERROR(INDEX('Standards LOOKUP'!C:C,MATCH(AI124,'Standards LOOKUP'!B:B,0),0),0)","v":0},{"$f":"IFERROR(INDEX('Current Standards'!P:P,MATCH('Sheet Counter'!AI124,'Current Standards'!O:O,0),0),\"\")","v":""}]
[null,null,0,"","",{"$error":"#VALUE!"},"",{"$f":"IF(I125=\"\",\"\",LARGE(H$1:H124,1)+1)","v":{"$error":"#VALUE!"}},{"$error":"#VALUE!"},124,{"$error":"#N/A"},"",null,null,124,0,{"$f":"IF(R125=\"\",\"\",LARGE(Q$1:Q124,1)+1)","v":{"$error":"#NUM!"}},{"$error":"#NUM!"},124,{"$error":"#N/A"},"","",null,null,0,{"$error":"#VALUE!"},3999,"","",null,null,null,null,{"$error":"#VALUE!"},{"$error":"#VALUE!"},{"$f":"COUNTIF('Standards LOOKUP'!B:B,AI125)","v":0},{"$f":"IFERROR(INDEX('Standards LOOKUP'!C:C,MATCH(AI125,'Standards LOOKUP'!B:B,0),0),0)","v":0},{"$f":"IFERROR(INDEX('Current Standards'!P:P,MATCH('Sheet Counter'!AI125,'Current Standards'!O:O,0),0),\"\")","v":""}]
[null,null,0,"","",{"$error":"#VALUE!"},"",{"$f":"IF(I126=\"\",\"\",LARGE(H$1:H125,1)+1)","v":{"$error":"#VALUE!"}},{"$error":"#VALUE!"},125,{"$error":"#N/A"},"",null,null,125,0,{"$f":"IF(R126=\"\",\"\",LARGE(Q$1:Q125,1)+1)","v":{"$error":"#NUM!"}},{"$error":"#NUM!"},125,{"$error":"#N/A"},"","",null,null,0,{"$error":"#VALUE!"},3999,"","",null,null,null,null,{"$error":"#VALUE!"},{"$error":"#VALUE!"},{"$f":"COUNTIF('Standards LOOKUP'!B:B,AI126)","v":0},{"$f":"IFERROR(INDEX('Standards LOOKUP'!C:C,MATCH(AI126,'Standards LOOKUP'!B:B,0),0),0)","v":0},{"$f":"IFERROR(INDEX('Current Standards'!P:P,MATCH('Sheet Counter'!AI126,'Current Standards'!O:O,0),0),\"\")","v":""}]
[null,null,0,"","",{"$error":"#VALUE!"},"",{"$f":"IF(I127=\"\",\"\",LARGE(H$1:H126,1)+1)","v":{"$error":"#VALUE!"}},{"$error":"#VALUE!"},126,{"$error":"#N/A"},"",null,null,126,0,{"$f":"IF(R127=\"\",\"\",LARGE(Q$1:Q126,1)+1)","v":{"$error":"#NUM!"}},{"$error":"#NUM!"},126,{"$error":"#N/A"},"","",null,null,0,{"$error":"#VALUE!"},3999,"","",null,null,null,null,{"$error":"#VALUE!"},{"$error":"#VALUE!"},{"$f":"COUNTIF('Standards LOOKUP'!B:B,AI127)","v":0},{"$f":"IFERROR(INDEX('Standards LOOKUP'!C:C,MATCH(AI127,'Standards LOOKUP'!B:B,0),0),0)","v":0},{"$f":"IFERROR(INDEX('Current Standards'!P:P,MATCH('Sheet Counter'!AI127,'Current Standards'!O:O,0),0),\"\")","v":""}]
[null,null,0,"","",{"$error":"#VALUE!"},"",{"$f":"IF(I128=\"\",\"\",LARGE(H$1:H127,1)+1)","v":{"$error":"#VALUE!"}},{"$error":"#VALUE!"},127,{"$error":"#N/A"},"",null,null,127,0,{"$f":"IF(R128=\"\",\"\",LARGE(Q$1:Q127,1)+1)","v":{"$error":"#NUM!"}},{"$error":"#NUM!"},127,{"$error":"#N/A"},"","",null,null,0,{"$error":"#VALUE!"},3999,"","",null,null,null,null,{"$error":"#VALUE!"},{"$error":"#VALUE!"},{"$f":"COUNTIF('Standards LOOKUP'!B:B,AI128)","v":0},{"$f":"IFERROR(INDEX('Standards LOOKUP'!C:C,MATCH(AI128,'Standards LOOKUP'!B:B,0),0),0)","v":0},{"$f":"IFERROR(INDEX('Current Standards'!P:P,MATCH('Sheet Counter'!AI128,'Current Standards'!O:O,0),0),\"\")","v":""}]
[null,null,0,"","",{"$error":"#VALUE!"},"",{"$f":"IF(I129=\"\",\"\",LARGE(H$1:H128,1)+1)","v":{"$error":"#VALUE!"}},{"$error":"#VALUE!"},128,{"$error":"#N/A"},"",null,null,128,0,{"$f":"IF(R129=\"\",\"\",LARGE(Q$1:Q128,1)+1)","v":{"$error":"#NUM!"}},{"$error":"#NUM!"},128,{"$error":"#N/A"},"","",null,null,0,{"$error":"#VALUE!"},3999,"","",null,null,null,null,{"$error":"#VALUE!"},{"$error":"#VALUE!"},{"$f":"COUNTIF('Standards LOOKUP'!B:B,AI129)","v":0},{"$f":"IFERROR(INDEX('Standards LOOKUP'!C:C,MATCH(AI129,'Standards LOOKUP'!B:B,0),0),0)","v":0},{"$f":"IFERROR(INDEX('Current Standards'!P:P,MATCH('Sheet Counter'!AI129,'Current Standards'!O:O,0),0),\"\")","v":""}]
[null,null,0,"","",{"$error":"#VALUE!"},"",{"$f":"IF(I130=\"\",\"\",LARGE(H$1:H129,1)+1)","v":{"$error":"#VALUE!"}},{"$f":"IF(G130=\"\",F130,\"\")","v":{"$error":"#VALUE!"}},129,{"$error":"#N/A"},"",null,null,129,{"$f":"COUNTIF(G:G,O130)","v":0},{"$f":"IF(R130=\"\",\"\",LARGE(Q$1:Q129,1)+1)","v":{"$error":"#NUM!"}},{"$error":"#NUM!"},129,{"$error":"#N/A"},"","",null,null,0,{"$error":"#VALUE!"},3999,"","",null,null,null,null,{"$error":"#VALUE!"},{"$error":"#VALUE!"},{"$f":"COUNTIF('Standards LOOKUP'!B:B,AI130)","v":0},{"$f":"IFERROR(INDEX('Standards LOOKUP'!C:C,MATCH(AI130,'Standards LOOKUP'!B:B,0),0),0)","v":0},{"$f":"IFERROR(INDEX('Current Standards'!P:P,MATCH('Sheet Counter'!AI130,'Current Standards'!O:O,0),0),\"\")","v":""}]
[null,null,{"$f":"IF(ISERROR(FIND(\"\\\",A131)),A131,RIGHT(A131,LEN(A131)-FIND(\"~\",SUBSTITUTE(A131,\"\\\",\"~\",LEN(A131)-LEN(SUBSTITUTE(A131,\"\\\",\"\"))))))","v":0},{"$f":"IF(AL131=\"\",\"\",AL131)","v":""},"",{"$f":"LEFT(C131,FIND(\"-\",SUBSTITUTE(SUBSTITUTE(C131,\"_\",\"-\"),\" \",\"-\"))-1)","v":{"$error":"#VALUE!"}},{"$f":"IF(ISNUMBER(F131*1),F131*1,\"\")","v":""},{"$f":"IF(I131=\"\",\"\",LARGE(H$1:H130,1)+1)","v":{"$error":"#VALUE!"}},{"$error":"#VALUE!"},130,{"$error":"#N/A"},{"$f":"IF(ISERROR(K131),\"\",K131)","v":""},null,null,130,0,{"$f":"IF(R131=\"\",\"\",LARGE(Q$1:Q130,1)+1)","v":{"$error":"#NUM!"}},{"$error":"#NUM!"},130,{"$error":"#N/A"},{"$f":"IF(ISERROR(T131),\"\",T131)","v":""},{"$f":"IF(U131=\"\",\"\",VLOOKUP(U131,O:P,2,0))","v":""},null,null,{"$f":"IF(ISERROR(FIND(\"\\\",X131)),X131,RIGHT(X131,LEN(X131)-FIND(\"~\",SUBSTITUTE(X131,\"\\\",\"~\",LEN(X131)-LEN(SUBSTITUTE(X131,\"\\\",\"\"))))))","v":0},{"$f":"LEFT(Y131,FIND(\"-\",SUBSTITUTE(SUBSTITUTE(Y131,\"_\",\"-\"),\" \",\"-\"))-1)","v":{"$error":"#VALUE!"}},{"$f":"COUNTIF(F:F,Z131)","v":3999},{"$f":"IF(OR(AA131<1,ISERROR(Z131)),\"\",INDEX(C:C,MATCH(Z131,F:F)))","v":""},{"$f":"IF(AA131=0,\"New Sheet\",IF(EXACT(UPPER(Y131),UPPER(AB131)),\"Match\",\"\"))","v":""},null,null,null,null,{"$f":"IF(C131=\"\",\"\",LEFT(RIGHT(C131,LEN(C131)-SEARCH(\" \",C131,1)),LEN(RIGHT(C131,LEN(C131)-SEARCH(\" \",C131,1)))-4))","v":{"$error":"#VALUE!"}},{"$f":"TRIM(SUBSTITUTE(SUBSTITUTE(SUBSTITUTE(SUBSTITUTE(SUBSTITUTE(SUBSTITUTE(AH131,\"(\",\"\"),\")\",\"\"),\"-\",\"\"),\"&\",\"\"),\" \",\"\",1),\" \",\"\",1))","v":{"$error":"#VALUE!"}},{"$f":"COUNTIF('Standards LOOKUP'!B:B,AI131)","v":0},{"$f":"IFERROR(INDEX('Standards LOOKUP'!C:C,MATCH(AI131,'Standards LOOKUP'!B:B,0),0),0)","v":0},{"$f":"IFERROR(INDEX('Current Standards'!P:P,MATCH('Sheet Counter'!AI131,'Current Standards'!O:O,0),0),\"\")","v":""}]
[null,null,0,"","",{"$error":"#VALUE!"},"",{"$f":"IF(I132=\"\",\"\",LARGE(H$1:H131,1)+1)","v":{"$error":"#VALUE!"}},{"$error":"#VALUE!"},131,{"$error":"#N/A"},"",null,null,131,0,{"$f":"IF(R132=\"\",\"\",LARGE(Q$1:Q131,1)+1)","v":{"$error":"#NUM!"}},{"$f":"IF(AND(P132<>1,O132<=LARGE(G:G,1),O132>=SMALL(G:G,1)),O132,\"\")","v":{"$error":"#NUM!"}},131,{"$error":"#N/A"},"","",null,null,0,{"$error":"#VALUE!"},3999,"","",null,null,null,null,{"$error":"#VALUE!"},{"$error":"#VALUE!"},{"$f":"COUNTIF('Standards LOOKUP'!B:B,AI132)","v":0},{"$f":"IFERROR(INDEX('Standards LOOKUP'!C:C,MATCH(AI132,'Standards LOOKUP'!B:B,0),0),0)","v":0},{"$f":"IFERROR(INDEX('Current Standards'!P:P,MATCH('Sheet Counter'!AI132,'Current Standards'!O:O,0),0),\"\")","v":""}]
[null,null,0,"","",{"$error":"#VALUE!"},"",{"$f":"IF(I133=\"\",\"\",LARGE(H$1:H132,1)+1)","v":{"$error":"#VALUE!"}},{"$error":"#VALUE!"},132,{"$error":"#N/A"},"",null,null,132,0,{"$f":"IF(R133=\"\",\"\",LARGE(Q$1:Q132,1)+1)","v":{"$error":"#NUM!"}},{"$error":"#NUM!"},132,{"$error":"#N/A"},"","",null,null,0,{"$error":"#VALUE!"},3999,"","",null,null,null,null,{"$error":"#VALUE!"},{"$error":"#VALUE!"},{"$f":"COUNTIF('Standards LOOKUP'!B:B,AI133)","v":0},{"$f":"IFERROR(INDEX('Standards LOOKUP'!C:C,MATCH(AI133,'Standards LOOKUP'!B:B,0),0),0)","v":0},{"$f":"IFERROR(INDEX('Current Standards'!P:P,MATCH('Sheet Counter'!AI133,'Current Standards'!O:O,0),0),\"\")","v":""}]
[null,null,0,"","",{"$error":"#VALUE!"},"",{"$f":"IF(I134=\"\",\"\",LARGE(H$1:H133,1)+1)","v":{"$error":"#VALUE!"}},{"$error":"#VALUE!"},133,{"$error":"#N/A"},"",null,null,133,0,{"$f":"IF(R134=\"\",\"\",LARGE(Q$1:Q133,1)+1)","v":{"$error":"#NUM!"}},{"$error":"#NUM!"},133,{"$error":"#N/A"},"","",null,null,0,{"$error":"#VALUE!"},3999,"","",null,null,null,null,{"$error":"#VALUE!"},{"$error":"#VALUE!"},{"$f":"COUNTIF('Standards LOOKUP'!B:B,AI134)","v":0},{"$f":"IFERROR(INDEX('Standards LOOKUP'!C:C,MATCH(AI134,'Standards LOOKUP'!B:B,0),0),0)","v":0},{"$f":"IFERROR(INDEX('Current Standards'!P:P,MATCH('Sheet Counter'!AI134,'Current Standards'!O:O,0),0),\"\")","v":""}]
[null,null,0,"","",{"$error":"#VALUE!"},"",{"$f":"IF(I135=\"\",\"\",LARGE(H$1:H134,1)+1)","v":{"$error":"#VALUE!"}},{"$error":"#VALUE!"},134,{"$error":"#N/A"},"",null,null,134,0,{"$f":"IF(R135=\"\",\"\",LARGE(Q$1:Q134,1)+1)","v":{"$error":"#NUM!"}},{"$error":"#NUM!"},134,{"$error":"#N/A"},"","",null,null,0,{"$error":"#VALUE!"},3999,"","",null,null,null,null,{"$error":"#VALUE!"},{"$error":"#VALUE!"},{"$f":"COUNTIF('Standards LOOKUP'!B:B,AI135)","v":0},{"$f":"IFERROR(INDEX('Standards LOOKUP'!C:C,MATCH(AI135,'Standards LOOKUP'!B:B,0),0),0)","v":0},{"$f":"IFERROR(INDEX('Current Standards'!P:P,MATCH('Sheet Counter'!AI135,'Current Standards'!O:O,0),0),\"\")","v":""}]
[null,null,0,"","",{"$error":"#VALUE!"},"",{"$f":"IF(I136=\"\",\"\",LARGE(H$1:H135,1)+1)","v":{"$error":"#VALUE!"}},{"$error":"#VALUE!"},135,{"$error":"#N/A"},"",null,null,135,0,{"$f":"IF(R136=\"\",\"\",LARGE(Q$1:Q135,1)+1)","v":{"$error":"#NUM!"}},{"$error":"#NUM!"},135,{"$error":"#N/A"},"","",null,null,0,{"$error":"#VALUE!"},3999,"","",null,null,null,null,{"$error":"#VALUE!"},{"$error":"#VALUE!"},{"$f":"COUNTIF('Standards LOOKUP'!B:B,AI136)","v":0},{"$f":"IFERROR(INDEX('Standards LOOKUP'!C:C,MATCH(AI136,'Standards LOOKUP'!B:B,0),0),0)","v":0},{"$f":"IFERROR(INDEX('Current Standards'!P:P,MATCH('Sheet Counter'!AI136,'Current Standards'!O:O,0),0),\"\")","v":""}]
[null,null,0,"","",{"$error":"#VALUE!"},"",{"$f":"IF(I137=\"\",\"\",LARGE(H$1:H136,1)+1)","v":{"$error":"#VALUE!"}},{"$error":"#VALUE!"},136,{"$error":"#N/A"},"",null,null,136,0,{"$f":"IF(R137=\"\",\"\",LARGE(Q$1:Q136,1)+1)","v":{"$error":"#NUM!"}},{"$error":"#NUM!"},136,{"$error":"#N/A"},"","",null,null,0,{"$error":"#VALUE!"},3999,"","",null,null,null,null,{"$error":"#VALUE!"},{"$error":"#VALUE!"},{"$f":"COUNTIF('Standards LOOKUP'!B:B,AI137)","v":0},{"$f":"IFERROR(INDEX('Standards LOOKUP'!C:C,MATCH(AI137,'Standards LOOKUP'!B:B,0),0),0)","v":0},{"$f":"IFERROR(INDEX('Current Standards'!P:P,MATCH('Sheet Counter'!AI137,'Current Standards'!O:O,0),0),\"\")","v":""}]
[null,null,0,"","",{"$error":"#VALUE!"},"",{"$f":"IF(I138=\"\",\"\",LARGE(H$1:H137,1)+1)","v":{"$error":"#VALUE!"}},{"$error":"#VALUE!"},137,{"$error":"#N/A"},"",null,null,137,0,{"$f":"IF(R138=\"\",\"\",LARGE(Q$1:Q137,1)+1)","v":{"$error":"#NUM!"}},{"$error":"#NUM!"},137,{"$error":"#N/A"},"","",null,null,0,{"$error":"#VALUE!"},3999,"","",null,null,null,null,{"$error":"#VALUE!"},{"$error":"#VALUE!"},{"$f":"COUNTIF('Standards LOOKUP'!B:B,AI138)","v":0},{"$f":"IFERROR(INDEX('Standards LOOKUP'!C:C,MATCH(AI138,'Standards LOOKUP'!B:B,0),0),0)","v":0},{"$f":"IFERROR(INDEX('Current Standards'!P:P,MATCH('Sheet Counter'!AI138,'Current Standards'!O:O,0),0),\"\")","v":""}]
[null,null,0,"","",{"$error":"#VALUE!"},"",{"$f":"IF(I139=\"\",\"\",LARGE(H$1:H138,1)+1)","v":{"$error":"#VALUE!"}},{"$error":"#VALUE!"},138,{"$error":"#N/A"},"",null,null,138,0,{"$f":"IF(R139=\"\",\"\",LARGE(Q$1:Q138,1)+1)","v":{"$error":"#NUM!"}},{"$error":"#NUM!"},138,{"$error":"#N/A"},"","",null,null,0,{"$error":"#VALUE!"},3999,"","",null,null,null,null,{"$error":"#VALUE!"},{"$error":"#VALUE!"},{"$f":"COUNTIF('Standards LOOKUP'!B:B,AI139)","v":0},{"$f":"IFERROR(INDEX('Standards LOOKUP'!C:C,MATCH(AI139,'Standards LOOKUP'!B:B,0),0),0)","v":0},{"$f":"IFERROR(INDEX('Current Standards'!P:P,MATCH('Sheet Counter'!AI139,'Current Standards'!O:O,0),0),\"\")","v":""}]
[null,null,0,"","",{"$error":"#VALUE!"},"",{"$f":"IF(I140=\"\",\"\",LARGE(H$1:H139,1)+1)","v":{"$error":"#VALUE!"}},{"$error":"#VALUE!"},139,{"$error":"#N/A"},"",null,null,139,0,{"$f":"IF(R140=\"\",\"\",LARGE(Q$1:Q139,1)+1)","v":{"$error":"#NUM!"}},{"$error":"#NUM!"},139,{"$error":"#N/A"},"","",null,null,0,{"$error":"#VALUE!"},3999,"","",null,null,null,null,{"$error":"#VALUE!"},{"$error":"#VALUE!"},{"$f":"COUNTIF('Standards LOOKUP'!B:B,AI140)","v":0},{"$f":"IFERROR(INDEX('Standards LOOKUP'!C:C,MATCH(AI140,'Standards LOOKUP'!B:B,0),0),0)","v":0},{"$f":"IFERROR(INDEX('Current Standards'!P:P,MATCH('Sheet Counter'!AI140,'Current Standards'!O:O,0),0),\"\")","v":""}]
[null,null,0,"","",{"$error":"#VALUE!"},"",{"$f":"IF(I141=\"\",\"\",LARGE(H$1:H140,1)+1)","v":{"$error":"#VALUE!"}},{"$error":"#VALUE!"},140,{"$error":"#N/A"},"",null,null,140,0,{"$f":"IF(R141=\"\",\"\",LARGE(Q$1:Q140,1)+1)","v":{"$error":"#NUM!"}},{"$error":"#NUM!"},140,{"$error":"#N/A"},"","",null,null,0,{"$error":"#VALUE!"},3999,"","",null,null,null,null,{"$error":"#VALUE!"},{"$error":"#VALUE!"},{"$f":"COUNTIF('Standards LOOKUP'!B:B,AI141)","v":0},{"$f":"IFERROR(INDEX('Standards LOOKUP'!C:C,MATCH(AI141,'Standards LOOKUP'!B:B,0),0),0)","v":0},{"$f":"IFERROR(INDEX('Current Standards'!P:P,MATCH('Sheet Counter'!AI141,'Current Standards'!O:O,0),0),\"\")","v":""}]
[null,null,0,"","",{"$error":"#VALUE!"},"",{"$f":"IF(I142=\"\",\"\",LARGE(H$1:H141,1)+1)","v":{"$error":"#VALUE!"}},{"$error":"#VALUE!"},141,{"$error":"#N/A"},"",null,null,141,0,{"$f":"IF(R142=\"\",\"\",LARGE(Q$1:Q141,1)+1)","v":{"$error":"#NUM!"}},{"$error":"#NUM!"},141,{"$error":"#N/A"},"","",null,null,0,{"$error":"#VALUE!"},3999,"","",null,null,null,null,{"$error":"#VALUE!"},{"$error":"#VALUE!"},{"$f":"COUNTIF('Standards LOOKUP'!B:B,AI142)","v":0},{"$f":"IFERROR(INDEX('Standards LOOKUP'!C:C,MATCH(AI142,'Standards LOOKUP'!B:B,0),0),0)","v":0},{"$f":"IFERROR(INDEX('Current Standards'!P:P,MATCH('Sheet Counter'!AI142,'Current Standards'!O:O,0),0),\"\")","v":""}]
[null,null,0,"","",{"$error":"#VALUE!"},"",{"$f":"IF(I143=\"\",\"\",LARGE(H$1:H142,1)+1)","v":{"$error":"#VALUE!"}},{"$error":"#VALUE!"},142,{"$error":"#N/A"},"",null,null,142,0,{"$f":"IF(R143=\"\",\"\",LARGE(Q$1:Q142,1)+1)","v":{"$error":"#NUM!"}},{"$error":"#NUM!"},142,{"$error":"#N/A"},"","",null,null,0,{"$error":"#VALUE!"},3999,"","",null,null,null,null,{"$error":"#VALUE!"},{"$error":"#VALUE!"},{"$f":"COUNTIF('Standards LOOKUP'!B:B,AI143)","v":0},{"$f":"IFERROR(INDEX('Standards LOOKUP'!C:C,MATCH(AI143,'Standards LOOKUP'!B:B,0),0),0)","v":0},{"$f":"IFERROR(INDEX('Current Standards'!P:P,MATCH('Sheet Counter'!AI143,'Current Standards'!O:O,0),0),\"\")","v":""}]
[null,null,0,"","",{"$error":"#VALUE!"},"",{"$f":"IF(I144=\"\",\"\",LARGE(H$1:H143,1)+1)","v":{"$error":"#VALUE!"}},{"$error":"#VALUE!"},143,{"$error":"#N/A"},"",null,null,143,0,{"$f":"IF(R144=\"\",\"\",LARGE(Q$1:Q143,1)+1)","v":{"$error":"#NUM!"}},{"$error":"#NUM!"},143,{"$error":"#N/A"},"","",null,null,0,{"$error":"#VALUE!"},3999,"","",null,null,null,null,{"$error":"#VALUE!"},{"$error":"#VALUE!"},{"$f":"COUNTIF('Standards LOOKUP'!B:B,AI144)","v":0},{"$f":"IFERROR(INDEX('Standards LOOKUP'!C:C,MATCH(AI144,'Standards LOOKUP'!B:B,0),0),0)","v":0},{"$f":"IFERROR(INDEX('Current Standards'!P:P,MATCH('Sheet Counter'!AI144,'Current Standards'!O:O,0),0),\"\")","v":""}]
[null,null,0,"","",{"$error":"#VALUE!"},"",{"$f":"IF(I145=\"\",\"\",LARGE(H$1:H144,1)+1)","v":{"$error":"#VALUE!"}},{"$error":"#VALUE!"},144,{"$error":"#N/A"},"",null,null,144,0,{"$f":"IF(R145=\"\",\"\",LARGE(Q$1:Q144,1)+1)","v":{"$error":"#NUM!"}},{"$error":"#NUM!"},144,{"$error":"#N/A"},"","",null,null,0,{"$error":"#VALUE!"},3999,"","",null,null,null,null,{"$error":"#VALUE!"},{"$error":"#VALUE!"},{"$f":"COUNTIF('Standards LOOKUP'!B:B,AI145)","v":0},{"$f":"IFERROR(INDEX('Standards LOOKUP'!C:C,MATCH(AI145,'Standards LOOKUP'!B:B,0),0),0)","v":0},{"$f":"IFERROR(INDEX('Current Standards'!P:P,MATCH('Sheet Counter'!AI145,'Current Standards'!O:O,0),0),\"\")","v":""}]
[null,null,0,"","",{"$error":"#VALUE!"},"",{"$f":"IF(I146=\"\",\"\",LARGE(H$1:H145,1)+1)","v":{"$error":"#VALUE!"}},{"$error":"#VALUE!"},145,{"$error":"#N/A"},"",null,null,145,0,{"$f":"IF(R146=\"\",\"\",LARGE(Q$1:Q145,1)+1)","v":{"$error":"#NUM!"}},{"$error":"#NUM!"},145,{"$error":"#N/A"},"","",null,null,0,{"$error":"#VALUE!"},3999,"","",null,null,null,null,{"$error":"#VALUE!"},{"$error":"#VALUE!"},{"$f":"COUNTIF('Standards LOOKUP'!B:B,AI146)","v":0},{"$f":"IFERROR(INDEX('Standards LOOKUP'!C:C,MATCH(AI146,'Standards LOOKUP'!B:B,0),0),0)","v":0},{"$f":"IFERROR(INDEX('Current Standards'!P:P,MATCH('Sheet Counter'!AI146,'Current Standards'!O:O,0),0),\"\")","v":""}]
[null,null,0,"","",{"$error":"#VALUE!"},"",{"$f":"IF(I147=\"\",\"\",LARGE(H$1:H146,1)+1)","v":{"$error":"#VALUE!"}},{"$error":"#VALUE!"},146,{"$error":"#N/A"},"",null,null,146,0,{"$f":"IF(R147=\"\",\"\",LARGE(Q$1:Q146,1)+1)","v":{"$error":"#NUM!"}},{"$error":"#NUM!"},146,{"$error":"#N/A"},"","",null,null,0,{"$error":"#VALUE!"},3999,"","",null,null,null,null,{"$error":"#VALUE!"},{"$error":"#VALUE!"},{"$f":"COUNTIF('Standards LOOKUP'!B:B,AI147)","v":0},{"$f":"IFERROR(INDEX('Standards LOOKUP'!C:C,MATCH(AI147,'Standards LOOKUP'!B:B,0),0),0)","v":0},{"$f":"IFERROR(INDEX('Current Standards'!P:P,MATCH('Sheet Counter'!AI147,'Current Standards'!O:O,0),0),\"\")","v":""}]
[null,null,0,"","",{"$error":"#VALUE!"},"",{"$f":"IF(I148=\"\",\"\",LARGE(H$1:H147,1)+1)","v":{"$error":"#VALUE!"}},{"$error":"#VALUE!"},147,{"$error":"#N/A"},"",null,null,147,0,{"$f":"IF(R148=\"\",\"\",LARGE(Q$1:Q147,1)+1)","v":{"$error":"#NUM!"}},{"$error":"#NUM!"},147,{"$error":"#N/A"},"","",null,null,0,{"$error":"#VALUE!"},3999,"","",null,null,null,null,{"$error":"#VALUE!"},{"$error":"#VALUE!"},{"$f":"COUNTIF('Standards LOOKUP'!B:B,AI148)","v":0},{"$f":"IFERROR(INDEX('Standards LOOKUP'!C:C,MATCH(AI148,'Standards LOOKUP'!B:B,0),0),0)","v":0},{"$f":"IFERROR(INDEX('Current Standards'!P:P,MATCH('Sheet Counter'!AI148,'Current Standards'!O:O,0),0),\"\")","v":""}]
[null,null,0,"","",{"$error":"#VALUE!"},"",{"$f":"IF(I149=\"\",\"\",LARGE(H$1:H148,1)+1)","v":{"$error":"#VALUE!"}},{"$error":"#VALUE!"},148,{"$error":"#N/A"},"",null,null,148,0,{"$f":"IF(R149=\"\",\"\",LARGE(Q$1:Q148,1)+1)","v":{"$error":"#NUM!"}},{"$error":"#NUM!"},148,{"$error":"#N/A"},"","",null,null,0,{"$error":"#VALUE!"},3999,"","",null,null,null,null,{"$error":"#VALUE!"},{"$error":"#VALUE!"},{"$f":"COUNTIF('Standards LOOKUP'!B:B,AI149)","v":0},{"$f":"IFERROR(INDEX('Standards LOOKUP'!C:C,MATCH(AI149,'Standards LOOKUP'!B:B,0),0),0)","v":0},{"$f":"IFERROR(INDEX('Current Standards'!P:P,MATCH('Sheet Counter'!AI149,'Current Standards'!O:O,0),0),\"\")","v":""}]
[null,null,0,"","",{"$error":"#VALUE!"},"",{"$f":"IF(I150=\"\",\"\",LARGE(H$1:H149,1)+1)","v":{"$error":"#VALUE!"}},{"$error":"#VALUE!"},149,{"$error":"#N/A"},"",null,null,149,0,{"$f":"IF(R150=\"\",\"\",LARGE(Q$1:Q149,1)+1)","v":{"$error":"#NUM!"}},{"$error":"#NUM!"},149,{"$error":"#N/A"},"","",null,null,0,{"$error":"#VALUE!"},3999,"","",null,null,null,null,{"$error":"#VALUE!"},{"$error":"#VALUE!"},{"$f":"COUNTIF('Standards LOOKUP'!B:B,AI150)","v":0},{"$f":"IFERROR(INDEX('Standards LOOKUP'!C:C,MATCH(AI150,'Standards LOOKUP'!B:B,0),0),0)","v":0},{"$f":"IFERROR(INDEX('Current Standards'!P:P,MATCH('Sheet Counter'!AI150,'Current Standards'!O:O,0),0),\"\")","v":""}]
[null,null,0,"","",{"$error":"#VALUE!"},"",{"$f":"IF(I151=\"\",\"\",LARGE(H$1:H150,1)+1)","v":{"$error":"#VALUE!"}},{"$error":"#VALUE!"},150,{"$error":"#N/A"},"",null,null,150,0,{"$f":"IF(R151=\"\",\"\",LARGE(Q$1:Q150,1)+1)","v":{"$error":"#NUM!"}},{"$error":"#NUM!"},150,{"$error":"#N/A"},"","",null,null,0,{"$error":"#VALUE!"},3999,"","",null,null,null,null,{"$error":"#VALUE!"},{"$error":"#VALUE!"},{"$f":"COUNTIF('Standards LOOKUP'!B:B,AI151)","v":0},{"$f":"IFERROR(INDEX('Standards LOOKUP'!C:C,MATCH(AI151,'Standards LOOKUP'!B:B,0),0),0)","v":0},{"$f":"IFERROR(INDEX('Current Standards'!P:P,MATCH('Sheet Counter'!AI151,'Current Standards'!O:O,0),0),\"\")","v":""}]
[null,null,0,"","",{"$error":"#VALUE!"},"",{"$f":"IF(I152=\"\",\"\",LARGE(H$1:H151,1)+1)","v":{"$error":"#VALUE!"}},{"$error":"#VALUE!"},151,{"$error":"#N/A"},"",null,null,151,0,{"$f":"IF(R152=\"\",\"\",LARGE(Q$1:Q151,1)+1)","v":{"$error":"#NUM!"}},{"$error":"#NUM!"},151,{"$error":"#N/A"},"","",null,null,0,{"$error":"#VALUE!"},3999,"","",null,null,null,null,{"$error":"#VALUE!"},{"$error":"#VALUE!"},{"$f":"COUNTIF('Standards LOOKUP'!B:B,AI152)","v":0},{"$f":"IFERROR(INDEX('Standards LOOKUP'!C:C,MATCH(AI152,'Standards LOOKUP'!B:B,0),0),0)","v":0},{"$f":"IFERROR(INDEX('Current Standards'!P:P,MATCH('Sheet Counter'!AI152,'Current Standards'!O:O,0),0),\"\")","v":""}]
[null,null,0,"","",{"$error":"#VALUE!"},"",{"$f":"IF(I153=\"\",\"\",LARGE(H$1:H152,1)+1)","v":{"$error":"#VALUE!"}},{"$error":"#VALUE!"},152,{"$error":"#N/A"},"",null,null,152,0,{"$f":"IF(R153=\"\",\"\",LARGE(Q$1:Q152,1)+1)","v":{"$error":"#NUM!"}},{"$error":"#NUM!"},152,{"$error":"#N/A"},"","",null,null,0,{"$error":"#VALUE!"},3999,"","",null,null,null,null,{"$error":"#VALUE!"},{"$error":"#VALUE!"},{"$f":"COUNTIF('Standards LOOKUP'!B:B,AI153)","v":0},{"$f":"IFERROR(INDEX('Standards LOOKUP'!C:C,MATCH(AI153,'Standards LOOKUP'!B:B,0),0),0)","v":0},{"$f":"IFERROR(INDEX('Current Standards'!P:P,MATCH('Sheet Counter'!AI153,'Current Standards'!O:O,0),0),\"\")","v":""}]
[null,null,0,"","",{"$error":"#VALUE!"},"",{"$f":"IF(I154=\"\",\"\",LARGE(H$1:H153,1)+1)","v":{"$error":"#VALUE!"}},{"$error":"#VALUE!"},153,{"$error":"#N/A"},"",null,null,153,0,{"$f":"IF(R154=\"\",\"\",LARGE(Q$1:Q153,1)+1)","v":{"$error":"#NUM!"}},{"$error":"#NUM!"},153,{"$error":"#N/A"},"","",null,null,0,{"$error":"#VALUE!"},3999,"","",null,null,null,null,{"$error":"#VALUE!"},{"$error":"#VALUE!"},{"$f":"COUNTIF('Standards LOOKUP'!B:B,AI154)","v":0},{"$f":"IFERROR(INDEX('Standards LOOKUP'!C:C,MATCH(AI154,'Standards LOOKUP'!B:B,0),0),0)","v":0},{"$f":"IFERROR(INDEX('Current Standards'!P:P,MATCH('Sheet Counter'!AI154,'Current Standards'!O:O,0),0),\"\")","v":""}]
[null,null,0,"","",{"$error":"#VALUE!"},"",{"$f":"IF(I155=\"\",\"\",LARGE(H$1:H154,1)+1)","v":{"$error":"#VALUE!"}},{"$error":"#VALUE!"},154,{"$error":"#N/A"},"",null,null,154,0,{"$f":"IF(R155=\"\",\"\",LARGE(Q$1:Q154,1)+1)","v":{"$error":"#NUM!"}},{"$error":"#NUM!"},154,{"$error":"#N/A"},"","",null,null,0,{"$error":"#VALUE!"},3999,"","",null,null,null,null,{"$error":"#VALUE!"},{"$error":"#VALUE!"},{"$f":"COUNTIF('Standards LOOKUP'!B:B,AI155)","v":0},{"$f":"IFERROR(INDEX('Standards LOOKUP'!C:C,MATCH(AI155,'Standards LOOKUP'!B:B,0),0),0)","v":0},{"$f":"IFERROR(INDEX('Current Standards'!P:P,MATCH('Sheet Counter'!AI155,'Current Standards'!O:O,0),0),\"\")","v":""}]
[null,null,0,"","",{"$error":"#VALUE!"},"",{"$f":"IF(I156=\"\",\"\",LARGE(H$1:H155,1)+1)","v":{"$error":"#VALUE!"}},{"$error":"#VALUE!"},155,{"$error":"#N/A"},"",null,null,155,0,{"$f":"IF(R156=\"\",\"\",LARGE(Q$1:Q155,1)+1)","v":{"$error":"#NUM!"}},{"$error":"#NUM!"},155,{"$error":"#N/A"},"","",null,null,0,{"$error":"#VALUE!"},3999,"","",null,null,null,null,{"$error":"#VALUE!"},{"$error":"#VALUE!"},{"$f":"COUNTIF('Standards LOOKUP'!B:B,AI156)","v":0},{"$f":"IFERROR(INDEX('Standards LOOKUP'!C:C,MATCH(AI156,'Standards LOOKUP'!B:B,0),0),0)","v":0},{"$f":"IFERROR(INDEX('Current Standards'!P:P,MATCH('Sheet Counter'!AI156,'Current Standards'!O:O,0),0),\"\")","v":""}]
[null,null,0,"","",{"$error":"#VALUE!"},"",{"$f":"IF(I157=\"\",\"\",LARGE(H$1:H156,1)+1)","v":{"$error":"#VALUE!"}},{"$error":"#VALUE!"},156,{"$error":"#N/A"},"",null,null,156,0,{"$f":"IF(R157=\"\",\"\",LARGE(Q$1:Q156,1)+1)","v":{"$error":"#NUM!"}},{"$error":"#NUM!"},156,{"$error":"#N/A"},"","",null,null,0,{"$error":"#VALUE!"},3999,"","",null,null,null,null,{"$error":"#VALUE!"},{"$error":"#VALUE!"},{"$f":"COUNTIF('Standards LOOKUP'!B:B,AI157)","v":0},{"$f":"IFERROR(INDEX('Standards LOOKUP'!C:C,MATCH(AI157,'Standards LOOKUP'!B:B,0),0),0)","v":0},{"$f":"IFERROR(INDEX('Current Standards'!P:P,MATCH('Sheet Counter'!AI157,'Current Standards'!O:O,0),0),\"\")","v":""}]
[null,null,0,"","",{"$error":"#VALUE!"},"",{"$f":"IF(I158=\"\",\"\",LARGE(H$1:H157,1)+1)","v":{"$error":"#VALUE!"}},{"$error":"#VALUE!"},157,{"$error":"#N/A"},"",null,null,157,0,{"$f":"IF(R158=\"\",\"\",LARGE(Q$1:Q157,1)+1)","v":{"$error":"#NUM!"}},{"$error":"#NUM!"},157,{"$error":"#N/A"},"","",null,null,0,{"$error":"#VALUE!"},3999,"","",null,null,null,null,{"$error":"#VALUE!"},{"$error":"#VALUE!"},{"$f":"COUNTIF('Standards LOOKUP'!B:B,AI158)","v":0},{"$f":"IFERROR(INDEX('Standards LOOKUP'!C:C,MATCH(AI158,'Standards LOOKUP'!B:B,0),0),0)","v":0},{"$f":"IFERROR(INDEX('Current Standards'!P:P,MATCH('Sheet Counter'!AI158,'Current Standards'!O:O,0),0),\"\")","v":""}]
[null,null,0,"","",{"$error":"#VALUE!"},"",{"$f":"IF(I159=\"\",\"\",LARGE(H$1:H158,1)+1)","v":{"$error":"#VALUE!"}},{"$error":"#VALUE!"},158,{"$error":"#N/A"},"",null,null,158,0,{"$f":"IF(R159=\"\",\"\",LARGE(Q$1:Q158,1)+1)","v":{"$error":"#NUM!"}},{"$error":"#NUM!"},158,{"$f":"VLOOKUP(S159,Q:R,2,0)","v":{"$error":"#N/A"}},"","",null,null,0,{"$error":"#VALUE!"},3999,"","",null,null,null,null,{"$error":"#VALUE!"},{"$error":"#VALUE!"},{"$f":"COUNTIF('Standards LOOKUP'!B:B,AI159)","v":0},{"$f":"IFERROR(INDEX('Standards LOOKUP'!C:C,MATCH(AI159,'Standards LOOKUP'!B:B,0),0),0)","v":0},{"$f":"IFERROR(INDEX('Current Standards'!P:P,MATCH('Sheet Counter'!AI159,'Current Standards'!O:O,0),0),\"\")","v":""}]
[null,null,0,"","",{"$error":"#VALUE!"},"",{"$f":"IF(I160=\"\",\"\",LARGE(H$1:H159,1)+1)","v":{"$error":"#VALUE!"}},{"$error":"#VALUE!"},159,{"$error":"#N/A"},"",null,null,159,0,{"$f":"IF(R160=\"\",\"\",LARGE(Q$1:Q159,1)+1)","v":{"$error":"#NUM!"}},{"$error":"#NUM!"},159,{"$error":"#N/A"},"","",null,null,0,{"$error":"#VALUE!"},3999,"","",null,null,null,null,{"$error":"#VALUE!"},{"$error":"#VALUE!"},{"$f":"COUNTIF('Standards LOOKUP'!B:B,AI160)","v":0},{"$f":"IFERROR(INDEX('Standards LOOKUP'!C:C,MATCH(AI160,'Standards LOOKUP'!B:B,0),0),0)","v":0},{"$f":"IFERROR(INDEX('Current Standards'!P:P,MATCH('Sheet Counter'!AI160,'Current Standards'!O:O,0),0),\"\")","v":""}]
[null,null,0,"","",{"$error":"#VALUE!"},"",{"$f":"IF(I161=\"\",\"\",LARGE(H$1:H160,1)+1)","v":{"$error":"#VALUE!"}},{"$error":"#VALUE!"},160,{"$error":"#N/A"},"",null,null,160,0,{"$f":"IF(R161=\"\",\"\",LARGE(Q$1:Q160,1)+1)","v":{"$error":"#NUM!"}},{"$error":"#NUM!"},160,{"$error":"#N/A"},"","",null,null,0,{"$error":"#VALUE!"},3999,"","",null,null,null,null,{"$error":"#VALUE!"},{"$error":"#VALUE!"},{"$f":"COUNTIF('Standards LOOKUP'!B:B,AI161)","v":0},{"$f":"IFERROR(INDEX('Standards LOOKUP'!C:C,MATCH(AI161,'Standards LOOKUP'!B:B,0),0),0)","v":0},{"$f":"IFERROR(INDEX('Current Standards'!P:P,MATCH('Sheet Counter'!AI161,'Current Standards'!O:O,0),0),\"\")","v":""}]
[null,null,0,"","",{"$error":"#VALUE!"},"",{"$f":"IF(I162=\"\",\"\",LARGE(H$1:H161,1)+1)","v":{"$error":"#VALUE!"}},{"$error":"#VALUE!"},161,{"$error":"#N/A"},"",null,null,161,0,{"$f":"IF(R162=\"\",\"\",LARGE(Q$1:Q161,1)+1)","v":{"$error":"#NUM!"}},{"$error":"#NUM!"},161,{"$error":"#N/A"},"","",null,null,0,{"$error":"#VALUE!"},3999,"","",null,null,null,null,{"$error":"#VALUE!"},{"$error":"#VALUE!"},{"$f":"COUNTIF('Standards LOOKUP'!B:B,AI162)","v":0},{"$f":"IFERROR(INDEX('Standards LOOKUP'!C:C,MATCH(AI162,'Standards LOOKUP'!B:B,0),0),0)","v":0},{"$f":"IFERROR(INDEX('Current Standards'!P:P,MATCH('Sheet Counter'!AI162,'Current Standards'!O:O,0),0),\"\")","v":""}]
[null,null,0,"","",{"$error":"#VALUE!"},"",{"$f":"IF(I163=\"\",\"\",LARGE(H$1:H162,1)+1)","v":{"$error":"#VALUE!"}},{"$error":"#VALUE!"},162,{"$error":"#N/A"},"",null,null,162,0,{"$f":"IF(R163=\"\",\"\",LARGE(Q$1:Q162,1)+1)","v":{"$error":"#NUM!"}},{"$error":"#NUM!"},162,{"$error":"#N/A"},"","",null,null,0,{"$error":"#VALUE!"},3999,"","",null,null,null,null,{"$error":"#VALUE!"},{"$error":"#VALUE!"},{"$f":"COUNTIF('Standards LOOKUP'!B:B,AI163)","v":0},{"$f":"IFERROR(INDEX('Standards LOOKUP'!C:C,MATCH(AI163,'Standards LOOKUP'!B:B,0),0),0)","v":0},{"$f":"IFERROR(INDEX('Current Standards'!P:P,MATCH('Sheet Counter'!AI163,'Current Standards'!O:O,0),0),\"\")","v":""}]
[null,null,0,"","",{"$error":"#VALUE!"},"",{"$f":"IF(I164=\"\",\"\",LARGE(H$1:H163,1)+1)","v":{"$error":"#VALUE!"}},{"$error":"#VALUE!"},163,{"$error":"#N/A"},"",null,null,163,0,{"$f":"IF(R164=\"\",\"\",LARGE(Q$1:Q163,1)+1)","v":{"$error":"#NUM!"}},{"$error":"#NUM!"},163,{"$error":"#N/A"},"","",null,null,0,{"$error":"#VALUE!"},3999,"","",null,null,null,null,{"$error":"#VALUE!"},{"$error":"#VALUE!"},{"$f":"COUNTIF('Standards LOOKUP'!B:B,AI164)","v":0},{"$f":"IFERROR(INDEX('Standards LOOKUP'!C:C,MATCH(AI164,'Standards LOOKUP'!B:B,0),0),0)","v":0},{"$f":"IFERROR(INDEX('Current Standards'!P:P,MATCH('Sheet Counter'!AI164,'Current Standards'!O:O,0),0),\"\")","v":""}]
[null,null,0,"","",{"$error":"#VALUE!"},"",{"$f":"IF(I165=\"\",\"\",LARGE(H$1:H164,1)+1)","v":{"$error":"#VALUE!"}},{"$error":"#VALUE!"},164,{"$error":"#N/A"},"",null,null,164,0,{"$f":"IF(R165=\"\",\"\",LARGE(Q$1:Q164,1)+1)","v":{"$error":"#NUM!"}},{"$error":"#NUM!"},164,{"$error":"#N/A"},"","",null,null,0,{"$error":"#VALUE!"},3999,"","",null,null,null,null,{"$error":"#VALUE!"},{"$error":"#VALUE!"},{"$f":"COUNTIF('Standards LOOKUP'!B:B,AI165)","v":0},{"$f":"IFERROR(INDEX('Standards LOOKUP'!C:C,MATCH(AI165,'Standards LOOKUP'!B:B,0),0),0)","v":0},{"$f":"IFERROR(INDEX('Current Standards'!P:P,MATCH('Sheet Counter'!AI165,'Current Standards'!O:O,0),0),\"\")","v":""}]
[null,null,0,"","",{"$error":"#VALUE!"},"",{"$f":"IF(I166=\"\",\"\",LARGE(H$1:H165,1)+1)","v":{"$error":"#VALUE!"}},{"$error":"#VALUE!"},165,{"$error":"#N/A"},"",null,null,165,0,{"$f":"IF(R166=\"\",\"\",LARGE(Q$1:Q165,1)+1)","v":{"$error":"#NUM!"}},{"$error":"#NUM!"},165,{"$error":"#N/A"},"","",null,null,0,{"$error":"#VALUE!"},3999,"","",null,null,null,null,{"$error":"#VALUE!"},{"$error":"#VALUE!"},{"$f":"COUNTIF('Standards LOOKUP'!B:B,AI166)","v":0},{"$f":"IFERROR(INDEX('Standards LOOKUP'!C:C,MATCH(AI166,'Standards LOOKUP'!B:B,0),0),0)","v":0},{"$f":"IFERROR(INDEX('Current Standards'!P:P,MATCH('Sheet Counter'!AI166,'Current Standards'!O:O,0),0),\"\")","v":""}]
[null,null,0,"","",{"$error":"#VALUE!"},"",{"$f":"IF(I167=\"\",\"\",LARGE(H$1:H166,1)+1)","v":{"$error":"#VALUE!"}},{"$error":"#VALUE!"},166,{"$error":"#N/A"},"",null,null,166,0,{"$f":"IF(R167=\"\",\"\",LARGE(Q$1:Q166,1)+1)","v":{"$error":"#NUM!"}},{"$error":"#NUM!"},166,{"$error":"#N/A"},"","",null,null,0,{"$error":"#VALUE!"},3999,"","",null,null,null,null,{"$error":"#VALUE!"},{"$error":"#VALUE!"},{"$f":"COUNTIF('Standards LOOKUP'!B:B,AI167)","v":0},{"$f":"IFERROR(INDEX('Standards LOOKUP'!C:C,MATCH(AI167,'Standards LOOKUP'!B:B,0),0),0)","v":0},{"$f":"IFERROR(INDEX('Current Standards'!P:P,MATCH('Sheet Counter'!AI167,'Current Standards'!O:O,0),0),\"\")","v":""}]
[null,null,0,"","",{"$error":"#VALUE!"},"",{"$f":"IF(I168=\"\",\"\",LARGE(H$1:H167,1)+1)","v":{"$error":"#VALUE!"}},{"$error":"#VALUE!"},167,{"$f":"VLOOKUP(J168,H:I,2,0)","v":{"$error":"#N/A"}},"",null,null,167,0,{"$f":"IF(R168=\"\",\"\",LARGE(Q$1:Q167,1)+1)","v":{"$error":"#NUM!"}},{"$error":"#NUM!"},167,{"$error":"#N/A"},"","",null,null,0,{"$error":"#VALUE!"},3999,"","",null,null,null,null,{"$error":"#VALUE!"},{"$error":"#VALUE!"},{"$f":"COUNTIF('Standards LOOKUP'!B:B,AI168)","v":0},{"$f":"IFERROR(INDEX('Standards LOOKUP'!C:C,MATCH(AI168,'Standards LOOKUP'!B:B,0),0),0)","v":0},{"$f":"IFERROR(INDEX('Current Standards'!P:P,MATCH('Sheet Counter'!AI168,'Current Standards'!O:O,0),0),\"\")","v":""}]
[null,null,0,"","",{"$error":"#VALUE!"},"",{"$f":"IF(I169=\"\",\"\",LARGE(H$1:H168,1)+1)","v":{"$error":"#VALUE!"}},{"$error":"#VALUE!"},168,{"$error":"#N/A"},"",null,null,168,0,{"$f":"IF(R169=\"\",\"\",LARGE(Q$1:Q168,1)+1)","v":{"$error":"#NUM!"}},{"$error":"#NUM!"},168,{"$error":"#N/A"},"","",null,null,0,{"$error":"#VALUE!"},3999,"","",null,null,null,null,{"$error":"#VALUE!"},{"$error":"#VALUE!"},{"$f":"COUNTIF('Standards LOOKUP'!B:B,AI169)","v":0},{"$f":"IFERROR(INDEX('Standards LOOKUP'!C:C,MATCH(AI169,'Standards LOOKUP'!B:B,0),0),0)","v":0},{"$f":"IFERROR(INDEX('Current Standards'!P:P,MATCH('Sheet Counter'!AI169,'Current Standards'!O:O,0),0),\"\")","v":""}]
[null,null,0,"","",{"$error":"#VALUE!"},"",{"$f":"IF(I170=\"\",\"\",LARGE(H$1:H169,1)+1)","v":{"$error":"#VALUE!"}},{"$error":"#VALUE!"},169,{"$error":"#N/A"},"",null,null,169,0,{"$f":"IF(R170=\"\",\"\",LARGE(Q$1:Q169,1)+1)","v":{"$error":"#NUM!"}},{"$error":"#NUM!"},169,{"$error":"#N/A"},"","",null,null,0,{"$error":"#VALUE!"},3999,"","",null,null,null,null,{"$error":"#VALUE!"},{"$error":"#VALUE!"},{"$f":"COUNTIF('Standards LOOKUP'!B:B,AI170)","v":0},{"$f":"IFERROR(INDEX('Standards LOOKUP'!C:C,MATCH(AI170,'Standards LOOKUP'!B:B,0),0),0)","v":0},{"$f":"IFERROR(INDEX('Current Standards'!P:P,MATCH('Sheet Counter'!AI170,'Current Standards'!O:O,0),0),\"\")","v":""}]
[null,null,0,"","",{"$error":"#VALUE!"},"",{"$f":"IF(I171=\"\",\"\",LARGE(H$1:H170,1)+1)","v":{"$error":"#VALUE!"}},{"$error":"#VALUE!"},170,{"$error":"#N/A"},"",null,null,170,0,{"$f":"IF(R171=\"\",\"\",LARGE(Q$1:Q170,1)+1)","v":{"$error":"#NUM!"}},{"$error":"#NUM!"},170,{"$error":"#N/A"},"","",null,null,0,{"$error":"#VALUE!"},3999,"","",null,null,null,null,{"$error":"#VALUE!"},{"$error":"#VALUE!"},{"$f":"COUNTIF('Standards LOOKUP'!B:B,AI171)","v":0},{"$f":"IFERROR(INDEX('Standards LOOKUP'!C:C,MATCH(AI171,'Standards LOOKUP'!B:B,0),0),0)","v":0},{"$f":"IFERROR(INDEX('Current Standards'!P:P,MATCH('Sheet Counter'!AI171,'Current Standards'!O:O,0),0),\"\")","v":""}]
[null,null,0,"","",{"$error":"#VALUE!"},"",{"$f":"IF(I172=\"\",\"\",LARGE(H$1:H171,1)+1)","v":{"$error":"#VALUE!"}},{"$error":"#VALUE!"},171,{"$error":"#N/A"},"",null,null,171,0,{"$f":"IF(R172=\"\",\"\",LARGE(Q$1:Q171,1)+1)","v":{"$error":"#NUM!"}},{"$error":"#NUM!"},171,{"$error":"#N/A"},"","",null,null,0,{"$error":"#VALUE!"},3999,"","",null,null,null,null,{"$error":"#VALUE!"},{"$error":"#VALUE!"},{"$f":"COUNTIF('Standards LOOKUP'!B:B,AI172)","v":0},{"$f":"IFERROR(INDEX('Standards LOOKUP'!C:C,MATCH(AI172,'Standards LOOKUP'!B:B,0),0),0)","v":0},{"$f":"IFERROR(INDEX('Current Standards'!P:P,MATCH('Sheet Counter'!AI172,'Current Standards'!O:O,0),0),\"\")","v":""}]
[null,null,0,"","",{"$error":"#VALUE!"},"",{"$f":"IF(I173=\"\",\"\",LARGE(H$1:H172,1)+1)","v":{"$error":"#VALUE!"}},{"$error":"#VALUE!"},172,{"$error":"#N/A"},"",null,null,172,0,{"$f":"IF(R173=\"\",\"\",LARGE(Q$1:Q172,1)+1)","v":{"$error":"#NUM!"}},{"$error":"#NUM!"},172,{"$error":"#N/A"},"","",null,null,0,{"$error":"#VALUE!"},3999,"","",null,null,null,null,{"$error":"#VALUE!"},{"$error":"#VALUE!"},{"$f":"COUNTIF('Standards LOOKUP'!B:B,AI173)","v":0},{"$f":"IFERROR(INDEX('Standards LOOKUP'!C:C,MATCH(AI173,'Standards LOOKUP'!B:B,0),0),0)","v":0},{"$f":"IFERROR(INDEX('Current Standards'!P:P,MATCH('Sheet Counter'!AI173,'Current Standards'!O:O,0),0),\"\")","v":""}]
[null,null,0,"","",{"$error":"#VALUE!"},"",{"$f":"IF(I174=\"\",\"\",LARGE(H$1:H173,1)+1)","v":{"$error":"#VALUE!"}},{"$error":"#VALUE!"},173,{"$error":"#N/A"},"",null,null,173,0,{"$f":"IF(R174=\"\",\"\",LARGE(Q$1:Q173,1)+1)","v":{"$error":"#NUM!"}},{"$error":"#NUM!"},173,{"$error":"#N/A"},"","",null,null,0,{"$error":"#VALUE!"},3999,"","",null,null,null,null,{"$error":"#VALUE!"},{"$error":"#VALUE!"},{"$f":"COUNTIF('Standards LOOKUP'!B:B,AI174)","v":0},{"$f":"IFERROR(INDEX('Standards LOOKUP'!C:C,MATCH(AI174,'Standards LOOKUP'!B:B,0),0),0)","v":0},{"$f":"IFERROR(INDEX('Current Standards'!P:P,MATCH('Sheet Counter'!AI174,'Current Standards'!O:O,0),0),\"\")","v":""}]
[null,null,0,"","",{"$error":"#VALUE!"},"",{"$f":"IF(I175=\"\",\"\",LARGE(H$1:H174,1)+1)","v":{"$error":"#VALUE!"}},{"$error":"#VALUE!"},174,{"$error":"#N/A"},"",null,null,174,0,{"$f":"IF(R175=\"\",\"\",LARGE(Q$1:Q174,1)+1)","v":{"$error":"#NUM!"}},{"$error":"#NUM!"},174,{"$error":"#N/A"},"","",null,null,0,{"$error":"#VALUE!"},3999,"","",null,null,null,null,{"$error":"#VALUE!"},{"$error":"#VALUE!"},{"$f":"COUNTIF('Standards LOOKUP'!B:B,AI175)","v":0},{"$f":"IFERROR(INDEX('Standards LOOKUP'!C:C,MATCH(AI175,'Standards LOOKUP'!B:B,0),0),0)","v":0},{"$f":"IFERROR(INDEX('Current Standards'!P:P,MATCH('Sheet Counter'!AI175,'Current Standards'!O:O,0),0),\"\")","v":""}]
[null,null,0,"","",{"$error":"#VALUE!"},"",{"$f":"IF(I176=\"\",\"\",LARGE(H$1:H175,1)+1)","v":{"$error":"#VALUE!"}},{"$error":"#VALUE!"},175,{"$error":"#N/A"},"",null,null,175,0,{"$f":"IF(R176=\"\",\"\",LARGE(Q$1:Q175,1)+1)","v":{"$error":"#NUM!"}},{"$error":"#NUM!"},175,{"$error":"#N/A"},"","",null,null,0,{"$error":"#VALUE!"},3999,"","",null,null,null,null,{"$error":"#VALUE!"},{"$error":"#VALUE!"},{"$f":"COUNTIF('Standards LOOKUP'!B:B,AI176)","v":0},{"$f":"IFERROR(INDEX('Standards LOOKUP'!C:C,MATCH(AI176,'Standards LOOKUP'!B:B,0),0),0)","v":0},{"$f":"IFERROR(INDEX('Current Standards'!P:P,MATCH('Sheet Counter'!AI176,'Current Standards'!O:O,0),0),\"\")","v":""}]
[null,null,0,"","",{"$error":"#VALUE!"},"",{"$f":"IF(I177=\"\",\"\",LARGE(H$1:H176,1)+1)","v":{"$error":"#VALUE!"}},{"$error":"#VALUE!"},176,{"$error":"#N/A"},"",null,null,176,0,{"$f":"IF(R177=\"\",\"\",LARGE(Q$1:Q176,1)+1)","v":{"$error":"#NUM!"}},{"$error":"#NUM!"},176,{"$error":"#N/A"},"","",null,null,0,{"$error":"#VALUE!"},3999,"","",null,null,null,null,{"$error":"#VALUE!"},{"$error":"#VALUE!"},{"$f":"COUNTIF('Standards LOOKUP'!B:B,AI177)","v":0},{"$f":"IFERROR(INDEX('Standards LOOKUP'!C:C,MATCH(AI177,'Standards LOOKUP'!B:B,0),0),0)","v":0},{"$f":"IFERROR(INDEX('Current Standards'!P:P,MATCH('Sheet Counter'!AI177,'Current Standards'!O:O,0),0),\"\")","v":""}]
[null,null,0,"","",{"$error":"#VALUE!"},"",{"$f":"IF(I178=\"\",\"\",LARGE(H$1:H177,1)+1)","v":{"$error":"#VALUE!"}},{"$error":"#VALUE!"},177,{"$error":"#N/A"},"",null,null,177,0,{"$f":"IF(R178=\"\",\"\",LARGE(Q$1:Q177,1)+1)","v":{"$error":"#NUM!"}},{"$error":"#NUM!"},177,{"$error":"#N/A"},"","",null,null,0,{"$error":"#VALUE!"},3999,"","",null,null,null,null,{"$error":"#VALUE!"},{"$error":"#VALUE!"},{"$f":"COUNTIF('Standards LOOKUP'!B:B,AI178)","v":0},{"$f":"IFERROR(INDEX('Standards LOOKUP'!C:C,MATCH(AI178,'Standards LOOKUP'!B:B,0),0),0)","v":0},{"$f":"IFERROR(INDEX('Current Standards'!P:P,MATCH('Sheet Counter'!AI178,'Current Standards'!O:O,0),0),\"\")","v":""}]
[null,null,0,"","",{"$error":"#VALUE!"},"",{"$f":"IF(I179=\"\",\"\",LARGE(H$1:H178,1)+1)","v":{"$error":"#VALUE!"}},{"$error":"#VALUE!"},178,{"$error":"#N/A"},"",null,null,178,0,{"$f":"IF(R179=\"\",\"\",LARGE(Q$1:Q178,1)+1)","v":{"$error":"#NUM!"}},{"$error":"#NUM!"},178,{"$error":"#N/A"},"","",null,null,0,{"$error":"#VALUE!"},3999,"","",null,null,null,null,{"$error":"#VALUE!"},{"$error":"#VALUE!"},{"$f":"COUNTIF('Standards LOOKUP'!B:B,AI179)","v":0},{"$f":"IFERROR(INDEX('Standards LOOKUP'!C:C,MATCH(AI179,'Standards LOOKUP'!B:B,0),0),0)","v":0},{"$f":"IFERROR(INDEX('Current Standards'!P:P,MATCH('Sheet Counter'!AI179,'Current Standards'!O:O,0),0),\"\")","v":""}]
[null,null,0,"","",{"$error":"#VALUE!"},"",{"$f":"IF(I180=\"\",\"\",LARGE(H$1:H179,1)+1)","v":{"$error":"#VALUE!"}},{"$error":"#VALUE!"},179,{"$error":"#N/A"},"",null,null,179,0,{"$f":"IF(R180=\"\",\"\",LARGE(Q$1:Q179,1)+1)","v":{"$error":"#NUM!"}},{"$error":"#NUM!"},179,{"$error":"#N/A"},"","",null,null,0,{"$error":"#VALUE!"},3999,"","",null,null,null,null,{"$error":"#VALUE!"},{"$error":"#VALUE!"},{"$f":"COUNTIF('Standards LOOKUP'!B:B,AI180)","v":0},{"$f":"IFERROR(INDEX('Standards LOOKUP'!C:C,MATCH(AI180,'Standards LOOKUP'!B:B,0),0),0)","v":0},{"$f":"IFERROR(INDEX('Current Standards'!P:P,MATCH('Sheet Counter'!AI180,'Current Standards'!O:O,0),0),\"\")","v":""}]
[null,null,0,"","",{"$error":"#VALUE!"},"",{"$f":"IF(I181=\"\",\"\",LARGE(H$1:H180,1)+1)","v":{"$error":"#VALUE!"}},{"$error":"#VALUE!"},180,{"$error":"#N/A"},"",null,null,180,0,{"$f":"IF(R181=\"\",\"\",LARGE(Q$1:Q180,1)+1)","v":{"$error":"#NUM!"}},{"$error":"#NUM!"},180,{"$error":"#N/A"},"","",null,null,0,{"$error":"#VALUE!"},3999,"","",null,null,null,null,{"$error":"#VALUE!"},{"$error":"#VALUE!"},{"$f":"COUNTIF('Standards LOOKUP'!B:B,AI181)","v":0},{"$f":"IFERROR(INDEX('Standards LOOKUP'!C:C,MATCH(AI181,'Standards LOOKUP'!B:B,0),0),0)","v":0},{"$f":"IFERROR(INDEX('Current Standards'!P:P,MATCH('Sheet Counter'!AI181,'Current Standards'!O:O,0),0),\"\")","v":""}]
[null,null,0,"","",{"$error":"#VALUE!"},"",{"$f":"IF(I182=\"\",\"\",LARGE(H$1:H181,1)+1)","v":{"$error":"#VALUE!"}},{"$error":"#VALUE!"},181,{"$error":"#N/A"},"",null,null,181,0,{"$f":"IF(R182=\"\",\"\",LARGE(Q$1:Q181,1)+1)","v":{"$error":"#NUM!"}},{"$error":"#NUM!"},181,{"$error":"#N/A"},"","",null,null,0,{"$error":"#VALUE!"},3999,"","",null,null,null,null,{"$error":"#VALUE!"},{"$error":"#VALUE!"},{"$f":"COUNTIF('Standards LOOKUP'!B:B,AI182)","v":0},{"$f":"IFERROR(INDEX('Standards LOOKUP'!C:C,MATCH(AI182,'Standards LOOKUP'!B:B,0),0),0)","v":0},{"$f":"IFERROR(INDEX('Current Standards'!P:P,MATCH('Sheet Counter'!AI182,'Current Standards'!O:O,0),0),\"\")","v":""}]
[null,null,0,"","",{"$error":"#VALUE!"},"",{"$f":"IF(I183=\"\",\"\",LARGE(H$1:H182,1)+1)","v":{"$error":"#VALUE!"}},{"$error":"#VALUE!"},182,{"$error":"#N/A"},"",null,null,182,0,{"$f":"IF(R183=\"\",\"\",LARGE(Q$1:Q182,1)+1)","v":{"$error":"#NUM!"}},{"$error":"#NUM!"},182,{"$error":"#N/A"},"","",null,null,0,{"$error":"#VALUE!"},3999,"","",null,null,null,null,{"$error":"#VALUE!"},{"$error":"#VALUE!"},{"$f":"COUNTIF('Standards LOOKUP'!B:B,AI183)","v":0},{"$f":"IFERROR(INDEX('Standards LOOKUP'!C:C,MATCH(AI183,'Standards LOOKUP'!B:B,0),0),0)","v":0},{"$f":"IFERROR(INDEX('Current Standards'!P:P,MATCH('Sheet Counter'!AI183,'Current Standards'!O:O,0),0),\"\")","v":""}]
[null,null,0,"","",{"$error":"#VALUE!"},"",{"$f":"IF(I184=\"\",\"\",LARGE(H$1:H183,1)+1)","v":{"$error":"#VALUE!"}},{"$error":"#VALUE!"},183,{"$error":"#N/A"},"",null,null,183,0,{"$f":"IF(R184=\"\",\"\",LARGE(Q$1:Q183,1)+1)","v":{"$error":"#NUM!"}},{"$error":"#NUM!"},183,{"$error":"#N/A"},"","",null,null,0,{"$error":"#VALUE!"},3999,"","",null,null,null,null,{"$error":"#VALUE!"},{"$error":"#VALUE!"},{"$f":"COUNTIF('Standards LOOKUP'!B:B,AI184)","v":0},{"$f":"IFERROR(INDEX('Standards LOOKUP'!C:C,MATCH(AI184,'Standards LOOKUP'!B:B,0),0),0)","v":0},{"$f":"IFERROR(INDEX('Current Standards'!P:P,MATCH('Sheet Counter'!AI184,'Current Standards'!O:O,0),0),\"\")","v":""}]
[null,null,0,"","",{"$error":"#VALUE!"},"",{"$f":"IF(I185=\"\",\"\",LARGE(H$1:H184,1)+1)","v":{"$error":"#VALUE!"}},{"$error":"#VALUE!"},184,{"$error":"#N/A"},"",null,null,184,0,{"$f":"IF(R185=\"\",\"\",LARGE(Q$1:Q184,1)+1)","v":{"$error":"#NUM!"}},{"$error":"#NUM!"},184,{"$error":"#N/A"},"","",null,null,0,{"$error":"#VALUE!"},3999,"","",null,null,null,null,{"$error":"#VALUE!"},{"$error":"#VALUE!"},{"$f":"COUNTIF('Standards LOOKUP'!B:B,AI185)","v":0},{"$f":"IFERROR(INDEX('Standards LOOKUP'!C:C,MATCH(AI185,'Standards LOOKUP'!B:B,0),0),0)","v":0},{"$f":"IFERROR(INDEX('Current Standards'!P:P,MATCH('Sheet Counter'!AI185,'Current Standards'!O:O,0),0),\"\")","v":""}]
[null,null,0,"","",{"$error":"#VALUE!"},"",{"$f":"IF(I186=\"\",\"\",LARGE(H$1:H185,1)+1)","v":{"$error":"#VALUE!"}},{"$error":"#VALUE!"},185,{"$error":"#N/A"},"",null,null,185,0,{"$f":"IF(R186=\"\",\"\",LARGE(Q$1:Q185,1)+1)","v":{"$error":"#NUM!"}},{"$error":"#NUM!"},185,{"$error":"#N/A"},"","",null,null,0,{"$error":"#VALUE!"},3999,"","",null,null,null,null,{"$error":"#VALUE!"},{"$error":"#VALUE!"},{"$f":"COUNTIF('Standards LOOKUP'!B:B,AI186)","v":0},{"$f":"IFERROR(INDEX('Standards LOOKUP'!C:C,MATCH(AI186,'Standards LOOKUP'!B:B,0),0),0)","v":0},{"$f":"IFERROR(INDEX('Current Standards'!P:P,MATCH('Sheet Counter'!AI186,'Current Standards'!O:O,0),0),\"\")","v":""}]
[null,null,0,"","",{"$error":"#VALUE!"},"",{"$f":"IF(I187=\"\",\"\",LARGE(H$1:H186,1)+1)","v":{"$error":"#VALUE!"}},{"$error":"#VALUE!"},186,{"$error":"#N/A"},"",null,null,186,0,{"$f":"IF(R187=\"\",\"\",LARGE(Q$1:Q186,1)+1)","v":{"$error":"#NUM!"}},{"$error":"#NUM!"},186,{"$error":"#N/A"},"","",null,null,0,{"$error":"#VALUE!"},3999,"","",null,null,null,null,{"$error":"#VALUE!"},{"$error":"#VALUE!"},{"$f":"COUNTIF('Standards LOOKUP'!B:B,AI187)","v":0},{"$f":"IFERROR(INDEX('Standards LOOKUP'!C:C,MATCH(AI187,'Standards LOOKUP'!B:B,0),0),0)","v":0},{"$f":"IFERROR(INDEX('Current Standards'!P:P,MATCH('Sheet Counter'!AI187,'Current Standards'!O:O,0),0),\"\")","v":""}]
[null,null,0,"","",{"$error":"#VALUE!"},"",{"$f":"IF(I188=\"\",\"\",LARGE(H$1:H187,1)+1)","v":{"$error":"#VALUE!"}},{"$error":"#VALUE!"},187,{"$error":"#N/A"},"",null,null,187,0,{"$f":"IF(R188=\"\",\"\",LARGE(Q$1:Q187,1)+1)","v":{"$error":"#NUM!"}},{"$error":"#NUM!"},187,{"$error":"#N/A"},"","",null,null,0,{"$error":"#VALUE!"},3999,"","",null,null,null,null,{"$error":"#VALUE!"},{"$error":"#VALUE!"},{"$f":"COUNTIF('Standards LOOKUP'!B:B,AI188)","v":0},{"$f":"IFERROR(INDEX('Standards LOOKUP'!C:C,MATCH(AI188,'Standards LOOKUP'!B:B,0),0),0)","v":0},{"$f":"IFERROR(INDEX('Current Standards'!P:P,MATCH('Sheet Counter'!AI188,'Current Standards'!O:O,0),0),\"\")","v":""}]
[null,null,0,"","",{"$error":"#VALUE!"},"",{"$f":"IF(I189=\"\",\"\",LARGE(H$1:H188,1)+1)","v":{"$error":"#VALUE!"}},{"$error":"#VALUE!"},188,{"$error":"#N/A"},"",null,null,188,0,{"$f":"IF(R189=\"\",\"\",LARGE(Q$1:Q188,1)+1)","v":{"$error":"#NUM!"}},{"$error":"#NUM!"},188,{"$error":"#N/A"},"","",null,null,0,{"$error":"#VALUE!"},3999,"","",null,null,null,null,{"$error":"#VALUE!"},{"$error":"#VALUE!"},{"$f":"COUNTIF('Standards LOOKUP'!B:B,AI189)","v":0},{"$f":"IFERROR(INDEX('Standards LOOKUP'!C:C,MATCH(AI189,'Standards LOOKUP'!B:B,0),0),0)","v":0},{"$f":"IFERROR(INDEX('Current Standards'!P:P,MATCH('Sheet Counter'!AI189,'Current Standards'!O:O,0),0),\"\")","v":""}]
[null,null,0,"","",{"$error":"#VALUE!"},"",{"$f":"IF(I190=\"\",\"\",LARGE(H$1:H189,1)+1)","v":{"$error":"#VALUE!"}},{"$error":"#VALUE!"},189,{"$error":"#N/A"},"",null,null,189,0,{"$f":"IF(R190=\"\",\"\",LARGE(Q$1:Q189,1)+1)","v":{"$error":"#NUM!"}},{"$error":"#NUM!"},189,{"$error":"#N/A"},"","",null,null,0,{"$error":"#VALUE!"},3999,"","",null,null,null,null,{"$error":"#VALUE!"},{"$error":"#VALUE!"},{"$f":"COUNTIF('Standards LOOKUP'!B:B,AI190)","v":0},{"$f":"IFERROR(INDEX('Standards LOOKUP'!C:C,MATCH(AI190,'Standards LOOKUP'!B:B,0),0),0)","v":0},{"$f":"IFERROR(INDEX('Current Standards'!P:P,MATCH('Sheet Counter'!AI190,'Current Standards'!O:O,0),0),\"\")","v":""}]
[null,null,0,"","",{"$error":"#VALUE!"},"",{"$f":"IF(I191=\"\",\"\",LARGE(H$1:H190,1)+1)","v":{"$error":"#VALUE!"}},{"$error":"#VALUE!"},190,{"$error":"#N/A"},"",null,null,190,0,{"$f":"IF(R191=\"\",\"\",LARGE(Q$1:Q190,1)+1)","v":{"$error":"#NUM!"}},{"$error":"#NUM!"},190,{"$error":"#N/A"},"","",null,null,0,{"$error":"#VALUE!"},3999,"","",null,null,null,null,{"$error":"#VALUE!"},{"$error":"#VALUE!"},{"$f":"COUNTIF('Standards LOOKUP'!B:B,AI191)","v":0},{"$f":"IFERROR(INDEX('Standards LOOKUP'!C:C,MATCH(AI191,'Standards LOOKUP'!B:B,0),0),0)","v":0},{"$f":"IFERROR(INDEX('Current Standards'!P:P,MATCH('Sheet Counter'!AI191,'Current Standards'!O:O,0),0),\"\")","v":""}]
[null,null,0,"","",{"$error":"#VALUE!"},"",{"$f":"IF(I192=\"\",\"\",LARGE(H$1:H191,1)+1)","v":{"$error":"#VALUE!"}},{"$error":"#VALUE!"},191,{"$error":"#N/A"},"",null,null,191,0,{"$f":"IF(R192=\"\",\"\",LARGE(Q$1:Q191,1)+1)","v":{"$error":"#NUM!"}},{"$error":"#NUM!"},191,{"$error":"#N/A"},"","",null,null,0,{"$error":"#VALUE!"},3999,"","",null,null,null,null,{"$error":"#VALUE!"},{"$error":"#VALUE!"},{"$f":"COUNTIF('Standards LOOKUP'!B:B,AI192)","v":0},{"$f":"IFERROR(INDEX('Standards LOOKUP'!C:C,MATCH(AI192,'Standards LOOKUP'!B:B,0),0),0)","v":0},{"$f":"IFERROR(INDEX('Current Standards'!P:P,MATCH('Sheet Counter'!AI192,'Current Standards'!O:O,0),0),\"\")","v":""}]
[null,null,0,"","",{"$error":"#VALUE!"},"",{"$f":"IF(I193=\"\",\"\",LARGE(H$1:H192,1)+1)","v":{"$error":"#VALUE!"}},{"$error":"#VALUE!"},192,{"$error":"#N/A"},"",null,null,192,0,{"$f":"IF(R193=\"\",\"\",LARGE(Q$1:Q192,1)+1)","v":{"$error":"#NUM!"}},{"$error":"#NUM!"},192,{"$error":"#N/A"},"","",null,null,0,{"$error":"#VALUE!"},3999,"","",null,null,null,null,{"$error":"#VALUE!"},{"$error":"#VALUE!"},{"$f":"COUNTIF('Standards LOOKUP'!B:B,AI193)","v":0},{"$f":"IFERROR(INDEX('Standards LOOKUP'!C:C,MATCH(AI193,'Standards LOOKUP'!B:B,0),0),0)","v":0},{"$f":"IFERROR(INDEX('Current Standards'!P:P,MATCH('Sheet Counter'!AI193,'Current Standards'!O:O,0),0),\"\")","v":""}]
[null,null,0,"","",{"$error":"#VALUE!"},"",{"$f":"IF(I194=\"\",\"\",LARGE(H$1:H193,1)+1)","v":{"$error":"#VALUE!"}},{"$f":"IF(G194=\"\",F194,\"\")","v":{"$error":"#VALUE!"}},193,{"$error":"#N/A"},"",null,null,193,{"$f":"COUNTIF(G:G,O194)","v":0},{"$f":"IF(R194=\"\",\"\",LARGE(Q$1:Q193,1)+1)","v":{"$error":"#NUM!"}},{"$error":"#NUM!"},193,{"$error":"#N/A"},"","",null,null,0,{"$error":"#VALUE!"},3999,"","",null,null,null,null,{"$error":"#VALUE!"},{"$error":"#VALUE!"},{"$f":"COUNTIF('Standards LOOKUP'!B:B,AI194)","v":0},{"$f":"IFERROR(INDEX('Standards LOOKUP'!C:C,MATCH(AI194,'Standards LOOKUP'!B:B,0),0),0)","v":0},{"$f":"IFERROR(INDEX('Current Standards'!P:P,MATCH('Sheet Counter'!AI194,'Current Standards'!O:O,0),0),\"\")","v":""}]
[null,null,{"$f":"IF(ISERROR(FIND(\"\\\",A195)),A195,RIGHT(A195,LEN(A195)-FIND(\"~\",SUBSTITUTE(A195,\"\\\",\"~\",LEN(A195)-LEN(SUBSTITUTE(A195,\"\\\",\"\"))))))","v":0},{"$f":"IF(AL195=\"\",\"\",AL195)","v":""},"",{"$f":"LEFT(C195,FIND(\"-\",SUBSTITUTE(SUBSTITUTE(C195,\"_\",\"-\"),\" \",\"-\"))-1)","v":{"$error":"#VALUE!"}},{"$f":"IF(ISNUMBER(F195*1),F195*1,\"\")","v":""},{"$f":"IF(I195=\"\",\"\",LARGE(H$1:H194,1)+1)","v":{"$error":"#VALUE!"}},{"$error":"#VALUE!"},194,{"$error":"#N/A"},{"$f":"IF(ISERROR(K195),\"\",K195)","v":""},null,null,194,0,{"$f":"IF(R195=\"\",\"\",LARGE(Q$1:Q194,1)+1)","v":{"$error":"#NUM!"}},{"$error":"#NUM!"},194,{"$error":"#N/A"},{"$f":"IF(ISERROR(T195),\"\",T195)","v":""},{"$f":"IF(U195=\"\",\"\",VLOOKUP(U195,O:P,2,0))","v":""},null,null,{"$f":"IF(ISERROR(FIND(\"\\\",X195)),X195,RIGHT(X195,LEN(X195)-FIND(\"~\",SUBSTITUTE(X195,\"\\\",\"~\",LEN(X195)-LEN(SUBSTITUTE(X195,\"\\\",\"\"))))))","v":0},{"$f":"LEFT(Y195,FIND(\"-\",SUBSTITUTE(SUBSTITUTE(Y195,\"_\",\"-\"),\" \",\"-\"))-1)","v":{"$error":"#VALUE!"}},{"$f":"COUNTIF(F:F,Z195)","v":3999},{"$f":"IF(OR(AA195<1,ISERROR(Z195)),\"\",INDEX(C:C,MATCH(Z195,F:F)))","v":""},{"$f":"IF(AA195=0,\"New Sheet\",IF(EXACT(UPPER(Y195),UPPER(AB195)),\"Match\",\"\"))","v":""},null,null,null,null,{"$f":"IF(C195=\"\",\"\",LEFT(RIGHT(C195,LEN(C195)-SEARCH(\" \",C195,1)),LEN(RIGHT(C195,LEN(C195)-SEARCH(\" \",C195,1)))-4))","v":{"$error":"#VALUE!"}},{"$f":"TRIM(SUBSTITUTE(SUBSTITUTE(SUBSTITUTE(SUBSTITUTE(SUBSTITUTE(SUBSTITUTE(AH195,\"(\",\"\"),\")\",\"\"),\"-\",\"\"),\"&\",\"\"),\" \",\"\",1),\" \",\"\",1))","v":{"$error":"#VALUE!"}},{"$f":"COUNTIF('Standards LOOKUP'!B:B,AI195)","v":0},{"$f":"IFERROR(INDEX('Standards LOOKUP'!C:C,MATCH(AI195,'Standards LOOKUP'!B:B,0),0),0)","v":0},{"$f":"IFERROR(INDEX('Current Standards'!P:P,MATCH('Sheet Counter'!AI195,'Current Standards'!O:O,0),0),\"\")","v":""}]
[null,null,0,"","",{"$error":"#VALUE!"},"",{"$f":"IF(I196=\"\",\"\",LARGE(H$1:H195,1)+1)","v":{"$error":"#VALUE!"}},{"$error":"#VALUE!"},195,{"$error":"#N/A"},"",null,null,195,0,{"$f":"IF(R196=\"\",\"\",LARGE(Q$1:Q195,1)+1)","v":{"$error":"#NUM!"}},{"$f":"IF(AND(P196<>1,O196<=LARGE(G:G,1),O196>=SMALL(G:G,1)),O196,\"\")","v":{"$error":"#NUM!"}},195,{"$error":"#N/A"},"","",null,null,0,{"$error":"#VALUE!"},3999,"","",null,null,null,null,{"$error":"#VALUE!"},{"$error":"#VALUE!"},{"$f":"COUNTIF('Standards LOOKUP'!B:B,AI196)","v":0},{"$f":"IFERROR(INDEX('Standards LOOKUP'!C:C,MATCH(AI196,'Standards LOOKUP'!B:B,0),0),0)","v":0},{"$f":"IFERROR(INDEX('Current Standards'!P:P,MATCH('Sheet Counter'!AI196,'Current Standards'!O:O,0),0),\"\")","v":""}]
[null,null,0,"","",{"$error":"#VALUE!"},"",{"$f":"IF(I197=\"\",\"\",LARGE(H$1:H196,1)+1)","v":{"$error":"#VALUE!"}},{"$error":"#VALUE!"},196,{"$error":"#N/A"},"",null,null,196,0,{"$f":"IF(R197=\"\",\"\",LARGE(Q$1:Q196,1)+1)","v":{"$error":"#NUM!"}},{"$error":"#NUM!"},196,{"$error":"#N/A"},"","",null,null,0,{"$error":"#VALUE!"},3999,"","",null,null,null,null,{"$error":"#VALUE!"},{"$error":"#VALUE!"},{"$f":"COUNTIF('Standards LOOKUP'!B:B,AI197)","v":0},{"$f":"IFERROR(INDEX('Standards LOOKUP'!C:C,MATCH(AI197,'Standards LOOKUP'!B:B,0),0),0)","v":0},{"$f":"IFERROR(INDEX('Current Standards'!P:P,MATCH('Sheet Counter'!AI197,'Current Standards'!O:O,0),0),\"\")","v":""}]
[null,null,0,"","",{"$error":"#VALUE!"},"",{"$f":"IF(I198=\"\",\"\",LARGE(H$1:H197,1)+1)","v":{"$error":"#VALUE!"}},{"$error":"#VALUE!"},197,{"$error":"#N/A"},"",null,null,197,0,{"$f":"IF(R198=\"\",\"\",LARGE(Q$1:Q197,1)+1)","v":{"$error":"#NUM!"}},{"$error":"#NUM!"},197,{"$error":"#N/A"},"","",null,null,0,{"$error":"#VALUE!"},3999,"","",null,null,null,null,{"$error":"#VALUE!"},{"$error":"#VALUE!"},{"$f":"COUNTIF('Standards LOOKUP'!B:B,AI198)","v":0},{"$f":"IFERROR(INDEX('Standards LOOKUP'!C:C,MATCH(AI198,'Standards LOOKUP'!B:B,0),0),0)","v":0},{"$f":"IFERROR(INDEX('Current Standards'!P:P,MATCH('Sheet Counter'!AI198,'Current Standards'!O:O,0),0),\"\")","v":""}]
[null,null,0,"","",{"$error":"#VALUE!"},"",{"$f":"IF(I199=\"\",\"\",LARGE(H$1:H198,1)+1)","v":{"$error":"#VALUE!"}},{"$error":"#VALUE!"},198,{"$error":"#N/A"},"",null,null,198,0,{"$f":"IF(R199=\"\",\"\",LARGE(Q$1:Q198,1)+1)","v":{"$error":"#NUM!"}},{"$error":"#NUM!"},198,{"$error":"#N/A"},"","",null,null,0,{"$error":"#VALUE!"},3999,"","",null,null,null,null,{"$error":"#VALUE!"},{"$error":"#VALUE!"},{"$f":"COUNTIF('Standards LOOKUP'!B:B,AI199)","v":0},{"$f":"IFERROR(INDEX('Standards LOOKUP'!C:C,MATCH(AI199,'Standards LOOKUP'!B:B,0),0),0)","v":0},{"$f":"IFERROR(INDEX('Current Standards'!P:P,MATCH('Sheet Counter'!AI199,'Current Standards'!O:O,0),0),\"\")","v":""}]
[null,null,0,"","",{"$error":"#VALUE!"},"",{"$f":"IF(I200=\"\",\"\",LARGE(H$1:H199,1)+1)","v":{"$error":"#VALUE!"}},{"$error":"#VALUE!"},199,{"$error":"#N/A"},"",null,null,199,0,{"$f":"IF(R200=\"\",\"\",LARGE(Q$1:Q199,1)+1)","v":{"$error":"#NUM!"}},{"$error":"#NUM!"},199,{"$error":"#N/A"},"","",null,null,0,{"$error":"#VALUE!"},3999,"","",null,null,null,null,{"$error":"#VALUE!"},{"$error":"#VALUE!"},{"$f":"COUNTIF('Standards LOOKUP'!B:B,AI200)","v":0},{"$f":"IFERROR(INDEX('Standards LOOKUP'!C:C,MATCH(AI200,'Standards LOOKUP'!B:B,0),0),0)","v":0},{"$f":"IFERROR(INDEX('Current Standards'!P:P,MATCH('Sheet Counter'!AI200,'Current Standards'!O:O,0),0),\"\")","v":""}]
[null,null,0,"","",{"$error":"#VALUE!"},"",{"$f":"IF(I201=\"\",\"\",LARGE(H$1:H200,1)+1)","v":{"$error":"#VALUE!"}},{"$error":"#VALUE!"},200,{"$error":"#N/A"},"",null,null,200,0,{"$f":"IF(R201=\"\",\"\",LARGE(Q$1:Q200,1)+1)","v":{"$error":"#NUM!"}},{"$error":"#NUM!"},200,{"$error":"#N/A"},"","",null,null,0,{"$error":"#VALUE!"},3999,"","",null,null,null,null,{"$error":"#VALUE!"},{"$error":"#VALUE!"},{"$f":"COUNTIF('Standards LOOKUP'!B:B,AI201)","v":0},{"$f":"IFERROR(INDEX('Standards LOOKUP'!C:C,MATCH(AI201,'Standards LOOKUP'!B:B,0),0),0)","v":0},{"$f":"IFERROR(INDEX('Current Standards'!P:P,MATCH('Sheet Counter'!AI201,'Current Standards'!O:O,0),0),\"\")","v":""}]
[null,null,0,"","",{"$error":"#VALUE!"},"",{"$f":"IF(I202=\"\",\"\",LARGE(H$1:H201,1)+1)","v":{"$error":"#VALUE!"}},{"$error":"#VALUE!"},201,{"$error":"#N/A"},"",null,null,201,0,{"$f":"IF(R202=\"\",\"\",LARGE(Q$1:Q201,1)+1)","v":{"$error":"#NUM!"}},{"$error":"#NUM!"},201,{"$error":"#N/A"},"","",null,null,0,{"$error":"#VALUE!"},3999,"","",null,null,null,null,{"$error":"#VALUE!"},{"$error":"#VALUE!"},{"$f":"COUNTIF('Standards LOOKUP'!B:B,AI202)","v":0},{"$f":"IFERROR(INDEX('Standards LOOKUP'!C:C,MATCH(AI202,'Standards LOOKUP'!B:B,0),0),0)","v":0},{"$f":"IFERROR(INDEX('Current Standards'!P:P,MATCH('Sheet Counter'!AI202,'Current Standards'!O:O,0),0),\"\")","v":""}]
[null,null,0,"","",{"$error":"#VALUE!"},"",{"$f":"IF(I203=\"\",\"\",LARGE(H$1:H202,1)+1)","v":{"$error":"#VALUE!"}},{"$error":"#VALUE!"},202,{"$error":"#N/A"},"",null,null,202,0,{"$f":"IF(R203=\"\",\"\",LARGE(Q$1:Q202,1)+1)","v":{"$error":"#NUM!"}},{"$error":"#NUM!"},202,{"$error":"#N/A"},"","",null,null,0,{"$error":"#VALUE!"},3999,"","",null,null,null,null,{"$error":"#VALUE!"},{"$error":"#VALUE!"},{"$f":"COUNTIF('Standards LOOKUP'!B:B,AI203)","v":0},{"$f":"IFERROR(INDEX('Standards LOOKUP'!C:C,MATCH(AI203,'Standards LOOKUP'!B:B,0),0),0)","v":0},{"$f":"IFERROR(INDEX('Current Standards'!P:P,MATCH('Sheet Counter'!AI203,'Current Standards'!O:O,0),0),\"\")","v":""}]
[null,null,0,"","",{"$error":"#VALUE!"},"",{"$f":"IF(I204=\"\",\"\",LARGE(H$1:H203,1)+1)","v":{"$error":"#VALUE!"}},{"$error":"#VALUE!"},203,{"$error":"#N/A"},"",null,null,203,0,{"$f":"IF(R204=\"\",\"\",LARGE(Q$1:Q203,1)+1)","v":{"$error":"#NUM!"}},{"$error":"#NUM!"},203,{"$error":"#N/A"},"","",null,null,0,{"$error":"#VALUE!"},3999,"","",null,null,null,null,{"$error":"#VALUE!"},{"$error":"#VALUE!"},{"$f":"COUNTIF('Standards LOOKUP'!B:B,AI204)","v":0},{"$f":"IFERROR(INDEX('Standards LOOKUP'!C:C,MATCH(AI204,'Standards LOOKUP'!B:B,0),0),0)","v":0},{"$f":"IFERROR(INDEX('Current Standards'!P:P,MATCH('Sheet Counter'!AI204,'Current Standards'!O:O,0),0),\"\")","v":""}]
[null,null,0,"","",{"$error":"#VALUE!"},"",{"$f":"IF(I205=\"\",\"\",LARGE(H$1:H204,1)+1)","v":{"$error":"#VALUE!"}},{"$error":"#VALUE!"},204,{"$error":"#N/A"},"",null,null,204,0,{"$f":"IF(R205=\"\",\"\",LARGE(Q$1:Q204,1)+1)","v":{"$error":"#NUM!"}},{"$error":"#NUM!"},204,{"$error":"#N/A"},"","",null,null,0,{"$error":"#VALUE!"},3999,"","",null,null,null,null,{"$error":"#VALUE!"},{"$error":"#VALUE!"},{"$f":"COUNTIF('Standards LOOKUP'!B:B,AI205)","v":0},{"$f":"IFERROR(INDEX('Standards LOOKUP'!C:C,MATCH(AI205,'Standards LOOKUP'!B:B,0),0),0)","v":0},{"$f":"IFERROR(INDEX('Current Standards'!P:P,MATCH('Sheet Counter'!AI205,'Current Standards'!O:O,0),0),\"\")","v":""}]
[null,null,0,"","",{"$error":"#VALUE!"},"",{"$f":"IF(I206=\"\",\"\",LARGE(H$1:H205,1)+1)","v":{"$error":"#VALUE!"}},{"$error":"#VALUE!"},205,{"$error":"#N/A"},"",null,null,205,0,{"$f":"IF(R206=\"\",\"\",LARGE(Q$1:Q205,1)+1)","v":{"$error":"#NUM!"}},{"$error":"#NUM!"},205,{"$error":"#N/A"},"","",null,null,0,{"$error":"#VALUE!"},3999,"","",null,null,null,null,{"$error":"#VALUE!"},{"$error":"#VALUE!"},{"$f":"COUNTIF('Standards LOOKUP'!B:B,AI206)","v":0},{"$f":"IFERROR(INDEX('Standards LOOKUP'!C:C,MATCH(AI206,'Standards LOOKUP'!B:B,0),0),0)","v":0},{"$f":"IFERROR(INDEX('Current Standards'!P:P,MATCH('Sheet Counter'!AI206,'Current Standards'!O:O,0),0),\"\")","v":""}]
[null,null,0,"","",{"$error":"#VALUE!"},"",{"$f":"IF(I207=\"\",\"\",LARGE(H$1:H206,1)+1)","v":{"$error":"#VALUE!"}},{"$error":"#VALUE!"},206,{"$error":"#N/A"},"",null,null,206,0,{"$f":"IF(R207=\"\",\"\",LARGE(Q$1:Q206,1)+1)","v":{"$error":"#NUM!"}},{"$error":"#NUM!"},206,{"$error":"#N/A"},"","",null,null,0,{"$error":"#VALUE!"},3999,"","",null,null,null,null,{"$error":"#VALUE!"},{"$error":"#VALUE!"},{"$f":"COUNTIF('Standards LOOKUP'!B:B,AI207)","v":0},{"$f":"IFERROR(INDEX('Standards LOOKUP'!C:C,MATCH(AI207,'Standards LOOKUP'!B:B,0),0),0)","v":0},{"$f":"IFERROR(INDEX('Current Standards'!P:P,MATCH('Sheet Counter'!AI207,'Current Standards'!O:O,0),0),\"\")","v":""}]
[null,null,0,"","",{"$error":"#VALUE!"},"",{"$f":"IF(I208=\"\",\"\",LARGE(H$1:H207,1)+1)","v":{"$error":"#VALUE!"}},{"$error":"#VALUE!"},207,{"$error":"#N/A"},"",null,null,207,0,{"$f":"IF(R208=\"\",\"\",LARGE(Q$1:Q207,1)+1)","v":{"$error":"#NUM!"}},{"$error":"#NUM!"},207,{"$error":"#N/A"},"","",null,null,0,{"$error":"#VALUE!"},3999,"","",null,null,null,null,{"$error":"#VALUE!"},{"$error":"#VALUE!"},{"$f":"COUNTIF('Standards LOOKUP'!B:B,AI208)","v":0},{"$f":"IFERROR(INDEX('Standards LOOKUP'!C:C,MATCH(AI208,'Standards LOOKUP'!B:B,0),0),0)","v":0},{"$f":"IFERROR(INDEX('Current Standards'!P:P,MATCH('Sheet Counter'!AI208,'Current Standards'!O:O,0),0),\"\")","v":""}]
[null,null,0,"","",{"$error":"#VALUE!"},"",{"$f":"IF(I209=\"\",\"\",LARGE(H$1:H208,1)+1)","v":{"$error":"#VALUE!"}},{"$error":"#VALUE!"},208,{"$error":"#N/A"},"",null,null,208,0,{"$f":"IF(R209=\"\",\"\",LARGE(Q$1:Q208,1)+1)","v":{"$error":"#NUM!"}},{"$error":"#NUM!"},208,{"$error":"#N/A"},"","",null,null,0,{"$error":"#VALUE!"},3999,"","",null,null,null,null,{"$error":"#VALUE!"},{"$error":"#VALUE!"},{"$f":"COUNTIF('Standards LOOKUP'!B:B,AI209)","v":0},{"$f":"IFERROR(INDEX('Standards LOOKUP'!C:C,MATCH(AI209,'Standards LOOKUP'!B:B,0),0),0)","v":0},{"$f":"IFERROR(INDEX('Current Standards'!P:P,MATCH('Sheet Counter'!AI209,'Current Standards'!O:O,0),0),\"\")","v":""}]
[null,null,0,"","",{"$error":"#VALUE!"},"",{"$f":"IF(I210=\"\",\"\",LARGE(H$1:H209,1)+1)","v":{"$error":"#VALUE!"}},{"$error":"#VALUE!"},209,{"$error":"#N/A"},"",null,null,209,0,{"$f":"IF(R210=\"\",\"\",LARGE(Q$1:Q209,1)+1)","v":{"$error":"#NUM!"}},{"$error":"#NUM!"},209,{"$error":"#N/A"},"","",null,null,0,{"$error":"#VALUE!"},3999,"","",null,null,null,null,{"$error":"#VALUE!"},{"$error":"#VALUE!"},{"$f":"COUNTIF('Standards LOOKUP'!B:B,AI210)","v":0},{"$f":"IFERROR(INDEX('Standards LOOKUP'!C:C,MATCH(AI210,'Standards LOOKUP'!B:B,0),0),0)","v":0},{"$f":"IFERROR(INDEX('Current Standards'!P:P,MATCH('Sheet Counter'!AI210,'Current Standards'!O:O,0),0),\"\")","v":""}]
[null,null,0,"","",{"$error":"#VALUE!"},"",{"$f":"IF(I211=\"\",\"\",LARGE(H$1:H210,1)+1)","v":{"$error":"#VALUE!"}},{"$error":"#VALUE!"},210,{"$error":"#N/A"},"",null,null,210,0,{"$f":"IF(R211=\"\",\"\",LARGE(Q$1:Q210,1)+1)","v":{"$error":"#NUM!"}},{"$error":"#NUM!"},210,{"$error":"#N/A"},"","",null,null,0,{"$error":"#VALUE!"},3999,"","",null,null,null,null,{"$error":"#VALUE!"},{"$error":"#VALUE!"},{"$f":"COUNTIF('Standards LOOKUP'!B:B,AI211)","v":0},{"$f":"IFERROR(INDEX('Standards LOOKUP'!C:C,MATCH(AI211,'Standards LOOKUP'!B:B,0),0),0)","v":0},{"$f":"IFERROR(INDEX('Current Standards'!P:P,MATCH('Sheet Counter'!AI211,'Current Standards'!O:O,0),0),\"\")","v":""}]
[null,null,0,"","",{"$error":"#VALUE!"},"",{"$f":"IF(I212=\"\",\"\",LARGE(H$1:H211,1)+1)","v":{"$error":"#VALUE!"}},{"$error":"#VALUE!"},211,{"$error":"#N/A"},"",null,null,211,0,{"$f":"IF(R212=\"\",\"\",LARGE(Q$1:Q211,1)+1)","v":{"$error":"#NUM!"}},{"$error":"#NUM!"},211,{"$error":"#N/A"},"","",null,null,0,{"$error":"#VALUE!"},3999,"","",null,null,null,null,{"$error":"#VALUE!"},{"$error":"#VALUE!"},{"$f":"COUNTIF('Standards LOOKUP'!B:B,AI212)","v":0},{"$f":"IFERROR(INDEX('Standards LOOKUP'!C:C,MATCH(AI212,'Standards LOOKUP'!B:B,0),0),0)","v":0},{"$f":"IFERROR(INDEX('Current Standards'!P:P,MATCH('Sheet Counter'!AI212,'Current Standards'!O:O,0),0),\"\")","v":""}]
[null,null,0,"","",{"$error":"#VALUE!"},"",{"$f":"IF(I213=\"\",\"\",LARGE(H$1:H212,1)+1)","v":{"$error":"#VALUE!"}},{"$error":"#VALUE!"},212,{"$error":"#N/A"},"",null,null,212,0,{"$f":"IF(R213=\"\",\"\",LARGE(Q$1:Q212,1)+1)","v":{"$error":"#NUM!"}},{"$error":"#NUM!"},212,{"$error":"#N/A"},"","",null,null,0,{"$error":"#VALUE!"},3999,"","",null,null,null,null,{"$error":"#VALUE!"},{"$error":"#VALUE!"},{"$f":"COUNTIF('Standards LOOKUP'!B:B,AI213)","v":0},{"$f":"IFERROR(INDEX('Standards LOOKUP'!C:C,MATCH(AI213,'Standards LOOKUP'!B:B,0),0),0)","v":0},{"$f":"IFERROR(INDEX('Current Standards'!P:P,MATCH('Sheet Counter'!AI213,'Current Standards'!O:O,0),0),\"\")","v":""}]
[null,null,0,"","",{"$error":"#VALUE!"},"",{"$f":"IF(I214=\"\",\"\",LARGE(H$1:H213,1)+1)","v":{"$error":"#VALUE!"}},{"$error":"#VALUE!"},213,{"$error":"#N/A"},"",null,null,213,0,{"$f":"IF(R214=\"\",\"\",LARGE(Q$1:Q213,1)+1)","v":{"$error":"#NUM!"}},{"$error":"#NUM!"},213,{"$error":"#N/A"},"","",null,null,0,{"$error":"#VALUE!"},3999,"","",null,null,null,null,{"$error":"#VALUE!"},{"$error":"#VALUE!"},{"$f":"COUNTIF('Standards LOOKUP'!B:B,AI214)","v":0},{"$f":"IFERROR(INDEX('Standards LOOKUP'!C:C,MATCH(AI214,'Standards LOOKUP'!B:B,0),0),0)","v":0},{"$f":"IFERROR(INDEX('Current Standards'!P:P,MATCH('Sheet Counter'!AI214,'Current Standards'!O:O,0),0),\"\")","v":""}]
[null,null,0,"","",{"$error":"#VALUE!"},"",{"$f":"IF(I215=\"\",\"\",LARGE(H$1:H214,1)+1)","v":{"$error":"#VALUE!"}},{"$error":"#VALUE!"},214,{"$error":"#N/A"},"",null,null,214,0,{"$f":"IF(R215=\"\",\"\",LARGE(Q$1:Q214,1)+1)","v":{"$error":"#NUM!"}},{"$error":"#NUM!"},214,{"$error":"#N/A"},"","",null,null,0,{"$error":"#VALUE!"},3999,"","",null,null,null,null,{"$error":"#VALUE!"},{"$error":"#VALUE!"},{"$f":"COUNTIF('Standards LOOKUP'!B:B,AI215)","v":0},{"$f":"IFERROR(INDEX('Standards LOOKUP'!C:C,MATCH(AI215,'Standards LOOKUP'!B:B,0),0),0)","v":0},{"$f":"IFERROR(INDEX('Current Standards'!P:P,MATCH('Sheet Counter'!AI215,'Current Standards'!O:O,0),0),\"\")","v":""}]
[null,null,0,"","",{"$error":"#VALUE!"},"",{"$f":"IF(I216=\"\",\"\",LARGE(H$1:H215,1)+1)","v":{"$error":"#VALUE!"}},{"$error":"#VALUE!"},215,{"$error":"#N/A"},"",null,null,215,0,{"$f":"IF(R216=\"\",\"\",LARGE(Q$1:Q215,1)+1)","v":{"$error":"#NUM!"}},{"$error":"#NUM!"},215,{"$error":"#N/A"},"","",null,null,0,{"$error":"#VALUE!"},3999,"","",null,null,null,null,{"$error":"#VALUE!"},{"$error":"#VALUE!"},{"$f":"COUNTIF('Standards LOOKUP'!B:B,AI216)","v":0},{"$f":"IFERROR(INDEX('Standards LOOKUP'!C:C,MATCH(AI216,'Standards LOOKUP'!B:B,0),0),0)","v":0},{"$f":"IFERROR(INDEX('Current Standards'!P:P,MATCH('Sheet Counter'!AI216,'Current Standards'!O:O,0),0),\"\")","v":""}]
[null,null,0,"","",{"$error":"#VALUE!"},"",{"$f":"IF(I217=\"\",\"\",LARGE(H$1:H216,1)+1)","v":{"$error":"#VALUE!"}},{"$error":"#VALUE!"},216,{"$error":"#N/A"},"",null,null,216,0,{"$f":"IF(R217=\"\",\"\",LARGE(Q$1:Q216,1)+1)","v":{"$error":"#NUM!"}},{"$error":"#NUM!"},216,{"$error":"#N/A"},"","",null,null,0,{"$error":"#VALUE!"},3999,"","",null,null,null,null,{"$error":"#VALUE!"},{"$error":"#VALUE!"},{"$f":"COUNTIF('Standards LOOKUP'!B:B,AI217)","v":0},{"$f":"IFERROR(INDEX('Standards LOOKUP'!C:C,MATCH(AI217,'Standards LOOKUP'!B:B,0),0),0)","v":0},{"$f":"IFERROR(INDEX('Current Standards'!P:P,MATCH('Sheet Counter'!AI217,'Current Standards'!O:O,0),0),\"\")","v":""}]
[null,null,0,"","",{"$error":"#VALUE!"},"",{"$f":"IF(I218=\"\",\"\",LARGE(H$1:H217,1)+1)","v":{"$error":"#VALUE!"}},{"$error":"#VALUE!"},217,{"$error":"#N/A"},"",null,null,217,0,{"$f":"IF(R218=\"\",\"\",LARGE(Q$1:Q217,1)+1)","v":{"$error":"#NUM!"}},{"$error":"#NUM!"},217,{"$error":"#N/A"},"","",null,null,0,{"$error":"#VALUE!"},3999,"","",null,null,null,null,{"$error":"#VALUE!"},{"$error":"#VALUE!"},{"$f":"COUNTIF('Standards LOOKUP'!B:B,AI218)","v":0},{"$f":"IFERROR(INDEX('Standards LOOKUP'!C:C,MATCH(AI218,'Standards LOOKUP'!B:B,0),0),0)","v":0},{"$f":"IFERROR(INDEX('Current Standards'!P:P,MATCH('Sheet Counter'!AI218,'Current Standards'!O:O,0),0),\"\")","v":""}]
[null,null,0,"","",{"$error":"#VALUE!"},"",{"$f":"IF(I219=\"\",\"\",LARGE(H$1:H218,1)+1)","v":{"$error":"#VALUE!"}},{"$error":"#VALUE!"},218,{"$error":"#N/A"},"",null,null,218,0,{"$f":"IF(R219=\"\",\"\",LARGE(Q$1:Q218,1)+1)","v":{"$error":"#NUM!"}},{"$error":"#NUM!"},218,{"$error":"#N/A"},"","",null,null,0,{"$error":"#VALUE!"},3999,"","",null,null,null,null,{"$error":"#VALUE!"},{"$error":"#VALUE!"},{"$f":"COUNTIF('Standards LOOKUP'!B:B,AI219)","v":0},{"$f":"IFERROR(INDEX('Standards LOOKUP'!C:C,MATCH(AI219,'Standards LOOKUP'!B:B,0),0),0)","v":0},{"$f":"IFERROR(INDEX('Current Standards'!P:P,MATCH('Sheet Counter'!AI219,'Current Standards'!O:O,0),0),\"\")","v":""}]
[null,null,0,"","",{"$error":"#VALUE!"},"",{"$f":"IF(I220=\"\",\"\",LARGE(H$1:H219,1)+1)","v":{"$error":"#VALUE!"}},{"$error":"#VALUE!"},219,{"$error":"#N/A"},"",null,null,219,0,{"$f":"IF(R220=\"\",\"\",LARGE(Q$1:Q219,1)+1)","v":{"$error":"#NUM!"}},{"$error":"#NUM!"},219,{"$error":"#N/A"},"","",null,null,0,{"$error":"#VALUE!"},3999,"","",null,null,null,null,{"$error":"#VALUE!"},{"$error":"#VALUE!"},{"$f":"COUNTIF('Standards LOOKUP'!B:B,AI220)","v":0},{"$f":"IFERROR(INDEX('Standards LOOKUP'!C:C,MATCH(AI220,'Standards LOOKUP'!B:B,0),0),0)","v":0},{"$f":"IFERROR(INDEX('Current Standards'!P:P,MATCH('Sheet Counter'!AI220,'Current Standards'!O:O,0),0),\"\")","v":""}]
[null,null,0,"","",{"$error":"#VALUE!"},"",{"$f":"IF(I221=\"\",\"\",LARGE(H$1:H220,1)+1)","v":{"$error":"#VALUE!"}},{"$error":"#VALUE!"},220,{"$error":"#N/A"},"",null,null,220,0,{"$f":"IF(R221=\"\",\"\",LARGE(Q$1:Q220,1)+1)","v":{"$error":"#NUM!"}},{"$error":"#NUM!"},220,{"$error":"#N/A"},"","",null,null,0,{"$error":"#VALUE!"},3999,"","",null,null,null,null,{"$error":"#VALUE!"},{"$error":"#VALUE!"},{"$f":"COUNTIF('Standards LOOKUP'!B:B,AI221)","v":0},{"$f":"IFERROR(INDEX('Standards LOOKUP'!C:C,MATCH(AI221,'Standards LOOKUP'!B:B,0),0),0)","v":0},{"$f":"IFERROR(INDEX('Current Standards'!P:P,MATCH('Sheet Counter'!AI221,'Current Standards'!O:O,0),0),\"\")","v":""}]
[null,null,0,"","",{"$error":"#VALUE!"},"",{"$f":"IF(I222=\"\",\"\",LARGE(H$1:H221,1)+1)","v":{"$error":"#VALUE!"}},{"$error":"#VALUE!"},221,{"$error":"#N/A"},"",null,null,221,0,{"$f":"IF(R222=\"\",\"\",LARGE(Q$1:Q221,1)+1)","v":{"$error":"#NUM!"}},{"$error":"#NUM!"},221,{"$error":"#N/A"},"","",null,null,0,{"$error":"#VALUE!"},3999,"","",null,null,null,null,{"$error":"#VALUE!"},{"$error":"#VALUE!"},{"$f":"COUNTIF('Standards LOOKUP'!B:B,AI222)","v":0},{"$f":"IFERROR(INDEX('Standards LOOKUP'!C:C,MATCH(AI222,'Standards LOOKUP'!B:B,0),0),0)","v":0},{"$f":"IFERROR(INDEX('Current Standards'!P:P,MATCH('Sheet Counter'!AI222,'Current Standards'!O:O,0),0),\"\")","v":""}]
[null,null,0,"","",{"$error":"#VALUE!"},"",{"$f":"IF(I223=\"\",\"\",LARGE(H$1:H222,1)+1)","v":{"$error":"#VALUE!"}},{"$error":"#VALUE!"},222,{"$error":"#N/A"},"",null,null,222,0,{"$f":"IF(R223=\"\",\"\",LARGE(Q$1:Q222,1)+1)","v":{"$error":"#NUM!"}},{"$error":"#NUM!"},222,{"$f":"VLOOKUP(S223,Q:R,2,0)","v":{"$error":"#N/A"}},"","",null,null,0,{"$error":"#VALUE!"},3999,"","",null,null,null,null,{"$error":"#VALUE!"},{"$error":"#VALUE!"},{"$f":"COUNTIF('Standards LOOKUP'!B:B,AI223)","v":0},{"$f":"IFERROR(INDEX('Standards LOOKUP'!C:C,MATCH(AI223,'Standards LOOKUP'!B:B,0),0),0)","v":0},{"$f":"IFERROR(INDEX('Current Standards'!P:P,MATCH('Sheet Counter'!AI223,'Current Standards'!O:O,0),0),\"\")","v":""}]
[null,null,0,"","",{"$error":"#VALUE!"},"",{"$f":"IF(I224=\"\",\"\",LARGE(H$1:H223,1)+1)","v":{"$error":"#VALUE!"}},{"$error":"#VALUE!"},223,{"$error":"#N/A"},"",null,null,223,0,{"$f":"IF(R224=\"\",\"\",LARGE(Q$1:Q223,1)+1)","v":{"$error":"#NUM!"}},{"$error":"#NUM!"},223,{"$error":"#N/A"},"","",null,null,0,{"$error":"#VALUE!"},3999,"","",null,null,null,null,{"$error":"#VALUE!"},{"$error":"#VALUE!"},{"$f":"COUNTIF('Standards LOOKUP'!B:B,AI224)","v":0},{"$f":"IFERROR(INDEX('Standards LOOKUP'!C:C,MATCH(AI224,'Standards LOOKUP'!B:B,0),0),0)","v":0},{"$f":"IFERROR(INDEX('Current Standards'!P:P,MATCH('Sheet Counter'!AI224,'Current Standards'!O:O,0),0),\"\")","v":""}]
[null,null,0,"","",{"$error":"#VALUE!"},"",{"$f":"IF(I225=\"\",\"\",LARGE(H$1:H224,1)+1)","v":{"$error":"#VALUE!"}},{"$error":"#VALUE!"},224,{"$error":"#N/A"},"",null,null,224,0,{"$f":"IF(R225=\"\",\"\",LARGE(Q$1:Q224,1)+1)","v":{"$error":"#NUM!"}},{"$error":"#NUM!"},224,{"$error":"#N/A"},"","",null,null,0,{"$error":"#VALUE!"},3999,"","",null,null,null,null,{"$error":"#VALUE!"},{"$error":"#VALUE!"},{"$f":"COUNTIF('Standards LOOKUP'!B:B,AI225)","v":0},{"$f":"IFERROR(INDEX('Standards LOOKUP'!C:C,MATCH(AI225,'Standards LOOKUP'!B:B,0),0),0)","v":0},{"$f":"IFERROR(INDEX('Current Standards'!P:P,MATCH('Sheet Counter'!AI225,'Current Standards'!O:O,0),0),\"\")","v":""}]
[null,null,0,"","",{"$error":"#VALUE!"},"",{"$f":"IF(I226=\"\",\"\",LARGE(H$1:H225,1)+1)","v":{"$error":"#VALUE!"}},{"$error":"#VALUE!"},225,{"$error":"#N/A"},"",null,null,225,0,{"$f":"IF(R226=\"\",\"\",LARGE(Q$1:Q225,1)+1)","v":{"$error":"#NUM!"}},{"$error":"#NUM!"},225,{"$error":"#N/A"},"","",null,null,0,{"$error":"#VALUE!"},3999,"","",null,null,null,null,{"$error":"#VALUE!"},{"$error":"#VALUE!"},{"$f":"COUNTIF('Standards LOOKUP'!B:B,AI226)","v":0},{"$f":"IFERROR(INDEX('Standards LOOKUP'!C:C,MATCH(AI226,'Standards LOOKUP'!B:B,0),0),0)","v":0},{"$f":"IFERROR(INDEX('Current Standards'!P:P,MATCH('Sheet Counter'!AI226,'Current Standards'!O:O,0),0),\"\")","v":""}]
[null,null,0,"","",{"$error":"#VALUE!"},"",{"$f":"IF(I227=\"\",\"\",LARGE(H$1:H226,1)+1)","v":{"$error":"#VALUE!"}},{"$error":"#VALUE!"},226,{"$error":"#N/A"},"",null,null,226,0,{"$f":"IF(R227=\"\",\"\",LARGE(Q$1:Q226,1)+1)","v":{"$error":"#NUM!"}},{"$error":"#NUM!"},226,{"$error":"#N/A"},"","",null,null,0,{"$error":"#VALUE!"},3999,"","",null,null,null,null,{"$error":"#VALUE!"},{"$error":"#VALUE!"},{"$f":"COUNTIF('Standards LOOKUP'!B:B,AI227)","v":0},{"$f":"IFERROR(INDEX('Standards LOOKUP'!C:C,MATCH(AI227,'Standards LOOKUP'!B:B,0),0),0)","v":0},{"$f":"IFERROR(INDEX('Current Standards'!P:P,MATCH('Sheet Counter'!AI227,'Current Standards'!O:O,0),0),\"\")","v":""}]
[null,null,0,"","",{"$error":"#VALUE!"},"",{"$f":"IF(I228=\"\",\"\",LARGE(H$1:H227,1)+1)","v":{"$error":"#VALUE!"}},{"$error":"#VALUE!"},227,{"$error":"#N/A"},"",null,null,227,0,{"$f":"IF(R228=\"\",\"\",LARGE(Q$1:Q227,1)+1)","v":{"$error":"#NUM!"}},{"$error":"#NUM!"},227,{"$error":"#N/A"},"","",null,null,0,{"$error":"#VALUE!"},3999,"","",null,null,null,null,{"$error":"#VALUE!"},{"$error":"#VALUE!"},{"$f":"COUNTIF('Standards LOOKUP'!B:B,AI228)","v":0},{"$f":"IFERROR(INDEX('Standards LOOKUP'!C:C,MATCH(AI228,'Standards LOOKUP'!B:B,0),0),0)","v":0},{"$f":"IFERROR(INDEX('Current Standards'!P:P,MATCH('Sheet Counter'!AI228,'Current Standards'!O:O,0),0),\"\")","v":""}]
[null,null,0,"","",{"$error":"#VALUE!"},"",{"$f":"IF(I229=\"\",\"\",LARGE(H$1:H228,1)+1)","v":{"$error":"#VALUE!"}},{"$error":"#VALUE!"},228,{"$error":"#N/A"},"",null,null,228,0,{"$f":"IF(R229=\"\",\"\",LARGE(Q$1:Q228,1)+1)","v":{"$error":"#NUM!"}},{"$error":"#NUM!"},228,{"$error":"#N/A"},"","",null,null,0,{"$error":"#VALUE!"},3999,"","",null,null,null,null,{"$error":"#VALUE!"},{"$error":"#VALUE!"},{"$f":"COUNTIF('Standards LOOKUP'!B:B,AI229)","v":0},{"$f":"IFERROR(INDEX('Standards LOOKUP'!C:C,MATCH(AI229,'Standards LOOKUP'!B:B,0),0),0)","v":0},{"$f":"IFERROR(INDEX('Current Standards'!P:P,MATCH('Sheet Counter'!AI229,'Current Standards'!O:O,0),0),\"\")","v":""}]
[null,null,0,"","",{"$error":"#VALUE!"},"",{"$f":"IF(I230=\"\",\"\",LARGE(H$1:H229,1)+1)","v":{"$error":"#VALUE!"}},{"$error":"#VALUE!"},229,{"$error":"#N/A"},"",null,null,229,0,{"$f":"IF(R230=\"\",\"\",LARGE(Q$1:Q229,1)+1)","v":{"$error":"#NUM!"}},{"$error":"#NUM!"},229,{"$error":"#N/A"},"","",null,null,0,{"$error":"#VALUE!"},3999,"","",null,null,null,null,{"$error":"#VALUE!"},{"$error":"#VALUE!"},{"$f":"COUNTIF('Standards LOOKUP'!B:B,AI230)","v":0},{"$f":"IFERROR(INDEX('Standards LOOKUP'!C:C,MATCH(AI230,'Standards LOOKUP'!B:B,0),0),0)","v":0},{"$f":"IFERROR(INDEX('Current Standards'!P:P,MATCH('Sheet Counter'!AI230,'Current Standards'!O:O,0),0),\"\")","v":""}]
[null,null,0,"","",{"$error":"#VALUE!"},"",{"$f":"IF(I231=\"\",\"\",LARGE(H$1:H230,1)+1)","v":{"$error":"#VALUE!"}},{"$error":"#VALUE!"},230,{"$error":"#N/A"},"",null,null,230,0,{"$f":"IF(R231=\"\",\"\",LARGE(Q$1:Q230,1)+1)","v":{"$error":"#NUM!"}},{"$error":"#NUM!"},230,{"$error":"#N/A"},"","",null,null,0,{"$error":"#VALUE!"},3999,"","",null,null,null,null,{"$error":"#VALUE!"},{"$error":"#VALUE!"},{"$f":"COUNTIF('Standards LOOKUP'!B:B,AI231)","v":0},{"$f":"IFERROR(INDEX('Standards LOOKUP'!C:C,MATCH(AI231,'Standards LOOKUP'!B:B,0),0),0)","v":0},{"$f":"IFERROR(INDEX('Current Standards'!P:P,MATCH('Sheet Counter'!AI231,'Current Standards'!O:O,0),0),\"\")","v":""}]
[null,null,0,"","",{"$error":"#VALUE!"},"",{"$f":"IF(I232=\"\",\"\",LARGE(H$1:H231,1)+1)","v":{"$error":"#VALUE!"}},{"$error":"#VALUE!"},231,{"$f":"VLOOKUP(J232,H:I,2,0)","v":{"$error":"#N/A"}},"",null,null,231,0,{"$f":"IF(R232=\"\",\"\",LARGE(Q$1:Q231,1)+1)","v":{"$error":"#NUM!"}},{"$error":"#NUM!"},231,{"$error":"#N/A"},"","",null,null,0,{"$error":"#VALUE!"},3999,"","",null,null,null,null,{"$error":"#VALUE!"},{"$error":"#VALUE!"},{"$f":"COUNTIF('Standards LOOKUP'!B:B,AI232)","v":0},{"$f":"IFERROR(INDEX('Standards LOOKUP'!C:C,MATCH(AI232,'Standards LOOKUP'!B:B,0),0),0)","v":0},{"$f":"IFERROR(INDEX('Current Standards'!P:P,MATCH('Sheet Counter'!AI232,'Current Standards'!O:O,0),0),\"\")","v":""}]
[null,null,0,"","",{"$error":"#VALUE!"},"",{"$f":"IF(I233=\"\",\"\",LARGE(H$1:H232,1)+1)","v":{"$error":"#VALUE!"}},{"$error":"#VALUE!"},232,{"$error":"#N/A"},"",null,null,232,0,{"$f":"IF(R233=\"\",\"\",LARGE(Q$1:Q232,1)+1)","v":{"$error":"#NUM!"}},{"$error":"#NUM!"},232,{"$error":"#N/A"},"","",null,null,0,{"$error":"#VALUE!"},3999,"","",null,null,null,null,{"$error":"#VALUE!"},{"$error":"#VALUE!"},{"$f":"COUNTIF('Standards LOOKUP'!B:B,AI233)","v":0},{"$f":"IFERROR(INDEX('Standards LOOKUP'!C:C,MATCH(AI233,'Standards LOOKUP'!B:B,0),0),0)","v":0},{"$f":"IFERROR(INDEX('Current Standards'!P:P,MATCH('Sheet Counter'!AI233,'Current Standards'!O:O,0),0),\"\")","v":""}]
[null,null,0,"","",{"$error":"#VALUE!"},"",{"$f":"IF(I234=\"\",\"\",LARGE(H$1:H233,1)+1)","v":{"$error":"#VALUE!"}},{"$error":"#VALUE!"},233,{"$error":"#N/A"},"",null,null,233,0,{"$f":"IF(R234=\"\",\"\",LARGE(Q$1:Q233,1)+1)","v":{"$error":"#NUM!"}},{"$error":"#NUM!"},233,{"$error":"#N/A"},"","",null,null,0,{"$error":"#VALUE!"},3999,"","",null,null,null,null,{"$error":"#VALUE!"},{"$error":"#VALUE!"},{"$f":"COUNTIF('Standards LOOKUP'!B:B,AI234)","v":0},{"$f":"IFERROR(INDEX('Standards LOOKUP'!C:C,MATCH(AI234,'Standards LOOKUP'!B:B,0),0),0)","v":0},{"$f":"IFERROR(INDEX('Current Standards'!P:P,MATCH('Sheet Counter'!AI234,'Current Standards'!O:O,0),0),\"\")","v":""}]
[null,null,0,"","",{"$error":"#VALUE!"},"",{"$f":"IF(I235=\"\",\"\",LARGE(H$1:H234,1)+1)","v":{"$error":"#VALUE!"}},{"$error":"#VALUE!"},234,{"$error":"#N/A"},"",null,null,234,0,{"$f":"IF(R235=\"\",\"\",LARGE(Q$1:Q234,1)+1)","v":{"$error":"#NUM!"}},{"$error":"#NUM!"},234,{"$error":"#N/A"},"","",null,null,0,{"$error":"#VALUE!"},3999,"","",null,null,null,null,{"$error":"#VALUE!"},{"$error":"#VALUE!"},{"$f":"COUNTIF('Standards LOOKUP'!B:B,AI235)","v":0},{"$f":"IFERROR(INDEX('Standards LOOKUP'!C:C,MATCH(AI235,'Standards LOOKUP'!B:B,0),0),0)","v":0},{"$f":"IFERROR(INDEX('Current Standards'!P:P,MATCH('Sheet Counter'!AI235,'Current Standards'!O:O,0),0),\"\")","v":""}]
[null,null,0,"","",{"$error":"#VALUE!"},"",{"$f":"IF(I236=\"\",\"\",LARGE(H$1:H235,1)+1)","v":{"$error":"#VALUE!"}},{"$error":"#VALUE!"},235,{"$error":"#N/A"},"",null,null,235,0,{"$f":"IF(R236=\"\",\"\",LARGE(Q$1:Q235,1)+1)","v":{"$error":"#NUM!"}},{"$error":"#NUM!"},235,{"$error":"#N/A"},"","",null,null,0,{"$error":"#VALUE!"},3999,"","",null,null,null,null,{"$error":"#VALUE!"},{"$error":"#VALUE!"},{"$f":"COUNTIF('Standards LOOKUP'!B:B,AI236)","v":0},{"$f":"IFERROR(INDEX('Standards LOOKUP'!C:C,MATCH(AI236,'Standards LOOKUP'!B:B,0),0),0)","v":0},{"$f":"IFERROR(INDEX('Current Standards'!P:P,MATCH('Sheet Counter'!AI236,'Current Standards'!O:O,0),0),\"\")","v":""}]
[null,null,0,"","",{"$error":"#VALUE!"},"",{"$f":"IF(I237=\"\",\"\",LARGE(H$1:H236,1)+1)","v":{"$error":"#VALUE!"}},{"$error":"#VALUE!"},236,{"$error":"#N/A"},"",null,null,236,0,{"$f":"IF(R237=\"\",\"\",LARGE(Q$1:Q236,1)+1)","v":{"$error":"#NUM!"}},{"$error":"#NUM!"},236,{"$error":"#N/A"},"","",null,null,0,{"$error":"#VALUE!"},3999,"","",null,null,null,null,{"$error":"#VALUE!"},{"$error":"#VALUE!"},{"$f":"COUNTIF('Standards LOOKUP'!B:B,AI237)","v":0},{"$f":"IFERROR(INDEX('Standards LOOKUP'!C:C,MATCH(AI237,'Standards LOOKUP'!B:B,0),0),0)","v":0},{"$f":"IFERROR(INDEX('Current Standards'!P:P,MATCH('Sheet Counter'!AI237,'Current Standards'!O:O,0),0),\"\")","v":""}]
[null,null,0,"","",{"$error":"#VALUE!"},"",{"$f":"IF(I238=\"\",\"\",LARGE(H$1:H237,1)+1)","v":{"$error":"#VALUE!"}},{"$error":"#VALUE!"},237,{"$error":"#N/A"},"",null,null,237,0,{"$f":"IF(R238=\"\",\"\",LARGE(Q$1:Q237,1)+1)","v":{"$error":"#NUM!"}},{"$error":"#NUM!"},237,{"$error":"#N/A"},"","",null,null,0,{"$error":"#VALUE!"},3999,"","",null,null,null,null,{"$error":"#VALUE!"},{"$error":"#VALUE!"},{"$f":"COUNTIF('Standards LOOKUP'!B:B,AI238)","v":0},{"$f":"IFERROR(INDEX('Standards LOOKUP'!C:C,MATCH(AI238,'Standards LOOKUP'!B:B,0),0),0)","v":0},{"$f":"IFERROR(INDEX('Current Standards'!P:P,MATCH('Sheet Counter'!AI238,'Current Standards'!O:O,0),0),\"\")","v":""}]
[null,null,0,"","",{"$error":"#VALUE!"},"",{"$f":"IF(I239=\"\",\"\",LARGE(H$1:H238,1)+1)","v":{"$error":"#VALUE!"}},{"$error":"#VALUE!"},238,{"$error":"#N/A"},"",null,null,238,0,{"$f":"IF(R239=\"\",\"\",LARGE(Q$1:Q238,1)+1)","v":{"$error":"#NUM!"}},{"$error":"#NUM!"},238,{"$error":"#N/A"},"","",null,null,0,{"$error":"#VALUE!"},3999,"","",null,null,null,null,{"$error":"#VALUE!"},{"$error":"#VALUE!"},{"$f":"COUNTIF('Standards LOOKUP'!B:B,AI239)","v":0},{"$f":"IFERROR(INDEX('Standards LOOKUP'!C:C,MATCH(AI239,'Standards LOOKUP'!B:B,0),0),0)","v":0},{"$f":"IFERROR(INDEX('Current Standards'!P:P,MATCH('Sheet Counter'!AI239,'Current Standards'!O:O,0),0),\"\")","v":""}]
[null,null,0,"","",{"$error":"#VALUE!"},"",{"$f":"IF(I240=\"\",\"\",LARGE(H$1:H239,1)+1)","v":{"$error":"#VALUE!"}},{"$error":"#VALUE!"},239,{"$error":"#N/A"},"",null,null,239,0,{"$f":"IF(R240=\"\",\"\",LARGE(Q$1:Q239,1)+1)","v":{"$error":"#NUM!"}},{"$error":"#NUM!"},239,{"$error":"#N/A"},"","",null,null,0,{"$error":"#VALUE!"},3999,"","",null,null,null,null,{"$error":"#VALUE!"},{"$error":"#VALUE!"},{"$f":"COUNTIF('Standards LOOKUP'!B:B,AI240)","v":0},{"$f":"IFERROR(INDEX('Standards LOOKUP'!C:C,MATCH(AI240,'Standards LOOKUP'!B:B,0),0),0)","v":0},{"$f":"IFERROR(INDEX('Current Standards'!P:P,MATCH('Sheet Counter'!AI240,'Current Standards'!O:O,0),0),\"\")","v":""}]
[null,null,0,"","",{"$error":"#VALUE!"},"",{"$f":"IF(I241=\"\",\"\",LARGE(H$1:H240,1)+1)","v":{"$error":"#VALUE!"}},{"$error":"#VALUE!"},240,{"$error":"#N/A"},"",null,null,240,0,{"$f":"IF(R241=\"\",\"\",LARGE(Q$1:Q240,1)+1)","v":{"$error":"#NUM!"}},{"$error":"#NUM!"},240,{"$error":"#N/A"},"","",null,null,0,{"$error":"#VALUE!"},3999,"","",null,null,null,null,{"$error":"#VALUE!"},{"$error":"#VALUE!"},{"$f":"COUNTIF('Standards LOOKUP'!B:B,AI241)","v":0},{"$f":"IFERROR(INDEX('Standards LOOKUP'!C:C,MATCH(AI241,'Standards LOOKUP'!B:B,0),0),0)","v":0},{"$f":"IFERROR(INDEX('Current Standards'!P:P,MATCH('Sheet Counter'!AI241,'Current Standards'!O:O,0),0),\"\")","v":""}]
[null,null,0,"","",{"$error":"#VALUE!"},"",{"$f":"IF(I242=\"\",\"\",LARGE(H$1:H241,1)+1)","v":{"$error":"#VALUE!"}},{"$error":"#VALUE!"},241,{"$error":"#N/A"},"",null,null,241,0,{"$f":"IF(R242=\"\",\"\",LARGE(Q$1:Q241,1)+1)","v":{"$error":"#NUM!"}},{"$error":"#NUM!"},241,{"$error":"#N/A"},"","",null,null,0,{"$error":"#VALUE!"},3999,"","",null,null,null,null,{"$error":"#VALUE!"},{"$error":"#VALUE!"},{"$f":"COUNTIF('Standards LOOKUP'!B:B,AI242)","v":0},{"$f":"IFERROR(INDEX('Standards LOOKUP'!C:C,MATCH(AI242,'Standards LOOKUP'!B:B,0),0),0)","v":0},{"$f":"IFERROR(INDEX('Current Standards'!P:P,MATCH('Sheet Counter'!AI242,'Current Standards'!O:O,0),0),\"\")","v":""}]
[null,null,0,"","",{"$error":"#VALUE!"},"",{"$f":"IF(I243=\"\",\"\",LARGE(H$1:H242,1)+1)","v":{"$error":"#VALUE!"}},{"$error":"#VALUE!"},242,{"$error":"#N/A"},"",null,null,242,0,{"$f":"IF(R243=\"\",\"\",LARGE(Q$1:Q242,1)+1)","v":{"$error":"#NUM!"}},{"$error":"#NUM!"},242,{"$error":"#N/A"},"","",null,null,0,{"$error":"#VALUE!"},3999,"","",null,null,null,null,{"$error":"#VALUE!"},{"$error":"#VALUE!"},{"$f":"COUNTIF('Standards LOOKUP'!B:B,AI243)","v":0},{"$f":"IFERROR(INDEX('Standards LOOKUP'!C:C,MATCH(AI243,'Standards LOOKUP'!B:B,0),0),0)","v":0},{"$f":"IFERROR(INDEX('Current Standards'!P:P,MATCH('Sheet Counter'!AI243,'Current Standards'!O:O,0),0),\"\")","v":""}]
[null,null,0,"","",{"$error":"#VALUE!"},"",{"$f":"IF(I244=\"\",\"\",LARGE(H$1:H243,1)+1)","v":{"$error":"#VALUE!"}},{"$error":"#VALUE!"},243,{"$error":"#N/A"},"",null,null,243,0,{"$f":"IF(R244=\"\",\"\",LARGE(Q$1:Q243,1)+1)","v":{"$error":"#NUM!"}},{"$error":"#NUM!"},243,{"$error":"#N/A"},"","",null,null,0,{"$error":"#VALUE!"},3999,"","",null,null,null,null,{"$error":"#VALUE!"},{"$error":"#VALUE!"},{"$f":"COUNTIF('Standards LOOKUP'!B:B,AI244)","v":0},{"$f":"IFERROR(INDEX('Standards LOOKUP'!C:C,MATCH(AI244,'Standards LOOKUP'!B:B,0),0),0)","v":0},{"$f":"IFERROR(INDEX('Current Standards'!P:P,MATCH('Sheet Counter'!AI244,'Current Standards'!O:O,0),0),\"\")","v":""}]
[null,null,0,"","",{"$error":"#VALUE!"},"",{"$f":"IF(I245=\"\",\"\",LARGE(H$1:H244,1)+1)","v":{"$error":"#VALUE!"}},{"$error":"#VALUE!"},244,{"$error":"#N/A"},"",null,null,244,0,{"$f":"IF(R245=\"\",\"\",LARGE(Q$1:Q244,1)+1)","v":{"$error":"#NUM!"}},{"$error":"#NUM!"},244,{"$error":"#N/A"},"","",null,null,0,{"$error":"#VALUE!"},3999,"","",null,null,null,null,{"$error":"#VALUE!"},{"$error":"#VALUE!"},{"$f":"COUNTIF('Standards LOOKUP'!B:B,AI245)","v":0},{"$f":"IFERROR(INDEX('Standards LOOKUP'!C:C,MATCH(AI245,'Standards LOOKUP'!B:B,0),0),0)","v":0},{"$f":"IFERROR(INDEX('Current Standards'!P:P,MATCH('Sheet Counter'!AI245,'Current Standards'!O:O,0),0),\"\")","v":""}]
[null,null,0,"","",{"$error":"#VALUE!"},"",{"$f":"IF(I246=\"\",\"\",LARGE(H$1:H245,1)+1)","v":{"$error":"#VALUE!"}},{"$error":"#VALUE!"},245,{"$error":"#N/A"},"",null,null,245,0,{"$f":"IF(R246=\"\",\"\",LARGE(Q$1:Q245,1)+1)","v":{"$error":"#NUM!"}},{"$error":"#NUM!"},245,{"$error":"#N/A"},"","",null,null,0,{"$error":"#VALUE!"},3999,"","",null,null,null,null,{"$error":"#VALUE!"},{"$error":"#VALUE!"},{"$f":"COUNTIF('Standards LOOKUP'!B:B,AI246)","v":0},{"$f":"IFERROR(INDEX('Standards LOOKUP'!C:C,MATCH(AI246,'Standards LOOKUP'!B:B,0),0),0)","v":0},{"$f":"IFERROR(INDEX('Current Standards'!P:P,MATCH('Sheet Counter'!AI246,'Current Standards'!O:O,0),0),\"\")","v":""}]
[null,null,0,"","",{"$error":"#VALUE!"},"",{"$f":"IF(I247=\"\",\"\",LARGE(H$1:H246,1)+1)","v":{"$error":"#VALUE!"}},{"$error":"#VALUE!"},246,{"$error":"#N/A"},"",null,null,246,0,{"$f":"IF(R247=\"\",\"\",LARGE(Q$1:Q246,1)+1)","v":{"$error":"#NUM!"}},{"$error":"#NUM!"},246,{"$error":"#N/A"},"","",null,null,0,{"$error":"#VALUE!"},3999,"","",null,null,null,null,{"$error":"#VALUE!"},{"$error":"#VALUE!"},{"$f":"COUNTIF('Standards LOOKUP'!B:B,AI247)","v":0},{"$f":"IFERROR(INDEX('Standards LOOKUP'!C:C,MATCH(AI247,'Standards LOOKUP'!B:B,0),0),0)","v":0},{"$f":"IFERROR(INDEX('Current Standards'!P:P,MATCH('Sheet Counter'!AI247,'Current Standards'!O:O,0),0),\"\")","v":""}]
[null,null,0,"","",{"$error":"#VALUE!"},"",{"$f":"IF(I248=\"\",\"\",LARGE(H$1:H247,1)+1)","v":{"$error":"#VALUE!"}},{"$error":"#VALUE!"},247,{"$error":"#N/A"},"",null,null,247,0,{"$f":"IF(R248=\"\",\"\",LARGE(Q$1:Q247,1)+1)","v":{"$error":"#NUM!"}},{"$error":"#NUM!"},247,{"$error":"#N/A"},"","",null,null,0,{"$error":"#VALUE!"},3999,"","",null,null,null,null,{"$error":"#VALUE!"},{"$error":"#VALUE!"},{"$f":"COUNTIF('Standards LOOKUP'!B:B,AI248)","v":0},{"$f":"IFERROR(INDEX('Standards LOOKUP'!C:C,MATCH(AI248,'Standards LOOKUP'!B:B,0),0),0)","v":0},{"$f":"IFERROR(INDEX('Current Standards'!P:P,MATCH('Sheet Counter'!AI248,'Current Standards'!O:O,0),0),\"\")","v":""}]
[null,null,0,"","",{"$error":"#VALUE!"},"",{"$f":"IF(I249=\"\",\"\",LARGE(H$1:H248,1)+1)","v":{"$error":"#VALUE!"}},{"$error":"#VALUE!"},248,{"$error":"#N/A"},"",null,null,248,0,{"$f":"IF(R249=\"\",\"\",LARGE(Q$1:Q248,1)+1)","v":{"$error":"#NUM!"}},{"$error":"#NUM!"},248,{"$error":"#N/A"},"","",null,null,0,{"$error":"#VALUE!"},3999,"","",null,null,null,null,{"$error":"#VALUE!"},{"$error":"#VALUE!"},{"$f":"COUNTIF('Standards LOOKUP'!B:B,AI249)","v":0},{"$f":"IFERROR(INDEX('Standards LOOKUP'!C:C,MATCH(AI249,'Standards LOOKUP'!B:B,0),0),0)","v":0},{"$f":"IFERROR(INDEX('Current Standards'!P:P,MATCH('Sheet Counter'!AI249,'Current Standards'!O:O,0),0),\"\")","v":""}]
[null,null,0,"","",{"$error":"#VALUE!"},"",{"$f":"IF(I250=\"\",\"\",LARGE(H$1:H249,1)+1)","v":{"$error":"#VALUE!"}},{"$error":"#VALUE!"},249,{"$error":"#N/A"},"",null,null,249,0,{"$f":"IF(R250=\"\",\"\",LARGE(Q$1:Q249,1)+1)","v":{"$error":"#NUM!"}},{"$error":"#NUM!"},249,{"$error":"#N/A"},"","",null,null,0,{"$error":"#VALUE!"},3999,"","",null,null,null,null,{"$error":"#VALUE!"},{"$error":"#VALUE!"},{"$f":"COUNTIF('Standards LOOKUP'!B:B,AI250)","v":0},{"$f":"IFERROR(INDEX('Standards LOOKUP'!C:C,MATCH(AI250,'Standards LOOKUP'!B:B,0),0),0)","v":0},{"$f":"IFERROR(INDEX('Current Standards'!P:P,MATCH('Sheet Counter'!AI250,'Current Standards'!O:O,0),0),\"\")","v":""}]
[null,null,0,"","",{"$error":"#VALUE!"},"",{"$f":"IF(I251=\"\",\"\",LARGE(H$1:H250,1)+1)","v":{"$error":"#VALUE!"}},{"$error":"#VALUE!"},250,{"$error":"#N/A"},"",null,null,250,0,{"$f":"IF(R251=\"\",\"\",LARGE(Q$1:Q250,1)+1)","v":{"$error":"#NUM!"}},{"$error":"#NUM!"},250,{"$error":"#N/A"},"","",null,null,0,{"$error":"#VALUE!"},3999,"","",null,null,null,null,{"$error":"#VALUE!"},{"$error":"#VALUE!"},{"$f":"COUNTIF('Standards LOOKUP'!B:B,AI251)","v":0},{"$f":"IFERROR(INDEX('Standards LOOKUP'!C:C,MATCH(AI251,'Standards LOOKUP'!B:B,0),0),0)","v":0},{"$f":"IFERROR(INDEX('Current Standards'!P:P,MATCH('Sheet Counter'!AI251,'Current Standards'!O:O,0),0),\"\")","v":""}]
[null,null,0,"","",{"$error":"#VALUE!"},"",{"$f":"IF(I252=\"\",\"\",LARGE(H$1:H251,1)+1)","v":{"$error":"#VALUE!"}},{"$error":"#VALUE!"},251,{"$error":"#N/A"},"",null,null,251,0,{"$f":"IF(R252=\"\",\"\",LARGE(Q$1:Q251,1)+1)","v":{"$error":"#NUM!"}},{"$error":"#NUM!"},251,{"$error":"#N/A"},"","",null,null,0,{"$error":"#VALUE!"},3999,"","",null,null,null,null,{"$error":"#VALUE!"},{"$error":"#VALUE!"},{"$f":"COUNTIF('Standards LOOKUP'!B:B,AI252)","v":0},{"$f":"IFERROR(INDEX('Standards LOOKUP'!C:C,MATCH(AI252,'Standards LOOKUP'!B:B,0),0),0)","v":0},{"$f":"IFERROR(INDEX('Current Standards'!P:P,MATCH('Sheet Counter'!AI252,'Current Standards'!O:O,0),0),\"\")","v":""}]
[null,null,0,"","",{"$error":"#VALUE!"},"",{"$f":"IF(I253=\"\",\"\",LARGE(H$1:H252,1)+1)","v":{"$error":"#VALUE!"}},{"$error":"#VALUE!"},252,{"$error":"#N/A"},"",null,null,252,0,{"$f":"IF(R253=\"\",\"\",LARGE(Q$1:Q252,1)+1)","v":{"$error":"#NUM!"}},{"$error":"#NUM!"},252,{"$error":"#N/A"},"","",null,null,0,{"$error":"#VALUE!"},3999,"","",null,null,null,null,{"$error":"#VALUE!"},{"$error":"#VALUE!"},{"$f":"COUNTIF('Standards LOOKUP'!B:B,AI253)","v":0},{"$f":"IFERROR(INDEX('Standards LOOKUP'!C:C,MATCH(AI253,'Standards LOOKUP'!B:B,0),0),0)","v":0},{"$f":"IFERROR(INDEX('Current Standards'!P:P,MATCH('Sheet Counter'!AI253,'Current Standards'!O:O,0),0),\"\")","v":""}]
[null,null,0,"","",{"$error":"#VALUE!"},"",{"$f":"IF(I254=\"\",\"\",LARGE(H$1:H253,1)+1)","v":{"$error":"#VALUE!"}},{"$error":"#VALUE!"},253,{"$error":"#N/A"},"",null,null,253,0,{"$f":"IF(R254=\"\",\"\",LARGE(Q$1:Q253,1)+1)","v":{"$error":"#NUM!"}},{"$error":"#NUM!"},253,{"$error":"#N/A"},"","",null,null,0,{"$error":"#VALUE!"},3999,"","",null,null,null,null,{"$error":"#VALUE!"},{"$error":"#VALUE!"},{"$f":"COUNTIF('Standards LOOKUP'!B:B,AI254)","v":0},{"$f":"IFERROR(INDEX('Standards LOOKUP'!C:C,MATCH(AI254,'Standards LOOKUP'!B:B,0),0),0)","v":0},{"$f":"IFERROR(INDEX('Current Standards'!P:P,MATCH('Sheet Counter'!AI254,'Current Standards'!O:O,0),0),\"\")","v":""}]
[null,null,0,"","",{"$error":"#VALUE!"},"",{"$f":"IF(I255=\"\",\"\",LARGE(H$1:H254,1)+1)","v":{"$error":"#VALUE!"}},{"$error":"#VALUE!"},254,{"$error":"#N/A"},"",null,null,254,0,{"$f":"IF(R255=\"\",\"\",LARGE(Q$1:Q254,1)+1)","v":{"$error":"#NUM!"}},{"$error":"#NUM!"},254,{"$error":"#N/A"},"","",null,null,0,{"$error":"#VALUE!"},3999,"","",null,null,null,null,{"$error":"#VALUE!"},{"$error":"#VALUE!"},{"$f":"COUNTIF('Standards LOOKUP'!B:B,AI255)","v":0},{"$f":"IFERROR(INDEX('Standards LOOKUP'!C:C,MATCH(AI255,'Standards LOOKUP'!B:B,0),0),0)","v":0},{"$f":"IFERROR(INDEX('Current Standards'!P:P,MATCH('Sheet Counter'!AI255,'Current Standards'!O:O,0),0),\"\")","v":""}]
[null,null,0,"","",{"$error":"#VALUE!"},"",{"$f":"IF(I256=\"\",\"\",LARGE(H$1:H255,1)+1)","v":{"$error":"#VALUE!"}},{"$error":"#VALUE!"},255,{"$error":"#N/A"},"",null,null,255,0,{"$f":"IF(R256=\"\",\"\",LARGE(Q$1:Q255,1)+1)","v":{"$error":"#NUM!"}},{"$error":"#NUM!"},255,{"$error":"#N/A"},"","",null,null,0,{"$error":"#VALUE!"},3999,"","",null,null,null,null,{"$error":"#VALUE!"},{"$error":"#VALUE!"},{"$f":"COUNTIF('Standards LOOKUP'!B:B,AI256)","v":0},{"$f":"IFERROR(INDEX('Standards LOOKUP'!C:C,MATCH(AI256,'Standards LOOKUP'!B:B,0),0),0)","v":0},{"$f":"IFERROR(INDEX('Current Standards'!P:P,MATCH('Sheet Counter'!AI256,'Current Standards'!O:O,0),0),\"\")","v":""}]
[null,null,0,"","",{"$error":"#VALUE!"},"",{"$f":"IF(I257=\"\",\"\",LARGE(H$1:H256,1)+1)","v":{"$error":"#VALUE!"}},{"$error":"#VALUE!"},256,{"$error":"#N/A"},"",null,null,256,0,{"$f":"IF(R257=\"\",\"\",LARGE(Q$1:Q256,1)+1)","v":{"$error":"#NUM!"}},{"$error":"#NUM!"},256,{"$error":"#N/A"},"","",null,null,0,{"$error":"#VALUE!"},3999,"","",null,null,null,null,{"$error":"#VALUE!"},{"$error":"#VALUE!"},{"$f":"COUNTIF('Standards LOOKUP'!B:B,AI257)","v":0},{"$f":"IFERROR(INDEX('Standards LOOKUP'!C:C,MATCH(AI257,'Standards LOOKUP'!B:B,0),0),0)","v":0},{"$f":"IFERROR(INDEX('Current Standards'!P:P,MATCH('Sheet Counter'!AI257,'Current Standards'!O:O,0),0),\"\")","v":""}]
[null,null,0,"","",{"$error":"#VALUE!"},"",{"$f":"IF(I258=\"\",\"\",LARGE(H$1:H257,1)+1)","v":{"$error":"#VALUE!"}},{"$f":"IF(G258=\"\",F258,\"\")","v":{"$error":"#VALUE!"}},257,{"$error":"#N/A"},"",null,null,257,{"$f":"COUNTIF(G:G,O258)","v":0},{"$f":"IF(R258=\"\",\"\",LARGE(Q$1:Q257,1)+1)","v":{"$error":"#NUM!"}},{"$error":"#NUM!"},257,{"$error":"#N/A"},"","",null,null,0,{"$error":"#VALUE!"},3999,"","",null,null,null,null,{"$error":"#VALUE!"},{"$error":"#VALUE!"},{"$f":"COUNTIF('Standards LOOKUP'!B:B,AI258)","v":0},{"$f":"IFERROR(INDEX('Standards LOOKUP'!C:C,MATCH(AI258,'Standards LOOKUP'!B:B,0),0),0)","v":0},{"$f":"IFERROR(INDEX('Current Standards'!P:P,MATCH('Sheet Counter'!AI258,'Current Standards'!O:O,0),0),\"\")","v":""}]
[null,null,{"$f":"IF(ISERROR(FIND(\"\\\",A259)),A259,RIGHT(A259,LEN(A259)-FIND(\"~\",SUBSTITUTE(A259,\"\\\",\"~\",LEN(A259)-LEN(SUBSTITUTE(A259,\"\\\",\"\"))))))","v":0},{"$f":"IF(AL259=\"\",\"\",AL259)","v":""},"",{"$f":"LEFT(C259,FIND(\"-\",SUBSTITUTE(SUBSTITUTE(C259,\"_\",\"-\"),\" \",\"-\"))-1)","v":{"$error":"#VALUE!"}},{"$f":"IF(ISNUMBER(F259*1),F259*1,\"\")","v":""},{"$f":"IF(I259=\"\",\"\",LARGE(H$1:H258,1)+1)","v":{"$error":"#VALUE!"}},{"$error":"#VALUE!"},258,{"$error":"#N/A"},{"$f":"IF(ISERROR(K259),\"\",K259)","v":""},null,null,258,0,{"$f":"IF(R259=\"\",\"\",LARGE(Q$1:Q258,1)+1)","v":{"$error":"#NUM!"}},{"$error":"#NUM!"},258,{"$error":"#N/A"},{"$f":"IF(ISERROR(T259),\"\",T259)","v":""},{"$f":"IF(U259=\"\",\"\",VLOOKUP(U259,O:P,2,0))","v":""},null,null,{"$f":"IF(ISERROR(FIND(\"\\\",X259)),X259,RIGHT(X259,LEN(X259)-FIND(\"~\",SUBSTITUTE(X259,\"\\\",\"~\",LEN(X259)-LEN(SUBSTITUTE(X259,\"\\\",\"\"))))))","v":0},{"$f":"LEFT(Y259,FIND(\"-\",SUBSTITUTE(SUBSTITUTE(Y259,\"_\",\"-\"),\" \",\"-\"))-1)","v":{"$error":"#VALUE!"}},{"$f":"COUNTIF(F:F,Z259)","v":3999},{"$f":"IF(OR(AA259<1,ISERROR(Z259)),\"\",INDEX(C:C,MATCH(Z259,F:F)))","v":""},{"$f":"IF(AA259=0,\"New Sheet\",IF(EXACT(UPPER(Y259),UPPER(AB259)),\"Match\",\"\"))","v":""},null,null,null,null,{"$f":"IF(C259=\"\",\"\",LEFT(RIGHT(C259,LEN(C259)-SEARCH(\" \",C259,1)),LEN(RIGHT(C259,LEN(C259)-SEARCH(\" \",C259,1)))-4))","v":{"$error":"#VALUE!"}},{"$f":"TRIM(SUBSTITUTE(SUBSTITUTE(SUBSTITUTE(SUBSTITUTE(SUBSTITUTE(SUBSTITUTE(AH259,\"(\",\"\"),\")\",\"\"),\"-\",\"\"),\"&\",\"\"),\" \",\"\",1),\" \",\"\",1))","v":{"$error":"#VALUE!"}},{"$f":"COUNTIF('Standards LOOKUP'!B:B,AI259)","v":0},{"$f":"IFERROR(INDEX('Standards LOOKUP'!C:C,MATCH(AI259,'Standards LOOKUP'!B:B,0),0),0)","v":0},{"$f":"IFERROR(INDEX('Current Standards'!P:P,MATCH('Sheet Counter'!AI259,'Current Standards'!O:O,0),0),\"\")","v":""}]
[null,null,0,"","",{"$error":"#VALUE!"},"",{"$f":"IF(I260=\"\",\"\",LARGE(H$1:H259,1)+1)","v":{"$error":"#VALUE!"}},{"$error":"#VALUE!"},259,{"$error":"#N/A"},"",null,null,259,0,{"$f":"IF(R260=\"\",\"\",LARGE(Q$1:Q259,1)+1)","v":{"$error":"#NUM!"}},{"$f":"IF(AND(P260<>1,O260<=LARGE(G:G,1),O260>=SMALL(G:G,1)),O260,\"\")","v":{"$error":"#NUM!"}},259,{"$error":"#N/A"},"","",null,null,0,{"$error":"#VALUE!"},3999,"","",null,null,null,null,{"$error":"#VALUE!"},{"$error":"#VALUE!"},{"$f":"COUNTIF('Standards LOOKUP'!B:B,AI260)","v":0},{"$f":"IFERROR(INDEX('Standards LOOKUP'!C:C,MATCH(AI260,'Standards LOOKUP'!B:B,0),0),0)","v":0},{"$f":"IFERROR(INDEX('Current Standards'!P:P,MATCH('Sheet Counter'!AI260,'Current Standards'!O:O,0),0),\"\")","v":""}]
[null,null,0,"","",{"$error":"#VALUE!"},"",{"$f":"IF(I261=\"\",\"\",LARGE(H$1:H260,1)+1)","v":{"$error":"#VALUE!"}},{"$error":"#VALUE!"},260,{"$error":"#N/A"},"",null,null,260,0,{"$f":"IF(R261=\"\",\"\",LARGE(Q$1:Q260,1)+1)","v":{"$error":"#NUM!"}},{"$error":"#NUM!"},260,{"$error":"#N/A"},"","",null,null,0,{"$error":"#VALUE!"},3999,"","",null,null,null,null,{"$error":"#VALUE!"},{"$error":"#VALUE!"},{"$f":"COUNTIF('Standards LOOKUP'!B:B,AI261)","v":0},{"$f":"IFERROR(INDEX('Standards LOOKUP'!C:C,MATCH(AI261,'Standards LOOKUP'!B:B,0),0),0)","v":0},{"$f":"IFERROR(INDEX('Current Standards'!P:P,MATCH('Sheet Counter'!AI261,'Current Standards'!O:O,0),0),\"\")","v":""}]
[null,null,0,"","",{"$error":"#VALUE!"},"",{"$f":"IF(I262=\"\",\"\",LARGE(H$1:H261,1)+1)","v":{"$error":"#VALUE!"}},{"$error":"#VALUE!"},261,{"$error":"#N/A"},"",null,null,261,0,{"$f":"IF(R262=\"\",\"\",LARGE(Q$1:Q261,1)+1)","v":{"$error":"#NUM!"}},{"$error":"#NUM!"},261,{"$error":"#N/A"},"","",null,null,0,{"$error":"#VALUE!"},3999,"","",null,null,null,null,{"$error":"#VALUE!"},{"$error":"#VALUE!"},{"$f":"COUNTIF('Standards LOOKUP'!B:B,AI262)","v":0},{"$f":"IFERROR(INDEX('Standards LOOKUP'!C:C,MATCH(AI262,'Standards LOOKUP'!B:B,0),0),0)","v":0},{"$f":"IFERROR(INDEX('Current Standards'!P:P,MATCH('Sheet Counter'!AI262,'Current Standards'!O:O,0),0),\"\")","v":""}]
[null,null,0,"","",{"$error":"#VALUE!"},"",{"$f":"IF(I263=\"\",\"\",LARGE(H$1:H262,1)+1)","v":{"$error":"#VALUE!"}},{"$error":"#VALUE!"},262,{"$error":"#N/A"},"",null,null,262,0,{"$f":"IF(R263=\"\",\"\",LARGE(Q$1:Q262,1)+1)","v":{"$error":"#NUM!"}},{"$error":"#NUM!"},262,{"$error":"#N/A"},"","",null,null,0,{"$error":"#VALUE!"},3999,"","",null,null,null,null,{"$error":"#VALUE!"},{"$error":"#VALUE!"},{"$f":"COUNTIF('Standards LOOKUP'!B:B,AI263)","v":0},{"$f":"IFERROR(INDEX('Standards LOOKUP'!C:C,MATCH(AI263,'Standards LOOKUP'!B:B,0),0),0)","v":0},{"$f":"IFERROR(INDEX('Current Standards'!P:P,MATCH('Sheet Counter'!AI263,'Current Standards'!O:O,0),0),\"\")","v":""}]
[null,null,0,"","",{"$error":"#VALUE!"},"",{"$f":"IF(I264=\"\",\"\",LARGE(H$1:H263,1)+1)","v":{"$error":"#VALUE!"}},{"$error":"#VALUE!"},263,{"$error":"#N/A"},"",null,null,263,0,{"$f":"IF(R264=\"\",\"\",LARGE(Q$1:Q263,1)+1)","v":{"$error":"#NUM!"}},{"$error":"#NUM!"},263,{"$error":"#N/A"},"","",null,null,0,{"$error":"#VALUE!"},3999,"","",null,null,null,null,{"$error":"#VALUE!"},{"$error":"#VALUE!"},{"$f":"COUNTIF('Standards LOOKUP'!B:B,AI264)","v":0},{"$f":"IFERROR(INDEX('Standards LOOKUP'!C:C,MATCH(AI264,'Standards LOOKUP'!B:B,0),0),0)","v":0},{"$f":"IFERROR(INDEX('Current Standards'!P:P,MATCH('Sheet Counter'!AI264,'Current Standards'!O:O,0),0),\"\")","v":""}]
[null,null,0,"","",{"$error":"#VALUE!"},"",{"$f":"IF(I265=\"\",\"\",LARGE(H$1:H264,1)+1)","v":{"$error":"#VALUE!"}},{"$error":"#VALUE!"},264,{"$error":"#N/A"},"",null,null,264,0,{"$f":"IF(R265=\"\",\"\",LARGE(Q$1:Q264,1)+1)","v":{"$error":"#NUM!"}},{"$error":"#NUM!"},264,{"$error":"#N/A"},"","",null,null,0,{"$error":"#VALUE!"},3999,"","",null,null,null,null,{"$error":"#VALUE!"},{"$error":"#VALUE!"},{"$f":"COUNTIF('Standards LOOKUP'!B:B,AI265)","v":0},{"$f":"IFERROR(INDEX('Standards LOOKUP'!C:C,MATCH(AI265,'Standards LOOKUP'!B:B,0),0),0)","v":0},{"$f":"IFERROR(INDEX('Current Standards'!P:P,MATCH('Sheet Counter'!AI265,'Current Standards'!O:O,0),0),\"\")","v":""}]
[null,null,0,"","",{"$error":"#VALUE!"},"",{"$f":"IF(I266=\"\",\"\",LARGE(H$1:H265,1)+1)","v":{"$error":"#VALUE!"}},{"$error":"#VALUE!"},265,{"$error":"#N/A"},"",null,null,265,0,{"$f":"IF(R266=\"\",\"\",LARGE(Q$1:Q265,1)+1)","v":{"$error":"#NUM!"}},{"$error":"#NUM!"},265,{"$error":"#N/A"},"","",null,null,0,{"$error":"#VALUE!"},3999,"","",null,null,null,null,{"$error":"#VALUE!"},{"$error":"#VALUE!"},{"$f":"COUNTIF('Standards LOOKUP'!B:B,AI266)","v":0},{"$f":"IFERROR(INDEX('Standards LOOKUP'!C:C,MATCH(AI266,'Standards LOOKUP'!B:B,0),0),0)","v":0},{"$f":"IFERROR(INDEX('Current Standards'!P:P,MATCH('Sheet Counter'!AI266,'Current Standards'!O:O,0),0),\"\")","v":""}]
[null,null,0,"","",{"$error":"#VALUE!"},"",{"$f":"IF(I267=\"\",\"\",LARGE(H$1:H266,1)+1)","v":{"$error":"#VALUE!"}},{"$error":"#VALUE!"},266,{"$error":"#N/A"},"",null,null,266,0,{"$f":"IF(R267=\"\",\"\",LARGE(Q$1:Q266,1)+1)","v":{"$error":"#NUM!"}},{"$error":"#NUM!"},266,{"$error":"#N/A"},"","",null,null,0,{"$error":"#VALUE!"},3999,"","",null,null,null,null,{"$error":"#VALUE!"},{"$error":"#VALUE!"},{"$f":"COUNTIF('Standards LOOKUP'!B:B,AI267)","v":0},{"$f":"IFERROR(INDEX('Standards LOOKUP'!C:C,MATCH(AI267,'Standards LOOKUP'!B:B,0),0),0)","v":0},{"$f":"IFERROR(INDEX('Current Standards'!P:P,MATCH('Sheet Counter'!AI267,'Current Standards'!O:O,0),0),\"\")","v":""}]
[null,null,0,"","",{"$error":"#VALUE!"},"",{"$f":"IF(I268=\"\",\"\",LARGE(H$1:H267,1)+1)","v":{"$error":"#VALUE!"}},{"$error":"#VALUE!"},267,{"$error":"#N/A"},"",null,null,267,0,{"$f":"IF(R268=\"\",\"\",LARGE(Q$1:Q267,1)+1)","v":{"$error":"#NUM!"}},{"$error":"#NUM!"},267,{"$error":"#N/A"},"","",null,null,0,{"$error":"#VALUE!"},3999,"","",null,null,null,null,{"$error":"#VALUE!"},{"$error":"#VALUE!"},{"$f":"COUNTIF('Standards LOOKUP'!B:B,AI268)","v":0},{"$f":"IFERROR(INDEX('Standards LOOKUP'!C:C,MATCH(AI268,'Standards LOOKUP'!B:B,0),0),0)","v":0},{"$f":"IFERROR(INDEX('Current Standards'!P:P,MATCH('Sheet Counter'!AI268,'Current Standards'!O:O,0),0),\"\")","v":""}]
[null,null,0,"","",{"$error":"#VALUE!"},"",{"$f":"IF(I269=\"\",\"\",LARGE(H$1:H268,1)+1)","v":{"$error":"#VALUE!"}},{"$error":"#VALUE!"},268,{"$error":"#N/A"},"",null,null,268,0,{"$f":"IF(R269=\"\",\"\",LARGE(Q$1:Q268,1)+1)","v":{"$error":"#NUM!"}},{"$error":"#NUM!"},268,{"$error":"#N/A"},"","",null,null,0,{"$error":"#VALUE!"},3999,"","",null,null,null,null,{"$error":"#VALUE!"},{"$error":"#VALUE!"},{"$f":"COUNTIF('Standards LOOKUP'!B:B,AI269)","v":0},{"$f":"IFERROR(INDEX('Standards LOOKUP'!C:C,MATCH(AI269,'Standards LOOKUP'!B:B,0),0),0)","v":0},{"$f":"IFERROR(INDEX('Current Standards'!P:P,MATCH('Sheet Counter'!AI269,'Current Standards'!O:O,0),0),\"\")","v":""}]
[null,null,0,"","",{"$error":"#VALUE!"},"",{"$f":"IF(I270=\"\",\"\",LARGE(H$1:H269,1)+1)","v":{"$error":"#VALUE!"}},{"$error":"#VALUE!"},269,{"$error":"#N/A"},"",null,null,269,0,{"$f":"IF(R270=\"\",\"\",LARGE(Q$1:Q269,1)+1)","v":{"$error":"#NUM!"}},{"$error":"#NUM!"},269,{"$error":"#N/A"},"","",null,null,0,{"$error":"#VALUE!"},3999,"","",null,null,null,null,{"$error":"#VALUE!"},{"$error":"#VALUE!"},{"$f":"COUNTIF('Standards LOOKUP'!B:B,AI270)","v":0},{"$f":"IFERROR(INDEX('Standards LOOKUP'!C:C,MATCH(AI270,'Standards LOOKUP'!B:B,0),0),0)","v":0},{"$f":"IFERROR(INDEX('Current Standards'!P:P,MATCH('Sheet Counter'!AI270,'Current Standards'!O:O,0),0),\"\")","v":""}]
[null,null,0,"","",{"$error":"#VALUE!"},"",{"$f":"IF(I271=\"\",\"\",LARGE(H$1:H270,1)+1)","v":{"$error":"#VALUE!"}},{"$error":"#VALUE!"},270,{"$error":"#N/A"},"",null,null,270,0,{"$f":"IF(R271=\"\",\"\",LARGE(Q$1:Q270,1)+1)","v":{"$error":"#NUM!"}},{"$error":"#NUM!"},270,{"$error":"#N/A"},"","",null,null,0,{"$error":"#VALUE!"},3999,"","",null,null,null,null,{"$error":"#VALUE!"},{"$error":"#VALUE!"},{"$f":"COUNTIF('Standards LOOKUP'!B:B,AI271)","v":0},{"$f":"IFERROR(INDEX('Standards LOOKUP'!C:C,MATCH(AI271,'Standards LOOKUP'!B:B,0),0),0)","v":0},{"$f":"IFERROR(INDEX('Current Standards'!P:P,MATCH('Sheet Counter'!AI271,'Current Standards'!O:O,0),0),\"\")","v":""}]
[null,null,0,"","",{"$error":"#VALUE!"},"",{"$f":"IF(I272=\"\",\"\",LARGE(H$1:H271,1)+1)","v":{"$error":"#VALUE!"}},{"$error":"#VALUE!"},271,{"$error":"#N/A"},"",null,null,271,0,{"$f":"IF(R272=\"\",\"\",LARGE(Q$1:Q271,1)+1)","v":{"$error":"#NUM!"}},{"$error":"#NUM!"},271,{"$error":"#N/A"},"","",null,null,0,{"$error":"#VALUE!"},3999,"","",null,null,null,null,{"$error":"#VALUE!"},{"$error":"#VALUE!"},{"$f":"COUNTIF('Standards LOOKUP'!B:B,AI272)","v":0},{"$f":"IFERROR(INDEX('Standards LOOKUP'!C:C,MATCH(AI272,'Standards LOOKUP'!B:B,0),0),0)","v":0},{"$f":"IFERROR(INDEX('Current Standards'!P:P,MATCH('Sheet Counter'!AI272,'Current Standards'!O:O,0),0),\"\")","v":""}]
[null,null,0,"","",{"$error":"#VALUE!"},"",{"$f":"IF(I273=\"\",\"\",LARGE(H$1:H272,1)+1)","v":{"$error":"#VALUE!"}},{"$error":"#VALUE!"},272,{"$error":"#N/A"},"",null,null,272,0,{"$f":"IF(R273=\"\",\"\",LARGE(Q$1:Q272,1)+1)","v":{"$error":"#NUM!"}},{"$error":"#NUM!"},272,{"$error":"#N/A"},"","",null,null,0,{"$error":"#VALUE!"},3999,"","",null,null,null,null,{"$error":"#VALUE!"},{"$error":"#VALUE!"},{"$f":"COUNTIF('Standards LOOKUP'!B:B,AI273)","v":0},{"$f":"IFERROR(INDEX('Standards LOOKUP'!C:C,MATCH(AI273,'Standards LOOKUP'!B:B,0),0),0)","v":0},{"$f":"IFERROR(INDEX('Current Standards'!P:P,MATCH('Sheet Counter'!AI273,'Current Standards'!O:O,0),0),\"\")","v":""}]
[null,null,0,"","",{"$error":"#VALUE!"},"",{"$f":"IF(I274=\"\",\"\",LARGE(H$1:H273,1)+1)","v":{"$error":"#VALUE!"}},{"$error":"#VALUE!"},273,{"$error":"#N/A"},"",null,null,273,0,{"$f":"IF(R274=\"\",\"\",LARGE(Q$1:Q273,1)+1)","v":{"$error":"#NUM!"}},{"$error":"#NUM!"},273,{"$error":"#N/A"},"","",null,null,0,{"$error":"#VALUE!"},3999,"","",null,null,null,null,{"$error":"#VALUE!"},{"$error":"#VALUE!"},{"$f":"COUNTIF('Standards LOOKUP'!B:B,AI274)","v":0},{"$f":"IFERROR(INDEX('Standards LOOKUP'!C:C,MATCH(AI274,'Standards LOOKUP'!B:B,0),0),0)","v":0},{"$f":"IFERROR(INDEX('Current Standards'!P:P,MATCH('Sheet Counter'!AI274,'Current Standards'!O:O,0),0),\"\")","v":""}]
[null,null,0,"","",{"$error":"#VALUE!"},"",{"$f":"IF(I275=\"\",\"\",LARGE(H$1:H274,1)+1)","v":{"$error":"#VALUE!"}},{"$error":"#VALUE!"},274,{"$error":"#N/A"},"",null,null,274,0,{"$f":"IF(R275=\"\",\"\",LARGE(Q$1:Q274,1)+1)","v":{"$error":"#NUM!"}},{"$error":"#NUM!"},274,{"$error":"#N/A"},"","",null,null,0,{"$error":"#VALUE!"},3999,"","",null,null,null,null,{"$error":"#VALUE!"},{"$error":"#VALUE!"},{"$f":"COUNTIF('Standards LOOKUP'!B:B,AI275)","v":0},{"$f":"IFERROR(INDEX('Standards LOOKUP'!C:C,MATCH(AI275,'Standards LOOKUP'!B:B,0),0),0)","v":0},{"$f":"IFERROR(INDEX('Current Standards'!P:P,MATCH('Sheet Counter'!AI275,'Current Standards'!O:O,0),0),\"\")","v":""}]
[null,null,0,"","",{"$error":"#VALUE!"},"",{"$f":"IF(I276=\"\",\"\",LARGE(H$1:H275,1)+1)","v":{"$error":"#VALUE!"}},{"$error":"#VALUE!"},275,{"$error":"#N/A"},"",null,null,275,0,{"$f":"IF(R276=\"\",\"\",LARGE(Q$1:Q275,1)+1)","v":{"$error":"#NUM!"}},{"$error":"#NUM!"},275,{"$error":"#N/A"},"","",null,null,0,{"$error":"#VALUE!"},3999,"","",null,null,null,null,{"$error":"#VALUE!"},{"$error":"#VALUE!"},{"$f":"COUNTIF('Standards LOOKUP'!B:B,AI276)","v":0},{"$f":"IFERROR(INDEX('Standards LOOKUP'!C:C,MATCH(AI276,'Standards LOOKUP'!B:B,0),0),0)","v":0},{"$f":"IFERROR(INDEX('Current Standards'!P:P,MATCH('Sheet Counter'!AI276,'Current Standards'!O:O,0),0),\"\")","v":""}]
[null,null,0,"","",{"$error":"#VALUE!"},"",{"$f":"IF(I277=\"\",\"\",LARGE(H$1:H276,1)+1)","v":{"$error":"#VALUE!"}},{"$error":"#VALUE!"},276,{"$error":"#N/A"},"",null,null,276,0,{"$f":"IF(R277=\"\",\"\",LARGE(Q$1:Q276,1)+1)","v":{"$error":"#NUM!"}},{"$error":"#NUM!"},276,{"$error":"#N/A"},"","",null,null,0,{"$error":"#VALUE!"},3999,"","",null,null,null,null,{"$error":"#VALUE!"},{"$error":"#VALUE!"},{"$f":"COUNTIF('Standards LOOKUP'!B:B,AI277)","v":0},{"$f":"IFERROR(INDEX('Standards LOOKUP'!C:C,MATCH(AI277,'Standards LOOKUP'!B:B,0),0),0)","v":0},{"$f":"IFERROR(INDEX('Current Standards'!P:P,MATCH('Sheet Counter'!AI277,'Current Standards'!O:O,0),0),\"\")","v":""}]
[null,null,0,"","",{"$error":"#VALUE!"},"",{"$f":"IF(I278=\"\",\"\",LARGE(H$1:H277,1)+1)","v":{"$error":"#VALUE!"}},{"$error":"#VALUE!"},277,{"$error":"#N/A"},"",null,null,277,0,{"$f":"IF(R278=\"\",\"\",LARGE(Q$1:Q277,1)+1)","v":{"$error":"#NUM!"}},{"$error":"#NUM!"},277,{"$error":"#N/A"},"","",null,null,0,{"$error":"#VALUE!"},3999,"","",null,null,null,null,{"$error":"#VALUE!"},{"$error":"#VALUE!"},{"$f":"COUNTIF('Standards LOOKUP'!B:B,AI278)","v":0},{"$f":"IFERROR(INDEX('Standards LOOKUP'!C:C,MATCH(AI278,'Standards LOOKUP'!B:B,0),0),0)","v":0},{"$f":"IFERROR(INDEX('Current Standards'!P:P,MATCH('Sheet Counter'!AI278,'Current Standards'!O:O,0),0),\"\")","v":""}]
[null,null,0,"","",{"$error":"#VALUE!"},"",{"$f":"IF(I279=\"\",\"\",LARGE(H$1:H278,1)+1)","v":{"$error":"#VALUE!"}},{"$error":"#VALUE!"},278,{"$error":"#N/A"},"",null,null,278,0,{"$f":"IF(R279=\"\",\"\",LARGE(Q$1:Q278,1)+1)","v":{"$error":"#NUM!"}},{"$error":"#NUM!"},278,{"$error":"#N/A"},"","",null,null,0,{"$error":"#VALUE!"},3999,"","",null,null,null,null,{"$error":"#VALUE!"},{"$error":"#VALUE!"},{"$f":"COUNTIF('Standards LOOKUP'!B:B,AI279)","v":0},{"$f":"IFERROR(INDEX('Standards LOOKUP'!C:C,MATCH(AI279,'Standards LOOKUP'!B:B,0),0),0)","v":0},{"$f":"IFERROR(INDEX('Current Standards'!P:P,MATCH('Sheet Counter'!AI279,'Current Standards'!O:O,0),0),\"\")","v":""}]
[null,null,0,"","",{"$error":"#VALUE!"},"",{"$f":"IF(I280=\"\",\"\",LARGE(H$1:H279,1)+1)","v":{"$error":"#VALUE!"}},{"$error":"#VALUE!"},279,{"$error":"#N/A"},"",null,null,279,0,{"$f":"IF(R280=\"\",\"\",LARGE(Q$1:Q279,1)+1)","v":{"$error":"#NUM!"}},{"$error":"#NUM!"},279,{"$error":"#N/A"},"","",null,null,0,{"$error":"#VALUE!"},3999,"","",null,null,null,null,{"$error":"#VALUE!"},{"$error":"#VALUE!"},{"$f":"COUNTIF('Standards LOOKUP'!B:B,AI280)","v":0},{"$f":"IFERROR(INDEX('Standards LOOKUP'!C:C,MATCH(AI280,'Standards LOOKUP'!B:B,0),0),0)","v":0},{"$f":"IFERROR(INDEX('Current Standards'!P:P,MATCH('Sheet Counter'!AI280,'Current Standards'!O:O,0),0),\"\")","v":""}]
[null,null,0,"","",{"$error":"#VALUE!"},"",{"$f":"IF(I281=\"\",\"\",LARGE(H$1:H280,1)+1)","v":{"$error":"#VALUE!"}},{"$error":"#VALUE!"},280,{"$error":"#N/A"},"",null,null,280,0,{"$f":"IF(R281=\"\",\"\",LARGE(Q$1:Q280,1)+1)","v":{"$error":"#NUM!"}},{"$error":"#NUM!"},280,{"$error":"#N/A"},"","",null,null,0,{"$error":"#VALUE!"},3999,"","",null,null,null,null,{"$error":"#VALUE!"},{"$error":"#VALUE!"},{"$f":"COUNTIF('Standards LOOKUP'!B:B,AI281)","v":0},{"$f":"IFERROR(INDEX('Standards LOOKUP'!C:C,MATCH(AI281,'Standards LOOKUP'!B:B,0),0),0)","v":0},{"$f":"IFERROR(INDEX('Current Standards'!P:P,MATCH('Sheet Counter'!AI281,'Current Standards'!O:O,0),0),\"\")","v":""}]
[null,null,0,"","",{"$error":"#VALUE!"},"",{"$f":"IF(I282=\"\",\"\",LARGE(H$1:H281,1)+1)","v":{"$error":"#VALUE!"}},{"$error":"#VALUE!"},281,{"$error":"#N/A"},"",null,null,281,0,{"$f":"IF(R282=\"\",\"\",LARGE(Q$1:Q281,1)+1)","v":{"$error":"#NUM!"}},{"$error":"#NUM!"},281,{"$error":"#N/A"},"","",null,null,0,{"$error":"#VALUE!"},3999,"","",null,null,null,null,{"$error":"#VALUE!"},{"$error":"#VALUE!"},{"$f":"COUNTIF('Standards LOOKUP'!B:B,AI282)","v":0},{"$f":"IFERROR(INDEX('Standards LOOKUP'!C:C,MATCH(AI282,'Standards LOOKUP'!B:B,0),0),0)","v":0},{"$f":"IFERROR(INDEX('Current Standards'!P:P,MATCH('Sheet Counter'!AI282,'Current Standards'!O:O,0),0),\"\")","v":""}]
[null,null,0,"","",{"$error":"#VALUE!"},"",{"$f":"IF(I283=\"\",\"\",LARGE(H$1:H282,1)+1)","v":{"$error":"#VALUE!"}},{"$error":"#VALUE!"},282,{"$error":"#N/A"},"",null,null,282,0,{"$f":"IF(R283=\"\",\"\",LARGE(Q$1:Q282,1)+1)","v":{"$error":"#NUM!"}},{"$error":"#NUM!"},282,{"$error":"#N/A"},"","",null,null,0,{"$error":"#VALUE!"},3999,"","",null,null,null,null,{"$error":"#VALUE!"},{"$error":"#VALUE!"},{"$f":"COUNTIF('Standards LOOKUP'!B:B,AI283)","v":0},{"$f":"IFERROR(INDEX('Standards LOOKUP'!C:C,MATCH(AI283,'Standards LOOKUP'!B:B,0),0),0)","v":0},{"$f":"IFERROR(INDEX('Current Standards'!P:P,MATCH('Sheet Counter'!AI283,'Current Standards'!O:O,0),0),\"\")","v":""}]
[null,null,0,"","",{"$error":"#VALUE!"},"",{"$f":"IF(I284=\"\",\"\",LARGE(H$1:H283,1)+1)","v":{"$error":"#VALUE!"}},{"$error":"#VALUE!"},283,{"$error":"#N/A"},"",null,null,283,0,{"$f":"IF(R284=\"\",\"\",LARGE(Q$1:Q283,1)+1)","v":{"$error":"#NUM!"}},{"$error":"#NUM!"},283,{"$error":"#N/A"},"","",null,null,0,{"$error":"#VALUE!"},3999,"","",null,null,null,null,{"$error":"#VALUE!"},{"$error":"#VALUE!"},{"$f":"COUNTIF('Standards LOOKUP'!B:B,AI284)","v":0},{"$f":"IFERROR(INDEX('Standards LOOKUP'!C:C,MATCH(AI284,'Standards LOOKUP'!B:B,0),0),0)","v":0},{"$f":"IFERROR(INDEX('Current Standards'!P:P,MATCH('Sheet Counter'!AI284,'Current Standards'!O:O,0),0),\"\")","v":""}]
[null,null,0,"","",{"$error":"#VALUE!"},"",{"$f":"IF(I285=\"\",\"\",LARGE(H$1:H284,1)+1)","v":{"$error":"#VALUE!"}},{"$error":"#VALUE!"},284,{"$error":"#N/A"},"",null,null,284,0,{"$f":"IF(R285=\"\",\"\",LARGE(Q$1:Q284,1)+1)","v":{"$error":"#NUM!"}},{"$error":"#NUM!"},284,{"$error":"#N/A"},"","",null,null,0,{"$error":"#VALUE!"},3999,"","",null,null,null,null,{"$error":"#VALUE!"},{"$error":"#VALUE!"},{"$f":"COUNTIF('Standards LOOKUP'!B:B,AI285)","v":0},{"$f":"IFERROR(INDEX('Standards LOOKUP'!C:C,MATCH(AI285,'Standards LOOKUP'!B:B,0),0),0)","v":0},{"$f":"IFERROR(INDEX('Current Standards'!P:P,MATCH('Sheet Counter'!AI285,'Current Standards'!O:O,0),0),\"\")","v":""}]
[null,null,0,"","",{"$error":"#VALUE!"},"",{"$f":"IF(I286=\"\",\"\",LARGE(H$1:H285,1)+1)","v":{"$error":"#VALUE!"}},{"$error":"#VALUE!"},285,{"$error":"#N/A"},"",null,null,285,0,{"$f":"IF(R286=\"\",\"\",LARGE(Q$1:Q285,1)+1)","v":{"$error":"#NUM!"}},{"$error":"#NUM!"},285,{"$error":"#N/A"},"","",null,null,0,{"$error":"#VALUE!"},3999,"","",null,null,null,null,{"$error":"#VALUE!"},{"$error":"#VALUE!"},{"$f":"COUNTIF('Standards LOOKUP'!B:B,AI286)","v":0},{"$f":"IFERROR(INDEX('Standards LOOKUP'!C:C,MATCH(AI286,'Standards LOOKUP'!B:B,0),0),0)","v":0},{"$f":"IFERROR(INDEX('Current Standards'!P:P,MATCH('Sheet Counter'!AI286,'Current Standards'!O:O,0),0),\"\")","v":""}]
[null,null,0,"","",{"$error":"#VALUE!"},"",{"$f":"IF(I287=\"\",\"\",LARGE(H$1:H286,1)+1)","v":{"$error":"#VALUE!"}},{"$error":"#VALUE!"},286,{"$error":"#N/A"},"",null,null,286,0,{"$f":"IF(R287=\"\",\"\",LARGE(Q$1:Q286,1)+1)","v":{"$error":"#NUM!"}},{"$error":"#NUM!"},286,{"$f":"VLOOKUP(S287,Q:R,2,0)","v":{"$error":"#N/A"}},"","",null,null,0,{"$error":"#VALUE!"},3999,"","",null,null,null,null,{"$error":"#VALUE!"},{"$error":"#VALUE!"},{"$f":"COUNTIF('Standards LOOKUP'!B:B,AI287)","v":0},{"$f":"IFERROR(INDEX('Standards LOOKUP'!C:C,MATCH(AI287,'Standards LOOKUP'!B:B,0),0),0)","v":0},{"$f":"IFERROR(INDEX('Current Standards'!P:P,MATCH('Sheet Counter'!AI287,'Current Standards'!O:O,0),0),\"\")","v":""}]
[null,null,0,"","",{"$error":"#VALUE!"},"",{"$f":"IF(I288=\"\",\"\",LARGE(H$1:H287,1)+1)","v":{"$error":"#VALUE!"}},{"$error":"#VALUE!"},287,{"$error":"#N/A"},"",null,null,287,0,{"$f":"IF(R288=\"\",\"\",LARGE(Q$1:Q287,1)+1)","v":{"$error":"#NUM!"}},{"$error":"#NUM!"},287,{"$error":"#N/A"},"","",null,null,0,{"$error":"#VALUE!"},3999,"","",null,null,null,null,{"$error":"#VALUE!"},{"$error":"#VALUE!"},{"$f":"COUNTIF('Standards LOOKUP'!B:B,AI288)","v":0},{"$f":"IFERROR(INDEX('Standards LOOKUP'!C:C,MATCH(AI288,'Standards LOOKUP'!B:B,0),0),0)","v":0},{"$f":"IFERROR(INDEX('Current Standards'!P:P,MATCH('Sheet Counter'!AI288,'Current Standards'!O:O,0),0),\"\")","v":""}]
[null,null,0,"","",{"$error":"#VALUE!"},"",{"$f":"IF(I289=\"\",\"\",LARGE(H$1:H288,1)+1)","v":{"$error":"#VALUE!"}},{"$error":"#VALUE!"},288,{"$error":"#N/A"},"",null,null,288,0,{"$f":"IF(R289=\"\",\"\",LARGE(Q$1:Q288,1)+1)","v":{"$error":"#NUM!"}},{"$error":"#NUM!"},288,{"$error":"#N/A"},"","",null,null,0,{"$error":"#VALUE!"},3999,"","",null,null,null,null,{"$error":"#VALUE!"},{"$error":"#VALUE!"},{"$f":"COUNTIF('Standards LOOKUP'!B:B,AI289)","v":0},{"$f":"IFERROR(INDEX('Standards LOOKUP'!C:C,MATCH(AI289,'Standards LOOKUP'!B:B,0),0),0)","v":0},{"$f":"IFERROR(INDEX('Current Standards'!P:P,MATCH('Sheet Counter'!AI289,'Current Standards'!O:O,0),0),\"\")","v":""}]
[null,null,0,"","",{"$error":"#VALUE!"},"",{"$f":"IF(I290=\"\",\"\",LARGE(H$1:H289,1)+1)","v":{"$error":"#VALUE!"}},{"$error":"#VALUE!"},289,{"$error":"#N/A"},"",null,null,289,0,{"$f":"IF(R290=\"\",\"\",LARGE(Q$1:Q289,1)+1)","v":{"$error":"#NUM!"}},{"$error":"#NUM!"},289,{"$error":"#N/A"},"","",null,null,0,{"$error":"#VALUE!"},3999,"","",null,null,null,null,{"$error":"#VALUE!"},{"$error":"#VALUE!"},{"$f":"COUNTIF('Standards LOOKUP'!B:B,AI290)","v":0},{"$f":"IFERROR(INDEX('Standards LOOKUP'!C:C,MATCH(AI290,'Standards LOOKUP'!B:B,0),0),0)","v":0},{"$f":"IFERROR(INDEX('Current Standards'!P:P,MATCH('Sheet Counter'!AI290,'Current Standards'!O:O,0),0),\"\")","v":""}]
[null,null,0,"","",{"$error":"#VALUE!"},"",{"$f":"IF(I291=\"\",\"\",LARGE(H$1:H290,1)+1)","v":{"$error":"#VALUE!"}},{"$error":"#VALUE!"},290,{"$error":"#N/A"},"",null,null,290,0,{"$f":"IF(R291=\"\",\"\",LARGE(Q$1:Q290,1)+1)","v":{"$error":"#NUM!"}},{"$error":"#NUM!"},290,{"$error":"#N/A"},"","",null,null,0,{"$error":"#VALUE!"},3999,"","",null,null,null,null,{"$error":"#VALUE!"},{"$error":"#VALUE!"},{"$f":"COUNTIF('Standards LOOKUP'!B:B,AI291)","v":0},{"$f":"IFERROR(INDEX('Standards LOOKUP'!C:C,MATCH(AI291,'Standards LOOKUP'!B:B,0),0),0)","v":0},{"$f":"IFERROR(INDEX('Current Standards'!P:P,MATCH('Sheet Counter'!AI291,'Current Standards'!O:O,0),0),\"\")","v":""}]
[null,null,0,"","",{"$error":"#VALUE!"},"",{"$f":"IF(I292=\"\",\"\",LARGE(H$1:H291,1)+1)","v":{"$error":"#VALUE!"}},{"$error":"#VALUE!"},291,{"$error":"#N/A"},"",null,null,291,0,{"$f":"IF(R292=\"\",\"\",LARGE(Q$1:Q291,1)+1)","v":{"$error":"#NUM!"}},{"$error":"#NUM!"},291,{"$error":"#N/A"},"","",null,null,0,{"$error":"#VALUE!"},3999,"","",null,null,null,null,{"$error":"#VALUE!"},{"$error":"#VALUE!"},{"$f":"COUNTIF('Standards LOOKUP'!B:B,AI292)","v":0},{"$f":"IFERROR(INDEX('Standards LOOKUP'!C:C,MATCH(AI292,'Standards LOOKUP'!B:B,0),0),0)","v":0},{"$f":"IFERROR(INDEX('Current Standards'!P:P,MATCH('Sheet Counter'!AI292,'Current Standards'!O:O,0),0),\"\")","v":""}]
[null,null,0,"","",{"$error":"#VALUE!"},"",{"$f":"IF(I293=\"\",\"\",LARGE(H$1:H292,1)+1)","v":{"$error":"#VALUE!"}},{"$error":"#VALUE!"},292,{"$error":"#N/A"},"",null,null,292,0,{"$f":"IF(R293=\"\",\"\",LARGE(Q$1:Q292,1)+1)","v":{"$error":"#NUM!"}},{"$error":"#NUM!"},292,{"$error":"#N/A"},"","",null,null,0,{"$error":"#VALUE!"},3999,"","",null,null,null,null,{"$error":"#VALUE!"},{"$error":"#VALUE!"},{"$f":"COUNTIF('Standards LOOKUP'!B:B,AI293)","v":0},{"$f":"IFERROR(INDEX('Standards LOOKUP'!C:C,MATCH(AI293,'Standards LOOKUP'!B:B,0),0),0)","v":0},{"$f":"IFERROR(INDEX('Current Standards'!P:P,MATCH('Sheet Counter'!AI293,'Current Standards'!O:O,0),0),\"\")","v":""}]
[null,null,0,"","",{"$error":"#VALUE!"},"",{"$f":"IF(I294=\"\",\"\",LARGE(H$1:H293,1)+1)","v":{"$error":"#VALUE!"}},{"$error":"#VALUE!"},293,{"$error":"#N/A"},"",null,null,293,0,{"$f":"IF(R294=\"\",\"\",LARGE(Q$1:Q293,1)+1)","v":{"$error":"#NUM!"}},{"$error":"#NUM!"},293,{"$error":"#N/A"},"","",null,null,0,{"$error":"#VALUE!"},3999,"","",null,null,null,null,{"$error":"#VALUE!"},{"$error":"#VALUE!"},{"$f":"COUNTIF('Standards LOOKUP'!B:B,AI294)","v":0},{"$f":"IFERROR(INDEX('Standards LOOKUP'!C:C,MATCH(AI294,'Standards LOOKUP'!B:B,0),0),0)","v":0},{"$f":"IFERROR(INDEX('Current Standards'!P:P,MATCH('Sheet Counter'!AI294,'Current Standards'!O:O,0),0),\"\")","v":""}]
[null,null,0,"","",{"$error":"#VALUE!"},"",{"$f":"IF(I295=\"\",\"\",LARGE(H$1:H294,1)+1)","v":{"$error":"#VALUE!"}},{"$error":"#VALUE!"},294,{"$error":"#N/A"},"",null,null,294,0,{"$f":"IF(R295=\"\",\"\",LARGE(Q$1:Q294,1)+1)","v":{"$error":"#NUM!"}},{"$error":"#NUM!"},294,{"$error":"#N/A"},"","",null,null,0,{"$error":"#VALUE!"},3999,"","",null,null,null,null,{"$error":"#VALUE!"},{"$error":"#VALUE!"},{"$f":"COUNTIF('Standards LOOKUP'!B:B,AI295)","v":0},{"$f":"IFERROR(INDEX('Standards LOOKUP'!C:C,MATCH(AI295,'Standards LOOKUP'!B:B,0),0),0)","v":0},{"$f":"IFERROR(INDEX('Current Standards'!P:P,MATCH('Sheet Counter'!AI295,'Current Standards'!O:O,0),0),\"\")","v":""}]
[null,null,0,"","",{"$error":"#VALUE!"},"",{"$f":"IF(I296=\"\",\"\",LARGE(H$1:H295,1)+1)","v":{"$error":"#VALUE!"}},{"$error":"#VALUE!"},295,{"$f":"VLOOKUP(J296,H:I,2,0)","v":{"$error":"#N/A"}},"",null,null,295,0,{"$f":"IF(R296=\"\",\"\",LARGE(Q$1:Q295,1)+1)","v":{"$error":"#NUM!"}},{"$error":"#NUM!"},295,{"$error":"#N/A"},"","",null,null,0,{"$error":"#VALUE!"},3999,"","",null,null,null,null,{"$error":"#VALUE!"},{"$error":"#VALUE!"},{"$f":"COUNTIF('Standards LOOKUP'!B:B,AI296)","v":0},{"$f":"IFERROR(INDEX('Standards LOOKUP'!C:C,MATCH(AI296,'Standards LOOKUP'!B:B,0),0),0)","v":0},{"$f":"IFERROR(INDEX('Current Standards'!P:P,MATCH('Sheet Counter'!AI296,'Current Standards'!O:O,0),0),\"\")","v":""}]
[null,null,0,"","",{"$error":"#VALUE!"},"",{"$f":"IF(I297=\"\",\"\",LARGE(H$1:H296,1)+1)","v":{"$error":"#VALUE!"}},{"$error":"#VALUE!"},296,{"$error":"#N/A"},"",null,null,296,0,{"$f":"IF(R297=\"\",\"\",LARGE(Q$1:Q296,1)+1)","v":{"$error":"#NUM!"}},{"$error":"#NUM!"},296,{"$error":"#N/A"},"","",null,null,0,{"$error":"#VALUE!"},3999,"","",null,null,null,null,{"$error":"#VALUE!"},{"$error":"#VALUE!"},{"$f":"COUNTIF('Standards LOOKUP'!B:B,AI297)","v":0},{"$f":"IFERROR(INDEX('Standards LOOKUP'!C:C,MATCH(AI297,'Standards LOOKUP'!B:B,0),0),0)","v":0},{"$f":"IFERROR(INDEX('Current Standards'!P:P,MATCH('Sheet Counter'!AI297,'Current Standards'!O:O,0),0),\"\")","v":""}]
[null,null,0,"","",{"$error":"#VALUE!"},"",{"$f":"IF(I298=\"\",\"\",LARGE(H$1:H297,1)+1)","v":{"$error":"#VALUE!"}},{"$error":"#VALUE!"},297,{"$error":"#N/A"},"",null,null,297,0,{"$f":"IF(R298=\"\",\"\",LARGE(Q$1:Q297,1)+1)","v":{"$error":"#NUM!"}},{"$error":"#NUM!"},297,{"$error":"#N/A"},"","",null,null,0,{"$error":"#VALUE!"},3999,"","",null,null,null,null,{"$error":"#VALUE!"},{"$error":"#VALUE!"},{"$f":"COUNTIF('Standards LOOKUP'!B:B,AI298)","v":0},{"$f":"IFERROR(INDEX('Standards LOOKUP'!C:C,MATCH(AI298,'Standards LOOKUP'!B:B,0),0),0)","v":0},{"$f":"IFERROR(INDEX('Current Standards'!P:P,MATCH('Sheet Counter'!AI298,'Current Standards'!O:O,0),0),\"\")","v":""}]
[null,null,0,"","",{"$error":"#VALUE!"},"",{"$f":"IF(I299=\"\",\"\",LARGE(H$1:H298,1)+1)","v":{"$error":"#VALUE!"}},{"$error":"#VALUE!"},298,{"$error":"#N/A"},"",null,null,298,0,{"$f":"IF(R299=\"\",\"\",LARGE(Q$1:Q298,1)+1)","v":{"$error":"#NUM!"}},{"$error":"#NUM!"},298,{"$error":"#N/A"},"","",null,null,0,{"$error":"#VALUE!"},3999,"","",null,null,null,null,{"$error":"#VALUE!"},{"$error":"#VALUE!"},{"$f":"COUNTIF('Standards LOOKUP'!B:B,AI299)","v":0},{"$f":"IFERROR(INDEX('Standards LOOKUP'!C:C,MATCH(AI299,'Standards LOOKUP'!B:B,0),0),0)","v":0},{"$f":"IFERROR(INDEX('Current Standards'!P:P,MATCH('Sheet Counter'!AI299,'Current Standards'!O:O,0),0),\"\")","v":""}]
[null,null,0,"","",{"$error":"#VALUE!"},"",{"$f":"IF(I300=\"\",\"\",LARGE(H$1:H299,1)+1)","v":{"$error":"#VALUE!"}},{"$error":"#VALUE!"},299,{"$error":"#N/A"},"",null,null,299,0,{"$f":"IF(R300=\"\",\"\",LARGE(Q$1:Q299,1)+1)","v":{"$error":"#NUM!"}},{"$error":"#NUM!"},299,{"$error":"#N/A"},"","",null,null,0,{"$error":"#VALUE!"},3999,"","",null,null,null,null,{"$error":"#VALUE!"},{"$error":"#VALUE!"},{"$f":"COUNTIF('Standards LOOKUP'!B:B,AI300)","v":0},{"$f":"IFERROR(INDEX('Standards LOOKUP'!C:C,MATCH(AI300,'Standards LOOKUP'!B:B,0),0),0)","v":0},{"$f":"IFERROR(INDEX('Current Standards'!P:P,MATCH('Sheet Counter'!AI300,'Current Standards'!O:O,0),0),\"\")","v":""}]
[null,null,0,"","",{"$error":"#VALUE!"},"",{"$f":"IF(I301=\"\",\"\",LARGE(H$1:H300,1)+1)","v":{"$error":"#VALUE!"}},{"$error":"#VALUE!"},300,{"$error":"#N/A"},"",null,null,300,0,{"$f":"IF(R301=\"\",\"\",LARGE(Q$1:Q300,1)+1)","v":{"$error":"#NUM!"}},{"$error":"#NUM!"},300,{"$error":"#N/A"},"","",null,null,0,{"$error":"#VALUE!"},3999,"","",null,null,null,null,{"$error":"#VALUE!"},{"$error":"#VALUE!"},{"$f":"COUNTIF('Standards LOOKUP'!B:B,AI301)","v":0},{"$f":"IFERROR(INDEX('Standards LOOKUP'!C:C,MATCH(AI301,'Standards LOOKUP'!B:B,0),0),0)","v":0},{"$f":"IFERROR(INDEX('Current Standards'!P:P,MATCH('Sheet Counter'!AI301,'Current Standards'!O:O,0),0),\"\")","v":""}]
[null,null,0,"","",{"$error":"#VALUE!"},"",{"$f":"IF(I302=\"\",\"\",LARGE(H$1:H301,1)+1)","v":{"$error":"#VALUE!"}},{"$error":"#VALUE!"},301,{"$error":"#N/A"},"",null,null,301,0,{"$f":"IF(R302=\"\",\"\",LARGE(Q$1:Q301,1)+1)","v":{"$error":"#NUM!"}},{"$error":"#NUM!"},301,{"$error":"#N/A"},"","",null,null,0,{"$error":"#VALUE!"},3999,"","",null,null,null,null,{"$error":"#VALUE!"},{"$error":"#VALUE!"},{"$f":"COUNTIF('Standards LOOKUP'!B:B,AI302)","v":0},{"$f":"IFERROR(INDEX('Standards LOOKUP'!C:C,MATCH(AI302,'Standards LOOKUP'!B:B,0),0),0)","v":0},{"$f":"IFERROR(INDEX('Current Standards'!P:P,MATCH('Sheet Counter'!AI302,'Current Standards'!O:O,0),0),\"\")","v":""}]
[null,null,0,"","",{"$error":"#VALUE!"},"",{"$f":"IF(I303=\"\",\"\",LARGE(H$1:H302,1)+1)","v":{"$error":"#VALUE!"}},{"$error":"#VALUE!"},302,{"$error":"#N/A"},"",null,null,302,0,{"$f":"IF(R303=\"\",\"\",LARGE(Q$1:Q302,1)+1)","v":{"$error":"#NUM!"}},{"$error":"#NUM!"},302,{"$error":"#N/A"},"","",null,null,0,{"$error":"#VALUE!"},3999,"","",null,null,null,null,{"$error":"#VALUE!"},{"$error":"#VALUE!"},{"$f":"COUNTIF('Standards LOOKUP'!B:B,AI303)","v":0},{"$f":"IFERROR(INDEX('Standards LOOKUP'!C:C,MATCH(AI303,'Standards LOOKUP'!B:B,0),0),0)","v":0},{"$f":"IFERROR(INDEX('Current Standards'!P:P,MATCH('Sheet Counter'!AI303,'Current Standards'!O:O,0),0),\"\")","v":""}]
[null,null,0,"","",{"$error":"#VALUE!"},"",{"$f":"IF(I304=\"\",\"\",LARGE(H$1:H303,1)+1)","v":{"$error":"#VALUE!"}},{"$error":"#VALUE!"},303,{"$error":"#N/A"},"",null,null,303,0,{"$f":"IF(R304=\"\",\"\",LARGE(Q$1:Q303,1)+1)","v":{"$error":"#NUM!"}},{"$error":"#NUM!"},303,{"$error":"#N/A"},"","",null,null,0,{"$error":"#VALUE!"},3999,"","",null,null,null,null,{"$error":"#VALUE!"},{"$error":"#VALUE!"},{"$f":"COUNTIF('Standards LOOKUP'!B:B,AI304)","v":0},{"$f":"IFERROR(INDEX('Standards LOOKUP'!C:C,MATCH(AI304,'Standards LOOKUP'!B:B,0),0),0)","v":0},{"$f":"IFERROR(INDEX('Current Standards'!P:P,MATCH('Sheet Counter'!AI304,'Current Standards'!O:O,0),0),\"\")","v":""}]
[null,null,0,"","",{"$error":"#VALUE!"},"",{"$f":"IF(I305=\"\",\"\",LARGE(H$1:H304,1)+1)","v":{"$error":"#VALUE!"}},{"$error":"#VALUE!"},304,{"$error":"#N/A"},"",null,null,304,0,{"$f":"IF(R305=\"\",\"\",LARGE(Q$1:Q304,1)+1)","v":{"$error":"#NUM!"}},{"$error":"#NUM!"},304,{"$error":"#N/A"},"","",null,null,0,{"$error":"#VALUE!"},3999,"","",null,null,null,null,{"$error":"#VALUE!"},{"$error":"#VALUE!"},{"$f":"COUNTIF('Standards LOOKUP'!B:B,AI305)","v":0},{"$f":"IFERROR(INDEX('Standards LOOKUP'!C:C,MATCH(AI305,'Standards LOOKUP'!B:B,0),0),0)","v":0},{"$f":"IFERROR(INDEX('Current Standards'!P:P,MATCH('Sheet Counter'!AI305,'Current Standards'!O:O,0),0),\"\")","v":""}]
[null,null,0,"","",{"$error":"#VALUE!"},"",{"$f":"IF(I306=\"\",\"\",LARGE(H$1:H305,1)+1)","v":{"$error":"#VALUE!"}},{"$error":"#VALUE!"},305,{"$error":"#N/A"},"",null,null,305,0,{"$f":"IF(R306=\"\",\"\",LARGE(Q$1:Q305,1)+1)","v":{"$error":"#NUM!"}},{"$error":"#NUM!"},305,{"$error":"#N/A"},"","",null,null,0,{"$error":"#VALUE!"},3999,"","",null,null,null,null,{"$error":"#VALUE!"},{"$error":"#VALUE!"},{"$f":"COUNTIF('Standards LOOKUP'!B:B,AI306)","v":0},{"$f":"IFERROR(INDEX('Standards LOOKUP'!C:C,MATCH(AI306,'Standards LOOKUP'!B:B,0),0),0)","v":0},{"$f":"IFERROR(INDEX('Current Standards'!P:P,MATCH('Sheet Counter'!AI306,'Current Standards'!O:O,0),0),\"\")","v":""}]
[null,null,0,"","",{"$error":"#VALUE!"},"",{"$f":"IF(I307=\"\",\"\",LARGE(H$1:H306,1)+1)","v":{"$error":"#VALUE!"}},{"$error":"#VALUE!"},306,{"$error":"#N/A"},"",null,null,306,0,{"$f":"IF(R307=\"\",\"\",LARGE(Q$1:Q306,1)+1)","v":{"$error":"#NUM!"}},{"$error":"#NUM!"},306,{"$error":"#N/A"},"","",null,null,0,{"$error":"#VALUE!"},3999,"","",null,null,null,null,{"$error":"#VALUE!"},{"$error":"#VALUE!"},{"$f":"COUNTIF('Standards LOOKUP'!B:B,AI307)","v":0},{"$f":"IFERROR(INDEX('Standards LOOKUP'!C:C,MATCH(AI307,'Standards LOOKUP'!B:B,0),0),0)","v":0},{"$f":"IFERROR(INDEX('Current Standards'!P:P,MATCH('Sheet Counter'!AI307,'Current Standards'!O:O,0),0),\"\")","v":""}]
[null,null,0,"","",{"$error":"#VALUE!"},"",{"$f":"IF(I308=\"\",\"\",LARGE(H$1:H307,1)+1)","v":{"$error":"#VALUE!"}},{"$error":"#VALUE!"},307,{"$error":"#N/A"},"",null,null,307,0,{"$f":"IF(R308=\"\",\"\",LARGE(Q$1:Q307,1)+1)","v":{"$error":"#NUM!"}},{"$error":"#NUM!"},307,{"$error":"#N/A"},"","",null,null,0,{"$error":"#VALUE!"},3999,"","",null,null,null,null,{"$error":"#VALUE!"},{"$error":"#VALUE!"},{"$f":"COUNTIF('Standards LOOKUP'!B:B,AI308)","v":0},{"$f":"IFERROR(INDEX('Standards LOOKUP'!C:C,MATCH(AI308,'Standards LOOKUP'!B:B,0),0),0)","v":0},{"$f":"IFERROR(INDEX('Current Standards'!P:P,MATCH('Sheet Counter'!AI308,'Current Standards'!O:O,0),0),\"\")","v":""}]
[null,null,0,"","",{"$error":"#VALUE!"},"",{"$f":"IF(I309=\"\",\"\",LARGE(H$1:H308,1)+1)","v":{"$error":"#VALUE!"}},{"$error":"#VALUE!"},308,{"$error":"#N/A"},"",null,null,308,0,{"$f":"IF(R309=\"\",\"\",LARGE(Q$1:Q308,1)+1)","v":{"$error":"#NUM!"}},{"$error":"#NUM!"},308,{"$error":"#N/A"},"","",null,null,0,{"$error":"#VALUE!"},3999,"","",null,null,null,null,{"$error":"#VALUE!"},{"$error":"#VALUE!"},{"$f":"COUNTIF('Standards LOOKUP'!B:B,AI309)","v":0},{"$f":"IFERROR(INDEX('Standards LOOKUP'!C:C,MATCH(AI309,'Standards LOOKUP'!B:B,0),0),0)","v":0},{"$f":"IFERROR(INDEX('Current Standards'!P:P,MATCH('Sheet Counter'!AI309,'Current Standards'!O:O,0),0),\"\")","v":""}]
[null,null,0,"","",{"$error":"#VALUE!"},"",{"$f":"IF(I310=\"\",\"\",LARGE(H$1:H309,1)+1)","v":{"$error":"#VALUE!"}},{"$error":"#VALUE!"},309,{"$error":"#N/A"},"",null,null,309,0,{"$f":"IF(R310=\"\",\"\",LARGE(Q$1:Q309,1)+1)","v":{"$error":"#NUM!"}},{"$error":"#NUM!"},309,{"$error":"#N/A"},"","",null,null,0,{"$error":"#VALUE!"},3999,"","",null,null,null,null,{"$error":"#VALUE!"},{"$error":"#VALUE!"},{"$f":"COUNTIF('Standards LOOKUP'!B:B,AI310)","v":0},{"$f":"IFERROR(INDEX('Standards LOOKUP'!C:C,MATCH(AI310,'Standards LOOKUP'!B:B,0),0),0)","v":0},{"$f":"IFERROR(INDEX('Current Standards'!P:P,MATCH('Sheet Counter'!AI310,'Current Standards'!O:O,0),0),\"\")","v":""}]
[null,null,0,"","",{"$error":"#VALUE!"},"",{"$f":"IF(I311=\"\",\"\",LARGE(H$1:H310,1)+1)","v":{"$error":"#VALUE!"}},{"$error":"#VALUE!"},310,{"$error":"#N/A"},"",null,null,310,0,{"$f":"IF(R311=\"\",\"\",LARGE(Q$1:Q310,1)+1)","v":{"$error":"#NUM!"}},{"$error":"#NUM!"},310,{"$error":"#N/A"},"","",null,null,0,{"$error":"#VALUE!"},3999,"","",null,null,null,null,{"$error":"#VALUE!"},{"$error":"#VALUE!"},{"$f":"COUNTIF('Standards LOOKUP'!B:B,AI311)","v":0},{"$f":"IFERROR(INDEX('Standards LOOKUP'!C:C,MATCH(AI311,'Standards LOOKUP'!B:B,0),0),0)","v":0},{"$f":"IFERROR(INDEX('Current Standards'!P:P,MATCH('Sheet Counter'!AI311,'Current Standards'!O:O,0),0),\"\")","v":""}]
[null,null,0,"","",{"$error":"#VALUE!"},"",{"$f":"IF(I312=\"\",\"\",LARGE(H$1:H311,1)+1)","v":{"$error":"#VALUE!"}},{"$error":"#VALUE!"},311,{"$error":"#N/A"},"",null,null,311,0,{"$f":"IF(R312=\"\",\"\",LARGE(Q$1:Q311,1)+1)","v":{"$error":"#NUM!"}},{"$error":"#NUM!"},311,{"$error":"#N/A"},"","",null,null,0,{"$error":"#VALUE!"},3999,"","",null,null,null,null,{"$error":"#VALUE!"},{"$error":"#VALUE!"},{"$f":"COUNTIF('Standards LOOKUP'!B:B,AI312)","v":0},{"$f":"IFERROR(INDEX('Standards LOOKUP'!C:C,MATCH(AI312,'Standards LOOKUP'!B:B,0),0),0)","v":0},{"$f":"IFERROR(INDEX('Current Standards'!P:P,MATCH('Sheet Counter'!AI312,'Current Standards'!O:O,0),0),\"\")","v":""}]
[null,null,0,"","",{"$error":"#VALUE!"},"",{"$f":"IF(I313=\"\",\"\",LARGE(H$1:H312,1)+1)","v":{"$error":"#VALUE!"}},{"$error":"#VALUE!"},312,{"$error":"#N/A"},"",null,null,312,0,{"$f":"IF(R313=\"\",\"\",LARGE(Q$1:Q312,1)+1)","v":{"$error":"#NUM!"}},{"$error":"#NUM!"},312,{"$error":"#N/A"},"","",null,null,0,{"$error":"#VALUE!"},3999,"","",null,null,null,null,{"$error":"#VALUE!"},{"$error":"#VALUE!"},{"$f":"COUNTIF('Standards LOOKUP'!B:B,AI313)","v":0},{"$f":"IFERROR(INDEX('Standards LOOKUP'!C:C,MATCH(AI313,'Standards LOOKUP'!B:B,0),0),0)","v":0},{"$f":"IFERROR(INDEX('Current Standards'!P:P,MATCH('Sheet Counter'!AI313,'Current Standards'!O:O,0),0),\"\")","v":""}]
[null,null,0,"","",{"$error":"#VALUE!"},"",{"$f":"IF(I314=\"\",\"\",LARGE(H$1:H313,1)+1)","v":{"$error":"#VALUE!"}},{"$error":"#VALUE!"},313,{"$error":"#N/A"},"",null,null,313,0,{"$f":"IF(R314=\"\",\"\",LARGE(Q$1:Q313,1)+1)","v":{"$error":"#NUM!"}},{"$error":"#NUM!"},313,{"$error":"#N/A"},"","",null,null,0,{"$error":"#VALUE!"},3999,"","",null,null,null,null,{"$error":"#VALUE!"},{"$error":"#VALUE!"},{"$f":"COUNTIF('Standards LOOKUP'!B:B,AI314)","v":0},{"$f":"IFERROR(INDEX('Standards LOOKUP'!C:C,MATCH(AI314,'Standards LOOKUP'!B:B,0),0),0)","v":0},{"$f":"IFERROR(INDEX('Current Standards'!P:P,MATCH('Sheet Counter'!AI314,'Current Standards'!O:O,0),0),\"\")","v":""}]
[null,null,0,"","",{"$error":"#VALUE!"},"",{"$f":"IF(I315=\"\",\"\",LARGE(H$1:H314,1)+1)","v":{"$error":"#VALUE!"}},{"$error":"#VALUE!"},314,{"$error":"#N/A"},"",null,null,314,0,{"$f":"IF(R315=\"\",\"\",LARGE(Q$1:Q314,1)+1)","v":{"$error":"#NUM!"}},{"$error":"#NUM!"},314,{"$error":"#N/A"},"","",null,null,0,{"$error":"#VALUE!"},3999,"","",null,null,null,null,{"$error":"#VALUE!"},{"$error":"#VALUE!"},{"$f":"COUNTIF('Standards LOOKUP'!B:B,AI315)","v":0},{"$f":"IFERROR(INDEX('Standards LOOKUP'!C:C,MATCH(AI315,'Standards LOOKUP'!B:B,0),0),0)","v":0},{"$f":"IFERROR(INDEX('Current Standards'!P:P,MATCH('Sheet Counter'!AI315,'Current Standards'!O:O,0),0),\"\")","v":""}]
[null,null,0,"","",{"$error":"#VALUE!"},"",{"$f":"IF(I316=\"\",\"\",LARGE(H$1:H315,1)+1)","v":{"$error":"#VALUE!"}},{"$error":"#VALUE!"},315,{"$error":"#N/A"},"",null,null,315,0,{"$f":"IF(R316=\"\",\"\",LARGE(Q$1:Q315,1)+1)","v":{"$error":"#NUM!"}},{"$error":"#NUM!"},315,{"$error":"#N/A"},"","",null,null,0,{"$error":"#VALUE!"},3999,"","",null,null,null,null,{"$error":"#VALUE!"},{"$error":"#VALUE!"},{"$f":"COUNTIF('Standards LOOKUP'!B:B,AI316)","v":0},{"$f":"IFERROR(INDEX('Standards LOOKUP'!C:C,MATCH(AI316,'Standards LOOKUP'!B:B,0),0),0)","v":0},{"$f":"IFERROR(INDEX('Current Standards'!P:P,MATCH('Sheet Counter'!AI316,'Current Standards'!O:O,0),0),\"\")","v":""}]
[null,null,0,"","",{"$error":"#VALUE!"},"",{"$f":"IF(I317=\"\",\"\",LARGE(H$1:H316,1)+1)","v":{"$error":"#VALUE!"}},{"$error":"#VALUE!"},316,{"$error":"#N/A"},"",null,null,316,0,{"$f":"IF(R317=\"\",\"\",LARGE(Q$1:Q316,1)+1)","v":{"$error":"#NUM!"}},{"$error":"#NUM!"},316,{"$error":"#N/A"},"","",null,null,0,{"$error":"#VALUE!"},3999,"","",null,null,null,null,{"$error":"#VALUE!"},{"$error":"#VALUE!"},{"$f":"COUNTIF('Standards LOOKUP'!B:B,AI317)","v":0},{"$f":"IFERROR(INDEX('Standards LOOKUP'!C:C,MATCH(AI317,'Standards LOOKUP'!B:B,0),0),0)","v":0},{"$f":"IFERROR(INDEX('Current Standards'!P:P,MATCH('Sheet Counter'!AI317,'Current Standards'!O:O,0),0),\"\")","v":""}]
[null,null,0,"","",{"$error":"#VALUE!"},"",{"$f":"IF(I318=\"\",\"\",LARGE(H$1:H317,1)+1)","v":{"$error":"#VALUE!"}},{"$error":"#VALUE!"},317,{"$error":"#N/A"},"",null,null,317,0,{"$f":"IF(R318=\"\",\"\",LARGE(Q$1:Q317,1)+1)","v":{"$error":"#NUM!"}},{"$error":"#NUM!"},317,{"$error":"#N/A"},"","",null,null,0,{"$error":"#VALUE!"},3999,"","",null,null,null,null,{"$error":"#VALUE!"},{"$error":"#VALUE!"},{"$f":"COUNTIF('Standards LOOKUP'!B:B,AI318)","v":0},{"$f":"IFERROR(INDEX('Standards LOOKUP'!C:C,MATCH(AI318,'Standards LOOKUP'!B:B,0),0),0)","v":0},{"$f":"IFERROR(INDEX('Current Standards'!P:P,MATCH('Sheet Counter'!AI318,'Current Standards'!O:O,0),0),\"\")","v":""}]
[null,null,0,"","",{"$error":"#VALUE!"},"",{"$f":"IF(I319=\"\",\"\",LARGE(H$1:H318,1)+1)","v":{"$error":"#VALUE!"}},{"$error":"#VALUE!"},318,{"$error":"#N/A"},"",null,null,318,0,{"$f":"IF(R319=\"\",\"\",LARGE(Q$1:Q318,1)+1)","v":{"$error":"#NUM!"}},{"$error":"#NUM!"},318,{"$error":"#N/A"},"","",null,null,0,{"$error":"#VALUE!"},3999,"","",null,null,null,null,{"$error":"#VALUE!"},{"$error":"#VALUE!"},{"$f":"COUNTIF('Standards LOOKUP'!B:B,AI319)","v":0},{"$f":"IFERROR(INDEX('Standards LOOKUP'!C:C,MATCH(AI319,'Standards LOOKUP'!B:B,0),0),0)","v":0},{"$f":"IFERROR(INDEX('Current Standards'!P:P,MATCH('Sheet Counter'!AI319,'Current Standards'!O:O,0),0),\"\")","v":""}]
[null,null,0,"","",{"$error":"#VALUE!"},"",{"$f":"IF(I320=\"\",\"\",LARGE(H$1:H319,1)+1)","v":{"$error":"#VALUE!"}},{"$error":"#VALUE!"},319,{"$error":"#N/A"},"",null,null,319,0,{"$f":"IF(R320=\"\",\"\",LARGE(Q$1:Q319,1)+1)","v":{"$error":"#NUM!"}},{"$error":"#NUM!"},319,{"$error":"#N/A"},"","",null,null,0,{"$error":"#VALUE!"},3999,"","",null,null,null,null,{"$error":"#VALUE!"},{"$error":"#VALUE!"},{"$f":"COUNTIF('Standards LOOKUP'!B:B,AI320)","v":0},{"$f":"IFERROR(INDEX('Standards LOOKUP'!C:C,MATCH(AI320,'Standards LOOKUP'!B:B,0),0),0)","v":0},{"$f":"IFERROR(INDEX('Current Standards'!P:P,MATCH('Sheet Counter'!AI320,'Current Standards'!O:O,0),0),\"\")","v":""}]
[null,null,0,"","",{"$error":"#VALUE!"},"",{"$f":"IF(I321=\"\",\"\",LARGE(H$1:H320,1)+1)","v":{"$error":"#VALUE!"}},{"$error":"#VALUE!"},320,{"$error":"#N/A"},"",null,null,320,0,{"$f":"IF(R321=\"\",\"\",LARGE(Q$1:Q320,1)+1)","v":{"$error":"#NUM!"}},{"$error":"#NUM!"},320,{"$error":"#N/A"},"","",null,null,0,{"$error":"#VALUE!"},3999,"","",null,null,null,null,{"$error":"#VALUE!"},{"$error":"#VALUE!"},{"$f":"COUNTIF('Standards LOOKUP'!B:B,AI321)","v":0},{"$f":"IFERROR(INDEX('Standards LOOKUP'!C:C,MATCH(AI321,'Standards LOOKUP'!B:B,0),0),0)","v":0},{"$f":"IFERROR(INDEX('Current Standards'!P:P,MATCH('Sheet Counter'!AI321,'Current Standards'!O:O,0),0),\"\")","v":""}]
[null,null,0,"","",{"$error":"#VALUE!"},"",{"$f":"IF(I322=\"\",\"\",LARGE(H$1:H321,1)+1)","v":{"$error":"#VALUE!"}},{"$f":"IF(G322=\"\",F322,\"\")","v":{"$error":"#VALUE!"}},321,{"$error":"#N/A"},"",null,null,321,{"$f":"COUNTIF(G:G,O322)","v":0},{"$f":"IF(R322=\"\",\"\",LARGE(Q$1:Q321,1)+1)","v":{"$error":"#NUM!"}},{"$error":"#NUM!"},321,{"$error":"#N/A"},"","",null,null,0,{"$error":"#VALUE!"},3999,"","",null,null,null,null,{"$error":"#VALUE!"},{"$error":"#VALUE!"},{"$f":"COUNTIF('Standards LOOKUP'!B:B,AI322)","v":0},{"$f":"IFERROR(INDEX('Standards LOOKUP'!C:C,MATCH(AI322,'Standards LOOKUP'!B:B,0),0),0)","v":0},{"$f":"IFERROR(INDEX('Current Standards'!P:P,MATCH('Sheet Counter'!AI322,'Current Standards'!O:O,0),0),\"\")","v":""}]
[null,null,{"$f":"IF(ISERROR(FIND(\"\\\",A323)),A323,RIGHT(A323,LEN(A323)-FIND(\"~\",SUBSTITUTE(A323,\"\\\",\"~\",LEN(A323)-LEN(SUBSTITUTE(A323,\"\\\",\"\"))))))","v":0},{"$f":"IF(AL323=\"\",\"\",AL323)","v":""},"",{"$f":"LEFT(C323,FIND(\"-\",SUBSTITUTE(SUBSTITUTE(C323,\"_\",\"-\"),\" \",\"-\"))-1)","v":{"$error":"#VALUE!"}},{"$f":"IF(ISNUMBER(F323*1),F323*1,\"\")","v":""},{"$f":"IF(I323=\"\",\"\",LARGE(H$1:H322,1)+1)","v":{"$error":"#VALUE!"}},{"$error":"#VALUE!"},322,{"$error":"#N/A"},{"$f":"IF(ISERROR(K323),\"\",K323)","v":""},null,null,322,0,{"$f":"IF(R323=\"\",\"\",LARGE(Q$1:Q322,1)+1)","v":{"$error":"#NUM!"}},{"$error":"#NUM!"},322,{"$error":"#N/A"},{"$f":"IF(ISERROR(T323),\"\",T323)","v":""},{"$f":"IF(U323=\"\",\"\",VLOOKUP(U323,O:P,2,0))","v":""},null,null,{"$f":"IF(ISERROR(FIND(\"\\\",X323)),X323,RIGHT(X323,LEN(X323)-FIND(\"~\",SUBSTITUTE(X323,\"\\\",\"~\",LEN(X323)-LEN(SUBSTITUTE(X323,\"\\\",\"\"))))))","v":0},{"$f":"LEFT(Y323,FIND(\"-\",SUBSTITUTE(SUBSTITUTE(Y323,\"_\",\"-\"),\" \",\"-\"))-1)","v":{"$error":"#VALUE!"}},{"$f":"COUNTIF(F:F,Z323)","v":3999},{"$f":"IF(OR(AA323<1,ISERROR(Z323)),\"\",INDEX(C:C,MATCH(Z323,F:F)))","v":""},{"$f":"IF(AA323=0,\"New Sheet\",IF(EXACT(UPPER(Y323),UPPER(AB323)),\"Match\",\"\"))","v":""},null,null,null,null,{"$f":"IF(C323=\"\",\"\",LEFT(RIGHT(C323,LEN(C323)-SEARCH(\" \",C323,1)),LEN(RIGHT(C323,LEN(C323)-SEARCH(\" \",C323,1)))-4))","v":{"$error":"#VALUE!"}},{"$f":"TRIM(SUBSTITUTE(SUBSTITUTE(SUBSTITUTE(SUBSTITUTE(SUBSTITUTE(SUBSTITUTE(AH323,\"(\",\"\"),\")\",\"\"),\"-\",\"\"),\"&\",\"\"),\" \",\"\",1),\" \",\"\",1))","v":{"$error":"#VALUE!"}},{"$f":"COUNTIF('Standards LOOKUP'!B:B,AI323)","v":0},{"$f":"IFERROR(INDEX('Standards LOOKUP'!C:C,MATCH(AI323,'Standards LOOKUP'!B:B,0),0),0)","v":0},{"$f":"IFERROR(INDEX('Current Standards'!P:P,MATCH('Sheet Counter'!AI323,'Current Standards'!O:O,0),0),\"\")","v":""}]
[null,null,0,"","",{"$error":"#VALUE!"},"",{"$f":"IF(I324=\"\",\"\",LARGE(H$1:H323,1)+1)","v":{"$error":"#VALUE!"}},{"$error":"#VALUE!"},323,{"$error":"#N/A"},"",null,null,323,0,{"$f":"IF(R324=\"\",\"\",LARGE(Q$1:Q323,1)+1)","v":{"$error":"#NUM!"}},{"$f":"IF(AND(P324<>1,O324<=LARGE(G:G,1),O324>=SMALL(G:G,1)),O324,\"\")","v":{"$error":"#NUM!"}},323,{"$error":"#N/A"},"","",null,null,0,{"$error":"#VALUE!"},3999,"","",null,null,null,null,{"$error":"#VALUE!"},{"$error":"#VALUE!"},{"$f":"COUNTIF('Standards LOOKUP'!B:B,AI324)","v":0},{"$f":"IFERROR(INDEX('Standards LOOKUP'!C:C,MATCH(AI324,'Standards LOOKUP'!B:B,0),0),0)","v":0},{"$f":"IFERROR(INDEX('Current Standards'!P:P,MATCH('Sheet Counter'!AI324,'Current Standards'!O:O,0),0),\"\")","v":""}]
[null,null,0,"","",{"$error":"#VALUE!"},"",{"$f":"IF(I325=\"\",\"\",LARGE(H$1:H324,1)+1)","v":{"$error":"#VALUE!"}},{"$error":"#VALUE!"},324,{"$error":"#N/A"},"",null,null,324,0,{"$f":"IF(R325=\"\",\"\",LARGE(Q$1:Q324,1)+1)","v":{"$error":"#NUM!"}},{"$error":"#NUM!"},324,{"$error":"#N/A"},"","",null,null,0,{"$error":"#VALUE!"},3999,"","",null,null,null,null,{"$error":"#VALUE!"},{"$error":"#VALUE!"},{"$f":"COUNTIF('Standards LOOKUP'!B:B,AI325)","v":0},{"$f":"IFERROR(INDEX('Standards LOOKUP'!C:C,MATCH(AI325,'Standards LOOKUP'!B:B,0),0),0)","v":0},{"$f":"IFERROR(INDEX('Current Standards'!P:P,MATCH('Sheet Counter'!AI325,'Current Standards'!O:O,0),0),\"\")","v":""}]
[null,null,0,"","",{"$error":"#VALUE!"},"",{"$f":"IF(I326=\"\",\"\",LARGE(H$1:H325,1)+1)","v":{"$error":"#VALUE!"}},{"$error":"#VALUE!"},325,{"$error":"#N/A"},"",null,null,325,0,{"$f":"IF(R326=\"\",\"\",LARGE(Q$1:Q325,1)+1)","v":{"$error":"#NUM!"}},{"$error":"#NUM!"},325,{"$error":"#N/A"},"","",null,null,0,{"$error":"#VALUE!"},3999,"","",null,null,null,null,{"$error":"#VALUE!"},{"$error":"#VALUE!"},{"$f":"COUNTIF('Standards LOOKUP'!B:B,AI326)","v":0},{"$f":"IFERROR(INDEX('Standards LOOKUP'!C:C,MATCH(AI326,'Standards LOOKUP'!B:B,0),0),0)","v":0},{"$f":"IFERROR(INDEX('Current Standards'!P:P,MATCH('Sheet Counter'!AI326,'Current Standards'!O:O,0),0),\"\")","v":""}]
[null,null,0,"","",{"$error":"#VALUE!"},"",{"$f":"IF(I327=\"\",\"\",LARGE(H$1:H326,1)+1)","v":{"$error":"#VALUE!"}},{"$error":"#VALUE!"},326,{"$error":"#N/A"},"",null,null,326,0,{"$f":"IF(R327=\"\",\"\",LARGE(Q$1:Q326,1)+1)","v":{"$error":"#NUM!"}},{"$error":"#NUM!"},326,{"$error":"#N/A"},"","",null,null,0,{"$error":"#VALUE!"},3999,"","",null,null,null,null,{"$error":"#VALUE!"},{"$error":"#VALUE!"},{"$f":"COUNTIF('Standards LOOKUP'!B:B,AI327)","v":0},{"$f":"IFERROR(INDEX('Standards LOOKUP'!C:C,MATCH(AI327,'Standards LOOKUP'!B:B,0),0),0)","v":0},{"$f":"IFERROR(INDEX('Current Standards'!P:P,MATCH('Sheet Counter'!AI327,'Current Standards'!O:O,0),0),\"\")","v":""}]
[null,null,0,"","",{"$error":"#VALUE!"},"",{"$f":"IF(I328=\"\",\"\",LARGE(H$1:H327,1)+1)","v":{"$error":"#VALUE!"}},{"$error":"#VALUE!"},327,{"$error":"#N/A"},"",null,null,327,0,{"$f":"IF(R328=\"\",\"\",LARGE(Q$1:Q327,1)+1)","v":{"$error":"#NUM!"}},{"$error":"#NUM!"},327,{"$error":"#N/A"},"","",null,null,0,{"$error":"#VALUE!"},3999,"","",null,null,null,null,{"$error":"#VALUE!"},{"$error":"#VALUE!"},{"$f":"COUNTIF('Standards LOOKUP'!B:B,AI328)","v":0},{"$f":"IFERROR(INDEX('Standards LOOKUP'!C:C,MATCH(AI328,'Standards LOOKUP'!B:B,0),0),0)","v":0},{"$f":"IFERROR(INDEX('Current Standards'!P:P,MATCH('Sheet Counter'!AI328,'Current Standards'!O:O,0),0),\"\")","v":""}]
[null,null,0,"","",{"$error":"#VALUE!"},"",{"$f":"IF(I329=\"\",\"\",LARGE(H$1:H328,1)+1)","v":{"$error":"#VALUE!"}},{"$error":"#VALUE!"},328,{"$error":"#N/A"},"",null,null,328,0,{"$f":"IF(R329=\"\",\"\",LARGE(Q$1:Q328,1)+1)","v":{"$error":"#NUM!"}},{"$error":"#NUM!"},328,{"$error":"#N/A"},"","",null,null,0,{"$error":"#VALUE!"},3999,"","",null,null,null,null,{"$error":"#VALUE!"},{"$error":"#VALUE!"},{"$f":"COUNTIF('Standards LOOKUP'!B:B,AI329)","v":0},{"$f":"IFERROR(INDEX('Standards LOOKUP'!C:C,MATCH(AI329,'Standards LOOKUP'!B:B,0),0),0)","v":0},{"$f":"IFERROR(INDEX('Current Standards'!P:P,MATCH('Sheet Counter'!AI329,'Current Standards'!O:O,0),0),\"\")","v":""}]
[null,null,0,"","",{"$error":"#VALUE!"},"",{"$f":"IF(I330=\"\",\"\",LARGE(H$1:H329,1)+1)","v":{"$error":"#VALUE!"}},{"$error":"#VALUE!"},329,{"$error":"#N/A"},"",null,null,329,0,{"$f":"IF(R330=\"\",\"\",LARGE(Q$1:Q329,1)+1)","v":{"$error":"#NUM!"}},{"$error":"#NUM!"},329,{"$error":"#N/A"},"","",null,null,0,{"$error":"#VALUE!"},3999,"","",null,null,null,null,{"$error":"#VALUE!"},{"$error":"#VALUE!"},{"$f":"COUNTIF('Standards LOOKUP'!B:B,AI330)","v":0},{"$f":"IFERROR(INDEX('Standards LOOKUP'!C:C,MATCH(AI330,'Standards LOOKUP'!B:B,0),0),0)","v":0},{"$f":"IFERROR(INDEX('Current Standards'!P:P,MATCH('Sheet Counter'!AI330,'Current Standards'!O:O,0),0),\"\")","v":""}]
[null,null,0,"","",{"$error":"#VALUE!"},"",{"$f":"IF(I331=\"\",\"\",LARGE(H$1:H330,1)+1)","v":{"$error":"#VALUE!"}},{"$error":"#VALUE!"},330,{"$error":"#N/A"},"",null,null,330,0,{"$f":"IF(R331=\"\",\"\",LARGE(Q$1:Q330,1)+1)","v":{"$error":"#NUM!"}},{"$error":"#NUM!"},330,{"$error":"#N/A"},"","",null,null,0,{"$error":"#VALUE!"},3999,"","",null,null,null,null,{"$error":"#VALUE!"},{"$error":"#VALUE!"},{"$f":"COUNTIF('Standards LOOKUP'!B:B,AI331)","v":0},{"$f":"IFERROR(INDEX('Standards LOOKUP'!C:C,MATCH(AI331,'Standards LOOKUP'!B:B,0),0),0)","v":0},{"$f":"IFERROR(INDEX('Current Standards'!P:P,MATCH('Sheet Counter'!AI331,'Current Standards'!O:O,0),0),\"\")","v":""}]
[null,null,0,"","",{"$error":"#VALUE!"},"",{"$f":"IF(I332=\"\",\"\",LARGE(H$1:H331,1)+1)","v":{"$error":"#VALUE!"}},{"$error":"#VALUE!"},331,{"$error":"#N/A"},"",null,null,331,0,{"$f":"IF(R332=\"\",\"\",LARGE(Q$1:Q331,1)+1)","v":{"$error":"#NUM!"}},{"$error":"#NUM!"},331,{"$error":"#N/A"},"","",null,null,0,{"$error":"#VALUE!"},3999,"","",null,null,null,null,{"$error":"#VALUE!"},{"$error":"#VALUE!"},{"$f":"COUNTIF('Standards LOOKUP'!B:B,AI332)","v":0},{"$f":"IFERROR(INDEX('Standards LOOKUP'!C:C,MATCH(AI332,'Standards LOOKUP'!B:B,0),0),0)","v":0},{"$f":"IFERROR(INDEX('Current Standards'!P:P,MATCH('Sheet Counter'!AI332,'Current Standards'!O:O,0),0),\"\")","v":""}]
[null,null,0,"","",{"$error":"#VALUE!"},"",{"$f":"IF(I333=\"\",\"\",LARGE(H$1:H332,1)+1)","v":{"$error":"#VALUE!"}},{"$error":"#VALUE!"},332,{"$error":"#N/A"},"",null,null,332,0,{"$f":"IF(R333=\"\",\"\",LARGE(Q$1:Q332,1)+1)","v":{"$error":"#NUM!"}},{"$error":"#NUM!"},332,{"$error":"#N/A"},"","",null,null,0,{"$error":"#VALUE!"},3999,"","",null,null,null,null,{"$error":"#VALUE!"},{"$error":"#VALUE!"},{"$f":"COUNTIF('Standards LOOKUP'!B:B,AI333)","v":0},{"$f":"IFERROR(INDEX('Standards LOOKUP'!C:C,MATCH(AI333,'Standards LOOKUP'!B:B,0),0),0)","v":0},{"$f":"IFERROR(INDEX('Current Standards'!P:P,MATCH('Sheet Counter'!AI333,'Current Standards'!O:O,0),0),\"\")","v":""}]
[null,null,0,"","",{"$error":"#VALUE!"},"",{"$f":"IF(I334=\"\",\"\",LARGE(H$1:H333,1)+1)","v":{"$error":"#VALUE!"}},{"$error":"#VALUE!"},333,{"$error":"#N/A"},"",null,null,333,0,{"$f":"IF(R334=\"\",\"\",LARGE(Q$1:Q333,1)+1)","v":{"$error":"#NUM!"}},{"$error":"#NUM!"},333,{"$error":"#N/A"},"","",null,null,0,{"$error":"#VALUE!"},3999,"","",null,null,null,null,{"$error":"#VALUE!"},{"$error":"#VALUE!"},{"$f":"COUNTIF('Standards LOOKUP'!B:B,AI334)","v":0},{"$f":"IFERROR(INDEX('Standards LOOKUP'!C:C,MATCH(AI334,'Standards LOOKUP'!B:B,0),0),0)","v":0},{"$f":"IFERROR(INDEX('Current Standards'!P:P,MATCH('Sheet Counter'!AI334,'Current Standards'!O:O,0),0),\"\")","v":""}]
[null,null,0,"","",{"$error":"#VALUE!"},"",{"$f":"IF(I335=\"\",\"\",LARGE(H$1:H334,1)+1)","v":{"$error":"#VALUE!"}},{"$error":"#VALUE!"},334,{"$error":"#N/A"},"",null,null,334,0,{"$f":"IF(R335=\"\",\"\",LARGE(Q$1:Q334,1)+1)","v":{"$error":"#NUM!"}},{"$error":"#NUM!"},334,{"$error":"#N/A"},"","",null,null,0,{"$error":"#VALUE!"},3999,"","",null,null,null,null,{"$error":"#VALUE!"},{"$error":"#VALUE!"},{"$f":"COUNTIF('Standards LOOKUP'!B:B,AI335)","v":0},{"$f":"IFERROR(INDEX('Standards LOOKUP'!C:C,MATCH(AI335,'Standards LOOKUP'!B:B,0),0),0)","v":0},{"$f":"IFERROR(INDEX('Current Standards'!P:P,MATCH('Sheet Counter'!AI335,'Current Standards'!O:O,0),0),\"\")","v":""}]
[null,null,0,"","",{"$error":"#VALUE!"},"",{"$f":"IF(I336=\"\",\"\",LARGE(H$1:H335,1)+1)","v":{"$error":"#VALUE!"}},{"$error":"#VALUE!"},335,{"$error":"#N/A"},"",null,null,335,0,{"$f":"IF(R336=\"\",\"\",LARGE(Q$1:Q335,1)+1)","v":{"$error":"#NUM!"}},{"$error":"#NUM!"},335,{"$error":"#N/A"},"","",null,null,0,{"$error":"#VALUE!"},3999,"","",null,null,null,null,{"$error":"#VALUE!"},{"$error":"#VALUE!"},{"$f":"COUNTIF('Standards LOOKUP'!B:B,AI336)","v":0},{"$f":"IFERROR(INDEX('Standards LOOKUP'!C:C,MATCH(AI336,'Standards LOOKUP'!B:B,0),0),0)","v":0},{"$f":"IFERROR(INDEX('Current Standards'!P:P,MATCH('Sheet Counter'!AI336,'Current Standards'!O:O,0),0),\"\")","v":""}]
[null,null,0,"","",{"$error":"#VALUE!"},"",{"$f":"IF(I337=\"\",\"\",LARGE(H$1:H336,1)+1)","v":{"$error":"#VALUE!"}},{"$error":"#VALUE!"},336,{"$error":"#N/A"},"",null,null,336,0,{"$f":"IF(R337=\"\",\"\",LARGE(Q$1:Q336,1)+1)","v":{"$error":"#NUM!"}},{"$error":"#NUM!"},336,{"$error":"#N/A"},"","",null,null,0,{"$error":"#VALUE!"},3999,"","",null,null,null,null,{"$error":"#VALUE!"},{"$error":"#VALUE!"},{"$f":"COUNTIF('Standards LOOKUP'!B:B,AI337)","v":0},{"$f":"IFERROR(INDEX('Standards LOOKUP'!C:C,MATCH(AI337,'Standards LOOKUP'!B:B,0),0),0)","v":0},{"$f":"IFERROR(INDEX('Current Standards'!P:P,MATCH('Sheet Counter'!AI337,'Current Standards'!O:O,0),0),\"\")","v":""}]
[null,null,0,"","",{"$error":"#VALUE!"},"",{"$f":"IF(I338=\"\",\"\",LARGE(H$1:H337,1)+1)","v":{"$error":"#VALUE!"}},{"$error":"#VALUE!"},337,{"$error":"#N/A"},"",null,null,337,0,{"$f":"IF(R338=\"\",\"\",LARGE(Q$1:Q337,1)+1)","v":{"$error":"#NUM!"}},{"$error":"#NUM!"},337,{"$error":"#N/A"},"","",null,null,0,{"$error":"#VALUE!"},3999,"","",null,null,null,null,{"$error":"#VALUE!"},{"$error":"#VALUE!"},{"$f":"COUNTIF('Standards LOOKUP'!B:B,AI338)","v":0},{"$f":"IFERROR(INDEX('Standards LOOKUP'!C:C,MATCH(AI338,'Standards LOOKUP'!B:B,0),0),0)","v":0},{"$f":"IFERROR(INDEX('Current Standards'!P:P,MATCH('Sheet Counter'!AI338,'Current Standards'!O:O,0),0),\"\")","v":""}]
[null,null,0,"","",{"$error":"#VALUE!"},"",{"$f":"IF(I339=\"\",\"\",LARGE(H$1:H338,1)+1)","v":{"$error":"#VALUE!"}},{"$error":"#VALUE!"},338,{"$error":"#N/A"},"",null,null,338,0,{"$f":"IF(R339=\"\",\"\",LARGE(Q$1:Q338,1)+1)","v":{"$error":"#NUM!"}},{"$error":"#NUM!"},338,{"$error":"#N/A"},"","",null,null,0,{"$error":"#VALUE!"},3999,"","",null,null,null,null,{"$error":"#VALUE!"},{"$error":"#VALUE!"},{"$f":"COUNTIF('Standards LOOKUP'!B:B,AI339)","v":0},{"$f":"IFERROR(INDEX('Standards LOOKUP'!C:C,MATCH(AI339,'Standards LOOKUP'!B:B,0),0),0)","v":0},{"$f":"IFERROR(INDEX('Current Standards'!P:P,MATCH('Sheet Counter'!AI339,'Current Standards'!O:O,0),0),\"\")","v":""}]
[null,null,0,"","",{"$error":"#VALUE!"},"",{"$f":"IF(I340=\"\",\"\",LARGE(H$1:H339,1)+1)","v":{"$error":"#VALUE!"}},{"$error":"#VALUE!"},339,{"$error":"#N/A"},"",null,null,339,0,{"$f":"IF(R340=\"\",\"\",LARGE(Q$1:Q339,1)+1)","v":{"$error":"#NUM!"}},{"$error":"#NUM!"},339,{"$error":"#N/A"},"","",null,null,0,{"$error":"#VALUE!"},3999,"","",null,null,null,null,{"$error":"#VALUE!"},{"$error":"#VALUE!"},{"$f":"COUNTIF('Standards LOOKUP'!B:B,AI340)","v":0},{"$f":"IFERROR(INDEX('Standards LOOKUP'!C:C,MATCH(AI340,'Standards LOOKUP'!B:B,0),0),0)","v":0},{"$f":"IFERROR(INDEX('Current Standards'!P:P,MATCH('Sheet Counter'!AI340,'Current Standards'!O:O,0),0),\"\")","v":""}]
[null,null,0,"","",{"$error":"#VALUE!"},"",{"$f":"IF(I341=\"\",\"\",LARGE(H$1:H340,1)+1)","v":{"$error":"#VALUE!"}},{"$error":"#VALUE!"},340,{"$error":"#N/A"},"",null,null,340,0,{"$f":"IF(R341=\"\",\"\",LARGE(Q$1:Q340,1)+1)","v":{"$error":"#NUM!"}},{"$error":"#NUM!"},340,{"$error":"#N/A"},"","",null,null,0,{"$error":"#VALUE!"},3999,"","",null,null,null,null,{"$error":"#VALUE!"},{"$error":"#VALUE!"},{"$f":"COUNTIF('Standards LOOKUP'!B:B,AI341)","v":0},{"$f":"IFERROR(INDEX('Standards LOOKUP'!C:C,MATCH(AI341,'Standards LOOKUP'!B:B,0),0),0)","v":0},{"$f":"IFERROR(INDEX('Current Standards'!P:P,MATCH('Sheet Counter'!AI341,'Current Standards'!O:O,0),0),\"\")","v":""}]
[null,null,0,"","",{"$error":"#VALUE!"},"",{"$f":"IF(I342=\"\",\"\",LARGE(H$1:H341,1)+1)","v":{"$error":"#VALUE!"}},{"$error":"#VALUE!"},341,{"$error":"#N/A"},"",null,null,341,0,{"$f":"IF(R342=\"\",\"\",LARGE(Q$1:Q341,1)+1)","v":{"$error":"#NUM!"}},{"$error":"#NUM!"},341,{"$error":"#N/A"},"","",null,null,0,{"$error":"#VALUE!"},3999,"","",null,null,null,null,{"$error":"#VALUE!"},{"$error":"#VALUE!"},{"$f":"COUNTIF('Standards LOOKUP'!B:B,AI342)","v":0},{"$f":"IFERROR(INDEX('Standards LOOKUP'!C:C,MATCH(AI342,'Standards LOOKUP'!B:B,0),0),0)","v":0},{"$f":"IFERROR(INDEX('Current Standards'!P:P,MATCH('Sheet Counter'!AI342,'Current Standards'!O:O,0),0),\"\")","v":""}]
[null,null,0,"","",{"$error":"#VALUE!"},"",{"$f":"IF(I343=\"\",\"\",LARGE(H$1:H342,1)+1)","v":{"$error":"#VALUE!"}},{"$error":"#VALUE!"},342,{"$error":"#N/A"},"",null,null,342,0,{"$f":"IF(R343=\"\",\"\",LARGE(Q$1:Q342,1)+1)","v":{"$error":"#NUM!"}},{"$error":"#NUM!"},342,{"$error":"#N/A"},"","",null,null,0,{"$error":"#VALUE!"},3999,"","",null,null,null,null,{"$error":"#VALUE!"},{"$error":"#VALUE!"},{"$f":"COUNTIF('Standards LOOKUP'!B:B,AI343)","v":0},{"$f":"IFERROR(INDEX('Standards LOOKUP'!C:C,MATCH(AI343,'Standards LOOKUP'!B:B,0),0),0)","v":0},{"$f":"IFERROR(INDEX('Current Standards'!P:P,MATCH('Sheet Counter'!AI343,'Current Standards'!O:O,0),0),\"\")","v":""}]
[null,null,0,"","",{"$error":"#VALUE!"},"",{"$f":"IF(I344=\"\",\"\",LARGE(H$1:H343,1)+1)","v":{"$error":"#VALUE!"}},{"$error":"#VALUE!"},343,{"$error":"#N/A"},"",null,null,343,0,{"$f":"IF(R344=\"\",\"\",LARGE(Q$1:Q343,1)+1)","v":{"$error":"#NUM!"}},{"$error":"#NUM!"},343,{"$error":"#N/A"},"","",null,null,0,{"$error":"#VALUE!"},3999,"","",null,null,null,null,{"$error":"#VALUE!"},{"$error":"#VALUE!"},{"$f":"COUNTIF('Standards LOOKUP'!B:B,AI344)","v":0},{"$f":"IFERROR(INDEX('Standards LOOKUP'!C:C,MATCH(AI344,'Standards LOOKUP'!B:B,0),0),0)","v":0},{"$f":"IFERROR(INDEX('Current Standards'!P:P,MATCH('Sheet Counter'!AI344,'Current Standards'!O:O,0),0),\"\")","v":""}]
[null,null,0,"","",{"$error":"#VALUE!"},"",{"$f":"IF(I345=\"\",\"\",LARGE(H$1:H344,1)+1)","v":{"$error":"#VALUE!"}},{"$error":"#VALUE!"},344,{"$error":"#N/A"},"",null,null,344,0,{"$f":"IF(R345=\"\",\"\",LARGE(Q$1:Q344,1)+1)","v":{"$error":"#NUM!"}},{"$error":"#NUM!"},344,{"$error":"#N/A"},"","",null,null,0,{"$error":"#VALUE!"},3999,"","",null,null,null,null,{"$error":"#VALUE!"},{"$error":"#VALUE!"},{"$f":"COUNTIF('Standards LOOKUP'!B:B,AI345)","v":0},{"$f":"IFERROR(INDEX('Standards LOOKUP'!C:C,MATCH(AI345,'Standards LOOKUP'!B:B,0),0),0)","v":0},{"$f":"IFERROR(INDEX('Current Standards'!P:P,MATCH('Sheet Counter'!AI345,'Current Standards'!O:O,0),0),\"\")","v":""}]
[null,null,0,"","",{"$error":"#VALUE!"},"",{"$f":"IF(I346=\"\",\"\",LARGE(H$1:H345,1)+1)","v":{"$error":"#VALUE!"}},{"$error":"#VALUE!"},345,{"$error":"#N/A"},"",null,null,345,0,{"$f":"IF(R346=\"\",\"\",LARGE(Q$1:Q345,1)+1)","v":{"$error":"#NUM!"}},{"$error":"#NUM!"},345,{"$error":"#N/A"},"","",null,null,0,{"$error":"#VALUE!"},3999,"","",null,null,null,null,{"$error":"#VALUE!"},{"$error":"#VALUE!"},{"$f":"COUNTIF('Standards LOOKUP'!B:B,AI346)","v":0},{"$f":"IFERROR(INDEX('Standards LOOKUP'!C:C,MATCH(AI346,'Standards LOOKUP'!B:B,0),0),0)","v":0},{"$f":"IFERROR(INDEX('Current Standards'!P:P,MATCH('Sheet Counter'!AI346,'Current Standards'!O:O,0),0),\"\")","v":""}]
[null,null,0,"","",{"$error":"#VALUE!"},"",{"$f":"IF(I347=\"\",\"\",LARGE(H$1:H346,1)+1)","v":{"$error":"#VALUE!"}},{"$error":"#VALUE!"},346,{"$error":"#N/A"},"",null,null,346,0,{"$f":"IF(R347=\"\",\"\",LARGE(Q$1:Q346,1)+1)","v":{"$error":"#NUM!"}},{"$error":"#NUM!"},346,{"$error":"#N/A"},"","",null,null,0,{"$error":"#VALUE!"},3999,"","",null,null,null,null,{"$error":"#VALUE!"},{"$error":"#VALUE!"},{"$f":"COUNTIF('Standards LOOKUP'!B:B,AI347)","v":0},{"$f":"IFERROR(INDEX('Standards LOOKUP'!C:C,MATCH(AI347,'Standards LOOKUP'!B:B,0),0),0)","v":0},{"$f":"IFERROR(INDEX('Current Standards'!P:P,MATCH('Sheet Counter'!AI347,'Current Standards'!O:O,0),0),\"\")","v":""}]
[null,null,0,"","",{"$error":"#VALUE!"},"",{"$f":"IF(I348=\"\",\"\",LARGE(H$1:H347,1)+1)","v":{"$error":"#VALUE!"}},{"$error":"#VALUE!"},347,{"$error":"#N/A"},"",null,null,347,0,{"$f":"IF(R348=\"\",\"\",LARGE(Q$1:Q347,1)+1)","v":{"$error":"#NUM!"}},{"$error":"#NUM!"},347,{"$error":"#N/A"},"","",null,null,0,{"$error":"#VALUE!"},3999,"","",null,null,null,null,{"$error":"#VALUE!"},{"$error":"#VALUE!"},{"$f":"COUNTIF('Standards LOOKUP'!B:B,AI348)","v":0},{"$f":"IFERROR(INDEX('Standards LOOKUP'!C:C,MATCH(AI348,'Standards LOOKUP'!B:B,0),0),0)","v":0},{"$f":"IFERROR(INDEX('Current Standards'!P:P,MATCH('Sheet Counter'!AI348,'Current Standards'!O:O,0),0),\"\")","v":""}]
[null,null,0,"","",{"$error":"#VALUE!"},"",{"$f":"IF(I349=\"\",\"\",LARGE(H$1:H348,1)+1)","v":{"$error":"#VALUE!"}},{"$error":"#VALUE!"},348,{"$error":"#N/A"},"",null,null,348,0,{"$f":"IF(R349=\"\",\"\",LARGE(Q$1:Q348,1)+1)","v":{"$error":"#NUM!"}},{"$error":"#NUM!"},348,{"$error":"#N/A"},"","",null,null,0,{"$error":"#VALUE!"},3999,"","",null,null,null,null,{"$error":"#VALUE!"},{"$error":"#VALUE!"},{"$f":"COUNTIF('Standards LOOKUP'!B:B,AI349)","v":0},{"$f":"IFERROR(INDEX('Standards LOOKUP'!C:C,MATCH(AI349,'Standards LOOKUP'!B:B,0),0),0)","v":0},{"$f":"IFERROR(INDEX('Current Standards'!P:P,MATCH('Sheet Counter'!AI349,'Current Standards'!O:O,0),0),\"\")","v":""}]
[null,null,0,"","",{"$error":"#VALUE!"},"",{"$f":"IF(I350=\"\",\"\",LARGE(H$1:H349,1)+1)","v":{"$error":"#VALUE!"}},{"$error":"#VALUE!"},349,{"$error":"#N/A"},"",null,null,349,0,{"$f":"IF(R350=\"\",\"\",LARGE(Q$1:Q349,1)+1)","v":{"$error":"#NUM!"}},{"$error":"#NUM!"},349,{"$error":"#N/A"},"","",null,null,0,{"$error":"#VALUE!"},3999,"","",null,null,null,null,{"$error":"#VALUE!"},{"$error":"#VALUE!"},{"$f":"COUNTIF('Standards LOOKUP'!B:B,AI350)","v":0},{"$f":"IFERROR(INDEX('Standards LOOKUP'!C:C,MATCH(AI350,'Standards LOOKUP'!B:B,0),0),0)","v":0},{"$f":"IFERROR(INDEX('Current Standards'!P:P,MATCH('Sheet Counter'!AI350,'Current Standards'!O:O,0),0),\"\")","v":""}]
[null,null,0,"","",{"$error":"#VALUE!"},"",{"$f":"IF(I351=\"\",\"\",LARGE(H$1:H350,1)+1)","v":{"$error":"#VALUE!"}},{"$error":"#VALUE!"},350,{"$error":"#N/A"},"",null,null,350,0,{"$f":"IF(R351=\"\",\"\",LARGE(Q$1:Q350,1)+1)","v":{"$error":"#NUM!"}},{"$error":"#NUM!"},350,{"$f":"VLOOKUP(S351,Q:R,2,0)","v":{"$error":"#N/A"}},"","",null,null,0,{"$error":"#VALUE!"},3999,"","",null,null,null,null,{"$error":"#VALUE!"},{"$error":"#VALUE!"},{"$f":"COUNTIF('Standards LOOKUP'!B:B,AI351)","v":0},{"$f":"IFERROR(INDEX('Standards LOOKUP'!C:C,MATCH(AI351,'Standards LOOKUP'!B:B,0),0),0)","v":0},{"$f":"IFERROR(INDEX('Current Standards'!P:P,MATCH('Sheet Counter'!AI351,'Current Standards'!O:O,0),0),\"\")","v":""}]
[null,null,0,"","",{"$error":"#VALUE!"},"",{"$f":"IF(I352=\"\",\"\",LARGE(H$1:H351,1)+1)","v":{"$error":"#VALUE!"}},{"$error":"#VALUE!"},351,{"$error":"#N/A"},"",null,null,351,0,{"$f":"IF(R352=\"\",\"\",LARGE(Q$1:Q351,1)+1)","v":{"$error":"#NUM!"}},{"$error":"#NUM!"},351,{"$error":"#N/A"},"","",null,null,0,{"$error":"#VALUE!"},3999,"","",null,null,null,null,{"$error":"#VALUE!"},{"$error":"#VALUE!"},{"$f":"COUNTIF('Standards LOOKUP'!B:B,AI352)","v":0},{"$f":"IFERROR(INDEX('Standards LOOKUP'!C:C,MATCH(AI352,'Standards LOOKUP'!B:B,0),0),0)","v":0},{"$f":"IFERROR(INDEX('Current Standards'!P:P,MATCH('Sheet Counter'!AI352,'Current Standards'!O:O,0),0),\"\")","v":""}]
[null,null,0,"","",{"$error":"#VALUE!"},"",{"$f":"IF(I353=\"\",\"\",LARGE(H$1:H352,1)+1)","v":{"$error":"#VALUE!"}},{"$error":"#VALUE!"},352,{"$error":"#N/A"},"",null,null,352,0,{"$f":"IF(R353=\"\",\"\",LARGE(Q$1:Q352,1)+1)","v":{"$error":"#NUM!"}},{"$error":"#NUM!"},352,{"$error":"#N/A"},"","",null,null,0,{"$error":"#VALUE!"},3999,"","",null,null,null,null,{"$error":"#VALUE!"},{"$error":"#VALUE!"},{"$f":"COUNTIF('Standards LOOKUP'!B:B,AI353)","v":0},{"$f":"IFERROR(INDEX('Standards LOOKUP'!C:C,MATCH(AI353,'Standards LOOKUP'!B:B,0),0),0)","v":0},{"$f":"IFERROR(INDEX('Current Standards'!P:P,MATCH('Sheet Counter'!AI353,'Current Standards'!O:O,0),0),\"\")","v":""}]
[null,null,0,"","",{"$error":"#VALUE!"},"",{"$f":"IF(I354=\"\",\"\",LARGE(H$1:H353,1)+1)","v":{"$error":"#VALUE!"}},{"$error":"#VALUE!"},353,{"$error":"#N/A"},"",null,null,353,0,{"$f":"IF(R354=\"\",\"\",LARGE(Q$1:Q353,1)+1)","v":{"$error":"#NUM!"}},{"$error":"#NUM!"},353,{"$error":"#N/A"},"","",null,null,0,{"$error":"#VALUE!"},3999,"","",null,null,null,null,{"$error":"#VALUE!"},{"$error":"#VALUE!"},{"$f":"COUNTIF('Standards LOOKUP'!B:B,AI354)","v":0},{"$f":"IFERROR(INDEX('Standards LOOKUP'!C:C,MATCH(AI354,'Standards LOOKUP'!B:B,0),0),0)","v":0},{"$f":"IFERROR(INDEX('Current Standards'!P:P,MATCH('Sheet Counter'!AI354,'Current Standards'!O:O,0),0),\"\")","v":""}]
[null,null,0,"","",{"$error":"#VALUE!"},"",{"$f":"IF(I355=\"\",\"\",LARGE(H$1:H354,1)+1)","v":{"$error":"#VALUE!"}},{"$error":"#VALUE!"},354,{"$error":"#N/A"},"",null,null,354,0,{"$f":"IF(R355=\"\",\"\",LARGE(Q$1:Q354,1)+1)","v":{"$error":"#NUM!"}},{"$error":"#NUM!"},354,{"$error":"#N/A"},"","",null,null,0,{"$error":"#VALUE!"},3999,"","",null,null,null,null,{"$error":"#VALUE!"},{"$error":"#VALUE!"},{"$f":"COUNTIF('Standards LOOKUP'!B:B,AI355)","v":0},{"$f":"IFERROR(INDEX('Standards LOOKUP'!C:C,MATCH(AI355,'Standards LOOKUP'!B:B,0),0),0)","v":0},{"$f":"IFERROR(INDEX('Current Standards'!P:P,MATCH('Sheet Counter'!AI355,'Current Standards'!O:O,0),0),\"\")","v":""}]
[null,null,0,"","",{"$error":"#VALUE!"},"",{"$f":"IF(I356=\"\",\"\",LARGE(H$1:H355,1)+1)","v":{"$error":"#VALUE!"}},{"$error":"#VALUE!"},355,{"$error":"#N/A"},"",null,null,355,0,{"$f":"IF(R356=\"\",\"\",LARGE(Q$1:Q355,1)+1)","v":{"$error":"#NUM!"}},{"$error":"#NUM!"},355,{"$error":"#N/A"},"","",null,null,0,{"$error":"#VALUE!"},3999,"","",null,null,null,null,{"$error":"#VALUE!"},{"$error":"#VALUE!"},{"$f":"COUNTIF('Standards LOOKUP'!B:B,AI356)","v":0},{"$f":"IFERROR(INDEX('Standards LOOKUP'!C:C,MATCH(AI356,'Standards LOOKUP'!B:B,0),0),0)","v":0},{"$f":"IFERROR(INDEX('Current Standards'!P:P,MATCH('Sheet Counter'!AI356,'Current Standards'!O:O,0),0),\"\")","v":""}]
[null,null,0,"","",{"$error":"#VALUE!"},"",{"$f":"IF(I357=\"\",\"\",LARGE(H$1:H356,1)+1)","v":{"$error":"#VALUE!"}},{"$error":"#VALUE!"},356,{"$error":"#N/A"},"",null,null,356,0,{"$f":"IF(R357=\"\",\"\",LARGE(Q$1:Q356,1)+1)","v":{"$error":"#NUM!"}},{"$error":"#NUM!"},356,{"$error":"#N/A"},"","",null,null,0,{"$error":"#VALUE!"},3999,"","",null,null,null,null,{"$error":"#VALUE!"},{"$error":"#VALUE!"},{"$f":"COUNTIF('Standards LOOKUP'!B:B,AI357)","v":0},{"$f":"IFERROR(INDEX('Standards LOOKUP'!C:C,MATCH(AI357,'Standards LOOKUP'!B:B,0),0),0)","v":0},{"$f":"IFERROR(INDEX('Current Standards'!P:P,MATCH('Sheet Counter'!AI357,'Current Standards'!O:O,0),0),\"\")","v":""}]
[null,null,0,"","",{"$error":"#VALUE!"},"",{"$f":"IF(I358=\"\",\"\",LARGE(H$1:H357,1)+1)","v":{"$error":"#VALUE!"}},{"$error":"#VALUE!"},357,{"$error":"#N/A"},"",null,null,357,0,{"$f":"IF(R358=\"\",\"\",LARGE(Q$1:Q357,1)+1)","v":{"$error":"#NUM!"}},{"$error":"#NUM!"},357,{"$error":"#N/A"},"","",null,null,0,{"$error":"#VALUE!"},3999,"","",null,null,null,null,{"$error":"#VALUE!"},{"$error":"#VALUE!"},{"$f":"COUNTIF('Standards LOOKUP'!B:B,AI358)","v":0},{"$f":"IFERROR(INDEX('Standards LOOKUP'!C:C,MATCH(AI358,'Standards LOOKUP'!B:B,0),0),0)","v":0},{"$f":"IFERROR(INDEX('Current Standards'!P:P,MATCH('Sheet Counter'!AI358,'Current Standards'!O:O,0),0),\"\")","v":""}]
[null,null,0,"","",{"$error":"#VALUE!"},"",{"$f":"IF(I359=\"\",\"\",LARGE(H$1:H358,1)+1)","v":{"$error":"#VALUE!"}},{"$error":"#VALUE!"},358,{"$error":"#N/A"},"",null,null,358,0,{"$f":"IF(R359=\"\",\"\",LARGE(Q$1:Q358,1)+1)","v":{"$error":"#NUM!"}},{"$error":"#NUM!"},358,{"$error":"#N/A"},"","",null,null,0,{"$error":"#VALUE!"},3999,"","",null,null,null,null,{"$error":"#VALUE!"},{"$error":"#VALUE!"},{"$f":"COUNTIF('Standards LOOKUP'!B:B,AI359)","v":0},{"$f":"IFERROR(INDEX('Standards LOOKUP'!C:C,MATCH(AI359,'Standards LOOKUP'!B:B,0),0),0)","v":0},{"$f":"IFERROR(INDEX('Current Standards'!P:P,MATCH('Sheet Counter'!AI359,'Current Standards'!O:O,0),0),\"\")","v":""}]
[null,null,0,"","",{"$error":"#VALUE!"},"",{"$f":"IF(I360=\"\",\"\",LARGE(H$1:H359,1)+1)","v":{"$error":"#VALUE!"}},{"$error":"#VALUE!"},359,{"$f":"VLOOKUP(J360,H:I,2,0)","v":{"$error":"#N/A"}},"",null,null,359,0,{"$f":"IF(R360=\"\",\"\",LARGE(Q$1:Q359,1)+1)","v":{"$error":"#NUM!"}},{"$error":"#NUM!"},359,{"$error":"#N/A"},"","",null,null,0,{"$error":"#VALUE!"},3999,"","",null,null,null,null,{"$error":"#VALUE!"},{"$error":"#VALUE!"},{"$f":"COUNTIF('Standards LOOKUP'!B:B,AI360)","v":0},{"$f":"IFERROR(INDEX('Standards LOOKUP'!C:C,MATCH(AI360,'Standards LOOKUP'!B:B,0),0),0)","v":0},{"$f":"IFERROR(INDEX('Current Standards'!P:P,MATCH('Sheet Counter'!AI360,'Current Standards'!O:O,0),0),\"\")","v":""}]
[null,null,0,"","",{"$error":"#VALUE!"},"",{"$f":"IF(I361=\"\",\"\",LARGE(H$1:H360,1)+1)","v":{"$error":"#VALUE!"}},{"$error":"#VALUE!"},360,{"$error":"#N/A"},"",null,null,360,0,{"$f":"IF(R361=\"\",\"\",LARGE(Q$1:Q360,1)+1)","v":{"$error":"#NUM!"}},{"$error":"#NUM!"},360,{"$error":"#N/A"},"","",null,null,0,{"$error":"#VALUE!"},3999,"","",null,null,null,null,{"$error":"#VALUE!"},{"$error":"#VALUE!"},{"$f":"COUNTIF('Standards LOOKUP'!B:B,AI361)","v":0},{"$f":"IFERROR(INDEX('Standards LOOKUP'!C:C,MATCH(AI361,'Standards LOOKUP'!B:B,0),0),0)","v":0},{"$f":"IFERROR(INDEX('Current Standards'!P:P,MATCH('Sheet Counter'!AI361,'Current Standards'!O:O,0),0),\"\")","v":""}]
[null,null,0,"","",{"$error":"#VALUE!"},"",{"$f":"IF(I362=\"\",\"\",LARGE(H$1:H361,1)+1)","v":{"$error":"#VALUE!"}},{"$error":"#VALUE!"},361,{"$error":"#N/A"},"",null,null,361,0,{"$f":"IF(R362=\"\",\"\",LARGE(Q$1:Q361,1)+1)","v":{"$error":"#NUM!"}},{"$error":"#NUM!"},361,{"$error":"#N/A"},"","",null,null,0,{"$error":"#VALUE!"},3999,"","",null,null,null,null,{"$error":"#VALUE!"},{"$error":"#VALUE!"},{"$f":"COUNTIF('Standards LOOKUP'!B:B,AI362)","v":0},{"$f":"IFERROR(INDEX('Standards LOOKUP'!C:C,MATCH(AI362,'Standards LOOKUP'!B:B,0),0),0)","v":0},{"$f":"IFERROR(INDEX('Current Standards'!P:P,MATCH('Sheet Counter'!AI362,'Current Standards'!O:O,0),0),\"\")","v":""}]
[null,null,0,"","",{"$error":"#VALUE!"},"",{"$f":"IF(I363=\"\",\"\",LARGE(H$1:H362,1)+1)","v":{"$error":"#VALUE!"}},{"$error":"#VALUE!"},362,{"$error":"#N/A"},"",null,null,362,0,{"$f":"IF(R363=\"\",\"\",LARGE(Q$1:Q362,1)+1)","v":{"$error":"#NUM!"}},{"$error":"#NUM!"},362,{"$error":"#N/A"},"","",null,null,0,{"$error":"#VALUE!"},3999,"","",null,null,null,null,{"$error":"#VALUE!"},{"$error":"#VALUE!"},{"$f":"COUNTIF('Standards LOOKUP'!B:B,AI363)","v":0},{"$f":"IFERROR(INDEX('Standards LOOKUP'!C:C,MATCH(AI363,'Standards LOOKUP'!B:B,0),0),0)","v":0},{"$f":"IFERROR(INDEX('Current Standards'!P:P,MATCH('Sheet Counter'!AI363,'Current Standards'!O:O,0),0),\"\")","v":""}]
[null,null,0,"","",{"$error":"#VALUE!"},"",{"$f":"IF(I364=\"\",\"\",LARGE(H$1:H363,1)+1)","v":{"$error":"#VALUE!"}},{"$error":"#VALUE!"},363,{"$error":"#N/A"},"",null,null,363,0,{"$f":"IF(R364=\"\",\"\",LARGE(Q$1:Q363,1)+1)","v":{"$error":"#NUM!"}},{"$error":"#NUM!"},363,{"$error":"#N/A"},"","",null,null,0,{"$error":"#VALUE!"},3999,"","",null,null,null,null,{"$error":"#VALUE!"},{"$error":"#VALUE!"},{"$f":"COUNTIF('Standards LOOKUP'!B:B,AI364)","v":0},{"$f":"IFERROR(INDEX('Standards LOOKUP'!C:C,MATCH(AI364,'Standards LOOKUP'!B:B,0),0),0)","v":0},{"$f":"IFERROR(INDEX('Current Standards'!P:P,MATCH('Sheet Counter'!AI364,'Current Standards'!O:O,0),0),\"\")","v":""}]
[null,null,0,"","",{"$error":"#VALUE!"},"",{"$f":"IF(I365=\"\",\"\",LARGE(H$1:H364,1)+1)","v":{"$error":"#VALUE!"}},{"$error":"#VALUE!"},364,{"$error":"#N/A"},"",null,null,364,0,{"$f":"IF(R365=\"\",\"\",LARGE(Q$1:Q364,1)+1)","v":{"$error":"#NUM!"}},{"$error":"#NUM!"},364,{"$error":"#N/A"},"","",null,null,0,{"$error":"#VALUE!"},3999,"","",null,null,null,null,{"$error":"#VALUE!"},{"$error":"#VALUE!"},{"$f":"COUNTIF('Standards LOOKUP'!B:B,AI365)","v":0},{"$f":"IFERROR(INDEX('Standards LOOKUP'!C:C,MATCH(AI365,'Standards LOOKUP'!B:B,0),0),0)","v":0},{"$f":"IFERROR(INDEX('Current Standards'!P:P,MATCH('Sheet Counter'!AI365,'Current Standards'!O:O,0),0),\"\")","v":""}]
[null,null,0,"","",{"$error":"#VALUE!"},"",{"$f":"IF(I366=\"\",\"\",LARGE(H$1:H365,1)+1)","v":{"$error":"#VALUE!"}},{"$error":"#VALUE!"},365,{"$error":"#N/A"},"",null,null,365,0,{"$f":"IF(R366=\"\",\"\",LARGE(Q$1:Q365,1)+1)","v":{"$error":"#NUM!"}},{"$error":"#NUM!"},365,{"$error":"#N/A"},"","",null,null,0,{"$error":"#VALUE!"},3999,"","",null,null,null,null,{"$error":"#VALUE!"},{"$error":"#VALUE!"},{"$f":"COUNTIF('Standards LOOKUP'!B:B,AI366)","v":0},{"$f":"IFERROR(INDEX('Standards LOOKUP'!C:C,MATCH(AI366,'Standards LOOKUP'!B:B,0),0),0)","v":0},{"$f":"IFERROR(INDEX('Current Standards'!P:P,MATCH('Sheet Counter'!AI366,'Current Standards'!O:O,0),0),\"\")","v":""}]
[null,null,0,"","",{"$error":"#VALUE!"},"",{"$f":"IF(I367=\"\",\"\",LARGE(H$1:H366,1)+1)","v":{"$error":"#VALUE!"}},{"$error":"#VALUE!"},366,{"$error":"#N/A"},"",null,null,366,0,{"$f":"IF(R367=\"\",\"\",LARGE(Q$1:Q366,1)+1)","v":{"$error":"#NUM!"}},{"$error":"#NUM!"},366,{"$error":"#N/A"},"","",null,null,0,{"$error":"#VALUE!"},3999,"","",null,null,null,null,{"$error":"#VALUE!"},{"$error":"#VALUE!"},{"$f":"COUNTIF('Standards LOOKUP'!B:B,AI367)","v":0},{"$f":"IFERROR(INDEX('Standards LOOKUP'!C:C,MATCH(AI367,'Standards LOOKUP'!B:B,0),0),0)","v":0},{"$f":"IFERROR(INDEX('Current Standards'!P:P,MATCH('Sheet Counter'!AI367,'Current Standards'!O:O,0),0),\"\")","v":""}]
[null,null,0,"","",{"$error":"#VALUE!"},"",{"$f":"IF(I368=\"\",\"\",LARGE(H$1:H367,1)+1)","v":{"$error":"#VALUE!"}},{"$error":"#VALUE!"},367,{"$error":"#N/A"},"",null,null,367,0,{"$f":"IF(R368=\"\",\"\",LARGE(Q$1:Q367,1)+1)","v":{"$error":"#NUM!"}},{"$error":"#NUM!"},367,{"$error":"#N/A"},"","",null,null,0,{"$error":"#VALUE!"},3999,"","",null,null,null,null,{"$error":"#VALUE!"},{"$error":"#VALUE!"},{"$f":"COUNTIF('Standards LOOKUP'!B:B,AI368)","v":0},{"$f":"IFERROR(INDEX('Standards LOOKUP'!C:C,MATCH(AI368,'Standards LOOKUP'!B:B,0),0),0)","v":0},{"$f":"IFERROR(INDEX('Current Standards'!P:P,MATCH('Sheet Counter'!AI368,'Current Standards'!O:O,0),0),\"\")","v":""}]
[null,null,0,"","",{"$error":"#VALUE!"},"",{"$f":"IF(I369=\"\",\"\",LARGE(H$1:H368,1)+1)","v":{"$error":"#VALUE!"}},{"$error":"#VALUE!"},368,{"$error":"#N/A"},"",null,null,368,0,{"$f":"IF(R369=\"\",\"\",LARGE(Q$1:Q368,1)+1)","v":{"$error":"#NUM!"}},{"$error":"#NUM!"},368,{"$error":"#N/A"},"","",null,null,0,{"$error":"#VALUE!"},3999,"","",null,null,null,null,{"$error":"#VALUE!"},{"$error":"#VALUE!"},{"$f":"COUNTIF('Standards LOOKUP'!B:B,AI369)","v":0},{"$f":"IFERROR(INDEX('Standards LOOKUP'!C:C,MATCH(AI369,'Standards LOOKUP'!B:B,0),0),0)","v":0},{"$f":"IFERROR(INDEX('Current Standards'!P:P,MATCH('Sheet Counter'!AI369,'Current Standards'!O:O,0),0),\"\")","v":""}]
[null,null,0,"","",{"$error":"#VALUE!"},"",{"$f":"IF(I370=\"\",\"\",LARGE(H$1:H369,1)+1)","v":{"$error":"#VALUE!"}},{"$error":"#VALUE!"},369,{"$error":"#N/A"},"",null,null,369,0,{"$f":"IF(R370=\"\",\"\",LARGE(Q$1:Q369,1)+1)","v":{"$error":"#NUM!"}},{"$error":"#NUM!"},369,{"$error":"#N/A"},"","",null,null,0,{"$error":"#VALUE!"},3999,"","",null,null,null,null,{"$error":"#VALUE!"},{"$error":"#VALUE!"},{"$f":"COUNTIF('Standards LOOKUP'!B:B,AI370)","v":0},{"$f":"IFERROR(INDEX('Standards LOOKUP'!C:C,MATCH(AI370,'Standards LOOKUP'!B:B,0),0),0)","v":0},{"$f":"IFERROR(INDEX('Current Standards'!P:P,MATCH('Sheet Counter'!AI370,'Current Standards'!O:O,0),0),\"\")","v":""}]
[null,null,0,"","",{"$error":"#VALUE!"},"",{"$f":"IF(I371=\"\",\"\",LARGE(H$1:H370,1)+1)","v":{"$error":"#VALUE!"}},{"$error":"#VALUE!"},370,{"$error":"#N/A"},"",null,null,370,0,{"$f":"IF(R371=\"\",\"\",LARGE(Q$1:Q370,1)+1)","v":{"$error":"#NUM!"}},{"$error":"#NUM!"},370,{"$error":"#N/A"},"","",null,null,0,{"$error":"#VALUE!"},3999,"","",null,null,null,null,{"$error":"#VALUE!"},{"$error":"#VALUE!"},{"$f":"COUNTIF('Standards LOOKUP'!B:B,AI371)","v":0},{"$f":"IFERROR(INDEX('Standards LOOKUP'!C:C,MATCH(AI371,'Standards LOOKUP'!B:B,0),0),0)","v":0},{"$f":"IFERROR(INDEX('Current Standards'!P:P,MATCH('Sheet Counter'!AI371,'Current Standards'!O:O,0),0),\"\")","v":""}]
[null,null,0,"","",{"$error":"#VALUE!"},"",{"$f":"IF(I372=\"\",\"\",LARGE(H$1:H371,1)+1)","v":{"$error":"#VALUE!"}},{"$error":"#VALUE!"},371,{"$error":"#N/A"},"",null,null,371,0,{"$f":"IF(R372=\"\",\"\",LARGE(Q$1:Q371,1)+1)","v":{"$error":"#NUM!"}},{"$error":"#NUM!"},371,{"$error":"#N/A"},"","",null,null,0,{"$error":"#VALUE!"},3999,"","",null,null,null,null,{"$error":"#VALUE!"},{"$error":"#VALUE!"},{"$f":"COUNTIF('Standards LOOKUP'!B:B,AI372)","v":0},{"$f":"IFERROR(INDEX('Standards LOOKUP'!C:C,MATCH(AI372,'Standards LOOKUP'!B:B,0),0),0)","v":0},{"$f":"IFERROR(INDEX('Current Standards'!P:P,MATCH('Sheet Counter'!AI372,'Current Standards'!O:O,0),0),\"\")","v":""}]
[null,null,0,"","",{"$error":"#VALUE!"},"",{"$f":"IF(I373=\"\",\"\",LARGE(H$1:H372,1)+1)","v":{"$error":"#VALUE!"}},{"$error":"#VALUE!"},372,{"$error":"#N/A"},"",null,null,372,0,{"$f":"IF(R373=\"\",\"\",LARGE(Q$1:Q372,1)+1)","v":{"$error":"#NUM!"}},{"$error":"#NUM!"},372,{"$error":"#N/A"},"","",null,null,0,{"$error":"#VALUE!"},3999,"","",null,null,null,null,{"$error":"#VALUE!"},{"$error":"#VALUE!"},{"$f":"COUNTIF('Standards LOOKUP'!B:B,AI373)","v":0},{"$f":"IFERROR(INDEX('Standards LOOKUP'!C:C,MATCH(AI373,'Standards LOOKUP'!B:B,0),0),0)","v":0},{"$f":"IFERROR(INDEX('Current Standards'!P:P,MATCH('Sheet Counter'!AI373,'Current Standards'!O:O,0),0),\"\")","v":""}]
[null,null,0,"","",{"$error":"#VALUE!"},"",{"$f":"IF(I374=\"\",\"\",LARGE(H$1:H373,1)+1)","v":{"$error":"#VALUE!"}},{"$error":"#VALUE!"},373,{"$error":"#N/A"},"",null,null,373,0,{"$f":"IF(R374=\"\",\"\",LARGE(Q$1:Q373,1)+1)","v":{"$error":"#NUM!"}},{"$error":"#NUM!"},373,{"$error":"#N/A"},"","",null,null,0,{"$error":"#VALUE!"},3999,"","",null,null,null,null,{"$error":"#VALUE!"},{"$error":"#VALUE!"},{"$f":"COUNTIF('Standards LOOKUP'!B:B,AI374)","v":0},{"$f":"IFERROR(INDEX('Standards LOOKUP'!C:C,MATCH(AI374,'Standards LOOKUP'!B:B,0),0),0)","v":0},{"$f":"IFERROR(INDEX('Current Standards'!P:P,MATCH('Sheet Counter'!AI374,'Current Standards'!O:O,0),0),\"\")","v":""}]
[null,null,0,"","",{"$error":"#VALUE!"},"",{"$f":"IF(I375=\"\",\"\",LARGE(H$1:H374,1)+1)","v":{"$error":"#VALUE!"}},{"$error":"#VALUE!"},374,{"$error":"#N/A"},"",null,null,374,0,{"$f":"IF(R375=\"\",\"\",LARGE(Q$1:Q374,1)+1)","v":{"$error":"#NUM!"}},{"$error":"#NUM!"},374,{"$error":"#N/A"},"","",null,null,0,{"$error":"#VALUE!"},3999,"","",null,null,null,null,{"$error":"#VALUE!"},{"$error":"#VALUE!"},{"$f":"COUNTIF('Standards LOOKUP'!B:B,AI375)","v":0},{"$f":"IFERROR(INDEX('Standards LOOKUP'!C:C,MATCH(AI375,'Standards LOOKUP'!B:B,0),0),0)","v":0},{"$f":"IFERROR(INDEX('Current Standards'!P:P,MATCH('Sheet Counter'!AI375,'Current Standards'!O:O,0),0),\"\")","v":""}]
[null,null,0,"","",{"$error":"#VALUE!"},"",{"$f":"IF(I376=\"\",\"\",LARGE(H$1:H375,1)+1)","v":{"$error":"#VALUE!"}},{"$error":"#VALUE!"},375,{"$error":"#N/A"},"",null,null,375,0,{"$f":"IF(R376=\"\",\"\",LARGE(Q$1:Q375,1)+1)","v":{"$error":"#NUM!"}},{"$error":"#NUM!"},375,{"$error":"#N/A"},"","",null,null,0,{"$error":"#VALUE!"},3999,"","",null,null,null,null,{"$error":"#VALUE!"},{"$error":"#VALUE!"},{"$f":"COUNTIF('Standards LOOKUP'!B:B,AI376)","v":0},{"$f":"IFERROR(INDEX('Standards LOOKUP'!C:C,MATCH(AI376,'Standards LOOKUP'!B:B,0),0),0)","v":0},{"$f":"IFERROR(INDEX('Current Standards'!P:P,MATCH('Sheet Counter'!AI376,'Current Standards'!O:O,0),0),\"\")","v":""}]
[null,null,0,"","",{"$error":"#VALUE!"},"",{"$f":"IF(I377=\"\",\"\",LARGE(H$1:H376,1)+1)","v":{"$error":"#VALUE!"}},{"$error":"#VALUE!"},376,{"$error":"#N/A"},"",null,null,376,0,{"$f":"IF(R377=\"\",\"\",LARGE(Q$1:Q376,1)+1)","v":{"$error":"#NUM!"}},{"$error":"#NUM!"},376,{"$error":"#N/A"},"","",null,null,0,{"$error":"#VALUE!"},3999,"","",null,null,null,null,{"$error":"#VALUE!"},{"$error":"#VALUE!"},{"$f":"COUNTIF('Standards LOOKUP'!B:B,AI377)","v":0},{"$f":"IFERROR(INDEX('Standards LOOKUP'!C:C,MATCH(AI377,'Standards LOOKUP'!B:B,0),0),0)","v":0},{"$f":"IFERROR(INDEX('Current Standards'!P:P,MATCH('Sheet Counter'!AI377,'Current Standards'!O:O,0),0),\"\")","v":""}]
[null,null,0,"","",{"$error":"#VALUE!"},"",{"$f":"IF(I378=\"\",\"\",LARGE(H$1:H377,1)+1)","v":{"$error":"#VALUE!"}},{"$error":"#VALUE!"},377,{"$error":"#N/A"},"",null,null,377,0,{"$f":"IF(R378=\"\",\"\",LARGE(Q$1:Q377,1)+1)","v":{"$error":"#NUM!"}},{"$error":"#NUM!"},377,{"$error":"#N/A"},"","",null,null,0,{"$error":"#VALUE!"},3999,"","",null,null,null,null,{"$error":"#VALUE!"},{"$error":"#VALUE!"},{"$f":"COUNTIF('Standards LOOKUP'!B:B,AI378)","v":0},{"$f":"IFERROR(INDEX('Standards LOOKUP'!C:C,MATCH(AI378,'Standards LOOKUP'!B:B,0),0),0)","v":0},{"$f":"IFERROR(INDEX('Current Standards'!P:P,MATCH('Sheet Counter'!AI378,'Current Standards'!O:O,0),0),\"\")","v":""}]
[null,null,0,"","",{"$error":"#VALUE!"},"",{"$f":"IF(I379=\"\",\"\",LARGE(H$1:H378,1)+1)","v":{"$error":"#VALUE!"}},{"$error":"#VALUE!"},378,{"$error":"#N/A"},"",null,null,378,0,{"$f":"IF(R379=\"\",\"\",LARGE(Q$1:Q378,1)+1)","v":{"$error":"#NUM!"}},{"$error":"#NUM!"},378,{"$error":"#N/A"},"","",null,null,0,{"$error":"#VALUE!"},3999,"","",null,null,null,null,{"$error":"#VALUE!"},{"$error":"#VALUE!"},{"$f":"COUNTIF('Standards LOOKUP'!B:B,AI379)","v":0},{"$f":"IFERROR(INDEX('Standards LOOKUP'!C:C,MATCH(AI379,'Standards LOOKUP'!B:B,0),0),0)","v":0},{"$f":"IFERROR(INDEX('Current Standards'!P:P,MATCH('Sheet Counter'!AI379,'Current Standards'!O:O,0),0),\"\")","v":""}]
[null,null,0,"","",{"$error":"#VALUE!"},"",{"$f":"IF(I380=\"\",\"\",LARGE(H$1:H379,1)+1)","v":{"$error":"#VALUE!"}},{"$error":"#VALUE!"},379,{"$error":"#N/A"},"",null,null,379,0,{"$f":"IF(R380=\"\",\"\",LARGE(Q$1:Q379,1)+1)","v":{"$error":"#NUM!"}},{"$error":"#NUM!"},379,{"$error":"#N/A"},"","",null,null,0,{"$error":"#VALUE!"},3999,"","",null,null,null,null,{"$error":"#VALUE!"},{"$error":"#VALUE!"},{"$f":"COUNTIF('Standards LOOKUP'!B:B,AI380)","v":0},{"$f":"IFERROR(INDEX('Standards LOOKUP'!C:C,MATCH(AI380,'Standards LOOKUP'!B:B,0),0),0)","v":0},{"$f":"IFERROR(INDEX('Current Standards'!P:P,MATCH('Sheet Counter'!AI380,'Current Standards'!O:O,0),0),\"\")","v":""}]
[null,null,0,"","",{"$error":"#VALUE!"},"",{"$f":"IF(I381=\"\",\"\",LARGE(H$1:H380,1)+1)","v":{"$error":"#VALUE!"}},{"$error":"#VALUE!"},380,{"$error":"#N/A"},"",null,null,380,0,{"$f":"IF(R381=\"\",\"\",LARGE(Q$1:Q380,1)+1)","v":{"$error":"#NUM!"}},{"$error":"#NUM!"},380,{"$error":"#N/A"},"","",null,null,0,{"$error":"#VALUE!"},3999,"","",null,null,null,null,{"$error":"#VALUE!"},{"$error":"#VALUE!"},{"$f":"COUNTIF('Standards LOOKUP'!B:B,AI381)","v":0},{"$f":"IFERROR(INDEX('Standards LOOKUP'!C:C,MATCH(AI381,'Standards LOOKUP'!B:B,0),0),0)","v":0},{"$f":"IFERROR(INDEX('Current Standards'!P:P,MATCH('Sheet Counter'!AI381,'Current Standards'!O:O,0),0),\"\")","v":""}]
[null,null,0,"","",{"$error":"#VALUE!"},"",{"$f":"IF(I382=\"\",\"\",LARGE(H$1:H381,1)+1)","v":{"$error":"#VALUE!"}},{"$error":"#VALUE!"},381,{"$error":"#N/A"},"",null,null,381,0,{"$f":"IF(R382=\"\",\"\",LARGE(Q$1:Q381,1)+1)","v":{"$error":"#NUM!"}},{"$error":"#NUM!"},381,{"$error":"#N/A"},"","",null,null,0,{"$error":"#VALUE!"},3999,"","",null,null,null,null,{"$error":"#VALUE!"},{"$error":"#VALUE!"},{"$f":"COUNTIF('Standards LOOKUP'!B:B,AI382)","v":0},{"$f":"IFERROR(INDEX('Standards LOOKUP'!C:C,MATCH(AI382,'Standards LOOKUP'!B:B,0),0),0)","v":0},{"$f":"IFERROR(INDEX('Current Standards'!P:P,MATCH('Sheet Counter'!AI382,'Current Standards'!O:O,0),0),\"\")","v":""}]
[null,null,0,"","",{"$error":"#VALUE!"},"",{"$f":"IF(I383=\"\",\"\",LARGE(H$1:H382,1)+1)","v":{"$error":"#VALUE!"}},{"$error":"#VALUE!"},382,{"$error":"#N/A"},"",null,null,382,0,{"$f":"IF(R383=\"\",\"\",LARGE(Q$1:Q382,1)+1)","v":{"$error":"#NUM!"}},{"$error":"#NUM!"},382,{"$error":"#N/A"},"","",null,null,0,{"$error":"#VALUE!"},3999,"","",null,null,null,null,{"$error":"#VALUE!"},{"$error":"#VALUE!"},{"$f":"COUNTIF('Standards LOOKUP'!B:B,AI383)","v":0},{"$f":"IFERROR(INDEX('Standards LOOKUP'!C:C,MATCH(AI383,'Standards LOOKUP'!B:B,0),0),0)","v":0},{"$f":"IFERROR(INDEX('Current Standards'!P:P,MATCH('Sheet Counter'!AI383,'Current Standards'!O:O,0),0),\"\")","v":""}]
[null,null,0,"","",{"$error":"#VALUE!"},"",{"$f":"IF(I384=\"\",\"\",LARGE(H$1:H383,1)+1)","v":{"$error":"#VALUE!"}},{"$error":"#VALUE!"},383,{"$error":"#N/A"},"",null,null,383,0,{"$f":"IF(R384=\"\",\"\",LARGE(Q$1:Q383,1)+1)","v":{"$error":"#NUM!"}},{"$error":"#NUM!"},383,{"$error":"#N/A"},"","",null,null,0,{"$error":"#VALUE!"},3999,"","",null,null,null,null,{"$error":"#VALUE!"},{"$error":"#VALUE!"},{"$f":"COUNTIF('Standards LOOKUP'!B:B,AI384)","v":0},{"$f":"IFERROR(INDEX('Standards LOOKUP'!C:C,MATCH(AI384,'Standards LOOKUP'!B:B,0),0),0)","v":0},{"$f":"IFERROR(INDEX('Current Standards'!P:P,MATCH('Sheet Counter'!AI384,'Current Standards'!O:O,0),0),\"\")","v":""}]
[null,null,0,"","",{"$error":"#VALUE!"},"",{"$f":"IF(I385=\"\",\"\",LARGE(H$1:H384,1)+1)","v":{"$error":"#VALUE!"}},{"$error":"#VALUE!"},384,{"$error":"#N/A"},"",null,null,384,0,{"$f":"IF(R385=\"\",\"\",LARGE(Q$1:Q384,1)+1)","v":{"$error":"#NUM!"}},{"$error":"#NUM!"},384,{"$error":"#N/A"},"","",null,null,0,{"$error":"#VALUE!"},3999,"","",null,null,null,null,{"$error":"#VALUE!"},{"$error":"#VALUE!"},{"$f":"COUNTIF('Standards LOOKUP'!B:B,AI385)","v":0},{"$f":"IFERROR(INDEX('Standards LOOKUP'!C:C,MATCH(AI385,'Standards LOOKUP'!B:B,0),0),0)","v":0},{"$f":"IFERROR(INDEX('Current Standards'!P:P,MATCH('Sheet Counter'!AI385,'Current Standards'!O:O,0),0),\"\")","v":""}]
[null,null,0,"","",{"$error":"#VALUE!"},"",{"$f":"IF(I386=\"\",\"\",LARGE(H$1:H385,1)+1)","v":{"$error":"#VALUE!"}},{"$f":"IF(G386=\"\",F386,\"\")","v":{"$error":"#VALUE!"}},385,{"$error":"#N/A"},"",null,null,385,{"$f":"COUNTIF(G:G,O386)","v":0},{"$f":"IF(R386=\"\",\"\",LARGE(Q$1:Q385,1)+1)","v":{"$error":"#NUM!"}},{"$error":"#NUM!"},385,{"$error":"#N/A"},"","",null,null,0,{"$error":"#VALUE!"},3999,"","",null,null,null,null,{"$error":"#VALUE!"},{"$error":"#VALUE!"},{"$f":"COUNTIF('Standards LOOKUP'!B:B,AI386)","v":0},{"$f":"IFERROR(INDEX('Standards LOOKUP'!C:C,MATCH(AI386,'Standards LOOKUP'!B:B,0),0),0)","v":0},{"$f":"IFERROR(INDEX('Current Standards'!P:P,MATCH('Sheet Counter'!AI386,'Current Standards'!O:O,0),0),\"\")","v":""}]
[null,null,{"$f":"IF(ISERROR(FIND(\"\\\",A387)),A387,RIGHT(A387,LEN(A387)-FIND(\"~\",SUBSTITUTE(A387,\"\\\",\"~\",LEN(A387)-LEN(SUBSTITUTE(A387,\"\\\",\"\"))))))","v":0},{"$f":"IF(AL387=\"\",\"\",AL387)","v":""},"",{"$f":"LEFT(C387,FIND(\"-\",SUBSTITUTE(SUBSTITUTE(C387,\"_\",\"-\"),\" \",\"-\"))-1)","v":{"$error":"#VALUE!"}},{"$f":"IF(ISNUMBER(F387*1),F387*1,\"\")","v":""},{"$f":"IF(I387=\"\",\"\",LARGE(H$1:H386,1)+1)","v":{"$error":"#VALUE!"}},{"$error":"#VALUE!"},386,{"$error":"#N/A"},{"$f":"IF(ISERROR(K387),\"\",K387)","v":""},null,null,386,0,{"$f":"IF(R387=\"\",\"\",LARGE(Q$1:Q386,1)+1)","v":{"$error":"#NUM!"}},{"$error":"#NUM!"},386,{"$error":"#N/A"},{"$f":"IF(ISERROR(T387),\"\",T387)","v":""},{"$f":"IF(U387=\"\",\"\",VLOOKUP(U387,O:P,2,0))","v":""},null,null,{"$f":"IF(ISERROR(FIND(\"\\\",X387)),X387,RIGHT(X387,LEN(X387)-FIND(\"~\",SUBSTITUTE(X387,\"\\\",\"~\",LEN(X387)-LEN(SUBSTITUTE(X387,\"\\\",\"\"))))))","v":0},{"$f":"LEFT(Y387,FIND(\"-\",SUBSTITUTE(SUBSTITUTE(Y387,\"_\",\"-\"),\" \",\"-\"))-1)","v":{"$error":"#VALUE!"}},{"$f":"COUNTIF(F:F,Z387)","v":3999},{"$f":"IF(OR(AA387<1,ISERROR(Z387)),\"\",INDEX(C:C,MATCH(Z387,F:F)))","v":""},{"$f":"IF(AA387=0,\"New Sheet\",IF(EXACT(UPPER(Y387),UPPER(AB387)),\"Match\",\"\"))","v":""},null,null,null,null,{"$f":"IF(C387=\"\",\"\",LEFT(RIGHT(C387,LEN(C387)-SEARCH(\" \",C387,1)),LEN(RIGHT(C387,LEN(C387)-SEARCH(\" \",C387,1)))-4))","v":{"$error":"#VALUE!"}},{"$f":"TRIM(SUBSTITUTE(SUBSTITUTE(SUBSTITUTE(SUBSTITUTE(SUBSTITUTE(SUBSTITUTE(AH387,\"(\",\"\"),\")\",\"\"),\"-\",\"\"),\"&\",\"\"),\" \",\"\",1),\" \",\"\",1))","v":{"$error":"#VALUE!"}},{"$f":"COUNTIF('Standards LOOKUP'!B:B,AI387)","v":0},{"$f":"IFERROR(INDEX('Standards LOOKUP'!C:C,MATCH(AI387,'Standards LOOKUP'!B:B,0),0),0)","v":0},{"$f":"IFERROR(INDEX('Current Standards'!P:P,MATCH('Sheet Counter'!AI387,'Current Standards'!O:O,0),0),\"\")","v":""}]
[null,null,0,"","",{"$error":"#VALUE!"},"",{"$f":"IF(I388=\"\",\"\",LARGE(H$1:H387,1)+1)","v":{"$error":"#VALUE!"}},{"$error":"#VALUE!"},387,{"$error":"#N/A"},"",null,null,387,0,{"$f":"IF(R388=\"\",\"\",LARGE(Q$1:Q387,1)+1)","v":{"$error":"#NUM!"}},{"$f":"IF(AND(P388<>1,O388<=LARGE(G:G,1),O388>=SMALL(G:G,1)),O388,\"\")","v":{"$error":"#NUM!"}},387,{"$error":"#N/A"},"","",null,null,0,{"$error":"#VALUE!"},3999,"","",null,null,null,null,{"$error":"#VALUE!"},{"$error":"#VALUE!"},{"$f":"COUNTIF('Standards LOOKUP'!B:B,AI388)","v":0},{"$f":"IFERROR(INDEX('Standards LOOKUP'!C:C,MATCH(AI388,'Standards LOOKUP'!B:B,0),0),0)","v":0},{"$f":"IFERROR(INDEX('Current Standards'!P:P,MATCH('Sheet Counter'!AI388,'Current Standards'!O:O,0),0),\"\")","v":""}]
[null,null,0,"","",{"$error":"#VALUE!"},"",{"$f":"IF(I389=\"\",\"\",LARGE(H$1:H388,1)+1)","v":{"$error":"#VALUE!"}},{"$error":"#VALUE!"},388,{"$error":"#N/A"},"",null,null,388,0,{"$f":"IF(R389=\"\",\"\",LARGE(Q$1:Q388,1)+1)","v":{"$error":"#NUM!"}},{"$error":"#NUM!"},388,{"$error":"#N/A"},"","",null,null,0,{"$error":"#VALUE!"},3999,"","",null,null,null,null,{"$error":"#VALUE!"},{"$error":"#VALUE!"},{"$f":"COUNTIF('Standards LOOKUP'!B:B,AI389)","v":0},{"$f":"IFERROR(INDEX('Standards LOOKUP'!C:C,MATCH(AI389,'Standards LOOKUP'!B:B,0),0),0)","v":0},{"$f":"IFERROR(INDEX('Current Standards'!P:P,MATCH('Sheet Counter'!AI389,'Current Standards'!O:O,0),0),\"\")","v":""}]
[null,null,0,"","",{"$error":"#VALUE!"},"",{"$f":"IF(I390=\"\",\"\",LARGE(H$1:H389,1)+1)","v":{"$error":"#VALUE!"}},{"$error":"#VALUE!"},389,{"$error":"#N/A"},"",null,null,389,0,{"$f":"IF(R390=\"\",\"\",LARGE(Q$1:Q389,1)+1)","v":{"$error":"#NUM!"}},{"$error":"#NUM!"},389,{"$error":"#N/A"},"","",null,null,0,{"$error":"#VALUE!"},3999,"","",null,null,null,null,{"$error":"#VALUE!"},{"$error":"#VALUE!"},{"$f":"COUNTIF('Standards LOOKUP'!B:B,AI390)","v":0},{"$f":"IFERROR(INDEX('Standards LOOKUP'!C:C,MATCH(AI390,'Standards LOOKUP'!B:B,0),0),0)","v":0},{"$f":"IFERROR(INDEX('Current Standards'!P:P,MATCH('Sheet Counter'!AI390,'Current Standards'!O:O,0),0),\"\")","v":""}]
[null,null,0,"","",{"$error":"#VALUE!"},"",{"$f":"IF(I391=\"\",\"\",LARGE(H$1:H390,1)+1)","v":{"$error":"#VALUE!"}},{"$error":"#VALUE!"},390,{"$error":"#N/A"},"",null,null,390,0,{"$f":"IF(R391=\"\",\"\",LARGE(Q$1:Q390,1)+1)","v":{"$error":"#NUM!"}},{"$error":"#NUM!"},390,{"$error":"#N/A"},"","",null,null,0,{"$error":"#VALUE!"},3999,"","",null,null,null,null,{"$error":"#VALUE!"},{"$error":"#VALUE!"},{"$f":"COUNTIF('Standards LOOKUP'!B:B,AI391)","v":0},{"$f":"IFERROR(INDEX('Standards LOOKUP'!C:C,MATCH(AI391,'Standards LOOKUP'!B:B,0),0),0)","v":0},{"$f":"IFERROR(INDEX('Current Standards'!P:P,MATCH('Sheet Counter'!AI391,'Current Standards'!O:O,0),0),\"\")","v":""}]
[null,null,0,"","",{"$error":"#VALUE!"},"",{"$f":"IF(I392=\"\",\"\",LARGE(H$1:H391,1)+1)","v":{"$error":"#VALUE!"}},{"$error":"#VALUE!"},391,{"$error":"#N/A"},"",null,null,391,0,{"$f":"IF(R392=\"\",\"\",LARGE(Q$1:Q391,1)+1)","v":{"$error":"#NUM!"}},{"$error":"#NUM!"},391,{"$error":"#N/A"},"","",null,null,0,{"$error":"#VALUE!"},3999,"","",null,null,null,null,{"$error":"#VALUE!"},{"$error":"#VALUE!"},{"$f":"COUNTIF('Standards LOOKUP'!B:B,AI392)","v":0},{"$f":"IFERROR(INDEX('Standards LOOKUP'!C:C,MATCH(AI392,'Standards LOOKUP'!B:B,0),0),0)","v":0},{"$f":"IFERROR(INDEX('Current Standards'!P:P,MATCH('Sheet Counter'!AI392,'Current Standards'!O:O,0),0),\"\")","v":""}]
[null,null,0,"","",{"$error":"#VALUE!"},"",{"$f":"IF(I393=\"\",\"\",LARGE(H$1:H392,1)+1)","v":{"$error":"#VALUE!"}},{"$error":"#VALUE!"},392,{"$error":"#N/A"},"",null,null,392,0,{"$f":"IF(R393=\"\",\"\",LARGE(Q$1:Q392,1)+1)","v":{"$error":"#NUM!"}},{"$error":"#NUM!"},392,{"$error":"#N/A"},"","",null,null,0,{"$error":"#VALUE!"},3999,"","",null,null,null,null,{"$error":"#VALUE!"},{"$error":"#VALUE!"},{"$f":"COUNTIF('Standards LOOKUP'!B:B,AI393)","v":0},{"$f":"IFERROR(INDEX('Standards LOOKUP'!C:C,MATCH(AI393,'Standards LOOKUP'!B:B,0),0),0)","v":0},{"$f":"IFERROR(INDEX('Current Standards'!P:P,MATCH('Sheet Counter'!AI393,'Current Standards'!O:O,0),0),\"\")","v":""}]
[null,null,0,"","",{"$error":"#VALUE!"},"",{"$f":"IF(I394=\"\",\"\",LARGE(H$1:H393,1)+1)","v":{"$error":"#VALUE!"}},{"$error":"#VALUE!"},393,{"$error":"#N/A"},"",null,null,393,0,{"$f":"IF(R394=\"\",\"\",LARGE(Q$1:Q393,1)+1)","v":{"$error":"#NUM!"}},{"$error":"#NUM!"},393,{"$error":"#N/A"},"","",null,null,0,{"$error":"#VALUE!"},3999,"","",null,null,null,null,{"$error":"#VALUE!"},{"$error":"#VALUE!"},{"$f":"COUNTIF('Standards LOOKUP'!B:B,AI394)","v":0},{"$f":"IFERROR(INDEX('Standards LOOKUP'!C:C,MATCH(AI394,'Standards LOOKUP'!B:B,0),0),0)","v":0},{"$f":"IFERROR(INDEX('Current Standards'!P:P,MATCH('Sheet Counter'!AI394,'Current Standards'!O:O,0),0),\"\")","v":""}]
[null,null,0,"","",{"$error":"#VALUE!"},"",{"$f":"IF(I395=\"\",\"\",LARGE(H$1:H394,1)+1)","v":{"$error":"#VALUE!"}},{"$error":"#VALUE!"},394,{"$error":"#N/A"},"",null,null,394,0,{"$f":"IF(R395=\"\",\"\",LARGE(Q$1:Q394,1)+1)","v":{"$error":"#NUM!"}},{"$error":"#NUM!"},394,{"$error":"#N/A"},"","",null,null,0,{"$error":"#VALUE!"},3999,"","",null,null,null,null,{"$error":"#VALUE!"},{"$error":"#VALUE!"},{"$f":"COUNTIF('Standards LOOKUP'!B:B,AI395)","v":0},{"$f":"IFERROR(INDEX('Standards LOOKUP'!C:C,MATCH(AI395,'Standards LOOKUP'!B:B,0),0),0)","v":0},{"$f":"IFERROR(INDEX('Current Standards'!P:P,MATCH('Sheet Counter'!AI395,'Current Standards'!O:O,0),0),\"\")","v":""}]
[null,null,0,"","",{"$error":"#VALUE!"},"",{"$f":"IF(I396=\"\",\"\",LARGE(H$1:H395,1)+1)","v":{"$error":"#VALUE!"}},{"$error":"#VALUE!"},395,{"$error":"#N/A"},"",null,null,395,0,{"$f":"IF(R396=\"\",\"\",LARGE(Q$1:Q395,1)+1)","v":{"$error":"#NUM!"}},{"$error":"#NUM!"},395,{"$error":"#N/A"},"","",null,null,0,{"$error":"#VALUE!"},3999,"","",null,null,null,null,{"$error":"#VALUE!"},{"$error":"#VALUE!"},{"$f":"COUNTIF('Standards LOOKUP'!B:B,AI396)","v":0},{"$f":"IFERROR(INDEX('Standards LOOKUP'!C:C,MATCH(AI396,'Standards LOOKUP'!B:B,0),0),0)","v":0},{"$f":"IFERROR(INDEX('Current Standards'!P:P,MATCH('Sheet Counter'!AI396,'Current Standards'!O:O,0),0),\"\")","v":""}]
[null,null,0,"","",{"$error":"#VALUE!"},"",{"$f":"IF(I397=\"\",\"\",LARGE(H$1:H396,1)+1)","v":{"$error":"#VALUE!"}},{"$error":"#VALUE!"},396,{"$error":"#N/A"},"",null,null,396,0,{"$f":"IF(R397=\"\",\"\",LARGE(Q$1:Q396,1)+1)","v":{"$error":"#NUM!"}},{"$error":"#NUM!"},396,{"$error":"#N/A"},"","",null,null,0,{"$error":"#VALUE!"},3999,"","",null,null,null,null,{"$error":"#VALUE!"},{"$error":"#VALUE!"},{"$f":"COUNTIF('Standards LOOKUP'!B:B,AI397)","v":0},{"$f":"IFERROR(INDEX('Standards LOOKUP'!C:C,MATCH(AI397,'Standards LOOKUP'!B:B,0),0),0)","v":0},{"$f":"IFERROR(INDEX('Current Standards'!P:P,MATCH('Sheet Counter'!AI397,'Current Standards'!O:O,0),0),\"\")","v":""}]
[null,null,0,"","",{"$error":"#VALUE!"},"",{"$f":"IF(I398=\"\",\"\",LARGE(H$1:H397,1)+1)","v":{"$error":"#VALUE!"}},{"$error":"#VALUE!"},397,{"$error":"#N/A"},"",null,null,397,0,{"$f":"IF(R398=\"\",\"\",LARGE(Q$1:Q397,1)+1)","v":{"$error":"#NUM!"}},{"$error":"#NUM!"},397,{"$error":"#N/A"},"","",null,null,0,{"$error":"#VALUE!"},3999,"","",null,null,null,null,{"$error":"#VALUE!"},{"$error":"#VALUE!"},{"$f":"COUNTIF('Standards LOOKUP'!B:B,AI398)","v":0},{"$f":"IFERROR(INDEX('Standards LOOKUP'!C:C,MATCH(AI398,'Standards LOOKUP'!B:B,0),0),0)","v":0},{"$f":"IFERROR(INDEX('Current Standards'!P:P,MATCH('Sheet Counter'!AI398,'Current Standards'!O:O,0),0),\"\")","v":""}]
[null,null,0,"","",{"$error":"#VALUE!"},"",{"$f":"IF(I399=\"\",\"\",LARGE(H$1:H398,1)+1)","v":{"$error":"#VALUE!"}},{"$error":"#VALUE!"},398,{"$error":"#N/A"},"",null,null,398,0,{"$f":"IF(R399=\"\",\"\",LARGE(Q$1:Q398,1)+1)","v":{"$error":"#NUM!"}},{"$error":"#NUM!"},398,{"$error":"#N/A"},"","",null,null,0,{"$error":"#VALUE!"},3999,"","",null,null,null,null,{"$error":"#VALUE!"},{"$error":"#VALUE!"},{"$f":"COUNTIF('Standards LOOKUP'!B:B,AI399)","v":0},{"$f":"IFERROR(INDEX('Standards LOOKUP'!C:C,MATCH(AI399,'Standards LOOKUP'!B:B,0),0),0)","v":0},{"$f":"IFERROR(INDEX('Current Standards'!P:P,MATCH('Sheet Counter'!AI399,'Current Standards'!O:O,0),0),\"\")","v":""}]
[null,null,0,"","",{"$error":"#VALUE!"},"",{"$f":"IF(I400=\"\",\"\",LARGE(H$1:H399,1)+1)","v":{"$error":"#VALUE!"}},{"$error":"#VALUE!"},399,{"$error":"#N/A"},"",null,null,399,0,{"$f":"IF(R400=\"\",\"\",LARGE(Q$1:Q399,1)+1)","v":{"$error":"#NUM!"}},{"$error":"#NUM!"},399,{"$error":"#N/A"},"","",null,null,0,{"$error":"#VALUE!"},3999,"","",null,null,null,null,{"$error":"#VALUE!"},{"$error":"#VALUE!"},{"$f":"COUNTIF('Standards LOOKUP'!B:B,AI400)","v":0},{"$f":"IFERROR(INDEX('Standards LOOKUP'!C:C,MATCH(AI400,'Standards LOOKUP'!B:B,0),0),0)","v":0},{"$f":"IFERROR(INDEX('Current Standards'!P:P,MATCH('Sheet Counter'!AI400,'Current Standards'!O:O,0),0),\"\")","v":""}]
[null,null,0,"","",{"$error":"#VALUE!"},"",{"$f":"IF(I401=\"\",\"\",LARGE(H$1:H400,1)+1)","v":{"$error":"#VALUE!"}},{"$error":"#VALUE!"},400,{"$error":"#N/A"},"",null,null,400,0,{"$f":"IF(R401=\"\",\"\",LARGE(Q$1:Q400,1)+1)","v":{"$error":"#NUM!"}},{"$error":"#NUM!"},400,{"$error":"#N/A"},"","",null,null,0,{"$error":"#VALUE!"},3999,"","",null,null,null,null,{"$error":"#VALUE!"},{"$error":"#VALUE!"},{"$f":"COUNTIF('Standards LOOKUP'!B:B,AI401)","v":0},{"$f":"IFERROR(INDEX('Standards LOOKUP'!C:C,MATCH(AI401,'Standards LOOKUP'!B:B,0),0),0)","v":0},{"$f":"IFERROR(INDEX('Current Standards'!P:P,MATCH('Sheet Counter'!AI401,'Current Standards'!O:O,0),0),\"\")","v":""}]
[null,null,0,"","",{"$error":"#VALUE!"},"",{"$f":"IF(I402=\"\",\"\",LARGE(H$1:H401,1)+1)","v":{"$error":"#VALUE!"}},{"$error":"#VALUE!"},401,{"$error":"#N/A"},"",null,null,401,0,{"$f":"IF(R402=\"\",\"\",LARGE(Q$1:Q401,1)+1)","v":{"$error":"#NUM!"}},{"$error":"#NUM!"},401,{"$error":"#N/A"},"","",null,null,0,{"$error":"#VALUE!"},3999,"","",null,null,null,null,{"$error":"#VALUE!"},{"$error":"#VALUE!"},{"$f":"COUNTIF('Standards LOOKUP'!B:B,AI402)","v":0},{"$f":"IFERROR(INDEX('Standards LOOKUP'!C:C,MATCH(AI402,'Standards LOOKUP'!B:B,0),0),0)","v":0},{"$f":"IFERROR(INDEX('Current Standards'!P:P,MATCH('Sheet Counter'!AI402,'Current Standards'!O:O,0),0),\"\")","v":""}]
[null,null,0,"","",{"$error":"#VALUE!"},"",{"$f":"IF(I403=\"\",\"\",LARGE(H$1:H402,1)+1)","v":{"$error":"#VALUE!"}},{"$error":"#VALUE!"},402,{"$error":"#N/A"},"",null,null,402,0,{"$f":"IF(R403=\"\",\"\",LARGE(Q$1:Q402,1)+1)","v":{"$error":"#NUM!"}},{"$error":"#NUM!"},402,{"$error":"#N/A"},"","",null,null,0,{"$error":"#VALUE!"},3999,"","",null,null,null,null,{"$error":"#VALUE!"},{"$error":"#VALUE!"},{"$f":"COUNTIF('Standards LOOKUP'!B:B,AI403)","v":0},{"$f":"IFERROR(INDEX('Standards LOOKUP'!C:C,MATCH(AI403,'Standards LOOKUP'!B:B,0),0),0)","v":0},{"$f":"IFERROR(INDEX('Current Standards'!P:P,MATCH('Sheet Counter'!AI403,'Current Standards'!O:O,0),0),\"\")","v":""}]
[null,null,0,"","",{"$error":"#VALUE!"},"",{"$f":"IF(I404=\"\",\"\",LARGE(H$1:H403,1)+1)","v":{"$error":"#VALUE!"}},{"$error":"#VALUE!"},403,{"$error":"#N/A"},"",null,null,403,0,{"$f":"IF(R404=\"\",\"\",LARGE(Q$1:Q403,1)+1)","v":{"$error":"#NUM!"}},{"$error":"#NUM!"},403,{"$error":"#N/A"},"","",null,null,0,{"$error":"#VALUE!"},3999,"","",null,null,null,null,{"$error":"#VALUE!"},{"$error":"#VALUE!"},{"$f":"COUNTIF('Standards LOOKUP'!B:B,AI404)","v":0},{"$f":"IFERROR(INDEX('Standards LOOKUP'!C:C,MATCH(AI404,'Standards LOOKUP'!B:B,0),0),0)","v":0},{"$f":"IFERROR(INDEX('Current Standards'!P:P,MATCH('Sheet Counter'!AI404,'Current Standards'!O:O,0),0),\"\")","v":""}]
[null,null,0,"","",{"$error":"#VALUE!"},"",{"$f":"IF(I405=\"\",\"\",LARGE(H$1:H404,1)+1)","v":{"$error":"#VALUE!"}},{"$error":"#VALUE!"},404,{"$error":"#N/A"},"",null,null,404,0,{"$f":"IF(R405=\"\",\"\",LARGE(Q$1:Q404,1)+1)","v":{"$error":"#NUM!"}},{"$error":"#NUM!"},404,{"$error":"#N/A"},"","",null,null,0,{"$error":"#VALUE!"},3999,"","",null,null,null,null,{"$error":"#VALUE!"},{"$error":"#VALUE!"},{"$f":"COUNTIF('Standards LOOKUP'!B:B,AI405)","v":0},{"$f":"IFERROR(INDEX('Standards LOOKUP'!C:C,MATCH(AI405,'Standards LOOKUP'!B:B,0),0),0)","v":0},{"$f":"IFERROR(INDEX('Current Standards'!P:P,MATCH('Sheet Counter'!AI405,'Current Standards'!O:O,0),0),\"\")","v":""}]
[null,null,0,"","",{"$error":"#VALUE!"},"",{"$f":"IF(I406=\"\",\"\",LARGE(H$1:H405,1)+1)","v":{"$error":"#VALUE!"}},{"$error":"#VALUE!"},405,{"$error":"#N/A"},"",null,null,405,0,{"$f":"IF(R406=\"\",\"\",LARGE(Q$1:Q405,1)+1)","v":{"$error":"#NUM!"}},{"$error":"#NUM!"},405,{"$error":"#N/A"},"","",null,null,0,{"$error":"#VALUE!"},3999,"","",null,null,null,null,{"$error":"#VALUE!"},{"$error":"#VALUE!"},{"$f":"COUNTIF('Standards LOOKUP'!B:B,AI406)","v":0},{"$f":"IFERROR(INDEX('Standards LOOKUP'!C:C,MATCH(AI406,'Standards LOOKUP'!B:B,0),0),0)","v":0},{"$f":"IFERROR(INDEX('Current Standards'!P:P,MATCH('Sheet Counter'!AI406,'Current Standards'!O:O,0),0),\"\")","v":""}]
[null,null,0,"","",{"$error":"#VALUE!"},"",{"$f":"IF(I407=\"\",\"\",LARGE(H$1:H406,1)+1)","v":{"$error":"#VALUE!"}},{"$error":"#VALUE!"},406,{"$error":"#N/A"},"",null,null,406,0,{"$f":"IF(R407=\"\",\"\",LARGE(Q$1:Q406,1)+1)","v":{"$error":"#NUM!"}},{"$error":"#NUM!"},406,{"$error":"#N/A"},"","",null,null,0,{"$error":"#VALUE!"},3999,"","",null,null,null,null,{"$error":"#VALUE!"},{"$error":"#VALUE!"},{"$f":"COUNTIF('Standards LOOKUP'!B:B,AI407)","v":0},{"$f":"IFERROR(INDEX('Standards LOOKUP'!C:C,MATCH(AI407,'Standards LOOKUP'!B:B,0),0),0)","v":0},{"$f":"IFERROR(INDEX('Current Standards'!P:P,MATCH('Sheet Counter'!AI407,'Current Standards'!O:O,0),0),\"\")","v":""}]
[null,null,0,"","",{"$error":"#VALUE!"},"",{"$f":"IF(I408=\"\",\"\",LARGE(H$1:H407,1)+1)","v":{"$error":"#VALUE!"}},{"$error":"#VALUE!"},407,{"$error":"#N/A"},"",null,null,407,0,{"$f":"IF(R408=\"\",\"\",LARGE(Q$1:Q407,1)+1)","v":{"$error":"#NUM!"}},{"$error":"#NUM!"},407,{"$error":"#N/A"},"","",null,null,0,{"$error":"#VALUE!"},3999,"","",null,null,null,null,{"$error":"#VALUE!"},{"$error":"#VALUE!"},{"$f":"COUNTIF('Standards LOOKUP'!B:B,AI408)","v":0},{"$f":"IFERROR(INDEX('Standards LOOKUP'!C:C,MATCH(AI408,'Standards LOOKUP'!B:B,0),0),0)","v":0},{"$f":"IFERROR(INDEX('Current Standards'!P:P,MATCH('Sheet Counter'!AI408,'Current Standards'!O:O,0),0),\"\")","v":""}]
[null,null,0,"","",{"$error":"#VALUE!"},"",{"$f":"IF(I409=\"\",\"\",LARGE(H$1:H408,1)+1)","v":{"$error":"#VALUE!"}},{"$error":"#VALUE!"},408,{"$error":"#N/A"},"",null,null,408,0,{"$f":"IF(R409=\"\",\"\",LARGE(Q$1:Q408,1)+1)","v":{"$error":"#NUM!"}},{"$error":"#NUM!"},408,{"$error":"#N/A"},"","",null,null,0,{"$error":"#VALUE!"},3999,"","",null,null,null,null,{"$error":"#VALUE!"},{"$error":"#VALUE!"},{"$f":"COUNTIF('Standards LOOKUP'!B:B,AI409)","v":0},{"$f":"IFERROR(INDEX('Standards LOOKUP'!C:C,MATCH(AI409,'Standards LOOKUP'!B:B,0),0),0)","v":0},{"$f":"IFERROR(INDEX('Current Standards'!P:P,MATCH('Sheet Counter'!AI409,'Current Standards'!O:O,0),0),\"\")","v":""}]
[null,null,0,"","",{"$error":"#VALUE!"},"",{"$f":"IF(I410=\"\",\"\",LARGE(H$1:H409,1)+1)","v":{"$error":"#VALUE!"}},{"$error":"#VALUE!"},409,{"$error":"#N/A"},"",null,null,409,0,{"$f":"IF(R410=\"\",\"\",LARGE(Q$1:Q409,1)+1)","v":{"$error":"#NUM!"}},{"$error":"#NUM!"},409,{"$error":"#N/A"},"","",null,null,0,{"$error":"#VALUE!"},3999,"","",null,null,null,null,{"$error":"#VALUE!"},{"$error":"#VALUE!"},{"$f":"COUNTIF('Standards LOOKUP'!B:B,AI410)","v":0},{"$f":"IFERROR(INDEX('Standards LOOKUP'!C:C,MATCH(AI410,'Standards LOOKUP'!B:B,0),0),0)","v":0},{"$f":"IFERROR(INDEX('Current Standards'!P:P,MATCH('Sheet Counter'!AI410,'Current Standards'!O:O,0),0),\"\")","v":""}]
[null,null,0,"","",{"$error":"#VALUE!"},"",{"$f":"IF(I411=\"\",\"\",LARGE(H$1:H410,1)+1)","v":{"$error":"#VALUE!"}},{"$error":"#VALUE!"},410,{"$error":"#N/A"},"",null,null,410,0,{"$f":"IF(R411=\"\",\"\",LARGE(Q$1:Q410,1)+1)","v":{"$error":"#NUM!"}},{"$error":"#NUM!"},410,{"$error":"#N/A"},"","",null,null,0,{"$error":"#VALUE!"},3999,"","",null,null,null,null,{"$error":"#VALUE!"},{"$error":"#VALUE!"},{"$f":"COUNTIF('Standards LOOKUP'!B:B,AI411)","v":0},{"$f":"IFERROR(INDEX('Standards LOOKUP'!C:C,MATCH(AI411,'Standards LOOKUP'!B:B,0),0),0)","v":0},{"$f":"IFERROR(INDEX('Current Standards'!P:P,MATCH('Sheet Counter'!AI411,'Current Standards'!O:O,0),0),\"\")","v":""}]
[null,null,0,"","",{"$error":"#VALUE!"},"",{"$f":"IF(I412=\"\",\"\",LARGE(H$1:H411,1)+1)","v":{"$error":"#VALUE!"}},{"$error":"#VALUE!"},411,{"$error":"#N/A"},"",null,null,411,0,{"$f":"IF(R412=\"\",\"\",LARGE(Q$1:Q411,1)+1)","v":{"$error":"#NUM!"}},{"$error":"#NUM!"},411,{"$error":"#N/A"},"","",null,null,0,{"$error":"#VALUE!"},3999,"","",null,null,null,null,{"$error":"#VALUE!"},{"$error":"#VALUE!"},{"$f":"COUNTIF('Standards LOOKUP'!B:B,AI412)","v":0},{"$f":"IFERROR(INDEX('Standards LOOKUP'!C:C,MATCH(AI412,'Standards LOOKUP'!B:B,0),0),0)","v":0},{"$f":"IFERROR(INDEX('Current Standards'!P:P,MATCH('Sheet Counter'!AI412,'Current Standards'!O:O,0),0),\"\")","v":""}]
[null,null,0,"","",{"$error":"#VALUE!"},"",{"$f":"IF(I413=\"\",\"\",LARGE(H$1:H412,1)+1)","v":{"$error":"#VALUE!"}},{"$error":"#VALUE!"},412,{"$error":"#N/A"},"",null,null,412,0,{"$f":"IF(R413=\"\",\"\",LARGE(Q$1:Q412,1)+1)","v":{"$error":"#NUM!"}},{"$error":"#NUM!"},412,{"$error":"#N/A"},"","",null,null,0,{"$error":"#VALUE!"},3999,"","",null,null,null,null,{"$error":"#VALUE!"},{"$error":"#VALUE!"},{"$f":"COUNTIF('Standards LOOKUP'!B:B,AI413)","v":0},{"$f":"IFERROR(INDEX('Standards LOOKUP'!C:C,MATCH(AI413,'Standards LOOKUP'!B:B,0),0),0)","v":0},{"$f":"IFERROR(INDEX('Current Standards'!P:P,MATCH('Sheet Counter'!AI413,'Current Standards'!O:O,0),0),\"\")","v":""}]
[null,null,0,"","",{"$error":"#VALUE!"},"",{"$f":"IF(I414=\"\",\"\",LARGE(H$1:H413,1)+1)","v":{"$error":"#VALUE!"}},{"$error":"#VALUE!"},413,{"$error":"#N/A"},"",null,null,413,0,{"$f":"IF(R414=\"\",\"\",LARGE(Q$1:Q413,1)+1)","v":{"$error":"#NUM!"}},{"$error":"#NUM!"},413,{"$error":"#N/A"},"","",null,null,0,{"$error":"#VALUE!"},3999,"","",null,null,null,null,{"$error":"#VALUE!"},{"$error":"#VALUE!"},{"$f":"COUNTIF('Standards LOOKUP'!B:B,AI414)","v":0},{"$f":"IFERROR(INDEX('Standards LOOKUP'!C:C,MATCH(AI414,'Standards LOOKUP'!B:B,0),0),0)","v":0},{"$f":"IFERROR(INDEX('Current Standards'!P:P,MATCH('Sheet Counter'!AI414,'Current Standards'!O:O,0),0),\"\")","v":""}]
[null,null,0,"","",{"$error":"#VALUE!"},"",{"$f":"IF(I415=\"\",\"\",LARGE(H$1:H414,1)+1)","v":{"$error":"#VALUE!"}},{"$error":"#VALUE!"},414,{"$error":"#N/A"},"",null,null,414,0,{"$f":"IF(R415=\"\",\"\",LARGE(Q$1:Q414,1)+1)","v":{"$error":"#NUM!"}},{"$error":"#NUM!"},414,{"$f":"VLOOKUP(S415,Q:R,2,0)","v":{"$error":"#N/A"}},"","",null,null,0,{"$error":"#VALUE!"},3999,"","",null,null,null,null,{"$error":"#VALUE!"},{"$error":"#VALUE!"},{"$f":"COUNTIF('Standards LOOKUP'!B:B,AI415)","v":0},{"$f":"IFERROR(INDEX('Standards LOOKUP'!C:C,MATCH(AI415,'Standards LOOKUP'!B:B,0),0),0)","v":0},{"$f":"IFERROR(INDEX('Current Standards'!P:P,MATCH('Sheet Counter'!AI415,'Current Standards'!O:O,0),0),\"\")","v":""}]
[null,null,0,"","",{"$error":"#VALUE!"},"",{"$f":"IF(I416=\"\",\"\",LARGE(H$1:H415,1)+1)","v":{"$error":"#VALUE!"}},{"$error":"#VALUE!"},415,{"$error":"#N/A"},"",null,null,415,0,{"$f":"IF(R416=\"\",\"\",LARGE(Q$1:Q415,1)+1)","v":{"$error":"#NUM!"}},{"$error":"#NUM!"},415,{"$error":"#N/A"},"","",null,null,0,{"$error":"#VALUE!"},3999,"","",null,null,null,null,{"$error":"#VALUE!"},{"$error":"#VALUE!"},{"$f":"COUNTIF('Standards LOOKUP'!B:B,AI416)","v":0},{"$f":"IFERROR(INDEX('Standards LOOKUP'!C:C,MATCH(AI416,'Standards LOOKUP'!B:B,0),0),0)","v":0},{"$f":"IFERROR(INDEX('Current Standards'!P:P,MATCH('Sheet Counter'!AI416,'Current Standards'!O:O,0),0),\"\")","v":""}]
[null,null,0,"","",{"$error":"#VALUE!"},"",{"$f":"IF(I417=\"\",\"\",LARGE(H$1:H416,1)+1)","v":{"$error":"#VALUE!"}},{"$error":"#VALUE!"},416,{"$error":"#N/A"},"",null,null,416,0,{"$f":"IF(R417=\"\",\"\",LARGE(Q$1:Q416,1)+1)","v":{"$error":"#NUM!"}},{"$error":"#NUM!"},416,{"$error":"#N/A"},"","",null,null,0,{"$error":"#VALUE!"},3999,"","",null,null,null,null,{"$error":"#VALUE!"},{"$error":"#VALUE!"},{"$f":"COUNTIF('Standards LOOKUP'!B:B,AI417)","v":0},{"$f":"IFERROR(INDEX('Standards LOOKUP'!C:C,MATCH(AI417,'Standards LOOKUP'!B:B,0),0),0)","v":0},{"$f":"IFERROR(INDEX('Current Standards'!P:P,MATCH('Sheet Counter'!AI417,'Current Standards'!O:O,0),0),\"\")","v":""}]
[null,null,0,"","",{"$error":"#VALUE!"},"",{"$f":"IF(I418=\"\",\"\",LARGE(H$1:H417,1)+1)","v":{"$error":"#VALUE!"}},{"$error":"#VALUE!"},417,{"$error":"#N/A"},"",null,null,417,0,{"$f":"IF(R418=\"\",\"\",LARGE(Q$1:Q417,1)+1)","v":{"$error":"#NUM!"}},{"$error":"#NUM!"},417,{"$error":"#N/A"},"","",null,null,0,{"$error":"#VALUE!"},3999,"","",null,null,null,null,{"$error":"#VALUE!"},{"$error":"#VALUE!"},{"$f":"COUNTIF('Standards LOOKUP'!B:B,AI418)","v":0},{"$f":"IFERROR(INDEX('Standards LOOKUP'!C:C,MATCH(AI418,'Standards LOOKUP'!B:B,0),0),0)","v":0},{"$f":"IFERROR(INDEX('Current Standards'!P:P,MATCH('Sheet Counter'!AI418,'Current Standards'!O:O,0),0),\"\")","v":""}]
[null,null,0,"","",{"$error":"#VALUE!"},"",{"$f":"IF(I419=\"\",\"\",LARGE(H$1:H418,1)+1)","v":{"$error":"#VALUE!"}},{"$error":"#VALUE!"},418,{"$error":"#N/A"},"",null,null,418,0,{"$f":"IF(R419=\"\",\"\",LARGE(Q$1:Q418,1)+1)","v":{"$error":"#NUM!"}},{"$error":"#NUM!"},418,{"$error":"#N/A"},"","",null,null,0,{"$error":"#VALUE!"},3999,"","",null,null,null,null,{"$error":"#VALUE!"},{"$error":"#VALUE!"},{"$f":"COUNTIF('Standards LOOKUP'!B:B,AI419)","v":0},{"$f":"IFERROR(INDEX('Standards LOOKUP'!C:C,MATCH(AI419,'Standards LOOKUP'!B:B,0),0),0)","v":0},{"$f":"IFERROR(INDEX('Current Standards'!P:P,MATCH('Sheet Counter'!AI419,'Current Standards'!O:O,0),0),\"\")","v":""}]
[null,null,0,"","",{"$error":"#VALUE!"},"",{"$f":"IF(I420=\"\",\"\",LARGE(H$1:H419,1)+1)","v":{"$error":"#VALUE!"}},{"$error":"#VALUE!"},419,{"$error":"#N/A"},"",null,null,419,0,{"$f":"IF(R420=\"\",\"\",LARGE(Q$1:Q419,1)+1)","v":{"$error":"#NUM!"}},{"$error":"#NUM!"},419,{"$error":"#N/A"},"","",null,null,0,{"$error":"#VALUE!"},3999,"","",null,null,null,null,{"$error":"#VALUE!"},{"$error":"#VALUE!"},{"$f":"COUNTIF('Standards LOOKUP'!B:B,AI420)","v":0},{"$f":"IFERROR(INDEX('Standards LOOKUP'!C:C,MATCH(AI420,'Standards LOOKUP'!B:B,0),0),0)","v":0},{"$f":"IFERROR(INDEX('Current Standards'!P:P,MATCH('Sheet Counter'!AI420,'Current Standards'!O:O,0),0),\"\")","v":""}]
[null,null,0,"","",{"$error":"#VALUE!"},"",{"$f":"IF(I421=\"\",\"\",LARGE(H$1:H420,1)+1)","v":{"$error":"#VALUE!"}},{"$error":"#VALUE!"},420,{"$error":"#N/A"},"",null,null,420,0,{"$f":"IF(R421=\"\",\"\",LARGE(Q$1:Q420,1)+1)","v":{"$error":"#NUM!"}},{"$error":"#NUM!"},420,{"$error":"#N/A"},"","",null,null,0,{"$error":"#VALUE!"},3999,"","",null,null,null,null,{"$error":"#VALUE!"},{"$error":"#VALUE!"},{"$f":"COUNTIF('Standards LOOKUP'!B:B,AI421)","v":0},{"$f":"IFERROR(INDEX('Standards LOOKUP'!C:C,MATCH(AI421,'Standards LOOKUP'!B:B,0),0),0)","v":0},{"$f":"IFERROR(INDEX('Current Standards'!P:P,MATCH('Sheet Counter'!AI421,'Current Standards'!O:O,0),0),\"\")","v":""}]
[null,null,0,"","",{"$error":"#VALUE!"},"",{"$f":"IF(I422=\"\",\"\",LARGE(H$1:H421,1)+1)","v":{"$error":"#VALUE!"}},{"$error":"#VALUE!"},421,{"$error":"#N/A"},"",null,null,421,0,{"$f":"IF(R422=\"\",\"\",LARGE(Q$1:Q421,1)+1)","v":{"$error":"#NUM!"}},{"$error":"#NUM!"},421,{"$error":"#N/A"},"","",null,null,0,{"$error":"#VALUE!"},3999,"","",null,null,null,null,{"$error":"#VALUE!"},{"$error":"#VALUE!"},{"$f":"COUNTIF('Standards LOOKUP'!B:B,AI422)","v":0},{"$f":"IFERROR(INDEX('Standards LOOKUP'!C:C,MATCH(AI422,'Standards LOOKUP'!B:B,0),0),0)","v":0},{"$f":"IFERROR(INDEX('Current Standards'!P:P,MATCH('Sheet Counter'!AI422,'Current Standards'!O:O,0),0),\"\")","v":""}]
[null,null,0,"","",{"$error":"#VALUE!"},"",{"$f":"IF(I423=\"\",\"\",LARGE(H$1:H422,1)+1)","v":{"$error":"#VALUE!"}},{"$error":"#VALUE!"},422,{"$error":"#N/A"},"",null,null,422,0,{"$f":"IF(R423=\"\",\"\",LARGE(Q$1:Q422,1)+1)","v":{"$error":"#NUM!"}},{"$error":"#NUM!"},422,{"$error":"#N/A"},"","",null,null,0,{"$error":"#VALUE!"},3999,"","",null,null,null,null,{"$error":"#VALUE!"},{"$error":"#VALUE!"},{"$f":"COUNTIF('Standards LOOKUP'!B:B,AI423)","v":0},{"$f":"IFERROR(INDEX('Standards LOOKUP'!C:C,MATCH(AI423,'Standards LOOKUP'!B:B,0),0),0)","v":0},{"$f":"IFERROR(INDEX('Current Standards'!P:P,MATCH('Sheet Counter'!AI423,'Current Standards'!O:O,0),0),\"\")","v":""}]
[null,null,0,"","",{"$error":"#VALUE!"},"",{"$f":"IF(I424=\"\",\"\",LARGE(H$1:H423,1)+1)","v":{"$error":"#VALUE!"}},{"$error":"#VALUE!"},423,{"$f":"VLOOKUP(J424,H:I,2,0)","v":{"$error":"#N/A"}},"",null,null,423,0,{"$f":"IF(R424=\"\",\"\",LARGE(Q$1:Q423,1)+1)","v":{"$error":"#NUM!"}},{"$error":"#NUM!"},423,{"$error":"#N/A"},"","",null,null,0,{"$error":"#VALUE!"},3999,"","",null,null,null,null,{"$error":"#VALUE!"},{"$error":"#VALUE!"},{"$f":"COUNTIF('Standards LOOKUP'!B:B,AI424)","v":0},{"$f":"IFERROR(INDEX('Standards LOOKUP'!C:C,MATCH(AI424,'Standards LOOKUP'!B:B,0),0),0)","v":0},{"$f":"IFERROR(INDEX('Current Standards'!P:P,MATCH('Sheet Counter'!AI424,'Current Standards'!O:O,0),0),\"\")","v":""}]
[null,null,0,"","",{"$error":"#VALUE!"},"",{"$f":"IF(I425=\"\",\"\",LARGE(H$1:H424,1)+1)","v":{"$error":"#VALUE!"}},{"$error":"#VALUE!"},424,{"$error":"#N/A"},"",null,null,424,0,{"$f":"IF(R425=\"\",\"\",LARGE(Q$1:Q424,1)+1)","v":{"$error":"#NUM!"}},{"$error":"#NUM!"},424,{"$error":"#N/A"},"","",null,null,0,{"$error":"#VALUE!"},3999,"","",null,null,null,null,{"$error":"#VALUE!"},{"$error":"#VALUE!"},{"$f":"COUNTIF('Standards LOOKUP'!B:B,AI425)","v":0},{"$f":"IFERROR(INDEX('Standards LOOKUP'!C:C,MATCH(AI425,'Standards LOOKUP'!B:B,0),0),0)","v":0},{"$f":"IFERROR(INDEX('Current Standards'!P:P,MATCH('Sheet Counter'!AI425,'Current Standards'!O:O,0),0),\"\")","v":""}]
[null,null,0,"","",{"$error":"#VALUE!"},"",{"$f":"IF(I426=\"\",\"\",LARGE(H$1:H425,1)+1)","v":{"$error":"#VALUE!"}},{"$error":"#VALUE!"},425,{"$error":"#N/A"},"",null,null,425,0,{"$f":"IF(R426=\"\",\"\",LARGE(Q$1:Q425,1)+1)","v":{"$error":"#NUM!"}},{"$error":"#NUM!"},425,{"$error":"#N/A"},"","",null,null,0,{"$error":"#VALUE!"},3999,"","",null,null,null,null,{"$error":"#VALUE!"},{"$error":"#VALUE!"},{"$f":"COUNTIF('Standards LOOKUP'!B:B,AI426)","v":0},{"$f":"IFERROR(INDEX('Standards LOOKUP'!C:C,MATCH(AI426,'Standards LOOKUP'!B:B,0),0),0)","v":0},{"$f":"IFERROR(INDEX('Current Standards'!P:P,MATCH('Sheet Counter'!AI426,'Current Standards'!O:O,0),0),\"\")","v":""}]
[null,null,0,"","",{"$error":"#VALUE!"},"",{"$f":"IF(I427=\"\",\"\",LARGE(H$1:H426,1)+1)","v":{"$error":"#VALUE!"}},{"$error":"#VALUE!"},426,{"$error":"#N/A"},"",null,null,426,0,{"$f":"IF(R427=\"\",\"\",LARGE(Q$1:Q426,1)+1)","v":{"$error":"#NUM!"}},{"$error":"#NUM!"},426,{"$error":"#N/A"},"","",null,null,0,{"$error":"#VALUE!"},3999,"","",null,null,null,null,{"$error":"#VALUE!"},{"$error":"#VALUE!"},{"$f":"COUNTIF('Standards LOOKUP'!B:B,AI427)","v":0},{"$f":"IFERROR(INDEX('Standards LOOKUP'!C:C,MATCH(AI427,'Standards LOOKUP'!B:B,0),0),0)","v":0},{"$f":"IFERROR(INDEX('Current Standards'!P:P,MATCH('Sheet Counter'!AI427,'Current Standards'!O:O,0),0),\"\")","v":""}]
[null,null,0,"","",{"$error":"#VALUE!"},"",{"$f":"IF(I428=\"\",\"\",LARGE(H$1:H427,1)+1)","v":{"$error":"#VALUE!"}},{"$error":"#VALUE!"},427,{"$error":"#N/A"},"",null,null,427,0,{"$f":"IF(R428=\"\",\"\",LARGE(Q$1:Q427,1)+1)","v":{"$error":"#NUM!"}},{"$error":"#NUM!"},427,{"$error":"#N/A"},"","",null,null,0,{"$error":"#VALUE!"},3999,"","",null,null,null,null,{"$error":"#VALUE!"},{"$error":"#VALUE!"},{"$f":"COUNTIF('Standards LOOKUP'!B:B,AI428)","v":0},{"$f":"IFERROR(INDEX('Standards LOOKUP'!C:C,MATCH(AI428,'Standards LOOKUP'!B:B,0),0),0)","v":0},{"$f":"IFERROR(INDEX('Current Standards'!P:P,MATCH('Sheet Counter'!AI428,'Current Standards'!O:O,0),0),\"\")","v":""}]
[null,null,0,"","",{"$error":"#VALUE!"},"",{"$f":"IF(I429=\"\",\"\",LARGE(H$1:H428,1)+1)","v":{"$error":"#VALUE!"}},{"$error":"#VALUE!"},428,{"$error":"#N/A"},"",null,null,428,0,{"$f":"IF(R429=\"\",\"\",LARGE(Q$1:Q428,1)+1)","v":{"$error":"#NUM!"}},{"$error":"#NUM!"},428,{"$error":"#N/A"},"","",null,null,0,{"$error":"#VALUE!"},3999,"","",null,null,null,null,{"$error":"#VALUE!"},{"$error":"#VALUE!"},{"$f":"COUNTIF('Standards LOOKUP'!B:B,AI429)","v":0},{"$f":"IFERROR(INDEX('Standards LOOKUP'!C:C,MATCH(AI429,'Standards LOOKUP'!B:B,0),0),0)","v":0},{"$f":"IFERROR(INDEX('Current Standards'!P:P,MATCH('Sheet Counter'!AI429,'Current Standards'!O:O,0),0),\"\")","v":""}]
[null,null,0,"","",{"$error":"#VALUE!"},"",{"$f":"IF(I430=\"\",\"\",LARGE(H$1:H429,1)+1)","v":{"$error":"#VALUE!"}},{"$error":"#VALUE!"},429,{"$error":"#N/A"},"",null,null,429,0,{"$f":"IF(R430=\"\",\"\",LARGE(Q$1:Q429,1)+1)","v":{"$error":"#NUM!"}},{"$error":"#NUM!"},429,{"$error":"#N/A"},"","",null,null,0,{"$error":"#VALUE!"},3999,"","",null,null,null,null,{"$error":"#VALUE!"},{"$error":"#VALUE!"},{"$f":"COUNTIF('Standards LOOKUP'!B:B,AI430)","v":0},{"$f":"IFERROR(INDEX('Standards LOOKUP'!C:C,MATCH(AI430,'Standards LOOKUP'!B:B,0),0),0)","v":0},{"$f":"IFERROR(INDEX('Current Standards'!P:P,MATCH('Sheet Counter'!AI430,'Current Standards'!O:O,0),0),\"\")","v":""}]
[null,null,0,"","",{"$error":"#VALUE!"},"",{"$f":"IF(I431=\"\",\"\",LARGE(H$1:H430,1)+1)","v":{"$error":"#VALUE!"}},{"$error":"#VALUE!"},430,{"$error":"#N/A"},"",null,null,430,0,{"$f":"IF(R431=\"\",\"\",LARGE(Q$1:Q430,1)+1)","v":{"$error":"#NUM!"}},{"$error":"#NUM!"},430,{"$error":"#N/A"},"","",null,null,0,{"$error":"#VALUE!"},3999,"","",null,null,null,null,{"$error":"#VALUE!"},{"$error":"#VALUE!"},{"$f":"COUNTIF('Standards LOOKUP'!B:B,AI431)","v":0},{"$f":"IFERROR(INDEX('Standards LOOKUP'!C:C,MATCH(AI431,'Standards LOOKUP'!B:B,0),0),0)","v":0},{"$f":"IFERROR(INDEX('Current Standards'!P:P,MATCH('Sheet Counter'!AI431,'Current Standards'!O:O,0),0),\"\")","v":""}]
[null,null,0,"","",{"$error":"#VALUE!"},"",{"$f":"IF(I432=\"\",\"\",LARGE(H$1:H431,1)+1)","v":{"$error":"#VALUE!"}},{"$error":"#VALUE!"},431,{"$error":"#N/A"},"",null,null,431,0,{"$f":"IF(R432=\"\",\"\",LARGE(Q$1:Q431,1)+1)","v":{"$error":"#NUM!"}},{"$error":"#NUM!"},431,{"$error":"#N/A"},"","",null,null,0,{"$error":"#VALUE!"},3999,"","",null,null,null,null,{"$error":"#VALUE!"},{"$error":"#VALUE!"},{"$f":"COUNTIF('Standards LOOKUP'!B:B,AI432)","v":0},{"$f":"IFERROR(INDEX('Standards LOOKUP'!C:C,MATCH(AI432,'Standards LOOKUP'!B:B,0),0),0)","v":0},{"$f":"IFERROR(INDEX('Current Standards'!P:P,MATCH('Sheet Counter'!AI432,'Current Standards'!O:O,0),0),\"\")","v":""}]
[null,null,0,"","",{"$error":"#VALUE!"},"",{"$f":"IF(I433=\"\",\"\",LARGE(H$1:H432,1)+1)","v":{"$error":"#VALUE!"}},{"$error":"#VALUE!"},432,{"$error":"#N/A"},"",null,null,432,0,{"$f":"IF(R433=\"\",\"\",LARGE(Q$1:Q432,1)+1)","v":{"$error":"#NUM!"}},{"$error":"#NUM!"},432,{"$error":"#N/A"},"","",null,null,0,{"$error":"#VALUE!"},3999,"","",null,null,null,null,{"$error":"#VALUE!"},{"$error":"#VALUE!"},{"$f":"COUNTIF('Standards LOOKUP'!B:B,AI433)","v":0},{"$f":"IFERROR(INDEX('Standards LOOKUP'!C:C,MATCH(AI433,'Standards LOOKUP'!B:B,0),0),0)","v":0},{"$f":"IFERROR(INDEX('Current Standards'!P:P,MATCH('Sheet Counter'!AI433,'Current Standards'!O:O,0),0),\"\")","v":""}]
[null,null,0,"","",{"$error":"#VALUE!"},"",{"$f":"IF(I434=\"\",\"\",LARGE(H$1:H433,1)+1)","v":{"$error":"#VALUE!"}},{"$error":"#VALUE!"},433,{"$error":"#N/A"},"",null,null,433,0,{"$f":"IF(R434=\"\",\"\",LARGE(Q$1:Q433,1)+1)","v":{"$error":"#NUM!"}},{"$error":"#NUM!"},433,{"$error":"#N/A"},"","",null,null,0,{"$error":"#VALUE!"},3999,"","",null,null,null,null,{"$error":"#VALUE!"},{"$error":"#VALUE!"},{"$f":"COUNTIF('Standards LOOKUP'!B:B,AI434)","v":0},{"$f":"IFERROR(INDEX('Standards LOOKUP'!C:C,MATCH(AI434,'Standards LOOKUP'!B:B,0),0),0)","v":0},{"$f":"IFERROR(INDEX('Current Standards'!P:P,MATCH('Sheet Counter'!AI434,'Current Standards'!O:O,0),0),\"\")","v":""}]
[null,null,0,"","",{"$error":"#VALUE!"},"",{"$f":"IF(I435=\"\",\"\",LARGE(H$1:H434,1)+1)","v":{"$error":"#VALUE!"}},{"$error":"#VALUE!"},434,{"$error":"#N/A"},"",null,null,434,0,{"$f":"IF(R435=\"\",\"\",LARGE(Q$1:Q434,1)+1)","v":{"$error":"#NUM!"}},{"$error":"#NUM!"},434,{"$error":"#N/A"},"","",null,null,0,{"$error":"#VALUE!"},3999,"","",null,null,null,null,{"$error":"#VALUE!"},{"$error":"#VALUE!"},{"$f":"COUNTIF('Standards LOOKUP'!B:B,AI435)","v":0},{"$f":"IFERROR(INDEX('Standards LOOKUP'!C:C,MATCH(AI435,'Standards LOOKUP'!B:B,0),0),0)","v":0},{"$f":"IFERROR(INDEX('Current Standards'!P:P,MATCH('Sheet Counter'!AI435,'Current Standards'!O:O,0),0),\"\")","v":""}]
[null,null,0,"","",{"$error":"#VALUE!"},"",{"$f":"IF(I436=\"\",\"\",LARGE(H$1:H435,1)+1)","v":{"$error":"#VALUE!"}},{"$error":"#VALUE!"},435,{"$error":"#N/A"},"",null,null,435,0,{"$f":"IF(R436=\"\",\"\",LARGE(Q$1:Q435,1)+1)","v":{"$error":"#NUM!"}},{"$error":"#NUM!"},435,{"$error":"#N/A"},"","",null,null,0,{"$error":"#VALUE!"},3999,"","",null,null,null,null,{"$error":"#VALUE!"},{"$error":"#VALUE!"},{"$f":"COUNTIF('Standards LOOKUP'!B:B,AI436)","v":0},{"$f":"IFERROR(INDEX('Standards LOOKUP'!C:C,MATCH(AI436,'Standards LOOKUP'!B:B,0),0),0)","v":0},{"$f":"IFERROR(INDEX('Current Standards'!P:P,MATCH('Sheet Counter'!AI436,'Current Standards'!O:O,0),0),\"\")","v":""}]
[null,null,0,"","",{"$error":"#VALUE!"},"",{"$f":"IF(I437=\"\",\"\",LARGE(H$1:H436,1)+1)","v":{"$error":"#VALUE!"}},{"$error":"#VALUE!"},436,{"$error":"#N/A"},"",null,null,436,0,{"$f":"IF(R437=\"\",\"\",LARGE(Q$1:Q436,1)+1)","v":{"$error":"#NUM!"}},{"$error":"#NUM!"},436,{"$error":"#N/A"},"","",null,null,0,{"$error":"#VALUE!"},3999,"","",null,null,null,null,{"$error":"#VALUE!"},{"$error":"#VALUE!"},{"$f":"COUNTIF('Standards LOOKUP'!B:B,AI437)","v":0},{"$f":"IFERROR(INDEX('Standards LOOKUP'!C:C,MATCH(AI437,'Standards LOOKUP'!B:B,0),0),0)","v":0},{"$f":"IFERROR(INDEX('Current Standards'!P:P,MATCH('Sheet Counter'!AI437,'Current Standards'!O:O,0),0),\"\")","v":""}]
[null,null,0,"","",{"$error":"#VALUE!"},"",{"$f":"IF(I438=\"\",\"\",LARGE(H$1:H437,1)+1)","v":{"$error":"#VALUE!"}},{"$error":"#VALUE!"},437,{"$error":"#N/A"},"",null,null,437,0,{"$f":"IF(R438=\"\",\"\",LARGE(Q$1:Q437,1)+1)","v":{"$error":"#NUM!"}},{"$error":"#NUM!"},437,{"$error":"#N/A"},"","",null,null,0,{"$error":"#VALUE!"},3999,"","",null,null,null,null,{"$error":"#VALUE!"},{"$error":"#VALUE!"},{"$f":"COUNTIF('Standards LOOKUP'!B:B,AI438)","v":0},{"$f":"IFERROR(INDEX('Standards LOOKUP'!C:C,MATCH(AI438,'Standards LOOKUP'!B:B,0),0),0)","v":0},{"$f":"IFERROR(INDEX('Current Standards'!P:P,MATCH('Sheet Counter'!AI438,'Current Standards'!O:O,0),0),\"\")","v":""}]
[null,null,0,"","",{"$error":"#VALUE!"},"",{"$f":"IF(I439=\"\",\"\",LARGE(H$1:H438,1)+1)","v":{"$error":"#VALUE!"}},{"$error":"#VALUE!"},438,{"$error":"#N/A"},"",null,null,438,0,{"$f":"IF(R439=\"\",\"\",LARGE(Q$1:Q438,1)+1)","v":{"$error":"#NUM!"}},{"$error":"#NUM!"},438,{"$error":"#N/A"},"","",null,null,0,{"$error":"#VALUE!"},3999,"","",null,null,null,null,{"$error":"#VALUE!"},{"$error":"#VALUE!"},{"$f":"COUNTIF('Standards LOOKUP'!B:B,AI439)","v":0},{"$f":"IFERROR(INDEX('Standards LOOKUP'!C:C,MATCH(AI439,'Standards LOOKUP'!B:B,0),0),0)","v":0},{"$f":"IFERROR(INDEX('Current Standards'!P:P,MATCH('Sheet Counter'!AI439,'Current Standards'!O:O,0),0),\"\")","v":""}]
[null,null,0,"","",{"$error":"#VALUE!"},"",{"$f":"IF(I440=\"\",\"\",LARGE(H$1:H439,1)+1)","v":{"$error":"#VALUE!"}},{"$error":"#VALUE!"},439,{"$error":"#N/A"},"",null,null,439,0,{"$f":"IF(R440=\"\",\"\",LARGE(Q$1:Q439,1)+1)","v":{"$error":"#NUM!"}},{"$error":"#NUM!"},439,{"$error":"#N/A"},"","",null,null,0,{"$error":"#VALUE!"},3999,"","",null,null,null,null,{"$error":"#VALUE!"},{"$error":"#VALUE!"},{"$f":"COUNTIF('Standards LOOKUP'!B:B,AI440)","v":0},{"$f":"IFERROR(INDEX('Standards LOOKUP'!C:C,MATCH(AI440,'Standards LOOKUP'!B:B,0),0),0)","v":0},{"$f":"IFERROR(INDEX('Current Standards'!P:P,MATCH('Sheet Counter'!AI440,'Current Standards'!O:O,0),0),\"\")","v":""}]
[null,null,0,"","",{"$error":"#VALUE!"},"",{"$f":"IF(I441=\"\",\"\",LARGE(H$1:H440,1)+1)","v":{"$error":"#VALUE!"}},{"$error":"#VALUE!"},440,{"$error":"#N/A"},"",null,null,440,0,{"$f":"IF(R441=\"\",\"\",LARGE(Q$1:Q440,1)+1)","v":{"$error":"#NUM!"}},{"$error":"#NUM!"},440,{"$error":"#N/A"},"","",null,null,0,{"$error":"#VALUE!"},3999,"","",null,null,null,null,{"$error":"#VALUE!"},{"$error":"#VALUE!"},{"$f":"COUNTIF('Standards LOOKUP'!B:B,AI441)","v":0},{"$f":"IFERROR(INDEX('Standards LOOKUP'!C:C,MATCH(AI441,'Standards LOOKUP'!B:B,0),0),0)","v":0},{"$f":"IFERROR(INDEX('Current Standards'!P:P,MATCH('Sheet Counter'!AI441,'Current Standards'!O:O,0),0),\"\")","v":""}]
[null,null,0,"","",{"$error":"#VALUE!"},"",{"$f":"IF(I442=\"\",\"\",LARGE(H$1:H441,1)+1)","v":{"$error":"#VALUE!"}},{"$error":"#VALUE!"},441,{"$error":"#N/A"},"",null,null,441,0,{"$f":"IF(R442=\"\",\"\",LARGE(Q$1:Q441,1)+1)","v":{"$error":"#NUM!"}},{"$error":"#NUM!"},441,{"$error":"#N/A"},"","",null,null,0,{"$error":"#VALUE!"},3999,"","",null,null,null,null,{"$error":"#VALUE!"},{"$error":"#VALUE!"},{"$f":"COUNTIF('Standards LOOKUP'!B:B,AI442)","v":0},{"$f":"IFERROR(INDEX('Standards LOOKUP'!C:C,MATCH(AI442,'Standards LOOKUP'!B:B,0),0),0)","v":0},{"$f":"IFERROR(INDEX('Current Standards'!P:P,MATCH('Sheet Counter'!AI442,'Current Standards'!O:O,0),0),\"\")","v":""}]
[null,null,0,"","",{"$error":"#VALUE!"},"",{"$f":"IF(I443=\"\",\"\",LARGE(H$1:H442,1)+1)","v":{"$error":"#VALUE!"}},{"$error":"#VALUE!"},442,{"$error":"#N/A"},"",null,null,442,0,{"$f":"IF(R443=\"\",\"\",LARGE(Q$1:Q442,1)+1)","v":{"$error":"#NUM!"}},{"$error":"#NUM!"},442,{"$error":"#N/A"},"","",null,null,0,{"$error":"#VALUE!"},3999,"","",null,null,null,null,{"$error":"#VALUE!"},{"$error":"#VALUE!"},{"$f":"COUNTIF('Standards LOOKUP'!B:B,AI443)","v":0},{"$f":"IFERROR(INDEX('Standards LOOKUP'!C:C,MATCH(AI443,'Standards LOOKUP'!B:B,0),0),0)","v":0},{"$f":"IFERROR(INDEX('Current Standards'!P:P,MATCH('Sheet Counter'!AI443,'Current Standards'!O:O,0),0),\"\")","v":""}]
[null,null,0,"","",{"$error":"#VALUE!"},"",{"$f":"IF(I444=\"\",\"\",LARGE(H$1:H443,1)+1)","v":{"$error":"#VALUE!"}},{"$error":"#VALUE!"},443,{"$error":"#N/A"},"",null,null,443,0,{"$f":"IF(R444=\"\",\"\",LARGE(Q$1:Q443,1)+1)","v":{"$error":"#NUM!"}},{"$error":"#NUM!"},443,{"$error":"#N/A"},"","",null,null,0,{"$error":"#VALUE!"},3999,"","",null,null,null,null,{"$error":"#VALUE!"},{"$error":"#VALUE!"},{"$f":"COUNTIF('Standards LOOKUP'!B:B,AI444)","v":0},{"$f":"IFERROR(INDEX('Standards LOOKUP'!C:C,MATCH(AI444,'Standards LOOKUP'!B:B,0),0),0)","v":0},{"$f":"IFERROR(INDEX('Current Standards'!P:P,MATCH('Sheet Counter'!AI444,'Current Standards'!O:O,0),0),\"\")","v":""}]
[null,null,0,"","",{"$error":"#VALUE!"},"",{"$f":"IF(I445=\"\",\"\",LARGE(H$1:H444,1)+1)","v":{"$error":"#VALUE!"}},{"$error":"#VALUE!"},444,{"$error":"#N/A"},"",null,null,444,0,{"$f":"IF(R445=\"\",\"\",LARGE(Q$1:Q444,1)+1)","v":{"$error":"#NUM!"}},{"$error":"#NUM!"},444,{"$error":"#N/A"},"","",null,null,0,{"$error":"#VALUE!"},3999,"","",null,null,null,null,{"$error":"#VALUE!"},{"$error":"#VALUE!"},{"$f":"COUNTIF('Standards LOOKUP'!B:B,AI445)","v":0},{"$f":"IFERROR(INDEX('Standards LOOKUP'!C:C,MATCH(AI445,'Standards LOOKUP'!B:B,0),0),0)","v":0},{"$f":"IFERROR(INDEX('Current Standards'!P:P,MATCH('Sheet Counter'!AI445,'Current Standards'!O:O,0),0),\"\")","v":""}]
[null,null,0,"","",{"$error":"#VALUE!"},"",{"$f":"IF(I446=\"\",\"\",LARGE(H$1:H445,1)+1)","v":{"$error":"#VALUE!"}},{"$error":"#VALUE!"},445,{"$error":"#N/A"},"",null,null,445,0,{"$f":"IF(R446=\"\",\"\",LARGE(Q$1:Q445,1)+1)","v":{"$error":"#NUM!"}},{"$error":"#NUM!"},445,{"$error":"#N/A"},"","",null,null,0,{"$error":"#VALUE!"},3999,"","",null,null,null,null,{"$error":"#VALUE!"},{"$error":"#VALUE!"},{"$f":"COUNTIF('Standards LOOKUP'!B:B,AI446)","v":0},{"$f":"IFERROR(INDEX('Standards LOOKUP'!C:C,MATCH(AI446,'Standards LOOKUP'!B:B,0),0),0)","v":0},{"$f":"IFERROR(INDEX('Current Standards'!P:P,MATCH('Sheet Counter'!AI446,'Current Standards'!O:O,0),0),\"\")","v":""}]
[null,null,0,"","",{"$error":"#VALUE!"},"",{"$f":"IF(I447=\"\",\"\",LARGE(H$1:H446,1)+1)","v":{"$error":"#VALUE!"}},{"$error":"#VALUE!"},446,{"$error":"#N/A"},"",null,null,446,0,{"$f":"IF(R447=\"\",\"\",LARGE(Q$1:Q446,1)+1)","v":{"$error":"#NUM!"}},{"$error":"#NUM!"},446,{"$error":"#N/A"},"","",null,null,0,{"$error":"#VALUE!"},3999,"","",null,null,null,null,{"$error":"#VALUE!"},{"$error":"#VALUE!"},{"$f":"COUNTIF('Standards LOOKUP'!B:B,AI447)","v":0},{"$f":"IFERROR(INDEX('Standards LOOKUP'!C:C,MATCH(AI447,'Standards LOOKUP'!B:B,0),0),0)","v":0},{"$f":"IFERROR(INDEX('Current Standards'!P:P,MATCH('Sheet Counter'!AI447,'Current Standards'!O:O,0),0),\"\")","v":""}]
[null,null,0,"","",{"$error":"#VALUE!"},"",{"$f":"IF(I448=\"\",\"\",LARGE(H$1:H447,1)+1)","v":{"$error":"#VALUE!"}},{"$error":"#VALUE!"},447,{"$error":"#N/A"},"",null,null,447,0,{"$f":"IF(R448=\"\",\"\",LARGE(Q$1:Q447,1)+1)","v":{"$error":"#NUM!"}},{"$error":"#NUM!"},447,{"$error":"#N/A"},"","",null,null,0,{"$error":"#VALUE!"},3999,"","",null,null,null,null,{"$error":"#VALUE!"},{"$error":"#VALUE!"},{"$f":"COUNTIF('Standards LOOKUP'!B:B,AI448)","v":0},{"$f":"IFERROR(INDEX('Standards LOOKUP'!C:C,MATCH(AI448,'Standards LOOKUP'!B:B,0),0),0)","v":0},{"$f":"IFERROR(INDEX('Current Standards'!P:P,MATCH('Sheet Counter'!AI448,'Current Standards'!O:O,0),0),\"\")","v":""}]
[null,null,0,"","",{"$error":"#VALUE!"},"",{"$f":"IF(I449=\"\",\"\",LARGE(H$1:H448,1)+1)","v":{"$error":"#VALUE!"}},{"$error":"#VALUE!"},448,{"$error":"#N/A"},"",null,null,448,0,{"$f":"IF(R449=\"\",\"\",LARGE(Q$1:Q448,1)+1)","v":{"$error":"#NUM!"}},{"$error":"#NUM!"},448,{"$error":"#N/A"},"","",null,null,0,{"$error":"#VALUE!"},3999,"","",null,null,null,null,{"$error":"#VALUE!"},{"$error":"#VALUE!"},{"$f":"COUNTIF('Standards LOOKUP'!B:B,AI449)","v":0},{"$f":"IFERROR(INDEX('Standards LOOKUP'!C:C,MATCH(AI449,'Standards LOOKUP'!B:B,0),0),0)","v":0},{"$f":"IFERROR(INDEX('Current Standards'!P:P,MATCH('Sheet Counter'!AI449,'Current Standards'!O:O,0),0),\"\")","v":""}]
[null,null,0,"","",{"$error":"#VALUE!"},"",{"$f":"IF(I450=\"\",\"\",LARGE(H$1:H449,1)+1)","v":{"$error":"#VALUE!"}},{"$f":"IF(G450=\"\",F450,\"\")","v":{"$error":"#VALUE!"}},449,{"$error":"#N/A"},"",null,null,449,{"$f":"COUNTIF(G:G,O450)","v":0},{"$f":"IF(R450=\"\",\"\",LARGE(Q$1:Q449,1)+1)","v":{"$error":"#NUM!"}},{"$error":"#NUM!"},449,{"$error":"#N/A"},"","",null,null,0,{"$error":"#VALUE!"},3999,"","",null,null,null,null,{"$error":"#VALUE!"},{"$error":"#VALUE!"},{"$f":"COUNTIF('Standards LOOKUP'!B:B,AI450)","v":0},{"$f":"IFERROR(INDEX('Standards LOOKUP'!C:C,MATCH(AI450,'Standards LOOKUP'!B:B,0),0),0)","v":0},{"$f":"IFERROR(INDEX('Current Standards'!P:P,MATCH('Sheet Counter'!AI450,'Current Standards'!O:O,0),0),\"\")","v":""}]
[null,null,{"$f":"IF(ISERROR(FIND(\"\\\",A451)),A451,RIGHT(A451,LEN(A451)-FIND(\"~\",SUBSTITUTE(A451,\"\\\",\"~\",LEN(A451)-LEN(SUBSTITUTE(A451,\"\\\",\"\"))))))","v":0},{"$f":"IF(AL451=\"\",\"\",AL451)","v":""},"",{"$f":"LEFT(C451,FIND(\"-\",SUBSTITUTE(SUBSTITUTE(C451,\"_\",\"-\"),\" \",\"-\"))-1)","v":{"$error":"#VALUE!"}},{"$f":"IF(ISNUMBER(F451*1),F451*1,\"\")","v":""},{"$f":"IF(I451=\"\",\"\",LARGE(H$1:H450,1)+1)","v":{"$error":"#VALUE!"}},{"$error":"#VALUE!"},450,{"$error":"#N/A"},{"$f":"IF(ISERROR(K451),\"\",K451)","v":""},null,null,450,0,{"$f":"IF(R451=\"\",\"\",LARGE(Q$1:Q450,1)+1)","v":{"$error":"#NUM!"}},{"$error":"#NUM!"},450,{"$error":"#N/A"},{"$f":"IF(ISERROR(T451),\"\",T451)","v":""},{"$f":"IF(U451=\"\",\"\",VLOOKUP(U451,O:P,2,0))","v":""},null,null,{"$f":"IF(ISERROR(FIND(\"\\\",X451)),X451,RIGHT(X451,LEN(X451)-FIND(\"~\",SUBSTITUTE(X451,\"\\\",\"~\",LEN(X451)-LEN(SUBSTITUTE(X451,\"\\\",\"\"))))))","v":0},{"$f":"LEFT(Y451,FIND(\"-\",SUBSTITUTE(SUBSTITUTE(Y451,\"_\",\"-\"),\" \",\"-\"))-1)","v":{"$error":"#VALUE!"}},{"$f":"COUNTIF(F:F,Z451)","v":3999},{"$f":"IF(OR(AA451<1,ISERROR(Z451)),\"\",INDEX(C:C,MATCH(Z451,F:F)))","v":""},{"$f":"IF(AA451=0,\"New Sheet\",IF(EXACT(UPPER(Y451),UPPER(AB451)),\"Match\",\"\"))","v":""},null,null,null,null,{"$f":"IF(C451=\"\",\"\",LEFT(RIGHT(C451,LEN(C451)-SEARCH(\" \",C451,1)),LEN(RIGHT(C451,LEN(C451)-SEARCH(\" \",C451,1)))-4))","v":{"$error":"#VALUE!"}},{"$f":"TRIM(SUBSTITUTE(SUBSTITUTE(SUBSTITUTE(SUBSTITUTE(SUBSTITUTE(SUBSTITUTE(AH451,\"(\",\"\"),\")\",\"\"),\"-\",\"\"),\"&\",\"\"),\" \",\"\",1),\" \",\"\",1))","v":{"$error":"#VALUE!"}},{"$f":"COUNTIF('Standards LOOKUP'!B:B,AI451)","v":0},{"$f":"IFERROR(INDEX('Standards LOOKUP'!C:C,MATCH(AI451,'Standards LOOKUP'!B:B,0),0),0)","v":0},{"$f":"IFERROR(INDEX('Current Standards'!P:P,MATCH('Sheet Counter'!AI451,'Current Standards'!O:O,0),0),\"\")","v":""}]
[null,null,0,"","",{"$error":"#VALUE!"},"",{"$f":"IF(I452=\"\",\"\",LARGE(H$1:H451,1)+1)","v":{"$error":"#VALUE!"}},{"$error":"#VALUE!"},451,{"$error":"#N/A"},"",null,null,451,0,{"$f":"IF(R452=\"\",\"\",LARGE(Q$1:Q451,1)+1)","v":{"$error":"#NUM!"}},{"$f":"IF(AND(P452<>1,O452<=LARGE(G:G,1),O452>=SMALL(G:G,1)),O452,\"\")","v":{"$error":"#NUM!"}},451,{"$error":"#N/A"},"","",null,null,0,{"$error":"#VALUE!"},3999,"","",null,null,null,null,{"$error":"#VALUE!"},{"$error":"#VALUE!"},{"$f":"COUNTIF('Standards LOOKUP'!B:B,AI452)","v":0},{"$f":"IFERROR(INDEX('Standards LOOKUP'!C:C,MATCH(AI452,'Standards LOOKUP'!B:B,0),0),0)","v":0},{"$f":"IFERROR(INDEX('Current Standards'!P:P,MATCH('Sheet Counter'!AI452,'Current Standards'!O:O,0),0),\"\")","v":""}]
[null,null,0,"","",{"$error":"#VALUE!"},"",{"$f":"IF(I453=\"\",\"\",LARGE(H$1:H452,1)+1)","v":{"$error":"#VALUE!"}},{"$error":"#VALUE!"},452,{"$error":"#N/A"},"",null,null,452,0,{"$f":"IF(R453=\"\",\"\",LARGE(Q$1:Q452,1)+1)","v":{"$error":"#NUM!"}},{"$error":"#NUM!"},452,{"$error":"#N/A"},"","",null,null,0,{"$error":"#VALUE!"},3999,"","",null,null,null,null,{"$error":"#VALUE!"},{"$error":"#VALUE!"},{"$f":"COUNTIF('Standards LOOKUP'!B:B,AI453)","v":0},{"$f":"IFERROR(INDEX('Standards LOOKUP'!C:C,MATCH(AI453,'Standards LOOKUP'!B:B,0),0),0)","v":0},{"$f":"IFERROR(INDEX('Current Standards'!P:P,MATCH('Sheet Counter'!AI453,'Current Standards'!O:O,0),0),\"\")","v":""}]
[null,null,0,"","",{"$error":"#VALUE!"},"",{"$f":"IF(I454=\"\",\"\",LARGE(H$1:H453,1)+1)","v":{"$error":"#VALUE!"}},{"$error":"#VALUE!"},453,{"$error":"#N/A"},"",null,null,453,0,{"$f":"IF(R454=\"\",\"\",LARGE(Q$1:Q453,1)+1)","v":{"$error":"#NUM!"}},{"$error":"#NUM!"},453,{"$error":"#N/A"},"","",null,null,0,{"$error":"#VALUE!"},3999,"","",null,null,null,null,{"$error":"#VALUE!"},{"$error":"#VALUE!"},{"$f":"COUNTIF('Standards LOOKUP'!B:B,AI454)","v":0},{"$f":"IFERROR(INDEX('Standards LOOKUP'!C:C,MATCH(AI454,'Standards LOOKUP'!B:B,0),0),0)","v":0},{"$f":"IFERROR(INDEX('Current Standards'!P:P,MATCH('Sheet Counter'!AI454,'Current Standards'!O:O,0),0),\"\")","v":""}]
[null,null,0,"","",{"$error":"#VALUE!"},"",{"$f":"IF(I455=\"\",\"\",LARGE(H$1:H454,1)+1)","v":{"$error":"#VALUE!"}},{"$error":"#VALUE!"},454,{"$error":"#N/A"},"",null,null,454,0,{"$f":"IF(R455=\"\",\"\",LARGE(Q$1:Q454,1)+1)","v":{"$error":"#NUM!"}},{"$error":"#NUM!"},454,{"$error":"#N/A"},"","",null,null,0,{"$error":"#VALUE!"},3999,"","",null,null,null,null,{"$error":"#VALUE!"},{"$error":"#VALUE!"},{"$f":"COUNTIF('Standards LOOKUP'!B:B,AI455)","v":0},{"$f":"IFERROR(INDEX('Standards LOOKUP'!C:C,MATCH(AI455,'Standards LOOKUP'!B:B,0),0),0)","v":0},{"$f":"IFERROR(INDEX('Current Standards'!P:P,MATCH('Sheet Counter'!AI455,'Current Standards'!O:O,0),0),\"\")","v":""}]
[null,null,0,"","",{"$error":"#VALUE!"},"",{"$f":"IF(I456=\"\",\"\",LARGE(H$1:H455,1)+1)","v":{"$error":"#VALUE!"}},{"$error":"#VALUE!"},455,{"$error":"#N/A"},"",null,null,455,0,{"$f":"IF(R456=\"\",\"\",LARGE(Q$1:Q455,1)+1)","v":{"$error":"#NUM!"}},{"$error":"#NUM!"},455,{"$error":"#N/A"},"","",null,null,0,{"$error":"#VALUE!"},3999,"","",null,null,null,null,{"$error":"#VALUE!"},{"$error":"#VALUE!"},{"$f":"COUNTIF('Standards LOOKUP'!B:B,AI456)","v":0},{"$f":"IFERROR(INDEX('Standards LOOKUP'!C:C,MATCH(AI456,'Standards LOOKUP'!B:B,0),0),0)","v":0},{"$f":"IFERROR(INDEX('Current Standards'!P:P,MATCH('Sheet Counter'!AI456,'Current Standards'!O:O,0),0),\"\")","v":""}]
[null,null,0,"","",{"$error":"#VALUE!"},"",{"$f":"IF(I457=\"\",\"\",LARGE(H$1:H456,1)+1)","v":{"$error":"#VALUE!"}},{"$error":"#VALUE!"},456,{"$error":"#N/A"},"",null,null,456,0,{"$f":"IF(R457=\"\",\"\",LARGE(Q$1:Q456,1)+1)","v":{"$error":"#NUM!"}},{"$error":"#NUM!"},456,{"$error":"#N/A"},"","",null,null,0,{"$error":"#VALUE!"},3999,"","",null,null,null,null,{"$error":"#VALUE!"},{"$error":"#VALUE!"},{"$f":"COUNTIF('Standards LOOKUP'!B:B,AI457)","v":0},{"$f":"IFERROR(INDEX('Standards LOOKUP'!C:C,MATCH(AI457,'Standards LOOKUP'!B:B,0),0),0)","v":0},{"$f":"IFERROR(INDEX('Current Standards'!P:P,MATCH('Sheet Counter'!AI457,'Current Standards'!O:O,0),0),\"\")","v":""}]
[null,null,0,"","",{"$error":"#VALUE!"},"",{"$f":"IF(I458=\"\",\"\",LARGE(H$1:H457,1)+1)","v":{"$error":"#VALUE!"}},{"$error":"#VALUE!"},457,{"$error":"#N/A"},"",null,null,457,0,{"$f":"IF(R458=\"\",\"\",LARGE(Q$1:Q457,1)+1)","v":{"$error":"#NUM!"}},{"$error":"#NUM!"},457,{"$error":"#N/A"},"","",null,null,0,{"$error":"#VALUE!"},3999,"","",null,null,null,null,{"$error":"#VALUE!"},{"$error":"#VALUE!"},{"$f":"COUNTIF('Standards LOOKUP'!B:B,AI458)","v":0},{"$f":"IFERROR(INDEX('Standards LOOKUP'!C:C,MATCH(AI458,'Standards LOOKUP'!B:B,0),0),0)","v":0},{"$f":"IFERROR(INDEX('Current Standards'!P:P,MATCH('Sheet Counter'!AI458,'Current Standards'!O:O,0),0),\"\")","v":""}]
[null,null,0,"","",{"$error":"#VALUE!"},"",{"$f":"IF(I459=\"\",\"\",LARGE(H$1:H458,1)+1)","v":{"$error":"#VALUE!"}},{"$error":"#VALUE!"},458,{"$error":"#N/A"},"",null,null,458,0,{"$f":"IF(R459=\"\",\"\",LARGE(Q$1:Q458,1)+1)","v":{"$error":"#NUM!"}},{"$error":"#NUM!"},458,{"$error":"#N/A"},"","",null,null,0,{"$error":"#VALUE!"},3999,"","",null,null,null,null,{"$error":"#VALUE!"},{"$error":"#VALUE!"},{"$f":"COUNTIF('Standards LOOKUP'!B:B,AI459)","v":0},{"$f":"IFERROR(INDEX('Standards LOOKUP'!C:C,MATCH(AI459,'Standards LOOKUP'!B:B,0),0),0)","v":0},{"$f":"IFERROR(INDEX('Current Standards'!P:P,MATCH('Sheet Counter'!AI459,'Current Standards'!O:O,0),0),\"\")","v":""}]
[null,null,0,"","",{"$error":"#VALUE!"},"",{"$f":"IF(I460=\"\",\"\",LARGE(H$1:H459,1)+1)","v":{"$error":"#VALUE!"}},{"$error":"#VALUE!"},459,{"$error":"#N/A"},"",null,null,459,0,{"$f":"IF(R460=\"\",\"\",LARGE(Q$1:Q459,1)+1)","v":{"$error":"#NUM!"}},{"$error":"#NUM!"},459,{"$error":"#N/A"},"","",null,null,0,{"$error":"#VALUE!"},3999,"","",null,null,null,null,{"$error":"#VALUE!"},{"$error":"#VALUE!"},{"$f":"COUNTIF('Standards LOOKUP'!B:B,AI460)","v":0},{"$f":"IFERROR(INDEX('Standards LOOKUP'!C:C,MATCH(AI460,'Standards LOOKUP'!B:B,0),0),0)","v":0},{"$f":"IFERROR(INDEX('Current Standards'!P:P,MATCH('Sheet Counter'!AI460,'Current Standards'!O:O,0),0),\"\")","v":""}]
[null,null,0,"","",{"$error":"#VALUE!"},"",{"$f":"IF(I461=\"\",\"\",LARGE(H$1:H460,1)+1)","v":{"$error":"#VALUE!"}},{"$error":"#VALUE!"},460,{"$error":"#N/A"},"",null,null,460,0,{"$f":"IF(R461=\"\",\"\",LARGE(Q$1:Q460,1)+1)","v":{"$error":"#NUM!"}},{"$error":"#NUM!"},460,{"$error":"#N/A"},"","",null,null,0,{"$error":"#VALUE!"},3999,"","",null,null,null,null,{"$error":"#VALUE!"},{"$error":"#VALUE!"},{"$f":"COUNTIF('Standards LOOKUP'!B:B,AI461)","v":0},{"$f":"IFERROR(INDEX('Standards LOOKUP'!C:C,MATCH(AI461,'Standards LOOKUP'!B:B,0),0),0)","v":0},{"$f":"IFERROR(INDEX('Current Standards'!P:P,MATCH('Sheet Counter'!AI461,'Current Standards'!O:O,0),0),\"\")","v":""}]
[null,null,0,"","",{"$error":"#VALUE!"},"",{"$f":"IF(I462=\"\",\"\",LARGE(H$1:H461,1)+1)","v":{"$error":"#VALUE!"}},{"$error":"#VALUE!"},461,{"$error":"#N/A"},"",null,null,461,0,{"$f":"IF(R462=\"\",\"\",LARGE(Q$1:Q461,1)+1)","v":{"$error":"#NUM!"}},{"$error":"#NUM!"},461,{"$error":"#N/A"},"","",null,null,0,{"$error":"#VALUE!"},3999,"","",null,null,null,null,{"$error":"#VALUE!"},{"$error":"#VALUE!"},{"$f":"COUNTIF('Standards LOOKUP'!B:B,AI462)","v":0},{"$f":"IFERROR(INDEX('Standards LOOKUP'!C:C,MATCH(AI462,'Standards LOOKUP'!B:B,0),0),0)","v":0},{"$f":"IFERROR(INDEX('Current Standards'!P:P,MATCH('Sheet Counter'!AI462,'Current Standards'!O:O,0),0),\"\")","v":""}]
[null,null,0,"","",{"$error":"#VALUE!"},"",{"$f":"IF(I463=\"\",\"\",LARGE(H$1:H462,1)+1)","v":{"$error":"#VALUE!"}},{"$error":"#VALUE!"},462,{"$error":"#N/A"},"",null,null,462,0,{"$f":"IF(R463=\"\",\"\",LARGE(Q$1:Q462,1)+1)","v":{"$error":"#NUM!"}},{"$error":"#NUM!"},462,{"$error":"#N/A"},"","",null,null,0,{"$error":"#VALUE!"},3999,"","",null,null,null,null,{"$error":"#VALUE!"},{"$error":"#VALUE!"},{"$f":"COUNTIF('Standards LOOKUP'!B:B,AI463)","v":0},{"$f":"IFERROR(INDEX('Standards LOOKUP'!C:C,MATCH(AI463,'Standards LOOKUP'!B:B,0),0),0)","v":0},{"$f":"IFERROR(INDEX('Current Standards'!P:P,MATCH('Sheet Counter'!AI463,'Current Standards'!O:O,0),0),\"\")","v":""}]
[null,null,0,"","",{"$error":"#VALUE!"},"",{"$f":"IF(I464=\"\",\"\",LARGE(H$1:H463,1)+1)","v":{"$error":"#VALUE!"}},{"$error":"#VALUE!"},463,{"$error":"#N/A"},"",null,null,463,0,{"$f":"IF(R464=\"\",\"\",LARGE(Q$1:Q463,1)+1)","v":{"$error":"#NUM!"}},{"$error":"#NUM!"},463,{"$error":"#N/A"},"","",null,null,0,{"$error":"#VALUE!"},3999,"","",null,null,null,null,{"$error":"#VALUE!"},{"$error":"#VALUE!"},{"$f":"COUNTIF('Standards LOOKUP'!B:B,AI464)","v":0},{"$f":"IFERROR(INDEX('Standards LOOKUP'!C:C,MATCH(AI464,'Standards LOOKUP'!B:B,0),0),0)","v":0},{"$f":"IFERROR(INDEX('Current Standards'!P:P,MATCH('Sheet Counter'!AI464,'Current Standards'!O:O,0),0),\"\")","v":""}]
[null,null,0,"","",{"$error":"#VALUE!"},"",{"$f":"IF(I465=\"\",\"\",LARGE(H$1:H464,1)+1)","v":{"$error":"#VALUE!"}},{"$error":"#VALUE!"},464,{"$error":"#N/A"},"",null,null,464,0,{"$f":"IF(R465=\"\",\"\",LARGE(Q$1:Q464,1)+1)","v":{"$error":"#NUM!"}},{"$error":"#NUM!"},464,{"$error":"#N/A"},"","",null,null,0,{"$error":"#VALUE!"},3999,"","",null,null,null,null,{"$error":"#VALUE!"},{"$error":"#VALUE!"},{"$f":"COUNTIF('Standards LOOKUP'!B:B,AI465)","v":0},{"$f":"IFERROR(INDEX('Standards LOOKUP'!C:C,MATCH(AI465,'Standards LOOKUP'!B:B,0),0),0)","v":0},{"$f":"IFERROR(INDEX('Current Standards'!P:P,MATCH('Sheet Counter'!AI465,'Current Standards'!O:O,0),0),\"\")","v":""}]
[null,null,0,"","",{"$error":"#VALUE!"},"",{"$f":"IF(I466=\"\",\"\",LARGE(H$1:H465,1)+1)","v":{"$error":"#VALUE!"}},{"$error":"#VALUE!"},465,{"$error":"#N/A"},"",null,null,465,0,{"$f":"IF(R466=\"\",\"\",LARGE(Q$1:Q465,1)+1)","v":{"$error":"#NUM!"}},{"$error":"#NUM!"},465,{"$error":"#N/A"},"","",null,null,0,{"$error":"#VALUE!"},3999,"","",null,null,null,null,{"$error":"#VALUE!"},{"$error":"#VALUE!"},{"$f":"COUNTIF('Standards LOOKUP'!B:B,AI466)","v":0},{"$f":"IFERROR(INDEX('Standards LOOKUP'!C:C,MATCH(AI466,'Standards LOOKUP'!B:B,0),0),0)","v":0},{"$f":"IFERROR(INDEX('Current Standards'!P:P,MATCH('Sheet Counter'!AI466,'Current Standards'!O:O,0),0),\"\")","v":""}]
[null,null,0,"","",{"$error":"#VALUE!"},"",{"$f":"IF(I467=\"\",\"\",LARGE(H$1:H466,1)+1)","v":{"$error":"#VALUE!"}},{"$error":"#VALUE!"},466,{"$error":"#N/A"},"",null,null,466,0,{"$f":"IF(R467=\"\",\"\",LARGE(Q$1:Q466,1)+1)","v":{"$error":"#NUM!"}},{"$error":"#NUM!"},466,{"$error":"#N/A"},"","",null,null,0,{"$error":"#VALUE!"},3999,"","",null,null,null,null,{"$error":"#VALUE!"},{"$error":"#VALUE!"},{"$f":"COUNTIF('Standards LOOKUP'!B:B,AI467)","v":0},{"$f":"IFERROR(INDEX('Standards LOOKUP'!C:C,MATCH(AI467,'Standards LOOKUP'!B:B,0),0),0)","v":0},{"$f":"IFERROR(INDEX('Current Standards'!P:P,MATCH('Sheet Counter'!AI467,'Current Standards'!O:O,0),0),\"\")","v":""}]
[null,null,0,"","",{"$error":"#VALUE!"},"",{"$f":"IF(I468=\"\",\"\",LARGE(H$1:H467,1)+1)","v":{"$error":"#VALUE!"}},{"$error":"#VALUE!"},467,{"$error":"#N/A"},"",null,null,467,0,{"$f":"IF(R468=\"\",\"\",LARGE(Q$1:Q467,1)+1)","v":{"$error":"#NUM!"}},{"$error":"#NUM!"},467,{"$error":"#N/A"},"","",null,null,0,{"$error":"#VALUE!"},3999,"","",null,null,null,null,{"$error":"#VALUE!"},{"$error":"#VALUE!"},{"$f":"COUNTIF('Standards LOOKUP'!B:B,AI468)","v":0},{"$f":"IFERROR(INDEX('Standards LOOKUP'!C:C,MATCH(AI468,'Standards LOOKUP'!B:B,0),0),0)","v":0},{"$f":"IFERROR(INDEX('Current Standards'!P:P,MATCH('Sheet Counter'!AI468,'Current Standards'!O:O,0),0),\"\")","v":""}]
[null,null,0,"","",{"$error":"#VALUE!"},"",{"$f":"IF(I469=\"\",\"\",LARGE(H$1:H468,1)+1)","v":{"$error":"#VALUE!"}},{"$error":"#VALUE!"},468,{"$error":"#N/A"},"",null,null,468,0,{"$f":"IF(R469=\"\",\"\",LARGE(Q$1:Q468,1)+1)","v":{"$error":"#NUM!"}},{"$error":"#NUM!"},468,{"$error":"#N/A"},"","",null,null,0,{"$error":"#VALUE!"},3999,"","",null,null,null,null,{"$error":"#VALUE!"},{"$error":"#VALUE!"},{"$f":"COUNTIF('Standards LOOKUP'!B:B,AI469)","v":0},{"$f":"IFERROR(INDEX('Standards LOOKUP'!C:C,MATCH(AI469,'Standards LOOKUP'!B:B,0),0),0)","v":0},{"$f":"IFERROR(INDEX('Current Standards'!P:P,MATCH('Sheet Counter'!AI469,'Current Standards'!O:O,0),0),\"\")","v":""}]
[null,null,0,"","",{"$error":"#VALUE!"},"",{"$f":"IF(I470=\"\",\"\",LARGE(H$1:H469,1)+1)","v":{"$error":"#VALUE!"}},{"$error":"#VALUE!"},469,{"$error":"#N/A"},"",null,null,469,0,{"$f":"IF(R470=\"\",\"\",LARGE(Q$1:Q469,1)+1)","v":{"$error":"#NUM!"}},{"$error":"#NUM!"},469,{"$error":"#N/A"},"","",null,null,0,{"$error":"#VALUE!"},3999,"","",null,null,null,null,{"$error":"#VALUE!"},{"$error":"#VALUE!"},{"$f":"COUNTIF('Standards LOOKUP'!B:B,AI470)","v":0},{"$f":"IFERROR(INDEX('Standards LOOKUP'!C:C,MATCH(AI470,'Standards LOOKUP'!B:B,0),0),0)","v":0},{"$f":"IFERROR(INDEX('Current Standards'!P:P,MATCH('Sheet Counter'!AI470,'Current Standards'!O:O,0),0),\"\")","v":""}]
[null,null,0,"","",{"$error":"#VALUE!"},"",{"$f":"IF(I471=\"\",\"\",LARGE(H$1:H470,1)+1)","v":{"$error":"#VALUE!"}},{"$error":"#VALUE!"},470,{"$error":"#N/A"},"",null,null,470,0,{"$f":"IF(R471=\"\",\"\",LARGE(Q$1:Q470,1)+1)","v":{"$error":"#NUM!"}},{"$error":"#NUM!"},470,{"$error":"#N/A"},"","",null,null,0,{"$error":"#VALUE!"},3999,"","",null,null,null,null,{"$error":"#VALUE!"},{"$error":"#VALUE!"},{"$f":"COUNTIF('Standards LOOKUP'!B:B,AI471)","v":0},{"$f":"IFERROR(INDEX('Standards LOOKUP'!C:C,MATCH(AI471,'Standards LOOKUP'!B:B,0),0),0)","v":0},{"$f":"IFERROR(INDEX('Current Standards'!P:P,MATCH('Sheet Counter'!AI471,'Current Standards'!O:O,0),0),\"\")","v":""}]
[null,null,0,"","",{"$error":"#VALUE!"},"",{"$f":"IF(I472=\"\",\"\",LARGE(H$1:H471,1)+1)","v":{"$error":"#VALUE!"}},{"$error":"#VALUE!"},471,{"$error":"#N/A"},"",null,null,471,0,{"$f":"IF(R472=\"\",\"\",LARGE(Q$1:Q471,1)+1)","v":{"$error":"#NUM!"}},{"$error":"#NUM!"},471,{"$error":"#N/A"},"","",null,null,0,{"$error":"#VALUE!"},3999,"","",null,null,null,null,{"$error":"#VALUE!"},{"$error":"#VALUE!"},{"$f":"COUNTIF('Standards LOOKUP'!B:B,AI472)","v":0},{"$f":"IFERROR(INDEX('Standards LOOKUP'!C:C,MATCH(AI472,'Standards LOOKUP'!B:B,0),0),0)","v":0},{"$f":"IFERROR(INDEX('Current Standards'!P:P,MATCH('Sheet Counter'!AI472,'Current Standards'!O:O,0),0),\"\")","v":""}]
[null,null,0,"","",{"$error":"#VALUE!"},"",{"$f":"IF(I473=\"\",\"\",LARGE(H$1:H472,1)+1)","v":{"$error":"#VALUE!"}},{"$error":"#VALUE!"},472,{"$error":"#N/A"},"",null,null,472,0,{"$f":"IF(R473=\"\",\"\",LARGE(Q$1:Q472,1)+1)","v":{"$error":"#NUM!"}},{"$error":"#NUM!"},472,{"$error":"#N/A"},"","",null,null,0,{"$error":"#VALUE!"},3999,"","",null,null,null,null,{"$error":"#VALUE!"},{"$error":"#VALUE!"},{"$f":"COUNTIF('Standards LOOKUP'!B:B,AI473)","v":0},{"$f":"IFERROR(INDEX('Standards LOOKUP'!C:C,MATCH(AI473,'Standards LOOKUP'!B:B,0),0),0)","v":0},{"$f":"IFERROR(INDEX('Current Standards'!P:P,MATCH('Sheet Counter'!AI473,'Current Standards'!O:O,0),0),\"\")","v":""}]
[null,null,0,"","",{"$error":"#VALUE!"},"",{"$f":"IF(I474=\"\",\"\",LARGE(H$1:H473,1)+1)","v":{"$error":"#VALUE!"}},{"$error":"#VALUE!"},473,{"$error":"#N/A"},"",null,null,473,0,{"$f":"IF(R474=\"\",\"\",LARGE(Q$1:Q473,1)+1)","v":{"$error":"#NUM!"}},{"$error":"#NUM!"},473,{"$error":"#N/A"},"","",null,null,0,{"$error":"#VALUE!"},3999,"","",null,null,null,null,{"$error":"#VALUE!"},{"$error":"#VALUE!"},{"$f":"COUNTIF('Standards LOOKUP'!B:B,AI474)","v":0},{"$f":"IFERROR(INDEX('Standards LOOKUP'!C:C,MATCH(AI474,'Standards LOOKUP'!B:B,0),0),0)","v":0},{"$f":"IFERROR(INDEX('Current Standards'!P:P,MATCH('Sheet Counter'!AI474,'Current Standards'!O:O,0),0),\"\")","v":""}]
[null,null,0,"","",{"$error":"#VALUE!"},"",{"$f":"IF(I475=\"\",\"\",LARGE(H$1:H474,1)+1)","v":{"$error":"#VALUE!"}},{"$error":"#VALUE!"},474,{"$error":"#N/A"},"",null,null,474,0,{"$f":"IF(R475=\"\",\"\",LARGE(Q$1:Q474,1)+1)","v":{"$error":"#NUM!"}},{"$error":"#NUM!"},474,{"$error":"#N/A"},"","",null,null,0,{"$error":"#VALUE!"},3999,"","",null,null,null,null,{"$error":"#VALUE!"},{"$error":"#VALUE!"},{"$f":"COUNTIF('Standards LOOKUP'!B:B,AI475)","v":0},{"$f":"IFERROR(INDEX('Standards LOOKUP'!C:C,MATCH(AI475,'Standards LOOKUP'!B:B,0),0),0)","v":0},{"$f":"IFERROR(INDEX('Current Standards'!P:P,MATCH('Sheet Counter'!AI475,'Current Standards'!O:O,0),0),\"\")","v":""}]
[null,null,0,"","",{"$error":"#VALUE!"},"",{"$f":"IF(I476=\"\",\"\",LARGE(H$1:H475,1)+1)","v":{"$error":"#VALUE!"}},{"$error":"#VALUE!"},475,{"$error":"#N/A"},"",null,null,475,0,{"$f":"IF(R476=\"\",\"\",LARGE(Q$1:Q475,1)+1)","v":{"$error":"#NUM!"}},{"$error":"#NUM!"},475,{"$error":"#N/A"},"","",null,null,0,{"$error":"#VALUE!"},3999,"","",null,null,null,null,{"$error":"#VALUE!"},{"$error":"#VALUE!"},{"$f":"COUNTIF('Standards LOOKUP'!B:B,AI476)","v":0},{"$f":"IFERROR(INDEX('Standards LOOKUP'!C:C,MATCH(AI476,'Standards LOOKUP'!B:B,0),0),0)","v":0},{"$f":"IFERROR(INDEX('Current Standards'!P:P,MATCH('Sheet Counter'!AI476,'Current Standards'!O:O,0),0),\"\")","v":""}]
[null,null,0,"","",{"$error":"#VALUE!"},"",{"$f":"IF(I477=\"\",\"\",LARGE(H$1:H476,1)+1)","v":{"$error":"#VALUE!"}},{"$error":"#VALUE!"},476,{"$error":"#N/A"},"",null,null,476,0,{"$f":"IF(R477=\"\",\"\",LARGE(Q$1:Q476,1)+1)","v":{"$error":"#NUM!"}},{"$error":"#NUM!"},476,{"$error":"#N/A"},"","",null,null,0,{"$error":"#VALUE!"},3999,"","",null,null,null,null,{"$error":"#VALUE!"},{"$error":"#VALUE!"},{"$f":"COUNTIF('Standards LOOKUP'!B:B,AI477)","v":0},{"$f":"IFERROR(INDEX('Standards LOOKUP'!C:C,MATCH(AI477,'Standards LOOKUP'!B:B,0),0),0)","v":0},{"$f":"IFERROR(INDEX('Current Standards'!P:P,MATCH('Sheet Counter'!AI477,'Current Standards'!O:O,0),0),\"\")","v":""}]
[null,null,0,"","",{"$error":"#VALUE!"},"",{"$f":"IF(I478=\"\",\"\",LARGE(H$1:H477,1)+1)","v":{"$error":"#VALUE!"}},{"$error":"#VALUE!"},477,{"$error":"#N/A"},"",null,null,477,0,{"$f":"IF(R478=\"\",\"\",LARGE(Q$1:Q477,1)+1)","v":{"$error":"#NUM!"}},{"$error":"#NUM!"},477,{"$error":"#N/A"},"","",null,null,0,{"$error":"#VALUE!"},3999,"","",null,null,null,null,{"$error":"#VALUE!"},{"$error":"#VALUE!"},{"$f":"COUNTIF('Standards LOOKUP'!B:B,AI478)","v":0},{"$f":"IFERROR(INDEX('Standards LOOKUP'!C:C,MATCH(AI478,'Standards LOOKUP'!B:B,0),0),0)","v":0},{"$f":"IFERROR(INDEX('Current Standards'!P:P,MATCH('Sheet Counter'!AI478,'Current Standards'!O:O,0),0),\"\")","v":""}]
[null,null,0,"","",{"$error":"#VALUE!"},"",{"$f":"IF(I479=\"\",\"\",LARGE(H$1:H478,1)+1)","v":{"$error":"#VALUE!"}},{"$error":"#VALUE!"},478,{"$error":"#N/A"},"",null,null,478,0,{"$f":"IF(R479=\"\",\"\",LARGE(Q$1:Q478,1)+1)","v":{"$error":"#NUM!"}},{"$error":"#NUM!"},478,{"$f":"VLOOKUP(S479,Q:R,2,0)","v":{"$error":"#N/A"}},"","",null,null,0,{"$error":"#VALUE!"},3999,"","",null,null,null,null,{"$error":"#VALUE!"},{"$error":"#VALUE!"},{"$f":"COUNTIF('Standards LOOKUP'!B:B,AI479)","v":0},{"$f":"IFERROR(INDEX('Standards LOOKUP'!C:C,MATCH(AI479,'Standards LOOKUP'!B:B,0),0),0)","v":0},{"$f":"IFERROR(INDEX('Current Standards'!P:P,MATCH('Sheet Counter'!AI479,'Current Standards'!O:O,0),0),\"\")","v":""}]
[null,null,0,"","",{"$error":"#VALUE!"},"",{"$f":"IF(I480=\"\",\"\",LARGE(H$1:H479,1)+1)","v":{"$error":"#VALUE!"}},{"$error":"#VALUE!"},479,{"$error":"#N/A"},"",null,null,479,0,{"$f":"IF(R480=\"\",\"\",LARGE(Q$1:Q479,1)+1)","v":{"$error":"#NUM!"}},{"$error":"#NUM!"},479,{"$error":"#N/A"},"","",null,null,0,{"$error":"#VALUE!"},3999,"","",null,null,null,null,{"$error":"#VALUE!"},{"$error":"#VALUE!"},{"$f":"COUNTIF('Standards LOOKUP'!B:B,AI480)","v":0},{"$f":"IFERROR(INDEX('Standards LOOKUP'!C:C,MATCH(AI480,'Standards LOOKUP'!B:B,0),0),0)","v":0},{"$f":"IFERROR(INDEX('Current Standards'!P:P,MATCH('Sheet Counter'!AI480,'Current Standards'!O:O,0),0),\"\")","v":""}]
[null,null,0,"","",{"$error":"#VALUE!"},"",{"$f":"IF(I481=\"\",\"\",LARGE(H$1:H480,1)+1)","v":{"$error":"#VALUE!"}},{"$error":"#VALUE!"},480,{"$error":"#N/A"},"",null,null,480,0,{"$f":"IF(R481=\"\",\"\",LARGE(Q$1:Q480,1)+1)","v":{"$error":"#NUM!"}},{"$error":"#NUM!"},480,{"$error":"#N/A"},"","",null,null,0,{"$error":"#VALUE!"},3999,"","",null,null,null,null,{"$error":"#VALUE!"},{"$error":"#VALUE!"},{"$f":"COUNTIF('Standards LOOKUP'!B:B,AI481)","v":0},{"$f":"IFERROR(INDEX('Standards LOOKUP'!C:C,MATCH(AI481,'Standards LOOKUP'!B:B,0),0),0)","v":0},{"$f":"IFERROR(INDEX('Current Standards'!P:P,MATCH('Sheet Counter'!AI481,'Current Standards'!O:O,0),0),\"\")","v":""}]
[null,null,0,"","",{"$error":"#VALUE!"},"",{"$f":"IF(I482=\"\",\"\",LARGE(H$1:H481,1)+1)","v":{"$error":"#VALUE!"}},{"$error":"#VALUE!"},481,{"$error":"#N/A"},"",null,null,481,0,{"$f":"IF(R482=\"\",\"\",LARGE(Q$1:Q481,1)+1)","v":{"$error":"#NUM!"}},{"$error":"#NUM!"},481,{"$error":"#N/A"},"","",null,null,0,{"$error":"#VALUE!"},3999,"","",null,null,null,null,{"$error":"#VALUE!"},{"$error":"#VALUE!"},{"$f":"COUNTIF('Standards LOOKUP'!B:B,AI482)","v":0},{"$f":"IFERROR(INDEX('Standards LOOKUP'!C:C,MATCH(AI482,'Standards LOOKUP'!B:B,0),0),0)","v":0},{"$f":"IFERROR(INDEX('Current Standards'!P:P,MATCH('Sheet Counter'!AI482,'Current Standards'!O:O,0),0),\"\")","v":""}]
[null,null,0,"","",{"$error":"#VALUE!"},"",{"$f":"IF(I483=\"\",\"\",LARGE(H$1:H482,1)+1)","v":{"$error":"#VALUE!"}},{"$error":"#VALUE!"},482,{"$error":"#N/A"},"",null,null,482,0,{"$f":"IF(R483=\"\",\"\",LARGE(Q$1:Q482,1)+1)","v":{"$error":"#NUM!"}},{"$error":"#NUM!"},482,{"$error":"#N/A"},"","",null,null,0,{"$error":"#VALUE!"},3999,"","",null,null,null,null,{"$error":"#VALUE!"},{"$error":"#VALUE!"},{"$f":"COUNTIF('Standards LOOKUP'!B:B,AI483)","v":0},{"$f":"IFERROR(INDEX('Standards LOOKUP'!C:C,MATCH(AI483,'Standards LOOKUP'!B:B,0),0),0)","v":0},{"$f":"IFERROR(INDEX('Current Standards'!P:P,MATCH('Sheet Counter'!AI483,'Current Standards'!O:O,0),0),\"\")","v":""}]
[null,null,0,"","",{"$error":"#VALUE!"},"",{"$f":"IF(I484=\"\",\"\",LARGE(H$1:H483,1)+1)","v":{"$error":"#VALUE!"}},{"$error":"#VALUE!"},483,{"$error":"#N/A"},"",null,null,483,0,{"$f":"IF(R484=\"\",\"\",LARGE(Q$1:Q483,1)+1)","v":{"$error":"#NUM!"}},{"$error":"#NUM!"},483,{"$error":"#N/A"},"","",null,null,0,{"$error":"#VALUE!"},3999,"","",null,null,null,null,{"$error":"#VALUE!"},{"$error":"#VALUE!"},{"$f":"COUNTIF('Standards LOOKUP'!B:B,AI484)","v":0},{"$f":"IFERROR(INDEX('Standards LOOKUP'!C:C,MATCH(AI484,'Standards LOOKUP'!B:B,0),0),0)","v":0},{"$f":"IFERROR(INDEX('Current Standards'!P:P,MATCH('Sheet Counter'!AI484,'Current Standards'!O:O,0),0),\"\")","v":""}]
[null,null,0,"","",{"$error":"#VALUE!"},"",{"$f":"IF(I485=\"\",\"\",LARGE(H$1:H484,1)+1)","v":{"$error":"#VALUE!"}},{"$error":"#VALUE!"},484,{"$error":"#N/A"},"",null,null,484,0,{"$f":"IF(R485=\"\",\"\",LARGE(Q$1:Q484,1)+1)","v":{"$error":"#NUM!"}},{"$error":"#NUM!"},484,{"$error":"#N/A"},"","",null,null,0,{"$error":"#VALUE!"},3999,"","",null,null,null,null,{"$error":"#VALUE!"},{"$error":"#VALUE!"},{"$f":"COUNTIF('Standards LOOKUP'!B:B,AI485)","v":0},{"$f":"IFERROR(INDEX('Standards LOOKUP'!C:C,MATCH(AI485,'Standards LOOKUP'!B:B,0),0),0)","v":0},{"$f":"IFERROR(INDEX('Current Standards'!P:P,MATCH('Sheet Counter'!AI485,'Current Standards'!O:O,0),0),\"\")","v":""}]
[null,null,0,"","",{"$error":"#VALUE!"},"",{"$f":"IF(I486=\"\",\"\",LARGE(H$1:H485,1)+1)","v":{"$error":"#VALUE!"}},{"$error":"#VALUE!"},485,{"$error":"#N/A"},"",null,null,485,0,{"$f":"IF(R486=\"\",\"\",LARGE(Q$1:Q485,1)+1)","v":{"$error":"#NUM!"}},{"$error":"#NUM!"},485,{"$error":"#N/A"},"","",null,null,0,{"$error":"#VALUE!"},3999,"","",null,null,null,null,{"$error":"#VALUE!"},{"$error":"#VALUE!"},{"$f":"COUNTIF('Standards LOOKUP'!B:B,AI486)","v":0},{"$f":"IFERROR(INDEX('Standards LOOKUP'!C:C,MATCH(AI486,'Standards LOOKUP'!B:B,0),0),0)","v":0},{"$f":"IFERROR(INDEX('Current Standards'!P:P,MATCH('Sheet Counter'!AI486,'Current Standards'!O:O,0),0),\"\")","v":""}]
[null,null,0,"","",{"$error":"#VALUE!"},"",{"$f":"IF(I487=\"\",\"\",LARGE(H$1:H486,1)+1)","v":{"$error":"#VALUE!"}},{"$error":"#VALUE!"},486,{"$error":"#N/A"},"",null,null,486,0,{"$f":"IF(R487=\"\",\"\",LARGE(Q$1:Q486,1)+1)","v":{"$error":"#NUM!"}},{"$error":"#NUM!"},486,{"$error":"#N/A"},"","",null,null,0,{"$error":"#VALUE!"},3999,"","",null,null,null,null,{"$error":"#VALUE!"},{"$error":"#VALUE!"},{"$f":"COUNTIF('Standards LOOKUP'!B:B,AI487)","v":0},{"$f":"IFERROR(INDEX('Standards LOOKUP'!C:C,MATCH(AI487,'Standards LOOKUP'!B:B,0),0),0)","v":0},{"$f":"IFERROR(INDEX('Current Standards'!P:P,MATCH('Sheet Counter'!AI487,'Current Standards'!O:O,0),0),\"\")","v":""}]
[null,null,0,"","",{"$error":"#VALUE!"},"",{"$f":"IF(I488=\"\",\"\",LARGE(H$1:H487,1)+1)","v":{"$error":"#VALUE!"}},{"$error":"#VALUE!"},487,{"$f":"VLOOKUP(J488,H:I,2,0)","v":{"$error":"#N/A"}},"",null,null,487,0,{"$f":"IF(R488=\"\",\"\",LARGE(Q$1:Q487,1)+1)","v":{"$error":"#NUM!"}},{"$error":"#NUM!"},487,{"$error":"#N/A"},"","",null,null,0,{"$error":"#VALUE!"},3999,"","",null,null,null,null,{"$error":"#VALUE!"},{"$error":"#VALUE!"},{"$f":"COUNTIF('Standards LOOKUP'!B:B,AI488)","v":0},{"$f":"IFERROR(INDEX('Standards LOOKUP'!C:C,MATCH(AI488,'Standards LOOKUP'!B:B,0),0),0)","v":0},{"$f":"IFERROR(INDEX('Current Standards'!P:P,MATCH('Sheet Counter'!AI488,'Current Standards'!O:O,0),0),\"\")","v":""}]
[null,null,0,"","",{"$error":"#VALUE!"},"",{"$f":"IF(I489=\"\",\"\",LARGE(H$1:H488,1)+1)","v":{"$error":"#VALUE!"}},{"$error":"#VALUE!"},488,{"$error":"#N/A"},"",null,null,488,0,{"$f":"IF(R489=\"\",\"\",LARGE(Q$1:Q488,1)+1)","v":{"$error":"#NUM!"}},{"$error":"#NUM!"},488,{"$error":"#N/A"},"","",null,null,0,{"$error":"#VALUE!"},3999,"","",null,null,null,null,{"$error":"#VALUE!"},{"$error":"#VALUE!"},{"$f":"COUNTIF('Standards LOOKUP'!B:B,AI489)","v":0},{"$f":"IFERROR(INDEX('Standards LOOKUP'!C:C,MATCH(AI489,'Standards LOOKUP'!B:B,0),0),0)","v":0},{"$f":"IFERROR(INDEX('Current Standards'!P:P,MATCH('Sheet Counter'!AI489,'Current Standards'!O:O,0),0),\"\")","v":""}]
[null,null,0,"","",{"$error":"#VALUE!"},"",{"$f":"IF(I490=\"\",\"\",LARGE(H$1:H489,1)+1)","v":{"$error":"#VALUE!"}},{"$error":"#VALUE!"},489,{"$error":"#N/A"},"",null,null,489,0,{"$f":"IF(R490=\"\",\"\",LARGE(Q$1:Q489,1)+1)","v":{"$error":"#NUM!"}},{"$error":"#NUM!"},489,{"$error":"#N/A"},"","",null,null,0,{"$error":"#VALUE!"},3999,"","",null,null,null,null,{"$error":"#VALUE!"},{"$error":"#VALUE!"},{"$f":"COUNTIF('Standards LOOKUP'!B:B,AI490)","v":0},{"$f":"IFERROR(INDEX('Standards LOOKUP'!C:C,MATCH(AI490,'Standards LOOKUP'!B:B,0),0),0)","v":0},{"$f":"IFERROR(INDEX('Current Standards'!P:P,MATCH('Sheet Counter'!AI490,'Current Standards'!O:O,0),0),\"\")","v":""}]
[null,null,0,"","",{"$error":"#VALUE!"},"",{"$f":"IF(I491=\"\",\"\",LARGE(H$1:H490,1)+1)","v":{"$error":"#VALUE!"}},{"$error":"#VALUE!"},490,{"$error":"#N/A"},"",null,null,490,0,{"$f":"IF(R491=\"\",\"\",LARGE(Q$1:Q490,1)+1)","v":{"$error":"#NUM!"}},{"$error":"#NUM!"},490,{"$error":"#N/A"},"","",null,null,0,{"$error":"#VALUE!"},3999,"","",null,null,null,null,{"$error":"#VALUE!"},{"$error":"#VALUE!"},{"$f":"COUNTIF('Standards LOOKUP'!B:B,AI491)","v":0},{"$f":"IFERROR(INDEX('Standards LOOKUP'!C:C,MATCH(AI491,'Standards LOOKUP'!B:B,0),0),0)","v":0},{"$f":"IFERROR(INDEX('Current Standards'!P:P,MATCH('Sheet Counter'!AI491,'Current Standards'!O:O,0),0),\"\")","v":""}]
[null,null,0,"","",{"$error":"#VALUE!"},"",{"$f":"IF(I492=\"\",\"\",LARGE(H$1:H491,1)+1)","v":{"$error":"#VALUE!"}},{"$error":"#VALUE!"},491,{"$error":"#N/A"},"",null,null,491,0,{"$f":"IF(R492=\"\",\"\",LARGE(Q$1:Q491,1)+1)","v":{"$error":"#NUM!"}},{"$error":"#NUM!"},491,{"$error":"#N/A"},"","",null,null,0,{"$error":"#VALUE!"},3999,"","",null,null,null,null,{"$error":"#VALUE!"},{"$error":"#VALUE!"},{"$f":"COUNTIF('Standards LOOKUP'!B:B,AI492)","v":0},{"$f":"IFERROR(INDEX('Standards LOOKUP'!C:C,MATCH(AI492,'Standards LOOKUP'!B:B,0),0),0)","v":0},{"$f":"IFERROR(INDEX('Current Standards'!P:P,MATCH('Sheet Counter'!AI492,'Current Standards'!O:O,0),0),\"\")","v":""}]
[null,null,0,"","",{"$error":"#VALUE!"},"",{"$f":"IF(I493=\"\",\"\",LARGE(H$1:H492,1)+1)","v":{"$error":"#VALUE!"}},{"$error":"#VALUE!"},492,{"$error":"#N/A"},"",null,null,492,0,{"$f":"IF(R493=\"\",\"\",LARGE(Q$1:Q492,1)+1)","v":{"$error":"#NUM!"}},{"$error":"#NUM!"},492,{"$error":"#N/A"},"","",null,null,0,{"$error":"#VALUE!"},3999,"","",null,null,null,null,{"$error":"#VALUE!"},{"$error":"#VALUE!"},{"$f":"COUNTIF('Standards LOOKUP'!B:B,AI493)","v":0},{"$f":"IFERROR(INDEX('Standards LOOKUP'!C:C,MATCH(AI493,'Standards LOOKUP'!B:B,0),0),0)","v":0},{"$f":"IFERROR(INDEX('Current Standards'!P:P,MATCH('Sheet Counter'!AI493,'Current Standards'!O:O,0),0),\"\")","v":""}]
[null,null,0,"","",{"$error":"#VALUE!"},"",{"$f":"IF(I494=\"\",\"\",LARGE(H$1:H493,1)+1)","v":{"$error":"#VALUE!"}},{"$error":"#VALUE!"},493,{"$error":"#N/A"},"",null,null,493,0,{"$f":"IF(R494=\"\",\"\",LARGE(Q$1:Q493,1)+1)","v":{"$error":"#NUM!"}},{"$error":"#NUM!"},493,{"$error":"#N/A"},"","",null,null,0,{"$error":"#VALUE!"},3999,"","",null,null,null,null,{"$error":"#VALUE!"},{"$error":"#VALUE!"},{"$f":"COUNTIF('Standards LOOKUP'!B:B,AI494)","v":0},{"$f":"IFERROR(INDEX('Standards LOOKUP'!C:C,MATCH(AI494,'Standards LOOKUP'!B:B,0),0),0)","v":0},{"$f":"IFERROR(INDEX('Current Standards'!P:P,MATCH('Sheet Counter'!AI494,'Current Standards'!O:O,0),0),\"\")","v":""}]
[null,null,0,"","",{"$error":"#VALUE!"},"",{"$f":"IF(I495=\"\",\"\",LARGE(H$1:H494,1)+1)","v":{"$error":"#VALUE!"}},{"$error":"#VALUE!"},494,{"$error":"#N/A"},"",null,null,494,0,{"$f":"IF(R495=\"\",\"\",LARGE(Q$1:Q494,1)+1)","v":{"$error":"#NUM!"}},{"$error":"#NUM!"},494,{"$error":"#N/A"},"","",null,null,0,{"$error":"#VALUE!"},3999,"","",null,null,null,null,{"$error":"#VALUE!"},{"$error":"#VALUE!"},{"$f":"COUNTIF('Standards LOOKUP'!B:B,AI495)","v":0},{"$f":"IFERROR(INDEX('Standards LOOKUP'!C:C,MATCH(AI495,'Standards LOOKUP'!B:B,0),0),0)","v":0},{"$f":"IFERROR(INDEX('Current Standards'!P:P,MATCH('Sheet Counter'!AI495,'Current Standards'!O:O,0),0),\"\")","v":""}]
[null,null,0,"","",{"$error":"#VALUE!"},"",{"$f":"IF(I496=\"\",\"\",LARGE(H$1:H495,1)+1)","v":{"$error":"#VALUE!"}},{"$error":"#VALUE!"},495,{"$error":"#N/A"},"",null,null,495,0,{"$f":"IF(R496=\"\",\"\",LARGE(Q$1:Q495,1)+1)","v":{"$error":"#NUM!"}},{"$error":"#NUM!"},495,{"$error":"#N/A"},"","",null,null,0,{"$error":"#VALUE!"},3999,"","",null,null,null,null,{"$error":"#VALUE!"},{"$error":"#VALUE!"},{"$f":"COUNTIF('Standards LOOKUP'!B:B,AI496)","v":0},{"$f":"IFERROR(INDEX('Standards LOOKUP'!C:C,MATCH(AI496,'Standards LOOKUP'!B:B,0),0),0)","v":0},{"$f":"IFERROR(INDEX('Current Standards'!P:P,MATCH('Sheet Counter'!AI496,'Current Standards'!O:O,0),0),\"\")","v":""}]
[null,null,0,"","",{"$error":"#VALUE!"},"",{"$f":"IF(I497=\"\",\"\",LARGE(H$1:H496,1)+1)","v":{"$error":"#VALUE!"}},{"$error":"#VALUE!"},496,{"$error":"#N/A"},"",null,null,496,0,{"$f":"IF(R497=\"\",\"\",LARGE(Q$1:Q496,1)+1)","v":{"$error":"#NUM!"}},{"$error":"#NUM!"},496,{"$error":"#N/A"},"","",null,null,0,{"$error":"#VALUE!"},3999,"","",null,null,null,null,{"$error":"#VALUE!"},{"$error":"#VALUE!"},{"$f":"COUNTIF('Standards LOOKUP'!B:B,AI497)","v":0},{"$f":"IFERROR(INDEX('Standards LOOKUP'!C:C,MATCH(AI497,'Standards LOOKUP'!B:B,0),0),0)","v":0},{"$f":"IFERROR(INDEX('Current Standards'!P:P,MATCH('Sheet Counter'!AI497,'Current Standards'!O:O,0),0),\"\")","v":""}]
[null,null,0,"","",{"$error":"#VALUE!"},"",{"$f":"IF(I498=\"\",\"\",LARGE(H$1:H497,1)+1)","v":{"$error":"#VALUE!"}},{"$error":"#VALUE!"},497,{"$error":"#N/A"},"",null,null,497,0,{"$f":"IF(R498=\"\",\"\",LARGE(Q$1:Q497,1)+1)","v":{"$error":"#NUM!"}},{"$error":"#NUM!"},497,{"$error":"#N/A"},"","",null,null,0,{"$error":"#VALUE!"},3999,"","",null,null,null,null,{"$error":"#VALUE!"},{"$error":"#VALUE!"},{"$f":"COUNTIF('Standards LOOKUP'!B:B,AI498)","v":0},{"$f":"IFERROR(INDEX('Standards LOOKUP'!C:C,MATCH(AI498,'Standards LOOKUP'!B:B,0),0),0)","v":0},{"$f":"IFERROR(INDEX('Current Standards'!P:P,MATCH('Sheet Counter'!AI498,'Current Standards'!O:O,0),0),\"\")","v":""}]
[null,null,0,"","",{"$error":"#VALUE!"},"",{"$f":"IF(I499=\"\",\"\",LARGE(H$1:H498,1)+1)","v":{"$error":"#VALUE!"}},{"$error":"#VALUE!"},498,{"$error":"#N/A"},"",null,null,498,0,{"$f":"IF(R499=\"\",\"\",LARGE(Q$1:Q498,1)+1)","v":{"$error":"#NUM!"}},{"$error":"#NUM!"},498,{"$error":"#N/A"},"","",null,null,0,{"$error":"#VALUE!"},3999,"","",null,null,null,null,{"$error":"#VALUE!"},{"$error":"#VALUE!"},{"$f":"COUNTIF('Standards LOOKUP'!B:B,AI499)","v":0},{"$f":"IFERROR(INDEX('Standards LOOKUP'!C:C,MATCH(AI499,'Standards LOOKUP'!B:B,0),0),0)","v":0},{"$f":"IFERROR(INDEX('Current Standards'!P:P,MATCH('Sheet Counter'!AI499,'Current Standards'!O:O,0),0),\"\")","v":""}]
[null,null,0,"","",{"$error":"#VALUE!"},"",{"$f":"IF(I500=\"\",\"\",LARGE(H$1:H499,1)+1)","v":{"$error":"#VALUE!"}},{"$error":"#VALUE!"},499,{"$error":"#N/A"},"",null,null,499,0,{"$f":"IF(R500=\"\",\"\",LARGE(Q$1:Q499,1)+1)","v":{"$error":"#NUM!"}},{"$error":"#NUM!"},499,{"$error":"#N/A"},"","",null,null,0,{"$error":"#VALUE!"},3999,"","",null,null,null,null,{"$error":"#VALUE!"},{"$error":"#VALUE!"},{"$f":"COUNTIF('Standards LOOKUP'!B:B,AI500)","v":0},{"$f":"IFERROR(INDEX('Standards LOOKUP'!C:C,MATCH(AI500,'Standards LOOKUP'!B:B,0),0),0)","v":0},{"$f":"IFERROR(INDEX('Current Standards'!P:P,MATCH('Sheet Counter'!AI500,'Current Standards'!O:O,0),0),\"\")","v":""}]
[null,null,0,"","",{"$error":"#VALUE!"},"",{"$f":"IF(I501=\"\",\"\",LARGE(H$1:H500,1)+1)","v":{"$error":"#VALUE!"}},{"$error":"#VALUE!"},500,{"$error":"#N/A"},"",null,null,500,0,{"$f":"IF(R501=\"\",\"\",LARGE(Q$1:Q500,1)+1)","v":{"$error":"#NUM!"}},{"$error":"#NUM!"},500,{"$error":"#N/A"},"","",null,null,0,{"$error":"#VALUE!"},3999,"","",null,null,null,null,{"$error":"#VALUE!"},{"$error":"#VALUE!"},{"$f":"COUNTIF('Standards LOOKUP'!B:B,AI501)","v":0},{"$f":"IFERROR(INDEX('Standards LOOKUP'!C:C,MATCH(AI501,'Standards LOOKUP'!B:B,0),0),0)","v":0},{"$f":"IFERROR(INDEX('Current Standards'!P:P,MATCH('Sheet Counter'!AI501,'Current Standards'!O:O,0),0),\"\")","v":""}]
[null,null,0,"","",{"$error":"#VALUE!"},"",{"$f":"IF(I502=\"\",\"\",LARGE(H$1:H501,1)+1)","v":{"$error":"#VALUE!"}},{"$error":"#VALUE!"},501,{"$f":"VLOOKUP(J502,H:I,2,0)","v":{"$error":"#N/A"}},{"$f":"IF(ISERROR(K502),\"\",K502)","v":""},null,null,501,0,{"$f":"IF(R502=\"\",\"\",LARGE(Q$1:Q501,1)+1)","v":{"$error":"#NUM!"}},{"$error":"#NUM!"},501,{"$f":"VLOOKUP(S502,Q:R,2,0)","v":{"$error":"#N/A"}},{"$f":"IF(ISERROR(T502),\"\",T502)","v":""},{"$f":"IF(U502=\"\",\"\",VLOOKUP(U502,O:P,2,0))","v":""},null,null,0,{"$error":"#VALUE!"},3999,"","",null,null,null,null,{"$error":"#VALUE!"},{"$error":"#VALUE!"},{"$f":"COUNTIF('Standards LOOKUP'!B:B,AI502)","v":0},{"$f":"IFERROR(INDEX('Standards LOOKUP'!C:C,MATCH(AI502,'Standards LOOKUP'!B:B,0),0),0)","v":0},{"$f":"IFERROR(INDEX('Current Standards'!P:P,MATCH('Sheet Counter'!AI502,'Current Standards'!O:O,0),0),\"\")","v":""}]
[null,null,0,"","",{"$error":"#VALUE!"},"",{"$f":"IF(I503=\"\",\"\",LARGE(H$1:H502,1)+1)","v":{"$error":"#VALUE!"}},{"$error":"#VALUE!"},502,{"$error":"#N/A"},"",null,null,502,0,{"$f":"IF(R503=\"\",\"\",LARGE(Q$1:Q502,1)+1)","v":{"$error":"#NUM!"}},{"$error":"#NUM!"},502,{"$error":"#N/A"},"","",null,null,0,{"$error":"#VALUE!"},3999,"","",null,null,null,null,{"$error":"#VALUE!"},{"$error":"#VALUE!"},{"$f":"COUNTIF('Standards LOOKUP'!B:B,AI503)","v":0},{"$f":"IFERROR(INDEX('Standards LOOKUP'!C:C,MATCH(AI503,'Standards LOOKUP'!B:B,0),0),0)","v":0},{"$f":"IFERROR(INDEX('Current Standards'!P:P,MATCH('Sheet Counter'!AI503,'Current Standards'!O:O,0),0),\"\")","v":""}]
[null,null,0,"","",{"$error":"#VALUE!"},"",{"$f":"IF(I504=\"\",\"\",LARGE(H$1:H503,1)+1)","v":{"$error":"#VALUE!"}},{"$error":"#VALUE!"},503,{"$error":"#N/A"},"",null,null,503,0,{"$f":"IF(R504=\"\",\"\",LARGE(Q$1:Q503,1)+1)","v":{"$error":"#NUM!"}},{"$error":"#NUM!"},503,{"$error":"#N/A"},"","",null,null,0,{"$error":"#VALUE!"},3999,"","",null,null,null,null,{"$error":"#VALUE!"},{"$error":"#VALUE!"},{"$f":"COUNTIF('Standards LOOKUP'!B:B,AI504)","v":0},{"$f":"IFERROR(INDEX('Standards LOOKUP'!C:C,MATCH(AI504,'Standards LOOKUP'!B:B,0),0),0)","v":0},{"$f":"IFERROR(INDEX('Current Standards'!P:P,MATCH('Sheet Counter'!AI504,'Current Standards'!O:O,0),0),\"\")","v":""}]
[null,null,0,"","",{"$error":"#VALUE!"},"",{"$f":"IF(I505=\"\",\"\",LARGE(H$1:H504,1)+1)","v":{"$error":"#VALUE!"}},{"$error":"#VALUE!"},504,{"$error":"#N/A"},"",null,null,504,0,{"$f":"IF(R505=\"\",\"\",LARGE(Q$1:Q504,1)+1)","v":{"$error":"#NUM!"}},{"$error":"#NUM!"},504,{"$error":"#N/A"},"","",null,null,0,{"$error":"#VALUE!"},3999,"","",null,null,null,null,{"$error":"#VALUE!"},{"$error":"#VALUE!"},{"$f":"COUNTIF('Standards LOOKUP'!B:B,AI505)","v":0},{"$f":"IFERROR(INDEX('Standards LOOKUP'!C:C,MATCH(AI505,'Standards LOOKUP'!B:B,0),0),0)","v":0},{"$f":"IFERROR(INDEX('Current Standards'!P:P,MATCH('Sheet Counter'!AI505,'Current Standards'!O:O,0),0),\"\")","v":""}]
[null,null,0,"","",{"$error":"#VALUE!"},"",{"$f":"IF(I506=\"\",\"\",LARGE(H$1:H505,1)+1)","v":{"$error":"#VALUE!"}},{"$error":"#VALUE!"},505,{"$error":"#N/A"},"",null,null,505,0,{"$f":"IF(R506=\"\",\"\",LARGE(Q$1:Q505,1)+1)","v":{"$error":"#NUM!"}},{"$error":"#NUM!"},505,{"$error":"#N/A"},"","",null,null,0,{"$error":"#VALUE!"},3999,"","",null,null,null,null,{"$error":"#VALUE!"},{"$error":"#VALUE!"},{"$f":"COUNTIF('Standards LOOKUP'!B:B,AI506)","v":0},{"$f":"IFERROR(INDEX('Standards LOOKUP'!C:C,MATCH(AI506,'Standards LOOKUP'!B:B,0),0),0)","v":0},{"$f":"IFERROR(INDEX('Current Standards'!P:P,MATCH('Sheet Counter'!AI506,'Current Standards'!O:O,0),0),\"\")","v":""}]
[null,null,0,"","",{"$error":"#VALUE!"},"",{"$f":"IF(I507=\"\",\"\",LARGE(H$1:H506,1)+1)","v":{"$error":"#VALUE!"}},{"$error":"#VALUE!"},506,{"$error":"#N/A"},"",null,null,506,0,{"$f":"IF(R507=\"\",\"\",LARGE(Q$1:Q506,1)+1)","v":{"$error":"#NUM!"}},{"$error":"#NUM!"},506,{"$error":"#N/A"},"","",null,null,0,{"$error":"#VALUE!"},3999,"","",null,null,null,null,{"$error":"#VALUE!"},{"$error":"#VALUE!"},{"$f":"COUNTIF('Standards LOOKUP'!B:B,AI507)","v":0},{"$f":"IFERROR(INDEX('Standards LOOKUP'!C:C,MATCH(AI507,'Standards LOOKUP'!B:B,0),0),0)","v":0},{"$f":"IFERROR(INDEX('Current Standards'!P:P,MATCH('Sheet Counter'!AI507,'Current Standards'!O:O,0),0),\"\")","v":""}]
[null,null,0,"","",{"$error":"#VALUE!"},"",{"$f":"IF(I508=\"\",\"\",LARGE(H$1:H507,1)+1)","v":{"$error":"#VALUE!"}},{"$error":"#VALUE!"},507,{"$error":"#N/A"},"",null,null,507,0,{"$f":"IF(R508=\"\",\"\",LARGE(Q$1:Q507,1)+1)","v":{"$error":"#NUM!"}},{"$error":"#NUM!"},507,{"$error":"#N/A"},"","",null,null,0,{"$error":"#VALUE!"},3999,"","",null,null,null,null,{"$error":"#VALUE!"},{"$error":"#VALUE!"},{"$f":"COUNTIF('Standards LOOKUP'!B:B,AI508)","v":0},{"$f":"IFERROR(INDEX('Standards LOOKUP'!C:C,MATCH(AI508,'Standards LOOKUP'!B:B,0),0),0)","v":0},{"$f":"IFERROR(INDEX('Current Standards'!P:P,MATCH('Sheet Counter'!AI508,'Current Standards'!O:O,0),0),\"\")","v":""}]
[null,null,0,"","",{"$error":"#VALUE!"},"",{"$f":"IF(I509=\"\",\"\",LARGE(H$1:H508,1)+1)","v":{"$error":"#VALUE!"}},{"$error":"#VALUE!"},508,{"$error":"#N/A"},"",null,null,508,0,{"$f":"IF(R509=\"\",\"\",LARGE(Q$1:Q508,1)+1)","v":{"$error":"#NUM!"}},{"$error":"#NUM!"},508,{"$error":"#N/A"},"","",null,null,0,{"$error":"#VALUE!"},3999,"","",null,null,null,null,{"$error":"#VALUE!"},{"$error":"#VALUE!"},{"$f":"COUNTIF('Standards LOOKUP'!B:B,AI509)","v":0},{"$f":"IFERROR(INDEX('Standards LOOKUP'!C:C,MATCH(AI509,'Standards LOOKUP'!B:B,0),0),0)","v":0},{"$f":"IFERROR(INDEX('Current Standards'!P:P,MATCH('Sheet Counter'!AI509,'Current Standards'!O:O,0),0),\"\")","v":""}]
[null,null,0,"","",{"$error":"#VALUE!"},"",{"$f":"IF(I510=\"\",\"\",LARGE(H$1:H509,1)+1)","v":{"$error":"#VALUE!"}},{"$error":"#VALUE!"},509,{"$error":"#N/A"},"",null,null,509,0,{"$f":"IF(R510=\"\",\"\",LARGE(Q$1:Q509,1)+1)","v":{"$error":"#NUM!"}},{"$error":"#NUM!"},509,{"$error":"#N/A"},"","",null,null,0,{"$error":"#VALUE!"},3999,"","",null,null,null,null,{"$error":"#VALUE!"},{"$error":"#VALUE!"},{"$f":"COUNTIF('Standards LOOKUP'!B:B,AI510)","v":0},{"$f":"IFERROR(INDEX('Standards LOOKUP'!C:C,MATCH(AI510,'Standards LOOKUP'!B:B,0),0),0)","v":0},{"$f":"IFERROR(INDEX('Current Standards'!P:P,MATCH('Sheet Counter'!AI510,'Current Standards'!O:O,0),0),\"\")","v":""}]
[null,null,0,"","",{"$error":"#VALUE!"},"",{"$f":"IF(I511=\"\",\"\",LARGE(H$1:H510,1)+1)","v":{"$error":"#VALUE!"}},{"$error":"#VALUE!"},510,{"$error":"#N/A"},"",null,null,510,0,{"$f":"IF(R511=\"\",\"\",LARGE(Q$1:Q510,1)+1)","v":{"$error":"#NUM!"}},{"$error":"#NUM!"},510,{"$error":"#N/A"},"","",null,null,0,{"$error":"#VALUE!"},3999,"","",null,null,null,null,{"$error":"#VALUE!"},{"$error":"#VALUE!"},{"$f":"COUNTIF('Standards LOOKUP'!B:B,AI511)","v":0},{"$f":"IFERROR(INDEX('Standards LOOKUP'!C:C,MATCH(AI511,'Standards LOOKUP'!B:B,0),0),0)","v":0},{"$f":"IFERROR(INDEX('Current Standards'!P:P,MATCH('Sheet Counter'!AI511,'Current Standards'!O:O,0),0),\"\")","v":""}]
[null,null,0,"","",{"$error":"#VALUE!"},"",{"$f":"IF(I512=\"\",\"\",LARGE(H$1:H511,1)+1)","v":{"$error":"#VALUE!"}},{"$error":"#VALUE!"},511,{"$error":"#N/A"},"",null,null,511,0,{"$f":"IF(R512=\"\",\"\",LARGE(Q$1:Q511,1)+1)","v":{"$error":"#NUM!"}},{"$error":"#NUM!"},511,{"$error":"#N/A"},"","",null,null,0,{"$error":"#VALUE!"},3999,"","",null,null,null,null,{"$error":"#VALUE!"},{"$error":"#VALUE!"},{"$f":"COUNTIF('Standards LOOKUP'!B:B,AI512)","v":0},{"$f":"IFERROR(INDEX('Standards LOOKUP'!C:C,MATCH(AI512,'Standards LOOKUP'!B:B,0),0),0)","v":0},{"$f":"IFERROR(INDEX('Current Standards'!P:P,MATCH('Sheet Counter'!AI512,'Current Standards'!O:O,0),0),\"\")","v":""}]
[null,null,0,"","",{"$error":"#VALUE!"},"",{"$f":"IF(I513=\"\",\"\",LARGE(H$1:H512,1)+1)","v":{"$error":"#VALUE!"}},{"$error":"#VALUE!"},512,{"$error":"#N/A"},"",null,null,512,0,{"$f":"IF(R513=\"\",\"\",LARGE(Q$1:Q512,1)+1)","v":{"$error":"#NUM!"}},{"$error":"#NUM!"},512,{"$error":"#N/A"},"","",null,null,0,{"$error":"#VALUE!"},3999,"","",null,null,null,null,{"$error":"#VALUE!"},{"$error":"#VALUE!"},{"$f":"COUNTIF('Standards LOOKUP'!B:B,AI513)","v":0},{"$f":"IFERROR(INDEX('Standards LOOKUP'!C:C,MATCH(AI513,'Standards LOOKUP'!B:B,0),0),0)","v":0},{"$f":"IFERROR(INDEX('Current Standards'!P:P,MATCH('Sheet Counter'!AI513,'Current Standards'!O:O,0),0),\"\")","v":""}]
[null,null,0,"","",{"$error":"#VALUE!"},"",{"$f":"IF(I514=\"\",\"\",LARGE(H$1:H513,1)+1)","v":{"$error":"#VALUE!"}},{"$f":"IF(G514=\"\",F514,\"\")","v":{"$error":"#VALUE!"}},513,{"$error":"#N/A"},"",null,null,513,{"$f":"COUNTIF(G:G,O514)","v":0},{"$f":"IF(R514=\"\",\"\",LARGE(Q$1:Q513,1)+1)","v":{"$error":"#NUM!"}},{"$error":"#NUM!"},513,{"$error":"#N/A"},"","",null,null,0,{"$error":"#VALUE!"},3999,"","",null,null,null,null,{"$error":"#VALUE!"},{"$error":"#VALUE!"},{"$f":"COUNTIF('Standards LOOKUP'!B:B,AI514)","v":0},{"$f":"IFERROR(INDEX('Standards LOOKUP'!C:C,MATCH(AI514,'Standards LOOKUP'!B:B,0),0),0)","v":0},{"$f":"IFERROR(INDEX('Current Standards'!P:P,MATCH('Sheet Counter'!AI514,'Current Standards'!O:O,0),0),\"\")","v":""}]
[null,null,{"$f":"IF(ISERROR(FIND(\"\\\",A515)),A515,RIGHT(A515,LEN(A515)-FIND(\"~\",SUBSTITUTE(A515,\"\\\",\"~\",LEN(A515)-LEN(SUBSTITUTE(A515,\"\\\",\"\"))))))","v":0},{"$f":"IF(AL515=\"\",\"\",AL515)","v":""},"",{"$f":"LEFT(C515,FIND(\"-\",SUBSTITUTE(SUBSTITUTE(C515,\"_\",\"-\"),\" \",\"-\"))-1)","v":{"$error":"#VALUE!"}},{"$f":"IF(ISNUMBER(F515*1),F515*1,\"\")","v":""},{"$f":"IF(I515=\"\",\"\",LARGE(H$1:H514,1)+1)","v":{"$error":"#VALUE!"}},{"$error":"#VALUE!"},514,{"$error":"#N/A"},"",null,null,514,0,{"$f":"IF(R515=\"\",\"\",LARGE(Q$1:Q514,1)+1)","v":{"$error":"#NUM!"}},{"$error":"#NUM!"},514,{"$error":"#N/A"},"","",null,null,{"$f":"IF(ISERROR(FIND(\"\\\",X515)),X515,RIGHT(X515,LEN(X515)-FIND(\"~\",SUBSTITUTE(X515,\"\\\",\"~\",LEN(X515)-LEN(SUBSTITUTE(X515,\"\\\",\"\"))))))","v":0},{"$f":"LEFT(Y515,FIND(\"-\",SUBSTITUTE(SUBSTITUTE(Y515,\"_\",\"-\"),\" \",\"-\"))-1)","v":{"$error":"#VALUE!"}},{"$f":"COUNTIF(F:F,Z515)","v":3999},{"$f":"IF(OR(AA515<1,ISERROR(Z515)),\"\",INDEX(C:C,MATCH(Z515,F:F)))","v":""},{"$f":"IF(AA515=0,\"New Sheet\",IF(EXACT(UPPER(Y515),UPPER(AB515)),\"Match\",\"\"))","v":""},null,null,null,null,{"$f":"IF(C515=\"\",\"\",LEFT(RIGHT(C515,LEN(C515)-SEARCH(\" \",C515,1)),LEN(RIGHT(C515,LEN(C515)-SEARCH(\" \",C515,1)))-4))","v":{"$error":"#VALUE!"}},{"$f":"TRIM(SUBSTITUTE(SUBSTITUTE(SUBSTITUTE(SUBSTITUTE(SUBSTITUTE(SUBSTITUTE(AH515,\"(\",\"\"),\")\",\"\"),\"-\",\"\"),\"&\",\"\"),\" \",\"\",1),\" \",\"\",1))","v":{"$error":"#VALUE!"}},{"$f":"COUNTIF('Standards LOOKUP'!B:B,AI515)","v":0},{"$f":"IFERROR(INDEX('Standards LOOKUP'!C:C,MATCH(AI515,'Standards LOOKUP'!B:B,0),0),0)","v":0},{"$f":"IFERROR(INDEX('Current Standards'!P:P,MATCH('Sheet Counter'!AI515,'Current Standards'!O:O,0),0),\"\")","v":""}]
[null,null,0,"","",{"$error":"#VALUE!"},"",{"$f":"IF(I516=\"\",\"\",LARGE(H$1:H515,1)+1)","v":{"$error":"#VALUE!"}},{"$error":"#VALUE!"},515,{"$error":"#N/A"},"",null,null,515,0,{"$f":"IF(R516=\"\",\"\",LARGE(Q$1:Q515,1)+1)","v":{"$error":"#NUM!"}},{"$f":"IF(AND(P516<>1,O516<=LARGE(G:G,1),O516>=SMALL(G:G,1)),O516,\"\")","v":{"$error":"#NUM!"}},515,{"$error":"#N/A"},"","",null,null,0,{"$error":"#VALUE!"},3999,"","",null,null,null,null,{"$error":"#VALUE!"},{"$error":"#VALUE!"},{"$f":"COUNTIF('Standards LOOKUP'!B:B,AI516)","v":0},{"$f":"IFERROR(INDEX('Standards LOOKUP'!C:C,MATCH(AI516,'Standards LOOKUP'!B:B,0),0),0)","v":0},{"$f":"IFERROR(INDEX('Current Standards'!P:P,MATCH('Sheet Counter'!AI516,'Current Standards'!O:O,0),0),\"\")","v":""}]
[null,null,0,"","",{"$error":"#VALUE!"},"",{"$f":"IF(I517=\"\",\"\",LARGE(H$1:H516,1)+1)","v":{"$error":"#VALUE!"}},{"$error":"#VALUE!"},516,{"$error":"#N/A"},"",null,null,516,0,{"$f":"IF(R517=\"\",\"\",LARGE(Q$1:Q516,1)+1)","v":{"$error":"#NUM!"}},{"$error":"#NUM!"},516,{"$error":"#N/A"},"","",null,null,0,{"$error":"#VALUE!"},3999,"","",null,null,null,null,{"$error":"#VALUE!"},{"$error":"#VALUE!"},{"$f":"COUNTIF('Standards LOOKUP'!B:B,AI517)","v":0},{"$f":"IFERROR(INDEX('Standards LOOKUP'!C:C,MATCH(AI517,'Standards LOOKUP'!B:B,0),0),0)","v":0},{"$f":"IFERROR(INDEX('Current Standards'!P:P,MATCH('Sheet Counter'!AI517,'Current Standards'!O:O,0),0),\"\")","v":""}]
[null,null,0,"","",{"$error":"#VALUE!"},"",{"$f":"IF(I518=\"\",\"\",LARGE(H$1:H517,1)+1)","v":{"$error":"#VALUE!"}},{"$error":"#VALUE!"},517,{"$error":"#N/A"},"",null,null,517,0,{"$f":"IF(R518=\"\",\"\",LARGE(Q$1:Q517,1)+1)","v":{"$error":"#NUM!"}},{"$error":"#NUM!"},517,{"$error":"#N/A"},"","",null,null,0,{"$error":"#VALUE!"},3999,"","",null,null,null,null,{"$error":"#VALUE!"},{"$error":"#VALUE!"},{"$f":"COUNTIF('Standards LOOKUP'!B:B,AI518)","v":0},{"$f":"IFERROR(INDEX('Standards LOOKUP'!C:C,MATCH(AI518,'Standards LOOKUP'!B:B,0),0),0)","v":0},{"$f":"IFERROR(INDEX('Current Standards'!P:P,MATCH('Sheet Counter'!AI518,'Current Standards'!O:O,0),0),\"\")","v":""}]
[null,null,0,"","",{"$error":"#VALUE!"},"",{"$f":"IF(I519=\"\",\"\",LARGE(H$1:H518,1)+1)","v":{"$error":"#VALUE!"}},{"$error":"#VALUE!"},518,{"$error":"#N/A"},"",null,null,518,0,{"$f":"IF(R519=\"\",\"\",LARGE(Q$1:Q518,1)+1)","v":{"$error":"#NUM!"}},{"$error":"#NUM!"},518,{"$error":"#N/A"},"","",null,null,0,{"$error":"#VALUE!"},3999,"","",null,null,null,null,{"$error":"#VALUE!"},{"$error":"#VALUE!"},{"$f":"COUNTIF('Standards LOOKUP'!B:B,AI519)","v":0},{"$f":"IFERROR(INDEX('Standards LOOKUP'!C:C,MATCH(AI519,'Standards LOOKUP'!B:B,0),0),0)","v":0},{"$f":"IFERROR(INDEX('Current Standards'!P:P,MATCH('Sheet Counter'!AI519,'Current Standards'!O:O,0),0),\"\")","v":""}]
[null,null,0,"","",{"$error":"#VALUE!"},"",{"$f":"IF(I520=\"\",\"\",LARGE(H$1:H519,1)+1)","v":{"$error":"#VALUE!"}},{"$error":"#VALUE!"},519,{"$error":"#N/A"},"",null,null,519,0,{"$f":"IF(R520=\"\",\"\",LARGE(Q$1:Q519,1)+1)","v":{"$error":"#NUM!"}},{"$error":"#NUM!"},519,{"$error":"#N/A"},"","",null,null,0,{"$error":"#VALUE!"},3999,"","",null,null,null,null,{"$error":"#VALUE!"},{"$error":"#VALUE!"},{"$f":"COUNTIF('Standards LOOKUP'!B:B,AI520)","v":0},{"$f":"IFERROR(INDEX('Standards LOOKUP'!C:C,MATCH(AI520,'Standards LOOKUP'!B:B,0),0),0)","v":0},{"$f":"IFERROR(INDEX('Current Standards'!P:P,MATCH('Sheet Counter'!AI520,'Current Standards'!O:O,0),0),\"\")","v":""}]
[null,null,0,"","",{"$error":"#VALUE!"},"",{"$f":"IF(I521=\"\",\"\",LARGE(H$1:H520,1)+1)","v":{"$error":"#VALUE!"}},{"$error":"#VALUE!"},520,{"$error":"#N/A"},"",null,null,520,0,{"$f":"IF(R521=\"\",\"\",LARGE(Q$1:Q520,1)+1)","v":{"$error":"#NUM!"}},{"$error":"#NUM!"},520,{"$error":"#N/A"},"","",null,null,0,{"$error":"#VALUE!"},3999,"","",null,null,null,null,{"$error":"#VALUE!"},{"$error":"#VALUE!"},{"$f":"COUNTIF('Standards LOOKUP'!B:B,AI521)","v":0},{"$f":"IFERROR(INDEX('Standards LOOKUP'!C:C,MATCH(AI521,'Standards LOOKUP'!B:B,0),0),0)","v":0},{"$f":"IFERROR(INDEX('Current Standards'!P:P,MATCH('Sheet Counter'!AI521,'Current Standards'!O:O,0),0),\"\")","v":""}]
[null,null,0,"","",{"$error":"#VALUE!"},"",{"$f":"IF(I522=\"\",\"\",LARGE(H$1:H521,1)+1)","v":{"$error":"#VALUE!"}},{"$error":"#VALUE!"},521,{"$error":"#N/A"},"",null,null,521,0,{"$f":"IF(R522=\"\",\"\",LARGE(Q$1:Q521,1)+1)","v":{"$error":"#NUM!"}},{"$error":"#NUM!"},521,{"$error":"#N/A"},"","",null,null,0,{"$error":"#VALUE!"},3999,"","",null,null,null,null,{"$error":"#VALUE!"},{"$error":"#VALUE!"},{"$f":"COUNTIF('Standards LOOKUP'!B:B,AI522)","v":0},{"$f":"IFERROR(INDEX('Standards LOOKUP'!C:C,MATCH(AI522,'Standards LOOKUP'!B:B,0),0),0)","v":0},{"$f":"IFERROR(INDEX('Current Standards'!P:P,MATCH('Sheet Counter'!AI522,'Current Standards'!O:O,0),0),\"\")","v":""}]
[null,null,0,"","",{"$error":"#VALUE!"},"",{"$f":"IF(I523=\"\",\"\",LARGE(H$1:H522,1)+1)","v":{"$error":"#VALUE!"}},{"$error":"#VALUE!"},522,{"$error":"#N/A"},"",null,null,522,0,{"$f":"IF(R523=\"\",\"\",LARGE(Q$1:Q522,1)+1)","v":{"$error":"#NUM!"}},{"$error":"#NUM!"},522,{"$error":"#N/A"},"","",null,null,0,{"$error":"#VALUE!"},3999,"","",null,null,null,null,{"$error":"#VALUE!"},{"$error":"#VALUE!"},{"$f":"COUNTIF('Standards LOOKUP'!B:B,AI523)","v":0},{"$f":"IFERROR(INDEX('Standards LOOKUP'!C:C,MATCH(AI523,'Standards LOOKUP'!B:B,0),0),0)","v":0},{"$f":"IFERROR(INDEX('Current Standards'!P:P,MATCH('Sheet Counter'!AI523,'Current Standards'!O:O,0),0),\"\")","v":""}]
[null,null,0,"","",{"$error":"#VALUE!"},"",{"$f":"IF(I524=\"\",\"\",LARGE(H$1:H523,1)+1)","v":{"$error":"#VALUE!"}},{"$error":"#VALUE!"},523,{"$error":"#N/A"},"",null,null,523,0,{"$f":"IF(R524=\"\",\"\",LARGE(Q$1:Q523,1)+1)","v":{"$error":"#NUM!"}},{"$error":"#NUM!"},523,{"$error":"#N/A"},"","",null,null,0,{"$error":"#VALUE!"},3999,"","",null,null,null,null,{"$error":"#VALUE!"},{"$error":"#VALUE!"},{"$f":"COUNTIF('Standards LOOKUP'!B:B,AI524)","v":0},{"$f":"IFERROR(INDEX('Standards LOOKUP'!C:C,MATCH(AI524,'Standards LOOKUP'!B:B,0),0),0)","v":0},{"$f":"IFERROR(INDEX('Current Standards'!P:P,MATCH('Sheet Counter'!AI524,'Current Standards'!O:O,0),0),\"\")","v":""}]
[null,null,0,"","",{"$error":"#VALUE!"},"",{"$f":"IF(I525=\"\",\"\",LARGE(H$1:H524,1)+1)","v":{"$error":"#VALUE!"}},{"$error":"#VALUE!"},524,{"$error":"#N/A"},"",null,null,524,0,{"$f":"IF(R525=\"\",\"\",LARGE(Q$1:Q524,1)+1)","v":{"$error":"#NUM!"}},{"$error":"#NUM!"},524,{"$error":"#N/A"},"","",null,null,0,{"$error":"#VALUE!"},3999,"","",null,null,null,null,{"$error":"#VALUE!"},{"$error":"#VALUE!"},{"$f":"COUNTIF('Standards LOOKUP'!B:B,AI525)","v":0},{"$f":"IFERROR(INDEX('Standards LOOKUP'!C:C,MATCH(AI525,'Standards LOOKUP'!B:B,0),0),0)","v":0},{"$f":"IFERROR(INDEX('Current Standards'!P:P,MATCH('Sheet Counter'!AI525,'Current Standards'!O:O,0),0),\"\")","v":""}]
[null,null,0,"","",{"$error":"#VALUE!"},"",{"$f":"IF(I526=\"\",\"\",LARGE(H$1:H525,1)+1)","v":{"$error":"#VALUE!"}},{"$error":"#VALUE!"},525,{"$error":"#N/A"},"",null,null,525,0,{"$f":"IF(R526=\"\",\"\",LARGE(Q$1:Q525,1)+1)","v":{"$error":"#NUM!"}},{"$error":"#NUM!"},525,{"$error":"#N/A"},"","",null,null,0,{"$error":"#VALUE!"},3999,"","",null,null,null,null,{"$error":"#VALUE!"},{"$error":"#VALUE!"},{"$f":"COUNTIF('Standards LOOKUP'!B:B,AI526)","v":0},{"$f":"IFERROR(INDEX('Standards LOOKUP'!C:C,MATCH(AI526,'Standards LOOKUP'!B:B,0),0),0)","v":0},{"$f":"IFERROR(INDEX('Current Standards'!P:P,MATCH('Sheet Counter'!AI526,'Current Standards'!O:O,0),0),\"\")","v":""}]
[null,null,0,"","",{"$error":"#VALUE!"},"",{"$f":"IF(I527=\"\",\"\",LARGE(H$1:H526,1)+1)","v":{"$error":"#VALUE!"}},{"$error":"#VALUE!"},526,{"$error":"#N/A"},"",null,null,526,0,{"$f":"IF(R527=\"\",\"\",LARGE(Q$1:Q526,1)+1)","v":{"$error":"#NUM!"}},{"$error":"#NUM!"},526,{"$error":"#N/A"},"","",null,null,0,{"$error":"#VALUE!"},3999,"","",null,null,null,null,{"$error":"#VALUE!"},{"$error":"#VALUE!"},{"$f":"COUNTIF('Standards LOOKUP'!B:B,AI527)","v":0},{"$f":"IFERROR(INDEX('Standards LOOKUP'!C:C,MATCH(AI527,'Standards LOOKUP'!B:B,0),0),0)","v":0},{"$f":"IFERROR(INDEX('Current Standards'!P:P,MATCH('Sheet Counter'!AI527,'Current Standards'!O:O,0),0),\"\")","v":""}]
[null,null,0,"","",{"$error":"#VALUE!"},"",{"$f":"IF(I528=\"\",\"\",LARGE(H$1:H527,1)+1)","v":{"$error":"#VALUE!"}},{"$error":"#VALUE!"},527,{"$error":"#N/A"},"",null,null,527,0,{"$f":"IF(R528=\"\",\"\",LARGE(Q$1:Q527,1)+1)","v":{"$error":"#NUM!"}},{"$error":"#NUM!"},527,{"$error":"#N/A"},"","",null,null,0,{"$error":"#VALUE!"},3999,"","",null,null,null,null,{"$error":"#VALUE!"},{"$error":"#VALUE!"},{"$f":"COUNTIF('Standards LOOKUP'!B:B,AI528)","v":0},{"$f":"IFERROR(INDEX('Standards LOOKUP'!C:C,MATCH(AI528,'Standards LOOKUP'!B:B,0),0),0)","v":0},{"$f":"IFERROR(INDEX('Current Standards'!P:P,MATCH('Sheet Counter'!AI528,'Current Standards'!O:O,0),0),\"\")","v":""}]
[null,null,0,"","",{"$error":"#VALUE!"},"",{"$f":"IF(I529=\"\",\"\",LARGE(H$1:H528,1)+1)","v":{"$error":"#VALUE!"}},{"$error":"#VALUE!"},528,{"$error":"#N/A"},"",null,null,528,0,{"$f":"IF(R529=\"\",\"\",LARGE(Q$1:Q528,1)+1)","v":{"$error":"#NUM!"}},{"$error":"#NUM!"},528,{"$error":"#N/A"},"","",null,null,0,{"$error":"#VALUE!"},3999,"","",null,null,null,null,{"$error":"#VALUE!"},{"$error":"#VALUE!"},{"$f":"COUNTIF('Standards LOOKUP'!B:B,AI529)","v":0},{"$f":"IFERROR(INDEX('Standards LOOKUP'!C:C,MATCH(AI529,'Standards LOOKUP'!B:B,0),0),0)","v":0},{"$f":"IFERROR(INDEX('Current Standards'!P:P,MATCH('Sheet Counter'!AI529,'Current Standards'!O:O,0),0),\"\")","v":""}]
[null,null,0,"","",{"$error":"#VALUE!"},"",{"$f":"IF(I530=\"\",\"\",LARGE(H$1:H529,1)+1)","v":{"$error":"#VALUE!"}},{"$error":"#VALUE!"},529,{"$error":"#N/A"},"",null,null,529,0,{"$f":"IF(R530=\"\",\"\",LARGE(Q$1:Q529,1)+1)","v":{"$error":"#NUM!"}},{"$error":"#NUM!"},529,{"$error":"#N/A"},"","",null,null,0,{"$error":"#VALUE!"},3999,"","",null,null,null,null,{"$error":"#VALUE!"},{"$error":"#VALUE!"},{"$f":"COUNTIF('Standards LOOKUP'!B:B,AI530)","v":0},{"$f":"IFERROR(INDEX('Standards LOOKUP'!C:C,MATCH(AI530,'Standards LOOKUP'!B:B,0),0),0)","v":0},{"$f":"IFERROR(INDEX('Current Standards'!P:P,MATCH('Sheet Counter'!AI530,'Current Standards'!O:O,0),0),\"\")","v":""}]
[null,null,0,"","",{"$error":"#VALUE!"},"",{"$f":"IF(I531=\"\",\"\",LARGE(H$1:H530,1)+1)","v":{"$error":"#VALUE!"}},{"$error":"#VALUE!"},530,{"$error":"#N/A"},"",null,null,530,0,{"$f":"IF(R531=\"\",\"\",LARGE(Q$1:Q530,1)+1)","v":{"$error":"#NUM!"}},{"$error":"#NUM!"},530,{"$error":"#N/A"},"","",null,null,0,{"$error":"#VALUE!"},3999,"","",null,null,null,null,{"$error":"#VALUE!"},{"$error":"#VALUE!"},{"$f":"COUNTIF('Standards LOOKUP'!B:B,AI531)","v":0},{"$f":"IFERROR(INDEX('Standards LOOKUP'!C:C,MATCH(AI531,'Standards LOOKUP'!B:B,0),0),0)","v":0},{"$f":"IFERROR(INDEX('Current Standards'!P:P,MATCH('Sheet Counter'!AI531,'Current Standards'!O:O,0),0),\"\")","v":""}]
[null,null,0,"","",{"$error":"#VALUE!"},"",{"$f":"IF(I532=\"\",\"\",LARGE(H$1:H531,1)+1)","v":{"$error":"#VALUE!"}},{"$error":"#VALUE!"},531,{"$error":"#N/A"},"",null,null,531,0,{"$f":"IF(R532=\"\",\"\",LARGE(Q$1:Q531,1)+1)","v":{"$error":"#NUM!"}},{"$error":"#NUM!"},531,{"$error":"#N/A"},"","",null,null,0,{"$error":"#VALUE!"},3999,"","",null,null,null,null,{"$error":"#VALUE!"},{"$error":"#VALUE!"},{"$f":"COUNTIF('Standards LOOKUP'!B:B,AI532)","v":0},{"$f":"IFERROR(INDEX('Standards LOOKUP'!C:C,MATCH(AI532,'Standards LOOKUP'!B:B,0),0),0)","v":0},{"$f":"IFERROR(INDEX('Current Standards'!P:P,MATCH('Sheet Counter'!AI532,'Current Standards'!O:O,0),0),\"\")","v":""}]
[null,null,0,"","",{"$error":"#VALUE!"},"",{"$f":"IF(I533=\"\",\"\",LARGE(H$1:H532,1)+1)","v":{"$error":"#VALUE!"}},{"$error":"#VALUE!"},532,{"$error":"#N/A"},"",null,null,532,0,{"$f":"IF(R533=\"\",\"\",LARGE(Q$1:Q532,1)+1)","v":{"$error":"#NUM!"}},{"$error":"#NUM!"},532,{"$error":"#N/A"},"","",null,null,0,{"$error":"#VALUE!"},3999,"","",null,null,null,null,{"$error":"#VALUE!"},{"$error":"#VALUE!"},{"$f":"COUNTIF('Standards LOOKUP'!B:B,AI533)","v":0},{"$f":"IFERROR(INDEX('Standards LOOKUP'!C:C,MATCH(AI533,'Standards LOOKUP'!B:B,0),0),0)","v":0},{"$f":"IFERROR(INDEX('Current Standards'!P:P,MATCH('Sheet Counter'!AI533,'Current Standards'!O:O,0),0),\"\")","v":""}]
[null,null,0,"","",{"$error":"#VALUE!"},"",{"$f":"IF(I534=\"\",\"\",LARGE(H$1:H533,1)+1)","v":{"$error":"#VALUE!"}},{"$error":"#VALUE!"},533,{"$error":"#N/A"},"",null,null,533,0,{"$f":"IF(R534=\"\",\"\",LARGE(Q$1:Q533,1)+1)","v":{"$error":"#NUM!"}},{"$error":"#NUM!"},533,{"$error":"#N/A"},"","",null,null,0,{"$error":"#VALUE!"},3999,"","",null,null,null,null,{"$error":"#VALUE!"},{"$error":"#VALUE!"},{"$f":"COUNTIF('Standards LOOKUP'!B:B,AI534)","v":0},{"$f":"IFERROR(INDEX('Standards LOOKUP'!C:C,MATCH(AI534,'Standards LOOKUP'!B:B,0),0),0)","v":0},{"$f":"IFERROR(INDEX('Current Standards'!P:P,MATCH('Sheet Counter'!AI534,'Current Standards'!O:O,0),0),\"\")","v":""}]
[null,null,0,"","",{"$error":"#VALUE!"},"",{"$f":"IF(I535=\"\",\"\",LARGE(H$1:H534,1)+1)","v":{"$error":"#VALUE!"}},{"$error":"#VALUE!"},534,{"$error":"#N/A"},"",null,null,534,0,{"$f":"IF(R535=\"\",\"\",LARGE(Q$1:Q534,1)+1)","v":{"$error":"#NUM!"}},{"$error":"#NUM!"},534,{"$error":"#N/A"},"","",null,null,0,{"$error":"#VALUE!"},3999,"","",null,null,null,null,{"$error":"#VALUE!"},{"$error":"#VALUE!"},{"$f":"COUNTIF('Standards LOOKUP'!B:B,AI535)","v":0},{"$f":"IFERROR(INDEX('Standards LOOKUP'!C:C,MATCH(AI535,'Standards LOOKUP'!B:B,0),0),0)","v":0},{"$f":"IFERROR(INDEX('Current Standards'!P:P,MATCH('Sheet Counter'!AI535,'Current Standards'!O:O,0),0),\"\")","v":""}]
[null,null,0,"","",{"$error":"#VALUE!"},"",{"$f":"IF(I536=\"\",\"\",LARGE(H$1:H535,1)+1)","v":{"$error":"#VALUE!"}},{"$error":"#VALUE!"},535,{"$error":"#N/A"},"",null,null,535,0,{"$f":"IF(R536=\"\",\"\",LARGE(Q$1:Q535,1)+1)","v":{"$error":"#NUM!"}},{"$error":"#NUM!"},535,{"$error":"#N/A"},"","",null,null,0,{"$error":"#VALUE!"},3999,"","",null,null,null,null,{"$error":"#VALUE!"},{"$error":"#VALUE!"},{"$f":"COUNTIF('Standards LOOKUP'!B:B,AI536)","v":0},{"$f":"IFERROR(INDEX('Standards LOOKUP'!C:C,MATCH(AI536,'Standards LOOKUP'!B:B,0),0),0)","v":0},{"$f":"IFERROR(INDEX('Current Standards'!P:P,MATCH('Sheet Counter'!AI536,'Current Standards'!O:O,0),0),\"\")","v":""}]
[null,null,0,"","",{"$error":"#VALUE!"},"",{"$f":"IF(I537=\"\",\"\",LARGE(H$1:H536,1)+1)","v":{"$error":"#VALUE!"}},{"$error":"#VALUE!"},536,{"$error":"#N/A"},"",null,null,536,0,{"$f":"IF(R537=\"\",\"\",LARGE(Q$1:Q536,1)+1)","v":{"$error":"#NUM!"}},{"$error":"#NUM!"},536,{"$error":"#N/A"},"","",null,null,0,{"$error":"#VALUE!"},3999,"","",null,null,null,null,{"$error":"#VALUE!"},{"$error":"#VALUE!"},{"$f":"COUNTIF('Standards LOOKUP'!B:B,AI537)","v":0},{"$f":"IFERROR(INDEX('Standards LOOKUP'!C:C,MATCH(AI537,'Standards LOOKUP'!B:B,0),0),0)","v":0},{"$f":"IFERROR(INDEX('Current Standards'!P:P,MATCH('Sheet Counter'!AI537,'Current Standards'!O:O,0),0),\"\")","v":""}]
[null,null,0,"","",{"$error":"#VALUE!"},"",{"$f":"IF(I538=\"\",\"\",LARGE(H$1:H537,1)+1)","v":{"$error":"#VALUE!"}},{"$error":"#VALUE!"},537,{"$error":"#N/A"},"",null,null,537,0,{"$f":"IF(R538=\"\",\"\",LARGE(Q$1:Q537,1)+1)","v":{"$error":"#NUM!"}},{"$error":"#NUM!"},537,{"$error":"#N/A"},"","",null,null,0,{"$error":"#VALUE!"},3999,"","",null,null,null,null,{"$error":"#VALUE!"},{"$error":"#VALUE!"},{"$f":"COUNTIF('Standards LOOKUP'!B:B,AI538)","v":0},{"$f":"IFERROR(INDEX('Standards LOOKUP'!C:C,MATCH(AI538,'Standards LOOKUP'!B:B,0),0),0)","v":0},{"$f":"IFERROR(INDEX('Current Standards'!P:P,MATCH('Sheet Counter'!AI538,'Current Standards'!O:O,0),0),\"\")","v":""}]
[null,null,0,"","",{"$error":"#VALUE!"},"",{"$f":"IF(I539=\"\",\"\",LARGE(H$1:H538,1)+1)","v":{"$error":"#VALUE!"}},{"$error":"#VALUE!"},538,{"$error":"#N/A"},"",null,null,538,0,{"$f":"IF(R539=\"\",\"\",LARGE(Q$1:Q538,1)+1)","v":{"$error":"#NUM!"}},{"$error":"#NUM!"},538,{"$error":"#N/A"},"","",null,null,0,{"$error":"#VALUE!"},3999,"","",null,null,null,null,{"$error":"#VALUE!"},{"$error":"#VALUE!"},{"$f":"COUNTIF('Standards LOOKUP'!B:B,AI539)","v":0},{"$f":"IFERROR(INDEX('Standards LOOKUP'!C:C,MATCH(AI539,'Standards LOOKUP'!B:B,0),0),0)","v":0},{"$f":"IFERROR(INDEX('Current Standards'!P:P,MATCH('Sheet Counter'!AI539,'Current Standards'!O:O,0),0),\"\")","v":""}]
[null,null,0,"","",{"$error":"#VALUE!"},"",{"$f":"IF(I540=\"\",\"\",LARGE(H$1:H539,1)+1)","v":{"$error":"#VALUE!"}},{"$error":"#VALUE!"},539,{"$error":"#N/A"},"",null,null,539,0,{"$f":"IF(R540=\"\",\"\",LARGE(Q$1:Q539,1)+1)","v":{"$error":"#NUM!"}},{"$error":"#NUM!"},539,{"$error":"#N/A"},"","",null,null,0,{"$error":"#VALUE!"},3999,"","",null,null,null,null,{"$error":"#VALUE!"},{"$error":"#VALUE!"},{"$f":"COUNTIF('Standards LOOKUP'!B:B,AI540)","v":0},{"$f":"IFERROR(INDEX('Standards LOOKUP'!C:C,MATCH(AI540,'Standards LOOKUP'!B:B,0),0),0)","v":0},{"$f":"IFERROR(INDEX('Current Standards'!P:P,MATCH('Sheet Counter'!AI540,'Current Standards'!O:O,0),0),\"\")","v":""}]
[null,null,0,"","",{"$error":"#VALUE!"},"",{"$f":"IF(I541=\"\",\"\",LARGE(H$1:H540,1)+1)","v":{"$error":"#VALUE!"}},{"$error":"#VALUE!"},540,{"$error":"#N/A"},"",null,null,540,0,{"$f":"IF(R541=\"\",\"\",LARGE(Q$1:Q540,1)+1)","v":{"$error":"#NUM!"}},{"$error":"#NUM!"},540,{"$error":"#N/A"},"","",null,null,0,{"$error":"#VALUE!"},3999,"","",null,null,null,null,{"$error":"#VALUE!"},{"$error":"#VALUE!"},{"$f":"COUNTIF('Standards LOOKUP'!B:B,AI541)","v":0},{"$f":"IFERROR(INDEX('Standards LOOKUP'!C:C,MATCH(AI541,'Standards LOOKUP'!B:B,0),0),0)","v":0},{"$f":"IFERROR(INDEX('Current Standards'!P:P,MATCH('Sheet Counter'!AI541,'Current Standards'!O:O,0),0),\"\")","v":""}]
[null,null,0,"","",{"$error":"#VALUE!"},"",{"$f":"IF(I542=\"\",\"\",LARGE(H$1:H541,1)+1)","v":{"$error":"#VALUE!"}},{"$error":"#VALUE!"},541,{"$error":"#N/A"},"",null,null,541,0,{"$f":"IF(R542=\"\",\"\",LARGE(Q$1:Q541,1)+1)","v":{"$error":"#NUM!"}},{"$error":"#NUM!"},541,{"$error":"#N/A"},"","",null,null,0,{"$error":"#VALUE!"},3999,"","",null,null,null,null,{"$error":"#VALUE!"},{"$error":"#VALUE!"},{"$f":"COUNTIF('Standards LOOKUP'!B:B,AI542)","v":0},{"$f":"IFERROR(INDEX('Standards LOOKUP'!C:C,MATCH(AI542,'Standards LOOKUP'!B:B,0),0),0)","v":0},{"$f":"IFERROR(INDEX('Current Standards'!P:P,MATCH('Sheet Counter'!AI542,'Current Standards'!O:O,0),0),\"\")","v":""}]
[null,null,0,"","",{"$error":"#VALUE!"},"",{"$f":"IF(I543=\"\",\"\",LARGE(H$1:H542,1)+1)","v":{"$error":"#VALUE!"}},{"$error":"#VALUE!"},542,{"$error":"#N/A"},"",null,null,542,0,{"$f":"IF(R543=\"\",\"\",LARGE(Q$1:Q542,1)+1)","v":{"$error":"#NUM!"}},{"$error":"#NUM!"},542,{"$error":"#N/A"},"","",null,null,0,{"$error":"#VALUE!"},3999,"","",null,null,null,null,{"$error":"#VALUE!"},{"$error":"#VALUE!"},{"$f":"COUNTIF('Standards LOOKUP'!B:B,AI543)","v":0},{"$f":"IFERROR(INDEX('Standards LOOKUP'!C:C,MATCH(AI543,'Standards LOOKUP'!B:B,0),0),0)","v":0},{"$f":"IFERROR(INDEX('Current Standards'!P:P,MATCH('Sheet Counter'!AI543,'Current Standards'!O:O,0),0),\"\")","v":""}]
[null,null,0,"","",{"$error":"#VALUE!"},"",{"$f":"IF(I544=\"\",\"\",LARGE(H$1:H543,1)+1)","v":{"$error":"#VALUE!"}},{"$error":"#VALUE!"},543,{"$error":"#N/A"},"",null,null,543,0,{"$f":"IF(R544=\"\",\"\",LARGE(Q$1:Q543,1)+1)","v":{"$error":"#NUM!"}},{"$error":"#NUM!"},543,{"$error":"#N/A"},"","",null,null,0,{"$error":"#VALUE!"},3999,"","",null,null,null,null,{"$error":"#VALUE!"},{"$error":"#VALUE!"},{"$f":"COUNTIF('Standards LOOKUP'!B:B,AI544)","v":0},{"$f":"IFERROR(INDEX('Standards LOOKUP'!C:C,MATCH(AI544,'Standards LOOKUP'!B:B,0),0),0)","v":0},{"$f":"IFERROR(INDEX('Current Standards'!P:P,MATCH('Sheet Counter'!AI544,'Current Standards'!O:O,0),0),\"\")","v":""}]
[null,null,0,"","",{"$error":"#VALUE!"},"",{"$f":"IF(I545=\"\",\"\",LARGE(H$1:H544,1)+1)","v":{"$error":"#VALUE!"}},{"$error":"#VALUE!"},544,{"$error":"#N/A"},"",null,null,544,0,{"$f":"IF(R545=\"\",\"\",LARGE(Q$1:Q544,1)+1)","v":{"$error":"#NUM!"}},{"$error":"#NUM!"},544,{"$error":"#N/A"},"","",null,null,0,{"$error":"#VALUE!"},3999,"","",null,null,null,null,{"$error":"#VALUE!"},{"$error":"#VALUE!"},{"$f":"COUNTIF('Standards LOOKUP'!B:B,AI545)","v":0},{"$f":"IFERROR(INDEX('Standards LOOKUP'!C:C,MATCH(AI545,'Standards LOOKUP'!B:B,0),0),0)","v":0},{"$f":"IFERROR(INDEX('Current Standards'!P:P,MATCH('Sheet Counter'!AI545,'Current Standards'!O:O,0),0),\"\")","v":""}]
[null,null,0,"","",{"$error":"#VALUE!"},"",{"$f":"IF(I546=\"\",\"\",LARGE(H$1:H545,1)+1)","v":{"$error":"#VALUE!"}},{"$error":"#VALUE!"},545,{"$error":"#N/A"},"",null,null,545,0,{"$f":"IF(R546=\"\",\"\",LARGE(Q$1:Q545,1)+1)","v":{"$error":"#NUM!"}},{"$error":"#NUM!"},545,{"$error":"#N/A"},"","",null,null,0,{"$error":"#VALUE!"},3999,"","",null,null,null,null,{"$error":"#VALUE!"},{"$error":"#VALUE!"},{"$f":"COUNTIF('Standards LOOKUP'!B:B,AI546)","v":0},{"$f":"IFERROR(INDEX('Standards LOOKUP'!C:C,MATCH(AI546,'Standards LOOKUP'!B:B,0),0),0)","v":0},{"$f":"IFERROR(INDEX('Current Standards'!P:P,MATCH('Sheet Counter'!AI546,'Current Standards'!O:O,0),0),\"\")","v":""}]
[null,null,0,"","",{"$error":"#VALUE!"},"",{"$f":"IF(I547=\"\",\"\",LARGE(H$1:H546,1)+1)","v":{"$error":"#VALUE!"}},{"$error":"#VALUE!"},546,{"$error":"#N/A"},"",null,null,546,0,{"$f":"IF(R547=\"\",\"\",LARGE(Q$1:Q546,1)+1)","v":{"$error":"#NUM!"}},{"$error":"#NUM!"},546,{"$error":"#N/A"},"","",null,null,0,{"$error":"#VALUE!"},3999,"","",null,null,null,null,{"$error":"#VALUE!"},{"$error":"#VALUE!"},{"$f":"COUNTIF('Standards LOOKUP'!B:B,AI547)","v":0},{"$f":"IFERROR(INDEX('Standards LOOKUP'!C:C,MATCH(AI547,'Standards LOOKUP'!B:B,0),0),0)","v":0},{"$f":"IFERROR(INDEX('Current Standards'!P:P,MATCH('Sheet Counter'!AI547,'Current Standards'!O:O,0),0),\"\")","v":""}]
[null,null,0,"","",{"$error":"#VALUE!"},"",{"$f":"IF(I548=\"\",\"\",LARGE(H$1:H547,1)+1)","v":{"$error":"#VALUE!"}},{"$error":"#VALUE!"},547,{"$error":"#N/A"},"",null,null,547,0,{"$f":"IF(R548=\"\",\"\",LARGE(Q$1:Q547,1)+1)","v":{"$error":"#NUM!"}},{"$error":"#NUM!"},547,{"$error":"#N/A"},"","",null,null,0,{"$error":"#VALUE!"},3999,"","",null,null,null,null,{"$error":"#VALUE!"},{"$error":"#VALUE!"},{"$f":"COUNTIF('Standards LOOKUP'!B:B,AI548)","v":0},{"$f":"IFERROR(INDEX('Standards LOOKUP'!C:C,MATCH(AI548,'Standards LOOKUP'!B:B,0),0),0)","v":0},{"$f":"IFERROR(INDEX('Current Standards'!P:P,MATCH('Sheet Counter'!AI548,'Current Standards'!O:O,0),0),\"\")","v":""}]
[null,null,0,"","",{"$error":"#VALUE!"},"",{"$f":"IF(I549=\"\",\"\",LARGE(H$1:H548,1)+1)","v":{"$error":"#VALUE!"}},{"$error":"#VALUE!"},548,{"$error":"#N/A"},"",null,null,548,0,{"$f":"IF(R549=\"\",\"\",LARGE(Q$1:Q548,1)+1)","v":{"$error":"#NUM!"}},{"$error":"#NUM!"},548,{"$error":"#N/A"},"","",null,null,0,{"$error":"#VALUE!"},3999,"","",null,null,null,null,{"$error":"#VALUE!"},{"$error":"#VALUE!"},{"$f":"COUNTIF('Standards LOOKUP'!B:B,AI549)","v":0},{"$f":"IFERROR(INDEX('Standards LOOKUP'!C:C,MATCH(AI549,'Standards LOOKUP'!B:B,0),0),0)","v":0},{"$f":"IFERROR(INDEX('Current Standards'!P:P,MATCH('Sheet Counter'!AI549,'Current Standards'!O:O,0),0),\"\")","v":""}]
[null,null,0,"","",{"$error":"#VALUE!"},"",{"$f":"IF(I550=\"\",\"\",LARGE(H$1:H549,1)+1)","v":{"$error":"#VALUE!"}},{"$error":"#VALUE!"},549,{"$error":"#N/A"},"",null,null,549,0,{"$f":"IF(R550=\"\",\"\",LARGE(Q$1:Q549,1)+1)","v":{"$error":"#NUM!"}},{"$error":"#NUM!"},549,{"$error":"#N/A"},"","",null,null,0,{"$error":"#VALUE!"},3999,"","",null,null,null,null,{"$error":"#VALUE!"},{"$error":"#VALUE!"},{"$f":"COUNTIF('Standards LOOKUP'!B:B,AI550)","v":0},{"$f":"IFERROR(INDEX('Standards LOOKUP'!C:C,MATCH(AI550,'Standards LOOKUP'!B:B,0),0),0)","v":0},{"$f":"IFERROR(INDEX('Current Standards'!P:P,MATCH('Sheet Counter'!AI550,'Current Standards'!O:O,0),0),\"\")","v":""}]
[null,null,0,"","",{"$error":"#VALUE!"},"",{"$f":"IF(I551=\"\",\"\",LARGE(H$1:H550,1)+1)","v":{"$error":"#VALUE!"}},{"$error":"#VALUE!"},550,{"$error":"#N/A"},"",null,null,550,0,{"$f":"IF(R551=\"\",\"\",LARGE(Q$1:Q550,1)+1)","v":{"$error":"#NUM!"}},{"$error":"#NUM!"},550,{"$error":"#N/A"},"","",null,null,0,{"$error":"#VALUE!"},3999,"","",null,null,null,null,{"$error":"#VALUE!"},{"$error":"#VALUE!"},{"$f":"COUNTIF('Standards LOOKUP'!B:B,AI551)","v":0},{"$f":"IFERROR(INDEX('Standards LOOKUP'!C:C,MATCH(AI551,'Standards LOOKUP'!B:B,0),0),0)","v":0},{"$f":"IFERROR(INDEX('Current Standards'!P:P,MATCH('Sheet Counter'!AI551,'Current Standards'!O:O,0),0),\"\")","v":""}]
[null,null,0,"","",{"$error":"#VALUE!"},"",{"$f":"IF(I552=\"\",\"\",LARGE(H$1:H551,1)+1)","v":{"$error":"#VALUE!"}},{"$error":"#VALUE!"},551,{"$error":"#N/A"},"",null,null,551,0,{"$f":"IF(R552=\"\",\"\",LARGE(Q$1:Q551,1)+1)","v":{"$error":"#NUM!"}},{"$error":"#NUM!"},551,{"$error":"#N/A"},"","",null,null,0,{"$error":"#VALUE!"},3999,"","",null,null,null,null,{"$error":"#VALUE!"},{"$error":"#VALUE!"},{"$f":"COUNTIF('Standards LOOKUP'!B:B,AI552)","v":0},{"$f":"IFERROR(INDEX('Standards LOOKUP'!C:C,MATCH(AI552,'Standards LOOKUP'!B:B,0),0),0)","v":0},{"$f":"IFERROR(INDEX('Current Standards'!P:P,MATCH('Sheet Counter'!AI552,'Current Standards'!O:O,0),0),\"\")","v":""}]
[null,null,0,"","",{"$error":"#VALUE!"},"",{"$f":"IF(I553=\"\",\"\",LARGE(H$1:H552,1)+1)","v":{"$error":"#VALUE!"}},{"$error":"#VALUE!"},552,{"$error":"#N/A"},"",null,null,552,0,{"$f":"IF(R553=\"\",\"\",LARGE(Q$1:Q552,1)+1)","v":{"$error":"#NUM!"}},{"$error":"#NUM!"},552,{"$error":"#N/A"},"","",null,null,0,{"$error":"#VALUE!"},3999,"","",null,null,null,null,{"$error":"#VALUE!"},{"$error":"#VALUE!"},{"$f":"COUNTIF('Standards LOOKUP'!B:B,AI553)","v":0},{"$f":"IFERROR(INDEX('Standards LOOKUP'!C:C,MATCH(AI553,'Standards LOOKUP'!B:B,0),0),0)","v":0},{"$f":"IFERROR(INDEX('Current Standards'!P:P,MATCH('Sheet Counter'!AI553,'Current Standards'!O:O,0),0),\"\")","v":""}]
[null,null,0,"","",{"$error":"#VALUE!"},"",{"$f":"IF(I554=\"\",\"\",LARGE(H$1:H553,1)+1)","v":{"$error":"#VALUE!"}},{"$error":"#VALUE!"},553,{"$error":"#N/A"},"",null,null,553,0,{"$f":"IF(R554=\"\",\"\",LARGE(Q$1:Q553,1)+1)","v":{"$error":"#NUM!"}},{"$error":"#NUM!"},553,{"$error":"#N/A"},"","",null,null,0,{"$error":"#VALUE!"},3999,"","",null,null,null,null,{"$error":"#VALUE!"},{"$error":"#VALUE!"},{"$f":"COUNTIF('Standards LOOKUP'!B:B,AI554)","v":0},{"$f":"IFERROR(INDEX('Standards LOOKUP'!C:C,MATCH(AI554,'Standards LOOKUP'!B:B,0),0),0)","v":0},{"$f":"IFERROR(INDEX('Current Standards'!P:P,MATCH('Sheet Counter'!AI554,'Current Standards'!O:O,0),0),\"\")","v":""}]
[null,null,0,"","",{"$error":"#VALUE!"},"",{"$f":"IF(I555=\"\",\"\",LARGE(H$1:H554,1)+1)","v":{"$error":"#VALUE!"}},{"$error":"#VALUE!"},554,{"$error":"#N/A"},"",null,null,554,0,{"$f":"IF(R555=\"\",\"\",LARGE(Q$1:Q554,1)+1)","v":{"$error":"#NUM!"}},{"$error":"#NUM!"},554,{"$error":"#N/A"},"","",null,null,0,{"$error":"#VALUE!"},3999,"","",null,null,null,null,{"$error":"#VALUE!"},{"$error":"#VALUE!"},{"$f":"COUNTIF('Standards LOOKUP'!B:B,AI555)","v":0},{"$f":"IFERROR(INDEX('Standards LOOKUP'!C:C,MATCH(AI555,'Standards LOOKUP'!B:B,0),0),0)","v":0},{"$f":"IFERROR(INDEX('Current Standards'!P:P,MATCH('Sheet Counter'!AI555,'Current Standards'!O:O,0),0),\"\")","v":""}]
[null,null,0,"","",{"$error":"#VALUE!"},"",{"$f":"IF(I556=\"\",\"\",LARGE(H$1:H555,1)+1)","v":{"$error":"#VALUE!"}},{"$error":"#VALUE!"},555,{"$error":"#N/A"},"",null,null,555,0,{"$f":"IF(R556=\"\",\"\",LARGE(Q$1:Q555,1)+1)","v":{"$error":"#NUM!"}},{"$error":"#NUM!"},555,{"$error":"#N/A"},"","",null,null,0,{"$error":"#VALUE!"},3999,"","",null,null,null,null,{"$error":"#VALUE!"},{"$error":"#VALUE!"},{"$f":"COUNTIF('Standards LOOKUP'!B:B,AI556)","v":0},{"$f":"IFERROR(INDEX('Standards LOOKUP'!C:C,MATCH(AI556,'Standards LOOKUP'!B:B,0),0),0)","v":0},{"$f":"IFERROR(INDEX('Current Standards'!P:P,MATCH('Sheet Counter'!AI556,'Current Standards'!O:O,0),0),\"\")","v":""}]
[null,null,0,"","",{"$error":"#VALUE!"},"",{"$f":"IF(I557=\"\",\"\",LARGE(H$1:H556,1)+1)","v":{"$error":"#VALUE!"}},{"$error":"#VALUE!"},556,{"$error":"#N/A"},"",null,null,556,0,{"$f":"IF(R557=\"\",\"\",LARGE(Q$1:Q556,1)+1)","v":{"$error":"#NUM!"}},{"$error":"#NUM!"},556,{"$error":"#N/A"},"","",null,null,0,{"$error":"#VALUE!"},3999,"","",null,null,null,null,{"$error":"#VALUE!"},{"$error":"#VALUE!"},{"$f":"COUNTIF('Standards LOOKUP'!B:B,AI557)","v":0},{"$f":"IFERROR(INDEX('Standards LOOKUP'!C:C,MATCH(AI557,'Standards LOOKUP'!B:B,0),0),0)","v":0},{"$f":"IFERROR(INDEX('Current Standards'!P:P,MATCH('Sheet Counter'!AI557,'Current Standards'!O:O,0),0),\"\")","v":""}]
[null,null,0,"","",{"$error":"#VALUE!"},"",{"$f":"IF(I558=\"\",\"\",LARGE(H$1:H557,1)+1)","v":{"$error":"#VALUE!"}},{"$error":"#VALUE!"},557,{"$error":"#N/A"},"",null,null,557,0,{"$f":"IF(R558=\"\",\"\",LARGE(Q$1:Q557,1)+1)","v":{"$error":"#NUM!"}},{"$error":"#NUM!"},557,{"$error":"#N/A"},"","",null,null,0,{"$error":"#VALUE!"},3999,"","",null,null,null,null,{"$error":"#VALUE!"},{"$error":"#VALUE!"},{"$f":"COUNTIF('Standards LOOKUP'!B:B,AI558)","v":0},{"$f":"IFERROR(INDEX('Standards LOOKUP'!C:C,MATCH(AI558,'Standards LOOKUP'!B:B,0),0),0)","v":0},{"$f":"IFERROR(INDEX('Current Standards'!P:P,MATCH('Sheet Counter'!AI558,'Current Standards'!O:O,0),0),\"\")","v":""}]
[null,null,0,"","",{"$error":"#VALUE!"},"",{"$f":"IF(I559=\"\",\"\",LARGE(H$1:H558,1)+1)","v":{"$error":"#VALUE!"}},{"$error":"#VALUE!"},558,{"$error":"#N/A"},"",null,null,558,0,{"$f":"IF(R559=\"\",\"\",LARGE(Q$1:Q558,1)+1)","v":{"$error":"#NUM!"}},{"$error":"#NUM!"},558,{"$error":"#N/A"},"","",null,null,0,{"$error":"#VALUE!"},3999,"","",null,null,null,null,{"$error":"#VALUE!"},{"$error":"#VALUE!"},{"$f":"COUNTIF('Standards LOOKUP'!B:B,AI559)","v":0},{"$f":"IFERROR(INDEX('Standards LOOKUP'!C:C,MATCH(AI559,'Standards LOOKUP'!B:B,0),0),0)","v":0},{"$f":"IFERROR(INDEX('Current Standards'!P:P,MATCH('Sheet Counter'!AI559,'Current Standards'!O:O,0),0),\"\")","v":""}]
[null,null,0,"","",{"$error":"#VALUE!"},"",{"$f":"IF(I560=\"\",\"\",LARGE(H$1:H559,1)+1)","v":{"$error":"#VALUE!"}},{"$error":"#VALUE!"},559,{"$error":"#N/A"},"",null,null,559,0,{"$f":"IF(R560=\"\",\"\",LARGE(Q$1:Q559,1)+1)","v":{"$error":"#NUM!"}},{"$error":"#NUM!"},559,{"$error":"#N/A"},"","",null,null,0,{"$error":"#VALUE!"},3999,"","",null,null,null,null,{"$error":"#VALUE!"},{"$error":"#VALUE!"},{"$f":"COUNTIF('Standards LOOKUP'!B:B,AI560)","v":0},{"$f":"IFERROR(INDEX('Standards LOOKUP'!C:C,MATCH(AI560,'Standards LOOKUP'!B:B,0),0),0)","v":0},{"$f":"IFERROR(INDEX('Current Standards'!P:P,MATCH('Sheet Counter'!AI560,'Current Standards'!O:O,0),0),\"\")","v":""}]
[null,null,0,"","",{"$error":"#VALUE!"},"",{"$f":"IF(I561=\"\",\"\",LARGE(H$1:H560,1)+1)","v":{"$error":"#VALUE!"}},{"$error":"#VALUE!"},560,{"$error":"#N/A"},"",null,null,560,0,{"$f":"IF(R561=\"\",\"\",LARGE(Q$1:Q560,1)+1)","v":{"$error":"#NUM!"}},{"$error":"#NUM!"},560,{"$error":"#N/A"},"","",null,null,0,{"$error":"#VALUE!"},3999,"","",null,null,null,null,{"$error":"#VALUE!"},{"$error":"#VALUE!"},{"$f":"COUNTIF('Standards LOOKUP'!B:B,AI561)","v":0},{"$f":"IFERROR(INDEX('Standards LOOKUP'!C:C,MATCH(AI561,'Standards LOOKUP'!B:B,0),0),0)","v":0},{"$f":"IFERROR(INDEX('Current Standards'!P:P,MATCH('Sheet Counter'!AI561,'Current Standards'!O:O,0),0),\"\")","v":""}]
[null,null,0,"","",{"$error":"#VALUE!"},"",{"$f":"IF(I562=\"\",\"\",LARGE(H$1:H561,1)+1)","v":{"$error":"#VALUE!"}},{"$error":"#VALUE!"},561,{"$error":"#N/A"},"",null,null,561,0,{"$f":"IF(R562=\"\",\"\",LARGE(Q$1:Q561,1)+1)","v":{"$error":"#NUM!"}},{"$error":"#NUM!"},561,{"$error":"#N/A"},"","",null,null,0,{"$error":"#VALUE!"},3999,"","",null,null,null,null,{"$error":"#VALUE!"},{"$error":"#VALUE!"},{"$f":"COUNTIF('Standards LOOKUP'!B:B,AI562)","v":0},{"$f":"IFERROR(INDEX('Standards LOOKUP'!C:C,MATCH(AI562,'Standards LOOKUP'!B:B,0),0),0)","v":0},{"$f":"IFERROR(INDEX('Current Standards'!P:P,MATCH('Sheet Counter'!AI562,'Current Standards'!O:O,0),0),\"\")","v":""}]
[null,null,0,"","",{"$error":"#VALUE!"},"",{"$f":"IF(I563=\"\",\"\",LARGE(H$1:H562,1)+1)","v":{"$error":"#VALUE!"}},{"$error":"#VALUE!"},562,{"$error":"#N/A"},"",null,null,562,0,{"$f":"IF(R563=\"\",\"\",LARGE(Q$1:Q562,1)+1)","v":{"$error":"#NUM!"}},{"$error":"#NUM!"},562,{"$error":"#N/A"},"","",null,null,0,{"$error":"#VALUE!"},3999,"","",null,null,null,null,{"$error":"#VALUE!"},{"$error":"#VALUE!"},{"$f":"COUNTIF('Standards LOOKUP'!B:B,AI563)","v":0},{"$f":"IFERROR(INDEX('Standards LOOKUP'!C:C,MATCH(AI563,'Standards LOOKUP'!B:B,0),0),0)","v":0},{"$f":"IFERROR(INDEX('Current Standards'!P:P,MATCH('Sheet Counter'!AI563,'Current Standards'!O:O,0),0),\"\")","v":""}]
[null,null,0,"","",{"$error":"#VALUE!"},"",{"$f":"IF(I564=\"\",\"\",LARGE(H$1:H563,1)+1)","v":{"$error":"#VALUE!"}},{"$error":"#VALUE!"},563,{"$error":"#N/A"},"",null,null,563,0,{"$f":"IF(R564=\"\",\"\",LARGE(Q$1:Q563,1)+1)","v":{"$error":"#NUM!"}},{"$error":"#NUM!"},563,{"$error":"#N/A"},"","",null,null,0,{"$error":"#VALUE!"},3999,"","",null,null,null,null,{"$error":"#VALUE!"},{"$error":"#VALUE!"},{"$f":"COUNTIF('Standards LOOKUP'!B:B,AI564)","v":0},{"$f":"IFERROR(INDEX('Standards LOOKUP'!C:C,MATCH(AI564,'Standards LOOKUP'!B:B,0),0),0)","v":0},{"$f":"IFERROR(INDEX('Current Standards'!P:P,MATCH('Sheet Counter'!AI564,'Current Standards'!O:O,0),0),\"\")","v":""}]
[null,null,0,"","",{"$error":"#VALUE!"},"",{"$f":"IF(I565=\"\",\"\",LARGE(H$1:H564,1)+1)","v":{"$error":"#VALUE!"}},{"$error":"#VALUE!"},564,{"$error":"#N/A"},"",null,null,564,0,{"$f":"IF(R565=\"\",\"\",LARGE(Q$1:Q564,1)+1)","v":{"$error":"#NUM!"}},{"$error":"#NUM!"},564,{"$error":"#N/A"},"","",null,null,0,{"$error":"#VALUE!"},3999,"","",null,null,null,null,{"$error":"#VALUE!"},{"$error":"#VALUE!"},{"$f":"COUNTIF('Standards LOOKUP'!B:B,AI565)","v":0},{"$f":"IFERROR(INDEX('Standards LOOKUP'!C:C,MATCH(AI565,'Standards LOOKUP'!B:B,0),0),0)","v":0},{"$f":"IFERROR(INDEX('Current Standards'!P:P,MATCH('Sheet Counter'!AI565,'Current Standards'!O:O,0),0),\"\")","v":""}]
[null,null,0,"","",{"$error":"#VALUE!"},"",{"$f":"IF(I566=\"\",\"\",LARGE(H$1:H565,1)+1)","v":{"$error":"#VALUE!"}},{"$error":"#VALUE!"},565,{"$f":"VLOOKUP(J566,H:I,2,0)","v":{"$error":"#N/A"}},{"$f":"IF(ISERROR(K566),\"\",K566)","v":""},null,null,565,0,{"$f":"IF(R566=\"\",\"\",LARGE(Q$1:Q565,1)+1)","v":{"$error":"#NUM!"}},{"$error":"#NUM!"},565,{"$f":"VLOOKUP(S566,Q:R,2,0)","v":{"$error":"#N/A"}},{"$f":"IF(ISERROR(T566),\"\",T566)","v":""},{"$f":"IF(U566=\"\",\"\",VLOOKUP(U566,O:P,2,0))","v":""},null,null,0,{"$error":"#VALUE!"},3999,"","",null,null,null,null,{"$error":"#VALUE!"},{"$error":"#VALUE!"},{"$f":"COUNTIF('Standards LOOKUP'!B:B,AI566)","v":0},{"$f":"IFERROR(INDEX('Standards LOOKUP'!C:C,MATCH(AI566,'Standards LOOKUP'!B:B,0),0),0)","v":0},{"$f":"IFERROR(INDEX('Current Standards'!P:P,MATCH('Sheet Counter'!AI566,'Current Standards'!O:O,0),0),\"\")","v":""}]
[null,null,0,"","",{"$error":"#VALUE!"},"",{"$f":"IF(I567=\"\",\"\",LARGE(H$1:H566,1)+1)","v":{"$error":"#VALUE!"}},{"$error":"#VALUE!"},566,{"$error":"#N/A"},"",null,null,566,0,{"$f":"IF(R567=\"\",\"\",LARGE(Q$1:Q566,1)+1)","v":{"$error":"#NUM!"}},{"$error":"#NUM!"},566,{"$error":"#N/A"},"","",null,null,0,{"$error":"#VALUE!"},3999,"","",null,null,null,null,{"$error":"#VALUE!"},{"$error":"#VALUE!"},{"$f":"COUNTIF('Standards LOOKUP'!B:B,AI567)","v":0},{"$f":"IFERROR(INDEX('Standards LOOKUP'!C:C,MATCH(AI567,'Standards LOOKUP'!B:B,0),0),0)","v":0},{"$f":"IFERROR(INDEX('Current Standards'!P:P,MATCH('Sheet Counter'!AI567,'Current Standards'!O:O,0),0),\"\")","v":""}]
[null,null,0,"","",{"$error":"#VALUE!"},"",{"$f":"IF(I568=\"\",\"\",LARGE(H$1:H567,1)+1)","v":{"$error":"#VALUE!"}},{"$error":"#VALUE!"},567,{"$error":"#N/A"},"",null,null,567,0,{"$f":"IF(R568=\"\",\"\",LARGE(Q$1:Q567,1)+1)","v":{"$error":"#NUM!"}},{"$error":"#NUM!"},567,{"$error":"#N/A"},"","",null,null,0,{"$error":"#VALUE!"},3999,"","",null,null,null,null,{"$error":"#VALUE!"},{"$error":"#VALUE!"},{"$f":"COUNTIF('Standards LOOKUP'!B:B,AI568)","v":0},{"$f":"IFERROR(INDEX('Standards LOOKUP'!C:C,MATCH(AI568,'Standards LOOKUP'!B:B,0),0),0)","v":0},{"$f":"IFERROR(INDEX('Current Standards'!P:P,MATCH('Sheet Counter'!AI568,'Current Standards'!O:O,0),0),\"\")","v":""}]
[null,null,0,"","",{"$error":"#VALUE!"},"",{"$f":"IF(I569=\"\",\"\",LARGE(H$1:H568,1)+1)","v":{"$error":"#VALUE!"}},{"$error":"#VALUE!"},568,{"$error":"#N/A"},"",null,null,568,0,{"$f":"IF(R569=\"\",\"\",LARGE(Q$1:Q568,1)+1)","v":{"$error":"#NUM!"}},{"$error":"#NUM!"},568,{"$error":"#N/A"},"","",null,null,0,{"$error":"#VALUE!"},3999,"","",null,null,null,null,{"$error":"#VALUE!"},{"$error":"#VALUE!"},{"$f":"COUNTIF('Standards LOOKUP'!B:B,AI569)","v":0},{"$f":"IFERROR(INDEX('Standards LOOKUP'!C:C,MATCH(AI569,'Standards LOOKUP'!B:B,0),0),0)","v":0},{"$f":"IFERROR(INDEX('Current Standards'!P:P,MATCH('Sheet Counter'!AI569,'Current Standards'!O:O,0),0),\"\")","v":""}]
[null,null,0,"","",{"$error":"#VALUE!"},"",{"$f":"IF(I570=\"\",\"\",LARGE(H$1:H569,1)+1)","v":{"$error":"#VALUE!"}},{"$error":"#VALUE!"},569,{"$error":"#N/A"},"",null,null,569,0,{"$f":"IF(R570=\"\",\"\",LARGE(Q$1:Q569,1)+1)","v":{"$error":"#NUM!"}},{"$error":"#NUM!"},569,{"$error":"#N/A"},"","",null,null,0,{"$error":"#VALUE!"},3999,"","",null,null,null,null,{"$error":"#VALUE!"},{"$error":"#VALUE!"},{"$f":"COUNTIF('Standards LOOKUP'!B:B,AI570)","v":0},{"$f":"IFERROR(INDEX('Standards LOOKUP'!C:C,MATCH(AI570,'Standards LOOKUP'!B:B,0),0),0)","v":0},{"$f":"IFERROR(INDEX('Current Standards'!P:P,MATCH('Sheet Counter'!AI570,'Current Standards'!O:O,0),0),\"\")","v":""}]
[null,null,0,"","",{"$error":"#VALUE!"},"",{"$f":"IF(I571=\"\",\"\",LARGE(H$1:H570,1)+1)","v":{"$error":"#VALUE!"}},{"$error":"#VALUE!"},570,{"$error":"#N/A"},"",null,null,570,0,{"$f":"IF(R571=\"\",\"\",LARGE(Q$1:Q570,1)+1)","v":{"$error":"#NUM!"}},{"$error":"#NUM!"},570,{"$error":"#N/A"},"","",null,null,0,{"$error":"#VALUE!"},3999,"","",null,null,null,null,{"$error":"#VALUE!"},{"$error":"#VALUE!"},{"$f":"COUNTIF('Standards LOOKUP'!B:B,AI571)","v":0},{"$f":"IFERROR(INDEX('Standards LOOKUP'!C:C,MATCH(AI571,'Standards LOOKUP'!B:B,0),0),0)","v":0},{"$f":"IFERROR(INDEX('Current Standards'!P:P,MATCH('Sheet Counter'!AI571,'Current Standards'!O:O,0),0),\"\")","v":""}]
[null,null,0,"","",{"$error":"#VALUE!"},"",{"$f":"IF(I572=\"\",\"\",LARGE(H$1:H571,1)+1)","v":{"$error":"#VALUE!"}},{"$error":"#VALUE!"},571,{"$error":"#N/A"},"",null,null,571,0,{"$f":"IF(R572=\"\",\"\",LARGE(Q$1:Q571,1)+1)","v":{"$error":"#NUM!"}},{"$error":"#NUM!"},571,{"$error":"#N/A"},"","",null,null,0,{"$error":"#VALUE!"},3999,"","",null,null,null,null,{"$error":"#VALUE!"},{"$error":"#VALUE!"},{"$f":"COUNTIF('Standards LOOKUP'!B:B,AI572)","v":0},{"$f":"IFERROR(INDEX('Standards LOOKUP'!C:C,MATCH(AI572,'Standards LOOKUP'!B:B,0),0),0)","v":0},{"$f":"IFERROR(INDEX('Current Standards'!P:P,MATCH('Sheet Counter'!AI572,'Current Standards'!O:O,0),0),\"\")","v":""}]
[null,null,0,"","",{"$error":"#VALUE!"},"",{"$f":"IF(I573=\"\",\"\",LARGE(H$1:H572,1)+1)","v":{"$error":"#VALUE!"}},{"$error":"#VALUE!"},572,{"$error":"#N/A"},"",null,null,572,0,{"$f":"IF(R573=\"\",\"\",LARGE(Q$1:Q572,1)+1)","v":{"$error":"#NUM!"}},{"$error":"#NUM!"},572,{"$error":"#N/A"},"","",null,null,0,{"$error":"#VALUE!"},3999,"","",null,null,null,null,{"$error":"#VALUE!"},{"$error":"#VALUE!"},{"$f":"COUNTIF('Standards LOOKUP'!B:B,AI573)","v":0},{"$f":"IFERROR(INDEX('Standards LOOKUP'!C:C,MATCH(AI573,'Standards LOOKUP'!B:B,0),0),0)","v":0},{"$f":"IFERROR(INDEX('Current Standards'!P:P,MATCH('Sheet Counter'!AI573,'Current Standards'!O:O,0),0),\"\")","v":""}]
[null,null,0,"","",{"$error":"#VALUE!"},"",{"$f":"IF(I574=\"\",\"\",LARGE(H$1:H573,1)+1)","v":{"$error":"#VALUE!"}},{"$error":"#VALUE!"},573,{"$error":"#N/A"},"",null,null,573,0,{"$f":"IF(R574=\"\",\"\",LARGE(Q$1:Q573,1)+1)","v":{"$error":"#NUM!"}},{"$error":"#NUM!"},573,{"$error":"#N/A"},"","",null,null,0,{"$error":"#VALUE!"},3999,"","",null,null,null,null,{"$error":"#VALUE!"},{"$error":"#VALUE!"},{"$f":"COUNTIF('Standards LOOKUP'!B:B,AI574)","v":0},{"$f":"IFERROR(INDEX('Standards LOOKUP'!C:C,MATCH(AI574,'Standards LOOKUP'!B:B,0),0),0)","v":0},{"$f":"IFERROR(INDEX('Current Standards'!P:P,MATCH('Sheet Counter'!AI574,'Current Standards'!O:O,0),0),\"\")","v":""}]
[null,null,0,"","",{"$error":"#VALUE!"},"",{"$f":"IF(I575=\"\",\"\",LARGE(H$1:H574,1)+1)","v":{"$error":"#VALUE!"}},{"$error":"#VALUE!"},574,{"$error":"#N/A"},"",null,null,574,0,{"$f":"IF(R575=\"\",\"\",LARGE(Q$1:Q574,1)+1)","v":{"$error":"#NUM!"}},{"$error":"#NUM!"},574,{"$error":"#N/A"},"","",null,null,0,{"$error":"#VALUE!"},3999,"","",null,null,null,null,{"$error":"#VALUE!"},{"$error":"#VALUE!"},{"$f":"COUNTIF('Standards LOOKUP'!B:B,AI575)","v":0},{"$f":"IFERROR(INDEX('Standards LOOKUP'!C:C,MATCH(AI575,'Standards LOOKUP'!B:B,0),0),0)","v":0},{"$f":"IFERROR(INDEX('Current Standards'!P:P,MATCH('Sheet Counter'!AI575,'Current Standards'!O:O,0),0),\"\")","v":""}]
[null,null,0,"","",{"$error":"#VALUE!"},"",{"$f":"IF(I576=\"\",\"\",LARGE(H$1:H575,1)+1)","v":{"$error":"#VALUE!"}},{"$error":"#VALUE!"},575,{"$error":"#N/A"},"",null,null,575,0,{"$f":"IF(R576=\"\",\"\",LARGE(Q$1:Q575,1)+1)","v":{"$error":"#NUM!"}},{"$error":"#NUM!"},575,{"$error":"#N/A"},"","",null,null,0,{"$error":"#VALUE!"},3999,"","",null,null,null,null,{"$error":"#VALUE!"},{"$error":"#VALUE!"},{"$f":"COUNTIF('Standards LOOKUP'!B:B,AI576)","v":0},{"$f":"IFERROR(INDEX('Standards LOOKUP'!C:C,MATCH(AI576,'Standards LOOKUP'!B:B,0),0),0)","v":0},{"$f":"IFERROR(INDEX('Current Standards'!P:P,MATCH('Sheet Counter'!AI576,'Current Standards'!O:O,0),0),\"\")","v":""}]
[null,null,0,"","",{"$error":"#VALUE!"},"",{"$f":"IF(I577=\"\",\"\",LARGE(H$1:H576,1)+1)","v":{"$error":"#VALUE!"}},{"$error":"#VALUE!"},576,{"$error":"#N/A"},"",null,null,576,0,{"$f":"IF(R577=\"\",\"\",LARGE(Q$1:Q576,1)+1)","v":{"$error":"#NUM!"}},{"$error":"#NUM!"},576,{"$error":"#N/A"},"","",null,null,0,{"$error":"#VALUE!"},3999,"","",null,null,null,null,{"$error":"#VALUE!"},{"$error":"#VALUE!"},{"$f":"COUNTIF('Standards LOOKUP'!B:B,AI577)","v":0},{"$f":"IFERROR(INDEX('Standards LOOKUP'!C:C,MATCH(AI577,'Standards LOOKUP'!B:B,0),0),0)","v":0},{"$f":"IFERROR(INDEX('Current Standards'!P:P,MATCH('Sheet Counter'!AI577,'Current Standards'!O:O,0),0),\"\")","v":""}]
[null,null,0,"","",{"$error":"#VALUE!"},"",{"$f":"IF(I578=\"\",\"\",LARGE(H$1:H577,1)+1)","v":{"$error":"#VALUE!"}},{"$f":"IF(G578=\"\",F578,\"\")","v":{"$error":"#VALUE!"}},577,{"$error":"#N/A"},"",null,null,577,{"$f":"COUNTIF(G:G,O578)","v":0},{"$f":"IF(R578=\"\",\"\",LARGE(Q$1:Q577,1)+1)","v":{"$error":"#NUM!"}},{"$error":"#NUM!"},577,{"$error":"#N/A"},"","",null,null,0,{"$error":"#VALUE!"},3999,"","",null,null,null,null,{"$error":"#VALUE!"},{"$error":"#VALUE!"},{"$f":"COUNTIF('Standards LOOKUP'!B:B,AI578)","v":0},{"$f":"IFERROR(INDEX('Standards LOOKUP'!C:C,MATCH(AI578,'Standards LOOKUP'!B:B,0),0),0)","v":0},{"$f":"IFERROR(INDEX('Current Standards'!P:P,MATCH('Sheet Counter'!AI578,'Current Standards'!O:O,0),0),\"\")","v":""}]
[null,null,{"$f":"IF(ISERROR(FIND(\"\\\",A579)),A579,RIGHT(A579,LEN(A579)-FIND(\"~\",SUBSTITUTE(A579,\"\\\",\"~\",LEN(A579)-LEN(SUBSTITUTE(A579,\"\\\",\"\"))))))","v":0},{"$f":"IF(AL579=\"\",\"\",AL579)","v":""},"",{"$f":"LEFT(C579,FIND(\"-\",SUBSTITUTE(SUBSTITUTE(C579,\"_\",\"-\"),\" \",\"-\"))-1)","v":{"$error":"#VALUE!"}},{"$f":"IF(ISNUMBER(F579*1),F579*1,\"\")","v":""},{"$f":"IF(I579=\"\",\"\",LARGE(H$1:H578,1)+1)","v":{"$error":"#VALUE!"}},{"$error":"#VALUE!"},578,{"$error":"#N/A"},"",null,null,578,0,{"$f":"IF(R579=\"\",\"\",LARGE(Q$1:Q578,1)+1)","v":{"$error":"#NUM!"}},{"$error":"#NUM!"},578,{"$error":"#N/A"},"","",null,null,{"$f":"IF(ISERROR(FIND(\"\\\",X579)),X579,RIGHT(X579,LEN(X579)-FIND(\"~\",SUBSTITUTE(X579,\"\\\",\"~\",LEN(X579)-LEN(SUBSTITUTE(X579,\"\\\",\"\"))))))","v":0},{"$f":"LEFT(Y579,FIND(\"-\",SUBSTITUTE(SUBSTITUTE(Y579,\"_\",\"-\"),\" \",\"-\"))-1)","v":{"$error":"#VALUE!"}},{"$f":"COUNTIF(F:F,Z579)","v":3999},{"$f":"IF(OR(AA579<1,ISERROR(Z579)),\"\",INDEX(C:C,MATCH(Z579,F:F)))","v":""},{"$f":"IF(AA579=0,\"New Sheet\",IF(EXACT(UPPER(Y579),UPPER(AB579)),\"Match\",\"\"))","v":""},null,null,null,null,{"$f":"IF(C579=\"\",\"\",LEFT(RIGHT(C579,LEN(C579)-SEARCH(\" \",C579,1)),LEN(RIGHT(C579,LEN(C579)-SEARCH(\" \",C579,1)))-4))","v":{"$error":"#VALUE!"}},{"$f":"TRIM(SUBSTITUTE(SUBSTITUTE(SUBSTITUTE(SUBSTITUTE(SUBSTITUTE(SUBSTITUTE(AH579,\"(\",\"\"),\")\",\"\"),\"-\",\"\"),\"&\",\"\"),\" \",\"\",1),\" \",\"\",1))","v":{"$error":"#VALUE!"}},{"$f":"COUNTIF('Standards LOOKUP'!B:B,AI579)","v":0},{"$f":"IFERROR(INDEX('Standards LOOKUP'!C:C,MATCH(AI579,'Standards LOOKUP'!B:B,0),0),0)","v":0},{"$f":"IFERROR(INDEX('Current Standards'!P:P,MATCH('Sheet Counter'!AI579,'Current Standards'!O:O,0),0),\"\")","v":""}]
[null,null,0,"","",{"$error":"#VALUE!"},"",{"$f":"IF(I580=\"\",\"\",LARGE(H$1:H579,1)+1)","v":{"$error":"#VALUE!"}},{"$error":"#VALUE!"},579,{"$error":"#N/A"},"",null,null,579,0,{"$f":"IF(R580=\"\",\"\",LARGE(Q$1:Q579,1)+1)","v":{"$error":"#NUM!"}},{"$f":"IF(AND(P580<>1,O580<=LARGE(G:G,1),O580>=SMALL(G:G,1)),O580,\"\")","v":{"$error":"#NUM!"}},579,{"$error":"#N/A"},"","",null,null,0,{"$error":"#VALUE!"},3999,"","",null,null,null,null,{"$error":"#VALUE!"},{"$error":"#VALUE!"},{"$f":"COUNTIF('Standards LOOKUP'!B:B,AI580)","v":0},{"$f":"IFERROR(INDEX('Standards LOOKUP'!C:C,MATCH(AI580,'Standards LOOKUP'!B:B,0),0),0)","v":0},{"$f":"IFERROR(INDEX('Current Standards'!P:P,MATCH('Sheet Counter'!AI580,'Current Standards'!O:O,0),0),\"\")","v":""}]
[null,null,0,"","",{"$error":"#VALUE!"},"",{"$f":"IF(I581=\"\",\"\",LARGE(H$1:H580,1)+1)","v":{"$error":"#VALUE!"}},{"$error":"#VALUE!"},580,{"$error":"#N/A"},"",null,null,580,0,{"$f":"IF(R581=\"\",\"\",LARGE(Q$1:Q580,1)+1)","v":{"$error":"#NUM!"}},{"$error":"#NUM!"},580,{"$error":"#N/A"},"","",null,null,0,{"$error":"#VALUE!"},3999,"","",null,null,null,null,{"$error":"#VALUE!"},{"$error":"#VALUE!"},{"$f":"COUNTIF('Standards LOOKUP'!B:B,AI581)","v":0},{"$f":"IFERROR(INDEX('Standards LOOKUP'!C:C,MATCH(AI581,'Standards LOOKUP'!B:B,0),0),0)","v":0},{"$f":"IFERROR(INDEX('Current Standards'!P:P,MATCH('Sheet Counter'!AI581,'Current Standards'!O:O,0),0),\"\")","v":""}]
[null,null,0,"","",{"$error":"#VALUE!"},"",{"$f":"IF(I582=\"\",\"\",LARGE(H$1:H581,1)+1)","v":{"$error":"#VALUE!"}},{"$error":"#VALUE!"},581,{"$error":"#N/A"},"",null,null,581,0,{"$f":"IF(R582=\"\",\"\",LARGE(Q$1:Q581,1)+1)","v":{"$error":"#NUM!"}},{"$error":"#NUM!"},581,{"$error":"#N/A"},"","",null,null,0,{"$error":"#VALUE!"},3999,"","",null,null,null,null,{"$error":"#VALUE!"},{"$error":"#VALUE!"},{"$f":"COUNTIF('Standards LOOKUP'!B:B,AI582)","v":0},{"$f":"IFERROR(INDEX('Standards LOOKUP'!C:C,MATCH(AI582,'Standards LOOKUP'!B:B,0),0),0)","v":0},{"$f":"IFERROR(INDEX('Current Standards'!P:P,MATCH('Sheet Counter'!AI582,'Current Standards'!O:O,0),0),\"\")","v":""}]
[null,null,0,"","",{"$error":"#VALUE!"},"",{"$f":"IF(I583=\"\",\"\",LARGE(H$1:H582,1)+1)","v":{"$error":"#VALUE!"}},{"$error":"#VALUE!"},582,{"$error":"#N/A"},"",null,null,582,0,{"$f":"IF(R583=\"\",\"\",LARGE(Q$1:Q582,1)+1)","v":{"$error":"#NUM!"}},{"$error":"#NUM!"},582,{"$error":"#N/A"},"","",null,null,0,{"$error":"#VALUE!"},3999,"","",null,null,null,null,{"$error":"#VALUE!"},{"$error":"#VALUE!"},{"$f":"COUNTIF('Standards LOOKUP'!B:B,AI583)","v":0},{"$f":"IFERROR(INDEX('Standards LOOKUP'!C:C,MATCH(AI583,'Standards LOOKUP'!B:B,0),0),0)","v":0},{"$f":"IFERROR(INDEX('Current Standards'!P:P,MATCH('Sheet Counter'!AI583,'Current Standards'!O:O,0),0),\"\")","v":""}]
[null,null,0,"","",{"$error":"#VALUE!"},"",{"$f":"IF(I584=\"\",\"\",LARGE(H$1:H583,1)+1)","v":{"$error":"#VALUE!"}},{"$error":"#VALUE!"},583,{"$error":"#N/A"},"",null,null,583,0,{"$f":"IF(R584=\"\",\"\",LARGE(Q$1:Q583,1)+1)","v":{"$error":"#NUM!"}},{"$error":"#NUM!"},583,{"$error":"#N/A"},"","",null,null,0,{"$error":"#VALUE!"},3999,"","",null,null,null,null,{"$error":"#VALUE!"},{"$error":"#VALUE!"},{"$f":"COUNTIF('Standards LOOKUP'!B:B,AI584)","v":0},{"$f":"IFERROR(INDEX('Standards LOOKUP'!C:C,MATCH(AI584,'Standards LOOKUP'!B:B,0),0),0)","v":0},{"$f":"IFERROR(INDEX('Current Standards'!P:P,MATCH('Sheet Counter'!AI584,'Current Standards'!O:O,0),0),\"\")","v":""}]
[null,null,0,"","",{"$error":"#VALUE!"},"",{"$f":"IF(I585=\"\",\"\",LARGE(H$1:H584,1)+1)","v":{"$error":"#VALUE!"}},{"$error":"#VALUE!"},584,{"$error":"#N/A"},"",null,null,584,0,{"$f":"IF(R585=\"\",\"\",LARGE(Q$1:Q584,1)+1)","v":{"$error":"#NUM!"}},{"$error":"#NUM!"},584,{"$error":"#N/A"},"","",null,null,0,{"$error":"#VALUE!"},3999,"","",null,null,null,null,{"$error":"#VALUE!"},{"$error":"#VALUE!"},{"$f":"COUNTIF('Standards LOOKUP'!B:B,AI585)","v":0},{"$f":"IFERROR(INDEX('Standards LOOKUP'!C:C,MATCH(AI585,'Standards LOOKUP'!B:B,0),0),0)","v":0},{"$f":"IFERROR(INDEX('Current Standards'!P:P,MATCH('Sheet Counter'!AI585,'Current Standards'!O:O,0),0),\"\")","v":""}]
[null,null,0,"","",{"$error":"#VALUE!"},"",{"$f":"IF(I586=\"\",\"\",LARGE(H$1:H585,1)+1)","v":{"$error":"#VALUE!"}},{"$error":"#VALUE!"},585,{"$error":"#N/A"},"",null,null,585,0,{"$f":"IF(R586=\"\",\"\",LARGE(Q$1:Q585,1)+1)","v":{"$error":"#NUM!"}},{"$error":"#NUM!"},585,{"$error":"#N/A"},"","",null,null,0,{"$error":"#VALUE!"},3999,"","",null,null,null,null,{"$error":"#VALUE!"},{"$error":"#VALUE!"},{"$f":"COUNTIF('Standards LOOKUP'!B:B,AI586)","v":0},{"$f":"IFERROR(INDEX('Standards LOOKUP'!C:C,MATCH(AI586,'Standards LOOKUP'!B:B,0),0),0)","v":0},{"$f":"IFERROR(INDEX('Current Standards'!P:P,MATCH('Sheet Counter'!AI586,'Current Standards'!O:O,0),0),\"\")","v":""}]
[null,null,0,"","",{"$error":"#VALUE!"},"",{"$f":"IF(I587=\"\",\"\",LARGE(H$1:H586,1)+1)","v":{"$error":"#VALUE!"}},{"$error":"#VALUE!"},586,{"$error":"#N/A"},"",null,null,586,0,{"$f":"IF(R587=\"\",\"\",LARGE(Q$1:Q586,1)+1)","v":{"$error":"#NUM!"}},{"$error":"#NUM!"},586,{"$error":"#N/A"},"","",null,null,0,{"$error":"#VALUE!"},3999,"","",null,null,null,null,{"$error":"#VALUE!"},{"$error":"#VALUE!"},{"$f":"COUNTIF('Standards LOOKUP'!B:B,AI587)","v":0},{"$f":"IFERROR(INDEX('Standards LOOKUP'!C:C,MATCH(AI587,'Standards LOOKUP'!B:B,0),0),0)","v":0},{"$f":"IFERROR(INDEX('Current Standards'!P:P,MATCH('Sheet Counter'!AI587,'Current Standards'!O:O,0),0),\"\")","v":""}]
[null,null,0,"","",{"$error":"#VALUE!"},"",{"$f":"IF(I588=\"\",\"\",LARGE(H$1:H587,1)+1)","v":{"$error":"#VALUE!"}},{"$error":"#VALUE!"},587,{"$error":"#N/A"},"",null,null,587,0,{"$f":"IF(R588=\"\",\"\",LARGE(Q$1:Q587,1)+1)","v":{"$error":"#NUM!"}},{"$error":"#NUM!"},587,{"$error":"#N/A"},"","",null,null,0,{"$error":"#VALUE!"},3999,"","",null,null,null,null,{"$error":"#VALUE!"},{"$error":"#VALUE!"},{"$f":"COUNTIF('Standards LOOKUP'!B:B,AI588)","v":0},{"$f":"IFERROR(INDEX('Standards LOOKUP'!C:C,MATCH(AI588,'Standards LOOKUP'!B:B,0),0),0)","v":0},{"$f":"IFERROR(INDEX('Current Standards'!P:P,MATCH('Sheet Counter'!AI588,'Current Standards'!O:O,0),0),\"\")","v":""}]
[null,null,0,"","",{"$error":"#VALUE!"},"",{"$f":"IF(I589=\"\",\"\",LARGE(H$1:H588,1)+1)","v":{"$error":"#VALUE!"}},{"$error":"#VALUE!"},588,{"$error":"#N/A"},"",null,null,588,0,{"$f":"IF(R589=\"\",\"\",LARGE(Q$1:Q588,1)+1)","v":{"$error":"#NUM!"}},{"$error":"#NUM!"},588,{"$error":"#N/A"},"","",null,null,0,{"$error":"#VALUE!"},3999,"","",null,null,null,null,{"$error":"#VALUE!"},{"$error":"#VALUE!"},{"$f":"COUNTIF('Standards LOOKUP'!B:B,AI589)","v":0},{"$f":"IFERROR(INDEX('Standards LOOKUP'!C:C,MATCH(AI589,'Standards LOOKUP'!B:B,0),0),0)","v":0},{"$f":"IFERROR(INDEX('Current Standards'!P:P,MATCH('Sheet Counter'!AI589,'Current Standards'!O:O,0),0),\"\")","v":""}]
[null,null,0,"","",{"$error":"#VALUE!"},"",{"$f":"IF(I590=\"\",\"\",LARGE(H$1:H589,1)+1)","v":{"$error":"#VALUE!"}},{"$error":"#VALUE!"},589,{"$error":"#N/A"},"",null,null,589,0,{"$f":"IF(R590=\"\",\"\",LARGE(Q$1:Q589,1)+1)","v":{"$error":"#NUM!"}},{"$error":"#NUM!"},589,{"$error":"#N/A"},"","",null,null,0,{"$error":"#VALUE!"},3999,"","",null,null,null,null,{"$error":"#VALUE!"},{"$error":"#VALUE!"},{"$f":"COUNTIF('Standards LOOKUP'!B:B,AI590)","v":0},{"$f":"IFERROR(INDEX('Standards LOOKUP'!C:C,MATCH(AI590,'Standards LOOKUP'!B:B,0),0),0)","v":0},{"$f":"IFERROR(INDEX('Current Standards'!P:P,MATCH('Sheet Counter'!AI590,'Current Standards'!O:O,0),0),\"\")","v":""}]
[null,null,0,"","",{"$error":"#VALUE!"},"",{"$f":"IF(I591=\"\",\"\",LARGE(H$1:H590,1)+1)","v":{"$error":"#VALUE!"}},{"$error":"#VALUE!"},590,{"$error":"#N/A"},"",null,null,590,0,{"$f":"IF(R591=\"\",\"\",LARGE(Q$1:Q590,1)+1)","v":{"$error":"#NUM!"}},{"$error":"#NUM!"},590,{"$error":"#N/A"},"","",null,null,0,{"$error":"#VALUE!"},3999,"","",null,null,null,null,{"$error":"#VALUE!"},{"$error":"#VALUE!"},{"$f":"COUNTIF('Standards LOOKUP'!B:B,AI591)","v":0},{"$f":"IFERROR(INDEX('Standards LOOKUP'!C:C,MATCH(AI591,'Standards LOOKUP'!B:B,0),0),0)","v":0},{"$f":"IFERROR(INDEX('Current Standards'!P:P,MATCH('Sheet Counter'!AI591,'Current Standards'!O:O,0),0),\"\")","v":""}]
[null,null,0,"","",{"$error":"#VALUE!"},"",{"$f":"IF(I592=\"\",\"\",LARGE(H$1:H591,1)+1)","v":{"$error":"#VALUE!"}},{"$error":"#VALUE!"},591,{"$error":"#N/A"},"",null,null,591,0,{"$f":"IF(R592=\"\",\"\",LARGE(Q$1:Q591,1)+1)","v":{"$error":"#NUM!"}},{"$error":"#NUM!"},591,{"$error":"#N/A"},"","",null,null,0,{"$error":"#VALUE!"},3999,"","",null,null,null,null,{"$error":"#VALUE!"},{"$error":"#VALUE!"},{"$f":"COUNTIF('Standards LOOKUP'!B:B,AI592)","v":0},{"$f":"IFERROR(INDEX('Standards LOOKUP'!C:C,MATCH(AI592,'Standards LOOKUP'!B:B,0),0),0)","v":0},{"$f":"IFERROR(INDEX('Current Standards'!P:P,MATCH('Sheet Counter'!AI592,'Current Standards'!O:O,0),0),\"\")","v":""}]
[null,null,0,"","",{"$error":"#VALUE!"},"",{"$f":"IF(I593=\"\",\"\",LARGE(H$1:H592,1)+1)","v":{"$error":"#VALUE!"}},{"$error":"#VALUE!"},592,{"$error":"#N/A"},"",null,null,592,0,{"$f":"IF(R593=\"\",\"\",LARGE(Q$1:Q592,1)+1)","v":{"$error":"#NUM!"}},{"$error":"#NUM!"},592,{"$error":"#N/A"},"","",null,null,0,{"$error":"#VALUE!"},3999,"","",null,null,null,null,{"$error":"#VALUE!"},{"$error":"#VALUE!"},{"$f":"COUNTIF('Standards LOOKUP'!B:B,AI593)","v":0},{"$f":"IFERROR(INDEX('Standards LOOKUP'!C:C,MATCH(AI593,'Standards LOOKUP'!B:B,0),0),0)","v":0},{"$f":"IFERROR(INDEX('Current Standards'!P:P,MATCH('Sheet Counter'!AI593,'Current Standards'!O:O,0),0),\"\")","v":""}]
[null,null,0,"","",{"$error":"#VALUE!"},"",{"$f":"IF(I594=\"\",\"\",LARGE(H$1:H593,1)+1)","v":{"$error":"#VALUE!"}},{"$error":"#VALUE!"},593,{"$error":"#N/A"},"",null,null,593,0,{"$f":"IF(R594=\"\",\"\",LARGE(Q$1:Q593,1)+1)","v":{"$error":"#NUM!"}},{"$error":"#NUM!"},593,{"$error":"#N/A"},"","",null,null,0,{"$error":"#VALUE!"},3999,"","",null,null,null,null,{"$error":"#VALUE!"},{"$error":"#VALUE!"},{"$f":"COUNTIF('Standards LOOKUP'!B:B,AI594)","v":0},{"$f":"IFERROR(INDEX('Standards LOOKUP'!C:C,MATCH(AI594,'Standards LOOKUP'!B:B,0),0),0)","v":0},{"$f":"IFERROR(INDEX('Current Standards'!P:P,MATCH('Sheet Counter'!AI594,'Current Standards'!O:O,0),0),\"\")","v":""}]
[null,null,0,"","",{"$error":"#VALUE!"},"",{"$f":"IF(I595=\"\",\"\",LARGE(H$1:H594,1)+1)","v":{"$error":"#VALUE!"}},{"$error":"#VALUE!"},594,{"$error":"#N/A"},"",null,null,594,0,{"$f":"IF(R595=\"\",\"\",LARGE(Q$1:Q594,1)+1)","v":{"$error":"#NUM!"}},{"$error":"#NUM!"},594,{"$error":"#N/A"},"","",null,null,0,{"$error":"#VALUE!"},3999,"","",null,null,null,null,{"$error":"#VALUE!"},{"$error":"#VALUE!"},{"$f":"COUNTIF('Standards LOOKUP'!B:B,AI595)","v":0},{"$f":"IFERROR(INDEX('Standards LOOKUP'!C:C,MATCH(AI595,'Standards LOOKUP'!B:B,0),0),0)","v":0},{"$f":"IFERROR(INDEX('Current Standards'!P:P,MATCH('Sheet Counter'!AI595,'Current Standards'!O:O,0),0),\"\")","v":""}]
[null,null,0,"","",{"$error":"#VALUE!"},"",{"$f":"IF(I596=\"\",\"\",LARGE(H$1:H595,1)+1)","v":{"$error":"#VALUE!"}},{"$error":"#VALUE!"},595,{"$error":"#N/A"},"",null,null,595,0,{"$f":"IF(R596=\"\",\"\",LARGE(Q$1:Q595,1)+1)","v":{"$error":"#NUM!"}},{"$error":"#NUM!"},595,{"$error":"#N/A"},"","",null,null,0,{"$error":"#VALUE!"},3999,"","",null,null,null,null,{"$error":"#VALUE!"},{"$error":"#VALUE!"},{"$f":"COUNTIF('Standards LOOKUP'!B:B,AI596)","v":0},{"$f":"IFERROR(INDEX('Standards LOOKUP'!C:C,MATCH(AI596,'Standards LOOKUP'!B:B,0),0),0)","v":0},{"$f":"IFERROR(INDEX('Current Standards'!P:P,MATCH('Sheet Counter'!AI596,'Current Standards'!O:O,0),0),\"\")","v":""}]
[null,null,0,"","",{"$error":"#VALUE!"},"",{"$f":"IF(I597=\"\",\"\",LARGE(H$1:H596,1)+1)","v":{"$error":"#VALUE!"}},{"$error":"#VALUE!"},596,{"$error":"#N/A"},"",null,null,596,0,{"$f":"IF(R597=\"\",\"\",LARGE(Q$1:Q596,1)+1)","v":{"$error":"#NUM!"}},{"$error":"#NUM!"},596,{"$error":"#N/A"},"","",null,null,0,{"$error":"#VALUE!"},3999,"","",null,null,null,null,{"$error":"#VALUE!"},{"$error":"#VALUE!"},{"$f":"COUNTIF('Standards LOOKUP'!B:B,AI597)","v":0},{"$f":"IFERROR(INDEX('Standards LOOKUP'!C:C,MATCH(AI597,'Standards LOOKUP'!B:B,0),0),0)","v":0},{"$f":"IFERROR(INDEX('Current Standards'!P:P,MATCH('Sheet Counter'!AI597,'Current Standards'!O:O,0),0),\"\")","v":""}]
[null,null,0,"","",{"$error":"#VALUE!"},"",{"$f":"IF(I598=\"\",\"\",LARGE(H$1:H597,1)+1)","v":{"$error":"#VALUE!"}},{"$error":"#VALUE!"},597,{"$error":"#N/A"},"",null,null,597,0,{"$f":"IF(R598=\"\",\"\",LARGE(Q$1:Q597,1)+1)","v":{"$error":"#NUM!"}},{"$error":"#NUM!"},597,{"$error":"#N/A"},"","",null,null,0,{"$error":"#VALUE!"},3999,"","",null,null,null,null,{"$error":"#VALUE!"},{"$error":"#VALUE!"},{"$f":"COUNTIF('Standards LOOKUP'!B:B,AI598)","v":0},{"$f":"IFERROR(INDEX('Standards LOOKUP'!C:C,MATCH(AI598,'Standards LOOKUP'!B:B,0),0),0)","v":0},{"$f":"IFERROR(INDEX('Current Standards'!P:P,MATCH('Sheet Counter'!AI598,'Current Standards'!O:O,0),0),\"\")","v":""}]
[null,null,0,"","",{"$error":"#VALUE!"},"",{"$f":"IF(I599=\"\",\"\",LARGE(H$1:H598,1)+1)","v":{"$error":"#VALUE!"}},{"$error":"#VALUE!"},598,{"$error":"#N/A"},"",null,null,598,0,{"$f":"IF(R599=\"\",\"\",LARGE(Q$1:Q598,1)+1)","v":{"$error":"#NUM!"}},{"$error":"#NUM!"},598,{"$error":"#N/A"},"","",null,null,0,{"$error":"#VALUE!"},3999,"","",null,null,null,null,{"$error":"#VALUE!"},{"$error":"#VALUE!"},{"$f":"COUNTIF('Standards LOOKUP'!B:B,AI599)","v":0},{"$f":"IFERROR(INDEX('Standards LOOKUP'!C:C,MATCH(AI599,'Standards LOOKUP'!B:B,0),0),0)","v":0},{"$f":"IFERROR(INDEX('Current Standards'!P:P,MATCH('Sheet Counter'!AI599,'Current Standards'!O:O,0),0),\"\")","v":""}]
[null,null,0,"","",{"$error":"#VALUE!"},"",{"$f":"IF(I600=\"\",\"\",LARGE(H$1:H599,1)+1)","v":{"$error":"#VALUE!"}},{"$error":"#VALUE!"},599,{"$error":"#N/A"},"",null,null,599,0,{"$f":"IF(R600=\"\",\"\",LARGE(Q$1:Q599,1)+1)","v":{"$error":"#NUM!"}},{"$error":"#NUM!"},599,{"$error":"#N/A"},"","",null,null,0,{"$error":"#VALUE!"},3999,"","",null,null,null,null,{"$error":"#VALUE!"},{"$error":"#VALUE!"},{"$f":"COUNTIF('Standards LOOKUP'!B:B,AI600)","v":0},{"$f":"IFERROR(INDEX('Standards LOOKUP'!C:C,MATCH(AI600,'Standards LOOKUP'!B:B,0),0),0)","v":0},{"$f":"IFERROR(INDEX('Current Standards'!P:P,MATCH('Sheet Counter'!AI600,'Current Standards'!O:O,0),0),\"\")","v":""}]
[null,null,0,"","",{"$error":"#VALUE!"},"",{"$f":"IF(I601=\"\",\"\",LARGE(H$1:H600,1)+1)","v":{"$error":"#VALUE!"}},{"$error":"#VALUE!"},600,{"$error":"#N/A"},"",null,null,600,0,{"$f":"IF(R601=\"\",\"\",LARGE(Q$1:Q600,1)+1)","v":{"$error":"#NUM!"}},{"$error":"#NUM!"},600,{"$error":"#N/A"},"","",null,null,0,{"$error":"#VALUE!"},3999,"","",null,null,null,null,{"$error":"#VALUE!"},{"$error":"#VALUE!"},{"$f":"COUNTIF('Standards LOOKUP'!B:B,AI601)","v":0},{"$f":"IFERROR(INDEX('Standards LOOKUP'!C:C,MATCH(AI601,'Standards LOOKUP'!B:B,0),0),0)","v":0},{"$f":"IFERROR(INDEX('Current Standards'!P:P,MATCH('Sheet Counter'!AI601,'Current Standards'!O:O,0),0),\"\")","v":""}]
[null,null,0,"","",{"$error":"#VALUE!"},"",{"$f":"IF(I602=\"\",\"\",LARGE(H$1:H601,1)+1)","v":{"$error":"#VALUE!"}},{"$error":"#VALUE!"},601,{"$error":"#N/A"},"",null,null,601,0,{"$f":"IF(R602=\"\",\"\",LARGE(Q$1:Q601,1)+1)","v":{"$error":"#NUM!"}},{"$error":"#NUM!"},601,{"$error":"#N/A"},"","",null,null,0,{"$error":"#VALUE!"},3999,"","",null,null,null,null,{"$error":"#VALUE!"},{"$error":"#VALUE!"},{"$f":"COUNTIF('Standards LOOKUP'!B:B,AI602)","v":0},{"$f":"IFERROR(INDEX('Standards LOOKUP'!C:C,MATCH(AI602,'Standards LOOKUP'!B:B,0),0),0)","v":0},{"$f":"IFERROR(INDEX('Current Standards'!P:P,MATCH('Sheet Counter'!AI602,'Current Standards'!O:O,0),0),\"\")","v":""}]
[null,null,0,"","",{"$error":"#VALUE!"},"",{"$f":"IF(I603=\"\",\"\",LARGE(H$1:H602,1)+1)","v":{"$error":"#VALUE!"}},{"$error":"#VALUE!"},602,{"$error":"#N/A"},"",null,null,602,0,{"$f":"IF(R603=\"\",\"\",LARGE(Q$1:Q602,1)+1)","v":{"$error":"#NUM!"}},{"$error":"#NUM!"},602,{"$error":"#N/A"},"","",null,null,0,{"$error":"#VALUE!"},3999,"","",null,null,null,null,{"$error":"#VALUE!"},{"$error":"#VALUE!"},{"$f":"COUNTIF('Standards LOOKUP'!B:B,AI603)","v":0},{"$f":"IFERROR(INDEX('Standards LOOKUP'!C:C,MATCH(AI603,'Standards LOOKUP'!B:B,0),0),0)","v":0},{"$f":"IFERROR(INDEX('Current Standards'!P:P,MATCH('Sheet Counter'!AI603,'Current Standards'!O:O,0),0),\"\")","v":""}]
[null,null,0,"","",{"$error":"#VALUE!"},"",{"$f":"IF(I604=\"\",\"\",LARGE(H$1:H603,1)+1)","v":{"$error":"#VALUE!"}},{"$error":"#VALUE!"},603,{"$error":"#N/A"},"",null,null,603,0,{"$f":"IF(R604=\"\",\"\",LARGE(Q$1:Q603,1)+1)","v":{"$error":"#NUM!"}},{"$error":"#NUM!"},603,{"$error":"#N/A"},"","",null,null,0,{"$error":"#VALUE!"},3999,"","",null,null,null,null,{"$error":"#VALUE!"},{"$error":"#VALUE!"},{"$f":"COUNTIF('Standards LOOKUP'!B:B,AI604)","v":0},{"$f":"IFERROR(INDEX('Standards LOOKUP'!C:C,MATCH(AI604,'Standards LOOKUP'!B:B,0),0),0)","v":0},{"$f":"IFERROR(INDEX('Current Standards'!P:P,MATCH('Sheet Counter'!AI604,'Current Standards'!O:O,0),0),\"\")","v":""}]
[null,null,0,"","",{"$error":"#VALUE!"},"",{"$f":"IF(I605=\"\",\"\",LARGE(H$1:H604,1)+1)","v":{"$error":"#VALUE!"}},{"$error":"#VALUE!"},604,{"$error":"#N/A"},"",null,null,604,0,{"$f":"IF(R605=\"\",\"\",LARGE(Q$1:Q604,1)+1)","v":{"$error":"#NUM!"}},{"$error":"#NUM!"},604,{"$error":"#N/A"},"","",null,null,0,{"$error":"#VALUE!"},3999,"","",null,null,null,null,{"$error":"#VALUE!"},{"$error":"#VALUE!"},{"$f":"COUNTIF('Standards LOOKUP'!B:B,AI605)","v":0},{"$f":"IFERROR(INDEX('Standards LOOKUP'!C:C,MATCH(AI605,'Standards LOOKUP'!B:B,0),0),0)","v":0},{"$f":"IFERROR(INDEX('Current Standards'!P:P,MATCH('Sheet Counter'!AI605,'Current Standards'!O:O,0),0),\"\")","v":""}]
[null,null,0,"","",{"$error":"#VALUE!"},"",{"$f":"IF(I606=\"\",\"\",LARGE(H$1:H605,1)+1)","v":{"$error":"#VALUE!"}},{"$error":"#VALUE!"},605,{"$error":"#N/A"},"",null,null,605,0,{"$f":"IF(R606=\"\",\"\",LARGE(Q$1:Q605,1)+1)","v":{"$error":"#NUM!"}},{"$error":"#NUM!"},605,{"$error":"#N/A"},"","",null,null,0,{"$error":"#VALUE!"},3999,"","",null,null,null,null,{"$error":"#VALUE!"},{"$error":"#VALUE!"},{"$f":"COUNTIF('Standards LOOKUP'!B:B,AI606)","v":0},{"$f":"IFERROR(INDEX('Standards LOOKUP'!C:C,MATCH(AI606,'Standards LOOKUP'!B:B,0),0),0)","v":0},{"$f":"IFERROR(INDEX('Current Standards'!P:P,MATCH('Sheet Counter'!AI606,'Current Standards'!O:O,0),0),\"\")","v":""}]
[null,null,0,"","",{"$error":"#VALUE!"},"",{"$f":"IF(I607=\"\",\"\",LARGE(H$1:H606,1)+1)","v":{"$error":"#VALUE!"}},{"$error":"#VALUE!"},606,{"$error":"#N/A"},"",null,null,606,0,{"$f":"IF(R607=\"\",\"\",LARGE(Q$1:Q606,1)+1)","v":{"$error":"#NUM!"}},{"$error":"#NUM!"},606,{"$error":"#N/A"},"","",null,null,0,{"$error":"#VALUE!"},3999,"","",null,null,null,null,{"$error":"#VALUE!"},{"$error":"#VALUE!"},{"$f":"COUNTIF('Standards LOOKUP'!B:B,AI607)","v":0},{"$f":"IFERROR(INDEX('Standards LOOKUP'!C:C,MATCH(AI607,'Standards LOOKUP'!B:B,0),0),0)","v":0},{"$f":"IFERROR(INDEX('Current Standards'!P:P,MATCH('Sheet Counter'!AI607,'Current Standards'!O:O,0),0),\"\")","v":""}]
[null,null,0,"","",{"$error":"#VALUE!"},"",{"$f":"IF(I608=\"\",\"\",LARGE(H$1:H607,1)+1)","v":{"$error":"#VALUE!"}},{"$error":"#VALUE!"},607,{"$error":"#N/A"},"",null,null,607,0,{"$f":"IF(R608=\"\",\"\",LARGE(Q$1:Q607,1)+1)","v":{"$error":"#NUM!"}},{"$error":"#NUM!"},607,{"$error":"#N/A"},"","",null,null,0,{"$error":"#VALUE!"},3999,"","",null,null,null,null,{"$error":"#VALUE!"},{"$error":"#VALUE!"},{"$f":"COUNTIF('Standards LOOKUP'!B:B,AI608)","v":0},{"$f":"IFERROR(INDEX('Standards LOOKUP'!C:C,MATCH(AI608,'Standards LOOKUP'!B:B,0),0),0)","v":0},{"$f":"IFERROR(INDEX('Current Standards'!P:P,MATCH('Sheet Counter'!AI608,'Current Standards'!O:O,0),0),\"\")","v":""}]
[null,null,0,"","",{"$error":"#VALUE!"},"",{"$f":"IF(I609=\"\",\"\",LARGE(H$1:H608,1)+1)","v":{"$error":"#VALUE!"}},{"$error":"#VALUE!"},608,{"$error":"#N/A"},"",null,null,608,0,{"$f":"IF(R609=\"\",\"\",LARGE(Q$1:Q608,1)+1)","v":{"$error":"#NUM!"}},{"$error":"#NUM!"},608,{"$error":"#N/A"},"","",null,null,0,{"$error":"#VALUE!"},3999,"","",null,null,null,null,{"$error":"#VALUE!"},{"$error":"#VALUE!"},{"$f":"COUNTIF('Standards LOOKUP'!B:B,AI609)","v":0},{"$f":"IFERROR(INDEX('Standards LOOKUP'!C:C,MATCH(AI609,'Standards LOOKUP'!B:B,0),0),0)","v":0},{"$f":"IFERROR(INDEX('Current Standards'!P:P,MATCH('Sheet Counter'!AI609,'Current Standards'!O:O,0),0),\"\")","v":""}]
[null,null,0,"","",{"$error":"#VALUE!"},"",{"$f":"IF(I610=\"\",\"\",LARGE(H$1:H609,1)+1)","v":{"$error":"#VALUE!"}},{"$error":"#VALUE!"},609,{"$error":"#N/A"},"",null,null,609,0,{"$f":"IF(R610=\"\",\"\",LARGE(Q$1:Q609,1)+1)","v":{"$error":"#NUM!"}},{"$error":"#NUM!"},609,{"$error":"#N/A"},"","",null,null,0,{"$error":"#VALUE!"},3999,"","",null,null,null,null,{"$error":"#VALUE!"},{"$error":"#VALUE!"},{"$f":"COUNTIF('Standards LOOKUP'!B:B,AI610)","v":0},{"$f":"IFERROR(INDEX('Standards LOOKUP'!C:C,MATCH(AI610,'Standards LOOKUP'!B:B,0),0),0)","v":0},{"$f":"IFERROR(INDEX('Current Standards'!P:P,MATCH('Sheet Counter'!AI610,'Current Standards'!O:O,0),0),\"\")","v":""}]
[null,null,0,"","",{"$error":"#VALUE!"},"",{"$f":"IF(I611=\"\",\"\",LARGE(H$1:H610,1)+1)","v":{"$error":"#VALUE!"}},{"$error":"#VALUE!"},610,{"$error":"#N/A"},"",null,null,610,0,{"$f":"IF(R611=\"\",\"\",LARGE(Q$1:Q610,1)+1)","v":{"$error":"#NUM!"}},{"$error":"#NUM!"},610,{"$error":"#N/A"},"","",null,null,0,{"$error":"#VALUE!"},3999,"","",null,null,null,null,{"$error":"#VALUE!"},{"$error":"#VALUE!"},{"$f":"COUNTIF('Standards LOOKUP'!B:B,AI611)","v":0},{"$f":"IFERROR(INDEX('Standards LOOKUP'!C:C,MATCH(AI611,'Standards LOOKUP'!B:B,0),0),0)","v":0},{"$f":"IFERROR(INDEX('Current Standards'!P:P,MATCH('Sheet Counter'!AI611,'Current Standards'!O:O,0),0),\"\")","v":""}]
[null,null,0,"","",{"$error":"#VALUE!"},"",{"$f":"IF(I612=\"\",\"\",LARGE(H$1:H611,1)+1)","v":{"$error":"#VALUE!"}},{"$error":"#VALUE!"},611,{"$error":"#N/A"},"",null,null,611,0,{"$f":"IF(R612=\"\",\"\",LARGE(Q$1:Q611,1)+1)","v":{"$error":"#NUM!"}},{"$error":"#NUM!"},611,{"$error":"#N/A"},"","",null,null,0,{"$error":"#VALUE!"},3999,"","",null,null,null,null,{"$error":"#VALUE!"},{"$error":"#VALUE!"},{"$f":"COUNTIF('Standards LOOKUP'!B:B,AI612)","v":0},{"$f":"IFERROR(INDEX('Standards LOOKUP'!C:C,MATCH(AI612,'Standards LOOKUP'!B:B,0),0),0)","v":0},{"$f":"IFERROR(INDEX('Current Standards'!P:P,MATCH('Sheet Counter'!AI612,'Current Standards'!O:O,0),0),\"\")","v":""}]
[null,null,0,"","",{"$error":"#VALUE!"},"",{"$f":"IF(I613=\"\",\"\",LARGE(H$1:H612,1)+1)","v":{"$error":"#VALUE!"}},{"$error":"#VALUE!"},612,{"$error":"#N/A"},"",null,null,612,0,{"$f":"IF(R613=\"\",\"\",LARGE(Q$1:Q612,1)+1)","v":{"$error":"#NUM!"}},{"$error":"#NUM!"},612,{"$error":"#N/A"},"","",null,null,0,{"$error":"#VALUE!"},3999,"","",null,null,null,null,{"$error":"#VALUE!"},{"$error":"#VALUE!"},{"$f":"COUNTIF('Standards LOOKUP'!B:B,AI613)","v":0},{"$f":"IFERROR(INDEX('Standards LOOKUP'!C:C,MATCH(AI613,'Standards LOOKUP'!B:B,0),0),0)","v":0},{"$f":"IFERROR(INDEX('Current Standards'!P:P,MATCH('Sheet Counter'!AI613,'Current Standards'!O:O,0),0),\"\")","v":""}]
[null,null,0,"","",{"$error":"#VALUE!"},"",{"$f":"IF(I614=\"\",\"\",LARGE(H$1:H613,1)+1)","v":{"$error":"#VALUE!"}},{"$error":"#VALUE!"},613,{"$error":"#N/A"},"",null,null,613,0,{"$f":"IF(R614=\"\",\"\",LARGE(Q$1:Q613,1)+1)","v":{"$error":"#NUM!"}},{"$error":"#NUM!"},613,{"$error":"#N/A"},"","",null,null,0,{"$error":"#VALUE!"},3999,"","",null,null,null,null,{"$error":"#VALUE!"},{"$error":"#VALUE!"},{"$f":"COUNTIF('Standards LOOKUP'!B:B,AI614)","v":0},{"$f":"IFERROR(INDEX('Standards LOOKUP'!C:C,MATCH(AI614,'Standards LOOKUP'!B:B,0),0),0)","v":0},{"$f":"IFERROR(INDEX('Current Standards'!P:P,MATCH('Sheet Counter'!AI614,'Current Standards'!O:O,0),0),\"\")","v":""}]
[null,null,0,"","",{"$error":"#VALUE!"},"",{"$f":"IF(I615=\"\",\"\",LARGE(H$1:H614,1)+1)","v":{"$error":"#VALUE!"}},{"$error":"#VALUE!"},614,{"$error":"#N/A"},"",null,null,614,0,{"$f":"IF(R615=\"\",\"\",LARGE(Q$1:Q614,1)+1)","v":{"$error":"#NUM!"}},{"$error":"#NUM!"},614,{"$error":"#N/A"},"","",null,null,0,{"$error":"#VALUE!"},3999,"","",null,null,null,null,{"$error":"#VALUE!"},{"$error":"#VALUE!"},{"$f":"COUNTIF('Standards LOOKUP'!B:B,AI615)","v":0},{"$f":"IFERROR(INDEX('Standards LOOKUP'!C:C,MATCH(AI615,'Standards LOOKUP'!B:B,0),0),0)","v":0},{"$f":"IFERROR(INDEX('Current Standards'!P:P,MATCH('Sheet Counter'!AI615,'Current Standards'!O:O,0),0),\"\")","v":""}]
[null,null,0,"","",{"$error":"#VALUE!"},"",{"$f":"IF(I616=\"\",\"\",LARGE(H$1:H615,1)+1)","v":{"$error":"#VALUE!"}},{"$error":"#VALUE!"},615,{"$error":"#N/A"},"",null,null,615,0,{"$f":"IF(R616=\"\",\"\",LARGE(Q$1:Q615,1)+1)","v":{"$error":"#NUM!"}},{"$error":"#NUM!"},615,{"$error":"#N/A"},"","",null,null,0,{"$error":"#VALUE!"},3999,"","",null,null,null,null,{"$error":"#VALUE!"},{"$error":"#VALUE!"},{"$f":"COUNTIF('Standards LOOKUP'!B:B,AI616)","v":0},{"$f":"IFERROR(INDEX('Standards LOOKUP'!C:C,MATCH(AI616,'Standards LOOKUP'!B:B,0),0),0)","v":0},{"$f":"IFERROR(INDEX('Current Standards'!P:P,MATCH('Sheet Counter'!AI616,'Current Standards'!O:O,0),0),\"\")","v":""}]
[null,null,0,"","",{"$error":"#VALUE!"},"",{"$f":"IF(I617=\"\",\"\",LARGE(H$1:H616,1)+1)","v":{"$error":"#VALUE!"}},{"$error":"#VALUE!"},616,{"$error":"#N/A"},"",null,null,616,0,{"$f":"IF(R617=\"\",\"\",LARGE(Q$1:Q616,1)+1)","v":{"$error":"#NUM!"}},{"$error":"#NUM!"},616,{"$error":"#N/A"},"","",null,null,0,{"$error":"#VALUE!"},3999,"","",null,null,null,null,{"$error":"#VALUE!"},{"$error":"#VALUE!"},{"$f":"COUNTIF('Standards LOOKUP'!B:B,AI617)","v":0},{"$f":"IFERROR(INDEX('Standards LOOKUP'!C:C,MATCH(AI617,'Standards LOOKUP'!B:B,0),0),0)","v":0},{"$f":"IFERROR(INDEX('Current Standards'!P:P,MATCH('Sheet Counter'!AI617,'Current Standards'!O:O,0),0),\"\")","v":""}]
[null,null,0,"","",{"$error":"#VALUE!"},"",{"$f":"IF(I618=\"\",\"\",LARGE(H$1:H617,1)+1)","v":{"$error":"#VALUE!"}},{"$error":"#VALUE!"},617,{"$error":"#N/A"},"",null,null,617,0,{"$f":"IF(R618=\"\",\"\",LARGE(Q$1:Q617,1)+1)","v":{"$error":"#NUM!"}},{"$error":"#NUM!"},617,{"$error":"#N/A"},"","",null,null,0,{"$error":"#VALUE!"},3999,"","",null,null,null,null,{"$error":"#VALUE!"},{"$error":"#VALUE!"},{"$f":"COUNTIF('Standards LOOKUP'!B:B,AI618)","v":0},{"$f":"IFERROR(INDEX('Standards LOOKUP'!C:C,MATCH(AI618,'Standards LOOKUP'!B:B,0),0),0)","v":0},{"$f":"IFERROR(INDEX('Current Standards'!P:P,MATCH('Sheet Counter'!AI618,'Current Standards'!O:O,0),0),\"\")","v":""}]
[null,null,0,"","",{"$error":"#VALUE!"},"",{"$f":"IF(I619=\"\",\"\",LARGE(H$1:H618,1)+1)","v":{"$error":"#VALUE!"}},{"$error":"#VALUE!"},618,{"$error":"#N/A"},"",null,null,618,0,{"$f":"IF(R619=\"\",\"\",LARGE(Q$1:Q618,1)+1)","v":{"$error":"#NUM!"}},{"$error":"#NUM!"},618,{"$error":"#N/A"},"","",null,null,0,{"$error":"#VALUE!"},3999,"","",null,null,null,null,{"$error":"#VALUE!"},{"$error":"#VALUE!"},{"$f":"COUNTIF('Standards LOOKUP'!B:B,AI619)","v":0},{"$f":"IFERROR(INDEX('Standards LOOKUP'!C:C,MATCH(AI619,'Standards LOOKUP'!B:B,0),0),0)","v":0},{"$f":"IFERROR(INDEX('Current Standards'!P:P,MATCH('Sheet Counter'!AI619,'Current Standards'!O:O,0),0),\"\")","v":""}]
[null,null,0,"","",{"$error":"#VALUE!"},"",{"$f":"IF(I620=\"\",\"\",LARGE(H$1:H619,1)+1)","v":{"$error":"#VALUE!"}},{"$error":"#VALUE!"},619,{"$error":"#N/A"},"",null,null,619,0,{"$f":"IF(R620=\"\",\"\",LARGE(Q$1:Q619,1)+1)","v":{"$error":"#NUM!"}},{"$error":"#NUM!"},619,{"$error":"#N/A"},"","",null,null,0,{"$error":"#VALUE!"},3999,"","",null,null,null,null,{"$error":"#VALUE!"},{"$error":"#VALUE!"},{"$f":"COUNTIF('Standards LOOKUP'!B:B,AI620)","v":0},{"$f":"IFERROR(INDEX('Standards LOOKUP'!C:C,MATCH(AI620,'Standards LOOKUP'!B:B,0),0),0)","v":0},{"$f":"IFERROR(INDEX('Current Standards'!P:P,MATCH('Sheet Counter'!AI620,'Current Standards'!O:O,0),0),\"\")","v":""}]
[null,null,0,"","",{"$error":"#VALUE!"},"",{"$f":"IF(I621=\"\",\"\",LARGE(H$1:H620,1)+1)","v":{"$error":"#VALUE!"}},{"$error":"#VALUE!"},620,{"$error":"#N/A"},"",null,null,620,0,{"$f":"IF(R621=\"\",\"\",LARGE(Q$1:Q620,1)+1)","v":{"$error":"#NUM!"}},{"$error":"#NUM!"},620,{"$error":"#N/A"},"","",null,null,0,{"$error":"#VALUE!"},3999,"","",null,null,null,null,{"$error":"#VALUE!"},{"$error":"#VALUE!"},{"$f":"COUNTIF('Standards LOOKUP'!B:B,AI621)","v":0},{"$f":"IFERROR(INDEX('Standards LOOKUP'!C:C,MATCH(AI621,'Standards LOOKUP'!B:B,0),0),0)","v":0},{"$f":"IFERROR(INDEX('Current Standards'!P:P,MATCH('Sheet Counter'!AI621,'Current Standards'!O:O,0),0),\"\")","v":""}]
[null,null,0,"","",{"$error":"#VALUE!"},"",{"$f":"IF(I622=\"\",\"\",LARGE(H$1:H621,1)+1)","v":{"$error":"#VALUE!"}},{"$error":"#VALUE!"},621,{"$error":"#N/A"},"",null,null,621,0,{"$f":"IF(R622=\"\",\"\",LARGE(Q$1:Q621,1)+1)","v":{"$error":"#NUM!"}},{"$error":"#NUM!"},621,{"$error":"#N/A"},"","",null,null,0,{"$error":"#VALUE!"},3999,"","",null,null,null,null,{"$error":"#VALUE!"},{"$error":"#VALUE!"},{"$f":"COUNTIF('Standards LOOKUP'!B:B,AI622)","v":0},{"$f":"IFERROR(INDEX('Standards LOOKUP'!C:C,MATCH(AI622,'Standards LOOKUP'!B:B,0),0),0)","v":0},{"$f":"IFERROR(INDEX('Current Standards'!P:P,MATCH('Sheet Counter'!AI622,'Current Standards'!O:O,0),0),\"\")","v":""}]
[null,null,0,"","",{"$error":"#VALUE!"},"",{"$f":"IF(I623=\"\",\"\",LARGE(H$1:H622,1)+1)","v":{"$error":"#VALUE!"}},{"$error":"#VALUE!"},622,{"$error":"#N/A"},"",null,null,622,0,{"$f":"IF(R623=\"\",\"\",LARGE(Q$1:Q622,1)+1)","v":{"$error":"#NUM!"}},{"$error":"#NUM!"},622,{"$error":"#N/A"},"","",null,null,0,{"$error":"#VALUE!"},3999,"","",null,null,null,null,{"$error":"#VALUE!"},{"$error":"#VALUE!"},{"$f":"COUNTIF('Standards LOOKUP'!B:B,AI623)","v":0},{"$f":"IFERROR(INDEX('Standards LOOKUP'!C:C,MATCH(AI623,'Standards LOOKUP'!B:B,0),0),0)","v":0},{"$f":"IFERROR(INDEX('Current Standards'!P:P,MATCH('Sheet Counter'!AI623,'Current Standards'!O:O,0),0),\"\")","v":""}]
[null,null,0,"","",{"$error":"#VALUE!"},"",{"$f":"IF(I624=\"\",\"\",LARGE(H$1:H623,1)+1)","v":{"$error":"#VALUE!"}},{"$error":"#VALUE!"},623,{"$error":"#N/A"},"",null,null,623,0,{"$f":"IF(R624=\"\",\"\",LARGE(Q$1:Q623,1)+1)","v":{"$error":"#NUM!"}},{"$error":"#NUM!"},623,{"$error":"#N/A"},"","",null,null,0,{"$error":"#VALUE!"},3999,"","",null,null,null,null,{"$error":"#VALUE!"},{"$error":"#VALUE!"},{"$f":"COUNTIF('Standards LOOKUP'!B:B,AI624)","v":0},{"$f":"IFERROR(INDEX('Standards LOOKUP'!C:C,MATCH(AI624,'Standards LOOKUP'!B:B,0),0),0)","v":0},{"$f":"IFERROR(INDEX('Current Standards'!P:P,MATCH('Sheet Counter'!AI624,'Current Standards'!O:O,0),0),\"\")","v":""}]
[null,null,0,"","",{"$error":"#VALUE!"},"",{"$f":"IF(I625=\"\",\"\",LARGE(H$1:H624,1)+1)","v":{"$error":"#VALUE!"}},{"$error":"#VALUE!"},624,{"$error":"#N/A"},"",null,null,624,0,{"$f":"IF(R625=\"\",\"\",LARGE(Q$1:Q624,1)+1)","v":{"$error":"#NUM!"}},{"$error":"#NUM!"},624,{"$error":"#N/A"},"","",null,null,0,{"$error":"#VALUE!"},3999,"","",null,null,null,null,{"$error":"#VALUE!"},{"$error":"#VALUE!"},{"$f":"COUNTIF('Standards LOOKUP'!B:B,AI625)","v":0},{"$f":"IFERROR(INDEX('Standards LOOKUP'!C:C,MATCH(AI625,'Standards LOOKUP'!B:B,0),0),0)","v":0},{"$f":"IFERROR(INDEX('Current Standards'!P:P,MATCH('Sheet Counter'!AI625,'Current Standards'!O:O,0),0),\"\")","v":""}]
[null,null,0,"","",{"$error":"#VALUE!"},"",{"$f":"IF(I626=\"\",\"\",LARGE(H$1:H625,1)+1)","v":{"$error":"#VALUE!"}},{"$error":"#VALUE!"},625,{"$error":"#N/A"},"",null,null,625,0,{"$f":"IF(R626=\"\",\"\",LARGE(Q$1:Q625,1)+1)","v":{"$error":"#NUM!"}},{"$error":"#NUM!"},625,{"$error":"#N/A"},"","",null,null,0,{"$error":"#VALUE!"},3999,"","",null,null,null,null,{"$error":"#VALUE!"},{"$error":"#VALUE!"},{"$f":"COUNTIF('Standards LOOKUP'!B:B,AI626)","v":0},{"$f":"IFERROR(INDEX('Standards LOOKUP'!C:C,MATCH(AI626,'Standards LOOKUP'!B:B,0),0),0)","v":0},{"$f":"IFERROR(INDEX('Current Standards'!P:P,MATCH('Sheet Counter'!AI626,'Current Standards'!O:O,0),0),\"\")","v":""}]
[null,null,0,"","",{"$error":"#VALUE!"},"",{"$f":"IF(I627=\"\",\"\",LARGE(H$1:H626,1)+1)","v":{"$error":"#VALUE!"}},{"$error":"#VALUE!"},626,{"$error":"#N/A"},"",null,null,626,0,{"$f":"IF(R627=\"\",\"\",LARGE(Q$1:Q626,1)+1)","v":{"$error":"#NUM!"}},{"$error":"#NUM!"},626,{"$error":"#N/A"},"","",null,null,0,{"$error":"#VALUE!"},3999,"","",null,null,null,null,{"$error":"#VALUE!"},{"$error":"#VALUE!"},{"$f":"COUNTIF('Standards LOOKUP'!B:B,AI627)","v":0},{"$f":"IFERROR(INDEX('Standards LOOKUP'!C:C,MATCH(AI627,'Standards LOOKUP'!B:B,0),0),0)","v":0},{"$f":"IFERROR(INDEX('Current Standards'!P:P,MATCH('Sheet Counter'!AI627,'Current Standards'!O:O,0),0),\"\")","v":""}]
[null,null,0,"","",{"$error":"#VALUE!"},"",{"$f":"IF(I628=\"\",\"\",LARGE(H$1:H627,1)+1)","v":{"$error":"#VALUE!"}},{"$error":"#VALUE!"},627,{"$error":"#N/A"},"",null,null,627,0,{"$f":"IF(R628=\"\",\"\",LARGE(Q$1:Q627,1)+1)","v":{"$error":"#NUM!"}},{"$error":"#NUM!"},627,{"$error":"#N/A"},"","",null,null,0,{"$error":"#VALUE!"},3999,"","",null,null,null,null,{"$error":"#VALUE!"},{"$error":"#VALUE!"},{"$f":"COUNTIF('Standards LOOKUP'!B:B,AI628)","v":0},{"$f":"IFERROR(INDEX('Standards LOOKUP'!C:C,MATCH(AI628,'Standards LOOKUP'!B:B,0),0),0)","v":0},{"$f":"IFERROR(INDEX('Current Standards'!P:P,MATCH('Sheet Counter'!AI628,'Current Standards'!O:O,0),0),\"\")","v":""}]
[null,null,0,"","",{"$error":"#VALUE!"},"",{"$f":"IF(I629=\"\",\"\",LARGE(H$1:H628,1)+1)","v":{"$error":"#VALUE!"}},{"$error":"#VALUE!"},628,{"$error":"#N/A"},"",null,null,628,0,{"$f":"IF(R629=\"\",\"\",LARGE(Q$1:Q628,1)+1)","v":{"$error":"#NUM!"}},{"$error":"#NUM!"},628,{"$error":"#N/A"},"","",null,null,0,{"$error":"#VALUE!"},3999,"","",null,null,null,null,{"$error":"#VALUE!"},{"$error":"#VALUE!"},{"$f":"COUNTIF('Standards LOOKUP'!B:B,AI629)","v":0},{"$f":"IFERROR(INDEX('Standards LOOKUP'!C:C,MATCH(AI629,'Standards LOOKUP'!B:B,0),0),0)","v":0},{"$f":"IFERROR(INDEX('Current Standards'!P:P,MATCH('Sheet Counter'!AI629,'Current Standards'!O:O,0),0),\"\")","v":""}]
[null,null,0,"","",{"$error":"#VALUE!"},"",{"$f":"IF(I630=\"\",\"\",LARGE(H$1:H629,1)+1)","v":{"$error":"#VALUE!"}},{"$error":"#VALUE!"},629,{"$f":"VLOOKUP(J630,H:I,2,0)","v":{"$error":"#N/A"}},{"$f":"IF(ISERROR(K630),\"\",K630)","v":""},null,null,629,0,{"$f":"IF(R630=\"\",\"\",LARGE(Q$1:Q629,1)+1)","v":{"$error":"#NUM!"}},{"$error":"#NUM!"},629,{"$f":"VLOOKUP(S630,Q:R,2,0)","v":{"$error":"#N/A"}},{"$f":"IF(ISERROR(T630),\"\",T630)","v":""},{"$f":"IF(U630=\"\",\"\",VLOOKUP(U630,O:P,2,0))","v":""},null,null,0,{"$error":"#VALUE!"},3999,"","",null,null,null,null,{"$error":"#VALUE!"},{"$error":"#VALUE!"},{"$f":"COUNTIF('Standards LOOKUP'!B:B,AI630)","v":0},{"$f":"IFERROR(INDEX('Standards LOOKUP'!C:C,MATCH(AI630,'Standards LOOKUP'!B:B,0),0),0)","v":0},{"$f":"IFERROR(INDEX('Current Standards'!P:P,MATCH('Sheet Counter'!AI630,'Current Standards'!O:O,0),0),\"\")","v":""}]
[null,null,0,"","",{"$error":"#VALUE!"},"",{"$f":"IF(I631=\"\",\"\",LARGE(H$1:H630,1)+1)","v":{"$error":"#VALUE!"}},{"$error":"#VALUE!"},630,{"$error":"#N/A"},"",null,null,630,0,{"$f":"IF(R631=\"\",\"\",LARGE(Q$1:Q630,1)+1)","v":{"$error":"#NUM!"}},{"$error":"#NUM!"},630,{"$error":"#N/A"},"","",null,null,0,{"$error":"#VALUE!"},3999,"","",null,null,null,null,{"$error":"#VALUE!"},{"$error":"#VALUE!"},{"$f":"COUNTIF('Standards LOOKUP'!B:B,AI631)","v":0},{"$f":"IFERROR(INDEX('Standards LOOKUP'!C:C,MATCH(AI631,'Standards LOOKUP'!B:B,0),0),0)","v":0},{"$f":"IFERROR(INDEX('Current Standards'!P:P,MATCH('Sheet Counter'!AI631,'Current Standards'!O:O,0),0),\"\")","v":""}]
[null,null,0,"","",{"$error":"#VALUE!"},"",{"$f":"IF(I632=\"\",\"\",LARGE(H$1:H631,1)+1)","v":{"$error":"#VALUE!"}},{"$error":"#VALUE!"},631,{"$error":"#N/A"},"",null,null,631,0,{"$f":"IF(R632=\"\",\"\",LARGE(Q$1:Q631,1)+1)","v":{"$error":"#NUM!"}},{"$error":"#NUM!"},631,{"$error":"#N/A"},"","",null,null,0,{"$error":"#VALUE!"},3999,"","",null,null,null,null,{"$error":"#VALUE!"},{"$error":"#VALUE!"},{"$f":"COUNTIF('Standards LOOKUP'!B:B,AI632)","v":0},{"$f":"IFERROR(INDEX('Standards LOOKUP'!C:C,MATCH(AI632,'Standards LOOKUP'!B:B,0),0),0)","v":0},{"$f":"IFERROR(INDEX('Current Standards'!P:P,MATCH('Sheet Counter'!AI632,'Current Standards'!O:O,0),0),\"\")","v":""}]
[null,null,0,"","",{"$error":"#VALUE!"},"",{"$f":"IF(I633=\"\",\"\",LARGE(H$1:H632,1)+1)","v":{"$error":"#VALUE!"}},{"$error":"#VALUE!"},632,{"$error":"#N/A"},"",null,null,632,0,{"$f":"IF(R633=\"\",\"\",LARGE(Q$1:Q632,1)+1)","v":{"$error":"#NUM!"}},{"$error":"#NUM!"},632,{"$error":"#N/A"},"","",null,null,0,{"$error":"#VALUE!"},3999,"","",null,null,null,null,{"$error":"#VALUE!"},{"$error":"#VALUE!"},{"$f":"COUNTIF('Standards LOOKUP'!B:B,AI633)","v":0},{"$f":"IFERROR(INDEX('Standards LOOKUP'!C:C,MATCH(AI633,'Standards LOOKUP'!B:B,0),0),0)","v":0},{"$f":"IFERROR(INDEX('Current Standards'!P:P,MATCH('Sheet Counter'!AI633,'Current Standards'!O:O,0),0),\"\")","v":""}]
[null,null,0,"","",{"$error":"#VALUE!"},"",{"$f":"IF(I634=\"\",\"\",LARGE(H$1:H633,1)+1)","v":{"$error":"#VALUE!"}},{"$error":"#VALUE!"},633,{"$error":"#N/A"},"",null,null,633,0,{"$f":"IF(R634=\"\",\"\",LARGE(Q$1:Q633,1)+1)","v":{"$error":"#NUM!"}},{"$error":"#NUM!"},633,{"$error":"#N/A"},"","",null,null,0,{"$error":"#VALUE!"},3999,"","",null,null,null,null,{"$error":"#VALUE!"},{"$error":"#VALUE!"},{"$f":"COUNTIF('Standards LOOKUP'!B:B,AI634)","v":0},{"$f":"IFERROR(INDEX('Standards LOOKUP'!C:C,MATCH(AI634,'Standards LOOKUP'!B:B,0),0),0)","v":0},{"$f":"IFERROR(INDEX('Current Standards'!P:P,MATCH('Sheet Counter'!AI634,'Current Standards'!O:O,0),0),\"\")","v":""}]
[null,null,0,"","",{"$error":"#VALUE!"},"",{"$f":"IF(I635=\"\",\"\",LARGE(H$1:H634,1)+1)","v":{"$error":"#VALUE!"}},{"$error":"#VALUE!"},634,{"$error":"#N/A"},"",null,null,634,0,{"$f":"IF(R635=\"\",\"\",LARGE(Q$1:Q634,1)+1)","v":{"$error":"#NUM!"}},{"$error":"#NUM!"},634,{"$error":"#N/A"},"","",null,null,0,{"$error":"#VALUE!"},3999,"","",null,null,null,null,{"$error":"#VALUE!"},{"$error":"#VALUE!"},{"$f":"COUNTIF('Standards LOOKUP'!B:B,AI635)","v":0},{"$f":"IFERROR(INDEX('Standards LOOKUP'!C:C,MATCH(AI635,'Standards LOOKUP'!B:B,0),0),0)","v":0},{"$f":"IFERROR(INDEX('Current Standards'!P:P,MATCH('Sheet Counter'!AI635,'Current Standards'!O:O,0),0),\"\")","v":""}]
[null,null,0,"","",{"$error":"#VALUE!"},"",{"$f":"IF(I636=\"\",\"\",LARGE(H$1:H635,1)+1)","v":{"$error":"#VALUE!"}},{"$error":"#VALUE!"},635,{"$error":"#N/A"},"",null,null,635,0,{"$f":"IF(R636=\"\",\"\",LARGE(Q$1:Q635,1)+1)","v":{"$error":"#NUM!"}},{"$error":"#NUM!"},635,{"$error":"#N/A"},"","",null,null,0,{"$error":"#VALUE!"},3999,"","",null,null,null,null,{"$error":"#VALUE!"},{"$error":"#VALUE!"},{"$f":"COUNTIF('Standards LOOKUP'!B:B,AI636)","v":0},{"$f":"IFERROR(INDEX('Standards LOOKUP'!C:C,MATCH(AI636,'Standards LOOKUP'!B:B,0),0),0)","v":0},{"$f":"IFERROR(INDEX('Current Standards'!P:P,MATCH('Sheet Counter'!AI636,'Current Standards'!O:O,0),0),\"\")","v":""}]
[null,null,0,"","",{"$error":"#VALUE!"},"",{"$f":"IF(I637=\"\",\"\",LARGE(H$1:H636,1)+1)","v":{"$error":"#VALUE!"}},{"$error":"#VALUE!"},636,{"$error":"#N/A"},"",null,null,636,0,{"$f":"IF(R637=\"\",\"\",LARGE(Q$1:Q636,1)+1)","v":{"$error":"#NUM!"}},{"$error":"#NUM!"},636,{"$error":"#N/A"},"","",null,null,0,{"$error":"#VALUE!"},3999,"","",null,null,null,null,{"$error":"#VALUE!"},{"$error":"#VALUE!"},{"$f":"COUNTIF('Standards LOOKUP'!B:B,AI637)","v":0},{"$f":"IFERROR(INDEX('Standards LOOKUP'!C:C,MATCH(AI637,'Standards LOOKUP'!B:B,0),0),0)","v":0},{"$f":"IFERROR(INDEX('Current Standards'!P:P,MATCH('Sheet Counter'!AI637,'Current Standards'!O:O,0),0),\"\")","v":""}]
[null,null,0,"","",{"$error":"#VALUE!"},"",{"$f":"IF(I638=\"\",\"\",LARGE(H$1:H637,1)+1)","v":{"$error":"#VALUE!"}},{"$error":"#VALUE!"},637,{"$error":"#N/A"},"",null,null,637,0,{"$f":"IF(R638=\"\",\"\",LARGE(Q$1:Q637,1)+1)","v":{"$error":"#NUM!"}},{"$error":"#NUM!"},637,{"$error":"#N/A"},"","",null,null,0,{"$error":"#VALUE!"},3999,"","",null,null,null,null,{"$error":"#VALUE!"},{"$error":"#VALUE!"},{"$f":"COUNTIF('Standards LOOKUP'!B:B,AI638)","v":0},{"$f":"IFERROR(INDEX('Standards LOOKUP'!C:C,MATCH(AI638,'Standards LOOKUP'!B:B,0),0),0)","v":0},{"$f":"IFERROR(INDEX('Current Standards'!P:P,MATCH('Sheet Counter'!AI638,'Current Standards'!O:O,0),0),\"\")","v":""}]
[null,null,0,"","",{"$error":"#VALUE!"},"",{"$f":"IF(I639=\"\",\"\",LARGE(H$1:H638,1)+1)","v":{"$error":"#VALUE!"}},{"$error":"#VALUE!"},638,{"$error":"#N/A"},"",null,null,638,0,{"$f":"IF(R639=\"\",\"\",LARGE(Q$1:Q638,1)+1)","v":{"$error":"#NUM!"}},{"$error":"#NUM!"},638,{"$error":"#N/A"},"","",null,null,0,{"$error":"#VALUE!"},3999,"","",null,null,null,null,{"$error":"#VALUE!"},{"$error":"#VALUE!"},{"$f":"COUNTIF('Standards LOOKUP'!B:B,AI639)","v":0},{"$f":"IFERROR(INDEX('Standards LOOKUP'!C:C,MATCH(AI639,'Standards LOOKUP'!B:B,0),0),0)","v":0},{"$f":"IFERROR(INDEX('Current Standards'!P:P,MATCH('Sheet Counter'!AI639,'Current Standards'!O:O,0),0),\"\")","v":""}]
[null,null,0,"","",{"$error":"#VALUE!"},"",{"$f":"IF(I640=\"\",\"\",LARGE(H$1:H639,1)+1)","v":{"$error":"#VALUE!"}},{"$error":"#VALUE!"},639,{"$error":"#N/A"},"",null,null,639,0,{"$f":"IF(R640=\"\",\"\",LARGE(Q$1:Q639,1)+1)","v":{"$error":"#NUM!"}},{"$error":"#NUM!"},639,{"$error":"#N/A"},"","",null,null,0,{"$error":"#VALUE!"},3999,"","",null,null,null,null,{"$error":"#VALUE!"},{"$error":"#VALUE!"},{"$f":"COUNTIF('Standards LOOKUP'!B:B,AI640)","v":0},{"$f":"IFERROR(INDEX('Standards LOOKUP'!C:C,MATCH(AI640,'Standards LOOKUP'!B:B,0),0),0)","v":0},{"$f":"IFERROR(INDEX('Current Standards'!P:P,MATCH('Sheet Counter'!AI640,'Current Standards'!O:O,0),0),\"\")","v":""}]
[null,null,0,"","",{"$error":"#VALUE!"},"",{"$f":"IF(I641=\"\",\"\",LARGE(H$1:H640,1)+1)","v":{"$error":"#VALUE!"}},{"$error":"#VALUE!"},640,{"$error":"#N/A"},"",null,null,640,0,{"$f":"IF(R641=\"\",\"\",LARGE(Q$1:Q640,1)+1)","v":{"$error":"#NUM!"}},{"$error":"#NUM!"},640,{"$error":"#N/A"},"","",null,null,0,{"$error":"#VALUE!"},3999,"","",null,null,null,null,{"$error":"#VALUE!"},{"$error":"#VALUE!"},{"$f":"COUNTIF('Standards LOOKUP'!B:B,AI641)","v":0},{"$f":"IFERROR(INDEX('Standards LOOKUP'!C:C,MATCH(AI641,'Standards LOOKUP'!B:B,0),0),0)","v":0},{"$f":"IFERROR(INDEX('Current Standards'!P:P,MATCH('Sheet Counter'!AI641,'Current Standards'!O:O,0),0),\"\")","v":""}]
[null,null,0,"","",{"$error":"#VALUE!"},"",{"$f":"IF(I642=\"\",\"\",LARGE(H$1:H641,1)+1)","v":{"$error":"#VALUE!"}},{"$f":"IF(G642=\"\",F642,\"\")","v":{"$error":"#VALUE!"}},641,{"$error":"#N/A"},"",null,null,641,{"$f":"COUNTIF(G:G,O642)","v":0},{"$f":"IF(R642=\"\",\"\",LARGE(Q$1:Q641,1)+1)","v":{"$error":"#NUM!"}},{"$error":"#NUM!"},641,{"$error":"#N/A"},"","",null,null,0,{"$error":"#VALUE!"},3999,"","",null,null,null,null,{"$error":"#VALUE!"},{"$error":"#VALUE!"},{"$f":"COUNTIF('Standards LOOKUP'!B:B,AI642)","v":0},{"$f":"IFERROR(INDEX('Standards LOOKUP'!C:C,MATCH(AI642,'Standards LOOKUP'!B:B,0),0),0)","v":0},{"$f":"IFERROR(INDEX('Current Standards'!P:P,MATCH('Sheet Counter'!AI642,'Current Standards'!O:O,0),0),\"\")","v":""}]
[null,null,{"$f":"IF(ISERROR(FIND(\"\\\",A643)),A643,RIGHT(A643,LEN(A643)-FIND(\"~\",SUBSTITUTE(A643,\"\\\",\"~\",LEN(A643)-LEN(SUBSTITUTE(A643,\"\\\",\"\"))))))","v":0},{"$f":"IF(AL643=\"\",\"\",AL643)","v":""},"",{"$f":"LEFT(C643,FIND(\"-\",SUBSTITUTE(SUBSTITUTE(C643,\"_\",\"-\"),\" \",\"-\"))-1)","v":{"$error":"#VALUE!"}},{"$f":"IF(ISNUMBER(F643*1),F643*1,\"\")","v":""},{"$f":"IF(I643=\"\",\"\",LARGE(H$1:H642,1)+1)","v":{"$error":"#VALUE!"}},{"$error":"#VALUE!"},642,{"$error":"#N/A"},"",null,null,642,0,{"$f":"IF(R643=\"\",\"\",LARGE(Q$1:Q642,1)+1)","v":{"$error":"#NUM!"}},{"$error":"#NUM!"},642,{"$error":"#N/A"},"","",null,null,{"$f":"IF(ISERROR(FIND(\"\\\",X643)),X643,RIGHT(X643,LEN(X643)-FIND(\"~\",SUBSTITUTE(X643,\"\\\",\"~\",LEN(X643)-LEN(SUBSTITUTE(X643,\"\\\",\"\"))))))","v":0},{"$f":"LEFT(Y643,FIND(\"-\",SUBSTITUTE(SUBSTITUTE(Y643,\"_\",\"-\"),\" \",\"-\"))-1)","v":{"$error":"#VALUE!"}},{"$f":"COUNTIF(F:F,Z643)","v":3999},{"$f":"IF(OR(AA643<1,ISERROR(Z643)),\"\",INDEX(C:C,MATCH(Z643,F:F)))","v":""},{"$f":"IF(AA643=0,\"New Sheet\",IF(EXACT(UPPER(Y643),UPPER(AB643)),\"Match\",\"\"))","v":""},null,null,null,null,{"$f":"IF(C643=\"\",\"\",LEFT(RIGHT(C643,LEN(C643)-SEARCH(\" \",C643,1)),LEN(RIGHT(C643,LEN(C643)-SEARCH(\" \",C643,1)))-4))","v":{"$error":"#VALUE!"}},{"$f":"TRIM(SUBSTITUTE(SUBSTITUTE(SUBSTITUTE(SUBSTITUTE(SUBSTITUTE(SUBSTITUTE(AH643,\"(\",\"\"),\")\",\"\"),\"-\",\"\"),\"&\",\"\"),\" \",\"\",1),\" \",\"\",1))","v":{"$error":"#VALUE!"}},{"$f":"COUNTIF('Standards LOOKUP'!B:B,AI643)","v":0},{"$f":"IFERROR(INDEX('Standards LOOKUP'!C:C,MATCH(AI643,'Standards LOOKUP'!B:B,0),0),0)","v":0},{"$f":"IFERROR(INDEX('Current Standards'!P:P,MATCH('Sheet Counter'!AI643,'Current Standards'!O:O,0),0),\"\")","v":""}]
[null,null,0,"","",{"$error":"#VALUE!"},"",{"$f":"IF(I644=\"\",\"\",LARGE(H$1:H643,1)+1)","v":{"$error":"#VALUE!"}},{"$error":"#VALUE!"},643,{"$error":"#N/A"},"",null,null,643,0,{"$f":"IF(R644=\"\",\"\",LARGE(Q$1:Q643,1)+1)","v":{"$error":"#NUM!"}},{"$f":"IF(AND(P644<>1,O644<=LARGE(G:G,1),O644>=SMALL(G:G,1)),O644,\"\")","v":{"$error":"#NUM!"}},643,{"$error":"#N/A"},"","",null,null,0,{"$error":"#VALUE!"},3999,"","",null,null,null,null,{"$error":"#VALUE!"},{"$error":"#VALUE!"},{"$f":"COUNTIF('Standards LOOKUP'!B:B,AI644)","v":0},{"$f":"IFERROR(INDEX('Standards LOOKUP'!C:C,MATCH(AI644,'Standards LOOKUP'!B:B,0),0),0)","v":0},{"$f":"IFERROR(INDEX('Current Standards'!P:P,MATCH('Sheet Counter'!AI644,'Current Standards'!O:O,0),0),\"\")","v":""}]
[null,null,0,"","",{"$error":"#VALUE!"},"",{"$f":"IF(I645=\"\",\"\",LARGE(H$1:H644,1)+1)","v":{"$error":"#VALUE!"}},{"$error":"#VALUE!"},644,{"$error":"#N/A"},"",null,null,644,0,{"$f":"IF(R645=\"\",\"\",LARGE(Q$1:Q644,1)+1)","v":{"$error":"#NUM!"}},{"$error":"#NUM!"},644,{"$error":"#N/A"},"","",null,null,0,{"$error":"#VALUE!"},3999,"","",null,null,null,null,{"$error":"#VALUE!"},{"$error":"#VALUE!"},{"$f":"COUNTIF('Standards LOOKUP'!B:B,AI645)","v":0},{"$f":"IFERROR(INDEX('Standards LOOKUP'!C:C,MATCH(AI645,'Standards LOOKUP'!B:B,0),0),0)","v":0},{"$f":"IFERROR(INDEX('Current Standards'!P:P,MATCH('Sheet Counter'!AI645,'Current Standards'!O:O,0),0),\"\")","v":""}]
[null,null,0,"","",{"$error":"#VALUE!"},"",{"$f":"IF(I646=\"\",\"\",LARGE(H$1:H645,1)+1)","v":{"$error":"#VALUE!"}},{"$error":"#VALUE!"},645,{"$error":"#N/A"},"",null,null,645,0,{"$f":"IF(R646=\"\",\"\",LARGE(Q$1:Q645,1)+1)","v":{"$error":"#NUM!"}},{"$error":"#NUM!"},645,{"$error":"#N/A"},"","",null,null,0,{"$error":"#VALUE!"},3999,"","",null,null,null,null,{"$error":"#VALUE!"},{"$error":"#VALUE!"},{"$f":"COUNTIF('Standards LOOKUP'!B:B,AI646)","v":0},{"$f":"IFERROR(INDEX('Standards LOOKUP'!C:C,MATCH(AI646,'Standards LOOKUP'!B:B,0),0),0)","v":0},{"$f":"IFERROR(INDEX('Current Standards'!P:P,MATCH('Sheet Counter'!AI646,'Current Standards'!O:O,0),0),\"\")","v":""}]
[null,null,0,"","",{"$error":"#VALUE!"},"",{"$f":"IF(I647=\"\",\"\",LARGE(H$1:H646,1)+1)","v":{"$error":"#VALUE!"}},{"$error":"#VALUE!"},646,{"$error":"#N/A"},"",null,null,646,0,{"$f":"IF(R647=\"\",\"\",LARGE(Q$1:Q646,1)+1)","v":{"$error":"#NUM!"}},{"$error":"#NUM!"},646,{"$error":"#N/A"},"","",null,null,0,{"$error":"#VALUE!"},3999,"","",null,null,null,null,{"$error":"#VALUE!"},{"$error":"#VALUE!"},{"$f":"COUNTIF('Standards LOOKUP'!B:B,AI647)","v":0},{"$f":"IFERROR(INDEX('Standards LOOKUP'!C:C,MATCH(AI647,'Standards LOOKUP'!B:B,0),0),0)","v":0},{"$f":"IFERROR(INDEX('Current Standards'!P:P,MATCH('Sheet Counter'!AI647,'Current Standards'!O:O,0),0),\"\")","v":""}]
[null,null,0,"","",{"$error":"#VALUE!"},"",{"$f":"IF(I648=\"\",\"\",LARGE(H$1:H647,1)+1)","v":{"$error":"#VALUE!"}},{"$error":"#VALUE!"},647,{"$error":"#N/A"},"",null,null,647,0,{"$f":"IF(R648=\"\",\"\",LARGE(Q$1:Q647,1)+1)","v":{"$error":"#NUM!"}},{"$error":"#NUM!"},647,{"$error":"#N/A"},"","",null,null,0,{"$error":"#VALUE!"},3999,"","",null,null,null,null,{"$error":"#VALUE!"},{"$error":"#VALUE!"},{"$f":"COUNTIF('Standards LOOKUP'!B:B,AI648)","v":0},{"$f":"IFERROR(INDEX('Standards LOOKUP'!C:C,MATCH(AI648,'Standards LOOKUP'!B:B,0),0),0)","v":0},{"$f":"IFERROR(INDEX('Current Standards'!P:P,MATCH('Sheet Counter'!AI648,'Current Standards'!O:O,0),0),\"\")","v":""}]
[null,null,0,"","",{"$error":"#VALUE!"},"",{"$f":"IF(I649=\"\",\"\",LARGE(H$1:H648,1)+1)","v":{"$error":"#VALUE!"}},{"$error":"#VALUE!"},648,{"$error":"#N/A"},"",null,null,648,0,{"$f":"IF(R649=\"\",\"\",LARGE(Q$1:Q648,1)+1)","v":{"$error":"#NUM!"}},{"$error":"#NUM!"},648,{"$error":"#N/A"},"","",null,null,0,{"$error":"#VALUE!"},3999,"","",null,null,null,null,{"$error":"#VALUE!"},{"$error":"#VALUE!"},{"$f":"COUNTIF('Standards LOOKUP'!B:B,AI649)","v":0},{"$f":"IFERROR(INDEX('Standards LOOKUP'!C:C,MATCH(AI649,'Standards LOOKUP'!B:B,0),0),0)","v":0},{"$f":"IFERROR(INDEX('Current Standards'!P:P,MATCH('Sheet Counter'!AI649,'Current Standards'!O:O,0),0),\"\")","v":""}]
[null,null,0,"","",{"$error":"#VALUE!"},"",{"$f":"IF(I650=\"\",\"\",LARGE(H$1:H649,1)+1)","v":{"$error":"#VALUE!"}},{"$error":"#VALUE!"},649,{"$error":"#N/A"},"",null,null,649,0,{"$f":"IF(R650=\"\",\"\",LARGE(Q$1:Q649,1)+1)","v":{"$error":"#NUM!"}},{"$error":"#NUM!"},649,{"$error":"#N/A"},"","",null,null,0,{"$error":"#VALUE!"},3999,"","",null,null,null,null,{"$error":"#VALUE!"},{"$error":"#VALUE!"},{"$f":"COUNTIF('Standards LOOKUP'!B:B,AI650)","v":0},{"$f":"IFERROR(INDEX('Standards LOOKUP'!C:C,MATCH(AI650,'Standards LOOKUP'!B:B,0),0),0)","v":0},{"$f":"IFERROR(INDEX('Current Standards'!P:P,MATCH('Sheet Counter'!AI650,'Current Standards'!O:O,0),0),\"\")","v":""}]
[null,null,0,"","",{"$error":"#VALUE!"},"",{"$f":"IF(I651=\"\",\"\",LARGE(H$1:H650,1)+1)","v":{"$error":"#VALUE!"}},{"$error":"#VALUE!"},650,{"$error":"#N/A"},"",null,null,650,0,{"$f":"IF(R651=\"\",\"\",LARGE(Q$1:Q650,1)+1)","v":{"$error":"#NUM!"}},{"$error":"#NUM!"},650,{"$error":"#N/A"},"","",null,null,0,{"$error":"#VALUE!"},3999,"","",null,null,null,null,{"$error":"#VALUE!"},{"$error":"#VALUE!"},{"$f":"COUNTIF('Standards LOOKUP'!B:B,AI651)","v":0},{"$f":"IFERROR(INDEX('Standards LOOKUP'!C:C,MATCH(AI651,'Standards LOOKUP'!B:B,0),0),0)","v":0},{"$f":"IFERROR(INDEX('Current Standards'!P:P,MATCH('Sheet Counter'!AI651,'Current Standards'!O:O,0),0),\"\")","v":""}]
[null,null,0,"","",{"$error":"#VALUE!"},"",{"$f":"IF(I652=\"\",\"\",LARGE(H$1:H651,1)+1)","v":{"$error":"#VALUE!"}},{"$error":"#VALUE!"},651,{"$error":"#N/A"},"",null,null,651,0,{"$f":"IF(R652=\"\",\"\",LARGE(Q$1:Q651,1)+1)","v":{"$error":"#NUM!"}},{"$error":"#NUM!"},651,{"$error":"#N/A"},"","",null,null,0,{"$error":"#VALUE!"},3999,"","",null,null,null,null,{"$error":"#VALUE!"},{"$error":"#VALUE!"},{"$f":"COUNTIF('Standards LOOKUP'!B:B,AI652)","v":0},{"$f":"IFERROR(INDEX('Standards LOOKUP'!C:C,MATCH(AI652,'Standards LOOKUP'!B:B,0),0),0)","v":0},{"$f":"IFERROR(INDEX('Current Standards'!P:P,MATCH('Sheet Counter'!AI652,'Current Standards'!O:O,0),0),\"\")","v":""}]
[null,null,0,"","",{"$error":"#VALUE!"},"",{"$f":"IF(I653=\"\",\"\",LARGE(H$1:H652,1)+1)","v":{"$error":"#VALUE!"}},{"$error":"#VALUE!"},652,{"$error":"#N/A"},"",null,null,652,0,{"$f":"IF(R653=\"\",\"\",LARGE(Q$1:Q652,1)+1)","v":{"$error":"#NUM!"}},{"$error":"#NUM!"},652,{"$error":"#N/A"},"","",null,null,0,{"$error":"#VALUE!"},3999,"","",null,null,null,null,{"$error":"#VALUE!"},{"$error":"#VALUE!"},{"$f":"COUNTIF('Standards LOOKUP'!B:B,AI653)","v":0},{"$f":"IFERROR(INDEX('Standards LOOKUP'!C:C,MATCH(AI653,'Standards LOOKUP'!B:B,0),0),0)","v":0},{"$f":"IFERROR(INDEX('Current Standards'!P:P,MATCH('Sheet Counter'!AI653,'Current Standards'!O:O,0),0),\"\")","v":""}]
[null,null,0,"","",{"$error":"#VALUE!"},"",{"$f":"IF(I654=\"\",\"\",LARGE(H$1:H653,1)+1)","v":{"$error":"#VALUE!"}},{"$error":"#VALUE!"},653,{"$error":"#N/A"},"",null,null,653,0,{"$f":"IF(R654=\"\",\"\",LARGE(Q$1:Q653,1)+1)","v":{"$error":"#NUM!"}},{"$error":"#NUM!"},653,{"$error":"#N/A"},"","",null,null,0,{"$error":"#VALUE!"},3999,"","",null,null,null,null,{"$error":"#VALUE!"},{"$error":"#VALUE!"},{"$f":"COUNTIF('Standards LOOKUP'!B:B,AI654)","v":0},{"$f":"IFERROR(INDEX('Standards LOOKUP'!C:C,MATCH(AI654,'Standards LOOKUP'!B:B,0),0),0)","v":0},{"$f":"IFERROR(INDEX('Current Standards'!P:P,MATCH('Sheet Counter'!AI654,'Current Standards'!O:O,0),0),\"\")","v":""}]
[null,null,0,"","",{"$error":"#VALUE!"},"",{"$f":"IF(I655=\"\",\"\",LARGE(H$1:H654,1)+1)","v":{"$error":"#VALUE!"}},{"$error":"#VALUE!"},654,{"$error":"#N/A"},"",null,null,654,0,{"$f":"IF(R655=\"\",\"\",LARGE(Q$1:Q654,1)+1)","v":{"$error":"#NUM!"}},{"$error":"#NUM!"},654,{"$error":"#N/A"},"","",null,null,0,{"$error":"#VALUE!"},3999,"","",null,null,null,null,{"$error":"#VALUE!"},{"$error":"#VALUE!"},{"$f":"COUNTIF('Standards LOOKUP'!B:B,AI655)","v":0},{"$f":"IFERROR(INDEX('Standards LOOKUP'!C:C,MATCH(AI655,'Standards LOOKUP'!B:B,0),0),0)","v":0},{"$f":"IFERROR(INDEX('Current Standards'!P:P,MATCH('Sheet Counter'!AI655,'Current Standards'!O:O,0),0),\"\")","v":""}]
[null,null,0,"","",{"$error":"#VALUE!"},"",{"$f":"IF(I656=\"\",\"\",LARGE(H$1:H655,1)+1)","v":{"$error":"#VALUE!"}},{"$error":"#VALUE!"},655,{"$error":"#N/A"},"",null,null,655,0,{"$f":"IF(R656=\"\",\"\",LARGE(Q$1:Q655,1)+1)","v":{"$error":"#NUM!"}},{"$error":"#NUM!"},655,{"$error":"#N/A"},"","",null,null,0,{"$error":"#VALUE!"},3999,"","",null,null,null,null,{"$error":"#VALUE!"},{"$error":"#VALUE!"},{"$f":"COUNTIF('Standards LOOKUP'!B:B,AI656)","v":0},{"$f":"IFERROR(INDEX('Standards LOOKUP'!C:C,MATCH(AI656,'Standards LOOKUP'!B:B,0),0),0)","v":0},{"$f":"IFERROR(INDEX('Current Standards'!P:P,MATCH('Sheet Counter'!AI656,'Current Standards'!O:O,0),0),\"\")","v":""}]
[null,null,0,"","",{"$error":"#VALUE!"},"",{"$f":"IF(I657=\"\",\"\",LARGE(H$1:H656,1)+1)","v":{"$error":"#VALUE!"}},{"$error":"#VALUE!"},656,{"$error":"#N/A"},"",null,null,656,0,{"$f":"IF(R657=\"\",\"\",LARGE(Q$1:Q656,1)+1)","v":{"$error":"#NUM!"}},{"$error":"#NUM!"},656,{"$error":"#N/A"},"","",null,null,0,{"$error":"#VALUE!"},3999,"","",null,null,null,null,{"$error":"#VALUE!"},{"$error":"#VALUE!"},{"$f":"COUNTIF('Standards LOOKUP'!B:B,AI657)","v":0},{"$f":"IFERROR(INDEX('Standards LOOKUP'!C:C,MATCH(AI657,'Standards LOOKUP'!B:B,0),0),0)","v":0},{"$f":"IFERROR(INDEX('Current Standards'!P:P,MATCH('Sheet Counter'!AI657,'Current Standards'!O:O,0),0),\"\")","v":""}]
[null,null,0,"","",{"$error":"#VALUE!"},"",{"$f":"IF(I658=\"\",\"\",LARGE(H$1:H657,1)+1)","v":{"$error":"#VALUE!"}},{"$error":"#VALUE!"},657,{"$error":"#N/A"},"",null,null,657,0,{"$f":"IF(R658=\"\",\"\",LARGE(Q$1:Q657,1)+1)","v":{"$error":"#NUM!"}},{"$error":"#NUM!"},657,{"$error":"#N/A"},"","",null,null,0,{"$error":"#VALUE!"},3999,"","",null,null,null,null,{"$error":"#VALUE!"},{"$error":"#VALUE!"},{"$f":"COUNTIF('Standards LOOKUP'!B:B,AI658)","v":0},{"$f":"IFERROR(INDEX('Standards LOOKUP'!C:C,MATCH(AI658,'Standards LOOKUP'!B:B,0),0),0)","v":0},{"$f":"IFERROR(INDEX('Current Standards'!P:P,MATCH('Sheet Counter'!AI658,'Current Standards'!O:O,0),0),\"\")","v":""}]
[null,null,0,"","",{"$error":"#VALUE!"},"",{"$f":"IF(I659=\"\",\"\",LARGE(H$1:H658,1)+1)","v":{"$error":"#VALUE!"}},{"$error":"#VALUE!"},658,{"$error":"#N/A"},"",null,null,658,0,{"$f":"IF(R659=\"\",\"\",LARGE(Q$1:Q658,1)+1)","v":{"$error":"#NUM!"}},{"$error":"#NUM!"},658,{"$error":"#N/A"},"","",null,null,0,{"$error":"#VALUE!"},3999,"","",null,null,null,null,{"$error":"#VALUE!"},{"$error":"#VALUE!"},{"$f":"COUNTIF('Standards LOOKUP'!B:B,AI659)","v":0},{"$f":"IFERROR(INDEX('Standards LOOKUP'!C:C,MATCH(AI659,'Standards LOOKUP'!B:B,0),0),0)","v":0},{"$f":"IFERROR(INDEX('Current Standards'!P:P,MATCH('Sheet Counter'!AI659,'Current Standards'!O:O,0),0),\"\")","v":""}]
[null,null,0,"","",{"$error":"#VALUE!"},"",{"$f":"IF(I660=\"\",\"\",LARGE(H$1:H659,1)+1)","v":{"$error":"#VALUE!"}},{"$error":"#VALUE!"},659,{"$error":"#N/A"},"",null,null,659,0,{"$f":"IF(R660=\"\",\"\",LARGE(Q$1:Q659,1)+1)","v":{"$error":"#NUM!"}},{"$error":"#NUM!"},659,{"$error":"#N/A"},"","",null,null,0,{"$error":"#VALUE!"},3999,"","",null,null,null,null,{"$error":"#VALUE!"},{"$error":"#VALUE!"},{"$f":"COUNTIF('Standards LOOKUP'!B:B,AI660)","v":0},{"$f":"IFERROR(INDEX('Standards LOOKUP'!C:C,MATCH(AI660,'Standards LOOKUP'!B:B,0),0),0)","v":0},{"$f":"IFERROR(INDEX('Current Standards'!P:P,MATCH('Sheet Counter'!AI660,'Current Standards'!O:O,0),0),\"\")","v":""}]
[null,null,0,"","",{"$error":"#VALUE!"},"",{"$f":"IF(I661=\"\",\"\",LARGE(H$1:H660,1)+1)","v":{"$error":"#VALUE!"}},{"$error":"#VALUE!"},660,{"$error":"#N/A"},"",null,null,660,0,{"$f":"IF(R661=\"\",\"\",LARGE(Q$1:Q660,1)+1)","v":{"$error":"#NUM!"}},{"$error":"#NUM!"},660,{"$error":"#N/A"},"","",null,null,0,{"$error":"#VALUE!"},3999,"","",null,null,null,null,{"$error":"#VALUE!"},{"$error":"#VALUE!"},{"$f":"COUNTIF('Standards LOOKUP'!B:B,AI661)","v":0},{"$f":"IFERROR(INDEX('Standards LOOKUP'!C:C,MATCH(AI661,'Standards LOOKUP'!B:B,0),0),0)","v":0},{"$f":"IFERROR(INDEX('Current Standards'!P:P,MATCH('Sheet Counter'!AI661,'Current Standards'!O:O,0),0),\"\")","v":""}]
[null,null,0,"","",{"$error":"#VALUE!"},"",{"$f":"IF(I662=\"\",\"\",LARGE(H$1:H661,1)+1)","v":{"$error":"#VALUE!"}},{"$error":"#VALUE!"},661,{"$error":"#N/A"},"",null,null,661,0,{"$f":"IF(R662=\"\",\"\",LARGE(Q$1:Q661,1)+1)","v":{"$error":"#NUM!"}},{"$error":"#NUM!"},661,{"$error":"#N/A"},"","",null,null,0,{"$error":"#VALUE!"},3999,"","",null,null,null,null,{"$error":"#VALUE!"},{"$error":"#VALUE!"},{"$f":"COUNTIF('Standards LOOKUP'!B:B,AI662)","v":0},{"$f":"IFERROR(INDEX('Standards LOOKUP'!C:C,MATCH(AI662,'Standards LOOKUP'!B:B,0),0),0)","v":0},{"$f":"IFERROR(INDEX('Current Standards'!P:P,MATCH('Sheet Counter'!AI662,'Current Standards'!O:O,0),0),\"\")","v":""}]
[null,null,0,"","",{"$error":"#VALUE!"},"",{"$f":"IF(I663=\"\",\"\",LARGE(H$1:H662,1)+1)","v":{"$error":"#VALUE!"}},{"$error":"#VALUE!"},662,{"$error":"#N/A"},"",null,null,662,0,{"$f":"IF(R663=\"\",\"\",LARGE(Q$1:Q662,1)+1)","v":{"$error":"#NUM!"}},{"$error":"#NUM!"},662,{"$error":"#N/A"},"","",null,null,0,{"$error":"#VALUE!"},3999,"","",null,null,null,null,{"$error":"#VALUE!"},{"$error":"#VALUE!"},{"$f":"COUNTIF('Standards LOOKUP'!B:B,AI663)","v":0},{"$f":"IFERROR(INDEX('Standards LOOKUP'!C:C,MATCH(AI663,'Standards LOOKUP'!B:B,0),0),0)","v":0},{"$f":"IFERROR(INDEX('Current Standards'!P:P,MATCH('Sheet Counter'!AI663,'Current Standards'!O:O,0),0),\"\")","v":""}]
[null,null,0,"","",{"$error":"#VALUE!"},"",{"$f":"IF(I664=\"\",\"\",LARGE(H$1:H663,1)+1)","v":{"$error":"#VALUE!"}},{"$error":"#VALUE!"},663,{"$error":"#N/A"},"",null,null,663,0,{"$f":"IF(R664=\"\",\"\",LARGE(Q$1:Q663,1)+1)","v":{"$error":"#NUM!"}},{"$error":"#NUM!"},663,{"$error":"#N/A"},"","",null,null,0,{"$error":"#VALUE!"},3999,"","",null,null,null,null,{"$error":"#VALUE!"},{"$error":"#VALUE!"},{"$f":"COUNTIF('Standards LOOKUP'!B:B,AI664)","v":0},{"$f":"IFERROR(INDEX('Standards LOOKUP'!C:C,MATCH(AI664,'Standards LOOKUP'!B:B,0),0),0)","v":0},{"$f":"IFERROR(INDEX('Current Standards'!P:P,MATCH('Sheet Counter'!AI664,'Current Standards'!O:O,0),0),\"\")","v":""}]
[null,null,0,"","",{"$error":"#VALUE!"},"",{"$f":"IF(I665=\"\",\"\",LARGE(H$1:H664,1)+1)","v":{"$error":"#VALUE!"}},{"$error":"#VALUE!"},664,{"$error":"#N/A"},"",null,null,664,0,{"$f":"IF(R665=\"\",\"\",LARGE(Q$1:Q664,1)+1)","v":{"$error":"#NUM!"}},{"$error":"#NUM!"},664,{"$error":"#N/A"},"","",null,null,0,{"$error":"#VALUE!"},3999,"","",null,null,null,null,{"$error":"#VALUE!"},{"$error":"#VALUE!"},{"$f":"COUNTIF('Standards LOOKUP'!B:B,AI665)","v":0},{"$f":"IFERROR(INDEX('Standards LOOKUP'!C:C,MATCH(AI665,'Standards LOOKUP'!B:B,0),0),0)","v":0},{"$f":"IFERROR(INDEX('Current Standards'!P:P,MATCH('Sheet Counter'!AI665,'Current Standards'!O:O,0),0),\"\")","v":""}]
[null,null,0,"","",{"$error":"#VALUE!"},"",{"$f":"IF(I666=\"\",\"\",LARGE(H$1:H665,1)+1)","v":{"$error":"#VALUE!"}},{"$error":"#VALUE!"},665,{"$error":"#N/A"},"",null,null,665,0,{"$f":"IF(R666=\"\",\"\",LARGE(Q$1:Q665,1)+1)","v":{"$error":"#NUM!"}},{"$error":"#NUM!"},665,{"$error":"#N/A"},"","",null,null,0,{"$error":"#VALUE!"},3999,"","",null,null,null,null,{"$error":"#VALUE!"},{"$error":"#VALUE!"},{"$f":"COUNTIF('Standards LOOKUP'!B:B,AI666)","v":0},{"$f":"IFERROR(INDEX('Standards LOOKUP'!C:C,MATCH(AI666,'Standards LOOKUP'!B:B,0),0),0)","v":0},{"$f":"IFERROR(INDEX('Current Standards'!P:P,MATCH('Sheet Counter'!AI666,'Current Standards'!O:O,0),0),\"\")","v":""}]
[null,null,0,"","",{"$error":"#VALUE!"},"",{"$f":"IF(I667=\"\",\"\",LARGE(H$1:H666,1)+1)","v":{"$error":"#VALUE!"}},{"$error":"#VALUE!"},666,{"$error":"#N/A"},"",null,null,666,0,{"$f":"IF(R667=\"\",\"\",LARGE(Q$1:Q666,1)+1)","v":{"$error":"#NUM!"}},{"$error":"#NUM!"},666,{"$error":"#N/A"},"","",null,null,0,{"$error":"#VALUE!"},3999,"","",null,null,null,null,{"$error":"#VALUE!"},{"$error":"#VALUE!"},{"$f":"COUNTIF('Standards LOOKUP'!B:B,AI667)","v":0},{"$f":"IFERROR(INDEX('Standards LOOKUP'!C:C,MATCH(AI667,'Standards LOOKUP'!B:B,0),0),0)","v":0},{"$f":"IFERROR(INDEX('Current Standards'!P:P,MATCH('Sheet Counter'!AI667,'Current Standards'!O:O,0),0),\"\")","v":""}]
[null,null,0,"","",{"$error":"#VALUE!"},"",{"$f":"IF(I668=\"\",\"\",LARGE(H$1:H667,1)+1)","v":{"$error":"#VALUE!"}},{"$error":"#VALUE!"},667,{"$error":"#N/A"},"",null,null,667,0,{"$f":"IF(R668=\"\",\"\",LARGE(Q$1:Q667,1)+1)","v":{"$error":"#NUM!"}},{"$error":"#NUM!"},667,{"$error":"#N/A"},"","",null,null,0,{"$error":"#VALUE!"},3999,"","",null,null,null,null,{"$error":"#VALUE!"},{"$error":"#VALUE!"},{"$f":"COUNTIF('Standards LOOKUP'!B:B,AI668)","v":0},{"$f":"IFERROR(INDEX('Standards LOOKUP'!C:C,MATCH(AI668,'Standards LOOKUP'!B:B,0),0),0)","v":0},{"$f":"IFERROR(INDEX('Current Standards'!P:P,MATCH('Sheet Counter'!AI668,'Current Standards'!O:O,0),0),\"\")","v":""}]
[null,null,0,"","",{"$error":"#VALUE!"},"",{"$f":"IF(I669=\"\",\"\",LARGE(H$1:H668,1)+1)","v":{"$error":"#VALUE!"}},{"$error":"#VALUE!"},668,{"$error":"#N/A"},"",null,null,668,0,{"$f":"IF(R669=\"\",\"\",LARGE(Q$1:Q668,1)+1)","v":{"$error":"#NUM!"}},{"$error":"#NUM!"},668,{"$error":"#N/A"},"","",null,null,0,{"$error":"#VALUE!"},3999,"","",null,null,null,null,{"$error":"#VALUE!"},{"$error":"#VALUE!"},{"$f":"COUNTIF('Standards LOOKUP'!B:B,AI669)","v":0},{"$f":"IFERROR(INDEX('Standards LOOKUP'!C:C,MATCH(AI669,'Standards LOOKUP'!B:B,0),0),0)","v":0},{"$f":"IFERROR(INDEX('Current Standards'!P:P,MATCH('Sheet Counter'!AI669,'Current Standards'!O:O,0),0),\"\")","v":""}]
[null,null,0,"","",{"$error":"#VALUE!"},"",{"$f":"IF(I670=\"\",\"\",LARGE(H$1:H669,1)+1)","v":{"$error":"#VALUE!"}},{"$error":"#VALUE!"},669,{"$error":"#N/A"},"",null,null,669,0,{"$f":"IF(R670=\"\",\"\",LARGE(Q$1:Q669,1)+1)","v":{"$error":"#NUM!"}},{"$error":"#NUM!"},669,{"$error":"#N/A"},"","",null,null,0,{"$error":"#VALUE!"},3999,"","",null,null,null,null,{"$error":"#VALUE!"},{"$error":"#VALUE!"},{"$f":"COUNTIF('Standards LOOKUP'!B:B,AI670)","v":0},{"$f":"IFERROR(INDEX('Standards LOOKUP'!C:C,MATCH(AI670,'Standards LOOKUP'!B:B,0),0),0)","v":0},{"$f":"IFERROR(INDEX('Current Standards'!P:P,MATCH('Sheet Counter'!AI670,'Current Standards'!O:O,0),0),\"\")","v":""}]
[null,null,0,"","",{"$error":"#VALUE!"},"",{"$f":"IF(I671=\"\",\"\",LARGE(H$1:H670,1)+1)","v":{"$error":"#VALUE!"}},{"$error":"#VALUE!"},670,{"$error":"#N/A"},"",null,null,670,0,{"$f":"IF(R671=\"\",\"\",LARGE(Q$1:Q670,1)+1)","v":{"$error":"#NUM!"}},{"$error":"#NUM!"},670,{"$error":"#N/A"},"","",null,null,0,{"$error":"#VALUE!"},3999,"","",null,null,null,null,{"$error":"#VALUE!"},{"$error":"#VALUE!"},{"$f":"COUNTIF('Standards LOOKUP'!B:B,AI671)","v":0},{"$f":"IFERROR(INDEX('Standards LOOKUP'!C:C,MATCH(AI671,'Standards LOOKUP'!B:B,0),0),0)","v":0},{"$f":"IFERROR(INDEX('Current Standards'!P:P,MATCH('Sheet Counter'!AI671,'Current Standards'!O:O,0),0),\"\")","v":""}]
[null,null,0,"","",{"$error":"#VALUE!"},"",{"$f":"IF(I672=\"\",\"\",LARGE(H$1:H671,1)+1)","v":{"$error":"#VALUE!"}},{"$error":"#VALUE!"},671,{"$error":"#N/A"},"",null,null,671,0,{"$f":"IF(R672=\"\",\"\",LARGE(Q$1:Q671,1)+1)","v":{"$error":"#NUM!"}},{"$error":"#NUM!"},671,{"$error":"#N/A"},"","",null,null,0,{"$error":"#VALUE!"},3999,"","",null,null,null,null,{"$error":"#VALUE!"},{"$error":"#VALUE!"},{"$f":"COUNTIF('Standards LOOKUP'!B:B,AI672)","v":0},{"$f":"IFERROR(INDEX('Standards LOOKUP'!C:C,MATCH(AI672,'Standards LOOKUP'!B:B,0),0),0)","v":0},{"$f":"IFERROR(INDEX('Current Standards'!P:P,MATCH('Sheet Counter'!AI672,'Current Standards'!O:O,0),0),\"\")","v":""}]
[null,null,0,"","",{"$error":"#VALUE!"},"",{"$f":"IF(I673=\"\",\"\",LARGE(H$1:H672,1)+1)","v":{"$error":"#VALUE!"}},{"$error":"#VALUE!"},672,{"$error":"#N/A"},"",null,null,672,0,{"$f":"IF(R673=\"\",\"\",LARGE(Q$1:Q672,1)+1)","v":{"$error":"#NUM!"}},{"$error":"#NUM!"},672,{"$error":"#N/A"},"","",null,null,0,{"$error":"#VALUE!"},3999,"","",null,null,null,null,{"$error":"#VALUE!"},{"$error":"#VALUE!"},{"$f":"COUNTIF('Standards LOOKUP'!B:B,AI673)","v":0},{"$f":"IFERROR(INDEX('Standards LOOKUP'!C:C,MATCH(AI673,'Standards LOOKUP'!B:B,0),0),0)","v":0},{"$f":"IFERROR(INDEX('Current Standards'!P:P,MATCH('Sheet Counter'!AI673,'Current Standards'!O:O,0),0),\"\")","v":""}]
[null,null,0,"","",{"$error":"#VALUE!"},"",{"$f":"IF(I674=\"\",\"\",LARGE(H$1:H673,1)+1)","v":{"$error":"#VALUE!"}},{"$error":"#VALUE!"},673,{"$error":"#N/A"},"",null,null,673,0,{"$f":"IF(R674=\"\",\"\",LARGE(Q$1:Q673,1)+1)","v":{"$error":"#NUM!"}},{"$error":"#NUM!"},673,{"$error":"#N/A"},"","",null,null,0,{"$error":"#VALUE!"},3999,"","",null,null,null,null,{"$error":"#VALUE!"},{"$error":"#VALUE!"},{"$f":"COUNTIF('Standards LOOKUP'!B:B,AI674)","v":0},{"$f":"IFERROR(INDEX('Standards LOOKUP'!C:C,MATCH(AI674,'Standards LOOKUP'!B:B,0),0),0)","v":0},{"$f":"IFERROR(INDEX('Current Standards'!P:P,MATCH('Sheet Counter'!AI674,'Current Standards'!O:O,0),0),\"\")","v":""}]
[null,null,0,"","",{"$error":"#VALUE!"},"",{"$f":"IF(I675=\"\",\"\",LARGE(H$1:H674,1)+1)","v":{"$error":"#VALUE!"}},{"$error":"#VALUE!"},674,{"$error":"#N/A"},"",null,null,674,0,{"$f":"IF(R675=\"\",\"\",LARGE(Q$1:Q674,1)+1)","v":{"$error":"#NUM!"}},{"$error":"#NUM!"},674,{"$error":"#N/A"},"","",null,null,0,{"$error":"#VALUE!"},3999,"","",null,null,null,null,{"$error":"#VALUE!"},{"$error":"#VALUE!"},{"$f":"COUNTIF('Standards LOOKUP'!B:B,AI675)","v":0},{"$f":"IFERROR(INDEX('Standards LOOKUP'!C:C,MATCH(AI675,'Standards LOOKUP'!B:B,0),0),0)","v":0},{"$f":"IFERROR(INDEX('Current Standards'!P:P,MATCH('Sheet Counter'!AI675,'Current Standards'!O:O,0),0),\"\")","v":""}]
[null,null,0,"","",{"$error":"#VALUE!"},"",{"$f":"IF(I676=\"\",\"\",LARGE(H$1:H675,1)+1)","v":{"$error":"#VALUE!"}},{"$error":"#VALUE!"},675,{"$error":"#N/A"},"",null,null,675,0,{"$f":"IF(R676=\"\",\"\",LARGE(Q$1:Q675,1)+1)","v":{"$error":"#NUM!"}},{"$error":"#NUM!"},675,{"$error":"#N/A"},"","",null,null,0,{"$error":"#VALUE!"},3999,"","",null,null,null,null,{"$error":"#VALUE!"},{"$error":"#VALUE!"},{"$f":"COUNTIF('Standards LOOKUP'!B:B,AI676)","v":0},{"$f":"IFERROR(INDEX('Standards LOOKUP'!C:C,MATCH(AI676,'Standards LOOKUP'!B:B,0),0),0)","v":0},{"$f":"IFERROR(INDEX('Current Standards'!P:P,MATCH('Sheet Counter'!AI676,'Current Standards'!O:O,0),0),\"\")","v":""}]
[null,null,0,"","",{"$error":"#VALUE!"},"",{"$f":"IF(I677=\"\",\"\",LARGE(H$1:H676,1)+1)","v":{"$error":"#VALUE!"}},{"$error":"#VALUE!"},676,{"$error":"#N/A"},"",null,null,676,0,{"$f":"IF(R677=\"\",\"\",LARGE(Q$1:Q676,1)+1)","v":{"$error":"#NUM!"}},{"$error":"#NUM!"},676,{"$error":"#N/A"},"","",null,null,0,{"$error":"#VALUE!"},3999,"","",null,null,null,null,{"$error":"#VALUE!"},{"$error":"#VALUE!"},{"$f":"COUNTIF('Standards LOOKUP'!B:B,AI677)","v":0},{"$f":"IFERROR(INDEX('Standards LOOKUP'!C:C,MATCH(AI677,'Standards LOOKUP'!B:B,0),0),0)","v":0},{"$f":"IFERROR(INDEX('Current Standards'!P:P,MATCH('Sheet Counter'!AI677,'Current Standards'!O:O,0),0),\"\")","v":""}]
[null,null,0,"","",{"$error":"#VALUE!"},"",{"$f":"IF(I678=\"\",\"\",LARGE(H$1:H677,1)+1)","v":{"$error":"#VALUE!"}},{"$error":"#VALUE!"},677,{"$error":"#N/A"},"",null,null,677,0,{"$f":"IF(R678=\"\",\"\",LARGE(Q$1:Q677,1)+1)","v":{"$error":"#NUM!"}},{"$error":"#NUM!"},677,{"$error":"#N/A"},"","",null,null,0,{"$error":"#VALUE!"},3999,"","",null,null,null,null,{"$error":"#VALUE!"},{"$error":"#VALUE!"},{"$f":"COUNTIF('Standards LOOKUP'!B:B,AI678)","v":0},{"$f":"IFERROR(INDEX('Standards LOOKUP'!C:C,MATCH(AI678,'Standards LOOKUP'!B:B,0),0),0)","v":0},{"$f":"IFERROR(INDEX('Current Standards'!P:P,MATCH('Sheet Counter'!AI678,'Current Standards'!O:O,0),0),\"\")","v":""}]
[null,null,0,"","",{"$error":"#VALUE!"},"",{"$f":"IF(I679=\"\",\"\",LARGE(H$1:H678,1)+1)","v":{"$error":"#VALUE!"}},{"$error":"#VALUE!"},678,{"$error":"#N/A"},"",null,null,678,0,{"$f":"IF(R679=\"\",\"\",LARGE(Q$1:Q678,1)+1)","v":{"$error":"#NUM!"}},{"$error":"#NUM!"},678,{"$error":"#N/A"},"","",null,null,0,{"$error":"#VALUE!"},3999,"","",null,null,null,null,{"$error":"#VALUE!"},{"$error":"#VALUE!"},{"$f":"COUNTIF('Standards LOOKUP'!B:B,AI679)","v":0},{"$f":"IFERROR(INDEX('Standards LOOKUP'!C:C,MATCH(AI679,'Standards LOOKUP'!B:B,0),0),0)","v":0},{"$f":"IFERROR(INDEX('Current Standards'!P:P,MATCH('Sheet Counter'!AI679,'Current Standards'!O:O,0),0),\"\")","v":""}]
[null,null,0,"","",{"$error":"#VALUE!"},"",{"$f":"IF(I680=\"\",\"\",LARGE(H$1:H679,1)+1)","v":{"$error":"#VALUE!"}},{"$error":"#VALUE!"},679,{"$error":"#N/A"},"",null,null,679,0,{"$f":"IF(R680=\"\",\"\",LARGE(Q$1:Q679,1)+1)","v":{"$error":"#NUM!"}},{"$error":"#NUM!"},679,{"$error":"#N/A"},"","",null,null,0,{"$error":"#VALUE!"},3999,"","",null,null,null,null,{"$error":"#VALUE!"},{"$error":"#VALUE!"},{"$f":"COUNTIF('Standards LOOKUP'!B:B,AI680)","v":0},{"$f":"IFERROR(INDEX('Standards LOOKUP'!C:C,MATCH(AI680,'Standards LOOKUP'!B:B,0),0),0)","v":0},{"$f":"IFERROR(INDEX('Current Standards'!P:P,MATCH('Sheet Counter'!AI680,'Current Standards'!O:O,0),0),\"\")","v":""}]
[null,null,0,"","",{"$error":"#VALUE!"},"",{"$f":"IF(I681=\"\",\"\",LARGE(H$1:H680,1)+1)","v":{"$error":"#VALUE!"}},{"$error":"#VALUE!"},680,{"$error":"#N/A"},"",null,null,680,0,{"$f":"IF(R681=\"\",\"\",LARGE(Q$1:Q680,1)+1)","v":{"$error":"#NUM!"}},{"$error":"#NUM!"},680,{"$error":"#N/A"},"","",null,null,0,{"$error":"#VALUE!"},3999,"","",null,null,null,null,{"$error":"#VALUE!"},{"$error":"#VALUE!"},{"$f":"COUNTIF('Standards LOOKUP'!B:B,AI681)","v":0},{"$f":"IFERROR(INDEX('Standards LOOKUP'!C:C,MATCH(AI681,'Standards LOOKUP'!B:B,0),0),0)","v":0},{"$f":"IFERROR(INDEX('Current Standards'!P:P,MATCH('Sheet Counter'!AI681,'Current Standards'!O:O,0),0),\"\")","v":""}]
[null,null,0,"","",{"$error":"#VALUE!"},"",{"$f":"IF(I682=\"\",\"\",LARGE(H$1:H681,1)+1)","v":{"$error":"#VALUE!"}},{"$error":"#VALUE!"},681,{"$error":"#N/A"},"",null,null,681,0,{"$f":"IF(R682=\"\",\"\",LARGE(Q$1:Q681,1)+1)","v":{"$error":"#NUM!"}},{"$error":"#NUM!"},681,{"$error":"#N/A"},"","",null,null,0,{"$error":"#VALUE!"},3999,"","",null,null,null,null,{"$error":"#VALUE!"},{"$error":"#VALUE!"},{"$f":"COUNTIF('Standards LOOKUP'!B:B,AI682)","v":0},{"$f":"IFERROR(INDEX('Standards LOOKUP'!C:C,MATCH(AI682,'Standards LOOKUP'!B:B,0),0),0)","v":0},{"$f":"IFERROR(INDEX('Current Standards'!P:P,MATCH('Sheet Counter'!AI682,'Current Standards'!O:O,0),0),\"\")","v":""}]
[null,null,0,"","",{"$error":"#VALUE!"},"",{"$f":"IF(I683=\"\",\"\",LARGE(H$1:H682,1)+1)","v":{"$error":"#VALUE!"}},{"$error":"#VALUE!"},682,{"$error":"#N/A"},"",null,null,682,0,{"$f":"IF(R683=\"\",\"\",LARGE(Q$1:Q682,1)+1)","v":{"$error":"#NUM!"}},{"$error":"#NUM!"},682,{"$error":"#N/A"},"","",null,null,0,{"$error":"#VALUE!"},3999,"","",null,null,null,null,{"$error":"#VALUE!"},{"$error":"#VALUE!"},{"$f":"COUNTIF('Standards LOOKUP'!B:B,AI683)","v":0},{"$f":"IFERROR(INDEX('Standards LOOKUP'!C:C,MATCH(AI683,'Standards LOOKUP'!B:B,0),0),0)","v":0},{"$f":"IFERROR(INDEX('Current Standards'!P:P,MATCH('Sheet Counter'!AI683,'Current Standards'!O:O,0),0),\"\")","v":""}]
[null,null,0,"","",{"$error":"#VALUE!"},"",{"$f":"IF(I684=\"\",\"\",LARGE(H$1:H683,1)+1)","v":{"$error":"#VALUE!"}},{"$error":"#VALUE!"},683,{"$error":"#N/A"},"",null,null,683,0,{"$f":"IF(R684=\"\",\"\",LARGE(Q$1:Q683,1)+1)","v":{"$error":"#NUM!"}},{"$error":"#NUM!"},683,{"$error":"#N/A"},"","",null,null,0,{"$error":"#VALUE!"},3999,"","",null,null,null,null,{"$error":"#VALUE!"},{"$error":"#VALUE!"},{"$f":"COUNTIF('Standards LOOKUP'!B:B,AI684)","v":0},{"$f":"IFERROR(INDEX('Standards LOOKUP'!C:C,MATCH(AI684,'Standards LOOKUP'!B:B,0),0),0)","v":0},{"$f":"IFERROR(INDEX('Current Standards'!P:P,MATCH('Sheet Counter'!AI684,'Current Standards'!O:O,0),0),\"\")","v":""}]
[null,null,0,"","",{"$error":"#VALUE!"},"",{"$f":"IF(I685=\"\",\"\",LARGE(H$1:H684,1)+1)","v":{"$error":"#VALUE!"}},{"$error":"#VALUE!"},684,{"$error":"#N/A"},"",null,null,684,0,{"$f":"IF(R685=\"\",\"\",LARGE(Q$1:Q684,1)+1)","v":{"$error":"#NUM!"}},{"$error":"#NUM!"},684,{"$error":"#N/A"},"","",null,null,0,{"$error":"#VALUE!"},3999,"","",null,null,null,null,{"$error":"#VALUE!"},{"$error":"#VALUE!"},{"$f":"COUNTIF('Standards LOOKUP'!B:B,AI685)","v":0},{"$f":"IFERROR(INDEX('Standards LOOKUP'!C:C,MATCH(AI685,'Standards LOOKUP'!B:B,0),0),0)","v":0},{"$f":"IFERROR(INDEX('Current Standards'!P:P,MATCH('Sheet Counter'!AI685,'Current Standards'!O:O,0),0),\"\")","v":""}]
[null,null,0,"","",{"$error":"#VALUE!"},"",{"$f":"IF(I686=\"\",\"\",LARGE(H$1:H685,1)+1)","v":{"$error":"#VALUE!"}},{"$error":"#VALUE!"},685,{"$error":"#N/A"},"",null,null,685,0,{"$f":"IF(R686=\"\",\"\",LARGE(Q$1:Q685,1)+1)","v":{"$error":"#NUM!"}},{"$error":"#NUM!"},685,{"$error":"#N/A"},"","",null,null,0,{"$error":"#VALUE!"},3999,"","",null,null,null,null,{"$error":"#VALUE!"},{"$error":"#VALUE!"},{"$f":"COUNTIF('Standards LOOKUP'!B:B,AI686)","v":0},{"$f":"IFERROR(INDEX('Standards LOOKUP'!C:C,MATCH(AI686,'Standards LOOKUP'!B:B,0),0),0)","v":0},{"$f":"IFERROR(INDEX('Current Standards'!P:P,MATCH('Sheet Counter'!AI686,'Current Standards'!O:O,0),0),\"\")","v":""}]
[null,null,0,"","",{"$error":"#VALUE!"},"",{"$f":"IF(I687=\"\",\"\",LARGE(H$1:H686,1)+1)","v":{"$error":"#VALUE!"}},{"$error":"#VALUE!"},686,{"$error":"#N/A"},"",null,null,686,0,{"$f":"IF(R687=\"\",\"\",LARGE(Q$1:Q686,1)+1)","v":{"$error":"#NUM!"}},{"$error":"#NUM!"},686,{"$error":"#N/A"},"","",null,null,0,{"$error":"#VALUE!"},3999,"","",null,null,null,null,{"$error":"#VALUE!"},{"$error":"#VALUE!"},{"$f":"COUNTIF('Standards LOOKUP'!B:B,AI687)","v":0},{"$f":"IFERROR(INDEX('Standards LOOKUP'!C:C,MATCH(AI687,'Standards LOOKUP'!B:B,0),0),0)","v":0},{"$f":"IFERROR(INDEX('Current Standards'!P:P,MATCH('Sheet Counter'!AI687,'Current Standards'!O:O,0),0),\"\")","v":""}]
[null,null,0,"","",{"$error":"#VALUE!"},"",{"$f":"IF(I688=\"\",\"\",LARGE(H$1:H687,1)+1)","v":{"$error":"#VALUE!"}},{"$error":"#VALUE!"},687,{"$error":"#N/A"},"",null,null,687,0,{"$f":"IF(R688=\"\",\"\",LARGE(Q$1:Q687,1)+1)","v":{"$error":"#NUM!"}},{"$error":"#NUM!"},687,{"$error":"#N/A"},"","",null,null,0,{"$error":"#VALUE!"},3999,"","",null,null,null,null,{"$error":"#VALUE!"},{"$error":"#VALUE!"},{"$f":"COUNTIF('Standards LOOKUP'!B:B,AI688)","v":0},{"$f":"IFERROR(INDEX('Standards LOOKUP'!C:C,MATCH(AI688,'Standards LOOKUP'!B:B,0),0),0)","v":0},{"$f":"IFERROR(INDEX('Current Standards'!P:P,MATCH('Sheet Counter'!AI688,'Current Standards'!O:O,0),0),\"\")","v":""}]
[null,null,0,"","",{"$error":"#VALUE!"},"",{"$f":"IF(I689=\"\",\"\",LARGE(H$1:H688,1)+1)","v":{"$error":"#VALUE!"}},{"$error":"#VALUE!"},688,{"$error":"#N/A"},"",null,null,688,0,{"$f":"IF(R689=\"\",\"\",LARGE(Q$1:Q688,1)+1)","v":{"$error":"#NUM!"}},{"$error":"#NUM!"},688,{"$error":"#N/A"},"","",null,null,0,{"$error":"#VALUE!"},3999,"","",null,null,null,null,{"$error":"#VALUE!"},{"$error":"#VALUE!"},{"$f":"COUNTIF('Standards LOOKUP'!B:B,AI689)","v":0},{"$f":"IFERROR(INDEX('Standards LOOKUP'!C:C,MATCH(AI689,'Standards LOOKUP'!B:B,0),0),0)","v":0},{"$f":"IFERROR(INDEX('Current Standards'!P:P,MATCH('Sheet Counter'!AI689,'Current Standards'!O:O,0),0),\"\")","v":""}]
[null,null,0,"","",{"$error":"#VALUE!"},"",{"$f":"IF(I690=\"\",\"\",LARGE(H$1:H689,1)+1)","v":{"$error":"#VALUE!"}},{"$error":"#VALUE!"},689,{"$error":"#N/A"},"",null,null,689,0,{"$f":"IF(R690=\"\",\"\",LARGE(Q$1:Q689,1)+1)","v":{"$error":"#NUM!"}},{"$error":"#NUM!"},689,{"$error":"#N/A"},"","",null,null,0,{"$error":"#VALUE!"},3999,"","",null,null,null,null,{"$error":"#VALUE!"},{"$error":"#VALUE!"},{"$f":"COUNTIF('Standards LOOKUP'!B:B,AI690)","v":0},{"$f":"IFERROR(INDEX('Standards LOOKUP'!C:C,MATCH(AI690,'Standards LOOKUP'!B:B,0),0),0)","v":0},{"$f":"IFERROR(INDEX('Current Standards'!P:P,MATCH('Sheet Counter'!AI690,'Current Standards'!O:O,0),0),\"\")","v":""}]
[null,null,0,"","",{"$error":"#VALUE!"},"",{"$f":"IF(I691=\"\",\"\",LARGE(H$1:H690,1)+1)","v":{"$error":"#VALUE!"}},{"$error":"#VALUE!"},690,{"$error":"#N/A"},"",null,null,690,0,{"$f":"IF(R691=\"\",\"\",LARGE(Q$1:Q690,1)+1)","v":{"$error":"#NUM!"}},{"$error":"#NUM!"},690,{"$error":"#N/A"},"","",null,null,0,{"$error":"#VALUE!"},3999,"","",null,null,null,null,{"$error":"#VALUE!"},{"$error":"#VALUE!"},{"$f":"COUNTIF('Standards LOOKUP'!B:B,AI691)","v":0},{"$f":"IFERROR(INDEX('Standards LOOKUP'!C:C,MATCH(AI691,'Standards LOOKUP'!B:B,0),0),0)","v":0},{"$f":"IFERROR(INDEX('Current Standards'!P:P,MATCH('Sheet Counter'!AI691,'Current Standards'!O:O,0),0),\"\")","v":""}]
[null,null,0,"","",{"$error":"#VALUE!"},"",{"$f":"IF(I692=\"\",\"\",LARGE(H$1:H691,1)+1)","v":{"$error":"#VALUE!"}},{"$error":"#VALUE!"},691,{"$error":"#N/A"},"",null,null,691,0,{"$f":"IF(R692=\"\",\"\",LARGE(Q$1:Q691,1)+1)","v":{"$error":"#NUM!"}},{"$error":"#NUM!"},691,{"$error":"#N/A"},"","",null,null,0,{"$error":"#VALUE!"},3999,"","",null,null,null,null,{"$error":"#VALUE!"},{"$error":"#VALUE!"},{"$f":"COUNTIF('Standards LOOKUP'!B:B,AI692)","v":0},{"$f":"IFERROR(INDEX('Standards LOOKUP'!C:C,MATCH(AI692,'Standards LOOKUP'!B:B,0),0),0)","v":0},{"$f":"IFERROR(INDEX('Current Standards'!P:P,MATCH('Sheet Counter'!AI692,'Current Standards'!O:O,0),0),\"\")","v":""}]
[null,null,0,"","",{"$error":"#VALUE!"},"",{"$f":"IF(I693=\"\",\"\",LARGE(H$1:H692,1)+1)","v":{"$error":"#VALUE!"}},{"$error":"#VALUE!"},692,{"$error":"#N/A"},"",null,null,692,0,{"$f":"IF(R693=\"\",\"\",LARGE(Q$1:Q692,1)+1)","v":{"$error":"#NUM!"}},{"$error":"#NUM!"},692,{"$error":"#N/A"},"","",null,null,0,{"$error":"#VALUE!"},3999,"","",null,null,null,null,{"$error":"#VALUE!"},{"$error":"#VALUE!"},{"$f":"COUNTIF('Standards LOOKUP'!B:B,AI693)","v":0},{"$f":"IFERROR(INDEX('Standards LOOKUP'!C:C,MATCH(AI693,'Standards LOOKUP'!B:B,0),0),0)","v":0},{"$f":"IFERROR(INDEX('Current Standards'!P:P,MATCH('Sheet Counter'!AI693,'Current Standards'!O:O,0),0),\"\")","v":""}]
[null,null,0,"","",{"$error":"#VALUE!"},"",{"$f":"IF(I694=\"\",\"\",LARGE(H$1:H693,1)+1)","v":{"$error":"#VALUE!"}},{"$error":"#VALUE!"},693,{"$f":"VLOOKUP(J694,H:I,2,0)","v":{"$error":"#N/A"}},{"$f":"IF(ISERROR(K694),\"\",K694)","v":""},null,null,693,0,{"$f":"IF(R694=\"\",\"\",LARGE(Q$1:Q693,1)+1)","v":{"$error":"#NUM!"}},{"$error":"#NUM!"},693,{"$f":"VLOOKUP(S694,Q:R,2,0)","v":{"$error":"#N/A"}},{"$f":"IF(ISERROR(T694),\"\",T694)","v":""},{"$f":"IF(U694=\"\",\"\",VLOOKUP(U694,O:P,2,0))","v":""},null,null,0,{"$error":"#VALUE!"},3999,"","",null,null,null,null,{"$error":"#VALUE!"},{"$error":"#VALUE!"},{"$f":"COUNTIF('Standards LOOKUP'!B:B,AI694)","v":0},{"$f":"IFERROR(INDEX('Standards LOOKUP'!C:C,MATCH(AI694,'Standards LOOKUP'!B:B,0),0),0)","v":0},{"$f":"IFERROR(INDEX('Current Standards'!P:P,MATCH('Sheet Counter'!AI694,'Current Standards'!O:O,0),0),\"\")","v":""}]
[null,null,0,"","",{"$error":"#VALUE!"},"",{"$f":"IF(I695=\"\",\"\",LARGE(H$1:H694,1)+1)","v":{"$error":"#VALUE!"}},{"$error":"#VALUE!"},694,{"$error":"#N/A"},"",null,null,694,0,{"$f":"IF(R695=\"\",\"\",LARGE(Q$1:Q694,1)+1)","v":{"$error":"#NUM!"}},{"$error":"#NUM!"},694,{"$error":"#N/A"},"","",null,null,0,{"$error":"#VALUE!"},3999,"","",null,null,null,null,{"$error":"#VALUE!"},{"$error":"#VALUE!"},{"$f":"COUNTIF('Standards LOOKUP'!B:B,AI695)","v":0},{"$f":"IFERROR(INDEX('Standards LOOKUP'!C:C,MATCH(AI695,'Standards LOOKUP'!B:B,0),0),0)","v":0},{"$f":"IFERROR(INDEX('Current Standards'!P:P,MATCH('Sheet Counter'!AI695,'Current Standards'!O:O,0),0),\"\")","v":""}]
[null,null,0,"","",{"$error":"#VALUE!"},"",{"$f":"IF(I696=\"\",\"\",LARGE(H$1:H695,1)+1)","v":{"$error":"#VALUE!"}},{"$error":"#VALUE!"},695,{"$error":"#N/A"},"",null,null,695,0,{"$f":"IF(R696=\"\",\"\",LARGE(Q$1:Q695,1)+1)","v":{"$error":"#NUM!"}},{"$error":"#NUM!"},695,{"$error":"#N/A"},"","",null,null,0,{"$error":"#VALUE!"},3999,"","",null,null,null,null,{"$error":"#VALUE!"},{"$error":"#VALUE!"},{"$f":"COUNTIF('Standards LOOKUP'!B:B,AI696)","v":0},{"$f":"IFERROR(INDEX('Standards LOOKUP'!C:C,MATCH(AI696,'Standards LOOKUP'!B:B,0),0),0)","v":0},{"$f":"IFERROR(INDEX('Current Standards'!P:P,MATCH('Sheet Counter'!AI696,'Current Standards'!O:O,0),0),\"\")","v":""}]
[null,null,0,"","",{"$error":"#VALUE!"},"",{"$f":"IF(I697=\"\",\"\",LARGE(H$1:H696,1)+1)","v":{"$error":"#VALUE!"}},{"$error":"#VALUE!"},696,{"$error":"#N/A"},"",null,null,696,0,{"$f":"IF(R697=\"\",\"\",LARGE(Q$1:Q696,1)+1)","v":{"$error":"#NUM!"}},{"$error":"#NUM!"},696,{"$error":"#N/A"},"","",null,null,0,{"$error":"#VALUE!"},3999,"","",null,null,null,null,{"$error":"#VALUE!"},{"$error":"#VALUE!"},{"$f":"COUNTIF('Standards LOOKUP'!B:B,AI697)","v":0},{"$f":"IFERROR(INDEX('Standards LOOKUP'!C:C,MATCH(AI697,'Standards LOOKUP'!B:B,0),0),0)","v":0},{"$f":"IFERROR(INDEX('Current Standards'!P:P,MATCH('Sheet Counter'!AI697,'Current Standards'!O:O,0),0),\"\")","v":""}]
[null,null,0,"","",{"$error":"#VALUE!"},"",{"$f":"IF(I698=\"\",\"\",LARGE(H$1:H697,1)+1)","v":{"$error":"#VALUE!"}},{"$error":"#VALUE!"},697,{"$error":"#N/A"},"",null,null,697,0,{"$f":"IF(R698=\"\",\"\",LARGE(Q$1:Q697,1)+1)","v":{"$error":"#NUM!"}},{"$error":"#NUM!"},697,{"$error":"#N/A"},"","",null,null,0,{"$error":"#VALUE!"},3999,"","",null,null,null,null,{"$error":"#VALUE!"},{"$error":"#VALUE!"},{"$f":"COUNTIF('Standards LOOKUP'!B:B,AI698)","v":0},{"$f":"IFERROR(INDEX('Standards LOOKUP'!C:C,MATCH(AI698,'Standards LOOKUP'!B:B,0),0),0)","v":0},{"$f":"IFERROR(INDEX('Current Standards'!P:P,MATCH('Sheet Counter'!AI698,'Current Standards'!O:O,0),0),\"\")","v":""}]
[null,null,0,"","",{"$error":"#VALUE!"},"",{"$f":"IF(I699=\"\",\"\",LARGE(H$1:H698,1)+1)","v":{"$error":"#VALUE!"}},{"$error":"#VALUE!"},698,{"$error":"#N/A"},"",null,null,698,0,{"$f":"IF(R699=\"\",\"\",LARGE(Q$1:Q698,1)+1)","v":{"$error":"#NUM!"}},{"$error":"#NUM!"},698,{"$error":"#N/A"},"","",null,null,0,{"$error":"#VALUE!"},3999,"","",null,null,null,null,{"$error":"#VALUE!"},{"$error":"#VALUE!"},{"$f":"COUNTIF('Standards LOOKUP'!B:B,AI699)","v":0},{"$f":"IFERROR(INDEX('Standards LOOKUP'!C:C,MATCH(AI699,'Standards LOOKUP'!B:B,0),0),0)","v":0},{"$f":"IFERROR(INDEX('Current Standards'!P:P,MATCH('Sheet Counter'!AI699,'Current Standards'!O:O,0),0),\"\")","v":""}]
[null,null,0,"","",{"$error":"#VALUE!"},"",{"$f":"IF(I700=\"\",\"\",LARGE(H$1:H699,1)+1)","v":{"$error":"#VALUE!"}},{"$error":"#VALUE!"},699,{"$error":"#N/A"},"",null,null,699,0,{"$f":"IF(R700=\"\",\"\",LARGE(Q$1:Q699,1)+1)","v":{"$error":"#NUM!"}},{"$error":"#NUM!"},699,{"$error":"#N/A"},"","",null,null,0,{"$error":"#VALUE!"},3999,"","",null,null,null,null,{"$error":"#VALUE!"},{"$error":"#VALUE!"},{"$f":"COUNTIF('Standards LOOKUP'!B:B,AI700)","v":0},{"$f":"IFERROR(INDEX('Standards LOOKUP'!C:C,MATCH(AI700,'Standards LOOKUP'!B:B,0),0),0)","v":0},{"$f":"IFERROR(INDEX('Current Standards'!P:P,MATCH('Sheet Counter'!AI700,'Current Standards'!O:O,0),0),\"\")","v":""}]
[null,null,0,"","",{"$error":"#VALUE!"},"",{"$f":"IF(I701=\"\",\"\",LARGE(H$1:H700,1)+1)","v":{"$error":"#VALUE!"}},{"$error":"#VALUE!"},700,{"$error":"#N/A"},"",null,null,700,0,{"$f":"IF(R701=\"\",\"\",LARGE(Q$1:Q700,1)+1)","v":{"$error":"#NUM!"}},{"$error":"#NUM!"},700,{"$error":"#N/A"},"","",null,null,0,{"$error":"#VALUE!"},3999,"","",null,null,null,null,{"$error":"#VALUE!"},{"$error":"#VALUE!"},{"$f":"COUNTIF('Standards LOOKUP'!B:B,AI701)","v":0},{"$f":"IFERROR(INDEX('Standards LOOKUP'!C:C,MATCH(AI701,'Standards LOOKUP'!B:B,0),0),0)","v":0},{"$f":"IFERROR(INDEX('Current Standards'!P:P,MATCH('Sheet Counter'!AI701,'Current Standards'!O:O,0),0),\"\")","v":""}]
[null,null,0,"","",{"$error":"#VALUE!"},"",{"$f":"IF(I702=\"\",\"\",LARGE(H$1:H701,1)+1)","v":{"$error":"#VALUE!"}},{"$error":"#VALUE!"},701,{"$error":"#N/A"},"",null,null,701,0,{"$f":"IF(R702=\"\",\"\",LARGE(Q$1:Q701,1)+1)","v":{"$error":"#NUM!"}},{"$error":"#NUM!"},701,{"$error":"#N/A"},"","",null,null,0,{"$error":"#VALUE!"},3999,"","",null,null,null,null,{"$error":"#VALUE!"},{"$error":"#VALUE!"},{"$f":"COUNTIF('Standards LOOKUP'!B:B,AI702)","v":0},{"$f":"IFERROR(INDEX('Standards LOOKUP'!C:C,MATCH(AI702,'Standards LOOKUP'!B:B,0),0),0)","v":0},{"$f":"IFERROR(INDEX('Current Standards'!P:P,MATCH('Sheet Counter'!AI702,'Current Standards'!O:O,0),0),\"\")","v":""}]
[null,null,0,"","",{"$error":"#VALUE!"},"",{"$f":"IF(I703=\"\",\"\",LARGE(H$1:H702,1)+1)","v":{"$error":"#VALUE!"}},{"$error":"#VALUE!"},702,{"$error":"#N/A"},"",null,null,702,0,{"$f":"IF(R703=\"\",\"\",LARGE(Q$1:Q702,1)+1)","v":{"$error":"#NUM!"}},{"$error":"#NUM!"},702,{"$error":"#N/A"},"","",null,null,0,{"$error":"#VALUE!"},3999,"","",null,null,null,null,{"$error":"#VALUE!"},{"$error":"#VALUE!"},{"$f":"COUNTIF('Standards LOOKUP'!B:B,AI703)","v":0},{"$f":"IFERROR(INDEX('Standards LOOKUP'!C:C,MATCH(AI703,'Standards LOOKUP'!B:B,0),0),0)","v":0},{"$f":"IFERROR(INDEX('Current Standards'!P:P,MATCH('Sheet Counter'!AI703,'Current Standards'!O:O,0),0),\"\")","v":""}]
[null,null,0,"","",{"$error":"#VALUE!"},"",{"$f":"IF(I704=\"\",\"\",LARGE(H$1:H703,1)+1)","v":{"$error":"#VALUE!"}},{"$error":"#VALUE!"},703,{"$error":"#N/A"},"",null,null,703,0,{"$f":"IF(R704=\"\",\"\",LARGE(Q$1:Q703,1)+1)","v":{"$error":"#NUM!"}},{"$error":"#NUM!"},703,{"$error":"#N/A"},"","",null,null,0,{"$error":"#VALUE!"},3999,"","",null,null,null,null,{"$error":"#VALUE!"},{"$error":"#VALUE!"},{"$f":"COUNTIF('Standards LOOKUP'!B:B,AI704)","v":0},{"$f":"IFERROR(INDEX('Standards LOOKUP'!C:C,MATCH(AI704,'Standards LOOKUP'!B:B,0),0),0)","v":0},{"$f":"IFERROR(INDEX('Current Standards'!P:P,MATCH('Sheet Counter'!AI704,'Current Standards'!O:O,0),0),\"\")","v":""}]
[null,null,0,"","",{"$error":"#VALUE!"},"",{"$f":"IF(I705=\"\",\"\",LARGE(H$1:H704,1)+1)","v":{"$error":"#VALUE!"}},{"$error":"#VALUE!"},704,{"$error":"#N/A"},"",null,null,704,0,{"$f":"IF(R705=\"\",\"\",LARGE(Q$1:Q704,1)+1)","v":{"$error":"#NUM!"}},{"$error":"#NUM!"},704,{"$error":"#N/A"},"","",null,null,0,{"$error":"#VALUE!"},3999,"","",null,null,null,null,{"$error":"#VALUE!"},{"$error":"#VALUE!"},{"$f":"COUNTIF('Standards LOOKUP'!B:B,AI705)","v":0},{"$f":"IFERROR(INDEX('Standards LOOKUP'!C:C,MATCH(AI705,'Standards LOOKUP'!B:B,0),0),0)","v":0},{"$f":"IFERROR(INDEX('Current Standards'!P:P,MATCH('Sheet Counter'!AI705,'Current Standards'!O:O,0),0),\"\")","v":""}]
[null,null,0,"","",{"$error":"#VALUE!"},"",{"$f":"IF(I706=\"\",\"\",LARGE(H$1:H705,1)+1)","v":{"$error":"#VALUE!"}},{"$f":"IF(G706=\"\",F706,\"\")","v":{"$error":"#VALUE!"}},705,{"$error":"#N/A"},"",null,null,705,{"$f":"COUNTIF(G:G,O706)","v":0},{"$f":"IF(R706=\"\",\"\",LARGE(Q$1:Q705,1)+1)","v":{"$error":"#NUM!"}},{"$error":"#NUM!"},705,{"$error":"#N/A"},"","",null,null,0,{"$error":"#VALUE!"},3999,"","",null,null,null,null,{"$error":"#VALUE!"},{"$error":"#VALUE!"},{"$f":"COUNTIF('Standards LOOKUP'!B:B,AI706)","v":0},{"$f":"IFERROR(INDEX('Standards LOOKUP'!C:C,MATCH(AI706,'Standards LOOKUP'!B:B,0),0),0)","v":0},{"$f":"IFERROR(INDEX('Current Standards'!P:P,MATCH('Sheet Counter'!AI706,'Current Standards'!O:O,0),0),\"\")","v":""}]
[null,null,{"$f":"IF(ISERROR(FIND(\"\\\",A707)),A707,RIGHT(A707,LEN(A707)-FIND(\"~\",SUBSTITUTE(A707,\"\\\",\"~\",LEN(A707)-LEN(SUBSTITUTE(A707,\"\\\",\"\"))))))","v":0},{"$f":"IF(AL707=\"\",\"\",AL707)","v":""},"",{"$f":"LEFT(C707,FIND(\"-\",SUBSTITUTE(SUBSTITUTE(C707,\"_\",\"-\"),\" \",\"-\"))-1)","v":{"$error":"#VALUE!"}},{"$f":"IF(ISNUMBER(F707*1),F707*1,\"\")","v":""},{"$f":"IF(I707=\"\",\"\",LARGE(H$1:H706,1)+1)","v":{"$error":"#VALUE!"}},{"$error":"#VALUE!"},706,{"$error":"#N/A"},"",null,null,706,0,{"$f":"IF(R707=\"\",\"\",LARGE(Q$1:Q706,1)+1)","v":{"$error":"#NUM!"}},{"$error":"#NUM!"},706,{"$error":"#N/A"},"","",null,null,{"$f":"IF(ISERROR(FIND(\"\\\",X707)),X707,RIGHT(X707,LEN(X707)-FIND(\"~\",SUBSTITUTE(X707,\"\\\",\"~\",LEN(X707)-LEN(SUBSTITUTE(X707,\"\\\",\"\"))))))","v":0},{"$f":"LEFT(Y707,FIND(\"-\",SUBSTITUTE(SUBSTITUTE(Y707,\"_\",\"-\"),\" \",\"-\"))-1)","v":{"$error":"#VALUE!"}},{"$f":"COUNTIF(F:F,Z707)","v":3999},{"$f":"IF(OR(AA707<1,ISERROR(Z707)),\"\",INDEX(C:C,MATCH(Z707,F:F)))","v":""},{"$f":"IF(AA707=0,\"New Sheet\",IF(EXACT(UPPER(Y707),UPPER(AB707)),\"Match\",\"\"))","v":""},null,null,null,null,{"$f":"IF(C707=\"\",\"\",LEFT(RIGHT(C707,LEN(C707)-SEARCH(\" \",C707,1)),LEN(RIGHT(C707,LEN(C707)-SEARCH(\" \",C707,1)))-4))","v":{"$error":"#VALUE!"}},{"$f":"TRIM(SUBSTITUTE(SUBSTITUTE(SUBSTITUTE(SUBSTITUTE(SUBSTITUTE(SUBSTITUTE(AH707,\"(\",\"\"),\")\",\"\"),\"-\",\"\"),\"&\",\"\"),\" \",\"\",1),\" \",\"\",1))","v":{"$error":"#VALUE!"}},{"$f":"COUNTIF('Standards LOOKUP'!B:B,AI707)","v":0},{"$f":"IFERROR(INDEX('Standards LOOKUP'!C:C,MATCH(AI707,'Standards LOOKUP'!B:B,0),0),0)","v":0},{"$f":"IFERROR(INDEX('Current Standards'!P:P,MATCH('Sheet Counter'!AI707,'Current Standards'!O:O,0),0),\"\")","v":""}]
[null,null,0,"","",{"$error":"#VALUE!"},"",{"$f":"IF(I708=\"\",\"\",LARGE(H$1:H707,1)+1)","v":{"$error":"#VALUE!"}},{"$error":"#VALUE!"},707,{"$error":"#N/A"},"",null,null,707,0,{"$f":"IF(R708=\"\",\"\",LARGE(Q$1:Q707,1)+1)","v":{"$error":"#NUM!"}},{"$f":"IF(AND(P708<>1,O708<=LARGE(G:G,1),O708>=SMALL(G:G,1)),O708,\"\")","v":{"$error":"#NUM!"}},707,{"$error":"#N/A"},"","",null,null,0,{"$error":"#VALUE!"},3999,"","",null,null,null,null,{"$error":"#VALUE!"},{"$error":"#VALUE!"},{"$f":"COUNTIF('Standards LOOKUP'!B:B,AI708)","v":0},{"$f":"IFERROR(INDEX('Standards LOOKUP'!C:C,MATCH(AI708,'Standards LOOKUP'!B:B,0),0),0)","v":0},{"$f":"IFERROR(INDEX('Current Standards'!P:P,MATCH('Sheet Counter'!AI708,'Current Standards'!O:O,0),0),\"\")","v":""}]
[null,null,0,"","",{"$error":"#VALUE!"},"",{"$f":"IF(I709=\"\",\"\",LARGE(H$1:H708,1)+1)","v":{"$error":"#VALUE!"}},{"$error":"#VALUE!"},708,{"$error":"#N/A"},"",null,null,708,0,{"$f":"IF(R709=\"\",\"\",LARGE(Q$1:Q708,1)+1)","v":{"$error":"#NUM!"}},{"$error":"#NUM!"},708,{"$error":"#N/A"},"","",null,null,0,{"$error":"#VALUE!"},3999,"","",null,null,null,null,{"$error":"#VALUE!"},{"$error":"#VALUE!"},{"$f":"COUNTIF('Standards LOOKUP'!B:B,AI709)","v":0},{"$f":"IFERROR(INDEX('Standards LOOKUP'!C:C,MATCH(AI709,'Standards LOOKUP'!B:B,0),0),0)","v":0},{"$f":"IFERROR(INDEX('Current Standards'!P:P,MATCH('Sheet Counter'!AI709,'Current Standards'!O:O,0),0),\"\")","v":""}]
[null,null,0,"","",{"$error":"#VALUE!"},"",{"$f":"IF(I710=\"\",\"\",LARGE(H$1:H709,1)+1)","v":{"$error":"#VALUE!"}},{"$error":"#VALUE!"},709,{"$error":"#N/A"},"",null,null,709,0,{"$f":"IF(R710=\"\",\"\",LARGE(Q$1:Q709,1)+1)","v":{"$error":"#NUM!"}},{"$error":"#NUM!"},709,{"$error":"#N/A"},"","",null,null,0,{"$error":"#VALUE!"},3999,"","",null,null,null,null,{"$error":"#VALUE!"},{"$error":"#VALUE!"},{"$f":"COUNTIF('Standards LOOKUP'!B:B,AI710)","v":0},{"$f":"IFERROR(INDEX('Standards LOOKUP'!C:C,MATCH(AI710,'Standards LOOKUP'!B:B,0),0),0)","v":0},{"$f":"IFERROR(INDEX('Current Standards'!P:P,MATCH('Sheet Counter'!AI710,'Current Standards'!O:O,0),0),\"\")","v":""}]
[null,null,0,"","",{"$error":"#VALUE!"},"",{"$f":"IF(I711=\"\",\"\",LARGE(H$1:H710,1)+1)","v":{"$error":"#VALUE!"}},{"$error":"#VALUE!"},710,{"$error":"#N/A"},"",null,null,710,0,{"$f":"IF(R711=\"\",\"\",LARGE(Q$1:Q710,1)+1)","v":{"$error":"#NUM!"}},{"$error":"#NUM!"},710,{"$error":"#N/A"},"","",null,null,0,{"$error":"#VALUE!"},3999,"","",null,null,null,null,{"$error":"#VALUE!"},{"$error":"#VALUE!"},{"$f":"COUNTIF('Standards LOOKUP'!B:B,AI711)","v":0},{"$f":"IFERROR(INDEX('Standards LOOKUP'!C:C,MATCH(AI711,'Standards LOOKUP'!B:B,0),0),0)","v":0},{"$f":"IFERROR(INDEX('Current Standards'!P:P,MATCH('Sheet Counter'!AI711,'Current Standards'!O:O,0),0),\"\")","v":""}]
[null,null,0,"","",{"$error":"#VALUE!"},"",{"$f":"IF(I712=\"\",\"\",LARGE(H$1:H711,1)+1)","v":{"$error":"#VALUE!"}},{"$error":"#VALUE!"},711,{"$error":"#N/A"},"",null,null,711,0,{"$f":"IF(R712=\"\",\"\",LARGE(Q$1:Q711,1)+1)","v":{"$error":"#NUM!"}},{"$error":"#NUM!"},711,{"$error":"#N/A"},"","",null,null,0,{"$error":"#VALUE!"},3999,"","",null,null,null,null,{"$error":"#VALUE!"},{"$error":"#VALUE!"},{"$f":"COUNTIF('Standards LOOKUP'!B:B,AI712)","v":0},{"$f":"IFERROR(INDEX('Standards LOOKUP'!C:C,MATCH(AI712,'Standards LOOKUP'!B:B,0),0),0)","v":0},{"$f":"IFERROR(INDEX('Current Standards'!P:P,MATCH('Sheet Counter'!AI712,'Current Standards'!O:O,0),0),\"\")","v":""}]
[null,null,0,"","",{"$error":"#VALUE!"},"",{"$f":"IF(I713=\"\",\"\",LARGE(H$1:H712,1)+1)","v":{"$error":"#VALUE!"}},{"$error":"#VALUE!"},712,{"$error":"#N/A"},"",null,null,712,0,{"$f":"IF(R713=\"\",\"\",LARGE(Q$1:Q712,1)+1)","v":{"$error":"#NUM!"}},{"$error":"#NUM!"},712,{"$error":"#N/A"},"","",null,null,0,{"$error":"#VALUE!"},3999,"","",null,null,null,null,{"$error":"#VALUE!"},{"$error":"#VALUE!"},{"$f":"COUNTIF('Standards LOOKUP'!B:B,AI713)","v":0},{"$f":"IFERROR(INDEX('Standards LOOKUP'!C:C,MATCH(AI713,'Standards LOOKUP'!B:B,0),0),0)","v":0},{"$f":"IFERROR(INDEX('Current Standards'!P:P,MATCH('Sheet Counter'!AI713,'Current Standards'!O:O,0),0),\"\")","v":""}]
[null,null,0,"","",{"$error":"#VALUE!"},"",{"$f":"IF(I714=\"\",\"\",LARGE(H$1:H713,1)+1)","v":{"$error":"#VALUE!"}},{"$error":"#VALUE!"},713,{"$error":"#N/A"},"",null,null,713,0,{"$f":"IF(R714=\"\",\"\",LARGE(Q$1:Q713,1)+1)","v":{"$error":"#NUM!"}},{"$error":"#NUM!"},713,{"$error":"#N/A"},"","",null,null,0,{"$error":"#VALUE!"},3999,"","",null,null,null,null,{"$error":"#VALUE!"},{"$error":"#VALUE!"},{"$f":"COUNTIF('Standards LOOKUP'!B:B,AI714)","v":0},{"$f":"IFERROR(INDEX('Standards LOOKUP'!C:C,MATCH(AI714,'Standards LOOKUP'!B:B,0),0),0)","v":0},{"$f":"IFERROR(INDEX('Current Standards'!P:P,MATCH('Sheet Counter'!AI714,'Current Standards'!O:O,0),0),\"\")","v":""}]
[null,null,0,"","",{"$error":"#VALUE!"},"",{"$f":"IF(I715=\"\",\"\",LARGE(H$1:H714,1)+1)","v":{"$error":"#VALUE!"}},{"$error":"#VALUE!"},714,{"$error":"#N/A"},"",null,null,714,0,{"$f":"IF(R715=\"\",\"\",LARGE(Q$1:Q714,1)+1)","v":{"$error":"#NUM!"}},{"$error":"#NUM!"},714,{"$error":"#N/A"},"","",null,null,0,{"$error":"#VALUE!"},3999,"","",null,null,null,null,{"$error":"#VALUE!"},{"$error":"#VALUE!"},{"$f":"COUNTIF('Standards LOOKUP'!B:B,AI715)","v":0},{"$f":"IFERROR(INDEX('Standards LOOKUP'!C:C,MATCH(AI715,'Standards LOOKUP'!B:B,0),0),0)","v":0},{"$f":"IFERROR(INDEX('Current Standards'!P:P,MATCH('Sheet Counter'!AI715,'Current Standards'!O:O,0),0),\"\")","v":""}]
[null,null,0,"","",{"$error":"#VALUE!"},"",{"$f":"IF(I716=\"\",\"\",LARGE(H$1:H715,1)+1)","v":{"$error":"#VALUE!"}},{"$error":"#VALUE!"},715,{"$error":"#N/A"},"",null,null,715,0,{"$f":"IF(R716=\"\",\"\",LARGE(Q$1:Q715,1)+1)","v":{"$error":"#NUM!"}},{"$error":"#NUM!"},715,{"$error":"#N/A"},"","",null,null,0,{"$error":"#VALUE!"},3999,"","",null,null,null,null,{"$error":"#VALUE!"},{"$error":"#VALUE!"},{"$f":"COUNTIF('Standards LOOKUP'!B:B,AI716)","v":0},{"$f":"IFERROR(INDEX('Standards LOOKUP'!C:C,MATCH(AI716,'Standards LOOKUP'!B:B,0),0),0)","v":0},{"$f":"IFERROR(INDEX('Current Standards'!P:P,MATCH('Sheet Counter'!AI716,'Current Standards'!O:O,0),0),\"\")","v":""}]
[null,null,0,"","",{"$error":"#VALUE!"},"",{"$f":"IF(I717=\"\",\"\",LARGE(H$1:H716,1)+1)","v":{"$error":"#VALUE!"}},{"$error":"#VALUE!"},716,{"$error":"#N/A"},"",null,null,716,0,{"$f":"IF(R717=\"\",\"\",LARGE(Q$1:Q716,1)+1)","v":{"$error":"#NUM!"}},{"$error":"#NUM!"},716,{"$error":"#N/A"},"","",null,null,0,{"$error":"#VALUE!"},3999,"","",null,null,null,null,{"$error":"#VALUE!"},{"$error":"#VALUE!"},{"$f":"COUNTIF('Standards LOOKUP'!B:B,AI717)","v":0},{"$f":"IFERROR(INDEX('Standards LOOKUP'!C:C,MATCH(AI717,'Standards LOOKUP'!B:B,0),0),0)","v":0},{"$f":"IFERROR(INDEX('Current Standards'!P:P,MATCH('Sheet Counter'!AI717,'Current Standards'!O:O,0),0),\"\")","v":""}]
[null,null,0,"","",{"$error":"#VALUE!"},"",{"$f":"IF(I718=\"\",\"\",LARGE(H$1:H717,1)+1)","v":{"$error":"#VALUE!"}},{"$error":"#VALUE!"},717,{"$error":"#N/A"},"",null,null,717,0,{"$f":"IF(R718=\"\",\"\",LARGE(Q$1:Q717,1)+1)","v":{"$error":"#NUM!"}},{"$error":"#NUM!"},717,{"$error":"#N/A"},"","",null,null,0,{"$error":"#VALUE!"},3999,"","",null,null,null,null,{"$error":"#VALUE!"},{"$error":"#VALUE!"},{"$f":"COUNTIF('Standards LOOKUP'!B:B,AI718)","v":0},{"$f":"IFERROR(INDEX('Standards LOOKUP'!C:C,MATCH(AI718,'Standards LOOKUP'!B:B,0),0),0)","v":0},{"$f":"IFERROR(INDEX('Current Standards'!P:P,MATCH('Sheet Counter'!AI718,'Current Standards'!O:O,0),0),\"\")","v":""}]
[null,null,0,"","",{"$error":"#VALUE!"},"",{"$f":"IF(I719=\"\",\"\",LARGE(H$1:H718,1)+1)","v":{"$error":"#VALUE!"}},{"$error":"#VALUE!"},718,{"$error":"#N/A"},"",null,null,718,0,{"$f":"IF(R719=\"\",\"\",LARGE(Q$1:Q718,1)+1)","v":{"$error":"#NUM!"}},{"$error":"#NUM!"},718,{"$error":"#N/A"},"","",null,null,0,{"$error":"#VALUE!"},3999,"","",null,null,null,null,{"$error":"#VALUE!"},{"$error":"#VALUE!"},{"$f":"COUNTIF('Standards LOOKUP'!B:B,AI719)","v":0},{"$f":"IFERROR(INDEX('Standards LOOKUP'!C:C,MATCH(AI719,'Standards LOOKUP'!B:B,0),0),0)","v":0},{"$f":"IFERROR(INDEX('Current Standards'!P:P,MATCH('Sheet Counter'!AI719,'Current Standards'!O:O,0),0),\"\")","v":""}]
[null,null,0,"","",{"$error":"#VALUE!"},"",{"$f":"IF(I720=\"\",\"\",LARGE(H$1:H719,1)+1)","v":{"$error":"#VALUE!"}},{"$error":"#VALUE!"},719,{"$error":"#N/A"},"",null,null,719,0,{"$f":"IF(R720=\"\",\"\",LARGE(Q$1:Q719,1)+1)","v":{"$error":"#NUM!"}},{"$error":"#NUM!"},719,{"$error":"#N/A"},"","",null,null,0,{"$error":"#VALUE!"},3999,"","",null,null,null,null,{"$error":"#VALUE!"},{"$error":"#VALUE!"},{"$f":"COUNTIF('Standards LOOKUP'!B:B,AI720)","v":0},{"$f":"IFERROR(INDEX('Standards LOOKUP'!C:C,MATCH(AI720,'Standards LOOKUP'!B:B,0),0),0)","v":0},{"$f":"IFERROR(INDEX('Current Standards'!P:P,MATCH('Sheet Counter'!AI720,'Current Standards'!O:O,0),0),\"\")","v":""}]
[null,null,0,"","",{"$error":"#VALUE!"},"",{"$f":"IF(I721=\"\",\"\",LARGE(H$1:H720,1)+1)","v":{"$error":"#VALUE!"}},{"$error":"#VALUE!"},720,{"$error":"#N/A"},"",null,null,720,0,{"$f":"IF(R721=\"\",\"\",LARGE(Q$1:Q720,1)+1)","v":{"$error":"#NUM!"}},{"$error":"#NUM!"},720,{"$error":"#N/A"},"","",null,null,0,{"$error":"#VALUE!"},3999,"","",null,null,null,null,{"$error":"#VALUE!"},{"$error":"#VALUE!"},{"$f":"COUNTIF('Standards LOOKUP'!B:B,AI721)","v":0},{"$f":"IFERROR(INDEX('Standards LOOKUP'!C:C,MATCH(AI721,'Standards LOOKUP'!B:B,0),0),0)","v":0},{"$f":"IFERROR(INDEX('Current Standards'!P:P,MATCH('Sheet Counter'!AI721,'Current Standards'!O:O,0),0),\"\")","v":""}]
[null,null,0,"","",{"$error":"#VALUE!"},"",{"$f":"IF(I722=\"\",\"\",LARGE(H$1:H721,1)+1)","v":{"$error":"#VALUE!"}},{"$error":"#VALUE!"},721,{"$error":"#N/A"},"",null,null,721,0,{"$f":"IF(R722=\"\",\"\",LARGE(Q$1:Q721,1)+1)","v":{"$error":"#NUM!"}},{"$error":"#NUM!"},721,{"$error":"#N/A"},"","",null,null,0,{"$error":"#VALUE!"},3999,"","",null,null,null,null,{"$error":"#VALUE!"},{"$error":"#VALUE!"},{"$f":"COUNTIF('Standards LOOKUP'!B:B,AI722)","v":0},{"$f":"IFERROR(INDEX('Standards LOOKUP'!C:C,MATCH(AI722,'Standards LOOKUP'!B:B,0),0),0)","v":0},{"$f":"IFERROR(INDEX('Current Standards'!P:P,MATCH('Sheet Counter'!AI722,'Current Standards'!O:O,0),0),\"\")","v":""}]
[null,null,0,"","",{"$error":"#VALUE!"},"",{"$f":"IF(I723=\"\",\"\",LARGE(H$1:H722,1)+1)","v":{"$error":"#VALUE!"}},{"$error":"#VALUE!"},722,{"$error":"#N/A"},"",null,null,722,0,{"$f":"IF(R723=\"\",\"\",LARGE(Q$1:Q722,1)+1)","v":{"$error":"#NUM!"}},{"$error":"#NUM!"},722,{"$error":"#N/A"},"","",null,null,0,{"$error":"#VALUE!"},3999,"","",null,null,null,null,{"$error":"#VALUE!"},{"$error":"#VALUE!"},{"$f":"COUNTIF('Standards LOOKUP'!B:B,AI723)","v":0},{"$f":"IFERROR(INDEX('Standards LOOKUP'!C:C,MATCH(AI723,'Standards LOOKUP'!B:B,0),0),0)","v":0},{"$f":"IFERROR(INDEX('Current Standards'!P:P,MATCH('Sheet Counter'!AI723,'Current Standards'!O:O,0),0),\"\")","v":""}]
[null,null,0,"","",{"$error":"#VALUE!"},"",{"$f":"IF(I724=\"\",\"\",LARGE(H$1:H723,1)+1)","v":{"$error":"#VALUE!"}},{"$error":"#VALUE!"},723,{"$error":"#N/A"},"",null,null,723,0,{"$f":"IF(R724=\"\",\"\",LARGE(Q$1:Q723,1)+1)","v":{"$error":"#NUM!"}},{"$error":"#NUM!"},723,{"$error":"#N/A"},"","",null,null,0,{"$error":"#VALUE!"},3999,"","",null,null,null,null,{"$error":"#VALUE!"},{"$error":"#VALUE!"},{"$f":"COUNTIF('Standards LOOKUP'!B:B,AI724)","v":0},{"$f":"IFERROR(INDEX('Standards LOOKUP'!C:C,MATCH(AI724,'Standards LOOKUP'!B:B,0),0),0)","v":0},{"$f":"IFERROR(INDEX('Current Standards'!P:P,MATCH('Sheet Counter'!AI724,'Current Standards'!O:O,0),0),\"\")","v":""}]
[null,null,0,"","",{"$error":"#VALUE!"},"",{"$f":"IF(I725=\"\",\"\",LARGE(H$1:H724,1)+1)","v":{"$error":"#VALUE!"}},{"$error":"#VALUE!"},724,{"$error":"#N/A"},"",null,null,724,0,{"$f":"IF(R725=\"\",\"\",LARGE(Q$1:Q724,1)+1)","v":{"$error":"#NUM!"}},{"$error":"#NUM!"},724,{"$error":"#N/A"},"","",null,null,0,{"$error":"#VALUE!"},3999,"","",null,null,null,null,{"$error":"#VALUE!"},{"$error":"#VALUE!"},{"$f":"COUNTIF('Standards LOOKUP'!B:B,AI725)","v":0},{"$f":"IFERROR(INDEX('Standards LOOKUP'!C:C,MATCH(AI725,'Standards LOOKUP'!B:B,0),0),0)","v":0},{"$f":"IFERROR(INDEX('Current Standards'!P:P,MATCH('Sheet Counter'!AI725,'Current Standards'!O:O,0),0),\"\")","v":""}]
[null,null,0,"","",{"$error":"#VALUE!"},"",{"$f":"IF(I726=\"\",\"\",LARGE(H$1:H725,1)+1)","v":{"$error":"#VALUE!"}},{"$error":"#VALUE!"},725,{"$error":"#N/A"},"",null,null,725,0,{"$f":"IF(R726=\"\",\"\",LARGE(Q$1:Q725,1)+1)","v":{"$error":"#NUM!"}},{"$error":"#NUM!"},725,{"$error":"#N/A"},"","",null,null,0,{"$error":"#VALUE!"},3999,"","",null,null,null,null,{"$error":"#VALUE!"},{"$error":"#VALUE!"},{"$f":"COUNTIF('Standards LOOKUP'!B:B,AI726)","v":0},{"$f":"IFERROR(INDEX('Standards LOOKUP'!C:C,MATCH(AI726,'Standards LOOKUP'!B:B,0),0),0)","v":0},{"$f":"IFERROR(INDEX('Current Standards'!P:P,MATCH('Sheet Counter'!AI726,'Current Standards'!O:O,0),0),\"\")","v":""}]
[null,null,0,"","",{"$error":"#VALUE!"},"",{"$f":"IF(I727=\"\",\"\",LARGE(H$1:H726,1)+1)","v":{"$error":"#VALUE!"}},{"$error":"#VALUE!"},726,{"$error":"#N/A"},"",null,null,726,0,{"$f":"IF(R727=\"\",\"\",LARGE(Q$1:Q726,1)+1)","v":{"$error":"#NUM!"}},{"$error":"#NUM!"},726,{"$error":"#N/A"},"","",null,null,0,{"$error":"#VALUE!"},3999,"","",null,null,null,null,{"$error":"#VALUE!"},{"$error":"#VALUE!"},{"$f":"COUNTIF('Standards LOOKUP'!B:B,AI727)","v":0},{"$f":"IFERROR(INDEX('Standards LOOKUP'!C:C,MATCH(AI727,'Standards LOOKUP'!B:B,0),0),0)","v":0},{"$f":"IFERROR(INDEX('Current Standards'!P:P,MATCH('Sheet Counter'!AI727,'Current Standards'!O:O,0),0),\"\")","v":""}]
[null,null,0,"","",{"$error":"#VALUE!"},"",{"$f":"IF(I728=\"\",\"\",LARGE(H$1:H727,1)+1)","v":{"$error":"#VALUE!"}},{"$error":"#VALUE!"},727,{"$error":"#N/A"},"",null,null,727,0,{"$f":"IF(R728=\"\",\"\",LARGE(Q$1:Q727,1)+1)","v":{"$error":"#NUM!"}},{"$error":"#NUM!"},727,{"$error":"#N/A"},"","",null,null,0,{"$error":"#VALUE!"},3999,"","",null,null,null,null,{"$error":"#VALUE!"},{"$error":"#VALUE!"},{"$f":"COUNTIF('Standards LOOKUP'!B:B,AI728)","v":0},{"$f":"IFERROR(INDEX('Standards LOOKUP'!C:C,MATCH(AI728,'Standards LOOKUP'!B:B,0),0),0)","v":0},{"$f":"IFERROR(INDEX('Current Standards'!P:P,MATCH('Sheet Counter'!AI728,'Current Standards'!O:O,0),0),\"\")","v":""}]
[null,null,0,"","",{"$error":"#VALUE!"},"",{"$f":"IF(I729=\"\",\"\",LARGE(H$1:H728,1)+1)","v":{"$error":"#VALUE!"}},{"$error":"#VALUE!"},728,{"$error":"#N/A"},"",null,null,728,0,{"$f":"IF(R729=\"\",\"\",LARGE(Q$1:Q728,1)+1)","v":{"$error":"#NUM!"}},{"$error":"#NUM!"},728,{"$error":"#N/A"},"","",null,null,0,{"$error":"#VALUE!"},3999,"","",null,null,null,null,{"$error":"#VALUE!"},{"$error":"#VALUE!"},{"$f":"COUNTIF('Standards LOOKUP'!B:B,AI729)","v":0},{"$f":"IFERROR(INDEX('Standards LOOKUP'!C:C,MATCH(AI729,'Standards LOOKUP'!B:B,0),0),0)","v":0},{"$f":"IFERROR(INDEX('Current Standards'!P:P,MATCH('Sheet Counter'!AI729,'Current Standards'!O:O,0),0),\"\")","v":""}]
[null,null,0,"","",{"$error":"#VALUE!"},"",{"$f":"IF(I730=\"\",\"\",LARGE(H$1:H729,1)+1)","v":{"$error":"#VALUE!"}},{"$error":"#VALUE!"},729,{"$error":"#N/A"},"",null,null,729,0,{"$f":"IF(R730=\"\",\"\",LARGE(Q$1:Q729,1)+1)","v":{"$error":"#NUM!"}},{"$error":"#NUM!"},729,{"$error":"#N/A"},"","",null,null,0,{"$error":"#VALUE!"},3999,"","",null,null,null,null,{"$error":"#VALUE!"},{"$error":"#VALUE!"},{"$f":"COUNTIF('Standards LOOKUP'!B:B,AI730)","v":0},{"$f":"IFERROR(INDEX('Standards LOOKUP'!C:C,MATCH(AI730,'Standards LOOKUP'!B:B,0),0),0)","v":0},{"$f":"IFERROR(INDEX('Current Standards'!P:P,MATCH('Sheet Counter'!AI730,'Current Standards'!O:O,0),0),\"\")","v":""}]
[null,null,0,"","",{"$error":"#VALUE!"},"",{"$f":"IF(I731=\"\",\"\",LARGE(H$1:H730,1)+1)","v":{"$error":"#VALUE!"}},{"$error":"#VALUE!"},730,{"$error":"#N/A"},"",null,null,730,0,{"$f":"IF(R731=\"\",\"\",LARGE(Q$1:Q730,1)+1)","v":{"$error":"#NUM!"}},{"$error":"#NUM!"},730,{"$error":"#N/A"},"","",null,null,0,{"$error":"#VALUE!"},3999,"","",null,null,null,null,{"$error":"#VALUE!"},{"$error":"#VALUE!"},{"$f":"COUNTIF('Standards LOOKUP'!B:B,AI731)","v":0},{"$f":"IFERROR(INDEX('Standards LOOKUP'!C:C,MATCH(AI731,'Standards LOOKUP'!B:B,0),0),0)","v":0},{"$f":"IFERROR(INDEX('Current Standards'!P:P,MATCH('Sheet Counter'!AI731,'Current Standards'!O:O,0),0),\"\")","v":""}]
[null,null,0,"","",{"$error":"#VALUE!"},"",{"$f":"IF(I732=\"\",\"\",LARGE(H$1:H731,1)+1)","v":{"$error":"#VALUE!"}},{"$error":"#VALUE!"},731,{"$error":"#N/A"},"",null,null,731,0,{"$f":"IF(R732=\"\",\"\",LARGE(Q$1:Q731,1)+1)","v":{"$error":"#NUM!"}},{"$error":"#NUM!"},731,{"$error":"#N/A"},"","",null,null,0,{"$error":"#VALUE!"},3999,"","",null,null,null,null,{"$error":"#VALUE!"},{"$error":"#VALUE!"},{"$f":"COUNTIF('Standards LOOKUP'!B:B,AI732)","v":0},{"$f":"IFERROR(INDEX('Standards LOOKUP'!C:C,MATCH(AI732,'Standards LOOKUP'!B:B,0),0),0)","v":0},{"$f":"IFERROR(INDEX('Current Standards'!P:P,MATCH('Sheet Counter'!AI732,'Current Standards'!O:O,0),0),\"\")","v":""}]
[null,null,0,"","",{"$error":"#VALUE!"},"",{"$f":"IF(I733=\"\",\"\",LARGE(H$1:H732,1)+1)","v":{"$error":"#VALUE!"}},{"$error":"#VALUE!"},732,{"$error":"#N/A"},"",null,null,732,0,{"$f":"IF(R733=\"\",\"\",LARGE(Q$1:Q732,1)+1)","v":{"$error":"#NUM!"}},{"$error":"#NUM!"},732,{"$error":"#N/A"},"","",null,null,0,{"$error":"#VALUE!"},3999,"","",null,null,null,null,{"$error":"#VALUE!"},{"$error":"#VALUE!"},{"$f":"COUNTIF('Standards LOOKUP'!B:B,AI733)","v":0},{"$f":"IFERROR(INDEX('Standards LOOKUP'!C:C,MATCH(AI733,'Standards LOOKUP'!B:B,0),0),0)","v":0},{"$f":"IFERROR(INDEX('Current Standards'!P:P,MATCH('Sheet Counter'!AI733,'Current Standards'!O:O,0),0),\"\")","v":""}]
[null,null,0,"","",{"$error":"#VALUE!"},"",{"$f":"IF(I734=\"\",\"\",LARGE(H$1:H733,1)+1)","v":{"$error":"#VALUE!"}},{"$error":"#VALUE!"},733,{"$error":"#N/A"},"",null,null,733,0,{"$f":"IF(R734=\"\",\"\",LARGE(Q$1:Q733,1)+1)","v":{"$error":"#NUM!"}},{"$error":"#NUM!"},733,{"$error":"#N/A"},"","",null,null,0,{"$error":"#VALUE!"},3999,"","",null,null,null,null,{"$error":"#VALUE!"},{"$error":"#VALUE!"},{"$f":"COUNTIF('Standards LOOKUP'!B:B,AI734)","v":0},{"$f":"IFERROR(INDEX('Standards LOOKUP'!C:C,MATCH(AI734,'Standards LOOKUP'!B:B,0),0),0)","v":0},{"$f":"IFERROR(INDEX('Current Standards'!P:P,MATCH('Sheet Counter'!AI734,'Current Standards'!O:O,0),0),\"\")","v":""}]
[null,null,0,"","",{"$error":"#VALUE!"},"",{"$f":"IF(I735=\"\",\"\",LARGE(H$1:H734,1)+1)","v":{"$error":"#VALUE!"}},{"$error":"#VALUE!"},734,{"$error":"#N/A"},"",null,null,734,0,{"$f":"IF(R735=\"\",\"\",LARGE(Q$1:Q734,1)+1)","v":{"$error":"#NUM!"}},{"$error":"#NUM!"},734,{"$error":"#N/A"},"","",null,null,0,{"$error":"#VALUE!"},3999,"","",null,null,null,null,{"$error":"#VALUE!"},{"$error":"#VALUE!"},{"$f":"COUNTIF('Standards LOOKUP'!B:B,AI735)","v":0},{"$f":"IFERROR(INDEX('Standards LOOKUP'!C:C,MATCH(AI735,'Standards LOOKUP'!B:B,0),0),0)","v":0},{"$f":"IFERROR(INDEX('Current Standards'!P:P,MATCH('Sheet Counter'!AI735,'Current Standards'!O:O,0),0),\"\")","v":""}]
[null,null,0,"","",{"$error":"#VALUE!"},"",{"$f":"IF(I736=\"\",\"\",LARGE(H$1:H735,1)+1)","v":{"$error":"#VALUE!"}},{"$error":"#VALUE!"},735,{"$error":"#N/A"},"",null,null,735,0,{"$f":"IF(R736=\"\",\"\",LARGE(Q$1:Q735,1)+1)","v":{"$error":"#NUM!"}},{"$error":"#NUM!"},735,{"$error":"#N/A"},"","",null,null,0,{"$error":"#VALUE!"},3999,"","",null,null,null,null,{"$error":"#VALUE!"},{"$error":"#VALUE!"},{"$f":"COUNTIF('Standards LOOKUP'!B:B,AI736)","v":0},{"$f":"IFERROR(INDEX('Standards LOOKUP'!C:C,MATCH(AI736,'Standards LOOKUP'!B:B,0),0),0)","v":0},{"$f":"IFERROR(INDEX('Current Standards'!P:P,MATCH('Sheet Counter'!AI736,'Current Standards'!O:O,0),0),\"\")","v":""}]
[null,null,0,"","",{"$error":"#VALUE!"},"",{"$f":"IF(I737=\"\",\"\",LARGE(H$1:H736,1)+1)","v":{"$error":"#VALUE!"}},{"$error":"#VALUE!"},736,{"$error":"#N/A"},"",null,null,736,0,{"$f":"IF(R737=\"\",\"\",LARGE(Q$1:Q736,1)+1)","v":{"$error":"#NUM!"}},{"$error":"#NUM!"},736,{"$error":"#N/A"},"","",null,null,0,{"$error":"#VALUE!"},3999,"","",null,null,null,null,{"$error":"#VALUE!"},{"$error":"#VALUE!"},{"$f":"COUNTIF('Standards LOOKUP'!B:B,AI737)","v":0},{"$f":"IFERROR(INDEX('Standards LOOKUP'!C:C,MATCH(AI737,'Standards LOOKUP'!B:B,0),0),0)","v":0},{"$f":"IFERROR(INDEX('Current Standards'!P:P,MATCH('Sheet Counter'!AI737,'Current Standards'!O:O,0),0),\"\")","v":""}]
[null,null,0,"","",{"$error":"#VALUE!"},"",{"$f":"IF(I738=\"\",\"\",LARGE(H$1:H737,1)+1)","v":{"$error":"#VALUE!"}},{"$error":"#VALUE!"},737,{"$error":"#N/A"},"",null,null,737,0,{"$f":"IF(R738=\"\",\"\",LARGE(Q$1:Q737,1)+1)","v":{"$error":"#NUM!"}},{"$error":"#NUM!"},737,{"$error":"#N/A"},"","",null,null,0,{"$error":"#VALUE!"},3999,"","",null,null,null,null,{"$error":"#VALUE!"},{"$error":"#VALUE!"},{"$f":"COUNTIF('Standards LOOKUP'!B:B,AI738)","v":0},{"$f":"IFERROR(INDEX('Standards LOOKUP'!C:C,MATCH(AI738,'Standards LOOKUP'!B:B,0),0),0)","v":0},{"$f":"IFERROR(INDEX('Current Standards'!P:P,MATCH('Sheet Counter'!AI738,'Current Standards'!O:O,0),0),\"\")","v":""}]
[null,null,0,"","",{"$error":"#VALUE!"},"",{"$f":"IF(I739=\"\",\"\",LARGE(H$1:H738,1)+1)","v":{"$error":"#VALUE!"}},{"$error":"#VALUE!"},738,{"$error":"#N/A"},"",null,null,738,0,{"$f":"IF(R739=\"\",\"\",LARGE(Q$1:Q738,1)+1)","v":{"$error":"#NUM!"}},{"$error":"#NUM!"},738,{"$error":"#N/A"},"","",null,null,0,{"$error":"#VALUE!"},3999,"","",null,null,null,null,{"$error":"#VALUE!"},{"$error":"#VALUE!"},{"$f":"COUNTIF('Standards LOOKUP'!B:B,AI739)","v":0},{"$f":"IFERROR(INDEX('Standards LOOKUP'!C:C,MATCH(AI739,'Standards LOOKUP'!B:B,0),0),0)","v":0},{"$f":"IFERROR(INDEX('Current Standards'!P:P,MATCH('Sheet Counter'!AI739,'Current Standards'!O:O,0),0),\"\")","v":""}]
[null,null,0,"","",{"$error":"#VALUE!"},"",{"$f":"IF(I740=\"\",\"\",LARGE(H$1:H739,1)+1)","v":{"$error":"#VALUE!"}},{"$error":"#VALUE!"},739,{"$error":"#N/A"},"",null,null,739,0,{"$f":"IF(R740=\"\",\"\",LARGE(Q$1:Q739,1)+1)","v":{"$error":"#NUM!"}},{"$error":"#NUM!"},739,{"$error":"#N/A"},"","",null,null,0,{"$error":"#VALUE!"},3999,"","",null,null,null,null,{"$error":"#VALUE!"},{"$error":"#VALUE!"},{"$f":"COUNTIF('Standards LOOKUP'!B:B,AI740)","v":0},{"$f":"IFERROR(INDEX('Standards LOOKUP'!C:C,MATCH(AI740,'Standards LOOKUP'!B:B,0),0),0)","v":0},{"$f":"IFERROR(INDEX('Current Standards'!P:P,MATCH('Sheet Counter'!AI740,'Current Standards'!O:O,0),0),\"\")","v":""}]
[null,null,0,"","",{"$error":"#VALUE!"},"",{"$f":"IF(I741=\"\",\"\",LARGE(H$1:H740,1)+1)","v":{"$error":"#VALUE!"}},{"$error":"#VALUE!"},740,{"$error":"#N/A"},"",null,null,740,0,{"$f":"IF(R741=\"\",\"\",LARGE(Q$1:Q740,1)+1)","v":{"$error":"#NUM!"}},{"$error":"#NUM!"},740,{"$error":"#N/A"},"","",null,null,0,{"$error":"#VALUE!"},3999,"","",null,null,null,null,{"$error":"#VALUE!"},{"$error":"#VALUE!"},{"$f":"COUNTIF('Standards LOOKUP'!B:B,AI741)","v":0},{"$f":"IFERROR(INDEX('Standards LOOKUP'!C:C,MATCH(AI741,'Standards LOOKUP'!B:B,0),0),0)","v":0},{"$f":"IFERROR(INDEX('Current Standards'!P:P,MATCH('Sheet Counter'!AI741,'Current Standards'!O:O,0),0),\"\")","v":""}]
[null,null,0,"","",{"$error":"#VALUE!"},"",{"$f":"IF(I742=\"\",\"\",LARGE(H$1:H741,1)+1)","v":{"$error":"#VALUE!"}},{"$error":"#VALUE!"},741,{"$error":"#N/A"},"",null,null,741,0,{"$f":"IF(R742=\"\",\"\",LARGE(Q$1:Q741,1)+1)","v":{"$error":"#NUM!"}},{"$error":"#NUM!"},741,{"$error":"#N/A"},"","",null,null,0,{"$error":"#VALUE!"},3999,"","",null,null,null,null,{"$error":"#VALUE!"},{"$error":"#VALUE!"},{"$f":"COUNTIF('Standards LOOKUP'!B:B,AI742)","v":0},{"$f":"IFERROR(INDEX('Standards LOOKUP'!C:C,MATCH(AI742,'Standards LOOKUP'!B:B,0),0),0)","v":0},{"$f":"IFERROR(INDEX('Current Standards'!P:P,MATCH('Sheet Counter'!AI742,'Current Standards'!O:O,0),0),\"\")","v":""}]
[null,null,0,"","",{"$error":"#VALUE!"},"",{"$f":"IF(I743=\"\",\"\",LARGE(H$1:H742,1)+1)","v":{"$error":"#VALUE!"}},{"$error":"#VALUE!"},742,{"$error":"#N/A"},"",null,null,742,0,{"$f":"IF(R743=\"\",\"\",LARGE(Q$1:Q742,1)+1)","v":{"$error":"#NUM!"}},{"$error":"#NUM!"},742,{"$error":"#N/A"},"","",null,null,0,{"$error":"#VALUE!"},3999,"","",null,null,null,null,{"$error":"#VALUE!"},{"$error":"#VALUE!"},{"$f":"COUNTIF('Standards LOOKUP'!B:B,AI743)","v":0},{"$f":"IFERROR(INDEX('Standards LOOKUP'!C:C,MATCH(AI743,'Standards LOOKUP'!B:B,0),0),0)","v":0},{"$f":"IFERROR(INDEX('Current Standards'!P:P,MATCH('Sheet Counter'!AI743,'Current Standards'!O:O,0),0),\"\")","v":""}]
[null,null,0,"","",{"$error":"#VALUE!"},"",{"$f":"IF(I744=\"\",\"\",LARGE(H$1:H743,1)+1)","v":{"$error":"#VALUE!"}},{"$error":"#VALUE!"},743,{"$error":"#N/A"},"",null,null,743,0,{"$f":"IF(R744=\"\",\"\",LARGE(Q$1:Q743,1)+1)","v":{"$error":"#NUM!"}},{"$error":"#NUM!"},743,{"$error":"#N/A"},"","",null,null,0,{"$error":"#VALUE!"},3999,"","",null,null,null,null,{"$error":"#VALUE!"},{"$error":"#VALUE!"},{"$f":"COUNTIF('Standards LOOKUP'!B:B,AI744)","v":0},{"$f":"IFERROR(INDEX('Standards LOOKUP'!C:C,MATCH(AI744,'Standards LOOKUP'!B:B,0),0),0)","v":0},{"$f":"IFERROR(INDEX('Current Standards'!P:P,MATCH('Sheet Counter'!AI744,'Current Standards'!O:O,0),0),\"\")","v":""}]
[null,null,0,"","",{"$error":"#VALUE!"},"",{"$f":"IF(I745=\"\",\"\",LARGE(H$1:H744,1)+1)","v":{"$error":"#VALUE!"}},{"$error":"#VALUE!"},744,{"$error":"#N/A"},"",null,null,744,0,{"$f":"IF(R745=\"\",\"\",LARGE(Q$1:Q744,1)+1)","v":{"$error":"#NUM!"}},{"$error":"#NUM!"},744,{"$error":"#N/A"},"","",null,null,0,{"$error":"#VALUE!"},3999,"","",null,null,null,null,{"$error":"#VALUE!"},{"$error":"#VALUE!"},{"$f":"COUNTIF('Standards LOOKUP'!B:B,AI745)","v":0},{"$f":"IFERROR(INDEX('Standards LOOKUP'!C:C,MATCH(AI745,'Standards LOOKUP'!B:B,0),0),0)","v":0},{"$f":"IFERROR(INDEX('Current Standards'!P:P,MATCH('Sheet Counter'!AI745,'Current Standards'!O:O,0),0),\"\")","v":""}]
[null,null,0,"","",{"$error":"#VALUE!"},"",{"$f":"IF(I746=\"\",\"\",LARGE(H$1:H745,1)+1)","v":{"$error":"#VALUE!"}},{"$error":"#VALUE!"},745,{"$error":"#N/A"},"",null,null,745,0,{"$f":"IF(R746=\"\",\"\",LARGE(Q$1:Q745,1)+1)","v":{"$error":"#NUM!"}},{"$error":"#NUM!"},745,{"$error":"#N/A"},"","",null,null,0,{"$error":"#VALUE!"},3999,"","",null,null,null,null,{"$error":"#VALUE!"},{"$error":"#VALUE!"},{"$f":"COUNTIF('Standards LOOKUP'!B:B,AI746)","v":0},{"$f":"IFERROR(INDEX('Standards LOOKUP'!C:C,MATCH(AI746,'Standards LOOKUP'!B:B,0),0),0)","v":0},{"$f":"IFERROR(INDEX('Current Standards'!P:P,MATCH('Sheet Counter'!AI746,'Current Standards'!O:O,0),0),\"\")","v":""}]
[null,null,0,"","",{"$error":"#VALUE!"},"",{"$f":"IF(I747=\"\",\"\",LARGE(H$1:H746,1)+1)","v":{"$error":"#VALUE!"}},{"$error":"#VALUE!"},746,{"$error":"#N/A"},"",null,null,746,0,{"$f":"IF(R747=\"\",\"\",LARGE(Q$1:Q746,1)+1)","v":{"$error":"#NUM!"}},{"$error":"#NUM!"},746,{"$error":"#N/A"},"","",null,null,0,{"$error":"#VALUE!"},3999,"","",null,null,null,null,{"$error":"#VALUE!"},{"$error":"#VALUE!"},{"$f":"COUNTIF('Standards LOOKUP'!B:B,AI747)","v":0},{"$f":"IFERROR(INDEX('Standards LOOKUP'!C:C,MATCH(AI747,'Standards LOOKUP'!B:B,0),0),0)","v":0},{"$f":"IFERROR(INDEX('Current Standards'!P:P,MATCH('Sheet Counter'!AI747,'Current Standards'!O:O,0),0),\"\")","v":""}]
[null,null,0,"","",{"$error":"#VALUE!"},"",{"$f":"IF(I748=\"\",\"\",LARGE(H$1:H747,1)+1)","v":{"$error":"#VALUE!"}},{"$error":"#VALUE!"},747,{"$error":"#N/A"},"",null,null,747,0,{"$f":"IF(R748=\"\",\"\",LARGE(Q$1:Q747,1)+1)","v":{"$error":"#NUM!"}},{"$error":"#NUM!"},747,{"$error":"#N/A"},"","",null,null,0,{"$error":"#VALUE!"},3999,"","",null,null,null,null,{"$error":"#VALUE!"},{"$error":"#VALUE!"},{"$f":"COUNTIF('Standards LOOKUP'!B:B,AI748)","v":0},{"$f":"IFERROR(INDEX('Standards LOOKUP'!C:C,MATCH(AI748,'Standards LOOKUP'!B:B,0),0),0)","v":0},{"$f":"IFERROR(INDEX('Current Standards'!P:P,MATCH('Sheet Counter'!AI748,'Current Standards'!O:O,0),0),\"\")","v":""}]
[null,null,0,"","",{"$error":"#VALUE!"},"",{"$f":"IF(I749=\"\",\"\",LARGE(H$1:H748,1)+1)","v":{"$error":"#VALUE!"}},{"$error":"#VALUE!"},748,{"$error":"#N/A"},"",null,null,748,0,{"$f":"IF(R749=\"\",\"\",LARGE(Q$1:Q748,1)+1)","v":{"$error":"#NUM!"}},{"$error":"#NUM!"},748,{"$error":"#N/A"},"","",null,null,0,{"$error":"#VALUE!"},3999,"","",null,null,null,null,{"$error":"#VALUE!"},{"$error":"#VALUE!"},{"$f":"COUNTIF('Standards LOOKUP'!B:B,AI749)","v":0},{"$f":"IFERROR(INDEX('Standards LOOKUP'!C:C,MATCH(AI749,'Standards LOOKUP'!B:B,0),0),0)","v":0},{"$f":"IFERROR(INDEX('Current Standards'!P:P,MATCH('Sheet Counter'!AI749,'Current Standards'!O:O,0),0),\"\")","v":""}]
[null,null,0,"","",{"$error":"#VALUE!"},"",{"$f":"IF(I750=\"\",\"\",LARGE(H$1:H749,1)+1)","v":{"$error":"#VALUE!"}},{"$error":"#VALUE!"},749,{"$error":"#N/A"},"",null,null,749,0,{"$f":"IF(R750=\"\",\"\",LARGE(Q$1:Q749,1)+1)","v":{"$error":"#NUM!"}},{"$error":"#NUM!"},749,{"$error":"#N/A"},"","",null,null,0,{"$error":"#VALUE!"},3999,"","",null,null,null,null,{"$error":"#VALUE!"},{"$error":"#VALUE!"},{"$f":"COUNTIF('Standards LOOKUP'!B:B,AI750)","v":0},{"$f":"IFERROR(INDEX('Standards LOOKUP'!C:C,MATCH(AI750,'Standards LOOKUP'!B:B,0),0),0)","v":0},{"$f":"IFERROR(INDEX('Current Standards'!P:P,MATCH('Sheet Counter'!AI750,'Current Standards'!O:O,0),0),\"\")","v":""}]
[null,null,0,"","",{"$error":"#VALUE!"},"",{"$f":"IF(I751=\"\",\"\",LARGE(H$1:H750,1)+1)","v":{"$error":"#VALUE!"}},{"$error":"#VALUE!"},750,{"$error":"#N/A"},"",null,null,750,0,{"$f":"IF(R751=\"\",\"\",LARGE(Q$1:Q750,1)+1)","v":{"$error":"#NUM!"}},{"$error":"#NUM!"},750,{"$error":"#N/A"},"","",null,null,0,{"$error":"#VALUE!"},3999,"","",null,null,null,null,{"$error":"#VALUE!"},{"$error":"#VALUE!"},{"$f":"COUNTIF('Standards LOOKUP'!B:B,AI751)","v":0},{"$f":"IFERROR(INDEX('Standards LOOKUP'!C:C,MATCH(AI751,'Standards LOOKUP'!B:B,0),0),0)","v":0},{"$f":"IFERROR(INDEX('Current Standards'!P:P,MATCH('Sheet Counter'!AI751,'Current Standards'!O:O,0),0),\"\")","v":""}]
[null,null,0,"","",{"$error":"#VALUE!"},"",{"$f":"IF(I752=\"\",\"\",LARGE(H$1:H751,1)+1)","v":{"$error":"#VALUE!"}},{"$error":"#VALUE!"},751,{"$error":"#N/A"},"",null,null,751,0,{"$f":"IF(R752=\"\",\"\",LARGE(Q$1:Q751,1)+1)","v":{"$error":"#NUM!"}},{"$error":"#NUM!"},751,{"$error":"#N/A"},"","",null,null,0,{"$error":"#VALUE!"},3999,"","",null,null,null,null,{"$error":"#VALUE!"},{"$error":"#VALUE!"},{"$f":"COUNTIF('Standards LOOKUP'!B:B,AI752)","v":0},{"$f":"IFERROR(INDEX('Standards LOOKUP'!C:C,MATCH(AI752,'Standards LOOKUP'!B:B,0),0),0)","v":0},{"$f":"IFERROR(INDEX('Current Standards'!P:P,MATCH('Sheet Counter'!AI752,'Current Standards'!O:O,0),0),\"\")","v":""}]
[null,null,0,"","",{"$error":"#VALUE!"},"",{"$f":"IF(I753=\"\",\"\",LARGE(H$1:H752,1)+1)","v":{"$error":"#VALUE!"}},{"$error":"#VALUE!"},752,{"$error":"#N/A"},"",null,null,752,0,{"$f":"IF(R753=\"\",\"\",LARGE(Q$1:Q752,1)+1)","v":{"$error":"#NUM!"}},{"$error":"#NUM!"},752,{"$error":"#N/A"},"","",null,null,0,{"$error":"#VALUE!"},3999,"","",null,null,null,null,{"$error":"#VALUE!"},{"$error":"#VALUE!"},{"$f":"COUNTIF('Standards LOOKUP'!B:B,AI753)","v":0},{"$f":"IFERROR(INDEX('Standards LOOKUP'!C:C,MATCH(AI753,'Standards LOOKUP'!B:B,0),0),0)","v":0},{"$f":"IFERROR(INDEX('Current Standards'!P:P,MATCH('Sheet Counter'!AI753,'Current Standards'!O:O,0),0),\"\")","v":""}]
[null,null,0,"","",{"$error":"#VALUE!"},"",{"$f":"IF(I754=\"\",\"\",LARGE(H$1:H753,1)+1)","v":{"$error":"#VALUE!"}},{"$error":"#VALUE!"},753,{"$error":"#N/A"},"",null,null,753,0,{"$f":"IF(R754=\"\",\"\",LARGE(Q$1:Q753,1)+1)","v":{"$error":"#NUM!"}},{"$error":"#NUM!"},753,{"$error":"#N/A"},"","",null,null,0,{"$error":"#VALUE!"},3999,"","",null,null,null,null,{"$error":"#VALUE!"},{"$error":"#VALUE!"},{"$f":"COUNTIF('Standards LOOKUP'!B:B,AI754)","v":0},{"$f":"IFERROR(INDEX('Standards LOOKUP'!C:C,MATCH(AI754,'Standards LOOKUP'!B:B,0),0),0)","v":0},{"$f":"IFERROR(INDEX('Current Standards'!P:P,MATCH('Sheet Counter'!AI754,'Current Standards'!O:O,0),0),\"\")","v":""}]
[null,null,0,"","",{"$error":"#VALUE!"},"",{"$f":"IF(I755=\"\",\"\",LARGE(H$1:H754,1)+1)","v":{"$error":"#VALUE!"}},{"$error":"#VALUE!"},754,{"$error":"#N/A"},"",null,null,754,0,{"$f":"IF(R755=\"\",\"\",LARGE(Q$1:Q754,1)+1)","v":{"$error":"#NUM!"}},{"$error":"#NUM!"},754,{"$error":"#N/A"},"","",null,null,0,{"$error":"#VALUE!"},3999,"","",null,null,null,null,{"$error":"#VALUE!"},{"$error":"#VALUE!"},{"$f":"COUNTIF('Standards LOOKUP'!B:B,AI755)","v":0},{"$f":"IFERROR(INDEX('Standards LOOKUP'!C:C,MATCH(AI755,'Standards LOOKUP'!B:B,0),0),0)","v":0},{"$f":"IFERROR(INDEX('Current Standards'!P:P,MATCH('Sheet Counter'!AI755,'Current Standards'!O:O,0),0),\"\")","v":""}]
[null,null,0,"","",{"$error":"#VALUE!"},"",{"$f":"IF(I756=\"\",\"\",LARGE(H$1:H755,1)+1)","v":{"$error":"#VALUE!"}},{"$error":"#VALUE!"},755,{"$error":"#N/A"},"",null,null,755,0,{"$f":"IF(R756=\"\",\"\",LARGE(Q$1:Q755,1)+1)","v":{"$error":"#NUM!"}},{"$error":"#NUM!"},755,{"$error":"#N/A"},"","",null,null,0,{"$error":"#VALUE!"},3999,"","",null,null,null,null,{"$error":"#VALUE!"},{"$error":"#VALUE!"},{"$f":"COUNTIF('Standards LOOKUP'!B:B,AI756)","v":0},{"$f":"IFERROR(INDEX('Standards LOOKUP'!C:C,MATCH(AI756,'Standards LOOKUP'!B:B,0),0),0)","v":0},{"$f":"IFERROR(INDEX('Current Standards'!P:P,MATCH('Sheet Counter'!AI756,'Current Standards'!O:O,0),0),\"\")","v":""}]
[null,null,0,"","",{"$error":"#VALUE!"},"",{"$f":"IF(I757=\"\",\"\",LARGE(H$1:H756,1)+1)","v":{"$error":"#VALUE!"}},{"$error":"#VALUE!"},756,{"$error":"#N/A"},"",null,null,756,0,{"$f":"IF(R757=\"\",\"\",LARGE(Q$1:Q756,1)+1)","v":{"$error":"#NUM!"}},{"$error":"#NUM!"},756,{"$error":"#N/A"},"","",null,null,0,{"$error":"#VALUE!"},3999,"","",null,null,null,null,{"$error":"#VALUE!"},{"$error":"#VALUE!"},{"$f":"COUNTIF('Standards LOOKUP'!B:B,AI757)","v":0},{"$f":"IFERROR(INDEX('Standards LOOKUP'!C:C,MATCH(AI757,'Standards LOOKUP'!B:B,0),0),0)","v":0},{"$f":"IFERROR(INDEX('Current Standards'!P:P,MATCH('Sheet Counter'!AI757,'Current Standards'!O:O,0),0),\"\")","v":""}]
[null,null,0,"","",{"$error":"#VALUE!"},"",{"$f":"IF(I758=\"\",\"\",LARGE(H$1:H757,1)+1)","v":{"$error":"#VALUE!"}},{"$error":"#VALUE!"},757,{"$f":"VLOOKUP(J758,H:I,2,0)","v":{"$error":"#N/A"}},{"$f":"IF(ISERROR(K758),\"\",K758)","v":""},null,null,757,0,{"$f":"IF(R758=\"\",\"\",LARGE(Q$1:Q757,1)+1)","v":{"$error":"#NUM!"}},{"$error":"#NUM!"},757,{"$f":"VLOOKUP(S758,Q:R,2,0)","v":{"$error":"#N/A"}},{"$f":"IF(ISERROR(T758),\"\",T758)","v":""},{"$f":"IF(U758=\"\",\"\",VLOOKUP(U758,O:P,2,0))","v":""},null,null,0,{"$error":"#VALUE!"},3999,"","",null,null,null,null,{"$error":"#VALUE!"},{"$error":"#VALUE!"},{"$f":"COUNTIF('Standards LOOKUP'!B:B,AI758)","v":0},{"$f":"IFERROR(INDEX('Standards LOOKUP'!C:C,MATCH(AI758,'Standards LOOKUP'!B:B,0),0),0)","v":0},{"$f":"IFERROR(INDEX('Current Standards'!P:P,MATCH('Sheet Counter'!AI758,'Current Standards'!O:O,0),0),\"\")","v":""}]
[null,null,0,"","",{"$error":"#VALUE!"},"",{"$f":"IF(I759=\"\",\"\",LARGE(H$1:H758,1)+1)","v":{"$error":"#VALUE!"}},{"$error":"#VALUE!"},758,{"$error":"#N/A"},"",null,null,758,0,{"$f":"IF(R759=\"\",\"\",LARGE(Q$1:Q758,1)+1)","v":{"$error":"#NUM!"}},{"$error":"#NUM!"},758,{"$error":"#N/A"},"","",null,null,0,{"$error":"#VALUE!"},3999,"","",null,null,null,null,{"$error":"#VALUE!"},{"$error":"#VALUE!"},{"$f":"COUNTIF('Standards LOOKUP'!B:B,AI759)","v":0},{"$f":"IFERROR(INDEX('Standards LOOKUP'!C:C,MATCH(AI759,'Standards LOOKUP'!B:B,0),0),0)","v":0},{"$f":"IFERROR(INDEX('Current Standards'!P:P,MATCH('Sheet Counter'!AI759,'Current Standards'!O:O,0),0),\"\")","v":""}]
[null,null,0,"","",{"$error":"#VALUE!"},"",{"$f":"IF(I760=\"\",\"\",LARGE(H$1:H759,1)+1)","v":{"$error":"#VALUE!"}},{"$error":"#VALUE!"},759,{"$error":"#N/A"},"",null,null,759,0,{"$f":"IF(R760=\"\",\"\",LARGE(Q$1:Q759,1)+1)","v":{"$error":"#NUM!"}},{"$error":"#NUM!"},759,{"$error":"#N/A"},"","",null,null,0,{"$error":"#VALUE!"},3999,"","",null,null,null,null,{"$error":"#VALUE!"},{"$error":"#VALUE!"},{"$f":"COUNTIF('Standards LOOKUP'!B:B,AI760)","v":0},{"$f":"IFERROR(INDEX('Standards LOOKUP'!C:C,MATCH(AI760,'Standards LOOKUP'!B:B,0),0),0)","v":0},{"$f":"IFERROR(INDEX('Current Standards'!P:P,MATCH('Sheet Counter'!AI760,'Current Standards'!O:O,0),0),\"\")","v":""}]
[null,null,0,"","",{"$error":"#VALUE!"},"",{"$f":"IF(I761=\"\",\"\",LARGE(H$1:H760,1)+1)","v":{"$error":"#VALUE!"}},{"$error":"#VALUE!"},760,{"$error":"#N/A"},"",null,null,760,0,{"$f":"IF(R761=\"\",\"\",LARGE(Q$1:Q760,1)+1)","v":{"$error":"#NUM!"}},{"$error":"#NUM!"},760,{"$error":"#N/A"},"","",null,null,0,{"$error":"#VALUE!"},3999,"","",null,null,null,null,{"$error":"#VALUE!"},{"$error":"#VALUE!"},{"$f":"COUNTIF('Standards LOOKUP'!B:B,AI761)","v":0},{"$f":"IFERROR(INDEX('Standards LOOKUP'!C:C,MATCH(AI761,'Standards LOOKUP'!B:B,0),0),0)","v":0},{"$f":"IFERROR(INDEX('Current Standards'!P:P,MATCH('Sheet Counter'!AI761,'Current Standards'!O:O,0),0),\"\")","v":""}]
[null,null,0,"","",{"$error":"#VALUE!"},"",{"$f":"IF(I762=\"\",\"\",LARGE(H$1:H761,1)+1)","v":{"$error":"#VALUE!"}},{"$error":"#VALUE!"},761,{"$error":"#N/A"},"",null,null,761,0,{"$f":"IF(R762=\"\",\"\",LARGE(Q$1:Q761,1)+1)","v":{"$error":"#NUM!"}},{"$error":"#NUM!"},761,{"$error":"#N/A"},"","",null,null,0,{"$error":"#VALUE!"},3999,"","",null,null,null,null,{"$error":"#VALUE!"},{"$error":"#VALUE!"},{"$f":"COUNTIF('Standards LOOKUP'!B:B,AI762)","v":0},{"$f":"IFERROR(INDEX('Standards LOOKUP'!C:C,MATCH(AI762,'Standards LOOKUP'!B:B,0),0),0)","v":0},{"$f":"IFERROR(INDEX('Current Standards'!P:P,MATCH('Sheet Counter'!AI762,'Current Standards'!O:O,0),0),\"\")","v":""}]
[null,null,0,"","",{"$error":"#VALUE!"},"",{"$f":"IF(I763=\"\",\"\",LARGE(H$1:H762,1)+1)","v":{"$error":"#VALUE!"}},{"$error":"#VALUE!"},762,{"$error":"#N/A"},"",null,null,762,0,{"$f":"IF(R763=\"\",\"\",LARGE(Q$1:Q762,1)+1)","v":{"$error":"#NUM!"}},{"$error":"#NUM!"},762,{"$error":"#N/A"},"","",null,null,0,{"$error":"#VALUE!"},3999,"","",null,null,null,null,{"$error":"#VALUE!"},{"$error":"#VALUE!"},{"$f":"COUNTIF('Standards LOOKUP'!B:B,AI763)","v":0},{"$f":"IFERROR(INDEX('Standards LOOKUP'!C:C,MATCH(AI763,'Standards LOOKUP'!B:B,0),0),0)","v":0},{"$f":"IFERROR(INDEX('Current Standards'!P:P,MATCH('Sheet Counter'!AI763,'Current Standards'!O:O,0),0),\"\")","v":""}]
[null,null,0,"","",{"$error":"#VALUE!"},"",{"$f":"IF(I764=\"\",\"\",LARGE(H$1:H763,1)+1)","v":{"$error":"#VALUE!"}},{"$error":"#VALUE!"},763,{"$error":"#N/A"},"",null,null,763,0,{"$f":"IF(R764=\"\",\"\",LARGE(Q$1:Q763,1)+1)","v":{"$error":"#NUM!"}},{"$error":"#NUM!"},763,{"$error":"#N/A"},"","",null,null,0,{"$error":"#VALUE!"},3999,"","",null,null,null,null,{"$error":"#VALUE!"},{"$error":"#VALUE!"},{"$f":"COUNTIF('Standards LOOKUP'!B:B,AI764)","v":0},{"$f":"IFERROR(INDEX('Standards LOOKUP'!C:C,MATCH(AI764,'Standards LOOKUP'!B:B,0),0),0)","v":0},{"$f":"IFERROR(INDEX('Current Standards'!P:P,MATCH('Sheet Counter'!AI764,'Current Standards'!O:O,0),0),\"\")","v":""}]
[null,null,0,"","",{"$error":"#VALUE!"},"",{"$f":"IF(I765=\"\",\"\",LARGE(H$1:H764,1)+1)","v":{"$error":"#VALUE!"}},{"$error":"#VALUE!"},764,{"$error":"#N/A"},"",null,null,764,0,{"$f":"IF(R765=\"\",\"\",LARGE(Q$1:Q764,1)+1)","v":{"$error":"#NUM!"}},{"$error":"#NUM!"},764,{"$error":"#N/A"},"","",null,null,0,{"$error":"#VALUE!"},3999,"","",null,null,null,null,{"$error":"#VALUE!"},{"$error":"#VALUE!"},{"$f":"COUNTIF('Standards LOOKUP'!B:B,AI765)","v":0},{"$f":"IFERROR(INDEX('Standards LOOKUP'!C:C,MATCH(AI765,'Standards LOOKUP'!B:B,0),0),0)","v":0},{"$f":"IFERROR(INDEX('Current Standards'!P:P,MATCH('Sheet Counter'!AI765,'Current Standards'!O:O,0),0),\"\")","v":""}]
[null,null,0,"","",{"$error":"#VALUE!"},"",{"$f":"IF(I766=\"\",\"\",LARGE(H$1:H765,1)+1)","v":{"$error":"#VALUE!"}},{"$error":"#VALUE!"},765,{"$error":"#N/A"},"",null,null,765,0,{"$f":"IF(R766=\"\",\"\",LARGE(Q$1:Q765,1)+1)","v":{"$error":"#NUM!"}},{"$error":"#NUM!"},765,{"$error":"#N/A"},"","",null,null,0,{"$error":"#VALUE!"},3999,"","",null,null,null,null,{"$error":"#VALUE!"},{"$error":"#VALUE!"},{"$f":"COUNTIF('Standards LOOKUP'!B:B,AI766)","v":0},{"$f":"IFERROR(INDEX('Standards LOOKUP'!C:C,MATCH(AI766,'Standards LOOKUP'!B:B,0),0),0)","v":0},{"$f":"IFERROR(INDEX('Current Standards'!P:P,MATCH('Sheet Counter'!AI766,'Current Standards'!O:O,0),0),\"\")","v":""}]
[null,null,0,"","",{"$error":"#VALUE!"},"",{"$f":"IF(I767=\"\",\"\",LARGE(H$1:H766,1)+1)","v":{"$error":"#VALUE!"}},{"$error":"#VALUE!"},766,{"$error":"#N/A"},"",null,null,766,0,{"$f":"IF(R767=\"\",\"\",LARGE(Q$1:Q766,1)+1)","v":{"$error":"#NUM!"}},{"$error":"#NUM!"},766,{"$error":"#N/A"},"","",null,null,0,{"$error":"#VALUE!"},3999,"","",null,null,null,null,{"$error":"#VALUE!"},{"$error":"#VALUE!"},{"$f":"COUNTIF('Standards LOOKUP'!B:B,AI767)","v":0},{"$f":"IFERROR(INDEX('Standards LOOKUP'!C:C,MATCH(AI767,'Standards LOOKUP'!B:B,0),0),0)","v":0},{"$f":"IFERROR(INDEX('Current Standards'!P:P,MATCH('Sheet Counter'!AI767,'Current Standards'!O:O,0),0),\"\")","v":""}]
[null,null,0,"","",{"$error":"#VALUE!"},"",{"$f":"IF(I768=\"\",\"\",LARGE(H$1:H767,1)+1)","v":{"$error":"#VALUE!"}},{"$error":"#VALUE!"},767,{"$error":"#N/A"},"",null,null,767,0,{"$f":"IF(R768=\"\",\"\",LARGE(Q$1:Q767,1)+1)","v":{"$error":"#NUM!"}},{"$error":"#NUM!"},767,{"$error":"#N/A"},"","",null,null,0,{"$error":"#VALUE!"},3999,"","",null,null,null,null,{"$error":"#VALUE!"},{"$error":"#VALUE!"},{"$f":"COUNTIF('Standards LOOKUP'!B:B,AI768)","v":0},{"$f":"IFERROR(INDEX('Standards LOOKUP'!C:C,MATCH(AI768,'Standards LOOKUP'!B:B,0),0),0)","v":0},{"$f":"IFERROR(INDEX('Current Standards'!P:P,MATCH('Sheet Counter'!AI768,'Current Standards'!O:O,0),0),\"\")","v":""}]
[null,null,0,"","",{"$error":"#VALUE!"},"",{"$f":"IF(I769=\"\",\"\",LARGE(H$1:H768,1)+1)","v":{"$error":"#VALUE!"}},{"$error":"#VALUE!"},768,{"$error":"#N/A"},"",null,null,768,0,{"$f":"IF(R769=\"\",\"\",LARGE(Q$1:Q768,1)+1)","v":{"$error":"#NUM!"}},{"$error":"#NUM!"},768,{"$error":"#N/A"},"","",null,null,0,{"$error":"#VALUE!"},3999,"","",null,null,null,null,{"$error":"#VALUE!"},{"$error":"#VALUE!"},{"$f":"COUNTIF('Standards LOOKUP'!B:B,AI769)","v":0},{"$f":"IFERROR(INDEX('Standards LOOKUP'!C:C,MATCH(AI769,'Standards LOOKUP'!B:B,0),0),0)","v":0},{"$f":"IFERROR(INDEX('Current Standards'!P:P,MATCH('Sheet Counter'!AI769,'Current Standards'!O:O,0),0),\"\")","v":""}]
[null,null,0,"","",{"$error":"#VALUE!"},"",{"$f":"IF(I770=\"\",\"\",LARGE(H$1:H769,1)+1)","v":{"$error":"#VALUE!"}},{"$f":"IF(G770=\"\",F770,\"\")","v":{"$error":"#VALUE!"}},769,{"$error":"#N/A"},"",null,null,769,{"$f":"COUNTIF(G:G,O770)","v":0},{"$f":"IF(R770=\"\",\"\",LARGE(Q$1:Q769,1)+1)","v":{"$error":"#NUM!"}},{"$error":"#NUM!"},769,{"$error":"#N/A"},"","",null,null,0,{"$error":"#VALUE!"},3999,"","",null,null,null,null,{"$error":"#VALUE!"},{"$error":"#VALUE!"},{"$f":"COUNTIF('Standards LOOKUP'!B:B,AI770)","v":0},{"$f":"IFERROR(INDEX('Standards LOOKUP'!C:C,MATCH(AI770,'Standards LOOKUP'!B:B,0),0),0)","v":0},{"$f":"IFERROR(INDEX('Current Standards'!P:P,MATCH('Sheet Counter'!AI770,'Current Standards'!O:O,0),0),\"\")","v":""}]
[null,null,{"$f":"IF(ISERROR(FIND(\"\\\",A771)),A771,RIGHT(A771,LEN(A771)-FIND(\"~\",SUBSTITUTE(A771,\"\\\",\"~\",LEN(A771)-LEN(SUBSTITUTE(A771,\"\\\",\"\"))))))","v":0},{"$f":"IF(AL771=\"\",\"\",AL771)","v":""},"",{"$f":"LEFT(C771,FIND(\"-\",SUBSTITUTE(SUBSTITUTE(C771,\"_\",\"-\"),\" \",\"-\"))-1)","v":{"$error":"#VALUE!"}},{"$f":"IF(ISNUMBER(F771*1),F771*1,\"\")","v":""},{"$f":"IF(I771=\"\",\"\",LARGE(H$1:H770,1)+1)","v":{"$error":"#VALUE!"}},{"$error":"#VALUE!"},770,{"$error":"#N/A"},"",null,null,770,0,{"$f":"IF(R771=\"\",\"\",LARGE(Q$1:Q770,1)+1)","v":{"$error":"#NUM!"}},{"$error":"#NUM!"},770,{"$error":"#N/A"},"","",null,null,{"$f":"IF(ISERROR(FIND(\"\\\",X771)),X771,RIGHT(X771,LEN(X771)-FIND(\"~\",SUBSTITUTE(X771,\"\\\",\"~\",LEN(X771)-LEN(SUBSTITUTE(X771,\"\\\",\"\"))))))","v":0},{"$f":"LEFT(Y771,FIND(\"-\",SUBSTITUTE(SUBSTITUTE(Y771,\"_\",\"-\"),\" \",\"-\"))-1)","v":{"$error":"#VALUE!"}},{"$f":"COUNTIF(F:F,Z771)","v":3999},{"$f":"IF(OR(AA771<1,ISERROR(Z771)),\"\",INDEX(C:C,MATCH(Z771,F:F)))","v":""},{"$f":"IF(AA771=0,\"New Sheet\",IF(EXACT(UPPER(Y771),UPPER(AB771)),\"Match\",\"\"))","v":""},null,null,null,null,{"$f":"IF(C771=\"\",\"\",LEFT(RIGHT(C771,LEN(C771)-SEARCH(\" \",C771,1)),LEN(RIGHT(C771,LEN(C771)-SEARCH(\" \",C771,1)))-4))","v":{"$error":"#VALUE!"}},{"$f":"TRIM(SUBSTITUTE(SUBSTITUTE(SUBSTITUTE(SUBSTITUTE(SUBSTITUTE(SUBSTITUTE(AH771,\"(\",\"\"),\")\",\"\"),\"-\",\"\"),\"&\",\"\"),\" \",\"\",1),\" \",\"\",1))","v":{"$error":"#VALUE!"}},{"$f":"COUNTIF('Standards LOOKUP'!B:B,AI771)","v":0},{"$f":"IFERROR(INDEX('Standards LOOKUP'!C:C,MATCH(AI771,'Standards LOOKUP'!B:B,0),0),0)","v":0},{"$f":"IFERROR(INDEX('Current Standards'!P:P,MATCH('Sheet Counter'!AI771,'Current Standards'!O:O,0),0),\"\")","v":""}]
[null,null,0,"","",{"$error":"#VALUE!"},"",{"$f":"IF(I772=\"\",\"\",LARGE(H$1:H771,1)+1)","v":{"$error":"#VALUE!"}},{"$error":"#VALUE!"},771,{"$error":"#N/A"},"",null,null,771,0,{"$f":"IF(R772=\"\",\"\",LARGE(Q$1:Q771,1)+1)","v":{"$error":"#NUM!"}},{"$f":"IF(AND(P772<>1,O772<=LARGE(G:G,1),O772>=SMALL(G:G,1)),O772,\"\")","v":{"$error":"#NUM!"}},771,{"$error":"#N/A"},"","",null,null,0,{"$error":"#VALUE!"},3999,"","",null,null,null,null,{"$error":"#VALUE!"},{"$error":"#VALUE!"},{"$f":"COUNTIF('Standards LOOKUP'!B:B,AI772)","v":0},{"$f":"IFERROR(INDEX('Standards LOOKUP'!C:C,MATCH(AI772,'Standards LOOKUP'!B:B,0),0),0)","v":0},{"$f":"IFERROR(INDEX('Current Standards'!P:P,MATCH('Sheet Counter'!AI772,'Current Standards'!O:O,0),0),\"\")","v":""}]
[null,null,0,"","",{"$error":"#VALUE!"},"",{"$f":"IF(I773=\"\",\"\",LARGE(H$1:H772,1)+1)","v":{"$error":"#VALUE!"}},{"$error":"#VALUE!"},772,{"$error":"#N/A"},"",null,null,772,0,{"$f":"IF(R773=\"\",\"\",LARGE(Q$1:Q772,1)+1)","v":{"$error":"#NUM!"}},{"$error":"#NUM!"},772,{"$error":"#N/A"},"","",null,null,0,{"$error":"#VALUE!"},3999,"","",null,null,null,null,{"$error":"#VALUE!"},{"$error":"#VALUE!"},{"$f":"COUNTIF('Standards LOOKUP'!B:B,AI773)","v":0},{"$f":"IFERROR(INDEX('Standards LOOKUP'!C:C,MATCH(AI773,'Standards LOOKUP'!B:B,0),0),0)","v":0},{"$f":"IFERROR(INDEX('Current Standards'!P:P,MATCH('Sheet Counter'!AI773,'Current Standards'!O:O,0),0),\"\")","v":""}]
[null,null,0,"","",{"$error":"#VALUE!"},"",{"$f":"IF(I774=\"\",\"\",LARGE(H$1:H773,1)+1)","v":{"$error":"#VALUE!"}},{"$error":"#VALUE!"},773,{"$error":"#N/A"},"",null,null,773,0,{"$f":"IF(R774=\"\",\"\",LARGE(Q$1:Q773,1)+1)","v":{"$error":"#NUM!"}},{"$error":"#NUM!"},773,{"$error":"#N/A"},"","",null,null,0,{"$error":"#VALUE!"},3999,"","",null,null,null,null,{"$error":"#VALUE!"},{"$error":"#VALUE!"},{"$f":"COUNTIF('Standards LOOKUP'!B:B,AI774)","v":0},{"$f":"IFERROR(INDEX('Standards LOOKUP'!C:C,MATCH(AI774,'Standards LOOKUP'!B:B,0),0),0)","v":0},{"$f":"IFERROR(INDEX('Current Standards'!P:P,MATCH('Sheet Counter'!AI774,'Current Standards'!O:O,0),0),\"\")","v":""}]
[null,null,0,"","",{"$error":"#VALUE!"},"",{"$f":"IF(I775=\"\",\"\",LARGE(H$1:H774,1)+1)","v":{"$error":"#VALUE!"}},{"$error":"#VALUE!"},774,{"$error":"#N/A"},"",null,null,774,0,{"$f":"IF(R775=\"\",\"\",LARGE(Q$1:Q774,1)+1)","v":{"$error":"#NUM!"}},{"$error":"#NUM!"},774,{"$error":"#N/A"},"","",null,null,0,{"$error":"#VALUE!"},3999,"","",null,null,null,null,{"$error":"#VALUE!"},{"$error":"#VALUE!"},{"$f":"COUNTIF('Standards LOOKUP'!B:B,AI775)","v":0},{"$f":"IFERROR(INDEX('Standards LOOKUP'!C:C,MATCH(AI775,'Standards LOOKUP'!B:B,0),0),0)","v":0},{"$f":"IFERROR(INDEX('Current Standards'!P:P,MATCH('Sheet Counter'!AI775,'Current Standards'!O:O,0),0),\"\")","v":""}]
[null,null,0,"","",{"$error":"#VALUE!"},"",{"$f":"IF(I776=\"\",\"\",LARGE(H$1:H775,1)+1)","v":{"$error":"#VALUE!"}},{"$error":"#VALUE!"},775,{"$error":"#N/A"},"",null,null,775,0,{"$f":"IF(R776=\"\",\"\",LARGE(Q$1:Q775,1)+1)","v":{"$error":"#NUM!"}},{"$error":"#NUM!"},775,{"$error":"#N/A"},"","",null,null,0,{"$error":"#VALUE!"},3999,"","",null,null,null,null,{"$error":"#VALUE!"},{"$error":"#VALUE!"},{"$f":"COUNTIF('Standards LOOKUP'!B:B,AI776)","v":0},{"$f":"IFERROR(INDEX('Standards LOOKUP'!C:C,MATCH(AI776,'Standards LOOKUP'!B:B,0),0),0)","v":0},{"$f":"IFERROR(INDEX('Current Standards'!P:P,MATCH('Sheet Counter'!AI776,'Current Standards'!O:O,0),0),\"\")","v":""}]
[null,null,0,"","",{"$error":"#VALUE!"},"",{"$f":"IF(I777=\"\",\"\",LARGE(H$1:H776,1)+1)","v":{"$error":"#VALUE!"}},{"$error":"#VALUE!"},776,{"$error":"#N/A"},"",null,null,776,0,{"$f":"IF(R777=\"\",\"\",LARGE(Q$1:Q776,1)+1)","v":{"$error":"#NUM!"}},{"$error":"#NUM!"},776,{"$error":"#N/A"},"","",null,null,0,{"$error":"#VALUE!"},3999,"","",null,null,null,null,{"$error":"#VALUE!"},{"$error":"#VALUE!"},{"$f":"COUNTIF('Standards LOOKUP'!B:B,AI777)","v":0},{"$f":"IFERROR(INDEX('Standards LOOKUP'!C:C,MATCH(AI777,'Standards LOOKUP'!B:B,0),0),0)","v":0},{"$f":"IFERROR(INDEX('Current Standards'!P:P,MATCH('Sheet Counter'!AI777,'Current Standards'!O:O,0),0),\"\")","v":""}]
[null,null,0,"","",{"$error":"#VALUE!"},"",{"$f":"IF(I778=\"\",\"\",LARGE(H$1:H777,1)+1)","v":{"$error":"#VALUE!"}},{"$error":"#VALUE!"},777,{"$error":"#N/A"},"",null,null,777,0,{"$f":"IF(R778=\"\",\"\",LARGE(Q$1:Q777,1)+1)","v":{"$error":"#NUM!"}},{"$error":"#NUM!"},777,{"$error":"#N/A"},"","",null,null,0,{"$error":"#VALUE!"},3999,"","",null,null,null,null,{"$error":"#VALUE!"},{"$error":"#VALUE!"},{"$f":"COUNTIF('Standards LOOKUP'!B:B,AI778)","v":0},{"$f":"IFERROR(INDEX('Standards LOOKUP'!C:C,MATCH(AI778,'Standards LOOKUP'!B:B,0),0),0)","v":0},{"$f":"IFERROR(INDEX('Current Standards'!P:P,MATCH('Sheet Counter'!AI778,'Current Standards'!O:O,0),0),\"\")","v":""}]
[null,null,0,"","",{"$error":"#VALUE!"},"",{"$f":"IF(I779=\"\",\"\",LARGE(H$1:H778,1)+1)","v":{"$error":"#VALUE!"}},{"$error":"#VALUE!"},778,{"$error":"#N/A"},"",null,null,778,0,{"$f":"IF(R779=\"\",\"\",LARGE(Q$1:Q778,1)+1)","v":{"$error":"#NUM!"}},{"$error":"#NUM!"},778,{"$error":"#N/A"},"","",null,null,0,{"$error":"#VALUE!"},3999,"","",null,null,null,null,{"$error":"#VALUE!"},{"$error":"#VALUE!"},{"$f":"COUNTIF('Standards LOOKUP'!B:B,AI779)","v":0},{"$f":"IFERROR(INDEX('Standards LOOKUP'!C:C,MATCH(AI779,'Standards LOOKUP'!B:B,0),0),0)","v":0},{"$f":"IFERROR(INDEX('Current Standards'!P:P,MATCH('Sheet Counter'!AI779,'Current Standards'!O:O,0),0),\"\")","v":""}]
[null,null,0,"","",{"$error":"#VALUE!"},"",{"$f":"IF(I780=\"\",\"\",LARGE(H$1:H779,1)+1)","v":{"$error":"#VALUE!"}},{"$error":"#VALUE!"},779,{"$error":"#N/A"},"",null,null,779,0,{"$f":"IF(R780=\"\",\"\",LARGE(Q$1:Q779,1)+1)","v":{"$error":"#NUM!"}},{"$error":"#NUM!"},779,{"$error":"#N/A"},"","",null,null,0,{"$error":"#VALUE!"},3999,"","",null,null,null,null,{"$error":"#VALUE!"},{"$error":"#VALUE!"},{"$f":"COUNTIF('Standards LOOKUP'!B:B,AI780)","v":0},{"$f":"IFERROR(INDEX('Standards LOOKUP'!C:C,MATCH(AI780,'Standards LOOKUP'!B:B,0),0),0)","v":0},{"$f":"IFERROR(INDEX('Current Standards'!P:P,MATCH('Sheet Counter'!AI780,'Current Standards'!O:O,0),0),\"\")","v":""}]
[null,null,0,"","",{"$error":"#VALUE!"},"",{"$f":"IF(I781=\"\",\"\",LARGE(H$1:H780,1)+1)","v":{"$error":"#VALUE!"}},{"$error":"#VALUE!"},780,{"$error":"#N/A"},"",null,null,780,0,{"$f":"IF(R781=\"\",\"\",LARGE(Q$1:Q780,1)+1)","v":{"$error":"#NUM!"}},{"$error":"#NUM!"},780,{"$error":"#N/A"},"","",null,null,0,{"$error":"#VALUE!"},3999,"","",null,null,null,null,{"$error":"#VALUE!"},{"$error":"#VALUE!"},{"$f":"COUNTIF('Standards LOOKUP'!B:B,AI781)","v":0},{"$f":"IFERROR(INDEX('Standards LOOKUP'!C:C,MATCH(AI781,'Standards LOOKUP'!B:B,0),0),0)","v":0},{"$f":"IFERROR(INDEX('Current Standards'!P:P,MATCH('Sheet Counter'!AI781,'Current Standards'!O:O,0),0),\"\")","v":""}]
[null,null,0,"","",{"$error":"#VALUE!"},"",{"$f":"IF(I782=\"\",\"\",LARGE(H$1:H781,1)+1)","v":{"$error":"#VALUE!"}},{"$error":"#VALUE!"},781,{"$error":"#N/A"},"",null,null,781,0,{"$f":"IF(R782=\"\",\"\",LARGE(Q$1:Q781,1)+1)","v":{"$error":"#NUM!"}},{"$error":"#NUM!"},781,{"$error":"#N/A"},"","",null,null,0,{"$error":"#VALUE!"},3999,"","",null,null,null,null,{"$error":"#VALUE!"},{"$error":"#VALUE!"},{"$f":"COUNTIF('Standards LOOKUP'!B:B,AI782)","v":0},{"$f":"IFERROR(INDEX('Standards LOOKUP'!C:C,MATCH(AI782,'Standards LOOKUP'!B:B,0),0),0)","v":0},{"$f":"IFERROR(INDEX('Current Standards'!P:P,MATCH('Sheet Counter'!AI782,'Current Standards'!O:O,0),0),\"\")","v":""}]
[null,null,0,"","",{"$error":"#VALUE!"},"",{"$f":"IF(I783=\"\",\"\",LARGE(H$1:H782,1)+1)","v":{"$error":"#VALUE!"}},{"$error":"#VALUE!"},782,{"$error":"#N/A"},"",null,null,782,0,{"$f":"IF(R783=\"\",\"\",LARGE(Q$1:Q782,1)+1)","v":{"$error":"#NUM!"}},{"$error":"#NUM!"},782,{"$error":"#N/A"},"","",null,null,0,{"$error":"#VALUE!"},3999,"","",null,null,null,null,{"$error":"#VALUE!"},{"$error":"#VALUE!"},{"$f":"COUNTIF('Standards LOOKUP'!B:B,AI783)","v":0},{"$f":"IFERROR(INDEX('Standards LOOKUP'!C:C,MATCH(AI783,'Standards LOOKUP'!B:B,0),0),0)","v":0},{"$f":"IFERROR(INDEX('Current Standards'!P:P,MATCH('Sheet Counter'!AI783,'Current Standards'!O:O,0),0),\"\")","v":""}]
[null,null,0,"","",{"$error":"#VALUE!"},"",{"$f":"IF(I784=\"\",\"\",LARGE(H$1:H783,1)+1)","v":{"$error":"#VALUE!"}},{"$error":"#VALUE!"},783,{"$error":"#N/A"},"",null,null,783,0,{"$f":"IF(R784=\"\",\"\",LARGE(Q$1:Q783,1)+1)","v":{"$error":"#NUM!"}},{"$error":"#NUM!"},783,{"$error":"#N/A"},"","",null,null,0,{"$error":"#VALUE!"},3999,"","",null,null,null,null,{"$error":"#VALUE!"},{"$error":"#VALUE!"},{"$f":"COUNTIF('Standards LOOKUP'!B:B,AI784)","v":0},{"$f":"IFERROR(INDEX('Standards LOOKUP'!C:C,MATCH(AI784,'Standards LOOKUP'!B:B,0),0),0)","v":0},{"$f":"IFERROR(INDEX('Current Standards'!P:P,MATCH('Sheet Counter'!AI784,'Current Standards'!O:O,0),0),\"\")","v":""}]
[null,null,0,"","",{"$error":"#VALUE!"},"",{"$f":"IF(I785=\"\",\"\",LARGE(H$1:H784,1)+1)","v":{"$error":"#VALUE!"}},{"$error":"#VALUE!"},784,{"$error":"#N/A"},"",null,null,784,0,{"$f":"IF(R785=\"\",\"\",LARGE(Q$1:Q784,1)+1)","v":{"$error":"#NUM!"}},{"$error":"#NUM!"},784,{"$error":"#N/A"},"","",null,null,0,{"$error":"#VALUE!"},3999,"","",null,null,null,null,{"$error":"#VALUE!"},{"$error":"#VALUE!"},{"$f":"COUNTIF('Standards LOOKUP'!B:B,AI785)","v":0},{"$f":"IFERROR(INDEX('Standards LOOKUP'!C:C,MATCH(AI785,'Standards LOOKUP'!B:B,0),0),0)","v":0},{"$f":"IFERROR(INDEX('Current Standards'!P:P,MATCH('Sheet Counter'!AI785,'Current Standards'!O:O,0),0),\"\")","v":""}]
[null,null,0,"","",{"$error":"#VALUE!"},"",{"$f":"IF(I786=\"\",\"\",LARGE(H$1:H785,1)+1)","v":{"$error":"#VALUE!"}},{"$error":"#VALUE!"},785,{"$error":"#N/A"},"",null,null,785,0,{"$f":"IF(R786=\"\",\"\",LARGE(Q$1:Q785,1)+1)","v":{"$error":"#NUM!"}},{"$error":"#NUM!"},785,{"$error":"#N/A"},"","",null,null,0,{"$error":"#VALUE!"},3999,"","",null,null,null,null,{"$error":"#VALUE!"},{"$error":"#VALUE!"},{"$f":"COUNTIF('Standards LOOKUP'!B:B,AI786)","v":0},{"$f":"IFERROR(INDEX('Standards LOOKUP'!C:C,MATCH(AI786,'Standards LOOKUP'!B:B,0),0),0)","v":0},{"$f":"IFERROR(INDEX('Current Standards'!P:P,MATCH('Sheet Counter'!AI786,'Current Standards'!O:O,0),0),\"\")","v":""}]
[null,null,0,"","",{"$error":"#VALUE!"},"",{"$f":"IF(I787=\"\",\"\",LARGE(H$1:H786,1)+1)","v":{"$error":"#VALUE!"}},{"$error":"#VALUE!"},786,{"$error":"#N/A"},"",null,null,786,0,{"$f":"IF(R787=\"\",\"\",LARGE(Q$1:Q786,1)+1)","v":{"$error":"#NUM!"}},{"$error":"#NUM!"},786,{"$error":"#N/A"},"","",null,null,0,{"$error":"#VALUE!"},3999,"","",null,null,null,null,{"$error":"#VALUE!"},{"$error":"#VALUE!"},{"$f":"COUNTIF('Standards LOOKUP'!B:B,AI787)","v":0},{"$f":"IFERROR(INDEX('Standards LOOKUP'!C:C,MATCH(AI787,'Standards LOOKUP'!B:B,0),0),0)","v":0},{"$f":"IFERROR(INDEX('Current Standards'!P:P,MATCH('Sheet Counter'!AI787,'Current Standards'!O:O,0),0),\"\")","v":""}]
[null,null,0,"","",{"$error":"#VALUE!"},"",{"$f":"IF(I788=\"\",\"\",LARGE(H$1:H787,1)+1)","v":{"$error":"#VALUE!"}},{"$error":"#VALUE!"},787,{"$error":"#N/A"},"",null,null,787,0,{"$f":"IF(R788=\"\",\"\",LARGE(Q$1:Q787,1)+1)","v":{"$error":"#NUM!"}},{"$error":"#NUM!"},787,{"$error":"#N/A"},"","",null,null,0,{"$error":"#VALUE!"},3999,"","",null,null,null,null,{"$error":"#VALUE!"},{"$error":"#VALUE!"},{"$f":"COUNTIF('Standards LOOKUP'!B:B,AI788)","v":0},{"$f":"IFERROR(INDEX('Standards LOOKUP'!C:C,MATCH(AI788,'Standards LOOKUP'!B:B,0),0),0)","v":0},{"$f":"IFERROR(INDEX('Current Standards'!P:P,MATCH('Sheet Counter'!AI788,'Current Standards'!O:O,0),0),\"\")","v":""}]
[null,null,0,"","",{"$error":"#VALUE!"},"",{"$f":"IF(I789=\"\",\"\",LARGE(H$1:H788,1)+1)","v":{"$error":"#VALUE!"}},{"$error":"#VALUE!"},788,{"$error":"#N/A"},"",null,null,788,0,{"$f":"IF(R789=\"\",\"\",LARGE(Q$1:Q788,1)+1)","v":{"$error":"#NUM!"}},{"$error":"#NUM!"},788,{"$error":"#N/A"},"","",null,null,0,{"$error":"#VALUE!"},3999,"","",null,null,null,null,{"$error":"#VALUE!"},{"$error":"#VALUE!"},{"$f":"COUNTIF('Standards LOOKUP'!B:B,AI789)","v":0},{"$f":"IFERROR(INDEX('Standards LOOKUP'!C:C,MATCH(AI789,'Standards LOOKUP'!B:B,0),0),0)","v":0},{"$f":"IFERROR(INDEX('Current Standards'!P:P,MATCH('Sheet Counter'!AI789,'Current Standards'!O:O,0),0),\"\")","v":""}]
[null,null,0,"","",{"$error":"#VALUE!"},"",{"$f":"IF(I790=\"\",\"\",LARGE(H$1:H789,1)+1)","v":{"$error":"#VALUE!"}},{"$error":"#VALUE!"},789,{"$error":"#N/A"},"",null,null,789,0,{"$f":"IF(R790=\"\",\"\",LARGE(Q$1:Q789,1)+1)","v":{"$error":"#NUM!"}},{"$error":"#NUM!"},789,{"$error":"#N/A"},"","",null,null,0,{"$error":"#VALUE!"},3999,"","",null,null,null,null,{"$error":"#VALUE!"},{"$error":"#VALUE!"},{"$f":"COUNTIF('Standards LOOKUP'!B:B,AI790)","v":0},{"$f":"IFERROR(INDEX('Standards LOOKUP'!C:C,MATCH(AI790,'Standards LOOKUP'!B:B,0),0),0)","v":0},{"$f":"IFERROR(INDEX('Current Standards'!P:P,MATCH('Sheet Counter'!AI790,'Current Standards'!O:O,0),0),\"\")","v":""}]
[null,null,0,"","",{"$error":"#VALUE!"},"",{"$f":"IF(I791=\"\",\"\",LARGE(H$1:H790,1)+1)","v":{"$error":"#VALUE!"}},{"$error":"#VALUE!"},790,{"$error":"#N/A"},"",null,null,790,0,{"$f":"IF(R791=\"\",\"\",LARGE(Q$1:Q790,1)+1)","v":{"$error":"#NUM!"}},{"$error":"#NUM!"},790,{"$error":"#N/A"},"","",null,null,0,{"$error":"#VALUE!"},3999,"","",null,null,null,null,{"$error":"#VALUE!"},{"$error":"#VALUE!"},{"$f":"COUNTIF('Standards LOOKUP'!B:B,AI791)","v":0},{"$f":"IFERROR(INDEX('Standards LOOKUP'!C:C,MATCH(AI791,'Standards LOOKUP'!B:B,0),0),0)","v":0},{"$f":"IFERROR(INDEX('Current Standards'!P:P,MATCH('Sheet Counter'!AI791,'Current Standards'!O:O,0),0),\"\")","v":""}]
[null,null,0,"","",{"$error":"#VALUE!"},"",{"$f":"IF(I792=\"\",\"\",LARGE(H$1:H791,1)+1)","v":{"$error":"#VALUE!"}},{"$error":"#VALUE!"},791,{"$error":"#N/A"},"",null,null,791,0,{"$f":"IF(R792=\"\",\"\",LARGE(Q$1:Q791,1)+1)","v":{"$error":"#NUM!"}},{"$error":"#NUM!"},791,{"$error":"#N/A"},"","",null,null,0,{"$error":"#VALUE!"},3999,"","",null,null,null,null,{"$error":"#VALUE!"},{"$error":"#VALUE!"},{"$f":"COUNTIF('Standards LOOKUP'!B:B,AI792)","v":0},{"$f":"IFERROR(INDEX('Standards LOOKUP'!C:C,MATCH(AI792,'Standards LOOKUP'!B:B,0),0),0)","v":0},{"$f":"IFERROR(INDEX('Current Standards'!P:P,MATCH('Sheet Counter'!AI792,'Current Standards'!O:O,0),0),\"\")","v":""}]
[null,null,0,"","",{"$error":"#VALUE!"},"",{"$f":"IF(I793=\"\",\"\",LARGE(H$1:H792,1)+1)","v":{"$error":"#VALUE!"}},{"$error":"#VALUE!"},792,{"$error":"#N/A"},"",null,null,792,0,{"$f":"IF(R793=\"\",\"\",LARGE(Q$1:Q792,1)+1)","v":{"$error":"#NUM!"}},{"$error":"#NUM!"},792,{"$error":"#N/A"},"","",null,null,0,{"$error":"#VALUE!"},3999,"","",null,null,null,null,{"$error":"#VALUE!"},{"$error":"#VALUE!"},{"$f":"COUNTIF('Standards LOOKUP'!B:B,AI793)","v":0},{"$f":"IFERROR(INDEX('Standards LOOKUP'!C:C,MATCH(AI793,'Standards LOOKUP'!B:B,0),0),0)","v":0},{"$f":"IFERROR(INDEX('Current Standards'!P:P,MATCH('Sheet Counter'!AI793,'Current Standards'!O:O,0),0),\"\")","v":""}]
[null,null,0,"","",{"$error":"#VALUE!"},"",{"$f":"IF(I794=\"\",\"\",LARGE(H$1:H793,1)+1)","v":{"$error":"#VALUE!"}},{"$error":"#VALUE!"},793,{"$error":"#N/A"},"",null,null,793,0,{"$f":"IF(R794=\"\",\"\",LARGE(Q$1:Q793,1)+1)","v":{"$error":"#NUM!"}},{"$error":"#NUM!"},793,{"$error":"#N/A"},"","",null,null,0,{"$error":"#VALUE!"},3999,"","",null,null,null,null,{"$error":"#VALUE!"},{"$error":"#VALUE!"},{"$f":"COUNTIF('Standards LOOKUP'!B:B,AI794)","v":0},{"$f":"IFERROR(INDEX('Standards LOOKUP'!C:C,MATCH(AI794,'Standards LOOKUP'!B:B,0),0),0)","v":0},{"$f":"IFERROR(INDEX('Current Standards'!P:P,MATCH('Sheet Counter'!AI794,'Current Standards'!O:O,0),0),\"\")","v":""}]
[null,null,0,"","",{"$error":"#VALUE!"},"",{"$f":"IF(I795=\"\",\"\",LARGE(H$1:H794,1)+1)","v":{"$error":"#VALUE!"}},{"$error":"#VALUE!"},794,{"$error":"#N/A"},"",null,null,794,0,{"$f":"IF(R795=\"\",\"\",LARGE(Q$1:Q794,1)+1)","v":{"$error":"#NUM!"}},{"$error":"#NUM!"},794,{"$error":"#N/A"},"","",null,null,0,{"$error":"#VALUE!"},3999,"","",null,null,null,null,{"$error":"#VALUE!"},{"$error":"#VALUE!"},{"$f":"COUNTIF('Standards LOOKUP'!B:B,AI795)","v":0},{"$f":"IFERROR(INDEX('Standards LOOKUP'!C:C,MATCH(AI795,'Standards LOOKUP'!B:B,0),0),0)","v":0},{"$f":"IFERROR(INDEX('Current Standards'!P:P,MATCH('Sheet Counter'!AI795,'Current Standards'!O:O,0),0),\"\")","v":""}]
[null,null,0,"","",{"$error":"#VALUE!"},"",{"$f":"IF(I796=\"\",\"\",LARGE(H$1:H795,1)+1)","v":{"$error":"#VALUE!"}},{"$error":"#VALUE!"},795,{"$error":"#N/A"},"",null,null,795,0,{"$f":"IF(R796=\"\",\"\",LARGE(Q$1:Q795,1)+1)","v":{"$error":"#NUM!"}},{"$error":"#NUM!"},795,{"$error":"#N/A"},"","",null,null,0,{"$error":"#VALUE!"},3999,"","",null,null,null,null,{"$error":"#VALUE!"},{"$error":"#VALUE!"},{"$f":"COUNTIF('Standards LOOKUP'!B:B,AI796)","v":0},{"$f":"IFERROR(INDEX('Standards LOOKUP'!C:C,MATCH(AI796,'Standards LOOKUP'!B:B,0),0),0)","v":0},{"$f":"IFERROR(INDEX('Current Standards'!P:P,MATCH('Sheet Counter'!AI796,'Current Standards'!O:O,0),0),\"\")","v":""}]
[null,null,0,"","",{"$error":"#VALUE!"},"",{"$f":"IF(I797=\"\",\"\",LARGE(H$1:H796,1)+1)","v":{"$error":"#VALUE!"}},{"$error":"#VALUE!"},796,{"$error":"#N/A"},"",null,null,796,0,{"$f":"IF(R797=\"\",\"\",LARGE(Q$1:Q796,1)+1)","v":{"$error":"#NUM!"}},{"$error":"#NUM!"},796,{"$error":"#N/A"},"","",null,null,0,{"$error":"#VALUE!"},3999,"","",null,null,null,null,{"$error":"#VALUE!"},{"$error":"#VALUE!"},{"$f":"COUNTIF('Standards LOOKUP'!B:B,AI797)","v":0},{"$f":"IFERROR(INDEX('Standards LOOKUP'!C:C,MATCH(AI797,'Standards LOOKUP'!B:B,0),0),0)","v":0},{"$f":"IFERROR(INDEX('Current Standards'!P:P,MATCH('Sheet Counter'!AI797,'Current Standards'!O:O,0),0),\"\")","v":""}]
[null,null,0,"","",{"$error":"#VALUE!"},"",{"$f":"IF(I798=\"\",\"\",LARGE(H$1:H797,1)+1)","v":{"$error":"#VALUE!"}},{"$error":"#VALUE!"},797,{"$error":"#N/A"},"",null,null,797,0,{"$f":"IF(R798=\"\",\"\",LARGE(Q$1:Q797,1)+1)","v":{"$error":"#NUM!"}},{"$error":"#NUM!"},797,{"$error":"#N/A"},"","",null,null,0,{"$error":"#VALUE!"},3999,"","",null,null,null,null,{"$error":"#VALUE!"},{"$error":"#VALUE!"},{"$f":"COUNTIF('Standards LOOKUP'!B:B,AI798)","v":0},{"$f":"IFERROR(INDEX('Standards LOOKUP'!C:C,MATCH(AI798,'Standards LOOKUP'!B:B,0),0),0)","v":0},{"$f":"IFERROR(INDEX('Current Standards'!P:P,MATCH('Sheet Counter'!AI798,'Current Standards'!O:O,0),0),\"\")","v":""}]
[null,null,0,"","",{"$error":"#VALUE!"},"",{"$f":"IF(I799=\"\",\"\",LARGE(H$1:H798,1)+1)","v":{"$error":"#VALUE!"}},{"$error":"#VALUE!"},798,{"$error":"#N/A"},"",null,null,798,0,{"$f":"IF(R799=\"\",\"\",LARGE(Q$1:Q798,1)+1)","v":{"$error":"#NUM!"}},{"$error":"#NUM!"},798,{"$error":"#N/A"},"","",null,null,0,{"$error":"#VALUE!"},3999,"","",null,null,null,null,{"$error":"#VALUE!"},{"$error":"#VALUE!"},{"$f":"COUNTIF('Standards LOOKUP'!B:B,AI799)","v":0},{"$f":"IFERROR(INDEX('Standards LOOKUP'!C:C,MATCH(AI799,'Standards LOOKUP'!B:B,0),0),0)","v":0},{"$f":"IFERROR(INDEX('Current Standards'!P:P,MATCH('Sheet Counter'!AI799,'Current Standards'!O:O,0),0),\"\")","v":""}]
[null,null,0,"","",{"$error":"#VALUE!"},"",{"$f":"IF(I800=\"\",\"\",LARGE(H$1:H799,1)+1)","v":{"$error":"#VALUE!"}},{"$error":"#VALUE!"},799,{"$error":"#N/A"},"",null,null,799,0,{"$f":"IF(R800=\"\",\"\",LARGE(Q$1:Q799,1)+1)","v":{"$error":"#NUM!"}},{"$error":"#NUM!"},799,{"$error":"#N/A"},"","",null,null,0,{"$error":"#VALUE!"},3999,"","",null,null,null,null,{"$error":"#VALUE!"},{"$error":"#VALUE!"},{"$f":"COUNTIF('Standards LOOKUP'!B:B,AI800)","v":0},{"$f":"IFERROR(INDEX('Standards LOOKUP'!C:C,MATCH(AI800,'Standards LOOKUP'!B:B,0),0),0)","v":0},{"$f":"IFERROR(INDEX('Current Standards'!P:P,MATCH('Sheet Counter'!AI800,'Current Standards'!O:O,0),0),\"\")","v":""}]
[null,null,0,"","",{"$error":"#VALUE!"},"",{"$f":"IF(I801=\"\",\"\",LARGE(H$1:H800,1)+1)","v":{"$error":"#VALUE!"}},{"$error":"#VALUE!"},800,{"$error":"#N/A"},"",null,null,800,0,{"$f":"IF(R801=\"\",\"\",LARGE(Q$1:Q800,1)+1)","v":{"$error":"#NUM!"}},{"$error":"#NUM!"},800,{"$error":"#N/A"},"","",null,null,0,{"$error":"#VALUE!"},3999,"","",null,null,null,null,{"$error":"#VALUE!"},{"$error":"#VALUE!"},{"$f":"COUNTIF('Standards LOOKUP'!B:B,AI801)","v":0},{"$f":"IFERROR(INDEX('Standards LOOKUP'!C:C,MATCH(AI801,'Standards LOOKUP'!B:B,0),0),0)","v":0},{"$f":"IFERROR(INDEX('Current Standards'!P:P,MATCH('Sheet Counter'!AI801,'Current Standards'!O:O,0),0),\"\")","v":""}]
[null,null,0,"","",{"$error":"#VALUE!"},"",{"$f":"IF(I802=\"\",\"\",LARGE(H$1:H801,1)+1)","v":{"$error":"#VALUE!"}},{"$error":"#VALUE!"},801,{"$error":"#N/A"},"",null,null,801,0,{"$f":"IF(R802=\"\",\"\",LARGE(Q$1:Q801,1)+1)","v":{"$error":"#NUM!"}},{"$error":"#NUM!"},801,{"$error":"#N/A"},"","",null,null,0,{"$error":"#VALUE!"},3999,"","",null,null,null,null,{"$error":"#VALUE!"},{"$error":"#VALUE!"},{"$f":"COUNTIF('Standards LOOKUP'!B:B,AI802)","v":0},{"$f":"IFERROR(INDEX('Standards LOOKUP'!C:C,MATCH(AI802,'Standards LOOKUP'!B:B,0),0),0)","v":0},{"$f":"IFERROR(INDEX('Current Standards'!P:P,MATCH('Sheet Counter'!AI802,'Current Standards'!O:O,0),0),\"\")","v":""}]
[null,null,0,"","",{"$error":"#VALUE!"},"",{"$f":"IF(I803=\"\",\"\",LARGE(H$1:H802,1)+1)","v":{"$error":"#VALUE!"}},{"$error":"#VALUE!"},802,{"$error":"#N/A"},"",null,null,802,0,{"$f":"IF(R803=\"\",\"\",LARGE(Q$1:Q802,1)+1)","v":{"$error":"#NUM!"}},{"$error":"#NUM!"},802,{"$error":"#N/A"},"","",null,null,0,{"$error":"#VALUE!"},3999,"","",null,null,null,null,{"$error":"#VALUE!"},{"$error":"#VALUE!"},{"$f":"COUNTIF('Standards LOOKUP'!B:B,AI803)","v":0},{"$f":"IFERROR(INDEX('Standards LOOKUP'!C:C,MATCH(AI803,'Standards LOOKUP'!B:B,0),0),0)","v":0},{"$f":"IFERROR(INDEX('Current Standards'!P:P,MATCH('Sheet Counter'!AI803,'Current Standards'!O:O,0),0),\"\")","v":""}]
[null,null,0,"","",{"$error":"#VALUE!"},"",{"$f":"IF(I804=\"\",\"\",LARGE(H$1:H803,1)+1)","v":{"$error":"#VALUE!"}},{"$error":"#VALUE!"},803,{"$error":"#N/A"},"",null,null,803,0,{"$f":"IF(R804=\"\",\"\",LARGE(Q$1:Q803,1)+1)","v":{"$error":"#NUM!"}},{"$error":"#NUM!"},803,{"$error":"#N/A"},"","",null,null,0,{"$error":"#VALUE!"},3999,"","",null,null,null,null,{"$error":"#VALUE!"},{"$error":"#VALUE!"},{"$f":"COUNTIF('Standards LOOKUP'!B:B,AI804)","v":0},{"$f":"IFERROR(INDEX('Standards LOOKUP'!C:C,MATCH(AI804,'Standards LOOKUP'!B:B,0),0),0)","v":0},{"$f":"IFERROR(INDEX('Current Standards'!P:P,MATCH('Sheet Counter'!AI804,'Current Standards'!O:O,0),0),\"\")","v":""}]
[null,null,0,"","",{"$error":"#VALUE!"},"",{"$f":"IF(I805=\"\",\"\",LARGE(H$1:H804,1)+1)","v":{"$error":"#VALUE!"}},{"$error":"#VALUE!"},804,{"$error":"#N/A"},"",null,null,804,0,{"$f":"IF(R805=\"\",\"\",LARGE(Q$1:Q804,1)+1)","v":{"$error":"#NUM!"}},{"$error":"#NUM!"},804,{"$error":"#N/A"},"","",null,null,0,{"$error":"#VALUE!"},3999,"","",null,null,null,null,{"$error":"#VALUE!"},{"$error":"#VALUE!"},{"$f":"COUNTIF('Standards LOOKUP'!B:B,AI805)","v":0},{"$f":"IFERROR(INDEX('Standards LOOKUP'!C:C,MATCH(AI805,'Standards LOOKUP'!B:B,0),0),0)","v":0},{"$f":"IFERROR(INDEX('Current Standards'!P:P,MATCH('Sheet Counter'!AI805,'Current Standards'!O:O,0),0),\"\")","v":""}]
[null,null,0,"","",{"$error":"#VALUE!"},"",{"$f":"IF(I806=\"\",\"\",LARGE(H$1:H805,1)+1)","v":{"$error":"#VALUE!"}},{"$error":"#VALUE!"},805,{"$error":"#N/A"},"",null,null,805,0,{"$f":"IF(R806=\"\",\"\",LARGE(Q$1:Q805,1)+1)","v":{"$error":"#NUM!"}},{"$error":"#NUM!"},805,{"$error":"#N/A"},"","",null,null,0,{"$error":"#VALUE!"},3999,"","",null,null,null,null,{"$error":"#VALUE!"},{"$error":"#VALUE!"},{"$f":"COUNTIF('Standards LOOKUP'!B:B,AI806)","v":0},{"$f":"IFERROR(INDEX('Standards LOOKUP'!C:C,MATCH(AI806,'Standards LOOKUP'!B:B,0),0),0)","v":0},{"$f":"IFERROR(INDEX('Current Standards'!P:P,MATCH('Sheet Counter'!AI806,'Current Standards'!O:O,0),0),\"\")","v":""}]
[null,null,0,"","",{"$error":"#VALUE!"},"",{"$f":"IF(I807=\"\",\"\",LARGE(H$1:H806,1)+1)","v":{"$error":"#VALUE!"}},{"$error":"#VALUE!"},806,{"$error":"#N/A"},"",null,null,806,0,{"$f":"IF(R807=\"\",\"\",LARGE(Q$1:Q806,1)+1)","v":{"$error":"#NUM!"}},{"$error":"#NUM!"},806,{"$error":"#N/A"},"","",null,null,0,{"$error":"#VALUE!"},3999,"","",null,null,null,null,{"$error":"#VALUE!"},{"$error":"#VALUE!"},{"$f":"COUNTIF('Standards LOOKUP'!B:B,AI807)","v":0},{"$f":"IFERROR(INDEX('Standards LOOKUP'!C:C,MATCH(AI807,'Standards LOOKUP'!B:B,0),0),0)","v":0},{"$f":"IFERROR(INDEX('Current Standards'!P:P,MATCH('Sheet Counter'!AI807,'Current Standards'!O:O,0),0),\"\")","v":""}]
[null,null,0,"","",{"$error":"#VALUE!"},"",{"$f":"IF(I808=\"\",\"\",LARGE(H$1:H807,1)+1)","v":{"$error":"#VALUE!"}},{"$error":"#VALUE!"},807,{"$error":"#N/A"},"",null,null,807,0,{"$f":"IF(R808=\"\",\"\",LARGE(Q$1:Q807,1)+1)","v":{"$error":"#NUM!"}},{"$error":"#NUM!"},807,{"$error":"#N/A"},"","",null,null,0,{"$error":"#VALUE!"},3999,"","",null,null,null,null,{"$error":"#VALUE!"},{"$error":"#VALUE!"},{"$f":"COUNTIF('Standards LOOKUP'!B:B,AI808)","v":0},{"$f":"IFERROR(INDEX('Standards LOOKUP'!C:C,MATCH(AI808,'Standards LOOKUP'!B:B,0),0),0)","v":0},{"$f":"IFERROR(INDEX('Current Standards'!P:P,MATCH('Sheet Counter'!AI808,'Current Standards'!O:O,0),0),\"\")","v":""}]
[null,null,0,"","",{"$error":"#VALUE!"},"",{"$f":"IF(I809=\"\",\"\",LARGE(H$1:H808,1)+1)","v":{"$error":"#VALUE!"}},{"$error":"#VALUE!"},808,{"$error":"#N/A"},"",null,null,808,0,{"$f":"IF(R809=\"\",\"\",LARGE(Q$1:Q808,1)+1)","v":{"$error":"#NUM!"}},{"$error":"#NUM!"},808,{"$error":"#N/A"},"","",null,null,0,{"$error":"#VALUE!"},3999,"","",null,null,null,null,{"$error":"#VALUE!"},{"$error":"#VALUE!"},{"$f":"COUNTIF('Standards LOOKUP'!B:B,AI809)","v":0},{"$f":"IFERROR(INDEX('Standards LOOKUP'!C:C,MATCH(AI809,'Standards LOOKUP'!B:B,0),0),0)","v":0},{"$f":"IFERROR(INDEX('Current Standards'!P:P,MATCH('Sheet Counter'!AI809,'Current Standards'!O:O,0),0),\"\")","v":""}]
[null,null,0,"","",{"$error":"#VALUE!"},"",{"$f":"IF(I810=\"\",\"\",LARGE(H$1:H809,1)+1)","v":{"$error":"#VALUE!"}},{"$error":"#VALUE!"},809,{"$error":"#N/A"},"",null,null,809,0,{"$f":"IF(R810=\"\",\"\",LARGE(Q$1:Q809,1)+1)","v":{"$error":"#NUM!"}},{"$error":"#NUM!"},809,{"$error":"#N/A"},"","",null,null,0,{"$error":"#VALUE!"},3999,"","",null,null,null,null,{"$error":"#VALUE!"},{"$error":"#VALUE!"},{"$f":"COUNTIF('Standards LOOKUP'!B:B,AI810)","v":0},{"$f":"IFERROR(INDEX('Standards LOOKUP'!C:C,MATCH(AI810,'Standards LOOKUP'!B:B,0),0),0)","v":0},{"$f":"IFERROR(INDEX('Current Standards'!P:P,MATCH('Sheet Counter'!AI810,'Current Standards'!O:O,0),0),\"\")","v":""}]
[null,null,0,"","",{"$error":"#VALUE!"},"",{"$f":"IF(I811=\"\",\"\",LARGE(H$1:H810,1)+1)","v":{"$error":"#VALUE!"}},{"$error":"#VALUE!"},810,{"$error":"#N/A"},"",null,null,810,0,{"$f":"IF(R811=\"\",\"\",LARGE(Q$1:Q810,1)+1)","v":{"$error":"#NUM!"}},{"$error":"#NUM!"},810,{"$error":"#N/A"},"","",null,null,0,{"$error":"#VALUE!"},3999,"","",null,null,null,null,{"$error":"#VALUE!"},{"$error":"#VALUE!"},{"$f":"COUNTIF('Standards LOOKUP'!B:B,AI811)","v":0},{"$f":"IFERROR(INDEX('Standards LOOKUP'!C:C,MATCH(AI811,'Standards LOOKUP'!B:B,0),0),0)","v":0},{"$f":"IFERROR(INDEX('Current Standards'!P:P,MATCH('Sheet Counter'!AI811,'Current Standards'!O:O,0),0),\"\")","v":""}]
[null,null,0,"","",{"$error":"#VALUE!"},"",{"$f":"IF(I812=\"\",\"\",LARGE(H$1:H811,1)+1)","v":{"$error":"#VALUE!"}},{"$error":"#VALUE!"},811,{"$error":"#N/A"},"",null,null,811,0,{"$f":"IF(R812=\"\",\"\",LARGE(Q$1:Q811,1)+1)","v":{"$error":"#NUM!"}},{"$error":"#NUM!"},811,{"$error":"#N/A"},"","",null,null,0,{"$error":"#VALUE!"},3999,"","",null,null,null,null,{"$error":"#VALUE!"},{"$error":"#VALUE!"},{"$f":"COUNTIF('Standards LOOKUP'!B:B,AI812)","v":0},{"$f":"IFERROR(INDEX('Standards LOOKUP'!C:C,MATCH(AI812,'Standards LOOKUP'!B:B,0),0),0)","v":0},{"$f":"IFERROR(INDEX('Current Standards'!P:P,MATCH('Sheet Counter'!AI812,'Current Standards'!O:O,0),0),\"\")","v":""}]
[null,null,0,"","",{"$error":"#VALUE!"},"",{"$f":"IF(I813=\"\",\"\",LARGE(H$1:H812,1)+1)","v":{"$error":"#VALUE!"}},{"$error":"#VALUE!"},812,{"$error":"#N/A"},"",null,null,812,0,{"$f":"IF(R813=\"\",\"\",LARGE(Q$1:Q812,1)+1)","v":{"$error":"#NUM!"}},{"$error":"#NUM!"},812,{"$error":"#N/A"},"","",null,null,0,{"$error":"#VALUE!"},3999,"","",null,null,null,null,{"$error":"#VALUE!"},{"$error":"#VALUE!"},{"$f":"COUNTIF('Standards LOOKUP'!B:B,AI813)","v":0},{"$f":"IFERROR(INDEX('Standards LOOKUP'!C:C,MATCH(AI813,'Standards LOOKUP'!B:B,0),0),0)","v":0},{"$f":"IFERROR(INDEX('Current Standards'!P:P,MATCH('Sheet Counter'!AI813,'Current Standards'!O:O,0),0),\"\")","v":""}]
[null,null,0,"","",{"$error":"#VALUE!"},"",{"$f":"IF(I814=\"\",\"\",LARGE(H$1:H813,1)+1)","v":{"$error":"#VALUE!"}},{"$error":"#VALUE!"},813,{"$error":"#N/A"},"",null,null,813,0,{"$f":"IF(R814=\"\",\"\",LARGE(Q$1:Q813,1)+1)","v":{"$error":"#NUM!"}},{"$error":"#NUM!"},813,{"$error":"#N/A"},"","",null,null,0,{"$error":"#VALUE!"},3999,"","",null,null,null,null,{"$error":"#VALUE!"},{"$error":"#VALUE!"},{"$f":"COUNTIF('Standards LOOKUP'!B:B,AI814)","v":0},{"$f":"IFERROR(INDEX('Standards LOOKUP'!C:C,MATCH(AI814,'Standards LOOKUP'!B:B,0),0),0)","v":0},{"$f":"IFERROR(INDEX('Current Standards'!P:P,MATCH('Sheet Counter'!AI814,'Current Standards'!O:O,0),0),\"\")","v":""}]
[null,null,0,"","",{"$error":"#VALUE!"},"",{"$f":"IF(I815=\"\",\"\",LARGE(H$1:H814,1)+1)","v":{"$error":"#VALUE!"}},{"$error":"#VALUE!"},814,{"$error":"#N/A"},"",null,null,814,0,{"$f":"IF(R815=\"\",\"\",LARGE(Q$1:Q814,1)+1)","v":{"$error":"#NUM!"}},{"$error":"#NUM!"},814,{"$error":"#N/A"},"","",null,null,0,{"$error":"#VALUE!"},3999,"","",null,null,null,null,{"$error":"#VALUE!"},{"$error":"#VALUE!"},{"$f":"COUNTIF('Standards LOOKUP'!B:B,AI815)","v":0},{"$f":"IFERROR(INDEX('Standards LOOKUP'!C:C,MATCH(AI815,'Standards LOOKUP'!B:B,0),0),0)","v":0},{"$f":"IFERROR(INDEX('Current Standards'!P:P,MATCH('Sheet Counter'!AI815,'Current Standards'!O:O,0),0),\"\")","v":""}]
[null,null,0,"","",{"$error":"#VALUE!"},"",{"$f":"IF(I816=\"\",\"\",LARGE(H$1:H815,1)+1)","v":{"$error":"#VALUE!"}},{"$error":"#VALUE!"},815,{"$error":"#N/A"},"",null,null,815,0,{"$f":"IF(R816=\"\",\"\",LARGE(Q$1:Q815,1)+1)","v":{"$error":"#NUM!"}},{"$error":"#NUM!"},815,{"$error":"#N/A"},"","",null,null,0,{"$error":"#VALUE!"},3999,"","",null,null,null,null,{"$error":"#VALUE!"},{"$error":"#VALUE!"},{"$f":"COUNTIF('Standards LOOKUP'!B:B,AI816)","v":0},{"$f":"IFERROR(INDEX('Standards LOOKUP'!C:C,MATCH(AI816,'Standards LOOKUP'!B:B,0),0),0)","v":0},{"$f":"IFERROR(INDEX('Current Standards'!P:P,MATCH('Sheet Counter'!AI816,'Current Standards'!O:O,0),0),\"\")","v":""}]
[null,null,0,"","",{"$error":"#VALUE!"},"",{"$f":"IF(I817=\"\",\"\",LARGE(H$1:H816,1)+1)","v":{"$error":"#VALUE!"}},{"$error":"#VALUE!"},816,{"$error":"#N/A"},"",null,null,816,0,{"$f":"IF(R817=\"\",\"\",LARGE(Q$1:Q816,1)+1)","v":{"$error":"#NUM!"}},{"$error":"#NUM!"},816,{"$error":"#N/A"},"","",null,null,0,{"$error":"#VALUE!"},3999,"","",null,null,null,null,{"$error":"#VALUE!"},{"$error":"#VALUE!"},{"$f":"COUNTIF('Standards LOOKUP'!B:B,AI817)","v":0},{"$f":"IFERROR(INDEX('Standards LOOKUP'!C:C,MATCH(AI817,'Standards LOOKUP'!B:B,0),0),0)","v":0},{"$f":"IFERROR(INDEX('Current Standards'!P:P,MATCH('Sheet Counter'!AI817,'Current Standards'!O:O,0),0),\"\")","v":""}]
[null,null,0,"","",{"$error":"#VALUE!"},"",{"$f":"IF(I818=\"\",\"\",LARGE(H$1:H817,1)+1)","v":{"$error":"#VALUE!"}},{"$error":"#VALUE!"},817,{"$error":"#N/A"},"",null,null,817,0,{"$f":"IF(R818=\"\",\"\",LARGE(Q$1:Q817,1)+1)","v":{"$error":"#NUM!"}},{"$error":"#NUM!"},817,{"$error":"#N/A"},"","",null,null,0,{"$error":"#VALUE!"},3999,"","",null,null,null,null,{"$error":"#VALUE!"},{"$error":"#VALUE!"},{"$f":"COUNTIF('Standards LOOKUP'!B:B,AI818)","v":0},{"$f":"IFERROR(INDEX('Standards LOOKUP'!C:C,MATCH(AI818,'Standards LOOKUP'!B:B,0),0),0)","v":0},{"$f":"IFERROR(INDEX('Current Standards'!P:P,MATCH('Sheet Counter'!AI818,'Current Standards'!O:O,0),0),\"\")","v":""}]
[null,null,0,"","",{"$error":"#VALUE!"},"",{"$f":"IF(I819=\"\",\"\",LARGE(H$1:H818,1)+1)","v":{"$error":"#VALUE!"}},{"$error":"#VALUE!"},818,{"$error":"#N/A"},"",null,null,818,0,{"$f":"IF(R819=\"\",\"\",LARGE(Q$1:Q818,1)+1)","v":{"$error":"#NUM!"}},{"$error":"#NUM!"},818,{"$error":"#N/A"},"","",null,null,0,{"$error":"#VALUE!"},3999,"","",null,null,null,null,{"$error":"#VALUE!"},{"$error":"#VALUE!"},{"$f":"COUNTIF('Standards LOOKUP'!B:B,AI819)","v":0},{"$f":"IFERROR(INDEX('Standards LOOKUP'!C:C,MATCH(AI819,'Standards LOOKUP'!B:B,0),0),0)","v":0},{"$f":"IFERROR(INDEX('Current Standards'!P:P,MATCH('Sheet Counter'!AI819,'Current Standards'!O:O,0),0),\"\")","v":""}]
[null,null,0,"","",{"$error":"#VALUE!"},"",{"$f":"IF(I820=\"\",\"\",LARGE(H$1:H819,1)+1)","v":{"$error":"#VALUE!"}},{"$error":"#VALUE!"},819,{"$error":"#N/A"},"",null,null,819,0,{"$f":"IF(R820=\"\",\"\",LARGE(Q$1:Q819,1)+1)","v":{"$error":"#NUM!"}},{"$error":"#NUM!"},819,{"$error":"#N/A"},"","",null,null,0,{"$error":"#VALUE!"},3999,"","",null,null,null,null,{"$error":"#VALUE!"},{"$error":"#VALUE!"},{"$f":"COUNTIF('Standards LOOKUP'!B:B,AI820)","v":0},{"$f":"IFERROR(INDEX('Standards LOOKUP'!C:C,MATCH(AI820,'Standards LOOKUP'!B:B,0),0),0)","v":0},{"$f":"IFERROR(INDEX('Current Standards'!P:P,MATCH('Sheet Counter'!AI820,'Current Standards'!O:O,0),0),\"\")","v":""}]
[null,null,0,"","",{"$error":"#VALUE!"},"",{"$f":"IF(I821=\"\",\"\",LARGE(H$1:H820,1)+1)","v":{"$error":"#VALUE!"}},{"$error":"#VALUE!"},820,{"$error":"#N/A"},"",null,null,820,0,{"$f":"IF(R821=\"\",\"\",LARGE(Q$1:Q820,1)+1)","v":{"$error":"#NUM!"}},{"$error":"#NUM!"},820,{"$error":"#N/A"},"","",null,null,0,{"$error":"#VALUE!"},3999,"","",null,null,null,null,{"$error":"#VALUE!"},{"$error":"#VALUE!"},{"$f":"COUNTIF('Standards LOOKUP'!B:B,AI821)","v":0},{"$f":"IFERROR(INDEX('Standards LOOKUP'!C:C,MATCH(AI821,'Standards LOOKUP'!B:B,0),0),0)","v":0},{"$f":"IFERROR(INDEX('Current Standards'!P:P,MATCH('Sheet Counter'!AI821,'Current Standards'!O:O,0),0),\"\")","v":""}]
[null,null,0,"","",{"$error":"#VALUE!"},"",{"$f":"IF(I822=\"\",\"\",LARGE(H$1:H821,1)+1)","v":{"$error":"#VALUE!"}},{"$error":"#VALUE!"},821,{"$f":"VLOOKUP(J822,H:I,2,0)","v":{"$error":"#N/A"}},{"$f":"IF(ISERROR(K822),\"\",K822)","v":""},null,null,821,0,{"$f":"IF(R822=\"\",\"\",LARGE(Q$1:Q821,1)+1)","v":{"$error":"#NUM!"}},{"$error":"#NUM!"},821,{"$f":"VLOOKUP(S822,Q:R,2,0)","v":{"$error":"#N/A"}},{"$f":"IF(ISERROR(T822),\"\",T822)","v":""},{"$f":"IF(U822=\"\",\"\",VLOOKUP(U822,O:P,2,0))","v":""},null,null,0,{"$error":"#VALUE!"},3999,"","",null,null,null,null,{"$error":"#VALUE!"},{"$error":"#VALUE!"},{"$f":"COUNTIF('Standards LOOKUP'!B:B,AI822)","v":0},{"$f":"IFERROR(INDEX('Standards LOOKUP'!C:C,MATCH(AI822,'Standards LOOKUP'!B:B,0),0),0)","v":0},{"$f":"IFERROR(INDEX('Current Standards'!P:P,MATCH('Sheet Counter'!AI822,'Current Standards'!O:O,0),0),\"\")","v":""}]
[null,null,0,"","",{"$error":"#VALUE!"},"",{"$f":"IF(I823=\"\",\"\",LARGE(H$1:H822,1)+1)","v":{"$error":"#VALUE!"}},{"$error":"#VALUE!"},822,{"$error":"#N/A"},"",null,null,822,0,{"$f":"IF(R823=\"\",\"\",LARGE(Q$1:Q822,1)+1)","v":{"$error":"#NUM!"}},{"$error":"#NUM!"},822,{"$error":"#N/A"},"","",null,null,0,{"$error":"#VALUE!"},3999,"","",null,null,null,null,{"$error":"#VALUE!"},{"$error":"#VALUE!"},{"$f":"COUNTIF('Standards LOOKUP'!B:B,AI823)","v":0},{"$f":"IFERROR(INDEX('Standards LOOKUP'!C:C,MATCH(AI823,'Standards LOOKUP'!B:B,0),0),0)","v":0},{"$f":"IFERROR(INDEX('Current Standards'!P:P,MATCH('Sheet Counter'!AI823,'Current Standards'!O:O,0),0),\"\")","v":""}]
[null,null,0,"","",{"$error":"#VALUE!"},"",{"$f":"IF(I824=\"\",\"\",LARGE(H$1:H823,1)+1)","v":{"$error":"#VALUE!"}},{"$error":"#VALUE!"},823,{"$error":"#N/A"},"",null,null,823,0,{"$f":"IF(R824=\"\",\"\",LARGE(Q$1:Q823,1)+1)","v":{"$error":"#NUM!"}},{"$error":"#NUM!"},823,{"$error":"#N/A"},"","",null,null,0,{"$error":"#VALUE!"},3999,"","",null,null,null,null,{"$error":"#VALUE!"},{"$error":"#VALUE!"},{"$f":"COUNTIF('Standards LOOKUP'!B:B,AI824)","v":0},{"$f":"IFERROR(INDEX('Standards LOOKUP'!C:C,MATCH(AI824,'Standards LOOKUP'!B:B,0),0),0)","v":0},{"$f":"IFERROR(INDEX('Current Standards'!P:P,MATCH('Sheet Counter'!AI824,'Current Standards'!O:O,0),0),\"\")","v":""}]
[null,null,0,"","",{"$error":"#VALUE!"},"",{"$f":"IF(I825=\"\",\"\",LARGE(H$1:H824,1)+1)","v":{"$error":"#VALUE!"}},{"$error":"#VALUE!"},824,{"$error":"#N/A"},"",null,null,824,0,{"$f":"IF(R825=\"\",\"\",LARGE(Q$1:Q824,1)+1)","v":{"$error":"#NUM!"}},{"$error":"#NUM!"},824,{"$error":"#N/A"},"","",null,null,0,{"$error":"#VALUE!"},3999,"","",null,null,null,null,{"$error":"#VALUE!"},{"$error":"#VALUE!"},{"$f":"COUNTIF('Standards LOOKUP'!B:B,AI825)","v":0},{"$f":"IFERROR(INDEX('Standards LOOKUP'!C:C,MATCH(AI825,'Standards LOOKUP'!B:B,0),0),0)","v":0},{"$f":"IFERROR(INDEX('Current Standards'!P:P,MATCH('Sheet Counter'!AI825,'Current Standards'!O:O,0),0),\"\")","v":""}]
[null,null,0,"","",{"$error":"#VALUE!"},"",{"$f":"IF(I826=\"\",\"\",LARGE(H$1:H825,1)+1)","v":{"$error":"#VALUE!"}},{"$error":"#VALUE!"},825,{"$error":"#N/A"},"",null,null,825,0,{"$f":"IF(R826=\"\",\"\",LARGE(Q$1:Q825,1)+1)","v":{"$error":"#NUM!"}},{"$error":"#NUM!"},825,{"$error":"#N/A"},"","",null,null,0,{"$error":"#VALUE!"},3999,"","",null,null,null,null,{"$error":"#VALUE!"},{"$error":"#VALUE!"},{"$f":"COUNTIF('Standards LOOKUP'!B:B,AI826)","v":0},{"$f":"IFERROR(INDEX('Standards LOOKUP'!C:C,MATCH(AI826,'Standards LOOKUP'!B:B,0),0),0)","v":0},{"$f":"IFERROR(INDEX('Current Standards'!P:P,MATCH('Sheet Counter'!AI826,'Current Standards'!O:O,0),0),\"\")","v":""}]
[null,null,0,"","",{"$error":"#VALUE!"},"",{"$f":"IF(I827=\"\",\"\",LARGE(H$1:H826,1)+1)","v":{"$error":"#VALUE!"}},{"$error":"#VALUE!"},826,{"$error":"#N/A"},"",null,null,826,0,{"$f":"IF(R827=\"\",\"\",LARGE(Q$1:Q826,1)+1)","v":{"$error":"#NUM!"}},{"$error":"#NUM!"},826,{"$error":"#N/A"},"","",null,null,0,{"$error":"#VALUE!"},3999,"","",null,null,null,null,{"$error":"#VALUE!"},{"$error":"#VALUE!"},{"$f":"COUNTIF('Standards LOOKUP'!B:B,AI827)","v":0},{"$f":"IFERROR(INDEX('Standards LOOKUP'!C:C,MATCH(AI827,'Standards LOOKUP'!B:B,0),0),0)","v":0},{"$f":"IFERROR(INDEX('Current Standards'!P:P,MATCH('Sheet Counter'!AI827,'Current Standards'!O:O,0),0),\"\")","v":""}]
[null,null,0,"","",{"$error":"#VALUE!"},"",{"$f":"IF(I828=\"\",\"\",LARGE(H$1:H827,1)+1)","v":{"$error":"#VALUE!"}},{"$error":"#VALUE!"},827,{"$error":"#N/A"},"",null,null,827,0,{"$f":"IF(R828=\"\",\"\",LARGE(Q$1:Q827,1)+1)","v":{"$error":"#NUM!"}},{"$error":"#NUM!"},827,{"$error":"#N/A"},"","",null,null,0,{"$error":"#VALUE!"},3999,"","",null,null,null,null,{"$error":"#VALUE!"},{"$error":"#VALUE!"},{"$f":"COUNTIF('Standards LOOKUP'!B:B,AI828)","v":0},{"$f":"IFERROR(INDEX('Standards LOOKUP'!C:C,MATCH(AI828,'Standards LOOKUP'!B:B,0),0),0)","v":0},{"$f":"IFERROR(INDEX('Current Standards'!P:P,MATCH('Sheet Counter'!AI828,'Current Standards'!O:O,0),0),\"\")","v":""}]
[null,null,0,"","",{"$error":"#VALUE!"},"",{"$f":"IF(I829=\"\",\"\",LARGE(H$1:H828,1)+1)","v":{"$error":"#VALUE!"}},{"$error":"#VALUE!"},828,{"$error":"#N/A"},"",null,null,828,0,{"$f":"IF(R829=\"\",\"\",LARGE(Q$1:Q828,1)+1)","v":{"$error":"#NUM!"}},{"$error":"#NUM!"},828,{"$error":"#N/A"},"","",null,null,0,{"$error":"#VALUE!"},3999,"","",null,null,null,null,{"$error":"#VALUE!"},{"$error":"#VALUE!"},{"$f":"COUNTIF('Standards LOOKUP'!B:B,AI829)","v":0},{"$f":"IFERROR(INDEX('Standards LOOKUP'!C:C,MATCH(AI829,'Standards LOOKUP'!B:B,0),0),0)","v":0},{"$f":"IFERROR(INDEX('Current Standards'!P:P,MATCH('Sheet Counter'!AI829,'Current Standards'!O:O,0),0),\"\")","v":""}]
[null,null,0,"","",{"$error":"#VALUE!"},"",{"$f":"IF(I830=\"\",\"\",LARGE(H$1:H829,1)+1)","v":{"$error":"#VALUE!"}},{"$error":"#VALUE!"},829,{"$error":"#N/A"},"",null,null,829,0,{"$f":"IF(R830=\"\",\"\",LARGE(Q$1:Q829,1)+1)","v":{"$error":"#NUM!"}},{"$error":"#NUM!"},829,{"$error":"#N/A"},"","",null,null,0,{"$error":"#VALUE!"},3999,"","",null,null,null,null,{"$error":"#VALUE!"},{"$error":"#VALUE!"},{"$f":"COUNTIF('Standards LOOKUP'!B:B,AI830)","v":0},{"$f":"IFERROR(INDEX('Standards LOOKUP'!C:C,MATCH(AI830,'Standards LOOKUP'!B:B,0),0),0)","v":0},{"$f":"IFERROR(INDEX('Current Standards'!P:P,MATCH('Sheet Counter'!AI830,'Current Standards'!O:O,0),0),\"\")","v":""}]
[null,null,0,"","",{"$error":"#VALUE!"},"",{"$f":"IF(I831=\"\",\"\",LARGE(H$1:H830,1)+1)","v":{"$error":"#VALUE!"}},{"$error":"#VALUE!"},830,{"$error":"#N/A"},"",null,null,830,0,{"$f":"IF(R831=\"\",\"\",LARGE(Q$1:Q830,1)+1)","v":{"$error":"#NUM!"}},{"$error":"#NUM!"},830,{"$error":"#N/A"},"","",null,null,0,{"$error":"#VALUE!"},3999,"","",null,null,null,null,{"$error":"#VALUE!"},{"$error":"#VALUE!"},{"$f":"COUNTIF('Standards LOOKUP'!B:B,AI831)","v":0},{"$f":"IFERROR(INDEX('Standards LOOKUP'!C:C,MATCH(AI831,'Standards LOOKUP'!B:B,0),0),0)","v":0},{"$f":"IFERROR(INDEX('Current Standards'!P:P,MATCH('Sheet Counter'!AI831,'Current Standards'!O:O,0),0),\"\")","v":""}]
[null,null,0,"","",{"$error":"#VALUE!"},"",{"$f":"IF(I832=\"\",\"\",LARGE(H$1:H831,1)+1)","v":{"$error":"#VALUE!"}},{"$error":"#VALUE!"},831,{"$error":"#N/A"},"",null,null,831,0,{"$f":"IF(R832=\"\",\"\",LARGE(Q$1:Q831,1)+1)","v":{"$error":"#NUM!"}},{"$error":"#NUM!"},831,{"$error":"#N/A"},"","",null,null,0,{"$error":"#VALUE!"},3999,"","",null,null,null,null,{"$error":"#VALUE!"},{"$error":"#VALUE!"},{"$f":"COUNTIF('Standards LOOKUP'!B:B,AI832)","v":0},{"$f":"IFERROR(INDEX('Standards LOOKUP'!C:C,MATCH(AI832,'Standards LOOKUP'!B:B,0),0),0)","v":0},{"$f":"IFERROR(INDEX('Current Standards'!P:P,MATCH('Sheet Counter'!AI832,'Current Standards'!O:O,0),0),\"\")","v":""}]
[null,null,0,"","",{"$error":"#VALUE!"},"",{"$f":"IF(I833=\"\",\"\",LARGE(H$1:H832,1)+1)","v":{"$error":"#VALUE!"}},{"$error":"#VALUE!"},832,{"$error":"#N/A"},"",null,null,832,0,{"$f":"IF(R833=\"\",\"\",LARGE(Q$1:Q832,1)+1)","v":{"$error":"#NUM!"}},{"$error":"#NUM!"},832,{"$error":"#N/A"},"","",null,null,0,{"$error":"#VALUE!"},3999,"","",null,null,null,null,{"$error":"#VALUE!"},{"$error":"#VALUE!"},{"$f":"COUNTIF('Standards LOOKUP'!B:B,AI833)","v":0},{"$f":"IFERROR(INDEX('Standards LOOKUP'!C:C,MATCH(AI833,'Standards LOOKUP'!B:B,0),0),0)","v":0},{"$f":"IFERROR(INDEX('Current Standards'!P:P,MATCH('Sheet Counter'!AI833,'Current Standards'!O:O,0),0),\"\")","v":""}]
[null,null,0,"","",{"$error":"#VALUE!"},"",{"$f":"IF(I834=\"\",\"\",LARGE(H$1:H833,1)+1)","v":{"$error":"#VALUE!"}},{"$f":"IF(G834=\"\",F834,\"\")","v":{"$error":"#VALUE!"}},833,{"$error":"#N/A"},"",null,null,833,{"$f":"COUNTIF(G:G,O834)","v":0},{"$f":"IF(R834=\"\",\"\",LARGE(Q$1:Q833,1)+1)","v":{"$error":"#NUM!"}},{"$error":"#NUM!"},833,{"$error":"#N/A"},"","",null,null,0,{"$error":"#VALUE!"},3999,"","",null,null,null,null,{"$error":"#VALUE!"},{"$error":"#VALUE!"},{"$f":"COUNTIF('Standards LOOKUP'!B:B,AI834)","v":0},{"$f":"IFERROR(INDEX('Standards LOOKUP'!C:C,MATCH(AI834,'Standards LOOKUP'!B:B,0),0),0)","v":0},{"$f":"IFERROR(INDEX('Current Standards'!P:P,MATCH('Sheet Counter'!AI834,'Current Standards'!O:O,0),0),\"\")","v":""}]
[null,null,{"$f":"IF(ISERROR(FIND(\"\\\",A835)),A835,RIGHT(A835,LEN(A835)-FIND(\"~\",SUBSTITUTE(A835,\"\\\",\"~\",LEN(A835)-LEN(SUBSTITUTE(A835,\"\\\",\"\"))))))","v":0},{"$f":"IF(AL835=\"\",\"\",AL835)","v":""},"",{"$f":"LEFT(C835,FIND(\"-\",SUBSTITUTE(SUBSTITUTE(C835,\"_\",\"-\"),\" \",\"-\"))-1)","v":{"$error":"#VALUE!"}},{"$f":"IF(ISNUMBER(F835*1),F835*1,\"\")","v":""},{"$f":"IF(I835=\"\",\"\",LARGE(H$1:H834,1)+1)","v":{"$error":"#VALUE!"}},{"$error":"#VALUE!"},834,{"$error":"#N/A"},"",null,null,834,0,{"$f":"IF(R835=\"\",\"\",LARGE(Q$1:Q834,1)+1)","v":{"$error":"#NUM!"}},{"$error":"#NUM!"},834,{"$error":"#N/A"},"","",null,null,{"$f":"IF(ISERROR(FIND(\"\\\",X835)),X835,RIGHT(X835,LEN(X835)-FIND(\"~\",SUBSTITUTE(X835,\"\\\",\"~\",LEN(X835)-LEN(SUBSTITUTE(X835,\"\\\",\"\"))))))","v":0},{"$f":"LEFT(Y835,FIND(\"-\",SUBSTITUTE(SUBSTITUTE(Y835,\"_\",\"-\"),\" \",\"-\"))-1)","v":{"$error":"#VALUE!"}},{"$f":"COUNTIF(F:F,Z835)","v":3999},{"$f":"IF(OR(AA835<1,ISERROR(Z835)),\"\",INDEX(C:C,MATCH(Z835,F:F)))","v":""},{"$f":"IF(AA835=0,\"New Sheet\",IF(EXACT(UPPER(Y835),UPPER(AB835)),\"Match\",\"\"))","v":""},null,null,null,null,{"$f":"IF(C835=\"\",\"\",LEFT(RIGHT(C835,LEN(C835)-SEARCH(\" \",C835,1)),LEN(RIGHT(C835,LEN(C835)-SEARCH(\" \",C835,1)))-4))","v":{"$error":"#VALUE!"}},{"$f":"TRIM(SUBSTITUTE(SUBSTITUTE(SUBSTITUTE(SUBSTITUTE(SUBSTITUTE(SUBSTITUTE(AH835,\"(\",\"\"),\")\",\"\"),\"-\",\"\"),\"&\",\"\"),\" \",\"\",1),\" \",\"\",1))","v":{"$error":"#VALUE!"}},{"$f":"COUNTIF('Standards LOOKUP'!B:B,AI835)","v":0},{"$f":"IFERROR(INDEX('Standards LOOKUP'!C:C,MATCH(AI835,'Standards LOOKUP'!B:B,0),0),0)","v":0},{"$f":"IFERROR(INDEX('Current Standards'!P:P,MATCH('Sheet Counter'!AI835,'Current Standards'!O:O,0),0),\"\")","v":""}]
[null,null,0,"","",{"$error":"#VALUE!"},"",{"$f":"IF(I836=\"\",\"\",LARGE(H$1:H835,1)+1)","v":{"$error":"#VALUE!"}},{"$error":"#VALUE!"},835,{"$error":"#N/A"},"",null,null,835,0,{"$f":"IF(R836=\"\",\"\",LARGE(Q$1:Q835,1)+1)","v":{"$error":"#NUM!"}},{"$f":"IF(AND(P836<>1,O836<=LARGE(G:G,1),O836>=SMALL(G:G,1)),O836,\"\")","v":{"$error":"#NUM!"}},835,{"$error":"#N/A"},"","",null,null,0,{"$error":"#VALUE!"},3999,"","",null,null,null,null,{"$error":"#VALUE!"},{"$error":"#VALUE!"},{"$f":"COUNTIF('Standards LOOKUP'!B:B,AI836)","v":0},{"$f":"IFERROR(INDEX('Standards LOOKUP'!C:C,MATCH(AI836,'Standards LOOKUP'!B:B,0),0),0)","v":0},{"$f":"IFERROR(INDEX('Current Standards'!P:P,MATCH('Sheet Counter'!AI836,'Current Standards'!O:O,0),0),\"\")","v":""}]
[null,null,0,"","",{"$error":"#VALUE!"},"",{"$f":"IF(I837=\"\",\"\",LARGE(H$1:H836,1)+1)","v":{"$error":"#VALUE!"}},{"$error":"#VALUE!"},836,{"$error":"#N/A"},"",null,null,836,0,{"$f":"IF(R837=\"\",\"\",LARGE(Q$1:Q836,1)+1)","v":{"$error":"#NUM!"}},{"$error":"#NUM!"},836,{"$error":"#N/A"},"","",null,null,0,{"$error":"#VALUE!"},3999,"","",null,null,null,null,{"$error":"#VALUE!"},{"$error":"#VALUE!"},{"$f":"COUNTIF('Standards LOOKUP'!B:B,AI837)","v":0},{"$f":"IFERROR(INDEX('Standards LOOKUP'!C:C,MATCH(AI837,'Standards LOOKUP'!B:B,0),0),0)","v":0},{"$f":"IFERROR(INDEX('Current Standards'!P:P,MATCH('Sheet Counter'!AI837,'Current Standards'!O:O,0),0),\"\")","v":""}]
[null,null,0,"","",{"$error":"#VALUE!"},"",{"$f":"IF(I838=\"\",\"\",LARGE(H$1:H837,1)+1)","v":{"$error":"#VALUE!"}},{"$error":"#VALUE!"},837,{"$error":"#N/A"},"",null,null,837,0,{"$f":"IF(R838=\"\",\"\",LARGE(Q$1:Q837,1)+1)","v":{"$error":"#NUM!"}},{"$error":"#NUM!"},837,{"$error":"#N/A"},"","",null,null,0,{"$error":"#VALUE!"},3999,"","",null,null,null,null,{"$error":"#VALUE!"},{"$error":"#VALUE!"},{"$f":"COUNTIF('Standards LOOKUP'!B:B,AI838)","v":0},{"$f":"IFERROR(INDEX('Standards LOOKUP'!C:C,MATCH(AI838,'Standards LOOKUP'!B:B,0),0),0)","v":0},{"$f":"IFERROR(INDEX('Current Standards'!P:P,MATCH('Sheet Counter'!AI838,'Current Standards'!O:O,0),0),\"\")","v":""}]
[null,null,0,"","",{"$error":"#VALUE!"},"",{"$f":"IF(I839=\"\",\"\",LARGE(H$1:H838,1)+1)","v":{"$error":"#VALUE!"}},{"$error":"#VALUE!"},838,{"$error":"#N/A"},"",null,null,838,0,{"$f":"IF(R839=\"\",\"\",LARGE(Q$1:Q838,1)+1)","v":{"$error":"#NUM!"}},{"$error":"#NUM!"},838,{"$error":"#N/A"},"","",null,null,0,{"$error":"#VALUE!"},3999,"","",null,null,null,null,{"$error":"#VALUE!"},{"$error":"#VALUE!"},{"$f":"COUNTIF('Standards LOOKUP'!B:B,AI839)","v":0},{"$f":"IFERROR(INDEX('Standards LOOKUP'!C:C,MATCH(AI839,'Standards LOOKUP'!B:B,0),0),0)","v":0},{"$f":"IFERROR(INDEX('Current Standards'!P:P,MATCH('Sheet Counter'!AI839,'Current Standards'!O:O,0),0),\"\")","v":""}]
[null,null,0,"","",{"$error":"#VALUE!"},"",{"$f":"IF(I840=\"\",\"\",LARGE(H$1:H839,1)+1)","v":{"$error":"#VALUE!"}},{"$error":"#VALUE!"},839,{"$error":"#N/A"},"",null,null,839,0,{"$f":"IF(R840=\"\",\"\",LARGE(Q$1:Q839,1)+1)","v":{"$error":"#NUM!"}},{"$error":"#NUM!"},839,{"$error":"#N/A"},"","",null,null,0,{"$error":"#VALUE!"},3999,"","",null,null,null,null,{"$error":"#VALUE!"},{"$error":"#VALUE!"},{"$f":"COUNTIF('Standards LOOKUP'!B:B,AI840)","v":0},{"$f":"IFERROR(INDEX('Standards LOOKUP'!C:C,MATCH(AI840,'Standards LOOKUP'!B:B,0),0),0)","v":0},{"$f":"IFERROR(INDEX('Current Standards'!P:P,MATCH('Sheet Counter'!AI840,'Current Standards'!O:O,0),0),\"\")","v":""}]
[null,null,0,"","",{"$error":"#VALUE!"},"",{"$f":"IF(I841=\"\",\"\",LARGE(H$1:H840,1)+1)","v":{"$error":"#VALUE!"}},{"$error":"#VALUE!"},840,{"$error":"#N/A"},"",null,null,840,0,{"$f":"IF(R841=\"\",\"\",LARGE(Q$1:Q840,1)+1)","v":{"$error":"#NUM!"}},{"$error":"#NUM!"},840,{"$error":"#N/A"},"","",null,null,0,{"$error":"#VALUE!"},3999,"","",null,null,null,null,{"$error":"#VALUE!"},{"$error":"#VALUE!"},{"$f":"COUNTIF('Standards LOOKUP'!B:B,AI841)","v":0},{"$f":"IFERROR(INDEX('Standards LOOKUP'!C:C,MATCH(AI841,'Standards LOOKUP'!B:B,0),0),0)","v":0},{"$f":"IFERROR(INDEX('Current Standards'!P:P,MATCH('Sheet Counter'!AI841,'Current Standards'!O:O,0),0),\"\")","v":""}]
[null,null,0,"","",{"$error":"#VALUE!"},"",{"$f":"IF(I842=\"\",\"\",LARGE(H$1:H841,1)+1)","v":{"$error":"#VALUE!"}},{"$error":"#VALUE!"},841,{"$error":"#N/A"},"",null,null,841,0,{"$f":"IF(R842=\"\",\"\",LARGE(Q$1:Q841,1)+1)","v":{"$error":"#NUM!"}},{"$error":"#NUM!"},841,{"$error":"#N/A"},"","",null,null,0,{"$error":"#VALUE!"},3999,"","",null,null,null,null,{"$error":"#VALUE!"},{"$error":"#VALUE!"},{"$f":"COUNTIF('Standards LOOKUP'!B:B,AI842)","v":0},{"$f":"IFERROR(INDEX('Standards LOOKUP'!C:C,MATCH(AI842,'Standards LOOKUP'!B:B,0),0),0)","v":0},{"$f":"IFERROR(INDEX('Current Standards'!P:P,MATCH('Sheet Counter'!AI842,'Current Standards'!O:O,0),0),\"\")","v":""}]
[null,null,0,"","",{"$error":"#VALUE!"},"",{"$f":"IF(I843=\"\",\"\",LARGE(H$1:H842,1)+1)","v":{"$error":"#VALUE!"}},{"$error":"#VALUE!"},842,{"$error":"#N/A"},"",null,null,842,0,{"$f":"IF(R843=\"\",\"\",LARGE(Q$1:Q842,1)+1)","v":{"$error":"#NUM!"}},{"$error":"#NUM!"},842,{"$error":"#N/A"},"","",null,null,0,{"$error":"#VALUE!"},3999,"","",null,null,null,null,{"$error":"#VALUE!"},{"$error":"#VALUE!"},{"$f":"COUNTIF('Standards LOOKUP'!B:B,AI843)","v":0},{"$f":"IFERROR(INDEX('Standards LOOKUP'!C:C,MATCH(AI843,'Standards LOOKUP'!B:B,0),0),0)","v":0},{"$f":"IFERROR(INDEX('Current Standards'!P:P,MATCH('Sheet Counter'!AI843,'Current Standards'!O:O,0),0),\"\")","v":""}]
[null,null,0,"","",{"$error":"#VALUE!"},"",{"$f":"IF(I844=\"\",\"\",LARGE(H$1:H843,1)+1)","v":{"$error":"#VALUE!"}},{"$error":"#VALUE!"},843,{"$error":"#N/A"},"",null,null,843,0,{"$f":"IF(R844=\"\",\"\",LARGE(Q$1:Q843,1)+1)","v":{"$error":"#NUM!"}},{"$error":"#NUM!"},843,{"$error":"#N/A"},"","",null,null,0,{"$error":"#VALUE!"},3999,"","",null,null,null,null,{"$error":"#VALUE!"},{"$error":"#VALUE!"},{"$f":"COUNTIF('Standards LOOKUP'!B:B,AI844)","v":0},{"$f":"IFERROR(INDEX('Standards LOOKUP'!C:C,MATCH(AI844,'Standards LOOKUP'!B:B,0),0),0)","v":0},{"$f":"IFERROR(INDEX('Current Standards'!P:P,MATCH('Sheet Counter'!AI844,'Current Standards'!O:O,0),0),\"\")","v":""}]
[null,null,0,"","",{"$error":"#VALUE!"},"",{"$f":"IF(I845=\"\",\"\",LARGE(H$1:H844,1)+1)","v":{"$error":"#VALUE!"}},{"$error":"#VALUE!"},844,{"$error":"#N/A"},"",null,null,844,0,{"$f":"IF(R845=\"\",\"\",LARGE(Q$1:Q844,1)+1)","v":{"$error":"#NUM!"}},{"$error":"#NUM!"},844,{"$error":"#N/A"},"","",null,null,0,{"$error":"#VALUE!"},3999,"","",null,null,null,null,{"$error":"#VALUE!"},{"$error":"#VALUE!"},{"$f":"COUNTIF('Standards LOOKUP'!B:B,AI845)","v":0},{"$f":"IFERROR(INDEX('Standards LOOKUP'!C:C,MATCH(AI845,'Standards LOOKUP'!B:B,0),0),0)","v":0},{"$f":"IFERROR(INDEX('Current Standards'!P:P,MATCH('Sheet Counter'!AI845,'Current Standards'!O:O,0),0),\"\")","v":""}]
[null,null,0,"","",{"$error":"#VALUE!"},"",{"$f":"IF(I846=\"\",\"\",LARGE(H$1:H845,1)+1)","v":{"$error":"#VALUE!"}},{"$error":"#VALUE!"},845,{"$error":"#N/A"},"",null,null,845,0,{"$f":"IF(R846=\"\",\"\",LARGE(Q$1:Q845,1)+1)","v":{"$error":"#NUM!"}},{"$error":"#NUM!"},845,{"$error":"#N/A"},"","",null,null,0,{"$error":"#VALUE!"},3999,"","",null,null,null,null,{"$error":"#VALUE!"},{"$error":"#VALUE!"},{"$f":"COUNTIF('Standards LOOKUP'!B:B,AI846)","v":0},{"$f":"IFERROR(INDEX('Standards LOOKUP'!C:C,MATCH(AI846,'Standards LOOKUP'!B:B,0),0),0)","v":0},{"$f":"IFERROR(INDEX('Current Standards'!P:P,MATCH('Sheet Counter'!AI846,'Current Standards'!O:O,0),0),\"\")","v":""}]
[null,null,0,"","",{"$error":"#VALUE!"},"",{"$f":"IF(I847=\"\",\"\",LARGE(H$1:H846,1)+1)","v":{"$error":"#VALUE!"}},{"$error":"#VALUE!"},846,{"$error":"#N/A"},"",null,null,846,0,{"$f":"IF(R847=\"\",\"\",LARGE(Q$1:Q846,1)+1)","v":{"$error":"#NUM!"}},{"$error":"#NUM!"},846,{"$error":"#N/A"},"","",null,null,0,{"$error":"#VALUE!"},3999,"","",null,null,null,null,{"$error":"#VALUE!"},{"$error":"#VALUE!"},{"$f":"COUNTIF('Standards LOOKUP'!B:B,AI847)","v":0},{"$f":"IFERROR(INDEX('Standards LOOKUP'!C:C,MATCH(AI847,'Standards LOOKUP'!B:B,0),0),0)","v":0},{"$f":"IFERROR(INDEX('Current Standards'!P:P,MATCH('Sheet Counter'!AI847,'Current Standards'!O:O,0),0),\"\")","v":""}]
[null,null,0,"","",{"$error":"#VALUE!"},"",{"$f":"IF(I848=\"\",\"\",LARGE(H$1:H847,1)+1)","v":{"$error":"#VALUE!"}},{"$error":"#VALUE!"},847,{"$error":"#N/A"},"",null,null,847,0,{"$f":"IF(R848=\"\",\"\",LARGE(Q$1:Q847,1)+1)","v":{"$error":"#NUM!"}},{"$error":"#NUM!"},847,{"$error":"#N/A"},"","",null,null,0,{"$error":"#VALUE!"},3999,"","",null,null,null,null,{"$error":"#VALUE!"},{"$error":"#VALUE!"},{"$f":"COUNTIF('Standards LOOKUP'!B:B,AI848)","v":0},{"$f":"IFERROR(INDEX('Standards LOOKUP'!C:C,MATCH(AI848,'Standards LOOKUP'!B:B,0),0),0)","v":0},{"$f":"IFERROR(INDEX('Current Standards'!P:P,MATCH('Sheet Counter'!AI848,'Current Standards'!O:O,0),0),\"\")","v":""}]
[null,null,0,"","",{"$error":"#VALUE!"},"",{"$f":"IF(I849=\"\",\"\",LARGE(H$1:H848,1)+1)","v":{"$error":"#VALUE!"}},{"$error":"#VALUE!"},848,{"$error":"#N/A"},"",null,null,848,0,{"$f":"IF(R849=\"\",\"\",LARGE(Q$1:Q848,1)+1)","v":{"$error":"#NUM!"}},{"$error":"#NUM!"},848,{"$error":"#N/A"},"","",null,null,0,{"$error":"#VALUE!"},3999,"","",null,null,null,null,{"$error":"#VALUE!"},{"$error":"#VALUE!"},{"$f":"COUNTIF('Standards LOOKUP'!B:B,AI849)","v":0},{"$f":"IFERROR(INDEX('Standards LOOKUP'!C:C,MATCH(AI849,'Standards LOOKUP'!B:B,0),0),0)","v":0},{"$f":"IFERROR(INDEX('Current Standards'!P:P,MATCH('Sheet Counter'!AI849,'Current Standards'!O:O,0),0),\"\")","v":""}]
[null,null,0,"","",{"$error":"#VALUE!"},"",{"$f":"IF(I850=\"\",\"\",LARGE(H$1:H849,1)+1)","v":{"$error":"#VALUE!"}},{"$error":"#VALUE!"},849,{"$error":"#N/A"},"",null,null,849,0,{"$f":"IF(R850=\"\",\"\",LARGE(Q$1:Q849,1)+1)","v":{"$error":"#NUM!"}},{"$error":"#NUM!"},849,{"$error":"#N/A"},"","",null,null,0,{"$error":"#VALUE!"},3999,"","",null,null,null,null,{"$error":"#VALUE!"},{"$error":"#VALUE!"},{"$f":"COUNTIF('Standards LOOKUP'!B:B,AI850)","v":0},{"$f":"IFERROR(INDEX('Standards LOOKUP'!C:C,MATCH(AI850,'Standards LOOKUP'!B:B,0),0),0)","v":0},{"$f":"IFERROR(INDEX('Current Standards'!P:P,MATCH('Sheet Counter'!AI850,'Current Standards'!O:O,0),0),\"\")","v":""}]
[null,null,0,"","",{"$error":"#VALUE!"},"",{"$f":"IF(I851=\"\",\"\",LARGE(H$1:H850,1)+1)","v":{"$error":"#VALUE!"}},{"$error":"#VALUE!"},850,{"$error":"#N/A"},"",null,null,850,0,{"$f":"IF(R851=\"\",\"\",LARGE(Q$1:Q850,1)+1)","v":{"$error":"#NUM!"}},{"$error":"#NUM!"},850,{"$error":"#N/A"},"","",null,null,0,{"$error":"#VALUE!"},3999,"","",null,null,null,null,{"$error":"#VALUE!"},{"$error":"#VALUE!"},{"$f":"COUNTIF('Standards LOOKUP'!B:B,AI851)","v":0},{"$f":"IFERROR(INDEX('Standards LOOKUP'!C:C,MATCH(AI851,'Standards LOOKUP'!B:B,0),0),0)","v":0},{"$f":"IFERROR(INDEX('Current Standards'!P:P,MATCH('Sheet Counter'!AI851,'Current Standards'!O:O,0),0),\"\")","v":""}]
[null,null,0,"","",{"$error":"#VALUE!"},"",{"$f":"IF(I852=\"\",\"\",LARGE(H$1:H851,1)+1)","v":{"$error":"#VALUE!"}},{"$error":"#VALUE!"},851,{"$error":"#N/A"},"",null,null,851,0,{"$f":"IF(R852=\"\",\"\",LARGE(Q$1:Q851,1)+1)","v":{"$error":"#NUM!"}},{"$error":"#NUM!"},851,{"$error":"#N/A"},"","",null,null,0,{"$error":"#VALUE!"},3999,"","",null,null,null,null,{"$error":"#VALUE!"},{"$error":"#VALUE!"},{"$f":"COUNTIF('Standards LOOKUP'!B:B,AI852)","v":0},{"$f":"IFERROR(INDEX('Standards LOOKUP'!C:C,MATCH(AI852,'Standards LOOKUP'!B:B,0),0),0)","v":0},{"$f":"IFERROR(INDEX('Current Standards'!P:P,MATCH('Sheet Counter'!AI852,'Current Standards'!O:O,0),0),\"\")","v":""}]
[null,null,0,"","",{"$error":"#VALUE!"},"",{"$f":"IF(I853=\"\",\"\",LARGE(H$1:H852,1)+1)","v":{"$error":"#VALUE!"}},{"$error":"#VALUE!"},852,{"$error":"#N/A"},"",null,null,852,0,{"$f":"IF(R853=\"\",\"\",LARGE(Q$1:Q852,1)+1)","v":{"$error":"#NUM!"}},{"$error":"#NUM!"},852,{"$error":"#N/A"},"","",null,null,0,{"$error":"#VALUE!"},3999,"","",null,null,null,null,{"$error":"#VALUE!"},{"$error":"#VALUE!"},{"$f":"COUNTIF('Standards LOOKUP'!B:B,AI853)","v":0},{"$f":"IFERROR(INDEX('Standards LOOKUP'!C:C,MATCH(AI853,'Standards LOOKUP'!B:B,0),0),0)","v":0},{"$f":"IFERROR(INDEX('Current Standards'!P:P,MATCH('Sheet Counter'!AI853,'Current Standards'!O:O,0),0),\"\")","v":""}]
[null,null,0,"","",{"$error":"#VALUE!"},"",{"$f":"IF(I854=\"\",\"\",LARGE(H$1:H853,1)+1)","v":{"$error":"#VALUE!"}},{"$error":"#VALUE!"},853,{"$error":"#N/A"},"",null,null,853,0,{"$f":"IF(R854=\"\",\"\",LARGE(Q$1:Q853,1)+1)","v":{"$error":"#NUM!"}},{"$error":"#NUM!"},853,{"$error":"#N/A"},"","",null,null,0,{"$error":"#VALUE!"},3999,"","",null,null,null,null,{"$error":"#VALUE!"},{"$error":"#VALUE!"},{"$f":"COUNTIF('Standards LOOKUP'!B:B,AI854)","v":0},{"$f":"IFERROR(INDEX('Standards LOOKUP'!C:C,MATCH(AI854,'Standards LOOKUP'!B:B,0),0),0)","v":0},{"$f":"IFERROR(INDEX('Current Standards'!P:P,MATCH('Sheet Counter'!AI854,'Current Standards'!O:O,0),0),\"\")","v":""}]
[null,null,0,"","",{"$error":"#VALUE!"},"",{"$f":"IF(I855=\"\",\"\",LARGE(H$1:H854,1)+1)","v":{"$error":"#VALUE!"}},{"$error":"#VALUE!"},854,{"$error":"#N/A"},"",null,null,854,0,{"$f":"IF(R855=\"\",\"\",LARGE(Q$1:Q854,1)+1)","v":{"$error":"#NUM!"}},{"$error":"#NUM!"},854,{"$error":"#N/A"},"","",null,null,0,{"$error":"#VALUE!"},3999,"","",null,null,null,null,{"$error":"#VALUE!"},{"$error":"#VALUE!"},{"$f":"COUNTIF('Standards LOOKUP'!B:B,AI855)","v":0},{"$f":"IFERROR(INDEX('Standards LOOKUP'!C:C,MATCH(AI855,'Standards LOOKUP'!B:B,0),0),0)","v":0},{"$f":"IFERROR(INDEX('Current Standards'!P:P,MATCH('Sheet Counter'!AI855,'Current Standards'!O:O,0),0),\"\")","v":""}]
[null,null,0,"","",{"$error":"#VALUE!"},"",{"$f":"IF(I856=\"\",\"\",LARGE(H$1:H855,1)+1)","v":{"$error":"#VALUE!"}},{"$error":"#VALUE!"},855,{"$error":"#N/A"},"",null,null,855,0,{"$f":"IF(R856=\"\",\"\",LARGE(Q$1:Q855,1)+1)","v":{"$error":"#NUM!"}},{"$error":"#NUM!"},855,{"$error":"#N/A"},"","",null,null,0,{"$error":"#VALUE!"},3999,"","",null,null,null,null,{"$error":"#VALUE!"},{"$error":"#VALUE!"},{"$f":"COUNTIF('Standards LOOKUP'!B:B,AI856)","v":0},{"$f":"IFERROR(INDEX('Standards LOOKUP'!C:C,MATCH(AI856,'Standards LOOKUP'!B:B,0),0),0)","v":0},{"$f":"IFERROR(INDEX('Current Standards'!P:P,MATCH('Sheet Counter'!AI856,'Current Standards'!O:O,0),0),\"\")","v":""}]
[null,null,0,"","",{"$error":"#VALUE!"},"",{"$f":"IF(I857=\"\",\"\",LARGE(H$1:H856,1)+1)","v":{"$error":"#VALUE!"}},{"$error":"#VALUE!"},856,{"$error":"#N/A"},"",null,null,856,0,{"$f":"IF(R857=\"\",\"\",LARGE(Q$1:Q856,1)+1)","v":{"$error":"#NUM!"}},{"$error":"#NUM!"},856,{"$error":"#N/A"},"","",null,null,0,{"$error":"#VALUE!"},3999,"","",null,null,null,null,{"$error":"#VALUE!"},{"$error":"#VALUE!"},{"$f":"COUNTIF('Standards LOOKUP'!B:B,AI857)","v":0},{"$f":"IFERROR(INDEX('Standards LOOKUP'!C:C,MATCH(AI857,'Standards LOOKUP'!B:B,0),0),0)","v":0},{"$f":"IFERROR(INDEX('Current Standards'!P:P,MATCH('Sheet Counter'!AI857,'Current Standards'!O:O,0),0),\"\")","v":""}]
[null,null,0,"","",{"$error":"#VALUE!"},"",{"$f":"IF(I858=\"\",\"\",LARGE(H$1:H857,1)+1)","v":{"$error":"#VALUE!"}},{"$error":"#VALUE!"},857,{"$error":"#N/A"},"",null,null,857,0,{"$f":"IF(R858=\"\",\"\",LARGE(Q$1:Q857,1)+1)","v":{"$error":"#NUM!"}},{"$error":"#NUM!"},857,{"$error":"#N/A"},"","",null,null,0,{"$error":"#VALUE!"},3999,"","",null,null,null,null,{"$error":"#VALUE!"},{"$error":"#VALUE!"},{"$f":"COUNTIF('Standards LOOKUP'!B:B,AI858)","v":0},{"$f":"IFERROR(INDEX('Standards LOOKUP'!C:C,MATCH(AI858,'Standards LOOKUP'!B:B,0),0),0)","v":0},{"$f":"IFERROR(INDEX('Current Standards'!P:P,MATCH('Sheet Counter'!AI858,'Current Standards'!O:O,0),0),\"\")","v":""}]
[null,null,0,"","",{"$error":"#VALUE!"},"",{"$f":"IF(I859=\"\",\"\",LARGE(H$1:H858,1)+1)","v":{"$error":"#VALUE!"}},{"$error":"#VALUE!"},858,{"$error":"#N/A"},"",null,null,858,0,{"$f":"IF(R859=\"\",\"\",LARGE(Q$1:Q858,1)+1)","v":{"$error":"#NUM!"}},{"$error":"#NUM!"},858,{"$error":"#N/A"},"","",null,null,0,{"$error":"#VALUE!"},3999,"","",null,null,null,null,{"$error":"#VALUE!"},{"$error":"#VALUE!"},{"$f":"COUNTIF('Standards LOOKUP'!B:B,AI859)","v":0},{"$f":"IFERROR(INDEX('Standards LOOKUP'!C:C,MATCH(AI859,'Standards LOOKUP'!B:B,0),0),0)","v":0},{"$f":"IFERROR(INDEX('Current Standards'!P:P,MATCH('Sheet Counter'!AI859,'Current Standards'!O:O,0),0),\"\")","v":""}]
[null,null,0,"","",{"$error":"#VALUE!"},"",{"$f":"IF(I860=\"\",\"\",LARGE(H$1:H859,1)+1)","v":{"$error":"#VALUE!"}},{"$error":"#VALUE!"},859,{"$error":"#N/A"},"",null,null,859,0,{"$f":"IF(R860=\"\",\"\",LARGE(Q$1:Q859,1)+1)","v":{"$error":"#NUM!"}},{"$error":"#NUM!"},859,{"$error":"#N/A"},"","",null,null,0,{"$error":"#VALUE!"},3999,"","",null,null,null,null,{"$error":"#VALUE!"},{"$error":"#VALUE!"},{"$f":"COUNTIF('Standards LOOKUP'!B:B,AI860)","v":0},{"$f":"IFERROR(INDEX('Standards LOOKUP'!C:C,MATCH(AI860,'Standards LOOKUP'!B:B,0),0),0)","v":0},{"$f":"IFERROR(INDEX('Current Standards'!P:P,MATCH('Sheet Counter'!AI860,'Current Standards'!O:O,0),0),\"\")","v":""}]
[null,null,0,"","",{"$error":"#VALUE!"},"",{"$f":"IF(I861=\"\",\"\",LARGE(H$1:H860,1)+1)","v":{"$error":"#VALUE!"}},{"$error":"#VALUE!"},860,{"$error":"#N/A"},"",null,null,860,0,{"$f":"IF(R861=\"\",\"\",LARGE(Q$1:Q860,1)+1)","v":{"$error":"#NUM!"}},{"$error":"#NUM!"},860,{"$error":"#N/A"},"","",null,null,0,{"$error":"#VALUE!"},3999,"","",null,null,null,null,{"$error":"#VALUE!"},{"$error":"#VALUE!"},{"$f":"COUNTIF('Standards LOOKUP'!B:B,AI861)","v":0},{"$f":"IFERROR(INDEX('Standards LOOKUP'!C:C,MATCH(AI861,'Standards LOOKUP'!B:B,0),0),0)","v":0},{"$f":"IFERROR(INDEX('Current Standards'!P:P,MATCH('Sheet Counter'!AI861,'Current Standards'!O:O,0),0),\"\")","v":""}]
[null,null,0,"","",{"$error":"#VALUE!"},"",{"$f":"IF(I862=\"\",\"\",LARGE(H$1:H861,1)+1)","v":{"$error":"#VALUE!"}},{"$error":"#VALUE!"},861,{"$error":"#N/A"},"",null,null,861,0,{"$f":"IF(R862=\"\",\"\",LARGE(Q$1:Q861,1)+1)","v":{"$error":"#NUM!"}},{"$error":"#NUM!"},861,{"$error":"#N/A"},"","",null,null,0,{"$error":"#VALUE!"},3999,"","",null,null,null,null,{"$error":"#VALUE!"},{"$error":"#VALUE!"},{"$f":"COUNTIF('Standards LOOKUP'!B:B,AI862)","v":0},{"$f":"IFERROR(INDEX('Standards LOOKUP'!C:C,MATCH(AI862,'Standards LOOKUP'!B:B,0),0),0)","v":0},{"$f":"IFERROR(INDEX('Current Standards'!P:P,MATCH('Sheet Counter'!AI862,'Current Standards'!O:O,0),0),\"\")","v":""}]
[null,null,0,"","",{"$error":"#VALUE!"},"",{"$f":"IF(I863=\"\",\"\",LARGE(H$1:H862,1)+1)","v":{"$error":"#VALUE!"}},{"$error":"#VALUE!"},862,{"$error":"#N/A"},"",null,null,862,0,{"$f":"IF(R863=\"\",\"\",LARGE(Q$1:Q862,1)+1)","v":{"$error":"#NUM!"}},{"$error":"#NUM!"},862,{"$error":"#N/A"},"","",null,null,0,{"$error":"#VALUE!"},3999,"","",null,null,null,null,{"$error":"#VALUE!"},{"$error":"#VALUE!"},{"$f":"COUNTIF('Standards LOOKUP'!B:B,AI863)","v":0},{"$f":"IFERROR(INDEX('Standards LOOKUP'!C:C,MATCH(AI863,'Standards LOOKUP'!B:B,0),0),0)","v":0},{"$f":"IFERROR(INDEX('Current Standards'!P:P,MATCH('Sheet Counter'!AI863,'Current Standards'!O:O,0),0),\"\")","v":""}]
[null,null,0,"","",{"$error":"#VALUE!"},"",{"$f":"IF(I864=\"\",\"\",LARGE(H$1:H863,1)+1)","v":{"$error":"#VALUE!"}},{"$error":"#VALUE!"},863,{"$error":"#N/A"},"",null,null,863,0,{"$f":"IF(R864=\"\",\"\",LARGE(Q$1:Q863,1)+1)","v":{"$error":"#NUM!"}},{"$error":"#NUM!"},863,{"$error":"#N/A"},"","",null,null,0,{"$error":"#VALUE!"},3999,"","",null,null,null,null,{"$error":"#VALUE!"},{"$error":"#VALUE!"},{"$f":"COUNTIF('Standards LOOKUP'!B:B,AI864)","v":0},{"$f":"IFERROR(INDEX('Standards LOOKUP'!C:C,MATCH(AI864,'Standards LOOKUP'!B:B,0),0),0)","v":0},{"$f":"IFERROR(INDEX('Current Standards'!P:P,MATCH('Sheet Counter'!AI864,'Current Standards'!O:O,0),0),\"\")","v":""}]
[null,null,0,"","",{"$error":"#VALUE!"},"",{"$f":"IF(I865=\"\",\"\",LARGE(H$1:H864,1)+1)","v":{"$error":"#VALUE!"}},{"$error":"#VALUE!"},864,{"$error":"#N/A"},"",null,null,864,0,{"$f":"IF(R865=\"\",\"\",LARGE(Q$1:Q864,1)+1)","v":{"$error":"#NUM!"}},{"$error":"#NUM!"},864,{"$error":"#N/A"},"","",null,null,0,{"$error":"#VALUE!"},3999,"","",null,null,null,null,{"$error":"#VALUE!"},{"$error":"#VALUE!"},{"$f":"COUNTIF('Standards LOOKUP'!B:B,AI865)","v":0},{"$f":"IFERROR(INDEX('Standards LOOKUP'!C:C,MATCH(AI865,'Standards LOOKUP'!B:B,0),0),0)","v":0},{"$f":"IFERROR(INDEX('Current Standards'!P:P,MATCH('Sheet Counter'!AI865,'Current Standards'!O:O,0),0),\"\")","v":""}]
[null,null,0,"","",{"$error":"#VALUE!"},"",{"$f":"IF(I866=\"\",\"\",LARGE(H$1:H865,1)+1)","v":{"$error":"#VALUE!"}},{"$error":"#VALUE!"},865,{"$error":"#N/A"},"",null,null,865,0,{"$f":"IF(R866=\"\",\"\",LARGE(Q$1:Q865,1)+1)","v":{"$error":"#NUM!"}},{"$error":"#NUM!"},865,{"$error":"#N/A"},"","",null,null,0,{"$error":"#VALUE!"},3999,"","",null,null,null,null,{"$error":"#VALUE!"},{"$error":"#VALUE!"},{"$f":"COUNTIF('Standards LOOKUP'!B:B,AI866)","v":0},{"$f":"IFERROR(INDEX('Standards LOOKUP'!C:C,MATCH(AI866,'Standards LOOKUP'!B:B,0),0),0)","v":0},{"$f":"IFERROR(INDEX('Current Standards'!P:P,MATCH('Sheet Counter'!AI866,'Current Standards'!O:O,0),0),\"\")","v":""}]
[null,null,0,"","",{"$error":"#VALUE!"},"",{"$f":"IF(I867=\"\",\"\",LARGE(H$1:H866,1)+1)","v":{"$error":"#VALUE!"}},{"$error":"#VALUE!"},866,{"$error":"#N/A"},"",null,null,866,0,{"$f":"IF(R867=\"\",\"\",LARGE(Q$1:Q866,1)+1)","v":{"$error":"#NUM!"}},{"$error":"#NUM!"},866,{"$error":"#N/A"},"","",null,null,0,{"$error":"#VALUE!"},3999,"","",null,null,null,null,{"$error":"#VALUE!"},{"$error":"#VALUE!"},{"$f":"COUNTIF('Standards LOOKUP'!B:B,AI867)","v":0},{"$f":"IFERROR(INDEX('Standards LOOKUP'!C:C,MATCH(AI867,'Standards LOOKUP'!B:B,0),0),0)","v":0},{"$f":"IFERROR(INDEX('Current Standards'!P:P,MATCH('Sheet Counter'!AI867,'Current Standards'!O:O,0),0),\"\")","v":""}]
[null,null,0,"","",{"$error":"#VALUE!"},"",{"$f":"IF(I868=\"\",\"\",LARGE(H$1:H867,1)+1)","v":{"$error":"#VALUE!"}},{"$error":"#VALUE!"},867,{"$error":"#N/A"},"",null,null,867,0,{"$f":"IF(R868=\"\",\"\",LARGE(Q$1:Q867,1)+1)","v":{"$error":"#NUM!"}},{"$error":"#NUM!"},867,{"$error":"#N/A"},"","",null,null,0,{"$error":"#VALUE!"},3999,"","",null,null,null,null,{"$error":"#VALUE!"},{"$error":"#VALUE!"},{"$f":"COUNTIF('Standards LOOKUP'!B:B,AI868)","v":0},{"$f":"IFERROR(INDEX('Standards LOOKUP'!C:C,MATCH(AI868,'Standards LOOKUP'!B:B,0),0),0)","v":0},{"$f":"IFERROR(INDEX('Current Standards'!P:P,MATCH('Sheet Counter'!AI868,'Current Standards'!O:O,0),0),\"\")","v":""}]
[null,null,0,"","",{"$error":"#VALUE!"},"",{"$f":"IF(I869=\"\",\"\",LARGE(H$1:H868,1)+1)","v":{"$error":"#VALUE!"}},{"$error":"#VALUE!"},868,{"$error":"#N/A"},"",null,null,868,0,{"$f":"IF(R869=\"\",\"\",LARGE(Q$1:Q868,1)+1)","v":{"$error":"#NUM!"}},{"$error":"#NUM!"},868,{"$error":"#N/A"},"","",null,null,0,{"$error":"#VALUE!"},3999,"","",null,null,null,null,{"$error":"#VALUE!"},{"$error":"#VALUE!"},{"$f":"COUNTIF('Standards LOOKUP'!B:B,AI869)","v":0},{"$f":"IFERROR(INDEX('Standards LOOKUP'!C:C,MATCH(AI869,'Standards LOOKUP'!B:B,0),0),0)","v":0},{"$f":"IFERROR(INDEX('Current Standards'!P:P,MATCH('Sheet Counter'!AI869,'Current Standards'!O:O,0),0),\"\")","v":""}]
[null,null,0,"","",{"$error":"#VALUE!"},"",{"$f":"IF(I870=\"\",\"\",LARGE(H$1:H869,1)+1)","v":{"$error":"#VALUE!"}},{"$error":"#VALUE!"},869,{"$error":"#N/A"},"",null,null,869,0,{"$f":"IF(R870=\"\",\"\",LARGE(Q$1:Q869,1)+1)","v":{"$error":"#NUM!"}},{"$error":"#NUM!"},869,{"$error":"#N/A"},"","",null,null,0,{"$error":"#VALUE!"},3999,"","",null,null,null,null,{"$error":"#VALUE!"},{"$error":"#VALUE!"},{"$f":"COUNTIF('Standards LOOKUP'!B:B,AI870)","v":0},{"$f":"IFERROR(INDEX('Standards LOOKUP'!C:C,MATCH(AI870,'Standards LOOKUP'!B:B,0),0),0)","v":0},{"$f":"IFERROR(INDEX('Current Standards'!P:P,MATCH('Sheet Counter'!AI870,'Current Standards'!O:O,0),0),\"\")","v":""}]
[null,null,0,"","",{"$error":"#VALUE!"},"",{"$f":"IF(I871=\"\",\"\",LARGE(H$1:H870,1)+1)","v":{"$error":"#VALUE!"}},{"$error":"#VALUE!"},870,{"$error":"#N/A"},"",null,null,870,0,{"$f":"IF(R871=\"\",\"\",LARGE(Q$1:Q870,1)+1)","v":{"$error":"#NUM!"}},{"$error":"#NUM!"},870,{"$error":"#N/A"},"","",null,null,0,{"$error":"#VALUE!"},3999,"","",null,null,null,null,{"$error":"#VALUE!"},{"$error":"#VALUE!"},{"$f":"COUNTIF('Standards LOOKUP'!B:B,AI871)","v":0},{"$f":"IFERROR(INDEX('Standards LOOKUP'!C:C,MATCH(AI871,'Standards LOOKUP'!B:B,0),0),0)","v":0},{"$f":"IFERROR(INDEX('Current Standards'!P:P,MATCH('Sheet Counter'!AI871,'Current Standards'!O:O,0),0),\"\")","v":""}]
[null,null,0,"","",{"$error":"#VALUE!"},"",{"$f":"IF(I872=\"\",\"\",LARGE(H$1:H871,1)+1)","v":{"$error":"#VALUE!"}},{"$error":"#VALUE!"},871,{"$error":"#N/A"},"",null,null,871,0,{"$f":"IF(R872=\"\",\"\",LARGE(Q$1:Q871,1)+1)","v":{"$error":"#NUM!"}},{"$error":"#NUM!"},871,{"$error":"#N/A"},"","",null,null,0,{"$error":"#VALUE!"},3999,"","",null,null,null,null,{"$error":"#VALUE!"},{"$error":"#VALUE!"},{"$f":"COUNTIF('Standards LOOKUP'!B:B,AI872)","v":0},{"$f":"IFERROR(INDEX('Standards LOOKUP'!C:C,MATCH(AI872,'Standards LOOKUP'!B:B,0),0),0)","v":0},{"$f":"IFERROR(INDEX('Current Standards'!P:P,MATCH('Sheet Counter'!AI872,'Current Standards'!O:O,0),0),\"\")","v":""}]
[null,null,0,"","",{"$error":"#VALUE!"},"",{"$f":"IF(I873=\"\",\"\",LARGE(H$1:H872,1)+1)","v":{"$error":"#VALUE!"}},{"$error":"#VALUE!"},872,{"$error":"#N/A"},"",null,null,872,0,{"$f":"IF(R873=\"\",\"\",LARGE(Q$1:Q872,1)+1)","v":{"$error":"#NUM!"}},{"$error":"#NUM!"},872,{"$error":"#N/A"},"","",null,null,0,{"$error":"#VALUE!"},3999,"","",null,null,null,null,{"$error":"#VALUE!"},{"$error":"#VALUE!"},{"$f":"COUNTIF('Standards LOOKUP'!B:B,AI873)","v":0},{"$f":"IFERROR(INDEX('Standards LOOKUP'!C:C,MATCH(AI873,'Standards LOOKUP'!B:B,0),0),0)","v":0},{"$f":"IFERROR(INDEX('Current Standards'!P:P,MATCH('Sheet Counter'!AI873,'Current Standards'!O:O,0),0),\"\")","v":""}]
[null,null,0,"","",{"$error":"#VALUE!"},"",{"$f":"IF(I874=\"\",\"\",LARGE(H$1:H873,1)+1)","v":{"$error":"#VALUE!"}},{"$error":"#VALUE!"},873,{"$error":"#N/A"},"",null,null,873,0,{"$f":"IF(R874=\"\",\"\",LARGE(Q$1:Q873,1)+1)","v":{"$error":"#NUM!"}},{"$error":"#NUM!"},873,{"$error":"#N/A"},"","",null,null,0,{"$error":"#VALUE!"},3999,"","",null,null,null,null,{"$error":"#VALUE!"},{"$error":"#VALUE!"},{"$f":"COUNTIF('Standards LOOKUP'!B:B,AI874)","v":0},{"$f":"IFERROR(INDEX('Standards LOOKUP'!C:C,MATCH(AI874,'Standards LOOKUP'!B:B,0),0),0)","v":0},{"$f":"IFERROR(INDEX('Current Standards'!P:P,MATCH('Sheet Counter'!AI874,'Current Standards'!O:O,0),0),\"\")","v":""}]
[null,null,0,"","",{"$error":"#VALUE!"},"",{"$f":"IF(I875=\"\",\"\",LARGE(H$1:H874,1)+1)","v":{"$error":"#VALUE!"}},{"$error":"#VALUE!"},874,{"$error":"#N/A"},"",null,null,874,0,{"$f":"IF(R875=\"\",\"\",LARGE(Q$1:Q874,1)+1)","v":{"$error":"#NUM!"}},{"$error":"#NUM!"},874,{"$error":"#N/A"},"","",null,null,0,{"$error":"#VALUE!"},3999,"","",null,null,null,null,{"$error":"#VALUE!"},{"$error":"#VALUE!"},{"$f":"COUNTIF('Standards LOOKUP'!B:B,AI875)","v":0},{"$f":"IFERROR(INDEX('Standards LOOKUP'!C:C,MATCH(AI875,'Standards LOOKUP'!B:B,0),0),0)","v":0},{"$f":"IFERROR(INDEX('Current Standards'!P:P,MATCH('Sheet Counter'!AI875,'Current Standards'!O:O,0),0),\"\")","v":""}]
[null,null,0,"","",{"$error":"#VALUE!"},"",{"$f":"IF(I876=\"\",\"\",LARGE(H$1:H875,1)+1)","v":{"$error":"#VALUE!"}},{"$error":"#VALUE!"},875,{"$error":"#N/A"},"",null,null,875,0,{"$f":"IF(R876=\"\",\"\",LARGE(Q$1:Q875,1)+1)","v":{"$error":"#NUM!"}},{"$error":"#NUM!"},875,{"$error":"#N/A"},"","",null,null,0,{"$error":"#VALUE!"},3999,"","",null,null,null,null,{"$error":"#VALUE!"},{"$error":"#VALUE!"},{"$f":"COUNTIF('Standards LOOKUP'!B:B,AI876)","v":0},{"$f":"IFERROR(INDEX('Standards LOOKUP'!C:C,MATCH(AI876,'Standards LOOKUP'!B:B,0),0),0)","v":0},{"$f":"IFERROR(INDEX('Current Standards'!P:P,MATCH('Sheet Counter'!AI876,'Current Standards'!O:O,0),0),\"\")","v":""}]
[null,null,0,"","",{"$error":"#VALUE!"},"",{"$f":"IF(I877=\"\",\"\",LARGE(H$1:H876,1)+1)","v":{"$error":"#VALUE!"}},{"$error":"#VALUE!"},876,{"$error":"#N/A"},"",null,null,876,0,{"$f":"IF(R877=\"\",\"\",LARGE(Q$1:Q876,1)+1)","v":{"$error":"#NUM!"}},{"$error":"#NUM!"},876,{"$error":"#N/A"},"","",null,null,0,{"$error":"#VALUE!"},3999,"","",null,null,null,null,{"$error":"#VALUE!"},{"$error":"#VALUE!"},{"$f":"COUNTIF('Standards LOOKUP'!B:B,AI877)","v":0},{"$f":"IFERROR(INDEX('Standards LOOKUP'!C:C,MATCH(AI877,'Standards LOOKUP'!B:B,0),0),0)","v":0},{"$f":"IFERROR(INDEX('Current Standards'!P:P,MATCH('Sheet Counter'!AI877,'Current Standards'!O:O,0),0),\"\")","v":""}]
[null,null,0,"","",{"$error":"#VALUE!"},"",{"$f":"IF(I878=\"\",\"\",LARGE(H$1:H877,1)+1)","v":{"$error":"#VALUE!"}},{"$error":"#VALUE!"},877,{"$error":"#N/A"},"",null,null,877,0,{"$f":"IF(R878=\"\",\"\",LARGE(Q$1:Q877,1)+1)","v":{"$error":"#NUM!"}},{"$error":"#NUM!"},877,{"$error":"#N/A"},"","",null,null,0,{"$error":"#VALUE!"},3999,"","",null,null,null,null,{"$error":"#VALUE!"},{"$error":"#VALUE!"},{"$f":"COUNTIF('Standards LOOKUP'!B:B,AI878)","v":0},{"$f":"IFERROR(INDEX('Standards LOOKUP'!C:C,MATCH(AI878,'Standards LOOKUP'!B:B,0),0),0)","v":0},{"$f":"IFERROR(INDEX('Current Standards'!P:P,MATCH('Sheet Counter'!AI878,'Current Standards'!O:O,0),0),\"\")","v":""}]
[null,null,0,"","",{"$error":"#VALUE!"},"",{"$f":"IF(I879=\"\",\"\",LARGE(H$1:H878,1)+1)","v":{"$error":"#VALUE!"}},{"$error":"#VALUE!"},878,{"$error":"#N/A"},"",null,null,878,0,{"$f":"IF(R879=\"\",\"\",LARGE(Q$1:Q878,1)+1)","v":{"$error":"#NUM!"}},{"$error":"#NUM!"},878,{"$error":"#N/A"},"","",null,null,0,{"$error":"#VALUE!"},3999,"","",null,null,null,null,{"$error":"#VALUE!"},{"$error":"#VALUE!"},{"$f":"COUNTIF('Standards LOOKUP'!B:B,AI879)","v":0},{"$f":"IFERROR(INDEX('Standards LOOKUP'!C:C,MATCH(AI879,'Standards LOOKUP'!B:B,0),0),0)","v":0},{"$f":"IFERROR(INDEX('Current Standards'!P:P,MATCH('Sheet Counter'!AI879,'Current Standards'!O:O,0),0),\"\")","v":""}]
[null,null,0,"","",{"$error":"#VALUE!"},"",{"$f":"IF(I880=\"\",\"\",LARGE(H$1:H879,1)+1)","v":{"$error":"#VALUE!"}},{"$error":"#VALUE!"},879,{"$error":"#N/A"},"",null,null,879,0,{"$f":"IF(R880=\"\",\"\",LARGE(Q$1:Q879,1)+1)","v":{"$error":"#NUM!"}},{"$error":"#NUM!"},879,{"$error":"#N/A"},"","",null,null,0,{"$error":"#VALUE!"},3999,"","",null,null,null,null,{"$error":"#VALUE!"},{"$error":"#VALUE!"},{"$f":"COUNTIF('Standards LOOKUP'!B:B,AI880)","v":0},{"$f":"IFERROR(INDEX('Standards LOOKUP'!C:C,MATCH(AI880,'Standards LOOKUP'!B:B,0),0),0)","v":0},{"$f":"IFERROR(INDEX('Current Standards'!P:P,MATCH('Sheet Counter'!AI880,'Current Standards'!O:O,0),0),\"\")","v":""}]
[null,null,0,"","",{"$error":"#VALUE!"},"",{"$f":"IF(I881=\"\",\"\",LARGE(H$1:H880,1)+1)","v":{"$error":"#VALUE!"}},{"$error":"#VALUE!"},880,{"$error":"#N/A"},"",null,null,880,0,{"$f":"IF(R881=\"\",\"\",LARGE(Q$1:Q880,1)+1)","v":{"$error":"#NUM!"}},{"$error":"#NUM!"},880,{"$error":"#N/A"},"","",null,null,0,{"$error":"#VALUE!"},3999,"","",null,null,null,null,{"$error":"#VALUE!"},{"$error":"#VALUE!"},{"$f":"COUNTIF('Standards LOOKUP'!B:B,AI881)","v":0},{"$f":"IFERROR(INDEX('Standards LOOKUP'!C:C,MATCH(AI881,'Standards LOOKUP'!B:B,0),0),0)","v":0},{"$f":"IFERROR(INDEX('Current Standards'!P:P,MATCH('Sheet Counter'!AI881,'Current Standards'!O:O,0),0),\"\")","v":""}]
[null,null,0,"","",{"$error":"#VALUE!"},"",{"$f":"IF(I882=\"\",\"\",LARGE(H$1:H881,1)+1)","v":{"$error":"#VALUE!"}},{"$error":"#VALUE!"},881,{"$error":"#N/A"},"",null,null,881,0,{"$f":"IF(R882=\"\",\"\",LARGE(Q$1:Q881,1)+1)","v":{"$error":"#NUM!"}},{"$error":"#NUM!"},881,{"$error":"#N/A"},"","",null,null,0,{"$error":"#VALUE!"},3999,"","",null,null,null,null,{"$error":"#VALUE!"},{"$error":"#VALUE!"},{"$f":"COUNTIF('Standards LOOKUP'!B:B,AI882)","v":0},{"$f":"IFERROR(INDEX('Standards LOOKUP'!C:C,MATCH(AI882,'Standards LOOKUP'!B:B,0),0),0)","v":0},{"$f":"IFERROR(INDEX('Current Standards'!P:P,MATCH('Sheet Counter'!AI882,'Current Standards'!O:O,0),0),\"\")","v":""}]
[null,null,0,"","",{"$error":"#VALUE!"},"",{"$f":"IF(I883=\"\",\"\",LARGE(H$1:H882,1)+1)","v":{"$error":"#VALUE!"}},{"$error":"#VALUE!"},882,{"$error":"#N/A"},"",null,null,882,0,{"$f":"IF(R883=\"\",\"\",LARGE(Q$1:Q882,1)+1)","v":{"$error":"#NUM!"}},{"$error":"#NUM!"},882,{"$error":"#N/A"},"","",null,null,0,{"$error":"#VALUE!"},3999,"","",null,null,null,null,{"$error":"#VALUE!"},{"$error":"#VALUE!"},{"$f":"COUNTIF('Standards LOOKUP'!B:B,AI883)","v":0},{"$f":"IFERROR(INDEX('Standards LOOKUP'!C:C,MATCH(AI883,'Standards LOOKUP'!B:B,0),0),0)","v":0},{"$f":"IFERROR(INDEX('Current Standards'!P:P,MATCH('Sheet Counter'!AI883,'Current Standards'!O:O,0),0),\"\")","v":""}]
[null,null,0,"","",{"$error":"#VALUE!"},"",{"$f":"IF(I884=\"\",\"\",LARGE(H$1:H883,1)+1)","v":{"$error":"#VALUE!"}},{"$error":"#VALUE!"},883,{"$error":"#N/A"},"",null,null,883,0,{"$f":"IF(R884=\"\",\"\",LARGE(Q$1:Q883,1)+1)","v":{"$error":"#NUM!"}},{"$error":"#NUM!"},883,{"$error":"#N/A"},"","",null,null,0,{"$error":"#VALUE!"},3999,"","",null,null,null,null,{"$error":"#VALUE!"},{"$error":"#VALUE!"},{"$f":"COUNTIF('Standards LOOKUP'!B:B,AI884)","v":0},{"$f":"IFERROR(INDEX('Standards LOOKUP'!C:C,MATCH(AI884,'Standards LOOKUP'!B:B,0),0),0)","v":0},{"$f":"IFERROR(INDEX('Current Standards'!P:P,MATCH('Sheet Counter'!AI884,'Current Standards'!O:O,0),0),\"\")","v":""}]
[null,null,0,"","",{"$error":"#VALUE!"},"",{"$f":"IF(I885=\"\",\"\",LARGE(H$1:H884,1)+1)","v":{"$error":"#VALUE!"}},{"$error":"#VALUE!"},884,{"$error":"#N/A"},"",null,null,884,0,{"$f":"IF(R885=\"\",\"\",LARGE(Q$1:Q884,1)+1)","v":{"$error":"#NUM!"}},{"$error":"#NUM!"},884,{"$error":"#N/A"},"","",null,null,0,{"$error":"#VALUE!"},3999,"","",null,null,null,null,{"$error":"#VALUE!"},{"$error":"#VALUE!"},{"$f":"COUNTIF('Standards LOOKUP'!B:B,AI885)","v":0},{"$f":"IFERROR(INDEX('Standards LOOKUP'!C:C,MATCH(AI885,'Standards LOOKUP'!B:B,0),0),0)","v":0},{"$f":"IFERROR(INDEX('Current Standards'!P:P,MATCH('Sheet Counter'!AI885,'Current Standards'!O:O,0),0),\"\")","v":""}]
[null,null,0,"","",{"$error":"#VALUE!"},"",{"$f":"IF(I886=\"\",\"\",LARGE(H$1:H885,1)+1)","v":{"$error":"#VALUE!"}},{"$error":"#VALUE!"},885,{"$f":"VLOOKUP(J886,H:I,2,0)","v":{"$error":"#N/A"}},{"$f":"IF(ISERROR(K886),\"\",K886)","v":""},null,null,885,0,{"$f":"IF(R886=\"\",\"\",LARGE(Q$1:Q885,1)+1)","v":{"$error":"#NUM!"}},{"$error":"#NUM!"},885,{"$f":"VLOOKUP(S886,Q:R,2,0)","v":{"$error":"#N/A"}},{"$f":"IF(ISERROR(T886),\"\",T886)","v":""},{"$f":"IF(U886=\"\",\"\",VLOOKUP(U886,O:P,2,0))","v":""},null,null,0,{"$error":"#VALUE!"},3999,"","",null,null,null,null,{"$error":"#VALUE!"},{"$error":"#VALUE!"},{"$f":"COUNTIF('Standards LOOKUP'!B:B,AI886)","v":0},{"$f":"IFERROR(INDEX('Standards LOOKUP'!C:C,MATCH(AI886,'Standards LOOKUP'!B:B,0),0),0)","v":0},{"$f":"IFERROR(INDEX('Current Standards'!P:P,MATCH('Sheet Counter'!AI886,'Current Standards'!O:O,0),0),\"\")","v":""}]
[null,null,0,"","",{"$error":"#VALUE!"},"",{"$f":"IF(I887=\"\",\"\",LARGE(H$1:H886,1)+1)","v":{"$error":"#VALUE!"}},{"$error":"#VALUE!"},886,{"$error":"#N/A"},"",null,null,886,0,{"$f":"IF(R887=\"\",\"\",LARGE(Q$1:Q886,1)+1)","v":{"$error":"#NUM!"}},{"$error":"#NUM!"},886,{"$error":"#N/A"},"","",null,null,0,{"$error":"#VALUE!"},3999,"","",null,null,null,null,{"$error":"#VALUE!"},{"$error":"#VALUE!"},{"$f":"COUNTIF('Standards LOOKUP'!B:B,AI887)","v":0},{"$f":"IFERROR(INDEX('Standards LOOKUP'!C:C,MATCH(AI887,'Standards LOOKUP'!B:B,0),0),0)","v":0},{"$f":"IFERROR(INDEX('Current Standards'!P:P,MATCH('Sheet Counter'!AI887,'Current Standards'!O:O,0),0),\"\")","v":""}]
[null,null,0,"","",{"$error":"#VALUE!"},"",{"$f":"IF(I888=\"\",\"\",LARGE(H$1:H887,1)+1)","v":{"$error":"#VALUE!"}},{"$error":"#VALUE!"},887,{"$error":"#N/A"},"",null,null,887,0,{"$f":"IF(R888=\"\",\"\",LARGE(Q$1:Q887,1)+1)","v":{"$error":"#NUM!"}},{"$error":"#NUM!"},887,{"$error":"#N/A"},"","",null,null,0,{"$error":"#VALUE!"},3999,"","",null,null,null,null,{"$error":"#VALUE!"},{"$error":"#VALUE!"},{"$f":"COUNTIF('Standards LOOKUP'!B:B,AI888)","v":0},{"$f":"IFERROR(INDEX('Standards LOOKUP'!C:C,MATCH(AI888,'Standards LOOKUP'!B:B,0),0),0)","v":0},{"$f":"IFERROR(INDEX('Current Standards'!P:P,MATCH('Sheet Counter'!AI888,'Current Standards'!O:O,0),0),\"\")","v":""}]
[null,null,0,"","",{"$error":"#VALUE!"},"",{"$f":"IF(I889=\"\",\"\",LARGE(H$1:H888,1)+1)","v":{"$error":"#VALUE!"}},{"$error":"#VALUE!"},888,{"$error":"#N/A"},"",null,null,888,0,{"$f":"IF(R889=\"\",\"\",LARGE(Q$1:Q888,1)+1)","v":{"$error":"#NUM!"}},{"$error":"#NUM!"},888,{"$error":"#N/A"},"","",null,null,0,{"$error":"#VALUE!"},3999,"","",null,null,null,null,{"$error":"#VALUE!"},{"$error":"#VALUE!"},{"$f":"COUNTIF('Standards LOOKUP'!B:B,AI889)","v":0},{"$f":"IFERROR(INDEX('Standards LOOKUP'!C:C,MATCH(AI889,'Standards LOOKUP'!B:B,0),0),0)","v":0},{"$f":"IFERROR(INDEX('Current Standards'!P:P,MATCH('Sheet Counter'!AI889,'Current Standards'!O:O,0),0),\"\")","v":""}]
[null,null,0,"","",{"$error":"#VALUE!"},"",{"$f":"IF(I890=\"\",\"\",LARGE(H$1:H889,1)+1)","v":{"$error":"#VALUE!"}},{"$error":"#VALUE!"},889,{"$error":"#N/A"},"",null,null,889,0,{"$f":"IF(R890=\"\",\"\",LARGE(Q$1:Q889,1)+1)","v":{"$error":"#NUM!"}},{"$error":"#NUM!"},889,{"$error":"#N/A"},"","",null,null,0,{"$error":"#VALUE!"},3999,"","",null,null,null,null,{"$error":"#VALUE!"},{"$error":"#VALUE!"},{"$f":"COUNTIF('Standards LOOKUP'!B:B,AI890)","v":0},{"$f":"IFERROR(INDEX('Standards LOOKUP'!C:C,MATCH(AI890,'Standards LOOKUP'!B:B,0),0),0)","v":0},{"$f":"IFERROR(INDEX('Current Standards'!P:P,MATCH('Sheet Counter'!AI890,'Current Standards'!O:O,0),0),\"\")","v":""}]
[null,null,0,"","",{"$error":"#VALUE!"},"",{"$f":"IF(I891=\"\",\"\",LARGE(H$1:H890,1)+1)","v":{"$error":"#VALUE!"}},{"$error":"#VALUE!"},890,{"$error":"#N/A"},"",null,null,890,0,{"$f":"IF(R891=\"\",\"\",LARGE(Q$1:Q890,1)+1)","v":{"$error":"#NUM!"}},{"$error":"#NUM!"},890,{"$error":"#N/A"},"","",null,null,0,{"$error":"#VALUE!"},3999,"","",null,null,null,null,{"$error":"#VALUE!"},{"$error":"#VALUE!"},{"$f":"COUNTIF('Standards LOOKUP'!B:B,AI891)","v":0},{"$f":"IFERROR(INDEX('Standards LOOKUP'!C:C,MATCH(AI891,'Standards LOOKUP'!B:B,0),0),0)","v":0},{"$f":"IFERROR(INDEX('Current Standards'!P:P,MATCH('Sheet Counter'!AI891,'Current Standards'!O:O,0),0),\"\")","v":""}]
[null,null,0,"","",{"$error":"#VALUE!"},"",{"$f":"IF(I892=\"\",\"\",LARGE(H$1:H891,1)+1)","v":{"$error":"#VALUE!"}},{"$error":"#VALUE!"},891,{"$error":"#N/A"},"",null,null,891,0,{"$f":"IF(R892=\"\",\"\",LARGE(Q$1:Q891,1)+1)","v":{"$error":"#NUM!"}},{"$error":"#NUM!"},891,{"$error":"#N/A"},"","",null,null,0,{"$error":"#VALUE!"},3999,"","",null,null,null,null,{"$error":"#VALUE!"},{"$error":"#VALUE!"},{"$f":"COUNTIF('Standards LOOKUP'!B:B,AI892)","v":0},{"$f":"IFERROR(INDEX('Standards LOOKUP'!C:C,MATCH(AI892,'Standards LOOKUP'!B:B,0),0),0)","v":0},{"$f":"IFERROR(INDEX('Current Standards'!P:P,MATCH('Sheet Counter'!AI892,'Current Standards'!O:O,0),0),\"\")","v":""}]
[null,null,0,"","",{"$error":"#VALUE!"},"",{"$f":"IF(I893=\"\",\"\",LARGE(H$1:H892,1)+1)","v":{"$error":"#VALUE!"}},{"$error":"#VALUE!"},892,{"$error":"#N/A"},"",null,null,892,0,{"$f":"IF(R893=\"\",\"\",LARGE(Q$1:Q892,1)+1)","v":{"$error":"#NUM!"}},{"$error":"#NUM!"},892,{"$error":"#N/A"},"","",null,null,0,{"$error":"#VALUE!"},3999,"","",null,null,null,null,{"$error":"#VALUE!"},{"$error":"#VALUE!"},{"$f":"COUNTIF('Standards LOOKUP'!B:B,AI893)","v":0},{"$f":"IFERROR(INDEX('Standards LOOKUP'!C:C,MATCH(AI893,'Standards LOOKUP'!B:B,0),0),0)","v":0},{"$f":"IFERROR(INDEX('Current Standards'!P:P,MATCH('Sheet Counter'!AI893,'Current Standards'!O:O,0),0),\"\")","v":""}]
[null,null,0,"","",{"$error":"#VALUE!"},"",{"$f":"IF(I894=\"\",\"\",LARGE(H$1:H893,1)+1)","v":{"$error":"#VALUE!"}},{"$error":"#VALUE!"},893,{"$error":"#N/A"},"",null,null,893,0,{"$f":"IF(R894=\"\",\"\",LARGE(Q$1:Q893,1)+1)","v":{"$error":"#NUM!"}},{"$error":"#NUM!"},893,{"$error":"#N/A"},"","",null,null,0,{"$error":"#VALUE!"},3999,"","",null,null,null,null,{"$error":"#VALUE!"},{"$error":"#VALUE!"},{"$f":"COUNTIF('Standards LOOKUP'!B:B,AI894)","v":0},{"$f":"IFERROR(INDEX('Standards LOOKUP'!C:C,MATCH(AI894,'Standards LOOKUP'!B:B,0),0),0)","v":0},{"$f":"IFERROR(INDEX('Current Standards'!P:P,MATCH('Sheet Counter'!AI894,'Current Standards'!O:O,0),0),\"\")","v":""}]
[null,null,0,"","",{"$error":"#VALUE!"},"",{"$f":"IF(I895=\"\",\"\",LARGE(H$1:H894,1)+1)","v":{"$error":"#VALUE!"}},{"$error":"#VALUE!"},894,{"$error":"#N/A"},"",null,null,894,0,{"$f":"IF(R895=\"\",\"\",LARGE(Q$1:Q894,1)+1)","v":{"$error":"#NUM!"}},{"$error":"#NUM!"},894,{"$error":"#N/A"},"","",null,null,0,{"$error":"#VALUE!"},3999,"","",null,null,null,null,{"$error":"#VALUE!"},{"$error":"#VALUE!"},{"$f":"COUNTIF('Standards LOOKUP'!B:B,AI895)","v":0},{"$f":"IFERROR(INDEX('Standards LOOKUP'!C:C,MATCH(AI895,'Standards LOOKUP'!B:B,0),0),0)","v":0},{"$f":"IFERROR(INDEX('Current Standards'!P:P,MATCH('Sheet Counter'!AI895,'Current Standards'!O:O,0),0),\"\")","v":""}]
[null,null,0,"","",{"$error":"#VALUE!"},"",{"$f":"IF(I896=\"\",\"\",LARGE(H$1:H895,1)+1)","v":{"$error":"#VALUE!"}},{"$error":"#VALUE!"},895,{"$error":"#N/A"},"",null,null,895,0,{"$f":"IF(R896=\"\",\"\",LARGE(Q$1:Q895,1)+1)","v":{"$error":"#NUM!"}},{"$error":"#NUM!"},895,{"$error":"#N/A"},"","",null,null,0,{"$error":"#VALUE!"},3999,"","",null,null,null,null,{"$error":"#VALUE!"},{"$error":"#VALUE!"},{"$f":"COUNTIF('Standards LOOKUP'!B:B,AI896)","v":0},{"$f":"IFERROR(INDEX('Standards LOOKUP'!C:C,MATCH(AI896,'Standards LOOKUP'!B:B,0),0),0)","v":0},{"$f":"IFERROR(INDEX('Current Standards'!P:P,MATCH('Sheet Counter'!AI896,'Current Standards'!O:O,0),0),\"\")","v":""}]
[null,null,0,"","",{"$error":"#VALUE!"},"",{"$f":"IF(I897=\"\",\"\",LARGE(H$1:H896,1)+1)","v":{"$error":"#VALUE!"}},{"$error":"#VALUE!"},896,{"$error":"#N/A"},"",null,null,896,0,{"$f":"IF(R897=\"\",\"\",LARGE(Q$1:Q896,1)+1)","v":{"$error":"#NUM!"}},{"$error":"#NUM!"},896,{"$error":"#N/A"},"","",null,null,0,{"$error":"#VALUE!"},3999,"","",null,null,null,null,{"$error":"#VALUE!"},{"$error":"#VALUE!"},{"$f":"COUNTIF('Standards LOOKUP'!B:B,AI897)","v":0},{"$f":"IFERROR(INDEX('Standards LOOKUP'!C:C,MATCH(AI897,'Standards LOOKUP'!B:B,0),0),0)","v":0},{"$f":"IFERROR(INDEX('Current Standards'!P:P,MATCH('Sheet Counter'!AI897,'Current Standards'!O:O,0),0),\"\")","v":""}]
[null,null,0,"","",{"$error":"#VALUE!"},"",{"$f":"IF(I898=\"\",\"\",LARGE(H$1:H897,1)+1)","v":{"$error":"#VALUE!"}},{"$f":"IF(G898=\"\",F898,\"\")","v":{"$error":"#VALUE!"}},897,{"$error":"#N/A"},"",null,null,897,{"$f":"COUNTIF(G:G,O898)","v":0},{"$f":"IF(R898=\"\",\"\",LARGE(Q$1:Q897,1)+1)","v":{"$error":"#NUM!"}},{"$error":"#NUM!"},897,{"$error":"#N/A"},"","",null,null,0,{"$error":"#VALUE!"},3999,"","",null,null,null,null,{"$error":"#VALUE!"},{"$error":"#VALUE!"},{"$f":"COUNTIF('Standards LOOKUP'!B:B,AI898)","v":0},{"$f":"IFERROR(INDEX('Standards LOOKUP'!C:C,MATCH(AI898,'Standards LOOKUP'!B:B,0),0),0)","v":0},{"$f":"IFERROR(INDEX('Current Standards'!P:P,MATCH('Sheet Counter'!AI898,'Current Standards'!O:O,0),0),\"\")","v":""}]
[null,null,{"$f":"IF(ISERROR(FIND(\"\\\",A899)),A899,RIGHT(A899,LEN(A899)-FIND(\"~\",SUBSTITUTE(A899,\"\\\",\"~\",LEN(A899)-LEN(SUBSTITUTE(A899,\"\\\",\"\"))))))","v":0},{"$f":"IF(AL899=\"\",\"\",AL899)","v":""},"",{"$f":"LEFT(C899,FIND(\"-\",SUBSTITUTE(SUBSTITUTE(C899,\"_\",\"-\"),\" \",\"-\"))-1)","v":{"$error":"#VALUE!"}},{"$f":"IF(ISNUMBER(F899*1),F899*1,\"\")","v":""},{"$f":"IF(I899=\"\",\"\",LARGE(H$1:H898,1)+1)","v":{"$error":"#VALUE!"}},{"$error":"#VALUE!"},898,{"$error":"#N/A"},"",null,null,898,0,{"$f":"IF(R899=\"\",\"\",LARGE(Q$1:Q898,1)+1)","v":{"$error":"#NUM!"}},{"$error":"#NUM!"},898,{"$error":"#N/A"},"","",null,null,{"$f":"IF(ISERROR(FIND(\"\\\",X899)),X899,RIGHT(X899,LEN(X899)-FIND(\"~\",SUBSTITUTE(X899,\"\\\",\"~\",LEN(X899)-LEN(SUBSTITUTE(X899,\"\\\",\"\"))))))","v":0},{"$f":"LEFT(Y899,FIND(\"-\",SUBSTITUTE(SUBSTITUTE(Y899,\"_\",\"-\"),\" \",\"-\"))-1)","v":{"$error":"#VALUE!"}},{"$f":"COUNTIF(F:F,Z899)","v":3999},{"$f":"IF(OR(AA899<1,ISERROR(Z899)),\"\",INDEX(C:C,MATCH(Z899,F:F)))","v":""},{"$f":"IF(AA899=0,\"New Sheet\",IF(EXACT(UPPER(Y899),UPPER(AB899)),\"Match\",\"\"))","v":""},null,null,null,null,{"$f":"IF(C899=\"\",\"\",LEFT(RIGHT(C899,LEN(C899)-SEARCH(\" \",C899,1)),LEN(RIGHT(C899,LEN(C899)-SEARCH(\" \",C899,1)))-4))","v":{"$error":"#VALUE!"}},{"$f":"TRIM(SUBSTITUTE(SUBSTITUTE(SUBSTITUTE(SUBSTITUTE(SUBSTITUTE(SUBSTITUTE(AH899,\"(\",\"\"),\")\",\"\"),\"-\",\"\"),\"&\",\"\"),\" \",\"\",1),\" \",\"\",1))","v":{"$error":"#VALUE!"}},{"$f":"COUNTIF('Standards LOOKUP'!B:B,AI899)","v":0},{"$f":"IFERROR(INDEX('Standards LOOKUP'!C:C,MATCH(AI899,'Standards LOOKUP'!B:B,0),0),0)","v":0},{"$f":"IFERROR(INDEX('Current Standards'!P:P,MATCH('Sheet Counter'!AI899,'Current Standards'!O:O,0),0),\"\")","v":""}]
[null,null,0,"","",{"$error":"#VALUE!"},"",{"$f":"IF(I900=\"\",\"\",LARGE(H$1:H899,1)+1)","v":{"$error":"#VALUE!"}},{"$error":"#VALUE!"},899,{"$error":"#N/A"},"",null,null,899,0,{"$f":"IF(R900=\"\",\"\",LARGE(Q$1:Q899,1)+1)","v":{"$error":"#NUM!"}},{"$f":"IF(AND(P900<>1,O900<=LARGE(G:G,1),O900>=SMALL(G:G,1)),O900,\"\")","v":{"$error":"#NUM!"}},899,{"$error":"#N/A"},"","",null,null,0,{"$error":"#VALUE!"},3999,"","",null,null,null,null,{"$error":"#VALUE!"},{"$error":"#VALUE!"},{"$f":"COUNTIF('Standards LOOKUP'!B:B,AI900)","v":0},{"$f":"IFERROR(INDEX('Standards LOOKUP'!C:C,MATCH(AI900,'Standards LOOKUP'!B:B,0),0),0)","v":0},{"$f":"IFERROR(INDEX('Current Standards'!P:P,MATCH('Sheet Counter'!AI900,'Current Standards'!O:O,0),0),\"\")","v":""}]
[null,null,0,"","",{"$error":"#VALUE!"},"",{"$f":"IF(I901=\"\",\"\",LARGE(H$1:H900,1)+1)","v":{"$error":"#VALUE!"}},{"$error":"#VALUE!"},900,{"$error":"#N/A"},"",null,null,900,0,{"$f":"IF(R901=\"\",\"\",LARGE(Q$1:Q900,1)+1)","v":{"$error":"#NUM!"}},{"$error":"#NUM!"},900,{"$error":"#N/A"},"","",null,null,0,{"$error":"#VALUE!"},3999,"","",null,null,null,null,{"$error":"#VALUE!"},{"$error":"#VALUE!"},{"$f":"COUNTIF('Standards LOOKUP'!B:B,AI901)","v":0},{"$f":"IFERROR(INDEX('Standards LOOKUP'!C:C,MATCH(AI901,'Standards LOOKUP'!B:B,0),0),0)","v":0},{"$f":"IFERROR(INDEX('Current Standards'!P:P,MATCH('Sheet Counter'!AI901,'Current Standards'!O:O,0),0),\"\")","v":""}]
[null,null,0,"","",{"$error":"#VALUE!"},"",{"$f":"IF(I902=\"\",\"\",LARGE(H$1:H901,1)+1)","v":{"$error":"#VALUE!"}},{"$error":"#VALUE!"},901,{"$error":"#N/A"},"",null,null,901,0,{"$f":"IF(R902=\"\",\"\",LARGE(Q$1:Q901,1)+1)","v":{"$error":"#NUM!"}},{"$error":"#NUM!"},901,{"$error":"#N/A"},"","",null,null,0,{"$error":"#VALUE!"},3999,"","",null,null,null,null,{"$error":"#VALUE!"},{"$error":"#VALUE!"},{"$f":"COUNTIF('Standards LOOKUP'!B:B,AI902)","v":0},{"$f":"IFERROR(INDEX('Standards LOOKUP'!C:C,MATCH(AI902,'Standards LOOKUP'!B:B,0),0),0)","v":0},{"$f":"IFERROR(INDEX('Current Standards'!P:P,MATCH('Sheet Counter'!AI902,'Current Standards'!O:O,0),0),\"\")","v":""}]
[null,null,0,"","",{"$error":"#VALUE!"},"",{"$f":"IF(I903=\"\",\"\",LARGE(H$1:H902,1)+1)","v":{"$error":"#VALUE!"}},{"$error":"#VALUE!"},902,{"$error":"#N/A"},"",null,null,902,0,{"$f":"IF(R903=\"\",\"\",LARGE(Q$1:Q902,1)+1)","v":{"$error":"#NUM!"}},{"$error":"#NUM!"},902,{"$error":"#N/A"},"","",null,null,0,{"$error":"#VALUE!"},3999,"","",null,null,null,null,{"$error":"#VALUE!"},{"$error":"#VALUE!"},{"$f":"COUNTIF('Standards LOOKUP'!B:B,AI903)","v":0},{"$f":"IFERROR(INDEX('Standards LOOKUP'!C:C,MATCH(AI903,'Standards LOOKUP'!B:B,0),0),0)","v":0},{"$f":"IFERROR(INDEX('Current Standards'!P:P,MATCH('Sheet Counter'!AI903,'Current Standards'!O:O,0),0),\"\")","v":""}]
[null,null,0,"","",{"$error":"#VALUE!"},"",{"$f":"IF(I904=\"\",\"\",LARGE(H$1:H903,1)+1)","v":{"$error":"#VALUE!"}},{"$error":"#VALUE!"},903,{"$error":"#N/A"},"",null,null,903,0,{"$f":"IF(R904=\"\",\"\",LARGE(Q$1:Q903,1)+1)","v":{"$error":"#NUM!"}},{"$error":"#NUM!"},903,{"$error":"#N/A"},"","",null,null,0,{"$error":"#VALUE!"},3999,"","",null,null,null,null,{"$error":"#VALUE!"},{"$error":"#VALUE!"},{"$f":"COUNTIF('Standards LOOKUP'!B:B,AI904)","v":0},{"$f":"IFERROR(INDEX('Standards LOOKUP'!C:C,MATCH(AI904,'Standards LOOKUP'!B:B,0),0),0)","v":0},{"$f":"IFERROR(INDEX('Current Standards'!P:P,MATCH('Sheet Counter'!AI904,'Current Standards'!O:O,0),0),\"\")","v":""}]
[null,null,0,"","",{"$error":"#VALUE!"},"",{"$f":"IF(I905=\"\",\"\",LARGE(H$1:H904,1)+1)","v":{"$error":"#VALUE!"}},{"$error":"#VALUE!"},904,{"$error":"#N/A"},"",null,null,904,0,{"$f":"IF(R905=\"\",\"\",LARGE(Q$1:Q904,1)+1)","v":{"$error":"#NUM!"}},{"$error":"#NUM!"},904,{"$error":"#N/A"},"","",null,null,0,{"$error":"#VALUE!"},3999,"","",null,null,null,null,{"$error":"#VALUE!"},{"$error":"#VALUE!"},{"$f":"COUNTIF('Standards LOOKUP'!B:B,AI905)","v":0},{"$f":"IFERROR(INDEX('Standards LOOKUP'!C:C,MATCH(AI905,'Standards LOOKUP'!B:B,0),0),0)","v":0},{"$f":"IFERROR(INDEX('Current Standards'!P:P,MATCH('Sheet Counter'!AI905,'Current Standards'!O:O,0),0),\"\")","v":""}]
[null,null,0,"","",{"$error":"#VALUE!"},"",{"$f":"IF(I906=\"\",\"\",LARGE(H$1:H905,1)+1)","v":{"$error":"#VALUE!"}},{"$error":"#VALUE!"},905,{"$error":"#N/A"},"",null,null,905,0,{"$f":"IF(R906=\"\",\"\",LARGE(Q$1:Q905,1)+1)","v":{"$error":"#NUM!"}},{"$error":"#NUM!"},905,{"$error":"#N/A"},"","",null,null,0,{"$error":"#VALUE!"},3999,"","",null,null,null,null,{"$error":"#VALUE!"},{"$error":"#VALUE!"},{"$f":"COUNTIF('Standards LOOKUP'!B:B,AI906)","v":0},{"$f":"IFERROR(INDEX('Standards LOOKUP'!C:C,MATCH(AI906,'Standards LOOKUP'!B:B,0),0),0)","v":0},{"$f":"IFERROR(INDEX('Current Standards'!P:P,MATCH('Sheet Counter'!AI906,'Current Standards'!O:O,0),0),\"\")","v":""}]
[null,null,0,"","",{"$error":"#VALUE!"},"",{"$f":"IF(I907=\"\",\"\",LARGE(H$1:H906,1)+1)","v":{"$error":"#VALUE!"}},{"$error":"#VALUE!"},906,{"$error":"#N/A"},"",null,null,906,0,{"$f":"IF(R907=\"\",\"\",LARGE(Q$1:Q906,1)+1)","v":{"$error":"#NUM!"}},{"$error":"#NUM!"},906,{"$error":"#N/A"},"","",null,null,0,{"$error":"#VALUE!"},3999,"","",null,null,null,null,{"$error":"#VALUE!"},{"$error":"#VALUE!"},{"$f":"COUNTIF('Standards LOOKUP'!B:B,AI907)","v":0},{"$f":"IFERROR(INDEX('Standards LOOKUP'!C:C,MATCH(AI907,'Standards LOOKUP'!B:B,0),0),0)","v":0},{"$f":"IFERROR(INDEX('Current Standards'!P:P,MATCH('Sheet Counter'!AI907,'Current Standards'!O:O,0),0),\"\")","v":""}]
[null,null,0,"","",{"$error":"#VALUE!"},"",{"$f":"IF(I908=\"\",\"\",LARGE(H$1:H907,1)+1)","v":{"$error":"#VALUE!"}},{"$error":"#VALUE!"},907,{"$error":"#N/A"},"",null,null,907,0,{"$f":"IF(R908=\"\",\"\",LARGE(Q$1:Q907,1)+1)","v":{"$error":"#NUM!"}},{"$error":"#NUM!"},907,{"$error":"#N/A"},"","",null,null,0,{"$error":"#VALUE!"},3999,"","",null,null,null,null,{"$error":"#VALUE!"},{"$error":"#VALUE!"},{"$f":"COUNTIF('Standards LOOKUP'!B:B,AI908)","v":0},{"$f":"IFERROR(INDEX('Standards LOOKUP'!C:C,MATCH(AI908,'Standards LOOKUP'!B:B,0),0),0)","v":0},{"$f":"IFERROR(INDEX('Current Standards'!P:P,MATCH('Sheet Counter'!AI908,'Current Standards'!O:O,0),0),\"\")","v":""}]
[null,null,0,"","",{"$error":"#VALUE!"},"",{"$f":"IF(I909=\"\",\"\",LARGE(H$1:H908,1)+1)","v":{"$error":"#VALUE!"}},{"$error":"#VALUE!"},908,{"$error":"#N/A"},"",null,null,908,0,{"$f":"IF(R909=\"\",\"\",LARGE(Q$1:Q908,1)+1)","v":{"$error":"#NUM!"}},{"$error":"#NUM!"},908,{"$error":"#N/A"},"","",null,null,0,{"$error":"#VALUE!"},3999,"","",null,null,null,null,{"$error":"#VALUE!"},{"$error":"#VALUE!"},{"$f":"COUNTIF('Standards LOOKUP'!B:B,AI909)","v":0},{"$f":"IFERROR(INDEX('Standards LOOKUP'!C:C,MATCH(AI909,'Standards LOOKUP'!B:B,0),0),0)","v":0},{"$f":"IFERROR(INDEX('Current Standards'!P:P,MATCH('Sheet Counter'!AI909,'Current Standards'!O:O,0),0),\"\")","v":""}]
[null,null,0,"","",{"$error":"#VALUE!"},"",{"$f":"IF(I910=\"\",\"\",LARGE(H$1:H909,1)+1)","v":{"$error":"#VALUE!"}},{"$error":"#VALUE!"},909,{"$error":"#N/A"},"",null,null,909,0,{"$f":"IF(R910=\"\",\"\",LARGE(Q$1:Q909,1)+1)","v":{"$error":"#NUM!"}},{"$error":"#NUM!"},909,{"$error":"#N/A"},"","",null,null,0,{"$error":"#VALUE!"},3999,"","",null,null,null,null,{"$error":"#VALUE!"},{"$error":"#VALUE!"},{"$f":"COUNTIF('Standards LOOKUP'!B:B,AI910)","v":0},{"$f":"IFERROR(INDEX('Standards LOOKUP'!C:C,MATCH(AI910,'Standards LOOKUP'!B:B,0),0),0)","v":0},{"$f":"IFERROR(INDEX('Current Standards'!P:P,MATCH('Sheet Counter'!AI910,'Current Standards'!O:O,0),0),\"\")","v":""}]
[null,null,0,"","",{"$error":"#VALUE!"},"",{"$f":"IF(I911=\"\",\"\",LARGE(H$1:H910,1)+1)","v":{"$error":"#VALUE!"}},{"$error":"#VALUE!"},910,{"$error":"#N/A"},"",null,null,910,0,{"$f":"IF(R911=\"\",\"\",LARGE(Q$1:Q910,1)+1)","v":{"$error":"#NUM!"}},{"$error":"#NUM!"},910,{"$error":"#N/A"},"","",null,null,0,{"$error":"#VALUE!"},3999,"","",null,null,null,null,{"$error":"#VALUE!"},{"$error":"#VALUE!"},{"$f":"COUNTIF('Standards LOOKUP'!B:B,AI911)","v":0},{"$f":"IFERROR(INDEX('Standards LOOKUP'!C:C,MATCH(AI911,'Standards LOOKUP'!B:B,0),0),0)","v":0},{"$f":"IFERROR(INDEX('Current Standards'!P:P,MATCH('Sheet Counter'!AI911,'Current Standards'!O:O,0),0),\"\")","v":""}]
[null,null,0,"","",{"$error":"#VALUE!"},"",{"$f":"IF(I912=\"\",\"\",LARGE(H$1:H911,1)+1)","v":{"$error":"#VALUE!"}},{"$error":"#VALUE!"},911,{"$error":"#N/A"},"",null,null,911,0,{"$f":"IF(R912=\"\",\"\",LARGE(Q$1:Q911,1)+1)","v":{"$error":"#NUM!"}},{"$error":"#NUM!"},911,{"$error":"#N/A"},"","",null,null,0,{"$error":"#VALUE!"},3999,"","",null,null,null,null,{"$error":"#VALUE!"},{"$error":"#VALUE!"},{"$f":"COUNTIF('Standards LOOKUP'!B:B,AI912)","v":0},{"$f":"IFERROR(INDEX('Standards LOOKUP'!C:C,MATCH(AI912,'Standards LOOKUP'!B:B,0),0),0)","v":0},{"$f":"IFERROR(INDEX('Current Standards'!P:P,MATCH('Sheet Counter'!AI912,'Current Standards'!O:O,0),0),\"\")","v":""}]
[null,null,0,"","",{"$error":"#VALUE!"},"",{"$f":"IF(I913=\"\",\"\",LARGE(H$1:H912,1)+1)","v":{"$error":"#VALUE!"}},{"$error":"#VALUE!"},912,{"$error":"#N/A"},"",null,null,912,0,{"$f":"IF(R913=\"\",\"\",LARGE(Q$1:Q912,1)+1)","v":{"$error":"#NUM!"}},{"$error":"#NUM!"},912,{"$error":"#N/A"},"","",null,null,0,{"$error":"#VALUE!"},3999,"","",null,null,null,null,{"$error":"#VALUE!"},{"$error":"#VALUE!"},{"$f":"COUNTIF('Standards LOOKUP'!B:B,AI913)","v":0},{"$f":"IFERROR(INDEX('Standards LOOKUP'!C:C,MATCH(AI913,'Standards LOOKUP'!B:B,0),0),0)","v":0},{"$f":"IFERROR(INDEX('Current Standards'!P:P,MATCH('Sheet Counter'!AI913,'Current Standards'!O:O,0),0),\"\")","v":""}]
[null,null,0,"","",{"$error":"#VALUE!"},"",{"$f":"IF(I914=\"\",\"\",LARGE(H$1:H913,1)+1)","v":{"$error":"#VALUE!"}},{"$error":"#VALUE!"},913,{"$error":"#N/A"},"",null,null,913,0,{"$f":"IF(R914=\"\",\"\",LARGE(Q$1:Q913,1)+1)","v":{"$error":"#NUM!"}},{"$error":"#NUM!"},913,{"$error":"#N/A"},"","",null,null,0,{"$error":"#VALUE!"},3999,"","",null,null,null,null,{"$error":"#VALUE!"},{"$error":"#VALUE!"},{"$f":"COUNTIF('Standards LOOKUP'!B:B,AI914)","v":0},{"$f":"IFERROR(INDEX('Standards LOOKUP'!C:C,MATCH(AI914,'Standards LOOKUP'!B:B,0),0),0)","v":0},{"$f":"IFERROR(INDEX('Current Standards'!P:P,MATCH('Sheet Counter'!AI914,'Current Standards'!O:O,0),0),\"\")","v":""}]
[null,null,0,"","",{"$error":"#VALUE!"},"",{"$f":"IF(I915=\"\",\"\",LARGE(H$1:H914,1)+1)","v":{"$error":"#VALUE!"}},{"$error":"#VALUE!"},914,{"$error":"#N/A"},"",null,null,914,0,{"$f":"IF(R915=\"\",\"\",LARGE(Q$1:Q914,1)+1)","v":{"$error":"#NUM!"}},{"$error":"#NUM!"},914,{"$error":"#N/A"},"","",null,null,0,{"$error":"#VALUE!"},3999,"","",null,null,null,null,{"$error":"#VALUE!"},{"$error":"#VALUE!"},{"$f":"COUNTIF('Standards LOOKUP'!B:B,AI915)","v":0},{"$f":"IFERROR(INDEX('Standards LOOKUP'!C:C,MATCH(AI915,'Standards LOOKUP'!B:B,0),0),0)","v":0},{"$f":"IFERROR(INDEX('Current Standards'!P:P,MATCH('Sheet Counter'!AI915,'Current Standards'!O:O,0),0),\"\")","v":""}]
[null,null,0,"","",{"$error":"#VALUE!"},"",{"$f":"IF(I916=\"\",\"\",LARGE(H$1:H915,1)+1)","v":{"$error":"#VALUE!"}},{"$error":"#VALUE!"},915,{"$error":"#N/A"},"",null,null,915,0,{"$f":"IF(R916=\"\",\"\",LARGE(Q$1:Q915,1)+1)","v":{"$error":"#NUM!"}},{"$error":"#NUM!"},915,{"$error":"#N/A"},"","",null,null,0,{"$error":"#VALUE!"},3999,"","",null,null,null,null,{"$error":"#VALUE!"},{"$error":"#VALUE!"},{"$f":"COUNTIF('Standards LOOKUP'!B:B,AI916)","v":0},{"$f":"IFERROR(INDEX('Standards LOOKUP'!C:C,MATCH(AI916,'Standards LOOKUP'!B:B,0),0),0)","v":0},{"$f":"IFERROR(INDEX('Current Standards'!P:P,MATCH('Sheet Counter'!AI916,'Current Standards'!O:O,0),0),\"\")","v":""}]
[null,null,0,"","",{"$error":"#VALUE!"},"",{"$f":"IF(I917=\"\",\"\",LARGE(H$1:H916,1)+1)","v":{"$error":"#VALUE!"}},{"$error":"#VALUE!"},916,{"$error":"#N/A"},"",null,null,916,0,{"$f":"IF(R917=\"\",\"\",LARGE(Q$1:Q916,1)+1)","v":{"$error":"#NUM!"}},{"$error":"#NUM!"},916,{"$error":"#N/A"},"","",null,null,0,{"$error":"#VALUE!"},3999,"","",null,null,null,null,{"$error":"#VALUE!"},{"$error":"#VALUE!"},{"$f":"COUNTIF('Standards LOOKUP'!B:B,AI917)","v":0},{"$f":"IFERROR(INDEX('Standards LOOKUP'!C:C,MATCH(AI917,'Standards LOOKUP'!B:B,0),0),0)","v":0},{"$f":"IFERROR(INDEX('Current Standards'!P:P,MATCH('Sheet Counter'!AI917,'Current Standards'!O:O,0),0),\"\")","v":""}]
[null,null,0,"","",{"$error":"#VALUE!"},"",{"$f":"IF(I918=\"\",\"\",LARGE(H$1:H917,1)+1)","v":{"$error":"#VALUE!"}},{"$error":"#VALUE!"},917,{"$error":"#N/A"},"",null,null,917,0,{"$f":"IF(R918=\"\",\"\",LARGE(Q$1:Q917,1)+1)","v":{"$error":"#NUM!"}},{"$error":"#NUM!"},917,{"$error":"#N/A"},"","",null,null,0,{"$error":"#VALUE!"},3999,"","",null,null,null,null,{"$error":"#VALUE!"},{"$error":"#VALUE!"},{"$f":"COUNTIF('Standards LOOKUP'!B:B,AI918)","v":0},{"$f":"IFERROR(INDEX('Standards LOOKUP'!C:C,MATCH(AI918,'Standards LOOKUP'!B:B,0),0),0)","v":0},{"$f":"IFERROR(INDEX('Current Standards'!P:P,MATCH('Sheet Counter'!AI918,'Current Standards'!O:O,0),0),\"\")","v":""}]
[null,null,0,"","",{"$error":"#VALUE!"},"",{"$f":"IF(I919=\"\",\"\",LARGE(H$1:H918,1)+1)","v":{"$error":"#VALUE!"}},{"$error":"#VALUE!"},918,{"$error":"#N/A"},"",null,null,918,0,{"$f":"IF(R919=\"\",\"\",LARGE(Q$1:Q918,1)+1)","v":{"$error":"#NUM!"}},{"$error":"#NUM!"},918,{"$error":"#N/A"},"","",null,null,0,{"$error":"#VALUE!"},3999,"","",null,null,null,null,{"$error":"#VALUE!"},{"$error":"#VALUE!"},{"$f":"COUNTIF('Standards LOOKUP'!B:B,AI919)","v":0},{"$f":"IFERROR(INDEX('Standards LOOKUP'!C:C,MATCH(AI919,'Standards LOOKUP'!B:B,0),0),0)","v":0},{"$f":"IFERROR(INDEX('Current Standards'!P:P,MATCH('Sheet Counter'!AI919,'Current Standards'!O:O,0),0),\"\")","v":""}]
[null,null,0,"","",{"$error":"#VALUE!"},"",{"$f":"IF(I920=\"\",\"\",LARGE(H$1:H919,1)+1)","v":{"$error":"#VALUE!"}},{"$error":"#VALUE!"},919,{"$error":"#N/A"},"",null,null,919,0,{"$f":"IF(R920=\"\",\"\",LARGE(Q$1:Q919,1)+1)","v":{"$error":"#NUM!"}},{"$error":"#NUM!"},919,{"$error":"#N/A"},"","",null,null,0,{"$error":"#VALUE!"},3999,"","",null,null,null,null,{"$error":"#VALUE!"},{"$error":"#VALUE!"},{"$f":"COUNTIF('Standards LOOKUP'!B:B,AI920)","v":0},{"$f":"IFERROR(INDEX('Standards LOOKUP'!C:C,MATCH(AI920,'Standards LOOKUP'!B:B,0),0),0)","v":0},{"$f":"IFERROR(INDEX('Current Standards'!P:P,MATCH('Sheet Counter'!AI920,'Current Standards'!O:O,0),0),\"\")","v":""}]
[null,null,0,"","",{"$error":"#VALUE!"},"",{"$f":"IF(I921=\"\",\"\",LARGE(H$1:H920,1)+1)","v":{"$error":"#VALUE!"}},{"$error":"#VALUE!"},920,{"$error":"#N/A"},"",null,null,920,0,{"$f":"IF(R921=\"\",\"\",LARGE(Q$1:Q920,1)+1)","v":{"$error":"#NUM!"}},{"$error":"#NUM!"},920,{"$error":"#N/A"},"","",null,null,0,{"$error":"#VALUE!"},3999,"","",null,null,null,null,{"$error":"#VALUE!"},{"$error":"#VALUE!"},{"$f":"COUNTIF('Standards LOOKUP'!B:B,AI921)","v":0},{"$f":"IFERROR(INDEX('Standards LOOKUP'!C:C,MATCH(AI921,'Standards LOOKUP'!B:B,0),0),0)","v":0},{"$f":"IFERROR(INDEX('Current Standards'!P:P,MATCH('Sheet Counter'!AI921,'Current Standards'!O:O,0),0),\"\")","v":""}]
[null,null,0,"","",{"$error":"#VALUE!"},"",{"$f":"IF(I922=\"\",\"\",LARGE(H$1:H921,1)+1)","v":{"$error":"#VALUE!"}},{"$error":"#VALUE!"},921,{"$error":"#N/A"},"",null,null,921,0,{"$f":"IF(R922=\"\",\"\",LARGE(Q$1:Q921,1)+1)","v":{"$error":"#NUM!"}},{"$error":"#NUM!"},921,{"$error":"#N/A"},"","",null,null,0,{"$error":"#VALUE!"},3999,"","",null,null,null,null,{"$error":"#VALUE!"},{"$error":"#VALUE!"},{"$f":"COUNTIF('Standards LOOKUP'!B:B,AI922)","v":0},{"$f":"IFERROR(INDEX('Standards LOOKUP'!C:C,MATCH(AI922,'Standards LOOKUP'!B:B,0),0),0)","v":0},{"$f":"IFERROR(INDEX('Current Standards'!P:P,MATCH('Sheet Counter'!AI922,'Current Standards'!O:O,0),0),\"\")","v":""}]
[null,null,0,"","",{"$error":"#VALUE!"},"",{"$f":"IF(I923=\"\",\"\",LARGE(H$1:H922,1)+1)","v":{"$error":"#VALUE!"}},{"$error":"#VALUE!"},922,{"$error":"#N/A"},"",null,null,922,0,{"$f":"IF(R923=\"\",\"\",LARGE(Q$1:Q922,1)+1)","v":{"$error":"#NUM!"}},{"$error":"#NUM!"},922,{"$error":"#N/A"},"","",null,null,0,{"$error":"#VALUE!"},3999,"","",null,null,null,null,{"$error":"#VALUE!"},{"$error":"#VALUE!"},{"$f":"COUNTIF('Standards LOOKUP'!B:B,AI923)","v":0},{"$f":"IFERROR(INDEX('Standards LOOKUP'!C:C,MATCH(AI923,'Standards LOOKUP'!B:B,0),0),0)","v":0},{"$f":"IFERROR(INDEX('Current Standards'!P:P,MATCH('Sheet Counter'!AI923,'Current Standards'!O:O,0),0),\"\")","v":""}]
[null,null,0,"","",{"$error":"#VALUE!"},"",{"$f":"IF(I924=\"\",\"\",LARGE(H$1:H923,1)+1)","v":{"$error":"#VALUE!"}},{"$error":"#VALUE!"},923,{"$error":"#N/A"},"",null,null,923,0,{"$f":"IF(R924=\"\",\"\",LARGE(Q$1:Q923,1)+1)","v":{"$error":"#NUM!"}},{"$error":"#NUM!"},923,{"$error":"#N/A"},"","",null,null,0,{"$error":"#VALUE!"},3999,"","",null,null,null,null,{"$error":"#VALUE!"},{"$error":"#VALUE!"},{"$f":"COUNTIF('Standards LOOKUP'!B:B,AI924)","v":0},{"$f":"IFERROR(INDEX('Standards LOOKUP'!C:C,MATCH(AI924,'Standards LOOKUP'!B:B,0),0),0)","v":0},{"$f":"IFERROR(INDEX('Current Standards'!P:P,MATCH('Sheet Counter'!AI924,'Current Standards'!O:O,0),0),\"\")","v":""}]
[null,null,0,"","",{"$error":"#VALUE!"},"",{"$f":"IF(I925=\"\",\"\",LARGE(H$1:H924,1)+1)","v":{"$error":"#VALUE!"}},{"$error":"#VALUE!"},924,{"$error":"#N/A"},"",null,null,924,0,{"$f":"IF(R925=\"\",\"\",LARGE(Q$1:Q924,1)+1)","v":{"$error":"#NUM!"}},{"$error":"#NUM!"},924,{"$error":"#N/A"},"","",null,null,0,{"$error":"#VALUE!"},3999,"","",null,null,null,null,{"$error":"#VALUE!"},{"$error":"#VALUE!"},{"$f":"COUNTIF('Standards LOOKUP'!B:B,AI925)","v":0},{"$f":"IFERROR(INDEX('Standards LOOKUP'!C:C,MATCH(AI925,'Standards LOOKUP'!B:B,0),0),0)","v":0},{"$f":"IFERROR(INDEX('Current Standards'!P:P,MATCH('Sheet Counter'!AI925,'Current Standards'!O:O,0),0),\"\")","v":""}]
[null,null,0,"","",{"$error":"#VALUE!"},"",{"$f":"IF(I926=\"\",\"\",LARGE(H$1:H925,1)+1)","v":{"$error":"#VALUE!"}},{"$error":"#VALUE!"},925,{"$error":"#N/A"},"",null,null,925,0,{"$f":"IF(R926=\"\",\"\",LARGE(Q$1:Q925,1)+1)","v":{"$error":"#NUM!"}},{"$error":"#NUM!"},925,{"$error":"#N/A"},"","",null,null,0,{"$error":"#VALUE!"},3999,"","",null,null,null,null,{"$error":"#VALUE!"},{"$error":"#VALUE!"},{"$f":"COUNTIF('Standards LOOKUP'!B:B,AI926)","v":0},{"$f":"IFERROR(INDEX('Standards LOOKUP'!C:C,MATCH(AI926,'Standards LOOKUP'!B:B,0),0),0)","v":0},{"$f":"IFERROR(INDEX('Current Standards'!P:P,MATCH('Sheet Counter'!AI926,'Current Standards'!O:O,0),0),\"\")","v":""}]
[null,null,0,"","",{"$error":"#VALUE!"},"",{"$f":"IF(I927=\"\",\"\",LARGE(H$1:H926,1)+1)","v":{"$error":"#VALUE!"}},{"$error":"#VALUE!"},926,{"$error":"#N/A"},"",null,null,926,0,{"$f":"IF(R927=\"\",\"\",LARGE(Q$1:Q926,1)+1)","v":{"$error":"#NUM!"}},{"$error":"#NUM!"},926,{"$error":"#N/A"},"","",null,null,0,{"$error":"#VALUE!"},3999,"","",null,null,null,null,{"$error":"#VALUE!"},{"$error":"#VALUE!"},{"$f":"COUNTIF('Standards LOOKUP'!B:B,AI927)","v":0},{"$f":"IFERROR(INDEX('Standards LOOKUP'!C:C,MATCH(AI927,'Standards LOOKUP'!B:B,0),0),0)","v":0},{"$f":"IFERROR(INDEX('Current Standards'!P:P,MATCH('Sheet Counter'!AI927,'Current Standards'!O:O,0),0),\"\")","v":""}]
[null,null,0,"","",{"$error":"#VALUE!"},"",{"$f":"IF(I928=\"\",\"\",LARGE(H$1:H927,1)+1)","v":{"$error":"#VALUE!"}},{"$error":"#VALUE!"},927,{"$error":"#N/A"},"",null,null,927,0,{"$f":"IF(R928=\"\",\"\",LARGE(Q$1:Q927,1)+1)","v":{"$error":"#NUM!"}},{"$error":"#NUM!"},927,{"$error":"#N/A"},"","",null,null,0,{"$error":"#VALUE!"},3999,"","",null,null,null,null,{"$error":"#VALUE!"},{"$error":"#VALUE!"},{"$f":"COUNTIF('Standards LOOKUP'!B:B,AI928)","v":0},{"$f":"IFERROR(INDEX('Standards LOOKUP'!C:C,MATCH(AI928,'Standards LOOKUP'!B:B,0),0),0)","v":0},{"$f":"IFERROR(INDEX('Current Standards'!P:P,MATCH('Sheet Counter'!AI928,'Current Standards'!O:O,0),0),\"\")","v":""}]
[null,null,0,"","",{"$error":"#VALUE!"},"",{"$f":"IF(I929=\"\",\"\",LARGE(H$1:H928,1)+1)","v":{"$error":"#VALUE!"}},{"$error":"#VALUE!"},928,{"$error":"#N/A"},"",null,null,928,0,{"$f":"IF(R929=\"\",\"\",LARGE(Q$1:Q928,1)+1)","v":{"$error":"#NUM!"}},{"$error":"#NUM!"},928,{"$error":"#N/A"},"","",null,null,0,{"$error":"#VALUE!"},3999,"","",null,null,null,null,{"$error":"#VALUE!"},{"$error":"#VALUE!"},{"$f":"COUNTIF('Standards LOOKUP'!B:B,AI929)","v":0},{"$f":"IFERROR(INDEX('Standards LOOKUP'!C:C,MATCH(AI929,'Standards LOOKUP'!B:B,0),0),0)","v":0},{"$f":"IFERROR(INDEX('Current Standards'!P:P,MATCH('Sheet Counter'!AI929,'Current Standards'!O:O,0),0),\"\")","v":""}]
[null,null,0,"","",{"$error":"#VALUE!"},"",{"$f":"IF(I930=\"\",\"\",LARGE(H$1:H929,1)+1)","v":{"$error":"#VALUE!"}},{"$error":"#VALUE!"},929,{"$error":"#N/A"},"",null,null,929,0,{"$f":"IF(R930=\"\",\"\",LARGE(Q$1:Q929,1)+1)","v":{"$error":"#NUM!"}},{"$error":"#NUM!"},929,{"$error":"#N/A"},"","",null,null,0,{"$error":"#VALUE!"},3999,"","",null,null,null,null,{"$error":"#VALUE!"},{"$error":"#VALUE!"},{"$f":"COUNTIF('Standards LOOKUP'!B:B,AI930)","v":0},{"$f":"IFERROR(INDEX('Standards LOOKUP'!C:C,MATCH(AI930,'Standards LOOKUP'!B:B,0),0),0)","v":0},{"$f":"IFERROR(INDEX('Current Standards'!P:P,MATCH('Sheet Counter'!AI930,'Current Standards'!O:O,0),0),\"\")","v":""}]
[null,null,0,"","",{"$error":"#VALUE!"},"",{"$f":"IF(I931=\"\",\"\",LARGE(H$1:H930,1)+1)","v":{"$error":"#VALUE!"}},{"$error":"#VALUE!"},930,{"$error":"#N/A"},"",null,null,930,0,{"$f":"IF(R931=\"\",\"\",LARGE(Q$1:Q930,1)+1)","v":{"$error":"#NUM!"}},{"$error":"#NUM!"},930,{"$error":"#N/A"},"","",null,null,0,{"$error":"#VALUE!"},3999,"","",null,null,null,null,{"$error":"#VALUE!"},{"$error":"#VALUE!"},{"$f":"COUNTIF('Standards LOOKUP'!B:B,AI931)","v":0},{"$f":"IFERROR(INDEX('Standards LOOKUP'!C:C,MATCH(AI931,'Standards LOOKUP'!B:B,0),0),0)","v":0},{"$f":"IFERROR(INDEX('Current Standards'!P:P,MATCH('Sheet Counter'!AI931,'Current Standards'!O:O,0),0),\"\")","v":""}]
[null,null,0,"","",{"$error":"#VALUE!"},"",{"$f":"IF(I932=\"\",\"\",LARGE(H$1:H931,1)+1)","v":{"$error":"#VALUE!"}},{"$error":"#VALUE!"},931,{"$error":"#N/A"},"",null,null,931,0,{"$f":"IF(R932=\"\",\"\",LARGE(Q$1:Q931,1)+1)","v":{"$error":"#NUM!"}},{"$error":"#NUM!"},931,{"$error":"#N/A"},"","",null,null,0,{"$error":"#VALUE!"},3999,"","",null,null,null,null,{"$error":"#VALUE!"},{"$error":"#VALUE!"},{"$f":"COUNTIF('Standards LOOKUP'!B:B,AI932)","v":0},{"$f":"IFERROR(INDEX('Standards LOOKUP'!C:C,MATCH(AI932,'Standards LOOKUP'!B:B,0),0),0)","v":0},{"$f":"IFERROR(INDEX('Current Standards'!P:P,MATCH('Sheet Counter'!AI932,'Current Standards'!O:O,0),0),\"\")","v":""}]
[null,null,0,"","",{"$error":"#VALUE!"},"",{"$f":"IF(I933=\"\",\"\",LARGE(H$1:H932,1)+1)","v":{"$error":"#VALUE!"}},{"$error":"#VALUE!"},932,{"$error":"#N/A"},"",null,null,932,0,{"$f":"IF(R933=\"\",\"\",LARGE(Q$1:Q932,1)+1)","v":{"$error":"#NUM!"}},{"$error":"#NUM!"},932,{"$error":"#N/A"},"","",null,null,0,{"$error":"#VALUE!"},3999,"","",null,null,null,null,{"$error":"#VALUE!"},{"$error":"#VALUE!"},{"$f":"COUNTIF('Standards LOOKUP'!B:B,AI933)","v":0},{"$f":"IFERROR(INDEX('Standards LOOKUP'!C:C,MATCH(AI933,'Standards LOOKUP'!B:B,0),0),0)","v":0},{"$f":"IFERROR(INDEX('Current Standards'!P:P,MATCH('Sheet Counter'!AI933,'Current Standards'!O:O,0),0),\"\")","v":""}]
[null,null,0,"","",{"$error":"#VALUE!"},"",{"$f":"IF(I934=\"\",\"\",LARGE(H$1:H933,1)+1)","v":{"$error":"#VALUE!"}},{"$error":"#VALUE!"},933,{"$error":"#N/A"},"",null,null,933,0,{"$f":"IF(R934=\"\",\"\",LARGE(Q$1:Q933,1)+1)","v":{"$error":"#NUM!"}},{"$error":"#NUM!"},933,{"$error":"#N/A"},"","",null,null,0,{"$error":"#VALUE!"},3999,"","",null,null,null,null,{"$error":"#VALUE!"},{"$error":"#VALUE!"},{"$f":"COUNTIF('Standards LOOKUP'!B:B,AI934)","v":0},{"$f":"IFERROR(INDEX('Standards LOOKUP'!C:C,MATCH(AI934,'Standards LOOKUP'!B:B,0),0),0)","v":0},{"$f":"IFERROR(INDEX('Current Standards'!P:P,MATCH('Sheet Counter'!AI934,'Current Standards'!O:O,0),0),\"\")","v":""}]
[null,null,0,"","",{"$error":"#VALUE!"},"",{"$f":"IF(I935=\"\",\"\",LARGE(H$1:H934,1)+1)","v":{"$error":"#VALUE!"}},{"$error":"#VALUE!"},934,{"$error":"#N/A"},"",null,null,934,0,{"$f":"IF(R935=\"\",\"\",LARGE(Q$1:Q934,1)+1)","v":{"$error":"#NUM!"}},{"$error":"#NUM!"},934,{"$error":"#N/A"},"","",null,null,0,{"$error":"#VALUE!"},3999,"","",null,null,null,null,{"$error":"#VALUE!"},{"$error":"#VALUE!"},{"$f":"COUNTIF('Standards LOOKUP'!B:B,AI935)","v":0},{"$f":"IFERROR(INDEX('Standards LOOKUP'!C:C,MATCH(AI935,'Standards LOOKUP'!B:B,0),0),0)","v":0},{"$f":"IFERROR(INDEX('Current Standards'!P:P,MATCH('Sheet Counter'!AI935,'Current Standards'!O:O,0),0),\"\")","v":""}]
[null,null,0,"","",{"$error":"#VALUE!"},"",{"$f":"IF(I936=\"\",\"\",LARGE(H$1:H935,1)+1)","v":{"$error":"#VALUE!"}},{"$error":"#VALUE!"},935,{"$error":"#N/A"},"",null,null,935,0,{"$f":"IF(R936=\"\",\"\",LARGE(Q$1:Q935,1)+1)","v":{"$error":"#NUM!"}},{"$error":"#NUM!"},935,{"$error":"#N/A"},"","",null,null,0,{"$error":"#VALUE!"},3999,"","",null,null,null,null,{"$error":"#VALUE!"},{"$error":"#VALUE!"},{"$f":"COUNTIF('Standards LOOKUP'!B:B,AI936)","v":0},{"$f":"IFERROR(INDEX('Standards LOOKUP'!C:C,MATCH(AI936,'Standards LOOKUP'!B:B,0),0),0)","v":0},{"$f":"IFERROR(INDEX('Current Standards'!P:P,MATCH('Sheet Counter'!AI936,'Current Standards'!O:O,0),0),\"\")","v":""}]
[null,null,0,"","",{"$error":"#VALUE!"},"",{"$f":"IF(I937=\"\",\"\",LARGE(H$1:H936,1)+1)","v":{"$error":"#VALUE!"}},{"$error":"#VALUE!"},936,{"$error":"#N/A"},"",null,null,936,0,{"$f":"IF(R937=\"\",\"\",LARGE(Q$1:Q936,1)+1)","v":{"$error":"#NUM!"}},{"$error":"#NUM!"},936,{"$error":"#N/A"},"","",null,null,0,{"$error":"#VALUE!"},3999,"","",null,null,null,null,{"$error":"#VALUE!"},{"$error":"#VALUE!"},{"$f":"COUNTIF('Standards LOOKUP'!B:B,AI937)","v":0},{"$f":"IFERROR(INDEX('Standards LOOKUP'!C:C,MATCH(AI937,'Standards LOOKUP'!B:B,0),0),0)","v":0},{"$f":"IFERROR(INDEX('Current Standards'!P:P,MATCH('Sheet Counter'!AI937,'Current Standards'!O:O,0),0),\"\")","v":""}]
[null,null,0,"","",{"$error":"#VALUE!"},"",{"$f":"IF(I938=\"\",\"\",LARGE(H$1:H937,1)+1)","v":{"$error":"#VALUE!"}},{"$error":"#VALUE!"},937,{"$error":"#N/A"},"",null,null,937,0,{"$f":"IF(R938=\"\",\"\",LARGE(Q$1:Q937,1)+1)","v":{"$error":"#NUM!"}},{"$error":"#NUM!"},937,{"$error":"#N/A"},"","",null,null,0,{"$error":"#VALUE!"},3999,"","",null,null,null,null,{"$error":"#VALUE!"},{"$error":"#VALUE!"},{"$f":"COUNTIF('Standards LOOKUP'!B:B,AI938)","v":0},{"$f":"IFERROR(INDEX('Standards LOOKUP'!C:C,MATCH(AI938,'Standards LOOKUP'!B:B,0),0),0)","v":0},{"$f":"IFERROR(INDEX('Current Standards'!P:P,MATCH('Sheet Counter'!AI938,'Current Standards'!O:O,0),0),\"\")","v":""}]
[null,null,0,"","",{"$error":"#VALUE!"},"",{"$f":"IF(I939=\"\",\"\",LARGE(H$1:H938,1)+1)","v":{"$error":"#VALUE!"}},{"$error":"#VALUE!"},938,{"$error":"#N/A"},"",null,null,938,0,{"$f":"IF(R939=\"\",\"\",LARGE(Q$1:Q938,1)+1)","v":{"$error":"#NUM!"}},{"$error":"#NUM!"},938,{"$error":"#N/A"},"","",null,null,0,{"$error":"#VALUE!"},3999,"","",null,null,null,null,{"$error":"#VALUE!"},{"$error":"#VALUE!"},{"$f":"COUNTIF('Standards LOOKUP'!B:B,AI939)","v":0},{"$f":"IFERROR(INDEX('Standards LOOKUP'!C:C,MATCH(AI939,'Standards LOOKUP'!B:B,0),0),0)","v":0},{"$f":"IFERROR(INDEX('Current Standards'!P:P,MATCH('Sheet Counter'!AI939,'Current Standards'!O:O,0),0),\"\")","v":""}]
[null,null,0,"","",{"$error":"#VALUE!"},"",{"$f":"IF(I940=\"\",\"\",LARGE(H$1:H939,1)+1)","v":{"$error":"#VALUE!"}},{"$error":"#VALUE!"},939,{"$error":"#N/A"},"",null,null,939,0,{"$f":"IF(R940=\"\",\"\",LARGE(Q$1:Q939,1)+1)","v":{"$error":"#NUM!"}},{"$error":"#NUM!"},939,{"$error":"#N/A"},"","",null,null,0,{"$error":"#VALUE!"},3999,"","",null,null,null,null,{"$error":"#VALUE!"},{"$error":"#VALUE!"},{"$f":"COUNTIF('Standards LOOKUP'!B:B,AI940)","v":0},{"$f":"IFERROR(INDEX('Standards LOOKUP'!C:C,MATCH(AI940,'Standards LOOKUP'!B:B,0),0),0)","v":0},{"$f":"IFERROR(INDEX('Current Standards'!P:P,MATCH('Sheet Counter'!AI940,'Current Standards'!O:O,0),0),\"\")","v":""}]
[null,null,0,"","",{"$error":"#VALUE!"},"",{"$f":"IF(I941=\"\",\"\",LARGE(H$1:H940,1)+1)","v":{"$error":"#VALUE!"}},{"$error":"#VALUE!"},940,{"$error":"#N/A"},"",null,null,940,0,{"$f":"IF(R941=\"\",\"\",LARGE(Q$1:Q940,1)+1)","v":{"$error":"#NUM!"}},{"$error":"#NUM!"},940,{"$error":"#N/A"},"","",null,null,0,{"$error":"#VALUE!"},3999,"","",null,null,null,null,{"$error":"#VALUE!"},{"$error":"#VALUE!"},{"$f":"COUNTIF('Standards LOOKUP'!B:B,AI941)","v":0},{"$f":"IFERROR(INDEX('Standards LOOKUP'!C:C,MATCH(AI941,'Standards LOOKUP'!B:B,0),0),0)","v":0},{"$f":"IFERROR(INDEX('Current Standards'!P:P,MATCH('Sheet Counter'!AI941,'Current Standards'!O:O,0),0),\"\")","v":""}]
[null,null,0,"","",{"$error":"#VALUE!"},"",{"$f":"IF(I942=\"\",\"\",LARGE(H$1:H941,1)+1)","v":{"$error":"#VALUE!"}},{"$error":"#VALUE!"},941,{"$error":"#N/A"},"",null,null,941,0,{"$f":"IF(R942=\"\",\"\",LARGE(Q$1:Q941,1)+1)","v":{"$error":"#NUM!"}},{"$error":"#NUM!"},941,{"$error":"#N/A"},"","",null,null,0,{"$error":"#VALUE!"},3999,"","",null,null,null,null,{"$error":"#VALUE!"},{"$error":"#VALUE!"},{"$f":"COUNTIF('Standards LOOKUP'!B:B,AI942)","v":0},{"$f":"IFERROR(INDEX('Standards LOOKUP'!C:C,MATCH(AI942,'Standards LOOKUP'!B:B,0),0),0)","v":0},{"$f":"IFERROR(INDEX('Current Standards'!P:P,MATCH('Sheet Counter'!AI942,'Current Standards'!O:O,0),0),\"\")","v":""}]
[null,null,0,"","",{"$error":"#VALUE!"},"",{"$f":"IF(I943=\"\",\"\",LARGE(H$1:H942,1)+1)","v":{"$error":"#VALUE!"}},{"$error":"#VALUE!"},942,{"$error":"#N/A"},"",null,null,942,0,{"$f":"IF(R943=\"\",\"\",LARGE(Q$1:Q942,1)+1)","v":{"$error":"#NUM!"}},{"$error":"#NUM!"},942,{"$error":"#N/A"},"","",null,null,0,{"$error":"#VALUE!"},3999,"","",null,null,null,null,{"$error":"#VALUE!"},{"$error":"#VALUE!"},{"$f":"COUNTIF('Standards LOOKUP'!B:B,AI943)","v":0},{"$f":"IFERROR(INDEX('Standards LOOKUP'!C:C,MATCH(AI943,'Standards LOOKUP'!B:B,0),0),0)","v":0},{"$f":"IFERROR(INDEX('Current Standards'!P:P,MATCH('Sheet Counter'!AI943,'Current Standards'!O:O,0),0),\"\")","v":""}]
[null,null,0,"","",{"$error":"#VALUE!"},"",{"$f":"IF(I944=\"\",\"\",LARGE(H$1:H943,1)+1)","v":{"$error":"#VALUE!"}},{"$error":"#VALUE!"},943,{"$error":"#N/A"},"",null,null,943,0,{"$f":"IF(R944=\"\",\"\",LARGE(Q$1:Q943,1)+1)","v":{"$error":"#NUM!"}},{"$error":"#NUM!"},943,{"$error":"#N/A"},"","",null,null,0,{"$error":"#VALUE!"},3999,"","",null,null,null,null,{"$error":"#VALUE!"},{"$error":"#VALUE!"},{"$f":"COUNTIF('Standards LOOKUP'!B:B,AI944)","v":0},{"$f":"IFERROR(INDEX('Standards LOOKUP'!C:C,MATCH(AI944,'Standards LOOKUP'!B:B,0),0),0)","v":0},{"$f":"IFERROR(INDEX('Current Standards'!P:P,MATCH('Sheet Counter'!AI944,'Current Standards'!O:O,0),0),\"\")","v":""}]
[null,null,0,"","",{"$error":"#VALUE!"},"",{"$f":"IF(I945=\"\",\"\",LARGE(H$1:H944,1)+1)","v":{"$error":"#VALUE!"}},{"$error":"#VALUE!"},944,{"$error":"#N/A"},"",null,null,944,0,{"$f":"IF(R945=\"\",\"\",LARGE(Q$1:Q944,1)+1)","v":{"$error":"#NUM!"}},{"$error":"#NUM!"},944,{"$error":"#N/A"},"","",null,null,0,{"$error":"#VALUE!"},3999,"","",null,null,null,null,{"$error":"#VALUE!"},{"$error":"#VALUE!"},{"$f":"COUNTIF('Standards LOOKUP'!B:B,AI945)","v":0},{"$f":"IFERROR(INDEX('Standards LOOKUP'!C:C,MATCH(AI945,'Standards LOOKUP'!B:B,0),0),0)","v":0},{"$f":"IFERROR(INDEX('Current Standards'!P:P,MATCH('Sheet Counter'!AI945,'Current Standards'!O:O,0),0),\"\")","v":""}]
[null,null,0,"","",{"$error":"#VALUE!"},"",{"$f":"IF(I946=\"\",\"\",LARGE(H$1:H945,1)+1)","v":{"$error":"#VALUE!"}},{"$error":"#VALUE!"},945,{"$error":"#N/A"},"",null,null,945,0,{"$f":"IF(R946=\"\",\"\",LARGE(Q$1:Q945,1)+1)","v":{"$error":"#NUM!"}},{"$error":"#NUM!"},945,{"$error":"#N/A"},"","",null,null,0,{"$error":"#VALUE!"},3999,"","",null,null,null,null,{"$error":"#VALUE!"},{"$error":"#VALUE!"},{"$f":"COUNTIF('Standards LOOKUP'!B:B,AI946)","v":0},{"$f":"IFERROR(INDEX('Standards LOOKUP'!C:C,MATCH(AI946,'Standards LOOKUP'!B:B,0),0),0)","v":0},{"$f":"IFERROR(INDEX('Current Standards'!P:P,MATCH('Sheet Counter'!AI946,'Current Standards'!O:O,0),0),\"\")","v":""}]
[null,null,0,"","",{"$error":"#VALUE!"},"",{"$f":"IF(I947=\"\",\"\",LARGE(H$1:H946,1)+1)","v":{"$error":"#VALUE!"}},{"$error":"#VALUE!"},946,{"$error":"#N/A"},"",null,null,946,0,{"$f":"IF(R947=\"\",\"\",LARGE(Q$1:Q946,1)+1)","v":{"$error":"#NUM!"}},{"$error":"#NUM!"},946,{"$error":"#N/A"},"","",null,null,0,{"$error":"#VALUE!"},3999,"","",null,null,null,null,{"$error":"#VALUE!"},{"$error":"#VALUE!"},{"$f":"COUNTIF('Standards LOOKUP'!B:B,AI947)","v":0},{"$f":"IFERROR(INDEX('Standards LOOKUP'!C:C,MATCH(AI947,'Standards LOOKUP'!B:B,0),0),0)","v":0},{"$f":"IFERROR(INDEX('Current Standards'!P:P,MATCH('Sheet Counter'!AI947,'Current Standards'!O:O,0),0),\"\")","v":""}]
[null,null,0,"","",{"$error":"#VALUE!"},"",{"$f":"IF(I948=\"\",\"\",LARGE(H$1:H947,1)+1)","v":{"$error":"#VALUE!"}},{"$error":"#VALUE!"},947,{"$error":"#N/A"},"",null,null,947,0,{"$f":"IF(R948=\"\",\"\",LARGE(Q$1:Q947,1)+1)","v":{"$error":"#NUM!"}},{"$error":"#NUM!"},947,{"$error":"#N/A"},"","",null,null,0,{"$error":"#VALUE!"},3999,"","",null,null,null,null,{"$error":"#VALUE!"},{"$error":"#VALUE!"},{"$f":"COUNTIF('Standards LOOKUP'!B:B,AI948)","v":0},{"$f":"IFERROR(INDEX('Standards LOOKUP'!C:C,MATCH(AI948,'Standards LOOKUP'!B:B,0),0),0)","v":0},{"$f":"IFERROR(INDEX('Current Standards'!P:P,MATCH('Sheet Counter'!AI948,'Current Standards'!O:O,0),0),\"\")","v":""}]
[null,null,0,"","",{"$error":"#VALUE!"},"",{"$f":"IF(I949=\"\",\"\",LARGE(H$1:H948,1)+1)","v":{"$error":"#VALUE!"}},{"$error":"#VALUE!"},948,{"$error":"#N/A"},"",null,null,948,0,{"$f":"IF(R949=\"\",\"\",LARGE(Q$1:Q948,1)+1)","v":{"$error":"#NUM!"}},{"$error":"#NUM!"},948,{"$error":"#N/A"},"","",null,null,0,{"$error":"#VALUE!"},3999,"","",null,null,null,null,{"$error":"#VALUE!"},{"$error":"#VALUE!"},{"$f":"COUNTIF('Standards LOOKUP'!B:B,AI949)","v":0},{"$f":"IFERROR(INDEX('Standards LOOKUP'!C:C,MATCH(AI949,'Standards LOOKUP'!B:B,0),0),0)","v":0},{"$f":"IFERROR(INDEX('Current Standards'!P:P,MATCH('Sheet Counter'!AI949,'Current Standards'!O:O,0),0),\"\")","v":""}]
[null,null,0,"","",{"$error":"#VALUE!"},"",{"$f":"IF(I950=\"\",\"\",LARGE(H$1:H949,1)+1)","v":{"$error":"#VALUE!"}},{"$error":"#VALUE!"},949,{"$f":"VLOOKUP(J950,H:I,2,0)","v":{"$error":"#N/A"}},{"$f":"IF(ISERROR(K950),\"\",K950)","v":""},null,null,949,0,{"$f":"IF(R950=\"\",\"\",LARGE(Q$1:Q949,1)+1)","v":{"$error":"#NUM!"}},{"$error":"#NUM!"},949,{"$f":"VLOOKUP(S950,Q:R,2,0)","v":{"$error":"#N/A"}},{"$f":"IF(ISERROR(T950),\"\",T950)","v":""},{"$f":"IF(U950=\"\",\"\",VLOOKUP(U950,O:P,2,0))","v":""},null,null,0,{"$error":"#VALUE!"},3999,"","",null,null,null,null,{"$error":"#VALUE!"},{"$error":"#VALUE!"},{"$f":"COUNTIF('Standards LOOKUP'!B:B,AI950)","v":0},{"$f":"IFERROR(INDEX('Standards LOOKUP'!C:C,MATCH(AI950,'Standards LOOKUP'!B:B,0),0),0)","v":0},{"$f":"IFERROR(INDEX('Current Standards'!P:P,MATCH('Sheet Counter'!AI950,'Current Standards'!O:O,0),0),\"\")","v":""}]
[null,null,0,"","",{"$error":"#VALUE!"},"",{"$f":"IF(I951=\"\",\"\",LARGE(H$1:H950,1)+1)","v":{"$error":"#VALUE!"}},{"$error":"#VALUE!"},950,{"$error":"#N/A"},"",null,null,950,0,{"$f":"IF(R951=\"\",\"\",LARGE(Q$1:Q950,1)+1)","v":{"$error":"#NUM!"}},{"$error":"#NUM!"},950,{"$error":"#N/A"},"","",null,null,0,{"$error":"#VALUE!"},3999,"","",null,null,null,null,{"$error":"#VALUE!"},{"$error":"#VALUE!"},{"$f":"COUNTIF('Standards LOOKUP'!B:B,AI951)","v":0},{"$f":"IFERROR(INDEX('Standards LOOKUP'!C:C,MATCH(AI951,'Standards LOOKUP'!B:B,0),0),0)","v":0},{"$f":"IFERROR(INDEX('Current Standards'!P:P,MATCH('Sheet Counter'!AI951,'Current Standards'!O:O,0),0),\"\")","v":""}]
[null,null,0,"","",{"$error":"#VALUE!"},"",{"$f":"IF(I952=\"\",\"\",LARGE(H$1:H951,1)+1)","v":{"$error":"#VALUE!"}},{"$error":"#VALUE!"},951,{"$error":"#N/A"},"",null,null,951,0,{"$f":"IF(R952=\"\",\"\",LARGE(Q$1:Q951,1)+1)","v":{"$error":"#NUM!"}},{"$error":"#NUM!"},951,{"$error":"#N/A"},"","",null,null,0,{"$error":"#VALUE!"},3999,"","",null,null,null,null,{"$error":"#VALUE!"},{"$error":"#VALUE!"},{"$f":"COUNTIF('Standards LOOKUP'!B:B,AI952)","v":0},{"$f":"IFERROR(INDEX('Standards LOOKUP'!C:C,MATCH(AI952,'Standards LOOKUP'!B:B,0),0),0)","v":0},{"$f":"IFERROR(INDEX('Current Standards'!P:P,MATCH('Sheet Counter'!AI952,'Current Standards'!O:O,0),0),\"\")","v":""}]
[null,null,0,"","",{"$error":"#VALUE!"},"",{"$f":"IF(I953=\"\",\"\",LARGE(H$1:H952,1)+1)","v":{"$error":"#VALUE!"}},{"$error":"#VALUE!"},952,{"$error":"#N/A"},"",null,null,952,0,{"$f":"IF(R953=\"\",\"\",LARGE(Q$1:Q952,1)+1)","v":{"$error":"#NUM!"}},{"$error":"#NUM!"},952,{"$error":"#N/A"},"","",null,null,0,{"$error":"#VALUE!"},3999,"","",null,null,null,null,{"$error":"#VALUE!"},{"$error":"#VALUE!"},{"$f":"COUNTIF('Standards LOOKUP'!B:B,AI953)","v":0},{"$f":"IFERROR(INDEX('Standards LOOKUP'!C:C,MATCH(AI953,'Standards LOOKUP'!B:B,0),0),0)","v":0},{"$f":"IFERROR(INDEX('Current Standards'!P:P,MATCH('Sheet Counter'!AI953,'Current Standards'!O:O,0),0),\"\")","v":""}]
[null,null,0,"","",{"$error":"#VALUE!"},"",{"$f":"IF(I954=\"\",\"\",LARGE(H$1:H953,1)+1)","v":{"$error":"#VALUE!"}},{"$error":"#VALUE!"},953,{"$error":"#N/A"},"",null,null,953,0,{"$f":"IF(R954=\"\",\"\",LARGE(Q$1:Q953,1)+1)","v":{"$error":"#NUM!"}},{"$error":"#NUM!"},953,{"$error":"#N/A"},"","",null,null,0,{"$error":"#VALUE!"},3999,"","",null,null,null,null,{"$error":"#VALUE!"},{"$error":"#VALUE!"},{"$f":"COUNTIF('Standards LOOKUP'!B:B,AI954)","v":0},{"$f":"IFERROR(INDEX('Standards LOOKUP'!C:C,MATCH(AI954,'Standards LOOKUP'!B:B,0),0),0)","v":0},{"$f":"IFERROR(INDEX('Current Standards'!P:P,MATCH('Sheet Counter'!AI954,'Current Standards'!O:O,0),0),\"\")","v":""}]
[null,null,0,"","",{"$error":"#VALUE!"},"",{"$f":"IF(I955=\"\",\"\",LARGE(H$1:H954,1)+1)","v":{"$error":"#VALUE!"}},{"$error":"#VALUE!"},954,{"$error":"#N/A"},"",null,null,954,0,{"$f":"IF(R955=\"\",\"\",LARGE(Q$1:Q954,1)+1)","v":{"$error":"#NUM!"}},{"$error":"#NUM!"},954,{"$error":"#N/A"},"","",null,null,0,{"$error":"#VALUE!"},3999,"","",null,null,null,null,{"$error":"#VALUE!"},{"$error":"#VALUE!"},{"$f":"COUNTIF('Standards LOOKUP'!B:B,AI955)","v":0},{"$f":"IFERROR(INDEX('Standards LOOKUP'!C:C,MATCH(AI955,'Standards LOOKUP'!B:B,0),0),0)","v":0},{"$f":"IFERROR(INDEX('Current Standards'!P:P,MATCH('Sheet Counter'!AI955,'Current Standards'!O:O,0),0),\"\")","v":""}]
[null,null,0,"","",{"$error":"#VALUE!"},"",{"$f":"IF(I956=\"\",\"\",LARGE(H$1:H955,1)+1)","v":{"$error":"#VALUE!"}},{"$error":"#VALUE!"},955,{"$error":"#N/A"},"",null,null,955,0,{"$f":"IF(R956=\"\",\"\",LARGE(Q$1:Q955,1)+1)","v":{"$error":"#NUM!"}},{"$error":"#NUM!"},955,{"$error":"#N/A"},"","",null,null,0,{"$error":"#VALUE!"},3999,"","",null,null,null,null,{"$error":"#VALUE!"},{"$error":"#VALUE!"},{"$f":"COUNTIF('Standards LOOKUP'!B:B,AI956)","v":0},{"$f":"IFERROR(INDEX('Standards LOOKUP'!C:C,MATCH(AI956,'Standards LOOKUP'!B:B,0),0),0)","v":0},{"$f":"IFERROR(INDEX('Current Standards'!P:P,MATCH('Sheet Counter'!AI956,'Current Standards'!O:O,0),0),\"\")","v":""}]
[null,null,0,"","",{"$error":"#VALUE!"},"",{"$f":"IF(I957=\"\",\"\",LARGE(H$1:H956,1)+1)","v":{"$error":"#VALUE!"}},{"$error":"#VALUE!"},956,{"$error":"#N/A"},"",null,null,956,0,{"$f":"IF(R957=\"\",\"\",LARGE(Q$1:Q956,1)+1)","v":{"$error":"#NUM!"}},{"$error":"#NUM!"},956,{"$error":"#N/A"},"","",null,null,0,{"$error":"#VALUE!"},3999,"","",null,null,null,null,{"$error":"#VALUE!"},{"$error":"#VALUE!"},{"$f":"COUNTIF('Standards LOOKUP'!B:B,AI957)","v":0},{"$f":"IFERROR(INDEX('Standards LOOKUP'!C:C,MATCH(AI957,'Standards LOOKUP'!B:B,0),0),0)","v":0},{"$f":"IFERROR(INDEX('Current Standards'!P:P,MATCH('Sheet Counter'!AI957,'Current Standards'!O:O,0),0),\"\")","v":""}]
[null,null,0,"","",{"$error":"#VALUE!"},"",{"$f":"IF(I958=\"\",\"\",LARGE(H$1:H957,1)+1)","v":{"$error":"#VALUE!"}},{"$error":"#VALUE!"},957,{"$error":"#N/A"},"",null,null,957,0,{"$f":"IF(R958=\"\",\"\",LARGE(Q$1:Q957,1)+1)","v":{"$error":"#NUM!"}},{"$error":"#NUM!"},957,{"$error":"#N/A"},"","",null,null,0,{"$error":"#VALUE!"},3999,"","",null,null,null,null,{"$error":"#VALUE!"},{"$error":"#VALUE!"},{"$f":"COUNTIF('Standards LOOKUP'!B:B,AI958)","v":0},{"$f":"IFERROR(INDEX('Standards LOOKUP'!C:C,MATCH(AI958,'Standards LOOKUP'!B:B,0),0),0)","v":0},{"$f":"IFERROR(INDEX('Current Standards'!P:P,MATCH('Sheet Counter'!AI958,'Current Standards'!O:O,0),0),\"\")","v":""}]
[null,null,0,"","",{"$error":"#VALUE!"},"",{"$f":"IF(I959=\"\",\"\",LARGE(H$1:H958,1)+1)","v":{"$error":"#VALUE!"}},{"$error":"#VALUE!"},958,{"$error":"#N/A"},"",null,null,958,0,{"$f":"IF(R959=\"\",\"\",LARGE(Q$1:Q958,1)+1)","v":{"$error":"#NUM!"}},{"$error":"#NUM!"},958,{"$error":"#N/A"},"","",null,null,0,{"$error":"#VALUE!"},3999,"","",null,null,null,null,{"$error":"#VALUE!"},{"$error":"#VALUE!"},{"$f":"COUNTIF('Standards LOOKUP'!B:B,AI959)","v":0},{"$f":"IFERROR(INDEX('Standards LOOKUP'!C:C,MATCH(AI959,'Standards LOOKUP'!B:B,0),0),0)","v":0},{"$f":"IFERROR(INDEX('Current Standards'!P:P,MATCH('Sheet Counter'!AI959,'Current Standards'!O:O,0),0),\"\")","v":""}]
[null,null,0,"","",{"$error":"#VALUE!"},"",{"$f":"IF(I960=\"\",\"\",LARGE(H$1:H959,1)+1)","v":{"$error":"#VALUE!"}},{"$error":"#VALUE!"},959,{"$error":"#N/A"},"",null,null,959,0,{"$f":"IF(R960=\"\",\"\",LARGE(Q$1:Q959,1)+1)","v":{"$error":"#NUM!"}},{"$error":"#NUM!"},959,{"$error":"#N/A"},"","",null,null,0,{"$error":"#VALUE!"},3999,"","",null,null,null,null,{"$error":"#VALUE!"},{"$error":"#VALUE!"},{"$f":"COUNTIF('Standards LOOKUP'!B:B,AI960)","v":0},{"$f":"IFERROR(INDEX('Standards LOOKUP'!C:C,MATCH(AI960,'Standards LOOKUP'!B:B,0),0),0)","v":0},{"$f":"IFERROR(INDEX('Current Standards'!P:P,MATCH('Sheet Counter'!AI960,'Current Standards'!O:O,0),0),\"\")","v":""}]
[null,null,0,"","",{"$error":"#VALUE!"},"",{"$f":"IF(I961=\"\",\"\",LARGE(H$1:H960,1)+1)","v":{"$error":"#VALUE!"}},{"$error":"#VALUE!"},960,{"$error":"#N/A"},"",null,null,960,0,{"$f":"IF(R961=\"\",\"\",LARGE(Q$1:Q960,1)+1)","v":{"$error":"#NUM!"}},{"$error":"#NUM!"},960,{"$error":"#N/A"},"","",null,null,0,{"$error":"#VALUE!"},3999,"","",null,null,null,null,{"$error":"#VALUE!"},{"$error":"#VALUE!"},{"$f":"COUNTIF('Standards LOOKUP'!B:B,AI961)","v":0},{"$f":"IFERROR(INDEX('Standards LOOKUP'!C:C,MATCH(AI961,'Standards LOOKUP'!B:B,0),0),0)","v":0},{"$f":"IFERROR(INDEX('Current Standards'!P:P,MATCH('Sheet Counter'!AI961,'Current Standards'!O:O,0),0),\"\")","v":""}]
[null,null,0,"","",{"$error":"#VALUE!"},"",{"$f":"IF(I962=\"\",\"\",LARGE(H$1:H961,1)+1)","v":{"$error":"#VALUE!"}},{"$f":"IF(G962=\"\",F962,\"\")","v":{"$error":"#VALUE!"}},961,{"$error":"#N/A"},"",null,null,961,{"$f":"COUNTIF(G:G,O962)","v":0},{"$f":"IF(R962=\"\",\"\",LARGE(Q$1:Q961,1)+1)","v":{"$error":"#NUM!"}},{"$error":"#NUM!"},961,{"$error":"#N/A"},"","",null,null,0,{"$error":"#VALUE!"},3999,"","",null,null,null,null,{"$error":"#VALUE!"},{"$error":"#VALUE!"},{"$f":"COUNTIF('Standards LOOKUP'!B:B,AI962)","v":0},{"$f":"IFERROR(INDEX('Standards LOOKUP'!C:C,MATCH(AI962,'Standards LOOKUP'!B:B,0),0),0)","v":0},{"$f":"IFERROR(INDEX('Current Standards'!P:P,MATCH('Sheet Counter'!AI962,'Current Standards'!O:O,0),0),\"\")","v":""}]
[null,null,{"$f":"IF(ISERROR(FIND(\"\\\",A963)),A963,RIGHT(A963,LEN(A963)-FIND(\"~\",SUBSTITUTE(A963,\"\\\",\"~\",LEN(A963)-LEN(SUBSTITUTE(A963,\"\\\",\"\"))))))","v":0},{"$f":"IF(AL963=\"\",\"\",AL963)","v":""},"",{"$f":"LEFT(C963,FIND(\"-\",SUBSTITUTE(SUBSTITUTE(C963,\"_\",\"-\"),\" \",\"-\"))-1)","v":{"$error":"#VALUE!"}},{"$f":"IF(ISNUMBER(F963*1),F963*1,\"\")","v":""},{"$f":"IF(I963=\"\",\"\",LARGE(H$1:H962,1)+1)","v":{"$error":"#VALUE!"}},{"$error":"#VALUE!"},962,{"$error":"#N/A"},"",null,null,962,0,{"$f":"IF(R963=\"\",\"\",LARGE(Q$1:Q962,1)+1)","v":{"$error":"#NUM!"}},{"$error":"#NUM!"},962,{"$error":"#N/A"},"","",null,null,{"$f":"IF(ISERROR(FIND(\"\\\",X963)),X963,RIGHT(X963,LEN(X963)-FIND(\"~\",SUBSTITUTE(X963,\"\\\",\"~\",LEN(X963)-LEN(SUBSTITUTE(X963,\"\\\",\"\"))))))","v":0},{"$f":"LEFT(Y963,FIND(\"-\",SUBSTITUTE(SUBSTITUTE(Y963,\"_\",\"-\"),\" \",\"-\"))-1)","v":{"$error":"#VALUE!"}},{"$f":"COUNTIF(F:F,Z963)","v":3999},{"$f":"IF(OR(AA963<1,ISERROR(Z963)),\"\",INDEX(C:C,MATCH(Z963,F:F)))","v":""},{"$f":"IF(AA963=0,\"New Sheet\",IF(EXACT(UPPER(Y963),UPPER(AB963)),\"Match\",\"\"))","v":""},null,null,null,null,{"$f":"IF(C963=\"\",\"\",LEFT(RIGHT(C963,LEN(C963)-SEARCH(\" \",C963,1)),LEN(RIGHT(C963,LEN(C963)-SEARCH(\" \",C963,1)))-4))","v":{"$error":"#VALUE!"}},{"$f":"TRIM(SUBSTITUTE(SUBSTITUTE(SUBSTITUTE(SUBSTITUTE(SUBSTITUTE(SUBSTITUTE(AH963,\"(\",\"\"),\")\",\"\"),\"-\",\"\"),\"&\",\"\"),\" \",\"\",1),\" \",\"\",1))","v":{"$error":"#VALUE!"}},{"$f":"COUNTIF('Standards LOOKUP'!B:B,AI963)","v":0},{"$f":"IFERROR(INDEX('Standards LOOKUP'!C:C,MATCH(AI963,'Standards LOOKUP'!B:B,0),0),0)","v":0},{"$f":"IFERROR(INDEX('Current Standards'!P:P,MATCH('Sheet Counter'!AI963,'Current Standards'!O:O,0),0),\"\")","v":""}]
[null,null,0,"","",{"$error":"#VALUE!"},"",{"$f":"IF(I964=\"\",\"\",LARGE(H$1:H963,1)+1)","v":{"$error":"#VALUE!"}},{"$error":"#VALUE!"},963,{"$error":"#N/A"},"",null,null,963,0,{"$f":"IF(R964=\"\",\"\",LARGE(Q$1:Q963,1)+1)","v":{"$error":"#NUM!"}},{"$f":"IF(AND(P964<>1,O964<=LARGE(G:G,1),O964>=SMALL(G:G,1)),O964,\"\")","v":{"$error":"#NUM!"}},963,{"$error":"#N/A"},"","",null,null,0,{"$error":"#VALUE!"},3999,"","",null,null,null,null,{"$error":"#VALUE!"},{"$error":"#VALUE!"},{"$f":"COUNTIF('Standards LOOKUP'!B:B,AI964)","v":0},{"$f":"IFERROR(INDEX('Standards LOOKUP'!C:C,MATCH(AI964,'Standards LOOKUP'!B:B,0),0),0)","v":0},{"$f":"IFERROR(INDEX('Current Standards'!P:P,MATCH('Sheet Counter'!AI964,'Current Standards'!O:O,0),0),\"\")","v":""}]
[null,null,0,"","",{"$error":"#VALUE!"},"",{"$f":"IF(I965=\"\",\"\",LARGE(H$1:H964,1)+1)","v":{"$error":"#VALUE!"}},{"$error":"#VALUE!"},964,{"$error":"#N/A"},"",null,null,964,0,{"$f":"IF(R965=\"\",\"\",LARGE(Q$1:Q964,1)+1)","v":{"$error":"#NUM!"}},{"$error":"#NUM!"},964,{"$error":"#N/A"},"","",null,null,0,{"$error":"#VALUE!"},3999,"","",null,null,null,null,{"$error":"#VALUE!"},{"$error":"#VALUE!"},{"$f":"COUNTIF('Standards LOOKUP'!B:B,AI965)","v":0},{"$f":"IFERROR(INDEX('Standards LOOKUP'!C:C,MATCH(AI965,'Standards LOOKUP'!B:B,0),0),0)","v":0},{"$f":"IFERROR(INDEX('Current Standards'!P:P,MATCH('Sheet Counter'!AI965,'Current Standards'!O:O,0),0),\"\")","v":""}]
[null,null,0,"","",{"$error":"#VALUE!"},"",{"$f":"IF(I966=\"\",\"\",LARGE(H$1:H965,1)+1)","v":{"$error":"#VALUE!"}},{"$error":"#VALUE!"},965,{"$error":"#N/A"},"",null,null,965,0,{"$f":"IF(R966=\"\",\"\",LARGE(Q$1:Q965,1)+1)","v":{"$error":"#NUM!"}},{"$error":"#NUM!"},965,{"$error":"#N/A"},"","",null,null,0,{"$error":"#VALUE!"},3999,"","",null,null,null,null,{"$error":"#VALUE!"},{"$error":"#VALUE!"},{"$f":"COUNTIF('Standards LOOKUP'!B:B,AI966)","v":0},{"$f":"IFERROR(INDEX('Standards LOOKUP'!C:C,MATCH(AI966,'Standards LOOKUP'!B:B,0),0),0)","v":0},{"$f":"IFERROR(INDEX('Current Standards'!P:P,MATCH('Sheet Counter'!AI966,'Current Standards'!O:O,0),0),\"\")","v":""}]
[null,null,0,"","",{"$error":"#VALUE!"},"",{"$f":"IF(I967=\"\",\"\",LARGE(H$1:H966,1)+1)","v":{"$error":"#VALUE!"}},{"$error":"#VALUE!"},966,{"$error":"#N/A"},"",null,null,966,0,{"$f":"IF(R967=\"\",\"\",LARGE(Q$1:Q966,1)+1)","v":{"$error":"#NUM!"}},{"$error":"#NUM!"},966,{"$error":"#N/A"},"","",null,null,0,{"$error":"#VALUE!"},3999,"","",null,null,null,null,{"$error":"#VALUE!"},{"$error":"#VALUE!"},{"$f":"COUNTIF('Standards LOOKUP'!B:B,AI967)","v":0},{"$f":"IFERROR(INDEX('Standards LOOKUP'!C:C,MATCH(AI967,'Standards LOOKUP'!B:B,0),0),0)","v":0},{"$f":"IFERROR(INDEX('Current Standards'!P:P,MATCH('Sheet Counter'!AI967,'Current Standards'!O:O,0),0),\"\")","v":""}]
[null,null,0,"","",{"$error":"#VALUE!"},"",{"$f":"IF(I968=\"\",\"\",LARGE(H$1:H967,1)+1)","v":{"$error":"#VALUE!"}},{"$error":"#VALUE!"},967,{"$error":"#N/A"},"",null,null,967,0,{"$f":"IF(R968=\"\",\"\",LARGE(Q$1:Q967,1)+1)","v":{"$error":"#NUM!"}},{"$error":"#NUM!"},967,{"$error":"#N/A"},"","",null,null,0,{"$error":"#VALUE!"},3999,"","",null,null,null,null,{"$error":"#VALUE!"},{"$error":"#VALUE!"},{"$f":"COUNTIF('Standards LOOKUP'!B:B,AI968)","v":0},{"$f":"IFERROR(INDEX('Standards LOOKUP'!C:C,MATCH(AI968,'Standards LOOKUP'!B:B,0),0),0)","v":0},{"$f":"IFERROR(INDEX('Current Standards'!P:P,MATCH('Sheet Counter'!AI968,'Current Standards'!O:O,0),0),\"\")","v":""}]
[null,null,0,"","",{"$error":"#VALUE!"},"",{"$f":"IF(I969=\"\",\"\",LARGE(H$1:H968,1)+1)","v":{"$error":"#VALUE!"}},{"$error":"#VALUE!"},968,{"$error":"#N/A"},"",null,null,968,0,{"$f":"IF(R969=\"\",\"\",LARGE(Q$1:Q968,1)+1)","v":{"$error":"#NUM!"}},{"$error":"#NUM!"},968,{"$error":"#N/A"},"","",null,null,0,{"$error":"#VALUE!"},3999,"","",null,null,null,null,{"$error":"#VALUE!"},{"$error":"#VALUE!"},{"$f":"COUNTIF('Standards LOOKUP'!B:B,AI969)","v":0},{"$f":"IFERROR(INDEX('Standards LOOKUP'!C:C,MATCH(AI969,'Standards LOOKUP'!B:B,0),0),0)","v":0},{"$f":"IFERROR(INDEX('Current Standards'!P:P,MATCH('Sheet Counter'!AI969,'Current Standards'!O:O,0),0),\"\")","v":""}]
[null,null,0,"","",{"$error":"#VALUE!"},"",{"$f":"IF(I970=\"\",\"\",LARGE(H$1:H969,1)+1)","v":{"$error":"#VALUE!"}},{"$error":"#VALUE!"},969,{"$error":"#N/A"},"",null,null,969,0,{"$f":"IF(R970=\"\",\"\",LARGE(Q$1:Q969,1)+1)","v":{"$error":"#NUM!"}},{"$error":"#NUM!"},969,{"$error":"#N/A"},"","",null,null,0,{"$error":"#VALUE!"},3999,"","",null,null,null,null,{"$error":"#VALUE!"},{"$error":"#VALUE!"},{"$f":"COUNTIF('Standards LOOKUP'!B:B,AI970)","v":0},{"$f":"IFERROR(INDEX('Standards LOOKUP'!C:C,MATCH(AI970,'Standards LOOKUP'!B:B,0),0),0)","v":0},{"$f":"IFERROR(INDEX('Current Standards'!P:P,MATCH('Sheet Counter'!AI970,'Current Standards'!O:O,0),0),\"\")","v":""}]
[null,null,0,"","",{"$error":"#VALUE!"},"",{"$f":"IF(I971=\"\",\"\",LARGE(H$1:H970,1)+1)","v":{"$error":"#VALUE!"}},{"$error":"#VALUE!"},970,{"$error":"#N/A"},"",null,null,970,0,{"$f":"IF(R971=\"\",\"\",LARGE(Q$1:Q970,1)+1)","v":{"$error":"#NUM!"}},{"$error":"#NUM!"},970,{"$error":"#N/A"},"","",null,null,0,{"$error":"#VALUE!"},3999,"","",null,null,null,null,{"$error":"#VALUE!"},{"$error":"#VALUE!"},{"$f":"COUNTIF('Standards LOOKUP'!B:B,AI971)","v":0},{"$f":"IFERROR(INDEX('Standards LOOKUP'!C:C,MATCH(AI971,'Standards LOOKUP'!B:B,0),0),0)","v":0},{"$f":"IFERROR(INDEX('Current Standards'!P:P,MATCH('Sheet Counter'!AI971,'Current Standards'!O:O,0),0),\"\")","v":""}]
[null,null,0,"","",{"$error":"#VALUE!"},"",{"$f":"IF(I972=\"\",\"\",LARGE(H$1:H971,1)+1)","v":{"$error":"#VALUE!"}},{"$error":"#VALUE!"},971,{"$error":"#N/A"},"",null,null,971,0,{"$f":"IF(R972=\"\",\"\",LARGE(Q$1:Q971,1)+1)","v":{"$error":"#NUM!"}},{"$error":"#NUM!"},971,{"$error":"#N/A"},"","",null,null,0,{"$error":"#VALUE!"},3999,"","",null,null,null,null,{"$error":"#VALUE!"},{"$error":"#VALUE!"},{"$f":"COUNTIF('Standards LOOKUP'!B:B,AI972)","v":0},{"$f":"IFERROR(INDEX('Standards LOOKUP'!C:C,MATCH(AI972,'Standards LOOKUP'!B:B,0),0),0)","v":0},{"$f":"IFERROR(INDEX('Current Standards'!P:P,MATCH('Sheet Counter'!AI972,'Current Standards'!O:O,0),0),\"\")","v":""}]
[null,null,0,"","",{"$error":"#VALUE!"},"",{"$f":"IF(I973=\"\",\"\",LARGE(H$1:H972,1)+1)","v":{"$error":"#VALUE!"}},{"$error":"#VALUE!"},972,{"$error":"#N/A"},"",null,null,972,0,{"$f":"IF(R973=\"\",\"\",LARGE(Q$1:Q972,1)+1)","v":{"$error":"#NUM!"}},{"$error":"#NUM!"},972,{"$error":"#N/A"},"","",null,null,0,{"$error":"#VALUE!"},3999,"","",null,null,null,null,{"$error":"#VALUE!"},{"$error":"#VALUE!"},{"$f":"COUNTIF('Standards LOOKUP'!B:B,AI973)","v":0},{"$f":"IFERROR(INDEX('Standards LOOKUP'!C:C,MATCH(AI973,'Standards LOOKUP'!B:B,0),0),0)","v":0},{"$f":"IFERROR(INDEX('Current Standards'!P:P,MATCH('Sheet Counter'!AI973,'Current Standards'!O:O,0),0),\"\")","v":""}]
[null,null,0,"","",{"$error":"#VALUE!"},"",{"$f":"IF(I974=\"\",\"\",LARGE(H$1:H973,1)+1)","v":{"$error":"#VALUE!"}},{"$error":"#VALUE!"},973,{"$error":"#N/A"},"",null,null,973,0,{"$f":"IF(R974=\"\",\"\",LARGE(Q$1:Q973,1)+1)","v":{"$error":"#NUM!"}},{"$error":"#NUM!"},973,{"$error":"#N/A"},"","",null,null,0,{"$error":"#VALUE!"},3999,"","",null,null,null,null,{"$error":"#VALUE!"},{"$error":"#VALUE!"},{"$f":"COUNTIF('Standards LOOKUP'!B:B,AI974)","v":0},{"$f":"IFERROR(INDEX('Standards LOOKUP'!C:C,MATCH(AI974,'Standards LOOKUP'!B:B,0),0),0)","v":0},{"$f":"IFERROR(INDEX('Current Standards'!P:P,MATCH('Sheet Counter'!AI974,'Current Standards'!O:O,0),0),\"\")","v":""}]
[null,null,0,"","",{"$error":"#VALUE!"},"",{"$f":"IF(I975=\"\",\"\",LARGE(H$1:H974,1)+1)","v":{"$error":"#VALUE!"}},{"$error":"#VALUE!"},974,{"$error":"#N/A"},"",null,null,974,0,{"$f":"IF(R975=\"\",\"\",LARGE(Q$1:Q974,1)+1)","v":{"$error":"#NUM!"}},{"$error":"#NUM!"},974,{"$error":"#N/A"},"","",null,null,0,{"$error":"#VALUE!"},3999,"","",null,null,null,null,{"$error":"#VALUE!"},{"$error":"#VALUE!"},{"$f":"COUNTIF('Standards LOOKUP'!B:B,AI975)","v":0},{"$f":"IFERROR(INDEX('Standards LOOKUP'!C:C,MATCH(AI975,'Standards LOOKUP'!B:B,0),0),0)","v":0},{"$f":"IFERROR(INDEX('Current Standards'!P:P,MATCH('Sheet Counter'!AI975,'Current Standards'!O:O,0),0),\"\")","v":""}]
[null,null,0,"","",{"$error":"#VALUE!"},"",{"$f":"IF(I976=\"\",\"\",LARGE(H$1:H975,1)+1)","v":{"$error":"#VALUE!"}},{"$error":"#VALUE!"},975,{"$error":"#N/A"},"",null,null,975,0,{"$f":"IF(R976=\"\",\"\",LARGE(Q$1:Q975,1)+1)","v":{"$error":"#NUM!"}},{"$error":"#NUM!"},975,{"$error":"#N/A"},"","",null,null,0,{"$error":"#VALUE!"},3999,"","",null,null,null,null,{"$error":"#VALUE!"},{"$error":"#VALUE!"},{"$f":"COUNTIF('Standards LOOKUP'!B:B,AI976)","v":0},{"$f":"IFERROR(INDEX('Standards LOOKUP'!C:C,MATCH(AI976,'Standards LOOKUP'!B:B,0),0),0)","v":0},{"$f":"IFERROR(INDEX('Current Standards'!P:P,MATCH('Sheet Counter'!AI976,'Current Standards'!O:O,0),0),\"\")","v":""}]
[null,null,0,"","",{"$error":"#VALUE!"},"",{"$f":"IF(I977=\"\",\"\",LARGE(H$1:H976,1)+1)","v":{"$error":"#VALUE!"}},{"$error":"#VALUE!"},976,{"$error":"#N/A"},"",null,null,976,0,{"$f":"IF(R977=\"\",\"\",LARGE(Q$1:Q976,1)+1)","v":{"$error":"#NUM!"}},{"$error":"#NUM!"},976,{"$error":"#N/A"},"","",null,null,0,{"$error":"#VALUE!"},3999,"","",null,null,null,null,{"$error":"#VALUE!"},{"$error":"#VALUE!"},{"$f":"COUNTIF('Standards LOOKUP'!B:B,AI977)","v":0},{"$f":"IFERROR(INDEX('Standards LOOKUP'!C:C,MATCH(AI977,'Standards LOOKUP'!B:B,0),0),0)","v":0},{"$f":"IFERROR(INDEX('Current Standards'!P:P,MATCH('Sheet Counter'!AI977,'Current Standards'!O:O,0),0),\"\")","v":""}]
[null,null,0,"","",{"$error":"#VALUE!"},"",{"$f":"IF(I978=\"\",\"\",LARGE(H$1:H977,1)+1)","v":{"$error":"#VALUE!"}},{"$error":"#VALUE!"},977,{"$error":"#N/A"},"",null,null,977,0,{"$f":"IF(R978=\"\",\"\",LARGE(Q$1:Q977,1)+1)","v":{"$error":"#NUM!"}},{"$error":"#NUM!"},977,{"$error":"#N/A"},"","",null,null,0,{"$error":"#VALUE!"},3999,"","",null,null,null,null,{"$error":"#VALUE!"},{"$error":"#VALUE!"},{"$f":"COUNTIF('Standards LOOKUP'!B:B,AI978)","v":0},{"$f":"IFERROR(INDEX('Standards LOOKUP'!C:C,MATCH(AI978,'Standards LOOKUP'!B:B,0),0),0)","v":0},{"$f":"IFERROR(INDEX('Current Standards'!P:P,MATCH('Sheet Counter'!AI978,'Current Standards'!O:O,0),0),\"\")","v":""}]
[null,null,0,"","",{"$error":"#VALUE!"},"",{"$f":"IF(I979=\"\",\"\",LARGE(H$1:H978,1)+1)","v":{"$error":"#VALUE!"}},{"$error":"#VALUE!"},978,{"$error":"#N/A"},"",null,null,978,0,{"$f":"IF(R979=\"\",\"\",LARGE(Q$1:Q978,1)+1)","v":{"$error":"#NUM!"}},{"$error":"#NUM!"},978,{"$error":"#N/A"},"","",null,null,0,{"$error":"#VALUE!"},3999,"","",null,null,null,null,{"$error":"#VALUE!"},{"$error":"#VALUE!"},{"$f":"COUNTIF('Standards LOOKUP'!B:B,AI979)","v":0},{"$f":"IFERROR(INDEX('Standards LOOKUP'!C:C,MATCH(AI979,'Standards LOOKUP'!B:B,0),0),0)","v":0},{"$f":"IFERROR(INDEX('Current Standards'!P:P,MATCH('Sheet Counter'!AI979,'Current Standards'!O:O,0),0),\"\")","v":""}]
[null,null,0,"","",{"$error":"#VALUE!"},"",{"$f":"IF(I980=\"\",\"\",LARGE(H$1:H979,1)+1)","v":{"$error":"#VALUE!"}},{"$error":"#VALUE!"},979,{"$error":"#N/A"},"",null,null,979,0,{"$f":"IF(R980=\"\",\"\",LARGE(Q$1:Q979,1)+1)","v":{"$error":"#NUM!"}},{"$error":"#NUM!"},979,{"$error":"#N/A"},"","",null,null,0,{"$error":"#VALUE!"},3999,"","",null,null,null,null,{"$error":"#VALUE!"},{"$error":"#VALUE!"},{"$f":"COUNTIF('Standards LOOKUP'!B:B,AI980)","v":0},{"$f":"IFERROR(INDEX('Standards LOOKUP'!C:C,MATCH(AI980,'Standards LOOKUP'!B:B,0),0),0)","v":0},{"$f":"IFERROR(INDEX('Current Standards'!P:P,MATCH('Sheet Counter'!AI980,'Current Standards'!O:O,0),0),\"\")","v":""}]
[null,null,0,"","",{"$error":"#VALUE!"},"",{"$f":"IF(I981=\"\",\"\",LARGE(H$1:H980,1)+1)","v":{"$error":"#VALUE!"}},{"$error":"#VALUE!"},980,{"$error":"#N/A"},"",null,null,980,0,{"$f":"IF(R981=\"\",\"\",LARGE(Q$1:Q980,1)+1)","v":{"$error":"#NUM!"}},{"$error":"#NUM!"},980,{"$error":"#N/A"},"","",null,null,0,{"$error":"#VALUE!"},3999,"","",null,null,null,null,{"$error":"#VALUE!"},{"$error":"#VALUE!"},{"$f":"COUNTIF('Standards LOOKUP'!B:B,AI981)","v":0},{"$f":"IFERROR(INDEX('Standards LOOKUP'!C:C,MATCH(AI981,'Standards LOOKUP'!B:B,0),0),0)","v":0},{"$f":"IFERROR(INDEX('Current Standards'!P:P,MATCH('Sheet Counter'!AI981,'Current Standards'!O:O,0),0),\"\")","v":""}]
[null,null,0,"","",{"$error":"#VALUE!"},"",{"$f":"IF(I982=\"\",\"\",LARGE(H$1:H981,1)+1)","v":{"$error":"#VALUE!"}},{"$error":"#VALUE!"},981,{"$error":"#N/A"},"",null,null,981,0,{"$f":"IF(R982=\"\",\"\",LARGE(Q$1:Q981,1)+1)","v":{"$error":"#NUM!"}},{"$error":"#NUM!"},981,{"$error":"#N/A"},"","",null,null,0,{"$error":"#VALUE!"},3999,"","",null,null,null,null,{"$error":"#VALUE!"},{"$error":"#VALUE!"},{"$f":"COUNTIF('Standards LOOKUP'!B:B,AI982)","v":0},{"$f":"IFERROR(INDEX('Standards LOOKUP'!C:C,MATCH(AI982,'Standards LOOKUP'!B:B,0),0),0)","v":0},{"$f":"IFERROR(INDEX('Current Standards'!P:P,MATCH('Sheet Counter'!AI982,'Current Standards'!O:O,0),0),\"\")","v":""}]
[null,null,0,"","",{"$error":"#VALUE!"},"",{"$f":"IF(I983=\"\",\"\",LARGE(H$1:H982,1)+1)","v":{"$error":"#VALUE!"}},{"$error":"#VALUE!"},982,{"$error":"#N/A"},"",null,null,982,0,{"$f":"IF(R983=\"\",\"\",LARGE(Q$1:Q982,1)+1)","v":{"$error":"#NUM!"}},{"$error":"#NUM!"},982,{"$error":"#N/A"},"","",null,null,0,{"$error":"#VALUE!"},3999,"","",null,null,null,null,{"$error":"#VALUE!"},{"$error":"#VALUE!"},{"$f":"COUNTIF('Standards LOOKUP'!B:B,AI983)","v":0},{"$f":"IFERROR(INDEX('Standards LOOKUP'!C:C,MATCH(AI983,'Standards LOOKUP'!B:B,0),0),0)","v":0},{"$f":"IFERROR(INDEX('Current Standards'!P:P,MATCH('Sheet Counter'!AI983,'Current Standards'!O:O,0),0),\"\")","v":""}]
[null,null,0,"","",{"$error":"#VALUE!"},"",{"$f":"IF(I984=\"\",\"\",LARGE(H$1:H983,1)+1)","v":{"$error":"#VALUE!"}},{"$error":"#VALUE!"},983,{"$error":"#N/A"},"",null,null,983,0,{"$f":"IF(R984=\"\",\"\",LARGE(Q$1:Q983,1)+1)","v":{"$error":"#NUM!"}},{"$error":"#NUM!"},983,{"$error":"#N/A"},"","",null,null,0,{"$error":"#VALUE!"},3999,"","",null,null,null,null,{"$error":"#VALUE!"},{"$error":"#VALUE!"},{"$f":"COUNTIF('Standards LOOKUP'!B:B,AI984)","v":0},{"$f":"IFERROR(INDEX('Standards LOOKUP'!C:C,MATCH(AI984,'Standards LOOKUP'!B:B,0),0),0)","v":0},{"$f":"IFERROR(INDEX('Current Standards'!P:P,MATCH('Sheet Counter'!AI984,'Current Standards'!O:O,0),0),\"\")","v":""}]
[null,null,0,"","",{"$error":"#VALUE!"},"",{"$f":"IF(I985=\"\",\"\",LARGE(H$1:H984,1)+1)","v":{"$error":"#VALUE!"}},{"$error":"#VALUE!"},984,{"$error":"#N/A"},"",null,null,984,0,{"$f":"IF(R985=\"\",\"\",LARGE(Q$1:Q984,1)+1)","v":{"$error":"#NUM!"}},{"$error":"#NUM!"},984,{"$error":"#N/A"},"","",null,null,0,{"$error":"#VALUE!"},3999,"","",null,null,null,null,{"$error":"#VALUE!"},{"$error":"#VALUE!"},{"$f":"COUNTIF('Standards LOOKUP'!B:B,AI985)","v":0},{"$f":"IFERROR(INDEX('Standards LOOKUP'!C:C,MATCH(AI985,'Standards LOOKUP'!B:B,0),0),0)","v":0},{"$f":"IFERROR(INDEX('Current Standards'!P:P,MATCH('Sheet Counter'!AI985,'Current Standards'!O:O,0),0),\"\")","v":""}]
[null,null,0,"","",{"$error":"#VALUE!"},"",{"$f":"IF(I986=\"\",\"\",LARGE(H$1:H985,1)+1)","v":{"$error":"#VALUE!"}},{"$error":"#VALUE!"},985,{"$error":"#N/A"},"",null,null,985,0,{"$f":"IF(R986=\"\",\"\",LARGE(Q$1:Q985,1)+1)","v":{"$error":"#NUM!"}},{"$error":"#NUM!"},985,{"$error":"#N/A"},"","",null,null,0,{"$error":"#VALUE!"},3999,"","",null,null,null,null,{"$error":"#VALUE!"},{"$error":"#VALUE!"},{"$f":"COUNTIF('Standards LOOKUP'!B:B,AI986)","v":0},{"$f":"IFERROR(INDEX('Standards LOOKUP'!C:C,MATCH(AI986,'Standards LOOKUP'!B:B,0),0),0)","v":0},{"$f":"IFERROR(INDEX('Current Standards'!P:P,MATCH('Sheet Counter'!AI986,'Current Standards'!O:O,0),0),\"\")","v":""}]
[null,null,0,"","",{"$error":"#VALUE!"},"",{"$f":"IF(I987=\"\",\"\",LARGE(H$1:H986,1)+1)","v":{"$error":"#VALUE!"}},{"$error":"#VALUE!"},986,{"$error":"#N/A"},"",null,null,986,0,{"$f":"IF(R987=\"\",\"\",LARGE(Q$1:Q986,1)+1)","v":{"$error":"#NUM!"}},{"$error":"#NUM!"},986,{"$error":"#N/A"},"","",null,null,0,{"$error":"#VALUE!"},3999,"","",null,null,null,null,{"$error":"#VALUE!"},{"$error":"#VALUE!"},{"$f":"COUNTIF('Standards LOOKUP'!B:B,AI987)","v":0},{"$f":"IFERROR(INDEX('Standards LOOKUP'!C:C,MATCH(AI987,'Standards LOOKUP'!B:B,0),0),0)","v":0},{"$f":"IFERROR(INDEX('Current Standards'!P:P,MATCH('Sheet Counter'!AI987,'Current Standards'!O:O,0),0),\"\")","v":""}]
[null,null,0,"","",{"$error":"#VALUE!"},"",{"$f":"IF(I988=\"\",\"\",LARGE(H$1:H987,1)+1)","v":{"$error":"#VALUE!"}},{"$error":"#VALUE!"},987,{"$error":"#N/A"},"",null,null,987,0,{"$f":"IF(R988=\"\",\"\",LARGE(Q$1:Q987,1)+1)","v":{"$error":"#NUM!"}},{"$error":"#NUM!"},987,{"$error":"#N/A"},"","",null,null,0,{"$error":"#VALUE!"},3999,"","",null,null,null,null,{"$error":"#VALUE!"},{"$error":"#VALUE!"},{"$f":"COUNTIF('Standards LOOKUP'!B:B,AI988)","v":0},{"$f":"IFERROR(INDEX('Standards LOOKUP'!C:C,MATCH(AI988,'Standards LOOKUP'!B:B,0),0),0)","v":0},{"$f":"IFERROR(INDEX('Current Standards'!P:P,MATCH('Sheet Counter'!AI988,'Current Standards'!O:O,0),0),\"\")","v":""}]
[null,null,0,"","",{"$error":"#VALUE!"},"",{"$f":"IF(I989=\"\",\"\",LARGE(H$1:H988,1)+1)","v":{"$error":"#VALUE!"}},{"$error":"#VALUE!"},988,{"$error":"#N/A"},"",null,null,988,0,{"$f":"IF(R989=\"\",\"\",LARGE(Q$1:Q988,1)+1)","v":{"$error":"#NUM!"}},{"$error":"#NUM!"},988,{"$error":"#N/A"},"","",null,null,0,{"$error":"#VALUE!"},3999,"","",null,null,null,null,{"$error":"#VALUE!"},{"$error":"#VALUE!"},{"$f":"COUNTIF('Standards LOOKUP'!B:B,AI989)","v":0},{"$f":"IFERROR(INDEX('Standards LOOKUP'!C:C,MATCH(AI989,'Standards LOOKUP'!B:B,0),0),0)","v":0},{"$f":"IFERROR(INDEX('Current Standards'!P:P,MATCH('Sheet Counter'!AI989,'Current Standards'!O:O,0),0),\"\")","v":""}]
[null,null,0,"","",{"$error":"#VALUE!"},"",{"$f":"IF(I990=\"\",\"\",LARGE(H$1:H989,1)+1)","v":{"$error":"#VALUE!"}},{"$error":"#VALUE!"},989,{"$error":"#N/A"},"",null,null,989,0,{"$f":"IF(R990=\"\",\"\",LARGE(Q$1:Q989,1)+1)","v":{"$error":"#NUM!"}},{"$error":"#NUM!"},989,{"$error":"#N/A"},"","",null,null,0,{"$error":"#VALUE!"},3999,"","",null,null,null,null,{"$error":"#VALUE!"},{"$error":"#VALUE!"},{"$f":"COUNTIF('Standards LOOKUP'!B:B,AI990)","v":0},{"$f":"IFERROR(INDEX('Standards LOOKUP'!C:C,MATCH(AI990,'Standards LOOKUP'!B:B,0),0),0)","v":0},{"$f":"IFERROR(INDEX('Current Standards'!P:P,MATCH('Sheet Counter'!AI990,'Current Standards'!O:O,0),0),\"\")","v":""}]
[null,null,0,"","",{"$error":"#VALUE!"},"",{"$f":"IF(I991=\"\",\"\",LARGE(H$1:H990,1)+1)","v":{"$error":"#VALUE!"}},{"$error":"#VALUE!"},990,{"$error":"#N/A"},"",null,null,990,0,{"$f":"IF(R991=\"\",\"\",LARGE(Q$1:Q990,1)+1)","v":{"$error":"#NUM!"}},{"$error":"#NUM!"},990,{"$error":"#N/A"},"","",null,null,0,{"$error":"#VALUE!"},3999,"","",null,null,null,null,{"$error":"#VALUE!"},{"$error":"#VALUE!"},{"$f":"COUNTIF('Standards LOOKUP'!B:B,AI991)","v":0},{"$f":"IFERROR(INDEX('Standards LOOKUP'!C:C,MATCH(AI991,'Standards LOOKUP'!B:B,0),0),0)","v":0},{"$f":"IFERROR(INDEX('Current Standards'!P:P,MATCH('Sheet Counter'!AI991,'Current Standards'!O:O,0),0),\"\")","v":""}]
[null,null,0,"","",{"$error":"#VALUE!"},"",{"$f":"IF(I992=\"\",\"\",LARGE(H$1:H991,1)+1)","v":{"$error":"#VALUE!"}},{"$error":"#VALUE!"},991,{"$error":"#N/A"},"",null,null,991,0,{"$f":"IF(R992=\"\",\"\",LARGE(Q$1:Q991,1)+1)","v":{"$error":"#NUM!"}},{"$error":"#NUM!"},991,{"$error":"#N/A"},"","",null,null,0,{"$error":"#VALUE!"},3999,"","",null,null,null,null,{"$error":"#VALUE!"},{"$error":"#VALUE!"},{"$f":"COUNTIF('Standards LOOKUP'!B:B,AI992)","v":0},{"$f":"IFERROR(INDEX('Standards LOOKUP'!C:C,MATCH(AI992,'Standards LOOKUP'!B:B,0),0),0)","v":0},{"$f":"IFERROR(INDEX('Current Standards'!P:P,MATCH('Sheet Counter'!AI992,'Current Standards'!O:O,0),0),\"\")","v":""}]
[null,null,0,"","",{"$error":"#VALUE!"},"",{"$f":"IF(I993=\"\",\"\",LARGE(H$1:H992,1)+1)","v":{"$error":"#VALUE!"}},{"$error":"#VALUE!"},992,{"$error":"#N/A"},"",null,null,992,0,{"$f":"IF(R993=\"\",\"\",LARGE(Q$1:Q992,1)+1)","v":{"$error":"#NUM!"}},{"$error":"#NUM!"},992,{"$error":"#N/A"},"","",null,null,0,{"$error":"#VALUE!"},3999,"","",null,null,null,null,{"$error":"#VALUE!"},{"$error":"#VALUE!"},{"$f":"COUNTIF('Standards LOOKUP'!B:B,AI993)","v":0},{"$f":"IFERROR(INDEX('Standards LOOKUP'!C:C,MATCH(AI993,'Standards LOOKUP'!B:B,0),0),0)","v":0},{"$f":"IFERROR(INDEX('Current Standards'!P:P,MATCH('Sheet Counter'!AI993,'Current Standards'!O:O,0),0),\"\")","v":""}]
[null,null,0,"","",{"$error":"#VALUE!"},"",{"$f":"IF(I994=\"\",\"\",LARGE(H$1:H993,1)+1)","v":{"$error":"#VALUE!"}},{"$error":"#VALUE!"},993,{"$error":"#N/A"},"",null,null,993,0,{"$f":"IF(R994=\"\",\"\",LARGE(Q$1:Q993,1)+1)","v":{"$error":"#NUM!"}},{"$error":"#NUM!"},993,{"$error":"#N/A"},"","",null,null,0,{"$error":"#VALUE!"},3999,"","",null,null,null,null,{"$error":"#VALUE!"},{"$error":"#VALUE!"},{"$f":"COUNTIF('Standards LOOKUP'!B:B,AI994)","v":0},{"$f":"IFERROR(INDEX('Standards LOOKUP'!C:C,MATCH(AI994,'Standards LOOKUP'!B:B,0),0),0)","v":0},{"$f":"IFERROR(INDEX('Current Standards'!P:P,MATCH('Sheet Counter'!AI994,'Current Standards'!O:O,0),0),\"\")","v":""}]
[null,null,0,"","",{"$error":"#VALUE!"},"",{"$f":"IF(I995=\"\",\"\",LARGE(H$1:H994,1)+1)","v":{"$error":"#VALUE!"}},{"$error":"#VALUE!"},994,{"$error":"#N/A"},"",null,null,994,0,{"$f":"IF(R995=\"\",\"\",LARGE(Q$1:Q994,1)+1)","v":{"$error":"#NUM!"}},{"$error":"#NUM!"},994,{"$error":"#N/A"},"","",null,null,0,{"$error":"#VALUE!"},3999,"","",null,null,null,null,{"$error":"#VALUE!"},{"$error":"#VALUE!"},{"$f":"COUNTIF('Standards LOOKUP'!B:B,AI995)","v":0},{"$f":"IFERROR(INDEX('Standards LOOKUP'!C:C,MATCH(AI995,'Standards LOOKUP'!B:B,0),0),0)","v":0},{"$f":"IFERROR(INDEX('Current Standards'!P:P,MATCH('Sheet Counter'!AI995,'Current Standards'!O:O,0),0),\"\")","v":""}]
[null,null,0,"","",{"$error":"#VALUE!"},"",{"$f":"IF(I996=\"\",\"\",LARGE(H$1:H995,1)+1)","v":{"$error":"#VALUE!"}},{"$error":"#VALUE!"},995,{"$error":"#N/A"},"",null,null,995,0,{"$f":"IF(R996=\"\",\"\",LARGE(Q$1:Q995,1)+1)","v":{"$error":"#NUM!"}},{"$error":"#NUM!"},995,{"$error":"#N/A"},"","",null,null,0,{"$error":"#VALUE!"},3999,"","",null,null,null,null,{"$error":"#VALUE!"},{"$error":"#VALUE!"},{"$f":"COUNTIF('Standards LOOKUP'!B:B,AI996)","v":0},{"$f":"IFERROR(INDEX('Standards LOOKUP'!C:C,MATCH(AI996,'Standards LOOKUP'!B:B,0),0),0)","v":0},{"$f":"IFERROR(INDEX('Current Standards'!P:P,MATCH('Sheet Counter'!AI996,'Current Standards'!O:O,0),0),\"\")","v":""}]
[null,null,0,"","",{"$error":"#VALUE!"},"",{"$f":"IF(I997=\"\",\"\",LARGE(H$1:H996,1)+1)","v":{"$error":"#VALUE!"}},{"$error":"#VALUE!"},996,{"$error":"#N/A"},"",null,null,996,0,{"$f":"IF(R997=\"\",\"\",LARGE(Q$1:Q996,1)+1)","v":{"$error":"#NUM!"}},{"$error":"#NUM!"},996,{"$error":"#N/A"},"","",null,null,0,{"$error":"#VALUE!"},3999,"","",null,null,null,null,{"$error":"#VALUE!"},{"$error":"#VALUE!"},{"$f":"COUNTIF('Standards LOOKUP'!B:B,AI997)","v":0},{"$f":"IFERROR(INDEX('Standards LOOKUP'!C:C,MATCH(AI997,'Standards LOOKUP'!B:B,0),0),0)","v":0},{"$f":"IFERROR(INDEX('Current Standards'!P:P,MATCH('Sheet Counter'!AI997,'Current Standards'!O:O,0),0),\"\")","v":""}]
[null,null,0,"","",{"$error":"#VALUE!"},"",{"$f":"IF(I998=\"\",\"\",LARGE(H$1:H997,1)+1)","v":{"$error":"#VALUE!"}},{"$error":"#VALUE!"},997,{"$error":"#N/A"},"",null,null,997,0,{"$f":"IF(R998=\"\",\"\",LARGE(Q$1:Q997,1)+1)","v":{"$error":"#NUM!"}},{"$error":"#NUM!"},997,{"$error":"#N/A"},"","",null,null,0,{"$error":"#VALUE!"},3999,"","",null,null,null,null,{"$error":"#VALUE!"},{"$error":"#VALUE!"},{"$f":"COUNTIF('Standards LOOKUP'!B:B,AI998)","v":0},{"$f":"IFERROR(INDEX('Standards LOOKUP'!C:C,MATCH(AI998,'Standards LOOKUP'!B:B,0),0),0)","v":0},{"$f":"IFERROR(INDEX('Current Standards'!P:P,MATCH('Sheet Counter'!AI998,'Current Standards'!O:O,0),0),\"\")","v":""}]
[null,null,0,"","",{"$error":"#VALUE!"},"",{"$f":"IF(I999=\"\",\"\",LARGE(H$1:H998,1)+1)","v":{"$error":"#VALUE!"}},{"$error":"#VALUE!"},998,{"$error":"#N/A"},"",null,null,998,0,{"$f":"IF(R999=\"\",\"\",LARGE(Q$1:Q998,1)+1)","v":{"$error":"#NUM!"}},{"$error":"#NUM!"},998,{"$error":"#N/A"},"","",null,null,0,{"$error":"#VALUE!"},3999,"","",null,null,null,null,{"$error":"#VALUE!"},{"$error":"#VALUE!"},{"$f":"COUNTIF('Standards LOOKUP'!B:B,AI999)","v":0},{"$f":"IFERROR(INDEX('Standards LOOKUP'!C:C,MATCH(AI999,'Standards LOOKUP'!B:B,0),0),0)","v":0},{"$f":"IFERROR(INDEX('Current Standards'!P:P,MATCH('Sheet Counter'!AI999,'Current Standards'!O:O,0),0),\"\")","v":""}]
[null,null,0,"","",{"$error":"#VALUE!"},"",{"$f":"IF(I1000=\"\",\"\",LARGE(H$1:H999,1)+1)","v":{"$error":"#VALUE!"}},{"$error":"#VALUE!"},999,{"$error":"#N/A"},"",null,null,999,0,{"$f":"IF(R1000=\"\",\"\",LARGE(Q$1:Q999,1)+1)","v":{"$error":"#NUM!"}},{"$error":"#NUM!"},999,{"$error":"#N/A"},"","",null,null,0,{"$error":"#VALUE!"},3999,"","",null,null,null,null,{"$error":"#VALUE!"},{"$error":"#VALUE!"},{"$f":"COUNTIF('Standards LOOKUP'!B:B,AI1000)","v":0},{"$f":"IFERROR(INDEX('Standards LOOKUP'!C:C,MATCH(AI1000,'Standards LOOKUP'!B:B,0),0),0)","v":0},{"$f":"IFERROR(INDEX('Current Standards'!P:P,MATCH('Sheet Counter'!AI1000,'Current Standards'!O:O,0),0),\"\")","v":""}]
[null,null,0,"","",{"$error":"#VALUE!"},"",{"$f":"IF(I1002=\"\",\"\",LARGE(H$1:H1001,1)+1)","v":{"$error":"#VALUE!"}},{"$error":"#VALUE!"},1001,{"$error":"#N/A"},"",null,null,1001,0,{"$f":"IF(R1002=\"\",\"\",LARGE(Q$1:Q1001,1)+1)","v":{"$error":"#NUM!"}},{"$error":"#NUM!"},1001,{"$error":"#N/A"},"","",null,null,0,{"$error":"#VALUE!"},3999,"","",null,null,null,null,{"$error":"#VALUE!"},{"$error":"#VALUE!"},{"$f":"COUNTIF('Standards LOOKUP'!B:B,AI1002)","v":0},{"$f":"IFERROR(INDEX('Standards LOOKUP'!C:C,MATCH(AI1002,'Standards LOOKUP'!B:B,0),0),0)","v":0},{"$f":"IFERROR(INDEX('Current Standards'!P:P,MATCH('Sheet Counter'!AI1002,'Current Standards'!O:O,0),0),\"\")","v":""}]
[null,null,0,"","",{"$error":"#VALUE!"},"",{"$f":"IF(I1004=\"\",\"\",LARGE(H$1:H1003,1)+1)","v":{"$error":"#VALUE!"}},{"$error":"#VALUE!"},1003,{"$error":"#N/A"},"",null,null,1003,0,{"$f":"IF(R1004=\"\",\"\",LARGE(Q$1:Q1003,1)+1)","v":{"$error":"#NUM!"}},{"$error":"#NUM!"},1003,{"$error":"#N/A"},"","",null,null,0,{"$error":"#VALUE!"},3999,"","",null,null,null,null,{"$error":"#VALUE!"},{"$error":"#VALUE!"},{"$f":"COUNTIF('Standards LOOKUP'!B:B,AI1004)","v":0},{"$f":"IFERROR(INDEX('Standards LOOKUP'!C:C,MATCH(AI1004,'Standards LOOKUP'!B:B,0),0),0)","v":0},{"$f":"IFERROR(INDEX('Current Standards'!P:P,MATCH('Sheet Counter'!AI1004,'Current Standards'!O:O,0),0),\"\")","v":""}]
[null,null,0,"","",{"$error":"#VALUE!"},"",{"$f":"IF(I1007=\"\",\"\",LARGE(H$1:H1006,1)+1)","v":{"$error":"#VALUE!"}},{"$error":"#VALUE!"},1006,{"$error":"#N/A"},"",null,null,1006,0,{"$f":"IF(R1007=\"\",\"\",LARGE(Q$1:Q1006,1)+1)","v":{"$error":"#NUM!"}},{"$error":"#NUM!"},1006,{"$error":"#N/A"},"","",null,null,0,{"$error":"#VALUE!"},3999,"","",null,null,null,null,{"$error":"#VALUE!"},{"$error":"#VALUE!"},{"$f":"COUNTIF('Standards LOOKUP'!B:B,AI1007)","v":0},{"$f":"IFERROR(INDEX('Standards LOOKUP'!C:C,MATCH(AI1007,'Standards LOOKUP'!B:B,0),0),0)","v":0},{"$f":"IFERROR(INDEX('Current Standards'!P:P,MATCH('Sheet Counter'!AI1007,'Current Standards'!O:O,0),0),\"\")","v":""}]
[null,null,0,"","",{"$error":"#VALUE!"},"",{"$f":"IF(I1011=\"\",\"\",LARGE(H$1:H1010,1)+1)","v":{"$error":"#VALUE!"}},{"$error":"#VALUE!"},1010,{"$error":"#N/A"},"",null,null,1010,0,{"$f":"IF(R1011=\"\",\"\",LARGE(Q$1:Q1010,1)+1)","v":{"$error":"#NUM!"}},{"$error":"#NUM!"},1010,{"$error":"#N/A"},"","",null,null,0,{"$error":"#VALUE!"},3999,"","",null,null,null,null,{"$error":"#VALUE!"},{"$error":"#VALUE!"},{"$f":"COUNTIF('Standards LOOKUP'!B:B,AI1011)","v":0},{"$f":"IFERROR(INDEX('Standards LOOKUP'!C:C,MATCH(AI1011,'Standards LOOKUP'!B:B,0),0),0)","v":0},{"$f":"IFERROR(INDEX('Current Standards'!P:P,MATCH('Sheet Counter'!AI1011,'Current Standards'!O:O,0),0),\"\")","v":""}]
[null,null,0,"","",{"$error":"#VALUE!"},"",{"$f":"IF(I1013=\"\",\"\",LARGE(H$1:H1012,1)+1)","v":{"$error":"#VALUE!"}},{"$error":"#VALUE!"},1012,{"$error":"#N/A"},"",null,null,1012,0,{"$f":"IF(R1013=\"\",\"\",LARGE(Q$1:Q1012,1)+1)","v":{"$error":"#NUM!"}},{"$error":"#NUM!"},1012,{"$error":"#N/A"},"","",null,null,0,{"$error":"#VALUE!"},3999,"","",null,null,null,null,{"$error":"#VALUE!"},{"$error":"#VALUE!"},{"$f":"COUNTIF('Standards LOOKUP'!B:B,AI1013)","v":0},{"$f":"IFERROR(INDEX('Standards LOOKUP'!C:C,MATCH(AI1013,'Standards LOOKUP'!B:B,0),0),0)","v":0},{"$f":"IFERROR(INDEX('Current Standards'!P:P,MATCH('Sheet Counter'!AI1013,'Current Standards'!O:O,0),0),\"\")","v":""}]
[null,null,0,"","",{"$error":"#VALUE!"},"",{"$f":"IF(I1016=\"\",\"\",LARGE(H$1:H1015,1)+1)","v":{"$error":"#VALUE!"}},{"$error":"#VALUE!"},1015,{"$error":"#N/A"},"",null,null,1015,0,{"$f":"IF(R1016=\"\",\"\",LARGE(Q$1:Q1015,1)+1)","v":{"$error":"#NUM!"}},{"$error":"#NUM!"},1015,{"$error":"#N/A"},"","",null,null,0,{"$error":"#VALUE!"},3999,"","",null,null,null,null,{"$error":"#VALUE!"},{"$error":"#VALUE!"},{"$f":"COUNTIF('Standards LOOKUP'!B:B,AI1016)","v":0},{"$f":"IFERROR(INDEX('Standards LOOKUP'!C:C,MATCH(AI1016,'Standards LOOKUP'!B:B,0),0),0)","v":0},{"$f":"IFERROR(INDEX('Current Standards'!P:P,MATCH('Sheet Counter'!AI1016,'Current Standards'!O:O,0),0),\"\")","v":""}]
[null,null,0,"","",{"$error":"#VALUE!"},"",{"$f":"IF(I1017=\"\",\"\",LARGE(H$1:H1016,1)+1)","v":{"$error":"#VALUE!"}},{"$error":"#VALUE!"},1016,{"$error":"#N/A"},"",null,null,1016,0,{"$f":"IF(R1017=\"\",\"\",LARGE(Q$1:Q1016,1)+1)","v":{"$error":"#NUM!"}},{"$error":"#NUM!"},1016,{"$error":"#N/A"},"","",null,null,0,{"$error":"#VALUE!"},3999,"","",null,null,null,null,{"$error":"#VALUE!"},{"$error":"#VALUE!"},{"$f":"COUNTIF('Standards LOOKUP'!B:B,AI1017)","v":0},{"$f":"IFERROR(INDEX('Standards LOOKUP'!C:C,MATCH(AI1017,'Standards LOOKUP'!B:B,0),0),0)","v":0},{"$f":"IFERROR(INDEX('Current Standards'!P:P,MATCH('Sheet Counter'!AI1017,'Current Standards'!O:O,0),0),\"\")","v":""}]
[null,null,0,"","",{"$error":"#VALUE!"},"",{"$f":"IF(I1020=\"\",\"\",LARGE(H$1:H1019,1)+1)","v":{"$error":"#VALUE!"}},{"$error":"#VALUE!"},1019,{"$error":"#N/A"},"",null,null,1019,0,{"$f":"IF(R1020=\"\",\"\",LARGE(Q$1:Q1019,1)+1)","v":{"$error":"#NUM!"}},{"$error":"#NUM!"},1019,{"$error":"#N/A"},"","",null,null,0,{"$error":"#VALUE!"},3999,"","",null,null,null,null,{"$error":"#VALUE!"},{"$error":"#VALUE!"},{"$f":"COUNTIF('Standards LOOKUP'!B:B,AI1020)","v":0},{"$f":"IFERROR(INDEX('Standards LOOKUP'!C:C,MATCH(AI1020,'Standards LOOKUP'!B:B,0),0),0)","v":0},{"$f":"IFERROR(INDEX('Current Standards'!P:P,MATCH('Sheet Counter'!AI1020,'Current Standards'!O:O,0),0),\"\")","v":""}]
[null,null,0,"","",{"$error":"#VALUE!"},"",{"$f":"IF(I1024=\"\",\"\",LARGE(H$1:H1023,1)+1)","v":{"$error":"#VALUE!"}},{"$error":"#VALUE!"},1023,{"$error":"#N/A"},"",null,null,1023,0,{"$f":"IF(R1024=\"\",\"\",LARGE(Q$1:Q1023,1)+1)","v":{"$error":"#NUM!"}},{"$error":"#NUM!"},1023,{"$error":"#N/A"},"","",null,null,0,{"$error":"#VALUE!"},3999,"","",null,null,null,null,{"$error":"#VALUE!"},{"$error":"#VALUE!"},{"$f":"COUNTIF('Standards LOOKUP'!B:B,AI1024)","v":0},{"$f":"IFERROR(INDEX('Standards LOOKUP'!C:C,MATCH(AI1024,'Standards LOOKUP'!B:B,0),0),0)","v":0},{"$f":"IFERROR(INDEX('Current Standards'!P:P,MATCH('Sheet Counter'!AI1024,'Current Standards'!O:O,0),0),\"\")","v":""}]
[null,null,0,"","",{"$error":"#VALUE!"},"",{"$f":"IF(I1026=\"\",\"\",LARGE(H$1:H1025,1)+1)","v":{"$error":"#VALUE!"}},{"$f":"IF(G1026=\"\",F1026,\"\")","v":{"$error":"#VALUE!"}},1025,{"$error":"#N/A"},"",null,null,1025,{"$f":"COUNTIF(G:G,O1026)","v":0},{"$f":"IF(R1026=\"\",\"\",LARGE(Q$1:Q1025,1)+1)","v":{"$error":"#NUM!"}},{"$error":"#NUM!"},1025,{"$error":"#N/A"},"","",null,null,0,{"$error":"#VALUE!"},3999,"","",null,null,null,null,{"$error":"#VALUE!"},{"$error":"#VALUE!"},{"$f":"COUNTIF('Standards LOOKUP'!B:B,AI1026)","v":0},{"$f":"IFERROR(INDEX('Standards LOOKUP'!C:C,MATCH(AI1026,'Standards LOOKUP'!B:B,0),0),0)","v":0},{"$f":"IFERROR(INDEX('Current Standards'!P:P,MATCH('Sheet Counter'!AI1026,'Current Standards'!O:O,0),0),\"\")","v":""}]
[null,null,0,"","",{"$error":"#VALUE!"},"",{"$f":"IF(I1029=\"\",\"\",LARGE(H$1:H1028,1)+1)","v":{"$error":"#VALUE!"}},{"$error":"#VALUE!"},1028,{"$error":"#N/A"},"",null,null,1028,0,{"$f":"IF(R1029=\"\",\"\",LARGE(Q$1:Q1028,1)+1)","v":{"$error":"#NUM!"}},{"$error":"#NUM!"},1028,{"$error":"#N/A"},"","",null,null,0,{"$error":"#VALUE!"},3999,"","",null,null,null,null,{"$error":"#VALUE!"},{"$error":"#VALUE!"},{"$f":"COUNTIF('Standards LOOKUP'!B:B,AI1029)","v":0},{"$f":"IFERROR(INDEX('Standards LOOKUP'!C:C,MATCH(AI1029,'Standards LOOKUP'!B:B,0),0),0)","v":0},{"$f":"IFERROR(INDEX('Current Standards'!P:P,MATCH('Sheet Counter'!AI1029,'Current Standards'!O:O,0),0),\"\")","v":""}]
[null,null,0,"","",{"$error":"#VALUE!"},"",{"$f":"IF(I1033=\"\",\"\",LARGE(H$1:H1032,1)+1)","v":{"$error":"#VALUE!"}},{"$error":"#VALUE!"},1032,{"$error":"#N/A"},"",null,null,1032,0,{"$f":"IF(R1033=\"\",\"\",LARGE(Q$1:Q1032,1)+1)","v":{"$error":"#NUM!"}},{"$error":"#NUM!"},1032,{"$error":"#N/A"},"","",null,null,0,{"$error":"#VALUE!"},3999,"","",null,null,null,null,{"$error":"#VALUE!"},{"$error":"#VALUE!"},{"$f":"COUNTIF('Standards LOOKUP'!B:B,AI1033)","v":0},{"$f":"IFERROR(INDEX('Standards LOOKUP'!C:C,MATCH(AI1033,'Standards LOOKUP'!B:B,0),0),0)","v":0},{"$f":"IFERROR(INDEX('Current Standards'!P:P,MATCH('Sheet Counter'!AI1033,'Current Standards'!O:O,0),0),\"\")","v":""}]
[null,null,0,"","",{"$error":"#VALUE!"},"",{"$f":"IF(I1035=\"\",\"\",LARGE(H$1:H1034,1)+1)","v":{"$error":"#VALUE!"}},{"$error":"#VALUE!"},1034,{"$error":"#N/A"},"",null,null,1034,0,{"$f":"IF(R1035=\"\",\"\",LARGE(Q$1:Q1034,1)+1)","v":{"$error":"#NUM!"}},{"$error":"#NUM!"},1034,{"$error":"#N/A"},"","",null,null,0,{"$error":"#VALUE!"},3999,"","",null,null,null,null,{"$error":"#VALUE!"},{"$error":"#VALUE!"},{"$f":"COUNTIF('Standards LOOKUP'!B:B,AI1035)","v":0},{"$f":"IFERROR(INDEX('Standards LOOKUP'!C:C,MATCH(AI1035,'Standards LOOKUP'!B:B,0),0),0)","v":0},{"$f":"IFERROR(INDEX('Current Standards'!P:P,MATCH('Sheet Counter'!AI1035,'Current Standards'!O:O,0),0),\"\")","v":""}]
[null,null,0,"","",{"$error":"#VALUE!"},"",{"$f":"IF(I1038=\"\",\"\",LARGE(H$1:H1037,1)+1)","v":{"$error":"#VALUE!"}},{"$error":"#VALUE!"},1037,{"$error":"#N/A"},"",null,null,1037,0,{"$f":"IF(R1038=\"\",\"\",LARGE(Q$1:Q1037,1)+1)","v":{"$error":"#NUM!"}},{"$error":"#NUM!"},1037,{"$error":"#N/A"},"","",null,null,0,{"$error":"#VALUE!"},3999,"","",null,null,null,null,{"$error":"#VALUE!"},{"$error":"#VALUE!"},{"$f":"COUNTIF('Standards LOOKUP'!B:B,AI1038)","v":0},{"$f":"IFERROR(INDEX('Standards LOOKUP'!C:C,MATCH(AI1038,'Standards LOOKUP'!B:B,0),0),0)","v":0},{"$f":"IFERROR(INDEX('Current Standards'!P:P,MATCH('Sheet Counter'!AI1038,'Current Standards'!O:O,0),0),\"\")","v":""}]
[null,null,0,"","",{"$error":"#VALUE!"},"",{"$f":"IF(I1039=\"\",\"\",LARGE(H$1:H1038,1)+1)","v":{"$error":"#VALUE!"}},{"$error":"#VALUE!"},1038,{"$error":"#N/A"},"",null,null,1038,0,{"$f":"IF(R1039=\"\",\"\",LARGE(Q$1:Q1038,1)+1)","v":{"$error":"#NUM!"}},{"$error":"#NUM!"},1038,{"$error":"#N/A"},"","",null,null,0,{"$error":"#VALUE!"},3999,"","",null,null,null,null,{"$error":"#VALUE!"},{"$error":"#VALUE!"},{"$f":"COUNTIF('Standards LOOKUP'!B:B,AI1039)","v":0},{"$f":"IFERROR(INDEX('Standards LOOKUP'!C:C,MATCH(AI1039,'Standards LOOKUP'!B:B,0),0),0)","v":0},{"$f":"IFERROR(INDEX('Current Standards'!P:P,MATCH('Sheet Counter'!AI1039,'Current Standards'!O:O,0),0),\"\")","v":""}]
[null,null,0,"","",{"$error":"#VALUE!"},"",{"$f":"IF(I1042=\"\",\"\",LARGE(H$1:H1041,1)+1)","v":{"$error":"#VALUE!"}},{"$error":"#VALUE!"},1041,{"$error":"#N/A"},"",null,null,1041,0,{"$f":"IF(R1042=\"\",\"\",LARGE(Q$1:Q1041,1)+1)","v":{"$error":"#NUM!"}},{"$error":"#NUM!"},1041,{"$error":"#N/A"},"","",null,null,0,{"$error":"#VALUE!"},3999,"","",null,null,null,null,{"$error":"#VALUE!"},{"$error":"#VALUE!"},{"$f":"COUNTIF('Standards LOOKUP'!B:B,AI1042)","v":0},{"$f":"IFERROR(INDEX('Standards LOOKUP'!C:C,MATCH(AI1042,'Standards LOOKUP'!B:B,0),0),0)","v":0},{"$f":"IFERROR(INDEX('Current Standards'!P:P,MATCH('Sheet Counter'!AI1042,'Current Standards'!O:O,0),0),\"\")","v":""}]
[null,null,0,"","",{"$error":"#VALUE!"},"",{"$f":"IF(I1046=\"\",\"\",LARGE(H$1:H1045,1)+1)","v":{"$error":"#VALUE!"}},{"$error":"#VALUE!"},1045,{"$error":"#N/A"},"",null,null,1045,0,{"$f":"IF(R1046=\"\",\"\",LARGE(Q$1:Q1045,1)+1)","v":{"$error":"#NUM!"}},{"$error":"#NUM!"},1045,{"$error":"#N/A"},"","",null,null,0,{"$error":"#VALUE!"},3999,"","",null,null,null,null,{"$error":"#VALUE!"},{"$error":"#VALUE!"},{"$f":"COUNTIF('Standards LOOKUP'!B:B,AI1046)","v":0},{"$f":"IFERROR(INDEX('Standards LOOKUP'!C:C,MATCH(AI1046,'Standards LOOKUP'!B:B,0),0),0)","v":0},{"$f":"IFERROR(INDEX('Current Standards'!P:P,MATCH('Sheet Counter'!AI1046,'Current Standards'!O:O,0),0),\"\")","v":""}]
[null,null,0,"","",{"$error":"#VALUE!"},"",{"$f":"IF(I1048=\"\",\"\",LARGE(H$1:H1047,1)+1)","v":{"$error":"#VALUE!"}},{"$error":"#VALUE!"},1047,{"$error":"#N/A"},"",null,null,1047,0,{"$f":"IF(R1048=\"\",\"\",LARGE(Q$1:Q1047,1)+1)","v":{"$error":"#NUM!"}},{"$error":"#NUM!"},1047,{"$error":"#N/A"},"","",null,null,0,{"$error":"#VALUE!"},3999,"","",null,null,null,null,{"$error":"#VALUE!"},{"$error":"#VALUE!"},{"$f":"COUNTIF('Standards LOOKUP'!B:B,AI1048)","v":0},{"$f":"IFERROR(INDEX('Standards LOOKUP'!C:C,MATCH(AI1048,'Standards LOOKUP'!B:B,0),0),0)","v":0},{"$f":"IFERROR(INDEX('Current Standards'!P:P,MATCH('Sheet Counter'!AI1048,'Current Standards'!O:O,0),0),\"\")","v":""}]
[null,null,0,"","",{"$error":"#VALUE!"},"",{"$f":"IF(I1051=\"\",\"\",LARGE(H$1:H1050,1)+1)","v":{"$error":"#VALUE!"}},{"$error":"#VALUE!"},1050,{"$error":"#N/A"},"",null,null,1050,0,{"$f":"IF(R1051=\"\",\"\",LARGE(Q$1:Q1050,1)+1)","v":{"$error":"#NUM!"}},{"$error":"#NUM!"},1050,{"$error":"#N/A"},"","",null,null,0,{"$error":"#VALUE!"},3999,"","",null,null,null,null,{"$error":"#VALUE!"},{"$error":"#VALUE!"},{"$f":"COUNTIF('Standards LOOKUP'!B:B,AI1051)","v":0},{"$f":"IFERROR(INDEX('Standards LOOKUP'!C:C,MATCH(AI1051,'Standards LOOKUP'!B:B,0),0),0)","v":0},{"$f":"IFERROR(INDEX('Current Standards'!P:P,MATCH('Sheet Counter'!AI1051,'Current Standards'!O:O,0),0),\"\")","v":""}]
[null,null,0,"","",{"$error":"#VALUE!"},"",{"$f":"IF(I1055=\"\",\"\",LARGE(H$1:H1054,1)+1)","v":{"$error":"#VALUE!"}},{"$error":"#VALUE!"},1054,{"$error":"#N/A"},"",null,null,1054,0,{"$f":"IF(R1055=\"\",\"\",LARGE(Q$1:Q1054,1)+1)","v":{"$error":"#NUM!"}},{"$error":"#NUM!"},1054,{"$error":"#N/A"},"","",null,null,0,{"$error":"#VALUE!"},3999,"","",null,null,null,null,{"$error":"#VALUE!"},{"$error":"#VALUE!"},{"$f":"COUNTIF('Standards LOOKUP'!B:B,AI1055)","v":0},{"$f":"IFERROR(INDEX('Standards LOOKUP'!C:C,MATCH(AI1055,'Standards LOOKUP'!B:B,0),0),0)","v":0},{"$f":"IFERROR(INDEX('Current Standards'!P:P,MATCH('Sheet Counter'!AI1055,'Current Standards'!O:O,0),0),\"\")","v":""}]
[null,null,0,"","",{"$error":"#VALUE!"},"",{"$f":"IF(I1057=\"\",\"\",LARGE(H$1:H1056,1)+1)","v":{"$error":"#VALUE!"}},{"$error":"#VALUE!"},1056,{"$error":"#N/A"},"",null,null,1056,0,{"$f":"IF(R1057=\"\",\"\",LARGE(Q$1:Q1056,1)+1)","v":{"$error":"#NUM!"}},{"$error":"#NUM!"},1056,{"$error":"#N/A"},"","",null,null,0,{"$error":"#VALUE!"},3999,"","",null,null,null,null,{"$error":"#VALUE!"},{"$error":"#VALUE!"},{"$f":"COUNTIF('Standards LOOKUP'!B:B,AI1057)","v":0},{"$f":"IFERROR(INDEX('Standards LOOKUP'!C:C,MATCH(AI1057,'Standards LOOKUP'!B:B,0),0),0)","v":0},{"$f":"IFERROR(INDEX('Current Standards'!P:P,MATCH('Sheet Counter'!AI1057,'Current Standards'!O:O,0),0),\"\")","v":""}]
[null,null,0,"","",{"$error":"#VALUE!"},"",{"$f":"IF(I1058=\"\",\"\",LARGE(H$1:H1057,1)+1)","v":{"$error":"#VALUE!"}},{"$error":"#VALUE!"},1057,{"$error":"#N/A"},"",null,null,1057,0,{"$f":"IF(R1058=\"\",\"\",LARGE(Q$1:Q1057,1)+1)","v":{"$error":"#NUM!"}},{"$error":"#NUM!"},1057,{"$error":"#N/A"},"","",null,null,0,{"$error":"#VALUE!"},3999,"","",null,null,null,null,{"$error":"#VALUE!"},{"$error":"#VALUE!"},{"$f":"COUNTIF('Standards LOOKUP'!B:B,AI1058)","v":0},{"$f":"IFERROR(INDEX('Standards LOOKUP'!C:C,MATCH(AI1058,'Standards LOOKUP'!B:B,0),0),0)","v":0},{"$f":"IFERROR(INDEX('Current Standards'!P:P,MATCH('Sheet Counter'!AI1058,'Current Standards'!O:O,0),0),\"\")","v":""}]
[null,null,0,"","",{"$error":"#VALUE!"},"",{"$f":"IF(I1061=\"\",\"\",LARGE(H$1:H1060,1)+1)","v":{"$error":"#VALUE!"}},{"$error":"#VALUE!"},1060,{"$error":"#N/A"},"",null,null,1060,0,{"$f":"IF(R1061=\"\",\"\",LARGE(Q$1:Q1060,1)+1)","v":{"$error":"#NUM!"}},{"$error":"#NUM!"},1060,{"$error":"#N/A"},"","",null,null,0,{"$error":"#VALUE!"},3999,"","",null,null,null,null,{"$error":"#VALUE!"},{"$error":"#VALUE!"},{"$f":"COUNTIF('Standards LOOKUP'!B:B,AI1061)","v":0},{"$f":"IFERROR(INDEX('Standards LOOKUP'!C:C,MATCH(AI1061,'Standards LOOKUP'!B:B,0),0),0)","v":0},{"$f":"IFERROR(INDEX('Current Standards'!P:P,MATCH('Sheet Counter'!AI1061,'Current Standards'!O:O,0),0),\"\")","v":""}]
[null,null,0,"","",{"$error":"#VALUE!"},"",{"$f":"IF(I1064=\"\",\"\",LARGE(H$1:H1063,1)+1)","v":{"$error":"#VALUE!"}},{"$error":"#VALUE!"},1063,{"$error":"#N/A"},"",null,null,1063,0,{"$f":"IF(R1064=\"\",\"\",LARGE(Q$1:Q1063,1)+1)","v":{"$error":"#NUM!"}},{"$error":"#NUM!"},1063,{"$error":"#N/A"},"","",null,null,0,{"$error":"#VALUE!"},3999,"","",null,null,null,null,{"$error":"#VALUE!"},{"$error":"#VALUE!"},{"$f":"COUNTIF('Standards LOOKUP'!B:B,AI1064)","v":0},{"$f":"IFERROR(INDEX('Standards LOOKUP'!C:C,MATCH(AI1064,'Standards LOOKUP'!B:B,0),0),0)","v":0},{"$f":"IFERROR(INDEX('Current Standards'!P:P,MATCH('Sheet Counter'!AI1064,'Current Standards'!O:O,0),0),\"\")","v":""}]
[null,null,0,"","",{"$error":"#VALUE!"},"",{"$f":"IF(I1068=\"\",\"\",LARGE(H$1:H1067,1)+1)","v":{"$error":"#VALUE!"}},{"$error":"#VALUE!"},1067,{"$error":"#N/A"},"",null,null,1067,0,{"$f":"IF(R1068=\"\",\"\",LARGE(Q$1:Q1067,1)+1)","v":{"$error":"#NUM!"}},{"$error":"#NUM!"},1067,{"$error":"#N/A"},"","",null,null,0,{"$error":"#VALUE!"},3999,"","",null,null,null,null,{"$error":"#VALUE!"},{"$error":"#VALUE!"},{"$f":"COUNTIF('Standards LOOKUP'!B:B,AI1068)","v":0},{"$f":"IFERROR(INDEX('Standards LOOKUP'!C:C,MATCH(AI1068,'Standards LOOKUP'!B:B,0),0),0)","v":0},{"$f":"IFERROR(INDEX('Current Standards'!P:P,MATCH('Sheet Counter'!AI1068,'Current Standards'!O:O,0),0),\"\")","v":""}]
[null,null,0,"","",{"$error":"#VALUE!"},"",{"$f":"IF(I1070=\"\",\"\",LARGE(H$1:H1069,1)+1)","v":{"$error":"#VALUE!"}},{"$error":"#VALUE!"},1069,{"$error":"#N/A"},"",null,null,1069,0,{"$f":"IF(R1070=\"\",\"\",LARGE(Q$1:Q1069,1)+1)","v":{"$error":"#NUM!"}},{"$error":"#NUM!"},1069,{"$error":"#N/A"},"","",null,null,0,{"$error":"#VALUE!"},3999,"","",null,null,null,null,{"$error":"#VALUE!"},{"$error":"#VALUE!"},{"$f":"COUNTIF('Standards LOOKUP'!B:B,AI1070)","v":0},{"$f":"IFERROR(INDEX('Standards LOOKUP'!C:C,MATCH(AI1070,'Standards LOOKUP'!B:B,0),0),0)","v":0},{"$f":"IFERROR(INDEX('Current Standards'!P:P,MATCH('Sheet Counter'!AI1070,'Current Standards'!O:O,0),0),\"\")","v":""}]
[null,null,0,"","",{"$error":"#VALUE!"},"",{"$f":"IF(I1073=\"\",\"\",LARGE(H$1:H1072,1)+1)","v":{"$error":"#VALUE!"}},{"$error":"#VALUE!"},1072,{"$error":"#N/A"},"",null,null,1072,0,{"$f":"IF(R1073=\"\",\"\",LARGE(Q$1:Q1072,1)+1)","v":{"$error":"#NUM!"}},{"$error":"#NUM!"},1072,{"$error":"#N/A"},"","",null,null,0,{"$error":"#VALUE!"},3999,"","",null,null,null,null,{"$error":"#VALUE!"},{"$error":"#VALUE!"},{"$f":"COUNTIF('Standards LOOKUP'!B:B,AI1073)","v":0},{"$f":"IFERROR(INDEX('Standards LOOKUP'!C:C,MATCH(AI1073,'Standards LOOKUP'!B:B,0),0),0)","v":0},{"$f":"IFERROR(INDEX('Current Standards'!P:P,MATCH('Sheet Counter'!AI1073,'Current Standards'!O:O,0),0),\"\")","v":""}]
[null,null,0,"","",{"$error":"#VALUE!"},"",{"$f":"IF(I1077=\"\",\"\",LARGE(H$1:H1076,1)+1)","v":{"$error":"#VALUE!"}},{"$error":"#VALUE!"},1076,{"$error":"#N/A"},"",null,null,1076,0,{"$f":"IF(R1077=\"\",\"\",LARGE(Q$1:Q1076,1)+1)","v":{"$error":"#NUM!"}},{"$error":"#NUM!"},1076,{"$error":"#N/A"},"","",null,null,0,{"$error":"#VALUE!"},3999,"","",null,null,null,null,{"$error":"#VALUE!"},{"$error":"#VALUE!"},{"$f":"COUNTIF('Standards LOOKUP'!B:B,AI1077)","v":0},{"$f":"IFERROR(INDEX('Standards LOOKUP'!C:C,MATCH(AI1077,'Standards LOOKUP'!B:B,0),0),0)","v":0},{"$f":"IFERROR(INDEX('Current Standards'!P:P,MATCH('Sheet Counter'!AI1077,'Current Standards'!O:O,0),0),\"\")","v":""}]
[null,null,0,"","",{"$error":"#VALUE!"},"",{"$f":"IF(I1079=\"\",\"\",LARGE(H$1:H1078,1)+1)","v":{"$error":"#VALUE!"}},{"$error":"#VALUE!"},1078,{"$error":"#N/A"},"",null,null,1078,0,{"$f":"IF(R1079=\"\",\"\",LARGE(Q$1:Q1078,1)+1)","v":{"$error":"#NUM!"}},{"$error":"#NUM!"},1078,{"$error":"#N/A"},"","",null,null,0,{"$error":"#VALUE!"},3999,"","",null,null,null,null,{"$error":"#VALUE!"},{"$error":"#VALUE!"},{"$f":"COUNTIF('Standards LOOKUP'!B:B,AI1079)","v":0},{"$f":"IFERROR(INDEX('Standards LOOKUP'!C:C,MATCH(AI1079,'Standards LOOKUP'!B:B,0),0),0)","v":0},{"$f":"IFERROR(INDEX('Current Standards'!P:P,MATCH('Sheet Counter'!AI1079,'Current Standards'!O:O,0),0),\"\")","v":""}]
[null,null,0,"","",{"$error":"#VALUE!"},"",{"$f":"IF(I1080=\"\",\"\",LARGE(H$1:H1079,1)+1)","v":{"$error":"#VALUE!"}},{"$error":"#VALUE!"},1079,{"$error":"#N/A"},"",null,null,1079,0,{"$f":"IF(R1080=\"\",\"\",LARGE(Q$1:Q1079,1)+1)","v":{"$error":"#NUM!"}},{"$error":"#NUM!"},1079,{"$error":"#N/A"},"","",null,null,0,{"$error":"#VALUE!"},3999,"","",null,null,null,null,{"$error":"#VALUE!"},{"$error":"#VALUE!"},{"$f":"COUNTIF('Standards LOOKUP'!B:B,AI1080)","v":0},{"$f":"IFERROR(INDEX('Standards LOOKUP'!C:C,MATCH(AI1080,'Standards LOOKUP'!B:B,0),0),0)","v":0},{"$f":"IFERROR(INDEX('Current Standards'!P:P,MATCH('Sheet Counter'!AI1080,'Current Standards'!O:O,0),0),\"\")","v":""}]
[null,null,0,"","",{"$error":"#VALUE!"},"",{"$f":"IF(I1083=\"\",\"\",LARGE(H$1:H1082,1)+1)","v":{"$error":"#VALUE!"}},{"$error":"#VALUE!"},1082,{"$error":"#N/A"},"",null,null,1082,0,{"$f":"IF(R1083=\"\",\"\",LARGE(Q$1:Q1082,1)+1)","v":{"$error":"#NUM!"}},{"$error":"#NUM!"},1082,{"$error":"#N/A"},"","",null,null,0,{"$error":"#VALUE!"},3999,"","",null,null,null,null,{"$error":"#VALUE!"},{"$error":"#VALUE!"},{"$f":"COUNTIF('Standards LOOKUP'!B:B,AI1083)","v":0},{"$f":"IFERROR(INDEX('Standards LOOKUP'!C:C,MATCH(AI1083,'Standards LOOKUP'!B:B,0),0),0)","v":0},{"$f":"IFERROR(INDEX('Current Standards'!P:P,MATCH('Sheet Counter'!AI1083,'Current Standards'!O:O,0),0),\"\")","v":""}]
[null,null,0,"","",{"$error":"#VALUE!"},"",{"$f":"IF(I1086=\"\",\"\",LARGE(H$1:H1085,1)+1)","v":{"$error":"#VALUE!"}},{"$error":"#VALUE!"},1085,{"$error":"#N/A"},"",null,null,1085,0,{"$f":"IF(R1086=\"\",\"\",LARGE(Q$1:Q1085,1)+1)","v":{"$error":"#NUM!"}},{"$error":"#NUM!"},1085,{"$error":"#N/A"},"","",null,null,0,{"$error":"#VALUE!"},3999,"","",null,null,null,null,{"$error":"#VALUE!"},{"$error":"#VALUE!"},{"$f":"COUNTIF('Standards LOOKUP'!B:B,AI1086)","v":0},{"$f":"IFERROR(INDEX('Standards LOOKUP'!C:C,MATCH(AI1086,'Standards LOOKUP'!B:B,0),0),0)","v":0},{"$f":"IFERROR(INDEX('Current Standards'!P:P,MATCH('Sheet Counter'!AI1086,'Current Standards'!O:O,0),0),\"\")","v":""}]
[null,null,0,"","",{"$error":"#VALUE!"},"",{"$f":"IF(I1090=\"\",\"\",LARGE(H$1:H1089,1)+1)","v":{"$error":"#VALUE!"}},{"$f":"IF(G1090=\"\",F1090,\"\")","v":{"$error":"#VALUE!"}},1089,{"$error":"#N/A"},"",null,null,1089,{"$f":"COUNTIF(G:G,O1090)","v":0},{"$f":"IF(R1090=\"\",\"\",LARGE(Q$1:Q1089,1)+1)","v":{"$error":"#NUM!"}},{"$error":"#NUM!"},1089,{"$error":"#N/A"},"","",null,null,0,{"$error":"#VALUE!"},3999,"","",null,null,null,null,{"$error":"#VALUE!"},{"$error":"#VALUE!"},{"$f":"COUNTIF('Standards LOOKUP'!B:B,AI1090)","v":0},{"$f":"IFERROR(INDEX('Standards LOOKUP'!C:C,MATCH(AI1090,'Standards LOOKUP'!B:B,0),0),0)","v":0},{"$f":"IFERROR(INDEX('Current Standards'!P:P,MATCH('Sheet Counter'!AI1090,'Current Standards'!O:O,0),0),\"\")","v":""}]
[null,null,0,"","",{"$error":"#VALUE!"},"",{"$f":"IF(I1092=\"\",\"\",LARGE(H$1:H1091,1)+1)","v":{"$error":"#VALUE!"}},{"$error":"#VALUE!"},1091,{"$error":"#N/A"},"",null,null,1091,0,{"$f":"IF(R1092=\"\",\"\",LARGE(Q$1:Q1091,1)+1)","v":{"$error":"#NUM!"}},{"$f":"IF(AND(P1092<>1,O1092<=LARGE(G:G,1),O1092>=SMALL(G:G,1)),O1092,\"\")","v":{"$error":"#NUM!"}},1091,{"$error":"#N/A"},"","",null,null,0,{"$error":"#VALUE!"},3999,"","",null,null,null,null,{"$error":"#VALUE!"},{"$error":"#VALUE!"},{"$f":"COUNTIF('Standards LOOKUP'!B:B,AI1092)","v":0},{"$f":"IFERROR(INDEX('Standards LOOKUP'!C:C,MATCH(AI1092,'Standards LOOKUP'!B:B,0),0),0)","v":0},{"$f":"IFERROR(INDEX('Current Standards'!P:P,MATCH('Sheet Counter'!AI1092,'Current Standards'!O:O,0),0),\"\")","v":""}]
[null,null,0,"","",{"$error":"#VALUE!"},"",{"$f":"IF(I1095=\"\",\"\",LARGE(H$1:H1094,1)+1)","v":{"$error":"#VALUE!"}},{"$error":"#VALUE!"},1094,{"$error":"#N/A"},"",null,null,1094,0,{"$f":"IF(R1095=\"\",\"\",LARGE(Q$1:Q1094,1)+1)","v":{"$error":"#NUM!"}},{"$error":"#NUM!"},1094,{"$error":"#N/A"},"","",null,null,0,{"$error":"#VALUE!"},3999,"","",null,null,null,null,{"$error":"#VALUE!"},{"$error":"#VALUE!"},{"$f":"COUNTIF('Standards LOOKUP'!B:B,AI1095)","v":0},{"$f":"IFERROR(INDEX('Standards LOOKUP'!C:C,MATCH(AI1095,'Standards LOOKUP'!B:B,0),0),0)","v":0},{"$f":"IFERROR(INDEX('Current Standards'!P:P,MATCH('Sheet Counter'!AI1095,'Current Standards'!O:O,0),0),\"\")","v":""}]
[null,null,0,"","",{"$error":"#VALUE!"},"",{"$f":"IF(I1099=\"\",\"\",LARGE(H$1:H1098,1)+1)","v":{"$error":"#VALUE!"}},{"$error":"#VALUE!"},1098,{"$error":"#N/A"},"",null,null,1098,0,{"$f":"IF(R1099=\"\",\"\",LARGE(Q$1:Q1098,1)+1)","v":{"$error":"#NUM!"}},{"$error":"#NUM!"},1098,{"$error":"#N/A"},"","",null,null,0,{"$error":"#VALUE!"},3999,"","",null,null,null,null,{"$error":"#VALUE!"},{"$error":"#VALUE!"},{"$f":"COUNTIF('Standards LOOKUP'!B:B,AI1099)","v":0},{"$f":"IFERROR(INDEX('Standards LOOKUP'!C:C,MATCH(AI1099,'Standards LOOKUP'!B:B,0),0),0)","v":0},{"$f":"IFERROR(INDEX('Current Standards'!P:P,MATCH('Sheet Counter'!AI1099,'Current Standards'!O:O,0),0),\"\")","v":""}]
[null,null,0,"","",{"$error":"#VALUE!"},"",{"$f":"IF(I1101=\"\",\"\",LARGE(H$1:H1100,1)+1)","v":{"$error":"#VALUE!"}},{"$error":"#VALUE!"},1100,{"$error":"#N/A"},"",null,null,1100,0,{"$f":"IF(R1101=\"\",\"\",LARGE(Q$1:Q1100,1)+1)","v":{"$error":"#NUM!"}},{"$error":"#NUM!"},1100,{"$error":"#N/A"},"","",null,null,0,{"$error":"#VALUE!"},3999,"","",null,null,null,null,{"$error":"#VALUE!"},{"$error":"#VALUE!"},{"$f":"COUNTIF('Standards LOOKUP'!B:B,AI1101)","v":0},{"$f":"IFERROR(INDEX('Standards LOOKUP'!C:C,MATCH(AI1101,'Standards LOOKUP'!B:B,0),0),0)","v":0},{"$f":"IFERROR(INDEX('Current Standards'!P:P,MATCH('Sheet Counter'!AI1101,'Current Standards'!O:O,0),0),\"\")","v":""}]
[null,null,0,"","",{"$error":"#VALUE!"},"",{"$f":"IF(I1102=\"\",\"\",LARGE(H$1:H1101,1)+1)","v":{"$error":"#VALUE!"}},{"$error":"#VALUE!"},1101,{"$error":"#N/A"},"",null,null,1101,0,{"$f":"IF(R1102=\"\",\"\",LARGE(Q$1:Q1101,1)+1)","v":{"$error":"#NUM!"}},{"$error":"#NUM!"},1101,{"$error":"#N/A"},"","",null,null,0,{"$error":"#VALUE!"},3999,"","",null,null,null,null,{"$error":"#VALUE!"},{"$error":"#VALUE!"},{"$f":"COUNTIF('Standards LOOKUP'!B:B,AI1102)","v":0},{"$f":"IFERROR(INDEX('Standards LOOKUP'!C:C,MATCH(AI1102,'Standards LOOKUP'!B:B,0),0),0)","v":0},{"$f":"IFERROR(INDEX('Current Standards'!P:P,MATCH('Sheet Counter'!AI1102,'Current Standards'!O:O,0),0),\"\")","v":""}]
[null,null,0,"","",{"$error":"#VALUE!"},"",{"$f":"IF(I1105=\"\",\"\",LARGE(H$1:H1104,1)+1)","v":{"$error":"#VALUE!"}},{"$error":"#VALUE!"},1104,{"$error":"#N/A"},"",null,null,1104,0,{"$f":"IF(R1105=\"\",\"\",LARGE(Q$1:Q1104,1)+1)","v":{"$error":"#NUM!"}},{"$error":"#NUM!"},1104,{"$error":"#N/A"},"","",null,null,0,{"$error":"#VALUE!"},3999,"","",null,null,null,null,{"$error":"#VALUE!"},{"$error":"#VALUE!"},{"$f":"COUNTIF('Standards LOOKUP'!B:B,AI1105)","v":0},{"$f":"IFERROR(INDEX('Standards LOOKUP'!C:C,MATCH(AI1105,'Standards LOOKUP'!B:B,0),0),0)","v":0},{"$f":"IFERROR(INDEX('Current Standards'!P:P,MATCH('Sheet Counter'!AI1105,'Current Standards'!O:O,0),0),\"\")","v":""}]
[null,null,0,"","",{"$error":"#VALUE!"},"",{"$f":"IF(I1108=\"\",\"\",LARGE(H$1:H1107,1)+1)","v":{"$error":"#VALUE!"}},{"$error":"#VALUE!"},1107,{"$error":"#N/A"},"",null,null,1107,0,{"$f":"IF(R1108=\"\",\"\",LARGE(Q$1:Q1107,1)+1)","v":{"$error":"#NUM!"}},{"$error":"#NUM!"},1107,{"$error":"#N/A"},"","",null,null,0,{"$error":"#VALUE!"},3999,"","",null,null,null,null,{"$error":"#VALUE!"},{"$error":"#VALUE!"},{"$f":"COUNTIF('Standards LOOKUP'!B:B,AI1108)","v":0},{"$f":"IFERROR(INDEX('Standards LOOKUP'!C:C,MATCH(AI1108,'Standards LOOKUP'!B:B,0),0),0)","v":0},{"$f":"IFERROR(INDEX('Current Standards'!P:P,MATCH('Sheet Counter'!AI1108,'Current Standards'!O:O,0),0),\"\")","v":""}]
[null,null,0,"","",{"$error":"#VALUE!"},"",{"$f":"IF(I1112=\"\",\"\",LARGE(H$1:H1111,1)+1)","v":{"$error":"#VALUE!"}},{"$error":"#VALUE!"},1111,{"$error":"#N/A"},"",null,null,1111,0,{"$f":"IF(R1112=\"\",\"\",LARGE(Q$1:Q1111,1)+1)","v":{"$error":"#NUM!"}},{"$error":"#NUM!"},1111,{"$error":"#N/A"},"","",null,null,0,{"$error":"#VALUE!"},3999,"","",null,null,null,null,{"$error":"#VALUE!"},{"$error":"#VALUE!"},{"$f":"COUNTIF('Standards LOOKUP'!B:B,AI1112)","v":0},{"$f":"IFERROR(INDEX('Standards LOOKUP'!C:C,MATCH(AI1112,'Standards LOOKUP'!B:B,0),0),0)","v":0},{"$f":"IFERROR(INDEX('Current Standards'!P:P,MATCH('Sheet Counter'!AI1112,'Current Standards'!O:O,0),0),\"\")","v":""}]
[null,null,0,"","",{"$error":"#VALUE!"},"",{"$f":"IF(I1114=\"\",\"\",LARGE(H$1:H1113,1)+1)","v":{"$error":"#VALUE!"}},{"$error":"#VALUE!"},1113,{"$error":"#N/A"},"",null,null,1113,0,{"$f":"IF(R1114=\"\",\"\",LARGE(Q$1:Q1113,1)+1)","v":{"$error":"#NUM!"}},{"$error":"#NUM!"},1113,{"$error":"#N/A"},"","",null,null,0,{"$error":"#VALUE!"},3999,"","",null,null,null,null,{"$error":"#VALUE!"},{"$error":"#VALUE!"},{"$f":"COUNTIF('Standards LOOKUP'!B:B,AI1114)","v":0},{"$f":"IFERROR(INDEX('Standards LOOKUP'!C:C,MATCH(AI1114,'Standards LOOKUP'!B:B,0),0),0)","v":0},{"$f":"IFERROR(INDEX('Current Standards'!P:P,MATCH('Sheet Counter'!AI1114,'Current Standards'!O:O,0),0),\"\")","v":""}]
[null,null,0,"","",{"$error":"#VALUE!"},"",{"$f":"IF(I1118=\"\",\"\",LARGE(H$1:H1117,1)+1)","v":{"$error":"#VALUE!"}},{"$error":"#VALUE!"},1117,{"$error":"#N/A"},"",null,null,1117,0,{"$f":"IF(R1118=\"\",\"\",LARGE(Q$1:Q1117,1)+1)","v":{"$error":"#NUM!"}},{"$error":"#NUM!"},1117,{"$error":"#N/A"},"","",null,null,0,{"$error":"#VALUE!"},3999,"","",null,null,null,null,{"$error":"#VALUE!"},{"$error":"#VALUE!"},{"$f":"COUNTIF('Standards LOOKUP'!B:B,AI1118)","v":0},{"$f":"IFERROR(INDEX('Standards LOOKUP'!C:C,MATCH(AI1118,'Standards LOOKUP'!B:B,0),0),0)","v":0},{"$f":"IFERROR(INDEX('Current Standards'!P:P,MATCH('Sheet Counter'!AI1118,'Current Standards'!O:O,0),0),\"\")","v":""}]
[null,null,0,"","",{"$error":"#VALUE!"},"",{"$f":"IF(I1121=\"\",\"\",LARGE(H$1:H1120,1)+1)","v":{"$error":"#VALUE!"}},{"$error":"#VALUE!"},1120,{"$error":"#N/A"},"",null,null,1120,0,{"$f":"IF(R1121=\"\",\"\",LARGE(Q$1:Q1120,1)+1)","v":{"$error":"#NUM!"}},{"$error":"#NUM!"},1120,{"$error":"#N/A"},"","",null,null,0,{"$error":"#VALUE!"},3999,"","",null,null,null,null,{"$error":"#VALUE!"},{"$error":"#VALUE!"},{"$f":"COUNTIF('Standards LOOKUP'!B:B,AI1121)","v":0},{"$f":"IFERROR(INDEX('Standards LOOKUP'!C:C,MATCH(AI1121,'Standards LOOKUP'!B:B,0),0),0)","v":0},{"$f":"IFERROR(INDEX('Current Standards'!P:P,MATCH('Sheet Counter'!AI1121,'Current Standards'!O:O,0),0),\"\")","v":""}]
[null,null,0,"","",{"$error":"#VALUE!"},"",{"$f":"IF(I1123=\"\",\"\",LARGE(H$1:H1122,1)+1)","v":{"$error":"#VALUE!"}},{"$error":"#VALUE!"},1122,{"$error":"#N/A"},"",null,null,1122,0,{"$f":"IF(R1123=\"\",\"\",LARGE(Q$1:Q1122,1)+1)","v":{"$error":"#NUM!"}},{"$error":"#NUM!"},1122,{"$error":"#N/A"},"","",null,null,0,{"$error":"#VALUE!"},3999,"","",null,null,null,null,{"$error":"#VALUE!"},{"$error":"#VALUE!"},{"$f":"COUNTIF('Standards LOOKUP'!B:B,AI1123)","v":0},{"$f":"IFERROR(INDEX('Standards LOOKUP'!C:C,MATCH(AI1123,'Standards LOOKUP'!B:B,0),0),0)","v":0},{"$f":"IFERROR(INDEX('Current Standards'!P:P,MATCH('Sheet Counter'!AI1123,'Current Standards'!O:O,0),0),\"\")","v":""}]
[null,null,0,"","",{"$error":"#VALUE!"},"",{"$f":"IF(I1124=\"\",\"\",LARGE(H$1:H1123,1)+1)","v":{"$error":"#VALUE!"}},{"$error":"#VALUE!"},1123,{"$error":"#N/A"},"",null,null,1123,0,{"$f":"IF(R1124=\"\",\"\",LARGE(Q$1:Q1123,1)+1)","v":{"$error":"#NUM!"}},{"$error":"#NUM!"},1123,{"$error":"#N/A"},"","",null,null,0,{"$error":"#VALUE!"},3999,"","",null,null,null,null,{"$error":"#VALUE!"},{"$error":"#VALUE!"},{"$f":"COUNTIF('Standards LOOKUP'!B:B,AI1124)","v":0},{"$f":"IFERROR(INDEX('Standards LOOKUP'!C:C,MATCH(AI1124,'Standards LOOKUP'!B:B,0),0),0)","v":0},{"$f":"IFERROR(INDEX('Current Standards'!P:P,MATCH('Sheet Counter'!AI1124,'Current Standards'!O:O,0),0),\"\")","v":""}]
[null,null,0,"","",{"$error":"#VALUE!"},"",{"$f":"IF(I1127=\"\",\"\",LARGE(H$1:H1126,1)+1)","v":{"$error":"#VALUE!"}},{"$error":"#VALUE!"},1126,{"$error":"#N/A"},"",null,null,1126,0,{"$f":"IF(R1127=\"\",\"\",LARGE(Q$1:Q1126,1)+1)","v":{"$error":"#NUM!"}},{"$error":"#NUM!"},1126,{"$error":"#N/A"},"","",null,null,0,{"$error":"#VALUE!"},3999,"","",null,null,null,null,{"$error":"#VALUE!"},{"$error":"#VALUE!"},{"$f":"COUNTIF('Standards LOOKUP'!B:B,AI1127)","v":0},{"$f":"IFERROR(INDEX('Standards LOOKUP'!C:C,MATCH(AI1127,'Standards LOOKUP'!B:B,0),0),0)","v":0},{"$f":"IFERROR(INDEX('Current Standards'!P:P,MATCH('Sheet Counter'!AI1127,'Current Standards'!O:O,0),0),\"\")","v":""}]
[null,null,0,"","",{"$error":"#VALUE!"},"",{"$f":"IF(I1130=\"\",\"\",LARGE(H$1:H1129,1)+1)","v":{"$error":"#VALUE!"}},{"$error":"#VALUE!"},1129,{"$error":"#N/A"},"",null,null,1129,0,{"$f":"IF(R1130=\"\",\"\",LARGE(Q$1:Q1129,1)+1)","v":{"$error":"#NUM!"}},{"$error":"#NUM!"},1129,{"$error":"#N/A"},"","",null,null,0,{"$error":"#VALUE!"},3999,"","",null,null,null,null,{"$error":"#VALUE!"},{"$error":"#VALUE!"},{"$f":"COUNTIF('Standards LOOKUP'!B:B,AI1130)","v":0},{"$f":"IFERROR(INDEX('Standards LOOKUP'!C:C,MATCH(AI1130,'Standards LOOKUP'!B:B,0),0),0)","v":0},{"$f":"IFERROR(INDEX('Current Standards'!P:P,MATCH('Sheet Counter'!AI1130,'Current Standards'!O:O,0),0),\"\")","v":""}]
[null,null,0,"","",{"$error":"#VALUE!"},"",{"$f":"IF(I1134=\"\",\"\",LARGE(H$1:H1133,1)+1)","v":{"$error":"#VALUE!"}},{"$error":"#VALUE!"},1133,{"$error":"#N/A"},"",null,null,1133,0,{"$f":"IF(R1134=\"\",\"\",LARGE(Q$1:Q1133,1)+1)","v":{"$error":"#NUM!"}},{"$error":"#NUM!"},1133,{"$error":"#N/A"},"","",null,null,0,{"$error":"#VALUE!"},3999,"","",null,null,null,null,{"$error":"#VALUE!"},{"$error":"#VALUE!"},{"$f":"COUNTIF('Standards LOOKUP'!B:B,AI1134)","v":0},{"$f":"IFERROR(INDEX('Standards LOOKUP'!C:C,MATCH(AI1134,'Standards LOOKUP'!B:B,0),0),0)","v":0},{"$f":"IFERROR(INDEX('Current Standards'!P:P,MATCH('Sheet Counter'!AI1134,'Current Standards'!O:O,0),0),\"\")","v":""}]
[null,null,0,"","",{"$error":"#VALUE!"},"",{"$f":"IF(I1136=\"\",\"\",LARGE(H$1:H1135,1)+1)","v":{"$error":"#VALUE!"}},{"$error":"#VALUE!"},1135,{"$error":"#N/A"},"",null,null,1135,0,{"$f":"IF(R1136=\"\",\"\",LARGE(Q$1:Q1135,1)+1)","v":{"$error":"#NUM!"}},{"$error":"#NUM!"},1135,{"$error":"#N/A"},"","",null,null,0,{"$error":"#VALUE!"},3999,"","",null,null,null,null,{"$error":"#VALUE!"},{"$error":"#VALUE!"},{"$f":"COUNTIF('Standards LOOKUP'!B:B,AI1136)","v":0},{"$f":"IFERROR(INDEX('Standards LOOKUP'!C:C,MATCH(AI1136,'Standards LOOKUP'!B:B,0),0),0)","v":0},{"$f":"IFERROR(INDEX('Current Standards'!P:P,MATCH('Sheet Counter'!AI1136,'Current Standards'!O:O,0),0),\"\")","v":""}]
[null,null,0,"","",{"$error":"#VALUE!"},"",{"$f":"IF(I1140=\"\",\"\",LARGE(H$1:H1139,1)+1)","v":{"$error":"#VALUE!"}},{"$error":"#VALUE!"},1139,{"$error":"#N/A"},"",null,null,1139,0,{"$f":"IF(R1140=\"\",\"\",LARGE(Q$1:Q1139,1)+1)","v":{"$error":"#NUM!"}},{"$error":"#NUM!"},1139,{"$error":"#N/A"},"","",null,null,0,{"$error":"#VALUE!"},3999,"","",null,null,null,null,{"$error":"#VALUE!"},{"$error":"#VALUE!"},{"$f":"COUNTIF('Standards LOOKUP'!B:B,AI1140)","v":0},{"$f":"IFERROR(INDEX('Standards LOOKUP'!C:C,MATCH(AI1140,'Standards LOOKUP'!B:B,0),0),0)","v":0},{"$f":"IFERROR(INDEX('Current Standards'!P:P,MATCH('Sheet Counter'!AI1140,'Current Standards'!O:O,0),0),\"\")","v":""}]
[null,null,0,"","",{"$error":"#VALUE!"},"",{"$f":"IF(I1143=\"\",\"\",LARGE(H$1:H1142,1)+1)","v":{"$error":"#VALUE!"}},{"$error":"#VALUE!"},1142,{"$error":"#N/A"},"",null,null,1142,0,{"$f":"IF(R1143=\"\",\"\",LARGE(Q$1:Q1142,1)+1)","v":{"$error":"#NUM!"}},{"$error":"#NUM!"},1142,{"$error":"#N/A"},"","",null,null,0,{"$error":"#VALUE!"},3999,"","",null,null,null,null,{"$error":"#VALUE!"},{"$error":"#VALUE!"},{"$f":"COUNTIF('Standards LOOKUP'!B:B,AI1143)","v":0},{"$f":"IFERROR(INDEX('Standards LOOKUP'!C:C,MATCH(AI1143,'Standards LOOKUP'!B:B,0),0),0)","v":0},{"$f":"IFERROR(INDEX('Current Standards'!P:P,MATCH('Sheet Counter'!AI1143,'Current Standards'!O:O,0),0),\"\")","v":""}]
[null,null,0,"","",{"$error":"#VALUE!"},"",{"$f":"IF(I1145=\"\",\"\",LARGE(H$1:H1144,1)+1)","v":{"$error":"#VALUE!"}},{"$error":"#VALUE!"},1144,{"$error":"#N/A"},"",null,null,1144,0,{"$f":"IF(R1145=\"\",\"\",LARGE(Q$1:Q1144,1)+1)","v":{"$error":"#NUM!"}},{"$error":"#NUM!"},1144,{"$error":"#N/A"},"","",null,null,0,{"$error":"#VALUE!"},3999,"","",null,null,null,null,{"$error":"#VALUE!"},{"$error":"#VALUE!"},{"$f":"COUNTIF('Standards LOOKUP'!B:B,AI1145)","v":0},{"$f":"IFERROR(INDEX('Standards LOOKUP'!C:C,MATCH(AI1145,'Standards LOOKUP'!B:B,0),0),0)","v":0},{"$f":"IFERROR(INDEX('Current Standards'!P:P,MATCH('Sheet Counter'!AI1145,'Current Standards'!O:O,0),0),\"\")","v":""}]
[null,null,0,"","",{"$error":"#VALUE!"},"",{"$f":"IF(I1146=\"\",\"\",LARGE(H$1:H1145,1)+1)","v":{"$error":"#VALUE!"}},{"$error":"#VALUE!"},1145,{"$error":"#N/A"},"",null,null,1145,0,{"$f":"IF(R1146=\"\",\"\",LARGE(Q$1:Q1145,1)+1)","v":{"$error":"#NUM!"}},{"$error":"#NUM!"},1145,{"$error":"#N/A"},"","",null,null,0,{"$error":"#VALUE!"},3999,"","",null,null,null,null,{"$error":"#VALUE!"},{"$error":"#VALUE!"},{"$f":"COUNTIF('Standards LOOKUP'!B:B,AI1146)","v":0},{"$f":"IFERROR(INDEX('Standards LOOKUP'!C:C,MATCH(AI1146,'Standards LOOKUP'!B:B,0),0),0)","v":0},{"$f":"IFERROR(INDEX('Current Standards'!P:P,MATCH('Sheet Counter'!AI1146,'Current Standards'!O:O,0),0),\"\")","v":""}]
[null,null,0,"","",{"$error":"#VALUE!"},"",{"$f":"IF(I1149=\"\",\"\",LARGE(H$1:H1148,1)+1)","v":{"$error":"#VALUE!"}},{"$error":"#VALUE!"},1148,{"$error":"#N/A"},"",null,null,1148,0,{"$f":"IF(R1149=\"\",\"\",LARGE(Q$1:Q1148,1)+1)","v":{"$error":"#NUM!"}},{"$error":"#NUM!"},1148,{"$error":"#N/A"},"","",null,null,0,{"$error":"#VALUE!"},3999,"","",null,null,null,null,{"$error":"#VALUE!"},{"$error":"#VALUE!"},{"$f":"COUNTIF('Standards LOOKUP'!B:B,AI1149)","v":0},{"$f":"IFERROR(INDEX('Standards LOOKUP'!C:C,MATCH(AI1149,'Standards LOOKUP'!B:B,0),0),0)","v":0},{"$f":"IFERROR(INDEX('Current Standards'!P:P,MATCH('Sheet Counter'!AI1149,'Current Standards'!O:O,0),0),\"\")","v":""}]
[null,null,0,"","",{"$error":"#VALUE!"},"",{"$f":"IF(I1153=\"\",\"\",LARGE(H$1:H1152,1)+1)","v":{"$error":"#VALUE!"}},{"$error":"#VALUE!"},1152,{"$error":"#N/A"},"",null,null,1152,0,{"$f":"IF(R1153=\"\",\"\",LARGE(Q$1:Q1152,1)+1)","v":{"$error":"#NUM!"}},{"$error":"#NUM!"},1152,{"$error":"#N/A"},"","",null,null,0,{"$error":"#VALUE!"},3999,"","",null,null,null,null,{"$error":"#VALUE!"},{"$error":"#VALUE!"},{"$f":"COUNTIF('Standards LOOKUP'!B:B,AI1153)","v":0},{"$f":"IFERROR(INDEX('Standards LOOKUP'!C:C,MATCH(AI1153,'Standards LOOKUP'!B:B,0),0),0)","v":0},{"$f":"IFERROR(INDEX('Current Standards'!P:P,MATCH('Sheet Counter'!AI1153,'Current Standards'!O:O,0),0),\"\")","v":""}]
[null,null,0,"","",{"$error":"#VALUE!"},"",{"$f":"IF(I1156=\"\",\"\",LARGE(H$1:H1155,1)+1)","v":{"$error":"#VALUE!"}},{"$error":"#VALUE!"},1155,{"$error":"#N/A"},"",null,null,1155,0,{"$f":"IF(R1156=\"\",\"\",LARGE(Q$1:Q1155,1)+1)","v":{"$error":"#NUM!"}},{"$f":"IF(AND(P1156<>1,O1156<=LARGE(G:G,1),O1156>=SMALL(G:G,1)),O1156,\"\")","v":{"$error":"#NUM!"}},1155,{"$error":"#N/A"},"","",null,null,0,{"$error":"#VALUE!"},3999,"","",null,null,null,null,{"$error":"#VALUE!"},{"$error":"#VALUE!"},{"$f":"COUNTIF('Standards LOOKUP'!B:B,AI1156)","v":0},{"$f":"IFERROR(INDEX('Standards LOOKUP'!C:C,MATCH(AI1156,'Standards LOOKUP'!B:B,0),0),0)","v":0},{"$f":"IFERROR(INDEX('Current Standards'!P:P,MATCH('Sheet Counter'!AI1156,'Current Standards'!O:O,0),0),\"\")","v":""}]
[null,null,0,"","",{"$error":"#VALUE!"},"",{"$f":"IF(I1158=\"\",\"\",LARGE(H$1:H1157,1)+1)","v":{"$error":"#VALUE!"}},{"$error":"#VALUE!"},1157,{"$error":"#N/A"},"",null,null,1157,0,{"$f":"IF(R1158=\"\",\"\",LARGE(Q$1:Q1157,1)+1)","v":{"$error":"#NUM!"}},{"$error":"#NUM!"},1157,{"$error":"#N/A"},"","",null,null,0,{"$error":"#VALUE!"},3999,"","",null,null,null,null,{"$error":"#VALUE!"},{"$error":"#VALUE!"},{"$f":"COUNTIF('Standards LOOKUP'!B:B,AI1158)","v":0},{"$f":"IFERROR(INDEX('Standards LOOKUP'!C:C,MATCH(AI1158,'Standards LOOKUP'!B:B,0),0),0)","v":0},{"$f":"IFERROR(INDEX('Current Standards'!P:P,MATCH('Sheet Counter'!AI1158,'Current Standards'!O:O,0),0),\"\")","v":""}]
[null,null,0,"","",{"$error":"#VALUE!"},"",{"$f":"IF(I1162=\"\",\"\",LARGE(H$1:H1161,1)+1)","v":{"$error":"#VALUE!"}},{"$error":"#VALUE!"},1161,{"$error":"#N/A"},"",null,null,1161,0,{"$f":"IF(R1162=\"\",\"\",LARGE(Q$1:Q1161,1)+1)","v":{"$error":"#NUM!"}},{"$error":"#NUM!"},1161,{"$error":"#N/A"},"","",null,null,0,{"$error":"#VALUE!"},3999,"","",null,null,null,null,{"$error":"#VALUE!"},{"$error":"#VALUE!"},{"$f":"COUNTIF('Standards LOOKUP'!B:B,AI1162)","v":0},{"$f":"IFERROR(INDEX('Standards LOOKUP'!C:C,MATCH(AI1162,'Standards LOOKUP'!B:B,0),0),0)","v":0},{"$f":"IFERROR(INDEX('Current Standards'!P:P,MATCH('Sheet Counter'!AI1162,'Current Standards'!O:O,0),0),\"\")","v":""}]
[null,null,0,"","",{"$error":"#VALUE!"},"",{"$f":"IF(I1165=\"\",\"\",LARGE(H$1:H1164,1)+1)","v":{"$error":"#VALUE!"}},{"$error":"#VALUE!"},1164,{"$error":"#N/A"},"",null,null,1164,0,{"$f":"IF(R1165=\"\",\"\",LARGE(Q$1:Q1164,1)+1)","v":{"$error":"#NUM!"}},{"$error":"#NUM!"},1164,{"$error":"#N/A"},"","",null,null,0,{"$error":"#VALUE!"},3999,"","",null,null,null,null,{"$error":"#VALUE!"},{"$error":"#VALUE!"},{"$f":"COUNTIF('Standards LOOKUP'!B:B,AI1165)","v":0},{"$f":"IFERROR(INDEX('Standards LOOKUP'!C:C,MATCH(AI1165,'Standards LOOKUP'!B:B,0),0),0)","v":0},{"$f":"IFERROR(INDEX('Current Standards'!P:P,MATCH('Sheet Counter'!AI1165,'Current Standards'!O:O,0),0),\"\")","v":""}]
[null,null,0,"","",{"$error":"#VALUE!"},"",{"$f":"IF(I1167=\"\",\"\",LARGE(H$1:H1166,1)+1)","v":{"$error":"#VALUE!"}},{"$error":"#VALUE!"},1166,{"$error":"#N/A"},"",null,null,1166,0,{"$f":"IF(R1167=\"\",\"\",LARGE(Q$1:Q1166,1)+1)","v":{"$error":"#NUM!"}},{"$error":"#NUM!"},1166,{"$error":"#N/A"},"","",null,null,0,{"$error":"#VALUE!"},3999,"","",null,null,null,null,{"$error":"#VALUE!"},{"$error":"#VALUE!"},{"$f":"COUNTIF('Standards LOOKUP'!B:B,AI1167)","v":0},{"$f":"IFERROR(INDEX('Standards LOOKUP'!C:C,MATCH(AI1167,'Standards LOOKUP'!B:B,0),0),0)","v":0},{"$f":"IFERROR(INDEX('Current Standards'!P:P,MATCH('Sheet Counter'!AI1167,'Current Standards'!O:O,0),0),\"\")","v":""}]
[null,null,0,"","",{"$error":"#VALUE!"},"",{"$f":"IF(I1168=\"\",\"\",LARGE(H$1:H1167,1)+1)","v":{"$error":"#VALUE!"}},{"$error":"#VALUE!"},1167,{"$error":"#N/A"},"",null,null,1167,0,{"$f":"IF(R1168=\"\",\"\",LARGE(Q$1:Q1167,1)+1)","v":{"$error":"#NUM!"}},{"$error":"#NUM!"},1167,{"$error":"#N/A"},"","",null,null,0,{"$error":"#VALUE!"},3999,"","",null,null,null,null,{"$error":"#VALUE!"},{"$error":"#VALUE!"},{"$f":"COUNTIF('Standards LOOKUP'!B:B,AI1168)","v":0},{"$f":"IFERROR(INDEX('Standards LOOKUP'!C:C,MATCH(AI1168,'Standards LOOKUP'!B:B,0),0),0)","v":0},{"$f":"IFERROR(INDEX('Current Standards'!P:P,MATCH('Sheet Counter'!AI1168,'Current Standards'!O:O,0),0),\"\")","v":""}]
[null,null,0,"","",{"$error":"#VALUE!"},"",{"$f":"IF(I1171=\"\",\"\",LARGE(H$1:H1170,1)+1)","v":{"$error":"#VALUE!"}},{"$error":"#VALUE!"},1170,{"$error":"#N/A"},"",null,null,1170,0,{"$f":"IF(R1171=\"\",\"\",LARGE(Q$1:Q1170,1)+1)","v":{"$error":"#NUM!"}},{"$error":"#NUM!"},1170,{"$error":"#N/A"},"","",null,null,0,{"$error":"#VALUE!"},3999,"","",null,null,null,null,{"$error":"#VALUE!"},{"$error":"#VALUE!"},{"$f":"COUNTIF('Standards LOOKUP'!B:B,AI1171)","v":0},{"$f":"IFERROR(INDEX('Standards LOOKUP'!C:C,MATCH(AI1171,'Standards LOOKUP'!B:B,0),0),0)","v":0},{"$f":"IFERROR(INDEX('Current Standards'!P:P,MATCH('Sheet Counter'!AI1171,'Current Standards'!O:O,0),0),\"\")","v":""}]
[null,null,0,"","",{"$error":"#VALUE!"},"",{"$f":"IF(I1175=\"\",\"\",LARGE(H$1:H1174,1)+1)","v":{"$error":"#VALUE!"}},{"$error":"#VALUE!"},1174,{"$error":"#N/A"},"",null,null,1174,0,{"$f":"IF(R1175=\"\",\"\",LARGE(Q$1:Q1174,1)+1)","v":{"$error":"#NUM!"}},{"$error":"#NUM!"},1174,{"$error":"#N/A"},"","",null,null,0,{"$error":"#VALUE!"},3999,"","",null,null,null,null,{"$error":"#VALUE!"},{"$error":"#VALUE!"},{"$f":"COUNTIF('Standards LOOKUP'!B:B,AI1175)","v":0},{"$f":"IFERROR(INDEX('Standards LOOKUP'!C:C,MATCH(AI1175,'Standards LOOKUP'!B:B,0),0),0)","v":0},{"$f":"IFERROR(INDEX('Current Standards'!P:P,MATCH('Sheet Counter'!AI1175,'Current Standards'!O:O,0),0),\"\")","v":""}]
[null,null,0,"","",{"$error":"#VALUE!"},"",{"$f":"IF(I1178=\"\",\"\",LARGE(H$1:H1177,1)+1)","v":{"$error":"#VALUE!"}},{"$error":"#VALUE!"},1177,{"$error":"#N/A"},"",null,null,1177,0,{"$f":"IF(R1178=\"\",\"\",LARGE(Q$1:Q1177,1)+1)","v":{"$error":"#NUM!"}},{"$error":"#NUM!"},1177,{"$error":"#N/A"},"","",null,null,0,{"$error":"#VALUE!"},3999,"","",null,null,null,null,{"$error":"#VALUE!"},{"$error":"#VALUE!"},{"$f":"COUNTIF('Standards LOOKUP'!B:B,AI1178)","v":0},{"$f":"IFERROR(INDEX('Standards LOOKUP'!C:C,MATCH(AI1178,'Standards LOOKUP'!B:B,0),0),0)","v":0},{"$f":"IFERROR(INDEX('Current Standards'!P:P,MATCH('Sheet Counter'!AI1178,'Current Standards'!O:O,0),0),\"\")","v":""}]
[null,null,0,"","",{"$error":"#VALUE!"},"",{"$f":"IF(I1180=\"\",\"\",LARGE(H$1:H1179,1)+1)","v":{"$error":"#VALUE!"}},{"$error":"#VALUE!"},1179,{"$error":"#N/A"},"",null,null,1179,0,{"$f":"IF(R1180=\"\",\"\",LARGE(Q$1:Q1179,1)+1)","v":{"$error":"#NUM!"}},{"$error":"#NUM!"},1179,{"$error":"#N/A"},"","",null,null,0,{"$error":"#VALUE!"},3999,"","",null,null,null,null,{"$error":"#VALUE!"},{"$error":"#VALUE!"},{"$f":"COUNTIF('Standards LOOKUP'!B:B,AI1180)","v":0},{"$f":"IFERROR(INDEX('Standards LOOKUP'!C:C,MATCH(AI1180,'Standards LOOKUP'!B:B,0),0),0)","v":0},{"$f":"IFERROR(INDEX('Current Standards'!P:P,MATCH('Sheet Counter'!AI1180,'Current Standards'!O:O,0),0),\"\")","v":""}]
[null,null,0,"","",{"$error":"#VALUE!"},"",{"$f":"IF(I1184=\"\",\"\",LARGE(H$1:H1183,1)+1)","v":{"$error":"#VALUE!"}},{"$error":"#VALUE!"},1183,{"$error":"#N/A"},"",null,null,1183,0,{"$f":"IF(R1184=\"\",\"\",LARGE(Q$1:Q1183,1)+1)","v":{"$error":"#NUM!"}},{"$error":"#NUM!"},1183,{"$error":"#N/A"},"","",null,null,0,{"$error":"#VALUE!"},3999,"","",null,null,null,null,{"$error":"#VALUE!"},{"$error":"#VALUE!"},{"$f":"COUNTIF('Standards LOOKUP'!B:B,AI1184)","v":0},{"$f":"IFERROR(INDEX('Standards LOOKUP'!C:C,MATCH(AI1184,'Standards LOOKUP'!B:B,0),0),0)","v":0},{"$f":"IFERROR(INDEX('Current Standards'!P:P,MATCH('Sheet Counter'!AI1184,'Current Standards'!O:O,0),0),\"\")","v":""}]
[null,null,0,"","",{"$error":"#VALUE!"},"",{"$f":"IF(I1187=\"\",\"\",LARGE(H$1:H1186,1)+1)","v":{"$error":"#VALUE!"}},{"$error":"#VALUE!"},1186,{"$error":"#N/A"},"",null,null,1186,0,{"$f":"IF(R1187=\"\",\"\",LARGE(Q$1:Q1186,1)+1)","v":{"$error":"#NUM!"}},{"$error":"#NUM!"},1186,{"$error":"#N/A"},"","",null,null,0,{"$error":"#VALUE!"},3999,"","",null,null,null,null,{"$error":"#VALUE!"},{"$error":"#VALUE!"},{"$f":"COUNTIF('Standards LOOKUP'!B:B,AI1187)","v":0},{"$f":"IFERROR(INDEX('Standards LOOKUP'!C:C,MATCH(AI1187,'Standards LOOKUP'!B:B,0),0),0)","v":0},{"$f":"IFERROR(INDEX('Current Standards'!P:P,MATCH('Sheet Counter'!AI1187,'Current Standards'!O:O,0),0),\"\")","v":""}]
[null,null,0,"","",{"$error":"#VALUE!"},"",{"$f":"IF(I1189=\"\",\"\",LARGE(H$1:H1188,1)+1)","v":{"$error":"#VALUE!"}},{"$error":"#VALUE!"},1188,{"$error":"#N/A"},"",null,null,1188,0,{"$f":"IF(R1189=\"\",\"\",LARGE(Q$1:Q1188,1)+1)","v":{"$error":"#NUM!"}},{"$error":"#NUM!"},1188,{"$error":"#N/A"},"","",null,null,0,{"$error":"#VALUE!"},3999,"","",null,null,null,null,{"$error":"#VALUE!"},{"$error":"#VALUE!"},{"$f":"COUNTIF('Standards LOOKUP'!B:B,AI1189)","v":0},{"$f":"IFERROR(INDEX('Standards LOOKUP'!C:C,MATCH(AI1189,'Standards LOOKUP'!B:B,0),0),0)","v":0},{"$f":"IFERROR(INDEX('Current Standards'!P:P,MATCH('Sheet Counter'!AI1189,'Current Standards'!O:O,0),0),\"\")","v":""}]
[null,null,0,"","",{"$error":"#VALUE!"},"",{"$f":"IF(I1190=\"\",\"\",LARGE(H$1:H1189,1)+1)","v":{"$error":"#VALUE!"}},{"$error":"#VALUE!"},1189,{"$error":"#N/A"},"",null,null,1189,0,{"$f":"IF(R1190=\"\",\"\",LARGE(Q$1:Q1189,1)+1)","v":{"$error":"#NUM!"}},{"$error":"#NUM!"},1189,{"$error":"#N/A"},"","",null,null,0,{"$error":"#VALUE!"},3999,"","",null,null,null,null,{"$error":"#VALUE!"},{"$error":"#VALUE!"},{"$f":"COUNTIF('Standards LOOKUP'!B:B,AI1190)","v":0},{"$f":"IFERROR(INDEX('Standards LOOKUP'!C:C,MATCH(AI1190,'Standards LOOKUP'!B:B,0),0),0)","v":0},{"$f":"IFERROR(INDEX('Current Standards'!P:P,MATCH('Sheet Counter'!AI1190,'Current Standards'!O:O,0),0),\"\")","v":""}]
[null,null,0,"","",{"$error":"#VALUE!"},"",{"$f":"IF(I1193=\"\",\"\",LARGE(H$1:H1192,1)+1)","v":{"$error":"#VALUE!"}},{"$error":"#VALUE!"},1192,{"$error":"#N/A"},"",null,null,1192,0,{"$f":"IF(R1193=\"\",\"\",LARGE(Q$1:Q1192,1)+1)","v":{"$error":"#NUM!"}},{"$error":"#NUM!"},1192,{"$error":"#N/A"},"","",null,null,0,{"$error":"#VALUE!"},3999,"","",null,null,null,null,{"$error":"#VALUE!"},{"$error":"#VALUE!"},{"$f":"COUNTIF('Standards LOOKUP'!B:B,AI1193)","v":0},{"$f":"IFERROR(INDEX('Standards LOOKUP'!C:C,MATCH(AI1193,'Standards LOOKUP'!B:B,0),0),0)","v":0},{"$f":"IFERROR(INDEX('Current Standards'!P:P,MATCH('Sheet Counter'!AI1193,'Current Standards'!O:O,0),0),\"\")","v":""}]
[null,null,0,"","",{"$error":"#VALUE!"},"",{"$f":"IF(I1197=\"\",\"\",LARGE(H$1:H1196,1)+1)","v":{"$error":"#VALUE!"}},{"$error":"#VALUE!"},1196,{"$error":"#N/A"},"",null,null,1196,0,{"$f":"IF(R1197=\"\",\"\",LARGE(Q$1:Q1196,1)+1)","v":{"$error":"#NUM!"}},{"$error":"#NUM!"},1196,{"$error":"#N/A"},"","",null,null,0,{"$error":"#VALUE!"},3999,"","",null,null,null,null,{"$error":"#VALUE!"},{"$error":"#VALUE!"},{"$f":"COUNTIF('Standards LOOKUP'!B:B,AI1197)","v":0},{"$f":"IFERROR(INDEX('Standards LOOKUP'!C:C,MATCH(AI1197,'Standards LOOKUP'!B:B,0),0),0)","v":0},{"$f":"IFERROR(INDEX('Current Standards'!P:P,MATCH('Sheet Counter'!AI1197,'Current Standards'!O:O,0),0),\"\")","v":""}]
[null,null,0,"","",{"$error":"#VALUE!"},"",{"$f":"IF(I1200=\"\",\"\",LARGE(H$1:H1199,1)+1)","v":{"$error":"#VALUE!"}},{"$error":"#VALUE!"},1199,{"$error":"#N/A"},"",null,null,1199,0,{"$f":"IF(R1200=\"\",\"\",LARGE(Q$1:Q1199,1)+1)","v":{"$error":"#NUM!"}},{"$error":"#NUM!"},1199,{"$error":"#N/A"},"","",null,null,0,{"$error":"#VALUE!"},3999,"","",null,null,null,null,{"$error":"#VALUE!"},{"$error":"#VALUE!"},{"$f":"COUNTIF('Standards LOOKUP'!B:B,AI1200)","v":0},{"$f":"IFERROR(INDEX('Standards LOOKUP'!C:C,MATCH(AI1200,'Standards LOOKUP'!B:B,0),0),0)","v":0},{"$f":"IFERROR(INDEX('Current Standards'!P:P,MATCH('Sheet Counter'!AI1200,'Current Standards'!O:O,0),0),\"\")","v":""}]
[null,null,0,"","",{"$error":"#VALUE!"},"",{"$f":"IF(I1202=\"\",\"\",LARGE(H$1:H1201,1)+1)","v":{"$error":"#VALUE!"}},{"$error":"#VALUE!"},1201,{"$error":"#N/A"},"",null,null,1201,0,{"$f":"IF(R1202=\"\",\"\",LARGE(Q$1:Q1201,1)+1)","v":{"$error":"#NUM!"}},{"$error":"#NUM!"},1201,{"$error":"#N/A"},"","",null,null,0,{"$error":"#VALUE!"},3999,"","",null,null,null,null,{"$error":"#VALUE!"},{"$error":"#VALUE!"},{"$f":"COUNTIF('Standards LOOKUP'!B:B,AI1202)","v":0},{"$f":"IFERROR(INDEX('Standards LOOKUP'!C:C,MATCH(AI1202,'Standards LOOKUP'!B:B,0),0),0)","v":0},{"$f":"IFERROR(INDEX('Current Standards'!P:P,MATCH('Sheet Counter'!AI1202,'Current Standards'!O:O,0),0),\"\")","v":""}]
[null,null,0,"","",{"$error":"#VALUE!"},"",{"$f":"IF(I1206=\"\",\"\",LARGE(H$1:H1205,1)+1)","v":{"$error":"#VALUE!"}},{"$error":"#VALUE!"},1205,{"$f":"VLOOKUP(J1206,H:I,2,0)","v":{"$error":"#N/A"}},{"$f":"IF(ISERROR(K1206),\"\",K1206)","v":""},null,null,1205,0,{"$f":"IF(R1206=\"\",\"\",LARGE(Q$1:Q1205,1)+1)","v":{"$error":"#NUM!"}},{"$error":"#NUM!"},1205,{"$f":"VLOOKUP(S1206,Q:R,2,0)","v":{"$error":"#N/A"}},{"$f":"IF(ISERROR(T1206),\"\",T1206)","v":""},{"$f":"IF(U1206=\"\",\"\",VLOOKUP(U1206,O:P,2,0))","v":""},null,null,0,{"$error":"#VALUE!"},3999,"","",null,null,null,null,{"$error":"#VALUE!"},{"$error":"#VALUE!"},{"$f":"COUNTIF('Standards LOOKUP'!B:B,AI1206)","v":0},{"$f":"IFERROR(INDEX('Standards LOOKUP'!C:C,MATCH(AI1206,'Standards LOOKUP'!B:B,0),0),0)","v":0},{"$f":"IFERROR(INDEX('Current Standards'!P:P,MATCH('Sheet Counter'!AI1206,'Current Standards'!O:O,0),0),\"\")","v":""}]
[null,null,0,"","",{"$error":"#VALUE!"},"",{"$f":"IF(I1209=\"\",\"\",LARGE(H$1:H1208,1)+1)","v":{"$error":"#VALUE!"}},{"$error":"#VALUE!"},1208,{"$error":"#N/A"},"",null,null,1208,0,{"$f":"IF(R1209=\"\",\"\",LARGE(Q$1:Q1208,1)+1)","v":{"$error":"#NUM!"}},{"$error":"#NUM!"},1208,{"$error":"#N/A"},"","",null,null,0,{"$error":"#VALUE!"},3999,"","",null,null,null,null,{"$error":"#VALUE!"},{"$error":"#VALUE!"},{"$f":"COUNTIF('Standards LOOKUP'!B:B,AI1209)","v":0},{"$f":"IFERROR(INDEX('Standards LOOKUP'!C:C,MATCH(AI1209,'Standards LOOKUP'!B:B,0),0),0)","v":0},{"$f":"IFERROR(INDEX('Current Standards'!P:P,MATCH('Sheet Counter'!AI1209,'Current Standards'!O:O,0),0),\"\")","v":""}]
[null,null,0,"","",{"$error":"#VALUE!"},"",{"$f":"IF(I1211=\"\",\"\",LARGE(H$1:H1210,1)+1)","v":{"$error":"#VALUE!"}},{"$error":"#VALUE!"},1210,{"$error":"#N/A"},"",null,null,1210,0,{"$f":"IF(R1211=\"\",\"\",LARGE(Q$1:Q1210,1)+1)","v":{"$error":"#NUM!"}},{"$error":"#NUM!"},1210,{"$error":"#N/A"},"","",null,null,0,{"$error":"#VALUE!"},3999,"","",null,null,null,null,{"$error":"#VALUE!"},{"$error":"#VALUE!"},{"$f":"COUNTIF('Standards LOOKUP'!B:B,AI1211)","v":0},{"$f":"IFERROR(INDEX('Standards LOOKUP'!C:C,MATCH(AI1211,'Standards LOOKUP'!B:B,0),0),0)","v":0},{"$f":"IFERROR(INDEX('Current Standards'!P:P,MATCH('Sheet Counter'!AI1211,'Current Standards'!O:O,0),0),\"\")","v":""}]
[null,null,0,"","",{"$error":"#VALUE!"},"",{"$f":"IF(I1212=\"\",\"\",LARGE(H$1:H1211,1)+1)","v":{"$error":"#VALUE!"}},{"$error":"#VALUE!"},1211,{"$error":"#N/A"},"",null,null,1211,0,{"$f":"IF(R1212=\"\",\"\",LARGE(Q$1:Q1211,1)+1)","v":{"$error":"#NUM!"}},{"$error":"#NUM!"},1211,{"$error":"#N/A"},"","",null,null,0,{"$error":"#VALUE!"},3999,"","",null,null,null,null,{"$error":"#VALUE!"},{"$error":"#VALUE!"},{"$f":"COUNTIF('Standards LOOKUP'!B:B,AI1212)","v":0},{"$f":"IFERROR(INDEX('Standards LOOKUP'!C:C,MATCH(AI1212,'Standards LOOKUP'!B:B,0),0),0)","v":0},{"$f":"IFERROR(INDEX('Current Standards'!P:P,MATCH('Sheet Counter'!AI1212,'Current Standards'!O:O,0),0),\"\")","v":""}]
[null,null,0,"","",{"$error":"#VALUE!"},"",{"$f":"IF(I1215=\"\",\"\",LARGE(H$1:H1214,1)+1)","v":{"$error":"#VALUE!"}},{"$error":"#VALUE!"},1214,{"$error":"#N/A"},"",null,null,1214,0,{"$f":"IF(R1215=\"\",\"\",LARGE(Q$1:Q1214,1)+1)","v":{"$error":"#NUM!"}},{"$error":"#NUM!"},1214,{"$error":"#N/A"},"","",null,null,0,{"$error":"#VALUE!"},3999,"","",null,null,null,null,{"$error":"#VALUE!"},{"$error":"#VALUE!"},{"$f":"COUNTIF('Standards LOOKUP'!B:B,AI1215)","v":0},{"$f":"IFERROR(INDEX('Standards LOOKUP'!C:C,MATCH(AI1215,'Standards LOOKUP'!B:B,0),0),0)","v":0},{"$f":"IFERROR(INDEX('Current Standards'!P:P,MATCH('Sheet Counter'!AI1215,'Current Standards'!O:O,0),0),\"\")","v":""}]
[null,null,{"$f":"IF(ISERROR(FIND(\"\\\",A1219)),A1219,RIGHT(A1219,LEN(A1219)-FIND(\"~\",SUBSTITUTE(A1219,\"\\\",\"~\",LEN(A1219)-LEN(SUBSTITUTE(A1219,\"\\\",\"\"))))))","v":0},{"$f":"IF(AL1219=\"\",\"\",AL1219)","v":""},"",{"$f":"LEFT(C1219,FIND(\"-\",SUBSTITUTE(SUBSTITUTE(C1219,\"_\",\"-\"),\" \",\"-\"))-1)","v":{"$error":"#VALUE!"}},{"$f":"IF(ISNUMBER(F1219*1),F1219*1,\"\")","v":""},{"$f":"IF(I1219=\"\",\"\",LARGE(H$1:H1218,1)+1)","v":{"$error":"#VALUE!"}},{"$error":"#VALUE!"},1218,{"$error":"#N/A"},"",null,null,1218,0,{"$f":"IF(R1219=\"\",\"\",LARGE(Q$1:Q1218,1)+1)","v":{"$error":"#NUM!"}},{"$error":"#NUM!"},1218,{"$error":"#N/A"},"","",null,null,{"$f":"IF(ISERROR(FIND(\"\\\",X1219)),X1219,RIGHT(X1219,LEN(X1219)-FIND(\"~\",SUBSTITUTE(X1219,\"\\\",\"~\",LEN(X1219)-LEN(SUBSTITUTE(X1219,\"\\\",\"\"))))))","v":0},{"$f":"LEFT(Y1219,FIND(\"-\",SUBSTITUTE(SUBSTITUTE(Y1219,\"_\",\"-\"),\" \",\"-\"))-1)","v":{"$error":"#VALUE!"}},{"$f":"COUNTIF(F:F,Z1219)","v":3999},{"$f":"IF(OR(AA1219<1,ISERROR(Z1219)),\"\",INDEX(C:C,MATCH(Z1219,F:F)))","v":""},{"$f":"IF(AA1219=0,\"New Sheet\",IF(EXACT(UPPER(Y1219),UPPER(AB1219)),\"Match\",\"\"))","v":""},null,null,null,null,{"$f":"IF(C1219=\"\",\"\",LEFT(RIGHT(C1219,LEN(C1219)-SEARCH(\" \",C1219,1)),LEN(RIGHT(C1219,LEN(C1219)-SEARCH(\" \",C1219,1)))-4))","v":{"$error":"#VALUE!"}},{"$f":"TRIM(SUBSTITUTE(SUBSTITUTE(SUBSTITUTE(SUBSTITUTE(SUBSTITUTE(SUBSTITUTE(AH1219,\"(\",\"\"),\")\",\"\"),\"-\",\"\"),\"&\",\"\"),\" \",\"\",1),\" \",\"\",1))","v":{"$error":"#VALUE!"}},{"$f":"COUNTIF('Standards LOOKUP'!B:B,AI1219)","v":0},{"$f":"IFERROR(INDEX('Standards LOOKUP'!C:C,MATCH(AI1219,'Standards LOOKUP'!B:B,0),0),0)","v":0},{"$f":"IFERROR(INDEX('Current Standards'!P:P,MATCH('Sheet Counter'!AI1219,'Current Standards'!O:O,0),0),\"\")","v":""}]
[null,null,0,"","",{"$error":"#VALUE!"},"",{"$f":"IF(I1222=\"\",\"\",LARGE(H$1:H1221,1)+1)","v":{"$error":"#VALUE!"}},{"$error":"#VALUE!"},1221,{"$error":"#N/A"},"",null,null,1221,0,{"$f":"IF(R1222=\"\",\"\",LARGE(Q$1:Q1221,1)+1)","v":{"$error":"#NUM!"}},{"$error":"#NUM!"},1221,{"$error":"#N/A"},"","",null,null,0,{"$error":"#VALUE!"},3999,"","",null,null,null,null,{"$error":"#VALUE!"},{"$error":"#VALUE!"},{"$f":"COUNTIF('Standards LOOKUP'!B:B,AI1222)","v":0},{"$f":"IFERROR(INDEX('Standards LOOKUP'!C:C,MATCH(AI1222,'Standards LOOKUP'!B:B,0),0),0)","v":0},{"$f":"IFERROR(INDEX('Current Standards'!P:P,MATCH('Sheet Counter'!AI1222,'Current Standards'!O:O,0),0),\"\")","v":""}]
[null,null,0,"","",{"$error":"#VALUE!"},"",{"$f":"IF(I1224=\"\",\"\",LARGE(H$1:H1223,1)+1)","v":{"$error":"#VALUE!"}},{"$error":"#VALUE!"},1223,{"$error":"#N/A"},"",null,null,1223,0,{"$f":"IF(R1224=\"\",\"\",LARGE(Q$1:Q1223,1)+1)","v":{"$error":"#NUM!"}},{"$error":"#NUM!"},1223,{"$error":"#N/A"},"","",null,null,0,{"$error":"#VALUE!"},3999,"","",null,null,null,null,{"$error":"#VALUE!"},{"$error":"#VALUE!"},{"$f":"COUNTIF('Standards LOOKUP'!B:B,AI1224)","v":0},{"$f":"IFERROR(INDEX('Standards LOOKUP'!C:C,MATCH(AI1224,'Standards LOOKUP'!B:B,0),0),0)","v":0},{"$f":"IFERROR(INDEX('Current Standards'!P:P,MATCH('Sheet Counter'!AI1224,'Current Standards'!O:O,0),0),\"\")","v":""}]
[null,null,0,"","",{"$error":"#VALUE!"},"",{"$f":"IF(I1228=\"\",\"\",LARGE(H$1:H1227,1)+1)","v":{"$error":"#VALUE!"}},{"$error":"#VALUE!"},1227,{"$error":"#N/A"},"",null,null,1227,0,{"$f":"IF(R1228=\"\",\"\",LARGE(Q$1:Q1227,1)+1)","v":{"$error":"#NUM!"}},{"$error":"#NUM!"},1227,{"$error":"#N/A"},"","",null,null,0,{"$error":"#VALUE!"},3999,"","",null,null,null,null,{"$error":"#VALUE!"},{"$error":"#VALUE!"},{"$f":"COUNTIF('Standards LOOKUP'!B:B,AI1228)","v":0},{"$f":"IFERROR(INDEX('Standards LOOKUP'!C:C,MATCH(AI1228,'Standards LOOKUP'!B:B,0),0),0)","v":0},{"$f":"IFERROR(INDEX('Current Standards'!P:P,MATCH('Sheet Counter'!AI1228,'Current Standards'!O:O,0),0),\"\")","v":""}]
[null,null,0,"","",{"$error":"#VALUE!"},"",{"$f":"IF(I1231=\"\",\"\",LARGE(H$1:H1230,1)+1)","v":{"$error":"#VALUE!"}},{"$error":"#VALUE!"},1230,{"$error":"#N/A"},"",null,null,1230,0,{"$f":"IF(R1231=\"\",\"\",LARGE(Q$1:Q1230,1)+1)","v":{"$error":"#NUM!"}},{"$error":"#NUM!"},1230,{"$error":"#N/A"},"","",null,null,0,{"$error":"#VALUE!"},3999,"","",null,null,null,null,{"$error":"#VALUE!"},{"$error":"#VALUE!"},{"$f":"COUNTIF('Standards LOOKUP'!B:B,AI1231)","v":0},{"$f":"IFERROR(INDEX('Standards LOOKUP'!C:C,MATCH(AI1231,'Standards LOOKUP'!B:B,0),0),0)","v":0},{"$f":"IFERROR(INDEX('Current Standards'!P:P,MATCH('Sheet Counter'!AI1231,'Current Standards'!O:O,0),0),\"\")","v":""}]
[null,null,0,"","",{"$error":"#VALUE!"},"",{"$f":"IF(I1233=\"\",\"\",LARGE(H$1:H1232,1)+1)","v":{"$error":"#VALUE!"}},{"$error":"#VALUE!"},1232,{"$error":"#N/A"},"",null,null,1232,0,{"$f":"IF(R1233=\"\",\"\",LARGE(Q$1:Q1232,1)+1)","v":{"$error":"#NUM!"}},{"$error":"#NUM!"},1232,{"$error":"#N/A"},"","",null,null,0,{"$error":"#VALUE!"},3999,"","",null,null,null,null,{"$error":"#VALUE!"},{"$error":"#VALUE!"},{"$f":"COUNTIF('Standards LOOKUP'!B:B,AI1233)","v":0},{"$f":"IFERROR(INDEX('Standards LOOKUP'!C:C,MATCH(AI1233,'Standards LOOKUP'!B:B,0),0),0)","v":0},{"$f":"IFERROR(INDEX('Current Standards'!P:P,MATCH('Sheet Counter'!AI1233,'Current Standards'!O:O,0),0),\"\")","v":""}]
[null,null,0,"","",{"$error":"#VALUE!"},"",{"$f":"IF(I1234=\"\",\"\",LARGE(H$1:H1233,1)+1)","v":{"$error":"#VALUE!"}},{"$error":"#VALUE!"},1233,{"$error":"#N/A"},"",null,null,1233,0,{"$f":"IF(R1234=\"\",\"\",LARGE(Q$1:Q1233,1)+1)","v":{"$error":"#NUM!"}},{"$error":"#NUM!"},1233,{"$error":"#N/A"},"","",null,null,0,{"$error":"#VALUE!"},3999,"","",null,null,null,null,{"$error":"#VALUE!"},{"$error":"#VALUE!"},{"$f":"COUNTIF('Standards LOOKUP'!B:B,AI1234)","v":0},{"$f":"IFERROR(INDEX('Standards LOOKUP'!C:C,MATCH(AI1234,'Standards LOOKUP'!B:B,0),0),0)","v":0},{"$f":"IFERROR(INDEX('Current Standards'!P:P,MATCH('Sheet Counter'!AI1234,'Current Standards'!O:O,0),0),\"\")","v":""}]
[null,null,0,"","",{"$error":"#VALUE!"},"",{"$f":"IF(I1237=\"\",\"\",LARGE(H$1:H1236,1)+1)","v":{"$error":"#VALUE!"}},{"$error":"#VALUE!"},1236,{"$error":"#N/A"},"",null,null,1236,0,{"$f":"IF(R1237=\"\",\"\",LARGE(Q$1:Q1236,1)+1)","v":{"$error":"#NUM!"}},{"$error":"#NUM!"},1236,{"$error":"#N/A"},"","",null,null,0,{"$error":"#VALUE!"},3999,"","",null,null,null,null,{"$error":"#VALUE!"},{"$error":"#VALUE!"},{"$f":"COUNTIF('Standards LOOKUP'!B:B,AI1237)","v":0},{"$f":"IFERROR(INDEX('Standards LOOKUP'!C:C,MATCH(AI1237,'Standards LOOKUP'!B:B,0),0),0)","v":0},{"$f":"IFERROR(INDEX('Current Standards'!P:P,MATCH('Sheet Counter'!AI1237,'Current Standards'!O:O,0),0),\"\")","v":""}]
[null,null,0,"","",{"$error":"#VALUE!"},"",{"$f":"IF(I1241=\"\",\"\",LARGE(H$1:H1240,1)+1)","v":{"$error":"#VALUE!"}},{"$error":"#VALUE!"},1240,{"$error":"#N/A"},"",null,null,1240,0,{"$f":"IF(R1241=\"\",\"\",LARGE(Q$1:Q1240,1)+1)","v":{"$error":"#NUM!"}},{"$error":"#NUM!"},1240,{"$error":"#N/A"},"","",null,null,0,{"$error":"#VALUE!"},3999,"","",null,null,null,null,{"$error":"#VALUE!"},{"$error":"#VALUE!"},{"$f":"COUNTIF('Standards LOOKUP'!B:B,AI1241)","v":0},{"$f":"IFERROR(INDEX('Standards LOOKUP'!C:C,MATCH(AI1241,'Standards LOOKUP'!B:B,0),0),0)","v":0},{"$f":"IFERROR(INDEX('Current Standards'!P:P,MATCH('Sheet Counter'!AI1241,'Current Standards'!O:O,0),0),\"\")","v":""}]
[null,null,0,"","",{"$error":"#VALUE!"},"",{"$f":"IF(I1244=\"\",\"\",LARGE(H$1:H1243,1)+1)","v":{"$error":"#VALUE!"}},{"$error":"#VALUE!"},1243,{"$error":"#N/A"},"",null,null,1243,0,{"$f":"IF(R1244=\"\",\"\",LARGE(Q$1:Q1243,1)+1)","v":{"$error":"#NUM!"}},{"$error":"#NUM!"},1243,{"$error":"#N/A"},"","",null,null,0,{"$error":"#VALUE!"},3999,"","",null,null,null,null,{"$error":"#VALUE!"},{"$error":"#VALUE!"},{"$f":"COUNTIF('Standards LOOKUP'!B:B,AI1244)","v":0},{"$f":"IFERROR(INDEX('Standards LOOKUP'!C:C,MATCH(AI1244,'Standards LOOKUP'!B:B,0),0),0)","v":0},{"$f":"IFERROR(INDEX('Current Standards'!P:P,MATCH('Sheet Counter'!AI1244,'Current Standards'!O:O,0),0),\"\")","v":""}]
[null,null,0,"","",{"$error":"#VALUE!"},"",{"$f":"IF(I1246=\"\",\"\",LARGE(H$1:H1245,1)+1)","v":{"$error":"#VALUE!"}},{"$error":"#VALUE!"},1245,{"$error":"#N/A"},"",null,null,1245,0,{"$f":"IF(R1246=\"\",\"\",LARGE(Q$1:Q1245,1)+1)","v":{"$error":"#NUM!"}},{"$error":"#NUM!"},1245,{"$error":"#N/A"},"","",null,null,0,{"$error":"#VALUE!"},3999,"","",null,null,null,null,{"$error":"#VALUE!"},{"$error":"#VALUE!"},{"$f":"COUNTIF('Standards LOOKUP'!B:B,AI1246)","v":0},{"$f":"IFERROR(INDEX('Standards LOOKUP'!C:C,MATCH(AI1246,'Standards LOOKUP'!B:B,0),0),0)","v":0},{"$f":"IFERROR(INDEX('Current Standards'!P:P,MATCH('Sheet Counter'!AI1246,'Current Standards'!O:O,0),0),\"\")","v":""}]
[null,null,0,"","",{"$error":"#VALUE!"},"",{"$f":"IF(I1250=\"\",\"\",LARGE(H$1:H1249,1)+1)","v":{"$error":"#VALUE!"}},{"$error":"#VALUE!"},1249,{"$error":"#N/A"},"",null,null,1249,0,{"$f":"IF(R1250=\"\",\"\",LARGE(Q$1:Q1249,1)+1)","v":{"$error":"#NUM!"}},{"$error":"#NUM!"},1249,{"$error":"#N/A"},"","",null,null,0,{"$error":"#VALUE!"},3999,"","",null,null,null,null,{"$error":"#VALUE!"},{"$error":"#VALUE!"},{"$f":"COUNTIF('Standards LOOKUP'!B:B,AI1250)","v":0},{"$f":"IFERROR(INDEX('Standards LOOKUP'!C:C,MATCH(AI1250,'Standards LOOKUP'!B:B,0),0),0)","v":0},{"$f":"IFERROR(INDEX('Current Standards'!P:P,MATCH('Sheet Counter'!AI1250,'Current Standards'!O:O,0),0),\"\")","v":""}]
[null,null,0,"","",{"$error":"#VALUE!"},"",{"$f":"IF(I1253=\"\",\"\",LARGE(H$1:H1252,1)+1)","v":{"$error":"#VALUE!"}},{"$error":"#VALUE!"},1252,{"$error":"#N/A"},"",null,null,1252,0,{"$f":"IF(R1253=\"\",\"\",LARGE(Q$1:Q1252,1)+1)","v":{"$error":"#NUM!"}},{"$error":"#NUM!"},1252,{"$error":"#N/A"},"","",null,null,0,{"$error":"#VALUE!"},3999,"","",null,null,null,null,{"$error":"#VALUE!"},{"$error":"#VALUE!"},{"$f":"COUNTIF('Standards LOOKUP'!B:B,AI1253)","v":0},{"$f":"IFERROR(INDEX('Standards LOOKUP'!C:C,MATCH(AI1253,'Standards LOOKUP'!B:B,0),0),0)","v":0},{"$f":"IFERROR(INDEX('Current Standards'!P:P,MATCH('Sheet Counter'!AI1253,'Current Standards'!O:O,0),0),\"\")","v":""}]
[null,null,0,"","",{"$error":"#VALUE!"},"",{"$f":"IF(I1255=\"\",\"\",LARGE(H$1:H1254,1)+1)","v":{"$error":"#VALUE!"}},{"$error":"#VALUE!"},1254,{"$error":"#N/A"},"",null,null,1254,0,{"$f":"IF(R1255=\"\",\"\",LARGE(Q$1:Q1254,1)+1)","v":{"$error":"#NUM!"}},{"$error":"#NUM!"},1254,{"$error":"#N/A"},"","",null,null,0,{"$error":"#VALUE!"},3999,"","",null,null,null,null,{"$error":"#VALUE!"},{"$error":"#VALUE!"},{"$f":"COUNTIF('Standards LOOKUP'!B:B,AI1255)","v":0},{"$f":"IFERROR(INDEX('Standards LOOKUP'!C:C,MATCH(AI1255,'Standards LOOKUP'!B:B,0),0),0)","v":0},{"$f":"IFERROR(INDEX('Current Standards'!P:P,MATCH('Sheet Counter'!AI1255,'Current Standards'!O:O,0),0),\"\")","v":""}]
[null,null,0,"","",{"$error":"#VALUE!"},"",{"$f":"IF(I1256=\"\",\"\",LARGE(H$1:H1255,1)+1)","v":{"$error":"#VALUE!"}},{"$error":"#VALUE!"},1255,{"$error":"#N/A"},"",null,null,1255,0,{"$f":"IF(R1256=\"\",\"\",LARGE(Q$1:Q1255,1)+1)","v":{"$error":"#NUM!"}},{"$error":"#NUM!"},1255,{"$error":"#N/A"},"","",null,null,0,{"$error":"#VALUE!"},3999,"","",null,null,null,null,{"$error":"#VALUE!"},{"$error":"#VALUE!"},{"$f":"COUNTIF('Standards LOOKUP'!B:B,AI1256)","v":0},{"$f":"IFERROR(INDEX('Standards LOOKUP'!C:C,MATCH(AI1256,'Standards LOOKUP'!B:B,0),0),0)","v":0},{"$f":"IFERROR(INDEX('Current Standards'!P:P,MATCH('Sheet Counter'!AI1256,'Current Standards'!O:O,0),0),\"\")","v":""}]
[null,null,0,"","",{"$error":"#VALUE!"},"",{"$f":"IF(I1259=\"\",\"\",LARGE(H$1:H1258,1)+1)","v":{"$error":"#VALUE!"}},{"$error":"#VALUE!"},1258,{"$error":"#N/A"},"",null,null,1258,0,{"$f":"IF(R1259=\"\",\"\",LARGE(Q$1:Q1258,1)+1)","v":{"$error":"#NUM!"}},{"$error":"#NUM!"},1258,{"$error":"#N/A"},"","",null,null,0,{"$error":"#VALUE!"},3999,"","",null,null,null,null,{"$error":"#VALUE!"},{"$error":"#VALUE!"},{"$f":"COUNTIF('Standards LOOKUP'!B:B,AI1259)","v":0},{"$f":"IFERROR(INDEX('Standards LOOKUP'!C:C,MATCH(AI1259,'Standards LOOKUP'!B:B,0),0),0)","v":0},{"$f":"IFERROR(INDEX('Current Standards'!P:P,MATCH('Sheet Counter'!AI1259,'Current Standards'!O:O,0),0),\"\")","v":""}]
[null,null,0,"","",{"$error":"#VALUE!"},"",{"$f":"IF(I1263=\"\",\"\",LARGE(H$1:H1262,1)+1)","v":{"$error":"#VALUE!"}},{"$error":"#VALUE!"},1262,{"$error":"#N/A"},"",null,null,1262,0,{"$f":"IF(R1263=\"\",\"\",LARGE(Q$1:Q1262,1)+1)","v":{"$error":"#NUM!"}},{"$error":"#NUM!"},1262,{"$error":"#N/A"},"","",null,null,0,{"$error":"#VALUE!"},3999,"","",null,null,null,null,{"$error":"#VALUE!"},{"$error":"#VALUE!"},{"$f":"COUNTIF('Standards LOOKUP'!B:B,AI1263)","v":0},{"$f":"IFERROR(INDEX('Standards LOOKUP'!C:C,MATCH(AI1263,'Standards LOOKUP'!B:B,0),0),0)","v":0},{"$f":"IFERROR(INDEX('Current Standards'!P:P,MATCH('Sheet Counter'!AI1263,'Current Standards'!O:O,0),0),\"\")","v":""}]
[null,null,0,"","",{"$error":"#VALUE!"},"",{"$f":"IF(I1266=\"\",\"\",LARGE(H$1:H1265,1)+1)","v":{"$error":"#VALUE!"}},{"$error":"#VALUE!"},1265,{"$error":"#N/A"},"",null,null,1265,0,{"$f":"IF(R1266=\"\",\"\",LARGE(Q$1:Q1265,1)+1)","v":{"$error":"#NUM!"}},{"$error":"#NUM!"},1265,{"$error":"#N/A"},"","",null,null,0,{"$error":"#VALUE!"},3999,"","",null,null,null,null,{"$error":"#VALUE!"},{"$error":"#VALUE!"},{"$f":"COUNTIF('Standards LOOKUP'!B:B,AI1266)","v":0},{"$f":"IFERROR(INDEX('Standards LOOKUP'!C:C,MATCH(AI1266,'Standards LOOKUP'!B:B,0),0),0)","v":0},{"$f":"IFERROR(INDEX('Current Standards'!P:P,MATCH('Sheet Counter'!AI1266,'Current Standards'!O:O,0),0),\"\")","v":""}]
[null,null,0,"","",{"$error":"#VALUE!"},"",{"$f":"IF(I1269=\"\",\"\",LARGE(H$1:H1268,1)+1)","v":{"$error":"#VALUE!"}},{"$error":"#VALUE!"},1268,{"$error":"#N/A"},"",null,null,1268,0,{"$f":"IF(R1269=\"\",\"\",LARGE(Q$1:Q1268,1)+1)","v":{"$error":"#NUM!"}},{"$error":"#NUM!"},1268,{"$error":"#N/A"},"","",null,null,0,{"$error":"#VALUE!"},3999,"","",null,null,null,null,{"$error":"#VALUE!"},{"$error":"#VALUE!"},{"$f":"COUNTIF('Standards LOOKUP'!B:B,AI1269)","v":0},{"$f":"IFERROR(INDEX('Standards LOOKUP'!C:C,MATCH(AI1269,'Standards LOOKUP'!B:B,0),0),0)","v":0},{"$f":"IFERROR(INDEX('Current Standards'!P:P,MATCH('Sheet Counter'!AI1269,'Current Standards'!O:O,0),0),\"\")","v":""}]
[null,null,0,"","",{"$error":"#VALUE!"},"",{"$f":"IF(I1272=\"\",\"\",LARGE(H$1:H1271,1)+1)","v":{"$error":"#VALUE!"}},{"$error":"#VALUE!"},1271,{"$error":"#N/A"},"",null,null,1271,0,{"$f":"IF(R1272=\"\",\"\",LARGE(Q$1:Q1271,1)+1)","v":{"$error":"#NUM!"}},{"$error":"#NUM!"},1271,{"$error":"#N/A"},"","",null,null,0,{"$error":"#VALUE!"},3999,"","",null,null,null,null,{"$error":"#VALUE!"},{"$error":"#VALUE!"},{"$f":"COUNTIF('Standards LOOKUP'!B:B,AI1272)","v":0},{"$f":"IFERROR(INDEX('Standards LOOKUP'!C:C,MATCH(AI1272,'Standards LOOKUP'!B:B,0),0),0)","v":0},{"$f":"IFERROR(INDEX('Current Standards'!P:P,MATCH('Sheet Counter'!AI1272,'Current Standards'!O:O,0),0),\"\")","v":""}]
[null,null,0,"","",{"$error":"#VALUE!"},"",{"$f":"IF(I1275=\"\",\"\",LARGE(H$1:H1274,1)+1)","v":{"$error":"#VALUE!"}},{"$error":"#VALUE!"},1274,{"$error":"#N/A"},"",null,null,1274,0,{"$f":"IF(R1275=\"\",\"\",LARGE(Q$1:Q1274,1)+1)","v":{"$error":"#NUM!"}},{"$error":"#NUM!"},1274,{"$error":"#N/A"},"","",null,null,0,{"$error":"#VALUE!"},3999,"","",null,null,null,null,{"$error":"#VALUE!"},{"$error":"#VALUE!"},{"$f":"COUNTIF('Standards LOOKUP'!B:B,AI1275)","v":0},{"$f":"IFERROR(INDEX('Standards LOOKUP'!C:C,MATCH(AI1275,'Standards LOOKUP'!B:B,0),0),0)","v":0},{"$f":"IFERROR(INDEX('Current Standards'!P:P,MATCH('Sheet Counter'!AI1275,'Current Standards'!O:O,0),0),\"\")","v":""}]
[null,null,0,"","",{"$error":"#VALUE!"},"",{"$f":"IF(I1277=\"\",\"\",LARGE(H$1:H1276,1)+1)","v":{"$error":"#VALUE!"}},{"$error":"#VALUE!"},1276,{"$error":"#N/A"},"",null,null,1276,0,{"$f":"IF(R1277=\"\",\"\",LARGE(Q$1:Q1276,1)+1)","v":{"$error":"#NUM!"}},{"$error":"#NUM!"},1276,{"$error":"#N/A"},"","",null,null,0,{"$error":"#VALUE!"},3999,"","",null,null,null,null,{"$error":"#VALUE!"},{"$error":"#VALUE!"},{"$f":"COUNTIF('Standards LOOKUP'!B:B,AI1277)","v":0},{"$f":"IFERROR(INDEX('Standards LOOKUP'!C:C,MATCH(AI1277,'Standards LOOKUP'!B:B,0),0),0)","v":0},{"$f":"IFERROR(INDEX('Current Standards'!P:P,MATCH('Sheet Counter'!AI1277,'Current Standards'!O:O,0),0),\"\")","v":""}]
[null,null,0,"","",{"$error":"#VALUE!"},"",{"$f":"IF(I1278=\"\",\"\",LARGE(H$1:H1277,1)+1)","v":{"$error":"#VALUE!"}},{"$error":"#VALUE!"},1277,{"$error":"#N/A"},"",null,null,1277,0,{"$f":"IF(R1278=\"\",\"\",LARGE(Q$1:Q1277,1)+1)","v":{"$error":"#NUM!"}},{"$error":"#NUM!"},1277,{"$error":"#N/A"},"","",null,null,0,{"$error":"#VALUE!"},3999,"","",null,null,null,null,{"$error":"#VALUE!"},{"$error":"#VALUE!"},{"$f":"COUNTIF('Standards LOOKUP'!B:B,AI1278)","v":0},{"$f":"IFERROR(INDEX('Standards LOOKUP'!C:C,MATCH(AI1278,'Standards LOOKUP'!B:B,0),0),0)","v":0},{"$f":"IFERROR(INDEX('Current Standards'!P:P,MATCH('Sheet Counter'!AI1278,'Current Standards'!O:O,0),0),\"\")","v":""}]
[null,null,0,"","",{"$error":"#VALUE!"},"",{"$f":"IF(I1281=\"\",\"\",LARGE(H$1:H1280,1)+1)","v":{"$error":"#VALUE!"}},{"$error":"#VALUE!"},1280,{"$error":"#N/A"},"",null,null,1280,0,{"$f":"IF(R1281=\"\",\"\",LARGE(Q$1:Q1280,1)+1)","v":{"$error":"#NUM!"}},{"$error":"#NUM!"},1280,{"$error":"#N/A"},"","",null,null,0,{"$error":"#VALUE!"},3999,"","",null,null,null,null,{"$error":"#VALUE!"},{"$error":"#VALUE!"},{"$f":"COUNTIF('Standards LOOKUP'!B:B,AI1281)","v":0},{"$f":"IFERROR(INDEX('Standards LOOKUP'!C:C,MATCH(AI1281,'Standards LOOKUP'!B:B,0),0),0)","v":0},{"$f":"IFERROR(INDEX('Current Standards'!P:P,MATCH('Sheet Counter'!AI1281,'Current Standards'!O:O,0),0),\"\")","v":""}]
[null,null,0,"","",{"$error":"#VALUE!"},"",{"$f":"IF(I1285=\"\",\"\",LARGE(H$1:H1284,1)+1)","v":{"$error":"#VALUE!"}},{"$error":"#VALUE!"},1284,{"$error":"#N/A"},"",null,null,1284,0,{"$f":"IF(R1285=\"\",\"\",LARGE(Q$1:Q1284,1)+1)","v":{"$error":"#NUM!"}},{"$error":"#NUM!"},1284,{"$error":"#N/A"},"","",null,null,0,{"$error":"#VALUE!"},3999,"","",null,null,null,null,{"$error":"#VALUE!"},{"$error":"#VALUE!"},{"$f":"COUNTIF('Standards LOOKUP'!B:B,AI1285)","v":0},{"$f":"IFERROR(INDEX('Standards LOOKUP'!C:C,MATCH(AI1285,'Standards LOOKUP'!B:B,0),0),0)","v":0},{"$f":"IFERROR(INDEX('Current Standards'!P:P,MATCH('Sheet Counter'!AI1285,'Current Standards'!O:O,0),0),\"\")","v":""}]
[null,null,0,"","",{"$error":"#VALUE!"},"",{"$f":"IF(I1288=\"\",\"\",LARGE(H$1:H1287,1)+1)","v":{"$error":"#VALUE!"}},{"$error":"#VALUE!"},1287,{"$error":"#N/A"},"",null,null,1287,0,{"$f":"IF(R1288=\"\",\"\",LARGE(Q$1:Q1287,1)+1)","v":{"$error":"#NUM!"}},{"$error":"#NUM!"},1287,{"$error":"#N/A"},"","",null,null,0,{"$error":"#VALUE!"},3999,"","",null,null,null,null,{"$error":"#VALUE!"},{"$error":"#VALUE!"},{"$f":"COUNTIF('Standards LOOKUP'!B:B,AI1288)","v":0},{"$f":"IFERROR(INDEX('Standards LOOKUP'!C:C,MATCH(AI1288,'Standards LOOKUP'!B:B,0),0),0)","v":0},{"$f":"IFERROR(INDEX('Current Standards'!P:P,MATCH('Sheet Counter'!AI1288,'Current Standards'!O:O,0),0),\"\")","v":""}]
[null,null,0,"","",{"$error":"#VALUE!"},"",{"$f":"IF(I1291=\"\",\"\",LARGE(H$1:H1290,1)+1)","v":{"$error":"#VALUE!"}},{"$error":"#VALUE!"},1290,{"$error":"#N/A"},"",null,null,1290,0,{"$f":"IF(R1291=\"\",\"\",LARGE(Q$1:Q1290,1)+1)","v":{"$error":"#NUM!"}},{"$error":"#NUM!"},1290,{"$error":"#N/A"},"","",null,null,0,{"$error":"#VALUE!"},3999,"","",null,null,null,null,{"$error":"#VALUE!"},{"$error":"#VALUE!"},{"$f":"COUNTIF('Standards LOOKUP'!B:B,AI1291)","v":0},{"$f":"IFERROR(INDEX('Standards LOOKUP'!C:C,MATCH(AI1291,'Standards LOOKUP'!B:B,0),0),0)","v":0},{"$f":"IFERROR(INDEX('Current Standards'!P:P,MATCH('Sheet Counter'!AI1291,'Current Standards'!O:O,0),0),\"\")","v":""}]
[null,null,0,"","",{"$error":"#VALUE!"},"",{"$f":"IF(I1294=\"\",\"\",LARGE(H$1:H1293,1)+1)","v":{"$error":"#VALUE!"}},{"$error":"#VALUE!"},1293,{"$error":"#N/A"},"",null,null,1293,0,{"$f":"IF(R1294=\"\",\"\",LARGE(Q$1:Q1293,1)+1)","v":{"$error":"#NUM!"}},{"$error":"#NUM!"},1293,{"$error":"#N/A"},"","",null,null,0,{"$error":"#VALUE!"},3999,"","",null,null,null,null,{"$error":"#VALUE!"},{"$error":"#VALUE!"},{"$f":"COUNTIF('Standards LOOKUP'!B:B,AI1294)","v":0},{"$f":"IFERROR(INDEX('Standards LOOKUP'!C:C,MATCH(AI1294,'Standards LOOKUP'!B:B,0),0),0)","v":0},{"$f":"IFERROR(INDEX('Current Standards'!P:P,MATCH('Sheet Counter'!AI1294,'Current Standards'!O:O,0),0),\"\")","v":""}]
[null,null,0,"","",{"$error":"#VALUE!"},"",{"$f":"IF(I1297=\"\",\"\",LARGE(H$1:H1296,1)+1)","v":{"$error":"#VALUE!"}},{"$error":"#VALUE!"},1296,{"$error":"#N/A"},"",null,null,1296,0,{"$f":"IF(R1297=\"\",\"\",LARGE(Q$1:Q1296,1)+1)","v":{"$error":"#NUM!"}},{"$error":"#NUM!"},1296,{"$error":"#N/A"},"","",null,null,0,{"$error":"#VALUE!"},3999,"","",null,null,null,null,{"$error":"#VALUE!"},{"$error":"#VALUE!"},{"$f":"COUNTIF('Standards LOOKUP'!B:B,AI1297)","v":0},{"$f":"IFERROR(INDEX('Standards LOOKUP'!C:C,MATCH(AI1297,'Standards LOOKUP'!B:B,0),0),0)","v":0},{"$f":"IFERROR(INDEX('Current Standards'!P:P,MATCH('Sheet Counter'!AI1297,'Current Standards'!O:O,0),0),\"\")","v":""}]
[null,null,0,"","",{"$error":"#VALUE!"},"",{"$f":"IF(I1299=\"\",\"\",LARGE(H$1:H1298,1)+1)","v":{"$error":"#VALUE!"}},{"$error":"#VALUE!"},1298,{"$error":"#N/A"},"",null,null,1298,0,{"$f":"IF(R1299=\"\",\"\",LARGE(Q$1:Q1298,1)+1)","v":{"$error":"#NUM!"}},{"$error":"#NUM!"},1298,{"$error":"#N/A"},"","",null,null,0,{"$error":"#VALUE!"},3999,"","",null,null,null,null,{"$error":"#VALUE!"},{"$error":"#VALUE!"},{"$f":"COUNTIF('Standards LOOKUP'!B:B,AI1299)","v":0},{"$f":"IFERROR(INDEX('Standards LOOKUP'!C:C,MATCH(AI1299,'Standards LOOKUP'!B:B,0),0),0)","v":0},{"$f":"IFERROR(INDEX('Current Standards'!P:P,MATCH('Sheet Counter'!AI1299,'Current Standards'!O:O,0),0),\"\")","v":""}]
[null,null,0,"","",{"$error":"#VALUE!"},"",{"$f":"IF(I1300=\"\",\"\",LARGE(H$1:H1299,1)+1)","v":{"$error":"#VALUE!"}},{"$error":"#VALUE!"},1299,{"$error":"#N/A"},"",null,null,1299,0,{"$f":"IF(R1300=\"\",\"\",LARGE(Q$1:Q1299,1)+1)","v":{"$error":"#NUM!"}},{"$error":"#NUM!"},1299,{"$error":"#N/A"},"","",null,null,0,{"$error":"#VALUE!"},3999,"","",null,null,null,null,{"$error":"#VALUE!"},{"$error":"#VALUE!"},{"$f":"COUNTIF('Standards LOOKUP'!B:B,AI1300)","v":0},{"$f":"IFERROR(INDEX('Standards LOOKUP'!C:C,MATCH(AI1300,'Standards LOOKUP'!B:B,0),0),0)","v":0},{"$f":"IFERROR(INDEX('Current Standards'!P:P,MATCH('Sheet Counter'!AI1300,'Current Standards'!O:O,0),0),\"\")","v":""}]
[null,null,0,"","",{"$error":"#VALUE!"},"",{"$f":"IF(I1304=\"\",\"\",LARGE(H$1:H1303,1)+1)","v":{"$error":"#VALUE!"}},{"$error":"#VALUE!"},1303,{"$error":"#N/A"},"",null,null,1303,0,{"$f":"IF(R1304=\"\",\"\",LARGE(Q$1:Q1303,1)+1)","v":{"$error":"#NUM!"}},{"$error":"#NUM!"},1303,{"$error":"#N/A"},"","",null,null,0,{"$error":"#VALUE!"},3999,"","",null,null,null,null,{"$error":"#VALUE!"},{"$error":"#VALUE!"},{"$f":"COUNTIF('Standards LOOKUP'!B:B,AI1304)","v":0},{"$f":"IFERROR(INDEX('Standards LOOKUP'!C:C,MATCH(AI1304,'Standards LOOKUP'!B:B,0),0),0)","v":0},{"$f":"IFERROR(INDEX('Current Standards'!P:P,MATCH('Sheet Counter'!AI1304,'Current Standards'!O:O,0),0),\"\")","v":""}]
[null,null,0,"","",{"$error":"#VALUE!"},"",{"$f":"IF(I1307=\"\",\"\",LARGE(H$1:H1306,1)+1)","v":{"$error":"#VALUE!"}},{"$error":"#VALUE!"},1306,{"$error":"#N/A"},"",null,null,1306,0,{"$f":"IF(R1307=\"\",\"\",LARGE(Q$1:Q1306,1)+1)","v":{"$error":"#NUM!"}},{"$error":"#NUM!"},1306,{"$error":"#N/A"},"","",null,null,0,{"$error":"#VALUE!"},3999,"","",null,null,null,null,{"$error":"#VALUE!"},{"$error":"#VALUE!"},{"$f":"COUNTIF('Standards LOOKUP'!B:B,AI1307)","v":0},{"$f":"IFERROR(INDEX('Standards LOOKUP'!C:C,MATCH(AI1307,'Standards LOOKUP'!B:B,0),0),0)","v":0},{"$f":"IFERROR(INDEX('Current Standards'!P:P,MATCH('Sheet Counter'!AI1307,'Current Standards'!O:O,0),0),\"\")","v":""}]
[null,null,0,"","",{"$error":"#VALUE!"},"",{"$f":"IF(I1310=\"\",\"\",LARGE(H$1:H1309,1)+1)","v":{"$error":"#VALUE!"}},{"$error":"#VALUE!"},1309,{"$error":"#N/A"},"",null,null,1309,0,{"$f":"IF(R1310=\"\",\"\",LARGE(Q$1:Q1309,1)+1)","v":{"$error":"#NUM!"}},{"$error":"#NUM!"},1309,{"$error":"#N/A"},"","",null,null,0,{"$error":"#VALUE!"},3999,"","",null,null,null,null,{"$error":"#VALUE!"},{"$error":"#VALUE!"},{"$f":"COUNTIF('Standards LOOKUP'!B:B,AI1310)","v":0},{"$f":"IFERROR(INDEX('Standards LOOKUP'!C:C,MATCH(AI1310,'Standards LOOKUP'!B:B,0),0),0)","v":0},{"$f":"IFERROR(INDEX('Current Standards'!P:P,MATCH('Sheet Counter'!AI1310,'Current Standards'!O:O,0),0),\"\")","v":""}]
[null,null,0,"","",{"$error":"#VALUE!"},"",{"$f":"IF(I1313=\"\",\"\",LARGE(H$1:H1312,1)+1)","v":{"$error":"#VALUE!"}},{"$error":"#VALUE!"},1312,{"$error":"#N/A"},"",null,null,1312,0,{"$f":"IF(R1313=\"\",\"\",LARGE(Q$1:Q1312,1)+1)","v":{"$error":"#NUM!"}},{"$error":"#NUM!"},1312,{"$error":"#N/A"},"","",null,null,0,{"$error":"#VALUE!"},3999,"","",null,null,null,null,{"$error":"#VALUE!"},{"$error":"#VALUE!"},{"$f":"COUNTIF('Standards LOOKUP'!B:B,AI1313)","v":0},{"$f":"IFERROR(INDEX('Standards LOOKUP'!C:C,MATCH(AI1313,'Standards LOOKUP'!B:B,0),0),0)","v":0},{"$f":"IFERROR(INDEX('Current Standards'!P:P,MATCH('Sheet Counter'!AI1313,'Current Standards'!O:O,0),0),\"\")","v":""}]
[null,null,0,"","",{"$error":"#VALUE!"},"",{"$f":"IF(I1316=\"\",\"\",LARGE(H$1:H1315,1)+1)","v":{"$error":"#VALUE!"}},{"$error":"#VALUE!"},1315,{"$error":"#N/A"},"",null,null,1315,0,{"$f":"IF(R1316=\"\",\"\",LARGE(Q$1:Q1315,1)+1)","v":{"$error":"#NUM!"}},{"$error":"#NUM!"},1315,{"$error":"#N/A"},"","",null,null,0,{"$error":"#VALUE!"},3999,"","",null,null,null,null,{"$error":"#VALUE!"},{"$error":"#VALUE!"},{"$f":"COUNTIF('Standards LOOKUP'!B:B,AI1316)","v":0},{"$f":"IFERROR(INDEX('Standards LOOKUP'!C:C,MATCH(AI1316,'Standards LOOKUP'!B:B,0),0),0)","v":0},{"$f":"IFERROR(INDEX('Current Standards'!P:P,MATCH('Sheet Counter'!AI1316,'Current Standards'!O:O,0),0),\"\")","v":""}]
[null,null,0,"","",{"$error":"#VALUE!"},"",{"$f":"IF(I1319=\"\",\"\",LARGE(H$1:H1318,1)+1)","v":{"$error":"#VALUE!"}},{"$error":"#VALUE!"},1318,{"$error":"#N/A"},"",null,null,1318,0,{"$f":"IF(R1319=\"\",\"\",LARGE(Q$1:Q1318,1)+1)","v":{"$error":"#NUM!"}},{"$error":"#NUM!"},1318,{"$error":"#N/A"},"","",null,null,0,{"$error":"#VALUE!"},3999,"","",null,null,null,null,{"$error":"#VALUE!"},{"$error":"#VALUE!"},{"$f":"COUNTIF('Standards LOOKUP'!B:B,AI1319)","v":0},{"$f":"IFERROR(INDEX('Standards LOOKUP'!C:C,MATCH(AI1319,'Standards LOOKUP'!B:B,0),0),0)","v":0},{"$f":"IFERROR(INDEX('Current Standards'!P:P,MATCH('Sheet Counter'!AI1319,'Current Standards'!O:O,0),0),\"\")","v":""}]
[null,null,0,"","",{"$error":"#VALUE!"},"",{"$f":"IF(I1321=\"\",\"\",LARGE(H$1:H1320,1)+1)","v":{"$error":"#VALUE!"}},{"$error":"#VALUE!"},1320,{"$error":"#N/A"},"",null,null,1320,0,{"$f":"IF(R1321=\"\",\"\",LARGE(Q$1:Q1320,1)+1)","v":{"$error":"#NUM!"}},{"$error":"#NUM!"},1320,{"$error":"#N/A"},"","",null,null,0,{"$error":"#VALUE!"},3999,"","",null,null,null,null,{"$error":"#VALUE!"},{"$error":"#VALUE!"},{"$f":"COUNTIF('Standards LOOKUP'!B:B,AI1321)","v":0},{"$f":"IFERROR(INDEX('Standards LOOKUP'!C:C,MATCH(AI1321,'Standards LOOKUP'!B:B,0),0),0)","v":0},{"$f":"IFERROR(INDEX('Current Standards'!P:P,MATCH('Sheet Counter'!AI1321,'Current Standards'!O:O,0),0),\"\")","v":""}]
[null,null,0,"","",{"$error":"#VALUE!"},"",{"$f":"IF(I1322=\"\",\"\",LARGE(H$1:H1321,1)+1)","v":{"$error":"#VALUE!"}},{"$error":"#VALUE!"},1321,{"$error":"#N/A"},"",null,null,1321,0,{"$f":"IF(R1322=\"\",\"\",LARGE(Q$1:Q1321,1)+1)","v":{"$error":"#NUM!"}},{"$error":"#NUM!"},1321,{"$error":"#N/A"},"","",null,null,0,{"$error":"#VALUE!"},3999,"","",null,null,null,null,{"$error":"#VALUE!"},{"$error":"#VALUE!"},{"$f":"COUNTIF('Standards LOOKUP'!B:B,AI1322)","v":0},{"$f":"IFERROR(INDEX('Standards LOOKUP'!C:C,MATCH(AI1322,'Standards LOOKUP'!B:B,0),0),0)","v":0},{"$f":"IFERROR(INDEX('Current Standards'!P:P,MATCH('Sheet Counter'!AI1322,'Current Standards'!O:O,0),0),\"\")","v":""}]
[null,null,0,"","",{"$error":"#VALUE!"},"",{"$f":"IF(I1326=\"\",\"\",LARGE(H$1:H1325,1)+1)","v":{"$error":"#VALUE!"}},{"$error":"#VALUE!"},1325,{"$error":"#N/A"},"",null,null,1325,0,{"$f":"IF(R1326=\"\",\"\",LARGE(Q$1:Q1325,1)+1)","v":{"$error":"#NUM!"}},{"$error":"#NUM!"},1325,{"$error":"#N/A"},"","",null,null,0,{"$error":"#VALUE!"},3999,"","",null,null,null,null,{"$error":"#VALUE!"},{"$error":"#VALUE!"},{"$f":"COUNTIF('Standards LOOKUP'!B:B,AI1326)","v":0},{"$f":"IFERROR(INDEX('Standards LOOKUP'!C:C,MATCH(AI1326,'Standards LOOKUP'!B:B,0),0),0)","v":0},{"$f":"IFERROR(INDEX('Current Standards'!P:P,MATCH('Sheet Counter'!AI1326,'Current Standards'!O:O,0),0),\"\")","v":""}]
[null,null,0,"","",{"$error":"#VALUE!"},"",{"$f":"IF(I1329=\"\",\"\",LARGE(H$1:H1328,1)+1)","v":{"$error":"#VALUE!"}},{"$error":"#VALUE!"},1328,{"$error":"#N/A"},"",null,null,1328,0,{"$f":"IF(R1329=\"\",\"\",LARGE(Q$1:Q1328,1)+1)","v":{"$error":"#NUM!"}},{"$error":"#NUM!"},1328,{"$error":"#N/A"},"","",null,null,0,{"$error":"#VALUE!"},3999,"","",null,null,null,null,{"$error":"#VALUE!"},{"$error":"#VALUE!"},{"$f":"COUNTIF('Standards LOOKUP'!B:B,AI1329)","v":0},{"$f":"IFERROR(INDEX('Standards LOOKUP'!C:C,MATCH(AI1329,'Standards LOOKUP'!B:B,0),0),0)","v":0},{"$f":"IFERROR(INDEX('Current Standards'!P:P,MATCH('Sheet Counter'!AI1329,'Current Standards'!O:O,0),0),\"\")","v":""}]
[null,null,0,"","",{"$error":"#VALUE!"},"",{"$f":"IF(I1332=\"\",\"\",LARGE(H$1:H1331,1)+1)","v":{"$error":"#VALUE!"}},{"$error":"#VALUE!"},1331,{"$error":"#N/A"},"",null,null,1331,0,{"$f":"IF(R1332=\"\",\"\",LARGE(Q$1:Q1331,1)+1)","v":{"$error":"#NUM!"}},{"$error":"#NUM!"},1331,{"$error":"#N/A"},"","",null,null,0,{"$error":"#VALUE!"},3999,"","",null,null,null,null,{"$error":"#VALUE!"},{"$error":"#VALUE!"},{"$f":"COUNTIF('Standards LOOKUP'!B:B,AI1332)","v":0},{"$f":"IFERROR(INDEX('Standards LOOKUP'!C:C,MATCH(AI1332,'Standards LOOKUP'!B:B,0),0),0)","v":0},{"$f":"IFERROR(INDEX('Current Standards'!P:P,MATCH('Sheet Counter'!AI1332,'Current Standards'!O:O,0),0),\"\")","v":""}]
[null,null,0,"","",{"$error":"#VALUE!"},"",{"$f":"IF(I1335=\"\",\"\",LARGE(H$1:H1334,1)+1)","v":{"$error":"#VALUE!"}},{"$error":"#VALUE!"},1334,{"$error":"#N/A"},"",null,null,1334,0,{"$f":"IF(R1335=\"\",\"\",LARGE(Q$1:Q1334,1)+1)","v":{"$error":"#NUM!"}},{"$error":"#NUM!"},1334,{"$error":"#N/A"},"","",null,null,0,{"$error":"#VALUE!"},3999,"","",null,null,null,null,{"$error":"#VALUE!"},{"$error":"#VALUE!"},{"$f":"COUNTIF('Standards LOOKUP'!B:B,AI1335)","v":0},{"$f":"IFERROR(INDEX('Standards LOOKUP'!C:C,MATCH(AI1335,'Standards LOOKUP'!B:B,0),0),0)","v":0},{"$f":"IFERROR(INDEX('Current Standards'!P:P,MATCH('Sheet Counter'!AI1335,'Current Standards'!O:O,0),0),\"\")","v":""}]
[null,null,0,"","",{"$error":"#VALUE!"},"",{"$f":"IF(I1338=\"\",\"\",LARGE(H$1:H1337,1)+1)","v":{"$error":"#VALUE!"}},{"$error":"#VALUE!"},1337,{"$error":"#N/A"},"",null,null,1337,0,{"$f":"IF(R1338=\"\",\"\",LARGE(Q$1:Q1337,1)+1)","v":{"$error":"#NUM!"}},{"$error":"#NUM!"},1337,{"$error":"#N/A"},"","",null,null,0,{"$error":"#VALUE!"},3999,"","",null,null,null,null,{"$error":"#VALUE!"},{"$error":"#VALUE!"},{"$f":"COUNTIF('Standards LOOKUP'!B:B,AI1338)","v":0},{"$f":"IFERROR(INDEX('Standards LOOKUP'!C:C,MATCH(AI1338,'Standards LOOKUP'!B:B,0),0),0)","v":0},{"$f":"IFERROR(INDEX('Current Standards'!P:P,MATCH('Sheet Counter'!AI1338,'Current Standards'!O:O,0),0),\"\")","v":""}]
[null,null,0,"","",{"$error":"#VALUE!"},"",{"$f":"IF(I1341=\"\",\"\",LARGE(H$1:H1340,1)+1)","v":{"$error":"#VALUE!"}},{"$error":"#VALUE!"},1340,{"$error":"#N/A"},"",null,null,1340,0,{"$f":"IF(R1341=\"\",\"\",LARGE(Q$1:Q1340,1)+1)","v":{"$error":"#NUM!"}},{"$error":"#NUM!"},1340,{"$error":"#N/A"},"","",null,null,0,{"$error":"#VALUE!"},3999,"","",null,null,null,null,{"$error":"#VALUE!"},{"$error":"#VALUE!"},{"$f":"COUNTIF('Standards LOOKUP'!B:B,AI1341)","v":0},{"$f":"IFERROR(INDEX('Standards LOOKUP'!C:C,MATCH(AI1341,'Standards LOOKUP'!B:B,0),0),0)","v":0},{"$f":"IFERROR(INDEX('Current Standards'!P:P,MATCH('Sheet Counter'!AI1341,'Current Standards'!O:O,0),0),\"\")","v":""}]
[null,null,0,"","",{"$error":"#VALUE!"},"",{"$f":"IF(I1343=\"\",\"\",LARGE(H$1:H1342,1)+1)","v":{"$error":"#VALUE!"}},{"$error":"#VALUE!"},1342,{"$error":"#N/A"},"",null,null,1342,0,{"$f":"IF(R1343=\"\",\"\",LARGE(Q$1:Q1342,1)+1)","v":{"$error":"#NUM!"}},{"$error":"#NUM!"},1342,{"$error":"#N/A"},"","",null,null,0,{"$error":"#VALUE!"},3999,"","",null,null,null,null,{"$error":"#VALUE!"},{"$error":"#VALUE!"},{"$f":"COUNTIF('Standards LOOKUP'!B:B,AI1343)","v":0},{"$f":"IFERROR(INDEX('Standards LOOKUP'!C:C,MATCH(AI1343,'Standards LOOKUP'!B:B,0),0),0)","v":0},{"$f":"IFERROR(INDEX('Current Standards'!P:P,MATCH('Sheet Counter'!AI1343,'Current Standards'!O:O,0),0),\"\")","v":""}]
[null,null,0,"","",{"$error":"#VALUE!"},"",{"$f":"IF(I1344=\"\",\"\",LARGE(H$1:H1343,1)+1)","v":{"$error":"#VALUE!"}},{"$error":"#VALUE!"},1343,{"$error":"#N/A"},"",null,null,1343,0,{"$f":"IF(R1344=\"\",\"\",LARGE(Q$1:Q1343,1)+1)","v":{"$error":"#NUM!"}},{"$error":"#NUM!"},1343,{"$error":"#N/A"},"","",null,null,0,{"$error":"#VALUE!"},3999,"","",null,null,null,null,{"$error":"#VALUE!"},{"$error":"#VALUE!"},{"$f":"COUNTIF('Standards LOOKUP'!B:B,AI1344)","v":0},{"$f":"IFERROR(INDEX('Standards LOOKUP'!C:C,MATCH(AI1344,'Standards LOOKUP'!B:B,0),0),0)","v":0},{"$f":"IFERROR(INDEX('Current Standards'!P:P,MATCH('Sheet Counter'!AI1344,'Current Standards'!O:O,0),0),\"\")","v":""}]
[null,null,0,"","",{"$error":"#VALUE!"},"",{"$f":"IF(I1348=\"\",\"\",LARGE(H$1:H1347,1)+1)","v":{"$error":"#VALUE!"}},{"$error":"#VALUE!"},1347,{"$error":"#N/A"},"",null,null,1347,0,{"$f":"IF(R1348=\"\",\"\",LARGE(Q$1:Q1347,1)+1)","v":{"$error":"#NUM!"}},{"$f":"IF(AND(P1348<>1,O1348<=LARGE(G:G,1),O1348>=SMALL(G:G,1)),O1348,\"\")","v":{"$error":"#NUM!"}},1347,{"$error":"#N/A"},"","",null,null,0,{"$error":"#VALUE!"},3999,"","",null,null,null,null,{"$error":"#VALUE!"},{"$error":"#VALUE!"},{"$f":"COUNTIF('Standards LOOKUP'!B:B,AI1348)","v":0},{"$f":"IFERROR(INDEX('Standards LOOKUP'!C:C,MATCH(AI1348,'Standards LOOKUP'!B:B,0),0),0)","v":0},{"$f":"IFERROR(INDEX('Current Standards'!P:P,MATCH('Sheet Counter'!AI1348,'Current Standards'!O:O,0),0),\"\")","v":""}]
[null,null,0,"","",{"$error":"#VALUE!"},"",{"$f":"IF(I1351=\"\",\"\",LARGE(H$1:H1350,1)+1)","v":{"$error":"#VALUE!"}},{"$error":"#VALUE!"},1350,{"$error":"#N/A"},"",null,null,1350,0,{"$f":"IF(R1351=\"\",\"\",LARGE(Q$1:Q1350,1)+1)","v":{"$error":"#NUM!"}},{"$error":"#NUM!"},1350,{"$error":"#N/A"},"","",null,null,0,{"$error":"#VALUE!"},3999,"","",null,null,null,null,{"$error":"#VALUE!"},{"$error":"#VALUE!"},{"$f":"COUNTIF('Standards LOOKUP'!B:B,AI1351)","v":0},{"$f":"IFERROR(INDEX('Standards LOOKUP'!C:C,MATCH(AI1351,'Standards LOOKUP'!B:B,0),0),0)","v":0},{"$f":"IFERROR(INDEX('Current Standards'!P:P,MATCH('Sheet Counter'!AI1351,'Current Standards'!O:O,0),0),\"\")","v":""}]
[null,null,0,"","",{"$error":"#VALUE!"},"",{"$f":"IF(I1354=\"\",\"\",LARGE(H$1:H1353,1)+1)","v":{"$error":"#VALUE!"}},{"$error":"#VALUE!"},1353,{"$error":"#N/A"},"",null,null,1353,0,{"$f":"IF(R1354=\"\",\"\",LARGE(Q$1:Q1353,1)+1)","v":{"$error":"#NUM!"}},{"$error":"#NUM!"},1353,{"$error":"#N/A"},"","",null,null,0,{"$error":"#VALUE!"},3999,"","",null,null,null,null,{"$error":"#VALUE!"},{"$error":"#VALUE!"},{"$f":"COUNTIF('Standards LOOKUP'!B:B,AI1354)","v":0},{"$f":"IFERROR(INDEX('Standards LOOKUP'!C:C,MATCH(AI1354,'Standards LOOKUP'!B:B,0),0),0)","v":0},{"$f":"IFERROR(INDEX('Current Standards'!P:P,MATCH('Sheet Counter'!AI1354,'Current Standards'!O:O,0),0),\"\")","v":""}]
[null,null,0,"","",{"$error":"#VALUE!"},"",{"$f":"IF(I1357=\"\",\"\",LARGE(H$1:H1356,1)+1)","v":{"$error":"#VALUE!"}},{"$error":"#VALUE!"},1356,{"$error":"#N/A"},"",null,null,1356,0,{"$f":"IF(R1357=\"\",\"\",LARGE(Q$1:Q1356,1)+1)","v":{"$error":"#NUM!"}},{"$error":"#NUM!"},1356,{"$error":"#N/A"},"","",null,null,0,{"$error":"#VALUE!"},3999,"","",null,null,null,null,{"$error":"#VALUE!"},{"$error":"#VALUE!"},{"$f":"COUNTIF('Standards LOOKUP'!B:B,AI1357)","v":0},{"$f":"IFERROR(INDEX('Standards LOOKUP'!C:C,MATCH(AI1357,'Standards LOOKUP'!B:B,0),0),0)","v":0},{"$f":"IFERROR(INDEX('Current Standards'!P:P,MATCH('Sheet Counter'!AI1357,'Current Standards'!O:O,0),0),\"\")","v":""}]
[null,null,0,"","",{"$error":"#VALUE!"},"",{"$f":"IF(I1360=\"\",\"\",LARGE(H$1:H1359,1)+1)","v":{"$error":"#VALUE!"}},{"$error":"#VALUE!"},1359,{"$error":"#N/A"},"",null,null,1359,0,{"$f":"IF(R1360=\"\",\"\",LARGE(Q$1:Q1359,1)+1)","v":{"$error":"#NUM!"}},{"$error":"#NUM!"},1359,{"$error":"#N/A"},"","",null,null,0,{"$error":"#VALUE!"},3999,"","",null,null,null,null,{"$error":"#VALUE!"},{"$error":"#VALUE!"},{"$f":"COUNTIF('Standards LOOKUP'!B:B,AI1360)","v":0},{"$f":"IFERROR(INDEX('Standards LOOKUP'!C:C,MATCH(AI1360,'Standards LOOKUP'!B:B,0),0),0)","v":0},{"$f":"IFERROR(INDEX('Current Standards'!P:P,MATCH('Sheet Counter'!AI1360,'Current Standards'!O:O,0),0),\"\")","v":""}]
[null,null,0,"","",{"$error":"#VALUE!"},"",{"$f":"IF(I1361=\"\",\"\",LARGE(H$1:H1360,1)+1)","v":{"$error":"#VALUE!"}},{"$error":"#VALUE!"},1360,{"$error":"#N/A"},"",null,null,1360,0,{"$f":"IF(R1361=\"\",\"\",LARGE(Q$1:Q1360,1)+1)","v":{"$error":"#NUM!"}},{"$error":"#NUM!"},1360,{"$error":"#N/A"},"","",null,null,0,{"$error":"#VALUE!"},3999,"","",null,null,null,null,{"$error":"#VALUE!"},{"$error":"#VALUE!"},{"$f":"COUNTIF('Standards LOOKUP'!B:B,AI1361)","v":0},{"$f":"IFERROR(INDEX('Standards LOOKUP'!C:C,MATCH(AI1361,'Standards LOOKUP'!B:B,0),0),0)","v":0},{"$f":"IFERROR(INDEX('Current Standards'!P:P,MATCH('Sheet Counter'!AI1361,'Current Standards'!O:O,0),0),\"\")","v":""}]
[null,null,0,"","",{"$error":"#VALUE!"},"",{"$f":"IF(I1365=\"\",\"\",LARGE(H$1:H1364,1)+1)","v":{"$error":"#VALUE!"}},{"$error":"#VALUE!"},1364,{"$error":"#N/A"},"",null,null,1364,0,{"$f":"IF(R1365=\"\",\"\",LARGE(Q$1:Q1364,1)+1)","v":{"$error":"#NUM!"}},{"$error":"#NUM!"},1364,{"$error":"#N/A"},"","",null,null,0,{"$error":"#VALUE!"},3999,"","",null,null,null,null,{"$error":"#VALUE!"},{"$error":"#VALUE!"},{"$f":"COUNTIF('Standards LOOKUP'!B:B,AI1365)","v":0},{"$f":"IFERROR(INDEX('Standards LOOKUP'!C:C,MATCH(AI1365,'Standards LOOKUP'!B:B,0),0),0)","v":0},{"$f":"IFERROR(INDEX('Current Standards'!P:P,MATCH('Sheet Counter'!AI1365,'Current Standards'!O:O,0),0),\"\")","v":""}]
[null,null,0,"","",{"$error":"#VALUE!"},"",{"$f":"IF(I1366=\"\",\"\",LARGE(H$1:H1365,1)+1)","v":{"$error":"#VALUE!"}},{"$error":"#VALUE!"},1365,{"$error":"#N/A"},"",null,null,1365,0,{"$f":"IF(R1366=\"\",\"\",LARGE(Q$1:Q1365,1)+1)","v":{"$error":"#NUM!"}},{"$error":"#NUM!"},1365,{"$error":"#N/A"},"","",null,null,0,{"$error":"#VALUE!"},3999,"","",null,null,null,null,{"$error":"#VALUE!"},{"$error":"#VALUE!"},{"$f":"COUNTIF('Standards LOOKUP'!B:B,AI1366)","v":0},{"$f":"IFERROR(INDEX('Standards LOOKUP'!C:C,MATCH(AI1366,'Standards LOOKUP'!B:B,0),0),0)","v":0},{"$f":"IFERROR(INDEX('Current Standards'!P:P,MATCH('Sheet Counter'!AI1366,'Current Standards'!O:O,0),0),\"\")","v":""}]
[null,null,0,"","",{"$error":"#VALUE!"},"",{"$f":"IF(I1370=\"\",\"\",LARGE(H$1:H1369,1)+1)","v":{"$error":"#VALUE!"}},{"$error":"#VALUE!"},1369,{"$error":"#N/A"},"",null,null,1369,0,{"$f":"IF(R1370=\"\",\"\",LARGE(Q$1:Q1369,1)+1)","v":{"$error":"#NUM!"}},{"$error":"#NUM!"},1369,{"$error":"#N/A"},"","",null,null,0,{"$error":"#VALUE!"},3999,"","",null,null,null,null,{"$error":"#VALUE!"},{"$error":"#VALUE!"},{"$f":"COUNTIF('Standards LOOKUP'!B:B,AI1370)","v":0},{"$f":"IFERROR(INDEX('Standards LOOKUP'!C:C,MATCH(AI1370,'Standards LOOKUP'!B:B,0),0),0)","v":0},{"$f":"IFERROR(INDEX('Current Standards'!P:P,MATCH('Sheet Counter'!AI1370,'Current Standards'!O:O,0),0),\"\")","v":""}]
[null,null,0,"","",{"$error":"#VALUE!"},"",{"$f":"IF(I1373=\"\",\"\",LARGE(H$1:H1372,1)+1)","v":{"$error":"#VALUE!"}},{"$error":"#VALUE!"},1372,{"$error":"#N/A"},"",null,null,1372,0,{"$f":"IF(R1373=\"\",\"\",LARGE(Q$1:Q1372,1)+1)","v":{"$error":"#NUM!"}},{"$error":"#NUM!"},1372,{"$error":"#N/A"},"","",null,null,0,{"$error":"#VALUE!"},3999,"","",null,null,null,null,{"$error":"#VALUE!"},{"$error":"#VALUE!"},{"$f":"COUNTIF('Standards LOOKUP'!B:B,AI1373)","v":0},{"$f":"IFERROR(INDEX('Standards LOOKUP'!C:C,MATCH(AI1373,'Standards LOOKUP'!B:B,0),0),0)","v":0},{"$f":"IFERROR(INDEX('Current Standards'!P:P,MATCH('Sheet Counter'!AI1373,'Current Standards'!O:O,0),0),\"\")","v":""}]
[null,null,0,"","",{"$error":"#VALUE!"},"",{"$f":"IF(I1376=\"\",\"\",LARGE(H$1:H1375,1)+1)","v":{"$error":"#VALUE!"}},{"$error":"#VALUE!"},1375,{"$error":"#N/A"},"",null,null,1375,0,{"$f":"IF(R1376=\"\",\"\",LARGE(Q$1:Q1375,1)+1)","v":{"$error":"#NUM!"}},{"$error":"#NUM!"},1375,{"$error":"#N/A"},"","",null,null,0,{"$error":"#VALUE!"},3999,"","",null,null,null,null,{"$error":"#VALUE!"},{"$error":"#VALUE!"},{"$f":"COUNTIF('Standards LOOKUP'!B:B,AI1376)","v":0},{"$f":"IFERROR(INDEX('Standards LOOKUP'!C:C,MATCH(AI1376,'Standards LOOKUP'!B:B,0),0),0)","v":0},{"$f":"IFERROR(INDEX('Current Standards'!P:P,MATCH('Sheet Counter'!AI1376,'Current Standards'!O:O,0),0),\"\")","v":""}]
[null,null,0,"","",{"$error":"#VALUE!"},"",{"$f":"IF(I1379=\"\",\"\",LARGE(H$1:H1378,1)+1)","v":{"$error":"#VALUE!"}},{"$error":"#VALUE!"},1378,{"$error":"#N/A"},"",null,null,1378,0,{"$f":"IF(R1379=\"\",\"\",LARGE(Q$1:Q1378,1)+1)","v":{"$error":"#NUM!"}},{"$error":"#NUM!"},1378,{"$error":"#N/A"},"","",null,null,0,{"$error":"#VALUE!"},3999,"","",null,null,null,null,{"$error":"#VALUE!"},{"$error":"#VALUE!"},{"$f":"COUNTIF('Standards LOOKUP'!B:B,AI1379)","v":0},{"$f":"IFERROR(INDEX('Standards LOOKUP'!C:C,MATCH(AI1379,'Standards LOOKUP'!B:B,0),0),0)","v":0},{"$f":"IFERROR(INDEX('Current Standards'!P:P,MATCH('Sheet Counter'!AI1379,'Current Standards'!O:O,0),0),\"\")","v":""}]
[null,null,0,"","",{"$error":"#VALUE!"},"",{"$f":"IF(I1382=\"\",\"\",LARGE(H$1:H1381,1)+1)","v":{"$error":"#VALUE!"}},{"$error":"#VALUE!"},1381,{"$error":"#N/A"},"",null,null,1381,0,{"$f":"IF(R1382=\"\",\"\",LARGE(Q$1:Q1381,1)+1)","v":{"$error":"#NUM!"}},{"$error":"#NUM!"},1381,{"$error":"#N/A"},"","",null,null,0,{"$error":"#VALUE!"},3999,"","",null,null,null,null,{"$error":"#VALUE!"},{"$error":"#VALUE!"},{"$f":"COUNTIF('Standards LOOKUP'!B:B,AI1382)","v":0},{"$f":"IFERROR(INDEX('Standards LOOKUP'!C:C,MATCH(AI1382,'Standards LOOKUP'!B:B,0),0),0)","v":0},{"$f":"IFERROR(INDEX('Current Standards'!P:P,MATCH('Sheet Counter'!AI1382,'Current Standards'!O:O,0),0),\"\")","v":""}]
[null,null,0,"","",{"$error":"#VALUE!"},"",{"$f":"IF(I1383=\"\",\"\",LARGE(H$1:H1382,1)+1)","v":{"$error":"#VALUE!"}},{"$error":"#VALUE!"},1382,{"$error":"#N/A"},"",null,null,1382,0,{"$f":"IF(R1383=\"\",\"\",LARGE(Q$1:Q1382,1)+1)","v":{"$error":"#NUM!"}},{"$error":"#NUM!"},1382,{"$error":"#N/A"},"","",null,null,0,{"$error":"#VALUE!"},3999,"","",null,null,null,null,{"$error":"#VALUE!"},{"$error":"#VALUE!"},{"$f":"COUNTIF('Standards LOOKUP'!B:B,AI1383)","v":0},{"$f":"IFERROR(INDEX('Standards LOOKUP'!C:C,MATCH(AI1383,'Standards LOOKUP'!B:B,0),0),0)","v":0},{"$f":"IFERROR(INDEX('Current Standards'!P:P,MATCH('Sheet Counter'!AI1383,'Current Standards'!O:O,0),0),\"\")","v":""}]
[null,null,0,"","",{"$error":"#VALUE!"},"",{"$f":"IF(I1387=\"\",\"\",LARGE(H$1:H1386,1)+1)","v":{"$error":"#VALUE!"}},{"$error":"#VALUE!"},1386,{"$error":"#N/A"},"",null,null,1386,0,{"$f":"IF(R1387=\"\",\"\",LARGE(Q$1:Q1386,1)+1)","v":{"$error":"#NUM!"}},{"$error":"#NUM!"},1386,{"$error":"#N/A"},"","",null,null,0,{"$error":"#VALUE!"},3999,"","",null,null,null,null,{"$error":"#VALUE!"},{"$error":"#VALUE!"},{"$f":"COUNTIF('Standards LOOKUP'!B:B,AI1387)","v":0},{"$f":"IFERROR(INDEX('Standards LOOKUP'!C:C,MATCH(AI1387,'Standards LOOKUP'!B:B,0),0),0)","v":0},{"$f":"IFERROR(INDEX('Current Standards'!P:P,MATCH('Sheet Counter'!AI1387,'Current Standards'!O:O,0),0),\"\")","v":""}]
[null,null,0,"","",{"$error":"#VALUE!"},"",{"$f":"IF(I1388=\"\",\"\",LARGE(H$1:H1387,1)+1)","v":{"$error":"#VALUE!"}},{"$error":"#VALUE!"},1387,{"$error":"#N/A"},"",null,null,1387,0,{"$f":"IF(R1388=\"\",\"\",LARGE(Q$1:Q1387,1)+1)","v":{"$error":"#NUM!"}},{"$error":"#NUM!"},1387,{"$error":"#N/A"},"","",null,null,0,{"$error":"#VALUE!"},3999,"","",null,null,null,null,{"$error":"#VALUE!"},{"$error":"#VALUE!"},{"$f":"COUNTIF('Standards LOOKUP'!B:B,AI1388)","v":0},{"$f":"IFERROR(INDEX('Standards LOOKUP'!C:C,MATCH(AI1388,'Standards LOOKUP'!B:B,0),0),0)","v":0},{"$f":"IFERROR(INDEX('Current Standards'!P:P,MATCH('Sheet Counter'!AI1388,'Current Standards'!O:O,0),0),\"\")","v":""}]
[null,null,0,"","",{"$error":"#VALUE!"},"",{"$f":"IF(I1392=\"\",\"\",LARGE(H$1:H1391,1)+1)","v":{"$error":"#VALUE!"}},{"$error":"#VALUE!"},1391,{"$error":"#N/A"},"",null,null,1391,0,{"$f":"IF(R1392=\"\",\"\",LARGE(Q$1:Q1391,1)+1)","v":{"$error":"#NUM!"}},{"$error":"#NUM!"},1391,{"$error":"#N/A"},"","",null,null,0,{"$error":"#VALUE!"},3999,"","",null,null,null,null,{"$error":"#VALUE!"},{"$error":"#VALUE!"},{"$f":"COUNTIF('Standards LOOKUP'!B:B,AI1392)","v":0},{"$f":"IFERROR(INDEX('Standards LOOKUP'!C:C,MATCH(AI1392,'Standards LOOKUP'!B:B,0),0),0)","v":0},{"$f":"IFERROR(INDEX('Current Standards'!P:P,MATCH('Sheet Counter'!AI1392,'Current Standards'!O:O,0),0),\"\")","v":""}]
[null,null,0,"","",{"$error":"#VALUE!"},"",{"$f":"IF(I1395=\"\",\"\",LARGE(H$1:H1394,1)+1)","v":{"$error":"#VALUE!"}},{"$error":"#VALUE!"},1394,{"$error":"#N/A"},"",null,null,1394,0,{"$f":"IF(R1395=\"\",\"\",LARGE(Q$1:Q1394,1)+1)","v":{"$error":"#NUM!"}},{"$error":"#NUM!"},1394,{"$error":"#N/A"},"","",null,null,0,{"$error":"#VALUE!"},3999,"","",null,null,null,null,{"$error":"#VALUE!"},{"$error":"#VALUE!"},{"$f":"COUNTIF('Standards LOOKUP'!B:B,AI1395)","v":0},{"$f":"IFERROR(INDEX('Standards LOOKUP'!C:C,MATCH(AI1395,'Standards LOOKUP'!B:B,0),0),0)","v":0},{"$f":"IFERROR(INDEX('Current Standards'!P:P,MATCH('Sheet Counter'!AI1395,'Current Standards'!O:O,0),0),\"\")","v":""}]
[null,null,0,"","",{"$error":"#VALUE!"},"",{"$f":"IF(I1398=\"\",\"\",LARGE(H$1:H1397,1)+1)","v":{"$error":"#VALUE!"}},{"$error":"#VALUE!"},1397,{"$f":"VLOOKUP(J1398,H:I,2,0)","v":{"$error":"#N/A"}},{"$f":"IF(ISERROR(K1398),\"\",K1398)","v":""},null,null,1397,0,{"$f":"IF(R1398=\"\",\"\",LARGE(Q$1:Q1397,1)+1)","v":{"$error":"#NUM!"}},{"$error":"#NUM!"},1397,{"$f":"VLOOKUP(S1398,Q:R,2,0)","v":{"$error":"#N/A"}},{"$f":"IF(ISERROR(T1398),\"\",T1398)","v":""},{"$f":"IF(U1398=\"\",\"\",VLOOKUP(U1398,O:P,2,0))","v":""},null,null,0,{"$error":"#VALUE!"},3999,"","",null,null,null,null,{"$error":"#VALUE!"},{"$error":"#VALUE!"},{"$f":"COUNTIF('Standards LOOKUP'!B:B,AI1398)","v":0},{"$f":"IFERROR(INDEX('Standards LOOKUP'!C:C,MATCH(AI1398,'Standards LOOKUP'!B:B,0),0),0)","v":0},{"$f":"IFERROR(INDEX('Current Standards'!P:P,MATCH('Sheet Counter'!AI1398,'Current Standards'!O:O,0),0),\"\")","v":""}]
[null,null,0,"","",{"$error":"#VALUE!"},"",{"$f":"IF(I1401=\"\",\"\",LARGE(H$1:H1400,1)+1)","v":{"$error":"#VALUE!"}},{"$error":"#VALUE!"},1400,{"$error":"#N/A"},"",null,null,1400,0,{"$f":"IF(R1401=\"\",\"\",LARGE(Q$1:Q1400,1)+1)","v":{"$error":"#NUM!"}},{"$error":"#NUM!"},1400,{"$error":"#N/A"},"","",null,null,0,{"$error":"#VALUE!"},3999,"","",null,null,null,null,{"$error":"#VALUE!"},{"$error":"#VALUE!"},{"$f":"COUNTIF('Standards LOOKUP'!B:B,AI1401)","v":0},{"$f":"IFERROR(INDEX('Standards LOOKUP'!C:C,MATCH(AI1401,'Standards LOOKUP'!B:B,0),0),0)","v":0},{"$f":"IFERROR(INDEX('Current Standards'!P:P,MATCH('Sheet Counter'!AI1401,'Current Standards'!O:O,0),0),\"\")","v":""}]
[null,null,0,"","",{"$error":"#VALUE!"},"",{"$f":"IF(I1404=\"\",\"\",LARGE(H$1:H1403,1)+1)","v":{"$error":"#VALUE!"}},{"$error":"#VALUE!"},1403,{"$error":"#N/A"},"",null,null,1403,0,{"$f":"IF(R1404=\"\",\"\",LARGE(Q$1:Q1403,1)+1)","v":{"$error":"#NUM!"}},{"$error":"#NUM!"},1403,{"$error":"#N/A"},"","",null,null,0,{"$error":"#VALUE!"},3999,"","",null,null,null,null,{"$error":"#VALUE!"},{"$error":"#VALUE!"},{"$f":"COUNTIF('Standards LOOKUP'!B:B,AI1404)","v":0},{"$f":"IFERROR(INDEX('Standards LOOKUP'!C:C,MATCH(AI1404,'Standards LOOKUP'!B:B,0),0),0)","v":0},{"$f":"IFERROR(INDEX('Current Standards'!P:P,MATCH('Sheet Counter'!AI1404,'Current Standards'!O:O,0),0),\"\")","v":""}]
[null,null,0,"","",{"$error":"#VALUE!"},"",{"$f":"IF(I1405=\"\",\"\",LARGE(H$1:H1404,1)+1)","v":{"$error":"#VALUE!"}},{"$error":"#VALUE!"},1404,{"$error":"#N/A"},"",null,null,1404,0,{"$f":"IF(R1405=\"\",\"\",LARGE(Q$1:Q1404,1)+1)","v":{"$error":"#NUM!"}},{"$error":"#NUM!"},1404,{"$error":"#N/A"},"","",null,null,0,{"$error":"#VALUE!"},3999,"","",null,null,null,null,{"$error":"#VALUE!"},{"$error":"#VALUE!"},{"$f":"COUNTIF('Standards LOOKUP'!B:B,AI1405)","v":0},{"$f":"IFERROR(INDEX('Standards LOOKUP'!C:C,MATCH(AI1405,'Standards LOOKUP'!B:B,0),0),0)","v":0},{"$f":"IFERROR(INDEX('Current Standards'!P:P,MATCH('Sheet Counter'!AI1405,'Current Standards'!O:O,0),0),\"\")","v":""}]
[null,null,0,"","",{"$error":"#VALUE!"},"",{"$f":"IF(I1409=\"\",\"\",LARGE(H$1:H1408,1)+1)","v":{"$error":"#VALUE!"}},{"$error":"#VALUE!"},1408,{"$error":"#N/A"},"",null,null,1408,0,{"$f":"IF(R1409=\"\",\"\",LARGE(Q$1:Q1408,1)+1)","v":{"$error":"#NUM!"}},{"$error":"#NUM!"},1408,{"$error":"#N/A"},"","",null,null,0,{"$error":"#VALUE!"},3999,"","",null,null,null,null,{"$error":"#VALUE!"},{"$error":"#VALUE!"},{"$f":"COUNTIF('Standards LOOKUP'!B:B,AI1409)","v":0},{"$f":"IFERROR(INDEX('Standards LOOKUP'!C:C,MATCH(AI1409,'Standards LOOKUP'!B:B,0),0),0)","v":0},{"$f":"IFERROR(INDEX('Current Standards'!P:P,MATCH('Sheet Counter'!AI1409,'Current Standards'!O:O,0),0),\"\")","v":""}]
[null,null,0,"","",{"$error":"#VALUE!"},"",{"$f":"IF(I1410=\"\",\"\",LARGE(H$1:H1409,1)+1)","v":{"$error":"#VALUE!"}},{"$f":"IF(G1410=\"\",F1410,\"\")","v":{"$error":"#VALUE!"}},1409,{"$error":"#N/A"},"",null,null,1409,{"$f":"COUNTIF(G:G,O1410)","v":0},{"$f":"IF(R1410=\"\",\"\",LARGE(Q$1:Q1409,1)+1)","v":{"$error":"#NUM!"}},{"$error":"#NUM!"},1409,{"$error":"#N/A"},"","",null,null,0,{"$error":"#VALUE!"},3999,"","",null,null,null,null,{"$error":"#VALUE!"},{"$error":"#VALUE!"},{"$f":"COUNTIF('Standards LOOKUP'!B:B,AI1410)","v":0},{"$f":"IFERROR(INDEX('Standards LOOKUP'!C:C,MATCH(AI1410,'Standards LOOKUP'!B:B,0),0),0)","v":0},{"$f":"IFERROR(INDEX('Current Standards'!P:P,MATCH('Sheet Counter'!AI1410,'Current Standards'!O:O,0),0),\"\")","v":""}]
[null,null,0,"","",{"$error":"#VALUE!"},"",{"$f":"IF(I1414=\"\",\"\",LARGE(H$1:H1413,1)+1)","v":{"$error":"#VALUE!"}},{"$error":"#VALUE!"},1413,{"$error":"#N/A"},"",null,null,1413,0,{"$f":"IF(R1414=\"\",\"\",LARGE(Q$1:Q1413,1)+1)","v":{"$error":"#NUM!"}},{"$error":"#NUM!"},1413,{"$error":"#N/A"},"","",null,null,0,{"$error":"#VALUE!"},3999,"","",null,null,null,null,{"$error":"#VALUE!"},{"$error":"#VALUE!"},{"$f":"COUNTIF('Standards LOOKUP'!B:B,AI1414)","v":0},{"$f":"IFERROR(INDEX('Standards LOOKUP'!C:C,MATCH(AI1414,'Standards LOOKUP'!B:B,0),0),0)","v":0},{"$f":"IFERROR(INDEX('Current Standards'!P:P,MATCH('Sheet Counter'!AI1414,'Current Standards'!O:O,0),0),\"\")","v":""}]
[null,null,0,"","",{"$error":"#VALUE!"},"",{"$f":"IF(I1417=\"\",\"\",LARGE(H$1:H1416,1)+1)","v":{"$error":"#VALUE!"}},{"$error":"#VALUE!"},1416,{"$error":"#N/A"},"",null,null,1416,0,{"$f":"IF(R1417=\"\",\"\",LARGE(Q$1:Q1416,1)+1)","v":{"$error":"#NUM!"}},{"$error":"#NUM!"},1416,{"$error":"#N/A"},"","",null,null,0,{"$error":"#VALUE!"},3999,"","",null,null,null,null,{"$error":"#VALUE!"},{"$error":"#VALUE!"},{"$f":"COUNTIF('Standards LOOKUP'!B:B,AI1417)","v":0},{"$f":"IFERROR(INDEX('Standards LOOKUP'!C:C,MATCH(AI1417,'Standards LOOKUP'!B:B,0),0),0)","v":0},{"$f":"IFERROR(INDEX('Current Standards'!P:P,MATCH('Sheet Counter'!AI1417,'Current Standards'!O:O,0),0),\"\")","v":""}]
[null,null,0,"","",{"$error":"#VALUE!"},"",{"$f":"IF(I1420=\"\",\"\",LARGE(H$1:H1419,1)+1)","v":{"$error":"#VALUE!"}},{"$error":"#VALUE!"},1419,{"$error":"#N/A"},"",null,null,1419,0,{"$f":"IF(R1420=\"\",\"\",LARGE(Q$1:Q1419,1)+1)","v":{"$error":"#NUM!"}},{"$error":"#NUM!"},1419,{"$error":"#N/A"},"","",null,null,0,{"$error":"#VALUE!"},3999,"","",null,null,null,null,{"$error":"#VALUE!"},{"$error":"#VALUE!"},{"$f":"COUNTIF('Standards LOOKUP'!B:B,AI1420)","v":0},{"$f":"IFERROR(INDEX('Standards LOOKUP'!C:C,MATCH(AI1420,'Standards LOOKUP'!B:B,0),0),0)","v":0},{"$f":"IFERROR(INDEX('Current Standards'!P:P,MATCH('Sheet Counter'!AI1420,'Current Standards'!O:O,0),0),\"\")","v":""}]
[null,null,0,"","",{"$error":"#VALUE!"},"",{"$f":"IF(I1423=\"\",\"\",LARGE(H$1:H1422,1)+1)","v":{"$error":"#VALUE!"}},{"$error":"#VALUE!"},1422,{"$error":"#N/A"},"",null,null,1422,0,{"$f":"IF(R1423=\"\",\"\",LARGE(Q$1:Q1422,1)+1)","v":{"$error":"#NUM!"}},{"$error":"#NUM!"},1422,{"$error":"#N/A"},"","",null,null,0,{"$error":"#VALUE!"},3999,"","",null,null,null,null,{"$error":"#VALUE!"},{"$error":"#VALUE!"},{"$f":"COUNTIF('Standards LOOKUP'!B:B,AI1423)","v":0},{"$f":"IFERROR(INDEX('Standards LOOKUP'!C:C,MATCH(AI1423,'Standards LOOKUP'!B:B,0),0),0)","v":0},{"$f":"IFERROR(INDEX('Current Standards'!P:P,MATCH('Sheet Counter'!AI1423,'Current Standards'!O:O,0),0),\"\")","v":""}]
[null,null,0,"","",{"$error":"#VALUE!"},"",{"$f":"IF(I1426=\"\",\"\",LARGE(H$1:H1425,1)+1)","v":{"$error":"#VALUE!"}},{"$error":"#VALUE!"},1425,{"$error":"#N/A"},"",null,null,1425,0,{"$f":"IF(R1426=\"\",\"\",LARGE(Q$1:Q1425,1)+1)","v":{"$error":"#NUM!"}},{"$error":"#NUM!"},1425,{"$error":"#N/A"},"","",null,null,0,{"$error":"#VALUE!"},3999,"","",null,null,null,null,{"$error":"#VALUE!"},{"$error":"#VALUE!"},{"$f":"COUNTIF('Standards LOOKUP'!B:B,AI1426)","v":0},{"$f":"IFERROR(INDEX('Standards LOOKUP'!C:C,MATCH(AI1426,'Standards LOOKUP'!B:B,0),0),0)","v":0},{"$f":"IFERROR(INDEX('Current Standards'!P:P,MATCH('Sheet Counter'!AI1426,'Current Standards'!O:O,0),0),\"\")","v":""}]
[null,null,0,"","",{"$error":"#VALUE!"},"",{"$f":"IF(I1427=\"\",\"\",LARGE(H$1:H1426,1)+1)","v":{"$error":"#VALUE!"}},{"$error":"#VALUE!"},1426,{"$error":"#N/A"},"",null,null,1426,0,{"$f":"IF(R1427=\"\",\"\",LARGE(Q$1:Q1426,1)+1)","v":{"$error":"#NUM!"}},{"$error":"#NUM!"},1426,{"$error":"#N/A"},"","",null,null,0,{"$error":"#VALUE!"},3999,"","",null,null,null,null,{"$error":"#VALUE!"},{"$error":"#VALUE!"},{"$f":"COUNTIF('Standards LOOKUP'!B:B,AI1427)","v":0},{"$f":"IFERROR(INDEX('Standards LOOKUP'!C:C,MATCH(AI1427,'Standards LOOKUP'!B:B,0),0),0)","v":0},{"$f":"IFERROR(INDEX('Current Standards'!P:P,MATCH('Sheet Counter'!AI1427,'Current Standards'!O:O,0),0),\"\")","v":""}]
[null,null,0,"","",{"$error":"#VALUE!"},"",{"$f":"IF(I1431=\"\",\"\",LARGE(H$1:H1430,1)+1)","v":{"$error":"#VALUE!"}},{"$error":"#VALUE!"},1430,{"$error":"#N/A"},"",null,null,1430,0,{"$f":"IF(R1431=\"\",\"\",LARGE(Q$1:Q1430,1)+1)","v":{"$error":"#NUM!"}},{"$error":"#NUM!"},1430,{"$error":"#N/A"},"","",null,null,0,{"$error":"#VALUE!"},3999,"","",null,null,null,null,{"$error":"#VALUE!"},{"$error":"#VALUE!"},{"$f":"COUNTIF('Standards LOOKUP'!B:B,AI1431)","v":0},{"$f":"IFERROR(INDEX('Standards LOOKUP'!C:C,MATCH(AI1431,'Standards LOOKUP'!B:B,0),0),0)","v":0},{"$f":"IFERROR(INDEX('Current Standards'!P:P,MATCH('Sheet Counter'!AI1431,'Current Standards'!O:O,0),0),\"\")","v":""}]
[null,null,0,"","",{"$error":"#VALUE!"},"",{"$f":"IF(I1432=\"\",\"\",LARGE(H$1:H1431,1)+1)","v":{"$error":"#VALUE!"}},{"$error":"#VALUE!"},1431,{"$error":"#N/A"},"",null,null,1431,0,{"$f":"IF(R1432=\"\",\"\",LARGE(Q$1:Q1431,1)+1)","v":{"$error":"#NUM!"}},{"$error":"#NUM!"},1431,{"$error":"#N/A"},"","",null,null,0,{"$error":"#VALUE!"},3999,"","",null,null,null,null,{"$error":"#VALUE!"},{"$error":"#VALUE!"},{"$f":"COUNTIF('Standards LOOKUP'!B:B,AI1432)","v":0},{"$f":"IFERROR(INDEX('Standards LOOKUP'!C:C,MATCH(AI1432,'Standards LOOKUP'!B:B,0),0),0)","v":0},{"$f":"IFERROR(INDEX('Current Standards'!P:P,MATCH('Sheet Counter'!AI1432,'Current Standards'!O:O,0),0),\"\")","v":""}]
[null,null,0,"","",{"$error":"#VALUE!"},"",{"$f":"IF(I1436=\"\",\"\",LARGE(H$1:H1435,1)+1)","v":{"$error":"#VALUE!"}},{"$error":"#VALUE!"},1435,{"$error":"#N/A"},"",null,null,1435,0,{"$f":"IF(R1436=\"\",\"\",LARGE(Q$1:Q1435,1)+1)","v":{"$error":"#NUM!"}},{"$error":"#NUM!"},1435,{"$error":"#N/A"},"","",null,null,0,{"$error":"#VALUE!"},3999,"","",null,null,null,null,{"$error":"#VALUE!"},{"$error":"#VALUE!"},{"$f":"COUNTIF('Standards LOOKUP'!B:B,AI1436)","v":0},{"$f":"IFERROR(INDEX('Standards LOOKUP'!C:C,MATCH(AI1436,'Standards LOOKUP'!B:B,0),0),0)","v":0},{"$f":"IFERROR(INDEX('Current Standards'!P:P,MATCH('Sheet Counter'!AI1436,'Current Standards'!O:O,0),0),\"\")","v":""}]
[null,null,0,"","",{"$error":"#VALUE!"},"",{"$f":"IF(I1439=\"\",\"\",LARGE(H$1:H1438,1)+1)","v":{"$error":"#VALUE!"}},{"$error":"#VALUE!"},1438,{"$error":"#N/A"},"",null,null,1438,0,{"$f":"IF(R1439=\"\",\"\",LARGE(Q$1:Q1438,1)+1)","v":{"$error":"#NUM!"}},{"$error":"#NUM!"},1438,{"$error":"#N/A"},"","",null,null,0,{"$error":"#VALUE!"},3999,"","",null,null,null,null,{"$error":"#VALUE!"},{"$error":"#VALUE!"},{"$f":"COUNTIF('Standards LOOKUP'!B:B,AI1439)","v":0},{"$f":"IFERROR(INDEX('Standards LOOKUP'!C:C,MATCH(AI1439,'Standards LOOKUP'!B:B,0),0),0)","v":0},{"$f":"IFERROR(INDEX('Current Standards'!P:P,MATCH('Sheet Counter'!AI1439,'Current Standards'!O:O,0),0),\"\")","v":""}]
[null,null,0,"","",{"$error":"#VALUE!"},"",{"$f":"IF(I1442=\"\",\"\",LARGE(H$1:H1441,1)+1)","v":{"$error":"#VALUE!"}},{"$error":"#VALUE!"},1441,{"$error":"#N/A"},"",null,null,1441,0,{"$f":"IF(R1442=\"\",\"\",LARGE(Q$1:Q1441,1)+1)","v":{"$error":"#NUM!"}},{"$error":"#NUM!"},1441,{"$error":"#N/A"},"","",null,null,0,{"$error":"#VALUE!"},3999,"","",null,null,null,null,{"$error":"#VALUE!"},{"$error":"#VALUE!"},{"$f":"COUNTIF('Standards LOOKUP'!B:B,AI1442)","v":0},{"$f":"IFERROR(INDEX('Standards LOOKUP'!C:C,MATCH(AI1442,'Standards LOOKUP'!B:B,0),0),0)","v":0},{"$f":"IFERROR(INDEX('Current Standards'!P:P,MATCH('Sheet Counter'!AI1442,'Current Standards'!O:O,0),0),\"\")","v":""}]
[null,null,0,"","",{"$error":"#VALUE!"},"",{"$f":"IF(I1445=\"\",\"\",LARGE(H$1:H1444,1)+1)","v":{"$error":"#VALUE!"}},{"$error":"#VALUE!"},1444,{"$error":"#N/A"},"",null,null,1444,0,{"$f":"IF(R1445=\"\",\"\",LARGE(Q$1:Q1444,1)+1)","v":{"$error":"#NUM!"}},{"$error":"#NUM!"},1444,{"$error":"#N/A"},"","",null,null,0,{"$error":"#VALUE!"},3999,"","",null,null,null,null,{"$error":"#VALUE!"},{"$error":"#VALUE!"},{"$f":"COUNTIF('Standards LOOKUP'!B:B,AI1445)","v":0},{"$f":"IFERROR(INDEX('Standards LOOKUP'!C:C,MATCH(AI1445,'Standards LOOKUP'!B:B,0),0),0)","v":0},{"$f":"IFERROR(INDEX('Current Standards'!P:P,MATCH('Sheet Counter'!AI1445,'Current Standards'!O:O,0),0),\"\")","v":""}]
[null,null,0,"","",{"$error":"#VALUE!"},"",{"$f":"IF(I1448=\"\",\"\",LARGE(H$1:H1447,1)+1)","v":{"$error":"#VALUE!"}},{"$error":"#VALUE!"},1447,{"$error":"#N/A"},"",null,null,1447,0,{"$f":"IF(R1448=\"\",\"\",LARGE(Q$1:Q1447,1)+1)","v":{"$error":"#NUM!"}},{"$error":"#NUM!"},1447,{"$error":"#N/A"},"","",null,null,0,{"$error":"#VALUE!"},3999,"","",null,null,null,null,{"$error":"#VALUE!"},{"$error":"#VALUE!"},{"$f":"COUNTIF('Standards LOOKUP'!B:B,AI1448)","v":0},{"$f":"IFERROR(INDEX('Standards LOOKUP'!C:C,MATCH(AI1448,'Standards LOOKUP'!B:B,0),0),0)","v":0},{"$f":"IFERROR(INDEX('Current Standards'!P:P,MATCH('Sheet Counter'!AI1448,'Current Standards'!O:O,0),0),\"\")","v":""}]
[null,null,0,"","",{"$error":"#VALUE!"},"",{"$f":"IF(I1449=\"\",\"\",LARGE(H$1:H1448,1)+1)","v":{"$error":"#VALUE!"}},{"$error":"#VALUE!"},1448,{"$error":"#N/A"},"",null,null,1448,0,{"$f":"IF(R1449=\"\",\"\",LARGE(Q$1:Q1448,1)+1)","v":{"$error":"#NUM!"}},{"$error":"#NUM!"},1448,{"$error":"#N/A"},"","",null,null,0,{"$error":"#VALUE!"},3999,"","",null,null,null,null,{"$error":"#VALUE!"},{"$error":"#VALUE!"},{"$f":"COUNTIF('Standards LOOKUP'!B:B,AI1449)","v":0},{"$f":"IFERROR(INDEX('Standards LOOKUP'!C:C,MATCH(AI1449,'Standards LOOKUP'!B:B,0),0),0)","v":0},{"$f":"IFERROR(INDEX('Current Standards'!P:P,MATCH('Sheet Counter'!AI1449,'Current Standards'!O:O,0),0),\"\")","v":""}]
[null,null,0,"","",{"$error":"#VALUE!"},"",{"$f":"IF(I1453=\"\",\"\",LARGE(H$1:H1452,1)+1)","v":{"$error":"#VALUE!"}},{"$error":"#VALUE!"},1452,{"$error":"#N/A"},"",null,null,1452,0,{"$f":"IF(R1453=\"\",\"\",LARGE(Q$1:Q1452,1)+1)","v":{"$error":"#NUM!"}},{"$error":"#NUM!"},1452,{"$error":"#N/A"},"","",null,null,0,{"$error":"#VALUE!"},3999,"","",null,null,null,null,{"$error":"#VALUE!"},{"$error":"#VALUE!"},{"$f":"COUNTIF('Standards LOOKUP'!B:B,AI1453)","v":0},{"$f":"IFERROR(INDEX('Standards LOOKUP'!C:C,MATCH(AI1453,'Standards LOOKUP'!B:B,0),0),0)","v":0},{"$f":"IFERROR(INDEX('Current Standards'!P:P,MATCH('Sheet Counter'!AI1453,'Current Standards'!O:O,0),0),\"\")","v":""}]
[null,null,0,"","",{"$error":"#VALUE!"},"",{"$f":"IF(I1455=\"\",\"\",LARGE(H$1:H1454,1)+1)","v":{"$error":"#VALUE!"}},{"$error":"#VALUE!"},1454,{"$error":"#N/A"},"",null,null,1454,0,{"$f":"IF(R1455=\"\",\"\",LARGE(Q$1:Q1454,1)+1)","v":{"$error":"#NUM!"}},{"$error":"#NUM!"},1454,{"$error":"#N/A"},"","",null,null,0,{"$error":"#VALUE!"},3999,"","",null,null,null,null,{"$error":"#VALUE!"},{"$error":"#VALUE!"},{"$f":"COUNTIF('Standards LOOKUP'!B:B,AI1455)","v":0},{"$f":"IFERROR(INDEX('Standards LOOKUP'!C:C,MATCH(AI1455,'Standards LOOKUP'!B:B,0),0),0)","v":0},{"$f":"IFERROR(INDEX('Current Standards'!P:P,MATCH('Sheet Counter'!AI1455,'Current Standards'!O:O,0),0),\"\")","v":""}]
[null,null,0,"","",{"$error":"#VALUE!"},"",{"$f":"IF(I1458=\"\",\"\",LARGE(H$1:H1457,1)+1)","v":{"$error":"#VALUE!"}},{"$error":"#VALUE!"},1457,{"$error":"#N/A"},"",null,null,1457,0,{"$f":"IF(R1458=\"\",\"\",LARGE(Q$1:Q1457,1)+1)","v":{"$error":"#NUM!"}},{"$error":"#NUM!"},1457,{"$error":"#N/A"},"","",null,null,0,{"$error":"#VALUE!"},3999,"","",null,null,null,null,{"$error":"#VALUE!"},{"$error":"#VALUE!"},{"$f":"COUNTIF('Standards LOOKUP'!B:B,AI1458)","v":0},{"$f":"IFERROR(INDEX('Standards LOOKUP'!C:C,MATCH(AI1458,'Standards LOOKUP'!B:B,0),0),0)","v":0},{"$f":"IFERROR(INDEX('Current Standards'!P:P,MATCH('Sheet Counter'!AI1458,'Current Standards'!O:O,0),0),\"\")","v":""}]
[null,null,0,"","",{"$error":"#VALUE!"},"",{"$f":"IF(I1461=\"\",\"\",LARGE(H$1:H1460,1)+1)","v":{"$error":"#VALUE!"}},{"$error":"#VALUE!"},1460,{"$error":"#N/A"},"",null,null,1460,0,{"$f":"IF(R1461=\"\",\"\",LARGE(Q$1:Q1460,1)+1)","v":{"$error":"#NUM!"}},{"$error":"#NUM!"},1460,{"$error":"#N/A"},"","",null,null,0,{"$error":"#VALUE!"},3999,"","",null,null,null,null,{"$error":"#VALUE!"},{"$error":"#VALUE!"},{"$f":"COUNTIF('Standards LOOKUP'!B:B,AI1461)","v":0},{"$f":"IFERROR(INDEX('Standards LOOKUP'!C:C,MATCH(AI1461,'Standards LOOKUP'!B:B,0),0),0)","v":0},{"$f":"IFERROR(INDEX('Current Standards'!P:P,MATCH('Sheet Counter'!AI1461,'Current Standards'!O:O,0),0),\"\")","v":""}]
[null,null,0,"","",{"$error":"#VALUE!"},"",{"$f":"IF(I1464=\"\",\"\",LARGE(H$1:H1463,1)+1)","v":{"$error":"#VALUE!"}},{"$error":"#VALUE!"},1463,{"$error":"#N/A"},"",null,null,1463,0,{"$f":"IF(R1464=\"\",\"\",LARGE(Q$1:Q1463,1)+1)","v":{"$error":"#NUM!"}},{"$error":"#NUM!"},1463,{"$error":"#N/A"},"","",null,null,0,{"$error":"#VALUE!"},3999,"","",null,null,null,null,{"$error":"#VALUE!"},{"$error":"#VALUE!"},{"$f":"COUNTIF('Standards LOOKUP'!B:B,AI1464)","v":0},{"$f":"IFERROR(INDEX('Standards LOOKUP'!C:C,MATCH(AI1464,'Standards LOOKUP'!B:B,0),0),0)","v":0},{"$f":"IFERROR(INDEX('Current Standards'!P:P,MATCH('Sheet Counter'!AI1464,'Current Standards'!O:O,0),0),\"\")","v":""}]
[null,null,0,"","",{"$error":"#VALUE!"},"",{"$f":"IF(I1467=\"\",\"\",LARGE(H$1:H1466,1)+1)","v":{"$error":"#VALUE!"}},{"$error":"#VALUE!"},1466,{"$error":"#N/A"},"",null,null,1466,0,{"$f":"IF(R1467=\"\",\"\",LARGE(Q$1:Q1466,1)+1)","v":{"$error":"#NUM!"}},{"$error":"#NUM!"},1466,{"$error":"#N/A"},"","",null,null,0,{"$error":"#VALUE!"},3999,"","",null,null,null,null,{"$error":"#VALUE!"},{"$error":"#VALUE!"},{"$f":"COUNTIF('Standards LOOKUP'!B:B,AI1467)","v":0},{"$f":"IFERROR(INDEX('Standards LOOKUP'!C:C,MATCH(AI1467,'Standards LOOKUP'!B:B,0),0),0)","v":0},{"$f":"IFERROR(INDEX('Current Standards'!P:P,MATCH('Sheet Counter'!AI1467,'Current Standards'!O:O,0),0),\"\")","v":""}]
[null,null,0,"","",{"$error":"#VALUE!"},"",{"$f":"IF(I1470=\"\",\"\",LARGE(H$1:H1469,1)+1)","v":{"$error":"#VALUE!"}},{"$error":"#VALUE!"},1469,{"$error":"#N/A"},"",null,null,1469,0,{"$f":"IF(R1470=\"\",\"\",LARGE(Q$1:Q1469,1)+1)","v":{"$error":"#NUM!"}},{"$error":"#NUM!"},1469,{"$error":"#N/A"},"","",null,null,0,{"$error":"#VALUE!"},3999,"","",null,null,null,null,{"$error":"#VALUE!"},{"$error":"#VALUE!"},{"$f":"COUNTIF('Standards LOOKUP'!B:B,AI1470)","v":0},{"$f":"IFERROR(INDEX('Standards LOOKUP'!C:C,MATCH(AI1470,'Standards LOOKUP'!B:B,0),0),0)","v":0},{"$f":"IFERROR(INDEX('Current Standards'!P:P,MATCH('Sheet Counter'!AI1470,'Current Standards'!O:O,0),0),\"\")","v":""}]
[null,null,0,"","",{"$error":"#VALUE!"},"",{"$f":"IF(I1471=\"\",\"\",LARGE(H$1:H1470,1)+1)","v":{"$error":"#VALUE!"}},{"$error":"#VALUE!"},1470,{"$error":"#N/A"},"",null,null,1470,0,{"$f":"IF(R1471=\"\",\"\",LARGE(Q$1:Q1470,1)+1)","v":{"$error":"#NUM!"}},{"$error":"#NUM!"},1470,{"$error":"#N/A"},"","",null,null,0,{"$error":"#VALUE!"},3999,"","",null,null,null,null,{"$error":"#VALUE!"},{"$error":"#VALUE!"},{"$f":"COUNTIF('Standards LOOKUP'!B:B,AI1471)","v":0},{"$f":"IFERROR(INDEX('Standards LOOKUP'!C:C,MATCH(AI1471,'Standards LOOKUP'!B:B,0),0),0)","v":0},{"$f":"IFERROR(INDEX('Current Standards'!P:P,MATCH('Sheet Counter'!AI1471,'Current Standards'!O:O,0),0),\"\")","v":""}]
[null,null,{"$f":"IF(ISERROR(FIND(\"\\\",A1475)),A1475,RIGHT(A1475,LEN(A1475)-FIND(\"~\",SUBSTITUTE(A1475,\"\\\",\"~\",LEN(A1475)-LEN(SUBSTITUTE(A1475,\"\\\",\"\"))))))","v":0},{"$f":"IF(AL1475=\"\",\"\",AL1475)","v":""},"",{"$f":"LEFT(C1475,FIND(\"-\",SUBSTITUTE(SUBSTITUTE(C1475,\"_\",\"-\"),\" \",\"-\"))-1)","v":{"$error":"#VALUE!"}},{"$f":"IF(ISNUMBER(F1475*1),F1475*1,\"\")","v":""},{"$f":"IF(I1475=\"\",\"\",LARGE(H$1:H1474,1)+1)","v":{"$error":"#VALUE!"}},{"$error":"#VALUE!"},1474,{"$error":"#N/A"},"",null,null,1474,0,{"$f":"IF(R1475=\"\",\"\",LARGE(Q$1:Q1474,1)+1)","v":{"$error":"#NUM!"}},{"$error":"#NUM!"},1474,{"$error":"#N/A"},"","",null,null,{"$f":"IF(ISERROR(FIND(\"\\\",X1475)),X1475,RIGHT(X1475,LEN(X1475)-FIND(\"~\",SUBSTITUTE(X1475,\"\\\",\"~\",LEN(X1475)-LEN(SUBSTITUTE(X1475,\"\\\",\"\"))))))","v":0},{"$f":"LEFT(Y1475,FIND(\"-\",SUBSTITUTE(SUBSTITUTE(Y1475,\"_\",\"-\"),\" \",\"-\"))-1)","v":{"$error":"#VALUE!"}},{"$f":"COUNTIF(F:F,Z1475)","v":3999},{"$f":"IF(OR(AA1475<1,ISERROR(Z1475)),\"\",INDEX(C:C,MATCH(Z1475,F:F)))","v":""},{"$f":"IF(AA1475=0,\"New Sheet\",IF(EXACT(UPPER(Y1475),UPPER(AB1475)),\"Match\",\"\"))","v":""},null,null,null,null,{"$f":"IF(C1475=\"\",\"\",LEFT(RIGHT(C1475,LEN(C1475)-SEARCH(\" \",C1475,1)),LEN(RIGHT(C1475,LEN(C1475)-SEARCH(\" \",C1475,1)))-4))","v":{"$error":"#VALUE!"}},{"$f":"TRIM(SUBSTITUTE(SUBSTITUTE(SUBSTITUTE(SUBSTITUTE(SUBSTITUTE(SUBSTITUTE(AH1475,\"(\",\"\"),\")\",\"\"),\"-\",\"\"),\"&\",\"\"),\" \",\"\",1),\" \",\"\",1))","v":{"$error":"#VALUE!"}},{"$f":"COUNTIF('Standards LOOKUP'!B:B,AI1475)","v":0},{"$f":"IFERROR(INDEX('Standards LOOKUP'!C:C,MATCH(AI1475,'Standards LOOKUP'!B:B,0),0),0)","v":0},{"$f":"IFERROR(INDEX('Current Standards'!P:P,MATCH('Sheet Counter'!AI1475,'Current Standards'!O:O,0),0),\"\")","v":""}]
[null,null,0,"","",{"$error":"#VALUE!"},"",{"$f":"IF(I1477=\"\",\"\",LARGE(H$1:H1476,1)+1)","v":{"$error":"#VALUE!"}},{"$error":"#VALUE!"},1476,{"$error":"#N/A"},"",null,null,1476,0,{"$f":"IF(R1477=\"\",\"\",LARGE(Q$1:Q1476,1)+1)","v":{"$error":"#NUM!"}},{"$error":"#NUM!"},1476,{"$error":"#N/A"},"","",null,null,0,{"$error":"#VALUE!"},3999,"","",null,null,null,null,{"$error":"#VALUE!"},{"$error":"#VALUE!"},{"$f":"COUNTIF('Standards LOOKUP'!B:B,AI1477)","v":0},{"$f":"IFERROR(INDEX('Standards LOOKUP'!C:C,MATCH(AI1477,'Standards LOOKUP'!B:B,0),0),0)","v":0},{"$f":"IFERROR(INDEX('Current Standards'!P:P,MATCH('Sheet Counter'!AI1477,'Current Standards'!O:O,0),0),\"\")","v":""}]
[null,null,0,"","",{"$error":"#VALUE!"},"",{"$f":"IF(I1480=\"\",\"\",LARGE(H$1:H1479,1)+1)","v":{"$error":"#VALUE!"}},{"$error":"#VALUE!"},1479,{"$error":"#N/A"},"",null,null,1479,0,{"$f":"IF(R1480=\"\",\"\",LARGE(Q$1:Q1479,1)+1)","v":{"$error":"#NUM!"}},{"$error":"#NUM!"},1479,{"$error":"#N/A"},"","",null,null,0,{"$error":"#VALUE!"},3999,"","",null,null,null,null,{"$error":"#VALUE!"},{"$error":"#VALUE!"},{"$f":"COUNTIF('Standards LOOKUP'!B:B,AI1480)","v":0},{"$f":"IFERROR(INDEX('Standards LOOKUP'!C:C,MATCH(AI1480,'Standards LOOKUP'!B:B,0),0),0)","v":0},{"$f":"IFERROR(INDEX('Current Standards'!P:P,MATCH('Sheet Counter'!AI1480,'Current Standards'!O:O,0),0),\"\")","v":""}]
[null,null,0,"","",{"$error":"#VALUE!"},"",{"$f":"IF(I1483=\"\",\"\",LARGE(H$1:H1482,1)+1)","v":{"$error":"#VALUE!"}},{"$error":"#VALUE!"},1482,{"$error":"#N/A"},"",null,null,1482,0,{"$f":"IF(R1483=\"\",\"\",LARGE(Q$1:Q1482,1)+1)","v":{"$error":"#NUM!"}},{"$error":"#NUM!"},1482,{"$error":"#N/A"},"","",null,null,0,{"$error":"#VALUE!"},3999,"","",null,null,null,null,{"$error":"#VALUE!"},{"$error":"#VALUE!"},{"$f":"COUNTIF('Standards LOOKUP'!B:B,AI1483)","v":0},{"$f":"IFERROR(INDEX('Standards LOOKUP'!C:C,MATCH(AI1483,'Standards LOOKUP'!B:B,0),0),0)","v":0},{"$f":"IFERROR(INDEX('Current Standards'!P:P,MATCH('Sheet Counter'!AI1483,'Current Standards'!O:O,0),0),\"\")","v":""}]
[null,null,0,"","",{"$error":"#VALUE!"},"",{"$f":"IF(I1486=\"\",\"\",LARGE(H$1:H1485,1)+1)","v":{"$error":"#VALUE!"}},{"$error":"#VALUE!"},1485,{"$error":"#N/A"},"",null,null,1485,0,{"$f":"IF(R1486=\"\",\"\",LARGE(Q$1:Q1485,1)+1)","v":{"$error":"#NUM!"}},{"$error":"#NUM!"},1485,{"$error":"#N/A"},"","",null,null,0,{"$error":"#VALUE!"},3999,"","",null,null,null,null,{"$error":"#VALUE!"},{"$error":"#VALUE!"},{"$f":"COUNTIF('Standards LOOKUP'!B:B,AI1486)","v":0},{"$f":"IFERROR(INDEX('Standards LOOKUP'!C:C,MATCH(AI1486,'Standards LOOKUP'!B:B,0),0),0)","v":0},{"$f":"IFERROR(INDEX('Current Standards'!P:P,MATCH('Sheet Counter'!AI1486,'Current Standards'!O:O,0),0),\"\")","v":""}]
[null,null,0,"","",{"$error":"#VALUE!"},"",{"$f":"IF(I1489=\"\",\"\",LARGE(H$1:H1488,1)+1)","v":{"$error":"#VALUE!"}},{"$error":"#VALUE!"},1488,{"$error":"#N/A"},"",null,null,1488,0,{"$f":"IF(R1489=\"\",\"\",LARGE(Q$1:Q1488,1)+1)","v":{"$error":"#NUM!"}},{"$error":"#NUM!"},1488,{"$error":"#N/A"},"","",null,null,0,{"$error":"#VALUE!"},3999,"","",null,null,null,null,{"$error":"#VALUE!"},{"$error":"#VALUE!"},{"$f":"COUNTIF('Standards LOOKUP'!B:B,AI1489)","v":0},{"$f":"IFERROR(INDEX('Standards LOOKUP'!C:C,MATCH(AI1489,'Standards LOOKUP'!B:B,0),0),0)","v":0},{"$f":"IFERROR(INDEX('Current Standards'!P:P,MATCH('Sheet Counter'!AI1489,'Current Standards'!O:O,0),0),\"\")","v":""}]
[null,null,0,"","",{"$error":"#VALUE!"},"",{"$f":"IF(I1492=\"\",\"\",LARGE(H$1:H1491,1)+1)","v":{"$error":"#VALUE!"}},{"$error":"#VALUE!"},1491,{"$error":"#N/A"},"",null,null,1491,0,{"$f":"IF(R1492=\"\",\"\",LARGE(Q$1:Q1491,1)+1)","v":{"$error":"#NUM!"}},{"$error":"#NUM!"},1491,{"$error":"#N/A"},"","",null,null,0,{"$error":"#VALUE!"},3999,"","",null,null,null,null,{"$error":"#VALUE!"},{"$error":"#VALUE!"},{"$f":"COUNTIF('Standards LOOKUP'!B:B,AI1492)","v":0},{"$f":"IFERROR(INDEX('Standards LOOKUP'!C:C,MATCH(AI1492,'Standards LOOKUP'!B:B,0),0),0)","v":0},{"$f":"IFERROR(INDEX('Current Standards'!P:P,MATCH('Sheet Counter'!AI1492,'Current Standards'!O:O,0),0),\"\")","v":""}]
[null,null,0,"","",{"$error":"#VALUE!"},"",{"$f":"IF(I1493=\"\",\"\",LARGE(H$1:H1492,1)+1)","v":{"$error":"#VALUE!"}},{"$error":"#VALUE!"},1492,{"$error":"#N/A"},"",null,null,1492,0,{"$f":"IF(R1493=\"\",\"\",LARGE(Q$1:Q1492,1)+1)","v":{"$error":"#NUM!"}},{"$error":"#NUM!"},1492,{"$error":"#N/A"},"","",null,null,0,{"$error":"#VALUE!"},3999,"","",null,null,null,null,{"$error":"#VALUE!"},{"$error":"#VALUE!"},{"$f":"COUNTIF('Standards LOOKUP'!B:B,AI1493)","v":0},{"$f":"IFERROR(INDEX('Standards LOOKUP'!C:C,MATCH(AI1493,'Standards LOOKUP'!B:B,0),0),0)","v":0},{"$f":"IFERROR(INDEX('Current Standards'!P:P,MATCH('Sheet Counter'!AI1493,'Current Standards'!O:O,0),0),\"\")","v":""}]
[null,null,0,"","",{"$error":"#VALUE!"},"",{"$f":"IF(I1497=\"\",\"\",LARGE(H$1:H1496,1)+1)","v":{"$error":"#VALUE!"}},{"$error":"#VALUE!"},1496,{"$error":"#N/A"},"",null,null,1496,0,{"$f":"IF(R1497=\"\",\"\",LARGE(Q$1:Q1496,1)+1)","v":{"$error":"#NUM!"}},{"$error":"#NUM!"},1496,{"$error":"#N/A"},"","",null,null,0,{"$error":"#VALUE!"},3999,"","",null,null,null,null,{"$error":"#VALUE!"},{"$error":"#VALUE!"},{"$f":"COUNTIF('Standards LOOKUP'!B:B,AI1497)","v":0},{"$f":"IFERROR(INDEX('Standards LOOKUP'!C:C,MATCH(AI1497,'Standards LOOKUP'!B:B,0),0),0)","v":0},{"$f":"IFERROR(INDEX('Current Standards'!P:P,MATCH('Sheet Counter'!AI1497,'Current Standards'!O:O,0),0),\"\")","v":""}]
[null,null,0,"","",{"$error":"#VALUE!"},"",{"$f":"IF(I1499=\"\",\"\",LARGE(H$1:H1498,1)+1)","v":{"$error":"#VALUE!"}},{"$error":"#VALUE!"},1498,{"$error":"#N/A"},"",null,null,1498,0,{"$f":"IF(R1499=\"\",\"\",LARGE(Q$1:Q1498,1)+1)","v":{"$error":"#NUM!"}},{"$error":"#NUM!"},1498,{"$error":"#N/A"},"","",null,null,0,{"$error":"#VALUE!"},3999,"","",null,null,null,null,{"$error":"#VALUE!"},{"$error":"#VALUE!"},{"$f":"COUNTIF('Standards LOOKUP'!B:B,AI1499)","v":0},{"$f":"IFERROR(INDEX('Standards LOOKUP'!C:C,MATCH(AI1499,'Standards LOOKUP'!B:B,0),0),0)","v":0},{"$f":"IFERROR(INDEX('Current Standards'!P:P,MATCH('Sheet Counter'!AI1499,'Current Standards'!O:O,0),0),\"\")","v":""}]
[null,null,0,"","",{"$error":"#VALUE!"},"",{"$f":"IF(I1502=\"\",\"\",LARGE(H$1:H1501,1)+1)","v":{"$error":"#VALUE!"}},{"$error":"#VALUE!"},null,null,null,null,null,1501,0,{"$f":"IF(R1502=\"\",\"\",LARGE(Q$1:Q1501,1)+1)","v":{"$error":"#NUM!"}},{"$error":"#NUM!"},null,null,null,null,null,null,0,{"$error":"#VALUE!"},3999,"","",null,null,null,null,{"$error":"#VALUE!"},{"$error":"#VALUE!"},{"$f":"COUNTIF('Standards LOOKUP'!B:B,AI1502)","v":0},{"$f":"IFERROR(INDEX('Standards LOOKUP'!C:C,MATCH(AI1502,'Standards LOOKUP'!B:B,0),0),0)","v":0},{"$f":"IFERROR(INDEX('Current Standards'!P:P,MATCH('Sheet Counter'!AI1502,'Current Standards'!O:O,0),0),\"\")","v":""}]
[null,null,0,"","",{"$error":"#VALUE!"},"",{"$f":"IF(I1505=\"\",\"\",LARGE(H$1:H1504,1)+1)","v":{"$error":"#VALUE!"}},{"$error":"#VALUE!"},null,null,null,null,null,1504,0,{"$f":"IF(R1505=\"\",\"\",LARGE(Q$1:Q1504,1)+1)","v":{"$error":"#NUM!"}},{"$error":"#NUM!"},null,null,null,null,null,null,0,{"$error":"#VALUE!"},3999,"","",null,null,null,null,{"$error":"#VALUE!"},{"$error":"#VALUE!"},{"$f":"COUNTIF('Standards LOOKUP'!B:B,AI1505)","v":0},{"$f":"IFERROR(INDEX('Standards LOOKUP'!C:C,MATCH(AI1505,'Standards LOOKUP'!B:B,0),0),0)","v":0},{"$f":"IFERROR(INDEX('Current Standards'!P:P,MATCH('Sheet Counter'!AI1505,'Current Standards'!O:O,0),0),\"\")","v":""}]
[null,null,0,"","",{"$error":"#VALUE!"},"",{"$f":"IF(I1508=\"\",\"\",LARGE(H$1:H1507,1)+1)","v":{"$error":"#VALUE!"}},{"$error":"#VALUE!"},null,null,null,null,null,1507,0,{"$f":"IF(R1508=\"\",\"\",LARGE(Q$1:Q1507,1)+1)","v":{"$error":"#NUM!"}},{"$error":"#NUM!"},null,null,null,null,null,null,0,{"$error":"#VALUE!"},3999,"","",null,null,null,null,{"$error":"#VALUE!"},{"$error":"#VALUE!"},{"$f":"COUNTIF('Standards LOOKUP'!B:B,AI1508)","v":0},{"$f":"IFERROR(INDEX('Standards LOOKUP'!C:C,MATCH(AI1508,'Standards LOOKUP'!B:B,0),0),0)","v":0},{"$f":"IFERROR(INDEX('Current Standards'!P:P,MATCH('Sheet Counter'!AI1508,'Current Standards'!O:O,0),0),\"\")","v":""}]
[null,null,0,"","",{"$error":"#VALUE!"},"",{"$f":"IF(I1511=\"\",\"\",LARGE(H$1:H1510,1)+1)","v":{"$error":"#VALUE!"}},{"$error":"#VALUE!"},null,null,null,null,null,1510,0,{"$f":"IF(R1511=\"\",\"\",LARGE(Q$1:Q1510,1)+1)","v":{"$error":"#NUM!"}},{"$error":"#NUM!"},null,null,null,null,null,null,0,{"$error":"#VALUE!"},3999,"","",null,null,null,null,{"$error":"#VALUE!"},{"$error":"#VALUE!"},{"$f":"COUNTIF('Standards LOOKUP'!B:B,AI1511)","v":0},{"$f":"IFERROR(INDEX('Standards LOOKUP'!C:C,MATCH(AI1511,'Standards LOOKUP'!B:B,0),0),0)","v":0},{"$f":"IFERROR(INDEX('Current Standards'!P:P,MATCH('Sheet Counter'!AI1511,'Current Standards'!O:O,0),0),\"\")","v":""}]
[null,null,0,"","",{"$error":"#VALUE!"},"",{"$f":"IF(I1512=\"\",\"\",LARGE(H$1:H1511,1)+1)","v":{"$error":"#VALUE!"}},{"$error":"#VALUE!"},null,null,null,null,null,1511,0,{"$f":"IF(R1512=\"\",\"\",LARGE(Q$1:Q1511,1)+1)","v":{"$error":"#NUM!"}},{"$error":"#NUM!"},null,null,null,null,null,null,0,{"$error":"#VALUE!"},3999,"","",null,null,null,null,{"$error":"#VALUE!"},{"$error":"#VALUE!"},{"$f":"COUNTIF('Standards LOOKUP'!B:B,AI1512)","v":0},{"$f":"IFERROR(INDEX('Standards LOOKUP'!C:C,MATCH(AI1512,'Standards LOOKUP'!B:B,0),0),0)","v":0},{"$f":"IFERROR(INDEX('Current Standards'!P:P,MATCH('Sheet Counter'!AI1512,'Current Standards'!O:O,0),0),\"\")","v":""}]
[null,null,0,"","",{"$error":"#VALUE!"},"",{"$f":"IF(I1515=\"\",\"\",LARGE(H$1:H1514,1)+1)","v":{"$error":"#VALUE!"}},{"$error":"#VALUE!"},null,null,null,null,null,1514,0,{"$f":"IF(R1515=\"\",\"\",LARGE(Q$1:Q1514,1)+1)","v":{"$error":"#NUM!"}},{"$error":"#NUM!"},null,null,null,null,null,null,0,{"$error":"#VALUE!"},3999,"","",null,null,null,null,{"$error":"#VALUE!"},{"$error":"#VALUE!"},{"$f":"COUNTIF('Standards LOOKUP'!B:B,AI1515)","v":0},{"$f":"IFERROR(INDEX('Standards LOOKUP'!C:C,MATCH(AI1515,'Standards LOOKUP'!B:B,0),0),0)","v":0},{"$f":"IFERROR(INDEX('Current Standards'!P:P,MATCH('Sheet Counter'!AI1515,'Current Standards'!O:O,0),0),\"\")","v":""}]
[null,null,0,"","",{"$error":"#VALUE!"},"",{"$f":"IF(I1519=\"\",\"\",LARGE(H$1:H1518,1)+1)","v":{"$error":"#VALUE!"}},{"$error":"#VALUE!"},null,null,null,null,null,1518,0,{"$f":"IF(R1519=\"\",\"\",LARGE(Q$1:Q1518,1)+1)","v":{"$error":"#NUM!"}},{"$error":"#NUM!"},null,null,null,null,null,null,0,{"$error":"#VALUE!"},3999,"","",null,null,null,null,{"$error":"#VALUE!"},{"$error":"#VALUE!"},{"$f":"COUNTIF('Standards LOOKUP'!B:B,AI1519)","v":0},{"$f":"IFERROR(INDEX('Standards LOOKUP'!C:C,MATCH(AI1519,'Standards LOOKUP'!B:B,0),0),0)","v":0},{"$f":"IFERROR(INDEX('Current Standards'!P:P,MATCH('Sheet Counter'!AI1519,'Current Standards'!O:O,0),0),\"\")","v":""}]
[null,null,0,"","",{"$error":"#VALUE!"},"",{"$f":"IF(I1521=\"\",\"\",LARGE(H$1:H1520,1)+1)","v":{"$error":"#VALUE!"}},{"$error":"#VALUE!"},null,null,null,null,null,1520,0,{"$f":"IF(R1521=\"\",\"\",LARGE(Q$1:Q1520,1)+1)","v":{"$error":"#NUM!"}},{"$error":"#NUM!"},null,null,null,null,null,null,0,{"$error":"#VALUE!"},3999,"","",null,null,null,null,{"$error":"#VALUE!"},{"$error":"#VALUE!"},{"$f":"COUNTIF('Standards LOOKUP'!B:B,AI1521)","v":0},{"$f":"IFERROR(INDEX('Standards LOOKUP'!C:C,MATCH(AI1521,'Standards LOOKUP'!B:B,0),0),0)","v":0},{"$f":"IFERROR(INDEX('Current Standards'!P:P,MATCH('Sheet Counter'!AI1521,'Current Standards'!O:O,0),0),\"\")","v":""}]
[null,null,0,"","",{"$error":"#VALUE!"},"",{"$f":"IF(I1524=\"\",\"\",LARGE(H$1:H1523,1)+1)","v":{"$error":"#VALUE!"}},{"$error":"#VALUE!"},null,null,null,null,null,1523,0,{"$f":"IF(R1524=\"\",\"\",LARGE(Q$1:Q1523,1)+1)","v":{"$error":"#NUM!"}},{"$error":"#NUM!"},null,null,null,null,null,null,0,{"$error":"#VALUE!"},3999,"","",null,null,null,null,{"$error":"#VALUE!"},{"$error":"#VALUE!"},{"$f":"COUNTIF('Standards LOOKUP'!B:B,AI1524)","v":0},{"$f":"IFERROR(INDEX('Standards LOOKUP'!C:C,MATCH(AI1524,'Standards LOOKUP'!B:B,0),0),0)","v":0},{"$f":"IFERROR(INDEX('Current Standards'!P:P,MATCH('Sheet Counter'!AI1524,'Current Standards'!O:O,0),0),\"\")","v":""}]
[null,null,0,"","",{"$error":"#VALUE!"},"",{"$f":"IF(I1527=\"\",\"\",LARGE(H$1:H1526,1)+1)","v":{"$error":"#VALUE!"}},{"$error":"#VALUE!"},null,null,null,null,null,1526,0,{"$f":"IF(R1527=\"\",\"\",LARGE(Q$1:Q1526,1)+1)","v":{"$error":"#NUM!"}},{"$error":"#NUM!"},null,null,null,null,null,null,0,{"$error":"#VALUE!"},3999,"","",null,null,null,null,{"$error":"#VALUE!"},{"$error":"#VALUE!"},{"$f":"COUNTIF('Standards LOOKUP'!B:B,AI1527)","v":0},{"$f":"IFERROR(INDEX('Standards LOOKUP'!C:C,MATCH(AI1527,'Standards LOOKUP'!B:B,0),0),0)","v":0},{"$f":"IFERROR(INDEX('Current Standards'!P:P,MATCH('Sheet Counter'!AI1527,'Current Standards'!O:O,0),0),\"\")","v":""}]
[null,null,0,"","",{"$error":"#VALUE!"},"",{"$f":"IF(I1530=\"\",\"\",LARGE(H$1:H1529,1)+1)","v":{"$error":"#VALUE!"}},{"$error":"#VALUE!"},null,null,null,null,null,1529,0,{"$f":"IF(R1530=\"\",\"\",LARGE(Q$1:Q1529,1)+1)","v":{"$error":"#NUM!"}},{"$error":"#NUM!"},null,null,null,null,null,null,0,{"$error":"#VALUE!"},3999,"","",null,null,null,null,{"$error":"#VALUE!"},{"$error":"#VALUE!"},{"$f":"COUNTIF('Standards LOOKUP'!B:B,AI1530)","v":0},{"$f":"IFERROR(INDEX('Standards LOOKUP'!C:C,MATCH(AI1530,'Standards LOOKUP'!B:B,0),0),0)","v":0},{"$f":"IFERROR(INDEX('Current Standards'!P:P,MATCH('Sheet Counter'!AI1530,'Current Standards'!O:O,0),0),\"\")","v":""}]
[null,null,0,"","",{"$error":"#VALUE!"},"",{"$f":"IF(I1533=\"\",\"\",LARGE(H$1:H1532,1)+1)","v":{"$error":"#VALUE!"}},{"$error":"#VALUE!"},null,null,null,null,null,1532,0,{"$f":"IF(R1533=\"\",\"\",LARGE(Q$1:Q1532,1)+1)","v":{"$error":"#NUM!"}},{"$error":"#NUM!"},null,null,null,null,null,null,0,{"$error":"#VALUE!"},3999,"","",null,null,null,null,{"$error":"#VALUE!"},{"$error":"#VALUE!"},{"$f":"COUNTIF('Standards LOOKUP'!B:B,AI1533)","v":0},{"$f":"IFERROR(INDEX('Standards LOOKUP'!C:C,MATCH(AI1533,'Standards LOOKUP'!B:B,0),0),0)","v":0},{"$f":"IFERROR(INDEX('Current Standards'!P:P,MATCH('Sheet Counter'!AI1533,'Current Standards'!O:O,0),0),\"\")","v":""}]
[null,null,0,"","",{"$error":"#VALUE!"},"",{"$f":"IF(I1534=\"\",\"\",LARGE(H$1:H1533,1)+1)","v":{"$error":"#VALUE!"}},{"$error":"#VALUE!"},null,null,null,null,null,1533,0,{"$f":"IF(R1534=\"\",\"\",LARGE(Q$1:Q1533,1)+1)","v":{"$error":"#NUM!"}},{"$error":"#NUM!"},null,null,null,null,null,null,0,{"$error":"#VALUE!"},3999,"","",null,null,null,null,{"$error":"#VALUE!"},{"$error":"#VALUE!"},{"$f":"COUNTIF('Standards LOOKUP'!B:B,AI1534)","v":0},{"$f":"IFERROR(INDEX('Standards LOOKUP'!C:C,MATCH(AI1534,'Standards LOOKUP'!B:B,0),0),0)","v":0},{"$f":"IFERROR(INDEX('Current Standards'!P:P,MATCH('Sheet Counter'!AI1534,'Current Standards'!O:O,0),0),\"\")","v":""}]
[null,null,0,"","",{"$error":"#VALUE!"},"",{"$f":"IF(I1537=\"\",\"\",LARGE(H$1:H1536,1)+1)","v":{"$error":"#VALUE!"}},{"$error":"#VALUE!"},null,null,null,null,null,1536,0,{"$f":"IF(R1537=\"\",\"\",LARGE(Q$1:Q1536,1)+1)","v":{"$error":"#NUM!"}},{"$error":"#NUM!"},null,null,null,null,null,null,0,{"$error":"#VALUE!"},3999,"","",null,null,null,null,{"$error":"#VALUE!"},{"$error":"#VALUE!"},{"$f":"COUNTIF('Standards LOOKUP'!B:B,AI1537)","v":0},{"$f":"IFERROR(INDEX('Standards LOOKUP'!C:C,MATCH(AI1537,'Standards LOOKUP'!B:B,0),0),0)","v":0},{"$f":"IFERROR(INDEX('Current Standards'!P:P,MATCH('Sheet Counter'!AI1537,'Current Standards'!O:O,0),0),\"\")","v":""}]
[null,null,0,"","",{"$error":"#VALUE!"},"",{"$f":"IF(I1541=\"\",\"\",LARGE(H$1:H1540,1)+1)","v":{"$error":"#VALUE!"}},{"$error":"#VALUE!"},null,null,null,null,null,1540,0,{"$f":"IF(R1541=\"\",\"\",LARGE(Q$1:Q1540,1)+1)","v":{"$error":"#NUM!"}},{"$error":"#NUM!"},null,null,null,null,null,null,0,{"$error":"#VALUE!"},3999,"","",null,null,null,null,{"$error":"#VALUE!"},{"$error":"#VALUE!"},{"$f":"COUNTIF('Standards LOOKUP'!B:B,AI1541)","v":0},{"$f":"IFERROR(INDEX('Standards LOOKUP'!C:C,MATCH(AI1541,'Standards LOOKUP'!B:B,0),0),0)","v":0},{"$f":"IFERROR(INDEX('Current Standards'!P:P,MATCH('Sheet Counter'!AI1541,'Current Standards'!O:O,0),0),\"\")","v":""}]
[null,null,0,"","",{"$error":"#VALUE!"},"",{"$f":"IF(I1543=\"\",\"\",LARGE(H$1:H1542,1)+1)","v":{"$error":"#VALUE!"}},{"$error":"#VALUE!"},null,null,null,null,null,1542,0,{"$f":"IF(R1543=\"\",\"\",LARGE(Q$1:Q1542,1)+1)","v":{"$error":"#NUM!"}},{"$error":"#NUM!"},null,null,null,null,null,null,0,{"$error":"#VALUE!"},3999,"","",null,null,null,null,{"$error":"#VALUE!"},{"$error":"#VALUE!"},{"$f":"COUNTIF('Standards LOOKUP'!B:B,AI1543)","v":0},{"$f":"IFERROR(INDEX('Standards LOOKUP'!C:C,MATCH(AI1543,'Standards LOOKUP'!B:B,0),0),0)","v":0},{"$f":"IFERROR(INDEX('Current Standards'!P:P,MATCH('Sheet Counter'!AI1543,'Current Standards'!O:O,0),0),\"\")","v":""}]
[null,null,0,"","",{"$error":"#VALUE!"},"",{"$f":"IF(I1546=\"\",\"\",LARGE(H$1:H1545,1)+1)","v":{"$error":"#VALUE!"}},{"$error":"#VALUE!"},null,null,null,null,null,1545,0,{"$f":"IF(R1546=\"\",\"\",LARGE(Q$1:Q1545,1)+1)","v":{"$error":"#NUM!"}},{"$error":"#NUM!"},null,null,null,null,null,null,0,{"$error":"#VALUE!"},3999,"","",null,null,null,null,{"$error":"#VALUE!"},{"$error":"#VALUE!"},{"$f":"COUNTIF('Standards LOOKUP'!B:B,AI1546)","v":0},{"$f":"IFERROR(INDEX('Standards LOOKUP'!C:C,MATCH(AI1546,'Standards LOOKUP'!B:B,0),0),0)","v":0},{"$f":"IFERROR(INDEX('Current Standards'!P:P,MATCH('Sheet Counter'!AI1546,'Current Standards'!O:O,0),0),\"\")","v":""}]
[null,null,0,"","",{"$error":"#VALUE!"},"",{"$f":"IF(I1550=\"\",\"\",LARGE(H$1:H1549,1)+1)","v":{"$error":"#VALUE!"}},{"$error":"#VALUE!"},null,null,null,null,null,1549,0,{"$f":"IF(R1550=\"\",\"\",LARGE(Q$1:Q1549,1)+1)","v":{"$error":"#NUM!"}},{"$error":"#NUM!"},null,null,null,null,null,null,0,{"$error":"#VALUE!"},3999,"","",null,null,null,null,{"$error":"#VALUE!"},{"$error":"#VALUE!"},{"$f":"COUNTIF('Standards LOOKUP'!B:B,AI1550)","v":0},{"$f":"IFERROR(INDEX('Standards LOOKUP'!C:C,MATCH(AI1550,'Standards LOOKUP'!B:B,0),0),0)","v":0},{"$f":"IFERROR(INDEX('Current Standards'!P:P,MATCH('Sheet Counter'!AI1550,'Current Standards'!O:O,0),0),\"\")","v":""}]
[null,null,0,"","",{"$error":"#VALUE!"},"",{"$f":"IF(I1552=\"\",\"\",LARGE(H$1:H1551,1)+1)","v":{"$error":"#VALUE!"}},{"$error":"#VALUE!"},null,null,null,null,null,1551,0,{"$f":"IF(R1552=\"\",\"\",LARGE(Q$1:Q1551,1)+1)","v":{"$error":"#NUM!"}},{"$error":"#NUM!"},null,null,null,null,null,null,0,{"$error":"#VALUE!"},3999,"","",null,null,null,null,{"$error":"#VALUE!"},{"$error":"#VALUE!"},{"$f":"COUNTIF('Standards LOOKUP'!B:B,AI1552)","v":0},{"$f":"IFERROR(INDEX('Standards LOOKUP'!C:C,MATCH(AI1552,'Standards LOOKUP'!B:B,0),0),0)","v":0},{"$f":"IFERROR(INDEX('Current Standards'!P:P,MATCH('Sheet Counter'!AI1552,'Current Standards'!O:O,0),0),\"\")","v":""}]
[null,null,0,"","",{"$error":"#VALUE!"},"",{"$f":"IF(I1555=\"\",\"\",LARGE(H$1:H1554,1)+1)","v":{"$error":"#VALUE!"}},{"$error":"#VALUE!"},null,null,null,null,null,1554,0,{"$f":"IF(R1555=\"\",\"\",LARGE(Q$1:Q1554,1)+1)","v":{"$error":"#NUM!"}},{"$error":"#NUM!"},null,null,null,null,null,null,0,{"$error":"#VALUE!"},3999,"","",null,null,null,null,{"$error":"#VALUE!"},{"$error":"#VALUE!"},{"$f":"COUNTIF('Standards LOOKUP'!B:B,AI1555)","v":0},{"$f":"IFERROR(INDEX('Standards LOOKUP'!C:C,MATCH(AI1555,'Standards LOOKUP'!B:B,0),0),0)","v":0},{"$f":"IFERROR(INDEX('Current Standards'!P:P,MATCH('Sheet Counter'!AI1555,'Current Standards'!O:O,0),0),\"\")","v":""}]
[null,null,0,"","",{"$error":"#VALUE!"},"",{"$f":"IF(I1556=\"\",\"\",LARGE(H$1:H1555,1)+1)","v":{"$error":"#VALUE!"}},{"$error":"#VALUE!"},null,null,null,null,null,1555,0,{"$f":"IF(R1556=\"\",\"\",LARGE(Q$1:Q1555,1)+1)","v":{"$error":"#NUM!"}},{"$error":"#NUM!"},null,null,null,null,null,null,0,{"$error":"#VALUE!"},3999,"","",null,null,null,null,{"$error":"#VALUE!"},{"$error":"#VALUE!"},{"$f":"COUNTIF('Standards LOOKUP'!B:B,AI1556)","v":0},{"$f":"IFERROR(INDEX('Standards LOOKUP'!C:C,MATCH(AI1556,'Standards LOOKUP'!B:B,0),0),0)","v":0},{"$f":"IFERROR(INDEX('Current Standards'!P:P,MATCH('Sheet Counter'!AI1556,'Current Standards'!O:O,0),0),\"\")","v":""}]
[null,null,0,"","",{"$error":"#VALUE!"},"",{"$f":"IF(I1559=\"\",\"\",LARGE(H$1:H1558,1)+1)","v":{"$error":"#VALUE!"}},{"$error":"#VALUE!"},null,null,null,null,null,1558,0,{"$f":"IF(R1559=\"\",\"\",LARGE(Q$1:Q1558,1)+1)","v":{"$error":"#NUM!"}},{"$error":"#NUM!"},null,null,null,null,null,null,0,{"$error":"#VALUE!"},3999,"","",null,null,null,null,{"$error":"#VALUE!"},{"$error":"#VALUE!"},{"$f":"COUNTIF('Standards LOOKUP'!B:B,AI1559)","v":0},{"$f":"IFERROR(INDEX('Standards LOOKUP'!C:C,MATCH(AI1559,'Standards LOOKUP'!B:B,0),0),0)","v":0},{"$f":"IFERROR(INDEX('Current Standards'!P:P,MATCH('Sheet Counter'!AI1559,'Current Standards'!O:O,0),0),\"\")","v":""}]
[null,null,0,"","",{"$error":"#VALUE!"},"",{"$f":"IF(I1563=\"\",\"\",LARGE(H$1:H1562,1)+1)","v":{"$error":"#VALUE!"}},{"$error":"#VALUE!"},null,null,null,null,null,1562,0,{"$f":"IF(R1563=\"\",\"\",LARGE(Q$1:Q1562,1)+1)","v":{"$error":"#NUM!"}},{"$error":"#NUM!"},null,null,null,null,null,null,0,{"$error":"#VALUE!"},3999,"","",null,null,null,null,{"$error":"#VALUE!"},{"$error":"#VALUE!"},{"$f":"COUNTIF('Standards LOOKUP'!B:B,AI1563)","v":0},{"$f":"IFERROR(INDEX('Standards LOOKUP'!C:C,MATCH(AI1563,'Standards LOOKUP'!B:B,0),0),0)","v":0},{"$f":"IFERROR(INDEX('Current Standards'!P:P,MATCH('Sheet Counter'!AI1563,'Current Standards'!O:O,0),0),\"\")","v":""}]
[null,null,0,"","",{"$error":"#VALUE!"},"",{"$f":"IF(I1565=\"\",\"\",LARGE(H$1:H1564,1)+1)","v":{"$error":"#VALUE!"}},{"$error":"#VALUE!"},null,null,null,null,null,1564,0,{"$f":"IF(R1565=\"\",\"\",LARGE(Q$1:Q1564,1)+1)","v":{"$error":"#NUM!"}},{"$error":"#NUM!"},null,null,null,null,null,null,0,{"$error":"#VALUE!"},3999,"","",null,null,null,null,{"$error":"#VALUE!"},{"$error":"#VALUE!"},{"$f":"COUNTIF('Standards LOOKUP'!B:B,AI1565)","v":0},{"$f":"IFERROR(INDEX('Standards LOOKUP'!C:C,MATCH(AI1565,'Standards LOOKUP'!B:B,0),0),0)","v":0},{"$f":"IFERROR(INDEX('Current Standards'!P:P,MATCH('Sheet Counter'!AI1565,'Current Standards'!O:O,0),0),\"\")","v":""}]
[null,null,0,"","",{"$error":"#VALUE!"},"",{"$f":"IF(I1568=\"\",\"\",LARGE(H$1:H1567,1)+1)","v":{"$error":"#VALUE!"}},{"$error":"#VALUE!"},null,null,null,null,null,1567,0,{"$f":"IF(R1568=\"\",\"\",LARGE(Q$1:Q1567,1)+1)","v":{"$error":"#NUM!"}},{"$error":"#NUM!"},null,null,null,null,null,null,0,{"$error":"#VALUE!"},3999,"","",null,null,null,null,{"$error":"#VALUE!"},{"$error":"#VALUE!"},{"$f":"COUNTIF('Standards LOOKUP'!B:B,AI1568)","v":0},{"$f":"IFERROR(INDEX('Standards LOOKUP'!C:C,MATCH(AI1568,'Standards LOOKUP'!B:B,0),0),0)","v":0},{"$f":"IFERROR(INDEX('Current Standards'!P:P,MATCH('Sheet Counter'!AI1568,'Current Standards'!O:O,0),0),\"\")","v":""}]
[null,null,0,"","",{"$error":"#VALUE!"},"",{"$f":"IF(I1572=\"\",\"\",LARGE(H$1:H1571,1)+1)","v":{"$error":"#VALUE!"}},{"$error":"#VALUE!"},null,null,null,null,null,1571,0,{"$f":"IF(R1572=\"\",\"\",LARGE(Q$1:Q1571,1)+1)","v":{"$error":"#NUM!"}},{"$error":"#NUM!"},null,null,null,null,null,null,0,{"$error":"#VALUE!"},3999,"","",null,null,null,null,{"$error":"#VALUE!"},{"$error":"#VALUE!"},{"$f":"COUNTIF('Standards LOOKUP'!B:B,AI1572)","v":0},{"$f":"IFERROR(INDEX('Standards LOOKUP'!C:C,MATCH(AI1572,'Standards LOOKUP'!B:B,0),0),0)","v":0},{"$f":"IFERROR(INDEX('Current Standards'!P:P,MATCH('Sheet Counter'!AI1572,'Current Standards'!O:O,0),0),\"\")","v":""}]
[null,null,0,"","",{"$error":"#VALUE!"},"",{"$f":"IF(I1574=\"\",\"\",LARGE(H$1:H1573,1)+1)","v":{"$error":"#VALUE!"}},{"$error":"#VALUE!"},null,null,null,null,null,1573,0,{"$f":"IF(R1574=\"\",\"\",LARGE(Q$1:Q1573,1)+1)","v":{"$error":"#NUM!"}},{"$error":"#NUM!"},null,null,null,null,null,null,0,{"$error":"#VALUE!"},3999,"","",null,null,null,null,{"$error":"#VALUE!"},{"$error":"#VALUE!"},{"$f":"COUNTIF('Standards LOOKUP'!B:B,AI1574)","v":0},{"$f":"IFERROR(INDEX('Standards LOOKUP'!C:C,MATCH(AI1574,'Standards LOOKUP'!B:B,0),0),0)","v":0},{"$f":"IFERROR(INDEX('Current Standards'!P:P,MATCH('Sheet Counter'!AI1574,'Current Standards'!O:O,0),0),\"\")","v":""}]
[null,null,0,"","",{"$error":"#VALUE!"},"",{"$f":"IF(I1577=\"\",\"\",LARGE(H$1:H1576,1)+1)","v":{"$error":"#VALUE!"}},{"$error":"#VALUE!"},null,null,null,null,null,1576,0,{"$f":"IF(R1577=\"\",\"\",LARGE(Q$1:Q1576,1)+1)","v":{"$error":"#NUM!"}},{"$error":"#NUM!"},null,null,null,null,null,null,0,{"$error":"#VALUE!"},3999,"","",null,null,null,null,{"$error":"#VALUE!"},{"$error":"#VALUE!"},{"$f":"COUNTIF('Standards LOOKUP'!B:B,AI1577)","v":0},{"$f":"IFERROR(INDEX('Standards LOOKUP'!C:C,MATCH(AI1577,'Standards LOOKUP'!B:B,0),0),0)","v":0},{"$f":"IFERROR(INDEX('Current Standards'!P:P,MATCH('Sheet Counter'!AI1577,'Current Standards'!O:O,0),0),\"\")","v":""}]
[null,null,0,"","",{"$error":"#VALUE!"},"",{"$f":"IF(I1578=\"\",\"\",LARGE(H$1:H1577,1)+1)","v":{"$error":"#VALUE!"}},{"$error":"#VALUE!"},null,null,null,null,null,1577,0,{"$f":"IF(R1578=\"\",\"\",LARGE(Q$1:Q1577,1)+1)","v":{"$error":"#NUM!"}},{"$error":"#NUM!"},null,null,null,null,null,null,0,{"$error":"#VALUE!"},3999,"","",null,null,null,null,{"$error":"#VALUE!"},{"$error":"#VALUE!"},{"$f":"COUNTIF('Standards LOOKUP'!B:B,AI1578)","v":0},{"$f":"IFERROR(INDEX('Standards LOOKUP'!C:C,MATCH(AI1578,'Standards LOOKUP'!B:B,0),0),0)","v":0},{"$f":"IFERROR(INDEX('Current Standards'!P:P,MATCH('Sheet Counter'!AI1578,'Current Standards'!O:O,0),0),\"\")","v":""}]
[null,null,0,"","",{"$error":"#VALUE!"},"",{"$f":"IF(I1581=\"\",\"\",LARGE(H$1:H1580,1)+1)","v":{"$error":"#VALUE!"}},{"$error":"#VALUE!"},null,null,null,null,null,1580,0,{"$f":"IF(R1581=\"\",\"\",LARGE(Q$1:Q1580,1)+1)","v":{"$error":"#NUM!"}},{"$error":"#NUM!"},null,null,null,null,null,null,0,{"$error":"#VALUE!"},3999,"","",null,null,null,null,{"$error":"#VALUE!"},{"$error":"#VALUE!"},{"$f":"COUNTIF('Standards LOOKUP'!B:B,AI1581)","v":0},{"$f":"IFERROR(INDEX('Standards LOOKUP'!C:C,MATCH(AI1581,'Standards LOOKUP'!B:B,0),0),0)","v":0},{"$f":"IFERROR(INDEX('Current Standards'!P:P,MATCH('Sheet Counter'!AI1581,'Current Standards'!O:O,0),0),\"\")","v":""}]
[null,null,0,"","",{"$error":"#VALUE!"},"",{"$f":"IF(I1585=\"\",\"\",LARGE(H$1:H1584,1)+1)","v":{"$error":"#VALUE!"}},{"$error":"#VALUE!"},null,null,null,null,null,1584,0,{"$f":"IF(R1585=\"\",\"\",LARGE(Q$1:Q1584,1)+1)","v":{"$error":"#NUM!"}},{"$error":"#NUM!"},null,null,null,null,null,null,0,{"$error":"#VALUE!"},3999,"","",null,null,null,null,{"$error":"#VALUE!"},{"$error":"#VALUE!"},{"$f":"COUNTIF('Standards LOOKUP'!B:B,AI1585)","v":0},{"$f":"IFERROR(INDEX('Standards LOOKUP'!C:C,MATCH(AI1585,'Standards LOOKUP'!B:B,0),0),0)","v":0},{"$f":"IFERROR(INDEX('Current Standards'!P:P,MATCH('Sheet Counter'!AI1585,'Current Standards'!O:O,0),0),\"\")","v":""}]
[null,null,0,"","",{"$error":"#VALUE!"},"",{"$f":"IF(I1587=\"\",\"\",LARGE(H$1:H1586,1)+1)","v":{"$error":"#VALUE!"}},{"$error":"#VALUE!"},null,null,null,null,null,1586,0,{"$f":"IF(R1587=\"\",\"\",LARGE(Q$1:Q1586,1)+1)","v":{"$error":"#NUM!"}},{"$error":"#NUM!"},null,null,null,null,null,null,0,{"$error":"#VALUE!"},3999,"","",null,null,null,null,{"$error":"#VALUE!"},{"$error":"#VALUE!"},{"$f":"COUNTIF('Standards LOOKUP'!B:B,AI1587)","v":0},{"$f":"IFERROR(INDEX('Standards LOOKUP'!C:C,MATCH(AI1587,'Standards LOOKUP'!B:B,0),0),0)","v":0},{"$f":"IFERROR(INDEX('Current Standards'!P:P,MATCH('Sheet Counter'!AI1587,'Current Standards'!O:O,0),0),\"\")","v":""}]
[null,null,0,"","",{"$error":"#VALUE!"},"",{"$f":"IF(I1590=\"\",\"\",LARGE(H$1:H1589,1)+1)","v":{"$error":"#VALUE!"}},{"$error":"#VALUE!"},null,null,null,null,null,1589,0,{"$f":"IF(R1590=\"\",\"\",LARGE(Q$1:Q1589,1)+1)","v":{"$error":"#NUM!"}},{"$error":"#NUM!"},null,null,null,null,null,null,0,{"$error":"#VALUE!"},3999,"","",null,null,null,null,{"$error":"#VALUE!"},{"$error":"#VALUE!"},{"$f":"COUNTIF('Standards LOOKUP'!B:B,AI1590)","v":0},{"$f":"IFERROR(INDEX('Standards LOOKUP'!C:C,MATCH(AI1590,'Standards LOOKUP'!B:B,0),0),0)","v":0},{"$f":"IFERROR(INDEX('Current Standards'!P:P,MATCH('Sheet Counter'!AI1590,'Current Standards'!O:O,0),0),\"\")","v":""}]
[null,null,0,"","",{"$error":"#VALUE!"},"",{"$f":"IF(I1594=\"\",\"\",LARGE(H$1:H1593,1)+1)","v":{"$error":"#VALUE!"}},{"$error":"#VALUE!"},null,null,null,null,null,1593,0,{"$f":"IF(R1594=\"\",\"\",LARGE(Q$1:Q1593,1)+1)","v":{"$error":"#NUM!"}},{"$error":"#NUM!"},null,null,null,null,null,null,0,{"$error":"#VALUE!"},3999,"","",null,null,null,null,{"$error":"#VALUE!"},{"$error":"#VALUE!"},{"$f":"COUNTIF('Standards LOOKUP'!B:B,AI1594)","v":0},{"$f":"IFERROR(INDEX('Standards LOOKUP'!C:C,MATCH(AI1594,'Standards LOOKUP'!B:B,0),0),0)","v":0},{"$f":"IFERROR(INDEX('Current Standards'!P:P,MATCH('Sheet Counter'!AI1594,'Current Standards'!O:O,0),0),\"\")","v":""}]
[null,null,0,"","",{"$error":"#VALUE!"},"",{"$f":"IF(I1596=\"\",\"\",LARGE(H$1:H1595,1)+1)","v":{"$error":"#VALUE!"}},{"$error":"#VALUE!"},null,null,null,null,null,1595,0,{"$f":"IF(R1596=\"\",\"\",LARGE(Q$1:Q1595,1)+1)","v":{"$error":"#NUM!"}},{"$error":"#NUM!"},null,null,null,null,null,null,0,{"$error":"#VALUE!"},3999,"","",null,null,null,null,{"$error":"#VALUE!"},{"$error":"#VALUE!"},{"$f":"COUNTIF('Standards LOOKUP'!B:B,AI1596)","v":0},{"$f":"IFERROR(INDEX('Standards LOOKUP'!C:C,MATCH(AI1596,'Standards LOOKUP'!B:B,0),0),0)","v":0},{"$f":"IFERROR(INDEX('Current Standards'!P:P,MATCH('Sheet Counter'!AI1596,'Current Standards'!O:O,0),0),\"\")","v":""}]
[null,null,0,"","",{"$error":"#VALUE!"},"",{"$f":"IF(I1599=\"\",\"\",LARGE(H$1:H1598,1)+1)","v":{"$error":"#VALUE!"}},{"$error":"#VALUE!"},null,null,null,null,null,1598,0,{"$f":"IF(R1599=\"\",\"\",LARGE(Q$1:Q1598,1)+1)","v":{"$error":"#NUM!"}},{"$error":"#NUM!"},null,null,null,null,null,null,0,{"$error":"#VALUE!"},3999,"","",null,null,null,null,{"$error":"#VALUE!"},{"$error":"#VALUE!"},{"$f":"COUNTIF('Standards LOOKUP'!B:B,AI1599)","v":0},{"$f":"IFERROR(INDEX('Standards LOOKUP'!C:C,MATCH(AI1599,'Standards LOOKUP'!B:B,0),0),0)","v":0},{"$f":"IFERROR(INDEX('Current Standards'!P:P,MATCH('Sheet Counter'!AI1599,'Current Standards'!O:O,0),0),\"\")","v":""}]
[null,null,0,"","",{"$error":"#VALUE!"},"",{"$f":"IF(I1600=\"\",\"\",LARGE(H$1:H1599,1)+1)","v":{"$error":"#VALUE!"}},{"$error":"#VALUE!"},null,null,null,null,null,1599,0,{"$f":"IF(R1600=\"\",\"\",LARGE(Q$1:Q1599,1)+1)","v":{"$error":"#NUM!"}},{"$error":"#NUM!"},null,null,null,null,null,null,0,{"$error":"#VALUE!"},3999,"","",null,null,null,null,{"$error":"#VALUE!"},{"$error":"#VALUE!"},{"$f":"COUNTIF('Standards LOOKUP'!B:B,AI1600)","v":0},{"$f":"IFERROR(INDEX('Standards LOOKUP'!C:C,MATCH(AI1600,'Standards LOOKUP'!B:B,0),0),0)","v":0},{"$f":"IFERROR(INDEX('Current Standards'!P:P,MATCH('Sheet Counter'!AI1600,'Current Standards'!O:O,0),0),\"\")","v":""}]
[null,null,{"$f":"IF(ISERROR(FIND(\"\\\",A1603)),A1603,RIGHT(A1603,LEN(A1603)-FIND(\"~\",SUBSTITUTE(A1603,\"\\\",\"~\",LEN(A1603)-LEN(SUBSTITUTE(A1603,\"\\\",\"\"))))))","v":0},{"$f":"IF(AL1603=\"\",\"\",AL1603)","v":""},"",{"$f":"LEFT(C1603,FIND(\"-\",SUBSTITUTE(SUBSTITUTE(C1603,\"_\",\"-\"),\" \",\"-\"))-1)","v":{"$error":"#VALUE!"}},{"$f":"IF(ISNUMBER(F1603*1),F1603*1,\"\")","v":""},{"$f":"IF(I1603=\"\",\"\",LARGE(H$1:H1602,1)+1)","v":{"$error":"#VALUE!"}},{"$error":"#VALUE!"},null,null,null,null,null,1602,0,{"$f":"IF(R1603=\"\",\"\",LARGE(Q$1:Q1602,1)+1)","v":{"$error":"#NUM!"}},{"$error":"#NUM!"},null,null,null,null,null,null,{"$f":"IF(ISERROR(FIND(\"\\\",X1603)),X1603,RIGHT(X1603,LEN(X1603)-FIND(\"~\",SUBSTITUTE(X1603,\"\\\",\"~\",LEN(X1603)-LEN(SUBSTITUTE(X1603,\"\\\",\"\"))))))","v":0},{"$f":"LEFT(Y1603,FIND(\"-\",SUBSTITUTE(SUBSTITUTE(Y1603,\"_\",\"-\"),\" \",\"-\"))-1)","v":{"$error":"#VALUE!"}},{"$f":"COUNTIF(F:F,Z1603)","v":3999},{"$f":"IF(OR(AA1603<1,ISERROR(Z1603)),\"\",INDEX(C:C,MATCH(Z1603,F:F)))","v":""},{"$f":"IF(AA1603=0,\"New Sheet\",IF(EXACT(UPPER(Y1603),UPPER(AB1603)),\"Match\",\"\"))","v":""},null,null,null,null,{"$f":"IF(C1603=\"\",\"\",LEFT(RIGHT(C1603,LEN(C1603)-SEARCH(\" \",C1603,1)),LEN(RIGHT(C1603,LEN(C1603)-SEARCH(\" \",C1603,1)))-4))","v":{"$error":"#VALUE!"}},{"$f":"TRIM(SUBSTITUTE(SUBSTITUTE(SUBSTITUTE(SUBSTITUTE(SUBSTITUTE(SUBSTITUTE(AH1603,\"(\",\"\"),\")\",\"\"),\"-\",\"\"),\"&\",\"\"),\" \",\"\",1),\" \",\"\",1))","v":{"$error":"#VALUE!"}},{"$f":"COUNTIF('Standards LOOKUP'!B:B,AI1603)","v":0},{"$f":"IFERROR(INDEX('Standards LOOKUP'!C:C,MATCH(AI1603,'Standards LOOKUP'!B:B,0),0),0)","v":0},{"$f":"IFERROR(INDEX('Current Standards'!P:P,MATCH('Sheet Counter'!AI1603,'Current Standards'!O:O,0),0),\"\")","v":""}]
[null,null,0,"","",{"$error":"#VALUE!"},"",{"$f":"IF(I1607=\"\",\"\",LARGE(H$1:H1606,1)+1)","v":{"$error":"#VALUE!"}},{"$error":"#VALUE!"},null,null,null,null,null,1606,0,{"$f":"IF(R1607=\"\",\"\",LARGE(Q$1:Q1606,1)+1)","v":{"$error":"#NUM!"}},{"$error":"#NUM!"},null,null,null,null,null,null,0,{"$error":"#VALUE!"},3999,"","",null,null,null,null,{"$error":"#VALUE!"},{"$error":"#VALUE!"},{"$f":"COUNTIF('Standards LOOKUP'!B:B,AI1607)","v":0},{"$f":"IFERROR(INDEX('Standards LOOKUP'!C:C,MATCH(AI1607,'Standards LOOKUP'!B:B,0),0),0)","v":0},{"$f":"IFERROR(INDEX('Current Standards'!P:P,MATCH('Sheet Counter'!AI1607,'Current Standards'!O:O,0),0),\"\")","v":""}]
[null,null,0,"","",{"$error":"#VALUE!"},"",{"$f":"IF(I1609=\"\",\"\",LARGE(H$1:H1608,1)+1)","v":{"$error":"#VALUE!"}},{"$error":"#VALUE!"},null,null,null,null,null,1608,0,{"$f":"IF(R1609=\"\",\"\",LARGE(Q$1:Q1608,1)+1)","v":{"$error":"#NUM!"}},{"$error":"#NUM!"},null,null,null,null,null,null,0,{"$error":"#VALUE!"},3999,"","",null,null,null,null,{"$error":"#VALUE!"},{"$error":"#VALUE!"},{"$f":"COUNTIF('Standards LOOKUP'!B:B,AI1609)","v":0},{"$f":"IFERROR(INDEX('Standards LOOKUP'!C:C,MATCH(AI1609,'Standards LOOKUP'!B:B,0),0),0)","v":0},{"$f":"IFERROR(INDEX('Current Standards'!P:P,MATCH('Sheet Counter'!AI1609,'Current Standards'!O:O,0),0),\"\")","v":""}]
[null,null,0,"","",{"$error":"#VALUE!"},"",{"$f":"IF(I1612=\"\",\"\",LARGE(H$1:H1611,1)+1)","v":{"$error":"#VALUE!"}},{"$error":"#VALUE!"},null,null,null,null,null,1611,0,{"$f":"IF(R1612=\"\",\"\",LARGE(Q$1:Q1611,1)+1)","v":{"$error":"#NUM!"}},{"$error":"#NUM!"},null,null,null,null,null,null,0,{"$error":"#VALUE!"},3999,"","",null,null,null,null,{"$error":"#VALUE!"},{"$error":"#VALUE!"},{"$f":"COUNTIF('Standards LOOKUP'!B:B,AI1612)","v":0},{"$f":"IFERROR(INDEX('Standards LOOKUP'!C:C,MATCH(AI1612,'Standards LOOKUP'!B:B,0),0),0)","v":0},{"$f":"IFERROR(INDEX('Current Standards'!P:P,MATCH('Sheet Counter'!AI1612,'Current Standards'!O:O,0),0),\"\")","v":""}]
[null,null,0,"","",{"$error":"#VALUE!"},"",{"$f":"IF(I1616=\"\",\"\",LARGE(H$1:H1615,1)+1)","v":{"$error":"#VALUE!"}},{"$error":"#VALUE!"},null,null,null,null,null,1615,0,{"$f":"IF(R1616=\"\",\"\",LARGE(Q$1:Q1615,1)+1)","v":{"$error":"#NUM!"}},{"$error":"#NUM!"},null,null,null,null,null,null,0,{"$error":"#VALUE!"},3999,"","",null,null,null,null,{"$error":"#VALUE!"},{"$error":"#VALUE!"},{"$f":"COUNTIF('Standards LOOKUP'!B:B,AI1616)","v":0},{"$f":"IFERROR(INDEX('Standards LOOKUP'!C:C,MATCH(AI1616,'Standards LOOKUP'!B:B,0),0),0)","v":0},{"$f":"IFERROR(INDEX('Current Standards'!P:P,MATCH('Sheet Counter'!AI1616,'Current Standards'!O:O,0),0),\"\")","v":""}]
[null,null,0,"","",{"$error":"#VALUE!"},"",{"$f":"IF(I1618=\"\",\"\",LARGE(H$1:H1617,1)+1)","v":{"$error":"#VALUE!"}},{"$error":"#VALUE!"},null,null,null,null,null,1617,0,{"$f":"IF(R1618=\"\",\"\",LARGE(Q$1:Q1617,1)+1)","v":{"$error":"#NUM!"}},{"$error":"#NUM!"},null,null,null,null,null,null,0,{"$error":"#VALUE!"},3999,"","",null,null,null,null,{"$error":"#VALUE!"},{"$error":"#VALUE!"},{"$f":"COUNTIF('Standards LOOKUP'!B:B,AI1618)","v":0},{"$f":"IFERROR(INDEX('Standards LOOKUP'!C:C,MATCH(AI1618,'Standards LOOKUP'!B:B,0),0),0)","v":0},{"$f":"IFERROR(INDEX('Current Standards'!P:P,MATCH('Sheet Counter'!AI1618,'Current Standards'!O:O,0),0),\"\")","v":""}]
[null,null,0,"","",{"$error":"#VALUE!"},"",{"$f":"IF(I1621=\"\",\"\",LARGE(H$1:H1620,1)+1)","v":{"$error":"#VALUE!"}},{"$error":"#VALUE!"},null,null,null,null,null,1620,0,{"$f":"IF(R1621=\"\",\"\",LARGE(Q$1:Q1620,1)+1)","v":{"$error":"#NUM!"}},{"$error":"#NUM!"},null,null,null,null,null,null,0,{"$error":"#VALUE!"},3999,"","",null,null,null,null,{"$error":"#VALUE!"},{"$error":"#VALUE!"},{"$f":"COUNTIF('Standards LOOKUP'!B:B,AI1621)","v":0},{"$f":"IFERROR(INDEX('Standards LOOKUP'!C:C,MATCH(AI1621,'Standards LOOKUP'!B:B,0),0),0)","v":0},{"$f":"IFERROR(INDEX('Current Standards'!P:P,MATCH('Sheet Counter'!AI1621,'Current Standards'!O:O,0),0),\"\")","v":""}]
[null,null,0,"","",{"$error":"#VALUE!"},"",{"$f":"IF(I1622=\"\",\"\",LARGE(H$1:H1621,1)+1)","v":{"$error":"#VALUE!"}},{"$error":"#VALUE!"},null,null,null,null,null,1621,0,{"$f":"IF(R1622=\"\",\"\",LARGE(Q$1:Q1621,1)+1)","v":{"$error":"#NUM!"}},{"$error":"#NUM!"},null,null,null,null,null,null,0,{"$error":"#VALUE!"},3999,"","",null,null,null,null,{"$error":"#VALUE!"},{"$error":"#VALUE!"},{"$f":"COUNTIF('Standards LOOKUP'!B:B,AI1622)","v":0},{"$f":"IFERROR(INDEX('Standards LOOKUP'!C:C,MATCH(AI1622,'Standards LOOKUP'!B:B,0),0),0)","v":0},{"$f":"IFERROR(INDEX('Current Standards'!P:P,MATCH('Sheet Counter'!AI1622,'Current Standards'!O:O,0),0),\"\")","v":""}]
[null,null,0,"","",{"$error":"#VALUE!"},"",{"$f":"IF(I1625=\"\",\"\",LARGE(H$1:H1624,1)+1)","v":{"$error":"#VALUE!"}},{"$error":"#VALUE!"},null,null,null,null,null,1624,0,{"$f":"IF(R1625=\"\",\"\",LARGE(Q$1:Q1624,1)+1)","v":{"$error":"#NUM!"}},{"$error":"#NUM!"},null,null,null,null,null,null,0,{"$error":"#VALUE!"},3999,"","",null,null,null,null,{"$error":"#VALUE!"},{"$error":"#VALUE!"},{"$f":"COUNTIF('Standards LOOKUP'!B:B,AI1625)","v":0},{"$f":"IFERROR(INDEX('Standards LOOKUP'!C:C,MATCH(AI1625,'Standards LOOKUP'!B:B,0),0),0)","v":0},{"$f":"IFERROR(INDEX('Current Standards'!P:P,MATCH('Sheet Counter'!AI1625,'Current Standards'!O:O,0),0),\"\")","v":""}]
[null,null,0,"","",{"$error":"#VALUE!"},"",{"$f":"IF(I1629=\"\",\"\",LARGE(H$1:H1628,1)+1)","v":{"$error":"#VALUE!"}},{"$error":"#VALUE!"},null,null,null,null,null,1628,0,{"$f":"IF(R1629=\"\",\"\",LARGE(Q$1:Q1628,1)+1)","v":{"$error":"#NUM!"}},{"$error":"#NUM!"},null,null,null,null,null,null,0,{"$error":"#VALUE!"},3999,"","",null,null,null,null,{"$error":"#VALUE!"},{"$error":"#VALUE!"},{"$f":"COUNTIF('Standards LOOKUP'!B:B,AI1629)","v":0},{"$f":"IFERROR(INDEX('Standards LOOKUP'!C:C,MATCH(AI1629,'Standards LOOKUP'!B:B,0),0),0)","v":0},{"$f":"IFERROR(INDEX('Current Standards'!P:P,MATCH('Sheet Counter'!AI1629,'Current Standards'!O:O,0),0),\"\")","v":""}]
[null,null,0,"","",{"$error":"#VALUE!"},"",{"$f":"IF(I1631=\"\",\"\",LARGE(H$1:H1630,1)+1)","v":{"$error":"#VALUE!"}},{"$error":"#VALUE!"},null,null,null,null,null,1630,0,{"$f":"IF(R1631=\"\",\"\",LARGE(Q$1:Q1630,1)+1)","v":{"$error":"#NUM!"}},{"$error":"#NUM!"},null,null,null,null,null,null,0,{"$error":"#VALUE!"},3999,"","",null,null,null,null,{"$error":"#VALUE!"},{"$error":"#VALUE!"},{"$f":"COUNTIF('Standards LOOKUP'!B:B,AI1631)","v":0},{"$f":"IFERROR(INDEX('Standards LOOKUP'!C:C,MATCH(AI1631,'Standards LOOKUP'!B:B,0),0),0)","v":0},{"$f":"IFERROR(INDEX('Current Standards'!P:P,MATCH('Sheet Counter'!AI1631,'Current Standards'!O:O,0),0),\"\")","v":""}]
[null,null,0,"","",{"$error":"#VALUE!"},"",{"$f":"IF(I1634=\"\",\"\",LARGE(H$1:H1633,1)+1)","v":{"$error":"#VALUE!"}},{"$error":"#VALUE!"},null,null,null,null,null,1633,0,{"$f":"IF(R1634=\"\",\"\",LARGE(Q$1:Q1633,1)+1)","v":{"$error":"#NUM!"}},{"$error":"#NUM!"},null,null,null,null,null,null,0,{"$error":"#VALUE!"},3999,"","",null,null,null,null,{"$error":"#VALUE!"},{"$error":"#VALUE!"},{"$f":"COUNTIF('Standards LOOKUP'!B:B,AI1634)","v":0},{"$f":"IFERROR(INDEX('Standards LOOKUP'!C:C,MATCH(AI1634,'Standards LOOKUP'!B:B,0),0),0)","v":0},{"$f":"IFERROR(INDEX('Current Standards'!P:P,MATCH('Sheet Counter'!AI1634,'Current Standards'!O:O,0),0),\"\")","v":""}]
[null,null,0,"","",{"$error":"#VALUE!"},"",{"$f":"IF(I1638=\"\",\"\",LARGE(H$1:H1637,1)+1)","v":{"$error":"#VALUE!"}},{"$error":"#VALUE!"},null,null,null,null,null,1637,0,{"$f":"IF(R1638=\"\",\"\",LARGE(Q$1:Q1637,1)+1)","v":{"$error":"#NUM!"}},{"$error":"#NUM!"},null,null,null,null,null,null,0,{"$error":"#VALUE!"},3999,"","",null,null,null,null,{"$error":"#VALUE!"},{"$error":"#VALUE!"},{"$f":"COUNTIF('Standards LOOKUP'!B:B,AI1638)","v":0},{"$f":"IFERROR(INDEX('Standards LOOKUP'!C:C,MATCH(AI1638,'Standards LOOKUP'!B:B,0),0),0)","v":0},{"$f":"IFERROR(INDEX('Current Standards'!P:P,MATCH('Sheet Counter'!AI1638,'Current Standards'!O:O,0),0),\"\")","v":""}]
[null,null,0,"","",{"$error":"#VALUE!"},"",{"$f":"IF(I1640=\"\",\"\",LARGE(H$1:H1639,1)+1)","v":{"$error":"#VALUE!"}},{"$error":"#VALUE!"},null,null,null,null,null,1639,0,{"$f":"IF(R1640=\"\",\"\",LARGE(Q$1:Q1639,1)+1)","v":{"$error":"#NUM!"}},{"$error":"#NUM!"},null,null,null,null,null,null,0,{"$error":"#VALUE!"},3999,"","",null,null,null,null,{"$error":"#VALUE!"},{"$error":"#VALUE!"},{"$f":"COUNTIF('Standards LOOKUP'!B:B,AI1640)","v":0},{"$f":"IFERROR(INDEX('Standards LOOKUP'!C:C,MATCH(AI1640,'Standards LOOKUP'!B:B,0),0),0)","v":0},{"$f":"IFERROR(INDEX('Current Standards'!P:P,MATCH('Sheet Counter'!AI1640,'Current Standards'!O:O,0),0),\"\")","v":""}]
[null,null,0,"","",{"$error":"#VALUE!"},"",{"$f":"IF(I1643=\"\",\"\",LARGE(H$1:H1642,1)+1)","v":{"$error":"#VALUE!"}},{"$error":"#VALUE!"},null,null,null,null,null,1642,0,{"$f":"IF(R1643=\"\",\"\",LARGE(Q$1:Q1642,1)+1)","v":{"$error":"#NUM!"}},{"$error":"#NUM!"},null,null,null,null,null,null,0,{"$error":"#VALUE!"},3999,"","",null,null,null,null,{"$error":"#VALUE!"},{"$error":"#VALUE!"},{"$f":"COUNTIF('Standards LOOKUP'!B:B,AI1643)","v":0},{"$f":"IFERROR(INDEX('Standards LOOKUP'!C:C,MATCH(AI1643,'Standards LOOKUP'!B:B,0),0),0)","v":0},{"$f":"IFERROR(INDEX('Current Standards'!P:P,MATCH('Sheet Counter'!AI1643,'Current Standards'!O:O,0),0),\"\")","v":""}]
[null,null,0,"","",{"$error":"#VALUE!"},"",{"$f":"IF(I1644=\"\",\"\",LARGE(H$1:H1643,1)+1)","v":{"$error":"#VALUE!"}},{"$error":"#VALUE!"},null,null,null,null,null,1643,0,{"$f":"IF(R1644=\"\",\"\",LARGE(Q$1:Q1643,1)+1)","v":{"$error":"#NUM!"}},{"$error":"#NUM!"},null,null,null,null,null,null,0,{"$error":"#VALUE!"},3999,"","",null,null,null,null,{"$error":"#VALUE!"},{"$error":"#VALUE!"},{"$f":"COUNTIF('Standards LOOKUP'!B:B,AI1644)","v":0},{"$f":"IFERROR(INDEX('Standards LOOKUP'!C:C,MATCH(AI1644,'Standards LOOKUP'!B:B,0),0),0)","v":0},{"$f":"IFERROR(INDEX('Current Standards'!P:P,MATCH('Sheet Counter'!AI1644,'Current Standards'!O:O,0),0),\"\")","v":""}]
[null,null,0,"","",{"$error":"#VALUE!"},"",{"$f":"IF(I1647=\"\",\"\",LARGE(H$1:H1646,1)+1)","v":{"$error":"#VALUE!"}},{"$error":"#VALUE!"},null,null,null,null,null,1646,0,{"$f":"IF(R1647=\"\",\"\",LARGE(Q$1:Q1646,1)+1)","v":{"$error":"#NUM!"}},{"$error":"#NUM!"},null,null,null,null,null,null,0,{"$error":"#VALUE!"},3999,"","",null,null,null,null,{"$error":"#VALUE!"},{"$error":"#VALUE!"},{"$f":"COUNTIF('Standards LOOKUP'!B:B,AI1647)","v":0},{"$f":"IFERROR(INDEX('Standards LOOKUP'!C:C,MATCH(AI1647,'Standards LOOKUP'!B:B,0),0),0)","v":0},{"$f":"IFERROR(INDEX('Current Standards'!P:P,MATCH('Sheet Counter'!AI1647,'Current Standards'!O:O,0),0),\"\")","v":""}]
[null,null,0,"","",{"$error":"#VALUE!"},"",{"$f":"IF(I1651=\"\",\"\",LARGE(H$1:H1650,1)+1)","v":{"$error":"#VALUE!"}},{"$error":"#VALUE!"},null,null,null,null,null,1650,0,{"$f":"IF(R1651=\"\",\"\",LARGE(Q$1:Q1650,1)+1)","v":{"$error":"#NUM!"}},{"$error":"#NUM!"},null,null,null,null,null,null,0,{"$error":"#VALUE!"},3999,"","",null,null,null,null,{"$error":"#VALUE!"},{"$error":"#VALUE!"},{"$f":"COUNTIF('Standards LOOKUP'!B:B,AI1651)","v":0},{"$f":"IFERROR(INDEX('Standards LOOKUP'!C:C,MATCH(AI1651,'Standards LOOKUP'!B:B,0),0),0)","v":0},{"$f":"IFERROR(INDEX('Current Standards'!P:P,MATCH('Sheet Counter'!AI1651,'Current Standards'!O:O,0),0),\"\")","v":""}]
[null,null,0,"","",{"$error":"#VALUE!"},"",{"$f":"IF(I1653=\"\",\"\",LARGE(H$1:H1652,1)+1)","v":{"$error":"#VALUE!"}},{"$error":"#VALUE!"},null,null,null,null,null,1652,0,{"$f":"IF(R1653=\"\",\"\",LARGE(Q$1:Q1652,1)+1)","v":{"$error":"#NUM!"}},{"$error":"#NUM!"},null,null,null,null,null,null,0,{"$error":"#VALUE!"},3999,"","",null,null,null,null,{"$error":"#VALUE!"},{"$error":"#VALUE!"},{"$f":"COUNTIF('Standards LOOKUP'!B:B,AI1653)","v":0},{"$f":"IFERROR(INDEX('Standards LOOKUP'!C:C,MATCH(AI1653,'Standards LOOKUP'!B:B,0),0),0)","v":0},{"$f":"IFERROR(INDEX('Current Standards'!P:P,MATCH('Sheet Counter'!AI1653,'Current Standards'!O:O,0),0),\"\")","v":""}]
[null,null,0,"","",{"$error":"#VALUE!"},"",{"$f":"IF(I1656=\"\",\"\",LARGE(H$1:H1655,1)+1)","v":{"$error":"#VALUE!"}},{"$error":"#VALUE!"},null,null,null,null,null,1655,0,{"$f":"IF(R1656=\"\",\"\",LARGE(Q$1:Q1655,1)+1)","v":{"$error":"#NUM!"}},{"$error":"#NUM!"},null,null,null,null,null,null,0,{"$error":"#VALUE!"},3999,"","",null,null,null,null,{"$error":"#VALUE!"},{"$error":"#VALUE!"},{"$f":"COUNTIF('Standards LOOKUP'!B:B,AI1656)","v":0},{"$f":"IFERROR(INDEX('Standards LOOKUP'!C:C,MATCH(AI1656,'Standards LOOKUP'!B:B,0),0),0)","v":0},{"$f":"IFERROR(INDEX('Current Standards'!P:P,MATCH('Sheet Counter'!AI1656,'Current Standards'!O:O,0),0),\"\")","v":""}]
[null,null,0,"","",{"$error":"#VALUE!"},"",{"$f":"IF(I1660=\"\",\"\",LARGE(H$1:H1659,1)+1)","v":{"$error":"#VALUE!"}},{"$error":"#VALUE!"},null,null,null,null,null,1659,0,{"$f":"IF(R1660=\"\",\"\",LARGE(Q$1:Q1659,1)+1)","v":{"$error":"#NUM!"}},{"$error":"#NUM!"},null,null,null,null,null,null,0,{"$error":"#VALUE!"},3999,"","",null,null,null,null,{"$error":"#VALUE!"},{"$error":"#VALUE!"},{"$f":"COUNTIF('Standards LOOKUP'!B:B,AI1660)","v":0},{"$f":"IFERROR(INDEX('Standards LOOKUP'!C:C,MATCH(AI1660,'Standards LOOKUP'!B:B,0),0),0)","v":0},{"$f":"IFERROR(INDEX('Current Standards'!P:P,MATCH('Sheet Counter'!AI1660,'Current Standards'!O:O,0),0),\"\")","v":""}]
[null,null,0,"","",{"$error":"#VALUE!"},"",{"$f":"IF(I1662=\"\",\"\",LARGE(H$1:H1661,1)+1)","v":{"$error":"#VALUE!"}},{"$error":"#VALUE!"},null,null,null,null,null,1661,0,{"$f":"IF(R1662=\"\",\"\",LARGE(Q$1:Q1661,1)+1)","v":{"$error":"#NUM!"}},{"$error":"#NUM!"},null,null,null,null,null,null,0,{"$error":"#VALUE!"},3999,"","",null,null,null,null,{"$error":"#VALUE!"},{"$error":"#VALUE!"},{"$f":"COUNTIF('Standards LOOKUP'!B:B,AI1662)","v":0},{"$f":"IFERROR(INDEX('Standards LOOKUP'!C:C,MATCH(AI1662,'Standards LOOKUP'!B:B,0),0),0)","v":0},{"$f":"IFERROR(INDEX('Current Standards'!P:P,MATCH('Sheet Counter'!AI1662,'Current Standards'!O:O,0),0),\"\")","v":""}]
[null,null,0,"","",{"$error":"#VALUE!"},"",{"$f":"IF(I1663=\"\",\"\",LARGE(H$1:H1662,1)+1)","v":{"$error":"#VALUE!"}},{"$error":"#VALUE!"},null,null,null,null,null,1662,0,{"$f":"IF(R1663=\"\",\"\",LARGE(Q$1:Q1662,1)+1)","v":{"$error":"#NUM!"}},{"$error":"#NUM!"},null,null,null,null,null,null,0,{"$error":"#VALUE!"},3999,"","",null,null,null,null,{"$error":"#VALUE!"},{"$error":"#VALUE!"},{"$f":"COUNTIF('Standards LOOKUP'!B:B,AI1663)","v":0},{"$f":"IFERROR(INDEX('Standards LOOKUP'!C:C,MATCH(AI1663,'Standards LOOKUP'!B:B,0),0),0)","v":0},{"$f":"IFERROR(INDEX('Current Standards'!P:P,MATCH('Sheet Counter'!AI1663,'Current Standards'!O:O,0),0),\"\")","v":""}]
[null,null,0,"","",{"$error":"#VALUE!"},"",{"$f":"IF(I1666=\"\",\"\",LARGE(H$1:H1665,1)+1)","v":{"$error":"#VALUE!"}},{"$f":"IF(G1666=\"\",F1666,\"\")","v":{"$error":"#VALUE!"}},null,null,null,null,null,1665,{"$f":"COUNTIF(G:G,O1666)","v":0},{"$f":"IF(R1666=\"\",\"\",LARGE(Q$1:Q1665,1)+1)","v":{"$error":"#NUM!"}},{"$error":"#NUM!"},null,null,null,null,null,null,0,{"$error":"#VALUE!"},3999,"","",null,null,null,null,{"$error":"#VALUE!"},{"$error":"#VALUE!"},{"$f":"COUNTIF('Standards LOOKUP'!B:B,AI1666)","v":0},{"$f":"IFERROR(INDEX('Standards LOOKUP'!C:C,MATCH(AI1666,'Standards LOOKUP'!B:B,0),0),0)","v":0},{"$f":"IFERROR(INDEX('Current Standards'!P:P,MATCH('Sheet Counter'!AI1666,'Current Standards'!O:O,0),0),\"\")","v":""}]
[null,null,0,"","",{"$error":"#VALUE!"},"",{"$f":"IF(I1669=\"\",\"\",LARGE(H$1:H1668,1)+1)","v":{"$error":"#VALUE!"}},{"$error":"#VALUE!"},null,null,null,null,null,1668,0,{"$f":"IF(R1669=\"\",\"\",LARGE(Q$1:Q1668,1)+1)","v":{"$error":"#NUM!"}},{"$error":"#NUM!"},null,null,null,null,null,null,0,{"$error":"#VALUE!"},3999,"","",null,null,null,null,{"$error":"#VALUE!"},{"$error":"#VALUE!"},{"$f":"COUNTIF('Standards LOOKUP'!B:B,AI1669)","v":0},{"$f":"IFERROR(INDEX('Standards LOOKUP'!C:C,MATCH(AI1669,'Standards LOOKUP'!B:B,0),0),0)","v":0},{"$f":"IFERROR(INDEX('Current Standards'!P:P,MATCH('Sheet Counter'!AI1669,'Current Standards'!O:O,0),0),\"\")","v":""}]
[null,null,0,"","",{"$error":"#VALUE!"},"",{"$f":"IF(I1673=\"\",\"\",LARGE(H$1:H1672,1)+1)","v":{"$error":"#VALUE!"}},{"$error":"#VALUE!"},null,null,null,null,null,1672,0,{"$f":"IF(R1673=\"\",\"\",LARGE(Q$1:Q1672,1)+1)","v":{"$error":"#NUM!"}},{"$error":"#NUM!"},null,null,null,null,null,null,0,{"$error":"#VALUE!"},3999,"","",null,null,null,null,{"$error":"#VALUE!"},{"$error":"#VALUE!"},{"$f":"COUNTIF('Standards LOOKUP'!B:B,AI1673)","v":0},{"$f":"IFERROR(INDEX('Standards LOOKUP'!C:C,MATCH(AI1673,'Standards LOOKUP'!B:B,0),0),0)","v":0},{"$f":"IFERROR(INDEX('Current Standards'!P:P,MATCH('Sheet Counter'!AI1673,'Current Standards'!O:O,0),0),\"\")","v":""}]
[null,null,0,"","",{"$error":"#VALUE!"},"",{"$f":"IF(I1675=\"\",\"\",LARGE(H$1:H1674,1)+1)","v":{"$error":"#VALUE!"}},{"$error":"#VALUE!"},null,null,null,null,null,1674,0,{"$f":"IF(R1675=\"\",\"\",LARGE(Q$1:Q1674,1)+1)","v":{"$error":"#NUM!"}},{"$error":"#NUM!"},null,null,null,null,null,null,0,{"$error":"#VALUE!"},3999,"","",null,null,null,null,{"$error":"#VALUE!"},{"$error":"#VALUE!"},{"$f":"COUNTIF('Standards LOOKUP'!B:B,AI1675)","v":0},{"$f":"IFERROR(INDEX('Standards LOOKUP'!C:C,MATCH(AI1675,'Standards LOOKUP'!B:B,0),0),0)","v":0},{"$f":"IFERROR(INDEX('Current Standards'!P:P,MATCH('Sheet Counter'!AI1675,'Current Standards'!O:O,0),0),\"\")","v":""}]
[null,null,0,"","",{"$error":"#VALUE!"},"",{"$f":"IF(I1678=\"\",\"\",LARGE(H$1:H1677,1)+1)","v":{"$error":"#VALUE!"}},{"$error":"#VALUE!"},null,null,null,null,null,1677,0,{"$f":"IF(R1678=\"\",\"\",LARGE(Q$1:Q1677,1)+1)","v":{"$error":"#NUM!"}},{"$error":"#NUM!"},null,null,null,null,null,null,0,{"$error":"#VALUE!"},3999,"","",null,null,null,null,{"$error":"#VALUE!"},{"$error":"#VALUE!"},{"$f":"COUNTIF('Standards LOOKUP'!B:B,AI1678)","v":0},{"$f":"IFERROR(INDEX('Standards LOOKUP'!C:C,MATCH(AI1678,'Standards LOOKUP'!B:B,0),0),0)","v":0},{"$f":"IFERROR(INDEX('Current Standards'!P:P,MATCH('Sheet Counter'!AI1678,'Current Standards'!O:O,0),0),\"\")","v":""}]
[null,null,0,"","",{"$error":"#VALUE!"},"",{"$f":"IF(I1682=\"\",\"\",LARGE(H$1:H1681,1)+1)","v":{"$error":"#VALUE!"}},{"$error":"#VALUE!"},null,null,null,null,null,1681,0,{"$f":"IF(R1682=\"\",\"\",LARGE(Q$1:Q1681,1)+1)","v":{"$error":"#NUM!"}},{"$error":"#NUM!"},null,null,null,null,null,null,0,{"$error":"#VALUE!"},3999,"","",null,null,null,null,{"$error":"#VALUE!"},{"$error":"#VALUE!"},{"$f":"COUNTIF('Standards LOOKUP'!B:B,AI1682)","v":0},{"$f":"IFERROR(INDEX('Standards LOOKUP'!C:C,MATCH(AI1682,'Standards LOOKUP'!B:B,0),0),0)","v":0},{"$f":"IFERROR(INDEX('Current Standards'!P:P,MATCH('Sheet Counter'!AI1682,'Current Standards'!O:O,0),0),\"\")","v":""}]
[null,null,0,"","",{"$error":"#VALUE!"},"",{"$f":"IF(I1684=\"\",\"\",LARGE(H$1:H1683,1)+1)","v":{"$error":"#VALUE!"}},{"$error":"#VALUE!"},null,null,null,null,null,1683,0,{"$f":"IF(R1684=\"\",\"\",LARGE(Q$1:Q1683,1)+1)","v":{"$error":"#NUM!"}},{"$error":"#NUM!"},null,null,null,null,null,null,0,{"$error":"#VALUE!"},3999,"","",null,null,null,null,{"$error":"#VALUE!"},{"$error":"#VALUE!"},{"$f":"COUNTIF('Standards LOOKUP'!B:B,AI1684)","v":0},{"$f":"IFERROR(INDEX('Standards LOOKUP'!C:C,MATCH(AI1684,'Standards LOOKUP'!B:B,0),0),0)","v":0},{"$f":"IFERROR(INDEX('Current Standards'!P:P,MATCH('Sheet Counter'!AI1684,'Current Standards'!O:O,0),0),\"\")","v":""}]
[null,null,0,"","",{"$error":"#VALUE!"},"",{"$f":"IF(I1685=\"\",\"\",LARGE(H$1:H1684,1)+1)","v":{"$error":"#VALUE!"}},{"$error":"#VALUE!"},null,null,null,null,null,1684,0,{"$f":"IF(R1685=\"\",\"\",LARGE(Q$1:Q1684,1)+1)","v":{"$error":"#NUM!"}},{"$error":"#NUM!"},null,null,null,null,null,null,0,{"$error":"#VALUE!"},3999,"","",null,null,null,null,{"$error":"#VALUE!"},{"$error":"#VALUE!"},{"$f":"COUNTIF('Standards LOOKUP'!B:B,AI1685)","v":0},{"$f":"IFERROR(INDEX('Standards LOOKUP'!C:C,MATCH(AI1685,'Standards LOOKUP'!B:B,0),0),0)","v":0},{"$f":"IFERROR(INDEX('Current Standards'!P:P,MATCH('Sheet Counter'!AI1685,'Current Standards'!O:O,0),0),\"\")","v":""}]
[null,null,0,"","",{"$error":"#VALUE!"},"",{"$f":"IF(I1688=\"\",\"\",LARGE(H$1:H1687,1)+1)","v":{"$error":"#VALUE!"}},{"$error":"#VALUE!"},null,null,null,null,null,1687,0,{"$f":"IF(R1688=\"\",\"\",LARGE(Q$1:Q1687,1)+1)","v":{"$error":"#NUM!"}},{"$error":"#NUM!"},null,null,null,null,null,null,0,{"$error":"#VALUE!"},3999,"","",null,null,null,null,{"$error":"#VALUE!"},{"$error":"#VALUE!"},{"$f":"COUNTIF('Standards LOOKUP'!B:B,AI1688)","v":0},{"$f":"IFERROR(INDEX('Standards LOOKUP'!C:C,MATCH(AI1688,'Standards LOOKUP'!B:B,0),0),0)","v":0},{"$f":"IFERROR(INDEX('Current Standards'!P:P,MATCH('Sheet Counter'!AI1688,'Current Standards'!O:O,0),0),\"\")","v":""}]
[null,null,0,"","",{"$error":"#VALUE!"},"",{"$f":"IF(I1691=\"\",\"\",LARGE(H$1:H1690,1)+1)","v":{"$error":"#VALUE!"}},{"$error":"#VALUE!"},null,null,null,null,null,1690,0,{"$f":"IF(R1691=\"\",\"\",LARGE(Q$1:Q1690,1)+1)","v":{"$error":"#NUM!"}},{"$error":"#NUM!"},null,null,null,null,null,null,0,{"$error":"#VALUE!"},3999,"","",null,null,null,null,{"$error":"#VALUE!"},{"$error":"#VALUE!"},{"$f":"COUNTIF('Standards LOOKUP'!B:B,AI1691)","v":0},{"$f":"IFERROR(INDEX('Standards LOOKUP'!C:C,MATCH(AI1691,'Standards LOOKUP'!B:B,0),0),0)","v":0},{"$f":"IFERROR(INDEX('Current Standards'!P:P,MATCH('Sheet Counter'!AI1691,'Current Standards'!O:O,0),0),\"\")","v":""}]
[null,null,0,"","",{"$error":"#VALUE!"},"",{"$f":"IF(I1695=\"\",\"\",LARGE(H$1:H1694,1)+1)","v":{"$error":"#VALUE!"}},{"$error":"#VALUE!"},null,null,null,null,null,1694,0,{"$f":"IF(R1695=\"\",\"\",LARGE(Q$1:Q1694,1)+1)","v":{"$error":"#NUM!"}},{"$error":"#NUM!"},null,null,null,null,null,null,0,{"$error":"#VALUE!"},3999,"","",null,null,null,null,{"$error":"#VALUE!"},{"$error":"#VALUE!"},{"$f":"COUNTIF('Standards LOOKUP'!B:B,AI1695)","v":0},{"$f":"IFERROR(INDEX('Standards LOOKUP'!C:C,MATCH(AI1695,'Standards LOOKUP'!B:B,0),0),0)","v":0},{"$f":"IFERROR(INDEX('Current Standards'!P:P,MATCH('Sheet Counter'!AI1695,'Current Standards'!O:O,0),0),\"\")","v":""}]
[null,null,0,"","",{"$error":"#VALUE!"},"",{"$f":"IF(I1697=\"\",\"\",LARGE(H$1:H1696,1)+1)","v":{"$error":"#VALUE!"}},{"$error":"#VALUE!"},null,null,null,null,null,1696,0,{"$f":"IF(R1697=\"\",\"\",LARGE(Q$1:Q1696,1)+1)","v":{"$error":"#NUM!"}},{"$error":"#NUM!"},null,null,null,null,null,null,0,{"$error":"#VALUE!"},3999,"","",null,null,null,null,{"$error":"#VALUE!"},{"$error":"#VALUE!"},{"$f":"COUNTIF('Standards LOOKUP'!B:B,AI1697)","v":0},{"$f":"IFERROR(INDEX('Standards LOOKUP'!C:C,MATCH(AI1697,'Standards LOOKUP'!B:B,0),0),0)","v":0},{"$f":"IFERROR(INDEX('Current Standards'!P:P,MATCH('Sheet Counter'!AI1697,'Current Standards'!O:O,0),0),\"\")","v":""}]
[null,null,0,"","",{"$error":"#VALUE!"},"",{"$f":"IF(I1701=\"\",\"\",LARGE(H$1:H1700,1)+1)","v":{"$error":"#VALUE!"}},{"$error":"#VALUE!"},null,null,null,null,null,1700,0,{"$f":"IF(R1701=\"\",\"\",LARGE(Q$1:Q1700,1)+1)","v":{"$error":"#NUM!"}},{"$error":"#NUM!"},null,null,null,null,null,null,0,{"$error":"#VALUE!"},3999,"","",null,null,null,null,{"$error":"#VALUE!"},{"$error":"#VALUE!"},{"$f":"COUNTIF('Standards LOOKUP'!B:B,AI1701)","v":0},{"$f":"IFERROR(INDEX('Standards LOOKUP'!C:C,MATCH(AI1701,'Standards LOOKUP'!B:B,0),0),0)","v":0},{"$f":"IFERROR(INDEX('Current Standards'!P:P,MATCH('Sheet Counter'!AI1701,'Current Standards'!O:O,0),0),\"\")","v":""}]
[null,null,0,"","",{"$error":"#VALUE!"},"",{"$f":"IF(I1704=\"\",\"\",LARGE(H$1:H1703,1)+1)","v":{"$error":"#VALUE!"}},{"$error":"#VALUE!"},null,null,null,null,null,1703,0,{"$f":"IF(R1704=\"\",\"\",LARGE(Q$1:Q1703,1)+1)","v":{"$error":"#NUM!"}},{"$error":"#NUM!"},null,null,null,null,null,null,0,{"$error":"#VALUE!"},3999,"","",null,null,null,null,{"$error":"#VALUE!"},{"$error":"#VALUE!"},{"$f":"COUNTIF('Standards LOOKUP'!B:B,AI1704)","v":0},{"$f":"IFERROR(INDEX('Standards LOOKUP'!C:C,MATCH(AI1704,'Standards LOOKUP'!B:B,0),0),0)","v":0},{"$f":"IFERROR(INDEX('Current Standards'!P:P,MATCH('Sheet Counter'!AI1704,'Current Standards'!O:O,0),0),\"\")","v":""}]
[null,null,0,"","",{"$error":"#VALUE!"},"",{"$f":"IF(I1706=\"\",\"\",LARGE(H$1:H1705,1)+1)","v":{"$error":"#VALUE!"}},{"$error":"#VALUE!"},null,null,null,null,null,1705,0,{"$f":"IF(R1706=\"\",\"\",LARGE(Q$1:Q1705,1)+1)","v":{"$error":"#NUM!"}},{"$error":"#NUM!"},null,null,null,null,null,null,0,{"$error":"#VALUE!"},3999,"","",null,null,null,null,{"$error":"#VALUE!"},{"$error":"#VALUE!"},{"$f":"COUNTIF('Standards LOOKUP'!B:B,AI1706)","v":0},{"$f":"IFERROR(INDEX('Standards LOOKUP'!C:C,MATCH(AI1706,'Standards LOOKUP'!B:B,0),0),0)","v":0},{"$f":"IFERROR(INDEX('Current Standards'!P:P,MATCH('Sheet Counter'!AI1706,'Current Standards'!O:O,0),0),\"\")","v":""}]
[null,null,0,"","",{"$error":"#VALUE!"},"",{"$f":"IF(I1707=\"\",\"\",LARGE(H$1:H1706,1)+1)","v":{"$error":"#VALUE!"}},{"$error":"#VALUE!"},null,null,null,null,null,1706,0,{"$f":"IF(R1707=\"\",\"\",LARGE(Q$1:Q1706,1)+1)","v":{"$error":"#NUM!"}},{"$error":"#NUM!"},null,null,null,null,null,null,0,{"$error":"#VALUE!"},3999,"","",null,null,null,null,{"$error":"#VALUE!"},{"$error":"#VALUE!"},{"$f":"COUNTIF('Standards LOOKUP'!B:B,AI1707)","v":0},{"$f":"IFERROR(INDEX('Standards LOOKUP'!C:C,MATCH(AI1707,'Standards LOOKUP'!B:B,0),0),0)","v":0},{"$f":"IFERROR(INDEX('Current Standards'!P:P,MATCH('Sheet Counter'!AI1707,'Current Standards'!O:O,0),0),\"\")","v":""}]
[null,null,0,"","",{"$error":"#VALUE!"},"",{"$f":"IF(I1710=\"\",\"\",LARGE(H$1:H1709,1)+1)","v":{"$error":"#VALUE!"}},{"$error":"#VALUE!"},null,null,null,null,null,1709,0,{"$f":"IF(R1710=\"\",\"\",LARGE(Q$1:Q1709,1)+1)","v":{"$error":"#NUM!"}},{"$error":"#NUM!"},null,null,null,null,null,null,0,{"$error":"#VALUE!"},3999,"","",null,null,null,null,{"$error":"#VALUE!"},{"$error":"#VALUE!"},{"$f":"COUNTIF('Standards LOOKUP'!B:B,AI1710)","v":0},{"$f":"IFERROR(INDEX('Standards LOOKUP'!C:C,MATCH(AI1710,'Standards LOOKUP'!B:B,0),0),0)","v":0},{"$f":"IFERROR(INDEX('Current Standards'!P:P,MATCH('Sheet Counter'!AI1710,'Current Standards'!O:O,0),0),\"\")","v":""}]
[null,null,0,"","",{"$error":"#VALUE!"},"",{"$f":"IF(I1713=\"\",\"\",LARGE(H$1:H1712,1)+1)","v":{"$error":"#VALUE!"}},{"$error":"#VALUE!"},null,null,null,null,null,1712,0,{"$f":"IF(R1713=\"\",\"\",LARGE(Q$1:Q1712,1)+1)","v":{"$error":"#NUM!"}},{"$error":"#NUM!"},null,null,null,null,null,null,0,{"$error":"#VALUE!"},3999,"","",null,null,null,null,{"$error":"#VALUE!"},{"$error":"#VALUE!"},{"$f":"COUNTIF('Standards LOOKUP'!B:B,AI1713)","v":0},{"$f":"IFERROR(INDEX('Standards LOOKUP'!C:C,MATCH(AI1713,'Standards LOOKUP'!B:B,0),0),0)","v":0},{"$f":"IFERROR(INDEX('Current Standards'!P:P,MATCH('Sheet Counter'!AI1713,'Current Standards'!O:O,0),0),\"\")","v":""}]
[null,null,0,"","",{"$error":"#VALUE!"},"",{"$f":"IF(I1717=\"\",\"\",LARGE(H$1:H1716,1)+1)","v":{"$error":"#VALUE!"}},{"$error":"#VALUE!"},null,null,null,null,null,1716,0,{"$f":"IF(R1717=\"\",\"\",LARGE(Q$1:Q1716,1)+1)","v":{"$error":"#NUM!"}},{"$error":"#NUM!"},null,null,null,null,null,null,0,{"$error":"#VALUE!"},3999,"","",null,null,null,null,{"$error":"#VALUE!"},{"$error":"#VALUE!"},{"$f":"COUNTIF('Standards LOOKUP'!B:B,AI1717)","v":0},{"$f":"IFERROR(INDEX('Standards LOOKUP'!C:C,MATCH(AI1717,'Standards LOOKUP'!B:B,0),0),0)","v":0},{"$f":"IFERROR(INDEX('Current Standards'!P:P,MATCH('Sheet Counter'!AI1717,'Current Standards'!O:O,0),0),\"\")","v":""}]
[null,null,0,"","",{"$error":"#VALUE!"},"",{"$f":"IF(I1719=\"\",\"\",LARGE(H$1:H1718,1)+1)","v":{"$error":"#VALUE!"}},{"$error":"#VALUE!"},null,null,null,null,null,1718,0,{"$f":"IF(R1719=\"\",\"\",LARGE(Q$1:Q1718,1)+1)","v":{"$error":"#NUM!"}},{"$error":"#NUM!"},null,null,null,null,null,null,0,{"$error":"#VALUE!"},3999,"","",null,null,null,null,{"$error":"#VALUE!"},{"$error":"#VALUE!"},{"$f":"COUNTIF('Standards LOOKUP'!B:B,AI1719)","v":0},{"$f":"IFERROR(INDEX('Standards LOOKUP'!C:C,MATCH(AI1719,'Standards LOOKUP'!B:B,0),0),0)","v":0},{"$f":"IFERROR(INDEX('Current Standards'!P:P,MATCH('Sheet Counter'!AI1719,'Current Standards'!O:O,0),0),\"\")","v":""}]
[null,null,0,"","",{"$error":"#VALUE!"},"",{"$f":"IF(I1723=\"\",\"\",LARGE(H$1:H1722,1)+1)","v":{"$error":"#VALUE!"}},{"$error":"#VALUE!"},null,null,null,null,null,1722,0,{"$f":"IF(R1723=\"\",\"\",LARGE(Q$1:Q1722,1)+1)","v":{"$error":"#NUM!"}},{"$error":"#NUM!"},null,null,null,null,null,null,0,{"$error":"#VALUE!"},3999,"","",null,null,null,null,{"$error":"#VALUE!"},{"$error":"#VALUE!"},{"$f":"COUNTIF('Standards LOOKUP'!B:B,AI1723)","v":0},{"$f":"IFERROR(INDEX('Standards LOOKUP'!C:C,MATCH(AI1723,'Standards LOOKUP'!B:B,0),0),0)","v":0},{"$f":"IFERROR(INDEX('Current Standards'!P:P,MATCH('Sheet Counter'!AI1723,'Current Standards'!O:O,0),0),\"\")","v":""}]
[null,null,0,"","",{"$error":"#VALUE!"},"",{"$f":"IF(I1726=\"\",\"\",LARGE(H$1:H1725,1)+1)","v":{"$error":"#VALUE!"}},{"$error":"#VALUE!"},null,null,null,null,null,1725,0,{"$f":"IF(R1726=\"\",\"\",LARGE(Q$1:Q1725,1)+1)","v":{"$error":"#NUM!"}},{"$error":"#NUM!"},null,null,null,null,null,null,0,{"$error":"#VALUE!"},3999,"","",null,null,null,null,{"$error":"#VALUE!"},{"$error":"#VALUE!"},{"$f":"COUNTIF('Standards LOOKUP'!B:B,AI1726)","v":0},{"$f":"IFERROR(INDEX('Standards LOOKUP'!C:C,MATCH(AI1726,'Standards LOOKUP'!B:B,0),0),0)","v":0},{"$f":"IFERROR(INDEX('Current Standards'!P:P,MATCH('Sheet Counter'!AI1726,'Current Standards'!O:O,0),0),\"\")","v":""}]
[null,null,0,"","",{"$error":"#VALUE!"},"",{"$f":"IF(I1728=\"\",\"\",LARGE(H$1:H1727,1)+1)","v":{"$error":"#VALUE!"}},{"$error":"#VALUE!"},null,null,null,null,null,1727,0,{"$f":"IF(R1728=\"\",\"\",LARGE(Q$1:Q1727,1)+1)","v":{"$error":"#NUM!"}},{"$error":"#NUM!"},null,null,null,null,null,null,0,{"$error":"#VALUE!"},3999,"","",null,null,null,null,{"$error":"#VALUE!"},{"$error":"#VALUE!"},{"$f":"COUNTIF('Standards LOOKUP'!B:B,AI1728)","v":0},{"$f":"IFERROR(INDEX('Standards LOOKUP'!C:C,MATCH(AI1728,'Standards LOOKUP'!B:B,0),0),0)","v":0},{"$f":"IFERROR(INDEX('Current Standards'!P:P,MATCH('Sheet Counter'!AI1728,'Current Standards'!O:O,0),0),\"\")","v":""}]
[null,null,0,"","",{"$error":"#VALUE!"},"",{"$f":"IF(I1729=\"\",\"\",LARGE(H$1:H1728,1)+1)","v":{"$error":"#VALUE!"}},{"$error":"#VALUE!"},null,null,null,null,null,1728,0,{"$f":"IF(R1729=\"\",\"\",LARGE(Q$1:Q1728,1)+1)","v":{"$error":"#NUM!"}},{"$error":"#NUM!"},null,null,null,null,null,null,0,{"$error":"#VALUE!"},3999,"","",null,null,null,null,{"$error":"#VALUE!"},{"$error":"#VALUE!"},{"$f":"COUNTIF('Standards LOOKUP'!B:B,AI1729)","v":0},{"$f":"IFERROR(INDEX('Standards LOOKUP'!C:C,MATCH(AI1729,'Standards LOOKUP'!B:B,0),0),0)","v":0},{"$f":"IFERROR(INDEX('Current Standards'!P:P,MATCH('Sheet Counter'!AI1729,'Current Standards'!O:O,0),0),\"\")","v":""}]
[null,null,0,"","",{"$error":"#VALUE!"},"",{"$f":"IF(I1732=\"\",\"\",LARGE(H$1:H1731,1)+1)","v":{"$error":"#VALUE!"}},{"$error":"#VALUE!"},null,null,null,null,null,1731,0,{"$f":"IF(R1732=\"\",\"\",LARGE(Q$1:Q1731,1)+1)","v":{"$error":"#NUM!"}},{"$f":"IF(AND(P1732<>1,O1732<=LARGE(G:G,1),O1732>=SMALL(G:G,1)),O1732,\"\")","v":{"$error":"#NUM!"}},null,null,null,null,null,null,0,{"$error":"#VALUE!"},3999,"","",null,null,null,null,{"$error":"#VALUE!"},{"$error":"#VALUE!"},{"$f":"COUNTIF('Standards LOOKUP'!B:B,AI1732)","v":0},{"$f":"IFERROR(INDEX('Standards LOOKUP'!C:C,MATCH(AI1732,'Standards LOOKUP'!B:B,0),0),0)","v":0},{"$f":"IFERROR(INDEX('Current Standards'!P:P,MATCH('Sheet Counter'!AI1732,'Current Standards'!O:O,0),0),\"\")","v":""}]
[null,null,0,"","",{"$error":"#VALUE!"},"",{"$f":"IF(I1735=\"\",\"\",LARGE(H$1:H1734,1)+1)","v":{"$error":"#VALUE!"}},{"$error":"#VALUE!"},null,null,null,null,null,1734,0,{"$f":"IF(R1735=\"\",\"\",LARGE(Q$1:Q1734,1)+1)","v":{"$error":"#NUM!"}},{"$error":"#NUM!"},null,null,null,null,null,null,0,{"$error":"#VALUE!"},3999,"","",null,null,null,null,{"$error":"#VALUE!"},{"$error":"#VALUE!"},{"$f":"COUNTIF('Standards LOOKUP'!B:B,AI1735)","v":0},{"$f":"IFERROR(INDEX('Standards LOOKUP'!C:C,MATCH(AI1735,'Standards LOOKUP'!B:B,0),0),0)","v":0},{"$f":"IFERROR(INDEX('Current Standards'!P:P,MATCH('Sheet Counter'!AI1735,'Current Standards'!O:O,0),0),\"\")","v":""}]
[null,null,0,"","",{"$error":"#VALUE!"},"",{"$f":"IF(I1739=\"\",\"\",LARGE(H$1:H1738,1)+1)","v":{"$error":"#VALUE!"}},{"$error":"#VALUE!"},null,null,null,null,null,1738,0,{"$f":"IF(R1739=\"\",\"\",LARGE(Q$1:Q1738,1)+1)","v":{"$error":"#NUM!"}},{"$error":"#NUM!"},null,null,null,null,null,null,0,{"$error":"#VALUE!"},3999,"","",null,null,null,null,{"$error":"#VALUE!"},{"$error":"#VALUE!"},{"$f":"COUNTIF('Standards LOOKUP'!B:B,AI1739)","v":0},{"$f":"IFERROR(INDEX('Standards LOOKUP'!C:C,MATCH(AI1739,'Standards LOOKUP'!B:B,0),0),0)","v":0},{"$f":"IFERROR(INDEX('Current Standards'!P:P,MATCH('Sheet Counter'!AI1739,'Current Standards'!O:O,0),0),\"\")","v":""}]
[null,null,0,"","",{"$error":"#VALUE!"},"",{"$f":"IF(I1741=\"\",\"\",LARGE(H$1:H1740,1)+1)","v":{"$error":"#VALUE!"}},{"$error":"#VALUE!"},null,null,null,null,null,1740,0,{"$f":"IF(R1741=\"\",\"\",LARGE(Q$1:Q1740,1)+1)","v":{"$error":"#NUM!"}},{"$error":"#NUM!"},null,null,null,null,null,null,0,{"$error":"#VALUE!"},3999,"","",null,null,null,null,{"$error":"#VALUE!"},{"$error":"#VALUE!"},{"$f":"COUNTIF('Standards LOOKUP'!B:B,AI1741)","v":0},{"$f":"IFERROR(INDEX('Standards LOOKUP'!C:C,MATCH(AI1741,'Standards LOOKUP'!B:B,0),0),0)","v":0},{"$f":"IFERROR(INDEX('Current Standards'!P:P,MATCH('Sheet Counter'!AI1741,'Current Standards'!O:O,0),0),\"\")","v":""}]
[null,null,0,"","",{"$error":"#VALUE!"},"",{"$f":"IF(I1745=\"\",\"\",LARGE(H$1:H1744,1)+1)","v":{"$error":"#VALUE!"}},{"$error":"#VALUE!"},null,null,null,null,null,1744,0,{"$f":"IF(R1745=\"\",\"\",LARGE(Q$1:Q1744,1)+1)","v":{"$error":"#NUM!"}},{"$error":"#NUM!"},null,null,null,null,null,null,0,{"$error":"#VALUE!"},3999,"","",null,null,null,null,{"$error":"#VALUE!"},{"$error":"#VALUE!"},{"$f":"COUNTIF('Standards LOOKUP'!B:B,AI1745)","v":0},{"$f":"IFERROR(INDEX('Standards LOOKUP'!C:C,MATCH(AI1745,'Standards LOOKUP'!B:B,0),0),0)","v":0},{"$f":"IFERROR(INDEX('Current Standards'!P:P,MATCH('Sheet Counter'!AI1745,'Current Standards'!O:O,0),0),\"\")","v":""}]
[null,null,0,"","",{"$error":"#VALUE!"},"",{"$f":"IF(I1748=\"\",\"\",LARGE(H$1:H1747,1)+1)","v":{"$error":"#VALUE!"}},{"$error":"#VALUE!"},null,null,null,null,null,1747,0,{"$f":"IF(R1748=\"\",\"\",LARGE(Q$1:Q1747,1)+1)","v":{"$error":"#NUM!"}},{"$error":"#NUM!"},null,null,null,null,null,null,0,{"$error":"#VALUE!"},3999,"","",null,null,null,null,{"$error":"#VALUE!"},{"$error":"#VALUE!"},{"$f":"COUNTIF('Standards LOOKUP'!B:B,AI1748)","v":0},{"$f":"IFERROR(INDEX('Standards LOOKUP'!C:C,MATCH(AI1748,'Standards LOOKUP'!B:B,0),0),0)","v":0},{"$f":"IFERROR(INDEX('Current Standards'!P:P,MATCH('Sheet Counter'!AI1748,'Current Standards'!O:O,0),0),\"\")","v":""}]
[null,null,0,"","",{"$error":"#VALUE!"},"",{"$f":"IF(I1750=\"\",\"\",LARGE(H$1:H1749,1)+1)","v":{"$error":"#VALUE!"}},{"$error":"#VALUE!"},null,null,null,null,null,1749,0,{"$f":"IF(R1750=\"\",\"\",LARGE(Q$1:Q1749,1)+1)","v":{"$error":"#NUM!"}},{"$error":"#NUM!"},null,null,null,null,null,null,0,{"$error":"#VALUE!"},3999,"","",null,null,null,null,{"$error":"#VALUE!"},{"$error":"#VALUE!"},{"$f":"COUNTIF('Standards LOOKUP'!B:B,AI1750)","v":0},{"$f":"IFERROR(INDEX('Standards LOOKUP'!C:C,MATCH(AI1750,'Standards LOOKUP'!B:B,0),0),0)","v":0},{"$f":"IFERROR(INDEX('Current Standards'!P:P,MATCH('Sheet Counter'!AI1750,'Current Standards'!O:O,0),0),\"\")","v":""}]
[null,null,0,"","",{"$error":"#VALUE!"},"",{"$f":"IF(I1751=\"\",\"\",LARGE(H$1:H1750,1)+1)","v":{"$error":"#VALUE!"}},{"$error":"#VALUE!"},null,null,null,null,null,1750,0,{"$f":"IF(R1751=\"\",\"\",LARGE(Q$1:Q1750,1)+1)","v":{"$error":"#NUM!"}},{"$error":"#NUM!"},null,null,null,null,null,null,0,{"$error":"#VALUE!"},3999,"","",null,null,null,null,{"$error":"#VALUE!"},{"$error":"#VALUE!"},{"$f":"COUNTIF('Standards LOOKUP'!B:B,AI1751)","v":0},{"$f":"IFERROR(INDEX('Standards LOOKUP'!C:C,MATCH(AI1751,'Standards LOOKUP'!B:B,0),0),0)","v":0},{"$f":"IFERROR(INDEX('Current Standards'!P:P,MATCH('Sheet Counter'!AI1751,'Current Standards'!O:O,0),0),\"\")","v":""}]
[null,null,0,"","",{"$error":"#VALUE!"},"",{"$f":"IF(I1754=\"\",\"\",LARGE(H$1:H1753,1)+1)","v":{"$error":"#VALUE!"}},{"$error":"#VALUE!"},null,null,null,null,null,1753,0,{"$f":"IF(R1754=\"\",\"\",LARGE(Q$1:Q1753,1)+1)","v":{"$error":"#NUM!"}},{"$error":"#NUM!"},null,null,null,null,null,null,0,{"$error":"#VALUE!"},3999,"","",null,null,null,null,{"$error":"#VALUE!"},{"$error":"#VALUE!"},{"$f":"COUNTIF('Standards LOOKUP'!B:B,AI1754)","v":0},{"$f":"IFERROR(INDEX('Standards LOOKUP'!C:C,MATCH(AI1754,'Standards LOOKUP'!B:B,0),0),0)","v":0},{"$f":"IFERROR(INDEX('Current Standards'!P:P,MATCH('Sheet Counter'!AI1754,'Current Standards'!O:O,0),0),\"\")","v":""}]
[null,null,0,"","",{"$error":"#VALUE!"},"",{"$f":"IF(I1758=\"\",\"\",LARGE(H$1:H1757,1)+1)","v":{"$error":"#VALUE!"}},{"$error":"#VALUE!"},null,null,null,null,null,1757,0,{"$f":"IF(R1758=\"\",\"\",LARGE(Q$1:Q1757,1)+1)","v":{"$error":"#NUM!"}},{"$error":"#NUM!"},null,null,null,null,null,null,0,{"$error":"#VALUE!"},3999,"","",null,null,null,null,{"$error":"#VALUE!"},{"$error":"#VALUE!"},{"$f":"COUNTIF('Standards LOOKUP'!B:B,AI1758)","v":0},{"$f":"IFERROR(INDEX('Standards LOOKUP'!C:C,MATCH(AI1758,'Standards LOOKUP'!B:B,0),0),0)","v":0},{"$f":"IFERROR(INDEX('Current Standards'!P:P,MATCH('Sheet Counter'!AI1758,'Current Standards'!O:O,0),0),\"\")","v":""}]
[null,null,0,"","",{"$error":"#VALUE!"},"",{"$f":"IF(I1761=\"\",\"\",LARGE(H$1:H1760,1)+1)","v":{"$error":"#VALUE!"}},{"$error":"#VALUE!"},null,null,null,null,null,1760,0,{"$f":"IF(R1761=\"\",\"\",LARGE(Q$1:Q1760,1)+1)","v":{"$error":"#NUM!"}},{"$error":"#NUM!"},null,null,null,null,null,null,0,{"$error":"#VALUE!"},3999,"","",null,null,null,null,{"$error":"#VALUE!"},{"$error":"#VALUE!"},{"$f":"COUNTIF('Standards LOOKUP'!B:B,AI1761)","v":0},{"$f":"IFERROR(INDEX('Standards LOOKUP'!C:C,MATCH(AI1761,'Standards LOOKUP'!B:B,0),0),0)","v":0},{"$f":"IFERROR(INDEX('Current Standards'!P:P,MATCH('Sheet Counter'!AI1761,'Current Standards'!O:O,0),0),\"\")","v":""}]
[null,null,0,"","",{"$error":"#VALUE!"},"",{"$f":"IF(I1763=\"\",\"\",LARGE(H$1:H1762,1)+1)","v":{"$error":"#VALUE!"}},{"$error":"#VALUE!"},null,null,null,null,null,1762,0,{"$f":"IF(R1763=\"\",\"\",LARGE(Q$1:Q1762,1)+1)","v":{"$error":"#NUM!"}},{"$error":"#NUM!"},null,null,null,null,null,null,0,{"$error":"#VALUE!"},3999,"","",null,null,null,null,{"$error":"#VALUE!"},{"$error":"#VALUE!"},{"$f":"COUNTIF('Standards LOOKUP'!B:B,AI1763)","v":0},{"$f":"IFERROR(INDEX('Standards LOOKUP'!C:C,MATCH(AI1763,'Standards LOOKUP'!B:B,0),0),0)","v":0},{"$f":"IFERROR(INDEX('Current Standards'!P:P,MATCH('Sheet Counter'!AI1763,'Current Standards'!O:O,0),0),\"\")","v":""}]
[null,null,0,"","",{"$error":"#VALUE!"},"",{"$f":"IF(I1767=\"\",\"\",LARGE(H$1:H1766,1)+1)","v":{"$error":"#VALUE!"}},{"$error":"#VALUE!"},null,null,null,null,null,1766,0,{"$f":"IF(R1767=\"\",\"\",LARGE(Q$1:Q1766,1)+1)","v":{"$error":"#NUM!"}},{"$error":"#NUM!"},null,null,null,null,null,null,0,{"$error":"#VALUE!"},3999,"","",null,null,null,null,{"$error":"#VALUE!"},{"$error":"#VALUE!"},{"$f":"COUNTIF('Standards LOOKUP'!B:B,AI1767)","v":0},{"$f":"IFERROR(INDEX('Standards LOOKUP'!C:C,MATCH(AI1767,'Standards LOOKUP'!B:B,0),0),0)","v":0},{"$f":"IFERROR(INDEX('Current Standards'!P:P,MATCH('Sheet Counter'!AI1767,'Current Standards'!O:O,0),0),\"\")","v":""}]
[null,null,0,"","",{"$error":"#VALUE!"},"",{"$f":"IF(I1770=\"\",\"\",LARGE(H$1:H1769,1)+1)","v":{"$error":"#VALUE!"}},{"$error":"#VALUE!"},null,null,null,null,null,1769,0,{"$f":"IF(R1770=\"\",\"\",LARGE(Q$1:Q1769,1)+1)","v":{"$error":"#NUM!"}},{"$error":"#NUM!"},null,null,null,null,null,null,0,{"$error":"#VALUE!"},3999,"","",null,null,null,null,{"$error":"#VALUE!"},{"$error":"#VALUE!"},{"$f":"COUNTIF('Standards LOOKUP'!B:B,AI1770)","v":0},{"$f":"IFERROR(INDEX('Standards LOOKUP'!C:C,MATCH(AI1770,'Standards LOOKUP'!B:B,0),0),0)","v":0},{"$f":"IFERROR(INDEX('Current Standards'!P:P,MATCH('Sheet Counter'!AI1770,'Current Standards'!O:O,0),0),\"\")","v":""}]
[null,null,0,"","",{"$error":"#VALUE!"},"",{"$f":"IF(I1772=\"\",\"\",LARGE(H$1:H1771,1)+1)","v":{"$error":"#VALUE!"}},{"$error":"#VALUE!"},null,null,null,null,null,1771,0,{"$f":"IF(R1772=\"\",\"\",LARGE(Q$1:Q1771,1)+1)","v":{"$error":"#NUM!"}},{"$error":"#NUM!"},null,null,null,null,null,null,0,{"$error":"#VALUE!"},3999,"","",null,null,null,null,{"$error":"#VALUE!"},{"$error":"#VALUE!"},{"$f":"COUNTIF('Standards LOOKUP'!B:B,AI1772)","v":0},{"$f":"IFERROR(INDEX('Standards LOOKUP'!C:C,MATCH(AI1772,'Standards LOOKUP'!B:B,0),0),0)","v":0},{"$f":"IFERROR(INDEX('Current Standards'!P:P,MATCH('Sheet Counter'!AI1772,'Current Standards'!O:O,0),0),\"\")","v":""}]
[null,null,0,"","",{"$error":"#VALUE!"},"",{"$f":"IF(I1773=\"\",\"\",LARGE(H$1:H1772,1)+1)","v":{"$error":"#VALUE!"}},{"$error":"#VALUE!"},null,null,null,null,null,1772,0,{"$f":"IF(R1773=\"\",\"\",LARGE(Q$1:Q1772,1)+1)","v":{"$error":"#NUM!"}},{"$error":"#NUM!"},null,null,null,null,null,null,0,{"$error":"#VALUE!"},3999,"","",null,null,null,null,{"$error":"#VALUE!"},{"$error":"#VALUE!"},{"$f":"COUNTIF('Standards LOOKUP'!B:B,AI1773)","v":0},{"$f":"IFERROR(INDEX('Standards LOOKUP'!C:C,MATCH(AI1773,'Standards LOOKUP'!B:B,0),0),0)","v":0},{"$f":"IFERROR(INDEX('Current Standards'!P:P,MATCH('Sheet Counter'!AI1773,'Current Standards'!O:O,0),0),\"\")","v":""}]
[null,null,0,"","",{"$error":"#VALUE!"},"",{"$f":"IF(I1776=\"\",\"\",LARGE(H$1:H1775,1)+1)","v":{"$error":"#VALUE!"}},{"$error":"#VALUE!"},null,null,null,null,null,1775,0,{"$f":"IF(R1776=\"\",\"\",LARGE(Q$1:Q1775,1)+1)","v":{"$error":"#NUM!"}},{"$error":"#NUM!"},null,null,null,null,null,null,0,{"$error":"#VALUE!"},3999,"","",null,null,null,null,{"$error":"#VALUE!"},{"$error":"#VALUE!"},{"$f":"COUNTIF('Standards LOOKUP'!B:B,AI1776)","v":0},{"$f":"IFERROR(INDEX('Standards LOOKUP'!C:C,MATCH(AI1776,'Standards LOOKUP'!B:B,0),0),0)","v":0},{"$f":"IFERROR(INDEX('Current Standards'!P:P,MATCH('Sheet Counter'!AI1776,'Current Standards'!O:O,0),0),\"\")","v":""}]
[null,null,0,"","",{"$error":"#VALUE!"},"",{"$f":"IF(I1780=\"\",\"\",LARGE(H$1:H1779,1)+1)","v":{"$error":"#VALUE!"}},{"$error":"#VALUE!"},null,null,null,null,null,1779,0,{"$f":"IF(R1780=\"\",\"\",LARGE(Q$1:Q1779,1)+1)","v":{"$error":"#NUM!"}},{"$error":"#NUM!"},null,null,null,null,null,null,0,{"$error":"#VALUE!"},3999,"","",null,null,null,null,{"$error":"#VALUE!"},{"$error":"#VALUE!"},{"$f":"COUNTIF('Standards LOOKUP'!B:B,AI1780)","v":0},{"$f":"IFERROR(INDEX('Standards LOOKUP'!C:C,MATCH(AI1780,'Standards LOOKUP'!B:B,0),0),0)","v":0},{"$f":"IFERROR(INDEX('Current Standards'!P:P,MATCH('Sheet Counter'!AI1780,'Current Standards'!O:O,0),0),\"\")","v":""}]
[null,null,0,"","",{"$error":"#VALUE!"},"",{"$f":"IF(I1783=\"\",\"\",LARGE(H$1:H1782,1)+1)","v":{"$error":"#VALUE!"}},{"$error":"#VALUE!"},null,null,null,null,null,1782,0,{"$f":"IF(R1783=\"\",\"\",LARGE(Q$1:Q1782,1)+1)","v":{"$error":"#NUM!"}},{"$error":"#NUM!"},null,null,null,null,null,null,0,{"$error":"#VALUE!"},3999,"","",null,null,null,null,{"$error":"#VALUE!"},{"$error":"#VALUE!"},{"$f":"COUNTIF('Standards LOOKUP'!B:B,AI1783)","v":0},{"$f":"IFERROR(INDEX('Standards LOOKUP'!C:C,MATCH(AI1783,'Standards LOOKUP'!B:B,0),0),0)","v":0},{"$f":"IFERROR(INDEX('Current Standards'!P:P,MATCH('Sheet Counter'!AI1783,'Current Standards'!O:O,0),0),\"\")","v":""}]
[null,null,0,"","",{"$error":"#VALUE!"},"",{"$f":"IF(I1785=\"\",\"\",LARGE(H$1:H1784,1)+1)","v":{"$error":"#VALUE!"}},{"$error":"#VALUE!"},null,null,null,null,null,1784,0,{"$f":"IF(R1785=\"\",\"\",LARGE(Q$1:Q1784,1)+1)","v":{"$error":"#NUM!"}},{"$error":"#NUM!"},null,null,null,null,null,null,0,{"$error":"#VALUE!"},3999,"","",null,null,null,null,{"$error":"#VALUE!"},{"$error":"#VALUE!"},{"$f":"COUNTIF('Standards LOOKUP'!B:B,AI1785)","v":0},{"$f":"IFERROR(INDEX('Standards LOOKUP'!C:C,MATCH(AI1785,'Standards LOOKUP'!B:B,0),0),0)","v":0},{"$f":"IFERROR(INDEX('Current Standards'!P:P,MATCH('Sheet Counter'!AI1785,'Current Standards'!O:O,0),0),\"\")","v":""}]
[null,null,0,"","",{"$error":"#VALUE!"},"",{"$f":"IF(I1789=\"\",\"\",LARGE(H$1:H1788,1)+1)","v":{"$error":"#VALUE!"}},{"$error":"#VALUE!"},null,null,null,null,null,1788,0,{"$f":"IF(R1789=\"\",\"\",LARGE(Q$1:Q1788,1)+1)","v":{"$error":"#NUM!"}},{"$error":"#NUM!"},null,null,null,null,null,null,0,{"$error":"#VALUE!"},3999,"","",null,null,null,null,{"$error":"#VALUE!"},{"$error":"#VALUE!"},{"$f":"COUNTIF('Standards LOOKUP'!B:B,AI1789)","v":0},{"$f":"IFERROR(INDEX('Standards LOOKUP'!C:C,MATCH(AI1789,'Standards LOOKUP'!B:B,0),0),0)","v":0},{"$f":"IFERROR(INDEX('Current Standards'!P:P,MATCH('Sheet Counter'!AI1789,'Current Standards'!O:O,0),0),\"\")","v":""}]
[null,null,0,"","",{"$error":"#VALUE!"},"",{"$f":"IF(I1792=\"\",\"\",LARGE(H$1:H1791,1)+1)","v":{"$error":"#VALUE!"}},{"$error":"#VALUE!"},null,null,null,null,null,1791,0,{"$f":"IF(R1792=\"\",\"\",LARGE(Q$1:Q1791,1)+1)","v":{"$error":"#NUM!"}},{"$error":"#NUM!"},null,null,null,null,null,null,0,{"$error":"#VALUE!"},3999,"","",null,null,null,null,{"$error":"#VALUE!"},{"$error":"#VALUE!"},{"$f":"COUNTIF('Standards LOOKUP'!B:B,AI1792)","v":0},{"$f":"IFERROR(INDEX('Standards LOOKUP'!C:C,MATCH(AI1792,'Standards LOOKUP'!B:B,0),0),0)","v":0},{"$f":"IFERROR(INDEX('Current Standards'!P:P,MATCH('Sheet Counter'!AI1792,'Current Standards'!O:O,0),0),\"\")","v":""}]
[null,null,0,"","",{"$error":"#VALUE!"},"",{"$f":"IF(I1794=\"\",\"\",LARGE(H$1:H1793,1)+1)","v":{"$error":"#VALUE!"}},{"$f":"IF(G1794=\"\",F1794,\"\")","v":{"$error":"#VALUE!"}},null,null,null,null,null,1793,{"$f":"COUNTIF(G:G,O1794)","v":0},{"$f":"IF(R1794=\"\",\"\",LARGE(Q$1:Q1793,1)+1)","v":{"$error":"#NUM!"}},{"$error":"#NUM!"},null,null,null,null,null,null,0,{"$error":"#VALUE!"},3999,"","",null,null,null,null,{"$error":"#VALUE!"},{"$error":"#VALUE!"},{"$f":"COUNTIF('Standards LOOKUP'!B:B,AI1794)","v":0},{"$f":"IFERROR(INDEX('Standards LOOKUP'!C:C,MATCH(AI1794,'Standards LOOKUP'!B:B,0),0),0)","v":0},{"$f":"IFERROR(INDEX('Current Standards'!P:P,MATCH('Sheet Counter'!AI1794,'Current Standards'!O:O,0),0),\"\")","v":""}]
[null,null,{"$f":"IF(ISERROR(FIND(\"\\\",A1795)),A1795,RIGHT(A1795,LEN(A1795)-FIND(\"~\",SUBSTITUTE(A1795,\"\\\",\"~\",LEN(A1795)-LEN(SUBSTITUTE(A1795,\"\\\",\"\"))))))","v":0},{"$f":"IF(AL1795=\"\",\"\",AL1795)","v":""},"",{"$f":"LEFT(C1795,FIND(\"-\",SUBSTITUTE(SUBSTITUTE(C1795,\"_\",\"-\"),\" \",\"-\"))-1)","v":{"$error":"#VALUE!"}},{"$f":"IF(ISNUMBER(F1795*1),F1795*1,\"\")","v":""},{"$f":"IF(I1795=\"\",\"\",LARGE(H$1:H1794,1)+1)","v":{"$error":"#VALUE!"}},{"$error":"#VALUE!"},null,null,null,null,null,1794,0,{"$f":"IF(R1795=\"\",\"\",LARGE(Q$1:Q1794,1)+1)","v":{"$error":"#NUM!"}},{"$error":"#NUM!"},null,null,null,null,null,null,{"$f":"IF(ISERROR(FIND(\"\\\",X1795)),X1795,RIGHT(X1795,LEN(X1795)-FIND(\"~\",SUBSTITUTE(X1795,\"\\\",\"~\",LEN(X1795)-LEN(SUBSTITUTE(X1795,\"\\\",\"\"))))))","v":0},{"$f":"LEFT(Y1795,FIND(\"-\",SUBSTITUTE(SUBSTITUTE(Y1795,\"_\",\"-\"),\" \",\"-\"))-1)","v":{"$error":"#VALUE!"}},{"$f":"COUNTIF(F:F,Z1795)","v":3999},{"$f":"IF(OR(AA1795<1,ISERROR(Z1795)),\"\",INDEX(C:C,MATCH(Z1795,F:F)))","v":""},{"$f":"IF(AA1795=0,\"New Sheet\",IF(EXACT(UPPER(Y1795),UPPER(AB1795)),\"Match\",\"\"))","v":""},null,null,null,null,{"$f":"IF(C1795=\"\",\"\",LEFT(RIGHT(C1795,LEN(C1795)-SEARCH(\" \",C1795,1)),LEN(RIGHT(C1795,LEN(C1795)-SEARCH(\" \",C1795,1)))-4))","v":{"$error":"#VALUE!"}},{"$f":"TRIM(SUBSTITUTE(SUBSTITUTE(SUBSTITUTE(SUBSTITUTE(SUBSTITUTE(SUBSTITUTE(AH1795,\"(\",\"\"),\")\",\"\"),\"-\",\"\"),\"&\",\"\"),\" \",\"\",1),\" \",\"\",1))","v":{"$error":"#VALUE!"}},{"$f":"COUNTIF('Standards LOOKUP'!B:B,AI1795)","v":0},{"$f":"IFERROR(INDEX('Standards LOOKUP'!C:C,MATCH(AI1795,'Standards LOOKUP'!B:B,0),0),0)","v":0},{"$f":"IFERROR(INDEX('Current Standards'!P:P,MATCH('Sheet Counter'!AI1795,'Current Standards'!O:O,0),0),\"\")","v":""}]
[null,null,0,"","",{"$error":"#VALUE!"},"",{"$f":"IF(I1798=\"\",\"\",LARGE(H$1:H1797,1)+1)","v":{"$error":"#VALUE!"}},{"$error":"#VALUE!"},null,null,null,null,null,1797,0,{"$f":"IF(R1798=\"\",\"\",LARGE(Q$1:Q1797,1)+1)","v":{"$error":"#NUM!"}},{"$error":"#NUM!"},null,null,null,null,null,null,0,{"$error":"#VALUE!"},3999,"","",null,null,null,null,{"$error":"#VALUE!"},{"$error":"#VALUE!"},{"$f":"COUNTIF('Standards LOOKUP'!B:B,AI1798)","v":0},{"$f":"IFERROR(INDEX('Standards LOOKUP'!C:C,MATCH(AI1798,'Standards LOOKUP'!B:B,0),0),0)","v":0},{"$f":"IFERROR(INDEX('Current Standards'!P:P,MATCH('Sheet Counter'!AI1798,'Current Standards'!O:O,0),0),\"\")","v":""}]
[null,null,0,"","",{"$error":"#VALUE!"},"",{"$f":"IF(I1802=\"\",\"\",LARGE(H$1:H1801,1)+1)","v":{"$error":"#VALUE!"}},{"$error":"#VALUE!"},null,null,null,null,null,1801,0,{"$f":"IF(R1802=\"\",\"\",LARGE(Q$1:Q1801,1)+1)","v":{"$error":"#NUM!"}},{"$error":"#NUM!"},null,null,null,null,null,null,0,{"$error":"#VALUE!"},3999,"","",null,null,null,null,{"$error":"#VALUE!"},{"$error":"#VALUE!"},{"$f":"COUNTIF('Standards LOOKUP'!B:B,AI1802)","v":0},{"$f":"IFERROR(INDEX('Standards LOOKUP'!C:C,MATCH(AI1802,'Standards LOOKUP'!B:B,0),0),0)","v":0},{"$f":"IFERROR(INDEX('Current Standards'!P:P,MATCH('Sheet Counter'!AI1802,'Current Standards'!O:O,0),0),\"\")","v":""}]
[null,null,0,"","",{"$error":"#VALUE!"},"",{"$f":"IF(I1805=\"\",\"\",LARGE(H$1:H1804,1)+1)","v":{"$error":"#VALUE!"}},{"$error":"#VALUE!"},null,null,null,null,null,1804,0,{"$f":"IF(R1805=\"\",\"\",LARGE(Q$1:Q1804,1)+1)","v":{"$error":"#NUM!"}},{"$error":"#NUM!"},null,null,null,null,null,null,0,{"$error":"#VALUE!"},3999,"","",null,null,null,null,{"$error":"#VALUE!"},{"$error":"#VALUE!"},{"$f":"COUNTIF('Standards LOOKUP'!B:B,AI1805)","v":0},{"$f":"IFERROR(INDEX('Standards LOOKUP'!C:C,MATCH(AI1805,'Standards LOOKUP'!B:B,0),0),0)","v":0},{"$f":"IFERROR(INDEX('Current Standards'!P:P,MATCH('Sheet Counter'!AI1805,'Current Standards'!O:O,0),0),\"\")","v":""}]
[null,null,0,"","",{"$error":"#VALUE!"},"",{"$f":"IF(I1807=\"\",\"\",LARGE(H$1:H1806,1)+1)","v":{"$error":"#VALUE!"}},{"$error":"#VALUE!"},null,null,null,null,null,1806,0,{"$f":"IF(R1807=\"\",\"\",LARGE(Q$1:Q1806,1)+1)","v":{"$error":"#NUM!"}},{"$error":"#NUM!"},null,null,null,null,null,null,0,{"$error":"#VALUE!"},3999,"","",null,null,null,null,{"$error":"#VALUE!"},{"$error":"#VALUE!"},{"$f":"COUNTIF('Standards LOOKUP'!B:B,AI1807)","v":0},{"$f":"IFERROR(INDEX('Standards LOOKUP'!C:C,MATCH(AI1807,'Standards LOOKUP'!B:B,0),0),0)","v":0},{"$f":"IFERROR(INDEX('Current Standards'!P:P,MATCH('Sheet Counter'!AI1807,'Current Standards'!O:O,0),0),\"\")","v":""}]
[null,null,0,"","",{"$error":"#VALUE!"},"",{"$f":"IF(I1811=\"\",\"\",LARGE(H$1:H1810,1)+1)","v":{"$error":"#VALUE!"}},{"$error":"#VALUE!"},null,null,null,null,null,1810,0,{"$f":"IF(R1811=\"\",\"\",LARGE(Q$1:Q1810,1)+1)","v":{"$error":"#NUM!"}},{"$error":"#NUM!"},null,null,null,null,null,null,0,{"$error":"#VALUE!"},3999,"","",null,null,null,null,{"$error":"#VALUE!"},{"$error":"#VALUE!"},{"$f":"COUNTIF('Standards LOOKUP'!B:B,AI1811)","v":0},{"$f":"IFERROR(INDEX('Standards LOOKUP'!C:C,MATCH(AI1811,'Standards LOOKUP'!B:B,0),0),0)","v":0},{"$f":"IFERROR(INDEX('Current Standards'!P:P,MATCH('Sheet Counter'!AI1811,'Current Standards'!O:O,0),0),\"\")","v":""}]
[null,null,0,"","",{"$error":"#VALUE!"},"",{"$f":"IF(I1814=\"\",\"\",LARGE(H$1:H1813,1)+1)","v":{"$error":"#VALUE!"}},{"$error":"#VALUE!"},null,null,null,null,null,1813,0,{"$f":"IF(R1814=\"\",\"\",LARGE(Q$1:Q1813,1)+1)","v":{"$error":"#NUM!"}},{"$error":"#NUM!"},null,null,null,null,null,null,0,{"$error":"#VALUE!"},3999,"","",null,null,null,null,{"$error":"#VALUE!"},{"$error":"#VALUE!"},{"$f":"COUNTIF('Standards LOOKUP'!B:B,AI1814)","v":0},{"$f":"IFERROR(INDEX('Standards LOOKUP'!C:C,MATCH(AI1814,'Standards LOOKUP'!B:B,0),0),0)","v":0},{"$f":"IFERROR(INDEX('Current Standards'!P:P,MATCH('Sheet Counter'!AI1814,'Current Standards'!O:O,0),0),\"\")","v":""}]
[null,null,0,"","",{"$error":"#VALUE!"},"",{"$f":"IF(I1816=\"\",\"\",LARGE(H$1:H1815,1)+1)","v":{"$error":"#VALUE!"}},{"$error":"#VALUE!"},null,null,null,null,null,1815,0,{"$f":"IF(R1816=\"\",\"\",LARGE(Q$1:Q1815,1)+1)","v":{"$error":"#NUM!"}},{"$error":"#NUM!"},null,null,null,null,null,null,0,{"$error":"#VALUE!"},3999,"","",null,null,null,null,{"$error":"#VALUE!"},{"$error":"#VALUE!"},{"$f":"COUNTIF('Standards LOOKUP'!B:B,AI1816)","v":0},{"$f":"IFERROR(INDEX('Standards LOOKUP'!C:C,MATCH(AI1816,'Standards LOOKUP'!B:B,0),0),0)","v":0},{"$f":"IFERROR(INDEX('Current Standards'!P:P,MATCH('Sheet Counter'!AI1816,'Current Standards'!O:O,0),0),\"\")","v":""}]
[null,null,0,"","",{"$error":"#VALUE!"},"",{"$f":"IF(I1817=\"\",\"\",LARGE(H$1:H1816,1)+1)","v":{"$error":"#VALUE!"}},{"$error":"#VALUE!"},null,null,null,null,null,1816,0,{"$f":"IF(R1817=\"\",\"\",LARGE(Q$1:Q1816,1)+1)","v":{"$error":"#NUM!"}},{"$error":"#NUM!"},null,null,null,null,null,null,0,{"$error":"#VALUE!"},3999,"","",null,null,null,null,{"$error":"#VALUE!"},{"$error":"#VALUE!"},{"$f":"COUNTIF('Standards LOOKUP'!B:B,AI1817)","v":0},{"$f":"IFERROR(INDEX('Standards LOOKUP'!C:C,MATCH(AI1817,'Standards LOOKUP'!B:B,0),0),0)","v":0},{"$f":"IFERROR(INDEX('Current Standards'!P:P,MATCH('Sheet Counter'!AI1817,'Current Standards'!O:O,0),0),\"\")","v":""}]
[null,null,0,"","",{"$error":"#VALUE!"},"",{"$f":"IF(I1820=\"\",\"\",LARGE(H$1:H1819,1)+1)","v":{"$error":"#VALUE!"}},{"$error":"#VALUE!"},null,null,null,null,null,1819,0,{"$f":"IF(R1820=\"\",\"\",LARGE(Q$1:Q1819,1)+1)","v":{"$error":"#NUM!"}},{"$error":"#NUM!"},null,null,null,null,null,null,0,{"$error":"#VALUE!"},3999,"","",null,null,null,null,{"$error":"#VALUE!"},{"$error":"#VALUE!"},{"$f":"COUNTIF('Standards LOOKUP'!B:B,AI1820)","v":0},{"$f":"IFERROR(INDEX('Standards LOOKUP'!C:C,MATCH(AI1820,'Standards LOOKUP'!B:B,0),0),0)","v":0},{"$f":"IFERROR(INDEX('Current Standards'!P:P,MATCH('Sheet Counter'!AI1820,'Current Standards'!O:O,0),0),\"\")","v":""}]
[null,null,0,"","",{"$error":"#VALUE!"},"",{"$f":"IF(I1824=\"\",\"\",LARGE(H$1:H1823,1)+1)","v":{"$error":"#VALUE!"}},{"$error":"#VALUE!"},null,null,null,null,null,1823,0,{"$f":"IF(R1824=\"\",\"\",LARGE(Q$1:Q1823,1)+1)","v":{"$error":"#NUM!"}},{"$error":"#NUM!"},null,null,null,null,null,null,0,{"$error":"#VALUE!"},3999,"","",null,null,null,null,{"$error":"#VALUE!"},{"$error":"#VALUE!"},{"$f":"COUNTIF('Standards LOOKUP'!B:B,AI1824)","v":0},{"$f":"IFERROR(INDEX('Standards LOOKUP'!C:C,MATCH(AI1824,'Standards LOOKUP'!B:B,0),0),0)","v":0},{"$f":"IFERROR(INDEX('Current Standards'!P:P,MATCH('Sheet Counter'!AI1824,'Current Standards'!O:O,0),0),\"\")","v":""}]
[null,null,0,"","",{"$error":"#VALUE!"},"",{"$f":"IF(I1827=\"\",\"\",LARGE(H$1:H1826,1)+1)","v":{"$error":"#VALUE!"}},{"$error":"#VALUE!"},null,null,null,null,null,1826,0,{"$f":"IF(R1827=\"\",\"\",LARGE(Q$1:Q1826,1)+1)","v":{"$error":"#NUM!"}},{"$error":"#NUM!"},null,null,null,null,null,null,0,{"$error":"#VALUE!"},3999,"","",null,null,null,null,{"$error":"#VALUE!"},{"$error":"#VALUE!"},{"$f":"COUNTIF('Standards LOOKUP'!B:B,AI1827)","v":0},{"$f":"IFERROR(INDEX('Standards LOOKUP'!C:C,MATCH(AI1827,'Standards LOOKUP'!B:B,0),0),0)","v":0},{"$f":"IFERROR(INDEX('Current Standards'!P:P,MATCH('Sheet Counter'!AI1827,'Current Standards'!O:O,0),0),\"\")","v":""}]
[null,null,0,"","",{"$error":"#VALUE!"},"",{"$f":"IF(I1829=\"\",\"\",LARGE(H$1:H1828,1)+1)","v":{"$error":"#VALUE!"}},{"$error":"#VALUE!"},null,null,null,null,null,1828,0,{"$f":"IF(R1829=\"\",\"\",LARGE(Q$1:Q1828,1)+1)","v":{"$error":"#NUM!"}},{"$error":"#NUM!"},null,null,null,null,null,null,0,{"$error":"#VALUE!"},3999,"","",null,null,null,null,{"$error":"#VALUE!"},{"$error":"#VALUE!"},{"$f":"COUNTIF('Standards LOOKUP'!B:B,AI1829)","v":0},{"$f":"IFERROR(INDEX('Standards LOOKUP'!C:C,MATCH(AI1829,'Standards LOOKUP'!B:B,0),0),0)","v":0},{"$f":"IFERROR(INDEX('Current Standards'!P:P,MATCH('Sheet Counter'!AI1829,'Current Standards'!O:O,0),0),\"\")","v":""}]
[null,null,0,"","",{"$error":"#VALUE!"},"",{"$f":"IF(I1833=\"\",\"\",LARGE(H$1:H1832,1)+1)","v":{"$error":"#VALUE!"}},{"$error":"#VALUE!"},null,null,null,null,null,1832,0,{"$f":"IF(R1833=\"\",\"\",LARGE(Q$1:Q1832,1)+1)","v":{"$error":"#NUM!"}},{"$error":"#NUM!"},null,null,null,null,null,null,0,{"$error":"#VALUE!"},3999,"","",null,null,null,null,{"$error":"#VALUE!"},{"$error":"#VALUE!"},{"$f":"COUNTIF('Standards LOOKUP'!B:B,AI1833)","v":0},{"$f":"IFERROR(INDEX('Standards LOOKUP'!C:C,MATCH(AI1833,'Standards LOOKUP'!B:B,0),0),0)","v":0},{"$f":"IFERROR(INDEX('Current Standards'!P:P,MATCH('Sheet Counter'!AI1833,'Current Standards'!O:O,0),0),\"\")","v":""}]
[null,null,0,"","",{"$error":"#VALUE!"},"",{"$f":"IF(I1836=\"\",\"\",LARGE(H$1:H1835,1)+1)","v":{"$error":"#VALUE!"}},{"$error":"#VALUE!"},null,null,null,null,null,1835,0,{"$f":"IF(R1836=\"\",\"\",LARGE(Q$1:Q1835,1)+1)","v":{"$error":"#NUM!"}},{"$error":"#NUM!"},null,null,null,null,null,null,0,{"$error":"#VALUE!"},3999,"","",null,null,null,null,{"$error":"#VALUE!"},{"$error":"#VALUE!"},{"$f":"COUNTIF('Standards LOOKUP'!B:B,AI1836)","v":0},{"$f":"IFERROR(INDEX('Standards LOOKUP'!C:C,MATCH(AI1836,'Standards LOOKUP'!B:B,0),0),0)","v":0},{"$f":"IFERROR(INDEX('Current Standards'!P:P,MATCH('Sheet Counter'!AI1836,'Current Standards'!O:O,0),0),\"\")","v":""}]
[null,null,0,"","",{"$error":"#VALUE!"},"",{"$f":"IF(I1838=\"\",\"\",LARGE(H$1:H1837,1)+1)","v":{"$error":"#VALUE!"}},{"$error":"#VALUE!"},null,null,null,null,null,1837,0,{"$f":"IF(R1838=\"\",\"\",LARGE(Q$1:Q1837,1)+1)","v":{"$error":"#NUM!"}},{"$error":"#NUM!"},null,null,null,null,null,null,0,{"$error":"#VALUE!"},3999,"","",null,null,null,null,{"$error":"#VALUE!"},{"$error":"#VALUE!"},{"$f":"COUNTIF('Standards LOOKUP'!B:B,AI1838)","v":0},{"$f":"IFERROR(INDEX('Standards LOOKUP'!C:C,MATCH(AI1838,'Standards LOOKUP'!B:B,0),0),0)","v":0},{"$f":"IFERROR(INDEX('Current Standards'!P:P,MATCH('Sheet Counter'!AI1838,'Current Standards'!O:O,0),0),\"\")","v":""}]
[null,null,0,"","",{"$error":"#VALUE!"},"",{"$f":"IF(I1839=\"\",\"\",LARGE(H$1:H1838,1)+1)","v":{"$error":"#VALUE!"}},{"$error":"#VALUE!"},null,null,null,null,null,1838,0,{"$f":"IF(R1839=\"\",\"\",LARGE(Q$1:Q1838,1)+1)","v":{"$error":"#NUM!"}},{"$error":"#NUM!"},null,null,null,null,null,null,0,{"$error":"#VALUE!"},3999,"","",null,null,null,null,{"$error":"#VALUE!"},{"$error":"#VALUE!"},{"$f":"COUNTIF('Standards LOOKUP'!B:B,AI1839)","v":0},{"$f":"IFERROR(INDEX('Standards LOOKUP'!C:C,MATCH(AI1839,'Standards LOOKUP'!B:B,0),0),0)","v":0},{"$f":"IFERROR(INDEX('Current Standards'!P:P,MATCH('Sheet Counter'!AI1839,'Current Standards'!O:O,0),0),\"\")","v":""}]
[null,null,0,"","",{"$error":"#VALUE!"},"",{"$f":"IF(I1842=\"\",\"\",LARGE(H$1:H1841,1)+1)","v":{"$error":"#VALUE!"}},{"$error":"#VALUE!"},null,null,null,null,null,1841,0,{"$f":"IF(R1842=\"\",\"\",LARGE(Q$1:Q1841,1)+1)","v":{"$error":"#NUM!"}},{"$error":"#NUM!"},null,null,null,null,null,null,0,{"$error":"#VALUE!"},3999,"","",null,null,null,null,{"$error":"#VALUE!"},{"$error":"#VALUE!"},{"$f":"COUNTIF('Standards LOOKUP'!B:B,AI1842)","v":0},{"$f":"IFERROR(INDEX('Standards LOOKUP'!C:C,MATCH(AI1842,'Standards LOOKUP'!B:B,0),0),0)","v":0},{"$f":"IFERROR(INDEX('Current Standards'!P:P,MATCH('Sheet Counter'!AI1842,'Current Standards'!O:O,0),0),\"\")","v":""}]
[null,null,0,"","",{"$error":"#VALUE!"},"",{"$f":"IF(I1846=\"\",\"\",LARGE(H$1:H1845,1)+1)","v":{"$error":"#VALUE!"}},{"$error":"#VALUE!"},null,null,null,null,null,1845,0,{"$f":"IF(R1846=\"\",\"\",LARGE(Q$1:Q1845,1)+1)","v":{"$error":"#NUM!"}},{"$error":"#NUM!"},null,null,null,null,null,null,0,{"$error":"#VALUE!"},3999,"","",null,null,null,null,{"$error":"#VALUE!"},{"$error":"#VALUE!"},{"$f":"COUNTIF('Standards LOOKUP'!B:B,AI1846)","v":0},{"$f":"IFERROR(INDEX('Standards LOOKUP'!C:C,MATCH(AI1846,'Standards LOOKUP'!B:B,0),0),0)","v":0},{"$f":"IFERROR(INDEX('Current Standards'!P:P,MATCH('Sheet Counter'!AI1846,'Current Standards'!O:O,0),0),\"\")","v":""}]
[null,null,0,"","",{"$error":"#VALUE!"},"",{"$f":"IF(I1849=\"\",\"\",LARGE(H$1:H1848,1)+1)","v":{"$error":"#VALUE!"}},{"$error":"#VALUE!"},null,null,null,null,null,1848,0,{"$f":"IF(R1849=\"\",\"\",LARGE(Q$1:Q1848,1)+1)","v":{"$error":"#NUM!"}},{"$error":"#NUM!"},null,null,null,null,null,null,0,{"$error":"#VALUE!"},3999,"","",null,null,null,null,{"$error":"#VALUE!"},{"$error":"#VALUE!"},{"$f":"COUNTIF('Standards LOOKUP'!B:B,AI1849)","v":0},{"$f":"IFERROR(INDEX('Standards LOOKUP'!C:C,MATCH(AI1849,'Standards LOOKUP'!B:B,0),0),0)","v":0},{"$f":"IFERROR(INDEX('Current Standards'!P:P,MATCH('Sheet Counter'!AI1849,'Current Standards'!O:O,0),0),\"\")","v":""}]
[null,null,0,"","",{"$error":"#VALUE!"},"",{"$f":"IF(I1852=\"\",\"\",LARGE(H$1:H1851,1)+1)","v":{"$error":"#VALUE!"}},{"$error":"#VALUE!"},null,null,null,null,null,1851,0,{"$f":"IF(R1852=\"\",\"\",LARGE(Q$1:Q1851,1)+1)","v":{"$error":"#NUM!"}},{"$error":"#NUM!"},null,null,null,null,null,null,0,{"$error":"#VALUE!"},3999,"","",null,null,null,null,{"$error":"#VALUE!"},{"$error":"#VALUE!"},{"$f":"COUNTIF('Standards LOOKUP'!B:B,AI1852)","v":0},{"$f":"IFERROR(INDEX('Standards LOOKUP'!C:C,MATCH(AI1852,'Standards LOOKUP'!B:B,0),0),0)","v":0},{"$f":"IFERROR(INDEX('Current Standards'!P:P,MATCH('Sheet Counter'!AI1852,'Current Standards'!O:O,0),0),\"\")","v":""}]
[null,null,0,"","",{"$error":"#VALUE!"},"",{"$f":"IF(I1855=\"\",\"\",LARGE(H$1:H1854,1)+1)","v":{"$error":"#VALUE!"}},{"$error":"#VALUE!"},null,null,null,null,null,1854,0,{"$f":"IF(R1855=\"\",\"\",LARGE(Q$1:Q1854,1)+1)","v":{"$error":"#NUM!"}},{"$error":"#NUM!"},null,null,null,null,null,null,0,{"$error":"#VALUE!"},3999,"","",null,null,null,null,{"$error":"#VALUE!"},{"$error":"#VALUE!"},{"$f":"COUNTIF('Standards LOOKUP'!B:B,AI1855)","v":0},{"$f":"IFERROR(INDEX('Standards LOOKUP'!C:C,MATCH(AI1855,'Standards LOOKUP'!B:B,0),0),0)","v":0},{"$f":"IFERROR(INDEX('Current Standards'!P:P,MATCH('Sheet Counter'!AI1855,'Current Standards'!O:O,0),0),\"\")","v":""}]
[null,null,0,"","",{"$error":"#VALUE!"},"",{"$f":"IF(I1858=\"\",\"\",LARGE(H$1:H1857,1)+1)","v":{"$error":"#VALUE!"}},{"$f":"IF(G1858=\"\",F1858,\"\")","v":{"$error":"#VALUE!"}},null,null,null,null,null,1857,{"$f":"COUNTIF(G:G,O1858)","v":0},{"$f":"IF(R1858=\"\",\"\",LARGE(Q$1:Q1857,1)+1)","v":{"$error":"#NUM!"}},{"$error":"#NUM!"},null,null,null,null,null,null,0,{"$error":"#VALUE!"},3999,"","",null,null,null,null,{"$error":"#VALUE!"},{"$error":"#VALUE!"},{"$f":"COUNTIF('Standards LOOKUP'!B:B,AI1858)","v":0},{"$f":"IFERROR(INDEX('Standards LOOKUP'!C:C,MATCH(AI1858,'Standards LOOKUP'!B:B,0),0),0)","v":0},{"$f":"IFERROR(INDEX('Current Standards'!P:P,MATCH('Sheet Counter'!AI1858,'Current Standards'!O:O,0),0),\"\")","v":""}]
[null,null,0,"","",{"$error":"#VALUE!"},"",{"$f":"IF(I1860=\"\",\"\",LARGE(H$1:H1859,1)+1)","v":{"$error":"#VALUE!"}},{"$error":"#VALUE!"},null,null,null,null,null,1859,0,{"$f":"IF(R1860=\"\",\"\",LARGE(Q$1:Q1859,1)+1)","v":{"$error":"#NUM!"}},{"$f":"IF(AND(P1860<>1,O1860<=LARGE(G:G,1),O1860>=SMALL(G:G,1)),O1860,\"\")","v":{"$error":"#NUM!"}},null,null,null,null,null,null,0,{"$error":"#VALUE!"},3999,"","",null,null,null,null,{"$error":"#VALUE!"},{"$error":"#VALUE!"},{"$f":"COUNTIF('Standards LOOKUP'!B:B,AI1860)","v":0},{"$f":"IFERROR(INDEX('Standards LOOKUP'!C:C,MATCH(AI1860,'Standards LOOKUP'!B:B,0),0),0)","v":0},{"$f":"IFERROR(INDEX('Current Standards'!P:P,MATCH('Sheet Counter'!AI1860,'Current Standards'!O:O,0),0),\"\")","v":""}]
[null,null,0,"","",{"$error":"#VALUE!"},"",{"$f":"IF(I1861=\"\",\"\",LARGE(H$1:H1860,1)+1)","v":{"$error":"#VALUE!"}},{"$error":"#VALUE!"},null,null,null,null,null,1860,0,{"$f":"IF(R1861=\"\",\"\",LARGE(Q$1:Q1860,1)+1)","v":{"$error":"#NUM!"}},{"$error":"#NUM!"},null,null,null,null,null,null,0,{"$error":"#VALUE!"},3999,"","",null,null,null,null,{"$error":"#VALUE!"},{"$error":"#VALUE!"},{"$f":"COUNTIF('Standards LOOKUP'!B:B,AI1861)","v":0},{"$f":"IFERROR(INDEX('Standards LOOKUP'!C:C,MATCH(AI1861,'Standards LOOKUP'!B:B,0),0),0)","v":0},{"$f":"IFERROR(INDEX('Current Standards'!P:P,MATCH('Sheet Counter'!AI1861,'Current Standards'!O:O,0),0),\"\")","v":""}]
[null,null,0,"","",{"$error":"#VALUE!"},"",{"$f":"IF(I1864=\"\",\"\",LARGE(H$1:H1863,1)+1)","v":{"$error":"#VALUE!"}},{"$error":"#VALUE!"},null,null,null,null,null,1863,0,{"$f":"IF(R1864=\"\",\"\",LARGE(Q$1:Q1863,1)+1)","v":{"$error":"#NUM!"}},{"$error":"#NUM!"},null,null,null,null,null,null,0,{"$error":"#VALUE!"},3999,"","",null,null,null,null,{"$error":"#VALUE!"},{"$error":"#VALUE!"},{"$f":"COUNTIF('Standards LOOKUP'!B:B,AI1864)","v":0},{"$f":"IFERROR(INDEX('Standards LOOKUP'!C:C,MATCH(AI1864,'Standards LOOKUP'!B:B,0),0),0)","v":0},{"$f":"IFERROR(INDEX('Current Standards'!P:P,MATCH('Sheet Counter'!AI1864,'Current Standards'!O:O,0),0),\"\")","v":""}]
[null,null,0,"","",{"$error":"#VALUE!"},"",{"$f":"IF(I1868=\"\",\"\",LARGE(H$1:H1867,1)+1)","v":{"$error":"#VALUE!"}},{"$error":"#VALUE!"},null,null,null,null,null,1867,0,{"$f":"IF(R1868=\"\",\"\",LARGE(Q$1:Q1867,1)+1)","v":{"$error":"#NUM!"}},{"$error":"#NUM!"},null,null,null,null,null,null,0,{"$error":"#VALUE!"},3999,"","",null,null,null,null,{"$error":"#VALUE!"},{"$error":"#VALUE!"},{"$f":"COUNTIF('Standards LOOKUP'!B:B,AI1868)","v":0},{"$f":"IFERROR(INDEX('Standards LOOKUP'!C:C,MATCH(AI1868,'Standards LOOKUP'!B:B,0),0),0)","v":0},{"$f":"IFERROR(INDEX('Current Standards'!P:P,MATCH('Sheet Counter'!AI1868,'Current Standards'!O:O,0),0),\"\")","v":""}]
[null,null,0,"","",{"$error":"#VALUE!"},"",{"$f":"IF(I1871=\"\",\"\",LARGE(H$1:H1870,1)+1)","v":{"$error":"#VALUE!"}},{"$error":"#VALUE!"},null,null,null,null,null,1870,0,{"$f":"IF(R1871=\"\",\"\",LARGE(Q$1:Q1870,1)+1)","v":{"$error":"#NUM!"}},{"$error":"#NUM!"},null,null,null,null,null,null,0,{"$error":"#VALUE!"},3999,"","",null,null,null,null,{"$error":"#VALUE!"},{"$error":"#VALUE!"},{"$f":"COUNTIF('Standards LOOKUP'!B:B,AI1871)","v":0},{"$f":"IFERROR(INDEX('Standards LOOKUP'!C:C,MATCH(AI1871,'Standards LOOKUP'!B:B,0),0),0)","v":0},{"$f":"IFERROR(INDEX('Current Standards'!P:P,MATCH('Sheet Counter'!AI1871,'Current Standards'!O:O,0),0),\"\")","v":""}]
[null,null,0,"","",{"$error":"#VALUE!"},"",{"$f":"IF(I1874=\"\",\"\",LARGE(H$1:H1873,1)+1)","v":{"$error":"#VALUE!"}},{"$error":"#VALUE!"},null,null,null,null,null,1873,0,{"$f":"IF(R1874=\"\",\"\",LARGE(Q$1:Q1873,1)+1)","v":{"$error":"#NUM!"}},{"$error":"#NUM!"},null,null,null,null,null,null,0,{"$error":"#VALUE!"},3999,"","",null,null,null,null,{"$error":"#VALUE!"},{"$error":"#VALUE!"},{"$f":"COUNTIF('Standards LOOKUP'!B:B,AI1874)","v":0},{"$f":"IFERROR(INDEX('Standards LOOKUP'!C:C,MATCH(AI1874,'Standards LOOKUP'!B:B,0),0),0)","v":0},{"$f":"IFERROR(INDEX('Current Standards'!P:P,MATCH('Sheet Counter'!AI1874,'Current Standards'!O:O,0),0),\"\")","v":""}]
[null,null,0,"","",{"$error":"#VALUE!"},"",{"$f":"IF(I1877=\"\",\"\",LARGE(H$1:H1876,1)+1)","v":{"$error":"#VALUE!"}},{"$error":"#VALUE!"},null,null,null,null,null,1876,0,{"$f":"IF(R1877=\"\",\"\",LARGE(Q$1:Q1876,1)+1)","v":{"$error":"#NUM!"}},{"$error":"#NUM!"},null,null,null,null,null,null,0,{"$error":"#VALUE!"},3999,"","",null,null,null,null,{"$error":"#VALUE!"},{"$error":"#VALUE!"},{"$f":"COUNTIF('Standards LOOKUP'!B:B,AI1877)","v":0},{"$f":"IFERROR(INDEX('Standards LOOKUP'!C:C,MATCH(AI1877,'Standards LOOKUP'!B:B,0),0),0)","v":0},{"$f":"IFERROR(INDEX('Current Standards'!P:P,MATCH('Sheet Counter'!AI1877,'Current Standards'!O:O,0),0),\"\")","v":""}]
[null,null,0,"","",{"$error":"#VALUE!"},"",{"$f":"IF(I1880=\"\",\"\",LARGE(H$1:H1879,1)+1)","v":{"$error":"#VALUE!"}},{"$error":"#VALUE!"},null,null,null,null,null,1879,0,{"$f":"IF(R1880=\"\",\"\",LARGE(Q$1:Q1879,1)+1)","v":{"$error":"#NUM!"}},{"$error":"#NUM!"},null,null,null,null,null,null,0,{"$error":"#VALUE!"},3999,"","",null,null,null,null,{"$error":"#VALUE!"},{"$error":"#VALUE!"},{"$f":"COUNTIF('Standards LOOKUP'!B:B,AI1880)","v":0},{"$f":"IFERROR(INDEX('Standards LOOKUP'!C:C,MATCH(AI1880,'Standards LOOKUP'!B:B,0),0),0)","v":0},{"$f":"IFERROR(INDEX('Current Standards'!P:P,MATCH('Sheet Counter'!AI1880,'Current Standards'!O:O,0),0),\"\")","v":""}]
[null,null,0,"","",{"$error":"#VALUE!"},"",{"$f":"IF(I1882=\"\",\"\",LARGE(H$1:H1881,1)+1)","v":{"$error":"#VALUE!"}},{"$error":"#VALUE!"},null,null,null,null,null,1881,0,{"$f":"IF(R1882=\"\",\"\",LARGE(Q$1:Q1881,1)+1)","v":{"$error":"#NUM!"}},{"$error":"#NUM!"},null,null,null,null,null,null,0,{"$error":"#VALUE!"},3999,"","",null,null,null,null,{"$error":"#VALUE!"},{"$error":"#VALUE!"},{"$f":"COUNTIF('Standards LOOKUP'!B:B,AI1882)","v":0},{"$f":"IFERROR(INDEX('Standards LOOKUP'!C:C,MATCH(AI1882,'Standards LOOKUP'!B:B,0),0),0)","v":0},{"$f":"IFERROR(INDEX('Current Standards'!P:P,MATCH('Sheet Counter'!AI1882,'Current Standards'!O:O,0),0),\"\")","v":""}]
[null,null,0,"","",{"$error":"#VALUE!"},"",{"$f":"IF(I1883=\"\",\"\",LARGE(H$1:H1882,1)+1)","v":{"$error":"#VALUE!"}},{"$error":"#VALUE!"},null,null,null,null,null,1882,0,{"$f":"IF(R1883=\"\",\"\",LARGE(Q$1:Q1882,1)+1)","v":{"$error":"#NUM!"}},{"$error":"#NUM!"},null,null,null,null,null,null,0,{"$error":"#VALUE!"},3999,"","",null,null,null,null,{"$error":"#VALUE!"},{"$error":"#VALUE!"},{"$f":"COUNTIF('Standards LOOKUP'!B:B,AI1883)","v":0},{"$f":"IFERROR(INDEX('Standards LOOKUP'!C:C,MATCH(AI1883,'Standards LOOKUP'!B:B,0),0),0)","v":0},{"$f":"IFERROR(INDEX('Current Standards'!P:P,MATCH('Sheet Counter'!AI1883,'Current Standards'!O:O,0),0),\"\")","v":""}]
[null,null,0,"","",{"$error":"#VALUE!"},"",{"$f":"IF(I1886=\"\",\"\",LARGE(H$1:H1885,1)+1)","v":{"$error":"#VALUE!"}},{"$error":"#VALUE!"},null,null,null,null,null,1885,0,{"$f":"IF(R1886=\"\",\"\",LARGE(Q$1:Q1885,1)+1)","v":{"$error":"#NUM!"}},{"$error":"#NUM!"},null,null,null,null,null,null,0,{"$error":"#VALUE!"},3999,"","",null,null,null,null,{"$error":"#VALUE!"},{"$error":"#VALUE!"},{"$f":"COUNTIF('Standards LOOKUP'!B:B,AI1886)","v":0},{"$f":"IFERROR(INDEX('Standards LOOKUP'!C:C,MATCH(AI1886,'Standards LOOKUP'!B:B,0),0),0)","v":0},{"$f":"IFERROR(INDEX('Current Standards'!P:P,MATCH('Sheet Counter'!AI1886,'Current Standards'!O:O,0),0),\"\")","v":""}]
[null,null,0,"","",{"$error":"#VALUE!"},"",{"$f":"IF(I1890=\"\",\"\",LARGE(H$1:H1889,1)+1)","v":{"$error":"#VALUE!"}},{"$error":"#VALUE!"},null,null,null,null,null,1889,0,{"$f":"IF(R1890=\"\",\"\",LARGE(Q$1:Q1889,1)+1)","v":{"$error":"#NUM!"}},{"$error":"#NUM!"},null,null,null,null,null,null,0,{"$error":"#VALUE!"},3999,"","",null,null,null,null,{"$error":"#VALUE!"},{"$error":"#VALUE!"},{"$f":"COUNTIF('Standards LOOKUP'!B:B,AI1890)","v":0},{"$f":"IFERROR(INDEX('Standards LOOKUP'!C:C,MATCH(AI1890,'Standards LOOKUP'!B:B,0),0),0)","v":0},{"$f":"IFERROR(INDEX('Current Standards'!P:P,MATCH('Sheet Counter'!AI1890,'Current Standards'!O:O,0),0),\"\")","v":""}]
[null,null,0,"","",{"$error":"#VALUE!"},"",{"$f":"IF(I1893=\"\",\"\",LARGE(H$1:H1892,1)+1)","v":{"$error":"#VALUE!"}},{"$error":"#VALUE!"},null,null,null,null,null,1892,0,{"$f":"IF(R1893=\"\",\"\",LARGE(Q$1:Q1892,1)+1)","v":{"$error":"#NUM!"}},{"$error":"#NUM!"},null,null,null,null,null,null,0,{"$error":"#VALUE!"},3999,"","",null,null,null,null,{"$error":"#VALUE!"},{"$error":"#VALUE!"},{"$f":"COUNTIF('Standards LOOKUP'!B:B,AI1893)","v":0},{"$f":"IFERROR(INDEX('Standards LOOKUP'!C:C,MATCH(AI1893,'Standards LOOKUP'!B:B,0),0),0)","v":0},{"$f":"IFERROR(INDEX('Current Standards'!P:P,MATCH('Sheet Counter'!AI1893,'Current Standards'!O:O,0),0),\"\")","v":""}]
[null,null,0,"","",{"$error":"#VALUE!"},"",{"$f":"IF(I1896=\"\",\"\",LARGE(H$1:H1895,1)+1)","v":{"$error":"#VALUE!"}},{"$error":"#VALUE!"},null,null,null,null,null,1895,0,{"$f":"IF(R1896=\"\",\"\",LARGE(Q$1:Q1895,1)+1)","v":{"$error":"#NUM!"}},{"$error":"#NUM!"},null,null,null,null,null,null,0,{"$error":"#VALUE!"},3999,"","",null,null,null,null,{"$error":"#VALUE!"},{"$error":"#VALUE!"},{"$f":"COUNTIF('Standards LOOKUP'!B:B,AI1896)","v":0},{"$f":"IFERROR(INDEX('Standards LOOKUP'!C:C,MATCH(AI1896,'Standards LOOKUP'!B:B,0),0),0)","v":0},{"$f":"IFERROR(INDEX('Current Standards'!P:P,MATCH('Sheet Counter'!AI1896,'Current Standards'!O:O,0),0),\"\")","v":""}]
[null,null,0,"","",{"$error":"#VALUE!"},"",{"$f":"IF(I1899=\"\",\"\",LARGE(H$1:H1898,1)+1)","v":{"$error":"#VALUE!"}},{"$error":"#VALUE!"},null,null,null,null,null,1898,0,{"$f":"IF(R1899=\"\",\"\",LARGE(Q$1:Q1898,1)+1)","v":{"$error":"#NUM!"}},{"$error":"#NUM!"},null,null,null,null,null,null,0,{"$error":"#VALUE!"},3999,"","",null,null,null,null,{"$error":"#VALUE!"},{"$error":"#VALUE!"},{"$f":"COUNTIF('Standards LOOKUP'!B:B,AI1899)","v":0},{"$f":"IFERROR(INDEX('Standards LOOKUP'!C:C,MATCH(AI1899,'Standards LOOKUP'!B:B,0),0),0)","v":0},{"$f":"IFERROR(INDEX('Current Standards'!P:P,MATCH('Sheet Counter'!AI1899,'Current Standards'!O:O,0),0),\"\")","v":""}]
[null,null,0,"","",{"$error":"#VALUE!"},"",{"$f":"IF(I1902=\"\",\"\",LARGE(H$1:H1901,1)+1)","v":{"$error":"#VALUE!"}},{"$error":"#VALUE!"},null,null,null,null,null,1901,0,{"$f":"IF(R1902=\"\",\"\",LARGE(Q$1:Q1901,1)+1)","v":{"$error":"#NUM!"}},{"$error":"#NUM!"},null,null,null,null,null,null,0,{"$error":"#VALUE!"},3999,"","",null,null,null,null,{"$error":"#VALUE!"},{"$error":"#VALUE!"},{"$f":"COUNTIF('Standards LOOKUP'!B:B,AI1902)","v":0},{"$f":"IFERROR(INDEX('Standards LOOKUP'!C:C,MATCH(AI1902,'Standards LOOKUP'!B:B,0),0),0)","v":0},{"$f":"IFERROR(INDEX('Current Standards'!P:P,MATCH('Sheet Counter'!AI1902,'Current Standards'!O:O,0),0),\"\")","v":""}]
[null,null,0,"","",{"$error":"#VALUE!"},"",{"$f":"IF(I1904=\"\",\"\",LARGE(H$1:H1903,1)+1)","v":{"$error":"#VALUE!"}},{"$error":"#VALUE!"},null,null,null,null,null,1903,0,{"$f":"IF(R1904=\"\",\"\",LARGE(Q$1:Q1903,1)+1)","v":{"$error":"#NUM!"}},{"$error":"#NUM!"},null,null,null,null,null,null,0,{"$error":"#VALUE!"},3999,"","",null,null,null,null,{"$error":"#VALUE!"},{"$error":"#VALUE!"},{"$f":"COUNTIF('Standards LOOKUP'!B:B,AI1904)","v":0},{"$f":"IFERROR(INDEX('Standards LOOKUP'!C:C,MATCH(AI1904,'Standards LOOKUP'!B:B,0),0),0)","v":0},{"$f":"IFERROR(INDEX('Current Standards'!P:P,MATCH('Sheet Counter'!AI1904,'Current Standards'!O:O,0),0),\"\")","v":""}]
[null,null,0,"","",{"$error":"#VALUE!"},"",{"$f":"IF(I1905=\"\",\"\",LARGE(H$1:H1904,1)+1)","v":{"$error":"#VALUE!"}},{"$error":"#VALUE!"},null,null,null,null,null,1904,0,{"$f":"IF(R1905=\"\",\"\",LARGE(Q$1:Q1904,1)+1)","v":{"$error":"#NUM!"}},{"$error":"#NUM!"},null,null,null,null,null,null,0,{"$error":"#VALUE!"},3999,"","",null,null,null,null,{"$error":"#VALUE!"},{"$error":"#VALUE!"},{"$f":"COUNTIF('Standards LOOKUP'!B:B,AI1905)","v":0},{"$f":"IFERROR(INDEX('Standards LOOKUP'!C:C,MATCH(AI1905,'Standards LOOKUP'!B:B,0),0),0)","v":0},{"$f":"IFERROR(INDEX('Current Standards'!P:P,MATCH('Sheet Counter'!AI1905,'Current Standards'!O:O,0),0),\"\")","v":""}]
[null,null,0,"","",{"$error":"#VALUE!"},"",{"$f":"IF(I1909=\"\",\"\",LARGE(H$1:H1908,1)+1)","v":{"$error":"#VALUE!"}},{"$error":"#VALUE!"},null,null,null,null,null,1908,0,{"$f":"IF(R1909=\"\",\"\",LARGE(Q$1:Q1908,1)+1)","v":{"$error":"#NUM!"}},{"$error":"#NUM!"},null,null,null,null,null,null,0,{"$error":"#VALUE!"},3999,"","",null,null,null,null,{"$error":"#VALUE!"},{"$error":"#VALUE!"},{"$f":"COUNTIF('Standards LOOKUP'!B:B,AI1909)","v":0},{"$f":"IFERROR(INDEX('Standards LOOKUP'!C:C,MATCH(AI1909,'Standards LOOKUP'!B:B,0),0),0)","v":0},{"$f":"IFERROR(INDEX('Current Standards'!P:P,MATCH('Sheet Counter'!AI1909,'Current Standards'!O:O,0),0),\"\")","v":""}]
[null,null,0,"","",{"$error":"#VALUE!"},"",{"$f":"IF(I1912=\"\",\"\",LARGE(H$1:H1911,1)+1)","v":{"$error":"#VALUE!"}},{"$error":"#VALUE!"},null,null,null,null,null,1911,0,{"$f":"IF(R1912=\"\",\"\",LARGE(Q$1:Q1911,1)+1)","v":{"$error":"#NUM!"}},{"$error":"#NUM!"},null,null,null,null,null,null,0,{"$error":"#VALUE!"},3999,"","",null,null,null,null,{"$error":"#VALUE!"},{"$error":"#VALUE!"},{"$f":"COUNTIF('Standards LOOKUP'!B:B,AI1912)","v":0},{"$f":"IFERROR(INDEX('Standards LOOKUP'!C:C,MATCH(AI1912,'Standards LOOKUP'!B:B,0),0),0)","v":0},{"$f":"IFERROR(INDEX('Current Standards'!P:P,MATCH('Sheet Counter'!AI1912,'Current Standards'!O:O,0),0),\"\")","v":""}]
[null,null,0,"","",{"$error":"#VALUE!"},"",{"$f":"IF(I1915=\"\",\"\",LARGE(H$1:H1914,1)+1)","v":{"$error":"#VALUE!"}},{"$error":"#VALUE!"},null,null,null,null,null,1914,0,{"$f":"IF(R1915=\"\",\"\",LARGE(Q$1:Q1914,1)+1)","v":{"$error":"#NUM!"}},{"$error":"#NUM!"},null,null,null,null,null,null,0,{"$error":"#VALUE!"},3999,"","",null,null,null,null,{"$error":"#VALUE!"},{"$error":"#VALUE!"},{"$f":"COUNTIF('Standards LOOKUP'!B:B,AI1915)","v":0},{"$f":"IFERROR(INDEX('Standards LOOKUP'!C:C,MATCH(AI1915,'Standards LOOKUP'!B:B,0),0),0)","v":0},{"$f":"IFERROR(INDEX('Current Standards'!P:P,MATCH('Sheet Counter'!AI1915,'Current Standards'!O:O,0),0),\"\")","v":""}]
[null,null,0,"","",{"$error":"#VALUE!"},"",{"$f":"IF(I1918=\"\",\"\",LARGE(H$1:H1917,1)+1)","v":{"$error":"#VALUE!"}},{"$error":"#VALUE!"},null,null,null,null,null,1917,0,{"$f":"IF(R1918=\"\",\"\",LARGE(Q$1:Q1917,1)+1)","v":{"$error":"#NUM!"}},{"$error":"#NUM!"},null,null,null,null,null,null,0,{"$error":"#VALUE!"},3999,"","",null,null,null,null,{"$error":"#VALUE!"},{"$error":"#VALUE!"},{"$f":"COUNTIF('Standards LOOKUP'!B:B,AI1918)","v":0},{"$f":"IFERROR(INDEX('Standards LOOKUP'!C:C,MATCH(AI1918,'Standards LOOKUP'!B:B,0),0),0)","v":0},{"$f":"IFERROR(INDEX('Current Standards'!P:P,MATCH('Sheet Counter'!AI1918,'Current Standards'!O:O,0),0),\"\")","v":""}]
[null,null,0,"","",{"$error":"#VALUE!"},"",{"$f":"IF(I1921=\"\",\"\",LARGE(H$1:H1920,1)+1)","v":{"$error":"#VALUE!"}},{"$error":"#VALUE!"},null,null,null,null,null,1920,0,{"$f":"IF(R1921=\"\",\"\",LARGE(Q$1:Q1920,1)+1)","v":{"$error":"#NUM!"}},{"$error":"#NUM!"},null,null,null,null,null,null,0,{"$error":"#VALUE!"},3999,"","",null,null,null,null,{"$error":"#VALUE!"},{"$error":"#VALUE!"},{"$f":"COUNTIF('Standards LOOKUP'!B:B,AI1921)","v":0},{"$f":"IFERROR(INDEX('Standards LOOKUP'!C:C,MATCH(AI1921,'Standards LOOKUP'!B:B,0),0),0)","v":0},{"$f":"IFERROR(INDEX('Current Standards'!P:P,MATCH('Sheet Counter'!AI1921,'Current Standards'!O:O,0),0),\"\")","v":""}]
[null,null,0,"","",{"$error":"#VALUE!"},"",{"$f":"IF(I1924=\"\",\"\",LARGE(H$1:H1923,1)+1)","v":{"$error":"#VALUE!"}},{"$error":"#VALUE!"},null,null,null,null,null,1923,0,{"$f":"IF(R1924=\"\",\"\",LARGE(Q$1:Q1923,1)+1)","v":{"$error":"#NUM!"}},{"$f":"IF(AND(P1924<>1,O1924<=LARGE(G:G,1),O1924>=SMALL(G:G,1)),O1924,\"\")","v":{"$error":"#NUM!"}},null,null,null,null,null,null,0,{"$error":"#VALUE!"},3999,"","",null,null,null,null,{"$error":"#VALUE!"},{"$error":"#VALUE!"},{"$f":"COUNTIF('Standards LOOKUP'!B:B,AI1924)","v":0},{"$f":"IFERROR(INDEX('Standards LOOKUP'!C:C,MATCH(AI1924,'Standards LOOKUP'!B:B,0),0),0)","v":0},{"$f":"IFERROR(INDEX('Current Standards'!P:P,MATCH('Sheet Counter'!AI1924,'Current Standards'!O:O,0),0),\"\")","v":""}]
[null,null,0,"","",{"$error":"#VALUE!"},"",{"$f":"IF(I1926=\"\",\"\",LARGE(H$1:H1925,1)+1)","v":{"$error":"#VALUE!"}},{"$error":"#VALUE!"},null,null,null,null,null,1925,0,{"$f":"IF(R1926=\"\",\"\",LARGE(Q$1:Q1925,1)+1)","v":{"$error":"#NUM!"}},{"$error":"#NUM!"},null,null,null,null,null,null,0,{"$error":"#VALUE!"},3999,"","",null,null,null,null,{"$error":"#VALUE!"},{"$error":"#VALUE!"},{"$f":"COUNTIF('Standards LOOKUP'!B:B,AI1926)","v":0},{"$f":"IFERROR(INDEX('Standards LOOKUP'!C:C,MATCH(AI1926,'Standards LOOKUP'!B:B,0),0),0)","v":0},{"$f":"IFERROR(INDEX('Current Standards'!P:P,MATCH('Sheet Counter'!AI1926,'Current Standards'!O:O,0),0),\"\")","v":""}]
[null,null,0,"","",{"$error":"#VALUE!"},"",{"$f":"IF(I1927=\"\",\"\",LARGE(H$1:H1926,1)+1)","v":{"$error":"#VALUE!"}},{"$error":"#VALUE!"},null,null,null,null,null,1926,0,{"$f":"IF(R1927=\"\",\"\",LARGE(Q$1:Q1926,1)+1)","v":{"$error":"#NUM!"}},{"$error":"#NUM!"},null,null,null,null,null,null,0,{"$error":"#VALUE!"},3999,"","",null,null,null,null,{"$error":"#VALUE!"},{"$error":"#VALUE!"},{"$f":"COUNTIF('Standards LOOKUP'!B:B,AI1927)","v":0},{"$f":"IFERROR(INDEX('Standards LOOKUP'!C:C,MATCH(AI1927,'Standards LOOKUP'!B:B,0),0),0)","v":0},{"$f":"IFERROR(INDEX('Current Standards'!P:P,MATCH('Sheet Counter'!AI1927,'Current Standards'!O:O,0),0),\"\")","v":""}]
[null,null,0,"","",{"$error":"#VALUE!"},"",{"$f":"IF(I1931=\"\",\"\",LARGE(H$1:H1930,1)+1)","v":{"$error":"#VALUE!"}},{"$error":"#VALUE!"},null,null,null,null,null,1930,0,{"$f":"IF(R1931=\"\",\"\",LARGE(Q$1:Q1930,1)+1)","v":{"$error":"#NUM!"}},{"$error":"#NUM!"},null,null,null,null,null,null,0,{"$error":"#VALUE!"},3999,"","",null,null,null,null,{"$error":"#VALUE!"},{"$error":"#VALUE!"},{"$f":"COUNTIF('Standards LOOKUP'!B:B,AI1931)","v":0},{"$f":"IFERROR(INDEX('Standards LOOKUP'!C:C,MATCH(AI1931,'Standards LOOKUP'!B:B,0),0),0)","v":0},{"$f":"IFERROR(INDEX('Current Standards'!P:P,MATCH('Sheet Counter'!AI1931,'Current Standards'!O:O,0),0),\"\")","v":""}]
[null,null,0,"","",{"$error":"#VALUE!"},"",{"$f":"IF(I1934=\"\",\"\",LARGE(H$1:H1933,1)+1)","v":{"$error":"#VALUE!"}},{"$error":"#VALUE!"},null,null,null,null,null,1933,0,{"$f":"IF(R1934=\"\",\"\",LARGE(Q$1:Q1933,1)+1)","v":{"$error":"#NUM!"}},{"$error":"#NUM!"},null,null,null,null,null,null,0,{"$error":"#VALUE!"},3999,"","",null,null,null,null,{"$error":"#VALUE!"},{"$error":"#VALUE!"},{"$f":"COUNTIF('Standards LOOKUP'!B:B,AI1934)","v":0},{"$f":"IFERROR(INDEX('Standards LOOKUP'!C:C,MATCH(AI1934,'Standards LOOKUP'!B:B,0),0),0)","v":0},{"$f":"IFERROR(INDEX('Current Standards'!P:P,MATCH('Sheet Counter'!AI1934,'Current Standards'!O:O,0),0),\"\")","v":""}]
[null,null,0,"","",{"$error":"#VALUE!"},"",{"$f":"IF(I1937=\"\",\"\",LARGE(H$1:H1936,1)+1)","v":{"$error":"#VALUE!"}},{"$error":"#VALUE!"},null,null,null,null,null,1936,0,{"$f":"IF(R1937=\"\",\"\",LARGE(Q$1:Q1936,1)+1)","v":{"$error":"#NUM!"}},{"$error":"#NUM!"},null,null,null,null,null,null,0,{"$error":"#VALUE!"},3999,"","",null,null,null,null,{"$error":"#VALUE!"},{"$error":"#VALUE!"},{"$f":"COUNTIF('Standards LOOKUP'!B:B,AI1937)","v":0},{"$f":"IFERROR(INDEX('Standards LOOKUP'!C:C,MATCH(AI1937,'Standards LOOKUP'!B:B,0),0),0)","v":0},{"$f":"IFERROR(INDEX('Current Standards'!P:P,MATCH('Sheet Counter'!AI1937,'Current Standards'!O:O,0),0),\"\")","v":""}]
[null,null,0,"","",{"$error":"#VALUE!"},"",{"$f":"IF(I1940=\"\",\"\",LARGE(H$1:H1939,1)+1)","v":{"$error":"#VALUE!"}},{"$error":"#VALUE!"},null,null,null,null,null,1939,0,{"$f":"IF(R1940=\"\",\"\",LARGE(Q$1:Q1939,1)+1)","v":{"$error":"#NUM!"}},{"$error":"#NUM!"},null,null,null,null,null,null,0,{"$error":"#VALUE!"},3999,"","",null,null,null,null,{"$error":"#VALUE!"},{"$error":"#VALUE!"},{"$f":"COUNTIF('Standards LOOKUP'!B:B,AI1940)","v":0},{"$f":"IFERROR(INDEX('Standards LOOKUP'!C:C,MATCH(AI1940,'Standards LOOKUP'!B:B,0),0),0)","v":0},{"$f":"IFERROR(INDEX('Current Standards'!P:P,MATCH('Sheet Counter'!AI1940,'Current Standards'!O:O,0),0),\"\")","v":""}]
[null,null,0,"","",{"$error":"#VALUE!"},"",{"$f":"IF(I1943=\"\",\"\",LARGE(H$1:H1942,1)+1)","v":{"$error":"#VALUE!"}},{"$error":"#VALUE!"},null,null,null,null,null,1942,0,{"$f":"IF(R1943=\"\",\"\",LARGE(Q$1:Q1942,1)+1)","v":{"$error":"#NUM!"}},{"$error":"#NUM!"},null,null,null,null,null,null,0,{"$error":"#VALUE!"},3999,"","",null,null,null,null,{"$error":"#VALUE!"},{"$error":"#VALUE!"},{"$f":"COUNTIF('Standards LOOKUP'!B:B,AI1943)","v":0},{"$f":"IFERROR(INDEX('Standards LOOKUP'!C:C,MATCH(AI1943,'Standards LOOKUP'!B:B,0),0),0)","v":0},{"$f":"IFERROR(INDEX('Current Standards'!P:P,MATCH('Sheet Counter'!AI1943,'Current Standards'!O:O,0),0),\"\")","v":""}]
[null,null,0,"","",{"$error":"#VALUE!"},"",{"$f":"IF(I1944=\"\",\"\",LARGE(H$1:H1943,1)+1)","v":{"$error":"#VALUE!"}},{"$error":"#VALUE!"},null,null,null,null,null,1943,0,{"$f":"IF(R1944=\"\",\"\",LARGE(Q$1:Q1943,1)+1)","v":{"$error":"#NUM!"}},{"$error":"#NUM!"},null,null,null,null,null,null,0,{"$error":"#VALUE!"},3999,"","",null,null,null,null,{"$error":"#VALUE!"},{"$error":"#VALUE!"},{"$f":"COUNTIF('Standards LOOKUP'!B:B,AI1944)","v":0},{"$f":"IFERROR(INDEX('Standards LOOKUP'!C:C,MATCH(AI1944,'Standards LOOKUP'!B:B,0),0),0)","v":0},{"$f":"IFERROR(INDEX('Current Standards'!P:P,MATCH('Sheet Counter'!AI1944,'Current Standards'!O:O,0),0),\"\")","v":""}]
[null,null,0,"","",{"$error":"#VALUE!"},"",{"$f":"IF(I1948=\"\",\"\",LARGE(H$1:H1947,1)+1)","v":{"$error":"#VALUE!"}},{"$error":"#VALUE!"},null,null,null,null,null,1947,0,{"$f":"IF(R1948=\"\",\"\",LARGE(Q$1:Q1947,1)+1)","v":{"$error":"#NUM!"}},{"$error":"#NUM!"},null,null,null,null,null,null,0,{"$error":"#VALUE!"},3999,"","",null,null,null,null,{"$error":"#VALUE!"},{"$error":"#VALUE!"},{"$f":"COUNTIF('Standards LOOKUP'!B:B,AI1948)","v":0},{"$f":"IFERROR(INDEX('Standards LOOKUP'!C:C,MATCH(AI1948,'Standards LOOKUP'!B:B,0),0),0)","v":0},{"$f":"IFERROR(INDEX('Current Standards'!P:P,MATCH('Sheet Counter'!AI1948,'Current Standards'!O:O,0),0),\"\")","v":""}]
[null,null,0,"","",{"$error":"#VALUE!"},"",{"$f":"IF(I1949=\"\",\"\",LARGE(H$1:H1948,1)+1)","v":{"$error":"#VALUE!"}},{"$error":"#VALUE!"},null,null,null,null,null,1948,0,{"$f":"IF(R1949=\"\",\"\",LARGE(Q$1:Q1948,1)+1)","v":{"$error":"#NUM!"}},{"$error":"#NUM!"},null,null,null,null,null,null,0,{"$error":"#VALUE!"},3999,"","",null,null,null,null,{"$error":"#VALUE!"},{"$error":"#VALUE!"},{"$f":"COUNTIF('Standards LOOKUP'!B:B,AI1949)","v":0},{"$f":"IFERROR(INDEX('Standards LOOKUP'!C:C,MATCH(AI1949,'Standards LOOKUP'!B:B,0),0),0)","v":0},{"$f":"IFERROR(INDEX('Current Standards'!P:P,MATCH('Sheet Counter'!AI1949,'Current Standards'!O:O,0),0),\"\")","v":""}]
[null,null,0,"","",{"$error":"#VALUE!"},"",{"$f":"IF(I1953=\"\",\"\",LARGE(H$1:H1952,1)+1)","v":{"$error":"#VALUE!"}},{"$error":"#VALUE!"},null,null,null,null,null,1952,0,{"$f":"IF(R1953=\"\",\"\",LARGE(Q$1:Q1952,1)+1)","v":{"$error":"#NUM!"}},{"$error":"#NUM!"},null,null,null,null,null,null,0,{"$error":"#VALUE!"},3999,"","",null,null,null,null,{"$error":"#VALUE!"},{"$error":"#VALUE!"},{"$f":"COUNTIF('Standards LOOKUP'!B:B,AI1953)","v":0},{"$f":"IFERROR(INDEX('Standards LOOKUP'!C:C,MATCH(AI1953,'Standards LOOKUP'!B:B,0),0),0)","v":0},{"$f":"IFERROR(INDEX('Current Standards'!P:P,MATCH('Sheet Counter'!AI1953,'Current Standards'!O:O,0),0),\"\")","v":""}]
[null,null,0,"","",{"$error":"#VALUE!"},"",{"$f":"IF(I1956=\"\",\"\",LARGE(H$1:H1955,1)+1)","v":{"$error":"#VALUE!"}},{"$error":"#VALUE!"},null,null,null,null,null,1955,0,{"$f":"IF(R1956=\"\",\"\",LARGE(Q$1:Q1955,1)+1)","v":{"$error":"#NUM!"}},{"$error":"#NUM!"},null,null,null,null,null,null,0,{"$error":"#VALUE!"},3999,"","",null,null,null,null,{"$error":"#VALUE!"},{"$error":"#VALUE!"},{"$f":"COUNTIF('Standards LOOKUP'!B:B,AI1956)","v":0},{"$f":"IFERROR(INDEX('Standards LOOKUP'!C:C,MATCH(AI1956,'Standards LOOKUP'!B:B,0),0),0)","v":0},{"$f":"IFERROR(INDEX('Current Standards'!P:P,MATCH('Sheet Counter'!AI1956,'Current Standards'!O:O,0),0),\"\")","v":""}]
[null,null,0,"","",{"$error":"#VALUE!"},"",{"$f":"IF(I1959=\"\",\"\",LARGE(H$1:H1958,1)+1)","v":{"$error":"#VALUE!"}},{"$error":"#VALUE!"},null,null,null,null,null,1958,0,{"$f":"IF(R1959=\"\",\"\",LARGE(Q$1:Q1958,1)+1)","v":{"$error":"#NUM!"}},{"$error":"#NUM!"},null,null,null,null,null,null,0,{"$error":"#VALUE!"},3999,"","",null,null,null,null,{"$error":"#VALUE!"},{"$error":"#VALUE!"},{"$f":"COUNTIF('Standards LOOKUP'!B:B,AI1959)","v":0},{"$f":"IFERROR(INDEX('Standards LOOKUP'!C:C,MATCH(AI1959,'Standards LOOKUP'!B:B,0),0),0)","v":0},{"$f":"IFERROR(INDEX('Current Standards'!P:P,MATCH('Sheet Counter'!AI1959,'Current Standards'!O:O,0),0),\"\")","v":""}]
[null,null,0,"","",{"$error":"#VALUE!"},"",{"$f":"IF(I1962=\"\",\"\",LARGE(H$1:H1961,1)+1)","v":{"$error":"#VALUE!"}},{"$error":"#VALUE!"},null,null,null,null,null,1961,0,{"$f":"IF(R1962=\"\",\"\",LARGE(Q$1:Q1961,1)+1)","v":{"$error":"#NUM!"}},{"$error":"#NUM!"},null,null,null,null,null,null,0,{"$error":"#VALUE!"},3999,"","",null,null,null,null,{"$error":"#VALUE!"},{"$error":"#VALUE!"},{"$f":"COUNTIF('Standards LOOKUP'!B:B,AI1962)","v":0},{"$f":"IFERROR(INDEX('Standards LOOKUP'!C:C,MATCH(AI1962,'Standards LOOKUP'!B:B,0),0),0)","v":0},{"$f":"IFERROR(INDEX('Current Standards'!P:P,MATCH('Sheet Counter'!AI1962,'Current Standards'!O:O,0),0),\"\")","v":""}]
[null,null,0,"","",{"$error":"#VALUE!"},"",{"$f":"IF(I1965=\"\",\"\",LARGE(H$1:H1964,1)+1)","v":{"$error":"#VALUE!"}},{"$error":"#VALUE!"},null,null,null,null,null,1964,0,{"$f":"IF(R1965=\"\",\"\",LARGE(Q$1:Q1964,1)+1)","v":{"$error":"#NUM!"}},{"$error":"#NUM!"},null,null,null,null,null,null,0,{"$error":"#VALUE!"},3999,"","",null,null,null,null,{"$error":"#VALUE!"},{"$error":"#VALUE!"},{"$f":"COUNTIF('Standards LOOKUP'!B:B,AI1965)","v":0},{"$f":"IFERROR(INDEX('Standards LOOKUP'!C:C,MATCH(AI1965,'Standards LOOKUP'!B:B,0),0),0)","v":0},{"$f":"IFERROR(INDEX('Current Standards'!P:P,MATCH('Sheet Counter'!AI1965,'Current Standards'!O:O,0),0),\"\")","v":""}]
[null,null,0,"","",{"$error":"#VALUE!"},"",{"$f":"IF(I1966=\"\",\"\",LARGE(H$1:H1965,1)+1)","v":{"$error":"#VALUE!"}},{"$error":"#VALUE!"},null,null,null,null,null,1965,0,{"$f":"IF(R1966=\"\",\"\",LARGE(Q$1:Q1965,1)+1)","v":{"$error":"#NUM!"}},{"$error":"#NUM!"},null,null,null,null,null,null,0,{"$error":"#VALUE!"},3999,"","",null,null,null,null,{"$error":"#VALUE!"},{"$error":"#VALUE!"},{"$f":"COUNTIF('Standards LOOKUP'!B:B,AI1966)","v":0},{"$f":"IFERROR(INDEX('Standards LOOKUP'!C:C,MATCH(AI1966,'Standards LOOKUP'!B:B,0),0),0)","v":0},{"$f":"IFERROR(INDEX('Current Standards'!P:P,MATCH('Sheet Counter'!AI1966,'Current Standards'!O:O,0),0),\"\")","v":""}]
[null,null,0,"","",{"$error":"#VALUE!"},"",{"$f":"IF(I1970=\"\",\"\",LARGE(H$1:H1969,1)+1)","v":{"$error":"#VALUE!"}},{"$error":"#VALUE!"},null,null,null,null,null,1969,0,{"$f":"IF(R1970=\"\",\"\",LARGE(Q$1:Q1969,1)+1)","v":{"$error":"#NUM!"}},{"$error":"#NUM!"},null,null,null,null,null,null,0,{"$error":"#VALUE!"},3999,"","",null,null,null,null,{"$error":"#VALUE!"},{"$error":"#VALUE!"},{"$f":"COUNTIF('Standards LOOKUP'!B:B,AI1970)","v":0},{"$f":"IFERROR(INDEX('Standards LOOKUP'!C:C,MATCH(AI1970,'Standards LOOKUP'!B:B,0),0),0)","v":0},{"$f":"IFERROR(INDEX('Current Standards'!P:P,MATCH('Sheet Counter'!AI1970,'Current Standards'!O:O,0),0),\"\")","v":""}]
[null,null,0,"","",{"$error":"#VALUE!"},"",{"$f":"IF(I1971=\"\",\"\",LARGE(H$1:H1970,1)+1)","v":{"$error":"#VALUE!"}},{"$error":"#VALUE!"},null,null,null,null,null,1970,0,{"$f":"IF(R1971=\"\",\"\",LARGE(Q$1:Q1970,1)+1)","v":{"$error":"#NUM!"}},{"$error":"#NUM!"},null,null,null,null,null,null,0,{"$error":"#VALUE!"},3999,"","",null,null,null,null,{"$error":"#VALUE!"},{"$error":"#VALUE!"},{"$f":"COUNTIF('Standards LOOKUP'!B:B,AI1971)","v":0},{"$f":"IFERROR(INDEX('Standards LOOKUP'!C:C,MATCH(AI1971,'Standards LOOKUP'!B:B,0),0),0)","v":0},{"$f":"IFERROR(INDEX('Current Standards'!P:P,MATCH('Sheet Counter'!AI1971,'Current Standards'!O:O,0),0),\"\")","v":""}]
[null,null,0,"","",{"$error":"#VALUE!"},"",{"$f":"IF(I1975=\"\",\"\",LARGE(H$1:H1974,1)+1)","v":{"$error":"#VALUE!"}},{"$error":"#VALUE!"},null,null,null,null,null,1974,0,{"$f":"IF(R1975=\"\",\"\",LARGE(Q$1:Q1974,1)+1)","v":{"$error":"#NUM!"}},{"$error":"#NUM!"},null,null,null,null,null,null,0,{"$error":"#VALUE!"},3999,"","",null,null,null,null,{"$error":"#VALUE!"},{"$error":"#VALUE!"},{"$f":"COUNTIF('Standards LOOKUP'!B:B,AI1975)","v":0},{"$f":"IFERROR(INDEX('Standards LOOKUP'!C:C,MATCH(AI1975,'Standards LOOKUP'!B:B,0),0),0)","v":0},{"$f":"IFERROR(INDEX('Current Standards'!P:P,MATCH('Sheet Counter'!AI1975,'Current Standards'!O:O,0),0),\"\")","v":""}]
[null,null,0,"","",{"$error":"#VALUE!"},"",{"$f":"IF(I1978=\"\",\"\",LARGE(H$1:H1977,1)+1)","v":{"$error":"#VALUE!"}},{"$error":"#VALUE!"},null,null,null,null,null,1977,0,{"$f":"IF(R1978=\"\",\"\",LARGE(Q$1:Q1977,1)+1)","v":{"$error":"#NUM!"}},{"$error":"#NUM!"},null,null,null,null,null,null,0,{"$error":"#VALUE!"},3999,"","",null,null,null,null,{"$error":"#VALUE!"},{"$error":"#VALUE!"},{"$f":"COUNTIF('Standards LOOKUP'!B:B,AI1978)","v":0},{"$f":"IFERROR(INDEX('Standards LOOKUP'!C:C,MATCH(AI1978,'Standards LOOKUP'!B:B,0),0),0)","v":0},{"$f":"IFERROR(INDEX('Current Standards'!P:P,MATCH('Sheet Counter'!AI1978,'Current Standards'!O:O,0),0),\"\")","v":""}]
[null,null,0,"","",{"$error":"#VALUE!"},"",{"$f":"IF(I1981=\"\",\"\",LARGE(H$1:H1980,1)+1)","v":{"$error":"#VALUE!"}},{"$error":"#VALUE!"},null,null,null,null,null,1980,0,{"$f":"IF(R1981=\"\",\"\",LARGE(Q$1:Q1980,1)+1)","v":{"$error":"#NUM!"}},{"$error":"#NUM!"},null,null,null,null,null,null,0,{"$error":"#VALUE!"},3999,"","",null,null,null,null,{"$error":"#VALUE!"},{"$error":"#VALUE!"},{"$f":"COUNTIF('Standards LOOKUP'!B:B,AI1981)","v":0},{"$f":"IFERROR(INDEX('Standards LOOKUP'!C:C,MATCH(AI1981,'Standards LOOKUP'!B:B,0),0),0)","v":0},{"$f":"IFERROR(INDEX('Current Standards'!P:P,MATCH('Sheet Counter'!AI1981,'Current Standards'!O:O,0),0),\"\")","v":""}]
[null,null,0,"","",{"$error":"#VALUE!"},"",{"$f":"IF(I1984=\"\",\"\",LARGE(H$1:H1983,1)+1)","v":{"$error":"#VALUE!"}},{"$error":"#VALUE!"},null,null,null,null,null,1983,0,{"$f":"IF(R1984=\"\",\"\",LARGE(Q$1:Q1983,1)+1)","v":{"$error":"#NUM!"}},{"$error":"#NUM!"},null,null,null,null,null,null,0,{"$error":"#VALUE!"},3999,"","",null,null,null,null,{"$error":"#VALUE!"},{"$error":"#VALUE!"},{"$f":"COUNTIF('Standards LOOKUP'!B:B,AI1984)","v":0},{"$f":"IFERROR(INDEX('Standards LOOKUP'!C:C,MATCH(AI1984,'Standards LOOKUP'!B:B,0),0),0)","v":0},{"$f":"IFERROR(INDEX('Current Standards'!P:P,MATCH('Sheet Counter'!AI1984,'Current Standards'!O:O,0),0),\"\")","v":""}]
[null,null,{"$f":"IF(ISERROR(FIND(\"\\\",A1987)),A1987,RIGHT(A1987,LEN(A1987)-FIND(\"~\",SUBSTITUTE(A1987,\"\\\",\"~\",LEN(A1987)-LEN(SUBSTITUTE(A1987,\"\\\",\"\"))))))","v":0},{"$f":"IF(AL1987=\"\",\"\",AL1987)","v":""},"",{"$f":"LEFT(C1987,FIND(\"-\",SUBSTITUTE(SUBSTITUTE(C1987,\"_\",\"-\"),\" \",\"-\"))-1)","v":{"$error":"#VALUE!"}},{"$f":"IF(ISNUMBER(F1987*1),F1987*1,\"\")","v":""},{"$f":"IF(I1987=\"\",\"\",LARGE(H$1:H1986,1)+1)","v":{"$error":"#VALUE!"}},{"$error":"#VALUE!"},null,null,null,null,null,1986,0,{"$f":"IF(R1987=\"\",\"\",LARGE(Q$1:Q1986,1)+1)","v":{"$error":"#NUM!"}},{"$error":"#NUM!"},null,null,null,null,null,null,{"$f":"IF(ISERROR(FIND(\"\\\",X1987)),X1987,RIGHT(X1987,LEN(X1987)-FIND(\"~\",SUBSTITUTE(X1987,\"\\\",\"~\",LEN(X1987)-LEN(SUBSTITUTE(X1987,\"\\\",\"\"))))))","v":0},{"$f":"LEFT(Y1987,FIND(\"-\",SUBSTITUTE(SUBSTITUTE(Y1987,\"_\",\"-\"),\" \",\"-\"))-1)","v":{"$error":"#VALUE!"}},{"$f":"COUNTIF(F:F,Z1987)","v":3999},{"$f":"IF(OR(AA1987<1,ISERROR(Z1987)),\"\",INDEX(C:C,MATCH(Z1987,F:F)))","v":""},{"$f":"IF(AA1987=0,\"New Sheet\",IF(EXACT(UPPER(Y1987),UPPER(AB1987)),\"Match\",\"\"))","v":""},null,null,null,null,{"$f":"IF(C1987=\"\",\"\",LEFT(RIGHT(C1987,LEN(C1987)-SEARCH(\" \",C1987,1)),LEN(RIGHT(C1987,LEN(C1987)-SEARCH(\" \",C1987,1)))-4))","v":{"$error":"#VALUE!"}},{"$f":"TRIM(SUBSTITUTE(SUBSTITUTE(SUBSTITUTE(SUBSTITUTE(SUBSTITUTE(SUBSTITUTE(AH1987,\"(\",\"\"),\")\",\"\"),\"-\",\"\"),\"&\",\"\"),\" \",\"\",1),\" \",\"\",1))","v":{"$error":"#VALUE!"}},{"$f":"COUNTIF('Standards LOOKUP'!B:B,AI1987)","v":0},{"$f":"IFERROR(INDEX('Standards LOOKUP'!C:C,MATCH(AI1987,'Standards LOOKUP'!B:B,0),0),0)","v":0},{"$f":"IFERROR(INDEX('Current Standards'!P:P,MATCH('Sheet Counter'!AI1987,'Current Standards'!O:O,0),0),\"\")","v":""}]
[null,null,0,"","",{"$error":"#VALUE!"},"",{"$f":"IF(I1988=\"\",\"\",LARGE(H$1:H1987,1)+1)","v":{"$error":"#VALUE!"}},{"$error":"#VALUE!"},null,null,null,null,null,1987,0,{"$f":"IF(R1988=\"\",\"\",LARGE(Q$1:Q1987,1)+1)","v":{"$error":"#NUM!"}},{"$f":"IF(AND(P1988<>1,O1988<=LARGE(G:G,1),O1988>=SMALL(G:G,1)),O1988,\"\")","v":{"$error":"#NUM!"}},null,null,null,null,null,null,0,{"$error":"#VALUE!"},3999,"","",null,null,null,null,{"$error":"#VALUE!"},{"$error":"#VALUE!"},{"$f":"COUNTIF('Standards LOOKUP'!B:B,AI1988)","v":0},{"$f":"IFERROR(INDEX('Standards LOOKUP'!C:C,MATCH(AI1988,'Standards LOOKUP'!B:B,0),0),0)","v":0},{"$f":"IFERROR(INDEX('Current Standards'!P:P,MATCH('Sheet Counter'!AI1988,'Current Standards'!O:O,0),0),\"\")","v":""}]
[null,null,0,"","",{"$error":"#VALUE!"},"",{"$f":"IF(I1992=\"\",\"\",LARGE(H$1:H1991,1)+1)","v":{"$error":"#VALUE!"}},{"$error":"#VALUE!"},null,null,null,null,null,1991,0,{"$f":"IF(R1992=\"\",\"\",LARGE(Q$1:Q1991,1)+1)","v":{"$error":"#NUM!"}},{"$error":"#NUM!"},null,null,null,null,null,null,0,{"$error":"#VALUE!"},3999,"","",null,null,null,null,{"$error":"#VALUE!"},{"$error":"#VALUE!"},{"$f":"COUNTIF('Standards LOOKUP'!B:B,AI1992)","v":0},{"$f":"IFERROR(INDEX('Standards LOOKUP'!C:C,MATCH(AI1992,'Standards LOOKUP'!B:B,0),0),0)","v":0},{"$f":"IFERROR(INDEX('Current Standards'!P:P,MATCH('Sheet Counter'!AI1992,'Current Standards'!O:O,0),0),\"\")","v":""}]
[null,null,0,"","",{"$error":"#VALUE!"},"",{"$f":"IF(I1993=\"\",\"\",LARGE(H$1:H1992,1)+1)","v":{"$error":"#VALUE!"}},{"$error":"#VALUE!"},null,null,null,null,null,1992,0,{"$f":"IF(R1993=\"\",\"\",LARGE(Q$1:Q1992,1)+1)","v":{"$error":"#NUM!"}},{"$error":"#NUM!"},null,null,null,null,null,null,0,{"$error":"#VALUE!"},3999,"","",null,null,null,null,{"$error":"#VALUE!"},{"$error":"#VALUE!"},{"$f":"COUNTIF('Standards LOOKUP'!B:B,AI1993)","v":0},{"$f":"IFERROR(INDEX('Standards LOOKUP'!C:C,MATCH(AI1993,'Standards LOOKUP'!B:B,0),0),0)","v":0},{"$f":"IFERROR(INDEX('Current Standards'!P:P,MATCH('Sheet Counter'!AI1993,'Current Standards'!O:O,0),0),\"\")","v":""}]
[null,null,0,"","",{"$error":"#VALUE!"},"",{"$f":"IF(I1997=\"\",\"\",LARGE(H$1:H1996,1)+1)","v":{"$error":"#VALUE!"}},{"$error":"#VALUE!"},null,null,null,null,null,1996,0,{"$f":"IF(R1997=\"\",\"\",LARGE(Q$1:Q1996,1)+1)","v":{"$error":"#NUM!"}},{"$error":"#NUM!"},null,null,null,null,null,null,0,{"$error":"#VALUE!"},3999,"","",null,null,null,null,{"$error":"#VALUE!"},{"$error":"#VALUE!"},{"$f":"COUNTIF('Standards LOOKUP'!B:B,AI1997)","v":0},{"$f":"IFERROR(INDEX('Standards LOOKUP'!C:C,MATCH(AI1997,'Standards LOOKUP'!B:B,0),0),0)","v":0},{"$f":"IFERROR(INDEX('Current Standards'!P:P,MATCH('Sheet Counter'!AI1997,'Current Standards'!O:O,0),0),\"\")","v":""}]
[null,null,0,"","",{"$error":"#VALUE!"},"",{"$f":"IF(I2000=\"\",\"\",LARGE(H$1:H1999,1)+1)","v":{"$error":"#VALUE!"}},{"$error":"#VALUE!"},null,null,null,null,null,1999,0,{"$f":"IF(R2000=\"\",\"\",LARGE(Q$1:Q1999,1)+1)","v":{"$error":"#NUM!"}},{"$error":"#NUM!"},null,null,null,null,null,null,0,{"$error":"#VALUE!"},3999,"","",null,null,null,null,{"$error":"#VALUE!"},{"$error":"#VALUE!"},{"$f":"COUNTIF('Standards LOOKUP'!B:B,AI2000)","v":0},{"$f":"IFERROR(INDEX('Standards LOOKUP'!C:C,MATCH(AI2000,'Standards LOOKUP'!B:B,0),0),0)","v":0},{"$f":"IFERROR(INDEX('Current Standards'!P:P,MATCH('Sheet Counter'!AI2000,'Current Standards'!O:O,0),0),\"\")","v":""}]
[null,null,0,"","",{"$error":"#VALUE!"},"",{"$f":"IF(I2003=\"\",\"\",LARGE(H$1:H2002,1)+1)","v":{"$error":"#VALUE!"}},{"$error":"#VALUE!"},null,null,null,null,null,2002,0,{"$f":"IF(R2003=\"\",\"\",LARGE(Q$1:Q2002,1)+1)","v":{"$error":"#NUM!"}},{"$error":"#NUM!"},null,null,null,null,null,null,0,{"$error":"#VALUE!"},3999,"","",null,null,null,null,{"$error":"#VALUE!"},{"$error":"#VALUE!"},{"$f":"COUNTIF('Standards LOOKUP'!B:B,AI2003)","v":0},{"$f":"IFERROR(INDEX('Standards LOOKUP'!C:C,MATCH(AI2003,'Standards LOOKUP'!B:B,0),0),0)","v":0},{"$f":"IFERROR(INDEX('Current Standards'!P:P,MATCH('Sheet Counter'!AI2003,'Current Standards'!O:O,0),0),\"\")","v":""}]
[null,null,0,"","",{"$error":"#VALUE!"},"",{"$f":"IF(I2006=\"\",\"\",LARGE(H$1:H2005,1)+1)","v":{"$error":"#VALUE!"}},{"$error":"#VALUE!"},null,null,null,null,null,2005,0,{"$f":"IF(R2006=\"\",\"\",LARGE(Q$1:Q2005,1)+1)","v":{"$error":"#NUM!"}},{"$error":"#NUM!"},null,null,null,null,null,null,0,{"$error":"#VALUE!"},3999,"","",null,null,null,null,{"$error":"#VALUE!"},{"$error":"#VALUE!"},{"$f":"COUNTIF('Standards LOOKUP'!B:B,AI2006)","v":0},{"$f":"IFERROR(INDEX('Standards LOOKUP'!C:C,MATCH(AI2006,'Standards LOOKUP'!B:B,0),0),0)","v":0},{"$f":"IFERROR(INDEX('Current Standards'!P:P,MATCH('Sheet Counter'!AI2006,'Current Standards'!O:O,0),0),\"\")","v":""}]
[null,null,0,"","",{"$error":"#VALUE!"},"",{"$f":"IF(I2009=\"\",\"\",LARGE(H$1:H2008,1)+1)","v":{"$error":"#VALUE!"}},{"$error":"#VALUE!"},null,null,null,null,null,2008,0,{"$f":"IF(R2009=\"\",\"\",LARGE(Q$1:Q2008,1)+1)","v":{"$error":"#NUM!"}},{"$error":"#NUM!"},null,null,null,null,null,null,0,{"$error":"#VALUE!"},3999,"","",null,null,null,null,{"$error":"#VALUE!"},{"$error":"#VALUE!"},{"$f":"COUNTIF('Standards LOOKUP'!B:B,AI2009)","v":0},{"$f":"IFERROR(INDEX('Standards LOOKUP'!C:C,MATCH(AI2009,'Standards LOOKUP'!B:B,0),0),0)","v":0},{"$f":"IFERROR(INDEX('Current Standards'!P:P,MATCH('Sheet Counter'!AI2009,'Current Standards'!O:O,0),0),\"\")","v":""}]
[null,null,0,"","",{"$error":"#VALUE!"},"",{"$f":"IF(I2010=\"\",\"\",LARGE(H$1:H2009,1)+1)","v":{"$error":"#VALUE!"}},{"$error":"#VALUE!"},null,null,null,null,null,2009,0,{"$f":"IF(R2010=\"\",\"\",LARGE(Q$1:Q2009,1)+1)","v":{"$error":"#NUM!"}},{"$error":"#NUM!"},null,null,null,null,null,null,0,{"$error":"#VALUE!"},3999,"","",null,null,null,null,{"$error":"#VALUE!"},{"$error":"#VALUE!"},{"$f":"COUNTIF('Standards LOOKUP'!B:B,AI2010)","v":0},{"$f":"IFERROR(INDEX('Standards LOOKUP'!C:C,MATCH(AI2010,'Standards LOOKUP'!B:B,0),0),0)","v":0},{"$f":"IFERROR(INDEX('Current Standards'!P:P,MATCH('Sheet Counter'!AI2010,'Current Standards'!O:O,0),0),\"\")","v":""}]
[null,null,0,"","",{"$error":"#VALUE!"},"",{"$f":"IF(I2014=\"\",\"\",LARGE(H$1:H2013,1)+1)","v":{"$error":"#VALUE!"}},{"$error":"#VALUE!"},null,null,null,null,null,2013,0,{"$f":"IF(R2014=\"\",\"\",LARGE(Q$1:Q2013,1)+1)","v":{"$error":"#NUM!"}},{"$error":"#NUM!"},null,null,null,null,null,null,0,{"$error":"#VALUE!"},3999,"","",null,null,null,null,{"$error":"#VALUE!"},{"$error":"#VALUE!"},{"$f":"COUNTIF('Standards LOOKUP'!B:B,AI2014)","v":0},{"$f":"IFERROR(INDEX('Standards LOOKUP'!C:C,MATCH(AI2014,'Standards LOOKUP'!B:B,0),0),0)","v":0},{"$f":"IFERROR(INDEX('Current Standards'!P:P,MATCH('Sheet Counter'!AI2014,'Current Standards'!O:O,0),0),\"\")","v":""}]
[null,null,0,"","",{"$error":"#VALUE!"},"",{"$f":"IF(I2015=\"\",\"\",LARGE(H$1:H2014,1)+1)","v":{"$error":"#VALUE!"}},{"$error":"#VALUE!"},null,null,null,null,null,2014,0,{"$f":"IF(R2015=\"\",\"\",LARGE(Q$1:Q2014,1)+1)","v":{"$error":"#NUM!"}},{"$error":"#NUM!"},null,null,null,null,null,null,0,{"$error":"#VALUE!"},3999,"","",null,null,null,null,{"$error":"#VALUE!"},{"$error":"#VALUE!"},{"$f":"COUNTIF('Standards LOOKUP'!B:B,AI2015)","v":0},{"$f":"IFERROR(INDEX('Standards LOOKUP'!C:C,MATCH(AI2015,'Standards LOOKUP'!B:B,0),0),0)","v":0},{"$f":"IFERROR(INDEX('Current Standards'!P:P,MATCH('Sheet Counter'!AI2015,'Current Standards'!O:O,0),0),\"\")","v":""}]
[null,null,0,"","",{"$error":"#VALUE!"},"",{"$f":"IF(I2019=\"\",\"\",LARGE(H$1:H2018,1)+1)","v":{"$error":"#VALUE!"}},{"$error":"#VALUE!"},null,null,null,null,null,2018,0,{"$f":"IF(R2019=\"\",\"\",LARGE(Q$1:Q2018,1)+1)","v":{"$error":"#NUM!"}},{"$error":"#NUM!"},null,null,null,null,null,null,0,{"$error":"#VALUE!"},3999,"","",null,null,null,null,{"$error":"#VALUE!"},{"$error":"#VALUE!"},{"$f":"COUNTIF('Standards LOOKUP'!B:B,AI2019)","v":0},{"$f":"IFERROR(INDEX('Standards LOOKUP'!C:C,MATCH(AI2019,'Standards LOOKUP'!B:B,0),0),0)","v":0},{"$f":"IFERROR(INDEX('Current Standards'!P:P,MATCH('Sheet Counter'!AI2019,'Current Standards'!O:O,0),0),\"\")","v":""}]
[null,null,0,"","",{"$error":"#VALUE!"},"",{"$f":"IF(I2022=\"\",\"\",LARGE(H$1:H2021,1)+1)","v":{"$error":"#VALUE!"}},{"$error":"#VALUE!"},null,null,null,null,null,2021,0,{"$f":"IF(R2022=\"\",\"\",LARGE(Q$1:Q2021,1)+1)","v":{"$error":"#NUM!"}},{"$error":"#NUM!"},null,null,null,null,null,null,0,{"$error":"#VALUE!"},3999,"","",null,null,null,null,{"$error":"#VALUE!"},{"$error":"#VALUE!"},{"$f":"COUNTIF('Standards LOOKUP'!B:B,AI2022)","v":0},{"$f":"IFERROR(INDEX('Standards LOOKUP'!C:C,MATCH(AI2022,'Standards LOOKUP'!B:B,0),0),0)","v":0},{"$f":"IFERROR(INDEX('Current Standards'!P:P,MATCH('Sheet Counter'!AI2022,'Current Standards'!O:O,0),0),\"\")","v":""}]
[null,null,0,"","",{"$error":"#VALUE!"},"",{"$f":"IF(I2025=\"\",\"\",LARGE(H$1:H2024,1)+1)","v":{"$error":"#VALUE!"}},{"$error":"#VALUE!"},null,null,null,null,null,2024,0,{"$f":"IF(R2025=\"\",\"\",LARGE(Q$1:Q2024,1)+1)","v":{"$error":"#NUM!"}},{"$error":"#NUM!"},null,null,null,null,null,null,0,{"$error":"#VALUE!"},3999,"","",null,null,null,null,{"$error":"#VALUE!"},{"$error":"#VALUE!"},{"$f":"COUNTIF('Standards LOOKUP'!B:B,AI2025)","v":0},{"$f":"IFERROR(INDEX('Standards LOOKUP'!C:C,MATCH(AI2025,'Standards LOOKUP'!B:B,0),0),0)","v":0},{"$f":"IFERROR(INDEX('Current Standards'!P:P,MATCH('Sheet Counter'!AI2025,'Current Standards'!O:O,0),0),\"\")","v":""}]
[null,null,0,"","",{"$error":"#VALUE!"},"",{"$f":"IF(I2028=\"\",\"\",LARGE(H$1:H2027,1)+1)","v":{"$error":"#VALUE!"}},{"$error":"#VALUE!"},null,null,null,null,null,2027,0,{"$f":"IF(R2028=\"\",\"\",LARGE(Q$1:Q2027,1)+1)","v":{"$error":"#NUM!"}},{"$error":"#NUM!"},null,null,null,null,null,null,0,{"$error":"#VALUE!"},3999,"","",null,null,null,null,{"$error":"#VALUE!"},{"$error":"#VALUE!"},{"$f":"COUNTIF('Standards LOOKUP'!B:B,AI2028)","v":0},{"$f":"IFERROR(INDEX('Standards LOOKUP'!C:C,MATCH(AI2028,'Standards LOOKUP'!B:B,0),0),0)","v":0},{"$f":"IFERROR(INDEX('Current Standards'!P:P,MATCH('Sheet Counter'!AI2028,'Current Standards'!O:O,0),0),\"\")","v":""}]
[null,null,0,"","",{"$error":"#VALUE!"},"",{"$f":"IF(I2031=\"\",\"\",LARGE(H$1:H2030,1)+1)","v":{"$error":"#VALUE!"}},{"$error":"#VALUE!"},null,null,null,null,null,2030,0,{"$f":"IF(R2031=\"\",\"\",LARGE(Q$1:Q2030,1)+1)","v":{"$error":"#NUM!"}},{"$error":"#NUM!"},null,null,null,null,null,null,0,{"$error":"#VALUE!"},3999,"","",null,null,null,null,{"$error":"#VALUE!"},{"$error":"#VALUE!"},{"$f":"COUNTIF('Standards LOOKUP'!B:B,AI2031)","v":0},{"$f":"IFERROR(INDEX('Standards LOOKUP'!C:C,MATCH(AI2031,'Standards LOOKUP'!B:B,0),0),0)","v":0},{"$f":"IFERROR(INDEX('Current Standards'!P:P,MATCH('Sheet Counter'!AI2031,'Current Standards'!O:O,0),0),\"\")","v":""}]
[null,null,0,"","",{"$error":"#VALUE!"},"",{"$f":"IF(I2032=\"\",\"\",LARGE(H$1:H2031,1)+1)","v":{"$error":"#VALUE!"}},{"$error":"#VALUE!"},null,null,null,null,null,2031,0,{"$f":"IF(R2032=\"\",\"\",LARGE(Q$1:Q2031,1)+1)","v":{"$error":"#NUM!"}},{"$error":"#NUM!"},null,null,null,null,null,null,0,{"$error":"#VALUE!"},3999,"","",null,null,null,null,{"$error":"#VALUE!"},{"$error":"#VALUE!"},{"$f":"COUNTIF('Standards LOOKUP'!B:B,AI2032)","v":0},{"$f":"IFERROR(INDEX('Standards LOOKUP'!C:C,MATCH(AI2032,'Standards LOOKUP'!B:B,0),0),0)","v":0},{"$f":"IFERROR(INDEX('Current Standards'!P:P,MATCH('Sheet Counter'!AI2032,'Current Standards'!O:O,0),0),\"\")","v":""}]
[null,null,0,"","",{"$error":"#VALUE!"},"",{"$f":"IF(I2036=\"\",\"\",LARGE(H$1:H2035,1)+1)","v":{"$error":"#VALUE!"}},{"$error":"#VALUE!"},null,null,null,null,null,2035,0,{"$f":"IF(R2036=\"\",\"\",LARGE(Q$1:Q2035,1)+1)","v":{"$error":"#NUM!"}},{"$error":"#NUM!"},null,null,null,null,null,null,0,{"$error":"#VALUE!"},3999,"","",null,null,null,null,{"$error":"#VALUE!"},{"$error":"#VALUE!"},{"$f":"COUNTIF('Standards LOOKUP'!B:B,AI2036)","v":0},{"$f":"IFERROR(INDEX('Standards LOOKUP'!C:C,MATCH(AI2036,'Standards LOOKUP'!B:B,0),0),0)","v":0},{"$f":"IFERROR(INDEX('Current Standards'!P:P,MATCH('Sheet Counter'!AI2036,'Current Standards'!O:O,0),0),\"\")","v":""}]
[null,null,0,"","",{"$error":"#VALUE!"},"",{"$f":"IF(I2038=\"\",\"\",LARGE(H$1:H2037,1)+1)","v":{"$error":"#VALUE!"}},{"$error":"#VALUE!"},null,null,null,null,null,2037,0,{"$f":"IF(R2038=\"\",\"\",LARGE(Q$1:Q2037,1)+1)","v":{"$error":"#NUM!"}},{"$error":"#NUM!"},null,null,null,null,null,null,0,{"$error":"#VALUE!"},3999,"","",null,null,null,null,{"$error":"#VALUE!"},{"$error":"#VALUE!"},{"$f":"COUNTIF('Standards LOOKUP'!B:B,AI2038)","v":0},{"$f":"IFERROR(INDEX('Standards LOOKUP'!C:C,MATCH(AI2038,'Standards LOOKUP'!B:B,0),0),0)","v":0},{"$f":"IFERROR(INDEX('Current Standards'!P:P,MATCH('Sheet Counter'!AI2038,'Current Standards'!O:O,0),0),\"\")","v":""}]
[null,null,0,"","",{"$error":"#VALUE!"},"",{"$f":"IF(I2041=\"\",\"\",LARGE(H$1:H2040,1)+1)","v":{"$error":"#VALUE!"}},{"$error":"#VALUE!"},null,null,null,null,null,2040,0,{"$f":"IF(R2041=\"\",\"\",LARGE(Q$1:Q2040,1)+1)","v":{"$error":"#NUM!"}},{"$error":"#NUM!"},null,null,null,null,null,null,0,{"$error":"#VALUE!"},3999,"","",null,null,null,null,{"$error":"#VALUE!"},{"$error":"#VALUE!"},{"$f":"COUNTIF('Standards LOOKUP'!B:B,AI2041)","v":0},{"$f":"IFERROR(INDEX('Standards LOOKUP'!C:C,MATCH(AI2041,'Standards LOOKUP'!B:B,0),0),0)","v":0},{"$f":"IFERROR(INDEX('Current Standards'!P:P,MATCH('Sheet Counter'!AI2041,'Current Standards'!O:O,0),0),\"\")","v":""}]
[null,null,0,"","",{"$error":"#VALUE!"},"",{"$f":"IF(I2044=\"\",\"\",LARGE(H$1:H2043,1)+1)","v":{"$error":"#VALUE!"}},{"$error":"#VALUE!"},null,null,null,null,null,2043,0,{"$f":"IF(R2044=\"\",\"\",LARGE(Q$1:Q2043,1)+1)","v":{"$error":"#NUM!"}},{"$error":"#NUM!"},null,null,null,null,null,null,0,{"$error":"#VALUE!"},3999,"","",null,null,null,null,{"$error":"#VALUE!"},{"$error":"#VALUE!"},{"$f":"COUNTIF('Standards LOOKUP'!B:B,AI2044)","v":0},{"$f":"IFERROR(INDEX('Standards LOOKUP'!C:C,MATCH(AI2044,'Standards LOOKUP'!B:B,0),0),0)","v":0},{"$f":"IFERROR(INDEX('Current Standards'!P:P,MATCH('Sheet Counter'!AI2044,'Current Standards'!O:O,0),0),\"\")","v":""}]
[null,null,0,"","",{"$error":"#VALUE!"},"",{"$f":"IF(I2047=\"\",\"\",LARGE(H$1:H2046,1)+1)","v":{"$error":"#VALUE!"}},{"$error":"#VALUE!"},null,null,null,null,null,2046,0,{"$f":"IF(R2047=\"\",\"\",LARGE(Q$1:Q2046,1)+1)","v":{"$error":"#NUM!"}},{"$error":"#NUM!"},null,null,null,null,null,null,0,{"$error":"#VALUE!"},3999,"","",null,null,null,null,{"$error":"#VALUE!"},{"$error":"#VALUE!"},{"$f":"COUNTIF('Standards LOOKUP'!B:B,AI2047)","v":0},{"$f":"IFERROR(INDEX('Standards LOOKUP'!C:C,MATCH(AI2047,'Standards LOOKUP'!B:B,0),0),0)","v":0},{"$f":"IFERROR(INDEX('Current Standards'!P:P,MATCH('Sheet Counter'!AI2047,'Current Standards'!O:O,0),0),\"\")","v":""}]
[null,null,0,"","",{"$error":"#VALUE!"},"",{"$f":"IF(I2050=\"\",\"\",LARGE(H$1:H2049,1)+1)","v":{"$error":"#VALUE!"}},{"$f":"IF(G2050=\"\",F2050,\"\")","v":{"$error":"#VALUE!"}},null,null,null,null,null,2049,{"$f":"COUNTIF(G:G,O2050)","v":0},{"$f":"IF(R2050=\"\",\"\",LARGE(Q$1:Q2049,1)+1)","v":{"$error":"#NUM!"}},{"$error":"#NUM!"},null,null,null,null,null,null,0,{"$error":"#VALUE!"},3999,"","",null,null,null,null,{"$error":"#VALUE!"},{"$error":"#VALUE!"},{"$f":"COUNTIF('Standards LOOKUP'!B:B,AI2050)","v":0},{"$f":"IFERROR(INDEX('Standards LOOKUP'!C:C,MATCH(AI2050,'Standards LOOKUP'!B:B,0),0),0)","v":0},{"$f":"IFERROR(INDEX('Current Standards'!P:P,MATCH('Sheet Counter'!AI2050,'Current Standards'!O:O,0),0),\"\")","v":""}]
[null,null,0,"","",{"$error":"#VALUE!"},"",{"$f":"IF(I2053=\"\",\"\",LARGE(H$1:H2052,1)+1)","v":{"$error":"#VALUE!"}},{"$error":"#VALUE!"},null,null,null,null,null,2052,0,{"$f":"IF(R2053=\"\",\"\",LARGE(Q$1:Q2052,1)+1)","v":{"$error":"#NUM!"}},{"$error":"#NUM!"},null,null,null,null,null,null,0,{"$error":"#VALUE!"},3999,"","",null,null,null,null,{"$error":"#VALUE!"},{"$error":"#VALUE!"},{"$f":"COUNTIF('Standards LOOKUP'!B:B,AI2053)","v":0},{"$f":"IFERROR(INDEX('Standards LOOKUP'!C:C,MATCH(AI2053,'Standards LOOKUP'!B:B,0),0),0)","v":0},{"$f":"IFERROR(INDEX('Current Standards'!P:P,MATCH('Sheet Counter'!AI2053,'Current Standards'!O:O,0),0),\"\")","v":""}]
[null,null,0,"","",{"$error":"#VALUE!"},"",{"$f":"IF(I2054=\"\",\"\",LARGE(H$1:H2053,1)+1)","v":{"$error":"#VALUE!"}},{"$error":"#VALUE!"},null,null,null,null,null,2053,0,{"$f":"IF(R2054=\"\",\"\",LARGE(Q$1:Q2053,1)+1)","v":{"$error":"#NUM!"}},{"$error":"#NUM!"},null,null,null,null,null,null,0,{"$error":"#VALUE!"},3999,"","",null,null,null,null,{"$error":"#VALUE!"},{"$error":"#VALUE!"},{"$f":"COUNTIF('Standards LOOKUP'!B:B,AI2054)","v":0},{"$f":"IFERROR(INDEX('Standards LOOKUP'!C:C,MATCH(AI2054,'Standards LOOKUP'!B:B,0),0),0)","v":0},{"$f":"IFERROR(INDEX('Current Standards'!P:P,MATCH('Sheet Counter'!AI2054,'Current Standards'!O:O,0),0),\"\")","v":""}]
[null,null,0,"","",{"$error":"#VALUE!"},"",{"$f":"IF(I2058=\"\",\"\",LARGE(H$1:H2057,1)+1)","v":{"$error":"#VALUE!"}},{"$error":"#VALUE!"},null,null,null,null,null,2057,0,{"$f":"IF(R2058=\"\",\"\",LARGE(Q$1:Q2057,1)+1)","v":{"$error":"#NUM!"}},{"$error":"#NUM!"},null,null,null,null,null,null,0,{"$error":"#VALUE!"},3999,"","",null,null,null,null,{"$error":"#VALUE!"},{"$error":"#VALUE!"},{"$f":"COUNTIF('Standards LOOKUP'!B:B,AI2058)","v":0},{"$f":"IFERROR(INDEX('Standards LOOKUP'!C:C,MATCH(AI2058,'Standards LOOKUP'!B:B,0),0),0)","v":0},{"$f":"IFERROR(INDEX('Current Standards'!P:P,MATCH('Sheet Counter'!AI2058,'Current Standards'!O:O,0),0),\"\")","v":""}]
[null,null,0,"","",{"$error":"#VALUE!"},"",{"$f":"IF(I2060=\"\",\"\",LARGE(H$1:H2059,1)+1)","v":{"$error":"#VALUE!"}},{"$error":"#VALUE!"},null,null,null,null,null,2059,0,{"$f":"IF(R2060=\"\",\"\",LARGE(Q$1:Q2059,1)+1)","v":{"$error":"#NUM!"}},{"$error":"#NUM!"},null,null,null,null,null,null,0,{"$error":"#VALUE!"},3999,"","",null,null,null,null,{"$error":"#VALUE!"},{"$error":"#VALUE!"},{"$f":"COUNTIF('Standards LOOKUP'!B:B,AI2060)","v":0},{"$f":"IFERROR(INDEX('Standards LOOKUP'!C:C,MATCH(AI2060,'Standards LOOKUP'!B:B,0),0),0)","v":0},{"$f":"IFERROR(INDEX('Current Standards'!P:P,MATCH('Sheet Counter'!AI2060,'Current Standards'!O:O,0),0),\"\")","v":""}]
[null,null,0,"","",{"$error":"#VALUE!"},"",{"$f":"IF(I2063=\"\",\"\",LARGE(H$1:H2062,1)+1)","v":{"$error":"#VALUE!"}},{"$error":"#VALUE!"},null,null,null,null,null,2062,0,{"$f":"IF(R2063=\"\",\"\",LARGE(Q$1:Q2062,1)+1)","v":{"$error":"#NUM!"}},{"$error":"#NUM!"},null,null,null,null,null,null,0,{"$error":"#VALUE!"},3999,"","",null,null,null,null,{"$error":"#VALUE!"},{"$error":"#VALUE!"},{"$f":"COUNTIF('Standards LOOKUP'!B:B,AI2063)","v":0},{"$f":"IFERROR(INDEX('Standards LOOKUP'!C:C,MATCH(AI2063,'Standards LOOKUP'!B:B,0),0),0)","v":0},{"$f":"IFERROR(INDEX('Current Standards'!P:P,MATCH('Sheet Counter'!AI2063,'Current Standards'!O:O,0),0),\"\")","v":""}]
[null,null,0,"","",{"$error":"#VALUE!"},"",{"$f":"IF(I2066=\"\",\"\",LARGE(H$1:H2065,1)+1)","v":{"$error":"#VALUE!"}},{"$error":"#VALUE!"},null,null,null,null,null,2065,0,{"$f":"IF(R2066=\"\",\"\",LARGE(Q$1:Q2065,1)+1)","v":{"$error":"#NUM!"}},{"$error":"#NUM!"},null,null,null,null,null,null,0,{"$error":"#VALUE!"},3999,"","",null,null,null,null,{"$error":"#VALUE!"},{"$error":"#VALUE!"},{"$f":"COUNTIF('Standards LOOKUP'!B:B,AI2066)","v":0},{"$f":"IFERROR(INDEX('Standards LOOKUP'!C:C,MATCH(AI2066,'Standards LOOKUP'!B:B,0),0),0)","v":0},{"$f":"IFERROR(INDEX('Current Standards'!P:P,MATCH('Sheet Counter'!AI2066,'Current Standards'!O:O,0),0),\"\")","v":""}]
[null,null,0,"","",{"$error":"#VALUE!"},"",{"$f":"IF(I2069=\"\",\"\",LARGE(H$1:H2068,1)+1)","v":{"$error":"#VALUE!"}},{"$error":"#VALUE!"},null,null,null,null,null,2068,0,{"$f":"IF(R2069=\"\",\"\",LARGE(Q$1:Q2068,1)+1)","v":{"$error":"#NUM!"}},{"$error":"#NUM!"},null,null,null,null,null,null,0,{"$error":"#VALUE!"},3999,"","",null,null,null,null,{"$error":"#VALUE!"},{"$error":"#VALUE!"},{"$f":"COUNTIF('Standards LOOKUP'!B:B,AI2069)","v":0},{"$f":"IFERROR(INDEX('Standards LOOKUP'!C:C,MATCH(AI2069,'Standards LOOKUP'!B:B,0),0),0)","v":0},{"$f":"IFERROR(INDEX('Current Standards'!P:P,MATCH('Sheet Counter'!AI2069,'Current Standards'!O:O,0),0),\"\")","v":""}]
[null,null,0,"","",{"$error":"#VALUE!"},"",{"$f":"IF(I2072=\"\",\"\",LARGE(H$1:H2071,1)+1)","v":{"$error":"#VALUE!"}},{"$error":"#VALUE!"},null,null,null,null,null,2071,0,{"$f":"IF(R2072=\"\",\"\",LARGE(Q$1:Q2071,1)+1)","v":{"$error":"#NUM!"}},{"$error":"#NUM!"},null,null,null,null,null,null,0,{"$error":"#VALUE!"},3999,"","",null,null,null,null,{"$error":"#VALUE!"},{"$error":"#VALUE!"},{"$f":"COUNTIF('Standards LOOKUP'!B:B,AI2072)","v":0},{"$f":"IFERROR(INDEX('Standards LOOKUP'!C:C,MATCH(AI2072,'Standards LOOKUP'!B:B,0),0),0)","v":0},{"$f":"IFERROR(INDEX('Current Standards'!P:P,MATCH('Sheet Counter'!AI2072,'Current Standards'!O:O,0),0),\"\")","v":""}]
[null,null,0,"","",{"$error":"#VALUE!"},"",{"$f":"IF(I2075=\"\",\"\",LARGE(H$1:H2074,1)+1)","v":{"$error":"#VALUE!"}},{"$error":"#VALUE!"},null,null,null,null,null,2074,0,{"$f":"IF(R2075=\"\",\"\",LARGE(Q$1:Q2074,1)+1)","v":{"$error":"#NUM!"}},{"$error":"#NUM!"},null,null,null,null,null,null,0,{"$error":"#VALUE!"},3999,"","",null,null,null,null,{"$error":"#VALUE!"},{"$error":"#VALUE!"},{"$f":"COUNTIF('Standards LOOKUP'!B:B,AI2075)","v":0},{"$f":"IFERROR(INDEX('Standards LOOKUP'!C:C,MATCH(AI2075,'Standards LOOKUP'!B:B,0),0),0)","v":0},{"$f":"IFERROR(INDEX('Current Standards'!P:P,MATCH('Sheet Counter'!AI2075,'Current Standards'!O:O,0),0),\"\")","v":""}]
[null,null,0,"","",{"$error":"#VALUE!"},"",{"$f":"IF(I2076=\"\",\"\",LARGE(H$1:H2075,1)+1)","v":{"$error":"#VALUE!"}},{"$error":"#VALUE!"},null,null,null,null,null,2075,0,{"$f":"IF(R2076=\"\",\"\",LARGE(Q$1:Q2075,1)+1)","v":{"$error":"#NUM!"}},{"$error":"#NUM!"},null,null,null,null,null,null,0,{"$error":"#VALUE!"},3999,"","",null,null,null,null,{"$error":"#VALUE!"},{"$error":"#VALUE!"},{"$f":"COUNTIF('Standards LOOKUP'!B:B,AI2076)","v":0},{"$f":"IFERROR(INDEX('Standards LOOKUP'!C:C,MATCH(AI2076,'Standards LOOKUP'!B:B,0),0),0)","v":0},{"$f":"IFERROR(INDEX('Current Standards'!P:P,MATCH('Sheet Counter'!AI2076,'Current Standards'!O:O,0),0),\"\")","v":""}]
[null,null,0,"","",{"$error":"#VALUE!"},"",{"$f":"IF(I2080=\"\",\"\",LARGE(H$1:H2079,1)+1)","v":{"$error":"#VALUE!"}},{"$error":"#VALUE!"},null,null,null,null,null,2079,0,{"$f":"IF(R2080=\"\",\"\",LARGE(Q$1:Q2079,1)+1)","v":{"$error":"#NUM!"}},{"$error":"#NUM!"},null,null,null,null,null,null,0,{"$error":"#VALUE!"},3999,"","",null,null,null,null,{"$error":"#VALUE!"},{"$error":"#VALUE!"},{"$f":"COUNTIF('Standards LOOKUP'!B:B,AI2080)","v":0},{"$f":"IFERROR(INDEX('Standards LOOKUP'!C:C,MATCH(AI2080,'Standards LOOKUP'!B:B,0),0),0)","v":0},{"$f":"IFERROR(INDEX('Current Standards'!P:P,MATCH('Sheet Counter'!AI2080,'Current Standards'!O:O,0),0),\"\")","v":""}]
[null,null,0,"","",{"$error":"#VALUE!"},"",{"$f":"IF(I2082=\"\",\"\",LARGE(H$1:H2081,1)+1)","v":{"$error":"#VALUE!"}},{"$error":"#VALUE!"},null,null,null,null,null,2081,0,{"$f":"IF(R2082=\"\",\"\",LARGE(Q$1:Q2081,1)+1)","v":{"$error":"#NUM!"}},{"$error":"#NUM!"},null,null,null,null,null,null,0,{"$error":"#VALUE!"},3999,"","",null,null,null,null,{"$error":"#VALUE!"},{"$error":"#VALUE!"},{"$f":"COUNTIF('Standards LOOKUP'!B:B,AI2082)","v":0},{"$f":"IFERROR(INDEX('Standards LOOKUP'!C:C,MATCH(AI2082,'Standards LOOKUP'!B:B,0),0),0)","v":0},{"$f":"IFERROR(INDEX('Current Standards'!P:P,MATCH('Sheet Counter'!AI2082,'Current Standards'!O:O,0),0),\"\")","v":""}]
[null,null,0,"","",{"$error":"#VALUE!"},"",{"$f":"IF(I2085=\"\",\"\",LARGE(H$1:H2084,1)+1)","v":{"$error":"#VALUE!"}},{"$error":"#VALUE!"},null,null,null,null,null,2084,0,{"$f":"IF(R2085=\"\",\"\",LARGE(Q$1:Q2084,1)+1)","v":{"$error":"#NUM!"}},{"$error":"#NUM!"},null,null,null,null,null,null,0,{"$error":"#VALUE!"},3999,"","",null,null,null,null,{"$error":"#VALUE!"},{"$error":"#VALUE!"},{"$f":"COUNTIF('Standards LOOKUP'!B:B,AI2085)","v":0},{"$f":"IFERROR(INDEX('Standards LOOKUP'!C:C,MATCH(AI2085,'Standards LOOKUP'!B:B,0),0),0)","v":0},{"$f":"IFERROR(INDEX('Current Standards'!P:P,MATCH('Sheet Counter'!AI2085,'Current Standards'!O:O,0),0),\"\")","v":""}]
[null,null,0,"","",{"$error":"#VALUE!"},"",{"$f":"IF(I2088=\"\",\"\",LARGE(H$1:H2087,1)+1)","v":{"$error":"#VALUE!"}},{"$error":"#VALUE!"},null,null,null,null,null,2087,0,{"$f":"IF(R2088=\"\",\"\",LARGE(Q$1:Q2087,1)+1)","v":{"$error":"#NUM!"}},{"$error":"#NUM!"},null,null,null,null,null,null,0,{"$error":"#VALUE!"},3999,"","",null,null,null,null,{"$error":"#VALUE!"},{"$error":"#VALUE!"},{"$f":"COUNTIF('Standards LOOKUP'!B:B,AI2088)","v":0},{"$f":"IFERROR(INDEX('Standards LOOKUP'!C:C,MATCH(AI2088,'Standards LOOKUP'!B:B,0),0),0)","v":0},{"$f":"IFERROR(INDEX('Current Standards'!P:P,MATCH('Sheet Counter'!AI2088,'Current Standards'!O:O,0),0),\"\")","v":""}]
[null,null,0,"","",{"$error":"#VALUE!"},"",{"$f":"IF(I2091=\"\",\"\",LARGE(H$1:H2090,1)+1)","v":{"$error":"#VALUE!"}},{"$error":"#VALUE!"},null,null,null,null,null,2090,0,{"$f":"IF(R2091=\"\",\"\",LARGE(Q$1:Q2090,1)+1)","v":{"$error":"#NUM!"}},{"$error":"#NUM!"},null,null,null,null,null,null,0,{"$error":"#VALUE!"},3999,"","",null,null,null,null,{"$error":"#VALUE!"},{"$error":"#VALUE!"},{"$f":"COUNTIF('Standards LOOKUP'!B:B,AI2091)","v":0},{"$f":"IFERROR(INDEX('Standards LOOKUP'!C:C,MATCH(AI2091,'Standards LOOKUP'!B:B,0),0),0)","v":0},{"$f":"IFERROR(INDEX('Current Standards'!P:P,MATCH('Sheet Counter'!AI2091,'Current Standards'!O:O,0),0),\"\")","v":""}]
[null,null,0,"","",{"$error":"#VALUE!"},"",{"$f":"IF(I2094=\"\",\"\",LARGE(H$1:H2093,1)+1)","v":{"$error":"#VALUE!"}},{"$error":"#VALUE!"},null,null,null,null,null,2093,0,{"$f":"IF(R2094=\"\",\"\",LARGE(Q$1:Q2093,1)+1)","v":{"$error":"#NUM!"}},{"$error":"#NUM!"},null,null,null,null,null,null,0,{"$error":"#VALUE!"},3999,"","",null,null,null,null,{"$error":"#VALUE!"},{"$error":"#VALUE!"},{"$f":"COUNTIF('Standards LOOKUP'!B:B,AI2094)","v":0},{"$f":"IFERROR(INDEX('Standards LOOKUP'!C:C,MATCH(AI2094,'Standards LOOKUP'!B:B,0),0),0)","v":0},{"$f":"IFERROR(INDEX('Current Standards'!P:P,MATCH('Sheet Counter'!AI2094,'Current Standards'!O:O,0),0),\"\")","v":""}]
[null,null,0,"","",{"$error":"#VALUE!"},"",{"$f":"IF(I2095=\"\",\"\",LARGE(H$1:H2094,1)+1)","v":{"$error":"#VALUE!"}},{"$error":"#VALUE!"},null,null,null,null,null,2094,0,{"$f":"IF(R2095=\"\",\"\",LARGE(Q$1:Q2094,1)+1)","v":{"$error":"#NUM!"}},{"$error":"#NUM!"},null,null,null,null,null,null,0,{"$error":"#VALUE!"},3999,"","",null,null,null,null,{"$error":"#VALUE!"},{"$error":"#VALUE!"},{"$f":"COUNTIF('Standards LOOKUP'!B:B,AI2095)","v":0},{"$f":"IFERROR(INDEX('Standards LOOKUP'!C:C,MATCH(AI2095,'Standards LOOKUP'!B:B,0),0),0)","v":0},{"$f":"IFERROR(INDEX('Current Standards'!P:P,MATCH('Sheet Counter'!AI2095,'Current Standards'!O:O,0),0),\"\")","v":""}]
[null,null,0,"","",{"$error":"#VALUE!"},"",{"$f":"IF(I2098=\"\",\"\",LARGE(H$1:H2097,1)+1)","v":{"$error":"#VALUE!"}},{"$error":"#VALUE!"},null,null,null,null,null,2097,0,{"$f":"IF(R2098=\"\",\"\",LARGE(Q$1:Q2097,1)+1)","v":{"$error":"#NUM!"}},{"$error":"#NUM!"},null,null,null,null,null,null,0,{"$error":"#VALUE!"},3999,"","",null,null,null,null,{"$error":"#VALUE!"},{"$error":"#VALUE!"},{"$f":"COUNTIF('Standards LOOKUP'!B:B,AI2098)","v":0},{"$f":"IFERROR(INDEX('Standards LOOKUP'!C:C,MATCH(AI2098,'Standards LOOKUP'!B:B,0),0),0)","v":0},{"$f":"IFERROR(INDEX('Current Standards'!P:P,MATCH('Sheet Counter'!AI2098,'Current Standards'!O:O,0),0),\"\")","v":""}]
[null,null,0,"","",{"$error":"#VALUE!"},"",{"$f":"IF(I2102=\"\",\"\",LARGE(H$1:H2101,1)+1)","v":{"$error":"#VALUE!"}},{"$error":"#VALUE!"},null,null,null,null,null,2101,0,{"$f":"IF(R2102=\"\",\"\",LARGE(Q$1:Q2101,1)+1)","v":{"$error":"#NUM!"}},{"$error":"#NUM!"},null,null,null,null,null,null,0,{"$error":"#VALUE!"},3999,"","",null,null,null,null,{"$error":"#VALUE!"},{"$error":"#VALUE!"},{"$f":"COUNTIF('Standards LOOKUP'!B:B,AI2102)","v":0},{"$f":"IFERROR(INDEX('Standards LOOKUP'!C:C,MATCH(AI2102,'Standards LOOKUP'!B:B,0),0),0)","v":0},{"$f":"IFERROR(INDEX('Current Standards'!P:P,MATCH('Sheet Counter'!AI2102,'Current Standards'!O:O,0),0),\"\")","v":""}]
[null,null,0,"","",{"$error":"#VALUE!"},"",{"$f":"IF(I2104=\"\",\"\",LARGE(H$1:H2103,1)+1)","v":{"$error":"#VALUE!"}},{"$error":"#VALUE!"},null,null,null,null,null,2103,0,{"$f":"IF(R2104=\"\",\"\",LARGE(Q$1:Q2103,1)+1)","v":{"$error":"#NUM!"}},{"$error":"#NUM!"},null,null,null,null,null,null,0,{"$error":"#VALUE!"},3999,"","",null,null,null,null,{"$error":"#VALUE!"},{"$error":"#VALUE!"},{"$f":"COUNTIF('Standards LOOKUP'!B:B,AI2104)","v":0},{"$f":"IFERROR(INDEX('Standards LOOKUP'!C:C,MATCH(AI2104,'Standards LOOKUP'!B:B,0),0),0)","v":0},{"$f":"IFERROR(INDEX('Current Standards'!P:P,MATCH('Sheet Counter'!AI2104,'Current Standards'!O:O,0),0),\"\")","v":""}]
[null,null,0,"","",{"$error":"#VALUE!"},"",{"$f":"IF(I2107=\"\",\"\",LARGE(H$1:H2106,1)+1)","v":{"$error":"#VALUE!"}},{"$error":"#VALUE!"},null,null,null,null,null,2106,0,{"$f":"IF(R2107=\"\",\"\",LARGE(Q$1:Q2106,1)+1)","v":{"$error":"#NUM!"}},{"$error":"#NUM!"},null,null,null,null,null,null,0,{"$error":"#VALUE!"},3999,"","",null,null,null,null,{"$error":"#VALUE!"},{"$error":"#VALUE!"},{"$f":"COUNTIF('Standards LOOKUP'!B:B,AI2107)","v":0},{"$f":"IFERROR(INDEX('Standards LOOKUP'!C:C,MATCH(AI2107,'Standards LOOKUP'!B:B,0),0),0)","v":0},{"$f":"IFERROR(INDEX('Current Standards'!P:P,MATCH('Sheet Counter'!AI2107,'Current Standards'!O:O,0),0),\"\")","v":""}]
[null,null,0,"","",{"$error":"#VALUE!"},"",{"$f":"IF(I2110=\"\",\"\",LARGE(H$1:H2109,1)+1)","v":{"$error":"#VALUE!"}},{"$error":"#VALUE!"},null,null,null,null,null,2109,0,{"$f":"IF(R2110=\"\",\"\",LARGE(Q$1:Q2109,1)+1)","v":{"$error":"#NUM!"}},{"$error":"#NUM!"},null,null,null,null,null,null,0,{"$error":"#VALUE!"},3999,"","",null,null,null,null,{"$error":"#VALUE!"},{"$error":"#VALUE!"},{"$f":"COUNTIF('Standards LOOKUP'!B:B,AI2110)","v":0},{"$f":"IFERROR(INDEX('Standards LOOKUP'!C:C,MATCH(AI2110,'Standards LOOKUP'!B:B,0),0),0)","v":0},{"$f":"IFERROR(INDEX('Current Standards'!P:P,MATCH('Sheet Counter'!AI2110,'Current Standards'!O:O,0),0),\"\")","v":""}]
[null,null,0,"","",{"$error":"#VALUE!"},"",{"$f":"IF(I2113=\"\",\"\",LARGE(H$1:H2112,1)+1)","v":{"$error":"#VALUE!"}},{"$error":"#VALUE!"},null,null,null,null,null,2112,0,{"$f":"IF(R2113=\"\",\"\",LARGE(Q$1:Q2112,1)+1)","v":{"$error":"#NUM!"}},{"$error":"#NUM!"},null,null,null,null,null,null,0,{"$error":"#VALUE!"},3999,"","",null,null,null,null,{"$error":"#VALUE!"},{"$error":"#VALUE!"},{"$f":"COUNTIF('Standards LOOKUP'!B:B,AI2113)","v":0},{"$f":"IFERROR(INDEX('Standards LOOKUP'!C:C,MATCH(AI2113,'Standards LOOKUP'!B:B,0),0),0)","v":0},{"$f":"IFERROR(INDEX('Current Standards'!P:P,MATCH('Sheet Counter'!AI2113,'Current Standards'!O:O,0),0),\"\")","v":""}]
[null,null,0,"","",{"$error":"#VALUE!"},"",{"$f":"IF(I2116=\"\",\"\",LARGE(H$1:H2115,1)+1)","v":{"$error":"#VALUE!"}},{"$error":"#VALUE!"},null,null,null,null,null,2115,0,{"$f":"IF(R2116=\"\",\"\",LARGE(Q$1:Q2115,1)+1)","v":{"$error":"#NUM!"}},{"$f":"IF(AND(P2116<>1,O2116<=LARGE(G:G,1),O2116>=SMALL(G:G,1)),O2116,\"\")","v":{"$error":"#NUM!"}},null,null,null,null,null,null,0,{"$error":"#VALUE!"},3999,"","",null,null,null,null,{"$error":"#VALUE!"},{"$error":"#VALUE!"},{"$f":"COUNTIF('Standards LOOKUP'!B:B,AI2116)","v":0},{"$f":"IFERROR(INDEX('Standards LOOKUP'!C:C,MATCH(AI2116,'Standards LOOKUP'!B:B,0),0),0)","v":0},{"$f":"IFERROR(INDEX('Current Standards'!P:P,MATCH('Sheet Counter'!AI2116,'Current Standards'!O:O,0),0),\"\")","v":""}]
[null,null,0,"","",{"$error":"#VALUE!"},"",{"$f":"IF(I2117=\"\",\"\",LARGE(H$1:H2116,1)+1)","v":{"$error":"#VALUE!"}},{"$error":"#VALUE!"},null,null,null,null,null,2116,0,{"$f":"IF(R2117=\"\",\"\",LARGE(Q$1:Q2116,1)+1)","v":{"$error":"#NUM!"}},{"$error":"#NUM!"},null,null,null,null,null,null,0,{"$error":"#VALUE!"},3999,"","",null,null,null,null,{"$error":"#VALUE!"},{"$error":"#VALUE!"},{"$f":"COUNTIF('Standards LOOKUP'!B:B,AI2117)","v":0},{"$f":"IFERROR(INDEX('Standards LOOKUP'!C:C,MATCH(AI2117,'Standards LOOKUP'!B:B,0),0),0)","v":0},{"$f":"IFERROR(INDEX('Current Standards'!P:P,MATCH('Sheet Counter'!AI2117,'Current Standards'!O:O,0),0),\"\")","v":""}]
[null,null,0,"","",{"$error":"#VALUE!"},"",{"$f":"IF(I2120=\"\",\"\",LARGE(H$1:H2119,1)+1)","v":{"$error":"#VALUE!"}},{"$error":"#VALUE!"},null,null,null,null,null,2119,0,{"$f":"IF(R2120=\"\",\"\",LARGE(Q$1:Q2119,1)+1)","v":{"$error":"#NUM!"}},{"$error":"#NUM!"},null,null,null,null,null,null,0,{"$error":"#VALUE!"},3999,"","",null,null,null,null,{"$error":"#VALUE!"},{"$error":"#VALUE!"},{"$f":"COUNTIF('Standards LOOKUP'!B:B,AI2120)","v":0},{"$f":"IFERROR(INDEX('Standards LOOKUP'!C:C,MATCH(AI2120,'Standards LOOKUP'!B:B,0),0),0)","v":0},{"$f":"IFERROR(INDEX('Current Standards'!P:P,MATCH('Sheet Counter'!AI2120,'Current Standards'!O:O,0),0),\"\")","v":""}]
[null,null,0,"","",{"$error":"#VALUE!"},"",{"$f":"IF(I2124=\"\",\"\",LARGE(H$1:H2123,1)+1)","v":{"$error":"#VALUE!"}},{"$error":"#VALUE!"},null,null,null,null,null,2123,0,{"$f":"IF(R2124=\"\",\"\",LARGE(Q$1:Q2123,1)+1)","v":{"$error":"#NUM!"}},{"$error":"#NUM!"},null,null,null,null,null,null,0,{"$error":"#VALUE!"},3999,"","",null,null,null,null,{"$error":"#VALUE!"},{"$error":"#VALUE!"},{"$f":"COUNTIF('Standards LOOKUP'!B:B,AI2124)","v":0},{"$f":"IFERROR(INDEX('Standards LOOKUP'!C:C,MATCH(AI2124,'Standards LOOKUP'!B:B,0),0),0)","v":0},{"$f":"IFERROR(INDEX('Current Standards'!P:P,MATCH('Sheet Counter'!AI2124,'Current Standards'!O:O,0),0),\"\")","v":""}]
[null,null,0,"","",{"$error":"#VALUE!"},"",{"$f":"IF(I2126=\"\",\"\",LARGE(H$1:H2125,1)+1)","v":{"$error":"#VALUE!"}},{"$error":"#VALUE!"},null,null,null,null,null,2125,0,{"$f":"IF(R2126=\"\",\"\",LARGE(Q$1:Q2125,1)+1)","v":{"$error":"#NUM!"}},{"$error":"#NUM!"},null,null,null,null,null,null,0,{"$error":"#VALUE!"},3999,"","",null,null,null,null,{"$error":"#VALUE!"},{"$error":"#VALUE!"},{"$f":"COUNTIF('Standards LOOKUP'!B:B,AI2126)","v":0},{"$f":"IFERROR(INDEX('Standards LOOKUP'!C:C,MATCH(AI2126,'Standards LOOKUP'!B:B,0),0),0)","v":0},{"$f":"IFERROR(INDEX('Current Standards'!P:P,MATCH('Sheet Counter'!AI2126,'Current Standards'!O:O,0),0),\"\")","v":""}]
[null,null,0,"","",{"$error":"#VALUE!"},"",{"$f":"IF(I2129=\"\",\"\",LARGE(H$1:H2128,1)+1)","v":{"$error":"#VALUE!"}},{"$error":"#VALUE!"},null,null,null,null,null,2128,0,{"$f":"IF(R2129=\"\",\"\",LARGE(Q$1:Q2128,1)+1)","v":{"$error":"#NUM!"}},{"$error":"#NUM!"},null,null,null,null,null,null,0,{"$error":"#VALUE!"},3999,"","",null,null,null,null,{"$error":"#VALUE!"},{"$error":"#VALUE!"},{"$f":"COUNTIF('Standards LOOKUP'!B:B,AI2129)","v":0},{"$f":"IFERROR(INDEX('Standards LOOKUP'!C:C,MATCH(AI2129,'Standards LOOKUP'!B:B,0),0),0)","v":0},{"$f":"IFERROR(INDEX('Current Standards'!P:P,MATCH('Sheet Counter'!AI2129,'Current Standards'!O:O,0),0),\"\")","v":""}]
[null,null,0,"","",{"$error":"#VALUE!"},"",{"$f":"IF(I2132=\"\",\"\",LARGE(H$1:H2131,1)+1)","v":{"$error":"#VALUE!"}},{"$error":"#VALUE!"},null,null,null,null,null,2131,0,{"$f":"IF(R2132=\"\",\"\",LARGE(Q$1:Q2131,1)+1)","v":{"$error":"#NUM!"}},{"$error":"#NUM!"},null,null,null,null,null,null,0,{"$error":"#VALUE!"},3999,"","",null,null,null,null,{"$error":"#VALUE!"},{"$error":"#VALUE!"},{"$f":"COUNTIF('Standards LOOKUP'!B:B,AI2132)","v":0},{"$f":"IFERROR(INDEX('Standards LOOKUP'!C:C,MATCH(AI2132,'Standards LOOKUP'!B:B,0),0),0)","v":0},{"$f":"IFERROR(INDEX('Current Standards'!P:P,MATCH('Sheet Counter'!AI2132,'Current Standards'!O:O,0),0),\"\")","v":""}]
[null,null,0,"","",{"$error":"#VALUE!"},"",{"$f":"IF(I2135=\"\",\"\",LARGE(H$1:H2134,1)+1)","v":{"$error":"#VALUE!"}},{"$error":"#VALUE!"},null,null,null,null,null,2134,0,{"$f":"IF(R2135=\"\",\"\",LARGE(Q$1:Q2134,1)+1)","v":{"$error":"#NUM!"}},{"$error":"#NUM!"},null,null,null,null,null,null,0,{"$error":"#VALUE!"},3999,"","",null,null,null,null,{"$error":"#VALUE!"},{"$error":"#VALUE!"},{"$f":"COUNTIF('Standards LOOKUP'!B:B,AI2135)","v":0},{"$f":"IFERROR(INDEX('Standards LOOKUP'!C:C,MATCH(AI2135,'Standards LOOKUP'!B:B,0),0),0)","v":0},{"$f":"IFERROR(INDEX('Current Standards'!P:P,MATCH('Sheet Counter'!AI2135,'Current Standards'!O:O,0),0),\"\")","v":""}]
[null,null,0,"","",{"$error":"#VALUE!"},"",{"$f":"IF(I2138=\"\",\"\",LARGE(H$1:H2137,1)+1)","v":{"$error":"#VALUE!"}},{"$error":"#VALUE!"},null,null,null,null,null,2137,0,{"$f":"IF(R2138=\"\",\"\",LARGE(Q$1:Q2137,1)+1)","v":{"$error":"#NUM!"}},{"$error":"#NUM!"},null,null,null,null,null,null,0,{"$error":"#VALUE!"},3999,"","",null,null,null,null,{"$error":"#VALUE!"},{"$error":"#VALUE!"},{"$f":"COUNTIF('Standards LOOKUP'!B:B,AI2138)","v":0},{"$f":"IFERROR(INDEX('Standards LOOKUP'!C:C,MATCH(AI2138,'Standards LOOKUP'!B:B,0),0),0)","v":0},{"$f":"IFERROR(INDEX('Current Standards'!P:P,MATCH('Sheet Counter'!AI2138,'Current Standards'!O:O,0),0),\"\")","v":""}]
[null,null,0,"","",{"$error":"#VALUE!"},"",{"$f":"IF(I2139=\"\",\"\",LARGE(H$1:H2138,1)+1)","v":{"$error":"#VALUE!"}},{"$error":"#VALUE!"},null,null,null,null,null,2138,0,{"$f":"IF(R2139=\"\",\"\",LARGE(Q$1:Q2138,1)+1)","v":{"$error":"#NUM!"}},{"$error":"#NUM!"},null,null,null,null,null,null,0,{"$error":"#VALUE!"},3999,"","",null,null,null,null,{"$error":"#VALUE!"},{"$error":"#VALUE!"},{"$f":"COUNTIF('Standards LOOKUP'!B:B,AI2139)","v":0},{"$f":"IFERROR(INDEX('Standards LOOKUP'!C:C,MATCH(AI2139,'Standards LOOKUP'!B:B,0),0),0)","v":0},{"$f":"IFERROR(INDEX('Current Standards'!P:P,MATCH('Sheet Counter'!AI2139,'Current Standards'!O:O,0),0),\"\")","v":""}]
[null,null,0,"","",{"$error":"#VALUE!"},"",{"$f":"IF(I2142=\"\",\"\",LARGE(H$1:H2141,1)+1)","v":{"$error":"#VALUE!"}},{"$error":"#VALUE!"},null,null,null,null,null,2141,0,{"$f":"IF(R2142=\"\",\"\",LARGE(Q$1:Q2141,1)+1)","v":{"$error":"#NUM!"}},{"$error":"#NUM!"},null,null,null,null,null,null,0,{"$error":"#VALUE!"},3999,"","",null,null,null,null,{"$error":"#VALUE!"},{"$error":"#VALUE!"},{"$f":"COUNTIF('Standards LOOKUP'!B:B,AI2142)","v":0},{"$f":"IFERROR(INDEX('Standards LOOKUP'!C:C,MATCH(AI2142,'Standards LOOKUP'!B:B,0),0),0)","v":0},{"$f":"IFERROR(INDEX('Current Standards'!P:P,MATCH('Sheet Counter'!AI2142,'Current Standards'!O:O,0),0),\"\")","v":""}]
[null,null,0,"","",{"$error":"#VALUE!"},"",{"$f":"IF(I2146=\"\",\"\",LARGE(H$1:H2145,1)+1)","v":{"$error":"#VALUE!"}},{"$error":"#VALUE!"},null,null,null,null,null,2145,0,{"$f":"IF(R2146=\"\",\"\",LARGE(Q$1:Q2145,1)+1)","v":{"$error":"#NUM!"}},{"$error":"#NUM!"},null,null,null,null,null,null,0,{"$error":"#VALUE!"},3999,"","",null,null,null,null,{"$error":"#VALUE!"},{"$error":"#VALUE!"},{"$f":"COUNTIF('Standards LOOKUP'!B:B,AI2146)","v":0},{"$f":"IFERROR(INDEX('Standards LOOKUP'!C:C,MATCH(AI2146,'Standards LOOKUP'!B:B,0),0),0)","v":0},{"$f":"IFERROR(INDEX('Current Standards'!P:P,MATCH('Sheet Counter'!AI2146,'Current Standards'!O:O,0),0),\"\")","v":""}]
[null,null,0,"","",{"$error":"#VALUE!"},"",{"$f":"IF(I2148=\"\",\"\",LARGE(H$1:H2147,1)+1)","v":{"$error":"#VALUE!"}},{"$error":"#VALUE!"},null,null,null,null,null,2147,0,{"$f":"IF(R2148=\"\",\"\",LARGE(Q$1:Q2147,1)+1)","v":{"$error":"#NUM!"}},{"$error":"#NUM!"},null,null,null,null,null,null,0,{"$error":"#VALUE!"},3999,"","",null,null,null,null,{"$error":"#VALUE!"},{"$error":"#VALUE!"},{"$f":"COUNTIF('Standards LOOKUP'!B:B,AI2148)","v":0},{"$f":"IFERROR(INDEX('Standards LOOKUP'!C:C,MATCH(AI2148,'Standards LOOKUP'!B:B,0),0),0)","v":0},{"$f":"IFERROR(INDEX('Current Standards'!P:P,MATCH('Sheet Counter'!AI2148,'Current Standards'!O:O,0),0),\"\")","v":""}]
[null,null,0,"","",{"$error":"#VALUE!"},"",{"$f":"IF(I2151=\"\",\"\",LARGE(H$1:H2150,1)+1)","v":{"$error":"#VALUE!"}},{"$error":"#VALUE!"},null,null,null,null,null,2150,0,{"$f":"IF(R2151=\"\",\"\",LARGE(Q$1:Q2150,1)+1)","v":{"$error":"#NUM!"}},{"$error":"#NUM!"},null,null,null,null,null,null,0,{"$error":"#VALUE!"},3999,"","",null,null,null,null,{"$error":"#VALUE!"},{"$error":"#VALUE!"},{"$f":"COUNTIF('Standards LOOKUP'!B:B,AI2151)","v":0},{"$f":"IFERROR(INDEX('Standards LOOKUP'!C:C,MATCH(AI2151,'Standards LOOKUP'!B:B,0),0),0)","v":0},{"$f":"IFERROR(INDEX('Current Standards'!P:P,MATCH('Sheet Counter'!AI2151,'Current Standards'!O:O,0),0),\"\")","v":""}]
[null,null,0,"","",{"$error":"#VALUE!"},"",{"$f":"IF(I2155=\"\",\"\",LARGE(H$1:H2154,1)+1)","v":{"$error":"#VALUE!"}},{"$error":"#VALUE!"},null,null,null,null,null,2154,0,{"$f":"IF(R2155=\"\",\"\",LARGE(Q$1:Q2154,1)+1)","v":{"$error":"#NUM!"}},{"$error":"#NUM!"},null,null,null,null,null,null,0,{"$error":"#VALUE!"},3999,"","",null,null,null,null,{"$error":"#VALUE!"},{"$error":"#VALUE!"},{"$f":"COUNTIF('Standards LOOKUP'!B:B,AI2155)","v":0},{"$f":"IFERROR(INDEX('Standards LOOKUP'!C:C,MATCH(AI2155,'Standards LOOKUP'!B:B,0),0),0)","v":0},{"$f":"IFERROR(INDEX('Current Standards'!P:P,MATCH('Sheet Counter'!AI2155,'Current Standards'!O:O,0),0),\"\")","v":""}]
[null,null,0,"","",{"$error":"#VALUE!"},"",{"$f":"IF(I2157=\"\",\"\",LARGE(H$1:H2156,1)+1)","v":{"$error":"#VALUE!"}},{"$error":"#VALUE!"},null,null,null,null,null,2156,0,{"$f":"IF(R2157=\"\",\"\",LARGE(Q$1:Q2156,1)+1)","v":{"$error":"#NUM!"}},{"$error":"#NUM!"},null,null,null,null,null,null,0,{"$error":"#VALUE!"},3999,"","",null,null,null,null,{"$error":"#VALUE!"},{"$error":"#VALUE!"},{"$f":"COUNTIF('Standards LOOKUP'!B:B,AI2157)","v":0},{"$f":"IFERROR(INDEX('Standards LOOKUP'!C:C,MATCH(AI2157,'Standards LOOKUP'!B:B,0),0),0)","v":0},{"$f":"IFERROR(INDEX('Current Standards'!P:P,MATCH('Sheet Counter'!AI2157,'Current Standards'!O:O,0),0),\"\")","v":""}]
[null,null,0,"","",{"$error":"#VALUE!"},"",{"$f":"IF(I2160=\"\",\"\",LARGE(H$1:H2159,1)+1)","v":{"$error":"#VALUE!"}},{"$error":"#VALUE!"},null,null,null,null,null,2159,0,{"$f":"IF(R2160=\"\",\"\",LARGE(Q$1:Q2159,1)+1)","v":{"$error":"#NUM!"}},{"$error":"#NUM!"},null,null,null,null,null,null,0,{"$error":"#VALUE!"},3999,"","",null,null,null,null,{"$error":"#VALUE!"},{"$error":"#VALUE!"},{"$f":"COUNTIF('Standards LOOKUP'!B:B,AI2160)","v":0},{"$f":"IFERROR(INDEX('Standards LOOKUP'!C:C,MATCH(AI2160,'Standards LOOKUP'!B:B,0),0),0)","v":0},{"$f":"IFERROR(INDEX('Current Standards'!P:P,MATCH('Sheet Counter'!AI2160,'Current Standards'!O:O,0),0),\"\")","v":""}]
[null,null,0,"","",{"$error":"#VALUE!"},"",{"$f":"IF(I2161=\"\",\"\",LARGE(H$1:H2160,1)+1)","v":{"$error":"#VALUE!"}},{"$error":"#VALUE!"},null,null,null,null,null,2160,0,{"$f":"IF(R2161=\"\",\"\",LARGE(Q$1:Q2160,1)+1)","v":{"$error":"#NUM!"}},{"$error":"#NUM!"},null,null,null,null,null,null,0,{"$error":"#VALUE!"},3999,"","",null,null,null,null,{"$error":"#VALUE!"},{"$error":"#VALUE!"},{"$f":"COUNTIF('Standards LOOKUP'!B:B,AI2161)","v":0},{"$f":"IFERROR(INDEX('Standards LOOKUP'!C:C,MATCH(AI2161,'Standards LOOKUP'!B:B,0),0),0)","v":0},{"$f":"IFERROR(INDEX('Current Standards'!P:P,MATCH('Sheet Counter'!AI2161,'Current Standards'!O:O,0),0),\"\")","v":""}]
[null,null,0,"","",{"$error":"#VALUE!"},"",{"$f":"IF(I2164=\"\",\"\",LARGE(H$1:H2163,1)+1)","v":{"$error":"#VALUE!"}},{"$error":"#VALUE!"},null,null,null,null,null,2163,0,{"$f":"IF(R2164=\"\",\"\",LARGE(Q$1:Q2163,1)+1)","v":{"$error":"#NUM!"}},{"$error":"#NUM!"},null,null,null,null,null,null,0,{"$error":"#VALUE!"},3999,"","",null,null,null,null,{"$error":"#VALUE!"},{"$error":"#VALUE!"},{"$f":"COUNTIF('Standards LOOKUP'!B:B,AI2164)","v":0},{"$f":"IFERROR(INDEX('Standards LOOKUP'!C:C,MATCH(AI2164,'Standards LOOKUP'!B:B,0),0),0)","v":0},{"$f":"IFERROR(INDEX('Current Standards'!P:P,MATCH('Sheet Counter'!AI2164,'Current Standards'!O:O,0),0),\"\")","v":""}]
[null,null,0,"","",{"$error":"#VALUE!"},"",{"$f":"IF(I2168=\"\",\"\",LARGE(H$1:H2167,1)+1)","v":{"$error":"#VALUE!"}},{"$error":"#VALUE!"},null,null,null,null,null,2167,0,{"$f":"IF(R2168=\"\",\"\",LARGE(Q$1:Q2167,1)+1)","v":{"$error":"#NUM!"}},{"$error":"#NUM!"},null,null,null,null,null,null,0,{"$error":"#VALUE!"},3999,"","",null,null,null,null,{"$error":"#VALUE!"},{"$error":"#VALUE!"},{"$f":"COUNTIF('Standards LOOKUP'!B:B,AI2168)","v":0},{"$f":"IFERROR(INDEX('Standards LOOKUP'!C:C,MATCH(AI2168,'Standards LOOKUP'!B:B,0),0),0)","v":0},{"$f":"IFERROR(INDEX('Current Standards'!P:P,MATCH('Sheet Counter'!AI2168,'Current Standards'!O:O,0),0),\"\")","v":""}]
[null,null,0,"","",{"$error":"#VALUE!"},"",{"$f":"IF(I2170=\"\",\"\",LARGE(H$1:H2169,1)+1)","v":{"$error":"#VALUE!"}},{"$error":"#VALUE!"},null,null,null,null,null,2169,0,{"$f":"IF(R2170=\"\",\"\",LARGE(Q$1:Q2169,1)+1)","v":{"$error":"#NUM!"}},{"$error":"#NUM!"},null,null,null,null,null,null,0,{"$error":"#VALUE!"},3999,"","",null,null,null,null,{"$error":"#VALUE!"},{"$error":"#VALUE!"},{"$f":"COUNTIF('Standards LOOKUP'!B:B,AI2170)","v":0},{"$f":"IFERROR(INDEX('Standards LOOKUP'!C:C,MATCH(AI2170,'Standards LOOKUP'!B:B,0),0),0)","v":0},{"$f":"IFERROR(INDEX('Current Standards'!P:P,MATCH('Sheet Counter'!AI2170,'Current Standards'!O:O,0),0),\"\")","v":""}]
[null,null,0,"","",{"$error":"#VALUE!"},"",{"$f":"IF(I2173=\"\",\"\",LARGE(H$1:H2172,1)+1)","v":{"$error":"#VALUE!"}},{"$error":"#VALUE!"},null,null,null,null,null,2172,0,{"$f":"IF(R2173=\"\",\"\",LARGE(Q$1:Q2172,1)+1)","v":{"$error":"#NUM!"}},{"$error":"#NUM!"},null,null,null,null,null,null,0,{"$error":"#VALUE!"},3999,"","",null,null,null,null,{"$error":"#VALUE!"},{"$error":"#VALUE!"},{"$f":"COUNTIF('Standards LOOKUP'!B:B,AI2173)","v":0},{"$f":"IFERROR(INDEX('Standards LOOKUP'!C:C,MATCH(AI2173,'Standards LOOKUP'!B:B,0),0),0)","v":0},{"$f":"IFERROR(INDEX('Current Standards'!P:P,MATCH('Sheet Counter'!AI2173,'Current Standards'!O:O,0),0),\"\")","v":""}]
[null,null,0,"","",{"$error":"#VALUE!"},"",{"$f":"IF(I2177=\"\",\"\",LARGE(H$1:H2176,1)+1)","v":{"$error":"#VALUE!"}},{"$error":"#VALUE!"},null,null,null,null,null,2176,0,{"$f":"IF(R2177=\"\",\"\",LARGE(Q$1:Q2176,1)+1)","v":{"$error":"#NUM!"}},{"$error":"#NUM!"},null,null,null,null,null,null,0,{"$error":"#VALUE!"},3999,"","",null,null,null,null,{"$error":"#VALUE!"},{"$error":"#VALUE!"},{"$f":"COUNTIF('Standards LOOKUP'!B:B,AI2177)","v":0},{"$f":"IFERROR(INDEX('Standards LOOKUP'!C:C,MATCH(AI2177,'Standards LOOKUP'!B:B,0),0),0)","v":0},{"$f":"IFERROR(INDEX('Current Standards'!P:P,MATCH('Sheet Counter'!AI2177,'Current Standards'!O:O,0),0),\"\")","v":""}]
[null,null,{"$f":"IF(ISERROR(FIND(\"\\\",A2179)),A2179,RIGHT(A2179,LEN(A2179)-FIND(\"~\",SUBSTITUTE(A2179,\"\\\",\"~\",LEN(A2179)-LEN(SUBSTITUTE(A2179,\"\\\",\"\"))))))","v":0},{"$f":"IF(AL2179=\"\",\"\",AL2179)","v":""},"",{"$f":"LEFT(C2179,FIND(\"-\",SUBSTITUTE(SUBSTITUTE(C2179,\"_\",\"-\"),\" \",\"-\"))-1)","v":{"$error":"#VALUE!"}},{"$f":"IF(ISNUMBER(F2179*1),F2179*1,\"\")","v":""},{"$f":"IF(I2179=\"\",\"\",LARGE(H$1:H2178,1)+1)","v":{"$error":"#VALUE!"}},{"$error":"#VALUE!"},null,null,null,null,null,2178,0,{"$f":"IF(R2179=\"\",\"\",LARGE(Q$1:Q2178,1)+1)","v":{"$error":"#NUM!"}},{"$error":"#NUM!"},null,null,null,null,null,null,{"$f":"IF(ISERROR(FIND(\"\\\",X2179)),X2179,RIGHT(X2179,LEN(X2179)-FIND(\"~\",SUBSTITUTE(X2179,\"\\\",\"~\",LEN(X2179)-LEN(SUBSTITUTE(X2179,\"\\\",\"\"))))))","v":0},{"$f":"LEFT(Y2179,FIND(\"-\",SUBSTITUTE(SUBSTITUTE(Y2179,\"_\",\"-\"),\" \",\"-\"))-1)","v":{"$error":"#VALUE!"}},{"$f":"COUNTIF(F:F,Z2179)","v":3999},{"$f":"IF(OR(AA2179<1,ISERROR(Z2179)),\"\",INDEX(C:C,MATCH(Z2179,F:F)))","v":""},{"$f":"IF(AA2179=0,\"New Sheet\",IF(EXACT(UPPER(Y2179),UPPER(AB2179)),\"Match\",\"\"))","v":""},null,null,null,null,{"$f":"IF(C2179=\"\",\"\",LEFT(RIGHT(C2179,LEN(C2179)-SEARCH(\" \",C2179,1)),LEN(RIGHT(C2179,LEN(C2179)-SEARCH(\" \",C2179,1)))-4))","v":{"$error":"#VALUE!"}},{"$f":"TRIM(SUBSTITUTE(SUBSTITUTE(SUBSTITUTE(SUBSTITUTE(SUBSTITUTE(SUBSTITUTE(AH2179,\"(\",\"\"),\")\",\"\"),\"-\",\"\"),\"&\",\"\"),\" \",\"\",1),\" \",\"\",1))","v":{"$error":"#VALUE!"}},{"$f":"COUNTIF('Standards LOOKUP'!B:B,AI2179)","v":0},{"$f":"IFERROR(INDEX('Standards LOOKUP'!C:C,MATCH(AI2179,'Standards LOOKUP'!B:B,0),0),0)","v":0},{"$f":"IFERROR(INDEX('Current Standards'!P:P,MATCH('Sheet Counter'!AI2179,'Current Standards'!O:O,0),0),\"\")","v":""}]
[null,null,0,"","",{"$error":"#VALUE!"},"",{"$f":"IF(I2182=\"\",\"\",LARGE(H$1:H2181,1)+1)","v":{"$error":"#VALUE!"}},{"$error":"#VALUE!"},null,null,null,null,null,2181,0,{"$f":"IF(R2182=\"\",\"\",LARGE(Q$1:Q2181,1)+1)","v":{"$error":"#NUM!"}},{"$error":"#NUM!"},null,null,null,null,null,null,0,{"$error":"#VALUE!"},3999,"","",null,null,null,null,{"$error":"#VALUE!"},{"$error":"#VALUE!"},{"$f":"COUNTIF('Standards LOOKUP'!B:B,AI2182)","v":0},{"$f":"IFERROR(INDEX('Standards LOOKUP'!C:C,MATCH(AI2182,'Standards LOOKUP'!B:B,0),0),0)","v":0},{"$f":"IFERROR(INDEX('Current Standards'!P:P,MATCH('Sheet Counter'!AI2182,'Current Standards'!O:O,0),0),\"\")","v":""}]
[null,null,0,"","",{"$error":"#VALUE!"},"",{"$f":"IF(I2183=\"\",\"\",LARGE(H$1:H2182,1)+1)","v":{"$error":"#VALUE!"}},{"$error":"#VALUE!"},null,null,null,null,null,2182,0,{"$f":"IF(R2183=\"\",\"\",LARGE(Q$1:Q2182,1)+1)","v":{"$error":"#NUM!"}},{"$error":"#NUM!"},null,null,null,null,null,null,0,{"$error":"#VALUE!"},3999,"","",null,null,null,null,{"$error":"#VALUE!"},{"$error":"#VALUE!"},{"$f":"COUNTIF('Standards LOOKUP'!B:B,AI2183)","v":0},{"$f":"IFERROR(INDEX('Standards LOOKUP'!C:C,MATCH(AI2183,'Standards LOOKUP'!B:B,0),0),0)","v":0},{"$f":"IFERROR(INDEX('Current Standards'!P:P,MATCH('Sheet Counter'!AI2183,'Current Standards'!O:O,0),0),\"\")","v":""}]
[null,null,0,"","",{"$error":"#VALUE!"},"",{"$f":"IF(I2186=\"\",\"\",LARGE(H$1:H2185,1)+1)","v":{"$error":"#VALUE!"}},{"$error":"#VALUE!"},null,null,null,null,null,2185,0,{"$f":"IF(R2186=\"\",\"\",LARGE(Q$1:Q2185,1)+1)","v":{"$error":"#NUM!"}},{"$error":"#NUM!"},null,null,null,null,null,null,0,{"$error":"#VALUE!"},3999,"","",null,null,null,null,{"$error":"#VALUE!"},{"$error":"#VALUE!"},{"$f":"COUNTIF('Standards LOOKUP'!B:B,AI2186)","v":0},{"$f":"IFERROR(INDEX('Standards LOOKUP'!C:C,MATCH(AI2186,'Standards LOOKUP'!B:B,0),0),0)","v":0},{"$f":"IFERROR(INDEX('Current Standards'!P:P,MATCH('Sheet Counter'!AI2186,'Current Standards'!O:O,0),0),\"\")","v":""}]
[null,null,0,"","",{"$error":"#VALUE!"},"",{"$f":"IF(I2190=\"\",\"\",LARGE(H$1:H2189,1)+1)","v":{"$error":"#VALUE!"}},{"$error":"#VALUE!"},null,null,null,null,null,2189,0,{"$f":"IF(R2190=\"\",\"\",LARGE(Q$1:Q2189,1)+1)","v":{"$error":"#NUM!"}},{"$error":"#NUM!"},null,null,null,null,null,null,0,{"$error":"#VALUE!"},3999,"","",null,null,null,null,{"$error":"#VALUE!"},{"$error":"#VALUE!"},{"$f":"COUNTIF('Standards LOOKUP'!B:B,AI2190)","v":0},{"$f":"IFERROR(INDEX('Standards LOOKUP'!C:C,MATCH(AI2190,'Standards LOOKUP'!B:B,0),0),0)","v":0},{"$f":"IFERROR(INDEX('Current Standards'!P:P,MATCH('Sheet Counter'!AI2190,'Current Standards'!O:O,0),0),\"\")","v":""}]
[null,null,0,"","",{"$error":"#VALUE!"},"",{"$f":"IF(I2192=\"\",\"\",LARGE(H$1:H2191,1)+1)","v":{"$error":"#VALUE!"}},{"$error":"#VALUE!"},null,null,null,null,null,2191,0,{"$f":"IF(R2192=\"\",\"\",LARGE(Q$1:Q2191,1)+1)","v":{"$error":"#NUM!"}},{"$error":"#NUM!"},null,null,null,null,null,null,0,{"$error":"#VALUE!"},3999,"","",null,null,null,null,{"$error":"#VALUE!"},{"$error":"#VALUE!"},{"$f":"COUNTIF('Standards LOOKUP'!B:B,AI2192)","v":0},{"$f":"IFERROR(INDEX('Standards LOOKUP'!C:C,MATCH(AI2192,'Standards LOOKUP'!B:B,0),0),0)","v":0},{"$f":"IFERROR(INDEX('Current Standards'!P:P,MATCH('Sheet Counter'!AI2192,'Current Standards'!O:O,0),0),\"\")","v":""}]
[null,null,0,"","",{"$error":"#VALUE!"},"",{"$f":"IF(I2195=\"\",\"\",LARGE(H$1:H2194,1)+1)","v":{"$error":"#VALUE!"}},{"$error":"#VALUE!"},null,null,null,null,null,2194,0,{"$f":"IF(R2195=\"\",\"\",LARGE(Q$1:Q2194,1)+1)","v":{"$error":"#NUM!"}},{"$error":"#NUM!"},null,null,null,null,null,null,0,{"$error":"#VALUE!"},3999,"","",null,null,null,null,{"$error":"#VALUE!"},{"$error":"#VALUE!"},{"$f":"COUNTIF('Standards LOOKUP'!B:B,AI2195)","v":0},{"$f":"IFERROR(INDEX('Standards LOOKUP'!C:C,MATCH(AI2195,'Standards LOOKUP'!B:B,0),0),0)","v":0},{"$f":"IFERROR(INDEX('Current Standards'!P:P,MATCH('Sheet Counter'!AI2195,'Current Standards'!O:O,0),0),\"\")","v":""}]
[null,null,0,"","",{"$error":"#VALUE!"},"",{"$f":"IF(I2199=\"\",\"\",LARGE(H$1:H2198,1)+1)","v":{"$error":"#VALUE!"}},{"$error":"#VALUE!"},null,null,null,null,null,2198,0,{"$f":"IF(R2199=\"\",\"\",LARGE(Q$1:Q2198,1)+1)","v":{"$error":"#NUM!"}},{"$error":"#NUM!"},null,null,null,null,null,null,0,{"$error":"#VALUE!"},3999,"","",null,null,null,null,{"$error":"#VALUE!"},{"$error":"#VALUE!"},{"$f":"COUNTIF('Standards LOOKUP'!B:B,AI2199)","v":0},{"$f":"IFERROR(INDEX('Standards LOOKUP'!C:C,MATCH(AI2199,'Standards LOOKUP'!B:B,0),0),0)","v":0},{"$f":"IFERROR(INDEX('Current Standards'!P:P,MATCH('Sheet Counter'!AI2199,'Current Standards'!O:O,0),0),\"\")","v":""}]
[null,null,0,"","",{"$error":"#VALUE!"},"",{"$f":"IF(I2201=\"\",\"\",LARGE(H$1:H2200,1)+1)","v":{"$error":"#VALUE!"}},{"$error":"#VALUE!"},null,null,null,null,null,2200,0,{"$f":"IF(R2201=\"\",\"\",LARGE(Q$1:Q2200,1)+1)","v":{"$error":"#NUM!"}},{"$error":"#NUM!"},null,null,null,null,null,null,0,{"$error":"#VALUE!"},3999,"","",null,null,null,null,{"$error":"#VALUE!"},{"$error":"#VALUE!"},{"$f":"COUNTIF('Standards LOOKUP'!B:B,AI2201)","v":0},{"$f":"IFERROR(INDEX('Standards LOOKUP'!C:C,MATCH(AI2201,'Standards LOOKUP'!B:B,0),0),0)","v":0},{"$f":"IFERROR(INDEX('Current Standards'!P:P,MATCH('Sheet Counter'!AI2201,'Current Standards'!O:O,0),0),\"\")","v":""}]
[null,null,0,"","",{"$error":"#VALUE!"},"",{"$f":"IF(I2204=\"\",\"\",LARGE(H$1:H2203,1)+1)","v":{"$error":"#VALUE!"}},{"$error":"#VALUE!"},null,null,null,null,null,2203,0,{"$f":"IF(R2204=\"\",\"\",LARGE(Q$1:Q2203,1)+1)","v":{"$error":"#NUM!"}},{"$error":"#NUM!"},null,null,null,null,null,null,0,{"$error":"#VALUE!"},3999,"","",null,null,null,null,{"$error":"#VALUE!"},{"$error":"#VALUE!"},{"$f":"COUNTIF('Standards LOOKUP'!B:B,AI2204)","v":0},{"$f":"IFERROR(INDEX('Standards LOOKUP'!C:C,MATCH(AI2204,'Standards LOOKUP'!B:B,0),0),0)","v":0},{"$f":"IFERROR(INDEX('Current Standards'!P:P,MATCH('Sheet Counter'!AI2204,'Current Standards'!O:O,0),0),\"\")","v":""}]
[null,null,0,"","",{"$error":"#VALUE!"},"",{"$f":"IF(I2205=\"\",\"\",LARGE(H$1:H2204,1)+1)","v":{"$error":"#VALUE!"}},{"$error":"#VALUE!"},null,null,null,null,null,2204,0,{"$f":"IF(R2205=\"\",\"\",LARGE(Q$1:Q2204,1)+1)","v":{"$error":"#NUM!"}},{"$error":"#NUM!"},null,null,null,null,null,null,0,{"$error":"#VALUE!"},3999,"","",null,null,null,null,{"$error":"#VALUE!"},{"$error":"#VALUE!"},{"$f":"COUNTIF('Standards LOOKUP'!B:B,AI2205)","v":0},{"$f":"IFERROR(INDEX('Standards LOOKUP'!C:C,MATCH(AI2205,'Standards LOOKUP'!B:B,0),0),0)","v":0},{"$f":"IFERROR(INDEX('Current Standards'!P:P,MATCH('Sheet Counter'!AI2205,'Current Standards'!O:O,0),0),\"\")","v":""}]
[null,null,0,"","",{"$error":"#VALUE!"},"",{"$f":"IF(I2208=\"\",\"\",LARGE(H$1:H2207,1)+1)","v":{"$error":"#VALUE!"}},{"$error":"#VALUE!"},null,null,null,null,null,2207,0,{"$f":"IF(R2208=\"\",\"\",LARGE(Q$1:Q2207,1)+1)","v":{"$error":"#NUM!"}},{"$error":"#NUM!"},null,null,null,null,null,null,0,{"$error":"#VALUE!"},3999,"","",null,null,null,null,{"$error":"#VALUE!"},{"$error":"#VALUE!"},{"$f":"COUNTIF('Standards LOOKUP'!B:B,AI2208)","v":0},{"$f":"IFERROR(INDEX('Standards LOOKUP'!C:C,MATCH(AI2208,'Standards LOOKUP'!B:B,0),0),0)","v":0},{"$f":"IFERROR(INDEX('Current Standards'!P:P,MATCH('Sheet Counter'!AI2208,'Current Standards'!O:O,0),0),\"\")","v":""}]
[null,null,0,"","",{"$error":"#VALUE!"},"",{"$f":"IF(I2212=\"\",\"\",LARGE(H$1:H2211,1)+1)","v":{"$error":"#VALUE!"}},{"$error":"#VALUE!"},null,null,null,null,null,2211,0,{"$f":"IF(R2212=\"\",\"\",LARGE(Q$1:Q2211,1)+1)","v":{"$error":"#NUM!"}},{"$error":"#NUM!"},null,null,null,null,null,null,0,{"$error":"#VALUE!"},3999,"","",null,null,null,null,{"$error":"#VALUE!"},{"$error":"#VALUE!"},{"$f":"COUNTIF('Standards LOOKUP'!B:B,AI2212)","v":0},{"$f":"IFERROR(INDEX('Standards LOOKUP'!C:C,MATCH(AI2212,'Standards LOOKUP'!B:B,0),0),0)","v":0},{"$f":"IFERROR(INDEX('Current Standards'!P:P,MATCH('Sheet Counter'!AI2212,'Current Standards'!O:O,0),0),\"\")","v":""}]
[null,null,0,"","",{"$error":"#VALUE!"},"",{"$f":"IF(I2214=\"\",\"\",LARGE(H$1:H2213,1)+1)","v":{"$error":"#VALUE!"}},{"$error":"#VALUE!"},null,null,null,null,null,2213,0,{"$f":"IF(R2214=\"\",\"\",LARGE(Q$1:Q2213,1)+1)","v":{"$error":"#NUM!"}},{"$error":"#NUM!"},null,null,null,null,null,null,0,{"$error":"#VALUE!"},3999,"","",null,null,null,null,{"$error":"#VALUE!"},{"$error":"#VALUE!"},{"$f":"COUNTIF('Standards LOOKUP'!B:B,AI2214)","v":0},{"$f":"IFERROR(INDEX('Standards LOOKUP'!C:C,MATCH(AI2214,'Standards LOOKUP'!B:B,0),0),0)","v":0},{"$f":"IFERROR(INDEX('Current Standards'!P:P,MATCH('Sheet Counter'!AI2214,'Current Standards'!O:O,0),0),\"\")","v":""}]
[null,null,0,"","",{"$error":"#VALUE!"},"",{"$f":"IF(I2217=\"\",\"\",LARGE(H$1:H2216,1)+1)","v":{"$error":"#VALUE!"}},{"$error":"#VALUE!"},null,null,null,null,null,2216,0,{"$f":"IF(R2217=\"\",\"\",LARGE(Q$1:Q2216,1)+1)","v":{"$error":"#NUM!"}},{"$error":"#NUM!"},null,null,null,null,null,null,0,{"$error":"#VALUE!"},3999,"","",null,null,null,null,{"$error":"#VALUE!"},{"$error":"#VALUE!"},{"$f":"COUNTIF('Standards LOOKUP'!B:B,AI2217)","v":0},{"$f":"IFERROR(INDEX('Standards LOOKUP'!C:C,MATCH(AI2217,'Standards LOOKUP'!B:B,0),0),0)","v":0},{"$f":"IFERROR(INDEX('Current Standards'!P:P,MATCH('Sheet Counter'!AI2217,'Current Standards'!O:O,0),0),\"\")","v":""}]
[null,null,0,"","",{"$error":"#VALUE!"},"",{"$f":"IF(I2221=\"\",\"\",LARGE(H$1:H2220,1)+1)","v":{"$error":"#VALUE!"}},{"$error":"#VALUE!"},null,null,null,null,null,2220,0,{"$f":"IF(R2221=\"\",\"\",LARGE(Q$1:Q2220,1)+1)","v":{"$error":"#NUM!"}},{"$error":"#NUM!"},null,null,null,null,null,null,0,{"$error":"#VALUE!"},3999,"","",null,null,null,null,{"$error":"#VALUE!"},{"$error":"#VALUE!"},{"$f":"COUNTIF('Standards LOOKUP'!B:B,AI2221)","v":0},{"$f":"IFERROR(INDEX('Standards LOOKUP'!C:C,MATCH(AI2221,'Standards LOOKUP'!B:B,0),0),0)","v":0},{"$f":"IFERROR(INDEX('Current Standards'!P:P,MATCH('Sheet Counter'!AI2221,'Current Standards'!O:O,0),0),\"\")","v":""}]
[null,null,0,"","",{"$error":"#VALUE!"},"",{"$f":"IF(I2223=\"\",\"\",LARGE(H$1:H2222,1)+1)","v":{"$error":"#VALUE!"}},{"$error":"#VALUE!"},null,null,null,null,null,2222,0,{"$f":"IF(R2223=\"\",\"\",LARGE(Q$1:Q2222,1)+1)","v":{"$error":"#NUM!"}},{"$error":"#NUM!"},null,null,null,null,null,null,0,{"$error":"#VALUE!"},3999,"","",null,null,null,null,{"$error":"#VALUE!"},{"$error":"#VALUE!"},{"$f":"COUNTIF('Standards LOOKUP'!B:B,AI2223)","v":0},{"$f":"IFERROR(INDEX('Standards LOOKUP'!C:C,MATCH(AI2223,'Standards LOOKUP'!B:B,0),0),0)","v":0},{"$f":"IFERROR(INDEX('Current Standards'!P:P,MATCH('Sheet Counter'!AI2223,'Current Standards'!O:O,0),0),\"\")","v":""}]
[null,null,0,"","",{"$error":"#VALUE!"},"",{"$f":"IF(I2226=\"\",\"\",LARGE(H$1:H2225,1)+1)","v":{"$error":"#VALUE!"}},{"$error":"#VALUE!"},null,null,null,null,null,2225,0,{"$f":"IF(R2226=\"\",\"\",LARGE(Q$1:Q2225,1)+1)","v":{"$error":"#NUM!"}},{"$error":"#NUM!"},null,null,null,null,null,null,0,{"$error":"#VALUE!"},3999,"","",null,null,null,null,{"$error":"#VALUE!"},{"$error":"#VALUE!"},{"$f":"COUNTIF('Standards LOOKUP'!B:B,AI2226)","v":0},{"$f":"IFERROR(INDEX('Standards LOOKUP'!C:C,MATCH(AI2226,'Standards LOOKUP'!B:B,0),0),0)","v":0},{"$f":"IFERROR(INDEX('Current Standards'!P:P,MATCH('Sheet Counter'!AI2226,'Current Standards'!O:O,0),0),\"\")","v":""}]
[null,null,0,"","",{"$error":"#VALUE!"},"",{"$f":"IF(I2227=\"\",\"\",LARGE(H$1:H2226,1)+1)","v":{"$error":"#VALUE!"}},{"$error":"#VALUE!"},null,null,null,null,null,2226,0,{"$f":"IF(R2227=\"\",\"\",LARGE(Q$1:Q2226,1)+1)","v":{"$error":"#NUM!"}},{"$error":"#NUM!"},null,null,null,null,null,null,0,{"$error":"#VALUE!"},3999,"","",null,null,null,null,{"$error":"#VALUE!"},{"$error":"#VALUE!"},{"$f":"COUNTIF('Standards LOOKUP'!B:B,AI2227)","v":0},{"$f":"IFERROR(INDEX('Standards LOOKUP'!C:C,MATCH(AI2227,'Standards LOOKUP'!B:B,0),0),0)","v":0},{"$f":"IFERROR(INDEX('Current Standards'!P:P,MATCH('Sheet Counter'!AI2227,'Current Standards'!O:O,0),0),\"\")","v":""}]
[null,null,0,"","",{"$error":"#VALUE!"},"",{"$f":"IF(I2230=\"\",\"\",LARGE(H$1:H2229,1)+1)","v":{"$error":"#VALUE!"}},{"$error":"#VALUE!"},null,null,null,null,null,2229,0,{"$f":"IF(R2230=\"\",\"\",LARGE(Q$1:Q2229,1)+1)","v":{"$error":"#NUM!"}},{"$error":"#NUM!"},null,null,null,null,null,null,0,{"$error":"#VALUE!"},3999,"","",null,null,null,null,{"$error":"#VALUE!"},{"$error":"#VALUE!"},{"$f":"COUNTIF('Standards LOOKUP'!B:B,AI2230)","v":0},{"$f":"IFERROR(INDEX('Standards LOOKUP'!C:C,MATCH(AI2230,'Standards LOOKUP'!B:B,0),0),0)","v":0},{"$f":"IFERROR(INDEX('Current Standards'!P:P,MATCH('Sheet Counter'!AI2230,'Current Standards'!O:O,0),0),\"\")","v":""}]
[null,null,0,"","",{"$error":"#VALUE!"},"",{"$f":"IF(I2234=\"\",\"\",LARGE(H$1:H2233,1)+1)","v":{"$error":"#VALUE!"}},{"$error":"#VALUE!"},null,null,null,null,null,2233,0,{"$f":"IF(R2234=\"\",\"\",LARGE(Q$1:Q2233,1)+1)","v":{"$error":"#NUM!"}},{"$error":"#NUM!"},null,null,null,null,null,null,0,{"$error":"#VALUE!"},3999,"","",null,null,null,null,{"$error":"#VALUE!"},{"$error":"#VALUE!"},{"$f":"COUNTIF('Standards LOOKUP'!B:B,AI2234)","v":0},{"$f":"IFERROR(INDEX('Standards LOOKUP'!C:C,MATCH(AI2234,'Standards LOOKUP'!B:B,0),0),0)","v":0},{"$f":"IFERROR(INDEX('Current Standards'!P:P,MATCH('Sheet Counter'!AI2234,'Current Standards'!O:O,0),0),\"\")","v":""}]
[null,null,0,"","",{"$error":"#VALUE!"},"",{"$f":"IF(I2236=\"\",\"\",LARGE(H$1:H2235,1)+1)","v":{"$error":"#VALUE!"}},{"$error":"#VALUE!"},null,null,null,null,null,2235,0,{"$f":"IF(R2236=\"\",\"\",LARGE(Q$1:Q2235,1)+1)","v":{"$error":"#NUM!"}},{"$error":"#NUM!"},null,null,null,null,null,null,0,{"$error":"#VALUE!"},3999,"","",null,null,null,null,{"$error":"#VALUE!"},{"$error":"#VALUE!"},{"$f":"COUNTIF('Standards LOOKUP'!B:B,AI2236)","v":0},{"$f":"IFERROR(INDEX('Standards LOOKUP'!C:C,MATCH(AI2236,'Standards LOOKUP'!B:B,0),0),0)","v":0},{"$f":"IFERROR(INDEX('Current Standards'!P:P,MATCH('Sheet Counter'!AI2236,'Current Standards'!O:O,0),0),\"\")","v":""}]
[null,null,0,"","",{"$error":"#VALUE!"},"",{"$f":"IF(I2239=\"\",\"\",LARGE(H$1:H2238,1)+1)","v":{"$error":"#VALUE!"}},{"$error":"#VALUE!"},null,null,null,null,null,2238,0,{"$f":"IF(R2239=\"\",\"\",LARGE(Q$1:Q2238,1)+1)","v":{"$error":"#NUM!"}},{"$error":"#NUM!"},null,null,null,null,null,null,0,{"$error":"#VALUE!"},3999,"","",null,null,null,null,{"$error":"#VALUE!"},{"$error":"#VALUE!"},{"$f":"COUNTIF('Standards LOOKUP'!B:B,AI2239)","v":0},{"$f":"IFERROR(INDEX('Standards LOOKUP'!C:C,MATCH(AI2239,'Standards LOOKUP'!B:B,0),0),0)","v":0},{"$f":"IFERROR(INDEX('Current Standards'!P:P,MATCH('Sheet Counter'!AI2239,'Current Standards'!O:O,0),0),\"\")","v":""}]
[null,null,{"$f":"IF(ISERROR(FIND(\"\\\",A2243)),A2243,RIGHT(A2243,LEN(A2243)-FIND(\"~\",SUBSTITUTE(A2243,\"\\\",\"~\",LEN(A2243)-LEN(SUBSTITUTE(A2243,\"\\\",\"\"))))))","v":0},{"$f":"IF(AL2243=\"\",\"\",AL2243)","v":""},"",{"$f":"LEFT(C2243,FIND(\"-\",SUBSTITUTE(SUBSTITUTE(C2243,\"_\",\"-\"),\" \",\"-\"))-1)","v":{"$error":"#VALUE!"}},{"$f":"IF(ISNUMBER(F2243*1),F2243*1,\"\")","v":""},{"$f":"IF(I2243=\"\",\"\",LARGE(H$1:H2242,1)+1)","v":{"$error":"#VALUE!"}},{"$error":"#VALUE!"},null,null,null,null,null,2242,0,{"$f":"IF(R2243=\"\",\"\",LARGE(Q$1:Q2242,1)+1)","v":{"$error":"#NUM!"}},{"$error":"#NUM!"},null,null,null,null,null,null,{"$f":"IF(ISERROR(FIND(\"\\\",X2243)),X2243,RIGHT(X2243,LEN(X2243)-FIND(\"~\",SUBSTITUTE(X2243,\"\\\",\"~\",LEN(X2243)-LEN(SUBSTITUTE(X2243,\"\\\",\"\"))))))","v":0},{"$f":"LEFT(Y2243,FIND(\"-\",SUBSTITUTE(SUBSTITUTE(Y2243,\"_\",\"-\"),\" \",\"-\"))-1)","v":{"$error":"#VALUE!"}},{"$f":"COUNTIF(F:F,Z2243)","v":3999},{"$f":"IF(OR(AA2243<1,ISERROR(Z2243)),\"\",INDEX(C:C,MATCH(Z2243,F:F)))","v":""},{"$f":"IF(AA2243=0,\"New Sheet\",IF(EXACT(UPPER(Y2243),UPPER(AB2243)),\"Match\",\"\"))","v":""},null,null,null,null,{"$f":"IF(C2243=\"\",\"\",LEFT(RIGHT(C2243,LEN(C2243)-SEARCH(\" \",C2243,1)),LEN(RIGHT(C2243,LEN(C2243)-SEARCH(\" \",C2243,1)))-4))","v":{"$error":"#VALUE!"}},{"$f":"TRIM(SUBSTITUTE(SUBSTITUTE(SUBSTITUTE(SUBSTITUTE(SUBSTITUTE(SUBSTITUTE(AH2243,\"(\",\"\"),\")\",\"\"),\"-\",\"\"),\"&\",\"\"),\" \",\"\",1),\" \",\"\",1))","v":{"$error":"#VALUE!"}},{"$f":"COUNTIF('Standards LOOKUP'!B:B,AI2243)","v":0},{"$f":"IFERROR(INDEX('Standards LOOKUP'!C:C,MATCH(AI2243,'Standards LOOKUP'!B:B,0),0),0)","v":0},{"$f":"IFERROR(INDEX('Current Standards'!P:P,MATCH('Sheet Counter'!AI2243,'Current Standards'!O:O,0),0),\"\")","v":""}]
[null,null,0,"","",{"$error":"#VALUE!"},"",{"$f":"IF(I2245=\"\",\"\",LARGE(H$1:H2244,1)+1)","v":{"$error":"#VALUE!"}},{"$error":"#VALUE!"},null,null,null,null,null,2244,0,{"$f":"IF(R2245=\"\",\"\",LARGE(Q$1:Q2244,1)+1)","v":{"$error":"#NUM!"}},{"$error":"#NUM!"},null,null,null,null,null,null,0,{"$error":"#VALUE!"},3999,"","",null,null,null,null,{"$error":"#VALUE!"},{"$error":"#VALUE!"},{"$f":"COUNTIF('Standards LOOKUP'!B:B,AI2245)","v":0},{"$f":"IFERROR(INDEX('Standards LOOKUP'!C:C,MATCH(AI2245,'Standards LOOKUP'!B:B,0),0),0)","v":0},{"$f":"IFERROR(INDEX('Current Standards'!P:P,MATCH('Sheet Counter'!AI2245,'Current Standards'!O:O,0),0),\"\")","v":""}]
[null,null,0,"","",{"$error":"#VALUE!"},"",{"$f":"IF(I2246=\"\",\"\",LARGE(H$1:H2245,1)+1)","v":{"$error":"#VALUE!"}},{"$error":"#VALUE!"},null,null,null,null,null,2245,0,{"$f":"IF(R2246=\"\",\"\",LARGE(Q$1:Q2245,1)+1)","v":{"$error":"#NUM!"}},{"$error":"#NUM!"},null,null,null,null,null,null,0,{"$error":"#VALUE!"},3999,"","",null,null,null,null,{"$error":"#VALUE!"},{"$error":"#VALUE!"},{"$f":"COUNTIF('Standards LOOKUP'!B:B,AI2246)","v":0},{"$f":"IFERROR(INDEX('Standards LOOKUP'!C:C,MATCH(AI2246,'Standards LOOKUP'!B:B,0),0),0)","v":0},{"$f":"IFERROR(INDEX('Current Standards'!P:P,MATCH('Sheet Counter'!AI2246,'Current Standards'!O:O,0),0),\"\")","v":""}]
[null,null,0,"","",{"$error":"#VALUE!"},"",{"$f":"IF(I2249=\"\",\"\",LARGE(H$1:H2248,1)+1)","v":{"$error":"#VALUE!"}},{"$error":"#VALUE!"},null,null,null,null,null,2248,0,{"$f":"IF(R2249=\"\",\"\",LARGE(Q$1:Q2248,1)+1)","v":{"$error":"#NUM!"}},{"$error":"#NUM!"},null,null,null,null,null,null,0,{"$error":"#VALUE!"},3999,"","",null,null,null,null,{"$error":"#VALUE!"},{"$error":"#VALUE!"},{"$f":"COUNTIF('Standards LOOKUP'!B:B,AI2249)","v":0},{"$f":"IFERROR(INDEX('Standards LOOKUP'!C:C,MATCH(AI2249,'Standards LOOKUP'!B:B,0),0),0)","v":0},{"$f":"IFERROR(INDEX('Current Standards'!P:P,MATCH('Sheet Counter'!AI2249,'Current Standards'!O:O,0),0),\"\")","v":""}]
[null,null,0,"","",{"$error":"#VALUE!"},"",{"$f":"IF(I2252=\"\",\"\",LARGE(H$1:H2251,1)+1)","v":{"$error":"#VALUE!"}},{"$error":"#VALUE!"},null,null,null,null,null,2251,0,{"$f":"IF(R2252=\"\",\"\",LARGE(Q$1:Q2251,1)+1)","v":{"$error":"#NUM!"}},{"$error":"#NUM!"},null,null,null,null,null,null,0,{"$error":"#VALUE!"},3999,"","",null,null,null,null,{"$error":"#VALUE!"},{"$error":"#VALUE!"},{"$f":"COUNTIF('Standards LOOKUP'!B:B,AI2252)","v":0},{"$f":"IFERROR(INDEX('Standards LOOKUP'!C:C,MATCH(AI2252,'Standards LOOKUP'!B:B,0),0),0)","v":0},{"$f":"IFERROR(INDEX('Current Standards'!P:P,MATCH('Sheet Counter'!AI2252,'Current Standards'!O:O,0),0),\"\")","v":""}]
[null,null,0,"","",{"$error":"#VALUE!"},"",{"$f":"IF(I2256=\"\",\"\",LARGE(H$1:H2255,1)+1)","v":{"$error":"#VALUE!"}},{"$error":"#VALUE!"},null,null,null,null,null,2255,0,{"$f":"IF(R2256=\"\",\"\",LARGE(Q$1:Q2255,1)+1)","v":{"$error":"#NUM!"}},{"$error":"#NUM!"},null,null,null,null,null,null,0,{"$error":"#VALUE!"},3999,"","",null,null,null,null,{"$error":"#VALUE!"},{"$error":"#VALUE!"},{"$f":"COUNTIF('Standards LOOKUP'!B:B,AI2256)","v":0},{"$f":"IFERROR(INDEX('Standards LOOKUP'!C:C,MATCH(AI2256,'Standards LOOKUP'!B:B,0),0),0)","v":0},{"$f":"IFERROR(INDEX('Current Standards'!P:P,MATCH('Sheet Counter'!AI2256,'Current Standards'!O:O,0),0),\"\")","v":""}]
[null,null,0,"","",{"$error":"#VALUE!"},"",{"$f":"IF(I2258=\"\",\"\",LARGE(H$1:H2257,1)+1)","v":{"$error":"#VALUE!"}},{"$error":"#VALUE!"},null,null,null,null,null,2257,0,{"$f":"IF(R2258=\"\",\"\",LARGE(Q$1:Q2257,1)+1)","v":{"$error":"#NUM!"}},{"$error":"#NUM!"},null,null,null,null,null,null,0,{"$error":"#VALUE!"},3999,"","",null,null,null,null,{"$error":"#VALUE!"},{"$error":"#VALUE!"},{"$f":"COUNTIF('Standards LOOKUP'!B:B,AI2258)","v":0},{"$f":"IFERROR(INDEX('Standards LOOKUP'!C:C,MATCH(AI2258,'Standards LOOKUP'!B:B,0),0),0)","v":0},{"$f":"IFERROR(INDEX('Current Standards'!P:P,MATCH('Sheet Counter'!AI2258,'Current Standards'!O:O,0),0),\"\")","v":""}]
[null,null,0,"","",{"$error":"#VALUE!"},"",{"$f":"IF(I2261=\"\",\"\",LARGE(H$1:H2260,1)+1)","v":{"$error":"#VALUE!"}},{"$error":"#VALUE!"},null,null,null,null,null,2260,0,{"$f":"IF(R2261=\"\",\"\",LARGE(Q$1:Q2260,1)+1)","v":{"$error":"#NUM!"}},{"$error":"#NUM!"},null,null,null,null,null,null,0,{"$error":"#VALUE!"},3999,"","",null,null,null,null,{"$error":"#VALUE!"},{"$error":"#VALUE!"},{"$f":"COUNTIF('Standards LOOKUP'!B:B,AI2261)","v":0},{"$f":"IFERROR(INDEX('Standards LOOKUP'!C:C,MATCH(AI2261,'Standards LOOKUP'!B:B,0),0),0)","v":0},{"$f":"IFERROR(INDEX('Current Standards'!P:P,MATCH('Sheet Counter'!AI2261,'Current Standards'!O:O,0),0),\"\")","v":""}]
[null,null,0,"","",{"$error":"#VALUE!"},"",{"$f":"IF(I2265=\"\",\"\",LARGE(H$1:H2264,1)+1)","v":{"$error":"#VALUE!"}},{"$error":"#VALUE!"},null,null,null,null,null,2264,0,{"$f":"IF(R2265=\"\",\"\",LARGE(Q$1:Q2264,1)+1)","v":{"$error":"#NUM!"}},{"$error":"#NUM!"},null,null,null,null,null,null,0,{"$error":"#VALUE!"},3999,"","",null,null,null,null,{"$error":"#VALUE!"},{"$error":"#VALUE!"},{"$f":"COUNTIF('Standards LOOKUP'!B:B,AI2265)","v":0},{"$f":"IFERROR(INDEX('Standards LOOKUP'!C:C,MATCH(AI2265,'Standards LOOKUP'!B:B,0),0),0)","v":0},{"$f":"IFERROR(INDEX('Current Standards'!P:P,MATCH('Sheet Counter'!AI2265,'Current Standards'!O:O,0),0),\"\")","v":""}]
[null,null,0,"","",{"$error":"#VALUE!"},"",{"$f":"IF(I2267=\"\",\"\",LARGE(H$1:H2266,1)+1)","v":{"$error":"#VALUE!"}},{"$error":"#VALUE!"},null,null,null,null,null,2266,0,{"$f":"IF(R2267=\"\",\"\",LARGE(Q$1:Q2266,1)+1)","v":{"$error":"#NUM!"}},{"$error":"#NUM!"},null,null,null,null,null,null,0,{"$error":"#VALUE!"},3999,"","",null,null,null,null,{"$error":"#VALUE!"},{"$error":"#VALUE!"},{"$f":"COUNTIF('Standards LOOKUP'!B:B,AI2267)","v":0},{"$f":"IFERROR(INDEX('Standards LOOKUP'!C:C,MATCH(AI2267,'Standards LOOKUP'!B:B,0),0),0)","v":0},{"$f":"IFERROR(INDEX('Current Standards'!P:P,MATCH('Sheet Counter'!AI2267,'Current Standards'!O:O,0),0),\"\")","v":""}]
[null,null,0,"","",{"$error":"#VALUE!"},"",{"$f":"IF(I2268=\"\",\"\",LARGE(H$1:H2267,1)+1)","v":{"$error":"#VALUE!"}},{"$error":"#VALUE!"},null,null,null,null,null,2267,0,{"$f":"IF(R2268=\"\",\"\",LARGE(Q$1:Q2267,1)+1)","v":{"$error":"#NUM!"}},{"$error":"#NUM!"},null,null,null,null,null,null,0,{"$error":"#VALUE!"},3999,"","",null,null,null,null,{"$error":"#VALUE!"},{"$error":"#VALUE!"},{"$f":"COUNTIF('Standards LOOKUP'!B:B,AI2268)","v":0},{"$f":"IFERROR(INDEX('Standards LOOKUP'!C:C,MATCH(AI2268,'Standards LOOKUP'!B:B,0),0),0)","v":0},{"$f":"IFERROR(INDEX('Current Standards'!P:P,MATCH('Sheet Counter'!AI2268,'Current Standards'!O:O,0),0),\"\")","v":""}]
[null,null,0,"","",{"$error":"#VALUE!"},"",{"$f":"IF(I2271=\"\",\"\",LARGE(H$1:H2270,1)+1)","v":{"$error":"#VALUE!"}},{"$error":"#VALUE!"},null,null,null,null,null,2270,0,{"$f":"IF(R2271=\"\",\"\",LARGE(Q$1:Q2270,1)+1)","v":{"$error":"#NUM!"}},{"$error":"#NUM!"},null,null,null,null,null,null,0,{"$error":"#VALUE!"},3999,"","",null,null,null,null,{"$error":"#VALUE!"},{"$error":"#VALUE!"},{"$f":"COUNTIF('Standards LOOKUP'!B:B,AI2271)","v":0},{"$f":"IFERROR(INDEX('Standards LOOKUP'!C:C,MATCH(AI2271,'Standards LOOKUP'!B:B,0),0),0)","v":0},{"$f":"IFERROR(INDEX('Current Standards'!P:P,MATCH('Sheet Counter'!AI2271,'Current Standards'!O:O,0),0),\"\")","v":""}]
[null,null,0,"","",{"$error":"#VALUE!"},"",{"$f":"IF(I2274=\"\",\"\",LARGE(H$1:H2273,1)+1)","v":{"$error":"#VALUE!"}},{"$error":"#VALUE!"},null,null,null,null,null,2273,0,{"$f":"IF(R2274=\"\",\"\",LARGE(Q$1:Q2273,1)+1)","v":{"$error":"#NUM!"}},{"$error":"#NUM!"},null,null,null,null,null,null,0,{"$error":"#VALUE!"},3999,"","",null,null,null,null,{"$error":"#VALUE!"},{"$error":"#VALUE!"},{"$f":"COUNTIF('Standards LOOKUP'!B:B,AI2274)","v":0},{"$f":"IFERROR(INDEX('Standards LOOKUP'!C:C,MATCH(AI2274,'Standards LOOKUP'!B:B,0),0),0)","v":0},{"$f":"IFERROR(INDEX('Current Standards'!P:P,MATCH('Sheet Counter'!AI2274,'Current Standards'!O:O,0),0),\"\")","v":""}]
[null,null,0,"","",{"$error":"#VALUE!"},"",{"$f":"IF(I2278=\"\",\"\",LARGE(H$1:H2277,1)+1)","v":{"$error":"#VALUE!"}},{"$error":"#VALUE!"},null,null,null,null,null,2277,0,{"$f":"IF(R2278=\"\",\"\",LARGE(Q$1:Q2277,1)+1)","v":{"$error":"#NUM!"}},{"$error":"#NUM!"},null,null,null,null,null,null,0,{"$error":"#VALUE!"},3999,"","",null,null,null,null,{"$error":"#VALUE!"},{"$error":"#VALUE!"},{"$f":"COUNTIF('Standards LOOKUP'!B:B,AI2278)","v":0},{"$f":"IFERROR(INDEX('Standards LOOKUP'!C:C,MATCH(AI2278,'Standards LOOKUP'!B:B,0),0),0)","v":0},{"$f":"IFERROR(INDEX('Current Standards'!P:P,MATCH('Sheet Counter'!AI2278,'Current Standards'!O:O,0),0),\"\")","v":""}]
[null,null,0,"","",{"$error":"#VALUE!"},"",{"$f":"IF(I2280=\"\",\"\",LARGE(H$1:H2279,1)+1)","v":{"$error":"#VALUE!"}},{"$error":"#VALUE!"},null,null,null,null,null,2279,0,{"$f":"IF(R2280=\"\",\"\",LARGE(Q$1:Q2279,1)+1)","v":{"$error":"#NUM!"}},{"$error":"#NUM!"},null,null,null,null,null,null,0,{"$error":"#VALUE!"},3999,"","",null,null,null,null,{"$error":"#VALUE!"},{"$error":"#VALUE!"},{"$f":"COUNTIF('Standards LOOKUP'!B:B,AI2280)","v":0},{"$f":"IFERROR(INDEX('Standards LOOKUP'!C:C,MATCH(AI2280,'Standards LOOKUP'!B:B,0),0),0)","v":0},{"$f":"IFERROR(INDEX('Current Standards'!P:P,MATCH('Sheet Counter'!AI2280,'Current Standards'!O:O,0),0),\"\")","v":""}]
[null,null,0,"","",{"$error":"#VALUE!"},"",{"$f":"IF(I2283=\"\",\"\",LARGE(H$1:H2282,1)+1)","v":{"$error":"#VALUE!"}},{"$error":"#VALUE!"},null,null,null,null,null,2282,0,{"$f":"IF(R2283=\"\",\"\",LARGE(Q$1:Q2282,1)+1)","v":{"$error":"#NUM!"}},{"$error":"#NUM!"},null,null,null,null,null,null,0,{"$error":"#VALUE!"},3999,"","",null,null,null,null,{"$error":"#VALUE!"},{"$error":"#VALUE!"},{"$f":"COUNTIF('Standards LOOKUP'!B:B,AI2283)","v":0},{"$f":"IFERROR(INDEX('Standards LOOKUP'!C:C,MATCH(AI2283,'Standards LOOKUP'!B:B,0),0),0)","v":0},{"$f":"IFERROR(INDEX('Current Standards'!P:P,MATCH('Sheet Counter'!AI2283,'Current Standards'!O:O,0),0),\"\")","v":""}]
[null,null,0,"","",{"$error":"#VALUE!"},"",{"$f":"IF(I2287=\"\",\"\",LARGE(H$1:H2286,1)+1)","v":{"$error":"#VALUE!"}},{"$error":"#VALUE!"},null,null,null,null,null,2286,0,{"$f":"IF(R2287=\"\",\"\",LARGE(Q$1:Q2286,1)+1)","v":{"$error":"#NUM!"}},{"$error":"#NUM!"},null,null,null,null,null,null,0,{"$error":"#VALUE!"},3999,"","",null,null,null,null,{"$error":"#VALUE!"},{"$error":"#VALUE!"},{"$f":"COUNTIF('Standards LOOKUP'!B:B,AI2287)","v":0},{"$f":"IFERROR(INDEX('Standards LOOKUP'!C:C,MATCH(AI2287,'Standards LOOKUP'!B:B,0),0),0)","v":0},{"$f":"IFERROR(INDEX('Current Standards'!P:P,MATCH('Sheet Counter'!AI2287,'Current Standards'!O:O,0),0),\"\")","v":""}]
[null,null,0,"","",{"$error":"#VALUE!"},"",{"$f":"IF(I2289=\"\",\"\",LARGE(H$1:H2288,1)+1)","v":{"$error":"#VALUE!"}},{"$error":"#VALUE!"},null,null,null,null,null,2288,0,{"$f":"IF(R2289=\"\",\"\",LARGE(Q$1:Q2288,1)+1)","v":{"$error":"#NUM!"}},{"$error":"#NUM!"},null,null,null,null,null,null,0,{"$error":"#VALUE!"},3999,"","",null,null,null,null,{"$error":"#VALUE!"},{"$error":"#VALUE!"},{"$f":"COUNTIF('Standards LOOKUP'!B:B,AI2289)","v":0},{"$f":"IFERROR(INDEX('Standards LOOKUP'!C:C,MATCH(AI2289,'Standards LOOKUP'!B:B,0),0),0)","v":0},{"$f":"IFERROR(INDEX('Current Standards'!P:P,MATCH('Sheet Counter'!AI2289,'Current Standards'!O:O,0),0),\"\")","v":""}]
[null,null,0,"","",{"$error":"#VALUE!"},"",{"$f":"IF(I2290=\"\",\"\",LARGE(H$1:H2289,1)+1)","v":{"$error":"#VALUE!"}},{"$error":"#VALUE!"},null,null,null,null,null,2289,0,{"$f":"IF(R2290=\"\",\"\",LARGE(Q$1:Q2289,1)+1)","v":{"$error":"#NUM!"}},{"$error":"#NUM!"},null,null,null,null,null,null,0,{"$error":"#VALUE!"},3999,"","",null,null,null,null,{"$error":"#VALUE!"},{"$error":"#VALUE!"},{"$f":"COUNTIF('Standards LOOKUP'!B:B,AI2290)","v":0},{"$f":"IFERROR(INDEX('Standards LOOKUP'!C:C,MATCH(AI2290,'Standards LOOKUP'!B:B,0),0),0)","v":0},{"$f":"IFERROR(INDEX('Current Standards'!P:P,MATCH('Sheet Counter'!AI2290,'Current Standards'!O:O,0),0),\"\")","v":""}]
[null,null,0,"","",{"$error":"#VALUE!"},"",{"$f":"IF(I2293=\"\",\"\",LARGE(H$1:H2292,1)+1)","v":{"$error":"#VALUE!"}},{"$error":"#VALUE!"},null,null,null,null,null,2292,0,{"$f":"IF(R2293=\"\",\"\",LARGE(Q$1:Q2292,1)+1)","v":{"$error":"#NUM!"}},{"$error":"#NUM!"},null,null,null,null,null,null,0,{"$error":"#VALUE!"},3999,"","",null,null,null,null,{"$error":"#VALUE!"},{"$error":"#VALUE!"},{"$f":"COUNTIF('Standards LOOKUP'!B:B,AI2293)","v":0},{"$f":"IFERROR(INDEX('Standards LOOKUP'!C:C,MATCH(AI2293,'Standards LOOKUP'!B:B,0),0),0)","v":0},{"$f":"IFERROR(INDEX('Current Standards'!P:P,MATCH('Sheet Counter'!AI2293,'Current Standards'!O:O,0),0),\"\")","v":""}]
[null,null,0,"","",{"$error":"#VALUE!"},"",{"$f":"IF(I2296=\"\",\"\",LARGE(H$1:H2295,1)+1)","v":{"$error":"#VALUE!"}},{"$error":"#VALUE!"},null,null,null,null,null,2295,0,{"$f":"IF(R2296=\"\",\"\",LARGE(Q$1:Q2295,1)+1)","v":{"$error":"#NUM!"}},{"$error":"#NUM!"},null,null,null,null,null,null,0,{"$error":"#VALUE!"},3999,"","",null,null,null,null,{"$error":"#VALUE!"},{"$error":"#VALUE!"},{"$f":"COUNTIF('Standards LOOKUP'!B:B,AI2296)","v":0},{"$f":"IFERROR(INDEX('Standards LOOKUP'!C:C,MATCH(AI2296,'Standards LOOKUP'!B:B,0),0),0)","v":0},{"$f":"IFERROR(INDEX('Current Standards'!P:P,MATCH('Sheet Counter'!AI2296,'Current Standards'!O:O,0),0),\"\")","v":""}]
[null,null,0,"","",{"$error":"#VALUE!"},"",{"$f":"IF(I2300=\"\",\"\",LARGE(H$1:H2299,1)+1)","v":{"$error":"#VALUE!"}},{"$error":"#VALUE!"},null,null,null,null,null,2299,0,{"$f":"IF(R2300=\"\",\"\",LARGE(Q$1:Q2299,1)+1)","v":{"$error":"#NUM!"}},{"$error":"#NUM!"},null,null,null,null,null,null,0,{"$error":"#VALUE!"},3999,"","",null,null,null,null,{"$error":"#VALUE!"},{"$error":"#VALUE!"},{"$f":"COUNTIF('Standards LOOKUP'!B:B,AI2300)","v":0},{"$f":"IFERROR(INDEX('Standards LOOKUP'!C:C,MATCH(AI2300,'Standards LOOKUP'!B:B,0),0),0)","v":0},{"$f":"IFERROR(INDEX('Current Standards'!P:P,MATCH('Sheet Counter'!AI2300,'Current Standards'!O:O,0),0),\"\")","v":""}]
[null,null,0,"","",{"$error":"#VALUE!"},"",{"$f":"IF(I2302=\"\",\"\",LARGE(H$1:H2301,1)+1)","v":{"$error":"#VALUE!"}},{"$error":"#VALUE!"},null,null,null,null,null,2301,0,{"$f":"IF(R2302=\"\",\"\",LARGE(Q$1:Q2301,1)+1)","v":{"$error":"#NUM!"}},{"$error":"#NUM!"},null,null,null,null,null,null,0,{"$error":"#VALUE!"},3999,"","",null,null,null,null,{"$error":"#VALUE!"},{"$error":"#VALUE!"},{"$f":"COUNTIF('Standards LOOKUP'!B:B,AI2302)","v":0},{"$f":"IFERROR(INDEX('Standards LOOKUP'!C:C,MATCH(AI2302,'Standards LOOKUP'!B:B,0),0),0)","v":0},{"$f":"IFERROR(INDEX('Current Standards'!P:P,MATCH('Sheet Counter'!AI2302,'Current Standards'!O:O,0),0),\"\")","v":""}]
[null,null,0,"","",{"$error":"#VALUE!"},"",{"$f":"IF(I2306=\"\",\"\",LARGE(H$1:H2305,1)+1)","v":{"$error":"#VALUE!"}},{"$f":"IF(G2306=\"\",F2306,\"\")","v":{"$error":"#VALUE!"}},null,null,null,null,null,2305,{"$f":"COUNTIF(G:G,O2306)","v":0},{"$f":"IF(R2306=\"\",\"\",LARGE(Q$1:Q2305,1)+1)","v":{"$error":"#NUM!"}},{"$error":"#NUM!"},null,null,null,null,null,null,0,{"$error":"#VALUE!"},3999,"","",null,null,null,null,{"$error":"#VALUE!"},{"$error":"#VALUE!"},{"$f":"COUNTIF('Standards LOOKUP'!B:B,AI2306)","v":0},{"$f":"IFERROR(INDEX('Standards LOOKUP'!C:C,MATCH(AI2306,'Standards LOOKUP'!B:B,0),0),0)","v":0},{"$f":"IFERROR(INDEX('Current Standards'!P:P,MATCH('Sheet Counter'!AI2306,'Current Standards'!O:O,0),0),\"\")","v":""}]
[null,null,0,"","",{"$error":"#VALUE!"},"",{"$f":"IF(I2309=\"\",\"\",LARGE(H$1:H2308,1)+1)","v":{"$error":"#VALUE!"}},{"$error":"#VALUE!"},null,null,null,null,null,2308,0,{"$f":"IF(R2309=\"\",\"\",LARGE(Q$1:Q2308,1)+1)","v":{"$error":"#NUM!"}},{"$error":"#NUM!"},null,null,null,null,null,null,0,{"$error":"#VALUE!"},3999,"","",null,null,null,null,{"$error":"#VALUE!"},{"$error":"#VALUE!"},{"$f":"COUNTIF('Standards LOOKUP'!B:B,AI2309)","v":0},{"$f":"IFERROR(INDEX('Standards LOOKUP'!C:C,MATCH(AI2309,'Standards LOOKUP'!B:B,0),0),0)","v":0},{"$f":"IFERROR(INDEX('Current Standards'!P:P,MATCH('Sheet Counter'!AI2309,'Current Standards'!O:O,0),0),\"\")","v":""}]
[null,null,0,"","",{"$error":"#VALUE!"},"",{"$f":"IF(I2311=\"\",\"\",LARGE(H$1:H2310,1)+1)","v":{"$error":"#VALUE!"}},{"$error":"#VALUE!"},null,null,null,null,null,2310,0,{"$f":"IF(R2311=\"\",\"\",LARGE(Q$1:Q2310,1)+1)","v":{"$error":"#NUM!"}},{"$error":"#NUM!"},null,null,null,null,null,null,0,{"$error":"#VALUE!"},3999,"","",null,null,null,null,{"$error":"#VALUE!"},{"$error":"#VALUE!"},{"$f":"COUNTIF('Standards LOOKUP'!B:B,AI2311)","v":0},{"$f":"IFERROR(INDEX('Standards LOOKUP'!C:C,MATCH(AI2311,'Standards LOOKUP'!B:B,0),0),0)","v":0},{"$f":"IFERROR(INDEX('Current Standards'!P:P,MATCH('Sheet Counter'!AI2311,'Current Standards'!O:O,0),0),\"\")","v":""}]
[null,null,0,"","",{"$error":"#VALUE!"},"",{"$f":"IF(I2312=\"\",\"\",LARGE(H$1:H2311,1)+1)","v":{"$error":"#VALUE!"}},{"$error":"#VALUE!"},null,null,null,null,null,2311,0,{"$f":"IF(R2312=\"\",\"\",LARGE(Q$1:Q2311,1)+1)","v":{"$error":"#NUM!"}},{"$error":"#NUM!"},null,null,null,null,null,null,0,{"$error":"#VALUE!"},3999,"","",null,null,null,null,{"$error":"#VALUE!"},{"$error":"#VALUE!"},{"$f":"COUNTIF('Standards LOOKUP'!B:B,AI2312)","v":0},{"$f":"IFERROR(INDEX('Standards LOOKUP'!C:C,MATCH(AI2312,'Standards LOOKUP'!B:B,0),0),0)","v":0},{"$f":"IFERROR(INDEX('Current Standards'!P:P,MATCH('Sheet Counter'!AI2312,'Current Standards'!O:O,0),0),\"\")","v":""}]
[null,null,0,"","",{"$error":"#VALUE!"},"",{"$f":"IF(I2315=\"\",\"\",LARGE(H$1:H2314,1)+1)","v":{"$error":"#VALUE!"}},{"$error":"#VALUE!"},null,null,null,null,null,2314,0,{"$f":"IF(R2315=\"\",\"\",LARGE(Q$1:Q2314,1)+1)","v":{"$error":"#NUM!"}},{"$error":"#NUM!"},null,null,null,null,null,null,0,{"$error":"#VALUE!"},3999,"","",null,null,null,null,{"$error":"#VALUE!"},{"$error":"#VALUE!"},{"$f":"COUNTIF('Standards LOOKUP'!B:B,AI2315)","v":0},{"$f":"IFERROR(INDEX('Standards LOOKUP'!C:C,MATCH(AI2315,'Standards LOOKUP'!B:B,0),0),0)","v":0},{"$f":"IFERROR(INDEX('Current Standards'!P:P,MATCH('Sheet Counter'!AI2315,'Current Standards'!O:O,0),0),\"\")","v":""}]
[null,null,0,"","",{"$error":"#VALUE!"},"",{"$f":"IF(I2318=\"\",\"\",LARGE(H$1:H2317,1)+1)","v":{"$error":"#VALUE!"}},{"$error":"#VALUE!"},null,null,null,null,null,2317,0,{"$f":"IF(R2318=\"\",\"\",LARGE(Q$1:Q2317,1)+1)","v":{"$error":"#NUM!"}},{"$error":"#NUM!"},null,null,null,null,null,null,0,{"$error":"#VALUE!"},3999,"","",null,null,null,null,{"$error":"#VALUE!"},{"$error":"#VALUE!"},{"$f":"COUNTIF('Standards LOOKUP'!B:B,AI2318)","v":0},{"$f":"IFERROR(INDEX('Standards LOOKUP'!C:C,MATCH(AI2318,'Standards LOOKUP'!B:B,0),0),0)","v":0},{"$f":"IFERROR(INDEX('Current Standards'!P:P,MATCH('Sheet Counter'!AI2318,'Current Standards'!O:O,0),0),\"\")","v":""}]
[null,null,0,"","",{"$error":"#VALUE!"},"",{"$f":"IF(I2322=\"\",\"\",LARGE(H$1:H2321,1)+1)","v":{"$error":"#VALUE!"}},{"$error":"#VALUE!"},null,null,null,null,null,2321,0,{"$f":"IF(R2322=\"\",\"\",LARGE(Q$1:Q2321,1)+1)","v":{"$error":"#NUM!"}},{"$error":"#NUM!"},null,null,null,null,null,null,0,{"$error":"#VALUE!"},3999,"","",null,null,null,null,{"$error":"#VALUE!"},{"$error":"#VALUE!"},{"$f":"COUNTIF('Standards LOOKUP'!B:B,AI2322)","v":0},{"$f":"IFERROR(INDEX('Standards LOOKUP'!C:C,MATCH(AI2322,'Standards LOOKUP'!B:B,0),0),0)","v":0},{"$f":"IFERROR(INDEX('Current Standards'!P:P,MATCH('Sheet Counter'!AI2322,'Current Standards'!O:O,0),0),\"\")","v":""}]
[null,null,0,"","",{"$error":"#VALUE!"},"",{"$f":"IF(I2324=\"\",\"\",LARGE(H$1:H2323,1)+1)","v":{"$error":"#VALUE!"}},{"$error":"#VALUE!"},null,null,null,null,null,2323,0,{"$f":"IF(R2324=\"\",\"\",LARGE(Q$1:Q2323,1)+1)","v":{"$error":"#NUM!"}},{"$error":"#NUM!"},null,null,null,null,null,null,0,{"$error":"#VALUE!"},3999,"","",null,null,null,null,{"$error":"#VALUE!"},{"$error":"#VALUE!"},{"$f":"COUNTIF('Standards LOOKUP'!B:B,AI2324)","v":0},{"$f":"IFERROR(INDEX('Standards LOOKUP'!C:C,MATCH(AI2324,'Standards LOOKUP'!B:B,0),0),0)","v":0},{"$f":"IFERROR(INDEX('Current Standards'!P:P,MATCH('Sheet Counter'!AI2324,'Current Standards'!O:O,0),0),\"\")","v":""}]
[null,null,0,"","",{"$error":"#VALUE!"},"",{"$f":"IF(I2328=\"\",\"\",LARGE(H$1:H2327,1)+1)","v":{"$error":"#VALUE!"}},{"$error":"#VALUE!"},null,null,null,null,null,2327,0,{"$f":"IF(R2328=\"\",\"\",LARGE(Q$1:Q2327,1)+1)","v":{"$error":"#NUM!"}},{"$error":"#NUM!"},null,null,null,null,null,null,0,{"$error":"#VALUE!"},3999,"","",null,null,null,null,{"$error":"#VALUE!"},{"$error":"#VALUE!"},{"$f":"COUNTIF('Standards LOOKUP'!B:B,AI2328)","v":0},{"$f":"IFERROR(INDEX('Standards LOOKUP'!C:C,MATCH(AI2328,'Standards LOOKUP'!B:B,0),0),0)","v":0},{"$f":"IFERROR(INDEX('Current Standards'!P:P,MATCH('Sheet Counter'!AI2328,'Current Standards'!O:O,0),0),\"\")","v":""}]
[null,null,0,"","",{"$error":"#VALUE!"},"",{"$f":"IF(I2331=\"\",\"\",LARGE(H$1:H2330,1)+1)","v":{"$error":"#VALUE!"}},{"$error":"#VALUE!"},null,null,null,null,null,2330,0,{"$f":"IF(R2331=\"\",\"\",LARGE(Q$1:Q2330,1)+1)","v":{"$error":"#NUM!"}},{"$error":"#NUM!"},null,null,null,null,null,null,0,{"$error":"#VALUE!"},3999,"","",null,null,null,null,{"$error":"#VALUE!"},{"$error":"#VALUE!"},{"$f":"COUNTIF('Standards LOOKUP'!B:B,AI2331)","v":0},{"$f":"IFERROR(INDEX('Standards LOOKUP'!C:C,MATCH(AI2331,'Standards LOOKUP'!B:B,0),0),0)","v":0},{"$f":"IFERROR(INDEX('Current Standards'!P:P,MATCH('Sheet Counter'!AI2331,'Current Standards'!O:O,0),0),\"\")","v":""}]
[null,null,0,"","",{"$error":"#VALUE!"},"",{"$f":"IF(I2333=\"\",\"\",LARGE(H$1:H2332,1)+1)","v":{"$error":"#VALUE!"}},{"$error":"#VALUE!"},null,null,null,null,null,2332,0,{"$f":"IF(R2333=\"\",\"\",LARGE(Q$1:Q2332,1)+1)","v":{"$error":"#NUM!"}},{"$error":"#NUM!"},null,null,null,null,null,null,0,{"$error":"#VALUE!"},3999,"","",null,null,null,null,{"$error":"#VALUE!"},{"$error":"#VALUE!"},{"$f":"COUNTIF('Standards LOOKUP'!B:B,AI2333)","v":0},{"$f":"IFERROR(INDEX('Standards LOOKUP'!C:C,MATCH(AI2333,'Standards LOOKUP'!B:B,0),0),0)","v":0},{"$f":"IFERROR(INDEX('Current Standards'!P:P,MATCH('Sheet Counter'!AI2333,'Current Standards'!O:O,0),0),\"\")","v":""}]
[null,null,0,"","",{"$error":"#VALUE!"},"",{"$f":"IF(I2334=\"\",\"\",LARGE(H$1:H2333,1)+1)","v":{"$error":"#VALUE!"}},{"$error":"#VALUE!"},null,null,null,null,null,2333,0,{"$f":"IF(R2334=\"\",\"\",LARGE(Q$1:Q2333,1)+1)","v":{"$error":"#NUM!"}},{"$error":"#NUM!"},null,null,null,null,null,null,0,{"$error":"#VALUE!"},3999,"","",null,null,null,null,{"$error":"#VALUE!"},{"$error":"#VALUE!"},{"$f":"COUNTIF('Standards LOOKUP'!B:B,AI2334)","v":0},{"$f":"IFERROR(INDEX('Standards LOOKUP'!C:C,MATCH(AI2334,'Standards LOOKUP'!B:B,0),0),0)","v":0},{"$f":"IFERROR(INDEX('Current Standards'!P:P,MATCH('Sheet Counter'!AI2334,'Current Standards'!O:O,0),0),\"\")","v":""}]
[null,null,0,"","",{"$error":"#VALUE!"},"",{"$f":"IF(I2337=\"\",\"\",LARGE(H$1:H2336,1)+1)","v":{"$error":"#VALUE!"}},{"$error":"#VALUE!"},null,null,null,null,null,2336,0,{"$f":"IF(R2337=\"\",\"\",LARGE(Q$1:Q2336,1)+1)","v":{"$error":"#NUM!"}},{"$error":"#NUM!"},null,null,null,null,null,null,0,{"$error":"#VALUE!"},3999,"","",null,null,null,null,{"$error":"#VALUE!"},{"$error":"#VALUE!"},{"$f":"COUNTIF('Standards LOOKUP'!B:B,AI2337)","v":0},{"$f":"IFERROR(INDEX('Standards LOOKUP'!C:C,MATCH(AI2337,'Standards LOOKUP'!B:B,0),0),0)","v":0},{"$f":"IFERROR(INDEX('Current Standards'!P:P,MATCH('Sheet Counter'!AI2337,'Current Standards'!O:O,0),0),\"\")","v":""}]
[null,null,0,"","",{"$error":"#VALUE!"},"",{"$f":"IF(I2341=\"\",\"\",LARGE(H$1:H2340,1)+1)","v":{"$error":"#VALUE!"}},{"$error":"#VALUE!"},null,null,null,null,null,2340,0,{"$f":"IF(R2341=\"\",\"\",LARGE(Q$1:Q2340,1)+1)","v":{"$error":"#NUM!"}},{"$error":"#NUM!"},null,null,null,null,null,null,0,{"$error":"#VALUE!"},3999,"","",null,null,null,null,{"$error":"#VALUE!"},{"$error":"#VALUE!"},{"$f":"COUNTIF('Standards LOOKUP'!B:B,AI2341)","v":0},{"$f":"IFERROR(INDEX('Standards LOOKUP'!C:C,MATCH(AI2341,'Standards LOOKUP'!B:B,0),0),0)","v":0},{"$f":"IFERROR(INDEX('Current Standards'!P:P,MATCH('Sheet Counter'!AI2341,'Current Standards'!O:O,0),0),\"\")","v":""}]
[null,null,0,"","",{"$error":"#VALUE!"},"",{"$f":"IF(I2344=\"\",\"\",LARGE(H$1:H2343,1)+1)","v":{"$error":"#VALUE!"}},{"$error":"#VALUE!"},null,null,null,null,null,2343,0,{"$f":"IF(R2344=\"\",\"\",LARGE(Q$1:Q2343,1)+1)","v":{"$error":"#NUM!"}},{"$error":"#NUM!"},null,null,null,null,null,null,0,{"$error":"#VALUE!"},3999,"","",null,null,null,null,{"$error":"#VALUE!"},{"$error":"#VALUE!"},{"$f":"COUNTIF('Standards LOOKUP'!B:B,AI2344)","v":0},{"$f":"IFERROR(INDEX('Standards LOOKUP'!C:C,MATCH(AI2344,'Standards LOOKUP'!B:B,0),0),0)","v":0},{"$f":"IFERROR(INDEX('Current Standards'!P:P,MATCH('Sheet Counter'!AI2344,'Current Standards'!O:O,0),0),\"\")","v":""}]
[null,null,0,"","",{"$error":"#VALUE!"},"",{"$f":"IF(I2346=\"\",\"\",LARGE(H$1:H2345,1)+1)","v":{"$error":"#VALUE!"}},{"$error":"#VALUE!"},null,null,null,null,null,2345,0,{"$f":"IF(R2346=\"\",\"\",LARGE(Q$1:Q2345,1)+1)","v":{"$error":"#NUM!"}},{"$error":"#NUM!"},null,null,null,null,null,null,0,{"$error":"#VALUE!"},3999,"","",null,null,null,null,{"$error":"#VALUE!"},{"$error":"#VALUE!"},{"$f":"COUNTIF('Standards LOOKUP'!B:B,AI2346)","v":0},{"$f":"IFERROR(INDEX('Standards LOOKUP'!C:C,MATCH(AI2346,'Standards LOOKUP'!B:B,0),0),0)","v":0},{"$f":"IFERROR(INDEX('Current Standards'!P:P,MATCH('Sheet Counter'!AI2346,'Current Standards'!O:O,0),0),\"\")","v":""}]
[null,null,0,"","",{"$error":"#VALUE!"},"",{"$f":"IF(I2350=\"\",\"\",LARGE(H$1:H2349,1)+1)","v":{"$error":"#VALUE!"}},{"$error":"#VALUE!"},null,null,null,null,null,2349,0,{"$f":"IF(R2350=\"\",\"\",LARGE(Q$1:Q2349,1)+1)","v":{"$error":"#NUM!"}},{"$error":"#NUM!"},null,null,null,null,null,null,0,{"$error":"#VALUE!"},3999,"","",null,null,null,null,{"$error":"#VALUE!"},{"$error":"#VALUE!"},{"$f":"COUNTIF('Standards LOOKUP'!B:B,AI2350)","v":0},{"$f":"IFERROR(INDEX('Standards LOOKUP'!C:C,MATCH(AI2350,'Standards LOOKUP'!B:B,0),0),0)","v":0},{"$f":"IFERROR(INDEX('Current Standards'!P:P,MATCH('Sheet Counter'!AI2350,'Current Standards'!O:O,0),0),\"\")","v":""}]
[null,null,0,"","",{"$error":"#VALUE!"},"",{"$f":"IF(I2353=\"\",\"\",LARGE(H$1:H2352,1)+1)","v":{"$error":"#VALUE!"}},{"$error":"#VALUE!"},null,null,null,null,null,2352,0,{"$f":"IF(R2353=\"\",\"\",LARGE(Q$1:Q2352,1)+1)","v":{"$error":"#NUM!"}},{"$error":"#NUM!"},null,null,null,null,null,null,0,{"$error":"#VALUE!"},3999,"","",null,null,null,null,{"$error":"#VALUE!"},{"$error":"#VALUE!"},{"$f":"COUNTIF('Standards LOOKUP'!B:B,AI2353)","v":0},{"$f":"IFERROR(INDEX('Standards LOOKUP'!C:C,MATCH(AI2353,'Standards LOOKUP'!B:B,0),0),0)","v":0},{"$f":"IFERROR(INDEX('Current Standards'!P:P,MATCH('Sheet Counter'!AI2353,'Current Standards'!O:O,0),0),\"\")","v":""}]
[null,null,0,"","",{"$error":"#VALUE!"},"",{"$f":"IF(I2355=\"\",\"\",LARGE(H$1:H2354,1)+1)","v":{"$error":"#VALUE!"}},{"$error":"#VALUE!"},null,null,null,null,null,2354,0,{"$f":"IF(R2355=\"\",\"\",LARGE(Q$1:Q2354,1)+1)","v":{"$error":"#NUM!"}},{"$error":"#NUM!"},null,null,null,null,null,null,0,{"$error":"#VALUE!"},3999,"","",null,null,null,null,{"$error":"#VALUE!"},{"$error":"#VALUE!"},{"$f":"COUNTIF('Standards LOOKUP'!B:B,AI2355)","v":0},{"$f":"IFERROR(INDEX('Standards LOOKUP'!C:C,MATCH(AI2355,'Standards LOOKUP'!B:B,0),0),0)","v":0},{"$f":"IFERROR(INDEX('Current Standards'!P:P,MATCH('Sheet Counter'!AI2355,'Current Standards'!O:O,0),0),\"\")","v":""}]
[null,null,0,"","",{"$error":"#VALUE!"},"",{"$f":"IF(I2356=\"\",\"\",LARGE(H$1:H2355,1)+1)","v":{"$error":"#VALUE!"}},{"$error":"#VALUE!"},null,null,null,null,null,2355,0,{"$f":"IF(R2356=\"\",\"\",LARGE(Q$1:Q2355,1)+1)","v":{"$error":"#NUM!"}},{"$error":"#NUM!"},null,null,null,null,null,null,0,{"$error":"#VALUE!"},3999,"","",null,null,null,null,{"$error":"#VALUE!"},{"$error":"#VALUE!"},{"$f":"COUNTIF('Standards LOOKUP'!B:B,AI2356)","v":0},{"$f":"IFERROR(INDEX('Standards LOOKUP'!C:C,MATCH(AI2356,'Standards LOOKUP'!B:B,0),0),0)","v":0},{"$f":"IFERROR(INDEX('Current Standards'!P:P,MATCH('Sheet Counter'!AI2356,'Current Standards'!O:O,0),0),\"\")","v":""}]
[null,null,0,"","",{"$error":"#VALUE!"},"",{"$f":"IF(I2359=\"\",\"\",LARGE(H$1:H2358,1)+1)","v":{"$error":"#VALUE!"}},{"$error":"#VALUE!"},null,null,null,null,null,2358,0,{"$f":"IF(R2359=\"\",\"\",LARGE(Q$1:Q2358,1)+1)","v":{"$error":"#NUM!"}},{"$error":"#NUM!"},null,null,null,null,null,null,0,{"$error":"#VALUE!"},3999,"","",null,null,null,null,{"$error":"#VALUE!"},{"$error":"#VALUE!"},{"$f":"COUNTIF('Standards LOOKUP'!B:B,AI2359)","v":0},{"$f":"IFERROR(INDEX('Standards LOOKUP'!C:C,MATCH(AI2359,'Standards LOOKUP'!B:B,0),0),0)","v":0},{"$f":"IFERROR(INDEX('Current Standards'!P:P,MATCH('Sheet Counter'!AI2359,'Current Standards'!O:O,0),0),\"\")","v":""}]
[null,null,0,"","",{"$error":"#VALUE!"},"",{"$f":"IF(I2363=\"\",\"\",LARGE(H$1:H2362,1)+1)","v":{"$error":"#VALUE!"}},{"$error":"#VALUE!"},null,null,null,null,null,2362,0,{"$f":"IF(R2363=\"\",\"\",LARGE(Q$1:Q2362,1)+1)","v":{"$error":"#NUM!"}},{"$error":"#NUM!"},null,null,null,null,null,null,0,{"$error":"#VALUE!"},3999,"","",null,null,null,null,{"$error":"#VALUE!"},{"$error":"#VALUE!"},{"$f":"COUNTIF('Standards LOOKUP'!B:B,AI2363)","v":0},{"$f":"IFERROR(INDEX('Standards LOOKUP'!C:C,MATCH(AI2363,'Standards LOOKUP'!B:B,0),0),0)","v":0},{"$f":"IFERROR(INDEX('Current Standards'!P:P,MATCH('Sheet Counter'!AI2363,'Current Standards'!O:O,0),0),\"\")","v":""}]
[null,null,0,"","",{"$error":"#VALUE!"},"",{"$f":"IF(I2366=\"\",\"\",LARGE(H$1:H2365,1)+1)","v":{"$error":"#VALUE!"}},{"$error":"#VALUE!"},null,null,null,null,null,2365,0,{"$f":"IF(R2366=\"\",\"\",LARGE(Q$1:Q2365,1)+1)","v":{"$error":"#NUM!"}},{"$error":"#NUM!"},null,null,null,null,null,null,0,{"$error":"#VALUE!"},3999,"","",null,null,null,null,{"$error":"#VALUE!"},{"$error":"#VALUE!"},{"$f":"COUNTIF('Standards LOOKUP'!B:B,AI2366)","v":0},{"$f":"IFERROR(INDEX('Standards LOOKUP'!C:C,MATCH(AI2366,'Standards LOOKUP'!B:B,0),0),0)","v":0},{"$f":"IFERROR(INDEX('Current Standards'!P:P,MATCH('Sheet Counter'!AI2366,'Current Standards'!O:O,0),0),\"\")","v":""}]
[null,null,0,"","",{"$error":"#VALUE!"},"",{"$f":"IF(I2368=\"\",\"\",LARGE(H$1:H2367,1)+1)","v":{"$error":"#VALUE!"}},{"$error":"#VALUE!"},null,null,null,null,null,2367,0,{"$f":"IF(R2368=\"\",\"\",LARGE(Q$1:Q2367,1)+1)","v":{"$error":"#NUM!"}},{"$error":"#NUM!"},null,null,null,null,null,null,0,{"$error":"#VALUE!"},3999,"","",null,null,null,null,{"$error":"#VALUE!"},{"$error":"#VALUE!"},{"$f":"COUNTIF('Standards LOOKUP'!B:B,AI2368)","v":0},{"$f":"IFERROR(INDEX('Standards LOOKUP'!C:C,MATCH(AI2368,'Standards LOOKUP'!B:B,0),0),0)","v":0},{"$f":"IFERROR(INDEX('Current Standards'!P:P,MATCH('Sheet Counter'!AI2368,'Current Standards'!O:O,0),0),\"\")","v":""}]
[null,null,0,"","",{"$error":"#VALUE!"},"",{"$f":"IF(I2372=\"\",\"\",LARGE(H$1:H2371,1)+1)","v":{"$error":"#VALUE!"}},{"$error":"#VALUE!"},null,null,null,null,null,2371,0,{"$f":"IF(R2372=\"\",\"\",LARGE(Q$1:Q2371,1)+1)","v":{"$error":"#NUM!"}},{"$f":"IF(AND(P2372<>1,O2372<=LARGE(G:G,1),O2372>=SMALL(G:G,1)),O2372,\"\")","v":{"$error":"#NUM!"}},null,null,null,null,null,null,0,{"$error":"#VALUE!"},3999,"","",null,null,null,null,{"$error":"#VALUE!"},{"$error":"#VALUE!"},{"$f":"COUNTIF('Standards LOOKUP'!B:B,AI2372)","v":0},{"$f":"IFERROR(INDEX('Standards LOOKUP'!C:C,MATCH(AI2372,'Standards LOOKUP'!B:B,0),0),0)","v":0},{"$f":"IFERROR(INDEX('Current Standards'!P:P,MATCH('Sheet Counter'!AI2372,'Current Standards'!O:O,0),0),\"\")","v":""}]
[null,null,0,"","",{"$error":"#VALUE!"},"",{"$f":"IF(I2375=\"\",\"\",LARGE(H$1:H2374,1)+1)","v":{"$error":"#VALUE!"}},{"$error":"#VALUE!"},null,null,null,null,null,2374,0,{"$f":"IF(R2375=\"\",\"\",LARGE(Q$1:Q2374,1)+1)","v":{"$error":"#NUM!"}},{"$error":"#NUM!"},null,null,null,null,null,null,0,{"$error":"#VALUE!"},3999,"","",null,null,null,null,{"$error":"#VALUE!"},{"$error":"#VALUE!"},{"$f":"COUNTIF('Standards LOOKUP'!B:B,AI2375)","v":0},{"$f":"IFERROR(INDEX('Standards LOOKUP'!C:C,MATCH(AI2375,'Standards LOOKUP'!B:B,0),0),0)","v":0},{"$f":"IFERROR(INDEX('Current Standards'!P:P,MATCH('Sheet Counter'!AI2375,'Current Standards'!O:O,0),0),\"\")","v":""}]
[null,null,0,"","",{"$error":"#VALUE!"},"",{"$f":"IF(I2377=\"\",\"\",LARGE(H$1:H2376,1)+1)","v":{"$error":"#VALUE!"}},{"$error":"#VALUE!"},null,null,null,null,null,2376,0,{"$f":"IF(R2377=\"\",\"\",LARGE(Q$1:Q2376,1)+1)","v":{"$error":"#NUM!"}},{"$error":"#NUM!"},null,null,null,null,null,null,0,{"$error":"#VALUE!"},3999,"","",null,null,null,null,{"$error":"#VALUE!"},{"$error":"#VALUE!"},{"$f":"COUNTIF('Standards LOOKUP'!B:B,AI2377)","v":0},{"$f":"IFERROR(INDEX('Standards LOOKUP'!C:C,MATCH(AI2377,'Standards LOOKUP'!B:B,0),0),0)","v":0},{"$f":"IFERROR(INDEX('Current Standards'!P:P,MATCH('Sheet Counter'!AI2377,'Current Standards'!O:O,0),0),\"\")","v":""}]
[null,null,0,"","",{"$error":"#VALUE!"},"",{"$f":"IF(I2378=\"\",\"\",LARGE(H$1:H2377,1)+1)","v":{"$error":"#VALUE!"}},{"$error":"#VALUE!"},null,null,null,null,null,2377,0,{"$f":"IF(R2378=\"\",\"\",LARGE(Q$1:Q2377,1)+1)","v":{"$error":"#NUM!"}},{"$error":"#NUM!"},null,null,null,null,null,null,0,{"$error":"#VALUE!"},3999,"","",null,null,null,null,{"$error":"#VALUE!"},{"$error":"#VALUE!"},{"$f":"COUNTIF('Standards LOOKUP'!B:B,AI2378)","v":0},{"$f":"IFERROR(INDEX('Standards LOOKUP'!C:C,MATCH(AI2378,'Standards LOOKUP'!B:B,0),0),0)","v":0},{"$f":"IFERROR(INDEX('Current Standards'!P:P,MATCH('Sheet Counter'!AI2378,'Current Standards'!O:O,0),0),\"\")","v":""}]
[null,null,0,"","",{"$error":"#VALUE!"},"",{"$f":"IF(I2381=\"\",\"\",LARGE(H$1:H2380,1)+1)","v":{"$error":"#VALUE!"}},{"$error":"#VALUE!"},null,null,null,null,null,2380,0,{"$f":"IF(R2381=\"\",\"\",LARGE(Q$1:Q2380,1)+1)","v":{"$error":"#NUM!"}},{"$error":"#NUM!"},null,null,null,null,null,null,0,{"$error":"#VALUE!"},3999,"","",null,null,null,null,{"$error":"#VALUE!"},{"$error":"#VALUE!"},{"$f":"COUNTIF('Standards LOOKUP'!B:B,AI2381)","v":0},{"$f":"IFERROR(INDEX('Standards LOOKUP'!C:C,MATCH(AI2381,'Standards LOOKUP'!B:B,0),0),0)","v":0},{"$f":"IFERROR(INDEX('Current Standards'!P:P,MATCH('Sheet Counter'!AI2381,'Current Standards'!O:O,0),0),\"\")","v":""}]
[null,null,0,"","",{"$error":"#VALUE!"},"",{"$f":"IF(I2385=\"\",\"\",LARGE(H$1:H2384,1)+1)","v":{"$error":"#VALUE!"}},{"$error":"#VALUE!"},null,null,null,null,null,2384,0,{"$f":"IF(R2385=\"\",\"\",LARGE(Q$1:Q2384,1)+1)","v":{"$error":"#NUM!"}},{"$error":"#NUM!"},null,null,null,null,null,null,0,{"$error":"#VALUE!"},3999,"","",null,null,null,null,{"$error":"#VALUE!"},{"$error":"#VALUE!"},{"$f":"COUNTIF('Standards LOOKUP'!B:B,AI2385)","v":0},{"$f":"IFERROR(INDEX('Standards LOOKUP'!C:C,MATCH(AI2385,'Standards LOOKUP'!B:B,0),0),0)","v":0},{"$f":"IFERROR(INDEX('Current Standards'!P:P,MATCH('Sheet Counter'!AI2385,'Current Standards'!O:O,0),0),\"\")","v":""}]
[null,null,0,"","",{"$error":"#VALUE!"},"",{"$f":"IF(I2388=\"\",\"\",LARGE(H$1:H2387,1)+1)","v":{"$error":"#VALUE!"}},{"$error":"#VALUE!"},null,null,null,null,null,2387,0,{"$f":"IF(R2388=\"\",\"\",LARGE(Q$1:Q2387,1)+1)","v":{"$error":"#NUM!"}},{"$error":"#NUM!"},null,null,null,null,null,null,0,{"$error":"#VALUE!"},3999,"","",null,null,null,null,{"$error":"#VALUE!"},{"$error":"#VALUE!"},{"$f":"COUNTIF('Standards LOOKUP'!B:B,AI2388)","v":0},{"$f":"IFERROR(INDEX('Standards LOOKUP'!C:C,MATCH(AI2388,'Standards LOOKUP'!B:B,0),0),0)","v":0},{"$f":"IFERROR(INDEX('Current Standards'!P:P,MATCH('Sheet Counter'!AI2388,'Current Standards'!O:O,0),0),\"\")","v":""}]
[null,null,0,"","",{"$error":"#VALUE!"},"",{"$f":"IF(I2390=\"\",\"\",LARGE(H$1:H2389,1)+1)","v":{"$error":"#VALUE!"}},{"$error":"#VALUE!"},null,null,null,null,null,2389,0,{"$f":"IF(R2390=\"\",\"\",LARGE(Q$1:Q2389,1)+1)","v":{"$error":"#NUM!"}},{"$error":"#NUM!"},null,null,null,null,null,null,0,{"$error":"#VALUE!"},3999,"","",null,null,null,null,{"$error":"#VALUE!"},{"$error":"#VALUE!"},{"$f":"COUNTIF('Standards LOOKUP'!B:B,AI2390)","v":0},{"$f":"IFERROR(INDEX('Standards LOOKUP'!C:C,MATCH(AI2390,'Standards LOOKUP'!B:B,0),0),0)","v":0},{"$f":"IFERROR(INDEX('Current Standards'!P:P,MATCH('Sheet Counter'!AI2390,'Current Standards'!O:O,0),0),\"\")","v":""}]
[null,null,0,"","",{"$error":"#VALUE!"},"",{"$f":"IF(I2394=\"\",\"\",LARGE(H$1:H2393,1)+1)","v":{"$error":"#VALUE!"}},{"$error":"#VALUE!"},null,null,null,null,null,2393,0,{"$f":"IF(R2394=\"\",\"\",LARGE(Q$1:Q2393,1)+1)","v":{"$error":"#NUM!"}},{"$error":"#NUM!"},null,null,null,null,null,null,0,{"$error":"#VALUE!"},3999,"","",null,null,null,null,{"$error":"#VALUE!"},{"$error":"#VALUE!"},{"$f":"COUNTIF('Standards LOOKUP'!B:B,AI2394)","v":0},{"$f":"IFERROR(INDEX('Standards LOOKUP'!C:C,MATCH(AI2394,'Standards LOOKUP'!B:B,0),0),0)","v":0},{"$f":"IFERROR(INDEX('Current Standards'!P:P,MATCH('Sheet Counter'!AI2394,'Current Standards'!O:O,0),0),\"\")","v":""}]
[null,null,0,"","",{"$error":"#VALUE!"},"",{"$f":"IF(I2397=\"\",\"\",LARGE(H$1:H2396,1)+1)","v":{"$error":"#VALUE!"}},{"$error":"#VALUE!"},null,null,null,null,null,2396,0,{"$f":"IF(R2397=\"\",\"\",LARGE(Q$1:Q2396,1)+1)","v":{"$error":"#NUM!"}},{"$error":"#NUM!"},null,null,null,null,null,null,0,{"$error":"#VALUE!"},3999,"","",null,null,null,null,{"$error":"#VALUE!"},{"$error":"#VALUE!"},{"$f":"COUNTIF('Standards LOOKUP'!B:B,AI2397)","v":0},{"$f":"IFERROR(INDEX('Standards LOOKUP'!C:C,MATCH(AI2397,'Standards LOOKUP'!B:B,0),0),0)","v":0},{"$f":"IFERROR(INDEX('Current Standards'!P:P,MATCH('Sheet Counter'!AI2397,'Current Standards'!O:O,0),0),\"\")","v":""}]
[null,null,0,"","",{"$error":"#VALUE!"},"",{"$f":"IF(I2399=\"\",\"\",LARGE(H$1:H2398,1)+1)","v":{"$error":"#VALUE!"}},{"$error":"#VALUE!"},null,null,null,null,null,2398,0,{"$f":"IF(R2399=\"\",\"\",LARGE(Q$1:Q2398,1)+1)","v":{"$error":"#NUM!"}},{"$error":"#NUM!"},null,null,null,null,null,null,0,{"$error":"#VALUE!"},3999,"","",null,null,null,null,{"$error":"#VALUE!"},{"$error":"#VALUE!"},{"$f":"COUNTIF('Standards LOOKUP'!B:B,AI2399)","v":0},{"$f":"IFERROR(INDEX('Standards LOOKUP'!C:C,MATCH(AI2399,'Standards LOOKUP'!B:B,0),0),0)","v":0},{"$f":"IFERROR(INDEX('Current Standards'!P:P,MATCH('Sheet Counter'!AI2399,'Current Standards'!O:O,0),0),\"\")","v":""}]
[null,null,0,"","",{"$error":"#VALUE!"},"",{"$f":"IF(I2400=\"\",\"\",LARGE(H$1:H2399,1)+1)","v":{"$error":"#VALUE!"}},{"$error":"#VALUE!"},null,null,null,null,null,2399,0,{"$f":"IF(R2400=\"\",\"\",LARGE(Q$1:Q2399,1)+1)","v":{"$error":"#NUM!"}},{"$error":"#NUM!"},null,null,null,null,null,null,0,{"$error":"#VALUE!"},3999,"","",null,null,null,null,{"$error":"#VALUE!"},{"$error":"#VALUE!"},{"$f":"COUNTIF('Standards LOOKUP'!B:B,AI2400)","v":0},{"$f":"IFERROR(INDEX('Standards LOOKUP'!C:C,MATCH(AI2400,'Standards LOOKUP'!B:B,0),0),0)","v":0},{"$f":"IFERROR(INDEX('Current Standards'!P:P,MATCH('Sheet Counter'!AI2400,'Current Standards'!O:O,0),0),\"\")","v":""}]
[null,null,0,"","",{"$error":"#VALUE!"},"",{"$f":"IF(I2403=\"\",\"\",LARGE(H$1:H2402,1)+1)","v":{"$error":"#VALUE!"}},{"$error":"#VALUE!"},null,null,null,null,null,2402,0,{"$f":"IF(R2403=\"\",\"\",LARGE(Q$1:Q2402,1)+1)","v":{"$error":"#NUM!"}},{"$error":"#NUM!"},null,null,null,null,null,null,0,{"$error":"#VALUE!"},3999,"","",null,null,null,null,{"$error":"#VALUE!"},{"$error":"#VALUE!"},{"$f":"COUNTIF('Standards LOOKUP'!B:B,AI2403)","v":0},{"$f":"IFERROR(INDEX('Standards LOOKUP'!C:C,MATCH(AI2403,'Standards LOOKUP'!B:B,0),0),0)","v":0},{"$f":"IFERROR(INDEX('Current Standards'!P:P,MATCH('Sheet Counter'!AI2403,'Current Standards'!O:O,0),0),\"\")","v":""}]
[null,null,0,"","",{"$error":"#VALUE!"},"",{"$f":"IF(I2407=\"\",\"\",LARGE(H$1:H2406,1)+1)","v":{"$error":"#VALUE!"}},{"$error":"#VALUE!"},null,null,null,null,null,2406,0,{"$f":"IF(R2407=\"\",\"\",LARGE(Q$1:Q2406,1)+1)","v":{"$error":"#NUM!"}},{"$error":"#NUM!"},null,null,null,null,null,null,0,{"$error":"#VALUE!"},3999,"","",null,null,null,null,{"$error":"#VALUE!"},{"$error":"#VALUE!"},{"$f":"COUNTIF('Standards LOOKUP'!B:B,AI2407)","v":0},{"$f":"IFERROR(INDEX('Standards LOOKUP'!C:C,MATCH(AI2407,'Standards LOOKUP'!B:B,0),0),0)","v":0},{"$f":"IFERROR(INDEX('Current Standards'!P:P,MATCH('Sheet Counter'!AI2407,'Current Standards'!O:O,0),0),\"\")","v":""}]
[null,null,0,"","",{"$error":"#VALUE!"},"",{"$f":"IF(I2410=\"\",\"\",LARGE(H$1:H2409,1)+1)","v":{"$error":"#VALUE!"}},{"$error":"#VALUE!"},null,null,null,null,null,2409,0,{"$f":"IF(R2410=\"\",\"\",LARGE(Q$1:Q2409,1)+1)","v":{"$error":"#NUM!"}},{"$error":"#NUM!"},null,null,null,null,null,null,0,{"$error":"#VALUE!"},3999,"","",null,null,null,null,{"$error":"#VALUE!"},{"$error":"#VALUE!"},{"$f":"COUNTIF('Standards LOOKUP'!B:B,AI2410)","v":0},{"$f":"IFERROR(INDEX('Standards LOOKUP'!C:C,MATCH(AI2410,'Standards LOOKUP'!B:B,0),0),0)","v":0},{"$f":"IFERROR(INDEX('Current Standards'!P:P,MATCH('Sheet Counter'!AI2410,'Current Standards'!O:O,0),0),\"\")","v":""}]
[null,null,0,"","",{"$error":"#VALUE!"},"",{"$f":"IF(I2412=\"\",\"\",LARGE(H$1:H2411,1)+1)","v":{"$error":"#VALUE!"}},{"$error":"#VALUE!"},null,null,null,null,null,2411,0,{"$f":"IF(R2412=\"\",\"\",LARGE(Q$1:Q2411,1)+1)","v":{"$error":"#NUM!"}},{"$error":"#NUM!"},null,null,null,null,null,null,0,{"$error":"#VALUE!"},3999,"","",null,null,null,null,{"$error":"#VALUE!"},{"$error":"#VALUE!"},{"$f":"COUNTIF('Standards LOOKUP'!B:B,AI2412)","v":0},{"$f":"IFERROR(INDEX('Standards LOOKUP'!C:C,MATCH(AI2412,'Standards LOOKUP'!B:B,0),0),0)","v":0},{"$f":"IFERROR(INDEX('Current Standards'!P:P,MATCH('Sheet Counter'!AI2412,'Current Standards'!O:O,0),0),\"\")","v":""}]
[null,null,0,"","",{"$error":"#VALUE!"},"",{"$f":"IF(I2416=\"\",\"\",LARGE(H$1:H2415,1)+1)","v":{"$error":"#VALUE!"}},{"$error":"#VALUE!"},null,null,null,null,null,2415,0,{"$f":"IF(R2416=\"\",\"\",LARGE(Q$1:Q2415,1)+1)","v":{"$error":"#NUM!"}},{"$error":"#NUM!"},null,null,null,null,null,null,0,{"$error":"#VALUE!"},3999,"","",null,null,null,null,{"$error":"#VALUE!"},{"$error":"#VALUE!"},{"$f":"COUNTIF('Standards LOOKUP'!B:B,AI2416)","v":0},{"$f":"IFERROR(INDEX('Standards LOOKUP'!C:C,MATCH(AI2416,'Standards LOOKUP'!B:B,0),0),0)","v":0},{"$f":"IFERROR(INDEX('Current Standards'!P:P,MATCH('Sheet Counter'!AI2416,'Current Standards'!O:O,0),0),\"\")","v":""}]
[null,null,0,"","",{"$error":"#VALUE!"},"",{"$f":"IF(I2419=\"\",\"\",LARGE(H$1:H2418,1)+1)","v":{"$error":"#VALUE!"}},{"$error":"#VALUE!"},null,null,null,null,null,2418,0,{"$f":"IF(R2419=\"\",\"\",LARGE(Q$1:Q2418,1)+1)","v":{"$error":"#NUM!"}},{"$error":"#NUM!"},null,null,null,null,null,null,0,{"$error":"#VALUE!"},3999,"","",null,null,null,null,{"$error":"#VALUE!"},{"$error":"#VALUE!"},{"$f":"COUNTIF('Standards LOOKUP'!B:B,AI2419)","v":0},{"$f":"IFERROR(INDEX('Standards LOOKUP'!C:C,MATCH(AI2419,'Standards LOOKUP'!B:B,0),0),0)","v":0},{"$f":"IFERROR(INDEX('Current Standards'!P:P,MATCH('Sheet Counter'!AI2419,'Current Standards'!O:O,0),0),\"\")","v":""}]
[null,null,0,"","",{"$error":"#VALUE!"},"",{"$f":"IF(I2421=\"\",\"\",LARGE(H$1:H2420,1)+1)","v":{"$error":"#VALUE!"}},{"$error":"#VALUE!"},null,null,null,null,null,2420,0,{"$f":"IF(R2421=\"\",\"\",LARGE(Q$1:Q2420,1)+1)","v":{"$error":"#NUM!"}},{"$error":"#NUM!"},null,null,null,null,null,null,0,{"$error":"#VALUE!"},3999,"","",null,null,null,null,{"$error":"#VALUE!"},{"$error":"#VALUE!"},{"$f":"COUNTIF('Standards LOOKUP'!B:B,AI2421)","v":0},{"$f":"IFERROR(INDEX('Standards LOOKUP'!C:C,MATCH(AI2421,'Standards LOOKUP'!B:B,0),0),0)","v":0},{"$f":"IFERROR(INDEX('Current Standards'!P:P,MATCH('Sheet Counter'!AI2421,'Current Standards'!O:O,0),0),\"\")","v":""}]
[null,null,0,"","",{"$error":"#VALUE!"},"",{"$f":"IF(I2422=\"\",\"\",LARGE(H$1:H2421,1)+1)","v":{"$error":"#VALUE!"}},{"$error":"#VALUE!"},null,null,null,null,null,2421,0,{"$f":"IF(R2422=\"\",\"\",LARGE(Q$1:Q2421,1)+1)","v":{"$error":"#NUM!"}},{"$error":"#NUM!"},null,null,null,null,null,null,0,{"$error":"#VALUE!"},3999,"","",null,null,null,null,{"$error":"#VALUE!"},{"$error":"#VALUE!"},{"$f":"COUNTIF('Standards LOOKUP'!B:B,AI2422)","v":0},{"$f":"IFERROR(INDEX('Standards LOOKUP'!C:C,MATCH(AI2422,'Standards LOOKUP'!B:B,0),0),0)","v":0},{"$f":"IFERROR(INDEX('Current Standards'!P:P,MATCH('Sheet Counter'!AI2422,'Current Standards'!O:O,0),0),\"\")","v":""}]
[null,null,0,"","",{"$error":"#VALUE!"},"",{"$f":"IF(I2425=\"\",\"\",LARGE(H$1:H2424,1)+1)","v":{"$error":"#VALUE!"}},{"$error":"#VALUE!"},null,null,null,null,null,2424,0,{"$f":"IF(R2425=\"\",\"\",LARGE(Q$1:Q2424,1)+1)","v":{"$error":"#NUM!"}},{"$error":"#NUM!"},null,null,null,null,null,null,0,{"$error":"#VALUE!"},3999,"","",null,null,null,null,{"$error":"#VALUE!"},{"$error":"#VALUE!"},{"$f":"COUNTIF('Standards LOOKUP'!B:B,AI2425)","v":0},{"$f":"IFERROR(INDEX('Standards LOOKUP'!C:C,MATCH(AI2425,'Standards LOOKUP'!B:B,0),0),0)","v":0},{"$f":"IFERROR(INDEX('Current Standards'!P:P,MATCH('Sheet Counter'!AI2425,'Current Standards'!O:O,0),0),\"\")","v":""}]
[null,null,0,"","",{"$error":"#VALUE!"},"",{"$f":"IF(I2429=\"\",\"\",LARGE(H$1:H2428,1)+1)","v":{"$error":"#VALUE!"}},{"$error":"#VALUE!"},null,null,null,null,null,2428,0,{"$f":"IF(R2429=\"\",\"\",LARGE(Q$1:Q2428,1)+1)","v":{"$error":"#NUM!"}},{"$error":"#NUM!"},null,null,null,null,null,null,0,{"$error":"#VALUE!"},3999,"","",null,null,null,null,{"$error":"#VALUE!"},{"$error":"#VALUE!"},{"$f":"COUNTIF('Standards LOOKUP'!B:B,AI2429)","v":0},{"$f":"IFERROR(INDEX('Standards LOOKUP'!C:C,MATCH(AI2429,'Standards LOOKUP'!B:B,0),0),0)","v":0},{"$f":"IFERROR(INDEX('Current Standards'!P:P,MATCH('Sheet Counter'!AI2429,'Current Standards'!O:O,0),0),\"\")","v":""}]
[null,null,0,"","",{"$error":"#VALUE!"},"",{"$f":"IF(I2432=\"\",\"\",LARGE(H$1:H2431,1)+1)","v":{"$error":"#VALUE!"}},{"$error":"#VALUE!"},null,null,null,null,null,2431,0,{"$f":"IF(R2432=\"\",\"\",LARGE(Q$1:Q2431,1)+1)","v":{"$error":"#NUM!"}},{"$error":"#NUM!"},null,null,null,null,null,null,0,{"$error":"#VALUE!"},3999,"","",null,null,null,null,{"$error":"#VALUE!"},{"$error":"#VALUE!"},{"$f":"COUNTIF('Standards LOOKUP'!B:B,AI2432)","v":0},{"$f":"IFERROR(INDEX('Standards LOOKUP'!C:C,MATCH(AI2432,'Standards LOOKUP'!B:B,0),0),0)","v":0},{"$f":"IFERROR(INDEX('Current Standards'!P:P,MATCH('Sheet Counter'!AI2432,'Current Standards'!O:O,0),0),\"\")","v":""}]
[null,null,{"$f":"IF(ISERROR(FIND(\"\\\",A2435)),A2435,RIGHT(A2435,LEN(A2435)-FIND(\"~\",SUBSTITUTE(A2435,\"\\\",\"~\",LEN(A2435)-LEN(SUBSTITUTE(A2435,\"\\\",\"\"))))))","v":0},{"$f":"IF(AL2435=\"\",\"\",AL2435)","v":""},"",{"$f":"LEFT(C2435,FIND(\"-\",SUBSTITUTE(SUBSTITUTE(C2435,\"_\",\"-\"),\" \",\"-\"))-1)","v":{"$error":"#VALUE!"}},{"$f":"IF(ISNUMBER(F2435*1),F2435*1,\"\")","v":""},{"$f":"IF(I2435=\"\",\"\",LARGE(H$1:H2434,1)+1)","v":{"$error":"#VALUE!"}},{"$error":"#VALUE!"},null,null,null,null,null,2434,0,{"$f":"IF(R2435=\"\",\"\",LARGE(Q$1:Q2434,1)+1)","v":{"$error":"#NUM!"}},{"$error":"#NUM!"},null,null,null,null,null,null,{"$f":"IF(ISERROR(FIND(\"\\\",X2435)),X2435,RIGHT(X2435,LEN(X2435)-FIND(\"~\",SUBSTITUTE(X2435,\"\\\",\"~\",LEN(X2435)-LEN(SUBSTITUTE(X2435,\"\\\",\"\"))))))","v":0},{"$f":"LEFT(Y2435,FIND(\"-\",SUBSTITUTE(SUBSTITUTE(Y2435,\"_\",\"-\"),\" \",\"-\"))-1)","v":{"$error":"#VALUE!"}},{"$f":"COUNTIF(F:F,Z2435)","v":3999},{"$f":"IF(OR(AA2435<1,ISERROR(Z2435)),\"\",INDEX(C:C,MATCH(Z2435,F:F)))","v":""},{"$f":"IF(AA2435=0,\"New Sheet\",IF(EXACT(UPPER(Y2435),UPPER(AB2435)),\"Match\",\"\"))","v":""},null,null,null,null,{"$f":"IF(C2435=\"\",\"\",LEFT(RIGHT(C2435,LEN(C2435)-SEARCH(\" \",C2435,1)),LEN(RIGHT(C2435,LEN(C2435)-SEARCH(\" \",C2435,1)))-4))","v":{"$error":"#VALUE!"}},{"$f":"TRIM(SUBSTITUTE(SUBSTITUTE(SUBSTITUTE(SUBSTITUTE(SUBSTITUTE(SUBSTITUTE(AH2435,\"(\",\"\"),\")\",\"\"),\"-\",\"\"),\"&\",\"\"),\" \",\"\",1),\" \",\"\",1))","v":{"$error":"#VALUE!"}},{"$f":"COUNTIF('Standards LOOKUP'!B:B,AI2435)","v":0},{"$f":"IFERROR(INDEX('Standards LOOKUP'!C:C,MATCH(AI2435,'Standards LOOKUP'!B:B,0),0),0)","v":0},{"$f":"IFERROR(INDEX('Current Standards'!P:P,MATCH('Sheet Counter'!AI2435,'Current Standards'!O:O,0),0),\"\")","v":""}]
[null,null,0,"","",{"$error":"#VALUE!"},"",{"$f":"IF(I2438=\"\",\"\",LARGE(H$1:H2437,1)+1)","v":{"$error":"#VALUE!"}},{"$error":"#VALUE!"},null,null,null,null,null,2437,0,{"$f":"IF(R2438=\"\",\"\",LARGE(Q$1:Q2437,1)+1)","v":{"$error":"#NUM!"}},{"$error":"#NUM!"},null,null,null,null,null,null,0,{"$error":"#VALUE!"},3999,"","",null,null,null,null,{"$error":"#VALUE!"},{"$error":"#VALUE!"},{"$f":"COUNTIF('Standards LOOKUP'!B:B,AI2438)","v":0},{"$f":"IFERROR(INDEX('Standards LOOKUP'!C:C,MATCH(AI2438,'Standards LOOKUP'!B:B,0),0),0)","v":0},{"$f":"IFERROR(INDEX('Current Standards'!P:P,MATCH('Sheet Counter'!AI2438,'Current Standards'!O:O,0),0),\"\")","v":""}]
[null,null,0,"","",{"$error":"#VALUE!"},"",{"$f":"IF(I2441=\"\",\"\",LARGE(H$1:H2440,1)+1)","v":{"$error":"#VALUE!"}},{"$error":"#VALUE!"},null,null,null,null,null,2440,0,{"$f":"IF(R2441=\"\",\"\",LARGE(Q$1:Q2440,1)+1)","v":{"$error":"#NUM!"}},{"$error":"#NUM!"},null,null,null,null,null,null,0,{"$error":"#VALUE!"},3999,"","",null,null,null,null,{"$error":"#VALUE!"},{"$error":"#VALUE!"},{"$f":"COUNTIF('Standards LOOKUP'!B:B,AI2441)","v":0},{"$f":"IFERROR(INDEX('Standards LOOKUP'!C:C,MATCH(AI2441,'Standards LOOKUP'!B:B,0),0),0)","v":0},{"$f":"IFERROR(INDEX('Current Standards'!P:P,MATCH('Sheet Counter'!AI2441,'Current Standards'!O:O,0),0),\"\")","v":""}]
[null,null,0,"","",{"$error":"#VALUE!"},"",{"$f":"IF(I2443=\"\",\"\",LARGE(H$1:H2442,1)+1)","v":{"$error":"#VALUE!"}},{"$error":"#VALUE!"},null,null,null,null,null,2442,0,{"$f":"IF(R2443=\"\",\"\",LARGE(Q$1:Q2442,1)+1)","v":{"$error":"#NUM!"}},{"$error":"#NUM!"},null,null,null,null,null,null,0,{"$error":"#VALUE!"},3999,"","",null,null,null,null,{"$error":"#VALUE!"},{"$error":"#VALUE!"},{"$f":"COUNTIF('Standards LOOKUP'!B:B,AI2443)","v":0},{"$f":"IFERROR(INDEX('Standards LOOKUP'!C:C,MATCH(AI2443,'Standards LOOKUP'!B:B,0),0),0)","v":0},{"$f":"IFERROR(INDEX('Current Standards'!P:P,MATCH('Sheet Counter'!AI2443,'Current Standards'!O:O,0),0),\"\")","v":""}]
[null,null,0,"","",{"$error":"#VALUE!"},"",{"$f":"IF(I2444=\"\",\"\",LARGE(H$1:H2443,1)+1)","v":{"$error":"#VALUE!"}},{"$error":"#VALUE!"},null,null,null,null,null,2443,0,{"$f":"IF(R2444=\"\",\"\",LARGE(Q$1:Q2443,1)+1)","v":{"$error":"#NUM!"}},{"$error":"#NUM!"},null,null,null,null,null,null,0,{"$error":"#VALUE!"},3999,"","",null,null,null,null,{"$error":"#VALUE!"},{"$error":"#VALUE!"},{"$f":"COUNTIF('Standards LOOKUP'!B:B,AI2444)","v":0},{"$f":"IFERROR(INDEX('Standards LOOKUP'!C:C,MATCH(AI2444,'Standards LOOKUP'!B:B,0),0),0)","v":0},{"$f":"IFERROR(INDEX('Current Standards'!P:P,MATCH('Sheet Counter'!AI2444,'Current Standards'!O:O,0),0),\"\")","v":""}]
[null,null,0,"","",{"$error":"#VALUE!"},"",{"$f":"IF(I2447=\"\",\"\",LARGE(H$1:H2446,1)+1)","v":{"$error":"#VALUE!"}},{"$error":"#VALUE!"},null,null,null,null,null,2446,0,{"$f":"IF(R2447=\"\",\"\",LARGE(Q$1:Q2446,1)+1)","v":{"$error":"#NUM!"}},{"$error":"#NUM!"},null,null,null,null,null,null,0,{"$error":"#VALUE!"},3999,"","",null,null,null,null,{"$error":"#VALUE!"},{"$error":"#VALUE!"},{"$f":"COUNTIF('Standards LOOKUP'!B:B,AI2447)","v":0},{"$f":"IFERROR(INDEX('Standards LOOKUP'!C:C,MATCH(AI2447,'Standards LOOKUP'!B:B,0),0),0)","v":0},{"$f":"IFERROR(INDEX('Current Standards'!P:P,MATCH('Sheet Counter'!AI2447,'Current Standards'!O:O,0),0),\"\")","v":""}]
[null,null,0,"","",{"$error":"#VALUE!"},"",{"$f":"IF(I2451=\"\",\"\",LARGE(H$1:H2450,1)+1)","v":{"$error":"#VALUE!"}},{"$error":"#VALUE!"},null,null,null,null,null,2450,0,{"$f":"IF(R2451=\"\",\"\",LARGE(Q$1:Q2450,1)+1)","v":{"$error":"#NUM!"}},{"$error":"#NUM!"},null,null,null,null,null,null,0,{"$error":"#VALUE!"},3999,"","",null,null,null,null,{"$error":"#VALUE!"},{"$error":"#VALUE!"},{"$f":"COUNTIF('Standards LOOKUP'!B:B,AI2451)","v":0},{"$f":"IFERROR(INDEX('Standards LOOKUP'!C:C,MATCH(AI2451,'Standards LOOKUP'!B:B,0),0),0)","v":0},{"$f":"IFERROR(INDEX('Current Standards'!P:P,MATCH('Sheet Counter'!AI2451,'Current Standards'!O:O,0),0),\"\")","v":""}]
[null,null,0,"","",{"$error":"#VALUE!"},"",{"$f":"IF(I2454=\"\",\"\",LARGE(H$1:H2453,1)+1)","v":{"$error":"#VALUE!"}},{"$error":"#VALUE!"},null,null,null,null,null,2453,0,{"$f":"IF(R2454=\"\",\"\",LARGE(Q$1:Q2453,1)+1)","v":{"$error":"#NUM!"}},{"$error":"#NUM!"},null,null,null,null,null,null,0,{"$error":"#VALUE!"},3999,"","",null,null,null,null,{"$error":"#VALUE!"},{"$error":"#VALUE!"},{"$f":"COUNTIF('Standards LOOKUP'!B:B,AI2454)","v":0},{"$f":"IFERROR(INDEX('Standards LOOKUP'!C:C,MATCH(AI2454,'Standards LOOKUP'!B:B,0),0),0)","v":0},{"$f":"IFERROR(INDEX('Current Standards'!P:P,MATCH('Sheet Counter'!AI2454,'Current Standards'!O:O,0),0),\"\")","v":""}]
[null,null,0,"","",{"$error":"#VALUE!"},"",{"$f":"IF(I2457=\"\",\"\",LARGE(H$1:H2456,1)+1)","v":{"$error":"#VALUE!"}},{"$error":"#VALUE!"},null,null,null,null,null,2456,0,{"$f":"IF(R2457=\"\",\"\",LARGE(Q$1:Q2456,1)+1)","v":{"$error":"#NUM!"}},{"$error":"#NUM!"},null,null,null,null,null,null,0,{"$error":"#VALUE!"},3999,"","",null,null,null,null,{"$error":"#VALUE!"},{"$error":"#VALUE!"},{"$f":"COUNTIF('Standards LOOKUP'!B:B,AI2457)","v":0},{"$f":"IFERROR(INDEX('Standards LOOKUP'!C:C,MATCH(AI2457,'Standards LOOKUP'!B:B,0),0),0)","v":0},{"$f":"IFERROR(INDEX('Current Standards'!P:P,MATCH('Sheet Counter'!AI2457,'Current Standards'!O:O,0),0),\"\")","v":""}]
[null,null,0,"","",{"$error":"#VALUE!"},"",{"$f":"IF(I2460=\"\",\"\",LARGE(H$1:H2459,1)+1)","v":{"$error":"#VALUE!"}},{"$error":"#VALUE!"},null,null,null,null,null,2459,0,{"$f":"IF(R2460=\"\",\"\",LARGE(Q$1:Q2459,1)+1)","v":{"$error":"#NUM!"}},{"$error":"#NUM!"},null,null,null,null,null,null,0,{"$error":"#VALUE!"},3999,"","",null,null,null,null,{"$error":"#VALUE!"},{"$error":"#VALUE!"},{"$f":"COUNTIF('Standards LOOKUP'!B:B,AI2460)","v":0},{"$f":"IFERROR(INDEX('Standards LOOKUP'!C:C,MATCH(AI2460,'Standards LOOKUP'!B:B,0),0),0)","v":0},{"$f":"IFERROR(INDEX('Current Standards'!P:P,MATCH('Sheet Counter'!AI2460,'Current Standards'!O:O,0),0),\"\")","v":""}]
[null,null,0,"","",{"$error":"#VALUE!"},"",{"$f":"IF(I2463=\"\",\"\",LARGE(H$1:H2462,1)+1)","v":{"$error":"#VALUE!"}},{"$error":"#VALUE!"},null,null,null,null,null,2462,0,{"$f":"IF(R2463=\"\",\"\",LARGE(Q$1:Q2462,1)+1)","v":{"$error":"#NUM!"}},{"$error":"#NUM!"},null,null,null,null,null,null,0,{"$error":"#VALUE!"},3999,"","",null,null,null,null,{"$error":"#VALUE!"},{"$error":"#VALUE!"},{"$f":"COUNTIF('Standards LOOKUP'!B:B,AI2463)","v":0},{"$f":"IFERROR(INDEX('Standards LOOKUP'!C:C,MATCH(AI2463,'Standards LOOKUP'!B:B,0),0),0)","v":0},{"$f":"IFERROR(INDEX('Current Standards'!P:P,MATCH('Sheet Counter'!AI2463,'Current Standards'!O:O,0),0),\"\")","v":""}]
[null,null,0,"","",{"$error":"#VALUE!"},"",{"$f":"IF(I2465=\"\",\"\",LARGE(H$1:H2464,1)+1)","v":{"$error":"#VALUE!"}},{"$error":"#VALUE!"},null,null,null,null,null,2464,0,{"$f":"IF(R2465=\"\",\"\",LARGE(Q$1:Q2464,1)+1)","v":{"$error":"#NUM!"}},{"$error":"#NUM!"},null,null,null,null,null,null,0,{"$error":"#VALUE!"},3999,"","",null,null,null,null,{"$error":"#VALUE!"},{"$error":"#VALUE!"},{"$f":"COUNTIF('Standards LOOKUP'!B:B,AI2465)","v":0},{"$f":"IFERROR(INDEX('Standards LOOKUP'!C:C,MATCH(AI2465,'Standards LOOKUP'!B:B,0),0),0)","v":0},{"$f":"IFERROR(INDEX('Current Standards'!P:P,MATCH('Sheet Counter'!AI2465,'Current Standards'!O:O,0),0),\"\")","v":""}]
[null,null,0,"","",{"$error":"#VALUE!"},"",{"$f":"IF(I2466=\"\",\"\",LARGE(H$1:H2465,1)+1)","v":{"$error":"#VALUE!"}},{"$error":"#VALUE!"},null,null,null,null,null,2465,0,{"$f":"IF(R2466=\"\",\"\",LARGE(Q$1:Q2465,1)+1)","v":{"$error":"#NUM!"}},{"$error":"#NUM!"},null,null,null,null,null,null,0,{"$error":"#VALUE!"},3999,"","",null,null,null,null,{"$error":"#VALUE!"},{"$error":"#VALUE!"},{"$f":"COUNTIF('Standards LOOKUP'!B:B,AI2466)","v":0},{"$f":"IFERROR(INDEX('Standards LOOKUP'!C:C,MATCH(AI2466,'Standards LOOKUP'!B:B,0),0),0)","v":0},{"$f":"IFERROR(INDEX('Current Standards'!P:P,MATCH('Sheet Counter'!AI2466,'Current Standards'!O:O,0),0),\"\")","v":""}]
[null,null,0,"","",{"$error":"#VALUE!"},"",{"$f":"IF(I2469=\"\",\"\",LARGE(H$1:H2468,1)+1)","v":{"$error":"#VALUE!"}},{"$error":"#VALUE!"},null,null,null,null,null,2468,0,{"$f":"IF(R2469=\"\",\"\",LARGE(Q$1:Q2468,1)+1)","v":{"$error":"#NUM!"}},{"$error":"#NUM!"},null,null,null,null,null,null,0,{"$error":"#VALUE!"},3999,"","",null,null,null,null,{"$error":"#VALUE!"},{"$error":"#VALUE!"},{"$f":"COUNTIF('Standards LOOKUP'!B:B,AI2469)","v":0},{"$f":"IFERROR(INDEX('Standards LOOKUP'!C:C,MATCH(AI2469,'Standards LOOKUP'!B:B,0),0),0)","v":0},{"$f":"IFERROR(INDEX('Current Standards'!P:P,MATCH('Sheet Counter'!AI2469,'Current Standards'!O:O,0),0),\"\")","v":""}]
[null,null,0,"","",{"$error":"#VALUE!"},"",{"$f":"IF(I2473=\"\",\"\",LARGE(H$1:H2472,1)+1)","v":{"$error":"#VALUE!"}},{"$error":"#VALUE!"},null,null,null,null,null,2472,0,{"$f":"IF(R2473=\"\",\"\",LARGE(Q$1:Q2472,1)+1)","v":{"$error":"#NUM!"}},{"$error":"#NUM!"},null,null,null,null,null,null,0,{"$error":"#VALUE!"},3999,"","",null,null,null,null,{"$error":"#VALUE!"},{"$error":"#VALUE!"},{"$f":"COUNTIF('Standards LOOKUP'!B:B,AI2473)","v":0},{"$f":"IFERROR(INDEX('Standards LOOKUP'!C:C,MATCH(AI2473,'Standards LOOKUP'!B:B,0),0),0)","v":0},{"$f":"IFERROR(INDEX('Current Standards'!P:P,MATCH('Sheet Counter'!AI2473,'Current Standards'!O:O,0),0),\"\")","v":""}]
[null,null,0,"","",{"$error":"#VALUE!"},"",{"$f":"IF(I2476=\"\",\"\",LARGE(H$1:H2475,1)+1)","v":{"$error":"#VALUE!"}},{"$error":"#VALUE!"},null,null,null,null,null,2475,0,{"$f":"IF(R2476=\"\",\"\",LARGE(Q$1:Q2475,1)+1)","v":{"$error":"#NUM!"}},{"$error":"#NUM!"},null,null,null,null,null,null,0,{"$error":"#VALUE!"},3999,"","",null,null,null,null,{"$error":"#VALUE!"},{"$error":"#VALUE!"},{"$f":"COUNTIF('Standards LOOKUP'!B:B,AI2476)","v":0},{"$f":"IFERROR(INDEX('Standards LOOKUP'!C:C,MATCH(AI2476,'Standards LOOKUP'!B:B,0),0),0)","v":0},{"$f":"IFERROR(INDEX('Current Standards'!P:P,MATCH('Sheet Counter'!AI2476,'Current Standards'!O:O,0),0),\"\")","v":""}]
[null,null,0,"","",{"$error":"#VALUE!"},"",{"$f":"IF(I2479=\"\",\"\",LARGE(H$1:H2478,1)+1)","v":{"$error":"#VALUE!"}},{"$error":"#VALUE!"},null,null,null,null,null,2478,0,{"$f":"IF(R2479=\"\",\"\",LARGE(Q$1:Q2478,1)+1)","v":{"$error":"#NUM!"}},{"$error":"#NUM!"},null,null,null,null,null,null,0,{"$error":"#VALUE!"},3999,"","",null,null,null,null,{"$error":"#VALUE!"},{"$error":"#VALUE!"},{"$f":"COUNTIF('Standards LOOKUP'!B:B,AI2479)","v":0},{"$f":"IFERROR(INDEX('Standards LOOKUP'!C:C,MATCH(AI2479,'Standards LOOKUP'!B:B,0),0),0)","v":0},{"$f":"IFERROR(INDEX('Current Standards'!P:P,MATCH('Sheet Counter'!AI2479,'Current Standards'!O:O,0),0),\"\")","v":""}]
[null,null,0,"","",{"$error":"#VALUE!"},"",{"$f":"IF(I2482=\"\",\"\",LARGE(H$1:H2481,1)+1)","v":{"$error":"#VALUE!"}},{"$error":"#VALUE!"},null,null,null,null,null,2481,0,{"$f":"IF(R2482=\"\",\"\",LARGE(Q$1:Q2481,1)+1)","v":{"$error":"#NUM!"}},{"$error":"#NUM!"},null,null,null,null,null,null,0,{"$error":"#VALUE!"},3999,"","",null,null,null,null,{"$error":"#VALUE!"},{"$error":"#VALUE!"},{"$f":"COUNTIF('Standards LOOKUP'!B:B,AI2482)","v":0},{"$f":"IFERROR(INDEX('Standards LOOKUP'!C:C,MATCH(AI2482,'Standards LOOKUP'!B:B,0),0),0)","v":0},{"$f":"IFERROR(INDEX('Current Standards'!P:P,MATCH('Sheet Counter'!AI2482,'Current Standards'!O:O,0),0),\"\")","v":""}]
[null,null,0,"","",{"$error":"#VALUE!"},"",{"$f":"IF(I2485=\"\",\"\",LARGE(H$1:H2484,1)+1)","v":{"$error":"#VALUE!"}},{"$error":"#VALUE!"},null,null,null,null,null,2484,0,{"$f":"IF(R2485=\"\",\"\",LARGE(Q$1:Q2484,1)+1)","v":{"$error":"#NUM!"}},{"$error":"#NUM!"},null,null,null,null,null,null,0,{"$error":"#VALUE!"},3999,"","",null,null,null,null,{"$error":"#VALUE!"},{"$error":"#VALUE!"},{"$f":"COUNTIF('Standards LOOKUP'!B:B,AI2485)","v":0},{"$f":"IFERROR(INDEX('Standards LOOKUP'!C:C,MATCH(AI2485,'Standards LOOKUP'!B:B,0),0),0)","v":0},{"$f":"IFERROR(INDEX('Current Standards'!P:P,MATCH('Sheet Counter'!AI2485,'Current Standards'!O:O,0),0),\"\")","v":""}]
[null,null,0,"","",{"$error":"#VALUE!"},"",{"$f":"IF(I2487=\"\",\"\",LARGE(H$1:H2486,1)+1)","v":{"$error":"#VALUE!"}},{"$error":"#VALUE!"},null,null,null,null,null,2486,0,{"$f":"IF(R2487=\"\",\"\",LARGE(Q$1:Q2486,1)+1)","v":{"$error":"#NUM!"}},{"$error":"#NUM!"},null,null,null,null,null,null,0,{"$error":"#VALUE!"},3999,"","",null,null,null,null,{"$error":"#VALUE!"},{"$error":"#VALUE!"},{"$f":"COUNTIF('Standards LOOKUP'!B:B,AI2487)","v":0},{"$f":"IFERROR(INDEX('Standards LOOKUP'!C:C,MATCH(AI2487,'Standards LOOKUP'!B:B,0),0),0)","v":0},{"$f":"IFERROR(INDEX('Current Standards'!P:P,MATCH('Sheet Counter'!AI2487,'Current Standards'!O:O,0),0),\"\")","v":""}]
[null,null,0,"","",{"$error":"#VALUE!"},"",{"$f":"IF(I2488=\"\",\"\",LARGE(H$1:H2487,1)+1)","v":{"$error":"#VALUE!"}},{"$error":"#VALUE!"},null,null,null,null,null,2487,0,{"$f":"IF(R2488=\"\",\"\",LARGE(Q$1:Q2487,1)+1)","v":{"$error":"#NUM!"}},{"$error":"#NUM!"},null,null,null,null,null,null,0,{"$error":"#VALUE!"},3999,"","",null,null,null,null,{"$error":"#VALUE!"},{"$error":"#VALUE!"},{"$f":"COUNTIF('Standards LOOKUP'!B:B,AI2488)","v":0},{"$f":"IFERROR(INDEX('Standards LOOKUP'!C:C,MATCH(AI2488,'Standards LOOKUP'!B:B,0),0),0)","v":0},{"$f":"IFERROR(INDEX('Current Standards'!P:P,MATCH('Sheet Counter'!AI2488,'Current Standards'!O:O,0),0),\"\")","v":""}]
[null,null,0,"","",{"$error":"#VALUE!"},"",{"$f":"IF(I2492=\"\",\"\",LARGE(H$1:H2491,1)+1)","v":{"$error":"#VALUE!"}},{"$error":"#VALUE!"},null,null,null,null,null,2491,0,{"$f":"IF(R2492=\"\",\"\",LARGE(Q$1:Q2491,1)+1)","v":{"$error":"#NUM!"}},{"$error":"#NUM!"},null,null,null,null,null,null,0,{"$error":"#VALUE!"},3999,"","",null,null,null,null,{"$error":"#VALUE!"},{"$error":"#VALUE!"},{"$f":"COUNTIF('Standards LOOKUP'!B:B,AI2492)","v":0},{"$f":"IFERROR(INDEX('Standards LOOKUP'!C:C,MATCH(AI2492,'Standards LOOKUP'!B:B,0),0),0)","v":0},{"$f":"IFERROR(INDEX('Current Standards'!P:P,MATCH('Sheet Counter'!AI2492,'Current Standards'!O:O,0),0),\"\")","v":""}]
[null,null,0,"","",{"$error":"#VALUE!"},"",{"$f":"IF(I2495=\"\",\"\",LARGE(H$1:H2494,1)+1)","v":{"$error":"#VALUE!"}},{"$error":"#VALUE!"},null,null,null,null,null,2494,0,{"$f":"IF(R2495=\"\",\"\",LARGE(Q$1:Q2494,1)+1)","v":{"$error":"#NUM!"}},{"$error":"#NUM!"},null,null,null,null,null,null,0,{"$error":"#VALUE!"},3999,"","",null,null,null,null,{"$error":"#VALUE!"},{"$error":"#VALUE!"},{"$f":"COUNTIF('Standards LOOKUP'!B:B,AI2495)","v":0},{"$f":"IFERROR(INDEX('Standards LOOKUP'!C:C,MATCH(AI2495,'Standards LOOKUP'!B:B,0),0),0)","v":0},{"$f":"IFERROR(INDEX('Current Standards'!P:P,MATCH('Sheet Counter'!AI2495,'Current Standards'!O:O,0),0),\"\")","v":""}]
[null,null,0,"","",{"$error":"#VALUE!"},"",{"$f":"IF(I2498=\"\",\"\",LARGE(H$1:H2497,1)+1)","v":{"$error":"#VALUE!"}},{"$f":"IF(G2498=\"\",F2498,\"\")","v":{"$error":"#VALUE!"}},null,null,null,null,null,2497,{"$f":"COUNTIF(G:G,O2498)","v":0},{"$f":"IF(R2498=\"\",\"\",LARGE(Q$1:Q2497,1)+1)","v":{"$error":"#NUM!"}},{"$error":"#NUM!"},null,null,null,null,null,null,0,{"$error":"#VALUE!"},3999,"","",null,null,null,null,{"$error":"#VALUE!"},{"$error":"#VALUE!"},{"$f":"COUNTIF('Standards LOOKUP'!B:B,AI2498)","v":0},{"$f":"IFERROR(INDEX('Standards LOOKUP'!C:C,MATCH(AI2498,'Standards LOOKUP'!B:B,0),0),0)","v":0},{"$f":"IFERROR(INDEX('Current Standards'!P:P,MATCH('Sheet Counter'!AI2498,'Current Standards'!O:O,0),0),\"\")","v":""}]
[null,null,0,"","",{"$error":"#VALUE!"},"",{"$f":"IF(I2501=\"\",\"\",LARGE(H$1:H2500,1)+1)","v":{"$error":"#VALUE!"}},{"$error":"#VALUE!"},null,null,null,null,null,2500,0,{"$f":"IF(R2501=\"\",\"\",LARGE(Q$1:Q2500,1)+1)","v":{"$error":"#NUM!"}},{"$error":"#NUM!"},null,null,null,null,null,null,0,{"$error":"#VALUE!"},3999,"","",null,null,null,null,{"$error":"#VALUE!"},{"$error":"#VALUE!"},{"$f":"COUNTIF('Standards LOOKUP'!B:B,AI2501)","v":0},{"$f":"IFERROR(INDEX('Standards LOOKUP'!C:C,MATCH(AI2501,'Standards LOOKUP'!B:B,0),0),0)","v":0},{"$f":"IFERROR(INDEX('Current Standards'!P:P,MATCH('Sheet Counter'!AI2501,'Current Standards'!O:O,0),0),\"\")","v":""}]
[null,null,0,"","",{"$error":"#VALUE!"},"",{"$f":"IF(I2504=\"\",\"\",LARGE(H$1:H2503,1)+1)","v":{"$error":"#VALUE!"}},{"$error":"#VALUE!"},null,null,null,null,null,2503,0,{"$f":"IF(R2504=\"\",\"\",LARGE(Q$1:Q2503,1)+1)","v":{"$error":"#NUM!"}},{"$error":"#NUM!"},null,null,null,null,null,null,0,{"$error":"#VALUE!"},3999,"","",null,null,null,null,{"$error":"#VALUE!"},{"$error":"#VALUE!"},{"$f":"COUNTIF('Standards LOOKUP'!B:B,AI2504)","v":0},{"$f":"IFERROR(INDEX('Standards LOOKUP'!C:C,MATCH(AI2504,'Standards LOOKUP'!B:B,0),0),0)","v":0},{"$f":"IFERROR(INDEX('Current Standards'!P:P,MATCH('Sheet Counter'!AI2504,'Current Standards'!O:O,0),0),\"\")","v":""}]
[null,null,0,"","",{"$error":"#VALUE!"},"",{"$f":"IF(I2507=\"\",\"\",LARGE(H$1:H2506,1)+1)","v":{"$error":"#VALUE!"}},{"$error":"#VALUE!"},null,null,null,null,null,2506,0,{"$f":"IF(R2507=\"\",\"\",LARGE(Q$1:Q2506,1)+1)","v":{"$error":"#NUM!"}},{"$error":"#NUM!"},null,null,null,null,null,null,0,{"$error":"#VALUE!"},3999,"","",null,null,null,null,{"$error":"#VALUE!"},{"$error":"#VALUE!"},{"$f":"COUNTIF('Standards LOOKUP'!B:B,AI2507)","v":0},{"$f":"IFERROR(INDEX('Standards LOOKUP'!C:C,MATCH(AI2507,'Standards LOOKUP'!B:B,0),0),0)","v":0},{"$f":"IFERROR(INDEX('Current Standards'!P:P,MATCH('Sheet Counter'!AI2507,'Current Standards'!O:O,0),0),\"\")","v":""}]
[null,null,0,"","",{"$error":"#VALUE!"},"",{"$f":"IF(I2509=\"\",\"\",LARGE(H$1:H2508,1)+1)","v":{"$error":"#VALUE!"}},{"$error":"#VALUE!"},null,null,null,null,null,2508,0,{"$f":"IF(R2509=\"\",\"\",LARGE(Q$1:Q2508,1)+1)","v":{"$error":"#NUM!"}},{"$error":"#NUM!"},null,null,null,null,null,null,0,{"$error":"#VALUE!"},3999,"","",null,null,null,null,{"$error":"#VALUE!"},{"$error":"#VALUE!"},{"$f":"COUNTIF('Standards LOOKUP'!B:B,AI2509)","v":0},{"$f":"IFERROR(INDEX('Standards LOOKUP'!C:C,MATCH(AI2509,'Standards LOOKUP'!B:B,0),0),0)","v":0},{"$f":"IFERROR(INDEX('Current Standards'!P:P,MATCH('Sheet Counter'!AI2509,'Current Standards'!O:O,0),0),\"\")","v":""}]
[null,null,0,"","",{"$error":"#VALUE!"},"",{"$f":"IF(I2510=\"\",\"\",LARGE(H$1:H2509,1)+1)","v":{"$error":"#VALUE!"}},{"$error":"#VALUE!"},null,null,null,null,null,2509,0,{"$f":"IF(R2510=\"\",\"\",LARGE(Q$1:Q2509,1)+1)","v":{"$error":"#NUM!"}},{"$error":"#NUM!"},null,null,null,null,null,null,0,{"$error":"#VALUE!"},3999,"","",null,null,null,null,{"$error":"#VALUE!"},{"$error":"#VALUE!"},{"$f":"COUNTIF('Standards LOOKUP'!B:B,AI2510)","v":0},{"$f":"IFERROR(INDEX('Standards LOOKUP'!C:C,MATCH(AI2510,'Standards LOOKUP'!B:B,0),0),0)","v":0},{"$f":"IFERROR(INDEX('Current Standards'!P:P,MATCH('Sheet Counter'!AI2510,'Current Standards'!O:O,0),0),\"\")","v":""}]
[null,null,0,"","",{"$error":"#VALUE!"},"",{"$f":"IF(I2514=\"\",\"\",LARGE(H$1:H2513,1)+1)","v":{"$error":"#VALUE!"}},{"$error":"#VALUE!"},null,null,null,null,null,2513,0,{"$f":"IF(R2514=\"\",\"\",LARGE(Q$1:Q2513,1)+1)","v":{"$error":"#NUM!"}},{"$error":"#NUM!"},null,null,null,null,null,null,0,{"$error":"#VALUE!"},3999,"","",null,null,null,null,{"$error":"#VALUE!"},{"$error":"#VALUE!"},{"$f":"COUNTIF('Standards LOOKUP'!B:B,AI2514)","v":0},{"$f":"IFERROR(INDEX('Standards LOOKUP'!C:C,MATCH(AI2514,'Standards LOOKUP'!B:B,0),0),0)","v":0},{"$f":"IFERROR(INDEX('Current Standards'!P:P,MATCH('Sheet Counter'!AI2514,'Current Standards'!O:O,0),0),\"\")","v":""}]
[null,null,0,"","",{"$error":"#VALUE!"},"",{"$f":"IF(I2517=\"\",\"\",LARGE(H$1:H2516,1)+1)","v":{"$error":"#VALUE!"}},{"$error":"#VALUE!"},null,null,null,null,null,2516,0,{"$f":"IF(R2517=\"\",\"\",LARGE(Q$1:Q2516,1)+1)","v":{"$error":"#NUM!"}},{"$error":"#NUM!"},null,null,null,null,null,null,0,{"$error":"#VALUE!"},3999,"","",null,null,null,null,{"$error":"#VALUE!"},{"$error":"#VALUE!"},{"$f":"COUNTIF('Standards LOOKUP'!B:B,AI2517)","v":0},{"$f":"IFERROR(INDEX('Standards LOOKUP'!C:C,MATCH(AI2517,'Standards LOOKUP'!B:B,0),0),0)","v":0},{"$f":"IFERROR(INDEX('Current Standards'!P:P,MATCH('Sheet Counter'!AI2517,'Current Standards'!O:O,0),0),\"\")","v":""}]
[null,null,0,"","",{"$error":"#VALUE!"},"",{"$f":"IF(I2520=\"\",\"\",LARGE(H$1:H2519,1)+1)","v":{"$error":"#VALUE!"}},{"$error":"#VALUE!"},null,null,null,null,null,2519,0,{"$f":"IF(R2520=\"\",\"\",LARGE(Q$1:Q2519,1)+1)","v":{"$error":"#NUM!"}},{"$error":"#NUM!"},null,null,null,null,null,null,0,{"$error":"#VALUE!"},3999,"","",null,null,null,null,{"$error":"#VALUE!"},{"$error":"#VALUE!"},{"$f":"COUNTIF('Standards LOOKUP'!B:B,AI2520)","v":0},{"$f":"IFERROR(INDEX('Standards LOOKUP'!C:C,MATCH(AI2520,'Standards LOOKUP'!B:B,0),0),0)","v":0},{"$f":"IFERROR(INDEX('Current Standards'!P:P,MATCH('Sheet Counter'!AI2520,'Current Standards'!O:O,0),0),\"\")","v":""}]
[null,null,0,"","",{"$error":"#VALUE!"},"",{"$f":"IF(I2523=\"\",\"\",LARGE(H$1:H2522,1)+1)","v":{"$error":"#VALUE!"}},{"$error":"#VALUE!"},null,null,null,null,null,2522,0,{"$f":"IF(R2523=\"\",\"\",LARGE(Q$1:Q2522,1)+1)","v":{"$error":"#NUM!"}},{"$error":"#NUM!"},null,null,null,null,null,null,0,{"$error":"#VALUE!"},3999,"","",null,null,null,null,{"$error":"#VALUE!"},{"$error":"#VALUE!"},{"$f":"COUNTIF('Standards LOOKUP'!B:B,AI2523)","v":0},{"$f":"IFERROR(INDEX('Standards LOOKUP'!C:C,MATCH(AI2523,'Standards LOOKUP'!B:B,0),0),0)","v":0},{"$f":"IFERROR(INDEX('Current Standards'!P:P,MATCH('Sheet Counter'!AI2523,'Current Standards'!O:O,0),0),\"\")","v":""}]
[null,null,0,"","",{"$error":"#VALUE!"},"",{"$f":"IF(I2526=\"\",\"\",LARGE(H$1:H2525,1)+1)","v":{"$error":"#VALUE!"}},{"$error":"#VALUE!"},null,null,null,null,null,2525,0,{"$f":"IF(R2526=\"\",\"\",LARGE(Q$1:Q2525,1)+1)","v":{"$error":"#NUM!"}},{"$error":"#NUM!"},null,null,null,null,null,null,0,{"$error":"#VALUE!"},3999,"","",null,null,null,null,{"$error":"#VALUE!"},{"$error":"#VALUE!"},{"$f":"COUNTIF('Standards LOOKUP'!B:B,AI2526)","v":0},{"$f":"IFERROR(INDEX('Standards LOOKUP'!C:C,MATCH(AI2526,'Standards LOOKUP'!B:B,0),0),0)","v":0},{"$f":"IFERROR(INDEX('Current Standards'!P:P,MATCH('Sheet Counter'!AI2526,'Current Standards'!O:O,0),0),\"\")","v":""}]
[null,null,0,"","",{"$error":"#VALUE!"},"",{"$f":"IF(I2529=\"\",\"\",LARGE(H$1:H2528,1)+1)","v":{"$error":"#VALUE!"}},{"$error":"#VALUE!"},null,null,null,null,null,2528,0,{"$f":"IF(R2529=\"\",\"\",LARGE(Q$1:Q2528,1)+1)","v":{"$error":"#NUM!"}},{"$error":"#NUM!"},null,null,null,null,null,null,0,{"$error":"#VALUE!"},3999,"","",null,null,null,null,{"$error":"#VALUE!"},{"$error":"#VALUE!"},{"$f":"COUNTIF('Standards LOOKUP'!B:B,AI2529)","v":0},{"$f":"IFERROR(INDEX('Standards LOOKUP'!C:C,MATCH(AI2529,'Standards LOOKUP'!B:B,0),0),0)","v":0},{"$f":"IFERROR(INDEX('Current Standards'!P:P,MATCH('Sheet Counter'!AI2529,'Current Standards'!O:O,0),0),\"\")","v":""}]
[null,null,0,"","",{"$error":"#VALUE!"},"",{"$f":"IF(I2531=\"\",\"\",LARGE(H$1:H2530,1)+1)","v":{"$error":"#VALUE!"}},{"$error":"#VALUE!"},null,null,null,null,null,2530,0,{"$f":"IF(R2531=\"\",\"\",LARGE(Q$1:Q2530,1)+1)","v":{"$error":"#NUM!"}},{"$error":"#NUM!"},null,null,null,null,null,null,0,{"$error":"#VALUE!"},3999,"","",null,null,null,null,{"$error":"#VALUE!"},{"$error":"#VALUE!"},{"$f":"COUNTIF('Standards LOOKUP'!B:B,AI2531)","v":0},{"$f":"IFERROR(INDEX('Standards LOOKUP'!C:C,MATCH(AI2531,'Standards LOOKUP'!B:B,0),0),0)","v":0},{"$f":"IFERROR(INDEX('Current Standards'!P:P,MATCH('Sheet Counter'!AI2531,'Current Standards'!O:O,0),0),\"\")","v":""}]
[null,null,0,"","",{"$error":"#VALUE!"},"",{"$f":"IF(I2532=\"\",\"\",LARGE(H$1:H2531,1)+1)","v":{"$error":"#VALUE!"}},{"$error":"#VALUE!"},null,null,null,null,null,2531,0,{"$f":"IF(R2532=\"\",\"\",LARGE(Q$1:Q2531,1)+1)","v":{"$error":"#NUM!"}},{"$error":"#NUM!"},null,null,null,null,null,null,0,{"$error":"#VALUE!"},3999,"","",null,null,null,null,{"$error":"#VALUE!"},{"$error":"#VALUE!"},{"$f":"COUNTIF('Standards LOOKUP'!B:B,AI2532)","v":0},{"$f":"IFERROR(INDEX('Standards LOOKUP'!C:C,MATCH(AI2532,'Standards LOOKUP'!B:B,0),0),0)","v":0},{"$f":"IFERROR(INDEX('Current Standards'!P:P,MATCH('Sheet Counter'!AI2532,'Current Standards'!O:O,0),0),\"\")","v":""}]
[null,null,0,"","",{"$error":"#VALUE!"},"",{"$f":"IF(I2536=\"\",\"\",LARGE(H$1:H2535,1)+1)","v":{"$error":"#VALUE!"}},{"$error":"#VALUE!"},null,null,null,null,null,2535,0,{"$f":"IF(R2536=\"\",\"\",LARGE(Q$1:Q2535,1)+1)","v":{"$error":"#NUM!"}},{"$error":"#NUM!"},null,null,null,null,null,null,0,{"$error":"#VALUE!"},3999,"","",null,null,null,null,{"$error":"#VALUE!"},{"$error":"#VALUE!"},{"$f":"COUNTIF('Standards LOOKUP'!B:B,AI2536)","v":0},{"$f":"IFERROR(INDEX('Standards LOOKUP'!C:C,MATCH(AI2536,'Standards LOOKUP'!B:B,0),0),0)","v":0},{"$f":"IFERROR(INDEX('Current Standards'!P:P,MATCH('Sheet Counter'!AI2536,'Current Standards'!O:O,0),0),\"\")","v":""}]
[null,null,0,"","",{"$error":"#VALUE!"},"",{"$f":"IF(I2539=\"\",\"\",LARGE(H$1:H2538,1)+1)","v":{"$error":"#VALUE!"}},{"$error":"#VALUE!"},null,null,null,null,null,2538,0,{"$f":"IF(R2539=\"\",\"\",LARGE(Q$1:Q2538,1)+1)","v":{"$error":"#NUM!"}},{"$error":"#NUM!"},null,null,null,null,null,null,0,{"$error":"#VALUE!"},3999,"","",null,null,null,null,{"$error":"#VALUE!"},{"$error":"#VALUE!"},{"$f":"COUNTIF('Standards LOOKUP'!B:B,AI2539)","v":0},{"$f":"IFERROR(INDEX('Standards LOOKUP'!C:C,MATCH(AI2539,'Standards LOOKUP'!B:B,0),0),0)","v":0},{"$f":"IFERROR(INDEX('Current Standards'!P:P,MATCH('Sheet Counter'!AI2539,'Current Standards'!O:O,0),0),\"\")","v":""}]
[null,null,0,"","",{"$error":"#VALUE!"},"",{"$f":"IF(I2542=\"\",\"\",LARGE(H$1:H2541,1)+1)","v":{"$error":"#VALUE!"}},{"$error":"#VALUE!"},null,null,null,null,null,2541,0,{"$f":"IF(R2542=\"\",\"\",LARGE(Q$1:Q2541,1)+1)","v":{"$error":"#NUM!"}},{"$error":"#NUM!"},null,null,null,null,null,null,0,{"$error":"#VALUE!"},3999,"","",null,null,null,null,{"$error":"#VALUE!"},{"$error":"#VALUE!"},{"$f":"COUNTIF('Standards LOOKUP'!B:B,AI2542)","v":0},{"$f":"IFERROR(INDEX('Standards LOOKUP'!C:C,MATCH(AI2542,'Standards LOOKUP'!B:B,0),0),0)","v":0},{"$f":"IFERROR(INDEX('Current Standards'!P:P,MATCH('Sheet Counter'!AI2542,'Current Standards'!O:O,0),0),\"\")","v":""}]
[null,null,0,"","",{"$error":"#VALUE!"},"",{"$f":"IF(I2545=\"\",\"\",LARGE(H$1:H2544,1)+1)","v":{"$error":"#VALUE!"}},{"$error":"#VALUE!"},null,null,null,null,null,2544,0,{"$f":"IF(R2545=\"\",\"\",LARGE(Q$1:Q2544,1)+1)","v":{"$error":"#NUM!"}},{"$error":"#NUM!"},null,null,null,null,null,null,0,{"$error":"#VALUE!"},3999,"","",null,null,null,null,{"$error":"#VALUE!"},{"$error":"#VALUE!"},{"$f":"COUNTIF('Standards LOOKUP'!B:B,AI2545)","v":0},{"$f":"IFERROR(INDEX('Standards LOOKUP'!C:C,MATCH(AI2545,'Standards LOOKUP'!B:B,0),0),0)","v":0},{"$f":"IFERROR(INDEX('Current Standards'!P:P,MATCH('Sheet Counter'!AI2545,'Current Standards'!O:O,0),0),\"\")","v":""}]
[null,null,0,"","",{"$error":"#VALUE!"},"",{"$f":"IF(I2548=\"\",\"\",LARGE(H$1:H2547,1)+1)","v":{"$error":"#VALUE!"}},{"$error":"#VALUE!"},null,null,null,null,null,2547,0,{"$f":"IF(R2548=\"\",\"\",LARGE(Q$1:Q2547,1)+1)","v":{"$error":"#NUM!"}},{"$error":"#NUM!"},null,null,null,null,null,null,0,{"$error":"#VALUE!"},3999,"","",null,null,null,null,{"$error":"#VALUE!"},{"$error":"#VALUE!"},{"$f":"COUNTIF('Standards LOOKUP'!B:B,AI2548)","v":0},{"$f":"IFERROR(INDEX('Standards LOOKUP'!C:C,MATCH(AI2548,'Standards LOOKUP'!B:B,0),0),0)","v":0},{"$f":"IFERROR(INDEX('Current Standards'!P:P,MATCH('Sheet Counter'!AI2548,'Current Standards'!O:O,0),0),\"\")","v":""}]
[null,null,0,"","",{"$error":"#VALUE!"},"",{"$f":"IF(I2549=\"\",\"\",LARGE(H$1:H2548,1)+1)","v":{"$error":"#VALUE!"}},{"$error":"#VALUE!"},null,null,null,null,null,2548,0,{"$f":"IF(R2549=\"\",\"\",LARGE(Q$1:Q2548,1)+1)","v":{"$error":"#NUM!"}},{"$error":"#NUM!"},null,null,null,null,null,null,0,{"$error":"#VALUE!"},3999,"","",null,null,null,null,{"$error":"#VALUE!"},{"$error":"#VALUE!"},{"$f":"COUNTIF('Standards LOOKUP'!B:B,AI2549)","v":0},{"$f":"IFERROR(INDEX('Standards LOOKUP'!C:C,MATCH(AI2549,'Standards LOOKUP'!B:B,0),0),0)","v":0},{"$f":"IFERROR(INDEX('Current Standards'!P:P,MATCH('Sheet Counter'!AI2549,'Current Standards'!O:O,0),0),\"\")","v":""}]
[null,null,0,"","",{"$error":"#VALUE!"},"",{"$f":"IF(I2553=\"\",\"\",LARGE(H$1:H2552,1)+1)","v":{"$error":"#VALUE!"}},{"$error":"#VALUE!"},null,null,null,null,null,2552,0,{"$f":"IF(R2553=\"\",\"\",LARGE(Q$1:Q2552,1)+1)","v":{"$error":"#NUM!"}},{"$error":"#NUM!"},null,null,null,null,null,null,0,{"$error":"#VALUE!"},3999,"","",null,null,null,null,{"$error":"#VALUE!"},{"$error":"#VALUE!"},{"$f":"COUNTIF('Standards LOOKUP'!B:B,AI2553)","v":0},{"$f":"IFERROR(INDEX('Standards LOOKUP'!C:C,MATCH(AI2553,'Standards LOOKUP'!B:B,0),0),0)","v":0},{"$f":"IFERROR(INDEX('Current Standards'!P:P,MATCH('Sheet Counter'!AI2553,'Current Standards'!O:O,0),0),\"\")","v":""}]
[null,null,0,"","",{"$error":"#VALUE!"},"",{"$f":"IF(I2554=\"\",\"\",LARGE(H$1:H2553,1)+1)","v":{"$error":"#VALUE!"}},{"$error":"#VALUE!"},null,null,null,null,null,2553,0,{"$f":"IF(R2554=\"\",\"\",LARGE(Q$1:Q2553,1)+1)","v":{"$error":"#NUM!"}},{"$error":"#NUM!"},null,null,null,null,null,null,0,{"$error":"#VALUE!"},3999,"","",null,null,null,null,{"$error":"#VALUE!"},{"$error":"#VALUE!"},{"$f":"COUNTIF('Standards LOOKUP'!B:B,AI2554)","v":0},{"$f":"IFERROR(INDEX('Standards LOOKUP'!C:C,MATCH(AI2554,'Standards LOOKUP'!B:B,0),0),0)","v":0},{"$f":"IFERROR(INDEX('Current Standards'!P:P,MATCH('Sheet Counter'!AI2554,'Current Standards'!O:O,0),0),\"\")","v":""}]
[null,null,0,"","",{"$error":"#VALUE!"},"",{"$f":"IF(I2558=\"\",\"\",LARGE(H$1:H2557,1)+1)","v":{"$error":"#VALUE!"}},{"$error":"#VALUE!"},null,null,null,null,null,2557,0,{"$f":"IF(R2558=\"\",\"\",LARGE(Q$1:Q2557,1)+1)","v":{"$error":"#NUM!"}},{"$error":"#NUM!"},null,null,null,null,null,null,0,{"$error":"#VALUE!"},3999,"","",null,null,null,null,{"$error":"#VALUE!"},{"$error":"#VALUE!"},{"$f":"COUNTIF('Standards LOOKUP'!B:B,AI2558)","v":0},{"$f":"IFERROR(INDEX('Standards LOOKUP'!C:C,MATCH(AI2558,'Standards LOOKUP'!B:B,0),0),0)","v":0},{"$f":"IFERROR(INDEX('Current Standards'!P:P,MATCH('Sheet Counter'!AI2558,'Current Standards'!O:O,0),0),\"\")","v":""}]
[null,null,0,"","",{"$error":"#VALUE!"},"",{"$f":"IF(I2561=\"\",\"\",LARGE(H$1:H2560,1)+1)","v":{"$error":"#VALUE!"}},{"$error":"#VALUE!"},null,null,null,null,null,2560,0,{"$f":"IF(R2561=\"\",\"\",LARGE(Q$1:Q2560,1)+1)","v":{"$error":"#NUM!"}},{"$error":"#NUM!"},null,null,null,null,null,null,0,{"$error":"#VALUE!"},3999,"","",null,null,null,null,{"$error":"#VALUE!"},{"$error":"#VALUE!"},{"$f":"COUNTIF('Standards LOOKUP'!B:B,AI2561)","v":0},{"$f":"IFERROR(INDEX('Standards LOOKUP'!C:C,MATCH(AI2561,'Standards LOOKUP'!B:B,0),0),0)","v":0},{"$f":"IFERROR(INDEX('Current Standards'!P:P,MATCH('Sheet Counter'!AI2561,'Current Standards'!O:O,0),0),\"\")","v":""}]
[null,null,0,"","",{"$error":"#VALUE!"},"",{"$f":"IF(I2564=\"\",\"\",LARGE(H$1:H2563,1)+1)","v":{"$error":"#VALUE!"}},{"$error":"#VALUE!"},null,null,null,null,null,2563,0,{"$f":"IF(R2564=\"\",\"\",LARGE(Q$1:Q2563,1)+1)","v":{"$error":"#NUM!"}},{"$f":"IF(AND(P2564<>1,O2564<=LARGE(G:G,1),O2564>=SMALL(G:G,1)),O2564,\"\")","v":{"$error":"#NUM!"}},null,null,null,null,null,null,0,{"$error":"#VALUE!"},3999,"","",null,null,null,null,{"$error":"#VALUE!"},{"$error":"#VALUE!"},{"$f":"COUNTIF('Standards LOOKUP'!B:B,AI2564)","v":0},{"$f":"IFERROR(INDEX('Standards LOOKUP'!C:C,MATCH(AI2564,'Standards LOOKUP'!B:B,0),0),0)","v":0},{"$f":"IFERROR(INDEX('Current Standards'!P:P,MATCH('Sheet Counter'!AI2564,'Current Standards'!O:O,0),0),\"\")","v":""}]
[null,null,0,"","",{"$error":"#VALUE!"},"",{"$f":"IF(I2567=\"\",\"\",LARGE(H$1:H2566,1)+1)","v":{"$error":"#VALUE!"}},{"$error":"#VALUE!"},null,null,null,null,null,2566,0,{"$f":"IF(R2567=\"\",\"\",LARGE(Q$1:Q2566,1)+1)","v":{"$error":"#NUM!"}},{"$error":"#NUM!"},null,null,null,null,null,null,0,{"$error":"#VALUE!"},3999,"","",null,null,null,null,{"$error":"#VALUE!"},{"$error":"#VALUE!"},{"$f":"COUNTIF('Standards LOOKUP'!B:B,AI2567)","v":0},{"$f":"IFERROR(INDEX('Standards LOOKUP'!C:C,MATCH(AI2567,'Standards LOOKUP'!B:B,0),0),0)","v":0},{"$f":"IFERROR(INDEX('Current Standards'!P:P,MATCH('Sheet Counter'!AI2567,'Current Standards'!O:O,0),0),\"\")","v":""}]
[null,null,0,"","",{"$error":"#VALUE!"},"",{"$f":"IF(I2570=\"\",\"\",LARGE(H$1:H2569,1)+1)","v":{"$error":"#VALUE!"}},{"$error":"#VALUE!"},null,null,null,null,null,2569,0,{"$f":"IF(R2570=\"\",\"\",LARGE(Q$1:Q2569,1)+1)","v":{"$error":"#NUM!"}},{"$error":"#NUM!"},null,null,null,null,null,null,0,{"$error":"#VALUE!"},3999,"","",null,null,null,null,{"$error":"#VALUE!"},{"$error":"#VALUE!"},{"$f":"COUNTIF('Standards LOOKUP'!B:B,AI2570)","v":0},{"$f":"IFERROR(INDEX('Standards LOOKUP'!C:C,MATCH(AI2570,'Standards LOOKUP'!B:B,0),0),0)","v":0},{"$f":"IFERROR(INDEX('Current Standards'!P:P,MATCH('Sheet Counter'!AI2570,'Current Standards'!O:O,0),0),\"\")","v":""}]
[null,null,0,"","",{"$error":"#VALUE!"},"",{"$f":"IF(I2571=\"\",\"\",LARGE(H$1:H2570,1)+1)","v":{"$error":"#VALUE!"}},{"$error":"#VALUE!"},null,null,null,null,null,2570,0,{"$f":"IF(R2571=\"\",\"\",LARGE(Q$1:Q2570,1)+1)","v":{"$error":"#NUM!"}},{"$error":"#NUM!"},null,null,null,null,null,null,0,{"$error":"#VALUE!"},3999,"","",null,null,null,null,{"$error":"#VALUE!"},{"$error":"#VALUE!"},{"$f":"COUNTIF('Standards LOOKUP'!B:B,AI2571)","v":0},{"$f":"IFERROR(INDEX('Standards LOOKUP'!C:C,MATCH(AI2571,'Standards LOOKUP'!B:B,0),0),0)","v":0},{"$f":"IFERROR(INDEX('Current Standards'!P:P,MATCH('Sheet Counter'!AI2571,'Current Standards'!O:O,0),0),\"\")","v":""}]
[null,null,0,"","",{"$error":"#VALUE!"},"",{"$f":"IF(I2575=\"\",\"\",LARGE(H$1:H2574,1)+1)","v":{"$error":"#VALUE!"}},{"$error":"#VALUE!"},null,null,null,null,null,2574,0,{"$f":"IF(R2575=\"\",\"\",LARGE(Q$1:Q2574,1)+1)","v":{"$error":"#NUM!"}},{"$error":"#NUM!"},null,null,null,null,null,null,0,{"$error":"#VALUE!"},3999,"","",null,null,null,null,{"$error":"#VALUE!"},{"$error":"#VALUE!"},{"$f":"COUNTIF('Standards LOOKUP'!B:B,AI2575)","v":0},{"$f":"IFERROR(INDEX('Standards LOOKUP'!C:C,MATCH(AI2575,'Standards LOOKUP'!B:B,0),0),0)","v":0},{"$f":"IFERROR(INDEX('Current Standards'!P:P,MATCH('Sheet Counter'!AI2575,'Current Standards'!O:O,0),0),\"\")","v":""}]
[null,null,0,"","",{"$error":"#VALUE!"},"",{"$f":"IF(I2576=\"\",\"\",LARGE(H$1:H2575,1)+1)","v":{"$error":"#VALUE!"}},{"$error":"#VALUE!"},null,null,null,null,null,2575,0,{"$f":"IF(R2576=\"\",\"\",LARGE(Q$1:Q2575,1)+1)","v":{"$error":"#NUM!"}},{"$error":"#NUM!"},null,null,null,null,null,null,0,{"$error":"#VALUE!"},3999,"","",null,null,null,null,{"$error":"#VALUE!"},{"$error":"#VALUE!"},{"$f":"COUNTIF('Standards LOOKUP'!B:B,AI2576)","v":0},{"$f":"IFERROR(INDEX('Standards LOOKUP'!C:C,MATCH(AI2576,'Standards LOOKUP'!B:B,0),0),0)","v":0},{"$f":"IFERROR(INDEX('Current Standards'!P:P,MATCH('Sheet Counter'!AI2576,'Current Standards'!O:O,0),0),\"\")","v":""}]
[null,null,0,"","",{"$error":"#VALUE!"},"",{"$f":"IF(I2580=\"\",\"\",LARGE(H$1:H2579,1)+1)","v":{"$error":"#VALUE!"}},{"$error":"#VALUE!"},null,null,null,null,null,2579,0,{"$f":"IF(R2580=\"\",\"\",LARGE(Q$1:Q2579,1)+1)","v":{"$error":"#NUM!"}},{"$error":"#NUM!"},null,null,null,null,null,null,0,{"$error":"#VALUE!"},3999,"","",null,null,null,null,{"$error":"#VALUE!"},{"$error":"#VALUE!"},{"$f":"COUNTIF('Standards LOOKUP'!B:B,AI2580)","v":0},{"$f":"IFERROR(INDEX('Standards LOOKUP'!C:C,MATCH(AI2580,'Standards LOOKUP'!B:B,0),0),0)","v":0},{"$f":"IFERROR(INDEX('Current Standards'!P:P,MATCH('Sheet Counter'!AI2580,'Current Standards'!O:O,0),0),\"\")","v":""}]
[null,null,0,"","",{"$error":"#VALUE!"},"",{"$f":"IF(I2583=\"\",\"\",LARGE(H$1:H2582,1)+1)","v":{"$error":"#VALUE!"}},{"$error":"#VALUE!"},null,null,null,null,null,2582,0,{"$f":"IF(R2583=\"\",\"\",LARGE(Q$1:Q2582,1)+1)","v":{"$error":"#NUM!"}},{"$error":"#NUM!"},null,null,null,null,null,null,0,{"$error":"#VALUE!"},3999,"","",null,null,null,null,{"$error":"#VALUE!"},{"$error":"#VALUE!"},{"$f":"COUNTIF('Standards LOOKUP'!B:B,AI2583)","v":0},{"$f":"IFERROR(INDEX('Standards LOOKUP'!C:C,MATCH(AI2583,'Standards LOOKUP'!B:B,0),0),0)","v":0},{"$f":"IFERROR(INDEX('Current Standards'!P:P,MATCH('Sheet Counter'!AI2583,'Current Standards'!O:O,0),0),\"\")","v":""}]
[null,null,0,"","",{"$error":"#VALUE!"},"",{"$f":"IF(I2586=\"\",\"\",LARGE(H$1:H2585,1)+1)","v":{"$error":"#VALUE!"}},{"$error":"#VALUE!"},null,null,null,null,null,2585,0,{"$f":"IF(R2586=\"\",\"\",LARGE(Q$1:Q2585,1)+1)","v":{"$error":"#NUM!"}},{"$error":"#NUM!"},null,null,null,null,null,null,0,{"$error":"#VALUE!"},3999,"","",null,null,null,null,{"$error":"#VALUE!"},{"$error":"#VALUE!"},{"$f":"COUNTIF('Standards LOOKUP'!B:B,AI2586)","v":0},{"$f":"IFERROR(INDEX('Standards LOOKUP'!C:C,MATCH(AI2586,'Standards LOOKUP'!B:B,0),0),0)","v":0},{"$f":"IFERROR(INDEX('Current Standards'!P:P,MATCH('Sheet Counter'!AI2586,'Current Standards'!O:O,0),0),\"\")","v":""}]
[null,null,0,"","",{"$error":"#VALUE!"},"",{"$f":"IF(I2589=\"\",\"\",LARGE(H$1:H2588,1)+1)","v":{"$error":"#VALUE!"}},{"$error":"#VALUE!"},null,null,null,null,null,2588,0,{"$f":"IF(R2589=\"\",\"\",LARGE(Q$1:Q2588,1)+1)","v":{"$error":"#NUM!"}},{"$error":"#NUM!"},null,null,null,null,null,null,0,{"$error":"#VALUE!"},3999,"","",null,null,null,null,{"$error":"#VALUE!"},{"$error":"#VALUE!"},{"$f":"COUNTIF('Standards LOOKUP'!B:B,AI2589)","v":0},{"$f":"IFERROR(INDEX('Standards LOOKUP'!C:C,MATCH(AI2589,'Standards LOOKUP'!B:B,0),0),0)","v":0},{"$f":"IFERROR(INDEX('Current Standards'!P:P,MATCH('Sheet Counter'!AI2589,'Current Standards'!O:O,0),0),\"\")","v":""}]
[null,null,0,"","",{"$error":"#VALUE!"},"",{"$f":"IF(I2592=\"\",\"\",LARGE(H$1:H2591,1)+1)","v":{"$error":"#VALUE!"}},{"$error":"#VALUE!"},null,null,null,null,null,2591,0,{"$f":"IF(R2592=\"\",\"\",LARGE(Q$1:Q2591,1)+1)","v":{"$error":"#NUM!"}},{"$error":"#NUM!"},null,null,null,null,null,null,0,{"$error":"#VALUE!"},3999,"","",null,null,null,null,{"$error":"#VALUE!"},{"$error":"#VALUE!"},{"$f":"COUNTIF('Standards LOOKUP'!B:B,AI2592)","v":0},{"$f":"IFERROR(INDEX('Standards LOOKUP'!C:C,MATCH(AI2592,'Standards LOOKUP'!B:B,0),0),0)","v":0},{"$f":"IFERROR(INDEX('Current Standards'!P:P,MATCH('Sheet Counter'!AI2592,'Current Standards'!O:O,0),0),\"\")","v":""}]
[null,null,0,"","",{"$error":"#VALUE!"},"",{"$f":"IF(I2593=\"\",\"\",LARGE(H$1:H2592,1)+1)","v":{"$error":"#VALUE!"}},{"$error":"#VALUE!"},null,null,null,null,null,2592,0,{"$f":"IF(R2593=\"\",\"\",LARGE(Q$1:Q2592,1)+1)","v":{"$error":"#NUM!"}},{"$error":"#NUM!"},null,null,null,null,null,null,0,{"$error":"#VALUE!"},3999,"","",null,null,null,null,{"$error":"#VALUE!"},{"$error":"#VALUE!"},{"$f":"COUNTIF('Standards LOOKUP'!B:B,AI2593)","v":0},{"$f":"IFERROR(INDEX('Standards LOOKUP'!C:C,MATCH(AI2593,'Standards LOOKUP'!B:B,0),0),0)","v":0},{"$f":"IFERROR(INDEX('Current Standards'!P:P,MATCH('Sheet Counter'!AI2593,'Current Standards'!O:O,0),0),\"\")","v":""}]
[null,null,0,"","",{"$error":"#VALUE!"},"",{"$f":"IF(I2597=\"\",\"\",LARGE(H$1:H2596,1)+1)","v":{"$error":"#VALUE!"}},{"$error":"#VALUE!"},null,null,null,null,null,2596,0,{"$f":"IF(R2597=\"\",\"\",LARGE(Q$1:Q2596,1)+1)","v":{"$error":"#NUM!"}},{"$error":"#NUM!"},null,null,null,null,null,null,0,{"$error":"#VALUE!"},3999,"","",null,null,null,null,{"$error":"#VALUE!"},{"$error":"#VALUE!"},{"$f":"COUNTIF('Standards LOOKUP'!B:B,AI2597)","v":0},{"$f":"IFERROR(INDEX('Standards LOOKUP'!C:C,MATCH(AI2597,'Standards LOOKUP'!B:B,0),0),0)","v":0},{"$f":"IFERROR(INDEX('Current Standards'!P:P,MATCH('Sheet Counter'!AI2597,'Current Standards'!O:O,0),0),\"\")","v":""}]
[null,null,0,"","",{"$error":"#VALUE!"},"",{"$f":"IF(I2598=\"\",\"\",LARGE(H$1:H2597,1)+1)","v":{"$error":"#VALUE!"}},{"$error":"#VALUE!"},null,null,null,null,null,2597,0,{"$f":"IF(R2598=\"\",\"\",LARGE(Q$1:Q2597,1)+1)","v":{"$error":"#NUM!"}},{"$error":"#NUM!"},null,null,null,null,null,null,0,{"$error":"#VALUE!"},3999,"","",null,null,null,null,{"$error":"#VALUE!"},{"$error":"#VALUE!"},{"$f":"COUNTIF('Standards LOOKUP'!B:B,AI2598)","v":0},{"$f":"IFERROR(INDEX('Standards LOOKUP'!C:C,MATCH(AI2598,'Standards LOOKUP'!B:B,0),0),0)","v":0},{"$f":"IFERROR(INDEX('Current Standards'!P:P,MATCH('Sheet Counter'!AI2598,'Current Standards'!O:O,0),0),\"\")","v":""}]
[null,null,0,"","",{"$error":"#VALUE!"},"",{"$f":"IF(I2602=\"\",\"\",LARGE(H$1:H2601,1)+1)","v":{"$error":"#VALUE!"}},{"$error":"#VALUE!"},null,null,null,null,null,2601,0,{"$f":"IF(R2602=\"\",\"\",LARGE(Q$1:Q2601,1)+1)","v":{"$error":"#NUM!"}},{"$error":"#NUM!"},null,null,null,null,null,null,0,{"$error":"#VALUE!"},3999,"","",null,null,null,null,{"$error":"#VALUE!"},{"$error":"#VALUE!"},{"$f":"COUNTIF('Standards LOOKUP'!B:B,AI2602)","v":0},{"$f":"IFERROR(INDEX('Standards LOOKUP'!C:C,MATCH(AI2602,'Standards LOOKUP'!B:B,0),0),0)","v":0},{"$f":"IFERROR(INDEX('Current Standards'!P:P,MATCH('Sheet Counter'!AI2602,'Current Standards'!O:O,0),0),\"\")","v":""}]
[null,null,0,"","",{"$error":"#VALUE!"},"",{"$f":"IF(I2605=\"\",\"\",LARGE(H$1:H2604,1)+1)","v":{"$error":"#VALUE!"}},{"$error":"#VALUE!"},null,null,null,null,null,2604,0,{"$f":"IF(R2605=\"\",\"\",LARGE(Q$1:Q2604,1)+1)","v":{"$error":"#NUM!"}},{"$error":"#NUM!"},null,null,null,null,null,null,0,{"$error":"#VALUE!"},3999,"","",null,null,null,null,{"$error":"#VALUE!"},{"$error":"#VALUE!"},{"$f":"COUNTIF('Standards LOOKUP'!B:B,AI2605)","v":0},{"$f":"IFERROR(INDEX('Standards LOOKUP'!C:C,MATCH(AI2605,'Standards LOOKUP'!B:B,0),0),0)","v":0},{"$f":"IFERROR(INDEX('Current Standards'!P:P,MATCH('Sheet Counter'!AI2605,'Current Standards'!O:O,0),0),\"\")","v":""}]
[null,null,0,"","",{"$error":"#VALUE!"},"",{"$f":"IF(I2608=\"\",\"\",LARGE(H$1:H2607,1)+1)","v":{"$error":"#VALUE!"}},{"$error":"#VALUE!"},null,null,null,null,null,2607,0,{"$f":"IF(R2608=\"\",\"\",LARGE(Q$1:Q2607,1)+1)","v":{"$error":"#NUM!"}},{"$error":"#NUM!"},null,null,null,null,null,null,0,{"$error":"#VALUE!"},3999,"","",null,null,null,null,{"$error":"#VALUE!"},{"$error":"#VALUE!"},{"$f":"COUNTIF('Standards LOOKUP'!B:B,AI2608)","v":0},{"$f":"IFERROR(INDEX('Standards LOOKUP'!C:C,MATCH(AI2608,'Standards LOOKUP'!B:B,0),0),0)","v":0},{"$f":"IFERROR(INDEX('Current Standards'!P:P,MATCH('Sheet Counter'!AI2608,'Current Standards'!O:O,0),0),\"\")","v":""}]
[null,null,0,"","",{"$error":"#VALUE!"},"",{"$f":"IF(I2611=\"\",\"\",LARGE(H$1:H2610,1)+1)","v":{"$error":"#VALUE!"}},{"$error":"#VALUE!"},null,null,null,null,null,2610,0,{"$f":"IF(R2611=\"\",\"\",LARGE(Q$1:Q2610,1)+1)","v":{"$error":"#NUM!"}},{"$error":"#NUM!"},null,null,null,null,null,null,0,{"$error":"#VALUE!"},3999,"","",null,null,null,null,{"$error":"#VALUE!"},{"$error":"#VALUE!"},{"$f":"COUNTIF('Standards LOOKUP'!B:B,AI2611)","v":0},{"$f":"IFERROR(INDEX('Standards LOOKUP'!C:C,MATCH(AI2611,'Standards LOOKUP'!B:B,0),0),0)","v":0},{"$f":"IFERROR(INDEX('Current Standards'!P:P,MATCH('Sheet Counter'!AI2611,'Current Standards'!O:O,0),0),\"\")","v":""}]
[null,null,0,"","",{"$error":"#VALUE!"},"",{"$f":"IF(I2614=\"\",\"\",LARGE(H$1:H2613,1)+1)","v":{"$error":"#VALUE!"}},{"$error":"#VALUE!"},null,null,null,null,null,2613,0,{"$f":"IF(R2614=\"\",\"\",LARGE(Q$1:Q2613,1)+1)","v":{"$error":"#NUM!"}},{"$error":"#NUM!"},null,null,null,null,null,null,0,{"$error":"#VALUE!"},3999,"","",null,null,null,null,{"$error":"#VALUE!"},{"$error":"#VALUE!"},{"$f":"COUNTIF('Standards LOOKUP'!B:B,AI2614)","v":0},{"$f":"IFERROR(INDEX('Standards LOOKUP'!C:C,MATCH(AI2614,'Standards LOOKUP'!B:B,0),0),0)","v":0},{"$f":"IFERROR(INDEX('Current Standards'!P:P,MATCH('Sheet Counter'!AI2614,'Current Standards'!O:O,0),0),\"\")","v":""}]
[null,null,0,"","",{"$error":"#VALUE!"},"",{"$f":"IF(I2615=\"\",\"\",LARGE(H$1:H2614,1)+1)","v":{"$error":"#VALUE!"}},{"$error":"#VALUE!"},null,null,null,null,null,2614,0,{"$f":"IF(R2615=\"\",\"\",LARGE(Q$1:Q2614,1)+1)","v":{"$error":"#NUM!"}},{"$error":"#NUM!"},null,null,null,null,null,null,0,{"$error":"#VALUE!"},3999,"","",null,null,null,null,{"$error":"#VALUE!"},{"$error":"#VALUE!"},{"$f":"COUNTIF('Standards LOOKUP'!B:B,AI2615)","v":0},{"$f":"IFERROR(INDEX('Standards LOOKUP'!C:C,MATCH(AI2615,'Standards LOOKUP'!B:B,0),0),0)","v":0},{"$f":"IFERROR(INDEX('Current Standards'!P:P,MATCH('Sheet Counter'!AI2615,'Current Standards'!O:O,0),0),\"\")","v":""}]
[null,null,0,"","",{"$error":"#VALUE!"},"",{"$f":"IF(I2619=\"\",\"\",LARGE(H$1:H2618,1)+1)","v":{"$error":"#VALUE!"}},{"$error":"#VALUE!"},null,null,null,null,null,2618,0,{"$f":"IF(R2619=\"\",\"\",LARGE(Q$1:Q2618,1)+1)","v":{"$error":"#NUM!"}},{"$error":"#NUM!"},null,null,null,null,null,null,0,{"$error":"#VALUE!"},3999,"","",null,null,null,null,{"$error":"#VALUE!"},{"$error":"#VALUE!"},{"$f":"COUNTIF('Standards LOOKUP'!B:B,AI2619)","v":0},{"$f":"IFERROR(INDEX('Standards LOOKUP'!C:C,MATCH(AI2619,'Standards LOOKUP'!B:B,0),0),0)","v":0},{"$f":"IFERROR(INDEX('Current Standards'!P:P,MATCH('Sheet Counter'!AI2619,'Current Standards'!O:O,0),0),\"\")","v":""}]
[null,null,0,"","",{"$error":"#VALUE!"},"",{"$f":"IF(I2620=\"\",\"\",LARGE(H$1:H2619,1)+1)","v":{"$error":"#VALUE!"}},{"$error":"#VALUE!"},null,null,null,null,null,2619,0,{"$f":"IF(R2620=\"\",\"\",LARGE(Q$1:Q2619,1)+1)","v":{"$error":"#NUM!"}},{"$error":"#NUM!"},null,null,null,null,null,null,0,{"$error":"#VALUE!"},3999,"","",null,null,null,null,{"$error":"#VALUE!"},{"$error":"#VALUE!"},{"$f":"COUNTIF('Standards LOOKUP'!B:B,AI2620)","v":0},{"$f":"IFERROR(INDEX('Standards LOOKUP'!C:C,MATCH(AI2620,'Standards LOOKUP'!B:B,0),0),0)","v":0},{"$f":"IFERROR(INDEX('Current Standards'!P:P,MATCH('Sheet Counter'!AI2620,'Current Standards'!O:O,0),0),\"\")","v":""}]
[null,null,0,"","",{"$error":"#VALUE!"},"",{"$f":"IF(I2624=\"\",\"\",LARGE(H$1:H2623,1)+1)","v":{"$error":"#VALUE!"}},{"$error":"#VALUE!"},null,null,null,null,null,2623,0,{"$f":"IF(R2624=\"\",\"\",LARGE(Q$1:Q2623,1)+1)","v":{"$error":"#NUM!"}},{"$error":"#NUM!"},null,null,null,null,null,null,0,{"$error":"#VALUE!"},3999,"","",null,null,null,null,{"$error":"#VALUE!"},{"$error":"#VALUE!"},{"$f":"COUNTIF('Standards LOOKUP'!B:B,AI2624)","v":0},{"$f":"IFERROR(INDEX('Standards LOOKUP'!C:C,MATCH(AI2624,'Standards LOOKUP'!B:B,0),0),0)","v":0},{"$f":"IFERROR(INDEX('Current Standards'!P:P,MATCH('Sheet Counter'!AI2624,'Current Standards'!O:O,0),0),\"\")","v":""}]
[null,null,{"$f":"IF(ISERROR(FIND(\"\\\",A2627)),A2627,RIGHT(A2627,LEN(A2627)-FIND(\"~\",SUBSTITUTE(A2627,\"\\\",\"~\",LEN(A2627)-LEN(SUBSTITUTE(A2627,\"\\\",\"\"))))))","v":0},{"$f":"IF(AL2627=\"\",\"\",AL2627)","v":""},"",{"$f":"LEFT(C2627,FIND(\"-\",SUBSTITUTE(SUBSTITUTE(C2627,\"_\",\"-\"),\" \",\"-\"))-1)","v":{"$error":"#VALUE!"}},{"$f":"IF(ISNUMBER(F2627*1),F2627*1,\"\")","v":""},{"$f":"IF(I2627=\"\",\"\",LARGE(H$1:H2626,1)+1)","v":{"$error":"#VALUE!"}},{"$error":"#VALUE!"},null,null,null,null,null,2626,0,{"$f":"IF(R2627=\"\",\"\",LARGE(Q$1:Q2626,1)+1)","v":{"$error":"#NUM!"}},{"$error":"#NUM!"},null,null,null,null,null,null,{"$f":"IF(ISERROR(FIND(\"\\\",X2627)),X2627,RIGHT(X2627,LEN(X2627)-FIND(\"~\",SUBSTITUTE(X2627,\"\\\",\"~\",LEN(X2627)-LEN(SUBSTITUTE(X2627,\"\\\",\"\"))))))","v":0},{"$f":"LEFT(Y2627,FIND(\"-\",SUBSTITUTE(SUBSTITUTE(Y2627,\"_\",\"-\"),\" \",\"-\"))-1)","v":{"$error":"#VALUE!"}},{"$f":"COUNTIF(F:F,Z2627)","v":3999},{"$f":"IF(OR(AA2627<1,ISERROR(Z2627)),\"\",INDEX(C:C,MATCH(Z2627,F:F)))","v":""},{"$f":"IF(AA2627=0,\"New Sheet\",IF(EXACT(UPPER(Y2627),UPPER(AB2627)),\"Match\",\"\"))","v":""},null,null,null,null,{"$f":"IF(C2627=\"\",\"\",LEFT(RIGHT(C2627,LEN(C2627)-SEARCH(\" \",C2627,1)),LEN(RIGHT(C2627,LEN(C2627)-SEARCH(\" \",C2627,1)))-4))","v":{"$error":"#VALUE!"}},{"$f":"TRIM(SUBSTITUTE(SUBSTITUTE(SUBSTITUTE(SUBSTITUTE(SUBSTITUTE(SUBSTITUTE(AH2627,\"(\",\"\"),\")\",\"\"),\"-\",\"\"),\"&\",\"\"),\" \",\"\",1),\" \",\"\",1))","v":{"$error":"#VALUE!"}},{"$f":"COUNTIF('Standards LOOKUP'!B:B,AI2627)","v":0},{"$f":"IFERROR(INDEX('Standards LOOKUP'!C:C,MATCH(AI2627,'Standards LOOKUP'!B:B,0),0),0)","v":0},{"$f":"IFERROR(INDEX('Current Standards'!P:P,MATCH('Sheet Counter'!AI2627,'Current Standards'!O:O,0),0),\"\")","v":""}]
[null,null,0,"","",{"$error":"#VALUE!"},"",{"$f":"IF(I2630=\"\",\"\",LARGE(H$1:H2629,1)+1)","v":{"$error":"#VALUE!"}},{"$error":"#VALUE!"},null,null,null,null,null,2629,0,{"$f":"IF(R2630=\"\",\"\",LARGE(Q$1:Q2629,1)+1)","v":{"$error":"#NUM!"}},{"$error":"#NUM!"},null,null,null,null,null,null,0,{"$error":"#VALUE!"},3999,"","",null,null,null,null,{"$error":"#VALUE!"},{"$error":"#VALUE!"},{"$f":"COUNTIF('Standards LOOKUP'!B:B,AI2630)","v":0},{"$f":"IFERROR(INDEX('Standards LOOKUP'!C:C,MATCH(AI2630,'Standards LOOKUP'!B:B,0),0),0)","v":0},{"$f":"IFERROR(INDEX('Current Standards'!P:P,MATCH('Sheet Counter'!AI2630,'Current Standards'!O:O,0),0),\"\")","v":""}]
[null,null,0,"","",{"$error":"#VALUE!"},"",{"$f":"IF(I2633=\"\",\"\",LARGE(H$1:H2632,1)+1)","v":{"$error":"#VALUE!"}},{"$error":"#VALUE!"},null,null,null,null,null,2632,0,{"$f":"IF(R2633=\"\",\"\",LARGE(Q$1:Q2632,1)+1)","v":{"$error":"#NUM!"}},{"$error":"#NUM!"},null,null,null,null,null,null,0,{"$error":"#VALUE!"},3999,"","",null,null,null,null,{"$error":"#VALUE!"},{"$error":"#VALUE!"},{"$f":"COUNTIF('Standards LOOKUP'!B:B,AI2633)","v":0},{"$f":"IFERROR(INDEX('Standards LOOKUP'!C:C,MATCH(AI2633,'Standards LOOKUP'!B:B,0),0),0)","v":0},{"$f":"IFERROR(INDEX('Current Standards'!P:P,MATCH('Sheet Counter'!AI2633,'Current Standards'!O:O,0),0),\"\")","v":""}]
[null,null,0,"","",{"$error":"#VALUE!"},"",{"$f":"IF(I2636=\"\",\"\",LARGE(H$1:H2635,1)+1)","v":{"$error":"#VALUE!"}},{"$error":"#VALUE!"},null,null,null,null,null,2635,0,{"$f":"IF(R2636=\"\",\"\",LARGE(Q$1:Q2635,1)+1)","v":{"$error":"#NUM!"}},{"$error":"#NUM!"},null,null,null,null,null,null,0,{"$error":"#VALUE!"},3999,"","",null,null,null,null,{"$error":"#VALUE!"},{"$error":"#VALUE!"},{"$f":"COUNTIF('Standards LOOKUP'!B:B,AI2636)","v":0},{"$f":"IFERROR(INDEX('Standards LOOKUP'!C:C,MATCH(AI2636,'Standards LOOKUP'!B:B,0),0),0)","v":0},{"$f":"IFERROR(INDEX('Current Standards'!P:P,MATCH('Sheet Counter'!AI2636,'Current Standards'!O:O,0),0),\"\")","v":""}]
[null,null,0,"","",{"$error":"#VALUE!"},"",{"$f":"IF(I2637=\"\",\"\",LARGE(H$1:H2636,1)+1)","v":{"$error":"#VALUE!"}},{"$error":"#VALUE!"},null,null,null,null,null,2636,0,{"$f":"IF(R2637=\"\",\"\",LARGE(Q$1:Q2636,1)+1)","v":{"$error":"#NUM!"}},{"$error":"#NUM!"},null,null,null,null,null,null,0,{"$error":"#VALUE!"},3999,"","",null,null,null,null,{"$error":"#VALUE!"},{"$error":"#VALUE!"},{"$f":"COUNTIF('Standards LOOKUP'!B:B,AI2637)","v":0},{"$f":"IFERROR(INDEX('Standards LOOKUP'!C:C,MATCH(AI2637,'Standards LOOKUP'!B:B,0),0),0)","v":0},{"$f":"IFERROR(INDEX('Current Standards'!P:P,MATCH('Sheet Counter'!AI2637,'Current Standards'!O:O,0),0),\"\")","v":""}]
[null,null,0,"","",{"$error":"#VALUE!"},"",{"$f":"IF(I2641=\"\",\"\",LARGE(H$1:H2640,1)+1)","v":{"$error":"#VALUE!"}},{"$error":"#VALUE!"},null,null,null,null,null,2640,0,{"$f":"IF(R2641=\"\",\"\",LARGE(Q$1:Q2640,1)+1)","v":{"$error":"#NUM!"}},{"$error":"#NUM!"},null,null,null,null,null,null,0,{"$error":"#VALUE!"},3999,"","",null,null,null,null,{"$error":"#VALUE!"},{"$error":"#VALUE!"},{"$f":"COUNTIF('Standards LOOKUP'!B:B,AI2641)","v":0},{"$f":"IFERROR(INDEX('Standards LOOKUP'!C:C,MATCH(AI2641,'Standards LOOKUP'!B:B,0),0),0)","v":0},{"$f":"IFERROR(INDEX('Current Standards'!P:P,MATCH('Sheet Counter'!AI2641,'Current Standards'!O:O,0),0),\"\")","v":""}]
[null,null,0,"","",{"$error":"#VALUE!"},"",{"$f":"IF(I2643=\"\",\"\",LARGE(H$1:H2642,1)+1)","v":{"$error":"#VALUE!"}},{"$error":"#VALUE!"},null,null,null,null,null,2642,0,{"$f":"IF(R2643=\"\",\"\",LARGE(Q$1:Q2642,1)+1)","v":{"$error":"#NUM!"}},{"$error":"#NUM!"},null,null,null,null,null,null,0,{"$error":"#VALUE!"},3999,"","",null,null,null,null,{"$error":"#VALUE!"},{"$error":"#VALUE!"},{"$f":"COUNTIF('Standards LOOKUP'!B:B,AI2643)","v":0},{"$f":"IFERROR(INDEX('Standards LOOKUP'!C:C,MATCH(AI2643,'Standards LOOKUP'!B:B,0),0),0)","v":0},{"$f":"IFERROR(INDEX('Current Standards'!P:P,MATCH('Sheet Counter'!AI2643,'Current Standards'!O:O,0),0),\"\")","v":""}]
[null,null,0,"","",{"$error":"#VALUE!"},"",{"$f":"IF(I2646=\"\",\"\",LARGE(H$1:H2645,1)+1)","v":{"$error":"#VALUE!"}},{"$error":"#VALUE!"},null,null,null,null,null,2645,0,{"$f":"IF(R2646=\"\",\"\",LARGE(Q$1:Q2645,1)+1)","v":{"$error":"#NUM!"}},{"$error":"#NUM!"},null,null,null,null,null,null,0,{"$error":"#VALUE!"},3999,"","",null,null,null,null,{"$error":"#VALUE!"},{"$error":"#VALUE!"},{"$f":"COUNTIF('Standards LOOKUP'!B:B,AI2646)","v":0},{"$f":"IFERROR(INDEX('Standards LOOKUP'!C:C,MATCH(AI2646,'Standards LOOKUP'!B:B,0),0),0)","v":0},{"$f":"IFERROR(INDEX('Current Standards'!P:P,MATCH('Sheet Counter'!AI2646,'Current Standards'!O:O,0),0),\"\")","v":""}]
[null,null,0,"","",{"$error":"#VALUE!"},"",{"$f":"IF(I2649=\"\",\"\",LARGE(H$1:H2648,1)+1)","v":{"$error":"#VALUE!"}},{"$error":"#VALUE!"},null,null,null,null,null,2648,0,{"$f":"IF(R2649=\"\",\"\",LARGE(Q$1:Q2648,1)+1)","v":{"$error":"#NUM!"}},{"$error":"#NUM!"},null,null,null,null,null,null,0,{"$error":"#VALUE!"},3999,"","",null,null,null,null,{"$error":"#VALUE!"},{"$error":"#VALUE!"},{"$f":"COUNTIF('Standards LOOKUP'!B:B,AI2649)","v":0},{"$f":"IFERROR(INDEX('Standards LOOKUP'!C:C,MATCH(AI2649,'Standards LOOKUP'!B:B,0),0),0)","v":0},{"$f":"IFERROR(INDEX('Current Standards'!P:P,MATCH('Sheet Counter'!AI2649,'Current Standards'!O:O,0),0),\"\")","v":""}]
[null,null,0,"","",{"$error":"#VALUE!"},"",{"$f":"IF(I2652=\"\",\"\",LARGE(H$1:H2651,1)+1)","v":{"$error":"#VALUE!"}},{"$error":"#VALUE!"},null,null,null,null,null,2651,0,{"$f":"IF(R2652=\"\",\"\",LARGE(Q$1:Q2651,1)+1)","v":{"$error":"#NUM!"}},{"$error":"#NUM!"},null,null,null,null,null,null,0,{"$error":"#VALUE!"},3999,"","",null,null,null,null,{"$error":"#VALUE!"},{"$error":"#VALUE!"},{"$f":"COUNTIF('Standards LOOKUP'!B:B,AI2652)","v":0},{"$f":"IFERROR(INDEX('Standards LOOKUP'!C:C,MATCH(AI2652,'Standards LOOKUP'!B:B,0),0),0)","v":0},{"$f":"IFERROR(INDEX('Current Standards'!P:P,MATCH('Sheet Counter'!AI2652,'Current Standards'!O:O,0),0),\"\")","v":""}]
[null,null,0,"","",{"$error":"#VALUE!"},"",{"$f":"IF(I2655=\"\",\"\",LARGE(H$1:H2654,1)+1)","v":{"$error":"#VALUE!"}},{"$error":"#VALUE!"},null,null,null,null,null,2654,0,{"$f":"IF(R2655=\"\",\"\",LARGE(Q$1:Q2654,1)+1)","v":{"$error":"#NUM!"}},{"$error":"#NUM!"},null,null,null,null,null,null,0,{"$error":"#VALUE!"},3999,"","",null,null,null,null,{"$error":"#VALUE!"},{"$error":"#VALUE!"},{"$f":"COUNTIF('Standards LOOKUP'!B:B,AI2655)","v":0},{"$f":"IFERROR(INDEX('Standards LOOKUP'!C:C,MATCH(AI2655,'Standards LOOKUP'!B:B,0),0),0)","v":0},{"$f":"IFERROR(INDEX('Current Standards'!P:P,MATCH('Sheet Counter'!AI2655,'Current Standards'!O:O,0),0),\"\")","v":""}]
[null,null,0,"","",{"$error":"#VALUE!"},"",{"$f":"IF(I2658=\"\",\"\",LARGE(H$1:H2657,1)+1)","v":{"$error":"#VALUE!"}},{"$error":"#VALUE!"},null,null,null,null,null,2657,0,{"$f":"IF(R2658=\"\",\"\",LARGE(Q$1:Q2657,1)+1)","v":{"$error":"#NUM!"}},{"$error":"#NUM!"},null,null,null,null,null,null,0,{"$error":"#VALUE!"},3999,"","",null,null,null,null,{"$error":"#VALUE!"},{"$error":"#VALUE!"},{"$f":"COUNTIF('Standards LOOKUP'!B:B,AI2658)","v":0},{"$f":"IFERROR(INDEX('Standards LOOKUP'!C:C,MATCH(AI2658,'Standards LOOKUP'!B:B,0),0),0)","v":0},{"$f":"IFERROR(INDEX('Current Standards'!P:P,MATCH('Sheet Counter'!AI2658,'Current Standards'!O:O,0),0),\"\")","v":""}]
[null,null,0,"","",{"$error":"#VALUE!"},"",{"$f":"IF(I2659=\"\",\"\",LARGE(H$1:H2658,1)+1)","v":{"$error":"#VALUE!"}},{"$error":"#VALUE!"},null,null,null,null,null,2658,0,{"$f":"IF(R2659=\"\",\"\",LARGE(Q$1:Q2658,1)+1)","v":{"$error":"#NUM!"}},{"$error":"#NUM!"},null,null,null,null,null,null,0,{"$error":"#VALUE!"},3999,"","",null,null,null,null,{"$error":"#VALUE!"},{"$error":"#VALUE!"},{"$f":"COUNTIF('Standards LOOKUP'!B:B,AI2659)","v":0},{"$f":"IFERROR(INDEX('Standards LOOKUP'!C:C,MATCH(AI2659,'Standards LOOKUP'!B:B,0),0),0)","v":0},{"$f":"IFERROR(INDEX('Current Standards'!P:P,MATCH('Sheet Counter'!AI2659,'Current Standards'!O:O,0),0),\"\")","v":""}]
[null,null,0,"","",{"$error":"#VALUE!"},"",{"$f":"IF(I2663=\"\",\"\",LARGE(H$1:H2662,1)+1)","v":{"$error":"#VALUE!"}},{"$error":"#VALUE!"},null,null,null,null,null,2662,0,{"$f":"IF(R2663=\"\",\"\",LARGE(Q$1:Q2662,1)+1)","v":{"$error":"#NUM!"}},{"$error":"#NUM!"},null,null,null,null,null,null,0,{"$error":"#VALUE!"},3999,"","",null,null,null,null,{"$error":"#VALUE!"},{"$error":"#VALUE!"},{"$f":"COUNTIF('Standards LOOKUP'!B:B,AI2663)","v":0},{"$f":"IFERROR(INDEX('Standards LOOKUP'!C:C,MATCH(AI2663,'Standards LOOKUP'!B:B,0),0),0)","v":0},{"$f":"IFERROR(INDEX('Current Standards'!P:P,MATCH('Sheet Counter'!AI2663,'Current Standards'!O:O,0),0),\"\")","v":""}]
[null,null,0,"","",{"$error":"#VALUE!"},"",{"$f":"IF(I2665=\"\",\"\",LARGE(H$1:H2664,1)+1)","v":{"$error":"#VALUE!"}},{"$error":"#VALUE!"},null,null,null,null,null,2664,0,{"$f":"IF(R2665=\"\",\"\",LARGE(Q$1:Q2664,1)+1)","v":{"$error":"#NUM!"}},{"$error":"#NUM!"},null,null,null,null,null,null,0,{"$error":"#VALUE!"},3999,"","",null,null,null,null,{"$error":"#VALUE!"},{"$error":"#VALUE!"},{"$f":"COUNTIF('Standards LOOKUP'!B:B,AI2665)","v":0},{"$f":"IFERROR(INDEX('Standards LOOKUP'!C:C,MATCH(AI2665,'Standards LOOKUP'!B:B,0),0),0)","v":0},{"$f":"IFERROR(INDEX('Current Standards'!P:P,MATCH('Sheet Counter'!AI2665,'Current Standards'!O:O,0),0),\"\")","v":""}]
[null,null,0,"","",{"$error":"#VALUE!"},"",{"$f":"IF(I2668=\"\",\"\",LARGE(H$1:H2667,1)+1)","v":{"$error":"#VALUE!"}},{"$error":"#VALUE!"},null,null,null,null,null,2667,0,{"$f":"IF(R2668=\"\",\"\",LARGE(Q$1:Q2667,1)+1)","v":{"$error":"#NUM!"}},{"$error":"#NUM!"},null,null,null,null,null,null,0,{"$error":"#VALUE!"},3999,"","",null,null,null,null,{"$error":"#VALUE!"},{"$error":"#VALUE!"},{"$f":"COUNTIF('Standards LOOKUP'!B:B,AI2668)","v":0},{"$f":"IFERROR(INDEX('Standards LOOKUP'!C:C,MATCH(AI2668,'Standards LOOKUP'!B:B,0),0),0)","v":0},{"$f":"IFERROR(INDEX('Current Standards'!P:P,MATCH('Sheet Counter'!AI2668,'Current Standards'!O:O,0),0),\"\")","v":""}]
[null,null,0,"","",{"$error":"#VALUE!"},"",{"$f":"IF(I2671=\"\",\"\",LARGE(H$1:H2670,1)+1)","v":{"$error":"#VALUE!"}},{"$error":"#VALUE!"},null,null,null,null,null,2670,0,{"$f":"IF(R2671=\"\",\"\",LARGE(Q$1:Q2670,1)+1)","v":{"$error":"#NUM!"}},{"$error":"#NUM!"},null,null,null,null,null,null,0,{"$error":"#VALUE!"},3999,"","",null,null,null,null,{"$error":"#VALUE!"},{"$error":"#VALUE!"},{"$f":"COUNTIF('Standards LOOKUP'!B:B,AI2671)","v":0},{"$f":"IFERROR(INDEX('Standards LOOKUP'!C:C,MATCH(AI2671,'Standards LOOKUP'!B:B,0),0),0)","v":0},{"$f":"IFERROR(INDEX('Current Standards'!P:P,MATCH('Sheet Counter'!AI2671,'Current Standards'!O:O,0),0),\"\")","v":""}]
[null,null,0,"","",{"$error":"#VALUE!"},"",{"$f":"IF(I2674=\"\",\"\",LARGE(H$1:H2673,1)+1)","v":{"$error":"#VALUE!"}},{"$error":"#VALUE!"},null,null,null,null,null,2673,0,{"$f":"IF(R2674=\"\",\"\",LARGE(Q$1:Q2673,1)+1)","v":{"$error":"#NUM!"}},{"$error":"#NUM!"},null,null,null,null,null,null,0,{"$error":"#VALUE!"},3999,"","",null,null,null,null,{"$error":"#VALUE!"},{"$error":"#VALUE!"},{"$f":"COUNTIF('Standards LOOKUP'!B:B,AI2674)","v":0},{"$f":"IFERROR(INDEX('Standards LOOKUP'!C:C,MATCH(AI2674,'Standards LOOKUP'!B:B,0),0),0)","v":0},{"$f":"IFERROR(INDEX('Current Standards'!P:P,MATCH('Sheet Counter'!AI2674,'Current Standards'!O:O,0),0),\"\")","v":""}]
[null,null,0,"","",{"$error":"#VALUE!"},"",{"$f":"IF(I2677=\"\",\"\",LARGE(H$1:H2676,1)+1)","v":{"$error":"#VALUE!"}},{"$error":"#VALUE!"},null,null,null,null,null,2676,0,{"$f":"IF(R2677=\"\",\"\",LARGE(Q$1:Q2676,1)+1)","v":{"$error":"#NUM!"}},{"$error":"#NUM!"},null,null,null,null,null,null,0,{"$error":"#VALUE!"},3999,"","",null,null,null,null,{"$error":"#VALUE!"},{"$error":"#VALUE!"},{"$f":"COUNTIF('Standards LOOKUP'!B:B,AI2677)","v":0},{"$f":"IFERROR(INDEX('Standards LOOKUP'!C:C,MATCH(AI2677,'Standards LOOKUP'!B:B,0),0),0)","v":0},{"$f":"IFERROR(INDEX('Current Standards'!P:P,MATCH('Sheet Counter'!AI2677,'Current Standards'!O:O,0),0),\"\")","v":""}]
[null,null,0,"","",{"$error":"#VALUE!"},"",{"$f":"IF(I2680=\"\",\"\",LARGE(H$1:H2679,1)+1)","v":{"$error":"#VALUE!"}},{"$error":"#VALUE!"},null,null,null,null,null,2679,0,{"$f":"IF(R2680=\"\",\"\",LARGE(Q$1:Q2679,1)+1)","v":{"$error":"#NUM!"}},{"$error":"#NUM!"},null,null,null,null,null,null,0,{"$error":"#VALUE!"},3999,"","",null,null,null,null,{"$error":"#VALUE!"},{"$error":"#VALUE!"},{"$f":"COUNTIF('Standards LOOKUP'!B:B,AI2680)","v":0},{"$f":"IFERROR(INDEX('Standards LOOKUP'!C:C,MATCH(AI2680,'Standards LOOKUP'!B:B,0),0),0)","v":0},{"$f":"IFERROR(INDEX('Current Standards'!P:P,MATCH('Sheet Counter'!AI2680,'Current Standards'!O:O,0),0),\"\")","v":""}]
[null,null,0,"","",{"$error":"#VALUE!"},"",{"$f":"IF(I2681=\"\",\"\",LARGE(H$1:H2680,1)+1)","v":{"$error":"#VALUE!"}},{"$error":"#VALUE!"},null,null,null,null,null,2680,0,{"$f":"IF(R2681=\"\",\"\",LARGE(Q$1:Q2680,1)+1)","v":{"$error":"#NUM!"}},{"$error":"#NUM!"},null,null,null,null,null,null,0,{"$error":"#VALUE!"},3999,"","",null,null,null,null,{"$error":"#VALUE!"},{"$error":"#VALUE!"},{"$f":"COUNTIF('Standards LOOKUP'!B:B,AI2681)","v":0},{"$f":"IFERROR(INDEX('Standards LOOKUP'!C:C,MATCH(AI2681,'Standards LOOKUP'!B:B,0),0),0)","v":0},{"$f":"IFERROR(INDEX('Current Standards'!P:P,MATCH('Sheet Counter'!AI2681,'Current Standards'!O:O,0),0),\"\")","v":""}]
[null,null,0,"","",{"$error":"#VALUE!"},"",{"$f":"IF(I2685=\"\",\"\",LARGE(H$1:H2684,1)+1)","v":{"$error":"#VALUE!"}},{"$error":"#VALUE!"},null,null,null,null,null,2684,0,{"$f":"IF(R2685=\"\",\"\",LARGE(Q$1:Q2684,1)+1)","v":{"$error":"#NUM!"}},{"$error":"#NUM!"},null,null,null,null,null,null,0,{"$error":"#VALUE!"},3999,"","",null,null,null,null,{"$error":"#VALUE!"},{"$error":"#VALUE!"},{"$f":"COUNTIF('Standards LOOKUP'!B:B,AI2685)","v":0},{"$f":"IFERROR(INDEX('Standards LOOKUP'!C:C,MATCH(AI2685,'Standards LOOKUP'!B:B,0),0),0)","v":0},{"$f":"IFERROR(INDEX('Current Standards'!P:P,MATCH('Sheet Counter'!AI2685,'Current Standards'!O:O,0),0),\"\")","v":""}]
[null,null,0,"","",{"$error":"#VALUE!"},"",{"$f":"IF(I2687=\"\",\"\",LARGE(H$1:H2686,1)+1)","v":{"$error":"#VALUE!"}},{"$error":"#VALUE!"},null,null,null,null,null,2686,0,{"$f":"IF(R2687=\"\",\"\",LARGE(Q$1:Q2686,1)+1)","v":{"$error":"#NUM!"}},{"$error":"#NUM!"},null,null,null,null,null,null,0,{"$error":"#VALUE!"},3999,"","",null,null,null,null,{"$error":"#VALUE!"},{"$error":"#VALUE!"},{"$f":"COUNTIF('Standards LOOKUP'!B:B,AI2687)","v":0},{"$f":"IFERROR(INDEX('Standards LOOKUP'!C:C,MATCH(AI2687,'Standards LOOKUP'!B:B,0),0),0)","v":0},{"$f":"IFERROR(INDEX('Current Standards'!P:P,MATCH('Sheet Counter'!AI2687,'Current Standards'!O:O,0),0),\"\")","v":""}]
[null,null,0,"","",{"$error":"#VALUE!"},"",{"$f":"IF(I2690=\"\",\"\",LARGE(H$1:H2689,1)+1)","v":{"$error":"#VALUE!"}},{"$f":"IF(G2690=\"\",F2690,\"\")","v":{"$error":"#VALUE!"}},null,null,null,null,null,2689,{"$f":"COUNTIF(G:G,O2690)","v":0},{"$f":"IF(R2690=\"\",\"\",LARGE(Q$1:Q2689,1)+1)","v":{"$error":"#NUM!"}},{"$error":"#NUM!"},null,null,null,null,null,null,0,{"$error":"#VALUE!"},3999,"","",null,null,null,null,{"$error":"#VALUE!"},{"$error":"#VALUE!"},{"$f":"COUNTIF('Standards LOOKUP'!B:B,AI2690)","v":0},{"$f":"IFERROR(INDEX('Standards LOOKUP'!C:C,MATCH(AI2690,'Standards LOOKUP'!B:B,0),0),0)","v":0},{"$f":"IFERROR(INDEX('Current Standards'!P:P,MATCH('Sheet Counter'!AI2690,'Current Standards'!O:O,0),0),\"\")","v":""}]
[null,null,0,"","",{"$error":"#VALUE!"},"",{"$f":"IF(I2693=\"\",\"\",LARGE(H$1:H2692,1)+1)","v":{"$error":"#VALUE!"}},{"$error":"#VALUE!"},null,null,null,null,null,2692,0,{"$f":"IF(R2693=\"\",\"\",LARGE(Q$1:Q2692,1)+1)","v":{"$error":"#NUM!"}},{"$error":"#NUM!"},null,null,null,null,null,null,0,{"$error":"#VALUE!"},3999,"","",null,null,null,null,{"$error":"#VALUE!"},{"$error":"#VALUE!"},{"$f":"COUNTIF('Standards LOOKUP'!B:B,AI2693)","v":0},{"$f":"IFERROR(INDEX('Standards LOOKUP'!C:C,MATCH(AI2693,'Standards LOOKUP'!B:B,0),0),0)","v":0},{"$f":"IFERROR(INDEX('Current Standards'!P:P,MATCH('Sheet Counter'!AI2693,'Current Standards'!O:O,0),0),\"\")","v":""}]
[null,null,0,"","",{"$error":"#VALUE!"},"",{"$f":"IF(I2696=\"\",\"\",LARGE(H$1:H2695,1)+1)","v":{"$error":"#VALUE!"}},{"$error":"#VALUE!"},null,null,null,null,null,2695,0,{"$f":"IF(R2696=\"\",\"\",LARGE(Q$1:Q2695,1)+1)","v":{"$error":"#NUM!"}},{"$error":"#NUM!"},null,null,null,null,null,null,0,{"$error":"#VALUE!"},3999,"","",null,null,null,null,{"$error":"#VALUE!"},{"$error":"#VALUE!"},{"$f":"COUNTIF('Standards LOOKUP'!B:B,AI2696)","v":0},{"$f":"IFERROR(INDEX('Standards LOOKUP'!C:C,MATCH(AI2696,'Standards LOOKUP'!B:B,0),0),0)","v":0},{"$f":"IFERROR(INDEX('Current Standards'!P:P,MATCH('Sheet Counter'!AI2696,'Current Standards'!O:O,0),0),\"\")","v":""}]
[null,null,0,"","",{"$error":"#VALUE!"},"",{"$f":"IF(I2699=\"\",\"\",LARGE(H$1:H2698,1)+1)","v":{"$error":"#VALUE!"}},{"$error":"#VALUE!"},null,null,null,null,null,2698,0,{"$f":"IF(R2699=\"\",\"\",LARGE(Q$1:Q2698,1)+1)","v":{"$error":"#NUM!"}},{"$error":"#NUM!"},null,null,null,null,null,null,0,{"$error":"#VALUE!"},3999,"","",null,null,null,null,{"$error":"#VALUE!"},{"$error":"#VALUE!"},{"$f":"COUNTIF('Standards LOOKUP'!B:B,AI2699)","v":0},{"$f":"IFERROR(INDEX('Standards LOOKUP'!C:C,MATCH(AI2699,'Standards LOOKUP'!B:B,0),0),0)","v":0},{"$f":"IFERROR(INDEX('Current Standards'!P:P,MATCH('Sheet Counter'!AI2699,'Current Standards'!O:O,0),0),\"\")","v":""}]
[null,null,0,"","",{"$error":"#VALUE!"},"",{"$f":"IF(I2700=\"\",\"\",LARGE(H$1:H2699,1)+1)","v":{"$error":"#VALUE!"}},{"$error":"#VALUE!"},null,null,null,null,null,2699,0,{"$f":"IF(R2700=\"\",\"\",LARGE(Q$1:Q2699,1)+1)","v":{"$error":"#NUM!"}},{"$error":"#NUM!"},null,null,null,null,null,null,0,{"$error":"#VALUE!"},3999,"","",null,null,null,null,{"$error":"#VALUE!"},{"$error":"#VALUE!"},{"$f":"COUNTIF('Standards LOOKUP'!B:B,AI2700)","v":0},{"$f":"IFERROR(INDEX('Standards LOOKUP'!C:C,MATCH(AI2700,'Standards LOOKUP'!B:B,0),0),0)","v":0},{"$f":"IFERROR(INDEX('Current Standards'!P:P,MATCH('Sheet Counter'!AI2700,'Current Standards'!O:O,0),0),\"\")","v":""}]
[null,null,0,"","",{"$error":"#VALUE!"},"",{"$f":"IF(I2703=\"\",\"\",LARGE(H$1:H2702,1)+1)","v":{"$error":"#VALUE!"}},{"$error":"#VALUE!"},null,null,null,null,null,2702,0,{"$f":"IF(R2703=\"\",\"\",LARGE(Q$1:Q2702,1)+1)","v":{"$error":"#NUM!"}},{"$error":"#NUM!"},null,null,null,null,null,null,0,{"$error":"#VALUE!"},3999,"","",null,null,null,null,{"$error":"#VALUE!"},{"$error":"#VALUE!"},{"$f":"COUNTIF('Standards LOOKUP'!B:B,AI2703)","v":0},{"$f":"IFERROR(INDEX('Standards LOOKUP'!C:C,MATCH(AI2703,'Standards LOOKUP'!B:B,0),0),0)","v":0},{"$f":"IFERROR(INDEX('Current Standards'!P:P,MATCH('Sheet Counter'!AI2703,'Current Standards'!O:O,0),0),\"\")","v":""}]
[null,null,0,"","",{"$error":"#VALUE!"},"",{"$f":"IF(I2707=\"\",\"\",LARGE(H$1:H2706,1)+1)","v":{"$error":"#VALUE!"}},{"$error":"#VALUE!"},null,null,null,null,null,2706,0,{"$f":"IF(R2707=\"\",\"\",LARGE(Q$1:Q2706,1)+1)","v":{"$error":"#NUM!"}},{"$error":"#NUM!"},null,null,null,null,null,null,0,{"$error":"#VALUE!"},3999,"","",null,null,null,null,{"$error":"#VALUE!"},{"$error":"#VALUE!"},{"$f":"COUNTIF('Standards LOOKUP'!B:B,AI2707)","v":0},{"$f":"IFERROR(INDEX('Standards LOOKUP'!C:C,MATCH(AI2707,'Standards LOOKUP'!B:B,0),0),0)","v":0},{"$f":"IFERROR(INDEX('Current Standards'!P:P,MATCH('Sheet Counter'!AI2707,'Current Standards'!O:O,0),0),\"\")","v":""}]
[null,null,0,"","",{"$error":"#VALUE!"},"",{"$f":"IF(I2709=\"\",\"\",LARGE(H$1:H2708,1)+1)","v":{"$error":"#VALUE!"}},{"$error":"#VALUE!"},null,null,null,null,null,2708,0,{"$f":"IF(R2709=\"\",\"\",LARGE(Q$1:Q2708,1)+1)","v":{"$error":"#NUM!"}},{"$error":"#NUM!"},null,null,null,null,null,null,0,{"$error":"#VALUE!"},3999,"","",null,null,null,null,{"$error":"#VALUE!"},{"$error":"#VALUE!"},{"$f":"COUNTIF('Standards LOOKUP'!B:B,AI2709)","v":0},{"$f":"IFERROR(INDEX('Standards LOOKUP'!C:C,MATCH(AI2709,'Standards LOOKUP'!B:B,0),0),0)","v":0},{"$f":"IFERROR(INDEX('Current Standards'!P:P,MATCH('Sheet Counter'!AI2709,'Current Standards'!O:O,0),0),\"\")","v":""}]
[null,null,0,"","",{"$error":"#VALUE!"},"",{"$f":"IF(I2712=\"\",\"\",LARGE(H$1:H2711,1)+1)","v":{"$error":"#VALUE!"}},{"$error":"#VALUE!"},null,null,null,null,null,2711,0,{"$f":"IF(R2712=\"\",\"\",LARGE(Q$1:Q2711,1)+1)","v":{"$error":"#NUM!"}},{"$error":"#NUM!"},null,null,null,null,null,null,0,{"$error":"#VALUE!"},3999,"","",null,null,null,null,{"$error":"#VALUE!"},{"$error":"#VALUE!"},{"$f":"COUNTIF('Standards LOOKUP'!B:B,AI2712)","v":0},{"$f":"IFERROR(INDEX('Standards LOOKUP'!C:C,MATCH(AI2712,'Standards LOOKUP'!B:B,0),0),0)","v":0},{"$f":"IFERROR(INDEX('Current Standards'!P:P,MATCH('Sheet Counter'!AI2712,'Current Standards'!O:O,0),0),\"\")","v":""}]
[null,null,0,"","",{"$error":"#VALUE!"},"",{"$f":"IF(I2715=\"\",\"\",LARGE(H$1:H2714,1)+1)","v":{"$error":"#VALUE!"}},{"$error":"#VALUE!"},null,null,null,null,null,2714,0,{"$f":"IF(R2715=\"\",\"\",LARGE(Q$1:Q2714,1)+1)","v":{"$error":"#NUM!"}},{"$error":"#NUM!"},null,null,null,null,null,null,0,{"$error":"#VALUE!"},3999,"","",null,null,null,null,{"$error":"#VALUE!"},{"$error":"#VALUE!"},{"$f":"COUNTIF('Standards LOOKUP'!B:B,AI2715)","v":0},{"$f":"IFERROR(INDEX('Standards LOOKUP'!C:C,MATCH(AI2715,'Standards LOOKUP'!B:B,0),0),0)","v":0},{"$f":"IFERROR(INDEX('Current Standards'!P:P,MATCH('Sheet Counter'!AI2715,'Current Standards'!O:O,0),0),\"\")","v":""}]
[null,null,0,"","",{"$error":"#VALUE!"},"",{"$f":"IF(I2718=\"\",\"\",LARGE(H$1:H2717,1)+1)","v":{"$error":"#VALUE!"}},{"$error":"#VALUE!"},null,null,null,null,null,2717,0,{"$f":"IF(R2718=\"\",\"\",LARGE(Q$1:Q2717,1)+1)","v":{"$error":"#NUM!"}},{"$error":"#NUM!"},null,null,null,null,null,null,0,{"$error":"#VALUE!"},3999,"","",null,null,null,null,{"$error":"#VALUE!"},{"$error":"#VALUE!"},{"$f":"COUNTIF('Standards LOOKUP'!B:B,AI2718)","v":0},{"$f":"IFERROR(INDEX('Standards LOOKUP'!C:C,MATCH(AI2718,'Standards LOOKUP'!B:B,0),0),0)","v":0},{"$f":"IFERROR(INDEX('Current Standards'!P:P,MATCH('Sheet Counter'!AI2718,'Current Standards'!O:O,0),0),\"\")","v":""}]
[null,null,0,"","",{"$error":"#VALUE!"},"",{"$f":"IF(I2721=\"\",\"\",LARGE(H$1:H2720,1)+1)","v":{"$error":"#VALUE!"}},{"$error":"#VALUE!"},null,null,null,null,null,2720,0,{"$f":"IF(R2721=\"\",\"\",LARGE(Q$1:Q2720,1)+1)","v":{"$error":"#NUM!"}},{"$error":"#NUM!"},null,null,null,null,null,null,0,{"$error":"#VALUE!"},3999,"","",null,null,null,null,{"$error":"#VALUE!"},{"$error":"#VALUE!"},{"$f":"COUNTIF('Standards LOOKUP'!B:B,AI2721)","v":0},{"$f":"IFERROR(INDEX('Standards LOOKUP'!C:C,MATCH(AI2721,'Standards LOOKUP'!B:B,0),0),0)","v":0},{"$f":"IFERROR(INDEX('Current Standards'!P:P,MATCH('Sheet Counter'!AI2721,'Current Standards'!O:O,0),0),\"\")","v":""}]
[null,null,0,"","",{"$error":"#VALUE!"},"",{"$f":"IF(I2722=\"\",\"\",LARGE(H$1:H2721,1)+1)","v":{"$error":"#VALUE!"}},{"$error":"#VALUE!"},null,null,null,null,null,2721,0,{"$f":"IF(R2722=\"\",\"\",LARGE(Q$1:Q2721,1)+1)","v":{"$error":"#NUM!"}},{"$error":"#NUM!"},null,null,null,null,null,null,0,{"$error":"#VALUE!"},3999,"","",null,null,null,null,{"$error":"#VALUE!"},{"$error":"#VALUE!"},{"$f":"COUNTIF('Standards LOOKUP'!B:B,AI2722)","v":0},{"$f":"IFERROR(INDEX('Standards LOOKUP'!C:C,MATCH(AI2722,'Standards LOOKUP'!B:B,0),0),0)","v":0},{"$f":"IFERROR(INDEX('Current Standards'!P:P,MATCH('Sheet Counter'!AI2722,'Current Standards'!O:O,0),0),\"\")","v":""}]
[null,null,0,"","",{"$error":"#VALUE!"},"",{"$f":"IF(I2725=\"\",\"\",LARGE(H$1:H2724,1)+1)","v":{"$error":"#VALUE!"}},{"$error":"#VALUE!"},null,null,null,null,null,2724,0,{"$f":"IF(R2725=\"\",\"\",LARGE(Q$1:Q2724,1)+1)","v":{"$error":"#NUM!"}},{"$error":"#NUM!"},null,null,null,null,null,null,0,{"$error":"#VALUE!"},3999,"","",null,null,null,null,{"$error":"#VALUE!"},{"$error":"#VALUE!"},{"$f":"COUNTIF('Standards LOOKUP'!B:B,AI2725)","v":0},{"$f":"IFERROR(INDEX('Standards LOOKUP'!C:C,MATCH(AI2725,'Standards LOOKUP'!B:B,0),0),0)","v":0},{"$f":"IFERROR(INDEX('Current Standards'!P:P,MATCH('Sheet Counter'!AI2725,'Current Standards'!O:O,0),0),\"\")","v":""}]
[null,null,0,"","",{"$error":"#VALUE!"},"",{"$f":"IF(I2729=\"\",\"\",LARGE(H$1:H2728,1)+1)","v":{"$error":"#VALUE!"}},{"$error":"#VALUE!"},null,null,null,null,null,2728,0,{"$f":"IF(R2729=\"\",\"\",LARGE(Q$1:Q2728,1)+1)","v":{"$error":"#NUM!"}},{"$error":"#NUM!"},null,null,null,null,null,null,0,{"$error":"#VALUE!"},3999,"","",null,null,null,null,{"$error":"#VALUE!"},{"$error":"#VALUE!"},{"$f":"COUNTIF('Standards LOOKUP'!B:B,AI2729)","v":0},{"$f":"IFERROR(INDEX('Standards LOOKUP'!C:C,MATCH(AI2729,'Standards LOOKUP'!B:B,0),0),0)","v":0},{"$f":"IFERROR(INDEX('Current Standards'!P:P,MATCH('Sheet Counter'!AI2729,'Current Standards'!O:O,0),0),\"\")","v":""}]
[null,null,0,"","",{"$error":"#VALUE!"},"",{"$f":"IF(I2731=\"\",\"\",LARGE(H$1:H2730,1)+1)","v":{"$error":"#VALUE!"}},{"$error":"#VALUE!"},null,null,null,null,null,2730,0,{"$f":"IF(R2731=\"\",\"\",LARGE(Q$1:Q2730,1)+1)","v":{"$error":"#NUM!"}},{"$error":"#NUM!"},null,null,null,null,null,null,0,{"$error":"#VALUE!"},3999,"","",null,null,null,null,{"$error":"#VALUE!"},{"$error":"#VALUE!"},{"$f":"COUNTIF('Standards LOOKUP'!B:B,AI2731)","v":0},{"$f":"IFERROR(INDEX('Standards LOOKUP'!C:C,MATCH(AI2731,'Standards LOOKUP'!B:B,0),0),0)","v":0},{"$f":"IFERROR(INDEX('Current Standards'!P:P,MATCH('Sheet Counter'!AI2731,'Current Standards'!O:O,0),0),\"\")","v":""}]
[null,null,0,"","",{"$error":"#VALUE!"},"",{"$f":"IF(I2734=\"\",\"\",LARGE(H$1:H2733,1)+1)","v":{"$error":"#VALUE!"}},{"$error":"#VALUE!"},null,null,null,null,null,2733,0,{"$f":"IF(R2734=\"\",\"\",LARGE(Q$1:Q2733,1)+1)","v":{"$error":"#NUM!"}},{"$error":"#NUM!"},null,null,null,null,null,null,0,{"$error":"#VALUE!"},3999,"","",null,null,null,null,{"$error":"#VALUE!"},{"$error":"#VALUE!"},{"$f":"COUNTIF('Standards LOOKUP'!B:B,AI2734)","v":0},{"$f":"IFERROR(INDEX('Standards LOOKUP'!C:C,MATCH(AI2734,'Standards LOOKUP'!B:B,0),0),0)","v":0},{"$f":"IFERROR(INDEX('Current Standards'!P:P,MATCH('Sheet Counter'!AI2734,'Current Standards'!O:O,0),0),\"\")","v":""}]
[null,null,0,"","",{"$error":"#VALUE!"},"",{"$f":"IF(I2738=\"\",\"\",LARGE(H$1:H2737,1)+1)","v":{"$error":"#VALUE!"}},{"$error":"#VALUE!"},null,null,null,null,null,2737,0,{"$f":"IF(R2738=\"\",\"\",LARGE(Q$1:Q2737,1)+1)","v":{"$error":"#NUM!"}},{"$error":"#NUM!"},null,null,null,null,null,null,0,{"$error":"#VALUE!"},3999,"","",null,null,null,null,{"$error":"#VALUE!"},{"$error":"#VALUE!"},{"$f":"COUNTIF('Standards LOOKUP'!B:B,AI2738)","v":0},{"$f":"IFERROR(INDEX('Standards LOOKUP'!C:C,MATCH(AI2738,'Standards LOOKUP'!B:B,0),0),0)","v":0},{"$f":"IFERROR(INDEX('Current Standards'!P:P,MATCH('Sheet Counter'!AI2738,'Current Standards'!O:O,0),0),\"\")","v":""}]
[null,null,0,"","",{"$error":"#VALUE!"},"",{"$f":"IF(I2740=\"\",\"\",LARGE(H$1:H2739,1)+1)","v":{"$error":"#VALUE!"}},{"$error":"#VALUE!"},null,null,null,null,null,2739,0,{"$f":"IF(R2740=\"\",\"\",LARGE(Q$1:Q2739,1)+1)","v":{"$error":"#NUM!"}},{"$error":"#NUM!"},null,null,null,null,null,null,0,{"$error":"#VALUE!"},3999,"","",null,null,null,null,{"$error":"#VALUE!"},{"$error":"#VALUE!"},{"$f":"COUNTIF('Standards LOOKUP'!B:B,AI2740)","v":0},{"$f":"IFERROR(INDEX('Standards LOOKUP'!C:C,MATCH(AI2740,'Standards LOOKUP'!B:B,0),0),0)","v":0},{"$f":"IFERROR(INDEX('Current Standards'!P:P,MATCH('Sheet Counter'!AI2740,'Current Standards'!O:O,0),0),\"\")","v":""}]
[null,null,0,"","",{"$error":"#VALUE!"},"",{"$f":"IF(I2743=\"\",\"\",LARGE(H$1:H2742,1)+1)","v":{"$error":"#VALUE!"}},{"$error":"#VALUE!"},null,null,null,null,null,2742,0,{"$f":"IF(R2743=\"\",\"\",LARGE(Q$1:Q2742,1)+1)","v":{"$error":"#NUM!"}},{"$error":"#NUM!"},null,null,null,null,null,null,0,{"$error":"#VALUE!"},3999,"","",null,null,null,null,{"$error":"#VALUE!"},{"$error":"#VALUE!"},{"$f":"COUNTIF('Standards LOOKUP'!B:B,AI2743)","v":0},{"$f":"IFERROR(INDEX('Standards LOOKUP'!C:C,MATCH(AI2743,'Standards LOOKUP'!B:B,0),0),0)","v":0},{"$f":"IFERROR(INDEX('Current Standards'!P:P,MATCH('Sheet Counter'!AI2743,'Current Standards'!O:O,0),0),\"\")","v":""}]
[null,null,0,"","",{"$error":"#VALUE!"},"",{"$f":"IF(I2744=\"\",\"\",LARGE(H$1:H2743,1)+1)","v":{"$error":"#VALUE!"}},{"$error":"#VALUE!"},null,null,null,null,null,2743,0,{"$f":"IF(R2744=\"\",\"\",LARGE(Q$1:Q2743,1)+1)","v":{"$error":"#NUM!"}},{"$error":"#NUM!"},null,null,null,null,null,null,0,{"$error":"#VALUE!"},3999,"","",null,null,null,null,{"$error":"#VALUE!"},{"$error":"#VALUE!"},{"$f":"COUNTIF('Standards LOOKUP'!B:B,AI2744)","v":0},{"$f":"IFERROR(INDEX('Standards LOOKUP'!C:C,MATCH(AI2744,'Standards LOOKUP'!B:B,0),0),0)","v":0},{"$f":"IFERROR(INDEX('Current Standards'!P:P,MATCH('Sheet Counter'!AI2744,'Current Standards'!O:O,0),0),\"\")","v":""}]
[null,null,0,"","",{"$error":"#VALUE!"},"",{"$f":"IF(I2747=\"\",\"\",LARGE(H$1:H2746,1)+1)","v":{"$error":"#VALUE!"}},{"$error":"#VALUE!"},null,null,null,null,null,2746,0,{"$f":"IF(R2747=\"\",\"\",LARGE(Q$1:Q2746,1)+1)","v":{"$error":"#NUM!"}},{"$error":"#NUM!"},null,null,null,null,null,null,0,{"$error":"#VALUE!"},3999,"","",null,null,null,null,{"$error":"#VALUE!"},{"$error":"#VALUE!"},{"$f":"COUNTIF('Standards LOOKUP'!B:B,AI2747)","v":0},{"$f":"IFERROR(INDEX('Standards LOOKUP'!C:C,MATCH(AI2747,'Standards LOOKUP'!B:B,0),0),0)","v":0},{"$f":"IFERROR(INDEX('Current Standards'!P:P,MATCH('Sheet Counter'!AI2747,'Current Standards'!O:O,0),0),\"\")","v":""}]
[null,null,0,"","",{"$error":"#VALUE!"},"",{"$f":"IF(I2751=\"\",\"\",LARGE(H$1:H2750,1)+1)","v":{"$error":"#VALUE!"}},{"$error":"#VALUE!"},null,null,null,null,null,2750,0,{"$f":"IF(R2751=\"\",\"\",LARGE(Q$1:Q2750,1)+1)","v":{"$error":"#NUM!"}},{"$error":"#NUM!"},null,null,null,null,null,null,0,{"$error":"#VALUE!"},3999,"","",null,null,null,null,{"$error":"#VALUE!"},{"$error":"#VALUE!"},{"$f":"COUNTIF('Standards LOOKUP'!B:B,AI2751)","v":0},{"$f":"IFERROR(INDEX('Standards LOOKUP'!C:C,MATCH(AI2751,'Standards LOOKUP'!B:B,0),0),0)","v":0},{"$f":"IFERROR(INDEX('Current Standards'!P:P,MATCH('Sheet Counter'!AI2751,'Current Standards'!O:O,0),0),\"\")","v":""}]
[null,null,0,"","",{"$error":"#VALUE!"},"",{"$f":"IF(I2753=\"\",\"\",LARGE(H$1:H2752,1)+1)","v":{"$error":"#VALUE!"}},{"$error":"#VALUE!"},null,null,null,null,null,2752,0,{"$f":"IF(R2753=\"\",\"\",LARGE(Q$1:Q2752,1)+1)","v":{"$error":"#NUM!"}},{"$error":"#NUM!"},null,null,null,null,null,null,0,{"$error":"#VALUE!"},3999,"","",null,null,null,null,{"$error":"#VALUE!"},{"$error":"#VALUE!"},{"$f":"COUNTIF('Standards LOOKUP'!B:B,AI2753)","v":0},{"$f":"IFERROR(INDEX('Standards LOOKUP'!C:C,MATCH(AI2753,'Standards LOOKUP'!B:B,0),0),0)","v":0},{"$f":"IFERROR(INDEX('Current Standards'!P:P,MATCH('Sheet Counter'!AI2753,'Current Standards'!O:O,0),0),\"\")","v":""}]
[null,null,0,"","",{"$error":"#VALUE!"},"",{"$f":"IF(I2756=\"\",\"\",LARGE(H$1:H2755,1)+1)","v":{"$error":"#VALUE!"}},{"$error":"#VALUE!"},null,null,null,null,null,2755,0,{"$f":"IF(R2756=\"\",\"\",LARGE(Q$1:Q2755,1)+1)","v":{"$error":"#NUM!"}},{"$f":"IF(AND(P2756<>1,O2756<=LARGE(G:G,1),O2756>=SMALL(G:G,1)),O2756,\"\")","v":{"$error":"#NUM!"}},null,null,null,null,null,null,0,{"$error":"#VALUE!"},3999,"","",null,null,null,null,{"$error":"#VALUE!"},{"$error":"#VALUE!"},{"$f":"COUNTIF('Standards LOOKUP'!B:B,AI2756)","v":0},{"$f":"IFERROR(INDEX('Standards LOOKUP'!C:C,MATCH(AI2756,'Standards LOOKUP'!B:B,0),0),0)","v":0},{"$f":"IFERROR(INDEX('Current Standards'!P:P,MATCH('Sheet Counter'!AI2756,'Current Standards'!O:O,0),0),\"\")","v":""}]
[null,null,0,"","",{"$error":"#VALUE!"},"",{"$f":"IF(I2760=\"\",\"\",LARGE(H$1:H2759,1)+1)","v":{"$error":"#VALUE!"}},{"$error":"#VALUE!"},null,null,null,null,null,2759,0,{"$f":"IF(R2760=\"\",\"\",LARGE(Q$1:Q2759,1)+1)","v":{"$error":"#NUM!"}},{"$error":"#NUM!"},null,null,null,null,null,null,0,{"$error":"#VALUE!"},3999,"","",null,null,null,null,{"$error":"#VALUE!"},{"$error":"#VALUE!"},{"$f":"COUNTIF('Standards LOOKUP'!B:B,AI2760)","v":0},{"$f":"IFERROR(INDEX('Standards LOOKUP'!C:C,MATCH(AI2760,'Standards LOOKUP'!B:B,0),0),0)","v":0},{"$f":"IFERROR(INDEX('Current Standards'!P:P,MATCH('Sheet Counter'!AI2760,'Current Standards'!O:O,0),0),\"\")","v":""}]
[null,null,0,"","",{"$error":"#VALUE!"},"",{"$f":"IF(I2762=\"\",\"\",LARGE(H$1:H2761,1)+1)","v":{"$error":"#VALUE!"}},{"$error":"#VALUE!"},null,null,null,null,null,2761,0,{"$f":"IF(R2762=\"\",\"\",LARGE(Q$1:Q2761,1)+1)","v":{"$error":"#NUM!"}},{"$error":"#NUM!"},null,null,null,null,null,null,0,{"$error":"#VALUE!"},3999,"","",null,null,null,null,{"$error":"#VALUE!"},{"$error":"#VALUE!"},{"$f":"COUNTIF('Standards LOOKUP'!B:B,AI2762)","v":0},{"$f":"IFERROR(INDEX('Standards LOOKUP'!C:C,MATCH(AI2762,'Standards LOOKUP'!B:B,0),0),0)","v":0},{"$f":"IFERROR(INDEX('Current Standards'!P:P,MATCH('Sheet Counter'!AI2762,'Current Standards'!O:O,0),0),\"\")","v":""}]
[null,null,0,"","",{"$error":"#VALUE!"},"",{"$f":"IF(I2765=\"\",\"\",LARGE(H$1:H2764,1)+1)","v":{"$error":"#VALUE!"}},{"$error":"#VALUE!"},null,null,null,null,null,2764,0,{"$f":"IF(R2765=\"\",\"\",LARGE(Q$1:Q2764,1)+1)","v":{"$error":"#NUM!"}},{"$error":"#NUM!"},null,null,null,null,null,null,0,{"$error":"#VALUE!"},3999,"","",null,null,null,null,{"$error":"#VALUE!"},{"$error":"#VALUE!"},{"$f":"COUNTIF('Standards LOOKUP'!B:B,AI2765)","v":0},{"$f":"IFERROR(INDEX('Standards LOOKUP'!C:C,MATCH(AI2765,'Standards LOOKUP'!B:B,0),0),0)","v":0},{"$f":"IFERROR(INDEX('Current Standards'!P:P,MATCH('Sheet Counter'!AI2765,'Current Standards'!O:O,0),0),\"\")","v":""}]
[null,null,0,"","",{"$error":"#VALUE!"},"",{"$f":"IF(I2766=\"\",\"\",LARGE(H$1:H2765,1)+1)","v":{"$error":"#VALUE!"}},{"$error":"#VALUE!"},null,null,null,null,null,2765,0,{"$f":"IF(R2766=\"\",\"\",LARGE(Q$1:Q2765,1)+1)","v":{"$error":"#NUM!"}},{"$error":"#NUM!"},null,null,null,null,null,null,0,{"$error":"#VALUE!"},3999,"","",null,null,null,null,{"$error":"#VALUE!"},{"$error":"#VALUE!"},{"$f":"COUNTIF('Standards LOOKUP'!B:B,AI2766)","v":0},{"$f":"IFERROR(INDEX('Standards LOOKUP'!C:C,MATCH(AI2766,'Standards LOOKUP'!B:B,0),0),0)","v":0},{"$f":"IFERROR(INDEX('Current Standards'!P:P,MATCH('Sheet Counter'!AI2766,'Current Standards'!O:O,0),0),\"\")","v":""}]
[null,null,0,"","",{"$error":"#VALUE!"},"",{"$f":"IF(I2769=\"\",\"\",LARGE(H$1:H2768,1)+1)","v":{"$error":"#VALUE!"}},{"$error":"#VALUE!"},null,null,null,null,null,2768,0,{"$f":"IF(R2769=\"\",\"\",LARGE(Q$1:Q2768,1)+1)","v":{"$error":"#NUM!"}},{"$error":"#NUM!"},null,null,null,null,null,null,0,{"$error":"#VALUE!"},3999,"","",null,null,null,null,{"$error":"#VALUE!"},{"$error":"#VALUE!"},{"$f":"COUNTIF('Standards LOOKUP'!B:B,AI2769)","v":0},{"$f":"IFERROR(INDEX('Standards LOOKUP'!C:C,MATCH(AI2769,'Standards LOOKUP'!B:B,0),0),0)","v":0},{"$f":"IFERROR(INDEX('Current Standards'!P:P,MATCH('Sheet Counter'!AI2769,'Current Standards'!O:O,0),0),\"\")","v":""}]
[null,null,0,"","",{"$error":"#VALUE!"},"",{"$f":"IF(I2773=\"\",\"\",LARGE(H$1:H2772,1)+1)","v":{"$error":"#VALUE!"}},{"$error":"#VALUE!"},null,null,null,null,null,2772,0,{"$f":"IF(R2773=\"\",\"\",LARGE(Q$1:Q2772,1)+1)","v":{"$error":"#NUM!"}},{"$error":"#NUM!"},null,null,null,null,null,null,0,{"$error":"#VALUE!"},3999,"","",null,null,null,null,{"$error":"#VALUE!"},{"$error":"#VALUE!"},{"$f":"COUNTIF('Standards LOOKUP'!B:B,AI2773)","v":0},{"$f":"IFERROR(INDEX('Standards LOOKUP'!C:C,MATCH(AI2773,'Standards LOOKUP'!B:B,0),0),0)","v":0},{"$f":"IFERROR(INDEX('Current Standards'!P:P,MATCH('Sheet Counter'!AI2773,'Current Standards'!O:O,0),0),\"\")","v":""}]
[null,null,0,"","",{"$error":"#VALUE!"},"",{"$f":"IF(I2775=\"\",\"\",LARGE(H$1:H2774,1)+1)","v":{"$error":"#VALUE!"}},{"$error":"#VALUE!"},null,null,null,null,null,2774,0,{"$f":"IF(R2775=\"\",\"\",LARGE(Q$1:Q2774,1)+1)","v":{"$error":"#NUM!"}},{"$error":"#NUM!"},null,null,null,null,null,null,0,{"$error":"#VALUE!"},3999,"","",null,null,null,null,{"$error":"#VALUE!"},{"$error":"#VALUE!"},{"$f":"COUNTIF('Standards LOOKUP'!B:B,AI2775)","v":0},{"$f":"IFERROR(INDEX('Standards LOOKUP'!C:C,MATCH(AI2775,'Standards LOOKUP'!B:B,0),0),0)","v":0},{"$f":"IFERROR(INDEX('Current Standards'!P:P,MATCH('Sheet Counter'!AI2775,'Current Standards'!O:O,0),0),\"\")","v":""}]
[null,null,0,"","",{"$error":"#VALUE!"},"",{"$f":"IF(I2778=\"\",\"\",LARGE(H$1:H2777,1)+1)","v":{"$error":"#VALUE!"}},{"$error":"#VALUE!"},null,null,null,null,null,2777,0,{"$f":"IF(R2778=\"\",\"\",LARGE(Q$1:Q2777,1)+1)","v":{"$error":"#NUM!"}},{"$error":"#NUM!"},null,null,null,null,null,null,0,{"$error":"#VALUE!"},3999,"","",null,null,null,null,{"$error":"#VALUE!"},{"$error":"#VALUE!"},{"$f":"COUNTIF('Standards LOOKUP'!B:B,AI2778)","v":0},{"$f":"IFERROR(INDEX('Standards LOOKUP'!C:C,MATCH(AI2778,'Standards LOOKUP'!B:B,0),0),0)","v":0},{"$f":"IFERROR(INDEX('Current Standards'!P:P,MATCH('Sheet Counter'!AI2778,'Current Standards'!O:O,0),0),\"\")","v":""}]
[null,null,0,"","",{"$error":"#VALUE!"},"",{"$f":"IF(I2782=\"\",\"\",LARGE(H$1:H2781,1)+1)","v":{"$error":"#VALUE!"}},{"$error":"#VALUE!"},null,null,null,null,null,2781,0,{"$f":"IF(R2782=\"\",\"\",LARGE(Q$1:Q2781,1)+1)","v":{"$error":"#NUM!"}},{"$error":"#NUM!"},null,null,null,null,null,null,0,{"$error":"#VALUE!"},3999,"","",null,null,null,null,{"$error":"#VALUE!"},{"$error":"#VALUE!"},{"$f":"COUNTIF('Standards LOOKUP'!B:B,AI2782)","v":0},{"$f":"IFERROR(INDEX('Standards LOOKUP'!C:C,MATCH(AI2782,'Standards LOOKUP'!B:B,0),0),0)","v":0},{"$f":"IFERROR(INDEX('Current Standards'!P:P,MATCH('Sheet Counter'!AI2782,'Current Standards'!O:O,0),0),\"\")","v":""}]
[null,null,0,"","",{"$error":"#VALUE!"},"",{"$f":"IF(I2784=\"\",\"\",LARGE(H$1:H2783,1)+1)","v":{"$error":"#VALUE!"}},{"$error":"#VALUE!"},null,null,null,null,null,2783,0,{"$f":"IF(R2784=\"\",\"\",LARGE(Q$1:Q2783,1)+1)","v":{"$error":"#NUM!"}},{"$error":"#NUM!"},null,null,null,null,null,null,0,{"$error":"#VALUE!"},3999,"","",null,null,null,null,{"$error":"#VALUE!"},{"$error":"#VALUE!"},{"$f":"COUNTIF('Standards LOOKUP'!B:B,AI2784)","v":0},{"$f":"IFERROR(INDEX('Standards LOOKUP'!C:C,MATCH(AI2784,'Standards LOOKUP'!B:B,0),0),0)","v":0},{"$f":"IFERROR(INDEX('Current Standards'!P:P,MATCH('Sheet Counter'!AI2784,'Current Standards'!O:O,0),0),\"\")","v":""}]
[null,null,0,"","",{"$error":"#VALUE!"},"",{"$f":"IF(I2787=\"\",\"\",LARGE(H$1:H2786,1)+1)","v":{"$error":"#VALUE!"}},{"$error":"#VALUE!"},null,null,null,null,null,2786,0,{"$f":"IF(R2787=\"\",\"\",LARGE(Q$1:Q2786,1)+1)","v":{"$error":"#NUM!"}},{"$error":"#NUM!"},null,null,null,null,null,null,0,{"$error":"#VALUE!"},3999,"","",null,null,null,null,{"$error":"#VALUE!"},{"$error":"#VALUE!"},{"$f":"COUNTIF('Standards LOOKUP'!B:B,AI2787)","v":0},{"$f":"IFERROR(INDEX('Standards LOOKUP'!C:C,MATCH(AI2787,'Standards LOOKUP'!B:B,0),0),0)","v":0},{"$f":"IFERROR(INDEX('Current Standards'!P:P,MATCH('Sheet Counter'!AI2787,'Current Standards'!O:O,0),0),\"\")","v":""}]
[null,null,0,"","",{"$error":"#VALUE!"},"",{"$f":"IF(I2788=\"\",\"\",LARGE(H$1:H2787,1)+1)","v":{"$error":"#VALUE!"}},{"$error":"#VALUE!"},null,null,null,null,null,2787,0,{"$f":"IF(R2788=\"\",\"\",LARGE(Q$1:Q2787,1)+1)","v":{"$error":"#NUM!"}},{"$error":"#NUM!"},null,null,null,null,null,null,0,{"$error":"#VALUE!"},3999,"","",null,null,null,null,{"$error":"#VALUE!"},{"$error":"#VALUE!"},{"$f":"COUNTIF('Standards LOOKUP'!B:B,AI2788)","v":0},{"$f":"IFERROR(INDEX('Standards LOOKUP'!C:C,MATCH(AI2788,'Standards LOOKUP'!B:B,0),0),0)","v":0},{"$f":"IFERROR(INDEX('Current Standards'!P:P,MATCH('Sheet Counter'!AI2788,'Current Standards'!O:O,0),0),\"\")","v":""}]
[null,null,0,"","",{"$error":"#VALUE!"},"",{"$f":"IF(I2791=\"\",\"\",LARGE(H$1:H2790,1)+1)","v":{"$error":"#VALUE!"}},{"$error":"#VALUE!"},null,null,null,null,null,2790,0,{"$f":"IF(R2791=\"\",\"\",LARGE(Q$1:Q2790,1)+1)","v":{"$error":"#NUM!"}},{"$error":"#NUM!"},null,null,null,null,null,null,0,{"$error":"#VALUE!"},3999,"","",null,null,null,null,{"$error":"#VALUE!"},{"$error":"#VALUE!"},{"$f":"COUNTIF('Standards LOOKUP'!B:B,AI2791)","v":0},{"$f":"IFERROR(INDEX('Standards LOOKUP'!C:C,MATCH(AI2791,'Standards LOOKUP'!B:B,0),0),0)","v":0},{"$f":"IFERROR(INDEX('Current Standards'!P:P,MATCH('Sheet Counter'!AI2791,'Current Standards'!O:O,0),0),\"\")","v":""}]
[null,null,0,"","",{"$error":"#VALUE!"},"",{"$f":"IF(I2795=\"\",\"\",LARGE(H$1:H2794,1)+1)","v":{"$error":"#VALUE!"}},{"$error":"#VALUE!"},null,null,null,null,null,2794,0,{"$f":"IF(R2795=\"\",\"\",LARGE(Q$1:Q2794,1)+1)","v":{"$error":"#NUM!"}},{"$error":"#NUM!"},null,null,null,null,null,null,0,{"$error":"#VALUE!"},3999,"","",null,null,null,null,{"$error":"#VALUE!"},{"$error":"#VALUE!"},{"$f":"COUNTIF('Standards LOOKUP'!B:B,AI2795)","v":0},{"$f":"IFERROR(INDEX('Standards LOOKUP'!C:C,MATCH(AI2795,'Standards LOOKUP'!B:B,0),0),0)","v":0},{"$f":"IFERROR(INDEX('Current Standards'!P:P,MATCH('Sheet Counter'!AI2795,'Current Standards'!O:O,0),0),\"\")","v":""}]
[null,null,0,"","",{"$error":"#VALUE!"},"",{"$f":"IF(I2797=\"\",\"\",LARGE(H$1:H2796,1)+1)","v":{"$error":"#VALUE!"}},{"$error":"#VALUE!"},null,null,null,null,null,2796,0,{"$f":"IF(R2797=\"\",\"\",LARGE(Q$1:Q2796,1)+1)","v":{"$error":"#NUM!"}},{"$error":"#NUM!"},null,null,null,null,null,null,0,{"$error":"#VALUE!"},3999,"","",null,null,null,null,{"$error":"#VALUE!"},{"$error":"#VALUE!"},{"$f":"COUNTIF('Standards LOOKUP'!B:B,AI2797)","v":0},{"$f":"IFERROR(INDEX('Standards LOOKUP'!C:C,MATCH(AI2797,'Standards LOOKUP'!B:B,0),0),0)","v":0},{"$f":"IFERROR(INDEX('Current Standards'!P:P,MATCH('Sheet Counter'!AI2797,'Current Standards'!O:O,0),0),\"\")","v":""}]
[null,null,0,"","",{"$error":"#VALUE!"},"",{"$f":"IF(I2800=\"\",\"\",LARGE(H$1:H2799,1)+1)","v":{"$error":"#VALUE!"}},{"$error":"#VALUE!"},null,null,null,null,null,2799,0,{"$f":"IF(R2800=\"\",\"\",LARGE(Q$1:Q2799,1)+1)","v":{"$error":"#NUM!"}},{"$error":"#NUM!"},null,null,null,null,null,null,0,{"$error":"#VALUE!"},3999,"","",null,null,null,null,{"$error":"#VALUE!"},{"$error":"#VALUE!"},{"$f":"COUNTIF('Standards LOOKUP'!B:B,AI2800)","v":0},{"$f":"IFERROR(INDEX('Standards LOOKUP'!C:C,MATCH(AI2800,'Standards LOOKUP'!B:B,0),0),0)","v":0},{"$f":"IFERROR(INDEX('Current Standards'!P:P,MATCH('Sheet Counter'!AI2800,'Current Standards'!O:O,0),0),\"\")","v":""}]
[null,null,0,"","",{"$error":"#VALUE!"},"",{"$f":"IF(I2804=\"\",\"\",LARGE(H$1:H2803,1)+1)","v":{"$error":"#VALUE!"}},{"$error":"#VALUE!"},null,null,null,null,null,2803,0,{"$f":"IF(R2804=\"\",\"\",LARGE(Q$1:Q2803,1)+1)","v":{"$error":"#NUM!"}},{"$error":"#NUM!"},null,null,null,null,null,null,0,{"$error":"#VALUE!"},3999,"","",null,null,null,null,{"$error":"#VALUE!"},{"$error":"#VALUE!"},{"$f":"COUNTIF('Standards LOOKUP'!B:B,AI2804)","v":0},{"$f":"IFERROR(INDEX('Standards LOOKUP'!C:C,MATCH(AI2804,'Standards LOOKUP'!B:B,0),0),0)","v":0},{"$f":"IFERROR(INDEX('Current Standards'!P:P,MATCH('Sheet Counter'!AI2804,'Current Standards'!O:O,0),0),\"\")","v":""}]
[null,null,0,"","",{"$error":"#VALUE!"},"",{"$f":"IF(I2806=\"\",\"\",LARGE(H$1:H2805,1)+1)","v":{"$error":"#VALUE!"}},{"$error":"#VALUE!"},null,null,null,null,null,2805,0,{"$f":"IF(R2806=\"\",\"\",LARGE(Q$1:Q2805,1)+1)","v":{"$error":"#NUM!"}},{"$error":"#NUM!"},null,null,null,null,null,null,0,{"$error":"#VALUE!"},3999,"","",null,null,null,null,{"$error":"#VALUE!"},{"$error":"#VALUE!"},{"$f":"COUNTIF('Standards LOOKUP'!B:B,AI2806)","v":0},{"$f":"IFERROR(INDEX('Standards LOOKUP'!C:C,MATCH(AI2806,'Standards LOOKUP'!B:B,0),0),0)","v":0},{"$f":"IFERROR(INDEX('Current Standards'!P:P,MATCH('Sheet Counter'!AI2806,'Current Standards'!O:O,0),0),\"\")","v":""}]
[null,null,0,"","",{"$error":"#VALUE!"},"",{"$f":"IF(I2809=\"\",\"\",LARGE(H$1:H2808,1)+1)","v":{"$error":"#VALUE!"}},{"$error":"#VALUE!"},null,null,null,null,null,2808,0,{"$f":"IF(R2809=\"\",\"\",LARGE(Q$1:Q2808,1)+1)","v":{"$error":"#NUM!"}},{"$error":"#NUM!"},null,null,null,null,null,null,0,{"$error":"#VALUE!"},3999,"","",null,null,null,null,{"$error":"#VALUE!"},{"$error":"#VALUE!"},{"$f":"COUNTIF('Standards LOOKUP'!B:B,AI2809)","v":0},{"$f":"IFERROR(INDEX('Standards LOOKUP'!C:C,MATCH(AI2809,'Standards LOOKUP'!B:B,0),0),0)","v":0},{"$f":"IFERROR(INDEX('Current Standards'!P:P,MATCH('Sheet Counter'!AI2809,'Current Standards'!O:O,0),0),\"\")","v":""}]
[null,null,0,"","",{"$error":"#VALUE!"},"",{"$f":"IF(I2810=\"\",\"\",LARGE(H$1:H2809,1)+1)","v":{"$error":"#VALUE!"}},{"$error":"#VALUE!"},null,null,null,null,null,2809,0,{"$f":"IF(R2810=\"\",\"\",LARGE(Q$1:Q2809,1)+1)","v":{"$error":"#NUM!"}},{"$error":"#NUM!"},null,null,null,null,null,null,0,{"$error":"#VALUE!"},3999,"","",null,null,null,null,{"$error":"#VALUE!"},{"$error":"#VALUE!"},{"$f":"COUNTIF('Standards LOOKUP'!B:B,AI2810)","v":0},{"$f":"IFERROR(INDEX('Standards LOOKUP'!C:C,MATCH(AI2810,'Standards LOOKUP'!B:B,0),0),0)","v":0},{"$f":"IFERROR(INDEX('Current Standards'!P:P,MATCH('Sheet Counter'!AI2810,'Current Standards'!O:O,0),0),\"\")","v":""}]
[null,null,0,"","",{"$error":"#VALUE!"},"",{"$f":"IF(I2813=\"\",\"\",LARGE(H$1:H2812,1)+1)","v":{"$error":"#VALUE!"}},{"$error":"#VALUE!"},null,null,null,null,null,2812,0,{"$f":"IF(R2813=\"\",\"\",LARGE(Q$1:Q2812,1)+1)","v":{"$error":"#NUM!"}},{"$error":"#NUM!"},null,null,null,null,null,null,0,{"$error":"#VALUE!"},3999,"","",null,null,null,null,{"$error":"#VALUE!"},{"$error":"#VALUE!"},{"$f":"COUNTIF('Standards LOOKUP'!B:B,AI2813)","v":0},{"$f":"IFERROR(INDEX('Standards LOOKUP'!C:C,MATCH(AI2813,'Standards LOOKUP'!B:B,0),0),0)","v":0},{"$f":"IFERROR(INDEX('Current Standards'!P:P,MATCH('Sheet Counter'!AI2813,'Current Standards'!O:O,0),0),\"\")","v":""}]
[null,null,0,"","",{"$error":"#VALUE!"},"",{"$f":"IF(I2817=\"\",\"\",LARGE(H$1:H2816,1)+1)","v":{"$error":"#VALUE!"}},{"$error":"#VALUE!"},null,null,null,null,null,2816,0,{"$f":"IF(R2817=\"\",\"\",LARGE(Q$1:Q2816,1)+1)","v":{"$error":"#NUM!"}},{"$error":"#NUM!"},null,null,null,null,null,null,0,{"$error":"#VALUE!"},3999,"","",null,null,null,null,{"$error":"#VALUE!"},{"$error":"#VALUE!"},{"$f":"COUNTIF('Standards LOOKUP'!B:B,AI2817)","v":0},{"$f":"IFERROR(INDEX('Standards LOOKUP'!C:C,MATCH(AI2817,'Standards LOOKUP'!B:B,0),0),0)","v":0},{"$f":"IFERROR(INDEX('Current Standards'!P:P,MATCH('Sheet Counter'!AI2817,'Current Standards'!O:O,0),0),\"\")","v":""}]
[null,null,{"$f":"IF(ISERROR(FIND(\"\\\",A2819)),A2819,RIGHT(A2819,LEN(A2819)-FIND(\"~\",SUBSTITUTE(A2819,\"\\\",\"~\",LEN(A2819)-LEN(SUBSTITUTE(A2819,\"\\\",\"\"))))))","v":0},{"$f":"IF(AL2819=\"\",\"\",AL2819)","v":""},"",{"$f":"LEFT(C2819,FIND(\"-\",SUBSTITUTE(SUBSTITUTE(C2819,\"_\",\"-\"),\" \",\"-\"))-1)","v":{"$error":"#VALUE!"}},{"$f":"IF(ISNUMBER(F2819*1),F2819*1,\"\")","v":""},{"$f":"IF(I2819=\"\",\"\",LARGE(H$1:H2818,1)+1)","v":{"$error":"#VALUE!"}},{"$error":"#VALUE!"},null,null,null,null,null,2818,0,{"$f":"IF(R2819=\"\",\"\",LARGE(Q$1:Q2818,1)+1)","v":{"$error":"#NUM!"}},{"$error":"#NUM!"},null,null,null,null,null,null,{"$f":"IF(ISERROR(FIND(\"\\\",X2819)),X2819,RIGHT(X2819,LEN(X2819)-FIND(\"~\",SUBSTITUTE(X2819,\"\\\",\"~\",LEN(X2819)-LEN(SUBSTITUTE(X2819,\"\\\",\"\"))))))","v":0},{"$f":"LEFT(Y2819,FIND(\"-\",SUBSTITUTE(SUBSTITUTE(Y2819,\"_\",\"-\"),\" \",\"-\"))-1)","v":{"$error":"#VALUE!"}},{"$f":"COUNTIF(F:F,Z2819)","v":3999},{"$f":"IF(OR(AA2819<1,ISERROR(Z2819)),\"\",INDEX(C:C,MATCH(Z2819,F:F)))","v":""},{"$f":"IF(AA2819=0,\"New Sheet\",IF(EXACT(UPPER(Y2819),UPPER(AB2819)),\"Match\",\"\"))","v":""},null,null,null,null,{"$f":"IF(C2819=\"\",\"\",LEFT(RIGHT(C2819,LEN(C2819)-SEARCH(\" \",C2819,1)),LEN(RIGHT(C2819,LEN(C2819)-SEARCH(\" \",C2819,1)))-4))","v":{"$error":"#VALUE!"}},{"$f":"TRIM(SUBSTITUTE(SUBSTITUTE(SUBSTITUTE(SUBSTITUTE(SUBSTITUTE(SUBSTITUTE(AH2819,\"(\",\"\"),\")\",\"\"),\"-\",\"\"),\"&\",\"\"),\" \",\"\",1),\" \",\"\",1))","v":{"$error":"#VALUE!"}},{"$f":"COUNTIF('Standards LOOKUP'!B:B,AI2819)","v":0},{"$f":"IFERROR(INDEX('Standards LOOKUP'!C:C,MATCH(AI2819,'Standards LOOKUP'!B:B,0),0),0)","v":0},{"$f":"IFERROR(INDEX('Current Standards'!P:P,MATCH('Sheet Counter'!AI2819,'Current Standards'!O:O,0),0),\"\")","v":""}]
[null,null,0,"","",{"$error":"#VALUE!"},"",{"$f":"IF(I2822=\"\",\"\",LARGE(H$1:H2821,1)+1)","v":{"$error":"#VALUE!"}},{"$error":"#VALUE!"},null,null,null,null,null,2821,0,{"$f":"IF(R2822=\"\",\"\",LARGE(Q$1:Q2821,1)+1)","v":{"$error":"#NUM!"}},{"$error":"#NUM!"},null,null,null,null,null,null,0,{"$error":"#VALUE!"},3999,"","",null,null,null,null,{"$error":"#VALUE!"},{"$error":"#VALUE!"},{"$f":"COUNTIF('Standards LOOKUP'!B:B,AI2822)","v":0},{"$f":"IFERROR(INDEX('Standards LOOKUP'!C:C,MATCH(AI2822,'Standards LOOKUP'!B:B,0),0),0)","v":0},{"$f":"IFERROR(INDEX('Current Standards'!P:P,MATCH('Sheet Counter'!AI2822,'Current Standards'!O:O,0),0),\"\")","v":""}]
[null,null,0,"","",{"$error":"#VALUE!"},"",{"$f":"IF(I2826=\"\",\"\",LARGE(H$1:H2825,1)+1)","v":{"$error":"#VALUE!"}},{"$error":"#VALUE!"},null,null,null,null,null,2825,0,{"$f":"IF(R2826=\"\",\"\",LARGE(Q$1:Q2825,1)+1)","v":{"$error":"#NUM!"}},{"$error":"#NUM!"},null,null,null,null,null,null,0,{"$error":"#VALUE!"},3999,"","",null,null,null,null,{"$error":"#VALUE!"},{"$error":"#VALUE!"},{"$f":"COUNTIF('Standards LOOKUP'!B:B,AI2826)","v":0},{"$f":"IFERROR(INDEX('Standards LOOKUP'!C:C,MATCH(AI2826,'Standards LOOKUP'!B:B,0),0),0)","v":0},{"$f":"IFERROR(INDEX('Current Standards'!P:P,MATCH('Sheet Counter'!AI2826,'Current Standards'!O:O,0),0),\"\")","v":""}]
[null,null,0,"","",{"$error":"#VALUE!"},"",{"$f":"IF(I2828=\"\",\"\",LARGE(H$1:H2827,1)+1)","v":{"$error":"#VALUE!"}},{"$error":"#VALUE!"},null,null,null,null,null,2827,0,{"$f":"IF(R2828=\"\",\"\",LARGE(Q$1:Q2827,1)+1)","v":{"$error":"#NUM!"}},{"$error":"#NUM!"},null,null,null,null,null,null,0,{"$error":"#VALUE!"},3999,"","",null,null,null,null,{"$error":"#VALUE!"},{"$error":"#VALUE!"},{"$f":"COUNTIF('Standards LOOKUP'!B:B,AI2828)","v":0},{"$f":"IFERROR(INDEX('Standards LOOKUP'!C:C,MATCH(AI2828,'Standards LOOKUP'!B:B,0),0),0)","v":0},{"$f":"IFERROR(INDEX('Current Standards'!P:P,MATCH('Sheet Counter'!AI2828,'Current Standards'!O:O,0),0),\"\")","v":""}]
[null,null,0,"","",{"$error":"#VALUE!"},"",{"$f":"IF(I2829=\"\",\"\",LARGE(H$1:H2828,1)+1)","v":{"$error":"#VALUE!"}},{"$error":"#VALUE!"},null,null,null,null,null,2828,0,{"$f":"IF(R2829=\"\",\"\",LARGE(Q$1:Q2828,1)+1)","v":{"$error":"#NUM!"}},{"$error":"#NUM!"},null,null,null,null,null,null,0,{"$error":"#VALUE!"},3999,"","",null,null,null,null,{"$error":"#VALUE!"},{"$error":"#VALUE!"},{"$f":"COUNTIF('Standards LOOKUP'!B:B,AI2829)","v":0},{"$f":"IFERROR(INDEX('Standards LOOKUP'!C:C,MATCH(AI2829,'Standards LOOKUP'!B:B,0),0),0)","v":0},{"$f":"IFERROR(INDEX('Current Standards'!P:P,MATCH('Sheet Counter'!AI2829,'Current Standards'!O:O,0),0),\"\")","v":""}]
[null,null,0,"","",{"$error":"#VALUE!"},"",{"$f":"IF(I2832=\"\",\"\",LARGE(H$1:H2831,1)+1)","v":{"$error":"#VALUE!"}},{"$error":"#VALUE!"},null,null,null,null,null,2831,0,{"$f":"IF(R2832=\"\",\"\",LARGE(Q$1:Q2831,1)+1)","v":{"$error":"#NUM!"}},{"$error":"#NUM!"},null,null,null,null,null,null,0,{"$error":"#VALUE!"},3999,"","",null,null,null,null,{"$error":"#VALUE!"},{"$error":"#VALUE!"},{"$f":"COUNTIF('Standards LOOKUP'!B:B,AI2832)","v":0},{"$f":"IFERROR(INDEX('Standards LOOKUP'!C:C,MATCH(AI2832,'Standards LOOKUP'!B:B,0),0),0)","v":0},{"$f":"IFERROR(INDEX('Current Standards'!P:P,MATCH('Sheet Counter'!AI2832,'Current Standards'!O:O,0),0),\"\")","v":""}]
[null,null,0,"","",{"$error":"#VALUE!"},"",{"$f":"IF(I2835=\"\",\"\",LARGE(H$1:H2834,1)+1)","v":{"$error":"#VALUE!"}},{"$error":"#VALUE!"},null,null,null,null,null,2834,0,{"$f":"IF(R2835=\"\",\"\",LARGE(Q$1:Q2834,1)+1)","v":{"$error":"#NUM!"}},{"$error":"#NUM!"},null,null,null,null,null,null,0,{"$error":"#VALUE!"},3999,"","",null,null,null,null,{"$error":"#VALUE!"},{"$error":"#VALUE!"},{"$f":"COUNTIF('Standards LOOKUP'!B:B,AI2835)","v":0},{"$f":"IFERROR(INDEX('Standards LOOKUP'!C:C,MATCH(AI2835,'Standards LOOKUP'!B:B,0),0),0)","v":0},{"$f":"IFERROR(INDEX('Current Standards'!P:P,MATCH('Sheet Counter'!AI2835,'Current Standards'!O:O,0),0),\"\")","v":""}]
[null,null,0,"","",{"$error":"#VALUE!"},"",{"$f":"IF(I2839=\"\",\"\",LARGE(H$1:H2838,1)+1)","v":{"$error":"#VALUE!"}},{"$error":"#VALUE!"},null,null,null,null,null,2838,0,{"$f":"IF(R2839=\"\",\"\",LARGE(Q$1:Q2838,1)+1)","v":{"$error":"#NUM!"}},{"$error":"#NUM!"},null,null,null,null,null,null,0,{"$error":"#VALUE!"},3999,"","",null,null,null,null,{"$error":"#VALUE!"},{"$error":"#VALUE!"},{"$f":"COUNTIF('Standards LOOKUP'!B:B,AI2839)","v":0},{"$f":"IFERROR(INDEX('Standards LOOKUP'!C:C,MATCH(AI2839,'Standards LOOKUP'!B:B,0),0),0)","v":0},{"$f":"IFERROR(INDEX('Current Standards'!P:P,MATCH('Sheet Counter'!AI2839,'Current Standards'!O:O,0),0),\"\")","v":""}]
[null,null,0,"","",{"$error":"#VALUE!"},"",{"$f":"IF(I2841=\"\",\"\",LARGE(H$1:H2840,1)+1)","v":{"$error":"#VALUE!"}},{"$error":"#VALUE!"},null,null,null,null,null,2840,0,{"$f":"IF(R2841=\"\",\"\",LARGE(Q$1:Q2840,1)+1)","v":{"$error":"#NUM!"}},{"$error":"#NUM!"},null,null,null,null,null,null,0,{"$error":"#VALUE!"},3999,"","",null,null,null,null,{"$error":"#VALUE!"},{"$error":"#VALUE!"},{"$f":"COUNTIF('Standards LOOKUP'!B:B,AI2841)","v":0},{"$f":"IFERROR(INDEX('Standards LOOKUP'!C:C,MATCH(AI2841,'Standards LOOKUP'!B:B,0),0),0)","v":0},{"$f":"IFERROR(INDEX('Current Standards'!P:P,MATCH('Sheet Counter'!AI2841,'Current Standards'!O:O,0),0),\"\")","v":""}]
[null,null,0,"","",{"$error":"#VALUE!"},"",{"$f":"IF(I2844=\"\",\"\",LARGE(H$1:H2843,1)+1)","v":{"$error":"#VALUE!"}},{"$error":"#VALUE!"},null,null,null,null,null,2843,0,{"$f":"IF(R2844=\"\",\"\",LARGE(Q$1:Q2843,1)+1)","v":{"$error":"#NUM!"}},{"$error":"#NUM!"},null,null,null,null,null,null,0,{"$error":"#VALUE!"},3999,"","",null,null,null,null,{"$error":"#VALUE!"},{"$error":"#VALUE!"},{"$f":"COUNTIF('Standards LOOKUP'!B:B,AI2844)","v":0},{"$f":"IFERROR(INDEX('Standards LOOKUP'!C:C,MATCH(AI2844,'Standards LOOKUP'!B:B,0),0),0)","v":0},{"$f":"IFERROR(INDEX('Current Standards'!P:P,MATCH('Sheet Counter'!AI2844,'Current Standards'!O:O,0),0),\"\")","v":""}]
[null,null,0,"","",{"$error":"#VALUE!"},"",{"$f":"IF(I2848=\"\",\"\",LARGE(H$1:H2847,1)+1)","v":{"$error":"#VALUE!"}},{"$error":"#VALUE!"},null,null,null,null,null,2847,0,{"$f":"IF(R2848=\"\",\"\",LARGE(Q$1:Q2847,1)+1)","v":{"$error":"#NUM!"}},{"$error":"#NUM!"},null,null,null,null,null,null,0,{"$error":"#VALUE!"},3999,"","",null,null,null,null,{"$error":"#VALUE!"},{"$error":"#VALUE!"},{"$f":"COUNTIF('Standards LOOKUP'!B:B,AI2848)","v":0},{"$f":"IFERROR(INDEX('Standards LOOKUP'!C:C,MATCH(AI2848,'Standards LOOKUP'!B:B,0),0),0)","v":0},{"$f":"IFERROR(INDEX('Current Standards'!P:P,MATCH('Sheet Counter'!AI2848,'Current Standards'!O:O,0),0),\"\")","v":""}]
[null,null,0,"","",{"$error":"#VALUE!"},"",{"$f":"IF(I2850=\"\",\"\",LARGE(H$1:H2849,1)+1)","v":{"$error":"#VALUE!"}},{"$error":"#VALUE!"},null,null,null,null,null,2849,0,{"$f":"IF(R2850=\"\",\"\",LARGE(Q$1:Q2849,1)+1)","v":{"$error":"#NUM!"}},{"$error":"#NUM!"},null,null,null,null,null,null,0,{"$error":"#VALUE!"},3999,"","",null,null,null,null,{"$error":"#VALUE!"},{"$error":"#VALUE!"},{"$f":"COUNTIF('Standards LOOKUP'!B:B,AI2850)","v":0},{"$f":"IFERROR(INDEX('Standards LOOKUP'!C:C,MATCH(AI2850,'Standards LOOKUP'!B:B,0),0),0)","v":0},{"$f":"IFERROR(INDEX('Current Standards'!P:P,MATCH('Sheet Counter'!AI2850,'Current Standards'!O:O,0),0),\"\")","v":""}]
[null,null,0,"","",{"$error":"#VALUE!"},"",{"$f":"IF(I2851=\"\",\"\",LARGE(H$1:H2850,1)+1)","v":{"$error":"#VALUE!"}},{"$error":"#VALUE!"},null,null,null,null,null,2850,0,{"$f":"IF(R2851=\"\",\"\",LARGE(Q$1:Q2850,1)+1)","v":{"$error":"#NUM!"}},{"$error":"#NUM!"},null,null,null,null,null,null,0,{"$error":"#VALUE!"},3999,"","",null,null,null,null,{"$error":"#VALUE!"},{"$error":"#VALUE!"},{"$f":"COUNTIF('Standards LOOKUP'!B:B,AI2851)","v":0},{"$f":"IFERROR(INDEX('Standards LOOKUP'!C:C,MATCH(AI2851,'Standards LOOKUP'!B:B,0),0),0)","v":0},{"$f":"IFERROR(INDEX('Current Standards'!P:P,MATCH('Sheet Counter'!AI2851,'Current Standards'!O:O,0),0),\"\")","v":""}]
[null,null,0,"","",{"$error":"#VALUE!"},"",{"$f":"IF(I2854=\"\",\"\",LARGE(H$1:H2853,1)+1)","v":{"$error":"#VALUE!"}},{"$error":"#VALUE!"},null,null,null,null,null,2853,0,{"$f":"IF(R2854=\"\",\"\",LARGE(Q$1:Q2853,1)+1)","v":{"$error":"#NUM!"}},{"$error":"#NUM!"},null,null,null,null,null,null,0,{"$error":"#VALUE!"},3999,"","",null,null,null,null,{"$error":"#VALUE!"},{"$error":"#VALUE!"},{"$f":"COUNTIF('Standards LOOKUP'!B:B,AI2854)","v":0},{"$f":"IFERROR(INDEX('Standards LOOKUP'!C:C,MATCH(AI2854,'Standards LOOKUP'!B:B,0),0),0)","v":0},{"$f":"IFERROR(INDEX('Current Standards'!P:P,MATCH('Sheet Counter'!AI2854,'Current Standards'!O:O,0),0),\"\")","v":""}]
[null,null,0,"","",{"$error":"#VALUE!"},"",{"$f":"IF(I2857=\"\",\"\",LARGE(H$1:H2856,1)+1)","v":{"$error":"#VALUE!"}},{"$error":"#VALUE!"},null,null,null,null,null,2856,0,{"$f":"IF(R2857=\"\",\"\",LARGE(Q$1:Q2856,1)+1)","v":{"$error":"#NUM!"}},{"$error":"#NUM!"},null,null,null,null,null,null,0,{"$error":"#VALUE!"},3999,"","",null,null,null,null,{"$error":"#VALUE!"},{"$error":"#VALUE!"},{"$f":"COUNTIF('Standards LOOKUP'!B:B,AI2857)","v":0},{"$f":"IFERROR(INDEX('Standards LOOKUP'!C:C,MATCH(AI2857,'Standards LOOKUP'!B:B,0),0),0)","v":0},{"$f":"IFERROR(INDEX('Current Standards'!P:P,MATCH('Sheet Counter'!AI2857,'Current Standards'!O:O,0),0),\"\")","v":""}]
[null,null,0,"","",{"$error":"#VALUE!"},"",{"$f":"IF(I2861=\"\",\"\",LARGE(H$1:H2860,1)+1)","v":{"$error":"#VALUE!"}},{"$error":"#VALUE!"},null,null,null,null,null,2860,0,{"$f":"IF(R2861=\"\",\"\",LARGE(Q$1:Q2860,1)+1)","v":{"$error":"#NUM!"}},{"$error":"#NUM!"},null,null,null,null,null,null,0,{"$error":"#VALUE!"},3999,"","",null,null,null,null,{"$error":"#VALUE!"},{"$error":"#VALUE!"},{"$f":"COUNTIF('Standards LOOKUP'!B:B,AI2861)","v":0},{"$f":"IFERROR(INDEX('Standards LOOKUP'!C:C,MATCH(AI2861,'Standards LOOKUP'!B:B,0),0),0)","v":0},{"$f":"IFERROR(INDEX('Current Standards'!P:P,MATCH('Sheet Counter'!AI2861,'Current Standards'!O:O,0),0),\"\")","v":""}]
[null,null,0,"","",{"$error":"#VALUE!"},"",{"$f":"IF(I2863=\"\",\"\",LARGE(H$1:H2862,1)+1)","v":{"$error":"#VALUE!"}},{"$error":"#VALUE!"},null,null,null,null,null,2862,0,{"$f":"IF(R2863=\"\",\"\",LARGE(Q$1:Q2862,1)+1)","v":{"$error":"#NUM!"}},{"$error":"#NUM!"},null,null,null,null,null,null,0,{"$error":"#VALUE!"},3999,"","",null,null,null,null,{"$error":"#VALUE!"},{"$error":"#VALUE!"},{"$f":"COUNTIF('Standards LOOKUP'!B:B,AI2863)","v":0},{"$f":"IFERROR(INDEX('Standards LOOKUP'!C:C,MATCH(AI2863,'Standards LOOKUP'!B:B,0),0),0)","v":0},{"$f":"IFERROR(INDEX('Current Standards'!P:P,MATCH('Sheet Counter'!AI2863,'Current Standards'!O:O,0),0),\"\")","v":""}]
[null,null,0,"","",{"$error":"#VALUE!"},"",{"$f":"IF(I2866=\"\",\"\",LARGE(H$1:H2865,1)+1)","v":{"$error":"#VALUE!"}},{"$error":"#VALUE!"},null,null,null,null,null,2865,0,{"$f":"IF(R2866=\"\",\"\",LARGE(Q$1:Q2865,1)+1)","v":{"$error":"#NUM!"}},{"$error":"#NUM!"},null,null,null,null,null,null,0,{"$error":"#VALUE!"},3999,"","",null,null,null,null,{"$error":"#VALUE!"},{"$error":"#VALUE!"},{"$f":"COUNTIF('Standards LOOKUP'!B:B,AI2866)","v":0},{"$f":"IFERROR(INDEX('Standards LOOKUP'!C:C,MATCH(AI2866,'Standards LOOKUP'!B:B,0),0),0)","v":0},{"$f":"IFERROR(INDEX('Current Standards'!P:P,MATCH('Sheet Counter'!AI2866,'Current Standards'!O:O,0),0),\"\")","v":""}]
[null,null,0,"","",{"$error":"#VALUE!"},"",{"$f":"IF(I2870=\"\",\"\",LARGE(H$1:H2869,1)+1)","v":{"$error":"#VALUE!"}},{"$error":"#VALUE!"},null,null,null,null,null,2869,0,{"$f":"IF(R2870=\"\",\"\",LARGE(Q$1:Q2869,1)+1)","v":{"$error":"#NUM!"}},{"$error":"#NUM!"},null,null,null,null,null,null,0,{"$error":"#VALUE!"},3999,"","",null,null,null,null,{"$error":"#VALUE!"},{"$error":"#VALUE!"},{"$f":"COUNTIF('Standards LOOKUP'!B:B,AI2870)","v":0},{"$f":"IFERROR(INDEX('Standards LOOKUP'!C:C,MATCH(AI2870,'Standards LOOKUP'!B:B,0),0),0)","v":0},{"$f":"IFERROR(INDEX('Current Standards'!P:P,MATCH('Sheet Counter'!AI2870,'Current Standards'!O:O,0),0),\"\")","v":""}]
[null,null,0,"","",{"$error":"#VALUE!"},"",{"$f":"IF(I2872=\"\",\"\",LARGE(H$1:H2871,1)+1)","v":{"$error":"#VALUE!"}},{"$error":"#VALUE!"},null,null,null,null,null,2871,0,{"$f":"IF(R2872=\"\",\"\",LARGE(Q$1:Q2871,1)+1)","v":{"$error":"#NUM!"}},{"$error":"#NUM!"},null,null,null,null,null,null,0,{"$error":"#VALUE!"},3999,"","",null,null,null,null,{"$error":"#VALUE!"},{"$error":"#VALUE!"},{"$f":"COUNTIF('Standards LOOKUP'!B:B,AI2872)","v":0},{"$f":"IFERROR(INDEX('Standards LOOKUP'!C:C,MATCH(AI2872,'Standards LOOKUP'!B:B,0),0),0)","v":0},{"$f":"IFERROR(INDEX('Current Standards'!P:P,MATCH('Sheet Counter'!AI2872,'Current Standards'!O:O,0),0),\"\")","v":""}]
[null,null,0,"","",{"$error":"#VALUE!"},"",{"$f":"IF(I2873=\"\",\"\",LARGE(H$1:H2872,1)+1)","v":{"$error":"#VALUE!"}},{"$error":"#VALUE!"},null,null,null,null,null,2872,0,{"$f":"IF(R2873=\"\",\"\",LARGE(Q$1:Q2872,1)+1)","v":{"$error":"#NUM!"}},{"$error":"#NUM!"},null,null,null,null,null,null,0,{"$error":"#VALUE!"},3999,"","",null,null,null,null,{"$error":"#VALUE!"},{"$error":"#VALUE!"},{"$f":"COUNTIF('Standards LOOKUP'!B:B,AI2873)","v":0},{"$f":"IFERROR(INDEX('Standards LOOKUP'!C:C,MATCH(AI2873,'Standards LOOKUP'!B:B,0),0),0)","v":0},{"$f":"IFERROR(INDEX('Current Standards'!P:P,MATCH('Sheet Counter'!AI2873,'Current Standards'!O:O,0),0),\"\")","v":""}]
[null,null,0,"","",{"$error":"#VALUE!"},"",{"$f":"IF(I2876=\"\",\"\",LARGE(H$1:H2875,1)+1)","v":{"$error":"#VALUE!"}},{"$error":"#VALUE!"},null,null,null,null,null,2875,0,{"$f":"IF(R2876=\"\",\"\",LARGE(Q$1:Q2875,1)+1)","v":{"$error":"#NUM!"}},{"$error":"#NUM!"},null,null,null,null,null,null,0,{"$error":"#VALUE!"},3999,"","",null,null,null,null,{"$error":"#VALUE!"},{"$error":"#VALUE!"},{"$f":"COUNTIF('Standards LOOKUP'!B:B,AI2876)","v":0},{"$f":"IFERROR(INDEX('Standards LOOKUP'!C:C,MATCH(AI2876,'Standards LOOKUP'!B:B,0),0),0)","v":0},{"$f":"IFERROR(INDEX('Current Standards'!P:P,MATCH('Sheet Counter'!AI2876,'Current Standards'!O:O,0),0),\"\")","v":""}]
[null,null,0,"","",{"$error":"#VALUE!"},"",{"$f":"IF(I2879=\"\",\"\",LARGE(H$1:H2878,1)+1)","v":{"$error":"#VALUE!"}},{"$error":"#VALUE!"},null,null,null,null,null,2878,0,{"$f":"IF(R2879=\"\",\"\",LARGE(Q$1:Q2878,1)+1)","v":{"$error":"#NUM!"}},{"$error":"#NUM!"},null,null,null,null,null,null,0,{"$error":"#VALUE!"},3999,"","",null,null,null,null,{"$error":"#VALUE!"},{"$error":"#VALUE!"},{"$f":"COUNTIF('Standards LOOKUP'!B:B,AI2879)","v":0},{"$f":"IFERROR(INDEX('Standards LOOKUP'!C:C,MATCH(AI2879,'Standards LOOKUP'!B:B,0),0),0)","v":0},{"$f":"IFERROR(INDEX('Current Standards'!P:P,MATCH('Sheet Counter'!AI2879,'Current Standards'!O:O,0),0),\"\")","v":""}]
[null,null,{"$f":"IF(ISERROR(FIND(\"\\\",A2883)),A2883,RIGHT(A2883,LEN(A2883)-FIND(\"~\",SUBSTITUTE(A2883,\"\\\",\"~\",LEN(A2883)-LEN(SUBSTITUTE(A2883,\"\\\",\"\"))))))","v":0},{"$f":"IF(AL2883=\"\",\"\",AL2883)","v":""},"",{"$f":"LEFT(C2883,FIND(\"-\",SUBSTITUTE(SUBSTITUTE(C2883,\"_\",\"-\"),\" \",\"-\"))-1)","v":{"$error":"#VALUE!"}},{"$f":"IF(ISNUMBER(F2883*1),F2883*1,\"\")","v":""},{"$f":"IF(I2883=\"\",\"\",LARGE(H$1:H2882,1)+1)","v":{"$error":"#VALUE!"}},{"$error":"#VALUE!"},null,null,null,null,null,2882,0,{"$f":"IF(R2883=\"\",\"\",LARGE(Q$1:Q2882,1)+1)","v":{"$error":"#NUM!"}},{"$error":"#NUM!"},null,null,null,null,null,null,{"$f":"IF(ISERROR(FIND(\"\\\",X2883)),X2883,RIGHT(X2883,LEN(X2883)-FIND(\"~\",SUBSTITUTE(X2883,\"\\\",\"~\",LEN(X2883)-LEN(SUBSTITUTE(X2883,\"\\\",\"\"))))))","v":0},{"$f":"LEFT(Y2883,FIND(\"-\",SUBSTITUTE(SUBSTITUTE(Y2883,\"_\",\"-\"),\" \",\"-\"))-1)","v":{"$error":"#VALUE!"}},{"$f":"COUNTIF(F:F,Z2883)","v":3999},{"$f":"IF(OR(AA2883<1,ISERROR(Z2883)),\"\",INDEX(C:C,MATCH(Z2883,F:F)))","v":""},{"$f":"IF(AA2883=0,\"New Sheet\",IF(EXACT(UPPER(Y2883),UPPER(AB2883)),\"Match\",\"\"))","v":""},null,null,null,null,{"$f":"IF(C2883=\"\",\"\",LEFT(RIGHT(C2883,LEN(C2883)-SEARCH(\" \",C2883,1)),LEN(RIGHT(C2883,LEN(C2883)-SEARCH(\" \",C2883,1)))-4))","v":{"$error":"#VALUE!"}},{"$f":"TRIM(SUBSTITUTE(SUBSTITUTE(SUBSTITUTE(SUBSTITUTE(SUBSTITUTE(SUBSTITUTE(AH2883,\"(\",\"\"),\")\",\"\"),\"-\",\"\"),\"&\",\"\"),\" \",\"\",1),\" \",\"\",1))","v":{"$error":"#VALUE!"}},{"$f":"COUNTIF('Standards LOOKUP'!B:B,AI2883)","v":0},{"$f":"IFERROR(INDEX('Standards LOOKUP'!C:C,MATCH(AI2883,'Standards LOOKUP'!B:B,0),0),0)","v":0},{"$f":"IFERROR(INDEX('Current Standards'!P:P,MATCH('Sheet Counter'!AI2883,'Current Standards'!O:O,0),0),\"\")","v":""}]
[null,null,0,"","",{"$error":"#VALUE!"},"",{"$f":"IF(I2885=\"\",\"\",LARGE(H$1:H2884,1)+1)","v":{"$error":"#VALUE!"}},{"$error":"#VALUE!"},null,null,null,null,null,2884,0,{"$f":"IF(R2885=\"\",\"\",LARGE(Q$1:Q2884,1)+1)","v":{"$error":"#NUM!"}},{"$error":"#NUM!"},null,null,null,null,null,null,0,{"$error":"#VALUE!"},3999,"","",null,null,null,null,{"$error":"#VALUE!"},{"$error":"#VALUE!"},{"$f":"COUNTIF('Standards LOOKUP'!B:B,AI2885)","v":0},{"$f":"IFERROR(INDEX('Standards LOOKUP'!C:C,MATCH(AI2885,'Standards LOOKUP'!B:B,0),0),0)","v":0},{"$f":"IFERROR(INDEX('Current Standards'!P:P,MATCH('Sheet Counter'!AI2885,'Current Standards'!O:O,0),0),\"\")","v":""}]
[null,null,0,"","",{"$error":"#VALUE!"},"",{"$f":"IF(I2889=\"\",\"\",LARGE(H$1:H2888,1)+1)","v":{"$error":"#VALUE!"}},{"$error":"#VALUE!"},null,null,null,null,null,2888,0,{"$f":"IF(R2889=\"\",\"\",LARGE(Q$1:Q2888,1)+1)","v":{"$error":"#NUM!"}},{"$error":"#NUM!"},null,null,null,null,null,null,0,{"$error":"#VALUE!"},3999,"","",null,null,null,null,{"$error":"#VALUE!"},{"$error":"#VALUE!"},{"$f":"COUNTIF('Standards LOOKUP'!B:B,AI2889)","v":0},{"$f":"IFERROR(INDEX('Standards LOOKUP'!C:C,MATCH(AI2889,'Standards LOOKUP'!B:B,0),0),0)","v":0},{"$f":"IFERROR(INDEX('Current Standards'!P:P,MATCH('Sheet Counter'!AI2889,'Current Standards'!O:O,0),0),\"\")","v":""}]
[null,null,0,"","",{"$error":"#VALUE!"},"",{"$f":"IF(I2892=\"\",\"\",LARGE(H$1:H2891,1)+1)","v":{"$error":"#VALUE!"}},{"$error":"#VALUE!"},null,null,null,null,null,2891,0,{"$f":"IF(R2892=\"\",\"\",LARGE(Q$1:Q2891,1)+1)","v":{"$error":"#NUM!"}},{"$error":"#NUM!"},null,null,null,null,null,null,0,{"$error":"#VALUE!"},3999,"","",null,null,null,null,{"$error":"#VALUE!"},{"$error":"#VALUE!"},{"$f":"COUNTIF('Standards LOOKUP'!B:B,AI2892)","v":0},{"$f":"IFERROR(INDEX('Standards LOOKUP'!C:C,MATCH(AI2892,'Standards LOOKUP'!B:B,0),0),0)","v":0},{"$f":"IFERROR(INDEX('Current Standards'!P:P,MATCH('Sheet Counter'!AI2892,'Current Standards'!O:O,0),0),\"\")","v":""}]
[null,null,0,"","",{"$error":"#VALUE!"},"",{"$f":"IF(I2894=\"\",\"\",LARGE(H$1:H2893,1)+1)","v":{"$error":"#VALUE!"}},{"$error":"#VALUE!"},null,null,null,null,null,2893,0,{"$f":"IF(R2894=\"\",\"\",LARGE(Q$1:Q2893,1)+1)","v":{"$error":"#NUM!"}},{"$error":"#NUM!"},null,null,null,null,null,null,0,{"$error":"#VALUE!"},3999,"","",null,null,null,null,{"$error":"#VALUE!"},{"$error":"#VALUE!"},{"$f":"COUNTIF('Standards LOOKUP'!B:B,AI2894)","v":0},{"$f":"IFERROR(INDEX('Standards LOOKUP'!C:C,MATCH(AI2894,'Standards LOOKUP'!B:B,0),0),0)","v":0},{"$f":"IFERROR(INDEX('Current Standards'!P:P,MATCH('Sheet Counter'!AI2894,'Current Standards'!O:O,0),0),\"\")","v":""}]
[null,null,0,"","",{"$error":"#VALUE!"},"",{"$f":"IF(I2895=\"\",\"\",LARGE(H$1:H2894,1)+1)","v":{"$error":"#VALUE!"}},{"$error":"#VALUE!"},null,null,null,null,null,2894,0,{"$f":"IF(R2895=\"\",\"\",LARGE(Q$1:Q2894,1)+1)","v":{"$error":"#NUM!"}},{"$error":"#NUM!"},null,null,null,null,null,null,0,{"$error":"#VALUE!"},3999,"","",null,null,null,null,{"$error":"#VALUE!"},{"$error":"#VALUE!"},{"$f":"COUNTIF('Standards LOOKUP'!B:B,AI2895)","v":0},{"$f":"IFERROR(INDEX('Standards LOOKUP'!C:C,MATCH(AI2895,'Standards LOOKUP'!B:B,0),0),0)","v":0},{"$f":"IFERROR(INDEX('Current Standards'!P:P,MATCH('Sheet Counter'!AI2895,'Current Standards'!O:O,0),0),\"\")","v":""}]
[null,null,0,"","",{"$error":"#VALUE!"},"",{"$f":"IF(I2898=\"\",\"\",LARGE(H$1:H2897,1)+1)","v":{"$error":"#VALUE!"}},{"$error":"#VALUE!"},null,null,null,null,null,2897,0,{"$f":"IF(R2898=\"\",\"\",LARGE(Q$1:Q2897,1)+1)","v":{"$error":"#NUM!"}},{"$error":"#NUM!"},null,null,null,null,null,null,0,{"$error":"#VALUE!"},3999,"","",null,null,null,null,{"$error":"#VALUE!"},{"$error":"#VALUE!"},{"$f":"COUNTIF('Standards LOOKUP'!B:B,AI2898)","v":0},{"$f":"IFERROR(INDEX('Standards LOOKUP'!C:C,MATCH(AI2898,'Standards LOOKUP'!B:B,0),0),0)","v":0},{"$f":"IFERROR(INDEX('Current Standards'!P:P,MATCH('Sheet Counter'!AI2898,'Current Standards'!O:O,0),0),\"\")","v":""}]
[null,null,0,"","",{"$error":"#VALUE!"},"",{"$f":"IF(I2901=\"\",\"\",LARGE(H$1:H2900,1)+1)","v":{"$error":"#VALUE!"}},{"$error":"#VALUE!"},null,null,null,null,null,2900,0,{"$f":"IF(R2901=\"\",\"\",LARGE(Q$1:Q2900,1)+1)","v":{"$error":"#NUM!"}},{"$error":"#NUM!"},null,null,null,null,null,null,0,{"$error":"#VALUE!"},3999,"","",null,null,null,null,{"$error":"#VALUE!"},{"$error":"#VALUE!"},{"$f":"COUNTIF('Standards LOOKUP'!B:B,AI2901)","v":0},{"$f":"IFERROR(INDEX('Standards LOOKUP'!C:C,MATCH(AI2901,'Standards LOOKUP'!B:B,0),0),0)","v":0},{"$f":"IFERROR(INDEX('Current Standards'!P:P,MATCH('Sheet Counter'!AI2901,'Current Standards'!O:O,0),0),\"\")","v":""}]
[null,null,0,"","",{"$error":"#VALUE!"},"",{"$f":"IF(I2905=\"\",\"\",LARGE(H$1:H2904,1)+1)","v":{"$error":"#VALUE!"}},{"$error":"#VALUE!"},null,null,null,null,null,2904,0,{"$f":"IF(R2905=\"\",\"\",LARGE(Q$1:Q2904,1)+1)","v":{"$error":"#NUM!"}},{"$error":"#NUM!"},null,null,null,null,null,null,0,{"$error":"#VALUE!"},3999,"","",null,null,null,null,{"$error":"#VALUE!"},{"$error":"#VALUE!"},{"$f":"COUNTIF('Standards LOOKUP'!B:B,AI2905)","v":0},{"$f":"IFERROR(INDEX('Standards LOOKUP'!C:C,MATCH(AI2905,'Standards LOOKUP'!B:B,0),0),0)","v":0},{"$f":"IFERROR(INDEX('Current Standards'!P:P,MATCH('Sheet Counter'!AI2905,'Current Standards'!O:O,0),0),\"\")","v":""}]
[null,null,0,"","",{"$error":"#VALUE!"},"",{"$f":"IF(I2907=\"\",\"\",LARGE(H$1:H2906,1)+1)","v":{"$error":"#VALUE!"}},{"$error":"#VALUE!"},null,null,null,null,null,2906,0,{"$f":"IF(R2907=\"\",\"\",LARGE(Q$1:Q2906,1)+1)","v":{"$error":"#NUM!"}},{"$error":"#NUM!"},null,null,null,null,null,null,0,{"$error":"#VALUE!"},3999,"","",null,null,null,null,{"$error":"#VALUE!"},{"$error":"#VALUE!"},{"$f":"COUNTIF('Standards LOOKUP'!B:B,AI2907)","v":0},{"$f":"IFERROR(INDEX('Standards LOOKUP'!C:C,MATCH(AI2907,'Standards LOOKUP'!B:B,0),0),0)","v":0},{"$f":"IFERROR(INDEX('Current Standards'!P:P,MATCH('Sheet Counter'!AI2907,'Current Standards'!O:O,0),0),\"\")","v":""}]
[null,null,0,"","",{"$error":"#VALUE!"},"",{"$f":"IF(I2911=\"\",\"\",LARGE(H$1:H2910,1)+1)","v":{"$error":"#VALUE!"}},{"$error":"#VALUE!"},null,null,null,null,null,2910,0,{"$f":"IF(R2911=\"\",\"\",LARGE(Q$1:Q2910,1)+1)","v":{"$error":"#NUM!"}},{"$error":"#NUM!"},null,null,null,null,null,null,0,{"$error":"#VALUE!"},3999,"","",null,null,null,null,{"$error":"#VALUE!"},{"$error":"#VALUE!"},{"$f":"COUNTIF('Standards LOOKUP'!B:B,AI2911)","v":0},{"$f":"IFERROR(INDEX('Standards LOOKUP'!C:C,MATCH(AI2911,'Standards LOOKUP'!B:B,0),0),0)","v":0},{"$f":"IFERROR(INDEX('Current Standards'!P:P,MATCH('Sheet Counter'!AI2911,'Current Standards'!O:O,0),0),\"\")","v":""}]
[null,null,0,"","",{"$error":"#VALUE!"},"",{"$f":"IF(I2914=\"\",\"\",LARGE(H$1:H2913,1)+1)","v":{"$error":"#VALUE!"}},{"$error":"#VALUE!"},null,null,null,null,null,2913,0,{"$f":"IF(R2914=\"\",\"\",LARGE(Q$1:Q2913,1)+1)","v":{"$error":"#NUM!"}},{"$error":"#NUM!"},null,null,null,null,null,null,0,{"$error":"#VALUE!"},3999,"","",null,null,null,null,{"$error":"#VALUE!"},{"$error":"#VALUE!"},{"$f":"COUNTIF('Standards LOOKUP'!B:B,AI2914)","v":0},{"$f":"IFERROR(INDEX('Standards LOOKUP'!C:C,MATCH(AI2914,'Standards LOOKUP'!B:B,0),0),0)","v":0},{"$f":"IFERROR(INDEX('Current Standards'!P:P,MATCH('Sheet Counter'!AI2914,'Current Standards'!O:O,0),0),\"\")","v":""}]
[null,null,0,"","",{"$error":"#VALUE!"},"",{"$f":"IF(I2916=\"\",\"\",LARGE(H$1:H2915,1)+1)","v":{"$error":"#VALUE!"}},{"$error":"#VALUE!"},null,null,null,null,null,2915,0,{"$f":"IF(R2916=\"\",\"\",LARGE(Q$1:Q2915,1)+1)","v":{"$error":"#NUM!"}},{"$error":"#NUM!"},null,null,null,null,null,null,0,{"$error":"#VALUE!"},3999,"","",null,null,null,null,{"$error":"#VALUE!"},{"$error":"#VALUE!"},{"$f":"COUNTIF('Standards LOOKUP'!B:B,AI2916)","v":0},{"$f":"IFERROR(INDEX('Standards LOOKUP'!C:C,MATCH(AI2916,'Standards LOOKUP'!B:B,0),0),0)","v":0},{"$f":"IFERROR(INDEX('Current Standards'!P:P,MATCH('Sheet Counter'!AI2916,'Current Standards'!O:O,0),0),\"\")","v":""}]
[null,null,0,"","",{"$error":"#VALUE!"},"",{"$f":"IF(I2917=\"\",\"\",LARGE(H$1:H2916,1)+1)","v":{"$error":"#VALUE!"}},{"$error":"#VALUE!"},null,null,null,null,null,2916,0,{"$f":"IF(R2917=\"\",\"\",LARGE(Q$1:Q2916,1)+1)","v":{"$error":"#NUM!"}},{"$error":"#NUM!"},null,null,null,null,null,null,0,{"$error":"#VALUE!"},3999,"","",null,null,null,null,{"$error":"#VALUE!"},{"$error":"#VALUE!"},{"$f":"COUNTIF('Standards LOOKUP'!B:B,AI2917)","v":0},{"$f":"IFERROR(INDEX('Standards LOOKUP'!C:C,MATCH(AI2917,'Standards LOOKUP'!B:B,0),0),0)","v":0},{"$f":"IFERROR(INDEX('Current Standards'!P:P,MATCH('Sheet Counter'!AI2917,'Current Standards'!O:O,0),0),\"\")","v":""}]
[null,null,0,"","",{"$error":"#VALUE!"},"",{"$f":"IF(I2920=\"\",\"\",LARGE(H$1:H2919,1)+1)","v":{"$error":"#VALUE!"}},{"$error":"#VALUE!"},null,null,null,null,null,2919,0,{"$f":"IF(R2920=\"\",\"\",LARGE(Q$1:Q2919,1)+1)","v":{"$error":"#NUM!"}},{"$error":"#NUM!"},null,null,null,null,null,null,0,{"$error":"#VALUE!"},3999,"","",null,null,null,null,{"$error":"#VALUE!"},{"$error":"#VALUE!"},{"$f":"COUNTIF('Standards LOOKUP'!B:B,AI2920)","v":0},{"$f":"IFERROR(INDEX('Standards LOOKUP'!C:C,MATCH(AI2920,'Standards LOOKUP'!B:B,0),0),0)","v":0},{"$f":"IFERROR(INDEX('Current Standards'!P:P,MATCH('Sheet Counter'!AI2920,'Current Standards'!O:O,0),0),\"\")","v":""}]
[null,null,0,"","",{"$error":"#VALUE!"},"",{"$f":"IF(I2923=\"\",\"\",LARGE(H$1:H2922,1)+1)","v":{"$error":"#VALUE!"}},{"$error":"#VALUE!"},null,null,null,null,null,2922,0,{"$f":"IF(R2923=\"\",\"\",LARGE(Q$1:Q2922,1)+1)","v":{"$error":"#NUM!"}},{"$error":"#NUM!"},null,null,null,null,null,null,0,{"$error":"#VALUE!"},3999,"","",null,null,null,null,{"$error":"#VALUE!"},{"$error":"#VALUE!"},{"$f":"COUNTIF('Standards LOOKUP'!B:B,AI2923)","v":0},{"$f":"IFERROR(INDEX('Standards LOOKUP'!C:C,MATCH(AI2923,'Standards LOOKUP'!B:B,0),0),0)","v":0},{"$f":"IFERROR(INDEX('Current Standards'!P:P,MATCH('Sheet Counter'!AI2923,'Current Standards'!O:O,0),0),\"\")","v":""}]
[null,null,0,"","",{"$error":"#VALUE!"},"",{"$f":"IF(I2927=\"\",\"\",LARGE(H$1:H2926,1)+1)","v":{"$error":"#VALUE!"}},{"$error":"#VALUE!"},null,null,null,null,null,2926,0,{"$f":"IF(R2927=\"\",\"\",LARGE(Q$1:Q2926,1)+1)","v":{"$error":"#NUM!"}},{"$error":"#NUM!"},null,null,null,null,null,null,0,{"$error":"#VALUE!"},3999,"","",null,null,null,null,{"$error":"#VALUE!"},{"$error":"#VALUE!"},{"$f":"COUNTIF('Standards LOOKUP'!B:B,AI2927)","v":0},{"$f":"IFERROR(INDEX('Standards LOOKUP'!C:C,MATCH(AI2927,'Standards LOOKUP'!B:B,0),0),0)","v":0},{"$f":"IFERROR(INDEX('Current Standards'!P:P,MATCH('Sheet Counter'!AI2927,'Current Standards'!O:O,0),0),\"\")","v":""}]
[null,null,0,"","",{"$error":"#VALUE!"},"",{"$f":"IF(I2929=\"\",\"\",LARGE(H$1:H2928,1)+1)","v":{"$error":"#VALUE!"}},{"$error":"#VALUE!"},null,null,null,null,null,2928,0,{"$f":"IF(R2929=\"\",\"\",LARGE(Q$1:Q2928,1)+1)","v":{"$error":"#NUM!"}},{"$error":"#NUM!"},null,null,null,null,null,null,0,{"$error":"#VALUE!"},3999,"","",null,null,null,null,{"$error":"#VALUE!"},{"$error":"#VALUE!"},{"$f":"COUNTIF('Standards LOOKUP'!B:B,AI2929)","v":0},{"$f":"IFERROR(INDEX('Standards LOOKUP'!C:C,MATCH(AI2929,'Standards LOOKUP'!B:B,0),0),0)","v":0},{"$f":"IFERROR(INDEX('Current Standards'!P:P,MATCH('Sheet Counter'!AI2929,'Current Standards'!O:O,0),0),\"\")","v":""}]
[null,null,0,"","",{"$error":"#VALUE!"},"",{"$f":"IF(I2933=\"\",\"\",LARGE(H$1:H2932,1)+1)","v":{"$error":"#VALUE!"}},{"$error":"#VALUE!"},null,null,null,null,null,2932,0,{"$f":"IF(R2933=\"\",\"\",LARGE(Q$1:Q2932,1)+1)","v":{"$error":"#NUM!"}},{"$error":"#NUM!"},null,null,null,null,null,null,0,{"$error":"#VALUE!"},3999,"","",null,null,null,null,{"$error":"#VALUE!"},{"$error":"#VALUE!"},{"$f":"COUNTIF('Standards LOOKUP'!B:B,AI2933)","v":0},{"$f":"IFERROR(INDEX('Standards LOOKUP'!C:C,MATCH(AI2933,'Standards LOOKUP'!B:B,0),0),0)","v":0},{"$f":"IFERROR(INDEX('Current Standards'!P:P,MATCH('Sheet Counter'!AI2933,'Current Standards'!O:O,0),0),\"\")","v":""}]
[null,null,0,"","",{"$error":"#VALUE!"},"",{"$f":"IF(I2936=\"\",\"\",LARGE(H$1:H2935,1)+1)","v":{"$error":"#VALUE!"}},{"$error":"#VALUE!"},null,null,null,null,null,2935,0,{"$f":"IF(R2936=\"\",\"\",LARGE(Q$1:Q2935,1)+1)","v":{"$error":"#NUM!"}},{"$error":"#NUM!"},null,null,null,null,null,null,0,{"$error":"#VALUE!"},3999,"","",null,null,null,null,{"$error":"#VALUE!"},{"$error":"#VALUE!"},{"$f":"COUNTIF('Standards LOOKUP'!B:B,AI2936)","v":0},{"$f":"IFERROR(INDEX('Standards LOOKUP'!C:C,MATCH(AI2936,'Standards LOOKUP'!B:B,0),0),0)","v":0},{"$f":"IFERROR(INDEX('Current Standards'!P:P,MATCH('Sheet Counter'!AI2936,'Current Standards'!O:O,0),0),\"\")","v":""}]
[null,null,0,"","",{"$error":"#VALUE!"},"",{"$f":"IF(I2938=\"\",\"\",LARGE(H$1:H2937,1)+1)","v":{"$error":"#VALUE!"}},{"$error":"#VALUE!"},null,null,null,null,null,2937,0,{"$f":"IF(R2938=\"\",\"\",LARGE(Q$1:Q2937,1)+1)","v":{"$error":"#NUM!"}},{"$error":"#NUM!"},null,null,null,null,null,null,0,{"$error":"#VALUE!"},3999,"","",null,null,null,null,{"$error":"#VALUE!"},{"$error":"#VALUE!"},{"$f":"COUNTIF('Standards LOOKUP'!B:B,AI2938)","v":0},{"$f":"IFERROR(INDEX('Standards LOOKUP'!C:C,MATCH(AI2938,'Standards LOOKUP'!B:B,0),0),0)","v":0},{"$f":"IFERROR(INDEX('Current Standards'!P:P,MATCH('Sheet Counter'!AI2938,'Current Standards'!O:O,0),0),\"\")","v":""}]
[null,null,0,"","",{"$error":"#VALUE!"},"",{"$f":"IF(I2939=\"\",\"\",LARGE(H$1:H2938,1)+1)","v":{"$error":"#VALUE!"}},{"$error":"#VALUE!"},null,null,null,null,null,2938,0,{"$f":"IF(R2939=\"\",\"\",LARGE(Q$1:Q2938,1)+1)","v":{"$error":"#NUM!"}},{"$error":"#NUM!"},null,null,null,null,null,null,0,{"$error":"#VALUE!"},3999,"","",null,null,null,null,{"$error":"#VALUE!"},{"$error":"#VALUE!"},{"$f":"COUNTIF('Standards LOOKUP'!B:B,AI2939)","v":0},{"$f":"IFERROR(INDEX('Standards LOOKUP'!C:C,MATCH(AI2939,'Standards LOOKUP'!B:B,0),0),0)","v":0},{"$f":"IFERROR(INDEX('Current Standards'!P:P,MATCH('Sheet Counter'!AI2939,'Current Standards'!O:O,0),0),\"\")","v":""}]
[null,null,0,"","",{"$error":"#VALUE!"},"",{"$f":"IF(I2942=\"\",\"\",LARGE(H$1:H2941,1)+1)","v":{"$error":"#VALUE!"}},{"$error":"#VALUE!"},null,null,null,null,null,2941,0,{"$f":"IF(R2942=\"\",\"\",LARGE(Q$1:Q2941,1)+1)","v":{"$error":"#NUM!"}},{"$error":"#NUM!"},null,null,null,null,null,null,0,{"$error":"#VALUE!"},3999,"","",null,null,null,null,{"$error":"#VALUE!"},{"$error":"#VALUE!"},{"$f":"COUNTIF('Standards LOOKUP'!B:B,AI2942)","v":0},{"$f":"IFERROR(INDEX('Standards LOOKUP'!C:C,MATCH(AI2942,'Standards LOOKUP'!B:B,0),0),0)","v":0},{"$f":"IFERROR(INDEX('Current Standards'!P:P,MATCH('Sheet Counter'!AI2942,'Current Standards'!O:O,0),0),\"\")","v":""}]
[null,null,0,"","",{"$error":"#VALUE!"},"",{"$f":"IF(I2946=\"\",\"\",LARGE(H$1:H2945,1)+1)","v":{"$error":"#VALUE!"}},{"$f":"IF(G2946=\"\",F2946,\"\")","v":{"$error":"#VALUE!"}},null,null,null,null,null,2945,{"$f":"COUNTIF(G:G,O2946)","v":0},{"$f":"IF(R2946=\"\",\"\",LARGE(Q$1:Q2945,1)+1)","v":{"$error":"#NUM!"}},{"$error":"#NUM!"},null,null,null,null,null,null,0,{"$error":"#VALUE!"},3999,"","",null,null,null,null,{"$error":"#VALUE!"},{"$error":"#VALUE!"},{"$f":"COUNTIF('Standards LOOKUP'!B:B,AI2946)","v":0},{"$f":"IFERROR(INDEX('Standards LOOKUP'!C:C,MATCH(AI2946,'Standards LOOKUP'!B:B,0),0),0)","v":0},{"$f":"IFERROR(INDEX('Current Standards'!P:P,MATCH('Sheet Counter'!AI2946,'Current Standards'!O:O,0),0),\"\")","v":""}]
[null,null,0,"","",{"$error":"#VALUE!"},"",{"$f":"IF(I2949=\"\",\"\",LARGE(H$1:H2948,1)+1)","v":{"$error":"#VALUE!"}},{"$error":"#VALUE!"},null,null,null,null,null,2948,0,{"$f":"IF(R2949=\"\",\"\",LARGE(Q$1:Q2948,1)+1)","v":{"$error":"#NUM!"}},{"$error":"#NUM!"},null,null,null,null,null,null,0,{"$error":"#VALUE!"},3999,"","",null,null,null,null,{"$error":"#VALUE!"},{"$error":"#VALUE!"},{"$f":"COUNTIF('Standards LOOKUP'!B:B,AI2949)","v":0},{"$f":"IFERROR(INDEX('Standards LOOKUP'!C:C,MATCH(AI2949,'Standards LOOKUP'!B:B,0),0),0)","v":0},{"$f":"IFERROR(INDEX('Current Standards'!P:P,MATCH('Sheet Counter'!AI2949,'Current Standards'!O:O,0),0),\"\")","v":""}]
[null,null,0,"","",{"$error":"#VALUE!"},"",{"$f":"IF(I2951=\"\",\"\",LARGE(H$1:H2950,1)+1)","v":{"$error":"#VALUE!"}},{"$error":"#VALUE!"},null,null,null,null,null,2950,0,{"$f":"IF(R2951=\"\",\"\",LARGE(Q$1:Q2950,1)+1)","v":{"$error":"#NUM!"}},{"$error":"#NUM!"},null,null,null,null,null,null,0,{"$error":"#VALUE!"},3999,"","",null,null,null,null,{"$error":"#VALUE!"},{"$error":"#VALUE!"},{"$f":"COUNTIF('Standards LOOKUP'!B:B,AI2951)","v":0},{"$f":"IFERROR(INDEX('Standards LOOKUP'!C:C,MATCH(AI2951,'Standards LOOKUP'!B:B,0),0),0)","v":0},{"$f":"IFERROR(INDEX('Current Standards'!P:P,MATCH('Sheet Counter'!AI2951,'Current Standards'!O:O,0),0),\"\")","v":""}]
[null,null,0,"","",{"$error":"#VALUE!"},"",{"$f":"IF(I2955=\"\",\"\",LARGE(H$1:H2954,1)+1)","v":{"$error":"#VALUE!"}},{"$error":"#VALUE!"},null,null,null,null,null,2954,0,{"$f":"IF(R2955=\"\",\"\",LARGE(Q$1:Q2954,1)+1)","v":{"$error":"#NUM!"}},{"$error":"#NUM!"},null,null,null,null,null,null,0,{"$error":"#VALUE!"},3999,"","",null,null,null,null,{"$error":"#VALUE!"},{"$error":"#VALUE!"},{"$f":"COUNTIF('Standards LOOKUP'!B:B,AI2955)","v":0},{"$f":"IFERROR(INDEX('Standards LOOKUP'!C:C,MATCH(AI2955,'Standards LOOKUP'!B:B,0),0),0)","v":0},{"$f":"IFERROR(INDEX('Current Standards'!P:P,MATCH('Sheet Counter'!AI2955,'Current Standards'!O:O,0),0),\"\")","v":""}]
[null,null,0,"","",{"$error":"#VALUE!"},"",{"$f":"IF(I2958=\"\",\"\",LARGE(H$1:H2957,1)+1)","v":{"$error":"#VALUE!"}},{"$error":"#VALUE!"},null,null,null,null,null,2957,0,{"$f":"IF(R2958=\"\",\"\",LARGE(Q$1:Q2957,1)+1)","v":{"$error":"#NUM!"}},{"$error":"#NUM!"},null,null,null,null,null,null,0,{"$error":"#VALUE!"},3999,"","",null,null,null,null,{"$error":"#VALUE!"},{"$error":"#VALUE!"},{"$f":"COUNTIF('Standards LOOKUP'!B:B,AI2958)","v":0},{"$f":"IFERROR(INDEX('Standards LOOKUP'!C:C,MATCH(AI2958,'Standards LOOKUP'!B:B,0),0),0)","v":0},{"$f":"IFERROR(INDEX('Current Standards'!P:P,MATCH('Sheet Counter'!AI2958,'Current Standards'!O:O,0),0),\"\")","v":""}]
[null,null,0,"","",{"$error":"#VALUE!"},"",{"$f":"IF(I2960=\"\",\"\",LARGE(H$1:H2959,1)+1)","v":{"$error":"#VALUE!"}},{"$error":"#VALUE!"},null,null,null,null,null,2959,0,{"$f":"IF(R2960=\"\",\"\",LARGE(Q$1:Q2959,1)+1)","v":{"$error":"#NUM!"}},{"$error":"#NUM!"},null,null,null,null,null,null,0,{"$error":"#VALUE!"},3999,"","",null,null,null,null,{"$error":"#VALUE!"},{"$error":"#VALUE!"},{"$f":"COUNTIF('Standards LOOKUP'!B:B,AI2960)","v":0},{"$f":"IFERROR(INDEX('Standards LOOKUP'!C:C,MATCH(AI2960,'Standards LOOKUP'!B:B,0),0),0)","v":0},{"$f":"IFERROR(INDEX('Current Standards'!P:P,MATCH('Sheet Counter'!AI2960,'Current Standards'!O:O,0),0),\"\")","v":""}]
[null,null,0,"","",{"$error":"#VALUE!"},"",{"$f":"IF(I2961=\"\",\"\",LARGE(H$1:H2960,1)+1)","v":{"$error":"#VALUE!"}},{"$error":"#VALUE!"},null,null,null,null,null,2960,0,{"$f":"IF(R2961=\"\",\"\",LARGE(Q$1:Q2960,1)+1)","v":{"$error":"#NUM!"}},{"$error":"#NUM!"},null,null,null,null,null,null,0,{"$error":"#VALUE!"},3999,"","",null,null,null,null,{"$error":"#VALUE!"},{"$error":"#VALUE!"},{"$f":"COUNTIF('Standards LOOKUP'!B:B,AI2961)","v":0},{"$f":"IFERROR(INDEX('Standards LOOKUP'!C:C,MATCH(AI2961,'Standards LOOKUP'!B:B,0),0),0)","v":0},{"$f":"IFERROR(INDEX('Current Standards'!P:P,MATCH('Sheet Counter'!AI2961,'Current Standards'!O:O,0),0),\"\")","v":""}]
[null,null,0,"","",{"$error":"#VALUE!"},"",{"$f":"IF(I2964=\"\",\"\",LARGE(H$1:H2963,1)+1)","v":{"$error":"#VALUE!"}},{"$error":"#VALUE!"},null,null,null,null,null,2963,0,{"$f":"IF(R2964=\"\",\"\",LARGE(Q$1:Q2963,1)+1)","v":{"$error":"#NUM!"}},{"$error":"#NUM!"},null,null,null,null,null,null,0,{"$error":"#VALUE!"},3999,"","",null,null,null,null,{"$error":"#VALUE!"},{"$error":"#VALUE!"},{"$f":"COUNTIF('Standards LOOKUP'!B:B,AI2964)","v":0},{"$f":"IFERROR(INDEX('Standards LOOKUP'!C:C,MATCH(AI2964,'Standards LOOKUP'!B:B,0),0),0)","v":0},{"$f":"IFERROR(INDEX('Current Standards'!P:P,MATCH('Sheet Counter'!AI2964,'Current Standards'!O:O,0),0),\"\")","v":""}]
[null,null,0,"","",{"$error":"#VALUE!"},"",{"$f":"IF(I2968=\"\",\"\",LARGE(H$1:H2967,1)+1)","v":{"$error":"#VALUE!"}},{"$error":"#VALUE!"},null,null,null,null,null,2967,0,{"$f":"IF(R2968=\"\",\"\",LARGE(Q$1:Q2967,1)+1)","v":{"$error":"#NUM!"}},{"$error":"#NUM!"},null,null,null,null,null,null,0,{"$error":"#VALUE!"},3999,"","",null,null,null,null,{"$error":"#VALUE!"},{"$error":"#VALUE!"},{"$f":"COUNTIF('Standards LOOKUP'!B:B,AI2968)","v":0},{"$f":"IFERROR(INDEX('Standards LOOKUP'!C:C,MATCH(AI2968,'Standards LOOKUP'!B:B,0),0),0)","v":0},{"$f":"IFERROR(INDEX('Current Standards'!P:P,MATCH('Sheet Counter'!AI2968,'Current Standards'!O:O,0),0),\"\")","v":""}]
[null,null,0,"","",{"$error":"#VALUE!"},"",{"$f":"IF(I2971=\"\",\"\",LARGE(H$1:H2970,1)+1)","v":{"$error":"#VALUE!"}},{"$error":"#VALUE!"},null,null,null,null,null,2970,0,{"$f":"IF(R2971=\"\",\"\",LARGE(Q$1:Q2970,1)+1)","v":{"$error":"#NUM!"}},{"$error":"#NUM!"},null,null,null,null,null,null,0,{"$error":"#VALUE!"},3999,"","",null,null,null,null,{"$error":"#VALUE!"},{"$error":"#VALUE!"},{"$f":"COUNTIF('Standards LOOKUP'!B:B,AI2971)","v":0},{"$f":"IFERROR(INDEX('Standards LOOKUP'!C:C,MATCH(AI2971,'Standards LOOKUP'!B:B,0),0),0)","v":0},{"$f":"IFERROR(INDEX('Current Standards'!P:P,MATCH('Sheet Counter'!AI2971,'Current Standards'!O:O,0),0),\"\")","v":""}]
[null,null,0,"","",{"$error":"#VALUE!"},"",{"$f":"IF(I2973=\"\",\"\",LARGE(H$1:H2972,1)+1)","v":{"$error":"#VALUE!"}},{"$error":"#VALUE!"},null,null,null,null,null,2972,0,{"$f":"IF(R2973=\"\",\"\",LARGE(Q$1:Q2972,1)+1)","v":{"$error":"#NUM!"}},{"$error":"#NUM!"},null,null,null,null,null,null,0,{"$error":"#VALUE!"},3999,"","",null,null,null,null,{"$error":"#VALUE!"},{"$error":"#VALUE!"},{"$f":"COUNTIF('Standards LOOKUP'!B:B,AI2973)","v":0},{"$f":"IFERROR(INDEX('Standards LOOKUP'!C:C,MATCH(AI2973,'Standards LOOKUP'!B:B,0),0),0)","v":0},{"$f":"IFERROR(INDEX('Current Standards'!P:P,MATCH('Sheet Counter'!AI2973,'Current Standards'!O:O,0),0),\"\")","v":""}]
[null,null,0,"","",{"$error":"#VALUE!"},"",{"$f":"IF(I2977=\"\",\"\",LARGE(H$1:H2976,1)+1)","v":{"$error":"#VALUE!"}},{"$error":"#VALUE!"},null,null,null,null,null,2976,0,{"$f":"IF(R2977=\"\",\"\",LARGE(Q$1:Q2976,1)+1)","v":{"$error":"#NUM!"}},{"$error":"#NUM!"},null,null,null,null,null,null,0,{"$error":"#VALUE!"},3999,"","",null,null,null,null,{"$error":"#VALUE!"},{"$error":"#VALUE!"},{"$f":"COUNTIF('Standards LOOKUP'!B:B,AI2977)","v":0},{"$f":"IFERROR(INDEX('Standards LOOKUP'!C:C,MATCH(AI2977,'Standards LOOKUP'!B:B,0),0),0)","v":0},{"$f":"IFERROR(INDEX('Current Standards'!P:P,MATCH('Sheet Counter'!AI2977,'Current Standards'!O:O,0),0),\"\")","v":""}]
[null,null,0,"","",{"$error":"#VALUE!"},"",{"$f":"IF(I2980=\"\",\"\",LARGE(H$1:H2979,1)+1)","v":{"$error":"#VALUE!"}},{"$error":"#VALUE!"},null,null,null,null,null,2979,0,{"$f":"IF(R2980=\"\",\"\",LARGE(Q$1:Q2979,1)+1)","v":{"$error":"#NUM!"}},{"$error":"#NUM!"},null,null,null,null,null,null,0,{"$error":"#VALUE!"},3999,"","",null,null,null,null,{"$error":"#VALUE!"},{"$error":"#VALUE!"},{"$f":"COUNTIF('Standards LOOKUP'!B:B,AI2980)","v":0},{"$f":"IFERROR(INDEX('Standards LOOKUP'!C:C,MATCH(AI2980,'Standards LOOKUP'!B:B,0),0),0)","v":0},{"$f":"IFERROR(INDEX('Current Standards'!P:P,MATCH('Sheet Counter'!AI2980,'Current Standards'!O:O,0),0),\"\")","v":""}]
[null,null,0,"","",{"$error":"#VALUE!"},"",{"$f":"IF(I2982=\"\",\"\",LARGE(H$1:H2981,1)+1)","v":{"$error":"#VALUE!"}},{"$error":"#VALUE!"},null,null,null,null,null,2981,0,{"$f":"IF(R2982=\"\",\"\",LARGE(Q$1:Q2981,1)+1)","v":{"$error":"#NUM!"}},{"$error":"#NUM!"},null,null,null,null,null,null,0,{"$error":"#VALUE!"},3999,"","",null,null,null,null,{"$error":"#VALUE!"},{"$error":"#VALUE!"},{"$f":"COUNTIF('Standards LOOKUP'!B:B,AI2982)","v":0},{"$f":"IFERROR(INDEX('Standards LOOKUP'!C:C,MATCH(AI2982,'Standards LOOKUP'!B:B,0),0),0)","v":0},{"$f":"IFERROR(INDEX('Current Standards'!P:P,MATCH('Sheet Counter'!AI2982,'Current Standards'!O:O,0),0),\"\")","v":""}]
[null,null,0,"","",{"$error":"#VALUE!"},"",{"$f":"IF(I2983=\"\",\"\",LARGE(H$1:H2982,1)+1)","v":{"$error":"#VALUE!"}},{"$error":"#VALUE!"},null,null,null,null,null,2982,0,{"$f":"IF(R2983=\"\",\"\",LARGE(Q$1:Q2982,1)+1)","v":{"$error":"#NUM!"}},{"$error":"#NUM!"},null,null,null,null,null,null,0,{"$error":"#VALUE!"},3999,"","",null,null,null,null,{"$error":"#VALUE!"},{"$error":"#VALUE!"},{"$f":"COUNTIF('Standards LOOKUP'!B:B,AI2983)","v":0},{"$f":"IFERROR(INDEX('Standards LOOKUP'!C:C,MATCH(AI2983,'Standards LOOKUP'!B:B,0),0),0)","v":0},{"$f":"IFERROR(INDEX('Current Standards'!P:P,MATCH('Sheet Counter'!AI2983,'Current Standards'!O:O,0),0),\"\")","v":""}]
[null,null,0,"","",{"$error":"#VALUE!"},"",{"$f":"IF(I2986=\"\",\"\",LARGE(H$1:H2985,1)+1)","v":{"$error":"#VALUE!"}},{"$error":"#VALUE!"},null,null,null,null,null,2985,0,{"$f":"IF(R2986=\"\",\"\",LARGE(Q$1:Q2985,1)+1)","v":{"$error":"#NUM!"}},{"$error":"#NUM!"},null,null,null,null,null,null,0,{"$error":"#VALUE!"},3999,"","",null,null,null,null,{"$error":"#VALUE!"},{"$error":"#VALUE!"},{"$f":"COUNTIF('Standards LOOKUP'!B:B,AI2986)","v":0},{"$f":"IFERROR(INDEX('Standards LOOKUP'!C:C,MATCH(AI2986,'Standards LOOKUP'!B:B,0),0),0)","v":0},{"$f":"IFERROR(INDEX('Current Standards'!P:P,MATCH('Sheet Counter'!AI2986,'Current Standards'!O:O,0),0),\"\")","v":""}]
[null,null,0,"","",{"$error":"#VALUE!"},"",{"$f":"IF(I2990=\"\",\"\",LARGE(H$1:H2989,1)+1)","v":{"$error":"#VALUE!"}},{"$error":"#VALUE!"},null,null,null,null,null,2989,0,{"$f":"IF(R2990=\"\",\"\",LARGE(Q$1:Q2989,1)+1)","v":{"$error":"#NUM!"}},{"$error":"#NUM!"},null,null,null,null,null,null,0,{"$error":"#VALUE!"},3999,"","",null,null,null,null,{"$error":"#VALUE!"},{"$error":"#VALUE!"},{"$f":"COUNTIF('Standards LOOKUP'!B:B,AI2990)","v":0},{"$f":"IFERROR(INDEX('Standards LOOKUP'!C:C,MATCH(AI2990,'Standards LOOKUP'!B:B,0),0),0)","v":0},{"$f":"IFERROR(INDEX('Current Standards'!P:P,MATCH('Sheet Counter'!AI2990,'Current Standards'!O:O,0),0),\"\")","v":""}]
[null,null,0,"","",{"$error":"#VALUE!"},"",{"$f":"IF(I2993=\"\",\"\",LARGE(H$1:H2992,1)+1)","v":{"$error":"#VALUE!"}},{"$error":"#VALUE!"},null,null,null,null,null,2992,0,{"$f":"IF(R2993=\"\",\"\",LARGE(Q$1:Q2992,1)+1)","v":{"$error":"#NUM!"}},{"$error":"#NUM!"},null,null,null,null,null,null,0,{"$error":"#VALUE!"},3999,"","",null,null,null,null,{"$error":"#VALUE!"},{"$error":"#VALUE!"},{"$f":"COUNTIF('Standards LOOKUP'!B:B,AI2993)","v":0},{"$f":"IFERROR(INDEX('Standards LOOKUP'!C:C,MATCH(AI2993,'Standards LOOKUP'!B:B,0),0),0)","v":0},{"$f":"IFERROR(INDEX('Current Standards'!P:P,MATCH('Sheet Counter'!AI2993,'Current Standards'!O:O,0),0),\"\")","v":""}]
[null,null,0,"","",{"$error":"#VALUE!"},"",{"$f":"IF(I2995=\"\",\"\",LARGE(H$1:H2994,1)+1)","v":{"$error":"#VALUE!"}},{"$error":"#VALUE!"},null,null,null,null,null,2994,0,{"$f":"IF(R2995=\"\",\"\",LARGE(Q$1:Q2994,1)+1)","v":{"$error":"#NUM!"}},{"$error":"#NUM!"},null,null,null,null,null,null,0,{"$error":"#VALUE!"},3999,"","",null,null,null,null,{"$error":"#VALUE!"},{"$error":"#VALUE!"},{"$f":"COUNTIF('Standards LOOKUP'!B:B,AI2995)","v":0},{"$f":"IFERROR(INDEX('Standards LOOKUP'!C:C,MATCH(AI2995,'Standards LOOKUP'!B:B,0),0),0)","v":0},{"$f":"IFERROR(INDEX('Current Standards'!P:P,MATCH('Sheet Counter'!AI2995,'Current Standards'!O:O,0),0),\"\")","v":""}]
[null,null,0,"","",{"$error":"#VALUE!"},"",{"$f":"IF(I2999=\"\",\"\",LARGE(H$1:H2998,1)+1)","v":{"$error":"#VALUE!"}},{"$error":"#VALUE!"},null,null,null,null,null,2998,0,{"$f":"IF(R2999=\"\",\"\",LARGE(Q$1:Q2998,1)+1)","v":{"$error":"#NUM!"}},{"$error":"#NUM!"},null,null,null,null,null,null,0,{"$error":"#VALUE!"},3999,"","",null,null,null,null,{"$error":"#VALUE!"},{"$error":"#VALUE!"},{"$f":"COUNTIF('Standards LOOKUP'!B:B,AI2999)","v":0},{"$f":"IFERROR(INDEX('Standards LOOKUP'!C:C,MATCH(AI2999,'Standards LOOKUP'!B:B,0),0),0)","v":0},{"$f":"IFERROR(INDEX('Current Standards'!P:P,MATCH('Sheet Counter'!AI2999,'Current Standards'!O:O,0),0),\"\")","v":""}]
[null,null,{"$f":"IF(ISERROR(FIND(\"\\\",A3002)),A3002,RIGHT(A3002,LEN(A3002)-FIND(\"~\",SUBSTITUTE(A3002,\"\\\",\"~\",LEN(A3002)-LEN(SUBSTITUTE(A3002,\"\\\",\"\"))))))","v":0},"","",{"$f":"LEFT(C3002,FIND(\"-\",SUBSTITUTE(SUBSTITUTE(C3002,\"_\",\"-\"),\" \",\"-\"))-1)","v":{"$error":"#VALUE!"}},{"$f":"IF(ISNUMBER(F3002*1),F3002*1,\"\")","v":""},{"$f":"IF(I3002=\"\",\"\",LARGE(H$1:H3001,1)+1)","v":{"$error":"#VALUE!"}},{"$f":"IF(G3002=\"\",F3002,\"\")","v":{"$error":"#VALUE!"}},null,null,null,null,null,3001,{"$f":"COUNTIF(G:G,O3002)","v":0},{"$f":"IF(R3002=\"\",\"\",LARGE(Q$1:Q3001,1)+1)","v":{"$error":"#NUM!"}},{"$error":"#NUM!"},null,null,null,null,null,null,{"$f":"IF(ISERROR(FIND(\"\\\",X3002)),X3002,RIGHT(X3002,LEN(X3002)-FIND(\"~\",SUBSTITUTE(X3002,\"\\\",\"~\",LEN(X3002)-LEN(SUBSTITUTE(X3002,\"\\\",\"\"))))))","v":0},{"$f":"LEFT(Y3002,FIND(\"-\",SUBSTITUTE(SUBSTITUTE(Y3002,\"_\",\"-\"),\" \",\"-\"))-1)","v":{"$error":"#VALUE!"}},{"$f":"COUNTIF(F:F,Z3002)","v":3999},{"$f":"IF(OR(AA3002<1,ISERROR(Z3002)),\"\",INDEX(C:C,MATCH(Z3002,F:F)))","v":""},"",null,null,null,null,{"$error":"#VALUE!"},{"$error":"#VALUE!"},{"$f":"COUNTIF('Standards LOOKUP'!B:B,AI3002)","v":0},{"$f":"IFERROR(INDEX('Standards LOOKUP'!C:C,MATCH(AI3002,'Standards LOOKUP'!B:B,0),0),0)","v":0},{"$f":"IFERROR(INDEX('Current Standards'!P:P,MATCH('Sheet Counter'!AI3002,'Current Standards'!O:O,0),0),\"\")","v":""}]
[null,null,0,"","",{"$error":"#VALUE!"},"",{"$f":"IF(I3004=\"\",\"\",LARGE(H$1:H3003,1)+1)","v":{"$error":"#VALUE!"}},{"$error":"#VALUE!"},null,null,null,null,null,3003,0,{"$f":"IF(R3004=\"\",\"\",LARGE(Q$1:Q3003,1)+1)","v":{"$error":"#NUM!"}},{"$error":"#NUM!"},null,null,null,null,null,null,0,{"$error":"#VALUE!"},3999,"","",null,null,null,null,{"$error":"#VALUE!"},{"$error":"#VALUE!"},{"$f":"COUNTIF('Standards LOOKUP'!B:B,AI3004)","v":0},{"$f":"IFERROR(INDEX('Standards LOOKUP'!C:C,MATCH(AI3004,'Standards LOOKUP'!B:B,0),0),0)","v":0},{"$f":"IFERROR(INDEX('Current Standards'!P:P,MATCH('Sheet Counter'!AI3004,'Current Standards'!O:O,0),0),\"\")","v":""}]
[null,null,0,"","",{"$error":"#VALUE!"},"",{"$f":"IF(I3005=\"\",\"\",LARGE(H$1:H3004,1)+1)","v":{"$error":"#VALUE!"}},{"$error":"#VALUE!"},null,null,null,null,null,3004,0,{"$f":"IF(R3005=\"\",\"\",LARGE(Q$1:Q3004,1)+1)","v":{"$error":"#NUM!"}},{"$error":"#NUM!"},null,null,null,null,null,null,0,{"$error":"#VALUE!"},3999,"","",null,null,null,null,{"$error":"#VALUE!"},{"$error":"#VALUE!"},{"$f":"COUNTIF('Standards LOOKUP'!B:B,AI3005)","v":0},{"$f":"IFERROR(INDEX('Standards LOOKUP'!C:C,MATCH(AI3005,'Standards LOOKUP'!B:B,0),0),0)","v":0},{"$f":"IFERROR(INDEX('Current Standards'!P:P,MATCH('Sheet Counter'!AI3005,'Current Standards'!O:O,0),0),\"\")","v":""}]
[null,null,0,"","",{"$error":"#VALUE!"},"",{"$f":"IF(I3008=\"\",\"\",LARGE(H$1:H3007,1)+1)","v":{"$error":"#VALUE!"}},{"$error":"#VALUE!"},null,null,null,null,null,3007,0,{"$f":"IF(R3008=\"\",\"\",LARGE(Q$1:Q3007,1)+1)","v":{"$error":"#NUM!"}},{"$error":"#NUM!"},null,null,null,null,null,null,0,{"$error":"#VALUE!"},3999,"","",null,null,null,null,{"$error":"#VALUE!"},{"$error":"#VALUE!"},{"$f":"COUNTIF('Standards LOOKUP'!B:B,AI3008)","v":0},{"$f":"IFERROR(INDEX('Standards LOOKUP'!C:C,MATCH(AI3008,'Standards LOOKUP'!B:B,0),0),0)","v":0},{"$f":"IFERROR(INDEX('Current Standards'!P:P,MATCH('Sheet Counter'!AI3008,'Current Standards'!O:O,0),0),\"\")","v":""}]
[null,null,0,"","",{"$error":"#VALUE!"},"",{"$f":"IF(I3012=\"\",\"\",LARGE(H$1:H3011,1)+1)","v":{"$error":"#VALUE!"}},{"$error":"#VALUE!"},null,null,null,null,null,3011,0,{"$f":"IF(R3012=\"\",\"\",LARGE(Q$1:Q3011,1)+1)","v":{"$error":"#NUM!"}},{"$f":"IF(AND(P3012<>1,O3012<=LARGE(G:G,1),O3012>=SMALL(G:G,1)),O3012,\"\")","v":{"$error":"#NUM!"}},null,null,null,null,null,null,0,{"$error":"#VALUE!"},3999,"","",null,null,null,null,{"$error":"#VALUE!"},{"$error":"#VALUE!"},{"$f":"COUNTIF('Standards LOOKUP'!B:B,AI3012)","v":0},{"$f":"IFERROR(INDEX('Standards LOOKUP'!C:C,MATCH(AI3012,'Standards LOOKUP'!B:B,0),0),0)","v":0},{"$f":"IFERROR(INDEX('Current Standards'!P:P,MATCH('Sheet Counter'!AI3012,'Current Standards'!O:O,0),0),\"\")","v":""}]
[null,null,0,"","",{"$error":"#VALUE!"},"",{"$f":"IF(I3015=\"\",\"\",LARGE(H$1:H3014,1)+1)","v":{"$error":"#VALUE!"}},{"$error":"#VALUE!"},null,null,null,null,null,3014,0,{"$f":"IF(R3015=\"\",\"\",LARGE(Q$1:Q3014,1)+1)","v":{"$error":"#NUM!"}},{"$error":"#NUM!"},null,null,null,null,null,null,0,{"$error":"#VALUE!"},3999,"","",null,null,null,null,{"$error":"#VALUE!"},{"$error":"#VALUE!"},{"$f":"COUNTIF('Standards LOOKUP'!B:B,AI3015)","v":0},{"$f":"IFERROR(INDEX('Standards LOOKUP'!C:C,MATCH(AI3015,'Standards LOOKUP'!B:B,0),0),0)","v":0},{"$f":"IFERROR(INDEX('Current Standards'!P:P,MATCH('Sheet Counter'!AI3015,'Current Standards'!O:O,0),0),\"\")","v":""}]
[null,null,0,"","",{"$error":"#VALUE!"},"",{"$f":"IF(I3017=\"\",\"\",LARGE(H$1:H3016,1)+1)","v":{"$error":"#VALUE!"}},{"$error":"#VALUE!"},null,null,null,null,null,3016,0,{"$f":"IF(R3017=\"\",\"\",LARGE(Q$1:Q3016,1)+1)","v":{"$error":"#NUM!"}},{"$error":"#NUM!"},null,null,null,null,null,null,0,{"$error":"#VALUE!"},3999,"","",null,null,null,null,{"$error":"#VALUE!"},{"$error":"#VALUE!"},{"$f":"COUNTIF('Standards LOOKUP'!B:B,AI3017)","v":0},{"$f":"IFERROR(INDEX('Standards LOOKUP'!C:C,MATCH(AI3017,'Standards LOOKUP'!B:B,0),0),0)","v":0},{"$f":"IFERROR(INDEX('Current Standards'!P:P,MATCH('Sheet Counter'!AI3017,'Current Standards'!O:O,0),0),\"\")","v":""}]
[null,null,0,"","",{"$error":"#VALUE!"},"",{"$f":"IF(I3021=\"\",\"\",LARGE(H$1:H3020,1)+1)","v":{"$error":"#VALUE!"}},{"$error":"#VALUE!"},null,null,null,null,null,3020,0,{"$f":"IF(R3021=\"\",\"\",LARGE(Q$1:Q3020,1)+1)","v":{"$error":"#NUM!"}},{"$error":"#NUM!"},null,null,null,null,null,null,0,{"$error":"#VALUE!"},3999,"","",null,null,null,null,{"$error":"#VALUE!"},{"$error":"#VALUE!"},{"$f":"COUNTIF('Standards LOOKUP'!B:B,AI3021)","v":0},{"$f":"IFERROR(INDEX('Standards LOOKUP'!C:C,MATCH(AI3021,'Standards LOOKUP'!B:B,0),0),0)","v":0},{"$f":"IFERROR(INDEX('Current Standards'!P:P,MATCH('Sheet Counter'!AI3021,'Current Standards'!O:O,0),0),\"\")","v":""}]
[null,null,0,"","",{"$error":"#VALUE!"},"",{"$f":"IF(I3024=\"\",\"\",LARGE(H$1:H3023,1)+1)","v":{"$error":"#VALUE!"}},{"$error":"#VALUE!"},null,null,null,null,null,3023,0,{"$f":"IF(R3024=\"\",\"\",LARGE(Q$1:Q3023,1)+1)","v":{"$error":"#NUM!"}},{"$error":"#NUM!"},null,null,null,null,null,null,0,{"$error":"#VALUE!"},3999,"","",null,null,null,null,{"$error":"#VALUE!"},{"$error":"#VALUE!"},{"$f":"COUNTIF('Standards LOOKUP'!B:B,AI3024)","v":0},{"$f":"IFERROR(INDEX('Standards LOOKUP'!C:C,MATCH(AI3024,'Standards LOOKUP'!B:B,0),0),0)","v":0},{"$f":"IFERROR(INDEX('Current Standards'!P:P,MATCH('Sheet Counter'!AI3024,'Current Standards'!O:O,0),0),\"\")","v":""}]
[null,null,0,"","",{"$error":"#VALUE!"},"",{"$f":"IF(I3026=\"\",\"\",LARGE(H$1:H3025,1)+1)","v":{"$error":"#VALUE!"}},{"$error":"#VALUE!"},null,null,null,null,null,3025,0,{"$f":"IF(R3026=\"\",\"\",LARGE(Q$1:Q3025,1)+1)","v":{"$error":"#NUM!"}},{"$error":"#NUM!"},null,null,null,null,null,null,0,{"$error":"#VALUE!"},3999,"","",null,null,null,null,{"$error":"#VALUE!"},{"$error":"#VALUE!"},{"$f":"COUNTIF('Standards LOOKUP'!B:B,AI3026)","v":0},{"$f":"IFERROR(INDEX('Standards LOOKUP'!C:C,MATCH(AI3026,'Standards LOOKUP'!B:B,0),0),0)","v":0},{"$f":"IFERROR(INDEX('Current Standards'!P:P,MATCH('Sheet Counter'!AI3026,'Current Standards'!O:O,0),0),\"\")","v":""}]
[null,null,0,"","",{"$error":"#VALUE!"},"",{"$f":"IF(I3027=\"\",\"\",LARGE(H$1:H3026,1)+1)","v":{"$error":"#VALUE!"}},{"$error":"#VALUE!"},null,null,null,null,null,3026,0,{"$f":"IF(R3027=\"\",\"\",LARGE(Q$1:Q3026,1)+1)","v":{"$error":"#NUM!"}},{"$error":"#NUM!"},null,null,null,null,null,null,0,{"$error":"#VALUE!"},3999,"","",null,null,null,null,{"$error":"#VALUE!"},{"$error":"#VALUE!"},{"$f":"COUNTIF('Standards LOOKUP'!B:B,AI3027)","v":0},{"$f":"IFERROR(INDEX('Standards LOOKUP'!C:C,MATCH(AI3027,'Standards LOOKUP'!B:B,0),0),0)","v":0},{"$f":"IFERROR(INDEX('Current Standards'!P:P,MATCH('Sheet Counter'!AI3027,'Current Standards'!O:O,0),0),\"\")","v":""}]
[null,null,0,"","",{"$error":"#VALUE!"},"",{"$f":"IF(I3030=\"\",\"\",LARGE(H$1:H3029,1)+1)","v":{"$error":"#VALUE!"}},{"$error":"#VALUE!"},null,null,null,null,null,3029,0,{"$f":"IF(R3030=\"\",\"\",LARGE(Q$1:Q3029,1)+1)","v":{"$error":"#NUM!"}},{"$error":"#NUM!"},null,null,null,null,null,null,0,{"$error":"#VALUE!"},3999,"","",null,null,null,null,{"$error":"#VALUE!"},{"$error":"#VALUE!"},{"$f":"COUNTIF('Standards LOOKUP'!B:B,AI3030)","v":0},{"$f":"IFERROR(INDEX('Standards LOOKUP'!C:C,MATCH(AI3030,'Standards LOOKUP'!B:B,0),0),0)","v":0},{"$f":"IFERROR(INDEX('Current Standards'!P:P,MATCH('Sheet Counter'!AI3030,'Current Standards'!O:O,0),0),\"\")","v":""}]
[null,null,0,"","",{"$error":"#VALUE!"},"",{"$f":"IF(I3034=\"\",\"\",LARGE(H$1:H3033,1)+1)","v":{"$error":"#VALUE!"}},{"$error":"#VALUE!"},null,null,null,null,null,3033,0,{"$f":"IF(R3034=\"\",\"\",LARGE(Q$1:Q3033,1)+1)","v":{"$error":"#NUM!"}},{"$error":"#NUM!"},null,null,null,null,null,null,0,{"$error":"#VALUE!"},3999,"","",null,null,null,null,{"$error":"#VALUE!"},{"$error":"#VALUE!"},{"$f":"COUNTIF('Standards LOOKUP'!B:B,AI3034)","v":0},{"$f":"IFERROR(INDEX('Standards LOOKUP'!C:C,MATCH(AI3034,'Standards LOOKUP'!B:B,0),0),0)","v":0},{"$f":"IFERROR(INDEX('Current Standards'!P:P,MATCH('Sheet Counter'!AI3034,'Current Standards'!O:O,0),0),\"\")","v":""}]
[null,null,0,"","",{"$error":"#VALUE!"},"",{"$f":"IF(I3037=\"\",\"\",LARGE(H$1:H3036,1)+1)","v":{"$error":"#VALUE!"}},{"$error":"#VALUE!"},null,null,null,null,null,3036,0,{"$f":"IF(R3037=\"\",\"\",LARGE(Q$1:Q3036,1)+1)","v":{"$error":"#NUM!"}},{"$error":"#NUM!"},null,null,null,null,null,null,0,{"$error":"#VALUE!"},3999,"","",null,null,null,null,{"$error":"#VALUE!"},{"$error":"#VALUE!"},{"$f":"COUNTIF('Standards LOOKUP'!B:B,AI3037)","v":0},{"$f":"IFERROR(INDEX('Standards LOOKUP'!C:C,MATCH(AI3037,'Standards LOOKUP'!B:B,0),0),0)","v":0},{"$f":"IFERROR(INDEX('Current Standards'!P:P,MATCH('Sheet Counter'!AI3037,'Current Standards'!O:O,0),0),\"\")","v":""}]
[null,null,0,"","",{"$error":"#VALUE!"},"",{"$f":"IF(I3040=\"\",\"\",LARGE(H$1:H3039,1)+1)","v":{"$error":"#VALUE!"}},{"$error":"#VALUE!"},null,null,null,null,null,3039,0,{"$f":"IF(R3040=\"\",\"\",LARGE(Q$1:Q3039,1)+1)","v":{"$error":"#NUM!"}},{"$error":"#NUM!"},null,null,null,null,null,null,0,{"$error":"#VALUE!"},3999,"","",null,null,null,null,{"$error":"#VALUE!"},{"$error":"#VALUE!"},{"$f":"COUNTIF('Standards LOOKUP'!B:B,AI3040)","v":0},{"$f":"IFERROR(INDEX('Standards LOOKUP'!C:C,MATCH(AI3040,'Standards LOOKUP'!B:B,0),0),0)","v":0},{"$f":"IFERROR(INDEX('Current Standards'!P:P,MATCH('Sheet Counter'!AI3040,'Current Standards'!O:O,0),0),\"\")","v":""}]
[null,null,0,"","",{"$error":"#VALUE!"},"",{"$f":"IF(I3043=\"\",\"\",LARGE(H$1:H3042,1)+1)","v":{"$error":"#VALUE!"}},{"$error":"#VALUE!"},null,null,null,null,null,3042,0,{"$f":"IF(R3043=\"\",\"\",LARGE(Q$1:Q3042,1)+1)","v":{"$error":"#NUM!"}},{"$error":"#NUM!"},null,null,null,null,null,null,0,{"$error":"#VALUE!"},3999,"","",null,null,null,null,{"$error":"#VALUE!"},{"$error":"#VALUE!"},{"$f":"COUNTIF('Standards LOOKUP'!B:B,AI3043)","v":0},{"$f":"IFERROR(INDEX('Standards LOOKUP'!C:C,MATCH(AI3043,'Standards LOOKUP'!B:B,0),0),0)","v":0},{"$f":"IFERROR(INDEX('Current Standards'!P:P,MATCH('Sheet Counter'!AI3043,'Current Standards'!O:O,0),0),\"\")","v":""}]
[null,null,0,"","",{"$error":"#VALUE!"},"",{"$f":"IF(I3046=\"\",\"\",LARGE(H$1:H3045,1)+1)","v":{"$error":"#VALUE!"}},{"$error":"#VALUE!"},null,null,null,null,null,3045,0,{"$f":"IF(R3046=\"\",\"\",LARGE(Q$1:Q3045,1)+1)","v":{"$error":"#NUM!"}},{"$error":"#NUM!"},null,null,null,null,null,null,0,{"$error":"#VALUE!"},3999,"","",null,null,null,null,{"$error":"#VALUE!"},{"$error":"#VALUE!"},{"$f":"COUNTIF('Standards LOOKUP'!B:B,AI3046)","v":0},{"$f":"IFERROR(INDEX('Standards LOOKUP'!C:C,MATCH(AI3046,'Standards LOOKUP'!B:B,0),0),0)","v":0},{"$f":"IFERROR(INDEX('Current Standards'!P:P,MATCH('Sheet Counter'!AI3046,'Current Standards'!O:O,0),0),\"\")","v":""}]
[null,null,0,"","",{"$error":"#VALUE!"},"",{"$f":"IF(I3048=\"\",\"\",LARGE(H$1:H3047,1)+1)","v":{"$error":"#VALUE!"}},{"$error":"#VALUE!"},null,null,null,null,null,3047,0,{"$f":"IF(R3048=\"\",\"\",LARGE(Q$1:Q3047,1)+1)","v":{"$error":"#NUM!"}},{"$error":"#NUM!"},null,null,null,null,null,null,0,{"$error":"#VALUE!"},3999,"","",null,null,null,null,{"$error":"#VALUE!"},{"$error":"#VALUE!"},{"$f":"COUNTIF('Standards LOOKUP'!B:B,AI3048)","v":0},{"$f":"IFERROR(INDEX('Standards LOOKUP'!C:C,MATCH(AI3048,'Standards LOOKUP'!B:B,0),0),0)","v":0},{"$f":"IFERROR(INDEX('Current Standards'!P:P,MATCH('Sheet Counter'!AI3048,'Current Standards'!O:O,0),0),\"\")","v":""}]
[null,null,0,"","",{"$error":"#VALUE!"},"",{"$f":"IF(I3049=\"\",\"\",LARGE(H$1:H3048,1)+1)","v":{"$error":"#VALUE!"}},{"$error":"#VALUE!"},null,null,null,null,null,3048,0,{"$f":"IF(R3049=\"\",\"\",LARGE(Q$1:Q3048,1)+1)","v":{"$error":"#NUM!"}},{"$error":"#NUM!"},null,null,null,null,null,null,0,{"$error":"#VALUE!"},3999,"","",null,null,null,null,{"$error":"#VALUE!"},{"$error":"#VALUE!"},{"$f":"COUNTIF('Standards LOOKUP'!B:B,AI3049)","v":0},{"$f":"IFERROR(INDEX('Standards LOOKUP'!C:C,MATCH(AI3049,'Standards LOOKUP'!B:B,0),0),0)","v":0},{"$f":"IFERROR(INDEX('Current Standards'!P:P,MATCH('Sheet Counter'!AI3049,'Current Standards'!O:O,0),0),\"\")","v":""}]
[null,null,0,"","",{"$error":"#VALUE!"},"",{"$f":"IF(I3052=\"\",\"\",LARGE(H$1:H3051,1)+1)","v":{"$error":"#VALUE!"}},{"$error":"#VALUE!"},null,null,null,null,null,3051,0,{"$f":"IF(R3052=\"\",\"\",LARGE(Q$1:Q3051,1)+1)","v":{"$error":"#NUM!"}},{"$error":"#NUM!"},null,null,null,null,null,null,0,{"$error":"#VALUE!"},3999,"","",null,null,null,null,{"$error":"#VALUE!"},{"$error":"#VALUE!"},{"$f":"COUNTIF('Standards LOOKUP'!B:B,AI3052)","v":0},{"$f":"IFERROR(INDEX('Standards LOOKUP'!C:C,MATCH(AI3052,'Standards LOOKUP'!B:B,0),0),0)","v":0},{"$f":"IFERROR(INDEX('Current Standards'!P:P,MATCH('Sheet Counter'!AI3052,'Current Standards'!O:O,0),0),\"\")","v":""}]
[null,null,0,"","",{"$error":"#VALUE!"},"",{"$f":"IF(I3056=\"\",\"\",LARGE(H$1:H3055,1)+1)","v":{"$error":"#VALUE!"}},{"$error":"#VALUE!"},null,null,null,null,null,3055,0,{"$f":"IF(R3056=\"\",\"\",LARGE(Q$1:Q3055,1)+1)","v":{"$error":"#NUM!"}},{"$error":"#NUM!"},null,null,null,null,null,null,0,{"$error":"#VALUE!"},3999,"","",null,null,null,null,{"$error":"#VALUE!"},{"$error":"#VALUE!"},{"$f":"COUNTIF('Standards LOOKUP'!B:B,AI3056)","v":0},{"$f":"IFERROR(INDEX('Standards LOOKUP'!C:C,MATCH(AI3056,'Standards LOOKUP'!B:B,0),0),0)","v":0},{"$f":"IFERROR(INDEX('Current Standards'!P:P,MATCH('Sheet Counter'!AI3056,'Current Standards'!O:O,0),0),\"\")","v":""}]
[null,null,0,"","",{"$error":"#VALUE!"},"",{"$f":"IF(I3059=\"\",\"\",LARGE(H$1:H3058,1)+1)","v":{"$error":"#VALUE!"}},{"$error":"#VALUE!"},null,null,null,null,null,3058,0,{"$f":"IF(R3059=\"\",\"\",LARGE(Q$1:Q3058,1)+1)","v":{"$error":"#NUM!"}},{"$error":"#NUM!"},null,null,null,null,null,null,0,{"$error":"#VALUE!"},3999,"","",null,null,null,null,{"$error":"#VALUE!"},{"$error":"#VALUE!"},{"$f":"COUNTIF('Standards LOOKUP'!B:B,AI3059)","v":0},{"$f":"IFERROR(INDEX('Standards LOOKUP'!C:C,MATCH(AI3059,'Standards LOOKUP'!B:B,0),0),0)","v":0},{"$f":"IFERROR(INDEX('Current Standards'!P:P,MATCH('Sheet Counter'!AI3059,'Current Standards'!O:O,0),0),\"\")","v":""}]
[null,null,0,"","",{"$error":"#VALUE!"},"",{"$f":"IF(I3062=\"\",\"\",LARGE(H$1:H3061,1)+1)","v":{"$error":"#VALUE!"}},{"$error":"#VALUE!"},null,null,null,null,null,3061,0,{"$f":"IF(R3062=\"\",\"\",LARGE(Q$1:Q3061,1)+1)","v":{"$error":"#NUM!"}},{"$error":"#NUM!"},null,null,null,null,null,null,0,{"$error":"#VALUE!"},3999,"","",null,null,null,null,{"$error":"#VALUE!"},{"$error":"#VALUE!"},{"$f":"COUNTIF('Standards LOOKUP'!B:B,AI3062)","v":0},{"$f":"IFERROR(INDEX('Standards LOOKUP'!C:C,MATCH(AI3062,'Standards LOOKUP'!B:B,0),0),0)","v":0},{"$f":"IFERROR(INDEX('Current Standards'!P:P,MATCH('Sheet Counter'!AI3062,'Current Standards'!O:O,0),0),\"\")","v":""}]
[null,null,0,"","",{"$error":"#VALUE!"},"",{"$f":"IF(I3065=\"\",\"\",LARGE(H$1:H3064,1)+1)","v":{"$error":"#VALUE!"}},{"$error":"#VALUE!"},null,null,null,null,null,3064,0,{"$f":"IF(R3065=\"\",\"\",LARGE(Q$1:Q3064,1)+1)","v":{"$error":"#NUM!"}},{"$error":"#NUM!"},null,null,null,null,null,null,0,{"$error":"#VALUE!"},3999,"","",null,null,null,null,{"$error":"#VALUE!"},{"$error":"#VALUE!"},{"$f":"COUNTIF('Standards LOOKUP'!B:B,AI3065)","v":0},{"$f":"IFERROR(INDEX('Standards LOOKUP'!C:C,MATCH(AI3065,'Standards LOOKUP'!B:B,0),0),0)","v":0},{"$f":"IFERROR(INDEX('Current Standards'!P:P,MATCH('Sheet Counter'!AI3065,'Current Standards'!O:O,0),0),\"\")","v":""}]
[null,null,0,"","",{"$error":"#VALUE!"},"",{"$f":"IF(I3068=\"\",\"\",LARGE(H$1:H3067,1)+1)","v":{"$error":"#VALUE!"}},{"$error":"#VALUE!"},null,null,null,null,null,3067,0,{"$f":"IF(R3068=\"\",\"\",LARGE(Q$1:Q3067,1)+1)","v":{"$error":"#NUM!"}},{"$error":"#NUM!"},null,null,null,null,null,null,0,{"$error":"#VALUE!"},3999,"","",null,null,null,null,{"$error":"#VALUE!"},{"$error":"#VALUE!"},{"$f":"COUNTIF('Standards LOOKUP'!B:B,AI3068)","v":0},{"$f":"IFERROR(INDEX('Standards LOOKUP'!C:C,MATCH(AI3068,'Standards LOOKUP'!B:B,0),0),0)","v":0},{"$f":"IFERROR(INDEX('Current Standards'!P:P,MATCH('Sheet Counter'!AI3068,'Current Standards'!O:O,0),0),\"\")","v":""}]
[null,null,0,"","",{"$error":"#VALUE!"},"",{"$f":"IF(I3070=\"\",\"\",LARGE(H$1:H3069,1)+1)","v":{"$error":"#VALUE!"}},{"$error":"#VALUE!"},null,null,null,null,null,3069,0,{"$f":"IF(R3070=\"\",\"\",LARGE(Q$1:Q3069,1)+1)","v":{"$error":"#NUM!"}},{"$error":"#NUM!"},null,null,null,null,null,null,0,{"$error":"#VALUE!"},3999,"","",null,null,null,null,{"$error":"#VALUE!"},{"$error":"#VALUE!"},{"$f":"COUNTIF('Standards LOOKUP'!B:B,AI3070)","v":0},{"$f":"IFERROR(INDEX('Standards LOOKUP'!C:C,MATCH(AI3070,'Standards LOOKUP'!B:B,0),0),0)","v":0},{"$f":"IFERROR(INDEX('Current Standards'!P:P,MATCH('Sheet Counter'!AI3070,'Current Standards'!O:O,0),0),\"\")","v":""}]
[null,null,0,"","",{"$error":"#VALUE!"},"",{"$f":"IF(I3071=\"\",\"\",LARGE(H$1:H3070,1)+1)","v":{"$error":"#VALUE!"}},{"$error":"#VALUE!"},null,null,null,null,null,3070,0,{"$f":"IF(R3071=\"\",\"\",LARGE(Q$1:Q3070,1)+1)","v":{"$error":"#NUM!"}},{"$error":"#NUM!"},null,null,null,null,null,null,0,{"$error":"#VALUE!"},3999,"","",null,null,null,null,{"$error":"#VALUE!"},{"$error":"#VALUE!"},{"$f":"COUNTIF('Standards LOOKUP'!B:B,AI3071)","v":0},{"$f":"IFERROR(INDEX('Standards LOOKUP'!C:C,MATCH(AI3071,'Standards LOOKUP'!B:B,0),0),0)","v":0},{"$f":"IFERROR(INDEX('Current Standards'!P:P,MATCH('Sheet Counter'!AI3071,'Current Standards'!O:O,0),0),\"\")","v":""}]
[null,null,0,{"$f":"IF(AL3075=\"\",\"\",AL3075)","v":""},"",{"$error":"#VALUE!"},"",{"$f":"IF(I3075=\"\",\"\",LARGE(H$1:H3074,1)+1)","v":{"$error":"#VALUE!"}},{"$error":"#VALUE!"},null,null,null,null,null,3074,0,{"$f":"IF(R3075=\"\",\"\",LARGE(Q$1:Q3074,1)+1)","v":{"$error":"#NUM!"}},{"$error":"#NUM!"},null,null,null,null,null,null,0,{"$error":"#VALUE!"},3999,"",{"$f":"IF(AA3075=0,\"New Sheet\",IF(EXACT(UPPER(Y3075),UPPER(AB3075)),\"Match\",\"\"))","v":""},null,null,null,null,{"$f":"IF(C3075=\"\",\"\",LEFT(RIGHT(C3075,LEN(C3075)-SEARCH(\" \",C3075,1)),LEN(RIGHT(C3075,LEN(C3075)-SEARCH(\" \",C3075,1)))-4))","v":{"$error":"#VALUE!"}},{"$f":"TRIM(SUBSTITUTE(SUBSTITUTE(SUBSTITUTE(SUBSTITUTE(SUBSTITUTE(SUBSTITUTE(AH3075,\"(\",\"\"),\")\",\"\"),\"-\",\"\"),\"&\",\"\"),\" \",\"\",1),\" \",\"\",1))","v":{"$error":"#VALUE!"}},{"$f":"COUNTIF('Standards LOOKUP'!B:B,AI3075)","v":0},{"$f":"IFERROR(INDEX('Standards LOOKUP'!C:C,MATCH(AI3075,'Standards LOOKUP'!B:B,0),0),0)","v":0},{"$f":"IFERROR(INDEX('Current Standards'!P:P,MATCH('Sheet Counter'!AI3075,'Current Standards'!O:O,0),0),\"\")","v":""}]
[null,null,0,"","",{"$error":"#VALUE!"},"",{"$f":"IF(I3078=\"\",\"\",LARGE(H$1:H3077,1)+1)","v":{"$error":"#VALUE!"}},{"$error":"#VALUE!"},null,null,null,null,null,3077,0,{"$f":"IF(R3078=\"\",\"\",LARGE(Q$1:Q3077,1)+1)","v":{"$error":"#NUM!"}},{"$error":"#NUM!"},null,null,null,null,null,null,0,{"$error":"#VALUE!"},3999,"","",null,null,null,null,{"$error":"#VALUE!"},{"$error":"#VALUE!"},{"$f":"COUNTIF('Standards LOOKUP'!B:B,AI3078)","v":0},{"$f":"IFERROR(INDEX('Standards LOOKUP'!C:C,MATCH(AI3078,'Standards LOOKUP'!B:B,0),0),0)","v":0},{"$f":"IFERROR(INDEX('Current Standards'!P:P,MATCH('Sheet Counter'!AI3078,'Current Standards'!O:O,0),0),\"\")","v":""}]
[null,null,0,"","",{"$error":"#VALUE!"},"",{"$f":"IF(I3081=\"\",\"\",LARGE(H$1:H3080,1)+1)","v":{"$error":"#VALUE!"}},{"$error":"#VALUE!"},null,null,null,null,null,3080,0,{"$f":"IF(R3081=\"\",\"\",LARGE(Q$1:Q3080,1)+1)","v":{"$error":"#NUM!"}},{"$error":"#NUM!"},null,null,null,null,null,null,0,{"$error":"#VALUE!"},3999,"","",null,null,null,null,{"$error":"#VALUE!"},{"$error":"#VALUE!"},{"$f":"COUNTIF('Standards LOOKUP'!B:B,AI3081)","v":0},{"$f":"IFERROR(INDEX('Standards LOOKUP'!C:C,MATCH(AI3081,'Standards LOOKUP'!B:B,0),0),0)","v":0},{"$f":"IFERROR(INDEX('Current Standards'!P:P,MATCH('Sheet Counter'!AI3081,'Current Standards'!O:O,0),0),\"\")","v":""}]
[null,null,0,"","",{"$error":"#VALUE!"},"",{"$f":"IF(I3084=\"\",\"\",LARGE(H$1:H3083,1)+1)","v":{"$error":"#VALUE!"}},{"$error":"#VALUE!"},null,null,null,null,null,3083,0,{"$f":"IF(R3084=\"\",\"\",LARGE(Q$1:Q3083,1)+1)","v":{"$error":"#NUM!"}},{"$error":"#NUM!"},null,null,null,null,null,null,0,{"$error":"#VALUE!"},3999,"","",null,null,null,null,{"$error":"#VALUE!"},{"$error":"#VALUE!"},{"$f":"COUNTIF('Standards LOOKUP'!B:B,AI3084)","v":0},{"$f":"IFERROR(INDEX('Standards LOOKUP'!C:C,MATCH(AI3084,'Standards LOOKUP'!B:B,0),0),0)","v":0},{"$f":"IFERROR(INDEX('Current Standards'!P:P,MATCH('Sheet Counter'!AI3084,'Current Standards'!O:O,0),0),\"\")","v":""}]
[null,null,0,"","",{"$error":"#VALUE!"},"",{"$f":"IF(I3087=\"\",\"\",LARGE(H$1:H3086,1)+1)","v":{"$error":"#VALUE!"}},{"$error":"#VALUE!"},null,null,null,null,null,3086,0,{"$f":"IF(R3087=\"\",\"\",LARGE(Q$1:Q3086,1)+1)","v":{"$error":"#NUM!"}},{"$error":"#NUM!"},null,null,null,null,null,null,0,{"$error":"#VALUE!"},3999,"","",null,null,null,null,{"$error":"#VALUE!"},{"$error":"#VALUE!"},{"$f":"COUNTIF('Standards LOOKUP'!B:B,AI3087)","v":0},{"$f":"IFERROR(INDEX('Standards LOOKUP'!C:C,MATCH(AI3087,'Standards LOOKUP'!B:B,0),0),0)","v":0},{"$f":"IFERROR(INDEX('Current Standards'!P:P,MATCH('Sheet Counter'!AI3087,'Current Standards'!O:O,0),0),\"\")","v":""}]
[null,null,0,"","",{"$error":"#VALUE!"},"",{"$f":"IF(I3090=\"\",\"\",LARGE(H$1:H3089,1)+1)","v":{"$error":"#VALUE!"}},{"$error":"#VALUE!"},null,null,null,null,null,3089,0,{"$f":"IF(R3090=\"\",\"\",LARGE(Q$1:Q3089,1)+1)","v":{"$error":"#NUM!"}},{"$error":"#NUM!"},null,null,null,null,null,null,0,{"$error":"#VALUE!"},3999,"","",null,null,null,null,{"$error":"#VALUE!"},{"$error":"#VALUE!"},{"$f":"COUNTIF('Standards LOOKUP'!B:B,AI3090)","v":0},{"$f":"IFERROR(INDEX('Standards LOOKUP'!C:C,MATCH(AI3090,'Standards LOOKUP'!B:B,0),0),0)","v":0},{"$f":"IFERROR(INDEX('Current Standards'!P:P,MATCH('Sheet Counter'!AI3090,'Current Standards'!O:O,0),0),\"\")","v":""}]
[null,null,0,"","",{"$error":"#VALUE!"},"",{"$f":"IF(I3092=\"\",\"\",LARGE(H$1:H3091,1)+1)","v":{"$error":"#VALUE!"}},{"$error":"#VALUE!"},null,null,null,null,null,3091,0,{"$f":"IF(R3092=\"\",\"\",LARGE(Q$1:Q3091,1)+1)","v":{"$error":"#NUM!"}},{"$error":"#NUM!"},null,null,null,null,null,null,0,{"$error":"#VALUE!"},3999,"","",null,null,null,null,{"$error":"#VALUE!"},{"$error":"#VALUE!"},{"$f":"COUNTIF('Standards LOOKUP'!B:B,AI3092)","v":0},{"$f":"IFERROR(INDEX('Standards LOOKUP'!C:C,MATCH(AI3092,'Standards LOOKUP'!B:B,0),0),0)","v":0},{"$f":"IFERROR(INDEX('Current Standards'!P:P,MATCH('Sheet Counter'!AI3092,'Current Standards'!O:O,0),0),\"\")","v":""}]
[null,null,0,"","",{"$error":"#VALUE!"},"",{"$f":"IF(I3093=\"\",\"\",LARGE(H$1:H3092,1)+1)","v":{"$error":"#VALUE!"}},{"$error":"#VALUE!"},null,null,null,null,null,3092,0,{"$f":"IF(R3093=\"\",\"\",LARGE(Q$1:Q3092,1)+1)","v":{"$error":"#NUM!"}},{"$error":"#NUM!"},null,null,null,null,null,null,0,{"$error":"#VALUE!"},3999,"","",null,null,null,null,{"$error":"#VALUE!"},{"$error":"#VALUE!"},{"$f":"COUNTIF('Standards LOOKUP'!B:B,AI3093)","v":0},{"$f":"IFERROR(INDEX('Standards LOOKUP'!C:C,MATCH(AI3093,'Standards LOOKUP'!B:B,0),0),0)","v":0},{"$f":"IFERROR(INDEX('Current Standards'!P:P,MATCH('Sheet Counter'!AI3093,'Current Standards'!O:O,0),0),\"\")","v":""}]
[null,null,0,"","",{"$error":"#VALUE!"},"",{"$f":"IF(I3097=\"\",\"\",LARGE(H$1:H3096,1)+1)","v":{"$error":"#VALUE!"}},{"$error":"#VALUE!"},null,null,null,null,null,3096,0,{"$f":"IF(R3097=\"\",\"\",LARGE(Q$1:Q3096,1)+1)","v":{"$error":"#NUM!"}},{"$error":"#NUM!"},null,null,null,null,null,null,0,{"$error":"#VALUE!"},3999,"","",null,null,null,null,{"$error":"#VALUE!"},{"$error":"#VALUE!"},{"$f":"COUNTIF('Standards LOOKUP'!B:B,AI3097)","v":0},{"$f":"IFERROR(INDEX('Standards LOOKUP'!C:C,MATCH(AI3097,'Standards LOOKUP'!B:B,0),0),0)","v":0},{"$f":"IFERROR(INDEX('Current Standards'!P:P,MATCH('Sheet Counter'!AI3097,'Current Standards'!O:O,0),0),\"\")","v":""}]
[null,null,0,"","",{"$error":"#VALUE!"},"",{"$f":"IF(I3100=\"\",\"\",LARGE(H$1:H3099,1)+1)","v":{"$error":"#VALUE!"}},{"$error":"#VALUE!"},null,null,null,null,null,3099,0,{"$f":"IF(R3100=\"\",\"\",LARGE(Q$1:Q3099,1)+1)","v":{"$error":"#NUM!"}},{"$error":"#NUM!"},null,null,null,null,null,null,0,{"$error":"#VALUE!"},3999,"","",null,null,null,null,{"$error":"#VALUE!"},{"$error":"#VALUE!"},{"$f":"COUNTIF('Standards LOOKUP'!B:B,AI3100)","v":0},{"$f":"IFERROR(INDEX('Standards LOOKUP'!C:C,MATCH(AI3100,'Standards LOOKUP'!B:B,0),0),0)","v":0},{"$f":"IFERROR(INDEX('Current Standards'!P:P,MATCH('Sheet Counter'!AI3100,'Current Standards'!O:O,0),0),\"\")","v":""}]
[null,null,0,"","",{"$error":"#VALUE!"},"",{"$f":"IF(I3103=\"\",\"\",LARGE(H$1:H3102,1)+1)","v":{"$error":"#VALUE!"}},{"$error":"#VALUE!"},null,null,null,null,null,3102,0,{"$f":"IF(R3103=\"\",\"\",LARGE(Q$1:Q3102,1)+1)","v":{"$error":"#NUM!"}},{"$error":"#NUM!"},null,null,null,null,null,null,0,{"$error":"#VALUE!"},3999,"","",null,null,null,null,{"$error":"#VALUE!"},{"$error":"#VALUE!"},{"$f":"COUNTIF('Standards LOOKUP'!B:B,AI3103)","v":0},{"$f":"IFERROR(INDEX('Standards LOOKUP'!C:C,MATCH(AI3103,'Standards LOOKUP'!B:B,0),0),0)","v":0},{"$f":"IFERROR(INDEX('Current Standards'!P:P,MATCH('Sheet Counter'!AI3103,'Current Standards'!O:O,0),0),\"\")","v":""}]
[null,null,0,"","",{"$error":"#VALUE!"},"",{"$f":"IF(I3106=\"\",\"\",LARGE(H$1:H3105,1)+1)","v":{"$error":"#VALUE!"}},{"$error":"#VALUE!"},null,null,null,null,null,3105,0,{"$f":"IF(R3106=\"\",\"\",LARGE(Q$1:Q3105,1)+1)","v":{"$error":"#NUM!"}},{"$error":"#NUM!"},null,null,null,null,null,null,0,{"$error":"#VALUE!"},3999,"","",null,null,null,null,{"$error":"#VALUE!"},{"$error":"#VALUE!"},{"$f":"COUNTIF('Standards LOOKUP'!B:B,AI3106)","v":0},{"$f":"IFERROR(INDEX('Standards LOOKUP'!C:C,MATCH(AI3106,'Standards LOOKUP'!B:B,0),0),0)","v":0},{"$f":"IFERROR(INDEX('Current Standards'!P:P,MATCH('Sheet Counter'!AI3106,'Current Standards'!O:O,0),0),\"\")","v":""}]
[null,null,0,"","",{"$error":"#VALUE!"},"",{"$f":"IF(I3109=\"\",\"\",LARGE(H$1:H3108,1)+1)","v":{"$error":"#VALUE!"}},{"$error":"#VALUE!"},null,null,null,null,null,3108,0,{"$f":"IF(R3109=\"\",\"\",LARGE(Q$1:Q3108,1)+1)","v":{"$error":"#NUM!"}},{"$error":"#NUM!"},null,null,null,null,null,null,0,{"$error":"#VALUE!"},3999,"","",null,null,null,null,{"$error":"#VALUE!"},{"$error":"#VALUE!"},{"$f":"COUNTIF('Standards LOOKUP'!B:B,AI3109)","v":0},{"$f":"IFERROR(INDEX('Standards LOOKUP'!C:C,MATCH(AI3109,'Standards LOOKUP'!B:B,0),0),0)","v":0},{"$f":"IFERROR(INDEX('Current Standards'!P:P,MATCH('Sheet Counter'!AI3109,'Current Standards'!O:O,0),0),\"\")","v":""}]
[null,null,0,"","",{"$error":"#VALUE!"},"",{"$f":"IF(I3112=\"\",\"\",LARGE(H$1:H3111,1)+1)","v":{"$error":"#VALUE!"}},{"$error":"#VALUE!"},null,null,null,null,null,3111,0,{"$f":"IF(R3112=\"\",\"\",LARGE(Q$1:Q3111,1)+1)","v":{"$error":"#NUM!"}},{"$error":"#NUM!"},null,null,null,null,null,null,0,{"$error":"#VALUE!"},3999,"","",null,null,null,null,{"$error":"#VALUE!"},{"$error":"#VALUE!"},{"$f":"COUNTIF('Standards LOOKUP'!B:B,AI3112)","v":0},{"$f":"IFERROR(INDEX('Standards LOOKUP'!C:C,MATCH(AI3112,'Standards LOOKUP'!B:B,0),0),0)","v":0},{"$f":"IFERROR(INDEX('Current Standards'!P:P,MATCH('Sheet Counter'!AI3112,'Current Standards'!O:O,0),0),\"\")","v":""}]
[null,null,0,"","",{"$error":"#VALUE!"},"",{"$f":"IF(I3114=\"\",\"\",LARGE(H$1:H3113,1)+1)","v":{"$error":"#VALUE!"}},{"$error":"#VALUE!"},null,null,null,null,null,3113,0,{"$f":"IF(R3114=\"\",\"\",LARGE(Q$1:Q3113,1)+1)","v":{"$error":"#NUM!"}},{"$error":"#NUM!"},null,null,null,null,null,null,0,{"$error":"#VALUE!"},3999,"","",null,null,null,null,{"$error":"#VALUE!"},{"$error":"#VALUE!"},{"$f":"COUNTIF('Standards LOOKUP'!B:B,AI3114)","v":0},{"$f":"IFERROR(INDEX('Standards LOOKUP'!C:C,MATCH(AI3114,'Standards LOOKUP'!B:B,0),0),0)","v":0},{"$f":"IFERROR(INDEX('Current Standards'!P:P,MATCH('Sheet Counter'!AI3114,'Current Standards'!O:O,0),0),\"\")","v":""}]
[null,null,0,"","",{"$error":"#VALUE!"},"",{"$f":"IF(I3115=\"\",\"\",LARGE(H$1:H3114,1)+1)","v":{"$error":"#VALUE!"}},{"$error":"#VALUE!"},null,null,null,null,null,3114,0,{"$f":"IF(R3115=\"\",\"\",LARGE(Q$1:Q3114,1)+1)","v":{"$error":"#NUM!"}},{"$error":"#NUM!"},null,null,null,null,null,null,0,{"$error":"#VALUE!"},3999,"","",null,null,null,null,{"$error":"#VALUE!"},{"$error":"#VALUE!"},{"$f":"COUNTIF('Standards LOOKUP'!B:B,AI3115)","v":0},{"$f":"IFERROR(INDEX('Standards LOOKUP'!C:C,MATCH(AI3115,'Standards LOOKUP'!B:B,0),0),0)","v":0},{"$f":"IFERROR(INDEX('Current Standards'!P:P,MATCH('Sheet Counter'!AI3115,'Current Standards'!O:O,0),0),\"\")","v":""}]
[null,null,0,"","",{"$error":"#VALUE!"},"",{"$f":"IF(I3119=\"\",\"\",LARGE(H$1:H3118,1)+1)","v":{"$error":"#VALUE!"}},{"$error":"#VALUE!"},null,null,null,null,null,3118,0,{"$f":"IF(R3119=\"\",\"\",LARGE(Q$1:Q3118,1)+1)","v":{"$error":"#NUM!"}},{"$error":"#NUM!"},null,null,null,null,null,null,0,{"$error":"#VALUE!"},3999,"","",null,null,null,null,{"$error":"#VALUE!"},{"$error":"#VALUE!"},{"$f":"COUNTIF('Standards LOOKUP'!B:B,AI3119)","v":0},{"$f":"IFERROR(INDEX('Standards LOOKUP'!C:C,MATCH(AI3119,'Standards LOOKUP'!B:B,0),0),0)","v":0},{"$f":"IFERROR(INDEX('Current Standards'!P:P,MATCH('Sheet Counter'!AI3119,'Current Standards'!O:O,0),0),\"\")","v":""}]
[null,null,0,"","",{"$error":"#VALUE!"},"",{"$f":"IF(I3122=\"\",\"\",LARGE(H$1:H3121,1)+1)","v":{"$error":"#VALUE!"}},{"$error":"#VALUE!"},null,null,null,null,null,3121,0,{"$f":"IF(R3122=\"\",\"\",LARGE(Q$1:Q3121,1)+1)","v":{"$error":"#NUM!"}},{"$error":"#NUM!"},null,null,null,null,null,null,0,{"$error":"#VALUE!"},3999,"","",null,null,null,null,{"$error":"#VALUE!"},{"$error":"#VALUE!"},{"$f":"COUNTIF('Standards LOOKUP'!B:B,AI3122)","v":0},{"$f":"IFERROR(INDEX('Standards LOOKUP'!C:C,MATCH(AI3122,'Standards LOOKUP'!B:B,0),0),0)","v":0},{"$f":"IFERROR(INDEX('Current Standards'!P:P,MATCH('Sheet Counter'!AI3122,'Current Standards'!O:O,0),0),\"\")","v":""}]
[null,null,0,"","",{"$error":"#VALUE!"},"",{"$f":"IF(I3125=\"\",\"\",LARGE(H$1:H3124,1)+1)","v":{"$error":"#VALUE!"}},{"$error":"#VALUE!"},null,null,null,null,null,3124,0,{"$f":"IF(R3125=\"\",\"\",LARGE(Q$1:Q3124,1)+1)","v":{"$error":"#NUM!"}},{"$error":"#NUM!"},null,null,null,null,null,null,0,{"$error":"#VALUE!"},3999,"","",null,null,null,null,{"$error":"#VALUE!"},{"$error":"#VALUE!"},{"$f":"COUNTIF('Standards LOOKUP'!B:B,AI3125)","v":0},{"$f":"IFERROR(INDEX('Standards LOOKUP'!C:C,MATCH(AI3125,'Standards LOOKUP'!B:B,0),0),0)","v":0},{"$f":"IFERROR(INDEX('Current Standards'!P:P,MATCH('Sheet Counter'!AI3125,'Current Standards'!O:O,0),0),\"\")","v":""}]
[null,null,0,"","",{"$error":"#VALUE!"},"",{"$f":"IF(I3128=\"\",\"\",LARGE(H$1:H3127,1)+1)","v":{"$error":"#VALUE!"}},{"$error":"#VALUE!"},null,null,null,null,null,3127,0,{"$f":"IF(R3128=\"\",\"\",LARGE(Q$1:Q3127,1)+1)","v":{"$error":"#NUM!"}},{"$error":"#NUM!"},null,null,null,null,null,null,0,{"$error":"#VALUE!"},3999,"","",null,null,null,null,{"$error":"#VALUE!"},{"$error":"#VALUE!"},{"$f":"COUNTIF('Standards LOOKUP'!B:B,AI3128)","v":0},{"$f":"IFERROR(INDEX('Standards LOOKUP'!C:C,MATCH(AI3128,'Standards LOOKUP'!B:B,0),0),0)","v":0},{"$f":"IFERROR(INDEX('Current Standards'!P:P,MATCH('Sheet Counter'!AI3128,'Current Standards'!O:O,0),0),\"\")","v":""}]
[null,null,0,"","",{"$error":"#VALUE!"},"",{"$f":"IF(I3131=\"\",\"\",LARGE(H$1:H3130,1)+1)","v":{"$error":"#VALUE!"}},{"$error":"#VALUE!"},null,null,null,null,null,3130,0,{"$f":"IF(R3131=\"\",\"\",LARGE(Q$1:Q3130,1)+1)","v":{"$error":"#NUM!"}},{"$error":"#NUM!"},null,null,null,null,null,null,0,{"$error":"#VALUE!"},3999,"","",null,null,null,null,{"$error":"#VALUE!"},{"$error":"#VALUE!"},{"$f":"COUNTIF('Standards LOOKUP'!B:B,AI3131)","v":0},{"$f":"IFERROR(INDEX('Standards LOOKUP'!C:C,MATCH(AI3131,'Standards LOOKUP'!B:B,0),0),0)","v":0},{"$f":"IFERROR(INDEX('Current Standards'!P:P,MATCH('Sheet Counter'!AI3131,'Current Standards'!O:O,0),0),\"\")","v":""}]
[null,null,0,"","",{"$error":"#VALUE!"},"",{"$f":"IF(I3132=\"\",\"\",LARGE(H$1:H3131,1)+1)","v":{"$error":"#VALUE!"}},{"$error":"#VALUE!"},null,null,null,null,null,3131,0,{"$f":"IF(R3132=\"\",\"\",LARGE(Q$1:Q3131,1)+1)","v":{"$error":"#NUM!"}},{"$error":"#NUM!"},null,null,null,null,null,null,0,{"$error":"#VALUE!"},3999,"","",null,null,null,null,{"$error":"#VALUE!"},{"$error":"#VALUE!"},{"$f":"COUNTIF('Standards LOOKUP'!B:B,AI3132)","v":0},{"$f":"IFERROR(INDEX('Standards LOOKUP'!C:C,MATCH(AI3132,'Standards LOOKUP'!B:B,0),0),0)","v":0},{"$f":"IFERROR(INDEX('Current Standards'!P:P,MATCH('Sheet Counter'!AI3132,'Current Standards'!O:O,0),0),\"\")","v":""}]
[null,null,0,"","",{"$error":"#VALUE!"},"",{"$f":"IF(I3136=\"\",\"\",LARGE(H$1:H3135,1)+1)","v":{"$error":"#VALUE!"}},{"$error":"#VALUE!"},null,null,null,null,null,3135,0,{"$f":"IF(R3136=\"\",\"\",LARGE(Q$1:Q3135,1)+1)","v":{"$error":"#NUM!"}},{"$error":"#NUM!"},null,null,null,null,null,null,0,{"$error":"#VALUE!"},3999,"","",null,null,null,null,{"$error":"#VALUE!"},{"$error":"#VALUE!"},{"$f":"COUNTIF('Standards LOOKUP'!B:B,AI3136)","v":0},{"$f":"IFERROR(INDEX('Standards LOOKUP'!C:C,MATCH(AI3136,'Standards LOOKUP'!B:B,0),0),0)","v":0},{"$f":"IFERROR(INDEX('Current Standards'!P:P,MATCH('Sheet Counter'!AI3136,'Current Standards'!O:O,0),0),\"\")","v":""}]
[null,null,0,"","",{"$error":"#VALUE!"},"",{"$f":"IF(I3137=\"\",\"\",LARGE(H$1:H3136,1)+1)","v":{"$error":"#VALUE!"}},{"$error":"#VALUE!"},null,null,null,null,null,3136,0,{"$f":"IF(R3137=\"\",\"\",LARGE(Q$1:Q3136,1)+1)","v":{"$error":"#NUM!"}},{"$error":"#NUM!"},null,null,null,null,null,null,0,{"$error":"#VALUE!"},3999,"","",null,null,null,null,{"$error":"#VALUE!"},{"$error":"#VALUE!"},{"$f":"COUNTIF('Standards LOOKUP'!B:B,AI3137)","v":0},{"$f":"IFERROR(INDEX('Standards LOOKUP'!C:C,MATCH(AI3137,'Standards LOOKUP'!B:B,0),0),0)","v":0},{"$f":"IFERROR(INDEX('Current Standards'!P:P,MATCH('Sheet Counter'!AI3137,'Current Standards'!O:O,0),0),\"\")","v":""}]
[null,null,0,"","",{"$error":"#VALUE!"},"",{"$f":"IF(I3141=\"\",\"\",LARGE(H$1:H3140,1)+1)","v":{"$error":"#VALUE!"}},{"$error":"#VALUE!"},null,null,null,null,null,3140,0,{"$f":"IF(R3141=\"\",\"\",LARGE(Q$1:Q3140,1)+1)","v":{"$error":"#NUM!"}},{"$error":"#NUM!"},null,null,null,null,null,null,0,{"$error":"#VALUE!"},3999,"","",null,null,null,null,{"$error":"#VALUE!"},{"$error":"#VALUE!"},{"$f":"COUNTIF('Standards LOOKUP'!B:B,AI3141)","v":0},{"$f":"IFERROR(INDEX('Standards LOOKUP'!C:C,MATCH(AI3141,'Standards LOOKUP'!B:B,0),0),0)","v":0},{"$f":"IFERROR(INDEX('Current Standards'!P:P,MATCH('Sheet Counter'!AI3141,'Current Standards'!O:O,0),0),\"\")","v":""}]
[null,null,0,"","",{"$error":"#VALUE!"},"",{"$f":"IF(I3144=\"\",\"\",LARGE(H$1:H3143,1)+1)","v":{"$error":"#VALUE!"}},{"$error":"#VALUE!"},null,null,null,null,null,3143,0,{"$f":"IF(R3144=\"\",\"\",LARGE(Q$1:Q3143,1)+1)","v":{"$error":"#NUM!"}},{"$error":"#NUM!"},null,null,null,null,null,null,0,{"$error":"#VALUE!"},3999,"","",null,null,null,null,{"$error":"#VALUE!"},{"$error":"#VALUE!"},{"$f":"COUNTIF('Standards LOOKUP'!B:B,AI3144)","v":0},{"$f":"IFERROR(INDEX('Standards LOOKUP'!C:C,MATCH(AI3144,'Standards LOOKUP'!B:B,0),0),0)","v":0},{"$f":"IFERROR(INDEX('Current Standards'!P:P,MATCH('Sheet Counter'!AI3144,'Current Standards'!O:O,0),0),\"\")","v":""}]
[null,null,0,"","",{"$error":"#VALUE!"},"",{"$f":"IF(I3147=\"\",\"\",LARGE(H$1:H3146,1)+1)","v":{"$error":"#VALUE!"}},{"$error":"#VALUE!"},null,null,null,null,null,3146,0,{"$f":"IF(R3147=\"\",\"\",LARGE(Q$1:Q3146,1)+1)","v":{"$error":"#NUM!"}},{"$error":"#NUM!"},null,null,null,null,null,null,0,{"$error":"#VALUE!"},3999,"","",null,null,null,null,{"$error":"#VALUE!"},{"$error":"#VALUE!"},{"$f":"COUNTIF('Standards LOOKUP'!B:B,AI3147)","v":0},{"$f":"IFERROR(INDEX('Standards LOOKUP'!C:C,MATCH(AI3147,'Standards LOOKUP'!B:B,0),0),0)","v":0},{"$f":"IFERROR(INDEX('Current Standards'!P:P,MATCH('Sheet Counter'!AI3147,'Current Standards'!O:O,0),0),\"\")","v":""}]
[null,null,0,"","",{"$error":"#VALUE!"},"",{"$f":"IF(I3150=\"\",\"\",LARGE(H$1:H3149,1)+1)","v":{"$error":"#VALUE!"}},{"$error":"#VALUE!"},null,null,null,null,null,3149,0,{"$f":"IF(R3150=\"\",\"\",LARGE(Q$1:Q3149,1)+1)","v":{"$error":"#NUM!"}},{"$error":"#NUM!"},null,null,null,null,null,null,0,{"$error":"#VALUE!"},3999,"","",null,null,null,null,{"$error":"#VALUE!"},{"$error":"#VALUE!"},{"$f":"COUNTIF('Standards LOOKUP'!B:B,AI3150)","v":0},{"$f":"IFERROR(INDEX('Standards LOOKUP'!C:C,MATCH(AI3150,'Standards LOOKUP'!B:B,0),0),0)","v":0},{"$f":"IFERROR(INDEX('Current Standards'!P:P,MATCH('Sheet Counter'!AI3150,'Current Standards'!O:O,0),0),\"\")","v":""}]
[null,null,0,"","",{"$error":"#VALUE!"},"",{"$f":"IF(I3153=\"\",\"\",LARGE(H$1:H3152,1)+1)","v":{"$error":"#VALUE!"}},{"$error":"#VALUE!"},null,null,null,null,null,3152,0,{"$f":"IF(R3153=\"\",\"\",LARGE(Q$1:Q3152,1)+1)","v":{"$error":"#NUM!"}},{"$error":"#NUM!"},null,null,null,null,null,null,0,{"$error":"#VALUE!"},3999,"","",null,null,null,null,{"$error":"#VALUE!"},{"$error":"#VALUE!"},{"$f":"COUNTIF('Standards LOOKUP'!B:B,AI3153)","v":0},{"$f":"IFERROR(INDEX('Standards LOOKUP'!C:C,MATCH(AI3153,'Standards LOOKUP'!B:B,0),0),0)","v":0},{"$f":"IFERROR(INDEX('Current Standards'!P:P,MATCH('Sheet Counter'!AI3153,'Current Standards'!O:O,0),0),\"\")","v":""}]
[null,null,0,"","",{"$error":"#VALUE!"},"",{"$f":"IF(I3154=\"\",\"\",LARGE(H$1:H3153,1)+1)","v":{"$error":"#VALUE!"}},{"$error":"#VALUE!"},null,null,null,null,null,3153,0,{"$f":"IF(R3154=\"\",\"\",LARGE(Q$1:Q3153,1)+1)","v":{"$error":"#NUM!"}},{"$error":"#NUM!"},null,null,null,null,null,null,0,{"$error":"#VALUE!"},3999,"","",null,null,null,null,{"$error":"#VALUE!"},{"$error":"#VALUE!"},{"$f":"COUNTIF('Standards LOOKUP'!B:B,AI3154)","v":0},{"$f":"IFERROR(INDEX('Standards LOOKUP'!C:C,MATCH(AI3154,'Standards LOOKUP'!B:B,0),0),0)","v":0},{"$f":"IFERROR(INDEX('Current Standards'!P:P,MATCH('Sheet Counter'!AI3154,'Current Standards'!O:O,0),0),\"\")","v":""}]
[null,null,0,"","",{"$error":"#VALUE!"},"",{"$f":"IF(I3158=\"\",\"\",LARGE(H$1:H3157,1)+1)","v":{"$error":"#VALUE!"}},{"$error":"#VALUE!"},null,null,null,null,null,3157,0,{"$f":"IF(R3158=\"\",\"\",LARGE(Q$1:Q3157,1)+1)","v":{"$error":"#NUM!"}},{"$error":"#NUM!"},null,null,null,null,null,null,0,{"$error":"#VALUE!"},3999,"","",null,null,null,null,{"$error":"#VALUE!"},{"$error":"#VALUE!"},{"$f":"COUNTIF('Standards LOOKUP'!B:B,AI3158)","v":0},{"$f":"IFERROR(INDEX('Standards LOOKUP'!C:C,MATCH(AI3158,'Standards LOOKUP'!B:B,0),0),0)","v":0},{"$f":"IFERROR(INDEX('Current Standards'!P:P,MATCH('Sheet Counter'!AI3158,'Current Standards'!O:O,0),0),\"\")","v":""}]
[null,null,0,"","",{"$error":"#VALUE!"},"",{"$f":"IF(I3159=\"\",\"\",LARGE(H$1:H3158,1)+1)","v":{"$error":"#VALUE!"}},{"$error":"#VALUE!"},null,null,null,null,null,3158,0,{"$f":"IF(R3159=\"\",\"\",LARGE(Q$1:Q3158,1)+1)","v":{"$error":"#NUM!"}},{"$error":"#NUM!"},null,null,null,null,null,null,0,{"$error":"#VALUE!"},3999,"","",null,null,null,null,{"$error":"#VALUE!"},{"$error":"#VALUE!"},{"$f":"COUNTIF('Standards LOOKUP'!B:B,AI3159)","v":0},{"$f":"IFERROR(INDEX('Standards LOOKUP'!C:C,MATCH(AI3159,'Standards LOOKUP'!B:B,0),0),0)","v":0},{"$f":"IFERROR(INDEX('Current Standards'!P:P,MATCH('Sheet Counter'!AI3159,'Current Standards'!O:O,0),0),\"\")","v":""}]
[null,null,0,"","",{"$error":"#VALUE!"},"",{"$f":"IF(I3163=\"\",\"\",LARGE(H$1:H3162,1)+1)","v":{"$error":"#VALUE!"}},{"$error":"#VALUE!"},null,null,null,null,null,3162,0,{"$f":"IF(R3163=\"\",\"\",LARGE(Q$1:Q3162,1)+1)","v":{"$error":"#NUM!"}},{"$error":"#NUM!"},null,null,null,null,null,null,0,{"$error":"#VALUE!"},3999,"","",null,null,null,null,{"$error":"#VALUE!"},{"$error":"#VALUE!"},{"$f":"COUNTIF('Standards LOOKUP'!B:B,AI3163)","v":0},{"$f":"IFERROR(INDEX('Standards LOOKUP'!C:C,MATCH(AI3163,'Standards LOOKUP'!B:B,0),0),0)","v":0},{"$f":"IFERROR(INDEX('Current Standards'!P:P,MATCH('Sheet Counter'!AI3163,'Current Standards'!O:O,0),0),\"\")","v":""}]
[null,null,0,"","",{"$error":"#VALUE!"},"",{"$f":"IF(I3166=\"\",\"\",LARGE(H$1:H3165,1)+1)","v":{"$error":"#VALUE!"}},{"$error":"#VALUE!"},null,null,null,null,null,3165,0,{"$f":"IF(R3166=\"\",\"\",LARGE(Q$1:Q3165,1)+1)","v":{"$error":"#NUM!"}},{"$error":"#NUM!"},null,null,null,null,null,null,0,{"$error":"#VALUE!"},3999,"","",null,null,null,null,{"$error":"#VALUE!"},{"$error":"#VALUE!"},{"$f":"COUNTIF('Standards LOOKUP'!B:B,AI3166)","v":0},{"$f":"IFERROR(INDEX('Standards LOOKUP'!C:C,MATCH(AI3166,'Standards LOOKUP'!B:B,0),0),0)","v":0},{"$f":"IFERROR(INDEX('Current Standards'!P:P,MATCH('Sheet Counter'!AI3166,'Current Standards'!O:O,0),0),\"\")","v":""}]
[null,null,0,"","",{"$error":"#VALUE!"},"",{"$f":"IF(I3169=\"\",\"\",LARGE(H$1:H3168,1)+1)","v":{"$error":"#VALUE!"}},{"$error":"#VALUE!"},null,null,null,null,null,3168,0,{"$f":"IF(R3169=\"\",\"\",LARGE(Q$1:Q3168,1)+1)","v":{"$error":"#NUM!"}},{"$error":"#NUM!"},null,null,null,null,null,null,0,{"$error":"#VALUE!"},3999,"","",null,null,null,null,{"$error":"#VALUE!"},{"$error":"#VALUE!"},{"$f":"COUNTIF('Standards LOOKUP'!B:B,AI3169)","v":0},{"$f":"IFERROR(INDEX('Standards LOOKUP'!C:C,MATCH(AI3169,'Standards LOOKUP'!B:B,0),0),0)","v":0},{"$f":"IFERROR(INDEX('Current Standards'!P:P,MATCH('Sheet Counter'!AI3169,'Current Standards'!O:O,0),0),\"\")","v":""}]
[null,null,0,"","",{"$error":"#VALUE!"},"",{"$f":"IF(I3172=\"\",\"\",LARGE(H$1:H3171,1)+1)","v":{"$error":"#VALUE!"}},{"$error":"#VALUE!"},null,null,null,null,null,3171,0,{"$f":"IF(R3172=\"\",\"\",LARGE(Q$1:Q3171,1)+1)","v":{"$error":"#NUM!"}},{"$error":"#NUM!"},null,null,null,null,null,null,0,{"$error":"#VALUE!"},3999,"","",null,null,null,null,{"$error":"#VALUE!"},{"$error":"#VALUE!"},{"$f":"COUNTIF('Standards LOOKUP'!B:B,AI3172)","v":0},{"$f":"IFERROR(INDEX('Standards LOOKUP'!C:C,MATCH(AI3172,'Standards LOOKUP'!B:B,0),0),0)","v":0},{"$f":"IFERROR(INDEX('Current Standards'!P:P,MATCH('Sheet Counter'!AI3172,'Current Standards'!O:O,0),0),\"\")","v":""}]
[null,null,0,"","",{"$error":"#VALUE!"},"",{"$f":"IF(I3175=\"\",\"\",LARGE(H$1:H3174,1)+1)","v":{"$error":"#VALUE!"}},{"$error":"#VALUE!"},null,null,null,null,null,3174,0,{"$f":"IF(R3175=\"\",\"\",LARGE(Q$1:Q3174,1)+1)","v":{"$error":"#NUM!"}},{"$error":"#NUM!"},null,null,null,null,null,null,0,{"$error":"#VALUE!"},3999,"","",null,null,null,null,{"$error":"#VALUE!"},{"$error":"#VALUE!"},{"$f":"COUNTIF('Standards LOOKUP'!B:B,AI3175)","v":0},{"$f":"IFERROR(INDEX('Standards LOOKUP'!C:C,MATCH(AI3175,'Standards LOOKUP'!B:B,0),0),0)","v":0},{"$f":"IFERROR(INDEX('Current Standards'!P:P,MATCH('Sheet Counter'!AI3175,'Current Standards'!O:O,0),0),\"\")","v":""}]
[null,null,0,"","",{"$error":"#VALUE!"},"",{"$f":"IF(I3176=\"\",\"\",LARGE(H$1:H3175,1)+1)","v":{"$error":"#VALUE!"}},{"$error":"#VALUE!"},null,null,null,null,null,3175,0,{"$f":"IF(R3176=\"\",\"\",LARGE(Q$1:Q3175,1)+1)","v":{"$error":"#NUM!"}},{"$error":"#NUM!"},null,null,null,null,null,null,0,{"$error":"#VALUE!"},3999,"","",null,null,null,null,{"$error":"#VALUE!"},{"$error":"#VALUE!"},{"$f":"COUNTIF('Standards LOOKUP'!B:B,AI3176)","v":0},{"$f":"IFERROR(INDEX('Standards LOOKUP'!C:C,MATCH(AI3176,'Standards LOOKUP'!B:B,0),0),0)","v":0},{"$f":"IFERROR(INDEX('Current Standards'!P:P,MATCH('Sheet Counter'!AI3176,'Current Standards'!O:O,0),0),\"\")","v":""}]
[null,null,0,"","",{"$error":"#VALUE!"},"",{"$f":"IF(I3180=\"\",\"\",LARGE(H$1:H3179,1)+1)","v":{"$error":"#VALUE!"}},{"$error":"#VALUE!"},null,null,null,null,null,3179,0,{"$f":"IF(R3180=\"\",\"\",LARGE(Q$1:Q3179,1)+1)","v":{"$error":"#NUM!"}},{"$error":"#NUM!"},null,null,null,null,null,null,0,{"$error":"#VALUE!"},3999,"","",null,null,null,null,{"$error":"#VALUE!"},{"$error":"#VALUE!"},{"$f":"COUNTIF('Standards LOOKUP'!B:B,AI3180)","v":0},{"$f":"IFERROR(INDEX('Standards LOOKUP'!C:C,MATCH(AI3180,'Standards LOOKUP'!B:B,0),0),0)","v":0},{"$f":"IFERROR(INDEX('Current Standards'!P:P,MATCH('Sheet Counter'!AI3180,'Current Standards'!O:O,0),0),\"\")","v":""}]
[null,null,0,"","",{"$error":"#VALUE!"},"",{"$f":"IF(I3181=\"\",\"\",LARGE(H$1:H3180,1)+1)","v":{"$error":"#VALUE!"}},{"$error":"#VALUE!"},null,null,null,null,null,3180,0,{"$f":"IF(R3181=\"\",\"\",LARGE(Q$1:Q3180,1)+1)","v":{"$error":"#NUM!"}},{"$error":"#NUM!"},null,null,null,null,null,null,0,{"$error":"#VALUE!"},3999,"","",null,null,null,null,{"$error":"#VALUE!"},{"$error":"#VALUE!"},{"$f":"COUNTIF('Standards LOOKUP'!B:B,AI3181)","v":0},{"$f":"IFERROR(INDEX('Standards LOOKUP'!C:C,MATCH(AI3181,'Standards LOOKUP'!B:B,0),0),0)","v":0},{"$f":"IFERROR(INDEX('Current Standards'!P:P,MATCH('Sheet Counter'!AI3181,'Current Standards'!O:O,0),0),\"\")","v":""}]
[null,null,0,"","",{"$error":"#VALUE!"},"",{"$f":"IF(I3185=\"\",\"\",LARGE(H$1:H3184,1)+1)","v":{"$error":"#VALUE!"}},{"$error":"#VALUE!"},null,null,null,null,null,3184,0,{"$f":"IF(R3185=\"\",\"\",LARGE(Q$1:Q3184,1)+1)","v":{"$error":"#NUM!"}},{"$error":"#NUM!"},null,null,null,null,null,null,0,{"$error":"#VALUE!"},3999,"","",null,null,null,null,{"$error":"#VALUE!"},{"$error":"#VALUE!"},{"$f":"COUNTIF('Standards LOOKUP'!B:B,AI3185)","v":0},{"$f":"IFERROR(INDEX('Standards LOOKUP'!C:C,MATCH(AI3185,'Standards LOOKUP'!B:B,0),0),0)","v":0},{"$f":"IFERROR(INDEX('Current Standards'!P:P,MATCH('Sheet Counter'!AI3185,'Current Standards'!O:O,0),0),\"\")","v":""}]
[null,null,0,"","",{"$error":"#VALUE!"},"",{"$f":"IF(I3188=\"\",\"\",LARGE(H$1:H3187,1)+1)","v":{"$error":"#VALUE!"}},{"$error":"#VALUE!"},null,null,null,null,null,3187,0,{"$f":"IF(R3188=\"\",\"\",LARGE(Q$1:Q3187,1)+1)","v":{"$error":"#NUM!"}},{"$error":"#NUM!"},null,null,null,null,null,null,0,{"$error":"#VALUE!"},3999,"","",null,null,null,null,{"$error":"#VALUE!"},{"$error":"#VALUE!"},{"$f":"COUNTIF('Standards LOOKUP'!B:B,AI3188)","v":0},{"$f":"IFERROR(INDEX('Standards LOOKUP'!C:C,MATCH(AI3188,'Standards LOOKUP'!B:B,0),0),0)","v":0},{"$f":"IFERROR(INDEX('Current Standards'!P:P,MATCH('Sheet Counter'!AI3188,'Current Standards'!O:O,0),0),\"\")","v":""}]
[null,null,0,"","",{"$error":"#VALUE!"},"",{"$f":"IF(I3191=\"\",\"\",LARGE(H$1:H3190,1)+1)","v":{"$error":"#VALUE!"}},{"$error":"#VALUE!"},null,null,null,null,null,3190,0,{"$f":"IF(R3191=\"\",\"\",LARGE(Q$1:Q3190,1)+1)","v":{"$error":"#NUM!"}},{"$error":"#NUM!"},null,null,null,null,null,null,0,{"$error":"#VALUE!"},3999,"","",null,null,null,null,{"$error":"#VALUE!"},{"$error":"#VALUE!"},{"$f":"COUNTIF('Standards LOOKUP'!B:B,AI3191)","v":0},{"$f":"IFERROR(INDEX('Standards LOOKUP'!C:C,MATCH(AI3191,'Standards LOOKUP'!B:B,0),0),0)","v":0},{"$f":"IFERROR(INDEX('Current Standards'!P:P,MATCH('Sheet Counter'!AI3191,'Current Standards'!O:O,0),0),\"\")","v":""}]
[null,null,{"$f":"IF(ISERROR(FIND(\"\\\",A3194)),A3194,RIGHT(A3194,LEN(A3194)-FIND(\"~\",SUBSTITUTE(A3194,\"\\\",\"~\",LEN(A3194)-LEN(SUBSTITUTE(A3194,\"\\\",\"\"))))))","v":0},"","",{"$f":"LEFT(C3194,FIND(\"-\",SUBSTITUTE(SUBSTITUTE(C3194,\"_\",\"-\"),\" \",\"-\"))-1)","v":{"$error":"#VALUE!"}},{"$f":"IF(ISNUMBER(F3194*1),F3194*1,\"\")","v":""},{"$f":"IF(I3194=\"\",\"\",LARGE(H$1:H3193,1)+1)","v":{"$error":"#VALUE!"}},{"$f":"IF(G3194=\"\",F3194,\"\")","v":{"$error":"#VALUE!"}},null,null,null,null,null,3193,{"$f":"COUNTIF(G:G,O3194)","v":0},{"$f":"IF(R3194=\"\",\"\",LARGE(Q$1:Q3193,1)+1)","v":{"$error":"#NUM!"}},{"$error":"#NUM!"},null,null,null,null,null,null,{"$f":"IF(ISERROR(FIND(\"\\\",X3194)),X3194,RIGHT(X3194,LEN(X3194)-FIND(\"~\",SUBSTITUTE(X3194,\"\\\",\"~\",LEN(X3194)-LEN(SUBSTITUTE(X3194,\"\\\",\"\"))))))","v":0},{"$f":"LEFT(Y3194,FIND(\"-\",SUBSTITUTE(SUBSTITUTE(Y3194,\"_\",\"-\"),\" \",\"-\"))-1)","v":{"$error":"#VALUE!"}},{"$f":"COUNTIF(F:F,Z3194)","v":3999},{"$f":"IF(OR(AA3194<1,ISERROR(Z3194)),\"\",INDEX(C:C,MATCH(Z3194,F:F)))","v":""},"",null,null,null,null,{"$error":"#VALUE!"},{"$error":"#VALUE!"},{"$f":"COUNTIF('Standards LOOKUP'!B:B,AI3194)","v":0},{"$f":"IFERROR(INDEX('Standards LOOKUP'!C:C,MATCH(AI3194,'Standards LOOKUP'!B:B,0),0),0)","v":0},{"$f":"IFERROR(INDEX('Current Standards'!P:P,MATCH('Sheet Counter'!AI3194,'Current Standards'!O:O,0),0),\"\")","v":""}]
[null,null,0,"","",{"$error":"#VALUE!"},"",{"$f":"IF(I3197=\"\",\"\",LARGE(H$1:H3196,1)+1)","v":{"$error":"#VALUE!"}},{"$error":"#VALUE!"},null,null,null,null,null,3196,0,{"$f":"IF(R3197=\"\",\"\",LARGE(Q$1:Q3196,1)+1)","v":{"$error":"#NUM!"}},{"$error":"#NUM!"},null,null,null,null,null,null,0,{"$error":"#VALUE!"},3999,"","",null,null,null,null,{"$error":"#VALUE!"},{"$error":"#VALUE!"},{"$f":"COUNTIF('Standards LOOKUP'!B:B,AI3197)","v":0},{"$f":"IFERROR(INDEX('Standards LOOKUP'!C:C,MATCH(AI3197,'Standards LOOKUP'!B:B,0),0),0)","v":0},{"$f":"IFERROR(INDEX('Current Standards'!P:P,MATCH('Sheet Counter'!AI3197,'Current Standards'!O:O,0),0),\"\")","v":""}]
[null,null,0,"","",{"$error":"#VALUE!"},"",{"$f":"IF(I3198=\"\",\"\",LARGE(H$1:H3197,1)+1)","v":{"$error":"#VALUE!"}},{"$error":"#VALUE!"},null,null,null,null,null,3197,0,{"$f":"IF(R3198=\"\",\"\",LARGE(Q$1:Q3197,1)+1)","v":{"$error":"#NUM!"}},{"$error":"#NUM!"},null,null,null,null,null,null,0,{"$error":"#VALUE!"},3999,"","",null,null,null,null,{"$error":"#VALUE!"},{"$error":"#VALUE!"},{"$f":"COUNTIF('Standards LOOKUP'!B:B,AI3198)","v":0},{"$f":"IFERROR(INDEX('Standards LOOKUP'!C:C,MATCH(AI3198,'Standards LOOKUP'!B:B,0),0),0)","v":0},{"$f":"IFERROR(INDEX('Current Standards'!P:P,MATCH('Sheet Counter'!AI3198,'Current Standards'!O:O,0),0),\"\")","v":""}]
[null,null,0,"","",{"$error":"#VALUE!"},"",{"$f":"IF(I3202=\"\",\"\",LARGE(H$1:H3201,1)+1)","v":{"$error":"#VALUE!"}},{"$error":"#VALUE!"},null,null,null,null,null,3201,0,{"$f":"IF(R3202=\"\",\"\",LARGE(Q$1:Q3201,1)+1)","v":{"$error":"#NUM!"}},{"$error":"#NUM!"},null,null,null,null,null,null,0,{"$error":"#VALUE!"},3999,"","",null,null,null,null,{"$error":"#VALUE!"},{"$error":"#VALUE!"},{"$f":"COUNTIF('Standards LOOKUP'!B:B,AI3202)","v":0},{"$f":"IFERROR(INDEX('Standards LOOKUP'!C:C,MATCH(AI3202,'Standards LOOKUP'!B:B,0),0),0)","v":0},{"$f":"IFERROR(INDEX('Current Standards'!P:P,MATCH('Sheet Counter'!AI3202,'Current Standards'!O:O,0),0),\"\")","v":""}]
[null,null,0,{"$f":"IF(AL3203=\"\",\"\",AL3203)","v":""},"",{"$error":"#VALUE!"},"",{"$f":"IF(I3203=\"\",\"\",LARGE(H$1:H3202,1)+1)","v":{"$error":"#VALUE!"}},{"$error":"#VALUE!"},null,null,null,null,null,3202,0,{"$f":"IF(R3203=\"\",\"\",LARGE(Q$1:Q3202,1)+1)","v":{"$error":"#NUM!"}},{"$error":"#NUM!"},null,null,null,null,null,null,0,{"$error":"#VALUE!"},3999,"",{"$f":"IF(AA3203=0,\"New Sheet\",IF(EXACT(UPPER(Y3203),UPPER(AB3203)),\"Match\",\"\"))","v":""},null,null,null,null,{"$f":"IF(C3203=\"\",\"\",LEFT(RIGHT(C3203,LEN(C3203)-SEARCH(\" \",C3203,1)),LEN(RIGHT(C3203,LEN(C3203)-SEARCH(\" \",C3203,1)))-4))","v":{"$error":"#VALUE!"}},{"$f":"TRIM(SUBSTITUTE(SUBSTITUTE(SUBSTITUTE(SUBSTITUTE(SUBSTITUTE(SUBSTITUTE(AH3203,\"(\",\"\"),\")\",\"\"),\"-\",\"\"),\"&\",\"\"),\" \",\"\",1),\" \",\"\",1))","v":{"$error":"#VALUE!"}},{"$f":"COUNTIF('Standards LOOKUP'!B:B,AI3203)","v":0},{"$f":"IFERROR(INDEX('Standards LOOKUP'!C:C,MATCH(AI3203,'Standards LOOKUP'!B:B,0),0),0)","v":0},{"$f":"IFERROR(INDEX('Current Standards'!P:P,MATCH('Sheet Counter'!AI3203,'Current Standards'!O:O,0),0),\"\")","v":""}]
[null,null,0,"","",{"$error":"#VALUE!"},"",{"$f":"IF(I3207=\"\",\"\",LARGE(H$1:H3206,1)+1)","v":{"$error":"#VALUE!"}},{"$error":"#VALUE!"},null,null,null,null,null,3206,0,{"$f":"IF(R3207=\"\",\"\",LARGE(Q$1:Q3206,1)+1)","v":{"$error":"#NUM!"}},{"$error":"#NUM!"},null,null,null,null,null,null,0,{"$error":"#VALUE!"},3999,"","",null,null,null,null,{"$error":"#VALUE!"},{"$error":"#VALUE!"},{"$f":"COUNTIF('Standards LOOKUP'!B:B,AI3207)","v":0},{"$f":"IFERROR(INDEX('Standards LOOKUP'!C:C,MATCH(AI3207,'Standards LOOKUP'!B:B,0),0),0)","v":0},{"$f":"IFERROR(INDEX('Current Standards'!P:P,MATCH('Sheet Counter'!AI3207,'Current Standards'!O:O,0),0),\"\")","v":""}]
[null,null,0,"","",{"$error":"#VALUE!"},"",{"$f":"IF(I3210=\"\",\"\",LARGE(H$1:H3209,1)+1)","v":{"$error":"#VALUE!"}},{"$error":"#VALUE!"},null,null,null,null,null,3209,0,{"$f":"IF(R3210=\"\",\"\",LARGE(Q$1:Q3209,1)+1)","v":{"$error":"#NUM!"}},{"$error":"#NUM!"},null,null,null,null,null,null,0,{"$error":"#VALUE!"},3999,"","",null,null,null,null,{"$error":"#VALUE!"},{"$error":"#VALUE!"},{"$f":"COUNTIF('Standards LOOKUP'!B:B,AI3210)","v":0},{"$f":"IFERROR(INDEX('Standards LOOKUP'!C:C,MATCH(AI3210,'Standards LOOKUP'!B:B,0),0),0)","v":0},{"$f":"IFERROR(INDEX('Current Standards'!P:P,MATCH('Sheet Counter'!AI3210,'Current Standards'!O:O,0),0),\"\")","v":""}]
[null,null,0,"","",{"$error":"#VALUE!"},"",{"$f":"IF(I3213=\"\",\"\",LARGE(H$1:H3212,1)+1)","v":{"$error":"#VALUE!"}},{"$error":"#VALUE!"},null,null,null,null,null,3212,0,{"$f":"IF(R3213=\"\",\"\",LARGE(Q$1:Q3212,1)+1)","v":{"$error":"#NUM!"}},{"$error":"#NUM!"},null,null,null,null,null,null,0,{"$error":"#VALUE!"},3999,"","",null,null,null,null,{"$error":"#VALUE!"},{"$error":"#VALUE!"},{"$f":"COUNTIF('Standards LOOKUP'!B:B,AI3213)","v":0},{"$f":"IFERROR(INDEX('Standards LOOKUP'!C:C,MATCH(AI3213,'Standards LOOKUP'!B:B,0),0),0)","v":0},{"$f":"IFERROR(INDEX('Current Standards'!P:P,MATCH('Sheet Counter'!AI3213,'Current Standards'!O:O,0),0),\"\")","v":""}]
[null,null,0,"","",{"$error":"#VALUE!"},"",{"$f":"IF(I3216=\"\",\"\",LARGE(H$1:H3215,1)+1)","v":{"$error":"#VALUE!"}},{"$error":"#VALUE!"},null,null,null,null,null,3215,0,{"$f":"IF(R3216=\"\",\"\",LARGE(Q$1:Q3215,1)+1)","v":{"$error":"#NUM!"}},{"$error":"#NUM!"},null,null,null,null,null,null,0,{"$error":"#VALUE!"},3999,"","",null,null,null,null,{"$error":"#VALUE!"},{"$error":"#VALUE!"},{"$f":"COUNTIF('Standards LOOKUP'!B:B,AI3216)","v":0},{"$f":"IFERROR(INDEX('Standards LOOKUP'!C:C,MATCH(AI3216,'Standards LOOKUP'!B:B,0),0),0)","v":0},{"$f":"IFERROR(INDEX('Current Standards'!P:P,MATCH('Sheet Counter'!AI3216,'Current Standards'!O:O,0),0),\"\")","v":""}]
[null,null,0,"","",{"$error":"#VALUE!"},"",{"$f":"IF(I3219=\"\",\"\",LARGE(H$1:H3218,1)+1)","v":{"$error":"#VALUE!"}},{"$error":"#VALUE!"},null,null,null,null,null,3218,0,{"$f":"IF(R3219=\"\",\"\",LARGE(Q$1:Q3218,1)+1)","v":{"$error":"#NUM!"}},{"$error":"#NUM!"},null,null,null,null,null,null,0,{"$error":"#VALUE!"},3999,"","",null,null,null,null,{"$error":"#VALUE!"},{"$error":"#VALUE!"},{"$f":"COUNTIF('Standards LOOKUP'!B:B,AI3219)","v":0},{"$f":"IFERROR(INDEX('Standards LOOKUP'!C:C,MATCH(AI3219,'Standards LOOKUP'!B:B,0),0),0)","v":0},{"$f":"IFERROR(INDEX('Current Standards'!P:P,MATCH('Sheet Counter'!AI3219,'Current Standards'!O:O,0),0),\"\")","v":""}]
[null,null,0,"","",{"$error":"#VALUE!"},"",{"$f":"IF(I3220=\"\",\"\",LARGE(H$1:H3219,1)+1)","v":{"$error":"#VALUE!"}},{"$error":"#VALUE!"},null,null,null,null,null,3219,0,{"$f":"IF(R3220=\"\",\"\",LARGE(Q$1:Q3219,1)+1)","v":{"$error":"#NUM!"}},{"$error":"#NUM!"},null,null,null,null,null,null,0,{"$error":"#VALUE!"},3999,"","",null,null,null,null,{"$error":"#VALUE!"},{"$error":"#VALUE!"},{"$f":"COUNTIF('Standards LOOKUP'!B:B,AI3220)","v":0},{"$f":"IFERROR(INDEX('Standards LOOKUP'!C:C,MATCH(AI3220,'Standards LOOKUP'!B:B,0),0),0)","v":0},{"$f":"IFERROR(INDEX('Current Standards'!P:P,MATCH('Sheet Counter'!AI3220,'Current Standards'!O:O,0),0),\"\")","v":""}]
[null,null,0,"","",{"$error":"#VALUE!"},"",{"$f":"IF(I3224=\"\",\"\",LARGE(H$1:H3223,1)+1)","v":{"$error":"#VALUE!"}},{"$error":"#VALUE!"},null,null,null,null,null,3223,0,{"$f":"IF(R3224=\"\",\"\",LARGE(Q$1:Q3223,1)+1)","v":{"$error":"#NUM!"}},{"$error":"#NUM!"},null,null,null,null,null,null,0,{"$error":"#VALUE!"},3999,"","",null,null,null,null,{"$error":"#VALUE!"},{"$error":"#VALUE!"},{"$f":"COUNTIF('Standards LOOKUP'!B:B,AI3224)","v":0},{"$f":"IFERROR(INDEX('Standards LOOKUP'!C:C,MATCH(AI3224,'Standards LOOKUP'!B:B,0),0),0)","v":0},{"$f":"IFERROR(INDEX('Current Standards'!P:P,MATCH('Sheet Counter'!AI3224,'Current Standards'!O:O,0),0),\"\")","v":""}]
[null,null,0,"","",{"$error":"#VALUE!"},"",{"$f":"IF(I3226=\"\",\"\",LARGE(H$1:H3225,1)+1)","v":{"$error":"#VALUE!"}},{"$error":"#VALUE!"},null,null,null,null,null,3225,0,{"$f":"IF(R3226=\"\",\"\",LARGE(Q$1:Q3225,1)+1)","v":{"$error":"#NUM!"}},{"$error":"#NUM!"},null,null,null,null,null,null,0,{"$error":"#VALUE!"},3999,"","",null,null,null,null,{"$error":"#VALUE!"},{"$error":"#VALUE!"},{"$f":"COUNTIF('Standards LOOKUP'!B:B,AI3226)","v":0},{"$f":"IFERROR(INDEX('Standards LOOKUP'!C:C,MATCH(AI3226,'Standards LOOKUP'!B:B,0),0),0)","v":0},{"$f":"IFERROR(INDEX('Current Standards'!P:P,MATCH('Sheet Counter'!AI3226,'Current Standards'!O:O,0),0),\"\")","v":""}]
[null,null,0,"","",{"$error":"#VALUE!"},"",{"$f":"IF(I3229=\"\",\"\",LARGE(H$1:H3228,1)+1)","v":{"$error":"#VALUE!"}},{"$error":"#VALUE!"},null,null,null,null,null,3228,0,{"$f":"IF(R3229=\"\",\"\",LARGE(Q$1:Q3228,1)+1)","v":{"$error":"#NUM!"}},{"$error":"#NUM!"},null,null,null,null,null,null,0,{"$error":"#VALUE!"},3999,"","",null,null,null,null,{"$error":"#VALUE!"},{"$error":"#VALUE!"},{"$f":"COUNTIF('Standards LOOKUP'!B:B,AI3229)","v":0},{"$f":"IFERROR(INDEX('Standards LOOKUP'!C:C,MATCH(AI3229,'Standards LOOKUP'!B:B,0),0),0)","v":0},{"$f":"IFERROR(INDEX('Current Standards'!P:P,MATCH('Sheet Counter'!AI3229,'Current Standards'!O:O,0),0),\"\")","v":""}]
[null,null,0,"","",{"$error":"#VALUE!"},"",{"$f":"IF(I3232=\"\",\"\",LARGE(H$1:H3231,1)+1)","v":{"$error":"#VALUE!"}},{"$error":"#VALUE!"},null,null,null,null,null,3231,0,{"$f":"IF(R3232=\"\",\"\",LARGE(Q$1:Q3231,1)+1)","v":{"$error":"#NUM!"}},{"$error":"#NUM!"},null,null,null,null,null,null,0,{"$error":"#VALUE!"},3999,"","",null,null,null,null,{"$error":"#VALUE!"},{"$error":"#VALUE!"},{"$f":"COUNTIF('Standards LOOKUP'!B:B,AI3232)","v":0},{"$f":"IFERROR(INDEX('Standards LOOKUP'!C:C,MATCH(AI3232,'Standards LOOKUP'!B:B,0),0),0)","v":0},{"$f":"IFERROR(INDEX('Current Standards'!P:P,MATCH('Sheet Counter'!AI3232,'Current Standards'!O:O,0),0),\"\")","v":""}]
[null,null,0,"","",{"$error":"#VALUE!"},"",{"$f":"IF(I3235=\"\",\"\",LARGE(H$1:H3234,1)+1)","v":{"$error":"#VALUE!"}},{"$error":"#VALUE!"},null,null,null,null,null,3234,0,{"$f":"IF(R3235=\"\",\"\",LARGE(Q$1:Q3234,1)+1)","v":{"$error":"#NUM!"}},{"$error":"#NUM!"},null,null,null,null,null,null,0,{"$error":"#VALUE!"},3999,"","",null,null,null,null,{"$error":"#VALUE!"},{"$error":"#VALUE!"},{"$f":"COUNTIF('Standards LOOKUP'!B:B,AI3235)","v":0},{"$f":"IFERROR(INDEX('Standards LOOKUP'!C:C,MATCH(AI3235,'Standards LOOKUP'!B:B,0),0),0)","v":0},{"$f":"IFERROR(INDEX('Current Standards'!P:P,MATCH('Sheet Counter'!AI3235,'Current Standards'!O:O,0),0),\"\")","v":""}]
[null,null,0,"","",{"$error":"#VALUE!"},"",{"$f":"IF(I3238=\"\",\"\",LARGE(H$1:H3237,1)+1)","v":{"$error":"#VALUE!"}},{"$error":"#VALUE!"},null,null,null,null,null,3237,0,{"$f":"IF(R3238=\"\",\"\",LARGE(Q$1:Q3237,1)+1)","v":{"$error":"#NUM!"}},{"$error":"#NUM!"},null,null,null,null,null,null,0,{"$error":"#VALUE!"},3999,"","",null,null,null,null,{"$error":"#VALUE!"},{"$error":"#VALUE!"},{"$f":"COUNTIF('Standards LOOKUP'!B:B,AI3238)","v":0},{"$f":"IFERROR(INDEX('Standards LOOKUP'!C:C,MATCH(AI3238,'Standards LOOKUP'!B:B,0),0),0)","v":0},{"$f":"IFERROR(INDEX('Current Standards'!P:P,MATCH('Sheet Counter'!AI3238,'Current Standards'!O:O,0),0),\"\")","v":""}]
[null,null,0,"","",{"$error":"#VALUE!"},"",{"$f":"IF(I3241=\"\",\"\",LARGE(H$1:H3240,1)+1)","v":{"$error":"#VALUE!"}},{"$error":"#VALUE!"},null,null,null,null,null,3240,0,{"$f":"IF(R3241=\"\",\"\",LARGE(Q$1:Q3240,1)+1)","v":{"$error":"#NUM!"}},{"$error":"#NUM!"},null,null,null,null,null,null,0,{"$error":"#VALUE!"},3999,"","",null,null,null,null,{"$error":"#VALUE!"},{"$error":"#VALUE!"},{"$f":"COUNTIF('Standards LOOKUP'!B:B,AI3241)","v":0},{"$f":"IFERROR(INDEX('Standards LOOKUP'!C:C,MATCH(AI3241,'Standards LOOKUP'!B:B,0),0),0)","v":0},{"$f":"IFERROR(INDEX('Current Standards'!P:P,MATCH('Sheet Counter'!AI3241,'Current Standards'!O:O,0),0),\"\")","v":""}]
[null,null,0,"","",{"$error":"#VALUE!"},"",{"$f":"IF(I3242=\"\",\"\",LARGE(H$1:H3241,1)+1)","v":{"$error":"#VALUE!"}},{"$error":"#VALUE!"},null,null,null,null,null,3241,0,{"$f":"IF(R3242=\"\",\"\",LARGE(Q$1:Q3241,1)+1)","v":{"$error":"#NUM!"}},{"$error":"#NUM!"},null,null,null,null,null,null,0,{"$error":"#VALUE!"},3999,"","",null,null,null,null,{"$error":"#VALUE!"},{"$error":"#VALUE!"},{"$f":"COUNTIF('Standards LOOKUP'!B:B,AI3242)","v":0},{"$f":"IFERROR(INDEX('Standards LOOKUP'!C:C,MATCH(AI3242,'Standards LOOKUP'!B:B,0),0),0)","v":0},{"$f":"IFERROR(INDEX('Current Standards'!P:P,MATCH('Sheet Counter'!AI3242,'Current Standards'!O:O,0),0),\"\")","v":""}]
[null,null,0,"","",{"$error":"#VALUE!"},"",{"$f":"IF(I3246=\"\",\"\",LARGE(H$1:H3245,1)+1)","v":{"$error":"#VALUE!"}},{"$error":"#VALUE!"},null,null,null,null,null,3245,0,{"$f":"IF(R3246=\"\",\"\",LARGE(Q$1:Q3245,1)+1)","v":{"$error":"#NUM!"}},{"$error":"#NUM!"},null,null,null,null,null,null,0,{"$error":"#VALUE!"},3999,"","",null,null,null,null,{"$error":"#VALUE!"},{"$error":"#VALUE!"},{"$f":"COUNTIF('Standards LOOKUP'!B:B,AI3246)","v":0},{"$f":"IFERROR(INDEX('Standards LOOKUP'!C:C,MATCH(AI3246,'Standards LOOKUP'!B:B,0),0),0)","v":0},{"$f":"IFERROR(INDEX('Current Standards'!P:P,MATCH('Sheet Counter'!AI3246,'Current Standards'!O:O,0),0),\"\")","v":""}]
[null,null,0,"","",{"$error":"#VALUE!"},"",{"$f":"IF(I3248=\"\",\"\",LARGE(H$1:H3247,1)+1)","v":{"$error":"#VALUE!"}},{"$error":"#VALUE!"},null,null,null,null,null,3247,0,{"$f":"IF(R3248=\"\",\"\",LARGE(Q$1:Q3247,1)+1)","v":{"$error":"#NUM!"}},{"$error":"#NUM!"},null,null,null,null,null,null,0,{"$error":"#VALUE!"},3999,"","",null,null,null,null,{"$error":"#VALUE!"},{"$error":"#VALUE!"},{"$f":"COUNTIF('Standards LOOKUP'!B:B,AI3248)","v":0},{"$f":"IFERROR(INDEX('Standards LOOKUP'!C:C,MATCH(AI3248,'Standards LOOKUP'!B:B,0),0),0)","v":0},{"$f":"IFERROR(INDEX('Current Standards'!P:P,MATCH('Sheet Counter'!AI3248,'Current Standards'!O:O,0),0),\"\")","v":""}]
[null,null,0,"","",{"$error":"#VALUE!"},"",{"$f":"IF(I3251=\"\",\"\",LARGE(H$1:H3250,1)+1)","v":{"$error":"#VALUE!"}},{"$error":"#VALUE!"},null,null,null,null,null,3250,0,{"$f":"IF(R3251=\"\",\"\",LARGE(Q$1:Q3250,1)+1)","v":{"$error":"#NUM!"}},{"$error":"#NUM!"},null,null,null,null,null,null,0,{"$error":"#VALUE!"},3999,"","",null,null,null,null,{"$error":"#VALUE!"},{"$error":"#VALUE!"},{"$f":"COUNTIF('Standards LOOKUP'!B:B,AI3251)","v":0},{"$f":"IFERROR(INDEX('Standards LOOKUP'!C:C,MATCH(AI3251,'Standards LOOKUP'!B:B,0),0),0)","v":0},{"$f":"IFERROR(INDEX('Current Standards'!P:P,MATCH('Sheet Counter'!AI3251,'Current Standards'!O:O,0),0),\"\")","v":""}]
[null,null,0,"","",{"$error":"#VALUE!"},"",{"$f":"IF(I3254=\"\",\"\",LARGE(H$1:H3253,1)+1)","v":{"$error":"#VALUE!"}},{"$error":"#VALUE!"},null,null,null,null,null,3253,0,{"$f":"IF(R3254=\"\",\"\",LARGE(Q$1:Q3253,1)+1)","v":{"$error":"#NUM!"}},{"$error":"#NUM!"},null,null,null,null,null,null,0,{"$error":"#VALUE!"},3999,"","",null,null,null,null,{"$error":"#VALUE!"},{"$error":"#VALUE!"},{"$f":"COUNTIF('Standards LOOKUP'!B:B,AI3254)","v":0},{"$f":"IFERROR(INDEX('Standards LOOKUP'!C:C,MATCH(AI3254,'Standards LOOKUP'!B:B,0),0),0)","v":0},{"$f":"IFERROR(INDEX('Current Standards'!P:P,MATCH('Sheet Counter'!AI3254,'Current Standards'!O:O,0),0),\"\")","v":""}]
[null,null,0,"","",{"$error":"#VALUE!"},"",{"$f":"IF(I3257=\"\",\"\",LARGE(H$1:H3256,1)+1)","v":{"$error":"#VALUE!"}},{"$error":"#VALUE!"},null,null,null,null,null,3256,0,{"$f":"IF(R3257=\"\",\"\",LARGE(Q$1:Q3256,1)+1)","v":{"$error":"#NUM!"}},{"$error":"#NUM!"},null,null,null,null,null,null,0,{"$error":"#VALUE!"},3999,"","",null,null,null,null,{"$error":"#VALUE!"},{"$error":"#VALUE!"},{"$f":"COUNTIF('Standards LOOKUP'!B:B,AI3257)","v":0},{"$f":"IFERROR(INDEX('Standards LOOKUP'!C:C,MATCH(AI3257,'Standards LOOKUP'!B:B,0),0),0)","v":0},{"$f":"IFERROR(INDEX('Current Standards'!P:P,MATCH('Sheet Counter'!AI3257,'Current Standards'!O:O,0),0),\"\")","v":""}]
[null,null,0,"","",{"$error":"#VALUE!"},"",{"$f":"IF(I3260=\"\",\"\",LARGE(H$1:H3259,1)+1)","v":{"$error":"#VALUE!"}},{"$error":"#VALUE!"},null,null,null,null,null,3259,0,{"$f":"IF(R3260=\"\",\"\",LARGE(Q$1:Q3259,1)+1)","v":{"$error":"#NUM!"}},{"$error":"#NUM!"},null,null,null,null,null,null,0,{"$error":"#VALUE!"},3999,"","",null,null,null,null,{"$error":"#VALUE!"},{"$error":"#VALUE!"},{"$f":"COUNTIF('Standards LOOKUP'!B:B,AI3260)","v":0},{"$f":"IFERROR(INDEX('Standards LOOKUP'!C:C,MATCH(AI3260,'Standards LOOKUP'!B:B,0),0),0)","v":0},{"$f":"IFERROR(INDEX('Current Standards'!P:P,MATCH('Sheet Counter'!AI3260,'Current Standards'!O:O,0),0),\"\")","v":""}]
[null,null,0,"","",{"$error":"#VALUE!"},"",{"$f":"IF(I3263=\"\",\"\",LARGE(H$1:H3262,1)+1)","v":{"$error":"#VALUE!"}},{"$error":"#VALUE!"},null,null,null,null,null,3262,0,{"$f":"IF(R3263=\"\",\"\",LARGE(Q$1:Q3262,1)+1)","v":{"$error":"#NUM!"}},{"$error":"#NUM!"},null,null,null,null,null,null,0,{"$error":"#VALUE!"},3999,"","",null,null,null,null,{"$error":"#VALUE!"},{"$error":"#VALUE!"},{"$f":"COUNTIF('Standards LOOKUP'!B:B,AI3263)","v":0},{"$f":"IFERROR(INDEX('Standards LOOKUP'!C:C,MATCH(AI3263,'Standards LOOKUP'!B:B,0),0),0)","v":0},{"$f":"IFERROR(INDEX('Current Standards'!P:P,MATCH('Sheet Counter'!AI3263,'Current Standards'!O:O,0),0),\"\")","v":""}]
[null,null,0,"","",{"$error":"#VALUE!"},"",{"$f":"IF(I3264=\"\",\"\",LARGE(H$1:H3263,1)+1)","v":{"$error":"#VALUE!"}},{"$error":"#VALUE!"},null,null,null,null,null,3263,0,{"$f":"IF(R3264=\"\",\"\",LARGE(Q$1:Q3263,1)+1)","v":{"$error":"#NUM!"}},{"$error":"#NUM!"},null,null,null,null,null,null,0,{"$error":"#VALUE!"},3999,"","",null,null,null,null,{"$error":"#VALUE!"},{"$error":"#VALUE!"},{"$f":"COUNTIF('Standards LOOKUP'!B:B,AI3264)","v":0},{"$f":"IFERROR(INDEX('Standards LOOKUP'!C:C,MATCH(AI3264,'Standards LOOKUP'!B:B,0),0),0)","v":0},{"$f":"IFERROR(INDEX('Current Standards'!P:P,MATCH('Sheet Counter'!AI3264,'Current Standards'!O:O,0),0),\"\")","v":""}]
[null,null,0,"","",{"$error":"#VALUE!"},"",{"$f":"IF(I3268=\"\",\"\",LARGE(H$1:H3267,1)+1)","v":{"$error":"#VALUE!"}},{"$error":"#VALUE!"},null,null,null,null,null,3267,0,{"$f":"IF(R3268=\"\",\"\",LARGE(Q$1:Q3267,1)+1)","v":{"$error":"#NUM!"}},{"$f":"IF(AND(P3268<>1,O3268<=LARGE(G:G,1),O3268>=SMALL(G:G,1)),O3268,\"\")","v":{"$error":"#NUM!"}},null,null,null,null,null,null,0,{"$error":"#VALUE!"},3999,"","",null,null,null,null,{"$error":"#VALUE!"},{"$error":"#VALUE!"},{"$f":"COUNTIF('Standards LOOKUP'!B:B,AI3268)","v":0},{"$f":"IFERROR(INDEX('Standards LOOKUP'!C:C,MATCH(AI3268,'Standards LOOKUP'!B:B,0),0),0)","v":0},{"$f":"IFERROR(INDEX('Current Standards'!P:P,MATCH('Sheet Counter'!AI3268,'Current Standards'!O:O,0),0),\"\")","v":""}]
[null,null,0,"","",{"$error":"#VALUE!"},"",{"$f":"IF(I3270=\"\",\"\",LARGE(H$1:H3269,1)+1)","v":{"$error":"#VALUE!"}},{"$error":"#VALUE!"},null,null,null,null,null,3269,0,{"$f":"IF(R3270=\"\",\"\",LARGE(Q$1:Q3269,1)+1)","v":{"$error":"#NUM!"}},{"$error":"#NUM!"},null,null,null,null,null,null,0,{"$error":"#VALUE!"},3999,"","",null,null,null,null,{"$error":"#VALUE!"},{"$error":"#VALUE!"},{"$f":"COUNTIF('Standards LOOKUP'!B:B,AI3270)","v":0},{"$f":"IFERROR(INDEX('Standards LOOKUP'!C:C,MATCH(AI3270,'Standards LOOKUP'!B:B,0),0),0)","v":0},{"$f":"IFERROR(INDEX('Current Standards'!P:P,MATCH('Sheet Counter'!AI3270,'Current Standards'!O:O,0),0),\"\")","v":""}]
[null,null,0,"","",{"$error":"#VALUE!"},"",{"$f":"IF(I3273=\"\",\"\",LARGE(H$1:H3272,1)+1)","v":{"$error":"#VALUE!"}},{"$error":"#VALUE!"},null,null,null,null,null,3272,0,{"$f":"IF(R3273=\"\",\"\",LARGE(Q$1:Q3272,1)+1)","v":{"$error":"#NUM!"}},{"$error":"#NUM!"},null,null,null,null,null,null,0,{"$error":"#VALUE!"},3999,"","",null,null,null,null,{"$error":"#VALUE!"},{"$error":"#VALUE!"},{"$f":"COUNTIF('Standards LOOKUP'!B:B,AI3273)","v":0},{"$f":"IFERROR(INDEX('Standards LOOKUP'!C:C,MATCH(AI3273,'Standards LOOKUP'!B:B,0),0),0)","v":0},{"$f":"IFERROR(INDEX('Current Standards'!P:P,MATCH('Sheet Counter'!AI3273,'Current Standards'!O:O,0),0),\"\")","v":""}]
[null,null,0,"","",{"$error":"#VALUE!"},"",{"$f":"IF(I3276=\"\",\"\",LARGE(H$1:H3275,1)+1)","v":{"$error":"#VALUE!"}},{"$error":"#VALUE!"},null,null,null,null,null,3275,0,{"$f":"IF(R3276=\"\",\"\",LARGE(Q$1:Q3275,1)+1)","v":{"$error":"#NUM!"}},{"$error":"#NUM!"},null,null,null,null,null,null,0,{"$error":"#VALUE!"},3999,"","",null,null,null,null,{"$error":"#VALUE!"},{"$error":"#VALUE!"},{"$f":"COUNTIF('Standards LOOKUP'!B:B,AI3276)","v":0},{"$f":"IFERROR(INDEX('Standards LOOKUP'!C:C,MATCH(AI3276,'Standards LOOKUP'!B:B,0),0),0)","v":0},{"$f":"IFERROR(INDEX('Current Standards'!P:P,MATCH('Sheet Counter'!AI3276,'Current Standards'!O:O,0),0),\"\")","v":""}]
[null,null,0,"","",{"$error":"#VALUE!"},"",{"$f":"IF(I3279=\"\",\"\",LARGE(H$1:H3278,1)+1)","v":{"$error":"#VALUE!"}},{"$error":"#VALUE!"},null,null,null,null,null,3278,0,{"$f":"IF(R3279=\"\",\"\",LARGE(Q$1:Q3278,1)+1)","v":{"$error":"#NUM!"}},{"$error":"#NUM!"},null,null,null,null,null,null,0,{"$error":"#VALUE!"},3999,"","",null,null,null,null,{"$error":"#VALUE!"},{"$error":"#VALUE!"},{"$f":"COUNTIF('Standards LOOKUP'!B:B,AI3279)","v":0},{"$f":"IFERROR(INDEX('Standards LOOKUP'!C:C,MATCH(AI3279,'Standards LOOKUP'!B:B,0),0),0)","v":0},{"$f":"IFERROR(INDEX('Current Standards'!P:P,MATCH('Sheet Counter'!AI3279,'Current Standards'!O:O,0),0),\"\")","v":""}]
[null,null,0,"","",{"$error":"#VALUE!"},"",{"$f":"IF(I3282=\"\",\"\",LARGE(H$1:H3281,1)+1)","v":{"$error":"#VALUE!"}},{"$error":"#VALUE!"},null,null,null,null,null,3281,0,{"$f":"IF(R3282=\"\",\"\",LARGE(Q$1:Q3281,1)+1)","v":{"$error":"#NUM!"}},{"$error":"#NUM!"},null,null,null,null,null,null,0,{"$error":"#VALUE!"},3999,"","",null,null,null,null,{"$error":"#VALUE!"},{"$error":"#VALUE!"},{"$f":"COUNTIF('Standards LOOKUP'!B:B,AI3282)","v":0},{"$f":"IFERROR(INDEX('Standards LOOKUP'!C:C,MATCH(AI3282,'Standards LOOKUP'!B:B,0),0),0)","v":0},{"$f":"IFERROR(INDEX('Current Standards'!P:P,MATCH('Sheet Counter'!AI3282,'Current Standards'!O:O,0),0),\"\")","v":""}]
[null,null,0,"","",{"$error":"#VALUE!"},"",{"$f":"IF(I3283=\"\",\"\",LARGE(H$1:H3282,1)+1)","v":{"$error":"#VALUE!"}},{"$error":"#VALUE!"},null,null,null,null,null,3282,0,{"$f":"IF(R3283=\"\",\"\",LARGE(Q$1:Q3282,1)+1)","v":{"$error":"#NUM!"}},{"$error":"#NUM!"},null,null,null,null,null,null,0,{"$error":"#VALUE!"},3999,"","",null,null,null,null,{"$error":"#VALUE!"},{"$error":"#VALUE!"},{"$f":"COUNTIF('Standards LOOKUP'!B:B,AI3283)","v":0},{"$f":"IFERROR(INDEX('Standards LOOKUP'!C:C,MATCH(AI3283,'Standards LOOKUP'!B:B,0),0),0)","v":0},{"$f":"IFERROR(INDEX('Current Standards'!P:P,MATCH('Sheet Counter'!AI3283,'Current Standards'!O:O,0),0),\"\")","v":""}]
[null,null,0,"","",{"$error":"#VALUE!"},"",{"$f":"IF(I3286=\"\",\"\",LARGE(H$1:H3285,1)+1)","v":{"$error":"#VALUE!"}},{"$error":"#VALUE!"},null,null,null,null,null,3285,0,{"$f":"IF(R3286=\"\",\"\",LARGE(Q$1:Q3285,1)+1)","v":{"$error":"#NUM!"}},{"$error":"#NUM!"},null,null,null,null,null,null,0,{"$error":"#VALUE!"},3999,"","",null,null,null,null,{"$error":"#VALUE!"},{"$error":"#VALUE!"},{"$f":"COUNTIF('Standards LOOKUP'!B:B,AI3286)","v":0},{"$f":"IFERROR(INDEX('Standards LOOKUP'!C:C,MATCH(AI3286,'Standards LOOKUP'!B:B,0),0),0)","v":0},{"$f":"IFERROR(INDEX('Current Standards'!P:P,MATCH('Sheet Counter'!AI3286,'Current Standards'!O:O,0),0),\"\")","v":""}]
[null,null,0,"","",{"$error":"#VALUE!"},"",{"$f":"IF(I3290=\"\",\"\",LARGE(H$1:H3289,1)+1)","v":{"$error":"#VALUE!"}},{"$error":"#VALUE!"},null,null,null,null,null,3289,0,{"$f":"IF(R3290=\"\",\"\",LARGE(Q$1:Q3289,1)+1)","v":{"$error":"#NUM!"}},{"$error":"#NUM!"},null,null,null,null,null,null,0,{"$error":"#VALUE!"},3999,"","",null,null,null,null,{"$error":"#VALUE!"},{"$error":"#VALUE!"},{"$f":"COUNTIF('Standards LOOKUP'!B:B,AI3290)","v":0},{"$f":"IFERROR(INDEX('Standards LOOKUP'!C:C,MATCH(AI3290,'Standards LOOKUP'!B:B,0),0),0)","v":0},{"$f":"IFERROR(INDEX('Current Standards'!P:P,MATCH('Sheet Counter'!AI3290,'Current Standards'!O:O,0),0),\"\")","v":""}]
[null,null,0,"","",{"$error":"#VALUE!"},"",{"$f":"IF(I3292=\"\",\"\",LARGE(H$1:H3291,1)+1)","v":{"$error":"#VALUE!"}},{"$error":"#VALUE!"},null,null,null,null,null,3291,0,{"$f":"IF(R3292=\"\",\"\",LARGE(Q$1:Q3291,1)+1)","v":{"$error":"#NUM!"}},{"$error":"#NUM!"},null,null,null,null,null,null,0,{"$error":"#VALUE!"},3999,"","",null,null,null,null,{"$error":"#VALUE!"},{"$error":"#VALUE!"},{"$f":"COUNTIF('Standards LOOKUP'!B:B,AI3292)","v":0},{"$f":"IFERROR(INDEX('Standards LOOKUP'!C:C,MATCH(AI3292,'Standards LOOKUP'!B:B,0),0),0)","v":0},{"$f":"IFERROR(INDEX('Current Standards'!P:P,MATCH('Sheet Counter'!AI3292,'Current Standards'!O:O,0),0),\"\")","v":""}]
[null,null,0,"","",{"$error":"#VALUE!"},"",{"$f":"IF(I3295=\"\",\"\",LARGE(H$1:H3294,1)+1)","v":{"$error":"#VALUE!"}},{"$error":"#VALUE!"},null,null,null,null,null,3294,0,{"$f":"IF(R3295=\"\",\"\",LARGE(Q$1:Q3294,1)+1)","v":{"$error":"#NUM!"}},{"$error":"#NUM!"},null,null,null,null,null,null,0,{"$error":"#VALUE!"},3999,"","",null,null,null,null,{"$error":"#VALUE!"},{"$error":"#VALUE!"},{"$f":"COUNTIF('Standards LOOKUP'!B:B,AI3295)","v":0},{"$f":"IFERROR(INDEX('Standards LOOKUP'!C:C,MATCH(AI3295,'Standards LOOKUP'!B:B,0),0),0)","v":0},{"$f":"IFERROR(INDEX('Current Standards'!P:P,MATCH('Sheet Counter'!AI3295,'Current Standards'!O:O,0),0),\"\")","v":""}]
[null,null,0,"","",{"$error":"#VALUE!"},"",{"$f":"IF(I3298=\"\",\"\",LARGE(H$1:H3297,1)+1)","v":{"$error":"#VALUE!"}},{"$error":"#VALUE!"},null,null,null,null,null,3297,0,{"$f":"IF(R3298=\"\",\"\",LARGE(Q$1:Q3297,1)+1)","v":{"$error":"#NUM!"}},{"$error":"#NUM!"},null,null,null,null,null,null,0,{"$error":"#VALUE!"},3999,"","",null,null,null,null,{"$error":"#VALUE!"},{"$error":"#VALUE!"},{"$f":"COUNTIF('Standards LOOKUP'!B:B,AI3298)","v":0},{"$f":"IFERROR(INDEX('Standards LOOKUP'!C:C,MATCH(AI3298,'Standards LOOKUP'!B:B,0),0),0)","v":0},{"$f":"IFERROR(INDEX('Current Standards'!P:P,MATCH('Sheet Counter'!AI3298,'Current Standards'!O:O,0),0),\"\")","v":""}]
[null,null,0,"","",{"$error":"#VALUE!"},"",{"$f":"IF(I3301=\"\",\"\",LARGE(H$1:H3300,1)+1)","v":{"$error":"#VALUE!"}},{"$error":"#VALUE!"},null,null,null,null,null,3300,0,{"$f":"IF(R3301=\"\",\"\",LARGE(Q$1:Q3300,1)+1)","v":{"$error":"#NUM!"}},{"$error":"#NUM!"},null,null,null,null,null,null,0,{"$error":"#VALUE!"},3999,"","",null,null,null,null,{"$error":"#VALUE!"},{"$error":"#VALUE!"},{"$f":"COUNTIF('Standards LOOKUP'!B:B,AI3301)","v":0},{"$f":"IFERROR(INDEX('Standards LOOKUP'!C:C,MATCH(AI3301,'Standards LOOKUP'!B:B,0),0),0)","v":0},{"$f":"IFERROR(INDEX('Current Standards'!P:P,MATCH('Sheet Counter'!AI3301,'Current Standards'!O:O,0),0),\"\")","v":""}]
[null,null,0,"","",{"$error":"#VALUE!"},"",{"$f":"IF(I3304=\"\",\"\",LARGE(H$1:H3303,1)+1)","v":{"$error":"#VALUE!"}},{"$error":"#VALUE!"},null,null,null,null,null,3303,0,{"$f":"IF(R3304=\"\",\"\",LARGE(Q$1:Q3303,1)+1)","v":{"$error":"#NUM!"}},{"$error":"#NUM!"},null,null,null,null,null,null,0,{"$error":"#VALUE!"},3999,"","",null,null,null,null,{"$error":"#VALUE!"},{"$error":"#VALUE!"},{"$f":"COUNTIF('Standards LOOKUP'!B:B,AI3304)","v":0},{"$f":"IFERROR(INDEX('Standards LOOKUP'!C:C,MATCH(AI3304,'Standards LOOKUP'!B:B,0),0),0)","v":0},{"$f":"IFERROR(INDEX('Current Standards'!P:P,MATCH('Sheet Counter'!AI3304,'Current Standards'!O:O,0),0),\"\")","v":""}]
[null,null,0,"","",{"$error":"#VALUE!"},"",{"$f":"IF(I3305=\"\",\"\",LARGE(H$1:H3304,1)+1)","v":{"$error":"#VALUE!"}},{"$error":"#VALUE!"},null,null,null,null,null,3304,0,{"$f":"IF(R3305=\"\",\"\",LARGE(Q$1:Q3304,1)+1)","v":{"$error":"#NUM!"}},{"$error":"#NUM!"},null,null,null,null,null,null,0,{"$error":"#VALUE!"},3999,"","",null,null,null,null,{"$error":"#VALUE!"},{"$error":"#VALUE!"},{"$f":"COUNTIF('Standards LOOKUP'!B:B,AI3305)","v":0},{"$f":"IFERROR(INDEX('Standards LOOKUP'!C:C,MATCH(AI3305,'Standards LOOKUP'!B:B,0),0),0)","v":0},{"$f":"IFERROR(INDEX('Current Standards'!P:P,MATCH('Sheet Counter'!AI3305,'Current Standards'!O:O,0),0),\"\")","v":""}]
[null,null,0,"","",{"$error":"#VALUE!"},"",{"$f":"IF(I3308=\"\",\"\",LARGE(H$1:H3307,1)+1)","v":{"$error":"#VALUE!"}},{"$error":"#VALUE!"},null,null,null,null,null,3307,0,{"$f":"IF(R3308=\"\",\"\",LARGE(Q$1:Q3307,1)+1)","v":{"$error":"#NUM!"}},{"$error":"#NUM!"},null,null,null,null,null,null,0,{"$error":"#VALUE!"},3999,"","",null,null,null,null,{"$error":"#VALUE!"},{"$error":"#VALUE!"},{"$f":"COUNTIF('Standards LOOKUP'!B:B,AI3308)","v":0},{"$f":"IFERROR(INDEX('Standards LOOKUP'!C:C,MATCH(AI3308,'Standards LOOKUP'!B:B,0),0),0)","v":0},{"$f":"IFERROR(INDEX('Current Standards'!P:P,MATCH('Sheet Counter'!AI3308,'Current Standards'!O:O,0),0),\"\")","v":""}]
[null,null,0,"","",{"$error":"#VALUE!"},"",{"$f":"IF(I3312=\"\",\"\",LARGE(H$1:H3311,1)+1)","v":{"$error":"#VALUE!"}},{"$error":"#VALUE!"},null,null,null,null,null,3311,0,{"$f":"IF(R3312=\"\",\"\",LARGE(Q$1:Q3311,1)+1)","v":{"$error":"#NUM!"}},{"$error":"#NUM!"},null,null,null,null,null,null,0,{"$error":"#VALUE!"},3999,"","",null,null,null,null,{"$error":"#VALUE!"},{"$error":"#VALUE!"},{"$f":"COUNTIF('Standards LOOKUP'!B:B,AI3312)","v":0},{"$f":"IFERROR(INDEX('Standards LOOKUP'!C:C,MATCH(AI3312,'Standards LOOKUP'!B:B,0),0),0)","v":0},{"$f":"IFERROR(INDEX('Current Standards'!P:P,MATCH('Sheet Counter'!AI3312,'Current Standards'!O:O,0),0),\"\")","v":""}]
[null,null,0,"","",{"$error":"#VALUE!"},"",{"$f":"IF(I3314=\"\",\"\",LARGE(H$1:H3313,1)+1)","v":{"$error":"#VALUE!"}},{"$error":"#VALUE!"},null,null,null,null,null,3313,0,{"$f":"IF(R3314=\"\",\"\",LARGE(Q$1:Q3313,1)+1)","v":{"$error":"#NUM!"}},{"$error":"#NUM!"},null,null,null,null,null,null,0,{"$error":"#VALUE!"},3999,"","",null,null,null,null,{"$error":"#VALUE!"},{"$error":"#VALUE!"},{"$f":"COUNTIF('Standards LOOKUP'!B:B,AI3314)","v":0},{"$f":"IFERROR(INDEX('Standards LOOKUP'!C:C,MATCH(AI3314,'Standards LOOKUP'!B:B,0),0),0)","v":0},{"$f":"IFERROR(INDEX('Current Standards'!P:P,MATCH('Sheet Counter'!AI3314,'Current Standards'!O:O,0),0),\"\")","v":""}]
[null,null,0,"","",{"$error":"#VALUE!"},"",{"$f":"IF(I3317=\"\",\"\",LARGE(H$1:H3316,1)+1)","v":{"$error":"#VALUE!"}},{"$error":"#VALUE!"},null,null,null,null,null,3316,0,{"$f":"IF(R3317=\"\",\"\",LARGE(Q$1:Q3316,1)+1)","v":{"$error":"#NUM!"}},{"$error":"#NUM!"},null,null,null,null,null,null,0,{"$error":"#VALUE!"},3999,"","",null,null,null,null,{"$error":"#VALUE!"},{"$error":"#VALUE!"},{"$f":"COUNTIF('Standards LOOKUP'!B:B,AI3317)","v":0},{"$f":"IFERROR(INDEX('Standards LOOKUP'!C:C,MATCH(AI3317,'Standards LOOKUP'!B:B,0),0),0)","v":0},{"$f":"IFERROR(INDEX('Current Standards'!P:P,MATCH('Sheet Counter'!AI3317,'Current Standards'!O:O,0),0),\"\")","v":""}]
[null,null,0,"","",{"$error":"#VALUE!"},"",{"$f":"IF(I3320=\"\",\"\",LARGE(H$1:H3319,1)+1)","v":{"$error":"#VALUE!"}},{"$error":"#VALUE!"},null,null,null,null,null,3319,0,{"$f":"IF(R3320=\"\",\"\",LARGE(Q$1:Q3319,1)+1)","v":{"$error":"#NUM!"}},{"$error":"#NUM!"},null,null,null,null,null,null,0,{"$error":"#VALUE!"},3999,"","",null,null,null,null,{"$error":"#VALUE!"},{"$error":"#VALUE!"},{"$f":"COUNTIF('Standards LOOKUP'!B:B,AI3320)","v":0},{"$f":"IFERROR(INDEX('Standards LOOKUP'!C:C,MATCH(AI3320,'Standards LOOKUP'!B:B,0),0),0)","v":0},{"$f":"IFERROR(INDEX('Current Standards'!P:P,MATCH('Sheet Counter'!AI3320,'Current Standards'!O:O,0),0),\"\")","v":""}]
[null,null,0,"","",{"$error":"#VALUE!"},"",{"$f":"IF(I3323=\"\",\"\",LARGE(H$1:H3322,1)+1)","v":{"$error":"#VALUE!"}},{"$error":"#VALUE!"},null,null,null,null,null,3322,0,{"$f":"IF(R3323=\"\",\"\",LARGE(Q$1:Q3322,1)+1)","v":{"$error":"#NUM!"}},{"$error":"#NUM!"},null,null,null,null,null,null,0,{"$error":"#VALUE!"},3999,"","",null,null,null,null,{"$error":"#VALUE!"},{"$error":"#VALUE!"},{"$f":"COUNTIF('Standards LOOKUP'!B:B,AI3323)","v":0},{"$f":"IFERROR(INDEX('Standards LOOKUP'!C:C,MATCH(AI3323,'Standards LOOKUP'!B:B,0),0),0)","v":0},{"$f":"IFERROR(INDEX('Current Standards'!P:P,MATCH('Sheet Counter'!AI3323,'Current Standards'!O:O,0),0),\"\")","v":""}]
[null,null,0,"","",{"$error":"#VALUE!"},"",{"$f":"IF(I3326=\"\",\"\",LARGE(H$1:H3325,1)+1)","v":{"$error":"#VALUE!"}},{"$error":"#VALUE!"},null,null,null,null,null,3325,0,{"$f":"IF(R3326=\"\",\"\",LARGE(Q$1:Q3325,1)+1)","v":{"$error":"#NUM!"}},{"$error":"#NUM!"},null,null,null,null,null,null,0,{"$error":"#VALUE!"},3999,"","",null,null,null,null,{"$error":"#VALUE!"},{"$error":"#VALUE!"},{"$f":"COUNTIF('Standards LOOKUP'!B:B,AI3326)","v":0},{"$f":"IFERROR(INDEX('Standards LOOKUP'!C:C,MATCH(AI3326,'Standards LOOKUP'!B:B,0),0),0)","v":0},{"$f":"IFERROR(INDEX('Current Standards'!P:P,MATCH('Sheet Counter'!AI3326,'Current Standards'!O:O,0),0),\"\")","v":""}]
[null,null,0,"","",{"$error":"#VALUE!"},"",{"$f":"IF(I3327=\"\",\"\",LARGE(H$1:H3326,1)+1)","v":{"$error":"#VALUE!"}},{"$error":"#VALUE!"},null,null,null,null,null,3326,0,{"$f":"IF(R3327=\"\",\"\",LARGE(Q$1:Q3326,1)+1)","v":{"$error":"#NUM!"}},{"$error":"#NUM!"},null,null,null,null,null,null,0,{"$error":"#VALUE!"},3999,"","",null,null,null,null,{"$error":"#VALUE!"},{"$error":"#VALUE!"},{"$f":"COUNTIF('Standards LOOKUP'!B:B,AI3327)","v":0},{"$f":"IFERROR(INDEX('Standards LOOKUP'!C:C,MATCH(AI3327,'Standards LOOKUP'!B:B,0),0),0)","v":0},{"$f":"IFERROR(INDEX('Current Standards'!P:P,MATCH('Sheet Counter'!AI3327,'Current Standards'!O:O,0),0),\"\")","v":""}]
[null,null,0,"","",{"$error":"#VALUE!"},"",{"$f":"IF(I3330=\"\",\"\",LARGE(H$1:H3329,1)+1)","v":{"$error":"#VALUE!"}},{"$error":"#VALUE!"},null,null,null,null,null,3329,0,{"$f":"IF(R3330=\"\",\"\",LARGE(Q$1:Q3329,1)+1)","v":{"$error":"#NUM!"}},{"$error":"#NUM!"},null,null,null,null,null,null,0,{"$error":"#VALUE!"},3999,"","",null,null,null,null,{"$error":"#VALUE!"},{"$error":"#VALUE!"},{"$f":"COUNTIF('Standards LOOKUP'!B:B,AI3330)","v":0},{"$f":"IFERROR(INDEX('Standards LOOKUP'!C:C,MATCH(AI3330,'Standards LOOKUP'!B:B,0),0),0)","v":0},{"$f":"IFERROR(INDEX('Current Standards'!P:P,MATCH('Sheet Counter'!AI3330,'Current Standards'!O:O,0),0),\"\")","v":""}]
[null,null,0,"","",{"$error":"#VALUE!"},"",{"$f":"IF(I3334=\"\",\"\",LARGE(H$1:H3333,1)+1)","v":{"$error":"#VALUE!"}},{"$error":"#VALUE!"},null,null,null,null,null,3333,0,{"$f":"IF(R3334=\"\",\"\",LARGE(Q$1:Q3333,1)+1)","v":{"$error":"#NUM!"}},{"$error":"#NUM!"},null,null,null,null,null,null,0,{"$error":"#VALUE!"},3999,"","",null,null,null,null,{"$error":"#VALUE!"},{"$error":"#VALUE!"},{"$f":"COUNTIF('Standards LOOKUP'!B:B,AI3334)","v":0},{"$f":"IFERROR(INDEX('Standards LOOKUP'!C:C,MATCH(AI3334,'Standards LOOKUP'!B:B,0),0),0)","v":0},{"$f":"IFERROR(INDEX('Current Standards'!P:P,MATCH('Sheet Counter'!AI3334,'Current Standards'!O:O,0),0),\"\")","v":""}]
[null,null,0,"","",{"$error":"#VALUE!"},"",{"$f":"IF(I3336=\"\",\"\",LARGE(H$1:H3335,1)+1)","v":{"$error":"#VALUE!"}},{"$error":"#VALUE!"},null,null,null,null,null,3335,0,{"$f":"IF(R3336=\"\",\"\",LARGE(Q$1:Q3335,1)+1)","v":{"$error":"#NUM!"}},{"$error":"#NUM!"},null,null,null,null,null,null,0,{"$error":"#VALUE!"},3999,"","",null,null,null,null,{"$error":"#VALUE!"},{"$error":"#VALUE!"},{"$f":"COUNTIF('Standards LOOKUP'!B:B,AI3336)","v":0},{"$f":"IFERROR(INDEX('Standards LOOKUP'!C:C,MATCH(AI3336,'Standards LOOKUP'!B:B,0),0),0)","v":0},{"$f":"IFERROR(INDEX('Current Standards'!P:P,MATCH('Sheet Counter'!AI3336,'Current Standards'!O:O,0),0),\"\")","v":""}]
[null,null,0,"","",{"$error":"#VALUE!"},"",{"$f":"IF(I3339=\"\",\"\",LARGE(H$1:H3338,1)+1)","v":{"$error":"#VALUE!"}},{"$error":"#VALUE!"},null,null,null,null,null,3338,0,{"$f":"IF(R3339=\"\",\"\",LARGE(Q$1:Q3338,1)+1)","v":{"$error":"#NUM!"}},{"$error":"#NUM!"},null,null,null,null,null,null,0,{"$error":"#VALUE!"},3999,"","",null,null,null,null,{"$error":"#VALUE!"},{"$error":"#VALUE!"},{"$f":"COUNTIF('Standards LOOKUP'!B:B,AI3339)","v":0},{"$f":"IFERROR(INDEX('Standards LOOKUP'!C:C,MATCH(AI3339,'Standards LOOKUP'!B:B,0),0),0)","v":0},{"$f":"IFERROR(INDEX('Current Standards'!P:P,MATCH('Sheet Counter'!AI3339,'Current Standards'!O:O,0),0),\"\")","v":""}]
[null,null,0,"","",{"$error":"#VALUE!"},"",{"$f":"IF(I3343=\"\",\"\",LARGE(H$1:H3342,1)+1)","v":{"$error":"#VALUE!"}},{"$error":"#VALUE!"},null,null,null,null,null,3342,0,{"$f":"IF(R3343=\"\",\"\",LARGE(Q$1:Q3342,1)+1)","v":{"$error":"#NUM!"}},{"$error":"#NUM!"},null,null,null,null,null,null,0,{"$error":"#VALUE!"},3999,"","",null,null,null,null,{"$error":"#VALUE!"},{"$error":"#VALUE!"},{"$f":"COUNTIF('Standards LOOKUP'!B:B,AI3343)","v":0},{"$f":"IFERROR(INDEX('Standards LOOKUP'!C:C,MATCH(AI3343,'Standards LOOKUP'!B:B,0),0),0)","v":0},{"$f":"IFERROR(INDEX('Current Standards'!P:P,MATCH('Sheet Counter'!AI3343,'Current Standards'!O:O,0),0),\"\")","v":""}]
[null,null,0,"","",{"$error":"#VALUE!"},"",{"$f":"IF(I3345=\"\",\"\",LARGE(H$1:H3344,1)+1)","v":{"$error":"#VALUE!"}},{"$error":"#VALUE!"},null,null,null,null,null,3344,0,{"$f":"IF(R3345=\"\",\"\",LARGE(Q$1:Q3344,1)+1)","v":{"$error":"#NUM!"}},{"$error":"#NUM!"},null,null,null,null,null,null,0,{"$error":"#VALUE!"},3999,"","",null,null,null,null,{"$error":"#VALUE!"},{"$error":"#VALUE!"},{"$f":"COUNTIF('Standards LOOKUP'!B:B,AI3345)","v":0},{"$f":"IFERROR(INDEX('Standards LOOKUP'!C:C,MATCH(AI3345,'Standards LOOKUP'!B:B,0),0),0)","v":0},{"$f":"IFERROR(INDEX('Current Standards'!P:P,MATCH('Sheet Counter'!AI3345,'Current Standards'!O:O,0),0),\"\")","v":""}]
[null,null,0,"","",{"$error":"#VALUE!"},"",{"$f":"IF(I3348=\"\",\"\",LARGE(H$1:H3347,1)+1)","v":{"$error":"#VALUE!"}},{"$error":"#VALUE!"},null,null,null,null,null,3347,0,{"$f":"IF(R3348=\"\",\"\",LARGE(Q$1:Q3347,1)+1)","v":{"$error":"#NUM!"}},{"$error":"#NUM!"},null,null,null,null,null,null,0,{"$error":"#VALUE!"},3999,"","",null,null,null,null,{"$error":"#VALUE!"},{"$error":"#VALUE!"},{"$f":"COUNTIF('Standards LOOKUP'!B:B,AI3348)","v":0},{"$f":"IFERROR(INDEX('Standards LOOKUP'!C:C,MATCH(AI3348,'Standards LOOKUP'!B:B,0),0),0)","v":0},{"$f":"IFERROR(INDEX('Current Standards'!P:P,MATCH('Sheet Counter'!AI3348,'Current Standards'!O:O,0),0),\"\")","v":""}]
[null,null,0,"","",{"$error":"#VALUE!"},"",{"$f":"IF(I3349=\"\",\"\",LARGE(H$1:H3348,1)+1)","v":{"$error":"#VALUE!"}},{"$error":"#VALUE!"},null,null,null,null,null,3348,0,{"$f":"IF(R3349=\"\",\"\",LARGE(Q$1:Q3348,1)+1)","v":{"$error":"#NUM!"}},{"$error":"#NUM!"},null,null,null,null,null,null,0,{"$error":"#VALUE!"},3999,"","",null,null,null,null,{"$error":"#VALUE!"},{"$error":"#VALUE!"},{"$f":"COUNTIF('Standards LOOKUP'!B:B,AI3349)","v":0},{"$f":"IFERROR(INDEX('Standards LOOKUP'!C:C,MATCH(AI3349,'Standards LOOKUP'!B:B,0),0),0)","v":0},{"$f":"IFERROR(INDEX('Current Standards'!P:P,MATCH('Sheet Counter'!AI3349,'Current Standards'!O:O,0),0),\"\")","v":""}]
[null,null,0,"","",{"$error":"#VALUE!"},"",{"$f":"IF(I3352=\"\",\"\",LARGE(H$1:H3351,1)+1)","v":{"$error":"#VALUE!"}},{"$error":"#VALUE!"},null,null,null,null,null,3351,0,{"$f":"IF(R3352=\"\",\"\",LARGE(Q$1:Q3351,1)+1)","v":{"$error":"#NUM!"}},{"$error":"#NUM!"},null,null,null,null,null,null,0,{"$error":"#VALUE!"},3999,"","",null,null,null,null,{"$error":"#VALUE!"},{"$error":"#VALUE!"},{"$f":"COUNTIF('Standards LOOKUP'!B:B,AI3352)","v":0},{"$f":"IFERROR(INDEX('Standards LOOKUP'!C:C,MATCH(AI3352,'Standards LOOKUP'!B:B,0),0),0)","v":0},{"$f":"IFERROR(INDEX('Current Standards'!P:P,MATCH('Sheet Counter'!AI3352,'Current Standards'!O:O,0),0),\"\")","v":""}]
[null,null,0,"","",{"$error":"#VALUE!"},"",{"$f":"IF(I3356=\"\",\"\",LARGE(H$1:H3355,1)+1)","v":{"$error":"#VALUE!"}},{"$error":"#VALUE!"},null,null,null,null,null,3355,0,{"$f":"IF(R3356=\"\",\"\",LARGE(Q$1:Q3355,1)+1)","v":{"$error":"#NUM!"}},{"$error":"#NUM!"},null,null,null,null,null,null,0,{"$error":"#VALUE!"},3999,"","",null,null,null,null,{"$error":"#VALUE!"},{"$error":"#VALUE!"},{"$f":"COUNTIF('Standards LOOKUP'!B:B,AI3356)","v":0},{"$f":"IFERROR(INDEX('Standards LOOKUP'!C:C,MATCH(AI3356,'Standards LOOKUP'!B:B,0),0),0)","v":0},{"$f":"IFERROR(INDEX('Current Standards'!P:P,MATCH('Sheet Counter'!AI3356,'Current Standards'!O:O,0),0),\"\")","v":""}]
[null,null,0,"","",{"$error":"#VALUE!"},"",{"$f":"IF(I3358=\"\",\"\",LARGE(H$1:H3357,1)+1)","v":{"$error":"#VALUE!"}},{"$error":"#VALUE!"},null,null,null,null,null,3357,0,{"$f":"IF(R3358=\"\",\"\",LARGE(Q$1:Q3357,1)+1)","v":{"$error":"#NUM!"}},{"$error":"#NUM!"},null,null,null,null,null,null,0,{"$error":"#VALUE!"},3999,"","",null,null,null,null,{"$error":"#VALUE!"},{"$error":"#VALUE!"},{"$f":"COUNTIF('Standards LOOKUP'!B:B,AI3358)","v":0},{"$f":"IFERROR(INDEX('Standards LOOKUP'!C:C,MATCH(AI3358,'Standards LOOKUP'!B:B,0),0),0)","v":0},{"$f":"IFERROR(INDEX('Current Standards'!P:P,MATCH('Sheet Counter'!AI3358,'Current Standards'!O:O,0),0),\"\")","v":""}]
[null,null,0,"","",{"$error":"#VALUE!"},"",{"$f":"IF(I3361=\"\",\"\",LARGE(H$1:H3360,1)+1)","v":{"$error":"#VALUE!"}},{"$error":"#VALUE!"},null,null,null,null,null,3360,0,{"$f":"IF(R3361=\"\",\"\",LARGE(Q$1:Q3360,1)+1)","v":{"$error":"#NUM!"}},{"$error":"#NUM!"},null,null,null,null,null,null,0,{"$error":"#VALUE!"},3999,"","",null,null,null,null,{"$error":"#VALUE!"},{"$error":"#VALUE!"},{"$f":"COUNTIF('Standards LOOKUP'!B:B,AI3361)","v":0},{"$f":"IFERROR(INDEX('Standards LOOKUP'!C:C,MATCH(AI3361,'Standards LOOKUP'!B:B,0),0),0)","v":0},{"$f":"IFERROR(INDEX('Current Standards'!P:P,MATCH('Sheet Counter'!AI3361,'Current Standards'!O:O,0),0),\"\")","v":""}]
[null,null,0,"","",{"$error":"#VALUE!"},"",{"$f":"IF(I3365=\"\",\"\",LARGE(H$1:H3364,1)+1)","v":{"$error":"#VALUE!"}},{"$error":"#VALUE!"},null,null,null,null,null,3364,0,{"$f":"IF(R3365=\"\",\"\",LARGE(Q$1:Q3364,1)+1)","v":{"$error":"#NUM!"}},{"$error":"#NUM!"},null,null,null,null,null,null,0,{"$error":"#VALUE!"},3999,"","",null,null,null,null,{"$error":"#VALUE!"},{"$error":"#VALUE!"},{"$f":"COUNTIF('Standards LOOKUP'!B:B,AI3365)","v":0},{"$f":"IFERROR(INDEX('Standards LOOKUP'!C:C,MATCH(AI3365,'Standards LOOKUP'!B:B,0),0),0)","v":0},{"$f":"IFERROR(INDEX('Current Standards'!P:P,MATCH('Sheet Counter'!AI3365,'Current Standards'!O:O,0),0),\"\")","v":""}]
[null,null,0,"","",{"$error":"#VALUE!"},"",{"$f":"IF(I3367=\"\",\"\",LARGE(H$1:H3366,1)+1)","v":{"$error":"#VALUE!"}},{"$error":"#VALUE!"},null,null,null,null,null,3366,0,{"$f":"IF(R3367=\"\",\"\",LARGE(Q$1:Q3366,1)+1)","v":{"$error":"#NUM!"}},{"$error":"#NUM!"},null,null,null,null,null,null,0,{"$error":"#VALUE!"},3999,"","",null,null,null,null,{"$error":"#VALUE!"},{"$error":"#VALUE!"},{"$f":"COUNTIF('Standards LOOKUP'!B:B,AI3367)","v":0},{"$f":"IFERROR(INDEX('Standards LOOKUP'!C:C,MATCH(AI3367,'Standards LOOKUP'!B:B,0),0),0)","v":0},{"$f":"IFERROR(INDEX('Current Standards'!P:P,MATCH('Sheet Counter'!AI3367,'Current Standards'!O:O,0),0),\"\")","v":""}]
[null,null,0,"","",{"$error":"#VALUE!"},"",{"$f":"IF(I3370=\"\",\"\",LARGE(H$1:H3369,1)+1)","v":{"$error":"#VALUE!"}},{"$error":"#VALUE!"},null,null,null,null,null,3369,0,{"$f":"IF(R3370=\"\",\"\",LARGE(Q$1:Q3369,1)+1)","v":{"$error":"#NUM!"}},{"$error":"#NUM!"},null,null,null,null,null,null,0,{"$error":"#VALUE!"},3999,"","",null,null,null,null,{"$error":"#VALUE!"},{"$error":"#VALUE!"},{"$f":"COUNTIF('Standards LOOKUP'!B:B,AI3370)","v":0},{"$f":"IFERROR(INDEX('Standards LOOKUP'!C:C,MATCH(AI3370,'Standards LOOKUP'!B:B,0),0),0)","v":0},{"$f":"IFERROR(INDEX('Current Standards'!P:P,MATCH('Sheet Counter'!AI3370,'Current Standards'!O:O,0),0),\"\")","v":""}]
[null,null,0,"","",{"$error":"#VALUE!"},"",{"$f":"IF(I3371=\"\",\"\",LARGE(H$1:H3370,1)+1)","v":{"$error":"#VALUE!"}},{"$error":"#VALUE!"},null,null,null,null,null,3370,0,{"$f":"IF(R3371=\"\",\"\",LARGE(Q$1:Q3370,1)+1)","v":{"$error":"#NUM!"}},{"$error":"#NUM!"},null,null,null,null,null,null,0,{"$error":"#VALUE!"},3999,"","",null,null,null,null,{"$error":"#VALUE!"},{"$error":"#VALUE!"},{"$f":"COUNTIF('Standards LOOKUP'!B:B,AI3371)","v":0},{"$f":"IFERROR(INDEX('Standards LOOKUP'!C:C,MATCH(AI3371,'Standards LOOKUP'!B:B,0),0),0)","v":0},{"$f":"IFERROR(INDEX('Current Standards'!P:P,MATCH('Sheet Counter'!AI3371,'Current Standards'!O:O,0),0),\"\")","v":""}]
[null,null,0,"","",{"$error":"#VALUE!"},"",{"$f":"IF(I3374=\"\",\"\",LARGE(H$1:H3373,1)+1)","v":{"$error":"#VALUE!"}},{"$error":"#VALUE!"},null,null,null,null,null,3373,0,{"$f":"IF(R3374=\"\",\"\",LARGE(Q$1:Q3373,1)+1)","v":{"$error":"#NUM!"}},{"$error":"#NUM!"},null,null,null,null,null,null,0,{"$error":"#VALUE!"},3999,"","",null,null,null,null,{"$error":"#VALUE!"},{"$error":"#VALUE!"},{"$f":"COUNTIF('Standards LOOKUP'!B:B,AI3374)","v":0},{"$f":"IFERROR(INDEX('Standards LOOKUP'!C:C,MATCH(AI3374,'Standards LOOKUP'!B:B,0),0),0)","v":0},{"$f":"IFERROR(INDEX('Current Standards'!P:P,MATCH('Sheet Counter'!AI3374,'Current Standards'!O:O,0),0),\"\")","v":""}]
[null,null,0,"","",{"$error":"#VALUE!"},"",{"$f":"IF(I3378=\"\",\"\",LARGE(H$1:H3377,1)+1)","v":{"$error":"#VALUE!"}},{"$error":"#VALUE!"},null,null,null,null,null,3377,0,{"$f":"IF(R3378=\"\",\"\",LARGE(Q$1:Q3377,1)+1)","v":{"$error":"#NUM!"}},{"$error":"#NUM!"},null,null,null,null,null,null,0,{"$error":"#VALUE!"},3999,"","",null,null,null,null,{"$error":"#VALUE!"},{"$error":"#VALUE!"},{"$f":"COUNTIF('Standards LOOKUP'!B:B,AI3378)","v":0},{"$f":"IFERROR(INDEX('Standards LOOKUP'!C:C,MATCH(AI3378,'Standards LOOKUP'!B:B,0),0),0)","v":0},{"$f":"IFERROR(INDEX('Current Standards'!P:P,MATCH('Sheet Counter'!AI3378,'Current Standards'!O:O,0),0),\"\")","v":""}]
[null,null,0,"","",{"$error":"#VALUE!"},"",{"$f":"IF(I3380=\"\",\"\",LARGE(H$1:H3379,1)+1)","v":{"$error":"#VALUE!"}},{"$error":"#VALUE!"},null,null,null,null,null,3379,0,{"$f":"IF(R3380=\"\",\"\",LARGE(Q$1:Q3379,1)+1)","v":{"$error":"#NUM!"}},{"$error":"#NUM!"},null,null,null,null,null,null,0,{"$error":"#VALUE!"},3999,"","",null,null,null,null,{"$error":"#VALUE!"},{"$error":"#VALUE!"},{"$f":"COUNTIF('Standards LOOKUP'!B:B,AI3380)","v":0},{"$f":"IFERROR(INDEX('Standards LOOKUP'!C:C,MATCH(AI3380,'Standards LOOKUP'!B:B,0),0),0)","v":0},{"$f":"IFERROR(INDEX('Current Standards'!P:P,MATCH('Sheet Counter'!AI3380,'Current Standards'!O:O,0),0),\"\")","v":""}]
[null,null,0,"","",{"$error":"#VALUE!"},"",{"$f":"IF(I3383=\"\",\"\",LARGE(H$1:H3382,1)+1)","v":{"$error":"#VALUE!"}},{"$error":"#VALUE!"},null,null,null,null,null,3382,0,{"$f":"IF(R3383=\"\",\"\",LARGE(Q$1:Q3382,1)+1)","v":{"$error":"#NUM!"}},{"$error":"#NUM!"},null,null,null,null,null,null,0,{"$error":"#VALUE!"},3999,"","",null,null,null,null,{"$error":"#VALUE!"},{"$error":"#VALUE!"},{"$f":"COUNTIF('Standards LOOKUP'!B:B,AI3383)","v":0},{"$f":"IFERROR(INDEX('Standards LOOKUP'!C:C,MATCH(AI3383,'Standards LOOKUP'!B:B,0),0),0)","v":0},{"$f":"IFERROR(INDEX('Current Standards'!P:P,MATCH('Sheet Counter'!AI3383,'Current Standards'!O:O,0),0),\"\")","v":""}]
[null,null,0,"","",{"$error":"#VALUE!"},"",{"$f":"IF(I3387=\"\",\"\",LARGE(H$1:H3386,1)+1)","v":{"$error":"#VALUE!"}},{"$error":"#VALUE!"},null,null,null,null,null,3386,0,{"$f":"IF(R3387=\"\",\"\",LARGE(Q$1:Q3386,1)+1)","v":{"$error":"#NUM!"}},{"$error":"#NUM!"},null,null,null,null,null,null,0,{"$error":"#VALUE!"},3999,"","",null,null,null,null,{"$error":"#VALUE!"},{"$error":"#VALUE!"},{"$f":"COUNTIF('Standards LOOKUP'!B:B,AI3387)","v":0},{"$f":"IFERROR(INDEX('Standards LOOKUP'!C:C,MATCH(AI3387,'Standards LOOKUP'!B:B,0),0),0)","v":0},{"$f":"IFERROR(INDEX('Current Standards'!P:P,MATCH('Sheet Counter'!AI3387,'Current Standards'!O:O,0),0),\"\")","v":""}]
[null,null,0,"","",{"$error":"#VALUE!"},"",{"$f":"IF(I3389=\"\",\"\",LARGE(H$1:H3388,1)+1)","v":{"$error":"#VALUE!"}},{"$error":"#VALUE!"},null,null,null,null,null,3388,0,{"$f":"IF(R3389=\"\",\"\",LARGE(Q$1:Q3388,1)+1)","v":{"$error":"#NUM!"}},{"$error":"#NUM!"},null,null,null,null,null,null,0,{"$error":"#VALUE!"},3999,"","",null,null,null,null,{"$error":"#VALUE!"},{"$error":"#VALUE!"},{"$f":"COUNTIF('Standards LOOKUP'!B:B,AI3389)","v":0},{"$f":"IFERROR(INDEX('Standards LOOKUP'!C:C,MATCH(AI3389,'Standards LOOKUP'!B:B,0),0),0)","v":0},{"$f":"IFERROR(INDEX('Current Standards'!P:P,MATCH('Sheet Counter'!AI3389,'Current Standards'!O:O,0),0),\"\")","v":""}]
[null,null,0,"","",{"$error":"#VALUE!"},"",{"$f":"IF(I3392=\"\",\"\",LARGE(H$1:H3391,1)+1)","v":{"$error":"#VALUE!"}},{"$error":"#VALUE!"},null,null,null,null,null,3391,0,{"$f":"IF(R3392=\"\",\"\",LARGE(Q$1:Q3391,1)+1)","v":{"$error":"#NUM!"}},{"$error":"#NUM!"},null,null,null,null,null,null,0,{"$error":"#VALUE!"},3999,"","",null,null,null,null,{"$error":"#VALUE!"},{"$error":"#VALUE!"},{"$f":"COUNTIF('Standards LOOKUP'!B:B,AI3392)","v":0},{"$f":"IFERROR(INDEX('Standards LOOKUP'!C:C,MATCH(AI3392,'Standards LOOKUP'!B:B,0),0),0)","v":0},{"$f":"IFERROR(INDEX('Current Standards'!P:P,MATCH('Sheet Counter'!AI3392,'Current Standards'!O:O,0),0),\"\")","v":""}]
[null,null,0,"","",{"$error":"#VALUE!"},"",{"$f":"IF(I3393=\"\",\"\",LARGE(H$1:H3392,1)+1)","v":{"$error":"#VALUE!"}},{"$error":"#VALUE!"},null,null,null,null,null,3392,0,{"$f":"IF(R3393=\"\",\"\",LARGE(Q$1:Q3392,1)+1)","v":{"$error":"#NUM!"}},{"$error":"#NUM!"},null,null,null,null,null,null,0,{"$error":"#VALUE!"},3999,"","",null,null,null,null,{"$error":"#VALUE!"},{"$error":"#VALUE!"},{"$f":"COUNTIF('Standards LOOKUP'!B:B,AI3393)","v":0},{"$f":"IFERROR(INDEX('Standards LOOKUP'!C:C,MATCH(AI3393,'Standards LOOKUP'!B:B,0),0),0)","v":0},{"$f":"IFERROR(INDEX('Current Standards'!P:P,MATCH('Sheet Counter'!AI3393,'Current Standards'!O:O,0),0),\"\")","v":""}]
[null,null,0,"","",{"$error":"#VALUE!"},"",{"$f":"IF(I3396=\"\",\"\",LARGE(H$1:H3395,1)+1)","v":{"$error":"#VALUE!"}},{"$error":"#VALUE!"},null,null,null,null,null,3395,0,{"$f":"IF(R3396=\"\",\"\",LARGE(Q$1:Q3395,1)+1)","v":{"$error":"#NUM!"}},{"$f":"IF(AND(P3396<>1,O3396<=LARGE(G:G,1),O3396>=SMALL(G:G,1)),O3396,\"\")","v":{"$error":"#NUM!"}},null,null,null,null,null,null,0,{"$error":"#VALUE!"},3999,"","",null,null,null,null,{"$error":"#VALUE!"},{"$error":"#VALUE!"},{"$f":"COUNTIF('Standards LOOKUP'!B:B,AI3396)","v":0},{"$f":"IFERROR(INDEX('Standards LOOKUP'!C:C,MATCH(AI3396,'Standards LOOKUP'!B:B,0),0),0)","v":0},{"$f":"IFERROR(INDEX('Current Standards'!P:P,MATCH('Sheet Counter'!AI3396,'Current Standards'!O:O,0),0),\"\")","v":""}]
[null,null,0,"","",{"$error":"#VALUE!"},"",{"$f":"IF(I3400=\"\",\"\",LARGE(H$1:H3399,1)+1)","v":{"$error":"#VALUE!"}},{"$error":"#VALUE!"},null,null,null,null,null,3399,0,{"$f":"IF(R3400=\"\",\"\",LARGE(Q$1:Q3399,1)+1)","v":{"$error":"#NUM!"}},{"$error":"#NUM!"},null,null,null,null,null,null,0,{"$error":"#VALUE!"},3999,"","",null,null,null,null,{"$error":"#VALUE!"},{"$error":"#VALUE!"},{"$f":"COUNTIF('Standards LOOKUP'!B:B,AI3400)","v":0},{"$f":"IFERROR(INDEX('Standards LOOKUP'!C:C,MATCH(AI3400,'Standards LOOKUP'!B:B,0),0),0)","v":0},{"$f":"IFERROR(INDEX('Current Standards'!P:P,MATCH('Sheet Counter'!AI3400,'Current Standards'!O:O,0),0),\"\")","v":""}]
[null,null,0,"","",{"$error":"#VALUE!"},"",{"$f":"IF(I3402=\"\",\"\",LARGE(H$1:H3401,1)+1)","v":{"$error":"#VALUE!"}},{"$error":"#VALUE!"},null,null,null,null,null,3401,0,{"$f":"IF(R3402=\"\",\"\",LARGE(Q$1:Q3401,1)+1)","v":{"$error":"#NUM!"}},{"$error":"#NUM!"},null,null,null,null,null,null,0,{"$error":"#VALUE!"},3999,"","",null,null,null,null,{"$error":"#VALUE!"},{"$error":"#VALUE!"},{"$f":"COUNTIF('Standards LOOKUP'!B:B,AI3402)","v":0},{"$f":"IFERROR(INDEX('Standards LOOKUP'!C:C,MATCH(AI3402,'Standards LOOKUP'!B:B,0),0),0)","v":0},{"$f":"IFERROR(INDEX('Current Standards'!P:P,MATCH('Sheet Counter'!AI3402,'Current Standards'!O:O,0),0),\"\")","v":""}]
[null,null,0,"","",{"$error":"#VALUE!"},"",{"$f":"IF(I3405=\"\",\"\",LARGE(H$1:H3404,1)+1)","v":{"$error":"#VALUE!"}},{"$error":"#VALUE!"},null,null,null,null,null,3404,0,{"$f":"IF(R3405=\"\",\"\",LARGE(Q$1:Q3404,1)+1)","v":{"$error":"#NUM!"}},{"$error":"#NUM!"},null,null,null,null,null,null,0,{"$error":"#VALUE!"},3999,"","",null,null,null,null,{"$error":"#VALUE!"},{"$error":"#VALUE!"},{"$f":"COUNTIF('Standards LOOKUP'!B:B,AI3405)","v":0},{"$f":"IFERROR(INDEX('Standards LOOKUP'!C:C,MATCH(AI3405,'Standards LOOKUP'!B:B,0),0),0)","v":0},{"$f":"IFERROR(INDEX('Current Standards'!P:P,MATCH('Sheet Counter'!AI3405,'Current Standards'!O:O,0),0),\"\")","v":""}]
[null,null,0,"","",{"$error":"#VALUE!"},"",{"$f":"IF(I3409=\"\",\"\",LARGE(H$1:H3408,1)+1)","v":{"$error":"#VALUE!"}},{"$error":"#VALUE!"},null,null,null,null,null,3408,0,{"$f":"IF(R3409=\"\",\"\",LARGE(Q$1:Q3408,1)+1)","v":{"$error":"#NUM!"}},{"$error":"#NUM!"},null,null,null,null,null,null,0,{"$error":"#VALUE!"},3999,"","",null,null,null,null,{"$error":"#VALUE!"},{"$error":"#VALUE!"},{"$f":"COUNTIF('Standards LOOKUP'!B:B,AI3409)","v":0},{"$f":"IFERROR(INDEX('Standards LOOKUP'!C:C,MATCH(AI3409,'Standards LOOKUP'!B:B,0),0),0)","v":0},{"$f":"IFERROR(INDEX('Current Standards'!P:P,MATCH('Sheet Counter'!AI3409,'Current Standards'!O:O,0),0),\"\")","v":""}]
[null,null,0,"","",{"$error":"#VALUE!"},"",{"$f":"IF(I3411=\"\",\"\",LARGE(H$1:H3410,1)+1)","v":{"$error":"#VALUE!"}},{"$error":"#VALUE!"},null,null,null,null,null,3410,0,{"$f":"IF(R3411=\"\",\"\",LARGE(Q$1:Q3410,1)+1)","v":{"$error":"#NUM!"}},{"$error":"#NUM!"},null,null,null,null,null,null,0,{"$error":"#VALUE!"},3999,"","",null,null,null,null,{"$error":"#VALUE!"},{"$error":"#VALUE!"},{"$f":"COUNTIF('Standards LOOKUP'!B:B,AI3411)","v":0},{"$f":"IFERROR(INDEX('Standards LOOKUP'!C:C,MATCH(AI3411,'Standards LOOKUP'!B:B,0),0),0)","v":0},{"$f":"IFERROR(INDEX('Current Standards'!P:P,MATCH('Sheet Counter'!AI3411,'Current Standards'!O:O,0),0),\"\")","v":""}]
[null,null,0,"","",{"$error":"#VALUE!"},"",{"$f":"IF(I3414=\"\",\"\",LARGE(H$1:H3413,1)+1)","v":{"$error":"#VALUE!"}},{"$error":"#VALUE!"},null,null,null,null,null,3413,0,{"$f":"IF(R3414=\"\",\"\",LARGE(Q$1:Q3413,1)+1)","v":{"$error":"#NUM!"}},{"$error":"#NUM!"},null,null,null,null,null,null,0,{"$error":"#VALUE!"},3999,"","",null,null,null,null,{"$error":"#VALUE!"},{"$error":"#VALUE!"},{"$f":"COUNTIF('Standards LOOKUP'!B:B,AI3414)","v":0},{"$f":"IFERROR(INDEX('Standards LOOKUP'!C:C,MATCH(AI3414,'Standards LOOKUP'!B:B,0),0),0)","v":0},{"$f":"IFERROR(INDEX('Current Standards'!P:P,MATCH('Sheet Counter'!AI3414,'Current Standards'!O:O,0),0),\"\")","v":""}]
[null,null,0,"","",{"$error":"#VALUE!"},"",{"$f":"IF(I3415=\"\",\"\",LARGE(H$1:H3414,1)+1)","v":{"$error":"#VALUE!"}},{"$error":"#VALUE!"},null,null,null,null,null,3414,0,{"$f":"IF(R3415=\"\",\"\",LARGE(Q$1:Q3414,1)+1)","v":{"$error":"#NUM!"}},{"$error":"#NUM!"},null,null,null,null,null,null,0,{"$error":"#VALUE!"},3999,"","",null,null,null,null,{"$error":"#VALUE!"},{"$error":"#VALUE!"},{"$f":"COUNTIF('Standards LOOKUP'!B:B,AI3415)","v":0},{"$f":"IFERROR(INDEX('Standards LOOKUP'!C:C,MATCH(AI3415,'Standards LOOKUP'!B:B,0),0),0)","v":0},{"$f":"IFERROR(INDEX('Current Standards'!P:P,MATCH('Sheet Counter'!AI3415,'Current Standards'!O:O,0),0),\"\")","v":""}]
[null,null,0,"","",{"$error":"#VALUE!"},"",{"$f":"IF(I3418=\"\",\"\",LARGE(H$1:H3417,1)+1)","v":{"$error":"#VALUE!"}},{"$error":"#VALUE!"},null,null,null,null,null,3417,0,{"$f":"IF(R3418=\"\",\"\",LARGE(Q$1:Q3417,1)+1)","v":{"$error":"#NUM!"}},{"$error":"#NUM!"},null,null,null,null,null,null,0,{"$error":"#VALUE!"},3999,"","",null,null,null,null,{"$error":"#VALUE!"},{"$error":"#VALUE!"},{"$f":"COUNTIF('Standards LOOKUP'!B:B,AI3418)","v":0},{"$f":"IFERROR(INDEX('Standards LOOKUP'!C:C,MATCH(AI3418,'Standards LOOKUP'!B:B,0),0),0)","v":0},{"$f":"IFERROR(INDEX('Current Standards'!P:P,MATCH('Sheet Counter'!AI3418,'Current Standards'!O:O,0),0),\"\")","v":""}]
[null,null,0,"","",{"$error":"#VALUE!"},"",{"$f":"IF(I3422=\"\",\"\",LARGE(H$1:H3421,1)+1)","v":{"$error":"#VALUE!"}},{"$error":"#VALUE!"},null,null,null,null,null,3421,0,{"$f":"IF(R3422=\"\",\"\",LARGE(Q$1:Q3421,1)+1)","v":{"$error":"#NUM!"}},{"$error":"#NUM!"},null,null,null,null,null,null,0,{"$error":"#VALUE!"},3999,"","",null,null,null,null,{"$error":"#VALUE!"},{"$error":"#VALUE!"},{"$f":"COUNTIF('Standards LOOKUP'!B:B,AI3422)","v":0},{"$f":"IFERROR(INDEX('Standards LOOKUP'!C:C,MATCH(AI3422,'Standards LOOKUP'!B:B,0),0),0)","v":0},{"$f":"IFERROR(INDEX('Current Standards'!P:P,MATCH('Sheet Counter'!AI3422,'Current Standards'!O:O,0),0),\"\")","v":""}]
[null,null,0,"","",{"$error":"#VALUE!"},"",{"$f":"IF(I3424=\"\",\"\",LARGE(H$1:H3423,1)+1)","v":{"$error":"#VALUE!"}},{"$error":"#VALUE!"},null,null,null,null,null,3423,0,{"$f":"IF(R3424=\"\",\"\",LARGE(Q$1:Q3423,1)+1)","v":{"$error":"#NUM!"}},{"$error":"#NUM!"},null,null,null,null,null,null,0,{"$error":"#VALUE!"},3999,"","",null,null,null,null,{"$error":"#VALUE!"},{"$error":"#VALUE!"},{"$f":"COUNTIF('Standards LOOKUP'!B:B,AI3424)","v":0},{"$f":"IFERROR(INDEX('Standards LOOKUP'!C:C,MATCH(AI3424,'Standards LOOKUP'!B:B,0),0),0)","v":0},{"$f":"IFERROR(INDEX('Current Standards'!P:P,MATCH('Sheet Counter'!AI3424,'Current Standards'!O:O,0),0),\"\")","v":""}]
[null,null,0,"","",{"$error":"#VALUE!"},"",{"$f":"IF(I3427=\"\",\"\",LARGE(H$1:H3426,1)+1)","v":{"$error":"#VALUE!"}},{"$error":"#VALUE!"},null,null,null,null,null,3426,0,{"$f":"IF(R3427=\"\",\"\",LARGE(Q$1:Q3426,1)+1)","v":{"$error":"#NUM!"}},{"$error":"#NUM!"},null,null,null,null,null,null,0,{"$error":"#VALUE!"},3999,"","",null,null,null,null,{"$error":"#VALUE!"},{"$error":"#VALUE!"},{"$f":"COUNTIF('Standards LOOKUP'!B:B,AI3427)","v":0},{"$f":"IFERROR(INDEX('Standards LOOKUP'!C:C,MATCH(AI3427,'Standards LOOKUP'!B:B,0),0),0)","v":0},{"$f":"IFERROR(INDEX('Current Standards'!P:P,MATCH('Sheet Counter'!AI3427,'Current Standards'!O:O,0),0),\"\")","v":""}]
[null,null,0,"","",{"$error":"#VALUE!"},"",{"$f":"IF(I3431=\"\",\"\",LARGE(H$1:H3430,1)+1)","v":{"$error":"#VALUE!"}},{"$error":"#VALUE!"},null,null,null,null,null,3430,0,{"$f":"IF(R3431=\"\",\"\",LARGE(Q$1:Q3430,1)+1)","v":{"$error":"#NUM!"}},{"$error":"#NUM!"},null,null,null,null,null,null,0,{"$error":"#VALUE!"},3999,"","",null,null,null,null,{"$error":"#VALUE!"},{"$error":"#VALUE!"},{"$f":"COUNTIF('Standards LOOKUP'!B:B,AI3431)","v":0},{"$f":"IFERROR(INDEX('Standards LOOKUP'!C:C,MATCH(AI3431,'Standards LOOKUP'!B:B,0),0),0)","v":0},{"$f":"IFERROR(INDEX('Current Standards'!P:P,MATCH('Sheet Counter'!AI3431,'Current Standards'!O:O,0),0),\"\")","v":""}]
[null,null,0,"","",{"$error":"#VALUE!"},"",{"$f":"IF(I3433=\"\",\"\",LARGE(H$1:H3432,1)+1)","v":{"$error":"#VALUE!"}},{"$error":"#VALUE!"},null,null,null,null,null,3432,0,{"$f":"IF(R3433=\"\",\"\",LARGE(Q$1:Q3432,1)+1)","v":{"$error":"#NUM!"}},{"$error":"#NUM!"},null,null,null,null,null,null,0,{"$error":"#VALUE!"},3999,"","",null,null,null,null,{"$error":"#VALUE!"},{"$error":"#VALUE!"},{"$f":"COUNTIF('Standards LOOKUP'!B:B,AI3433)","v":0},{"$f":"IFERROR(INDEX('Standards LOOKUP'!C:C,MATCH(AI3433,'Standards LOOKUP'!B:B,0),0),0)","v":0},{"$f":"IFERROR(INDEX('Current Standards'!P:P,MATCH('Sheet Counter'!AI3433,'Current Standards'!O:O,0),0),\"\")","v":""}]
[null,null,0,"","",{"$error":"#VALUE!"},"",{"$f":"IF(I3434=\"\",\"\",LARGE(H$1:H3433,1)+1)","v":{"$error":"#VALUE!"}},{"$error":"#VALUE!"},null,null,null,null,null,3433,0,{"$f":"IF(R3434=\"\",\"\",LARGE(Q$1:Q3433,1)+1)","v":{"$error":"#NUM!"}},{"$error":"#NUM!"},null,null,null,null,null,null,0,{"$error":"#VALUE!"},3999,"","",null,null,null,null,{"$error":"#VALUE!"},{"$error":"#VALUE!"},{"$f":"COUNTIF('Standards LOOKUP'!B:B,AI3434)","v":0},{"$f":"IFERROR(INDEX('Standards LOOKUP'!C:C,MATCH(AI3434,'Standards LOOKUP'!B:B,0),0),0)","v":0},{"$f":"IFERROR(INDEX('Current Standards'!P:P,MATCH('Sheet Counter'!AI3434,'Current Standards'!O:O,0),0),\"\")","v":""}]
[null,null,0,"","",{"$error":"#VALUE!"},"",{"$f":"IF(I3437=\"\",\"\",LARGE(H$1:H3436,1)+1)","v":{"$error":"#VALUE!"}},{"$error":"#VALUE!"},null,null,null,null,null,3436,0,{"$f":"IF(R3437=\"\",\"\",LARGE(Q$1:Q3436,1)+1)","v":{"$error":"#NUM!"}},{"$error":"#NUM!"},null,null,null,null,null,null,0,{"$error":"#VALUE!"},3999,"","",null,null,null,null,{"$error":"#VALUE!"},{"$error":"#VALUE!"},{"$f":"COUNTIF('Standards LOOKUP'!B:B,AI3437)","v":0},{"$f":"IFERROR(INDEX('Standards LOOKUP'!C:C,MATCH(AI3437,'Standards LOOKUP'!B:B,0),0),0)","v":0},{"$f":"IFERROR(INDEX('Current Standards'!P:P,MATCH('Sheet Counter'!AI3437,'Current Standards'!O:O,0),0),\"\")","v":""}]
[null,null,0,"","",{"$error":"#VALUE!"},"",{"$f":"IF(I3440=\"\",\"\",LARGE(H$1:H3439,1)+1)","v":{"$error":"#VALUE!"}},{"$error":"#VALUE!"},null,null,null,null,null,3439,0,{"$f":"IF(R3440=\"\",\"\",LARGE(Q$1:Q3439,1)+1)","v":{"$error":"#NUM!"}},{"$error":"#NUM!"},null,null,null,null,null,null,0,{"$error":"#VALUE!"},3999,"","",null,null,null,null,{"$error":"#VALUE!"},{"$error":"#VALUE!"},{"$f":"COUNTIF('Standards LOOKUP'!B:B,AI3440)","v":0},{"$f":"IFERROR(INDEX('Standards LOOKUP'!C:C,MATCH(AI3440,'Standards LOOKUP'!B:B,0),0),0)","v":0},{"$f":"IFERROR(INDEX('Current Standards'!P:P,MATCH('Sheet Counter'!AI3440,'Current Standards'!O:O,0),0),\"\")","v":""}]
[null,null,0,"","",{"$error":"#VALUE!"},"",{"$f":"IF(I3444=\"\",\"\",LARGE(H$1:H3443,1)+1)","v":{"$error":"#VALUE!"}},{"$error":"#VALUE!"},null,null,null,null,null,3443,0,{"$f":"IF(R3444=\"\",\"\",LARGE(Q$1:Q3443,1)+1)","v":{"$error":"#NUM!"}},{"$error":"#NUM!"},null,null,null,null,null,null,0,{"$error":"#VALUE!"},3999,"","",null,null,null,null,{"$error":"#VALUE!"},{"$error":"#VALUE!"},{"$f":"COUNTIF('Standards LOOKUP'!B:B,AI3444)","v":0},{"$f":"IFERROR(INDEX('Standards LOOKUP'!C:C,MATCH(AI3444,'Standards LOOKUP'!B:B,0),0),0)","v":0},{"$f":"IFERROR(INDEX('Current Standards'!P:P,MATCH('Sheet Counter'!AI3444,'Current Standards'!O:O,0),0),\"\")","v":""}]
[null,null,0,"","",{"$error":"#VALUE!"},"",{"$f":"IF(I3446=\"\",\"\",LARGE(H$1:H3445,1)+1)","v":{"$error":"#VALUE!"}},{"$error":"#VALUE!"},null,null,null,null,null,3445,0,{"$f":"IF(R3446=\"\",\"\",LARGE(Q$1:Q3445,1)+1)","v":{"$error":"#NUM!"}},{"$error":"#NUM!"},null,null,null,null,null,null,0,{"$error":"#VALUE!"},3999,"","",null,null,null,null,{"$error":"#VALUE!"},{"$error":"#VALUE!"},{"$f":"COUNTIF('Standards LOOKUP'!B:B,AI3446)","v":0},{"$f":"IFERROR(INDEX('Standards LOOKUP'!C:C,MATCH(AI3446,'Standards LOOKUP'!B:B,0),0),0)","v":0},{"$f":"IFERROR(INDEX('Current Standards'!P:P,MATCH('Sheet Counter'!AI3446,'Current Standards'!O:O,0),0),\"\")","v":""}]
[null,null,0,"","",{"$error":"#VALUE!"},"",{"$f":"IF(I3449=\"\",\"\",LARGE(H$1:H3448,1)+1)","v":{"$error":"#VALUE!"}},{"$error":"#VALUE!"},null,null,null,null,null,3448,0,{"$f":"IF(R3449=\"\",\"\",LARGE(Q$1:Q3448,1)+1)","v":{"$error":"#NUM!"}},{"$error":"#NUM!"},null,null,null,null,null,null,0,{"$error":"#VALUE!"},3999,"","",null,null,null,null,{"$error":"#VALUE!"},{"$error":"#VALUE!"},{"$f":"COUNTIF('Standards LOOKUP'!B:B,AI3449)","v":0},{"$f":"IFERROR(INDEX('Standards LOOKUP'!C:C,MATCH(AI3449,'Standards LOOKUP'!B:B,0),0),0)","v":0},{"$f":"IFERROR(INDEX('Current Standards'!P:P,MATCH('Sheet Counter'!AI3449,'Current Standards'!O:O,0),0),\"\")","v":""}]
[null,null,0,"","",{"$error":"#VALUE!"},"",{"$f":"IF(I3453=\"\",\"\",LARGE(H$1:H3452,1)+1)","v":{"$error":"#VALUE!"}},{"$error":"#VALUE!"},null,null,null,null,null,3452,0,{"$f":"IF(R3453=\"\",\"\",LARGE(Q$1:Q3452,1)+1)","v":{"$error":"#NUM!"}},{"$error":"#NUM!"},null,null,null,null,null,null,0,{"$error":"#VALUE!"},3999,"","",null,null,null,null,{"$error":"#VALUE!"},{"$error":"#VALUE!"},{"$f":"COUNTIF('Standards LOOKUP'!B:B,AI3453)","v":0},{"$f":"IFERROR(INDEX('Standards LOOKUP'!C:C,MATCH(AI3453,'Standards LOOKUP'!B:B,0),0),0)","v":0},{"$f":"IFERROR(INDEX('Current Standards'!P:P,MATCH('Sheet Counter'!AI3453,'Current Standards'!O:O,0),0),\"\")","v":""}]
[null,null,0,"","",{"$error":"#VALUE!"},"",{"$f":"IF(I3455=\"\",\"\",LARGE(H$1:H3454,1)+1)","v":{"$error":"#VALUE!"}},{"$error":"#VALUE!"},null,null,null,null,null,3454,0,{"$f":"IF(R3455=\"\",\"\",LARGE(Q$1:Q3454,1)+1)","v":{"$error":"#NUM!"}},{"$error":"#NUM!"},null,null,null,null,null,null,0,{"$error":"#VALUE!"},3999,"","",null,null,null,null,{"$error":"#VALUE!"},{"$error":"#VALUE!"},{"$f":"COUNTIF('Standards LOOKUP'!B:B,AI3455)","v":0},{"$f":"IFERROR(INDEX('Standards LOOKUP'!C:C,MATCH(AI3455,'Standards LOOKUP'!B:B,0),0),0)","v":0},{"$f":"IFERROR(INDEX('Current Standards'!P:P,MATCH('Sheet Counter'!AI3455,'Current Standards'!O:O,0),0),\"\")","v":""}]
[null,null,0,"","",{"$error":"#VALUE!"},"",{"$f":"IF(I3456=\"\",\"\",LARGE(H$1:H3455,1)+1)","v":{"$error":"#VALUE!"}},{"$error":"#VALUE!"},null,null,null,null,null,3455,0,{"$f":"IF(R3456=\"\",\"\",LARGE(Q$1:Q3455,1)+1)","v":{"$error":"#NUM!"}},{"$error":"#NUM!"},null,null,null,null,null,null,0,{"$error":"#VALUE!"},3999,"","",null,null,null,null,{"$error":"#VALUE!"},{"$error":"#VALUE!"},{"$f":"COUNTIF('Standards LOOKUP'!B:B,AI3456)","v":0},{"$f":"IFERROR(INDEX('Standards LOOKUP'!C:C,MATCH(AI3456,'Standards LOOKUP'!B:B,0),0),0)","v":0},{"$f":"IFERROR(INDEX('Current Standards'!P:P,MATCH('Sheet Counter'!AI3456,'Current Standards'!O:O,0),0),\"\")","v":""}]
[null,null,0,{"$f":"IF(AL3459=\"\",\"\",AL3459)","v":""},"",{"$error":"#VALUE!"},"",{"$f":"IF(I3459=\"\",\"\",LARGE(H$1:H3458,1)+1)","v":{"$error":"#VALUE!"}},{"$error":"#VALUE!"},null,null,null,null,null,3458,0,{"$f":"IF(R3459=\"\",\"\",LARGE(Q$1:Q3458,1)+1)","v":{"$error":"#NUM!"}},{"$error":"#NUM!"},null,null,null,null,null,null,0,{"$error":"#VALUE!"},3999,"",{"$f":"IF(AA3459=0,\"New Sheet\",IF(EXACT(UPPER(Y3459),UPPER(AB3459)),\"Match\",\"\"))","v":""},null,null,null,null,{"$f":"IF(C3459=\"\",\"\",LEFT(RIGHT(C3459,LEN(C3459)-SEARCH(\" \",C3459,1)),LEN(RIGHT(C3459,LEN(C3459)-SEARCH(\" \",C3459,1)))-4))","v":{"$error":"#VALUE!"}},{"$f":"TRIM(SUBSTITUTE(SUBSTITUTE(SUBSTITUTE(SUBSTITUTE(SUBSTITUTE(SUBSTITUTE(AH3459,\"(\",\"\"),\")\",\"\"),\"-\",\"\"),\"&\",\"\"),\" \",\"\",1),\" \",\"\",1))","v":{"$error":"#VALUE!"}},{"$f":"COUNTIF('Standards LOOKUP'!B:B,AI3459)","v":0},{"$f":"IFERROR(INDEX('Standards LOOKUP'!C:C,MATCH(AI3459,'Standards LOOKUP'!B:B,0),0),0)","v":0},{"$f":"IFERROR(INDEX('Current Standards'!P:P,MATCH('Sheet Counter'!AI3459,'Current Standards'!O:O,0),0),\"\")","v":""}]
[null,null,0,"","",{"$error":"#VALUE!"},"",{"$f":"IF(I3462=\"\",\"\",LARGE(H$1:H3461,1)+1)","v":{"$error":"#VALUE!"}},{"$error":"#VALUE!"},null,null,null,null,null,3461,0,{"$f":"IF(R3462=\"\",\"\",LARGE(Q$1:Q3461,1)+1)","v":{"$error":"#NUM!"}},{"$error":"#NUM!"},null,null,null,null,null,null,0,{"$error":"#VALUE!"},3999,"","",null,null,null,null,{"$error":"#VALUE!"},{"$error":"#VALUE!"},{"$f":"COUNTIF('Standards LOOKUP'!B:B,AI3462)","v":0},{"$f":"IFERROR(INDEX('Standards LOOKUP'!C:C,MATCH(AI3462,'Standards LOOKUP'!B:B,0),0),0)","v":0},{"$f":"IFERROR(INDEX('Current Standards'!P:P,MATCH('Sheet Counter'!AI3462,'Current Standards'!O:O,0),0),\"\")","v":""}]
[null,null,0,"","",{"$error":"#VALUE!"},"",{"$f":"IF(I3466=\"\",\"\",LARGE(H$1:H3465,1)+1)","v":{"$error":"#VALUE!"}},{"$error":"#VALUE!"},null,null,null,null,null,3465,0,{"$f":"IF(R3466=\"\",\"\",LARGE(Q$1:Q3465,1)+1)","v":{"$error":"#NUM!"}},{"$error":"#NUM!"},null,null,null,null,null,null,0,{"$error":"#VALUE!"},3999,"","",null,null,null,null,{"$error":"#VALUE!"},{"$error":"#VALUE!"},{"$f":"COUNTIF('Standards LOOKUP'!B:B,AI3466)","v":0},{"$f":"IFERROR(INDEX('Standards LOOKUP'!C:C,MATCH(AI3466,'Standards LOOKUP'!B:B,0),0),0)","v":0},{"$f":"IFERROR(INDEX('Current Standards'!P:P,MATCH('Sheet Counter'!AI3466,'Current Standards'!O:O,0),0),\"\")","v":""}]
[null,null,0,"","",{"$error":"#VALUE!"},"",{"$f":"IF(I3468=\"\",\"\",LARGE(H$1:H3467,1)+1)","v":{"$error":"#VALUE!"}},{"$error":"#VALUE!"},null,null,null,null,null,3467,0,{"$f":"IF(R3468=\"\",\"\",LARGE(Q$1:Q3467,1)+1)","v":{"$error":"#NUM!"}},{"$error":"#NUM!"},null,null,null,null,null,null,0,{"$error":"#VALUE!"},3999,"","",null,null,null,null,{"$error":"#VALUE!"},{"$error":"#VALUE!"},{"$f":"COUNTIF('Standards LOOKUP'!B:B,AI3468)","v":0},{"$f":"IFERROR(INDEX('Standards LOOKUP'!C:C,MATCH(AI3468,'Standards LOOKUP'!B:B,0),0),0)","v":0},{"$f":"IFERROR(INDEX('Current Standards'!P:P,MATCH('Sheet Counter'!AI3468,'Current Standards'!O:O,0),0),\"\")","v":""}]
[null,null,0,"","",{"$error":"#VALUE!"},"",{"$f":"IF(I3472=\"\",\"\",LARGE(H$1:H3471,1)+1)","v":{"$error":"#VALUE!"}},{"$error":"#VALUE!"},null,null,null,null,null,3471,0,{"$f":"IF(R3472=\"\",\"\",LARGE(Q$1:Q3471,1)+1)","v":{"$error":"#NUM!"}},{"$error":"#NUM!"},null,null,null,null,null,null,0,{"$error":"#VALUE!"},3999,"","",null,null,null,null,{"$error":"#VALUE!"},{"$error":"#VALUE!"},{"$f":"COUNTIF('Standards LOOKUP'!B:B,AI3472)","v":0},{"$f":"IFERROR(INDEX('Standards LOOKUP'!C:C,MATCH(AI3472,'Standards LOOKUP'!B:B,0),0),0)","v":0},{"$f":"IFERROR(INDEX('Current Standards'!P:P,MATCH('Sheet Counter'!AI3472,'Current Standards'!O:O,0),0),\"\")","v":""}]
[null,null,0,"","",{"$error":"#VALUE!"},"",{"$f":"IF(I3475=\"\",\"\",LARGE(H$1:H3474,1)+1)","v":{"$error":"#VALUE!"}},{"$error":"#VALUE!"},null,null,null,null,null,3474,0,{"$f":"IF(R3475=\"\",\"\",LARGE(Q$1:Q3474,1)+1)","v":{"$error":"#NUM!"}},{"$error":"#NUM!"},null,null,null,null,null,null,0,{"$error":"#VALUE!"},3999,"","",null,null,null,null,{"$error":"#VALUE!"},{"$error":"#VALUE!"},{"$f":"COUNTIF('Standards LOOKUP'!B:B,AI3475)","v":0},{"$f":"IFERROR(INDEX('Standards LOOKUP'!C:C,MATCH(AI3475,'Standards LOOKUP'!B:B,0),0),0)","v":0},{"$f":"IFERROR(INDEX('Current Standards'!P:P,MATCH('Sheet Counter'!AI3475,'Current Standards'!O:O,0),0),\"\")","v":""}]
[null,null,0,"","",{"$error":"#VALUE!"},"",{"$f":"IF(I3477=\"\",\"\",LARGE(H$1:H3476,1)+1)","v":{"$error":"#VALUE!"}},{"$error":"#VALUE!"},null,null,null,null,null,3476,0,{"$f":"IF(R3477=\"\",\"\",LARGE(Q$1:Q3476,1)+1)","v":{"$error":"#NUM!"}},{"$error":"#NUM!"},null,null,null,null,null,null,0,{"$error":"#VALUE!"},3999,"","",null,null,null,null,{"$error":"#VALUE!"},{"$error":"#VALUE!"},{"$f":"COUNTIF('Standards LOOKUP'!B:B,AI3477)","v":0},{"$f":"IFERROR(INDEX('Standards LOOKUP'!C:C,MATCH(AI3477,'Standards LOOKUP'!B:B,0),0),0)","v":0},{"$f":"IFERROR(INDEX('Current Standards'!P:P,MATCH('Sheet Counter'!AI3477,'Current Standards'!O:O,0),0),\"\")","v":""}]
[null,null,0,"","",{"$error":"#VALUE!"},"",{"$f":"IF(I3478=\"\",\"\",LARGE(H$1:H3477,1)+1)","v":{"$error":"#VALUE!"}},{"$error":"#VALUE!"},null,null,null,null,null,3477,0,{"$f":"IF(R3478=\"\",\"\",LARGE(Q$1:Q3477,1)+1)","v":{"$error":"#NUM!"}},{"$error":"#NUM!"},null,null,null,null,null,null,0,{"$error":"#VALUE!"},3999,"","",null,null,null,null,{"$error":"#VALUE!"},{"$error":"#VALUE!"},{"$f":"COUNTIF('Standards LOOKUP'!B:B,AI3478)","v":0},{"$f":"IFERROR(INDEX('Standards LOOKUP'!C:C,MATCH(AI3478,'Standards LOOKUP'!B:B,0),0),0)","v":0},{"$f":"IFERROR(INDEX('Current Standards'!P:P,MATCH('Sheet Counter'!AI3478,'Current Standards'!O:O,0),0),\"\")","v":""}]
[null,null,0,"","",{"$error":"#VALUE!"},"",{"$f":"IF(I3481=\"\",\"\",LARGE(H$1:H3480,1)+1)","v":{"$error":"#VALUE!"}},{"$error":"#VALUE!"},null,null,null,null,null,3480,0,{"$f":"IF(R3481=\"\",\"\",LARGE(Q$1:Q3480,1)+1)","v":{"$error":"#NUM!"}},{"$error":"#NUM!"},null,null,null,null,null,null,0,{"$error":"#VALUE!"},3999,"","",null,null,null,null,{"$error":"#VALUE!"},{"$error":"#VALUE!"},{"$f":"COUNTIF('Standards LOOKUP'!B:B,AI3481)","v":0},{"$f":"IFERROR(INDEX('Standards LOOKUP'!C:C,MATCH(AI3481,'Standards LOOKUP'!B:B,0),0),0)","v":0},{"$f":"IFERROR(INDEX('Current Standards'!P:P,MATCH('Sheet Counter'!AI3481,'Current Standards'!O:O,0),0),\"\")","v":""}]
[null,null,0,"","",{"$error":"#VALUE!"},"",{"$f":"IF(I3484=\"\",\"\",LARGE(H$1:H3483,1)+1)","v":{"$error":"#VALUE!"}},{"$error":"#VALUE!"},null,null,null,null,null,3483,0,{"$f":"IF(R3484=\"\",\"\",LARGE(Q$1:Q3483,1)+1)","v":{"$error":"#NUM!"}},{"$error":"#NUM!"},null,null,null,null,null,null,0,{"$error":"#VALUE!"},3999,"","",null,null,null,null,{"$error":"#VALUE!"},{"$error":"#VALUE!"},{"$f":"COUNTIF('Standards LOOKUP'!B:B,AI3484)","v":0},{"$f":"IFERROR(INDEX('Standards LOOKUP'!C:C,MATCH(AI3484,'Standards LOOKUP'!B:B,0),0),0)","v":0},{"$f":"IFERROR(INDEX('Current Standards'!P:P,MATCH('Sheet Counter'!AI3484,'Current Standards'!O:O,0),0),\"\")","v":""}]
[null,null,0,"","",{"$error":"#VALUE!"},"",{"$f":"IF(I3488=\"\",\"\",LARGE(H$1:H3487,1)+1)","v":{"$error":"#VALUE!"}},{"$error":"#VALUE!"},null,null,null,null,null,3487,0,{"$f":"IF(R3488=\"\",\"\",LARGE(Q$1:Q3487,1)+1)","v":{"$error":"#NUM!"}},{"$error":"#NUM!"},null,null,null,null,null,null,0,{"$error":"#VALUE!"},3999,"","",null,null,null,null,{"$error":"#VALUE!"},{"$error":"#VALUE!"},{"$f":"COUNTIF('Standards LOOKUP'!B:B,AI3488)","v":0},{"$f":"IFERROR(INDEX('Standards LOOKUP'!C:C,MATCH(AI3488,'Standards LOOKUP'!B:B,0),0),0)","v":0},{"$f":"IFERROR(INDEX('Current Standards'!P:P,MATCH('Sheet Counter'!AI3488,'Current Standards'!O:O,0),0),\"\")","v":""}]
[null,null,0,"","",{"$error":"#VALUE!"},"",{"$f":"IF(I3490=\"\",\"\",LARGE(H$1:H3489,1)+1)","v":{"$error":"#VALUE!"}},{"$error":"#VALUE!"},null,null,null,null,null,3489,0,{"$f":"IF(R3490=\"\",\"\",LARGE(Q$1:Q3489,1)+1)","v":{"$error":"#NUM!"}},{"$error":"#NUM!"},null,null,null,null,null,null,0,{"$error":"#VALUE!"},3999,"","",null,null,null,null,{"$error":"#VALUE!"},{"$error":"#VALUE!"},{"$f":"COUNTIF('Standards LOOKUP'!B:B,AI3490)","v":0},{"$f":"IFERROR(INDEX('Standards LOOKUP'!C:C,MATCH(AI3490,'Standards LOOKUP'!B:B,0),0),0)","v":0},{"$f":"IFERROR(INDEX('Current Standards'!P:P,MATCH('Sheet Counter'!AI3490,'Current Standards'!O:O,0),0),\"\")","v":""}]
[null,null,0,"","",{"$error":"#VALUE!"},"",{"$f":"IF(I3494=\"\",\"\",LARGE(H$1:H3493,1)+1)","v":{"$error":"#VALUE!"}},{"$error":"#VALUE!"},null,null,null,null,null,3493,0,{"$f":"IF(R3494=\"\",\"\",LARGE(Q$1:Q3493,1)+1)","v":{"$error":"#NUM!"}},{"$error":"#NUM!"},null,null,null,null,null,null,0,{"$error":"#VALUE!"},3999,"","",null,null,null,null,{"$error":"#VALUE!"},{"$error":"#VALUE!"},{"$f":"COUNTIF('Standards LOOKUP'!B:B,AI3494)","v":0},{"$f":"IFERROR(INDEX('Standards LOOKUP'!C:C,MATCH(AI3494,'Standards LOOKUP'!B:B,0),0),0)","v":0},{"$f":"IFERROR(INDEX('Current Standards'!P:P,MATCH('Sheet Counter'!AI3494,'Current Standards'!O:O,0),0),\"\")","v":""}]
[null,null,0,"","",{"$error":"#VALUE!"},"",{"$f":"IF(I3497=\"\",\"\",LARGE(H$1:H3496,1)+1)","v":{"$error":"#VALUE!"}},{"$error":"#VALUE!"},null,null,null,null,null,3496,0,{"$f":"IF(R3497=\"\",\"\",LARGE(Q$1:Q3496,1)+1)","v":{"$error":"#NUM!"}},{"$error":"#NUM!"},null,null,null,null,null,null,0,{"$error":"#VALUE!"},3999,"","",null,null,null,null,{"$error":"#VALUE!"},{"$error":"#VALUE!"},{"$f":"COUNTIF('Standards LOOKUP'!B:B,AI3497)","v":0},{"$f":"IFERROR(INDEX('Standards LOOKUP'!C:C,MATCH(AI3497,'Standards LOOKUP'!B:B,0),0),0)","v":0},{"$f":"IFERROR(INDEX('Current Standards'!P:P,MATCH('Sheet Counter'!AI3497,'Current Standards'!O:O,0),0),\"\")","v":""}]
[null,null,0,"","",{"$error":"#VALUE!"},"",{"$f":"IF(I3499=\"\",\"\",LARGE(H$1:H3498,1)+1)","v":{"$error":"#VALUE!"}},{"$error":"#VALUE!"},null,null,null,null,null,3498,0,{"$f":"IF(R3499=\"\",\"\",LARGE(Q$1:Q3498,1)+1)","v":{"$error":"#NUM!"}},{"$error":"#NUM!"},null,null,null,null,null,null,0,{"$error":"#VALUE!"},3999,"","",null,null,null,null,{"$error":"#VALUE!"},{"$error":"#VALUE!"},{"$f":"COUNTIF('Standards LOOKUP'!B:B,AI3499)","v":0},{"$f":"IFERROR(INDEX('Standards LOOKUP'!C:C,MATCH(AI3499,'Standards LOOKUP'!B:B,0),0),0)","v":0},{"$f":"IFERROR(INDEX('Current Standards'!P:P,MATCH('Sheet Counter'!AI3499,'Current Standards'!O:O,0),0),\"\")","v":""}]
[null,null,0,"","",{"$error":"#VALUE!"},"",{"$f":"IF(I3500=\"\",\"\",LARGE(H$1:H3499,1)+1)","v":{"$error":"#VALUE!"}},{"$error":"#VALUE!"},null,null,null,null,null,3499,0,{"$f":"IF(R3500=\"\",\"\",LARGE(Q$1:Q3499,1)+1)","v":{"$error":"#NUM!"}},{"$error":"#NUM!"},null,null,null,null,null,null,0,{"$error":"#VALUE!"},3999,"","",null,null,null,null,{"$error":"#VALUE!"},{"$error":"#VALUE!"},{"$f":"COUNTIF('Standards LOOKUP'!B:B,AI3500)","v":0},{"$f":"IFERROR(INDEX('Standards LOOKUP'!C:C,MATCH(AI3500,'Standards LOOKUP'!B:B,0),0),0)","v":0},{"$f":"IFERROR(INDEX('Current Standards'!P:P,MATCH('Sheet Counter'!AI3500,'Current Standards'!O:O,0),0),\"\")","v":""}]
[null,null,0,"","",{"$error":"#VALUE!"},"",{"$f":"IF(I3503=\"\",\"\",LARGE(H$1:H3502,1)+1)","v":{"$error":"#VALUE!"}},{"$error":"#VALUE!"},null,null,null,null,null,3502,0,{"$f":"IF(R3503=\"\",\"\",LARGE(Q$1:Q3502,1)+1)","v":{"$error":"#NUM!"}},{"$error":"#NUM!"},null,null,null,null,null,null,0,{"$error":"#VALUE!"},3999,"","",null,null,null,null,{"$error":"#VALUE!"},{"$error":"#VALUE!"},{"$f":"COUNTIF('Standards LOOKUP'!B:B,AI3503)","v":0},{"$f":"IFERROR(INDEX('Standards LOOKUP'!C:C,MATCH(AI3503,'Standards LOOKUP'!B:B,0),0),0)","v":0},{"$f":"IFERROR(INDEX('Current Standards'!P:P,MATCH('Sheet Counter'!AI3503,'Current Standards'!O:O,0),0),\"\")","v":""}]
[null,null,0,"","",{"$error":"#VALUE!"},"",{"$f":"IF(I3506=\"\",\"\",LARGE(H$1:H3505,1)+1)","v":{"$error":"#VALUE!"}},{"$error":"#VALUE!"},null,null,null,null,null,3505,0,{"$f":"IF(R3506=\"\",\"\",LARGE(Q$1:Q3505,1)+1)","v":{"$error":"#NUM!"}},{"$error":"#NUM!"},null,null,null,null,null,null,0,{"$error":"#VALUE!"},3999,"","",null,null,null,null,{"$error":"#VALUE!"},{"$error":"#VALUE!"},{"$f":"COUNTIF('Standards LOOKUP'!B:B,AI3506)","v":0},{"$f":"IFERROR(INDEX('Standards LOOKUP'!C:C,MATCH(AI3506,'Standards LOOKUP'!B:B,0),0),0)","v":0},{"$f":"IFERROR(INDEX('Current Standards'!P:P,MATCH('Sheet Counter'!AI3506,'Current Standards'!O:O,0),0),\"\")","v":""}]
[null,null,0,"","",{"$error":"#VALUE!"},"",{"$f":"IF(I3510=\"\",\"\",LARGE(H$1:H3509,1)+1)","v":{"$error":"#VALUE!"}},{"$error":"#VALUE!"},null,null,null,null,null,3509,0,{"$f":"IF(R3510=\"\",\"\",LARGE(Q$1:Q3509,1)+1)","v":{"$error":"#NUM!"}},{"$error":"#NUM!"},null,null,null,null,null,null,0,{"$error":"#VALUE!"},3999,"","",null,null,null,null,{"$error":"#VALUE!"},{"$error":"#VALUE!"},{"$f":"COUNTIF('Standards LOOKUP'!B:B,AI3510)","v":0},{"$f":"IFERROR(INDEX('Standards LOOKUP'!C:C,MATCH(AI3510,'Standards LOOKUP'!B:B,0),0),0)","v":0},{"$f":"IFERROR(INDEX('Current Standards'!P:P,MATCH('Sheet Counter'!AI3510,'Current Standards'!O:O,0),0),\"\")","v":""}]
[null,null,0,"","",{"$error":"#VALUE!"},"",{"$f":"IF(I3512=\"\",\"\",LARGE(H$1:H3511,1)+1)","v":{"$error":"#VALUE!"}},{"$error":"#VALUE!"},null,null,null,null,null,3511,0,{"$f":"IF(R3512=\"\",\"\",LARGE(Q$1:Q3511,1)+1)","v":{"$error":"#NUM!"}},{"$error":"#NUM!"},null,null,null,null,null,null,0,{"$error":"#VALUE!"},3999,"","",null,null,null,null,{"$error":"#VALUE!"},{"$error":"#VALUE!"},{"$f":"COUNTIF('Standards LOOKUP'!B:B,AI3512)","v":0},{"$f":"IFERROR(INDEX('Standards LOOKUP'!C:C,MATCH(AI3512,'Standards LOOKUP'!B:B,0),0),0)","v":0},{"$f":"IFERROR(INDEX('Current Standards'!P:P,MATCH('Sheet Counter'!AI3512,'Current Standards'!O:O,0),0),\"\")","v":""}]
[null,null,0,"","",{"$error":"#VALUE!"},"",{"$f":"IF(I3516=\"\",\"\",LARGE(H$1:H3515,1)+1)","v":{"$error":"#VALUE!"}},{"$error":"#VALUE!"},null,null,null,null,null,3515,0,{"$f":"IF(R3516=\"\",\"\",LARGE(Q$1:Q3515,1)+1)","v":{"$error":"#NUM!"}},{"$error":"#NUM!"},null,null,null,null,null,null,0,{"$error":"#VALUE!"},3999,"","",null,null,null,null,{"$error":"#VALUE!"},{"$error":"#VALUE!"},{"$f":"COUNTIF('Standards LOOKUP'!B:B,AI3516)","v":0},{"$f":"IFERROR(INDEX('Standards LOOKUP'!C:C,MATCH(AI3516,'Standards LOOKUP'!B:B,0),0),0)","v":0},{"$f":"IFERROR(INDEX('Current Standards'!P:P,MATCH('Sheet Counter'!AI3516,'Current Standards'!O:O,0),0),\"\")","v":""}]
[null,null,0,"","",{"$error":"#VALUE!"},"",{"$f":"IF(I3519=\"\",\"\",LARGE(H$1:H3518,1)+1)","v":{"$error":"#VALUE!"}},{"$error":"#VALUE!"},null,null,null,null,null,3518,0,{"$f":"IF(R3519=\"\",\"\",LARGE(Q$1:Q3518,1)+1)","v":{"$error":"#NUM!"}},{"$error":"#NUM!"},null,null,null,null,null,null,0,{"$error":"#VALUE!"},3999,"","",null,null,null,null,{"$error":"#VALUE!"},{"$error":"#VALUE!"},{"$f":"COUNTIF('Standards LOOKUP'!B:B,AI3519)","v":0},{"$f":"IFERROR(INDEX('Standards LOOKUP'!C:C,MATCH(AI3519,'Standards LOOKUP'!B:B,0),0),0)","v":0},{"$f":"IFERROR(INDEX('Current Standards'!P:P,MATCH('Sheet Counter'!AI3519,'Current Standards'!O:O,0),0),\"\")","v":""}]
[null,null,0,"","",{"$error":"#VALUE!"},"",{"$f":"IF(I3521=\"\",\"\",LARGE(H$1:H3520,1)+1)","v":{"$error":"#VALUE!"}},{"$error":"#VALUE!"},null,null,null,null,null,3520,0,{"$f":"IF(R3521=\"\",\"\",LARGE(Q$1:Q3520,1)+1)","v":{"$error":"#NUM!"}},{"$error":"#NUM!"},null,null,null,null,null,null,0,{"$error":"#VALUE!"},3999,"","",null,null,null,null,{"$error":"#VALUE!"},{"$error":"#VALUE!"},{"$f":"COUNTIF('Standards LOOKUP'!B:B,AI3521)","v":0},{"$f":"IFERROR(INDEX('Standards LOOKUP'!C:C,MATCH(AI3521,'Standards LOOKUP'!B:B,0),0),0)","v":0},{"$f":"IFERROR(INDEX('Current Standards'!P:P,MATCH('Sheet Counter'!AI3521,'Current Standards'!O:O,0),0),\"\")","v":""}]
[null,null,0,"","",{"$error":"#VALUE!"},"",{"$f":"IF(I3522=\"\",\"\",LARGE(H$1:H3521,1)+1)","v":{"$error":"#VALUE!"}},{"$error":"#VALUE!"},null,null,null,null,null,3521,0,{"$f":"IF(R3522=\"\",\"\",LARGE(Q$1:Q3521,1)+1)","v":{"$error":"#NUM!"}},{"$error":"#NUM!"},null,null,null,null,null,null,0,{"$error":"#VALUE!"},3999,"","",null,null,null,null,{"$error":"#VALUE!"},{"$error":"#VALUE!"},{"$f":"COUNTIF('Standards LOOKUP'!B:B,AI3522)","v":0},{"$f":"IFERROR(INDEX('Standards LOOKUP'!C:C,MATCH(AI3522,'Standards LOOKUP'!B:B,0),0),0)","v":0},{"$f":"IFERROR(INDEX('Current Standards'!P:P,MATCH('Sheet Counter'!AI3522,'Current Standards'!O:O,0),0),\"\")","v":""}]
[null,null,0,"","",{"$error":"#VALUE!"},"",{"$f":"IF(I3525=\"\",\"\",LARGE(H$1:H3524,1)+1)","v":{"$error":"#VALUE!"}},{"$error":"#VALUE!"},null,null,null,null,null,3524,0,{"$f":"IF(R3525=\"\",\"\",LARGE(Q$1:Q3524,1)+1)","v":{"$error":"#NUM!"}},{"$error":"#NUM!"},null,null,null,null,null,null,0,{"$error":"#VALUE!"},3999,"","",null,null,null,null,{"$error":"#VALUE!"},{"$error":"#VALUE!"},{"$f":"COUNTIF('Standards LOOKUP'!B:B,AI3525)","v":0},{"$f":"IFERROR(INDEX('Standards LOOKUP'!C:C,MATCH(AI3525,'Standards LOOKUP'!B:B,0),0),0)","v":0},{"$f":"IFERROR(INDEX('Current Standards'!P:P,MATCH('Sheet Counter'!AI3525,'Current Standards'!O:O,0),0),\"\")","v":""}]
[null,null,0,"","",{"$error":"#VALUE!"},"",{"$f":"IF(I3529=\"\",\"\",LARGE(H$1:H3528,1)+1)","v":{"$error":"#VALUE!"}},{"$error":"#VALUE!"},null,null,null,null,null,3528,0,{"$f":"IF(R3529=\"\",\"\",LARGE(Q$1:Q3528,1)+1)","v":{"$error":"#NUM!"}},{"$error":"#NUM!"},null,null,null,null,null,null,0,{"$error":"#VALUE!"},3999,"","",null,null,null,null,{"$error":"#VALUE!"},{"$error":"#VALUE!"},{"$f":"COUNTIF('Standards LOOKUP'!B:B,AI3529)","v":0},{"$f":"IFERROR(INDEX('Standards LOOKUP'!C:C,MATCH(AI3529,'Standards LOOKUP'!B:B,0),0),0)","v":0},{"$f":"IFERROR(INDEX('Current Standards'!P:P,MATCH('Sheet Counter'!AI3529,'Current Standards'!O:O,0),0),\"\")","v":""}]
[null,null,0,"","",{"$error":"#VALUE!"},"",{"$f":"IF(I3532=\"\",\"\",LARGE(H$1:H3531,1)+1)","v":{"$error":"#VALUE!"}},{"$error":"#VALUE!"},null,null,null,null,null,3531,0,{"$f":"IF(R3532=\"\",\"\",LARGE(Q$1:Q3531,1)+1)","v":{"$error":"#NUM!"}},{"$error":"#NUM!"},null,null,null,null,null,null,0,{"$error":"#VALUE!"},3999,"","",null,null,null,null,{"$error":"#VALUE!"},{"$error":"#VALUE!"},{"$f":"COUNTIF('Standards LOOKUP'!B:B,AI3532)","v":0},{"$f":"IFERROR(INDEX('Standards LOOKUP'!C:C,MATCH(AI3532,'Standards LOOKUP'!B:B,0),0),0)","v":0},{"$f":"IFERROR(INDEX('Current Standards'!P:P,MATCH('Sheet Counter'!AI3532,'Current Standards'!O:O,0),0),\"\")","v":""}]
[null,null,0,"","",{"$error":"#VALUE!"},"",{"$f":"IF(I3534=\"\",\"\",LARGE(H$1:H3533,1)+1)","v":{"$error":"#VALUE!"}},{"$error":"#VALUE!"},null,null,null,null,null,3533,0,{"$f":"IF(R3534=\"\",\"\",LARGE(Q$1:Q3533,1)+1)","v":{"$error":"#NUM!"}},{"$error":"#NUM!"},null,null,null,null,null,null,0,{"$error":"#VALUE!"},3999,"","",null,null,null,null,{"$error":"#VALUE!"},{"$error":"#VALUE!"},{"$f":"COUNTIF('Standards LOOKUP'!B:B,AI3534)","v":0},{"$f":"IFERROR(INDEX('Standards LOOKUP'!C:C,MATCH(AI3534,'Standards LOOKUP'!B:B,0),0),0)","v":0},{"$f":"IFERROR(INDEX('Current Standards'!P:P,MATCH('Sheet Counter'!AI3534,'Current Standards'!O:O,0),0),\"\")","v":""}]
[null,null,0,"","",{"$error":"#VALUE!"},"",{"$f":"IF(I3538=\"\",\"\",LARGE(H$1:H3537,1)+1)","v":{"$error":"#VALUE!"}},{"$error":"#VALUE!"},null,null,null,null,null,3537,0,{"$f":"IF(R3538=\"\",\"\",LARGE(Q$1:Q3537,1)+1)","v":{"$error":"#NUM!"}},{"$error":"#NUM!"},null,null,null,null,null,null,0,{"$error":"#VALUE!"},3999,"","",null,null,null,null,{"$error":"#VALUE!"},{"$error":"#VALUE!"},{"$f":"COUNTIF('Standards LOOKUP'!B:B,AI3538)","v":0},{"$f":"IFERROR(INDEX('Standards LOOKUP'!C:C,MATCH(AI3538,'Standards LOOKUP'!B:B,0),0),0)","v":0},{"$f":"IFERROR(INDEX('Current Standards'!P:P,MATCH('Sheet Counter'!AI3538,'Current Standards'!O:O,0),0),\"\")","v":""}]
[null,null,0,"","",{"$error":"#VALUE!"},"",{"$f":"IF(I3541=\"\",\"\",LARGE(H$1:H3540,1)+1)","v":{"$error":"#VALUE!"}},{"$error":"#VALUE!"},null,null,null,null,null,3540,0,{"$f":"IF(R3541=\"\",\"\",LARGE(Q$1:Q3540,1)+1)","v":{"$error":"#NUM!"}},{"$error":"#NUM!"},null,null,null,null,null,null,0,{"$error":"#VALUE!"},3999,"","",null,null,null,null,{"$error":"#VALUE!"},{"$error":"#VALUE!"},{"$f":"COUNTIF('Standards LOOKUP'!B:B,AI3541)","v":0},{"$f":"IFERROR(INDEX('Standards LOOKUP'!C:C,MATCH(AI3541,'Standards LOOKUP'!B:B,0),0),0)","v":0},{"$f":"IFERROR(INDEX('Current Standards'!P:P,MATCH('Sheet Counter'!AI3541,'Current Standards'!O:O,0),0),\"\")","v":""}]
[null,null,0,"","",{"$error":"#VALUE!"},"",{"$f":"IF(I3543=\"\",\"\",LARGE(H$1:H3542,1)+1)","v":{"$error":"#VALUE!"}},{"$error":"#VALUE!"},null,null,null,null,null,3542,0,{"$f":"IF(R3543=\"\",\"\",LARGE(Q$1:Q3542,1)+1)","v":{"$error":"#NUM!"}},{"$error":"#NUM!"},null,null,null,null,null,null,0,{"$error":"#VALUE!"},3999,"","",null,null,null,null,{"$error":"#VALUE!"},{"$error":"#VALUE!"},{"$f":"COUNTIF('Standards LOOKUP'!B:B,AI3543)","v":0},{"$f":"IFERROR(INDEX('Standards LOOKUP'!C:C,MATCH(AI3543,'Standards LOOKUP'!B:B,0),0),0)","v":0},{"$f":"IFERROR(INDEX('Current Standards'!P:P,MATCH('Sheet Counter'!AI3543,'Current Standards'!O:O,0),0),\"\")","v":""}]
[null,null,0,"","",{"$error":"#VALUE!"},"",{"$f":"IF(I3544=\"\",\"\",LARGE(H$1:H3543,1)+1)","v":{"$error":"#VALUE!"}},{"$error":"#VALUE!"},null,null,null,null,null,3543,0,{"$f":"IF(R3544=\"\",\"\",LARGE(Q$1:Q3543,1)+1)","v":{"$error":"#NUM!"}},{"$error":"#NUM!"},null,null,null,null,null,null,0,{"$error":"#VALUE!"},3999,"","",null,null,null,null,{"$error":"#VALUE!"},{"$error":"#VALUE!"},{"$f":"COUNTIF('Standards LOOKUP'!B:B,AI3544)","v":0},{"$f":"IFERROR(INDEX('Standards LOOKUP'!C:C,MATCH(AI3544,'Standards LOOKUP'!B:B,0),0),0)","v":0},{"$f":"IFERROR(INDEX('Current Standards'!P:P,MATCH('Sheet Counter'!AI3544,'Current Standards'!O:O,0),0),\"\")","v":""}]
[null,null,0,"","",{"$error":"#VALUE!"},"",{"$f":"IF(I3547=\"\",\"\",LARGE(H$1:H3546,1)+1)","v":{"$error":"#VALUE!"}},{"$error":"#VALUE!"},null,null,null,null,null,3546,0,{"$f":"IF(R3547=\"\",\"\",LARGE(Q$1:Q3546,1)+1)","v":{"$error":"#NUM!"}},{"$error":"#NUM!"},null,null,null,null,null,null,0,{"$error":"#VALUE!"},3999,"","",null,null,null,null,{"$error":"#VALUE!"},{"$error":"#VALUE!"},{"$f":"COUNTIF('Standards LOOKUP'!B:B,AI3547)","v":0},{"$f":"IFERROR(INDEX('Standards LOOKUP'!C:C,MATCH(AI3547,'Standards LOOKUP'!B:B,0),0),0)","v":0},{"$f":"IFERROR(INDEX('Current Standards'!P:P,MATCH('Sheet Counter'!AI3547,'Current Standards'!O:O,0),0),\"\")","v":""}]
[null,null,0,"","",{"$error":"#VALUE!"},"",{"$f":"IF(I3551=\"\",\"\",LARGE(H$1:H3550,1)+1)","v":{"$error":"#VALUE!"}},{"$error":"#VALUE!"},null,null,null,null,null,3550,0,{"$f":"IF(R3551=\"\",\"\",LARGE(Q$1:Q3550,1)+1)","v":{"$error":"#NUM!"}},{"$error":"#NUM!"},null,null,null,null,null,null,0,{"$error":"#VALUE!"},3999,"","",null,null,null,null,{"$error":"#VALUE!"},{"$error":"#VALUE!"},{"$f":"COUNTIF('Standards LOOKUP'!B:B,AI3551)","v":0},{"$f":"IFERROR(INDEX('Standards LOOKUP'!C:C,MATCH(AI3551,'Standards LOOKUP'!B:B,0),0),0)","v":0},{"$f":"IFERROR(INDEX('Current Standards'!P:P,MATCH('Sheet Counter'!AI3551,'Current Standards'!O:O,0),0),\"\")","v":""}]
[null,null,0,"","",{"$error":"#VALUE!"},"",{"$f":"IF(I3554=\"\",\"\",LARGE(H$1:H3553,1)+1)","v":{"$error":"#VALUE!"}},{"$error":"#VALUE!"},null,null,null,null,null,3553,0,{"$f":"IF(R3554=\"\",\"\",LARGE(Q$1:Q3553,1)+1)","v":{"$error":"#NUM!"}},{"$error":"#NUM!"},null,null,null,null,null,null,0,{"$error":"#VALUE!"},3999,"","",null,null,null,null,{"$error":"#VALUE!"},{"$error":"#VALUE!"},{"$f":"COUNTIF('Standards LOOKUP'!B:B,AI3554)","v":0},{"$f":"IFERROR(INDEX('Standards LOOKUP'!C:C,MATCH(AI3554,'Standards LOOKUP'!B:B,0),0),0)","v":0},{"$f":"IFERROR(INDEX('Current Standards'!P:P,MATCH('Sheet Counter'!AI3554,'Current Standards'!O:O,0),0),\"\")","v":""}]
[null,null,0,"","",{"$error":"#VALUE!"},"",{"$f":"IF(I3556=\"\",\"\",LARGE(H$1:H3555,1)+1)","v":{"$error":"#VALUE!"}},{"$error":"#VALUE!"},null,null,null,null,null,3555,0,{"$f":"IF(R3556=\"\",\"\",LARGE(Q$1:Q3555,1)+1)","v":{"$error":"#NUM!"}},{"$error":"#NUM!"},null,null,null,null,null,null,0,{"$error":"#VALUE!"},3999,"","",null,null,null,null,{"$error":"#VALUE!"},{"$error":"#VALUE!"},{"$f":"COUNTIF('Standards LOOKUP'!B:B,AI3556)","v":0},{"$f":"IFERROR(INDEX('Standards LOOKUP'!C:C,MATCH(AI3556,'Standards LOOKUP'!B:B,0),0),0)","v":0},{"$f":"IFERROR(INDEX('Current Standards'!P:P,MATCH('Sheet Counter'!AI3556,'Current Standards'!O:O,0),0),\"\")","v":""}]
[null,null,0,"","",{"$error":"#VALUE!"},"",{"$f":"IF(I3560=\"\",\"\",LARGE(H$1:H3559,1)+1)","v":{"$error":"#VALUE!"}},{"$error":"#VALUE!"},null,null,null,null,null,3559,0,{"$f":"IF(R3560=\"\",\"\",LARGE(Q$1:Q3559,1)+1)","v":{"$error":"#NUM!"}},{"$error":"#NUM!"},null,null,null,null,null,null,0,{"$error":"#VALUE!"},3999,"","",null,null,null,null,{"$error":"#VALUE!"},{"$error":"#VALUE!"},{"$f":"COUNTIF('Standards LOOKUP'!B:B,AI3560)","v":0},{"$f":"IFERROR(INDEX('Standards LOOKUP'!C:C,MATCH(AI3560,'Standards LOOKUP'!B:B,0),0),0)","v":0},{"$f":"IFERROR(INDEX('Current Standards'!P:P,MATCH('Sheet Counter'!AI3560,'Current Standards'!O:O,0),0),\"\")","v":""}]
[null,null,0,"","",{"$error":"#VALUE!"},"",{"$f":"IF(I3563=\"\",\"\",LARGE(H$1:H3562,1)+1)","v":{"$error":"#VALUE!"}},{"$error":"#VALUE!"},null,null,null,null,null,3562,0,{"$f":"IF(R3563=\"\",\"\",LARGE(Q$1:Q3562,1)+1)","v":{"$error":"#NUM!"}},{"$error":"#NUM!"},null,null,null,null,null,null,0,{"$error":"#VALUE!"},3999,"","",null,null,null,null,{"$error":"#VALUE!"},{"$error":"#VALUE!"},{"$f":"COUNTIF('Standards LOOKUP'!B:B,AI3563)","v":0},{"$f":"IFERROR(INDEX('Standards LOOKUP'!C:C,MATCH(AI3563,'Standards LOOKUP'!B:B,0),0),0)","v":0},{"$f":"IFERROR(INDEX('Current Standards'!P:P,MATCH('Sheet Counter'!AI3563,'Current Standards'!O:O,0),0),\"\")","v":""}]
[null,null,0,"","",{"$error":"#VALUE!"},"",{"$f":"IF(I3565=\"\",\"\",LARGE(H$1:H3564,1)+1)","v":{"$error":"#VALUE!"}},{"$error":"#VALUE!"},null,null,null,null,null,3564,0,{"$f":"IF(R3565=\"\",\"\",LARGE(Q$1:Q3564,1)+1)","v":{"$error":"#NUM!"}},{"$error":"#NUM!"},null,null,null,null,null,null,0,{"$error":"#VALUE!"},3999,"","",null,null,null,null,{"$error":"#VALUE!"},{"$error":"#VALUE!"},{"$f":"COUNTIF('Standards LOOKUP'!B:B,AI3565)","v":0},{"$f":"IFERROR(INDEX('Standards LOOKUP'!C:C,MATCH(AI3565,'Standards LOOKUP'!B:B,0),0),0)","v":0},{"$f":"IFERROR(INDEX('Current Standards'!P:P,MATCH('Sheet Counter'!AI3565,'Current Standards'!O:O,0),0),\"\")","v":""}]
[null,null,0,"","",{"$error":"#VALUE!"},"",{"$f":"IF(I3566=\"\",\"\",LARGE(H$1:H3565,1)+1)","v":{"$error":"#VALUE!"}},{"$error":"#VALUE!"},null,null,null,null,null,3565,0,{"$f":"IF(R3566=\"\",\"\",LARGE(Q$1:Q3565,1)+1)","v":{"$error":"#NUM!"}},{"$error":"#NUM!"},null,null,null,null,null,null,0,{"$error":"#VALUE!"},3999,"","",null,null,null,null,{"$error":"#VALUE!"},{"$error":"#VALUE!"},{"$f":"COUNTIF('Standards LOOKUP'!B:B,AI3566)","v":0},{"$f":"IFERROR(INDEX('Standards LOOKUP'!C:C,MATCH(AI3566,'Standards LOOKUP'!B:B,0),0),0)","v":0},{"$f":"IFERROR(INDEX('Current Standards'!P:P,MATCH('Sheet Counter'!AI3566,'Current Standards'!O:O,0),0),\"\")","v":""}]
[null,null,0,"","",{"$error":"#VALUE!"},"",{"$f":"IF(I3569=\"\",\"\",LARGE(H$1:H3568,1)+1)","v":{"$error":"#VALUE!"}},{"$error":"#VALUE!"},null,null,null,null,null,3568,0,{"$f":"IF(R3569=\"\",\"\",LARGE(Q$1:Q3568,1)+1)","v":{"$error":"#NUM!"}},{"$error":"#NUM!"},null,null,null,null,null,null,0,{"$error":"#VALUE!"},3999,"","",null,null,null,null,{"$error":"#VALUE!"},{"$error":"#VALUE!"},{"$f":"COUNTIF('Standards LOOKUP'!B:B,AI3569)","v":0},{"$f":"IFERROR(INDEX('Standards LOOKUP'!C:C,MATCH(AI3569,'Standards LOOKUP'!B:B,0),0),0)","v":0},{"$f":"IFERROR(INDEX('Current Standards'!P:P,MATCH('Sheet Counter'!AI3569,'Current Standards'!O:O,0),0),\"\")","v":""}]
[null,null,0,"","",{"$error":"#VALUE!"},"",{"$f":"IF(I3573=\"\",\"\",LARGE(H$1:H3572,1)+1)","v":{"$error":"#VALUE!"}},{"$error":"#VALUE!"},null,null,null,null,null,3572,0,{"$f":"IF(R3573=\"\",\"\",LARGE(Q$1:Q3572,1)+1)","v":{"$error":"#NUM!"}},{"$error":"#NUM!"},null,null,null,null,null,null,0,{"$error":"#VALUE!"},3999,"","",null,null,null,null,{"$error":"#VALUE!"},{"$error":"#VALUE!"},{"$f":"COUNTIF('Standards LOOKUP'!B:B,AI3573)","v":0},{"$f":"IFERROR(INDEX('Standards LOOKUP'!C:C,MATCH(AI3573,'Standards LOOKUP'!B:B,0),0),0)","v":0},{"$f":"IFERROR(INDEX('Current Standards'!P:P,MATCH('Sheet Counter'!AI3573,'Current Standards'!O:O,0),0),\"\")","v":""}]
[null,null,0,"","",{"$error":"#VALUE!"},"",{"$f":"IF(I3576=\"\",\"\",LARGE(H$1:H3575,1)+1)","v":{"$error":"#VALUE!"}},{"$error":"#VALUE!"},null,null,null,null,null,3575,0,{"$f":"IF(R3576=\"\",\"\",LARGE(Q$1:Q3575,1)+1)","v":{"$error":"#NUM!"}},{"$error":"#NUM!"},null,null,null,null,null,null,0,{"$error":"#VALUE!"},3999,"","",null,null,null,null,{"$error":"#VALUE!"},{"$error":"#VALUE!"},{"$f":"COUNTIF('Standards LOOKUP'!B:B,AI3576)","v":0},{"$f":"IFERROR(INDEX('Standards LOOKUP'!C:C,MATCH(AI3576,'Standards LOOKUP'!B:B,0),0),0)","v":0},{"$f":"IFERROR(INDEX('Current Standards'!P:P,MATCH('Sheet Counter'!AI3576,'Current Standards'!O:O,0),0),\"\")","v":""}]
[null,null,{"$f":"IF(ISERROR(FIND(\"\\\",A3578)),A3578,RIGHT(A3578,LEN(A3578)-FIND(\"~\",SUBSTITUTE(A3578,\"\\\",\"~\",LEN(A3578)-LEN(SUBSTITUTE(A3578,\"\\\",\"\"))))))","v":0},"","",{"$f":"LEFT(C3578,FIND(\"-\",SUBSTITUTE(SUBSTITUTE(C3578,\"_\",\"-\"),\" \",\"-\"))-1)","v":{"$error":"#VALUE!"}},{"$f":"IF(ISNUMBER(F3578*1),F3578*1,\"\")","v":""},{"$f":"IF(I3578=\"\",\"\",LARGE(H$1:H3577,1)+1)","v":{"$error":"#VALUE!"}},{"$f":"IF(G3578=\"\",F3578,\"\")","v":{"$error":"#VALUE!"}},null,null,null,null,null,3577,{"$f":"COUNTIF(G:G,O3578)","v":0},{"$f":"IF(R3578=\"\",\"\",LARGE(Q$1:Q3577,1)+1)","v":{"$error":"#NUM!"}},{"$error":"#NUM!"},null,null,null,null,null,null,{"$f":"IF(ISERROR(FIND(\"\\\",X3578)),X3578,RIGHT(X3578,LEN(X3578)-FIND(\"~\",SUBSTITUTE(X3578,\"\\\",\"~\",LEN(X3578)-LEN(SUBSTITUTE(X3578,\"\\\",\"\"))))))","v":0},{"$f":"LEFT(Y3578,FIND(\"-\",SUBSTITUTE(SUBSTITUTE(Y3578,\"_\",\"-\"),\" \",\"-\"))-1)","v":{"$error":"#VALUE!"}},{"$f":"COUNTIF(F:F,Z3578)","v":3999},{"$f":"IF(OR(AA3578<1,ISERROR(Z3578)),\"\",INDEX(C:C,MATCH(Z3578,F:F)))","v":""},"",null,null,null,null,{"$error":"#VALUE!"},{"$error":"#VALUE!"},{"$f":"COUNTIF('Standards LOOKUP'!B:B,AI3578)","v":0},{"$f":"IFERROR(INDEX('Standards LOOKUP'!C:C,MATCH(AI3578,'Standards LOOKUP'!B:B,0),0),0)","v":0},{"$f":"IFERROR(INDEX('Current Standards'!P:P,MATCH('Sheet Counter'!AI3578,'Current Standards'!O:O,0),0),\"\")","v":""}]
[null,null,0,"","",{"$error":"#VALUE!"},"",{"$f":"IF(I3582=\"\",\"\",LARGE(H$1:H3581,1)+1)","v":{"$error":"#VALUE!"}},{"$error":"#VALUE!"},null,null,null,null,null,3581,0,{"$f":"IF(R3582=\"\",\"\",LARGE(Q$1:Q3581,1)+1)","v":{"$error":"#NUM!"}},{"$error":"#NUM!"},null,null,null,null,null,null,0,{"$error":"#VALUE!"},3999,"","",null,null,null,null,{"$error":"#VALUE!"},{"$error":"#VALUE!"},{"$f":"COUNTIF('Standards LOOKUP'!B:B,AI3582)","v":0},{"$f":"IFERROR(INDEX('Standards LOOKUP'!C:C,MATCH(AI3582,'Standards LOOKUP'!B:B,0),0),0)","v":0},{"$f":"IFERROR(INDEX('Current Standards'!P:P,MATCH('Sheet Counter'!AI3582,'Current Standards'!O:O,0),0),\"\")","v":""}]
[null,null,0,"","",{"$error":"#VALUE!"},"",{"$f":"IF(I3585=\"\",\"\",LARGE(H$1:H3584,1)+1)","v":{"$error":"#VALUE!"}},{"$error":"#VALUE!"},null,null,null,null,null,3584,0,{"$f":"IF(R3585=\"\",\"\",LARGE(Q$1:Q3584,1)+1)","v":{"$error":"#NUM!"}},{"$error":"#NUM!"},null,null,null,null,null,null,0,{"$error":"#VALUE!"},3999,"","",null,null,null,null,{"$error":"#VALUE!"},{"$error":"#VALUE!"},{"$f":"COUNTIF('Standards LOOKUP'!B:B,AI3585)","v":0},{"$f":"IFERROR(INDEX('Standards LOOKUP'!C:C,MATCH(AI3585,'Standards LOOKUP'!B:B,0),0),0)","v":0},{"$f":"IFERROR(INDEX('Current Standards'!P:P,MATCH('Sheet Counter'!AI3585,'Current Standards'!O:O,0),0),\"\")","v":""}]
[null,null,0,{"$f":"IF(AL3587=\"\",\"\",AL3587)","v":""},"",{"$error":"#VALUE!"},"",{"$f":"IF(I3587=\"\",\"\",LARGE(H$1:H3586,1)+1)","v":{"$error":"#VALUE!"}},{"$error":"#VALUE!"},null,null,null,null,null,3586,0,{"$f":"IF(R3587=\"\",\"\",LARGE(Q$1:Q3586,1)+1)","v":{"$error":"#NUM!"}},{"$error":"#NUM!"},null,null,null,null,null,null,0,{"$error":"#VALUE!"},3999,"",{"$f":"IF(AA3587=0,\"New Sheet\",IF(EXACT(UPPER(Y3587),UPPER(AB3587)),\"Match\",\"\"))","v":""},null,null,null,null,{"$f":"IF(C3587=\"\",\"\",LEFT(RIGHT(C3587,LEN(C3587)-SEARCH(\" \",C3587,1)),LEN(RIGHT(C3587,LEN(C3587)-SEARCH(\" \",C3587,1)))-4))","v":{"$error":"#VALUE!"}},{"$f":"TRIM(SUBSTITUTE(SUBSTITUTE(SUBSTITUTE(SUBSTITUTE(SUBSTITUTE(SUBSTITUTE(AH3587,\"(\",\"\"),\")\",\"\"),\"-\",\"\"),\"&\",\"\"),\" \",\"\",1),\" \",\"\",1))","v":{"$error":"#VALUE!"}},{"$f":"COUNTIF('Standards LOOKUP'!B:B,AI3587)","v":0},{"$f":"IFERROR(INDEX('Standards LOOKUP'!C:C,MATCH(AI3587,'Standards LOOKUP'!B:B,0),0),0)","v":0},{"$f":"IFERROR(INDEX('Current Standards'!P:P,MATCH('Sheet Counter'!AI3587,'Current Standards'!O:O,0),0),\"\")","v":""}]
[null,null,0,"","",{"$error":"#VALUE!"},"",{"$f":"IF(I3588=\"\",\"\",LARGE(H$1:H3587,1)+1)","v":{"$error":"#VALUE!"}},{"$error":"#VALUE!"},null,null,null,null,null,3587,0,{"$f":"IF(R3588=\"\",\"\",LARGE(Q$1:Q3587,1)+1)","v":{"$error":"#NUM!"}},{"$f":"IF(AND(P3588<>1,O3588<=LARGE(G:G,1),O3588>=SMALL(G:G,1)),O3588,\"\")","v":{"$error":"#NUM!"}},null,null,null,null,null,null,0,{"$error":"#VALUE!"},3999,"","",null,null,null,null,{"$error":"#VALUE!"},{"$error":"#VALUE!"},{"$f":"COUNTIF('Standards LOOKUP'!B:B,AI3588)","v":0},{"$f":"IFERROR(INDEX('Standards LOOKUP'!C:C,MATCH(AI3588,'Standards LOOKUP'!B:B,0),0),0)","v":0},{"$f":"IFERROR(INDEX('Current Standards'!P:P,MATCH('Sheet Counter'!AI3588,'Current Standards'!O:O,0),0),\"\")","v":""}]
[null,null,0,"","",{"$error":"#VALUE!"},"",{"$f":"IF(I3591=\"\",\"\",LARGE(H$1:H3590,1)+1)","v":{"$error":"#VALUE!"}},{"$error":"#VALUE!"},null,null,null,null,null,3590,0,{"$f":"IF(R3591=\"\",\"\",LARGE(Q$1:Q3590,1)+1)","v":{"$error":"#NUM!"}},{"$error":"#NUM!"},null,null,null,null,null,null,0,{"$error":"#VALUE!"},3999,"","",null,null,null,null,{"$error":"#VALUE!"},{"$error":"#VALUE!"},{"$f":"COUNTIF('Standards LOOKUP'!B:B,AI3591)","v":0},{"$f":"IFERROR(INDEX('Standards LOOKUP'!C:C,MATCH(AI3591,'Standards LOOKUP'!B:B,0),0),0)","v":0},{"$f":"IFERROR(INDEX('Current Standards'!P:P,MATCH('Sheet Counter'!AI3591,'Current Standards'!O:O,0),0),\"\")","v":""}]
[null,null,0,"","",{"$error":"#VALUE!"},"",{"$f":"IF(I3595=\"\",\"\",LARGE(H$1:H3594,1)+1)","v":{"$error":"#VALUE!"}},{"$error":"#VALUE!"},null,null,null,null,null,3594,0,{"$f":"IF(R3595=\"\",\"\",LARGE(Q$1:Q3594,1)+1)","v":{"$error":"#NUM!"}},{"$error":"#NUM!"},null,null,null,null,null,null,0,{"$error":"#VALUE!"},3999,"","",null,null,null,null,{"$error":"#VALUE!"},{"$error":"#VALUE!"},{"$f":"COUNTIF('Standards LOOKUP'!B:B,AI3595)","v":0},{"$f":"IFERROR(INDEX('Standards LOOKUP'!C:C,MATCH(AI3595,'Standards LOOKUP'!B:B,0),0),0)","v":0},{"$f":"IFERROR(INDEX('Current Standards'!P:P,MATCH('Sheet Counter'!AI3595,'Current Standards'!O:O,0),0),\"\")","v":""}]
[null,null,0,"","",{"$error":"#VALUE!"},"",{"$f":"IF(I3598=\"\",\"\",LARGE(H$1:H3597,1)+1)","v":{"$error":"#VALUE!"}},{"$error":"#VALUE!"},null,null,null,null,null,3597,0,{"$f":"IF(R3598=\"\",\"\",LARGE(Q$1:Q3597,1)+1)","v":{"$error":"#NUM!"}},{"$error":"#NUM!"},null,null,null,null,null,null,0,{"$error":"#VALUE!"},3999,"","",null,null,null,null,{"$error":"#VALUE!"},{"$error":"#VALUE!"},{"$f":"COUNTIF('Standards LOOKUP'!B:B,AI3598)","v":0},{"$f":"IFERROR(INDEX('Standards LOOKUP'!C:C,MATCH(AI3598,'Standards LOOKUP'!B:B,0),0),0)","v":0},{"$f":"IFERROR(INDEX('Current Standards'!P:P,MATCH('Sheet Counter'!AI3598,'Current Standards'!O:O,0),0),\"\")","v":""}]
[null,null,0,"","",{"$error":"#VALUE!"},"",{"$f":"IF(I3600=\"\",\"\",LARGE(H$1:H3599,1)+1)","v":{"$error":"#VALUE!"}},{"$error":"#VALUE!"},null,null,null,null,null,3599,0,{"$f":"IF(R3600=\"\",\"\",LARGE(Q$1:Q3599,1)+1)","v":{"$error":"#NUM!"}},{"$error":"#NUM!"},null,null,null,null,null,null,0,{"$error":"#VALUE!"},3999,"","",null,null,null,null,{"$error":"#VALUE!"},{"$error":"#VALUE!"},{"$f":"COUNTIF('Standards LOOKUP'!B:B,AI3600)","v":0},{"$f":"IFERROR(INDEX('Standards LOOKUP'!C:C,MATCH(AI3600,'Standards LOOKUP'!B:B,0),0),0)","v":0},{"$f":"IFERROR(INDEX('Current Standards'!P:P,MATCH('Sheet Counter'!AI3600,'Current Standards'!O:O,0),0),\"\")","v":""}]
[null,null,0,"","",{"$error":"#VALUE!"},"",{"$f":"IF(I3604=\"\",\"\",LARGE(H$1:H3603,1)+1)","v":{"$error":"#VALUE!"}},{"$error":"#VALUE!"},null,null,null,null,null,3603,0,{"$f":"IF(R3604=\"\",\"\",LARGE(Q$1:Q3603,1)+1)","v":{"$error":"#NUM!"}},{"$error":"#NUM!"},null,null,null,null,null,null,0,{"$error":"#VALUE!"},3999,"","",null,null,null,null,{"$error":"#VALUE!"},{"$error":"#VALUE!"},{"$f":"COUNTIF('Standards LOOKUP'!B:B,AI3604)","v":0},{"$f":"IFERROR(INDEX('Standards LOOKUP'!C:C,MATCH(AI3604,'Standards LOOKUP'!B:B,0),0),0)","v":0},{"$f":"IFERROR(INDEX('Current Standards'!P:P,MATCH('Sheet Counter'!AI3604,'Current Standards'!O:O,0),0),\"\")","v":""}]
[null,null,0,"","",{"$error":"#VALUE!"},"",{"$f":"IF(I3607=\"\",\"\",LARGE(H$1:H3606,1)+1)","v":{"$error":"#VALUE!"}},{"$error":"#VALUE!"},null,null,null,null,null,3606,0,{"$f":"IF(R3607=\"\",\"\",LARGE(Q$1:Q3606,1)+1)","v":{"$error":"#NUM!"}},{"$error":"#NUM!"},null,null,null,null,null,null,0,{"$error":"#VALUE!"},3999,"","",null,null,null,null,{"$error":"#VALUE!"},{"$error":"#VALUE!"},{"$f":"COUNTIF('Standards LOOKUP'!B:B,AI3607)","v":0},{"$f":"IFERROR(INDEX('Standards LOOKUP'!C:C,MATCH(AI3607,'Standards LOOKUP'!B:B,0),0),0)","v":0},{"$f":"IFERROR(INDEX('Current Standards'!P:P,MATCH('Sheet Counter'!AI3607,'Current Standards'!O:O,0),0),\"\")","v":""}]
[null,null,0,"","",{"$error":"#VALUE!"},"",{"$f":"IF(I3609=\"\",\"\",LARGE(H$1:H3608,1)+1)","v":{"$error":"#VALUE!"}},{"$error":"#VALUE!"},null,null,null,null,null,3608,0,{"$f":"IF(R3609=\"\",\"\",LARGE(Q$1:Q3608,1)+1)","v":{"$error":"#NUM!"}},{"$error":"#NUM!"},null,null,null,null,null,null,0,{"$error":"#VALUE!"},3999,"","",null,null,null,null,{"$error":"#VALUE!"},{"$error":"#VALUE!"},{"$f":"COUNTIF('Standards LOOKUP'!B:B,AI3609)","v":0},{"$f":"IFERROR(INDEX('Standards LOOKUP'!C:C,MATCH(AI3609,'Standards LOOKUP'!B:B,0),0),0)","v":0},{"$f":"IFERROR(INDEX('Current Standards'!P:P,MATCH('Sheet Counter'!AI3609,'Current Standards'!O:O,0),0),\"\")","v":""}]
[null,null,0,"","",{"$error":"#VALUE!"},"",{"$f":"IF(I3610=\"\",\"\",LARGE(H$1:H3609,1)+1)","v":{"$error":"#VALUE!"}},{"$error":"#VALUE!"},null,null,null,null,null,3609,0,{"$f":"IF(R3610=\"\",\"\",LARGE(Q$1:Q3609,1)+1)","v":{"$error":"#NUM!"}},{"$error":"#NUM!"},null,null,null,null,null,null,0,{"$error":"#VALUE!"},3999,"","",null,null,null,null,{"$error":"#VALUE!"},{"$error":"#VALUE!"},{"$f":"COUNTIF('Standards LOOKUP'!B:B,AI3610)","v":0},{"$f":"IFERROR(INDEX('Standards LOOKUP'!C:C,MATCH(AI3610,'Standards LOOKUP'!B:B,0),0),0)","v":0},{"$f":"IFERROR(INDEX('Current Standards'!P:P,MATCH('Sheet Counter'!AI3610,'Current Standards'!O:O,0),0),\"\")","v":""}]
[null,null,0,"","",{"$error":"#VALUE!"},"",{"$f":"IF(I3613=\"\",\"\",LARGE(H$1:H3612,1)+1)","v":{"$error":"#VALUE!"}},{"$error":"#VALUE!"},null,null,null,null,null,3612,0,{"$f":"IF(R3613=\"\",\"\",LARGE(Q$1:Q3612,1)+1)","v":{"$error":"#NUM!"}},{"$error":"#NUM!"},null,null,null,null,null,null,0,{"$error":"#VALUE!"},3999,"","",null,null,null,null,{"$error":"#VALUE!"},{"$error":"#VALUE!"},{"$f":"COUNTIF('Standards LOOKUP'!B:B,AI3613)","v":0},{"$f":"IFERROR(INDEX('Standards LOOKUP'!C:C,MATCH(AI3613,'Standards LOOKUP'!B:B,0),0),0)","v":0},{"$f":"IFERROR(INDEX('Current Standards'!P:P,MATCH('Sheet Counter'!AI3613,'Current Standards'!O:O,0),0),\"\")","v":""}]
[null,null,0,"","",{"$error":"#VALUE!"},"",{"$f":"IF(I3617=\"\",\"\",LARGE(H$1:H3616,1)+1)","v":{"$error":"#VALUE!"}},{"$error":"#VALUE!"},null,null,null,null,null,3616,0,{"$f":"IF(R3617=\"\",\"\",LARGE(Q$1:Q3616,1)+1)","v":{"$error":"#NUM!"}},{"$error":"#NUM!"},null,null,null,null,null,null,0,{"$error":"#VALUE!"},3999,"","",null,null,null,null,{"$error":"#VALUE!"},{"$error":"#VALUE!"},{"$f":"COUNTIF('Standards LOOKUP'!B:B,AI3617)","v":0},{"$f":"IFERROR(INDEX('Standards LOOKUP'!C:C,MATCH(AI3617,'Standards LOOKUP'!B:B,0),0),0)","v":0},{"$f":"IFERROR(INDEX('Current Standards'!P:P,MATCH('Sheet Counter'!AI3617,'Current Standards'!O:O,0),0),\"\")","v":""}]
[null,null,0,"","",{"$error":"#VALUE!"},"",{"$f":"IF(I3620=\"\",\"\",LARGE(H$1:H3619,1)+1)","v":{"$error":"#VALUE!"}},{"$error":"#VALUE!"},null,null,null,null,null,3619,0,{"$f":"IF(R3620=\"\",\"\",LARGE(Q$1:Q3619,1)+1)","v":{"$error":"#NUM!"}},{"$error":"#NUM!"},null,null,null,null,null,null,0,{"$error":"#VALUE!"},3999,"","",null,null,null,null,{"$error":"#VALUE!"},{"$error":"#VALUE!"},{"$f":"COUNTIF('Standards LOOKUP'!B:B,AI3620)","v":0},{"$f":"IFERROR(INDEX('Standards LOOKUP'!C:C,MATCH(AI3620,'Standards LOOKUP'!B:B,0),0),0)","v":0},{"$f":"IFERROR(INDEX('Current Standards'!P:P,MATCH('Sheet Counter'!AI3620,'Current Standards'!O:O,0),0),\"\")","v":""}]
[null,null,0,"","",{"$error":"#VALUE!"},"",{"$f":"IF(I3623=\"\",\"\",LARGE(H$1:H3622,1)+1)","v":{"$error":"#VALUE!"}},{"$error":"#VALUE!"},null,null,null,null,null,3622,0,{"$f":"IF(R3623=\"\",\"\",LARGE(Q$1:Q3622,1)+1)","v":{"$error":"#NUM!"}},{"$error":"#NUM!"},null,null,null,null,null,null,0,{"$error":"#VALUE!"},3999,"","",null,null,null,null,{"$error":"#VALUE!"},{"$error":"#VALUE!"},{"$f":"COUNTIF('Standards LOOKUP'!B:B,AI3623)","v":0},{"$f":"IFERROR(INDEX('Standards LOOKUP'!C:C,MATCH(AI3623,'Standards LOOKUP'!B:B,0),0),0)","v":0},{"$f":"IFERROR(INDEX('Current Standards'!P:P,MATCH('Sheet Counter'!AI3623,'Current Standards'!O:O,0),0),\"\")","v":""}]
[null,null,0,"","",{"$error":"#VALUE!"},"",{"$f":"IF(I3626=\"\",\"\",LARGE(H$1:H3625,1)+1)","v":{"$error":"#VALUE!"}},{"$error":"#VALUE!"},null,null,null,null,null,3625,0,{"$f":"IF(R3626=\"\",\"\",LARGE(Q$1:Q3625,1)+1)","v":{"$error":"#NUM!"}},{"$error":"#NUM!"},null,null,null,null,null,null,0,{"$error":"#VALUE!"},3999,"","",null,null,null,null,{"$error":"#VALUE!"},{"$error":"#VALUE!"},{"$f":"COUNTIF('Standards LOOKUP'!B:B,AI3626)","v":0},{"$f":"IFERROR(INDEX('Standards LOOKUP'!C:C,MATCH(AI3626,'Standards LOOKUP'!B:B,0),0),0)","v":0},{"$f":"IFERROR(INDEX('Current Standards'!P:P,MATCH('Sheet Counter'!AI3626,'Current Standards'!O:O,0),0),\"\")","v":""}]
[null,null,0,"","",{"$error":"#VALUE!"},"",{"$f":"IF(I3629=\"\",\"\",LARGE(H$1:H3628,1)+1)","v":{"$error":"#VALUE!"}},{"$error":"#VALUE!"},null,null,null,null,null,3628,0,{"$f":"IF(R3629=\"\",\"\",LARGE(Q$1:Q3628,1)+1)","v":{"$error":"#NUM!"}},{"$error":"#NUM!"},null,null,null,null,null,null,0,{"$error":"#VALUE!"},3999,"","",null,null,null,null,{"$error":"#VALUE!"},{"$error":"#VALUE!"},{"$f":"COUNTIF('Standards LOOKUP'!B:B,AI3629)","v":0},{"$f":"IFERROR(INDEX('Standards LOOKUP'!C:C,MATCH(AI3629,'Standards LOOKUP'!B:B,0),0),0)","v":0},{"$f":"IFERROR(INDEX('Current Standards'!P:P,MATCH('Sheet Counter'!AI3629,'Current Standards'!O:O,0),0),\"\")","v":""}]
[null,null,0,"","",{"$error":"#VALUE!"},"",{"$f":"IF(I3631=\"\",\"\",LARGE(H$1:H3630,1)+1)","v":{"$error":"#VALUE!"}},{"$error":"#VALUE!"},null,null,null,null,null,3630,0,{"$f":"IF(R3631=\"\",\"\",LARGE(Q$1:Q3630,1)+1)","v":{"$error":"#NUM!"}},{"$error":"#NUM!"},null,null,null,null,null,null,0,{"$error":"#VALUE!"},3999,"","",null,null,null,null,{"$error":"#VALUE!"},{"$error":"#VALUE!"},{"$f":"COUNTIF('Standards LOOKUP'!B:B,AI3631)","v":0},{"$f":"IFERROR(INDEX('Standards LOOKUP'!C:C,MATCH(AI3631,'Standards LOOKUP'!B:B,0),0),0)","v":0},{"$f":"IFERROR(INDEX('Current Standards'!P:P,MATCH('Sheet Counter'!AI3631,'Current Standards'!O:O,0),0),\"\")","v":""}]
[null,null,0,"","",{"$error":"#VALUE!"},"",{"$f":"IF(I3632=\"\",\"\",LARGE(H$1:H3631,1)+1)","v":{"$error":"#VALUE!"}},{"$error":"#VALUE!"},null,null,null,null,null,3631,0,{"$f":"IF(R3632=\"\",\"\",LARGE(Q$1:Q3631,1)+1)","v":{"$error":"#NUM!"}},{"$error":"#NUM!"},null,null,null,null,null,null,0,{"$error":"#VALUE!"},3999,"","",null,null,null,null,{"$error":"#VALUE!"},{"$error":"#VALUE!"},{"$f":"COUNTIF('Standards LOOKUP'!B:B,AI3632)","v":0},{"$f":"IFERROR(INDEX('Standards LOOKUP'!C:C,MATCH(AI3632,'Standards LOOKUP'!B:B,0),0),0)","v":0},{"$f":"IFERROR(INDEX('Current Standards'!P:P,MATCH('Sheet Counter'!AI3632,'Current Standards'!O:O,0),0),\"\")","v":""}]
[null,null,0,"","",{"$error":"#VALUE!"},"",{"$f":"IF(I3635=\"\",\"\",LARGE(H$1:H3634,1)+1)","v":{"$error":"#VALUE!"}},{"$error":"#VALUE!"},null,null,null,null,null,3634,0,{"$f":"IF(R3635=\"\",\"\",LARGE(Q$1:Q3634,1)+1)","v":{"$error":"#NUM!"}},{"$error":"#NUM!"},null,null,null,null,null,null,0,{"$error":"#VALUE!"},3999,"","",null,null,null,null,{"$error":"#VALUE!"},{"$error":"#VALUE!"},{"$f":"COUNTIF('Standards LOOKUP'!B:B,AI3635)","v":0},{"$f":"IFERROR(INDEX('Standards LOOKUP'!C:C,MATCH(AI3635,'Standards LOOKUP'!B:B,0),0),0)","v":0},{"$f":"IFERROR(INDEX('Current Standards'!P:P,MATCH('Sheet Counter'!AI3635,'Current Standards'!O:O,0),0),\"\")","v":""}]
[null,null,0,"","",{"$error":"#VALUE!"},"",{"$f":"IF(I3639=\"\",\"\",LARGE(H$1:H3638,1)+1)","v":{"$error":"#VALUE!"}},{"$error":"#VALUE!"},null,null,null,null,null,3638,0,{"$f":"IF(R3639=\"\",\"\",LARGE(Q$1:Q3638,1)+1)","v":{"$error":"#NUM!"}},{"$error":"#NUM!"},null,null,null,null,null,null,0,{"$error":"#VALUE!"},3999,"","",null,null,null,null,{"$error":"#VALUE!"},{"$error":"#VALUE!"},{"$f":"COUNTIF('Standards LOOKUP'!B:B,AI3639)","v":0},{"$f":"IFERROR(INDEX('Standards LOOKUP'!C:C,MATCH(AI3639,'Standards LOOKUP'!B:B,0),0),0)","v":0},{"$f":"IFERROR(INDEX('Current Standards'!P:P,MATCH('Sheet Counter'!AI3639,'Current Standards'!O:O,0),0),\"\")","v":""}]
[null,null,{"$f":"IF(ISERROR(FIND(\"\\\",A3642)),A3642,RIGHT(A3642,LEN(A3642)-FIND(\"~\",SUBSTITUTE(A3642,\"\\\",\"~\",LEN(A3642)-LEN(SUBSTITUTE(A3642,\"\\\",\"\"))))))","v":0},"","",{"$f":"LEFT(C3642,FIND(\"-\",SUBSTITUTE(SUBSTITUTE(C3642,\"_\",\"-\"),\" \",\"-\"))-1)","v":{"$error":"#VALUE!"}},{"$f":"IF(ISNUMBER(F3642*1),F3642*1,\"\")","v":""},{"$f":"IF(I3642=\"\",\"\",LARGE(H$1:H3641,1)+1)","v":{"$error":"#VALUE!"}},{"$f":"IF(G3642=\"\",F3642,\"\")","v":{"$error":"#VALUE!"}},null,null,null,null,null,3641,{"$f":"COUNTIF(G:G,O3642)","v":0},{"$f":"IF(R3642=\"\",\"\",LARGE(Q$1:Q3641,1)+1)","v":{"$error":"#NUM!"}},{"$error":"#NUM!"},null,null,null,null,null,null,{"$f":"IF(ISERROR(FIND(\"\\\",X3642)),X3642,RIGHT(X3642,LEN(X3642)-FIND(\"~\",SUBSTITUTE(X3642,\"\\\",\"~\",LEN(X3642)-LEN(SUBSTITUTE(X3642,\"\\\",\"\"))))))","v":0},{"$f":"LEFT(Y3642,FIND(\"-\",SUBSTITUTE(SUBSTITUTE(Y3642,\"_\",\"-\"),\" \",\"-\"))-1)","v":{"$error":"#VALUE!"}},{"$f":"COUNTIF(F:F,Z3642)","v":3999},{"$f":"IF(OR(AA3642<1,ISERROR(Z3642)),\"\",INDEX(C:C,MATCH(Z3642,F:F)))","v":""},"",null,null,null,null,{"$error":"#VALUE!"},{"$error":"#VALUE!"},{"$f":"COUNTIF('Standards LOOKUP'!B:B,AI3642)","v":0},{"$f":"IFERROR(INDEX('Standards LOOKUP'!C:C,MATCH(AI3642,'Standards LOOKUP'!B:B,0),0),0)","v":0},{"$f":"IFERROR(INDEX('Current Standards'!P:P,MATCH('Sheet Counter'!AI3642,'Current Standards'!O:O,0),0),\"\")","v":""}]
[null,null,0,"","",{"$error":"#VALUE!"},"",{"$f":"IF(I3645=\"\",\"\",LARGE(H$1:H3644,1)+1)","v":{"$error":"#VALUE!"}},{"$error":"#VALUE!"},null,null,null,null,null,3644,0,{"$f":"IF(R3645=\"\",\"\",LARGE(Q$1:Q3644,1)+1)","v":{"$error":"#NUM!"}},{"$error":"#NUM!"},null,null,null,null,null,null,0,{"$error":"#VALUE!"},3999,"","",null,null,null,null,{"$error":"#VALUE!"},{"$error":"#VALUE!"},{"$f":"COUNTIF('Standards LOOKUP'!B:B,AI3645)","v":0},{"$f":"IFERROR(INDEX('Standards LOOKUP'!C:C,MATCH(AI3645,'Standards LOOKUP'!B:B,0),0),0)","v":0},{"$f":"IFERROR(INDEX('Current Standards'!P:P,MATCH('Sheet Counter'!AI3645,'Current Standards'!O:O,0),0),\"\")","v":""}]
[null,null,0,"","",{"$error":"#VALUE!"},"",{"$f":"IF(I3648=\"\",\"\",LARGE(H$1:H3647,1)+1)","v":{"$error":"#VALUE!"}},{"$error":"#VALUE!"},null,null,null,null,null,3647,0,{"$f":"IF(R3648=\"\",\"\",LARGE(Q$1:Q3647,1)+1)","v":{"$error":"#NUM!"}},{"$error":"#NUM!"},null,null,null,null,null,null,0,{"$error":"#VALUE!"},3999,"","",null,null,null,null,{"$error":"#VALUE!"},{"$error":"#VALUE!"},{"$f":"COUNTIF('Standards LOOKUP'!B:B,AI3648)","v":0},{"$f":"IFERROR(INDEX('Standards LOOKUP'!C:C,MATCH(AI3648,'Standards LOOKUP'!B:B,0),0),0)","v":0},{"$f":"IFERROR(INDEX('Current Standards'!P:P,MATCH('Sheet Counter'!AI3648,'Current Standards'!O:O,0),0),\"\")","v":""}]
[null,null,0,{"$f":"IF(AL3651=\"\",\"\",AL3651)","v":""},"",{"$error":"#VALUE!"},"",{"$f":"IF(I3651=\"\",\"\",LARGE(H$1:H3650,1)+1)","v":{"$error":"#VALUE!"}},{"$error":"#VALUE!"},null,null,null,null,null,3650,0,{"$f":"IF(R3651=\"\",\"\",LARGE(Q$1:Q3650,1)+1)","v":{"$error":"#NUM!"}},{"$error":"#NUM!"},null,null,null,null,null,null,0,{"$error":"#VALUE!"},3999,"",{"$f":"IF(AA3651=0,\"New Sheet\",IF(EXACT(UPPER(Y3651),UPPER(AB3651)),\"Match\",\"\"))","v":""},null,null,null,null,{"$f":"IF(C3651=\"\",\"\",LEFT(RIGHT(C3651,LEN(C3651)-SEARCH(\" \",C3651,1)),LEN(RIGHT(C3651,LEN(C3651)-SEARCH(\" \",C3651,1)))-4))","v":{"$error":"#VALUE!"}},{"$f":"TRIM(SUBSTITUTE(SUBSTITUTE(SUBSTITUTE(SUBSTITUTE(SUBSTITUTE(SUBSTITUTE(AH3651,\"(\",\"\"),\")\",\"\"),\"-\",\"\"),\"&\",\"\"),\" \",\"\",1),\" \",\"\",1))","v":{"$error":"#VALUE!"}},{"$f":"COUNTIF('Standards LOOKUP'!B:B,AI3651)","v":0},{"$f":"IFERROR(INDEX('Standards LOOKUP'!C:C,MATCH(AI3651,'Standards LOOKUP'!B:B,0),0),0)","v":0},{"$f":"IFERROR(INDEX('Current Standards'!P:P,MATCH('Sheet Counter'!AI3651,'Current Standards'!O:O,0),0),\"\")","v":""}]
[null,null,0,"","",{"$error":"#VALUE!"},"",{"$f":"IF(I3653=\"\",\"\",LARGE(H$1:H3652,1)+1)","v":{"$error":"#VALUE!"}},{"$error":"#VALUE!"},null,null,null,null,null,3652,0,{"$f":"IF(R3653=\"\",\"\",LARGE(Q$1:Q3652,1)+1)","v":{"$error":"#NUM!"}},{"$error":"#NUM!"},null,null,null,null,null,null,0,{"$error":"#VALUE!"},3999,"","",null,null,null,null,{"$error":"#VALUE!"},{"$error":"#VALUE!"},{"$f":"COUNTIF('Standards LOOKUP'!B:B,AI3653)","v":0},{"$f":"IFERROR(INDEX('Standards LOOKUP'!C:C,MATCH(AI3653,'Standards LOOKUP'!B:B,0),0),0)","v":0},{"$f":"IFERROR(INDEX('Current Standards'!P:P,MATCH('Sheet Counter'!AI3653,'Current Standards'!O:O,0),0),\"\")","v":""}]
[null,null,0,"","",{"$error":"#VALUE!"},"",{"$f":"IF(I3654=\"\",\"\",LARGE(H$1:H3653,1)+1)","v":{"$error":"#VALUE!"}},{"$error":"#VALUE!"},null,null,null,null,null,3653,0,{"$f":"IF(R3654=\"\",\"\",LARGE(Q$1:Q3653,1)+1)","v":{"$error":"#NUM!"}},{"$error":"#NUM!"},null,null,null,null,null,null,0,{"$error":"#VALUE!"},3999,"","",null,null,null,null,{"$error":"#VALUE!"},{"$error":"#VALUE!"},{"$f":"COUNTIF('Standards LOOKUP'!B:B,AI3654)","v":0},{"$f":"IFERROR(INDEX('Standards LOOKUP'!C:C,MATCH(AI3654,'Standards LOOKUP'!B:B,0),0),0)","v":0},{"$f":"IFERROR(INDEX('Current Standards'!P:P,MATCH('Sheet Counter'!AI3654,'Current Standards'!O:O,0),0),\"\")","v":""}]
[null,null,0,"","",{"$error":"#VALUE!"},"",{"$f":"IF(I3657=\"\",\"\",LARGE(H$1:H3656,1)+1)","v":{"$error":"#VALUE!"}},{"$error":"#VALUE!"},null,null,null,null,null,3656,0,{"$f":"IF(R3657=\"\",\"\",LARGE(Q$1:Q3656,1)+1)","v":{"$error":"#NUM!"}},{"$error":"#NUM!"},null,null,null,null,null,null,0,{"$error":"#VALUE!"},3999,"","",null,null,null,null,{"$error":"#VALUE!"},{"$error":"#VALUE!"},{"$f":"COUNTIF('Standards LOOKUP'!B:B,AI3657)","v":0},{"$f":"IFERROR(INDEX('Standards LOOKUP'!C:C,MATCH(AI3657,'Standards LOOKUP'!B:B,0),0),0)","v":0},{"$f":"IFERROR(INDEX('Current Standards'!P:P,MATCH('Sheet Counter'!AI3657,'Current Standards'!O:O,0),0),\"\")","v":""}]
[null,null,0,"","",{"$error":"#VALUE!"},"",{"$f":"IF(I3661=\"\",\"\",LARGE(H$1:H3660,1)+1)","v":{"$error":"#VALUE!"}},{"$error":"#VALUE!"},null,null,null,null,null,3660,0,{"$f":"IF(R3661=\"\",\"\",LARGE(Q$1:Q3660,1)+1)","v":{"$error":"#NUM!"}},{"$error":"#NUM!"},null,null,null,null,null,null,0,{"$error":"#VALUE!"},3999,"","",null,null,null,null,{"$error":"#VALUE!"},{"$error":"#VALUE!"},{"$f":"COUNTIF('Standards LOOKUP'!B:B,AI3661)","v":0},{"$f":"IFERROR(INDEX('Standards LOOKUP'!C:C,MATCH(AI3661,'Standards LOOKUP'!B:B,0),0),0)","v":0},{"$f":"IFERROR(INDEX('Current Standards'!P:P,MATCH('Sheet Counter'!AI3661,'Current Standards'!O:O,0),0),\"\")","v":""}]
[null,null,0,"","",{"$error":"#VALUE!"},"",{"$f":"IF(I3664=\"\",\"\",LARGE(H$1:H3663,1)+1)","v":{"$error":"#VALUE!"}},{"$error":"#VALUE!"},null,null,null,null,null,3663,0,{"$f":"IF(R3664=\"\",\"\",LARGE(Q$1:Q3663,1)+1)","v":{"$error":"#NUM!"}},{"$error":"#NUM!"},null,null,null,null,null,null,0,{"$error":"#VALUE!"},3999,"","",null,null,null,null,{"$error":"#VALUE!"},{"$error":"#VALUE!"},{"$f":"COUNTIF('Standards LOOKUP'!B:B,AI3664)","v":0},{"$f":"IFERROR(INDEX('Standards LOOKUP'!C:C,MATCH(AI3664,'Standards LOOKUP'!B:B,0),0),0)","v":0},{"$f":"IFERROR(INDEX('Current Standards'!P:P,MATCH('Sheet Counter'!AI3664,'Current Standards'!O:O,0),0),\"\")","v":""}]
[null,null,0,"","",{"$error":"#VALUE!"},"",{"$f":"IF(I3667=\"\",\"\",LARGE(H$1:H3666,1)+1)","v":{"$error":"#VALUE!"}},{"$error":"#VALUE!"},null,null,null,null,null,3666,0,{"$f":"IF(R3667=\"\",\"\",LARGE(Q$1:Q3666,1)+1)","v":{"$error":"#NUM!"}},{"$error":"#NUM!"},null,null,null,null,null,null,0,{"$error":"#VALUE!"},3999,"","",null,null,null,null,{"$error":"#VALUE!"},{"$error":"#VALUE!"},{"$f":"COUNTIF('Standards LOOKUP'!B:B,AI3667)","v":0},{"$f":"IFERROR(INDEX('Standards LOOKUP'!C:C,MATCH(AI3667,'Standards LOOKUP'!B:B,0),0),0)","v":0},{"$f":"IFERROR(INDEX('Current Standards'!P:P,MATCH('Sheet Counter'!AI3667,'Current Standards'!O:O,0),0),\"\")","v":""}]
[null,null,0,"","",{"$error":"#VALUE!"},"",{"$f":"IF(I3670=\"\",\"\",LARGE(H$1:H3669,1)+1)","v":{"$error":"#VALUE!"}},{"$error":"#VALUE!"},null,null,null,null,null,3669,0,{"$f":"IF(R3670=\"\",\"\",LARGE(Q$1:Q3669,1)+1)","v":{"$error":"#NUM!"}},{"$error":"#NUM!"},null,null,null,null,null,null,0,{"$error":"#VALUE!"},3999,"","",null,null,null,null,{"$error":"#VALUE!"},{"$error":"#VALUE!"},{"$f":"COUNTIF('Standards LOOKUP'!B:B,AI3670)","v":0},{"$f":"IFERROR(INDEX('Standards LOOKUP'!C:C,MATCH(AI3670,'Standards LOOKUP'!B:B,0),0),0)","v":0},{"$f":"IFERROR(INDEX('Current Standards'!P:P,MATCH('Sheet Counter'!AI3670,'Current Standards'!O:O,0),0),\"\")","v":""}]
[null,null,0,"","",{"$error":"#VALUE!"},"",{"$f":"IF(I3673=\"\",\"\",LARGE(H$1:H3672,1)+1)","v":{"$error":"#VALUE!"}},{"$error":"#VALUE!"},null,null,null,null,null,3672,0,{"$f":"IF(R3673=\"\",\"\",LARGE(Q$1:Q3672,1)+1)","v":{"$error":"#NUM!"}},{"$error":"#NUM!"},null,null,null,null,null,null,0,{"$error":"#VALUE!"},3999,"","",null,null,null,null,{"$error":"#VALUE!"},{"$error":"#VALUE!"},{"$f":"COUNTIF('Standards LOOKUP'!B:B,AI3673)","v":0},{"$f":"IFERROR(INDEX('Standards LOOKUP'!C:C,MATCH(AI3673,'Standards LOOKUP'!B:B,0),0),0)","v":0},{"$f":"IFERROR(INDEX('Current Standards'!P:P,MATCH('Sheet Counter'!AI3673,'Current Standards'!O:O,0),0),\"\")","v":""}]
[null,null,0,"","",{"$error":"#VALUE!"},"",{"$f":"IF(I3675=\"\",\"\",LARGE(H$1:H3674,1)+1)","v":{"$error":"#VALUE!"}},{"$error":"#VALUE!"},null,null,null,null,null,3674,0,{"$f":"IF(R3675=\"\",\"\",LARGE(Q$1:Q3674,1)+1)","v":{"$error":"#NUM!"}},{"$error":"#NUM!"},null,null,null,null,null,null,0,{"$error":"#VALUE!"},3999,"","",null,null,null,null,{"$error":"#VALUE!"},{"$error":"#VALUE!"},{"$f":"COUNTIF('Standards LOOKUP'!B:B,AI3675)","v":0},{"$f":"IFERROR(INDEX('Standards LOOKUP'!C:C,MATCH(AI3675,'Standards LOOKUP'!B:B,0),0),0)","v":0},{"$f":"IFERROR(INDEX('Current Standards'!P:P,MATCH('Sheet Counter'!AI3675,'Current Standards'!O:O,0),0),\"\")","v":""}]
[null,null,0,"","",{"$error":"#VALUE!"},"",{"$f":"IF(I3676=\"\",\"\",LARGE(H$1:H3675,1)+1)","v":{"$error":"#VALUE!"}},{"$error":"#VALUE!"},null,null,null,null,null,3675,0,{"$f":"IF(R3676=\"\",\"\",LARGE(Q$1:Q3675,1)+1)","v":{"$error":"#NUM!"}},{"$error":"#NUM!"},null,null,null,null,null,null,0,{"$error":"#VALUE!"},3999,"","",null,null,null,null,{"$error":"#VALUE!"},{"$error":"#VALUE!"},{"$f":"COUNTIF('Standards LOOKUP'!B:B,AI3676)","v":0},{"$f":"IFERROR(INDEX('Standards LOOKUP'!C:C,MATCH(AI3676,'Standards LOOKUP'!B:B,0),0),0)","v":0},{"$f":"IFERROR(INDEX('Current Standards'!P:P,MATCH('Sheet Counter'!AI3676,'Current Standards'!O:O,0),0),\"\")","v":""}]
[null,null,0,"","",{"$error":"#VALUE!"},"",{"$f":"IF(I3680=\"\",\"\",LARGE(H$1:H3679,1)+1)","v":{"$error":"#VALUE!"}},{"$error":"#VALUE!"},null,null,null,null,null,3679,0,{"$f":"IF(R3680=\"\",\"\",LARGE(Q$1:Q3679,1)+1)","v":{"$error":"#NUM!"}},{"$error":"#NUM!"},null,null,null,null,null,null,0,{"$error":"#VALUE!"},3999,"","",null,null,null,null,{"$error":"#VALUE!"},{"$error":"#VALUE!"},{"$f":"COUNTIF('Standards LOOKUP'!B:B,AI3680)","v":0},{"$f":"IFERROR(INDEX('Standards LOOKUP'!C:C,MATCH(AI3680,'Standards LOOKUP'!B:B,0),0),0)","v":0},{"$f":"IFERROR(INDEX('Current Standards'!P:P,MATCH('Sheet Counter'!AI3680,'Current Standards'!O:O,0),0),\"\")","v":""}]
[null,null,0,"","",{"$error":"#VALUE!"},"",{"$f":"IF(I3683=\"\",\"\",LARGE(H$1:H3682,1)+1)","v":{"$error":"#VALUE!"}},{"$error":"#VALUE!"},null,null,null,null,null,3682,0,{"$f":"IF(R3683=\"\",\"\",LARGE(Q$1:Q3682,1)+1)","v":{"$error":"#NUM!"}},{"$error":"#NUM!"},null,null,null,null,null,null,0,{"$error":"#VALUE!"},3999,"","",null,null,null,null,{"$error":"#VALUE!"},{"$error":"#VALUE!"},{"$f":"COUNTIF('Standards LOOKUP'!B:B,AI3683)","v":0},{"$f":"IFERROR(INDEX('Standards LOOKUP'!C:C,MATCH(AI3683,'Standards LOOKUP'!B:B,0),0),0)","v":0},{"$f":"IFERROR(INDEX('Current Standards'!P:P,MATCH('Sheet Counter'!AI3683,'Current Standards'!O:O,0),0),\"\")","v":""}]
[null,null,0,"","",{"$error":"#VALUE!"},"",{"$f":"IF(I3686=\"\",\"\",LARGE(H$1:H3685,1)+1)","v":{"$error":"#VALUE!"}},{"$error":"#VALUE!"},null,null,null,null,null,3685,0,{"$f":"IF(R3686=\"\",\"\",LARGE(Q$1:Q3685,1)+1)","v":{"$error":"#NUM!"}},{"$error":"#NUM!"},null,null,null,null,null,null,0,{"$error":"#VALUE!"},3999,"","",null,null,null,null,{"$error":"#VALUE!"},{"$error":"#VALUE!"},{"$f":"COUNTIF('Standards LOOKUP'!B:B,AI3686)","v":0},{"$f":"IFERROR(INDEX('Standards LOOKUP'!C:C,MATCH(AI3686,'Standards LOOKUP'!B:B,0),0),0)","v":0},{"$f":"IFERROR(INDEX('Current Standards'!P:P,MATCH('Sheet Counter'!AI3686,'Current Standards'!O:O,0),0),\"\")","v":""}]
[null,null,0,"","",{"$error":"#VALUE!"},"",{"$f":"IF(I3689=\"\",\"\",LARGE(H$1:H3688,1)+1)","v":{"$error":"#VALUE!"}},{"$error":"#VALUE!"},null,null,null,null,null,3688,0,{"$f":"IF(R3689=\"\",\"\",LARGE(Q$1:Q3688,1)+1)","v":{"$error":"#NUM!"}},{"$error":"#NUM!"},null,null,null,null,null,null,0,{"$error":"#VALUE!"},3999,"","",null,null,null,null,{"$error":"#VALUE!"},{"$error":"#VALUE!"},{"$f":"COUNTIF('Standards LOOKUP'!B:B,AI3689)","v":0},{"$f":"IFERROR(INDEX('Standards LOOKUP'!C:C,MATCH(AI3689,'Standards LOOKUP'!B:B,0),0),0)","v":0},{"$f":"IFERROR(INDEX('Current Standards'!P:P,MATCH('Sheet Counter'!AI3689,'Current Standards'!O:O,0),0),\"\")","v":""}]
[null,null,0,"","",{"$error":"#VALUE!"},"",{"$f":"IF(I3692=\"\",\"\",LARGE(H$1:H3691,1)+1)","v":{"$error":"#VALUE!"}},{"$error":"#VALUE!"},null,null,null,null,null,3691,0,{"$f":"IF(R3692=\"\",\"\",LARGE(Q$1:Q3691,1)+1)","v":{"$error":"#NUM!"}},{"$error":"#NUM!"},null,null,null,null,null,null,0,{"$error":"#VALUE!"},3999,"","",null,null,null,null,{"$error":"#VALUE!"},{"$error":"#VALUE!"},{"$f":"COUNTIF('Standards LOOKUP'!B:B,AI3692)","v":0},{"$f":"IFERROR(INDEX('Standards LOOKUP'!C:C,MATCH(AI3692,'Standards LOOKUP'!B:B,0),0),0)","v":0},{"$f":"IFERROR(INDEX('Current Standards'!P:P,MATCH('Sheet Counter'!AI3692,'Current Standards'!O:O,0),0),\"\")","v":""}]
[null,null,0,"","",{"$error":"#VALUE!"},"",{"$f":"IF(I3695=\"\",\"\",LARGE(H$1:H3694,1)+1)","v":{"$error":"#VALUE!"}},{"$error":"#VALUE!"},null,null,null,null,null,3694,0,{"$f":"IF(R3695=\"\",\"\",LARGE(Q$1:Q3694,1)+1)","v":{"$error":"#NUM!"}},{"$error":"#NUM!"},null,null,null,null,null,null,0,{"$error":"#VALUE!"},3999,"","",null,null,null,null,{"$error":"#VALUE!"},{"$error":"#VALUE!"},{"$f":"COUNTIF('Standards LOOKUP'!B:B,AI3695)","v":0},{"$f":"IFERROR(INDEX('Standards LOOKUP'!C:C,MATCH(AI3695,'Standards LOOKUP'!B:B,0),0),0)","v":0},{"$f":"IFERROR(INDEX('Current Standards'!P:P,MATCH('Sheet Counter'!AI3695,'Current Standards'!O:O,0),0),\"\")","v":""}]
[null,null,0,"","",{"$error":"#VALUE!"},"",{"$f":"IF(I3697=\"\",\"\",LARGE(H$1:H3696,1)+1)","v":{"$error":"#VALUE!"}},{"$error":"#VALUE!"},null,null,null,null,null,3696,0,{"$f":"IF(R3697=\"\",\"\",LARGE(Q$1:Q3696,1)+1)","v":{"$error":"#NUM!"}},{"$error":"#NUM!"},null,null,null,null,null,null,0,{"$error":"#VALUE!"},3999,"","",null,null,null,null,{"$error":"#VALUE!"},{"$error":"#VALUE!"},{"$f":"COUNTIF('Standards LOOKUP'!B:B,AI3697)","v":0},{"$f":"IFERROR(INDEX('Standards LOOKUP'!C:C,MATCH(AI3697,'Standards LOOKUP'!B:B,0),0),0)","v":0},{"$f":"IFERROR(INDEX('Current Standards'!P:P,MATCH('Sheet Counter'!AI3697,'Current Standards'!O:O,0),0),\"\")","v":""}]
[null,null,0,"","",{"$error":"#VALUE!"},"",{"$f":"IF(I3698=\"\",\"\",LARGE(H$1:H3697,1)+1)","v":{"$error":"#VALUE!"}},{"$error":"#VALUE!"},null,null,null,null,null,3697,0,{"$f":"IF(R3698=\"\",\"\",LARGE(Q$1:Q3697,1)+1)","v":{"$error":"#NUM!"}},{"$error":"#NUM!"},null,null,null,null,null,null,0,{"$error":"#VALUE!"},3999,"","",null,null,null,null,{"$error":"#VALUE!"},{"$error":"#VALUE!"},{"$f":"COUNTIF('Standards LOOKUP'!B:B,AI3698)","v":0},{"$f":"IFERROR(INDEX('Standards LOOKUP'!C:C,MATCH(AI3698,'Standards LOOKUP'!B:B,0),0),0)","v":0},{"$f":"IFERROR(INDEX('Current Standards'!P:P,MATCH('Sheet Counter'!AI3698,'Current Standards'!O:O,0),0),\"\")","v":""}]
[null,null,0,"","",{"$error":"#VALUE!"},"",{"$f":"IF(I3702=\"\",\"\",LARGE(H$1:H3701,1)+1)","v":{"$error":"#VALUE!"}},{"$error":"#VALUE!"},null,null,null,null,null,3701,0,{"$f":"IF(R3702=\"\",\"\",LARGE(Q$1:Q3701,1)+1)","v":{"$error":"#NUM!"}},{"$error":"#NUM!"},null,null,null,null,null,null,0,{"$error":"#VALUE!"},3999,"","",null,null,null,null,{"$error":"#VALUE!"},{"$error":"#VALUE!"},{"$f":"COUNTIF('Standards LOOKUP'!B:B,AI3702)","v":0},{"$f":"IFERROR(INDEX('Standards LOOKUP'!C:C,MATCH(AI3702,'Standards LOOKUP'!B:B,0),0),0)","v":0},{"$f":"IFERROR(INDEX('Current Standards'!P:P,MATCH('Sheet Counter'!AI3702,'Current Standards'!O:O,0),0),\"\")","v":""}]
[null,null,0,"","",{"$error":"#VALUE!"},"",{"$f":"IF(I3705=\"\",\"\",LARGE(H$1:H3704,1)+1)","v":{"$error":"#VALUE!"}},{"$error":"#VALUE!"},null,null,null,null,null,3704,0,{"$f":"IF(R3705=\"\",\"\",LARGE(Q$1:Q3704,1)+1)","v":{"$error":"#NUM!"}},{"$error":"#NUM!"},null,null,null,null,null,null,0,{"$error":"#VALUE!"},3999,"","",null,null,null,null,{"$error":"#VALUE!"},{"$error":"#VALUE!"},{"$f":"COUNTIF('Standards LOOKUP'!B:B,AI3705)","v":0},{"$f":"IFERROR(INDEX('Standards LOOKUP'!C:C,MATCH(AI3705,'Standards LOOKUP'!B:B,0),0),0)","v":0},{"$f":"IFERROR(INDEX('Current Standards'!P:P,MATCH('Sheet Counter'!AI3705,'Current Standards'!O:O,0),0),\"\")","v":""}]
[null,null,0,"","",{"$error":"#VALUE!"},"",{"$f":"IF(I3708=\"\",\"\",LARGE(H$1:H3707,1)+1)","v":{"$error":"#VALUE!"}},{"$error":"#VALUE!"},null,null,null,null,null,3707,0,{"$f":"IF(R3708=\"\",\"\",LARGE(Q$1:Q3707,1)+1)","v":{"$error":"#NUM!"}},{"$error":"#NUM!"},null,null,null,null,null,null,0,{"$error":"#VALUE!"},3999,"","",null,null,null,null,{"$error":"#VALUE!"},{"$error":"#VALUE!"},{"$f":"COUNTIF('Standards LOOKUP'!B:B,AI3708)","v":0},{"$f":"IFERROR(INDEX('Standards LOOKUP'!C:C,MATCH(AI3708,'Standards LOOKUP'!B:B,0),0),0)","v":0},{"$f":"IFERROR(INDEX('Current Standards'!P:P,MATCH('Sheet Counter'!AI3708,'Current Standards'!O:O,0),0),\"\")","v":""}]
[null,null,0,"","",{"$error":"#VALUE!"},"",{"$f":"IF(I3711=\"\",\"\",LARGE(H$1:H3710,1)+1)","v":{"$error":"#VALUE!"}},{"$error":"#VALUE!"},null,null,null,null,null,3710,0,{"$f":"IF(R3711=\"\",\"\",LARGE(Q$1:Q3710,1)+1)","v":{"$error":"#NUM!"}},{"$error":"#NUM!"},null,null,null,null,null,null,0,{"$error":"#VALUE!"},3999,"","",null,null,null,null,{"$error":"#VALUE!"},{"$error":"#VALUE!"},{"$f":"COUNTIF('Standards LOOKUP'!B:B,AI3711)","v":0},{"$f":"IFERROR(INDEX('Standards LOOKUP'!C:C,MATCH(AI3711,'Standards LOOKUP'!B:B,0),0),0)","v":0},{"$f":"IFERROR(INDEX('Current Standards'!P:P,MATCH('Sheet Counter'!AI3711,'Current Standards'!O:O,0),0),\"\")","v":""}]
[null,null,0,"","",{"$error":"#VALUE!"},"",{"$f":"IF(I3714=\"\",\"\",LARGE(H$1:H3713,1)+1)","v":{"$error":"#VALUE!"}},{"$error":"#VALUE!"},null,null,null,null,null,3713,0,{"$f":"IF(R3714=\"\",\"\",LARGE(Q$1:Q3713,1)+1)","v":{"$error":"#NUM!"}},{"$error":"#NUM!"},null,null,null,null,null,null,0,{"$error":"#VALUE!"},3999,"","",null,null,null,null,{"$error":"#VALUE!"},{"$error":"#VALUE!"},{"$f":"COUNTIF('Standards LOOKUP'!B:B,AI3714)","v":0},{"$f":"IFERROR(INDEX('Standards LOOKUP'!C:C,MATCH(AI3714,'Standards LOOKUP'!B:B,0),0),0)","v":0},{"$f":"IFERROR(INDEX('Current Standards'!P:P,MATCH('Sheet Counter'!AI3714,'Current Standards'!O:O,0),0),\"\")","v":""}]
[null,null,0,{"$f":"IF(AL3715=\"\",\"\",AL3715)","v":""},"",{"$error":"#VALUE!"},"",{"$f":"IF(I3715=\"\",\"\",LARGE(H$1:H3714,1)+1)","v":{"$error":"#VALUE!"}},{"$error":"#VALUE!"},null,null,null,null,null,3714,0,{"$f":"IF(R3715=\"\",\"\",LARGE(Q$1:Q3714,1)+1)","v":{"$error":"#NUM!"}},{"$error":"#NUM!"},null,null,null,null,null,null,0,{"$error":"#VALUE!"},3999,"",{"$f":"IF(AA3715=0,\"New Sheet\",IF(EXACT(UPPER(Y3715),UPPER(AB3715)),\"Match\",\"\"))","v":""},null,null,null,null,{"$f":"IF(C3715=\"\",\"\",LEFT(RIGHT(C3715,LEN(C3715)-SEARCH(\" \",C3715,1)),LEN(RIGHT(C3715,LEN(C3715)-SEARCH(\" \",C3715,1)))-4))","v":{"$error":"#VALUE!"}},{"$f":"TRIM(SUBSTITUTE(SUBSTITUTE(SUBSTITUTE(SUBSTITUTE(SUBSTITUTE(SUBSTITUTE(AH3715,\"(\",\"\"),\")\",\"\"),\"-\",\"\"),\"&\",\"\"),\" \",\"\",1),\" \",\"\",1))","v":{"$error":"#VALUE!"}},{"$f":"COUNTIF('Standards LOOKUP'!B:B,AI3715)","v":0},{"$f":"IFERROR(INDEX('Standards LOOKUP'!C:C,MATCH(AI3715,'Standards LOOKUP'!B:B,0),0),0)","v":0},{"$f":"IFERROR(INDEX('Current Standards'!P:P,MATCH('Sheet Counter'!AI3715,'Current Standards'!O:O,0),0),\"\")","v":""}]
[null,null,0,"","",{"$error":"#VALUE!"},"",{"$f":"IF(I3719=\"\",\"\",LARGE(H$1:H3718,1)+1)","v":{"$error":"#VALUE!"}},{"$error":"#VALUE!"},null,null,null,null,null,3718,0,{"$f":"IF(R3719=\"\",\"\",LARGE(Q$1:Q3718,1)+1)","v":{"$error":"#NUM!"}},{"$error":"#NUM!"},null,null,null,null,null,null,0,{"$error":"#VALUE!"},3999,"","",null,null,null,null,{"$error":"#VALUE!"},{"$error":"#VALUE!"},{"$f":"COUNTIF('Standards LOOKUP'!B:B,AI3719)","v":0},{"$f":"IFERROR(INDEX('Standards LOOKUP'!C:C,MATCH(AI3719,'Standards LOOKUP'!B:B,0),0),0)","v":0},{"$f":"IFERROR(INDEX('Current Standards'!P:P,MATCH('Sheet Counter'!AI3719,'Current Standards'!O:O,0),0),\"\")","v":""}]
[null,null,0,"","",{"$error":"#VALUE!"},"",{"$f":"IF(I3720=\"\",\"\",LARGE(H$1:H3719,1)+1)","v":{"$error":"#VALUE!"}},{"$error":"#VALUE!"},null,null,null,null,null,3719,0,{"$f":"IF(R3720=\"\",\"\",LARGE(Q$1:Q3719,1)+1)","v":{"$error":"#NUM!"}},{"$error":"#NUM!"},null,null,null,null,null,null,0,{"$error":"#VALUE!"},3999,"","",null,null,null,null,{"$error":"#VALUE!"},{"$error":"#VALUE!"},{"$f":"COUNTIF('Standards LOOKUP'!B:B,AI3720)","v":0},{"$f":"IFERROR(INDEX('Standards LOOKUP'!C:C,MATCH(AI3720,'Standards LOOKUP'!B:B,0),0),0)","v":0},{"$f":"IFERROR(INDEX('Current Standards'!P:P,MATCH('Sheet Counter'!AI3720,'Current Standards'!O:O,0),0),\"\")","v":""}]
[null,null,0,"","",{"$error":"#VALUE!"},"",{"$f":"IF(I3724=\"\",\"\",LARGE(H$1:H3723,1)+1)","v":{"$error":"#VALUE!"}},{"$error":"#VALUE!"},null,null,null,null,null,3723,0,{"$f":"IF(R3724=\"\",\"\",LARGE(Q$1:Q3723,1)+1)","v":{"$error":"#NUM!"}},{"$error":"#NUM!"},null,null,null,null,null,null,0,{"$error":"#VALUE!"},3999,"","",null,null,null,null,{"$error":"#VALUE!"},{"$error":"#VALUE!"},{"$f":"COUNTIF('Standards LOOKUP'!B:B,AI3724)","v":0},{"$f":"IFERROR(INDEX('Standards LOOKUP'!C:C,MATCH(AI3724,'Standards LOOKUP'!B:B,0),0),0)","v":0},{"$f":"IFERROR(INDEX('Current Standards'!P:P,MATCH('Sheet Counter'!AI3724,'Current Standards'!O:O,0),0),\"\")","v":""}]
[null,null,0,"","",{"$error":"#VALUE!"},"",{"$f":"IF(I3727=\"\",\"\",LARGE(H$1:H3726,1)+1)","v":{"$error":"#VALUE!"}},{"$error":"#VALUE!"},null,null,null,null,null,3726,0,{"$f":"IF(R3727=\"\",\"\",LARGE(Q$1:Q3726,1)+1)","v":{"$error":"#NUM!"}},{"$error":"#NUM!"},null,null,null,null,null,null,0,{"$error":"#VALUE!"},3999,"","",null,null,null,null,{"$error":"#VALUE!"},{"$error":"#VALUE!"},{"$f":"COUNTIF('Standards LOOKUP'!B:B,AI3727)","v":0},{"$f":"IFERROR(INDEX('Standards LOOKUP'!C:C,MATCH(AI3727,'Standards LOOKUP'!B:B,0),0),0)","v":0},{"$f":"IFERROR(INDEX('Current Standards'!P:P,MATCH('Sheet Counter'!AI3727,'Current Standards'!O:O,0),0),\"\")","v":""}]
[null,null,0,"","",{"$error":"#VALUE!"},"",{"$f":"IF(I3730=\"\",\"\",LARGE(H$1:H3729,1)+1)","v":{"$error":"#VALUE!"}},{"$error":"#VALUE!"},null,null,null,null,null,3729,0,{"$f":"IF(R3730=\"\",\"\",LARGE(Q$1:Q3729,1)+1)","v":{"$error":"#NUM!"}},{"$error":"#NUM!"},null,null,null,null,null,null,0,{"$error":"#VALUE!"},3999,"","",null,null,null,null,{"$error":"#VALUE!"},{"$error":"#VALUE!"},{"$f":"COUNTIF('Standards LOOKUP'!B:B,AI3730)","v":0},{"$f":"IFERROR(INDEX('Standards LOOKUP'!C:C,MATCH(AI3730,'Standards LOOKUP'!B:B,0),0),0)","v":0},{"$f":"IFERROR(INDEX('Current Standards'!P:P,MATCH('Sheet Counter'!AI3730,'Current Standards'!O:O,0),0),\"\")","v":""}]
[null,null,0,"","",{"$error":"#VALUE!"},"",{"$f":"IF(I3733=\"\",\"\",LARGE(H$1:H3732,1)+1)","v":{"$error":"#VALUE!"}},{"$error":"#VALUE!"},null,null,null,null,null,3732,0,{"$f":"IF(R3733=\"\",\"\",LARGE(Q$1:Q3732,1)+1)","v":{"$error":"#NUM!"}},{"$error":"#NUM!"},null,null,null,null,null,null,0,{"$error":"#VALUE!"},3999,"","",null,null,null,null,{"$error":"#VALUE!"},{"$error":"#VALUE!"},{"$f":"COUNTIF('Standards LOOKUP'!B:B,AI3733)","v":0},{"$f":"IFERROR(INDEX('Standards LOOKUP'!C:C,MATCH(AI3733,'Standards LOOKUP'!B:B,0),0),0)","v":0},{"$f":"IFERROR(INDEX('Current Standards'!P:P,MATCH('Sheet Counter'!AI3733,'Current Standards'!O:O,0),0),\"\")","v":""}]
[null,null,0,"","",{"$error":"#VALUE!"},"",{"$f":"IF(I3736=\"\",\"\",LARGE(H$1:H3735,1)+1)","v":{"$error":"#VALUE!"}},{"$error":"#VALUE!"},null,null,null,null,null,3735,0,{"$f":"IF(R3736=\"\",\"\",LARGE(Q$1:Q3735,1)+1)","v":{"$error":"#NUM!"}},{"$error":"#NUM!"},null,null,null,null,null,null,0,{"$error":"#VALUE!"},3999,"","",null,null,null,null,{"$error":"#VALUE!"},{"$error":"#VALUE!"},{"$f":"COUNTIF('Standards LOOKUP'!B:B,AI3736)","v":0},{"$f":"IFERROR(INDEX('Standards LOOKUP'!C:C,MATCH(AI3736,'Standards LOOKUP'!B:B,0),0),0)","v":0},{"$f":"IFERROR(INDEX('Current Standards'!P:P,MATCH('Sheet Counter'!AI3736,'Current Standards'!O:O,0),0),\"\")","v":""}]
[null,null,0,"","",{"$error":"#VALUE!"},"",{"$f":"IF(I3737=\"\",\"\",LARGE(H$1:H3736,1)+1)","v":{"$error":"#VALUE!"}},{"$error":"#VALUE!"},null,null,null,null,null,3736,0,{"$f":"IF(R3737=\"\",\"\",LARGE(Q$1:Q3736,1)+1)","v":{"$error":"#NUM!"}},{"$error":"#NUM!"},null,null,null,null,null,null,0,{"$error":"#VALUE!"},3999,"","",null,null,null,null,{"$error":"#VALUE!"},{"$error":"#VALUE!"},{"$f":"COUNTIF('Standards LOOKUP'!B:B,AI3737)","v":0},{"$f":"IFERROR(INDEX('Standards LOOKUP'!C:C,MATCH(AI3737,'Standards LOOKUP'!B:B,0),0),0)","v":0},{"$f":"IFERROR(INDEX('Current Standards'!P:P,MATCH('Sheet Counter'!AI3737,'Current Standards'!O:O,0),0),\"\")","v":""}]
[null,null,0,"","",{"$error":"#VALUE!"},"",{"$f":"IF(I3741=\"\",\"\",LARGE(H$1:H3740,1)+1)","v":{"$error":"#VALUE!"}},{"$error":"#VALUE!"},null,null,null,null,null,3740,0,{"$f":"IF(R3741=\"\",\"\",LARGE(Q$1:Q3740,1)+1)","v":{"$error":"#NUM!"}},{"$error":"#NUM!"},null,null,null,null,null,null,0,{"$error":"#VALUE!"},3999,"","",null,null,null,null,{"$error":"#VALUE!"},{"$error":"#VALUE!"},{"$f":"COUNTIF('Standards LOOKUP'!B:B,AI3741)","v":0},{"$f":"IFERROR(INDEX('Standards LOOKUP'!C:C,MATCH(AI3741,'Standards LOOKUP'!B:B,0),0),0)","v":0},{"$f":"IFERROR(INDEX('Current Standards'!P:P,MATCH('Sheet Counter'!AI3741,'Current Standards'!O:O,0),0),\"\")","v":""}]
[null,null,0,"","",{"$error":"#VALUE!"},"",{"$f":"IF(I3742=\"\",\"\",LARGE(H$1:H3741,1)+1)","v":{"$error":"#VALUE!"}},{"$error":"#VALUE!"},null,null,null,null,null,3741,0,{"$f":"IF(R3742=\"\",\"\",LARGE(Q$1:Q3741,1)+1)","v":{"$error":"#NUM!"}},{"$error":"#NUM!"},null,null,null,null,null,null,0,{"$error":"#VALUE!"},3999,"","",null,null,null,null,{"$error":"#VALUE!"},{"$error":"#VALUE!"},{"$f":"COUNTIF('Standards LOOKUP'!B:B,AI3742)","v":0},{"$f":"IFERROR(INDEX('Standards LOOKUP'!C:C,MATCH(AI3742,'Standards LOOKUP'!B:B,0),0),0)","v":0},{"$f":"IFERROR(INDEX('Current Standards'!P:P,MATCH('Sheet Counter'!AI3742,'Current Standards'!O:O,0),0),\"\")","v":""}]
[null,null,0,"","",{"$error":"#VALUE!"},"",{"$f":"IF(I3746=\"\",\"\",LARGE(H$1:H3745,1)+1)","v":{"$error":"#VALUE!"}},{"$error":"#VALUE!"},null,null,null,null,null,3745,0,{"$f":"IF(R3746=\"\",\"\",LARGE(Q$1:Q3745,1)+1)","v":{"$error":"#NUM!"}},{"$error":"#NUM!"},null,null,null,null,null,null,0,{"$error":"#VALUE!"},3999,"","",null,null,null,null,{"$error":"#VALUE!"},{"$error":"#VALUE!"},{"$f":"COUNTIF('Standards LOOKUP'!B:B,AI3746)","v":0},{"$f":"IFERROR(INDEX('Standards LOOKUP'!C:C,MATCH(AI3746,'Standards LOOKUP'!B:B,0),0),0)","v":0},{"$f":"IFERROR(INDEX('Current Standards'!P:P,MATCH('Sheet Counter'!AI3746,'Current Standards'!O:O,0),0),\"\")","v":""}]
[null,null,0,"","",{"$error":"#VALUE!"},"",{"$f":"IF(I3749=\"\",\"\",LARGE(H$1:H3748,1)+1)","v":{"$error":"#VALUE!"}},{"$error":"#VALUE!"},null,null,null,null,null,3748,0,{"$f":"IF(R3749=\"\",\"\",LARGE(Q$1:Q3748,1)+1)","v":{"$error":"#NUM!"}},{"$error":"#NUM!"},null,null,null,null,null,null,0,{"$error":"#VALUE!"},3999,"","",null,null,null,null,{"$error":"#VALUE!"},{"$error":"#VALUE!"},{"$f":"COUNTIF('Standards LOOKUP'!B:B,AI3749)","v":0},{"$f":"IFERROR(INDEX('Standards LOOKUP'!C:C,MATCH(AI3749,'Standards LOOKUP'!B:B,0),0),0)","v":0},{"$f":"IFERROR(INDEX('Current Standards'!P:P,MATCH('Sheet Counter'!AI3749,'Current Standards'!O:O,0),0),\"\")","v":""}]
[null,null,0,"","",{"$error":"#VALUE!"},"",{"$f":"IF(I3751=\"\",\"\",LARGE(H$1:H3750,1)+1)","v":{"$error":"#VALUE!"}},{"$error":"#VALUE!"},null,null,null,null,null,3750,0,{"$f":"IF(R3751=\"\",\"\",LARGE(Q$1:Q3750,1)+1)","v":{"$error":"#NUM!"}},{"$error":"#NUM!"},null,null,null,null,null,null,0,{"$error":"#VALUE!"},3999,"","",null,null,null,null,{"$error":"#VALUE!"},{"$error":"#VALUE!"},{"$f":"COUNTIF('Standards LOOKUP'!B:B,AI3751)","v":0},{"$f":"IFERROR(INDEX('Standards LOOKUP'!C:C,MATCH(AI3751,'Standards LOOKUP'!B:B,0),0),0)","v":0},{"$f":"IFERROR(INDEX('Current Standards'!P:P,MATCH('Sheet Counter'!AI3751,'Current Standards'!O:O,0),0),\"\")","v":""}]
[null,null,0,"","",{"$error":"#VALUE!"},"",{"$f":"IF(I3752=\"\",\"\",LARGE(H$1:H3751,1)+1)","v":{"$error":"#VALUE!"}},{"$error":"#VALUE!"},null,null,null,null,null,3751,0,{"$f":"IF(R3752=\"\",\"\",LARGE(Q$1:Q3751,1)+1)","v":{"$error":"#NUM!"}},{"$error":"#NUM!"},null,null,null,null,null,null,0,{"$error":"#VALUE!"},3999,"","",null,null,null,null,{"$error":"#VALUE!"},{"$error":"#VALUE!"},{"$f":"COUNTIF('Standards LOOKUP'!B:B,AI3752)","v":0},{"$f":"IFERROR(INDEX('Standards LOOKUP'!C:C,MATCH(AI3752,'Standards LOOKUP'!B:B,0),0),0)","v":0},{"$f":"IFERROR(INDEX('Current Standards'!P:P,MATCH('Sheet Counter'!AI3752,'Current Standards'!O:O,0),0),\"\")","v":""}]
[null,null,0,"","",{"$error":"#VALUE!"},"",{"$f":"IF(I3753=\"\",\"\",LARGE(H$1:H3752,1)+1)","v":{"$error":"#VALUE!"}},{"$error":"#VALUE!"},null,null,null,null,null,3752,0,{"$f":"IF(R3753=\"\",\"\",LARGE(Q$1:Q3752,1)+1)","v":{"$error":"#NUM!"}},{"$error":"#NUM!"},null,null,null,null,null,null,0,{"$error":"#VALUE!"},3999,"","",null,null,null,null,{"$error":"#VALUE!"},{"$error":"#VALUE!"},{"$f":"COUNTIF('Standards LOOKUP'!B:B,AI3753)","v":0},{"$f":"IFERROR(INDEX('Standards LOOKUP'!C:C,MATCH(AI3753,'Standards LOOKUP'!B:B,0),0),0)","v":0},{"$f":"IFERROR(INDEX('Current Standards'!P:P,MATCH('Sheet Counter'!AI3753,'Current Standards'!O:O,0),0),\"\")","v":""}]
[null,null,0,"","",{"$error":"#VALUE!"},"",{"$f":"IF(I3754=\"\",\"\",LARGE(H$1:H3753,1)+1)","v":{"$error":"#VALUE!"}},{"$error":"#VALUE!"},null,null,null,null,null,3753,0,{"$f":"IF(R3754=\"\",\"\",LARGE(Q$1:Q3753,1)+1)","v":{"$error":"#NUM!"}},{"$error":"#NUM!"},null,null,null,null,null,null,0,{"$error":"#VALUE!"},3999,"","",null,null,null,null,{"$error":"#VALUE!"},{"$error":"#VALUE!"},{"$f":"COUNTIF('Standards LOOKUP'!B:B,AI3754)","v":0},{"$f":"IFERROR(INDEX('Standards LOOKUP'!C:C,MATCH(AI3754,'Standards LOOKUP'!B:B,0),0),0)","v":0},{"$f":"IFERROR(INDEX('Current Standards'!P:P,MATCH('Sheet Counter'!AI3754,'Current Standards'!O:O,0),0),\"\")","v":""}]
[null,null,0,"","",{"$error":"#VALUE!"},"",{"$f":"IF(I3755=\"\",\"\",LARGE(H$1:H3754,1)+1)","v":{"$error":"#VALUE!"}},{"$error":"#VALUE!"},null,null,null,null,null,3754,0,{"$f":"IF(R3755=\"\",\"\",LARGE(Q$1:Q3754,1)+1)","v":{"$error":"#NUM!"}},{"$error":"#NUM!"},null,null,null,null,null,null,0,{"$error":"#VALUE!"},3999,"","",null,null,null,null,{"$error":"#VALUE!"},{"$error":"#VALUE!"},{"$f":"COUNTIF('Standards LOOKUP'!B:B,AI3755)","v":0},{"$f":"IFERROR(INDEX('Standards LOOKUP'!C:C,MATCH(AI3755,'Standards LOOKUP'!B:B,0),0),0)","v":0},{"$f":"IFERROR(INDEX('Current Standards'!P:P,MATCH('Sheet Counter'!AI3755,'Current Standards'!O:O,0),0),\"\")","v":""}]
[null,null,0,"","",{"$error":"#VALUE!"},"",{"$f":"IF(I3756=\"\",\"\",LARGE(H$1:H3755,1)+1)","v":{"$error":"#VALUE!"}},{"$error":"#VALUE!"},null,null,null,null,null,3755,0,{"$f":"IF(R3756=\"\",\"\",LARGE(Q$1:Q3755,1)+1)","v":{"$error":"#NUM!"}},{"$error":"#NUM!"},null,null,null,null,null,null,0,{"$error":"#VALUE!"},3999,"","",null,null,null,null,{"$error":"#VALUE!"},{"$error":"#VALUE!"},{"$f":"COUNTIF('Standards LOOKUP'!B:B,AI3756)","v":0},{"$f":"IFERROR(INDEX('Standards LOOKUP'!C:C,MATCH(AI3756,'Standards LOOKUP'!B:B,0),0),0)","v":0},{"$f":"IFERROR(INDEX('Current Standards'!P:P,MATCH('Sheet Counter'!AI3756,'Current Standards'!O:O,0),0),\"\")","v":""}]
[null,null,0,"","",{"$error":"#VALUE!"},"",{"$f":"IF(I3757=\"\",\"\",LARGE(H$1:H3756,1)+1)","v":{"$error":"#VALUE!"}},{"$error":"#VALUE!"},null,null,null,null,null,3756,0,{"$f":"IF(R3757=\"\",\"\",LARGE(Q$1:Q3756,1)+1)","v":{"$error":"#NUM!"}},{"$error":"#NUM!"},null,null,null,null,null,null,0,{"$error":"#VALUE!"},3999,"","",null,null,null,null,{"$error":"#VALUE!"},{"$error":"#VALUE!"},{"$f":"COUNTIF('Standards LOOKUP'!B:B,AI3757)","v":0},{"$f":"IFERROR(INDEX('Standards LOOKUP'!C:C,MATCH(AI3757,'Standards LOOKUP'!B:B,0),0),0)","v":0},{"$f":"IFERROR(INDEX('Current Standards'!P:P,MATCH('Sheet Counter'!AI3757,'Current Standards'!O:O,0),0),\"\")","v":""}]
[null,null,0,"","",{"$error":"#VALUE!"},"",{"$f":"IF(I3758=\"\",\"\",LARGE(H$1:H3757,1)+1)","v":{"$error":"#VALUE!"}},{"$error":"#VALUE!"},null,null,null,null,null,3757,0,{"$f":"IF(R3758=\"\",\"\",LARGE(Q$1:Q3757,1)+1)","v":{"$error":"#NUM!"}},{"$error":"#NUM!"},null,null,null,null,null,null,0,{"$error":"#VALUE!"},3999,"","",null,null,null,null,{"$error":"#VALUE!"},{"$error":"#VALUE!"},{"$f":"COUNTIF('Standards LOOKUP'!B:B,AI3758)","v":0},{"$f":"IFERROR(INDEX('Standards LOOKUP'!C:C,MATCH(AI3758,'Standards LOOKUP'!B:B,0),0),0)","v":0},{"$f":"IFERROR(INDEX('Current Standards'!P:P,MATCH('Sheet Counter'!AI3758,'Current Standards'!O:O,0),0),\"\")","v":""}]
[null,null,0,"","",{"$error":"#VALUE!"},"",{"$f":"IF(I3759=\"\",\"\",LARGE(H$1:H3758,1)+1)","v":{"$error":"#VALUE!"}},{"$error":"#VALUE!"},null,null,null,null,null,3758,0,{"$f":"IF(R3759=\"\",\"\",LARGE(Q$1:Q3758,1)+1)","v":{"$error":"#NUM!"}},{"$error":"#NUM!"},null,null,null,null,null,null,0,{"$error":"#VALUE!"},3999,"","",null,null,null,null,{"$error":"#VALUE!"},{"$error":"#VALUE!"},{"$f":"COUNTIF('Standards LOOKUP'!B:B,AI3759)","v":0},{"$f":"IFERROR(INDEX('Standards LOOKUP'!C:C,MATCH(AI3759,'Standards LOOKUP'!B:B,0),0),0)","v":0},{"$f":"IFERROR(INDEX('Current Standards'!P:P,MATCH('Sheet Counter'!AI3759,'Current Standards'!O:O,0),0),\"\")","v":""}]
[null,null,0,"","",{"$error":"#VALUE!"},"",{"$f":"IF(I3760=\"\",\"\",LARGE(H$1:H3759,1)+1)","v":{"$error":"#VALUE!"}},{"$error":"#VALUE!"},null,null,null,null,null,3759,0,{"$f":"IF(R3760=\"\",\"\",LARGE(Q$1:Q3759,1)+1)","v":{"$error":"#NUM!"}},{"$error":"#NUM!"},null,null,null,null,null,null,0,{"$error":"#VALUE!"},3999,"","",null,null,null,null,{"$error":"#VALUE!"},{"$error":"#VALUE!"},{"$f":"COUNTIF('Standards LOOKUP'!B:B,AI3760)","v":0},{"$f":"IFERROR(INDEX('Standards LOOKUP'!C:C,MATCH(AI3760,'Standards LOOKUP'!B:B,0),0),0)","v":0},{"$f":"IFERROR(INDEX('Current Standards'!P:P,MATCH('Sheet Counter'!AI3760,'Current Standards'!O:O,0),0),\"\")","v":""}]
[null,null,0,"","",{"$error":"#VALUE!"},"",{"$f":"IF(I3761=\"\",\"\",LARGE(H$1:H3760,1)+1)","v":{"$error":"#VALUE!"}},{"$error":"#VALUE!"},null,null,null,null,null,3760,0,{"$f":"IF(R3761=\"\",\"\",LARGE(Q$1:Q3760,1)+1)","v":{"$error":"#NUM!"}},{"$error":"#NUM!"},null,null,null,null,null,null,0,{"$error":"#VALUE!"},3999,"","",null,null,null,null,{"$error":"#VALUE!"},{"$error":"#VALUE!"},{"$f":"COUNTIF('Standards LOOKUP'!B:B,AI3761)","v":0},{"$f":"IFERROR(INDEX('Standards LOOKUP'!C:C,MATCH(AI3761,'Standards LOOKUP'!B:B,0),0),0)","v":0},{"$f":"IFERROR(INDEX('Current Standards'!P:P,MATCH('Sheet Counter'!AI3761,'Current Standards'!O:O,0),0),\"\")","v":""}]
[null,null,0,"","",{"$error":"#VALUE!"},"",{"$f":"IF(I3762=\"\",\"\",LARGE(H$1:H3761,1)+1)","v":{"$error":"#VALUE!"}},{"$error":"#VALUE!"},null,null,null,null,null,3761,0,{"$f":"IF(R3762=\"\",\"\",LARGE(Q$1:Q3761,1)+1)","v":{"$error":"#NUM!"}},{"$error":"#NUM!"},null,null,null,null,null,null,0,{"$error":"#VALUE!"},3999,"","",null,null,null,null,{"$error":"#VALUE!"},{"$error":"#VALUE!"},{"$f":"COUNTIF('Standards LOOKUP'!B:B,AI3762)","v":0},{"$f":"IFERROR(INDEX('Standards LOOKUP'!C:C,MATCH(AI3762,'Standards LOOKUP'!B:B,0),0),0)","v":0},{"$f":"IFERROR(INDEX('Current Standards'!P:P,MATCH('Sheet Counter'!AI3762,'Current Standards'!O:O,0),0),\"\")","v":""}]
[null,null,0,"","",{"$error":"#VALUE!"},"",{"$f":"IF(I3763=\"\",\"\",LARGE(H$1:H3762,1)+1)","v":{"$error":"#VALUE!"}},{"$error":"#VALUE!"},null,null,null,null,null,3762,0,{"$f":"IF(R3763=\"\",\"\",LARGE(Q$1:Q3762,1)+1)","v":{"$error":"#NUM!"}},{"$error":"#NUM!"},null,null,null,null,null,null,0,{"$error":"#VALUE!"},3999,"","",null,null,null,null,{"$error":"#VALUE!"},{"$error":"#VALUE!"},{"$f":"COUNTIF('Standards LOOKUP'!B:B,AI3763)","v":0},{"$f":"IFERROR(INDEX('Standards LOOKUP'!C:C,MATCH(AI3763,'Standards LOOKUP'!B:B,0),0),0)","v":0},{"$f":"IFERROR(INDEX('Current Standards'!P:P,MATCH('Sheet Counter'!AI3763,'Current Standards'!O:O,0),0),\"\")","v":""}]
[null,null,0,"","",{"$error":"#VALUE!"},"",{"$f":"IF(I3764=\"\",\"\",LARGE(H$1:H3763,1)+1)","v":{"$error":"#VALUE!"}},{"$error":"#VALUE!"},null,null,null,null,null,3763,0,{"$f":"IF(R3764=\"\",\"\",LARGE(Q$1:Q3763,1)+1)","v":{"$error":"#NUM!"}},{"$error":"#NUM!"},null,null,null,null,null,null,0,{"$error":"#VALUE!"},3999,"","",null,null,null,null,{"$error":"#VALUE!"},{"$error":"#VALUE!"},{"$f":"COUNTIF('Standards LOOKUP'!B:B,AI3764)","v":0},{"$f":"IFERROR(INDEX('Standards LOOKUP'!C:C,MATCH(AI3764,'Standards LOOKUP'!B:B,0),0),0)","v":0},{"$f":"IFERROR(INDEX('Current Standards'!P:P,MATCH('Sheet Counter'!AI3764,'Current Standards'!O:O,0),0),\"\")","v":""}]
[null,null,0,"","",{"$error":"#VALUE!"},"",{"$f":"IF(I3765=\"\",\"\",LARGE(H$1:H3764,1)+1)","v":{"$error":"#VALUE!"}},{"$error":"#VALUE!"},null,null,null,null,null,3764,0,{"$f":"IF(R3765=\"\",\"\",LARGE(Q$1:Q3764,1)+1)","v":{"$error":"#NUM!"}},{"$error":"#NUM!"},null,null,null,null,null,null,0,{"$error":"#VALUE!"},3999,"","",null,null,null,null,{"$error":"#VALUE!"},{"$error":"#VALUE!"},{"$f":"COUNTIF('Standards LOOKUP'!B:B,AI3765)","v":0},{"$f":"IFERROR(INDEX('Standards LOOKUP'!C:C,MATCH(AI3765,'Standards LOOKUP'!B:B,0),0),0)","v":0},{"$f":"IFERROR(INDEX('Current Standards'!P:P,MATCH('Sheet Counter'!AI3765,'Current Standards'!O:O,0),0),\"\")","v":""}]
[null,null,0,"","",{"$error":"#VALUE!"},"",{"$f":"IF(I3766=\"\",\"\",LARGE(H$1:H3765,1)+1)","v":{"$error":"#VALUE!"}},{"$error":"#VALUE!"},null,null,null,null,null,3765,0,{"$f":"IF(R3766=\"\",\"\",LARGE(Q$1:Q3765,1)+1)","v":{"$error":"#NUM!"}},{"$error":"#NUM!"},null,null,null,null,null,null,0,{"$error":"#VALUE!"},3999,"","",null,null,null,null,{"$error":"#VALUE!"},{"$error":"#VALUE!"},{"$f":"COUNTIF('Standards LOOKUP'!B:B,AI3766)","v":0},{"$f":"IFERROR(INDEX('Standards LOOKUP'!C:C,MATCH(AI3766,'Standards LOOKUP'!B:B,0),0),0)","v":0},{"$f":"IFERROR(INDEX('Current Standards'!P:P,MATCH('Sheet Counter'!AI3766,'Current Standards'!O:O,0),0),\"\")","v":""}]
[null,null,0,"","",{"$error":"#VALUE!"},"",{"$f":"IF(I3767=\"\",\"\",LARGE(H$1:H3766,1)+1)","v":{"$error":"#VALUE!"}},{"$error":"#VALUE!"},null,null,null,null,null,3766,0,{"$f":"IF(R3767=\"\",\"\",LARGE(Q$1:Q3766,1)+1)","v":{"$error":"#NUM!"}},{"$error":"#NUM!"},null,null,null,null,null,null,0,{"$error":"#VALUE!"},3999,"","",null,null,null,null,{"$error":"#VALUE!"},{"$error":"#VALUE!"},{"$f":"COUNTIF('Standards LOOKUP'!B:B,AI3767)","v":0},{"$f":"IFERROR(INDEX('Standards LOOKUP'!C:C,MATCH(AI3767,'Standards LOOKUP'!B:B,0),0),0)","v":0},{"$f":"IFERROR(INDEX('Current Standards'!P:P,MATCH('Sheet Counter'!AI3767,'Current Standards'!O:O,0),0),\"\")","v":""}]
[null,null,0,"","",{"$error":"#VALUE!"},"",{"$f":"IF(I3768=\"\",\"\",LARGE(H$1:H3767,1)+1)","v":{"$error":"#VALUE!"}},{"$error":"#VALUE!"},null,null,null,null,null,3767,0,{"$f":"IF(R3768=\"\",\"\",LARGE(Q$1:Q3767,1)+1)","v":{"$error":"#NUM!"}},{"$error":"#NUM!"},null,null,null,null,null,null,0,{"$error":"#VALUE!"},3999,"","",null,null,null,null,{"$error":"#VALUE!"},{"$error":"#VALUE!"},{"$f":"COUNTIF('Standards LOOKUP'!B:B,AI3768)","v":0},{"$f":"IFERROR(INDEX('Standards LOOKUP'!C:C,MATCH(AI3768,'Standards LOOKUP'!B:B,0),0),0)","v":0},{"$f":"IFERROR(INDEX('Current Standards'!P:P,MATCH('Sheet Counter'!AI3768,'Current Standards'!O:O,0),0),\"\")","v":""}]
[null,null,0,"","",{"$error":"#VALUE!"},"",{"$f":"IF(I3769=\"\",\"\",LARGE(H$1:H3768,1)+1)","v":{"$error":"#VALUE!"}},{"$error":"#VALUE!"},null,null,null,null,null,3768,0,{"$f":"IF(R3769=\"\",\"\",LARGE(Q$1:Q3768,1)+1)","v":{"$error":"#NUM!"}},{"$error":"#NUM!"},null,null,null,null,null,null,0,{"$error":"#VALUE!"},3999,"","",null,null,null,null,{"$error":"#VALUE!"},{"$error":"#VALUE!"},{"$f":"COUNTIF('Standards LOOKUP'!B:B,AI3769)","v":0},{"$f":"IFERROR(INDEX('Standards LOOKUP'!C:C,MATCH(AI3769,'Standards LOOKUP'!B:B,0),0),0)","v":0},{"$f":"IFERROR(INDEX('Current Standards'!P:P,MATCH('Sheet Counter'!AI3769,'Current Standards'!O:O,0),0),\"\")","v":""}]
[null,null,{"$f":"IF(ISERROR(FIND(\"\\\",A3770)),A3770,RIGHT(A3770,LEN(A3770)-FIND(\"~\",SUBSTITUTE(A3770,\"\\\",\"~\",LEN(A3770)-LEN(SUBSTITUTE(A3770,\"\\\",\"\"))))))","v":0},"","",{"$f":"LEFT(C3770,FIND(\"-\",SUBSTITUTE(SUBSTITUTE(C3770,\"_\",\"-\"),\" \",\"-\"))-1)","v":{"$error":"#VALUE!"}},{"$f":"IF(ISNUMBER(F3770*1),F3770*1,\"\")","v":""},{"$f":"IF(I3770=\"\",\"\",LARGE(H$1:H3769,1)+1)","v":{"$error":"#VALUE!"}},{"$f":"IF(G3770=\"\",F3770,\"\")","v":{"$error":"#VALUE!"}},null,null,null,null,null,3769,{"$f":"COUNTIF(G:G,O3770)","v":0},{"$f":"IF(R3770=\"\",\"\",LARGE(Q$1:Q3769,1)+1)","v":{"$error":"#NUM!"}},{"$error":"#NUM!"},null,null,null,null,null,null,{"$f":"IF(ISERROR(FIND(\"\\\",X3770)),X3770,RIGHT(X3770,LEN(X3770)-FIND(\"~\",SUBSTITUTE(X3770,\"\\\",\"~\",LEN(X3770)-LEN(SUBSTITUTE(X3770,\"\\\",\"\"))))))","v":0},{"$f":"LEFT(Y3770,FIND(\"-\",SUBSTITUTE(SUBSTITUTE(Y3770,\"_\",\"-\"),\" \",\"-\"))-1)","v":{"$error":"#VALUE!"}},{"$f":"COUNTIF(F:F,Z3770)","v":3999},{"$f":"IF(OR(AA3770<1,ISERROR(Z3770)),\"\",INDEX(C:C,MATCH(Z3770,F:F)))","v":""},"",null,null,null,null,{"$error":"#VALUE!"},{"$error":"#VALUE!"},{"$f":"COUNTIF('Standards LOOKUP'!B:B,AI3770)","v":0},{"$f":"IFERROR(INDEX('Standards LOOKUP'!C:C,MATCH(AI3770,'Standards LOOKUP'!B:B,0),0),0)","v":0},{"$f":"IFERROR(INDEX('Current Standards'!P:P,MATCH('Sheet Counter'!AI3770,'Current Standards'!O:O,0),0),\"\")","v":""}]
[null,null,0,"","",{"$error":"#VALUE!"},"",{"$f":"IF(I3771=\"\",\"\",LARGE(H$1:H3770,1)+1)","v":{"$error":"#VALUE!"}},{"$error":"#VALUE!"},null,null,null,null,null,3770,0,{"$f":"IF(R3771=\"\",\"\",LARGE(Q$1:Q3770,1)+1)","v":{"$error":"#NUM!"}},{"$error":"#NUM!"},null,null,null,null,null,null,0,{"$error":"#VALUE!"},3999,"","",null,null,null,null,{"$error":"#VALUE!"},{"$error":"#VALUE!"},{"$f":"COUNTIF('Standards LOOKUP'!B:B,AI3771)","v":0},{"$f":"IFERROR(INDEX('Standards LOOKUP'!C:C,MATCH(AI3771,'Standards LOOKUP'!B:B,0),0),0)","v":0},{"$f":"IFERROR(INDEX('Current Standards'!P:P,MATCH('Sheet Counter'!AI3771,'Current Standards'!O:O,0),0),\"\")","v":""}]
[null,null,0,"","",{"$error":"#VALUE!"},"",{"$f":"IF(I3772=\"\",\"\",LARGE(H$1:H3771,1)+1)","v":{"$error":"#VALUE!"}},{"$error":"#VALUE!"},null,null,null,null,null,3771,0,{"$f":"IF(R3772=\"\",\"\",LARGE(Q$1:Q3771,1)+1)","v":{"$error":"#NUM!"}},{"$error":"#NUM!"},null,null,null,null,null,null,0,{"$error":"#VALUE!"},3999,"","",null,null,null,null,{"$error":"#VALUE!"},{"$error":"#VALUE!"},{"$f":"COUNTIF('Standards LOOKUP'!B:B,AI3772)","v":0},{"$f":"IFERROR(INDEX('Standards LOOKUP'!C:C,MATCH(AI3772,'Standards LOOKUP'!B:B,0),0),0)","v":0},{"$f":"IFERROR(INDEX('Current Standards'!P:P,MATCH('Sheet Counter'!AI3772,'Current Standards'!O:O,0),0),\"\")","v":""}]
[null,null,0,"","",{"$error":"#VALUE!"},"",{"$f":"IF(I3773=\"\",\"\",LARGE(H$1:H3772,1)+1)","v":{"$error":"#VALUE!"}},{"$error":"#VALUE!"},null,null,null,null,null,3772,0,{"$f":"IF(R3773=\"\",\"\",LARGE(Q$1:Q3772,1)+1)","v":{"$error":"#NUM!"}},{"$error":"#NUM!"},null,null,null,null,null,null,0,{"$error":"#VALUE!"},3999,"","",null,null,null,null,{"$error":"#VALUE!"},{"$error":"#VALUE!"},{"$f":"COUNTIF('Standards LOOKUP'!B:B,AI3773)","v":0},{"$f":"IFERROR(INDEX('Standards LOOKUP'!C:C,MATCH(AI3773,'Standards LOOKUP'!B:B,0),0),0)","v":0},{"$f":"IFERROR(INDEX('Current Standards'!P:P,MATCH('Sheet Counter'!AI3773,'Current Standards'!O:O,0),0),\"\")","v":""}]
[null,null,0,"","",{"$error":"#VALUE!"},"",{"$f":"IF(I3774=\"\",\"\",LARGE(H$1:H3773,1)+1)","v":{"$error":"#VALUE!"}},{"$error":"#VALUE!"},null,null,null,null,null,3773,0,{"$f":"IF(R3774=\"\",\"\",LARGE(Q$1:Q3773,1)+1)","v":{"$error":"#NUM!"}},{"$error":"#NUM!"},null,null,null,null,null,null,0,{"$error":"#VALUE!"},3999,"","",null,null,null,null,{"$error":"#VALUE!"},{"$error":"#VALUE!"},{"$f":"COUNTIF('Standards LOOKUP'!B:B,AI3774)","v":0},{"$f":"IFERROR(INDEX('Standards LOOKUP'!C:C,MATCH(AI3774,'Standards LOOKUP'!B:B,0),0),0)","v":0},{"$f":"IFERROR(INDEX('Current Standards'!P:P,MATCH('Sheet Counter'!AI3774,'Current Standards'!O:O,0),0),\"\")","v":""}]
[null,null,0,"","",{"$error":"#VALUE!"},"",{"$f":"IF(I3775=\"\",\"\",LARGE(H$1:H3774,1)+1)","v":{"$error":"#VALUE!"}},{"$error":"#VALUE!"},null,null,null,null,null,3774,0,{"$f":"IF(R3775=\"\",\"\",LARGE(Q$1:Q3774,1)+1)","v":{"$error":"#NUM!"}},{"$error":"#NUM!"},null,null,null,null,null,null,0,{"$error":"#VALUE!"},3999,"","",null,null,null,null,{"$error":"#VALUE!"},{"$error":"#VALUE!"},{"$f":"COUNTIF('Standards LOOKUP'!B:B,AI3775)","v":0},{"$f":"IFERROR(INDEX('Standards LOOKUP'!C:C,MATCH(AI3775,'Standards LOOKUP'!B:B,0),0),0)","v":0},{"$f":"IFERROR(INDEX('Current Standards'!P:P,MATCH('Sheet Counter'!AI3775,'Current Standards'!O:O,0),0),\"\")","v":""}]
[null,null,0,"","",{"$error":"#VALUE!"},"",{"$f":"IF(I3776=\"\",\"\",LARGE(H$1:H3775,1)+1)","v":{"$error":"#VALUE!"}},{"$error":"#VALUE!"},null,null,null,null,null,3775,0,{"$f":"IF(R3776=\"\",\"\",LARGE(Q$1:Q3775,1)+1)","v":{"$error":"#NUM!"}},{"$error":"#NUM!"},null,null,null,null,null,null,0,{"$error":"#VALUE!"},3999,"","",null,null,null,null,{"$error":"#VALUE!"},{"$error":"#VALUE!"},{"$f":"COUNTIF('Standards LOOKUP'!B:B,AI3776)","v":0},{"$f":"IFERROR(INDEX('Standards LOOKUP'!C:C,MATCH(AI3776,'Standards LOOKUP'!B:B,0),0),0)","v":0},{"$f":"IFERROR(INDEX('Current Standards'!P:P,MATCH('Sheet Counter'!AI3776,'Current Standards'!O:O,0),0),\"\")","v":""}]
[null,null,0,"","",{"$error":"#VALUE!"},"",{"$f":"IF(I3777=\"\",\"\",LARGE(H$1:H3776,1)+1)","v":{"$error":"#VALUE!"}},{"$error":"#VALUE!"},null,null,null,null,null,3776,0,{"$f":"IF(R3777=\"\",\"\",LARGE(Q$1:Q3776,1)+1)","v":{"$error":"#NUM!"}},{"$error":"#NUM!"},null,null,null,null,null,null,0,{"$error":"#VALUE!"},3999,"","",null,null,null,null,{"$error":"#VALUE!"},{"$error":"#VALUE!"},{"$f":"COUNTIF('Standards LOOKUP'!B:B,AI3777)","v":0},{"$f":"IFERROR(INDEX('Standards LOOKUP'!C:C,MATCH(AI3777,'Standards LOOKUP'!B:B,0),0),0)","v":0},{"$f":"IFERROR(INDEX('Current Standards'!P:P,MATCH('Sheet Counter'!AI3777,'Current Standards'!O:O,0),0),\"\")","v":""}]
[null,null,0,"","",{"$error":"#VALUE!"},"",{"$f":"IF(I3778=\"\",\"\",LARGE(H$1:H3777,1)+1)","v":{"$error":"#VALUE!"}},{"$error":"#VALUE!"},null,null,null,null,null,3777,0,{"$f":"IF(R3778=\"\",\"\",LARGE(Q$1:Q3777,1)+1)","v":{"$error":"#NUM!"}},{"$error":"#NUM!"},null,null,null,null,null,null,0,{"$error":"#VALUE!"},3999,"","",null,null,null,null,{"$error":"#VALUE!"},{"$error":"#VALUE!"},{"$f":"COUNTIF('Standards LOOKUP'!B:B,AI3778)","v":0},{"$f":"IFERROR(INDEX('Standards LOOKUP'!C:C,MATCH(AI3778,'Standards LOOKUP'!B:B,0),0),0)","v":0},{"$f":"IFERROR(INDEX('Current Standards'!P:P,MATCH('Sheet Counter'!AI3778,'Current Standards'!O:O,0),0),\"\")","v":""}]
[null,null,0,{"$f":"IF(AL3779=\"\",\"\",AL3779)","v":""},"",{"$error":"#VALUE!"},"",{"$f":"IF(I3779=\"\",\"\",LARGE(H$1:H3778,1)+1)","v":{"$error":"#VALUE!"}},{"$error":"#VALUE!"},null,null,null,null,null,3778,0,{"$f":"IF(R3779=\"\",\"\",LARGE(Q$1:Q3778,1)+1)","v":{"$error":"#NUM!"}},{"$error":"#NUM!"},null,null,null,null,null,null,0,{"$error":"#VALUE!"},3999,"",{"$f":"IF(AA3779=0,\"New Sheet\",IF(EXACT(UPPER(Y3779),UPPER(AB3779)),\"Match\",\"\"))","v":""},null,null,null,null,{"$f":"IF(C3779=\"\",\"\",LEFT(RIGHT(C3779,LEN(C3779)-SEARCH(\" \",C3779,1)),LEN(RIGHT(C3779,LEN(C3779)-SEARCH(\" \",C3779,1)))-4))","v":{"$error":"#VALUE!"}},{"$f":"TRIM(SUBSTITUTE(SUBSTITUTE(SUBSTITUTE(SUBSTITUTE(SUBSTITUTE(SUBSTITUTE(AH3779,\"(\",\"\"),\")\",\"\"),\"-\",\"\"),\"&\",\"\"),\" \",\"\",1),\" \",\"\",1))","v":{"$error":"#VALUE!"}},{"$f":"COUNTIF('Standards LOOKUP'!B:B,AI3779)","v":0},{"$f":"IFERROR(INDEX('Standards LOOKUP'!C:C,MATCH(AI3779,'Standards LOOKUP'!B:B,0),0),0)","v":0},{"$f":"IFERROR(INDEX('Current Standards'!P:P,MATCH('Sheet Counter'!AI3779,'Current Standards'!O:O,0),0),\"\")","v":""}]
[null,null,0,"","",{"$error":"#VALUE!"},"",{"$f":"IF(I3780=\"\",\"\",LARGE(H$1:H3779,1)+1)","v":{"$error":"#VALUE!"}},{"$error":"#VALUE!"},null,null,null,null,null,3779,0,{"$f":"IF(R3780=\"\",\"\",LARGE(Q$1:Q3779,1)+1)","v":{"$error":"#NUM!"}},{"$f":"IF(AND(P3780<>1,O3780<=LARGE(G:G,1),O3780>=SMALL(G:G,1)),O3780,\"\")","v":{"$error":"#NUM!"}},null,null,null,null,null,null,0,{"$error":"#VALUE!"},3999,"","",null,null,null,null,{"$error":"#VALUE!"},{"$error":"#VALUE!"},{"$f":"COUNTIF('Standards LOOKUP'!B:B,AI3780)","v":0},{"$f":"IFERROR(INDEX('Standards LOOKUP'!C:C,MATCH(AI3780,'Standards LOOKUP'!B:B,0),0),0)","v":0},{"$f":"IFERROR(INDEX('Current Standards'!P:P,MATCH('Sheet Counter'!AI3780,'Current Standards'!O:O,0),0),\"\")","v":""}]
[null,null,0,"","",{"$error":"#VALUE!"},"",{"$f":"IF(I3781=\"\",\"\",LARGE(H$1:H3780,1)+1)","v":{"$error":"#VALUE!"}},{"$error":"#VALUE!"},null,null,null,null,null,3780,0,{"$f":"IF(R3781=\"\",\"\",LARGE(Q$1:Q3780,1)+1)","v":{"$error":"#NUM!"}},{"$error":"#NUM!"},null,null,null,null,null,null,0,{"$error":"#VALUE!"},3999,"","",null,null,null,null,{"$error":"#VALUE!"},{"$error":"#VALUE!"},{"$f":"COUNTIF('Standards LOOKUP'!B:B,AI3781)","v":0},{"$f":"IFERROR(INDEX('Standards LOOKUP'!C:C,MATCH(AI3781,'Standards LOOKUP'!B:B,0),0),0)","v":0},{"$f":"IFERROR(INDEX('Current Standards'!P:P,MATCH('Sheet Counter'!AI3781,'Current Standards'!O:O,0),0),\"\")","v":""}]
[null,null,0,"","",{"$error":"#VALUE!"},"",{"$f":"IF(I3782=\"\",\"\",LARGE(H$1:H3781,1)+1)","v":{"$error":"#VALUE!"}},{"$error":"#VALUE!"},null,null,null,null,null,3781,0,{"$f":"IF(R3782=\"\",\"\",LARGE(Q$1:Q3781,1)+1)","v":{"$error":"#NUM!"}},{"$error":"#NUM!"},null,null,null,null,null,null,0,{"$error":"#VALUE!"},3999,"","",null,null,null,null,{"$error":"#VALUE!"},{"$error":"#VALUE!"},{"$f":"COUNTIF('Standards LOOKUP'!B:B,AI3782)","v":0},{"$f":"IFERROR(INDEX('Standards LOOKUP'!C:C,MATCH(AI3782,'Standards LOOKUP'!B:B,0),0),0)","v":0},{"$f":"IFERROR(INDEX('Current Standards'!P:P,MATCH('Sheet Counter'!AI3782,'Current Standards'!O:O,0),0),\"\")","v":""}]
[null,null,0,"","",{"$error":"#VALUE!"},"",{"$f":"IF(I3783=\"\",\"\",LARGE(H$1:H3782,1)+1)","v":{"$error":"#VALUE!"}},{"$error":"#VALUE!"},null,null,null,null,null,3782,0,{"$f":"IF(R3783=\"\",\"\",LARGE(Q$1:Q3782,1)+1)","v":{"$error":"#NUM!"}},{"$error":"#NUM!"},null,null,null,null,null,null,0,{"$error":"#VALUE!"},3999,"","",null,null,null,null,{"$error":"#VALUE!"},{"$error":"#VALUE!"},{"$f":"COUNTIF('Standards LOOKUP'!B:B,AI3783)","v":0},{"$f":"IFERROR(INDEX('Standards LOOKUP'!C:C,MATCH(AI3783,'Standards LOOKUP'!B:B,0),0),0)","v":0},{"$f":"IFERROR(INDEX('Current Standards'!P:P,MATCH('Sheet Counter'!AI3783,'Current Standards'!O:O,0),0),\"\")","v":""}]
[null,null,0,"","",{"$error":"#VALUE!"},"",{"$f":"IF(I3784=\"\",\"\",LARGE(H$1:H3783,1)+1)","v":{"$error":"#VALUE!"}},{"$error":"#VALUE!"},null,null,null,null,null,3783,0,{"$f":"IF(R3784=\"\",\"\",LARGE(Q$1:Q3783,1)+1)","v":{"$error":"#NUM!"}},{"$error":"#NUM!"},null,null,null,null,null,null,0,{"$error":"#VALUE!"},3999,"","",null,null,null,null,{"$error":"#VALUE!"},{"$error":"#VALUE!"},{"$f":"COUNTIF('Standards LOOKUP'!B:B,AI3784)","v":0},{"$f":"IFERROR(INDEX('Standards LOOKUP'!C:C,MATCH(AI3784,'Standards LOOKUP'!B:B,0),0),0)","v":0},{"$f":"IFERROR(INDEX('Current Standards'!P:P,MATCH('Sheet Counter'!AI3784,'Current Standards'!O:O,0),0),\"\")","v":""}]
[null,null,0,"","",{"$error":"#VALUE!"},"",{"$f":"IF(I3785=\"\",\"\",LARGE(H$1:H3784,1)+1)","v":{"$error":"#VALUE!"}},{"$error":"#VALUE!"},null,null,null,null,null,3784,0,{"$f":"IF(R3785=\"\",\"\",LARGE(Q$1:Q3784,1)+1)","v":{"$error":"#NUM!"}},{"$error":"#NUM!"},null,null,null,null,null,null,0,{"$error":"#VALUE!"},3999,"","",null,null,null,null,{"$error":"#VALUE!"},{"$error":"#VALUE!"},{"$f":"COUNTIF('Standards LOOKUP'!B:B,AI3785)","v":0},{"$f":"IFERROR(INDEX('Standards LOOKUP'!C:C,MATCH(AI3785,'Standards LOOKUP'!B:B,0),0),0)","v":0},{"$f":"IFERROR(INDEX('Current Standards'!P:P,MATCH('Sheet Counter'!AI3785,'Current Standards'!O:O,0),0),\"\")","v":""}]
[null,null,0,"","",{"$error":"#VALUE!"},"",{"$f":"IF(I3786=\"\",\"\",LARGE(H$1:H3785,1)+1)","v":{"$error":"#VALUE!"}},{"$error":"#VALUE!"},null,null,null,null,null,3785,0,{"$f":"IF(R3786=\"\",\"\",LARGE(Q$1:Q3785,1)+1)","v":{"$error":"#NUM!"}},{"$error":"#NUM!"},null,null,null,null,null,null,0,{"$error":"#VALUE!"},3999,"","",null,null,null,null,{"$error":"#VALUE!"},{"$error":"#VALUE!"},{"$f":"COUNTIF('Standards LOOKUP'!B:B,AI3786)","v":0},{"$f":"IFERROR(INDEX('Standards LOOKUP'!C:C,MATCH(AI3786,'Standards LOOKUP'!B:B,0),0),0)","v":0},{"$f":"IFERROR(INDEX('Current Standards'!P:P,MATCH('Sheet Counter'!AI3786,'Current Standards'!O:O,0),0),\"\")","v":""}]
[null,null,0,"","",{"$error":"#VALUE!"},"",{"$f":"IF(I3787=\"\",\"\",LARGE(H$1:H3786,1)+1)","v":{"$error":"#VALUE!"}},{"$error":"#VALUE!"},null,null,null,null,null,3786,0,{"$f":"IF(R3787=\"\",\"\",LARGE(Q$1:Q3786,1)+1)","v":{"$error":"#NUM!"}},{"$error":"#NUM!"},null,null,null,null,null,null,0,{"$error":"#VALUE!"},3999,"","",null,null,null,null,{"$error":"#VALUE!"},{"$error":"#VALUE!"},{"$f":"COUNTIF('Standards LOOKUP'!B:B,AI3787)","v":0},{"$f":"IFERROR(INDEX('Standards LOOKUP'!C:C,MATCH(AI3787,'Standards LOOKUP'!B:B,0),0),0)","v":0},{"$f":"IFERROR(INDEX('Current Standards'!P:P,MATCH('Sheet Counter'!AI3787,'Current Standards'!O:O,0),0),\"\")","v":""}]
[null,null,0,"","",{"$error":"#VALUE!"},"",{"$f":"IF(I3788=\"\",\"\",LARGE(H$1:H3787,1)+1)","v":{"$error":"#VALUE!"}},{"$error":"#VALUE!"},null,null,null,null,null,3787,0,{"$f":"IF(R3788=\"\",\"\",LARGE(Q$1:Q3787,1)+1)","v":{"$error":"#NUM!"}},{"$error":"#NUM!"},null,null,null,null,null,null,0,{"$error":"#VALUE!"},3999,"","",null,null,null,null,{"$error":"#VALUE!"},{"$error":"#VALUE!"},{"$f":"COUNTIF('Standards LOOKUP'!B:B,AI3788)","v":0},{"$f":"IFERROR(INDEX('Standards LOOKUP'!C:C,MATCH(AI3788,'Standards LOOKUP'!B:B,0),0),0)","v":0},{"$f":"IFERROR(INDEX('Current Standards'!P:P,MATCH('Sheet Counter'!AI3788,'Current Standards'!O:O,0),0),\"\")","v":""}]
[null,null,0,"","",{"$error":"#VALUE!"},"",{"$f":"IF(I3789=\"\",\"\",LARGE(H$1:H3788,1)+1)","v":{"$error":"#VALUE!"}},{"$error":"#VALUE!"},null,null,null,null,null,3788,0,{"$f":"IF(R3789=\"\",\"\",LARGE(Q$1:Q3788,1)+1)","v":{"$error":"#NUM!"}},{"$error":"#NUM!"},null,null,null,null,null,null,0,{"$error":"#VALUE!"},3999,"","",null,null,null,null,{"$error":"#VALUE!"},{"$error":"#VALUE!"},{"$f":"COUNTIF('Standards LOOKUP'!B:B,AI3789)","v":0},{"$f":"IFERROR(INDEX('Standards LOOKUP'!C:C,MATCH(AI3789,'Standards LOOKUP'!B:B,0),0),0)","v":0},{"$f":"IFERROR(INDEX('Current Standards'!P:P,MATCH('Sheet Counter'!AI3789,'Current Standards'!O:O,0),0),\"\")","v":""}]
[null,null,0,"","",{"$error":"#VALUE!"},"",{"$f":"IF(I3790=\"\",\"\",LARGE(H$1:H3789,1)+1)","v":{"$error":"#VALUE!"}},{"$error":"#VALUE!"},null,null,null,null,null,3789,0,{"$f":"IF(R3790=\"\",\"\",LARGE(Q$1:Q3789,1)+1)","v":{"$error":"#NUM!"}},{"$error":"#NUM!"},null,null,null,null,null,null,0,{"$error":"#VALUE!"},3999,"","",null,null,null,null,{"$error":"#VALUE!"},{"$error":"#VALUE!"},{"$f":"COUNTIF('Standards LOOKUP'!B:B,AI3790)","v":0},{"$f":"IFERROR(INDEX('Standards LOOKUP'!C:C,MATCH(AI3790,'Standards LOOKUP'!B:B,0),0),0)","v":0},{"$f":"IFERROR(INDEX('Current Standards'!P:P,MATCH('Sheet Counter'!AI3790,'Current Standards'!O:O,0),0),\"\")","v":""}]
[null,null,0,"","",{"$error":"#VALUE!"},"",{"$f":"IF(I3791=\"\",\"\",LARGE(H$1:H3790,1)+1)","v":{"$error":"#VALUE!"}},{"$error":"#VALUE!"},null,null,null,null,null,3790,0,{"$f":"IF(R3791=\"\",\"\",LARGE(Q$1:Q3790,1)+1)","v":{"$error":"#NUM!"}},{"$error":"#NUM!"},null,null,null,null,null,null,0,{"$error":"#VALUE!"},3999,"","",null,null,null,null,{"$error":"#VALUE!"},{"$error":"#VALUE!"},{"$f":"COUNTIF('Standards LOOKUP'!B:B,AI3791)","v":0},{"$f":"IFERROR(INDEX('Standards LOOKUP'!C:C,MATCH(AI3791,'Standards LOOKUP'!B:B,0),0),0)","v":0},{"$f":"IFERROR(INDEX('Current Standards'!P:P,MATCH('Sheet Counter'!AI3791,'Current Standards'!O:O,0),0),\"\")","v":""}]
[null,null,0,"","",{"$error":"#VALUE!"},"",{"$f":"IF(I3792=\"\",\"\",LARGE(H$1:H3791,1)+1)","v":{"$error":"#VALUE!"}},{"$error":"#VALUE!"},null,null,null,null,null,3791,0,{"$f":"IF(R3792=\"\",\"\",LARGE(Q$1:Q3791,1)+1)","v":{"$error":"#NUM!"}},{"$error":"#NUM!"},null,null,null,null,null,null,0,{"$error":"#VALUE!"},3999,"","",null,null,null,null,{"$error":"#VALUE!"},{"$error":"#VALUE!"},{"$f":"COUNTIF('Standards LOOKUP'!B:B,AI3792)","v":0},{"$f":"IFERROR(INDEX('Standards LOOKUP'!C:C,MATCH(AI3792,'Standards LOOKUP'!B:B,0),0),0)","v":0},{"$f":"IFERROR(INDEX('Current Standards'!P:P,MATCH('Sheet Counter'!AI3792,'Current Standards'!O:O,0),0),\"\")","v":""}]
[null,null,0,"","",{"$error":"#VALUE!"},"",{"$f":"IF(I3793=\"\",\"\",LARGE(H$1:H3792,1)+1)","v":{"$error":"#VALUE!"}},{"$error":"#VALUE!"},null,null,null,null,null,3792,0,{"$f":"IF(R3793=\"\",\"\",LARGE(Q$1:Q3792,1)+1)","v":{"$error":"#NUM!"}},{"$error":"#NUM!"},null,null,null,null,null,null,0,{"$error":"#VALUE!"},3999,"","",null,null,null,null,{"$error":"#VALUE!"},{"$error":"#VALUE!"},{"$f":"COUNTIF('Standards LOOKUP'!B:B,AI3793)","v":0},{"$f":"IFERROR(INDEX('Standards LOOKUP'!C:C,MATCH(AI3793,'Standards LOOKUP'!B:B,0),0),0)","v":0},{"$f":"IFERROR(INDEX('Current Standards'!P:P,MATCH('Sheet Counter'!AI3793,'Current Standards'!O:O,0),0),\"\")","v":""}]
[null,null,0,"","",{"$error":"#VALUE!"},"",{"$f":"IF(I3794=\"\",\"\",LARGE(H$1:H3793,1)+1)","v":{"$error":"#VALUE!"}},{"$error":"#VALUE!"},null,null,null,null,null,3793,0,{"$f":"IF(R3794=\"\",\"\",LARGE(Q$1:Q3793,1)+1)","v":{"$error":"#NUM!"}},{"$error":"#NUM!"},null,null,null,null,null,null,0,{"$error":"#VALUE!"},3999,"","",null,null,null,null,{"$error":"#VALUE!"},{"$error":"#VALUE!"},{"$f":"COUNTIF('Standards LOOKUP'!B:B,AI3794)","v":0},{"$f":"IFERROR(INDEX('Standards LOOKUP'!C:C,MATCH(AI3794,'Standards LOOKUP'!B:B,0),0),0)","v":0},{"$f":"IFERROR(INDEX('Current Standards'!P:P,MATCH('Sheet Counter'!AI3794,'Current Standards'!O:O,0),0),\"\")","v":""}]
[null,null,0,"","",{"$error":"#VALUE!"},"",{"$f":"IF(I3795=\"\",\"\",LARGE(H$1:H3794,1)+1)","v":{"$error":"#VALUE!"}},{"$error":"#VALUE!"},null,null,null,null,null,3794,0,{"$f":"IF(R3795=\"\",\"\",LARGE(Q$1:Q3794,1)+1)","v":{"$error":"#NUM!"}},{"$error":"#NUM!"},null,null,null,null,null,null,0,{"$error":"#VALUE!"},3999,"","",null,null,null,null,{"$error":"#VALUE!"},{"$error":"#VALUE!"},{"$f":"COUNTIF('Standards LOOKUP'!B:B,AI3795)","v":0},{"$f":"IFERROR(INDEX('Standards LOOKUP'!C:C,MATCH(AI3795,'Standards LOOKUP'!B:B,0),0),0)","v":0},{"$f":"IFERROR(INDEX('Current Standards'!P:P,MATCH('Sheet Counter'!AI3795,'Current Standards'!O:O,0),0),\"\")","v":""}]
[null,null,0,"","",{"$error":"#VALUE!"},"",{"$f":"IF(I3796=\"\",\"\",LARGE(H$1:H3795,1)+1)","v":{"$error":"#VALUE!"}},{"$error":"#VALUE!"},null,null,null,null,null,3795,0,{"$f":"IF(R3796=\"\",\"\",LARGE(Q$1:Q3795,1)+1)","v":{"$error":"#NUM!"}},{"$error":"#NUM!"},null,null,null,null,null,null,0,{"$error":"#VALUE!"},3999,"","",null,null,null,null,{"$error":"#VALUE!"},{"$error":"#VALUE!"},{"$f":"COUNTIF('Standards LOOKUP'!B:B,AI3796)","v":0},{"$f":"IFERROR(INDEX('Standards LOOKUP'!C:C,MATCH(AI3796,'Standards LOOKUP'!B:B,0),0),0)","v":0},{"$f":"IFERROR(INDEX('Current Standards'!P:P,MATCH('Sheet Counter'!AI3796,'Current Standards'!O:O,0),0),\"\")","v":""}]
[null,null,0,"","",{"$error":"#VALUE!"},"",{"$f":"IF(I3797=\"\",\"\",LARGE(H$1:H3796,1)+1)","v":{"$error":"#VALUE!"}},{"$error":"#VALUE!"},null,null,null,null,null,3796,0,{"$f":"IF(R3797=\"\",\"\",LARGE(Q$1:Q3796,1)+1)","v":{"$error":"#NUM!"}},{"$error":"#NUM!"},null,null,null,null,null,null,0,{"$error":"#VALUE!"},3999,"","",null,null,null,null,{"$error":"#VALUE!"},{"$error":"#VALUE!"},{"$f":"COUNTIF('Standards LOOKUP'!B:B,AI3797)","v":0},{"$f":"IFERROR(INDEX('Standards LOOKUP'!C:C,MATCH(AI3797,'Standards LOOKUP'!B:B,0),0),0)","v":0},{"$f":"IFERROR(INDEX('Current Standards'!P:P,MATCH('Sheet Counter'!AI3797,'Current Standards'!O:O,0),0),\"\")","v":""}]
[null,null,0,"","",{"$error":"#VALUE!"},"",{"$f":"IF(I3798=\"\",\"\",LARGE(H$1:H3797,1)+1)","v":{"$error":"#VALUE!"}},{"$error":"#VALUE!"},null,null,null,null,null,3797,0,{"$f":"IF(R3798=\"\",\"\",LARGE(Q$1:Q3797,1)+1)","v":{"$error":"#NUM!"}},{"$error":"#NUM!"},null,null,null,null,null,null,0,{"$error":"#VALUE!"},3999,"","",null,null,null,null,{"$error":"#VALUE!"},{"$error":"#VALUE!"},{"$f":"COUNTIF('Standards LOOKUP'!B:B,AI3798)","v":0},{"$f":"IFERROR(INDEX('Standards LOOKUP'!C:C,MATCH(AI3798,'Standards LOOKUP'!B:B,0),0),0)","v":0},{"$f":"IFERROR(INDEX('Current Standards'!P:P,MATCH('Sheet Counter'!AI3798,'Current Standards'!O:O,0),0),\"\")","v":""}]
[null,null,0,"","",{"$error":"#VALUE!"},"",{"$f":"IF(I3799=\"\",\"\",LARGE(H$1:H3798,1)+1)","v":{"$error":"#VALUE!"}},{"$error":"#VALUE!"},null,null,null,null,null,3798,0,{"$f":"IF(R3799=\"\",\"\",LARGE(Q$1:Q3798,1)+1)","v":{"$error":"#NUM!"}},{"$error":"#NUM!"},null,null,null,null,null,null,0,{"$error":"#VALUE!"},3999,"","",null,null,null,null,{"$error":"#VALUE!"},{"$error":"#VALUE!"},{"$f":"COUNTIF('Standards LOOKUP'!B:B,AI3799)","v":0},{"$f":"IFERROR(INDEX('Standards LOOKUP'!C:C,MATCH(AI3799,'Standards LOOKUP'!B:B,0),0),0)","v":0},{"$f":"IFERROR(INDEX('Current Standards'!P:P,MATCH('Sheet Counter'!AI3799,'Current Standards'!O:O,0),0),\"\")","v":""}]
[null,null,0,"","",{"$error":"#VALUE!"},"",{"$f":"IF(I3800=\"\",\"\",LARGE(H$1:H3799,1)+1)","v":{"$error":"#VALUE!"}},{"$error":"#VALUE!"},null,null,null,null,null,3799,0,{"$f":"IF(R3800=\"\",\"\",LARGE(Q$1:Q3799,1)+1)","v":{"$error":"#NUM!"}},{"$error":"#NUM!"},null,null,null,null,null,null,0,{"$error":"#VALUE!"},3999,"","",null,null,null,null,{"$error":"#VALUE!"},{"$error":"#VALUE!"},{"$f":"COUNTIF('Standards LOOKUP'!B:B,AI3800)","v":0},{"$f":"IFERROR(INDEX('Standards LOOKUP'!C:C,MATCH(AI3800,'Standards LOOKUP'!B:B,0),0),0)","v":0},{"$f":"IFERROR(INDEX('Current Standards'!P:P,MATCH('Sheet Counter'!AI3800,'Current Standards'!O:O,0),0),\"\")","v":""}]
[null,null,0,"","",{"$error":"#VALUE!"},"",{"$f":"IF(I3801=\"\",\"\",LARGE(H$1:H3800,1)+1)","v":{"$error":"#VALUE!"}},{"$error":"#VALUE!"},null,null,null,null,null,3800,0,{"$f":"IF(R3801=\"\",\"\",LARGE(Q$1:Q3800,1)+1)","v":{"$error":"#NUM!"}},{"$error":"#NUM!"},null,null,null,null,null,null,0,{"$error":"#VALUE!"},3999,"","",null,null,null,null,{"$error":"#VALUE!"},{"$error":"#VALUE!"},{"$f":"COUNTIF('Standards LOOKUP'!B:B,AI3801)","v":0},{"$f":"IFERROR(INDEX('Standards LOOKUP'!C:C,MATCH(AI3801,'Standards LOOKUP'!B:B,0),0),0)","v":0},{"$f":"IFERROR(INDEX('Current Standards'!P:P,MATCH('Sheet Counter'!AI3801,'Current Standards'!O:O,0),0),\"\")","v":""}]
[null,null,0,"","",{"$error":"#VALUE!"},"",{"$f":"IF(I3802=\"\",\"\",LARGE(H$1:H3801,1)+1)","v":{"$error":"#VALUE!"}},{"$error":"#VALUE!"},null,null,null,null,null,3801,0,{"$f":"IF(R3802=\"\",\"\",LARGE(Q$1:Q3801,1)+1)","v":{"$error":"#NUM!"}},{"$error":"#NUM!"},null,null,null,null,null,null,0,{"$error":"#VALUE!"},3999,"","",null,null,null,null,{"$error":"#VALUE!"},{"$error":"#VALUE!"},{"$f":"COUNTIF('Standards LOOKUP'!B:B,AI3802)","v":0},{"$f":"IFERROR(INDEX('Standards LOOKUP'!C:C,MATCH(AI3802,'Standards LOOKUP'!B:B,0),0),0)","v":0},{"$f":"IFERROR(INDEX('Current Standards'!P:P,MATCH('Sheet Counter'!AI3802,'Current Standards'!O:O,0),0),\"\")","v":""}]
[null,null,0,"","",{"$error":"#VALUE!"},"",{"$f":"IF(I3803=\"\",\"\",LARGE(H$1:H3802,1)+1)","v":{"$error":"#VALUE!"}},{"$error":"#VALUE!"},null,null,null,null,null,3802,0,{"$f":"IF(R3803=\"\",\"\",LARGE(Q$1:Q3802,1)+1)","v":{"$error":"#NUM!"}},{"$error":"#NUM!"},null,null,null,null,null,null,0,{"$error":"#VALUE!"},3999,"","",null,null,null,null,{"$error":"#VALUE!"},{"$error":"#VALUE!"},{"$f":"COUNTIF('Standards LOOKUP'!B:B,AI3803)","v":0},{"$f":"IFERROR(INDEX('Standards LOOKUP'!C:C,MATCH(AI3803,'Standards LOOKUP'!B:B,0),0),0)","v":0},{"$f":"IFERROR(INDEX('Current Standards'!P:P,MATCH('Sheet Counter'!AI3803,'Current Standards'!O:O,0),0),\"\")","v":""}]
[null,null,0,"","",{"$error":"#VALUE!"},"",{"$f":"IF(I3804=\"\",\"\",LARGE(H$1:H3803,1)+1)","v":{"$error":"#VALUE!"}},{"$error":"#VALUE!"},null,null,null,null,null,3803,0,{"$f":"IF(R3804=\"\",\"\",LARGE(Q$1:Q3803,1)+1)","v":{"$error":"#NUM!"}},{"$error":"#NUM!"},null,null,null,null,null,null,0,{"$error":"#VALUE!"},3999,"","",null,null,null,null,{"$error":"#VALUE!"},{"$error":"#VALUE!"},{"$f":"COUNTIF('Standards LOOKUP'!B:B,AI3804)","v":0},{"$f":"IFERROR(INDEX('Standards LOOKUP'!C:C,MATCH(AI3804,'Standards LOOKUP'!B:B,0),0),0)","v":0},{"$f":"IFERROR(INDEX('Current Standards'!P:P,MATCH('Sheet Counter'!AI3804,'Current Standards'!O:O,0),0),\"\")","v":""}]
[null,null,0,"","",{"$error":"#VALUE!"},"",{"$f":"IF(I3805=\"\",\"\",LARGE(H$1:H3804,1)+1)","v":{"$error":"#VALUE!"}},{"$error":"#VALUE!"},null,null,null,null,null,3804,0,{"$f":"IF(R3805=\"\",\"\",LARGE(Q$1:Q3804,1)+1)","v":{"$error":"#NUM!"}},{"$error":"#NUM!"},null,null,null,null,null,null,0,{"$error":"#VALUE!"},3999,"","",null,null,null,null,{"$error":"#VALUE!"},{"$error":"#VALUE!"},{"$f":"COUNTIF('Standards LOOKUP'!B:B,AI3805)","v":0},{"$f":"IFERROR(INDEX('Standards LOOKUP'!C:C,MATCH(AI3805,'Standards LOOKUP'!B:B,0),0),0)","v":0},{"$f":"IFERROR(INDEX('Current Standards'!P:P,MATCH('Sheet Counter'!AI3805,'Current Standards'!O:O,0),0),\"\")","v":""}]
[null,null,0,"","",{"$error":"#VALUE!"},"",{"$f":"IF(I3806=\"\",\"\",LARGE(H$1:H3805,1)+1)","v":{"$error":"#VALUE!"}},{"$error":"#VALUE!"},null,null,null,null,null,3805,0,{"$f":"IF(R3806=\"\",\"\",LARGE(Q$1:Q3805,1)+1)","v":{"$error":"#NUM!"}},{"$error":"#NUM!"},null,null,null,null,null,null,0,{"$error":"#VALUE!"},3999,"","",null,null,null,null,{"$error":"#VALUE!"},{"$error":"#VALUE!"},{"$f":"COUNTIF('Standards LOOKUP'!B:B,AI3806)","v":0},{"$f":"IFERROR(INDEX('Standards LOOKUP'!C:C,MATCH(AI3806,'Standards LOOKUP'!B:B,0),0),0)","v":0},{"$f":"IFERROR(INDEX('Current Standards'!P:P,MATCH('Sheet Counter'!AI3806,'Current Standards'!O:O,0),0),\"\")","v":""}]
[null,null,0,"","",{"$error":"#VALUE!"},"",{"$f":"IF(I3807=\"\",\"\",LARGE(H$1:H3806,1)+1)","v":{"$error":"#VALUE!"}},{"$error":"#VALUE!"},null,null,null,null,null,3806,0,{"$f":"IF(R3807=\"\",\"\",LARGE(Q$1:Q3806,1)+1)","v":{"$error":"#NUM!"}},{"$error":"#NUM!"},null,null,null,null,null,null,0,{"$error":"#VALUE!"},3999,"","",null,null,null,null,{"$error":"#VALUE!"},{"$error":"#VALUE!"},{"$f":"COUNTIF('Standards LOOKUP'!B:B,AI3807)","v":0},{"$f":"IFERROR(INDEX('Standards LOOKUP'!C:C,MATCH(AI3807,'Standards LOOKUP'!B:B,0),0),0)","v":0},{"$f":"IFERROR(INDEX('Current Standards'!P:P,MATCH('Sheet Counter'!AI3807,'Current Standards'!O:O,0),0),\"\")","v":""}]
[null,null,0,"","",{"$error":"#VALUE!"},"",{"$f":"IF(I3808=\"\",\"\",LARGE(H$1:H3807,1)+1)","v":{"$error":"#VALUE!"}},{"$error":"#VALUE!"},null,null,null,null,null,3807,0,{"$f":"IF(R3808=\"\",\"\",LARGE(Q$1:Q3807,1)+1)","v":{"$error":"#NUM!"}},{"$error":"#NUM!"},null,null,null,null,null,null,0,{"$error":"#VALUE!"},3999,"","",null,null,null,null,{"$error":"#VALUE!"},{"$error":"#VALUE!"},{"$f":"COUNTIF('Standards LOOKUP'!B:B,AI3808)","v":0},{"$f":"IFERROR(INDEX('Standards LOOKUP'!C:C,MATCH(AI3808,'Standards LOOKUP'!B:B,0),0),0)","v":0},{"$f":"IFERROR(INDEX('Current Standards'!P:P,MATCH('Sheet Counter'!AI3808,'Current Standards'!O:O,0),0),\"\")","v":""}]
[null,null,0,"","",{"$error":"#VALUE!"},"",{"$f":"IF(I3809=\"\",\"\",LARGE(H$1:H3808,1)+1)","v":{"$error":"#VALUE!"}},{"$error":"#VALUE!"},null,null,null,null,null,3808,0,{"$f":"IF(R3809=\"\",\"\",LARGE(Q$1:Q3808,1)+1)","v":{"$error":"#NUM!"}},{"$error":"#NUM!"},null,null,null,null,null,null,0,{"$error":"#VALUE!"},3999,"","",null,null,null,null,{"$error":"#VALUE!"},{"$error":"#VALUE!"},{"$f":"COUNTIF('Standards LOOKUP'!B:B,AI3809)","v":0},{"$f":"IFERROR(INDEX('Standards LOOKUP'!C:C,MATCH(AI3809,'Standards LOOKUP'!B:B,0),0),0)","v":0},{"$f":"IFERROR(INDEX('Current Standards'!P:P,MATCH('Sheet Counter'!AI3809,'Current Standards'!O:O,0),0),\"\")","v":""}]
[null,null,0,"","",{"$error":"#VALUE!"},"",{"$f":"IF(I3810=\"\",\"\",LARGE(H$1:H3809,1)+1)","v":{"$error":"#VALUE!"}},{"$error":"#VALUE!"},null,null,null,null,null,3809,0,{"$f":"IF(R3810=\"\",\"\",LARGE(Q$1:Q3809,1)+1)","v":{"$error":"#NUM!"}},{"$error":"#NUM!"},null,null,null,null,null,null,0,{"$error":"#VALUE!"},3999,"","",null,null,null,null,{"$error":"#VALUE!"},{"$error":"#VALUE!"},{"$f":"COUNTIF('Standards LOOKUP'!B:B,AI3810)","v":0},{"$f":"IFERROR(INDEX('Standards LOOKUP'!C:C,MATCH(AI3810,'Standards LOOKUP'!B:B,0),0),0)","v":0},{"$f":"IFERROR(INDEX('Current Standards'!P:P,MATCH('Sheet Counter'!AI3810,'Current Standards'!O:O,0),0),\"\")","v":""}]
[null,null,0,"","",{"$error":"#VALUE!"},"",{"$f":"IF(I3811=\"\",\"\",LARGE(H$1:H3810,1)+1)","v":{"$error":"#VALUE!"}},{"$error":"#VALUE!"},null,null,null,null,null,3810,0,{"$f":"IF(R3811=\"\",\"\",LARGE(Q$1:Q3810,1)+1)","v":{"$error":"#NUM!"}},{"$error":"#NUM!"},null,null,null,null,null,null,0,{"$error":"#VALUE!"},3999,"","",null,null,null,null,{"$error":"#VALUE!"},{"$error":"#VALUE!"},{"$f":"COUNTIF('Standards LOOKUP'!B:B,AI3811)","v":0},{"$f":"IFERROR(INDEX('Standards LOOKUP'!C:C,MATCH(AI3811,'Standards LOOKUP'!B:B,0),0),0)","v":0},{"$f":"IFERROR(INDEX('Current Standards'!P:P,MATCH('Sheet Counter'!AI3811,'Current Standards'!O:O,0),0),\"\")","v":""}]
[null,null,0,"","",{"$error":"#VALUE!"},"",{"$f":"IF(I3812=\"\",\"\",LARGE(H$1:H3811,1)+1)","v":{"$error":"#VALUE!"}},{"$error":"#VALUE!"},null,null,null,null,null,3811,0,{"$f":"IF(R3812=\"\",\"\",LARGE(Q$1:Q3811,1)+1)","v":{"$error":"#NUM!"}},{"$error":"#NUM!"},null,null,null,null,null,null,0,{"$error":"#VALUE!"},3999,"","",null,null,null,null,{"$error":"#VALUE!"},{"$error":"#VALUE!"},{"$f":"COUNTIF('Standards LOOKUP'!B:B,AI3812)","v":0},{"$f":"IFERROR(INDEX('Standards LOOKUP'!C:C,MATCH(AI3812,'Standards LOOKUP'!B:B,0),0),0)","v":0},{"$f":"IFERROR(INDEX('Current Standards'!P:P,MATCH('Sheet Counter'!AI3812,'Current Standards'!O:O,0),0),\"\")","v":""}]
[null,null,0,"","",{"$error":"#VALUE!"},"",{"$f":"IF(I3813=\"\",\"\",LARGE(H$1:H3812,1)+1)","v":{"$error":"#VALUE!"}},{"$error":"#VALUE!"},null,null,null,null,null,3812,0,{"$f":"IF(R3813=\"\",\"\",LARGE(Q$1:Q3812,1)+1)","v":{"$error":"#NUM!"}},{"$error":"#NUM!"},null,null,null,null,null,null,0,{"$error":"#VALUE!"},3999,"","",null,null,null,null,{"$error":"#VALUE!"},{"$error":"#VALUE!"},{"$f":"COUNTIF('Standards LOOKUP'!B:B,AI3813)","v":0},{"$f":"IFERROR(INDEX('Standards LOOKUP'!C:C,MATCH(AI3813,'Standards LOOKUP'!B:B,0),0),0)","v":0},{"$f":"IFERROR(INDEX('Current Standards'!P:P,MATCH('Sheet Counter'!AI3813,'Current Standards'!O:O,0),0),\"\")","v":""}]
[null,null,0,"","",{"$error":"#VALUE!"},"",{"$f":"IF(I3814=\"\",\"\",LARGE(H$1:H3813,1)+1)","v":{"$error":"#VALUE!"}},{"$error":"#VALUE!"},null,null,null,null,null,3813,0,{"$f":"IF(R3814=\"\",\"\",LARGE(Q$1:Q3813,1)+1)","v":{"$error":"#NUM!"}},{"$error":"#NUM!"},null,null,null,null,null,null,0,{"$error":"#VALUE!"},3999,"","",null,null,null,null,{"$error":"#VALUE!"},{"$error":"#VALUE!"},{"$f":"COUNTIF('Standards LOOKUP'!B:B,AI3814)","v":0},{"$f":"IFERROR(INDEX('Standards LOOKUP'!C:C,MATCH(AI3814,'Standards LOOKUP'!B:B,0),0),0)","v":0},{"$f":"IFERROR(INDEX('Current Standards'!P:P,MATCH('Sheet Counter'!AI3814,'Current Standards'!O:O,0),0),\"\")","v":""}]
[null,null,0,"","",{"$error":"#VALUE!"},"",{"$f":"IF(I3815=\"\",\"\",LARGE(H$1:H3814,1)+1)","v":{"$error":"#VALUE!"}},{"$error":"#VALUE!"},null,null,null,null,null,3814,0,{"$f":"IF(R3815=\"\",\"\",LARGE(Q$1:Q3814,1)+1)","v":{"$error":"#NUM!"}},{"$error":"#NUM!"},null,null,null,null,null,null,0,{"$error":"#VALUE!"},3999,"","",null,null,null,null,{"$error":"#VALUE!"},{"$error":"#VALUE!"},{"$f":"COUNTIF('Standards LOOKUP'!B:B,AI3815)","v":0},{"$f":"IFERROR(INDEX('Standards LOOKUP'!C:C,MATCH(AI3815,'Standards LOOKUP'!B:B,0),0),0)","v":0},{"$f":"IFERROR(INDEX('Current Standards'!P:P,MATCH('Sheet Counter'!AI3815,'Current Standards'!O:O,0),0),\"\")","v":""}]
[null,null,0,"","",{"$error":"#VALUE!"},"",{"$f":"IF(I3816=\"\",\"\",LARGE(H$1:H3815,1)+1)","v":{"$error":"#VALUE!"}},{"$error":"#VALUE!"},null,null,null,null,null,3815,0,{"$f":"IF(R3816=\"\",\"\",LARGE(Q$1:Q3815,1)+1)","v":{"$error":"#NUM!"}},{"$error":"#NUM!"},null,null,null,null,null,null,0,{"$error":"#VALUE!"},3999,"","",null,null,null,null,{"$error":"#VALUE!"},{"$error":"#VALUE!"},{"$f":"COUNTIF('Standards LOOKUP'!B:B,AI3816)","v":0},{"$f":"IFERROR(INDEX('Standards LOOKUP'!C:C,MATCH(AI3816,'Standards LOOKUP'!B:B,0),0),0)","v":0},{"$f":"IFERROR(INDEX('Current Standards'!P:P,MATCH('Sheet Counter'!AI3816,'Current Standards'!O:O,0),0),\"\")","v":""}]
[null,null,0,"","",{"$error":"#VALUE!"},"",{"$f":"IF(I3817=\"\",\"\",LARGE(H$1:H3816,1)+1)","v":{"$error":"#VALUE!"}},{"$error":"#VALUE!"},null,null,null,null,null,3816,0,{"$f":"IF(R3817=\"\",\"\",LARGE(Q$1:Q3816,1)+1)","v":{"$error":"#NUM!"}},{"$error":"#NUM!"},null,null,null,null,null,null,0,{"$error":"#VALUE!"},3999,"","",null,null,null,null,{"$error":"#VALUE!"},{"$error":"#VALUE!"},{"$f":"COUNTIF('Standards LOOKUP'!B:B,AI3817)","v":0},{"$f":"IFERROR(INDEX('Standards LOOKUP'!C:C,MATCH(AI3817,'Standards LOOKUP'!B:B,0),0),0)","v":0},{"$f":"IFERROR(INDEX('Current Standards'!P:P,MATCH('Sheet Counter'!AI3817,'Current Standards'!O:O,0),0),\"\")","v":""}]
[null,null,0,"","",{"$error":"#VALUE!"},"",{"$f":"IF(I3818=\"\",\"\",LARGE(H$1:H3817,1)+1)","v":{"$error":"#VALUE!"}},{"$error":"#VALUE!"},null,null,null,null,null,3817,0,{"$f":"IF(R3818=\"\",\"\",LARGE(Q$1:Q3817,1)+1)","v":{"$error":"#NUM!"}},{"$error":"#NUM!"},null,null,null,null,null,null,0,{"$error":"#VALUE!"},3999,"","",null,null,null,null,{"$error":"#VALUE!"},{"$error":"#VALUE!"},{"$f":"COUNTIF('Standards LOOKUP'!B:B,AI3818)","v":0},{"$f":"IFERROR(INDEX('Standards LOOKUP'!C:C,MATCH(AI3818,'Standards LOOKUP'!B:B,0),0),0)","v":0},{"$f":"IFERROR(INDEX('Current Standards'!P:P,MATCH('Sheet Counter'!AI3818,'Current Standards'!O:O,0),0),\"\")","v":""}]
[null,null,0,"","",{"$error":"#VALUE!"},"",{"$f":"IF(I3819=\"\",\"\",LARGE(H$1:H3818,1)+1)","v":{"$error":"#VALUE!"}},{"$error":"#VALUE!"},null,null,null,null,null,3818,0,{"$f":"IF(R3819=\"\",\"\",LARGE(Q$1:Q3818,1)+1)","v":{"$error":"#NUM!"}},{"$error":"#NUM!"},null,null,null,null,null,null,0,{"$error":"#VALUE!"},3999,"","",null,null,null,null,{"$error":"#VALUE!"},{"$error":"#VALUE!"},{"$f":"COUNTIF('Standards LOOKUP'!B:B,AI3819)","v":0},{"$f":"IFERROR(INDEX('Standards LOOKUP'!C:C,MATCH(AI3819,'Standards LOOKUP'!B:B,0),0),0)","v":0},{"$f":"IFERROR(INDEX('Current Standards'!P:P,MATCH('Sheet Counter'!AI3819,'Current Standards'!O:O,0),0),\"\")","v":""}]
[null,null,0,"","",{"$error":"#VALUE!"},"",{"$f":"IF(I3820=\"\",\"\",LARGE(H$1:H3819,1)+1)","v":{"$error":"#VALUE!"}},{"$error":"#VALUE!"},null,null,null,null,null,3819,0,{"$f":"IF(R3820=\"\",\"\",LARGE(Q$1:Q3819,1)+1)","v":{"$error":"#NUM!"}},{"$error":"#NUM!"},null,null,null,null,null,null,0,{"$error":"#VALUE!"},3999,"","",null,null,null,null,{"$error":"#VALUE!"},{"$error":"#VALUE!"},{"$f":"COUNTIF('Standards LOOKUP'!B:B,AI3820)","v":0},{"$f":"IFERROR(INDEX('Standards LOOKUP'!C:C,MATCH(AI3820,'Standards LOOKUP'!B:B,0),0),0)","v":0},{"$f":"IFERROR(INDEX('Current Standards'!P:P,MATCH('Sheet Counter'!AI3820,'Current Standards'!O:O,0),0),\"\")","v":""}]
[null,null,0,"","",{"$error":"#VALUE!"},"",{"$f":"IF(I3821=\"\",\"\",LARGE(H$1:H3820,1)+1)","v":{"$error":"#VALUE!"}},{"$error":"#VALUE!"},null,null,null,null,null,3820,0,{"$f":"IF(R3821=\"\",\"\",LARGE(Q$1:Q3820,1)+1)","v":{"$error":"#NUM!"}},{"$error":"#NUM!"},null,null,null,null,null,null,0,{"$error":"#VALUE!"},3999,"","",null,null,null,null,{"$error":"#VALUE!"},{"$error":"#VALUE!"},{"$f":"COUNTIF('Standards LOOKUP'!B:B,AI3821)","v":0},{"$f":"IFERROR(INDEX('Standards LOOKUP'!C:C,MATCH(AI3821,'Standards LOOKUP'!B:B,0),0),0)","v":0},{"$f":"IFERROR(INDEX('Current Standards'!P:P,MATCH('Sheet Counter'!AI3821,'Current Standards'!O:O,0),0),\"\")","v":""}]
[null,null,0,"","",{"$error":"#VALUE!"},"",{"$f":"IF(I3822=\"\",\"\",LARGE(H$1:H3821,1)+1)","v":{"$error":"#VALUE!"}},{"$error":"#VALUE!"},null,null,null,null,null,3821,0,{"$f":"IF(R3822=\"\",\"\",LARGE(Q$1:Q3821,1)+1)","v":{"$error":"#NUM!"}},{"$error":"#NUM!"},null,null,null,null,null,null,0,{"$error":"#VALUE!"},3999,"","",null,null,null,null,{"$error":"#VALUE!"},{"$error":"#VALUE!"},{"$f":"COUNTIF('Standards LOOKUP'!B:B,AI3822)","v":0},{"$f":"IFERROR(INDEX('Standards LOOKUP'!C:C,MATCH(AI3822,'Standards LOOKUP'!B:B,0),0),0)","v":0},{"$f":"IFERROR(INDEX('Current Standards'!P:P,MATCH('Sheet Counter'!AI3822,'Current Standards'!O:O,0),0),\"\")","v":""}]
[null,null,0,"","",{"$error":"#VALUE!"},"",{"$f":"IF(I3823=\"\",\"\",LARGE(H$1:H3822,1)+1)","v":{"$error":"#VALUE!"}},{"$error":"#VALUE!"},null,null,null,null,null,3822,0,{"$f":"IF(R3823=\"\",\"\",LARGE(Q$1:Q3822,1)+1)","v":{"$error":"#NUM!"}},{"$error":"#NUM!"},null,null,null,null,null,null,0,{"$error":"#VALUE!"},3999,"","",null,null,null,null,{"$error":"#VALUE!"},{"$error":"#VALUE!"},{"$f":"COUNTIF('Standards LOOKUP'!B:B,AI3823)","v":0},{"$f":"IFERROR(INDEX('Standards LOOKUP'!C:C,MATCH(AI3823,'Standards LOOKUP'!B:B,0),0),0)","v":0},{"$f":"IFERROR(INDEX('Current Standards'!P:P,MATCH('Sheet Counter'!AI3823,'Current Standards'!O:O,0),0),\"\")","v":""}]
[null,null,0,"","",{"$error":"#VALUE!"},"",{"$f":"IF(I3824=\"\",\"\",LARGE(H$1:H3823,1)+1)","v":{"$error":"#VALUE!"}},{"$error":"#VALUE!"},null,null,null,null,null,3823,0,{"$f":"IF(R3824=\"\",\"\",LARGE(Q$1:Q3823,1)+1)","v":{"$error":"#NUM!"}},{"$error":"#NUM!"},null,null,null,null,null,null,0,{"$error":"#VALUE!"},3999,"","",null,null,null,null,{"$error":"#VALUE!"},{"$error":"#VALUE!"},{"$f":"COUNTIF('Standards LOOKUP'!B:B,AI3824)","v":0},{"$f":"IFERROR(INDEX('Standards LOOKUP'!C:C,MATCH(AI3824,'Standards LOOKUP'!B:B,0),0),0)","v":0},{"$f":"IFERROR(INDEX('Current Standards'!P:P,MATCH('Sheet Counter'!AI3824,'Current Standards'!O:O,0),0),\"\")","v":""}]
[null,null,0,"","",{"$error":"#VALUE!"},"",{"$f":"IF(I3825=\"\",\"\",LARGE(H$1:H3824,1)+1)","v":{"$error":"#VALUE!"}},{"$error":"#VALUE!"},null,null,null,null,null,3824,0,{"$f":"IF(R3825=\"\",\"\",LARGE(Q$1:Q3824,1)+1)","v":{"$error":"#NUM!"}},{"$error":"#NUM!"},null,null,null,null,null,null,0,{"$error":"#VALUE!"},3999,"","",null,null,null,null,{"$error":"#VALUE!"},{"$error":"#VALUE!"},{"$f":"COUNTIF('Standards LOOKUP'!B:B,AI3825)","v":0},{"$f":"IFERROR(INDEX('Standards LOOKUP'!C:C,MATCH(AI3825,'Standards LOOKUP'!B:B,0),0),0)","v":0},{"$f":"IFERROR(INDEX('Current Standards'!P:P,MATCH('Sheet Counter'!AI3825,'Current Standards'!O:O,0),0),\"\")","v":""}]
[null,null,0,"","",{"$error":"#VALUE!"},"",{"$f":"IF(I3826=\"\",\"\",LARGE(H$1:H3825,1)+1)","v":{"$error":"#VALUE!"}},{"$error":"#VALUE!"},null,null,null,null,null,3825,0,{"$f":"IF(R3826=\"\",\"\",LARGE(Q$1:Q3825,1)+1)","v":{"$error":"#NUM!"}},{"$error":"#NUM!"},null,null,null,null,null,null,0,{"$error":"#VALUE!"},3999,"","",null,null,null,null,{"$error":"#VALUE!"},{"$error":"#VALUE!"},{"$f":"COUNTIF('Standards LOOKUP'!B:B,AI3826)","v":0},{"$f":"IFERROR(INDEX('Standards LOOKUP'!C:C,MATCH(AI3826,'Standards LOOKUP'!B:B,0),0),0)","v":0},{"$f":"IFERROR(INDEX('Current Standards'!P:P,MATCH('Sheet Counter'!AI3826,'Current Standards'!O:O,0),0),\"\")","v":""}]
[null,null,0,"","",{"$error":"#VALUE!"},"",{"$f":"IF(I3827=\"\",\"\",LARGE(H$1:H3826,1)+1)","v":{"$error":"#VALUE!"}},{"$error":"#VALUE!"},null,null,null,null,null,3826,0,{"$f":"IF(R3827=\"\",\"\",LARGE(Q$1:Q3826,1)+1)","v":{"$error":"#NUM!"}},{"$error":"#NUM!"},null,null,null,null,null,null,0,{"$error":"#VALUE!"},3999,"","",null,null,null,null,{"$error":"#VALUE!"},{"$error":"#VALUE!"},{"$f":"COUNTIF('Standards LOOKUP'!B:B,AI3827)","v":0},{"$f":"IFERROR(INDEX('Standards LOOKUP'!C:C,MATCH(AI3827,'Standards LOOKUP'!B:B,0),0),0)","v":0},{"$f":"IFERROR(INDEX('Current Standards'!P:P,MATCH('Sheet Counter'!AI3827,'Current Standards'!O:O,0),0),\"\")","v":""}]
[null,null,0,"","",{"$error":"#VALUE!"},"",{"$f":"IF(I3828=\"\",\"\",LARGE(H$1:H3827,1)+1)","v":{"$error":"#VALUE!"}},{"$error":"#VALUE!"},null,null,null,null,null,3827,0,{"$f":"IF(R3828=\"\",\"\",LARGE(Q$1:Q3827,1)+1)","v":{"$error":"#NUM!"}},{"$error":"#NUM!"},null,null,null,null,null,null,0,{"$error":"#VALUE!"},3999,"","",null,null,null,null,{"$error":"#VALUE!"},{"$error":"#VALUE!"},{"$f":"COUNTIF('Standards LOOKUP'!B:B,AI3828)","v":0},{"$f":"IFERROR(INDEX('Standards LOOKUP'!C:C,MATCH(AI3828,'Standards LOOKUP'!B:B,0),0),0)","v":0},{"$f":"IFERROR(INDEX('Current Standards'!P:P,MATCH('Sheet Counter'!AI3828,'Current Standards'!O:O,0),0),\"\")","v":""}]
[null,null,0,"","",{"$error":"#VALUE!"},"",{"$f":"IF(I3829=\"\",\"\",LARGE(H$1:H3828,1)+1)","v":{"$error":"#VALUE!"}},{"$error":"#VALUE!"},null,null,null,null,null,3828,0,{"$f":"IF(R3829=\"\",\"\",LARGE(Q$1:Q3828,1)+1)","v":{"$error":"#NUM!"}},{"$error":"#NUM!"},null,null,null,null,null,null,0,{"$error":"#VALUE!"},3999,"","",null,null,null,null,{"$error":"#VALUE!"},{"$error":"#VALUE!"},{"$f":"COUNTIF('Standards LOOKUP'!B:B,AI3829)","v":0},{"$f":"IFERROR(INDEX('Standards LOOKUP'!C:C,MATCH(AI3829,'Standards LOOKUP'!B:B,0),0),0)","v":0},{"$f":"IFERROR(INDEX('Current Standards'!P:P,MATCH('Sheet Counter'!AI3829,'Current Standards'!O:O,0),0),\"\")","v":""}]
[null,null,0,"","",{"$error":"#VALUE!"},"",{"$f":"IF(I3830=\"\",\"\",LARGE(H$1:H3829,1)+1)","v":{"$error":"#VALUE!"}},{"$error":"#VALUE!"},null,null,null,null,null,3829,0,{"$f":"IF(R3830=\"\",\"\",LARGE(Q$1:Q3829,1)+1)","v":{"$error":"#NUM!"}},{"$error":"#NUM!"},null,null,null,null,null,null,0,{"$error":"#VALUE!"},3999,"","",null,null,null,null,{"$error":"#VALUE!"},{"$error":"#VALUE!"},{"$f":"COUNTIF('Standards LOOKUP'!B:B,AI3830)","v":0},{"$f":"IFERROR(INDEX('Standards LOOKUP'!C:C,MATCH(AI3830,'Standards LOOKUP'!B:B,0),0),0)","v":0},{"$f":"IFERROR(INDEX('Current Standards'!P:P,MATCH('Sheet Counter'!AI3830,'Current Standards'!O:O,0),0),\"\")","v":""}]
[null,null,0,"","",{"$error":"#VALUE!"},"",{"$f":"IF(I3831=\"\",\"\",LARGE(H$1:H3830,1)+1)","v":{"$error":"#VALUE!"}},{"$error":"#VALUE!"},null,null,null,null,null,3830,0,{"$f":"IF(R3831=\"\",\"\",LARGE(Q$1:Q3830,1)+1)","v":{"$error":"#NUM!"}},{"$error":"#NUM!"},null,null,null,null,null,null,0,{"$error":"#VALUE!"},3999,"","",null,null,null,null,{"$error":"#VALUE!"},{"$error":"#VALUE!"},{"$f":"COUNTIF('Standards LOOKUP'!B:B,AI3831)","v":0},{"$f":"IFERROR(INDEX('Standards LOOKUP'!C:C,MATCH(AI3831,'Standards LOOKUP'!B:B,0),0),0)","v":0},{"$f":"IFERROR(INDEX('Current Standards'!P:P,MATCH('Sheet Counter'!AI3831,'Current Standards'!O:O,0),0),\"\")","v":""}]
[null,null,0,"","",{"$error":"#VALUE!"},"",{"$f":"IF(I3832=\"\",\"\",LARGE(H$1:H3831,1)+1)","v":{"$error":"#VALUE!"}},{"$error":"#VALUE!"},null,null,null,null,null,3831,0,{"$f":"IF(R3832=\"\",\"\",LARGE(Q$1:Q3831,1)+1)","v":{"$error":"#NUM!"}},{"$error":"#NUM!"},null,null,null,null,null,null,0,{"$error":"#VALUE!"},3999,"","",null,null,null,null,{"$error":"#VALUE!"},{"$error":"#VALUE!"},{"$f":"COUNTIF('Standards LOOKUP'!B:B,AI3832)","v":0},{"$f":"IFERROR(INDEX('Standards LOOKUP'!C:C,MATCH(AI3832,'Standards LOOKUP'!B:B,0),0),0)","v":0},{"$f":"IFERROR(INDEX('Current Standards'!P:P,MATCH('Sheet Counter'!AI3832,'Current Standards'!O:O,0),0),\"\")","v":""}]
[null,null,0,"","",{"$error":"#VALUE!"},"",{"$f":"IF(I3833=\"\",\"\",LARGE(H$1:H3832,1)+1)","v":{"$error":"#VALUE!"}},{"$error":"#VALUE!"},null,null,null,null,null,3832,0,{"$f":"IF(R3833=\"\",\"\",LARGE(Q$1:Q3832,1)+1)","v":{"$error":"#NUM!"}},{"$error":"#NUM!"},null,null,null,null,null,null,0,{"$error":"#VALUE!"},3999,"","",null,null,null,null,{"$error":"#VALUE!"},{"$error":"#VALUE!"},{"$f":"COUNTIF('Standards LOOKUP'!B:B,AI3833)","v":0},{"$f":"IFERROR(INDEX('Standards LOOKUP'!C:C,MATCH(AI3833,'Standards LOOKUP'!B:B,0),0),0)","v":0},{"$f":"IFERROR(INDEX('Current Standards'!P:P,MATCH('Sheet Counter'!AI3833,'Current Standards'!O:O,0),0),\"\")","v":""}]
[null,null,{"$f":"IF(ISERROR(FIND(\"\\\",A3834)),A3834,RIGHT(A3834,LEN(A3834)-FIND(\"~\",SUBSTITUTE(A3834,\"\\\",\"~\",LEN(A3834)-LEN(SUBSTITUTE(A3834,\"\\\",\"\"))))))","v":0},"","",{"$f":"LEFT(C3834,FIND(\"-\",SUBSTITUTE(SUBSTITUTE(C3834,\"_\",\"-\"),\" \",\"-\"))-1)","v":{"$error":"#VALUE!"}},{"$f":"IF(ISNUMBER(F3834*1),F3834*1,\"\")","v":""},{"$f":"IF(I3834=\"\",\"\",LARGE(H$1:H3833,1)+1)","v":{"$error":"#VALUE!"}},{"$f":"IF(G3834=\"\",F3834,\"\")","v":{"$error":"#VALUE!"}},null,null,null,null,null,3833,{"$f":"COUNTIF(G:G,O3834)","v":0},{"$f":"IF(R3834=\"\",\"\",LARGE(Q$1:Q3833,1)+1)","v":{"$error":"#NUM!"}},{"$error":"#NUM!"},null,null,null,null,null,null,{"$f":"IF(ISERROR(FIND(\"\\\",X3834)),X3834,RIGHT(X3834,LEN(X3834)-FIND(\"~\",SUBSTITUTE(X3834,\"\\\",\"~\",LEN(X3834)-LEN(SUBSTITUTE(X3834,\"\\\",\"\"))))))","v":0},{"$f":"LEFT(Y3834,FIND(\"-\",SUBSTITUTE(SUBSTITUTE(Y3834,\"_\",\"-\"),\" \",\"-\"))-1)","v":{"$error":"#VALUE!"}},{"$f":"COUNTIF(F:F,Z3834)","v":3999},{"$f":"IF(OR(AA3834<1,ISERROR(Z3834)),\"\",INDEX(C:C,MATCH(Z3834,F:F)))","v":""},"",null,null,null,null,{"$error":"#VALUE!"},{"$error":"#VALUE!"},{"$f":"COUNTIF('Standards LOOKUP'!B:B,AI3834)","v":0},{"$f":"IFERROR(INDEX('Standards LOOKUP'!C:C,MATCH(AI3834,'Standards LOOKUP'!B:B,0),0),0)","v":0},{"$f":"IFERROR(INDEX('Current Standards'!P:P,MATCH('Sheet Counter'!AI3834,'Current Standards'!O:O,0),0),\"\")","v":""}]
[null,null,0,"","",{"$error":"#VALUE!"},"",{"$f":"IF(I3835=\"\",\"\",LARGE(H$1:H3834,1)+1)","v":{"$error":"#VALUE!"}},{"$error":"#VALUE!"},null,null,null,null,null,3834,0,{"$f":"IF(R3835=\"\",\"\",LARGE(Q$1:Q3834,1)+1)","v":{"$error":"#NUM!"}},{"$error":"#NUM!"},null,null,null,null,null,null,0,{"$error":"#VALUE!"},3999,"","",null,null,null,null,{"$error":"#VALUE!"},{"$error":"#VALUE!"},{"$f":"COUNTIF('Standards LOOKUP'!B:B,AI3835)","v":0},{"$f":"IFERROR(INDEX('Standards LOOKUP'!C:C,MATCH(AI3835,'Standards LOOKUP'!B:B,0),0),0)","v":0},{"$f":"IFERROR(INDEX('Current Standards'!P:P,MATCH('Sheet Counter'!AI3835,'Current Standards'!O:O,0),0),\"\")","v":""}]
[null,null,0,"","",{"$error":"#VALUE!"},"",{"$f":"IF(I3836=\"\",\"\",LARGE(H$1:H3835,1)+1)","v":{"$error":"#VALUE!"}},{"$error":"#VALUE!"},null,null,null,null,null,3835,0,{"$f":"IF(R3836=\"\",\"\",LARGE(Q$1:Q3835,1)+1)","v":{"$error":"#NUM!"}},{"$error":"#NUM!"},null,null,null,null,null,null,0,{"$error":"#VALUE!"},3999,"","",null,null,null,null,{"$error":"#VALUE!"},{"$error":"#VALUE!"},{"$f":"COUNTIF('Standards LOOKUP'!B:B,AI3836)","v":0},{"$f":"IFERROR(INDEX('Standards LOOKUP'!C:C,MATCH(AI3836,'Standards LOOKUP'!B:B,0),0),0)","v":0},{"$f":"IFERROR(INDEX('Current Standards'!P:P,MATCH('Sheet Counter'!AI3836,'Current Standards'!O:O,0),0),\"\")","v":""}]
[null,null,0,"","",{"$error":"#VALUE!"},"",{"$f":"IF(I3837=\"\",\"\",LARGE(H$1:H3836,1)+1)","v":{"$error":"#VALUE!"}},{"$error":"#VALUE!"},null,null,null,null,null,3836,0,{"$f":"IF(R3837=\"\",\"\",LARGE(Q$1:Q3836,1)+1)","v":{"$error":"#NUM!"}},{"$error":"#NUM!"},null,null,null,null,null,null,0,{"$error":"#VALUE!"},3999,"","",null,null,null,null,{"$error":"#VALUE!"},{"$error":"#VALUE!"},{"$f":"COUNTIF('Standards LOOKUP'!B:B,AI3837)","v":0},{"$f":"IFERROR(INDEX('Standards LOOKUP'!C:C,MATCH(AI3837,'Standards LOOKUP'!B:B,0),0),0)","v":0},{"$f":"IFERROR(INDEX('Current Standards'!P:P,MATCH('Sheet Counter'!AI3837,'Current Standards'!O:O,0),0),\"\")","v":""}]
[null,null,0,"","",{"$error":"#VALUE!"},"",{"$f":"IF(I3838=\"\",\"\",LARGE(H$1:H3837,1)+1)","v":{"$error":"#VALUE!"}},{"$error":"#VALUE!"},null,null,null,null,null,3837,0,{"$f":"IF(R3838=\"\",\"\",LARGE(Q$1:Q3837,1)+1)","v":{"$error":"#NUM!"}},{"$error":"#NUM!"},null,null,null,null,null,null,0,{"$error":"#VALUE!"},3999,"","",null,null,null,null,{"$error":"#VALUE!"},{"$error":"#VALUE!"},{"$f":"COUNTIF('Standards LOOKUP'!B:B,AI3838)","v":0},{"$f":"IFERROR(INDEX('Standards LOOKUP'!C:C,MATCH(AI3838,'Standards LOOKUP'!B:B,0),0),0)","v":0},{"$f":"IFERROR(INDEX('Current Standards'!P:P,MATCH('Sheet Counter'!AI3838,'Current Standards'!O:O,0),0),\"\")","v":""}]
[null,null,0,"","",{"$error":"#VALUE!"},"",{"$f":"IF(I3839=\"\",\"\",LARGE(H$1:H3838,1)+1)","v":{"$error":"#VALUE!"}},{"$error":"#VALUE!"},null,null,null,null,null,3838,0,{"$f":"IF(R3839=\"\",\"\",LARGE(Q$1:Q3838,1)+1)","v":{"$error":"#NUM!"}},{"$error":"#NUM!"},null,null,null,null,null,null,0,{"$error":"#VALUE!"},3999,"","",null,null,null,null,{"$error":"#VALUE!"},{"$error":"#VALUE!"},{"$f":"COUNTIF('Standards LOOKUP'!B:B,AI3839)","v":0},{"$f":"IFERROR(INDEX('Standards LOOKUP'!C:C,MATCH(AI3839,'Standards LOOKUP'!B:B,0),0),0)","v":0},{"$f":"IFERROR(INDEX('Current Standards'!P:P,MATCH('Sheet Counter'!AI3839,'Current Standards'!O:O,0),0),\"\")","v":""}]
[null,null,0,"","",{"$error":"#VALUE!"},"",{"$f":"IF(I3840=\"\",\"\",LARGE(H$1:H3839,1)+1)","v":{"$error":"#VALUE!"}},{"$error":"#VALUE!"},null,null,null,null,null,3839,0,{"$f":"IF(R3840=\"\",\"\",LARGE(Q$1:Q3839,1)+1)","v":{"$error":"#NUM!"}},{"$error":"#NUM!"},null,null,null,null,null,null,0,{"$error":"#VALUE!"},3999,"","",null,null,null,null,{"$error":"#VALUE!"},{"$error":"#VALUE!"},{"$f":"COUNTIF('Standards LOOKUP'!B:B,AI3840)","v":0},{"$f":"IFERROR(INDEX('Standards LOOKUP'!C:C,MATCH(AI3840,'Standards LOOKUP'!B:B,0),0),0)","v":0},{"$f":"IFERROR(INDEX('Current Standards'!P:P,MATCH('Sheet Counter'!AI3840,'Current Standards'!O:O,0),0),\"\")","v":""}]
[null,null,0,"","",{"$error":"#VALUE!"},"",{"$f":"IF(I3841=\"\",\"\",LARGE(H$1:H3840,1)+1)","v":{"$error":"#VALUE!"}},{"$error":"#VALUE!"},null,null,null,null,null,3840,0,{"$f":"IF(R3841=\"\",\"\",LARGE(Q$1:Q3840,1)+1)","v":{"$error":"#NUM!"}},{"$error":"#NUM!"},null,null,null,null,null,null,0,{"$error":"#VALUE!"},3999,"","",null,null,null,null,{"$error":"#VALUE!"},{"$error":"#VALUE!"},{"$f":"COUNTIF('Standards LOOKUP'!B:B,AI3841)","v":0},{"$f":"IFERROR(INDEX('Standards LOOKUP'!C:C,MATCH(AI3841,'Standards LOOKUP'!B:B,0),0),0)","v":0},{"$f":"IFERROR(INDEX('Current Standards'!P:P,MATCH('Sheet Counter'!AI3841,'Current Standards'!O:O,0),0),\"\")","v":""}]
[null,null,0,"","",{"$error":"#VALUE!"},"",{"$f":"IF(I3842=\"\",\"\",LARGE(H$1:H3841,1)+1)","v":{"$error":"#VALUE!"}},{"$error":"#VALUE!"},null,null,null,null,null,3841,0,{"$f":"IF(R3842=\"\",\"\",LARGE(Q$1:Q3841,1)+1)","v":{"$error":"#NUM!"}},{"$error":"#NUM!"},null,null,null,null,null,null,0,{"$error":"#VALUE!"},3999,"","",null,null,null,null,{"$error":"#VALUE!"},{"$error":"#VALUE!"},{"$f":"COUNTIF('Standards LOOKUP'!B:B,AI3842)","v":0},{"$f":"IFERROR(INDEX('Standards LOOKUP'!C:C,MATCH(AI3842,'Standards LOOKUP'!B:B,0),0),0)","v":0},{"$f":"IFERROR(INDEX('Current Standards'!P:P,MATCH('Sheet Counter'!AI3842,'Current Standards'!O:O,0),0),\"\")","v":""}]
[null,null,0,{"$f":"IF(AL3843=\"\",\"\",AL3843)","v":""},"",{"$error":"#VALUE!"},"",{"$f":"IF(I3843=\"\",\"\",LARGE(H$1:H3842,1)+1)","v":{"$error":"#VALUE!"}},{"$error":"#VALUE!"},null,null,null,null,null,3842,0,{"$f":"IF(R3843=\"\",\"\",LARGE(Q$1:Q3842,1)+1)","v":{"$error":"#NUM!"}},{"$error":"#NUM!"},null,null,null,null,null,null,0,{"$error":"#VALUE!"},3999,"",{"$f":"IF(AA3843=0,\"New Sheet\",IF(EXACT(UPPER(Y3843),UPPER(AB3843)),\"Match\",\"\"))","v":""},null,null,null,null,{"$f":"IF(C3843=\"\",\"\",LEFT(RIGHT(C3843,LEN(C3843)-SEARCH(\" \",C3843,1)),LEN(RIGHT(C3843,LEN(C3843)-SEARCH(\" \",C3843,1)))-4))","v":{"$error":"#VALUE!"}},{"$f":"TRIM(SUBSTITUTE(SUBSTITUTE(SUBSTITUTE(SUBSTITUTE(SUBSTITUTE(SUBSTITUTE(AH3843,\"(\",\"\"),\")\",\"\"),\"-\",\"\"),\"&\",\"\"),\" \",\"\",1),\" \",\"\",1))","v":{"$error":"#VALUE!"}},{"$f":"COUNTIF('Standards LOOKUP'!B:B,AI3843)","v":0},{"$f":"IFERROR(INDEX('Standards LOOKUP'!C:C,MATCH(AI3843,'Standards LOOKUP'!B:B,0),0),0)","v":0},{"$f":"IFERROR(INDEX('Current Standards'!P:P,MATCH('Sheet Counter'!AI3843,'Current Standards'!O:O,0),0),\"\")","v":""}]
[null,null,0,"","",{"$error":"#VALUE!"},"",{"$f":"IF(I3844=\"\",\"\",LARGE(H$1:H3843,1)+1)","v":{"$error":"#VALUE!"}},{"$error":"#VALUE!"},null,null,null,null,null,3843,0,{"$f":"IF(R3844=\"\",\"\",LARGE(Q$1:Q3843,1)+1)","v":{"$error":"#NUM!"}},{"$f":"IF(AND(P3844<>1,O3844<=LARGE(G:G,1),O3844>=SMALL(G:G,1)),O3844,\"\")","v":{"$error":"#NUM!"}},null,null,null,null,null,null,0,{"$error":"#VALUE!"},3999,"","",null,null,null,null,{"$error":"#VALUE!"},{"$error":"#VALUE!"},{"$f":"COUNTIF('Standards LOOKUP'!B:B,AI3844)","v":0},{"$f":"IFERROR(INDEX('Standards LOOKUP'!C:C,MATCH(AI3844,'Standards LOOKUP'!B:B,0),0),0)","v":0},{"$f":"IFERROR(INDEX('Current Standards'!P:P,MATCH('Sheet Counter'!AI3844,'Current Standards'!O:O,0),0),\"\")","v":""}]
[null,null,0,"","",{"$error":"#VALUE!"},"",{"$f":"IF(I3845=\"\",\"\",LARGE(H$1:H3844,1)+1)","v":{"$error":"#VALUE!"}},{"$error":"#VALUE!"},null,null,null,null,null,3844,0,{"$f":"IF(R3845=\"\",\"\",LARGE(Q$1:Q3844,1)+1)","v":{"$error":"#NUM!"}},{"$error":"#NUM!"},null,null,null,null,null,null,0,{"$error":"#VALUE!"},3999,"","",null,null,null,null,{"$error":"#VALUE!"},{"$error":"#VALUE!"},{"$f":"COUNTIF('Standards LOOKUP'!B:B,AI3845)","v":0},{"$f":"IFERROR(INDEX('Standards LOOKUP'!C:C,MATCH(AI3845,'Standards LOOKUP'!B:B,0),0),0)","v":0},{"$f":"IFERROR(INDEX('Current Standards'!P:P,MATCH('Sheet Counter'!AI3845,'Current Standards'!O:O,0),0),\"\")","v":""}]
[null,null,0,"","",{"$error":"#VALUE!"},"",{"$f":"IF(I3846=\"\",\"\",LARGE(H$1:H3845,1)+1)","v":{"$error":"#VALUE!"}},{"$error":"#VALUE!"},null,null,null,null,null,3845,0,{"$f":"IF(R3846=\"\",\"\",LARGE(Q$1:Q3845,1)+1)","v":{"$error":"#NUM!"}},{"$error":"#NUM!"},null,null,null,null,null,null,0,{"$error":"#VALUE!"},3999,"","",null,null,null,null,{"$error":"#VALUE!"},{"$error":"#VALUE!"},{"$f":"COUNTIF('Standards LOOKUP'!B:B,AI3846)","v":0},{"$f":"IFERROR(INDEX('Standards LOOKUP'!C:C,MATCH(AI3846,'Standards LOOKUP'!B:B,0),0),0)","v":0},{"$f":"IFERROR(INDEX('Current Standards'!P:P,MATCH('Sheet Counter'!AI3846,'Current Standards'!O:O,0),0),\"\")","v":""}]
[null,null,0,"","",{"$error":"#VALUE!"},"",{"$f":"IF(I3847=\"\",\"\",LARGE(H$1:H3846,1)+1)","v":{"$error":"#VALUE!"}},{"$error":"#VALUE!"},null,null,null,null,null,3846,0,{"$f":"IF(R3847=\"\",\"\",LARGE(Q$1:Q3846,1)+1)","v":{"$error":"#NUM!"}},{"$error":"#NUM!"},null,null,null,null,null,null,0,{"$error":"#VALUE!"},3999,"","",null,null,null,null,{"$error":"#VALUE!"},{"$error":"#VALUE!"},{"$f":"COUNTIF('Standards LOOKUP'!B:B,AI3847)","v":0},{"$f":"IFERROR(INDEX('Standards LOOKUP'!C:C,MATCH(AI3847,'Standards LOOKUP'!B:B,0),0),0)","v":0},{"$f":"IFERROR(INDEX('Current Standards'!P:P,MATCH('Sheet Counter'!AI3847,'Current Standards'!O:O,0),0),\"\")","v":""}]
[null,null,0,"","",{"$error":"#VALUE!"},"",{"$f":"IF(I3848=\"\",\"\",LARGE(H$1:H3847,1)+1)","v":{"$error":"#VALUE!"}},{"$error":"#VALUE!"},null,null,null,null,null,3847,0,{"$f":"IF(R3848=\"\",\"\",LARGE(Q$1:Q3847,1)+1)","v":{"$error":"#NUM!"}},{"$error":"#NUM!"},null,null,null,null,null,null,0,{"$error":"#VALUE!"},3999,"","",null,null,null,null,{"$error":"#VALUE!"},{"$error":"#VALUE!"},{"$f":"COUNTIF('Standards LOOKUP'!B:B,AI3848)","v":0},{"$f":"IFERROR(INDEX('Standards LOOKUP'!C:C,MATCH(AI3848,'Standards LOOKUP'!B:B,0),0),0)","v":0},{"$f":"IFERROR(INDEX('Current Standards'!P:P,MATCH('Sheet Counter'!AI3848,'Current Standards'!O:O,0),0),\"\")","v":""}]
[null,null,0,"","",{"$error":"#VALUE!"},"",{"$f":"IF(I3849=\"\",\"\",LARGE(H$1:H3848,1)+1)","v":{"$error":"#VALUE!"}},{"$error":"#VALUE!"},null,null,null,null,null,3848,0,{"$f":"IF(R3849=\"\",\"\",LARGE(Q$1:Q3848,1)+1)","v":{"$error":"#NUM!"}},{"$error":"#NUM!"},null,null,null,null,null,null,0,{"$error":"#VALUE!"},3999,"","",null,null,null,null,{"$error":"#VALUE!"},{"$error":"#VALUE!"},{"$f":"COUNTIF('Standards LOOKUP'!B:B,AI3849)","v":0},{"$f":"IFERROR(INDEX('Standards LOOKUP'!C:C,MATCH(AI3849,'Standards LOOKUP'!B:B,0),0),0)","v":0},{"$f":"IFERROR(INDEX('Current Standards'!P:P,MATCH('Sheet Counter'!AI3849,'Current Standards'!O:O,0),0),\"\")","v":""}]
[null,null,0,"","",{"$error":"#VALUE!"},"",{"$f":"IF(I3850=\"\",\"\",LARGE(H$1:H3849,1)+1)","v":{"$error":"#VALUE!"}},{"$error":"#VALUE!"},null,null,null,null,null,3849,0,{"$f":"IF(R3850=\"\",\"\",LARGE(Q$1:Q3849,1)+1)","v":{"$error":"#NUM!"}},{"$error":"#NUM!"},null,null,null,null,null,null,0,{"$error":"#VALUE!"},3999,"","",null,null,null,null,{"$error":"#VALUE!"},{"$error":"#VALUE!"},{"$f":"COUNTIF('Standards LOOKUP'!B:B,AI3850)","v":0},{"$f":"IFERROR(INDEX('Standards LOOKUP'!C:C,MATCH(AI3850,'Standards LOOKUP'!B:B,0),0),0)","v":0},{"$f":"IFERROR(INDEX('Current Standards'!P:P,MATCH('Sheet Counter'!AI3850,'Current Standards'!O:O,0),0),\"\")","v":""}]
[null,null,0,"","",{"$error":"#VALUE!"},"",{"$f":"IF(I3851=\"\",\"\",LARGE(H$1:H3850,1)+1)","v":{"$error":"#VALUE!"}},{"$error":"#VALUE!"},null,null,null,null,null,3850,0,{"$f":"IF(R3851=\"\",\"\",LARGE(Q$1:Q3850,1)+1)","v":{"$error":"#NUM!"}},{"$error":"#NUM!"},null,null,null,null,null,null,0,{"$error":"#VALUE!"},3999,"","",null,null,null,null,{"$error":"#VALUE!"},{"$error":"#VALUE!"},{"$f":"COUNTIF('Standards LOOKUP'!B:B,AI3851)","v":0},{"$f":"IFERROR(INDEX('Standards LOOKUP'!C:C,MATCH(AI3851,'Standards LOOKUP'!B:B,0),0),0)","v":0},{"$f":"IFERROR(INDEX('Current Standards'!P:P,MATCH('Sheet Counter'!AI3851,'Current Standards'!O:O,0),0),\"\")","v":""}]
[null,null,0,"","",{"$error":"#VALUE!"},"",{"$f":"IF(I3852=\"\",\"\",LARGE(H$1:H3851,1)+1)","v":{"$error":"#VALUE!"}},{"$error":"#VALUE!"},null,null,null,null,null,3851,0,{"$f":"IF(R3852=\"\",\"\",LARGE(Q$1:Q3851,1)+1)","v":{"$error":"#NUM!"}},{"$error":"#NUM!"},null,null,null,null,null,null,0,{"$error":"#VALUE!"},3999,"","",null,null,null,null,{"$error":"#VALUE!"},{"$error":"#VALUE!"},{"$f":"COUNTIF('Standards LOOKUP'!B:B,AI3852)","v":0},{"$f":"IFERROR(INDEX('Standards LOOKUP'!C:C,MATCH(AI3852,'Standards LOOKUP'!B:B,0),0),0)","v":0},{"$f":"IFERROR(INDEX('Current Standards'!P:P,MATCH('Sheet Counter'!AI3852,'Current Standards'!O:O,0),0),\"\")","v":""}]
[null,null,0,"","",{"$error":"#VALUE!"},"",{"$f":"IF(I3853=\"\",\"\",LARGE(H$1:H3852,1)+1)","v":{"$error":"#VALUE!"}},{"$error":"#VALUE!"},null,null,null,null,null,3852,0,{"$f":"IF(R3853=\"\",\"\",LARGE(Q$1:Q3852,1)+1)","v":{"$error":"#NUM!"}},{"$error":"#NUM!"},null,null,null,null,null,null,0,{"$error":"#VALUE!"},3999,"","",null,null,null,null,{"$error":"#VALUE!"},{"$error":"#VALUE!"},{"$f":"COUNTIF('Standards LOOKUP'!B:B,AI3853)","v":0},{"$f":"IFERROR(INDEX('Standards LOOKUP'!C:C,MATCH(AI3853,'Standards LOOKUP'!B:B,0),0),0)","v":0},{"$f":"IFERROR(INDEX('Current Standards'!P:P,MATCH('Sheet Counter'!AI3853,'Current Standards'!O:O,0),0),\"\")","v":""}]
[null,null,0,"","",{"$error":"#VALUE!"},"",{"$f":"IF(I3854=\"\",\"\",LARGE(H$1:H3853,1)+1)","v":{"$error":"#VALUE!"}},{"$error":"#VALUE!"},null,null,null,null,null,3853,0,{"$f":"IF(R3854=\"\",\"\",LARGE(Q$1:Q3853,1)+1)","v":{"$error":"#NUM!"}},{"$error":"#NUM!"},null,null,null,null,null,null,0,{"$error":"#VALUE!"},3999,"","",null,null,null,null,{"$error":"#VALUE!"},{"$error":"#VALUE!"},{"$f":"COUNTIF('Standards LOOKUP'!B:B,AI3854)","v":0},{"$f":"IFERROR(INDEX('Standards LOOKUP'!C:C,MATCH(AI3854,'Standards LOOKUP'!B:B,0),0),0)","v":0},{"$f":"IFERROR(INDEX('Current Standards'!P:P,MATCH('Sheet Counter'!AI3854,'Current Standards'!O:O,0),0),\"\")","v":""}]
[null,null,0,"","",{"$error":"#VALUE!"},"",{"$f":"IF(I3855=\"\",\"\",LARGE(H$1:H3854,1)+1)","v":{"$error":"#VALUE!"}},{"$error":"#VALUE!"},null,null,null,null,null,3854,0,{"$f":"IF(R3855=\"\",\"\",LARGE(Q$1:Q3854,1)+1)","v":{"$error":"#NUM!"}},{"$error":"#NUM!"},null,null,null,null,null,null,0,{"$error":"#VALUE!"},3999,"","",null,null,null,null,{"$error":"#VALUE!"},{"$error":"#VALUE!"},{"$f":"COUNTIF('Standards LOOKUP'!B:B,AI3855)","v":0},{"$f":"IFERROR(INDEX('Standards LOOKUP'!C:C,MATCH(AI3855,'Standards LOOKUP'!B:B,0),0),0)","v":0},{"$f":"IFERROR(INDEX('Current Standards'!P:P,MATCH('Sheet Counter'!AI3855,'Current Standards'!O:O,0),0),\"\")","v":""}]
[null,null,0,"","",{"$error":"#VALUE!"},"",{"$f":"IF(I3856=\"\",\"\",LARGE(H$1:H3855,1)+1)","v":{"$error":"#VALUE!"}},{"$error":"#VALUE!"},null,null,null,null,null,3855,0,{"$f":"IF(R3856=\"\",\"\",LARGE(Q$1:Q3855,1)+1)","v":{"$error":"#NUM!"}},{"$error":"#NUM!"},null,null,null,null,null,null,0,{"$error":"#VALUE!"},3999,"","",null,null,null,null,{"$error":"#VALUE!"},{"$error":"#VALUE!"},{"$f":"COUNTIF('Standards LOOKUP'!B:B,AI3856)","v":0},{"$f":"IFERROR(INDEX('Standards LOOKUP'!C:C,MATCH(AI3856,'Standards LOOKUP'!B:B,0),0),0)","v":0},{"$f":"IFERROR(INDEX('Current Standards'!P:P,MATCH('Sheet Counter'!AI3856,'Current Standards'!O:O,0),0),\"\")","v":""}]
[null,null,0,"","",{"$error":"#VALUE!"},"",{"$f":"IF(I3857=\"\",\"\",LARGE(H$1:H3856,1)+1)","v":{"$error":"#VALUE!"}},{"$error":"#VALUE!"},null,null,null,null,null,3856,0,{"$f":"IF(R3857=\"\",\"\",LARGE(Q$1:Q3856,1)+1)","v":{"$error":"#NUM!"}},{"$error":"#NUM!"},null,null,null,null,null,null,0,{"$error":"#VALUE!"},3999,"","",null,null,null,null,{"$error":"#VALUE!"},{"$error":"#VALUE!"},{"$f":"COUNTIF('Standards LOOKUP'!B:B,AI3857)","v":0},{"$f":"IFERROR(INDEX('Standards LOOKUP'!C:C,MATCH(AI3857,'Standards LOOKUP'!B:B,0),0),0)","v":0},{"$f":"IFERROR(INDEX('Current Standards'!P:P,MATCH('Sheet Counter'!AI3857,'Current Standards'!O:O,0),0),\"\")","v":""}]
[null,null,0,"","",{"$error":"#VALUE!"},"",{"$f":"IF(I3858=\"\",\"\",LARGE(H$1:H3857,1)+1)","v":{"$error":"#VALUE!"}},{"$error":"#VALUE!"},null,null,null,null,null,3857,0,{"$f":"IF(R3858=\"\",\"\",LARGE(Q$1:Q3857,1)+1)","v":{"$error":"#NUM!"}},{"$error":"#NUM!"},null,null,null,null,null,null,0,{"$error":"#VALUE!"},3999,"","",null,null,null,null,{"$error":"#VALUE!"},{"$error":"#VALUE!"},{"$f":"COUNTIF('Standards LOOKUP'!B:B,AI3858)","v":0},{"$f":"IFERROR(INDEX('Standards LOOKUP'!C:C,MATCH(AI3858,'Standards LOOKUP'!B:B,0),0),0)","v":0},{"$f":"IFERROR(INDEX('Current Standards'!P:P,MATCH('Sheet Counter'!AI3858,'Current Standards'!O:O,0),0),\"\")","v":""}]
[null,null,0,"","",{"$error":"#VALUE!"},"",{"$f":"IF(I3859=\"\",\"\",LARGE(H$1:H3858,1)+1)","v":{"$error":"#VALUE!"}},{"$error":"#VALUE!"},null,null,null,null,null,3858,0,{"$f":"IF(R3859=\"\",\"\",LARGE(Q$1:Q3858,1)+1)","v":{"$error":"#NUM!"}},{"$error":"#NUM!"},null,null,null,null,null,null,0,{"$error":"#VALUE!"},3999,"","",null,null,null,null,{"$error":"#VALUE!"},{"$error":"#VALUE!"},{"$f":"COUNTIF('Standards LOOKUP'!B:B,AI3859)","v":0},{"$f":"IFERROR(INDEX('Standards LOOKUP'!C:C,MATCH(AI3859,'Standards LOOKUP'!B:B,0),0),0)","v":0},{"$f":"IFERROR(INDEX('Current Standards'!P:P,MATCH('Sheet Counter'!AI3859,'Current Standards'!O:O,0),0),\"\")","v":""}]
[null,null,0,"","",{"$error":"#VALUE!"},"",{"$f":"IF(I3860=\"\",\"\",LARGE(H$1:H3859,1)+1)","v":{"$error":"#VALUE!"}},{"$error":"#VALUE!"},null,null,null,null,null,3859,0,{"$f":"IF(R3860=\"\",\"\",LARGE(Q$1:Q3859,1)+1)","v":{"$error":"#NUM!"}},{"$error":"#NUM!"},null,null,null,null,null,null,0,{"$error":"#VALUE!"},3999,"","",null,null,null,null,{"$error":"#VALUE!"},{"$error":"#VALUE!"},{"$f":"COUNTIF('Standards LOOKUP'!B:B,AI3860)","v":0},{"$f":"IFERROR(INDEX('Standards LOOKUP'!C:C,MATCH(AI3860,'Standards LOOKUP'!B:B,0),0),0)","v":0},{"$f":"IFERROR(INDEX('Current Standards'!P:P,MATCH('Sheet Counter'!AI3860,'Current Standards'!O:O,0),0),\"\")","v":""}]
[null,null,0,"","",{"$error":"#VALUE!"},"",{"$f":"IF(I3861=\"\",\"\",LARGE(H$1:H3860,1)+1)","v":{"$error":"#VALUE!"}},{"$error":"#VALUE!"},null,null,null,null,null,3860,0,{"$f":"IF(R3861=\"\",\"\",LARGE(Q$1:Q3860,1)+1)","v":{"$error":"#NUM!"}},{"$error":"#NUM!"},null,null,null,null,null,null,0,{"$error":"#VALUE!"},3999,"","",null,null,null,null,{"$error":"#VALUE!"},{"$error":"#VALUE!"},{"$f":"COUNTIF('Standards LOOKUP'!B:B,AI3861)","v":0},{"$f":"IFERROR(INDEX('Standards LOOKUP'!C:C,MATCH(AI3861,'Standards LOOKUP'!B:B,0),0),0)","v":0},{"$f":"IFERROR(INDEX('Current Standards'!P:P,MATCH('Sheet Counter'!AI3861,'Current Standards'!O:O,0),0),\"\")","v":""}]
[null,null,0,"","",{"$error":"#VALUE!"},"",{"$f":"IF(I3862=\"\",\"\",LARGE(H$1:H3861,1)+1)","v":{"$error":"#VALUE!"}},{"$error":"#VALUE!"},null,null,null,null,null,3861,0,{"$f":"IF(R3862=\"\",\"\",LARGE(Q$1:Q3861,1)+1)","v":{"$error":"#NUM!"}},{"$error":"#NUM!"},null,null,null,null,null,null,0,{"$error":"#VALUE!"},3999,"","",null,null,null,null,{"$error":"#VALUE!"},{"$error":"#VALUE!"},{"$f":"COUNTIF('Standards LOOKUP'!B:B,AI3862)","v":0},{"$f":"IFERROR(INDEX('Standards LOOKUP'!C:C,MATCH(AI3862,'Standards LOOKUP'!B:B,0),0),0)","v":0},{"$f":"IFERROR(INDEX('Current Standards'!P:P,MATCH('Sheet Counter'!AI3862,'Current Standards'!O:O,0),0),\"\")","v":""}]
[null,null,0,"","",{"$error":"#VALUE!"},"",{"$f":"IF(I3863=\"\",\"\",LARGE(H$1:H3862,1)+1)","v":{"$error":"#VALUE!"}},{"$error":"#VALUE!"},null,null,null,null,null,3862,0,{"$f":"IF(R3863=\"\",\"\",LARGE(Q$1:Q3862,1)+1)","v":{"$error":"#NUM!"}},{"$error":"#NUM!"},null,null,null,null,null,null,0,{"$error":"#VALUE!"},3999,"","",null,null,null,null,{"$error":"#VALUE!"},{"$error":"#VALUE!"},{"$f":"COUNTIF('Standards LOOKUP'!B:B,AI3863)","v":0},{"$f":"IFERROR(INDEX('Standards LOOKUP'!C:C,MATCH(AI3863,'Standards LOOKUP'!B:B,0),0),0)","v":0},{"$f":"IFERROR(INDEX('Current Standards'!P:P,MATCH('Sheet Counter'!AI3863,'Current Standards'!O:O,0),0),\"\")","v":""}]
[null,null,0,"","",{"$error":"#VALUE!"},"",{"$f":"IF(I3864=\"\",\"\",LARGE(H$1:H3863,1)+1)","v":{"$error":"#VALUE!"}},{"$error":"#VALUE!"},null,null,null,null,null,3863,0,{"$f":"IF(R3864=\"\",\"\",LARGE(Q$1:Q3863,1)+1)","v":{"$error":"#NUM!"}},{"$error":"#NUM!"},null,null,null,null,null,null,0,{"$error":"#VALUE!"},3999,"","",null,null,null,null,{"$error":"#VALUE!"},{"$error":"#VALUE!"},{"$f":"COUNTIF('Standards LOOKUP'!B:B,AI3864)","v":0},{"$f":"IFERROR(INDEX('Standards LOOKUP'!C:C,MATCH(AI3864,'Standards LOOKUP'!B:B,0),0),0)","v":0},{"$f":"IFERROR(INDEX('Current Standards'!P:P,MATCH('Sheet Counter'!AI3864,'Current Standards'!O:O,0),0),\"\")","v":""}]
[null,null,0,"","",{"$error":"#VALUE!"},"",{"$f":"IF(I3865=\"\",\"\",LARGE(H$1:H3864,1)+1)","v":{"$error":"#VALUE!"}},{"$error":"#VALUE!"},null,null,null,null,null,3864,0,{"$f":"IF(R3865=\"\",\"\",LARGE(Q$1:Q3864,1)+1)","v":{"$error":"#NUM!"}},{"$error":"#NUM!"},null,null,null,null,null,null,0,{"$error":"#VALUE!"},3999,"","",null,null,null,null,{"$error":"#VALUE!"},{"$error":"#VALUE!"},{"$f":"COUNTIF('Standards LOOKUP'!B:B,AI3865)","v":0},{"$f":"IFERROR(INDEX('Standards LOOKUP'!C:C,MATCH(AI3865,'Standards LOOKUP'!B:B,0),0),0)","v":0},{"$f":"IFERROR(INDEX('Current Standards'!P:P,MATCH('Sheet Counter'!AI3865,'Current Standards'!O:O,0),0),\"\")","v":""}]
[null,null,0,"","",{"$error":"#VALUE!"},"",{"$f":"IF(I3866=\"\",\"\",LARGE(H$1:H3865,1)+1)","v":{"$error":"#VALUE!"}},{"$error":"#VALUE!"},null,null,null,null,null,3865,0,{"$f":"IF(R3866=\"\",\"\",LARGE(Q$1:Q3865,1)+1)","v":{"$error":"#NUM!"}},{"$error":"#NUM!"},null,null,null,null,null,null,0,{"$error":"#VALUE!"},3999,"","",null,null,null,null,{"$error":"#VALUE!"},{"$error":"#VALUE!"},{"$f":"COUNTIF('Standards LOOKUP'!B:B,AI3866)","v":0},{"$f":"IFERROR(INDEX('Standards LOOKUP'!C:C,MATCH(AI3866,'Standards LOOKUP'!B:B,0),0),0)","v":0},{"$f":"IFERROR(INDEX('Current Standards'!P:P,MATCH('Sheet Counter'!AI3866,'Current Standards'!O:O,0),0),\"\")","v":""}]
[null,null,0,"","",{"$error":"#VALUE!"},"",{"$f":"IF(I3867=\"\",\"\",LARGE(H$1:H3866,1)+1)","v":{"$error":"#VALUE!"}},{"$error":"#VALUE!"},null,null,null,null,null,3866,0,{"$f":"IF(R3867=\"\",\"\",LARGE(Q$1:Q3866,1)+1)","v":{"$error":"#NUM!"}},{"$error":"#NUM!"},null,null,null,null,null,null,0,{"$error":"#VALUE!"},3999,"","",null,null,null,null,{"$error":"#VALUE!"},{"$error":"#VALUE!"},{"$f":"COUNTIF('Standards LOOKUP'!B:B,AI3867)","v":0},{"$f":"IFERROR(INDEX('Standards LOOKUP'!C:C,MATCH(AI3867,'Standards LOOKUP'!B:B,0),0),0)","v":0},{"$f":"IFERROR(INDEX('Current Standards'!P:P,MATCH('Sheet Counter'!AI3867,'Current Standards'!O:O,0),0),\"\")","v":""}]
[null,null,0,"","",{"$error":"#VALUE!"},"",{"$f":"IF(I3868=\"\",\"\",LARGE(H$1:H3867,1)+1)","v":{"$error":"#VALUE!"}},{"$error":"#VALUE!"},null,null,null,null,null,3867,0,{"$f":"IF(R3868=\"\",\"\",LARGE(Q$1:Q3867,1)+1)","v":{"$error":"#NUM!"}},{"$error":"#NUM!"},null,null,null,null,null,null,0,{"$error":"#VALUE!"},3999,"","",null,null,null,null,{"$error":"#VALUE!"},{"$error":"#VALUE!"},{"$f":"COUNTIF('Standards LOOKUP'!B:B,AI3868)","v":0},{"$f":"IFERROR(INDEX('Standards LOOKUP'!C:C,MATCH(AI3868,'Standards LOOKUP'!B:B,0),0),0)","v":0},{"$f":"IFERROR(INDEX('Current Standards'!P:P,MATCH('Sheet Counter'!AI3868,'Current Standards'!O:O,0),0),\"\")","v":""}]
[null,null,0,"","",{"$error":"#VALUE!"},"",{"$f":"IF(I3869=\"\",\"\",LARGE(H$1:H3868,1)+1)","v":{"$error":"#VALUE!"}},{"$error":"#VALUE!"},null,null,null,null,null,3868,0,{"$f":"IF(R3869=\"\",\"\",LARGE(Q$1:Q3868,1)+1)","v":{"$error":"#NUM!"}},{"$error":"#NUM!"},null,null,null,null,null,null,0,{"$error":"#VALUE!"},3999,"","",null,null,null,null,{"$error":"#VALUE!"},{"$error":"#VALUE!"},{"$f":"COUNTIF('Standards LOOKUP'!B:B,AI3869)","v":0},{"$f":"IFERROR(INDEX('Standards LOOKUP'!C:C,MATCH(AI3869,'Standards LOOKUP'!B:B,0),0),0)","v":0},{"$f":"IFERROR(INDEX('Current Standards'!P:P,MATCH('Sheet Counter'!AI3869,'Current Standards'!O:O,0),0),\"\")","v":""}]
[null,null,0,"","",{"$error":"#VALUE!"},"",{"$f":"IF(I3870=\"\",\"\",LARGE(H$1:H3869,1)+1)","v":{"$error":"#VALUE!"}},{"$error":"#VALUE!"},null,null,null,null,null,3869,0,{"$f":"IF(R3870=\"\",\"\",LARGE(Q$1:Q3869,1)+1)","v":{"$error":"#NUM!"}},{"$error":"#NUM!"},null,null,null,null,null,null,0,{"$error":"#VALUE!"},3999,"","",null,null,null,null,{"$error":"#VALUE!"},{"$error":"#VALUE!"},{"$f":"COUNTIF('Standards LOOKUP'!B:B,AI3870)","v":0},{"$f":"IFERROR(INDEX('Standards LOOKUP'!C:C,MATCH(AI3870,'Standards LOOKUP'!B:B,0),0),0)","v":0},{"$f":"IFERROR(INDEX('Current Standards'!P:P,MATCH('Sheet Counter'!AI3870,'Current Standards'!O:O,0),0),\"\")","v":""}]
[null,null,0,"","",{"$error":"#VALUE!"},"",{"$f":"IF(I3871=\"\",\"\",LARGE(H$1:H3870,1)+1)","v":{"$error":"#VALUE!"}},{"$error":"#VALUE!"},null,null,null,null,null,3870,0,{"$f":"IF(R3871=\"\",\"\",LARGE(Q$1:Q3870,1)+1)","v":{"$error":"#NUM!"}},{"$error":"#NUM!"},null,null,null,null,null,null,0,{"$error":"#VALUE!"},3999,"","",null,null,null,null,{"$error":"#VALUE!"},{"$error":"#VALUE!"},{"$f":"COUNTIF('Standards LOOKUP'!B:B,AI3871)","v":0},{"$f":"IFERROR(INDEX('Standards LOOKUP'!C:C,MATCH(AI3871,'Standards LOOKUP'!B:B,0),0),0)","v":0},{"$f":"IFERROR(INDEX('Current Standards'!P:P,MATCH('Sheet Counter'!AI3871,'Current Standards'!O:O,0),0),\"\")","v":""}]
[null,null,0,"","",{"$error":"#VALUE!"},"",{"$f":"IF(I3872=\"\",\"\",LARGE(H$1:H3871,1)+1)","v":{"$error":"#VALUE!"}},{"$error":"#VALUE!"},null,null,null,null,null,3871,0,{"$f":"IF(R3872=\"\",\"\",LARGE(Q$1:Q3871,1)+1)","v":{"$error":"#NUM!"}},{"$error":"#NUM!"},null,null,null,null,null,null,0,{"$error":"#VALUE!"},3999,"","",null,null,null,null,{"$error":"#VALUE!"},{"$error":"#VALUE!"},{"$f":"COUNTIF('Standards LOOKUP'!B:B,AI3872)","v":0},{"$f":"IFERROR(INDEX('Standards LOOKUP'!C:C,MATCH(AI3872,'Standards LOOKUP'!B:B,0),0),0)","v":0},{"$f":"IFERROR(INDEX('Current Standards'!P:P,MATCH('Sheet Counter'!AI3872,'Current Standards'!O:O,0),0),\"\")","v":""}]
[null,null,0,"","",{"$error":"#VALUE!"},"",{"$f":"IF(I3873=\"\",\"\",LARGE(H$1:H3872,1)+1)","v":{"$error":"#VALUE!"}},{"$error":"#VALUE!"},null,null,null,null,null,3872,0,{"$f":"IF(R3873=\"\",\"\",LARGE(Q$1:Q3872,1)+1)","v":{"$error":"#NUM!"}},{"$error":"#NUM!"},null,null,null,null,null,null,0,{"$error":"#VALUE!"},3999,"","",null,null,null,null,{"$error":"#VALUE!"},{"$error":"#VALUE!"},{"$f":"COUNTIF('Standards LOOKUP'!B:B,AI3873)","v":0},{"$f":"IFERROR(INDEX('Standards LOOKUP'!C:C,MATCH(AI3873,'Standards LOOKUP'!B:B,0),0),0)","v":0},{"$f":"IFERROR(INDEX('Current Standards'!P:P,MATCH('Sheet Counter'!AI3873,'Current Standards'!O:O,0),0),\"\")","v":""}]
[null,null,0,"","",{"$error":"#VALUE!"},"",{"$f":"IF(I3874=\"\",\"\",LARGE(H$1:H3873,1)+1)","v":{"$error":"#VALUE!"}},{"$error":"#VALUE!"},null,null,null,null,null,3873,0,{"$f":"IF(R3874=\"\",\"\",LARGE(Q$1:Q3873,1)+1)","v":{"$error":"#NUM!"}},{"$error":"#NUM!"},null,null,null,null,null,null,0,{"$error":"#VALUE!"},3999,"","",null,null,null,null,{"$error":"#VALUE!"},{"$error":"#VALUE!"},{"$f":"COUNTIF('Standards LOOKUP'!B:B,AI3874)","v":0},{"$f":"IFERROR(INDEX('Standards LOOKUP'!C:C,MATCH(AI3874,'Standards LOOKUP'!B:B,0),0),0)","v":0},{"$f":"IFERROR(INDEX('Current Standards'!P:P,MATCH('Sheet Counter'!AI3874,'Current Standards'!O:O,0),0),\"\")","v":""}]
[null,null,0,"","",{"$error":"#VALUE!"},"",{"$f":"IF(I3875=\"\",\"\",LARGE(H$1:H3874,1)+1)","v":{"$error":"#VALUE!"}},{"$error":"#VALUE!"},null,null,null,null,null,3874,0,{"$f":"IF(R3875=\"\",\"\",LARGE(Q$1:Q3874,1)+1)","v":{"$error":"#NUM!"}},{"$error":"#NUM!"},null,null,null,null,null,null,0,{"$error":"#VALUE!"},3999,"","",null,null,null,null,{"$error":"#VALUE!"},{"$error":"#VALUE!"},{"$f":"COUNTIF('Standards LOOKUP'!B:B,AI3875)","v":0},{"$f":"IFERROR(INDEX('Standards LOOKUP'!C:C,MATCH(AI3875,'Standards LOOKUP'!B:B,0),0),0)","v":0},{"$f":"IFERROR(INDEX('Current Standards'!P:P,MATCH('Sheet Counter'!AI3875,'Current Standards'!O:O,0),0),\"\")","v":""}]
[null,null,0,"","",{"$error":"#VALUE!"},"",{"$f":"IF(I3876=\"\",\"\",LARGE(H$1:H3875,1)+1)","v":{"$error":"#VALUE!"}},{"$error":"#VALUE!"},null,null,null,null,null,3875,0,{"$f":"IF(R3876=\"\",\"\",LARGE(Q$1:Q3875,1)+1)","v":{"$error":"#NUM!"}},{"$error":"#NUM!"},null,null,null,null,null,null,0,{"$error":"#VALUE!"},3999,"","",null,null,null,null,{"$error":"#VALUE!"},{"$error":"#VALUE!"},{"$f":"COUNTIF('Standards LOOKUP'!B:B,AI3876)","v":0},{"$f":"IFERROR(INDEX('Standards LOOKUP'!C:C,MATCH(AI3876,'Standards LOOKUP'!B:B,0),0),0)","v":0},{"$f":"IFERROR(INDEX('Current Standards'!P:P,MATCH('Sheet Counter'!AI3876,'Current Standards'!O:O,0),0),\"\")","v":""}]
[null,null,0,"","",{"$error":"#VALUE!"},"",{"$f":"IF(I3877=\"\",\"\",LARGE(H$1:H3876,1)+1)","v":{"$error":"#VALUE!"}},{"$error":"#VALUE!"},null,null,null,null,null,3876,0,{"$f":"IF(R3877=\"\",\"\",LARGE(Q$1:Q3876,1)+1)","v":{"$error":"#NUM!"}},{"$error":"#NUM!"},null,null,null,null,null,null,0,{"$error":"#VALUE!"},3999,"","",null,null,null,null,{"$error":"#VALUE!"},{"$error":"#VALUE!"},{"$f":"COUNTIF('Standards LOOKUP'!B:B,AI3877)","v":0},{"$f":"IFERROR(INDEX('Standards LOOKUP'!C:C,MATCH(AI3877,'Standards LOOKUP'!B:B,0),0),0)","v":0},{"$f":"IFERROR(INDEX('Current Standards'!P:P,MATCH('Sheet Counter'!AI3877,'Current Standards'!O:O,0),0),\"\")","v":""}]
[null,null,0,"","",{"$error":"#VALUE!"},"",{"$f":"IF(I3878=\"\",\"\",LARGE(H$1:H3877,1)+1)","v":{"$error":"#VALUE!"}},{"$error":"#VALUE!"},null,null,null,null,null,3877,0,{"$f":"IF(R3878=\"\",\"\",LARGE(Q$1:Q3877,1)+1)","v":{"$error":"#NUM!"}},{"$error":"#NUM!"},null,null,null,null,null,null,0,{"$error":"#VALUE!"},3999,"","",null,null,null,null,{"$error":"#VALUE!"},{"$error":"#VALUE!"},{"$f":"COUNTIF('Standards LOOKUP'!B:B,AI3878)","v":0},{"$f":"IFERROR(INDEX('Standards LOOKUP'!C:C,MATCH(AI3878,'Standards LOOKUP'!B:B,0),0),0)","v":0},{"$f":"IFERROR(INDEX('Current Standards'!P:P,MATCH('Sheet Counter'!AI3878,'Current Standards'!O:O,0),0),\"\")","v":""}]
[null,null,0,"","",{"$error":"#VALUE!"},"",{"$f":"IF(I3879=\"\",\"\",LARGE(H$1:H3878,1)+1)","v":{"$error":"#VALUE!"}},{"$error":"#VALUE!"},null,null,null,null,null,3878,0,{"$f":"IF(R3879=\"\",\"\",LARGE(Q$1:Q3878,1)+1)","v":{"$error":"#NUM!"}},{"$error":"#NUM!"},null,null,null,null,null,null,0,{"$error":"#VALUE!"},3999,"","",null,null,null,null,{"$error":"#VALUE!"},{"$error":"#VALUE!"},{"$f":"COUNTIF('Standards LOOKUP'!B:B,AI3879)","v":0},{"$f":"IFERROR(INDEX('Standards LOOKUP'!C:C,MATCH(AI3879,'Standards LOOKUP'!B:B,0),0),0)","v":0},{"$f":"IFERROR(INDEX('Current Standards'!P:P,MATCH('Sheet Counter'!AI3879,'Current Standards'!O:O,0),0),\"\")","v":""}]
[null,null,0,"","",{"$error":"#VALUE!"},"",{"$f":"IF(I3880=\"\",\"\",LARGE(H$1:H3879,1)+1)","v":{"$error":"#VALUE!"}},{"$error":"#VALUE!"},null,null,null,null,null,3879,0,{"$f":"IF(R3880=\"\",\"\",LARGE(Q$1:Q3879,1)+1)","v":{"$error":"#NUM!"}},{"$error":"#NUM!"},null,null,null,null,null,null,0,{"$error":"#VALUE!"},3999,"","",null,null,null,null,{"$error":"#VALUE!"},{"$error":"#VALUE!"},{"$f":"COUNTIF('Standards LOOKUP'!B:B,AI3880)","v":0},{"$f":"IFERROR(INDEX('Standards LOOKUP'!C:C,MATCH(AI3880,'Standards LOOKUP'!B:B,0),0),0)","v":0},{"$f":"IFERROR(INDEX('Current Standards'!P:P,MATCH('Sheet Counter'!AI3880,'Current Standards'!O:O,0),0),\"\")","v":""}]
[null,null,0,"","",{"$error":"#VALUE!"},"",{"$f":"IF(I3881=\"\",\"\",LARGE(H$1:H3880,1)+1)","v":{"$error":"#VALUE!"}},{"$error":"#VALUE!"},null,null,null,null,null,3880,0,{"$f":"IF(R3881=\"\",\"\",LARGE(Q$1:Q3880,1)+1)","v":{"$error":"#NUM!"}},{"$error":"#NUM!"},null,null,null,null,null,null,0,{"$error":"#VALUE!"},3999,"","",null,null,null,null,{"$error":"#VALUE!"},{"$error":"#VALUE!"},{"$f":"COUNTIF('Standards LOOKUP'!B:B,AI3881)","v":0},{"$f":"IFERROR(INDEX('Standards LOOKUP'!C:C,MATCH(AI3881,'Standards LOOKUP'!B:B,0),0),0)","v":0},{"$f":"IFERROR(INDEX('Current Standards'!P:P,MATCH('Sheet Counter'!AI3881,'Current Standards'!O:O,0),0),\"\")","v":""}]
[null,null,0,"","",{"$error":"#VALUE!"},"",{"$f":"IF(I3882=\"\",\"\",LARGE(H$1:H3881,1)+1)","v":{"$error":"#VALUE!"}},{"$error":"#VALUE!"},null,null,null,null,null,3881,0,{"$f":"IF(R3882=\"\",\"\",LARGE(Q$1:Q3881,1)+1)","v":{"$error":"#NUM!"}},{"$error":"#NUM!"},null,null,null,null,null,null,0,{"$error":"#VALUE!"},3999,"","",null,null,null,null,{"$error":"#VALUE!"},{"$error":"#VALUE!"},{"$f":"COUNTIF('Standards LOOKUP'!B:B,AI3882)","v":0},{"$f":"IFERROR(INDEX('Standards LOOKUP'!C:C,MATCH(AI3882,'Standards LOOKUP'!B:B,0),0),0)","v":0},{"$f":"IFERROR(INDEX('Current Standards'!P:P,MATCH('Sheet Counter'!AI3882,'Current Standards'!O:O,0),0),\"\")","v":""}]
[null,null,0,"","",{"$error":"#VALUE!"},"",{"$f":"IF(I3883=\"\",\"\",LARGE(H$1:H3882,1)+1)","v":{"$error":"#VALUE!"}},{"$error":"#VALUE!"},null,null,null,null,null,3882,0,{"$f":"IF(R3883=\"\",\"\",LARGE(Q$1:Q3882,1)+1)","v":{"$error":"#NUM!"}},{"$error":"#NUM!"},null,null,null,null,null,null,0,{"$error":"#VALUE!"},3999,"","",null,null,null,null,{"$error":"#VALUE!"},{"$error":"#VALUE!"},{"$f":"COUNTIF('Standards LOOKUP'!B:B,AI3883)","v":0},{"$f":"IFERROR(INDEX('Standards LOOKUP'!C:C,MATCH(AI3883,'Standards LOOKUP'!B:B,0),0),0)","v":0},{"$f":"IFERROR(INDEX('Current Standards'!P:P,MATCH('Sheet Counter'!AI3883,'Current Standards'!O:O,0),0),\"\")","v":""}]
[null,null,0,"","",{"$error":"#VALUE!"},"",{"$f":"IF(I3884=\"\",\"\",LARGE(H$1:H3883,1)+1)","v":{"$error":"#VALUE!"}},{"$error":"#VALUE!"},null,null,null,null,null,3883,0,{"$f":"IF(R3884=\"\",\"\",LARGE(Q$1:Q3883,1)+1)","v":{"$error":"#NUM!"}},{"$error":"#NUM!"},null,null,null,null,null,null,0,{"$error":"#VALUE!"},3999,"","",null,null,null,null,{"$error":"#VALUE!"},{"$error":"#VALUE!"},{"$f":"COUNTIF('Standards LOOKUP'!B:B,AI3884)","v":0},{"$f":"IFERROR(INDEX('Standards LOOKUP'!C:C,MATCH(AI3884,'Standards LOOKUP'!B:B,0),0),0)","v":0},{"$f":"IFERROR(INDEX('Current Standards'!P:P,MATCH('Sheet Counter'!AI3884,'Current Standards'!O:O,0),0),\"\")","v":""}]
[null,null,0,"","",{"$error":"#VALUE!"},"",{"$f":"IF(I3885=\"\",\"\",LARGE(H$1:H3884,1)+1)","v":{"$error":"#VALUE!"}},{"$error":"#VALUE!"},null,null,null,null,null,3884,0,{"$f":"IF(R3885=\"\",\"\",LARGE(Q$1:Q3884,1)+1)","v":{"$error":"#NUM!"}},{"$error":"#NUM!"},null,null,null,null,null,null,0,{"$error":"#VALUE!"},3999,"","",null,null,null,null,{"$error":"#VALUE!"},{"$error":"#VALUE!"},{"$f":"COUNTIF('Standards LOOKUP'!B:B,AI3885)","v":0},{"$f":"IFERROR(INDEX('Standards LOOKUP'!C:C,MATCH(AI3885,'Standards LOOKUP'!B:B,0),0),0)","v":0},{"$f":"IFERROR(INDEX('Current Standards'!P:P,MATCH('Sheet Counter'!AI3885,'Current Standards'!O:O,0),0),\"\")","v":""}]
[null,null,0,"","",{"$error":"#VALUE!"},"",{"$f":"IF(I3886=\"\",\"\",LARGE(H$1:H3885,1)+1)","v":{"$error":"#VALUE!"}},{"$error":"#VALUE!"},null,null,null,null,null,3885,0,{"$f":"IF(R3886=\"\",\"\",LARGE(Q$1:Q3885,1)+1)","v":{"$error":"#NUM!"}},{"$error":"#NUM!"},null,null,null,null,null,null,0,{"$error":"#VALUE!"},3999,"","",null,null,null,null,{"$error":"#VALUE!"},{"$error":"#VALUE!"},{"$f":"COUNTIF('Standards LOOKUP'!B:B,AI3886)","v":0},{"$f":"IFERROR(INDEX('Standards LOOKUP'!C:C,MATCH(AI3886,'Standards LOOKUP'!B:B,0),0),0)","v":0},{"$f":"IFERROR(INDEX('Current Standards'!P:P,MATCH('Sheet Counter'!AI3886,'Current Standards'!O:O,0),0),\"\")","v":""}]
[null,null,0,"","",{"$error":"#VALUE!"},"",{"$f":"IF(I3887=\"\",\"\",LARGE(H$1:H3886,1)+1)","v":{"$error":"#VALUE!"}},{"$error":"#VALUE!"},null,null,null,null,null,3886,0,{"$f":"IF(R3887=\"\",\"\",LARGE(Q$1:Q3886,1)+1)","v":{"$error":"#NUM!"}},{"$error":"#NUM!"},null,null,null,null,null,null,0,{"$error":"#VALUE!"},3999,"","",null,null,null,null,{"$error":"#VALUE!"},{"$error":"#VALUE!"},{"$f":"COUNTIF('Standards LOOKUP'!B:B,AI3887)","v":0},{"$f":"IFERROR(INDEX('Standards LOOKUP'!C:C,MATCH(AI3887,'Standards LOOKUP'!B:B,0),0),0)","v":0},{"$f":"IFERROR(INDEX('Current Standards'!P:P,MATCH('Sheet Counter'!AI3887,'Current Standards'!O:O,0),0),\"\")","v":""}]
[null,null,0,"","",{"$error":"#VALUE!"},"",{"$f":"IF(I3888=\"\",\"\",LARGE(H$1:H3887,1)+1)","v":{"$error":"#VALUE!"}},{"$error":"#VALUE!"},null,null,null,null,null,3887,0,{"$f":"IF(R3888=\"\",\"\",LARGE(Q$1:Q3887,1)+1)","v":{"$error":"#NUM!"}},{"$error":"#NUM!"},null,null,null,null,null,null,0,{"$error":"#VALUE!"},3999,"","",null,null,null,null,{"$error":"#VALUE!"},{"$error":"#VALUE!"},{"$f":"COUNTIF('Standards LOOKUP'!B:B,AI3888)","v":0},{"$f":"IFERROR(INDEX('Standards LOOKUP'!C:C,MATCH(AI3888,'Standards LOOKUP'!B:B,0),0),0)","v":0},{"$f":"IFERROR(INDEX('Current Standards'!P:P,MATCH('Sheet Counter'!AI3888,'Current Standards'!O:O,0),0),\"\")","v":""}]
[null,null,0,"","",{"$error":"#VALUE!"},"",{"$f":"IF(I3889=\"\",\"\",LARGE(H$1:H3888,1)+1)","v":{"$error":"#VALUE!"}},{"$error":"#VALUE!"},null,null,null,null,null,3888,0,{"$f":"IF(R3889=\"\",\"\",LARGE(Q$1:Q3888,1)+1)","v":{"$error":"#NUM!"}},{"$error":"#NUM!"},null,null,null,null,null,null,0,{"$error":"#VALUE!"},3999,"","",null,null,null,null,{"$error":"#VALUE!"},{"$error":"#VALUE!"},{"$f":"COUNTIF('Standards LOOKUP'!B:B,AI3889)","v":0},{"$f":"IFERROR(INDEX('Standards LOOKUP'!C:C,MATCH(AI3889,'Standards LOOKUP'!B:B,0),0),0)","v":0},{"$f":"IFERROR(INDEX('Current Standards'!P:P,MATCH('Sheet Counter'!AI3889,'Current Standards'!O:O,0),0),\"\")","v":""}]
[null,null,0,"","",{"$error":"#VALUE!"},"",{"$f":"IF(I3890=\"\",\"\",LARGE(H$1:H3889,1)+1)","v":{"$error":"#VALUE!"}},{"$error":"#VALUE!"},null,null,null,null,null,3889,0,{"$f":"IF(R3890=\"\",\"\",LARGE(Q$1:Q3889,1)+1)","v":{"$error":"#NUM!"}},{"$error":"#NUM!"},null,null,null,null,null,null,0,{"$error":"#VALUE!"},3999,"","",null,null,null,null,{"$error":"#VALUE!"},{"$error":"#VALUE!"},{"$f":"COUNTIF('Standards LOOKUP'!B:B,AI3890)","v":0},{"$f":"IFERROR(INDEX('Standards LOOKUP'!C:C,MATCH(AI3890,'Standards LOOKUP'!B:B,0),0),0)","v":0},{"$f":"IFERROR(INDEX('Current Standards'!P:P,MATCH('Sheet Counter'!AI3890,'Current Standards'!O:O,0),0),\"\")","v":""}]
[null,null,0,"","",{"$error":"#VALUE!"},"",{"$f":"IF(I3891=\"\",\"\",LARGE(H$1:H3890,1)+1)","v":{"$error":"#VALUE!"}},{"$error":"#VALUE!"},null,null,null,null,null,3890,0,{"$f":"IF(R3891=\"\",\"\",LARGE(Q$1:Q3890,1)+1)","v":{"$error":"#NUM!"}},{"$error":"#NUM!"},null,null,null,null,null,null,0,{"$error":"#VALUE!"},3999,"","",null,null,null,null,{"$error":"#VALUE!"},{"$error":"#VALUE!"},{"$f":"COUNTIF('Standards LOOKUP'!B:B,AI3891)","v":0},{"$f":"IFERROR(INDEX('Standards LOOKUP'!C:C,MATCH(AI3891,'Standards LOOKUP'!B:B,0),0),0)","v":0},{"$f":"IFERROR(INDEX('Current Standards'!P:P,MATCH('Sheet Counter'!AI3891,'Current Standards'!O:O,0),0),\"\")","v":""}]
[null,null,0,"","",{"$error":"#VALUE!"},"",{"$f":"IF(I3892=\"\",\"\",LARGE(H$1:H3891,1)+1)","v":{"$error":"#VALUE!"}},{"$error":"#VALUE!"},null,null,null,null,null,3891,0,{"$f":"IF(R3892=\"\",\"\",LARGE(Q$1:Q3891,1)+1)","v":{"$error":"#NUM!"}},{"$error":"#NUM!"},null,null,null,null,null,null,0,{"$error":"#VALUE!"},3999,"","",null,null,null,null,{"$error":"#VALUE!"},{"$error":"#VALUE!"},{"$f":"COUNTIF('Standards LOOKUP'!B:B,AI3892)","v":0},{"$f":"IFERROR(INDEX('Standards LOOKUP'!C:C,MATCH(AI3892,'Standards LOOKUP'!B:B,0),0),0)","v":0},{"$f":"IFERROR(INDEX('Current Standards'!P:P,MATCH('Sheet Counter'!AI3892,'Current Standards'!O:O,0),0),\"\")","v":""}]
[null,null,0,"","",{"$error":"#VALUE!"},"",{"$f":"IF(I3893=\"\",\"\",LARGE(H$1:H3892,1)+1)","v":{"$error":"#VALUE!"}},{"$error":"#VALUE!"},null,null,null,null,null,3892,0,{"$f":"IF(R3893=\"\",\"\",LARGE(Q$1:Q3892,1)+1)","v":{"$error":"#NUM!"}},{"$error":"#NUM!"},null,null,null,null,null,null,0,{"$error":"#VALUE!"},3999,"","",null,null,null,null,{"$error":"#VALUE!"},{"$error":"#VALUE!"},{"$f":"COUNTIF('Standards LOOKUP'!B:B,AI3893)","v":0},{"$f":"IFERROR(INDEX('Standards LOOKUP'!C:C,MATCH(AI3893,'Standards LOOKUP'!B:B,0),0),0)","v":0},{"$f":"IFERROR(INDEX('Current Standards'!P:P,MATCH('Sheet Counter'!AI3893,'Current Standards'!O:O,0),0),\"\")","v":""}]
[null,null,0,"","",{"$error":"#VALUE!"},"",{"$f":"IF(I3894=\"\",\"\",LARGE(H$1:H3893,1)+1)","v":{"$error":"#VALUE!"}},{"$error":"#VALUE!"},null,null,null,null,null,3893,0,{"$f":"IF(R3894=\"\",\"\",LARGE(Q$1:Q3893,1)+1)","v":{"$error":"#NUM!"}},{"$error":"#NUM!"},null,null,null,null,null,null,0,{"$error":"#VALUE!"},3999,"","",null,null,null,null,{"$error":"#VALUE!"},{"$error":"#VALUE!"},{"$f":"COUNTIF('Standards LOOKUP'!B:B,AI3894)","v":0},{"$f":"IFERROR(INDEX('Standards LOOKUP'!C:C,MATCH(AI3894,'Standards LOOKUP'!B:B,0),0),0)","v":0},{"$f":"IFERROR(INDEX('Current Standards'!P:P,MATCH('Sheet Counter'!AI3894,'Current Standards'!O:O,0),0),\"\")","v":""}]
[null,null,0,"","",{"$error":"#VALUE!"},"",{"$f":"IF(I3895=\"\",\"\",LARGE(H$1:H3894,1)+1)","v":{"$error":"#VALUE!"}},{"$error":"#VALUE!"},null,null,null,null,null,3894,0,{"$f":"IF(R3895=\"\",\"\",LARGE(Q$1:Q3894,1)+1)","v":{"$error":"#NUM!"}},{"$error":"#NUM!"},null,null,null,null,null,null,0,{"$error":"#VALUE!"},3999,"","",null,null,null,null,{"$error":"#VALUE!"},{"$error":"#VALUE!"},{"$f":"COUNTIF('Standards LOOKUP'!B:B,AI3895)","v":0},{"$f":"IFERROR(INDEX('Standards LOOKUP'!C:C,MATCH(AI3895,'Standards LOOKUP'!B:B,0),0),0)","v":0},{"$f":"IFERROR(INDEX('Current Standards'!P:P,MATCH('Sheet Counter'!AI3895,'Current Standards'!O:O,0),0),\"\")","v":""}]
[null,null,0,"","",{"$error":"#VALUE!"},"",{"$f":"IF(I3896=\"\",\"\",LARGE(H$1:H3895,1)+1)","v":{"$error":"#VALUE!"}},{"$error":"#VALUE!"},null,null,null,null,null,3895,0,{"$f":"IF(R3896=\"\",\"\",LARGE(Q$1:Q3895,1)+1)","v":{"$error":"#NUM!"}},{"$error":"#NUM!"},null,null,null,null,null,null,0,{"$error":"#VALUE!"},3999,"","",null,null,null,null,{"$error":"#VALUE!"},{"$error":"#VALUE!"},{"$f":"COUNTIF('Standards LOOKUP'!B:B,AI3896)","v":0},{"$f":"IFERROR(INDEX('Standards LOOKUP'!C:C,MATCH(AI3896,'Standards LOOKUP'!B:B,0),0),0)","v":0},{"$f":"IFERROR(INDEX('Current Standards'!P:P,MATCH('Sheet Counter'!AI3896,'Current Standards'!O:O,0),0),\"\")","v":""}]
[null,null,0,"","",{"$error":"#VALUE!"},"",{"$f":"IF(I3897=\"\",\"\",LARGE(H$1:H3896,1)+1)","v":{"$error":"#VALUE!"}},{"$error":"#VALUE!"},null,null,null,null,null,3896,0,{"$f":"IF(R3897=\"\",\"\",LARGE(Q$1:Q3896,1)+1)","v":{"$error":"#NUM!"}},{"$error":"#NUM!"},null,null,null,null,null,null,0,{"$error":"#VALUE!"},3999,"","",null,null,null,null,{"$error":"#VALUE!"},{"$error":"#VALUE!"},{"$f":"COUNTIF('Standards LOOKUP'!B:B,AI3897)","v":0},{"$f":"IFERROR(INDEX('Standards LOOKUP'!C:C,MATCH(AI3897,'Standards LOOKUP'!B:B,0),0),0)","v":0},{"$f":"IFERROR(INDEX('Current Standards'!P:P,MATCH('Sheet Counter'!AI3897,'Current Standards'!O:O,0),0),\"\")","v":""}]
[null,null,{"$f":"IF(ISERROR(FIND(\"\\\",A3898)),A3898,RIGHT(A3898,LEN(A3898)-FIND(\"~\",SUBSTITUTE(A3898,\"\\\",\"~\",LEN(A3898)-LEN(SUBSTITUTE(A3898,\"\\\",\"\"))))))","v":0},"","",{"$f":"LEFT(C3898,FIND(\"-\",SUBSTITUTE(SUBSTITUTE(C3898,\"_\",\"-\"),\" \",\"-\"))-1)","v":{"$error":"#VALUE!"}},{"$f":"IF(ISNUMBER(F3898*1),F3898*1,\"\")","v":""},{"$f":"IF(I3898=\"\",\"\",LARGE(H$1:H3897,1)+1)","v":{"$error":"#VALUE!"}},{"$f":"IF(G3898=\"\",F3898,\"\")","v":{"$error":"#VALUE!"}},null,null,null,null,null,3897,{"$f":"COUNTIF(G:G,O3898)","v":0},{"$f":"IF(R3898=\"\",\"\",LARGE(Q$1:Q3897,1)+1)","v":{"$error":"#NUM!"}},{"$error":"#NUM!"},null,null,null,null,null,null,{"$f":"IF(ISERROR(FIND(\"\\\",X3898)),X3898,RIGHT(X3898,LEN(X3898)-FIND(\"~\",SUBSTITUTE(X3898,\"\\\",\"~\",LEN(X3898)-LEN(SUBSTITUTE(X3898,\"\\\",\"\"))))))","v":0},{"$f":"LEFT(Y3898,FIND(\"-\",SUBSTITUTE(SUBSTITUTE(Y3898,\"_\",\"-\"),\" \",\"-\"))-1)","v":{"$error":"#VALUE!"}},{"$f":"COUNTIF(F:F,Z3898)","v":3999},{"$f":"IF(OR(AA3898<1,ISERROR(Z3898)),\"\",INDEX(C:C,MATCH(Z3898,F:F)))","v":""},"",null,null,null,null,{"$error":"#VALUE!"},{"$error":"#VALUE!"},{"$f":"COUNTIF('Standards LOOKUP'!B:B,AI3898)","v":0},{"$f":"IFERROR(INDEX('Standards LOOKUP'!C:C,MATCH(AI3898,'Standards LOOKUP'!B:B,0),0),0)","v":0},{"$f":"IFERROR(INDEX('Current Standards'!P:P,MATCH('Sheet Counter'!AI3898,'Current Standards'!O:O,0),0),\"\")","v":""}]
[null,null,0,"","",{"$error":"#VALUE!"},"",{"$f":"IF(I3899=\"\",\"\",LARGE(H$1:H3898,1)+1)","v":{"$error":"#VALUE!"}},{"$error":"#VALUE!"},null,null,null,null,null,3898,0,{"$f":"IF(R3899=\"\",\"\",LARGE(Q$1:Q3898,1)+1)","v":{"$error":"#NUM!"}},{"$error":"#NUM!"},null,null,null,null,null,null,0,{"$error":"#VALUE!"},3999,"","",null,null,null,null,{"$error":"#VALUE!"},{"$error":"#VALUE!"},{"$f":"COUNTIF('Standards LOOKUP'!B:B,AI3899)","v":0},{"$f":"IFERROR(INDEX('Standards LOOKUP'!C:C,MATCH(AI3899,'Standards LOOKUP'!B:B,0),0),0)","v":0},{"$f":"IFERROR(INDEX('Current Standards'!P:P,MATCH('Sheet Counter'!AI3899,'Current Standards'!O:O,0),0),\"\")","v":""}]
[null,null,0,"","",{"$error":"#VALUE!"},"",{"$f":"IF(I3900=\"\",\"\",LARGE(H$1:H3899,1)+1)","v":{"$error":"#VALUE!"}},{"$error":"#VALUE!"},null,null,null,null,null,3899,0,{"$f":"IF(R3900=\"\",\"\",LARGE(Q$1:Q3899,1)+1)","v":{"$error":"#NUM!"}},{"$error":"#NUM!"},null,null,null,null,null,null,0,{"$error":"#VALUE!"},3999,"","",null,null,null,null,{"$error":"#VALUE!"},{"$error":"#VALUE!"},{"$f":"COUNTIF('Standards LOOKUP'!B:B,AI3900)","v":0},{"$f":"IFERROR(INDEX('Standards LOOKUP'!C:C,MATCH(AI3900,'Standards LOOKUP'!B:B,0),0),0)","v":0},{"$f":"IFERROR(INDEX('Current Standards'!P:P,MATCH('Sheet Counter'!AI3900,'Current Standards'!O:O,0),0),\"\")","v":""}]
[null,null,0,"","",{"$error":"#VALUE!"},"",{"$f":"IF(I3901=\"\",\"\",LARGE(H$1:H3900,1)+1)","v":{"$error":"#VALUE!"}},{"$error":"#VALUE!"},null,null,null,null,null,3900,0,{"$f":"IF(R3901=\"\",\"\",LARGE(Q$1:Q3900,1)+1)","v":{"$error":"#NUM!"}},{"$error":"#NUM!"},null,null,null,null,null,null,0,{"$error":"#VALUE!"},3999,"","",null,null,null,null,{"$error":"#VALUE!"},{"$error":"#VALUE!"},{"$f":"COUNTIF('Standards LOOKUP'!B:B,AI3901)","v":0},{"$f":"IFERROR(INDEX('Standards LOOKUP'!C:C,MATCH(AI3901,'Standards LOOKUP'!B:B,0),0),0)","v":0},{"$f":"IFERROR(INDEX('Current Standards'!P:P,MATCH('Sheet Counter'!AI3901,'Current Standards'!O:O,0),0),\"\")","v":""}]
[null,null,0,"","",{"$error":"#VALUE!"},"",{"$f":"IF(I3902=\"\",\"\",LARGE(H$1:H3901,1)+1)","v":{"$error":"#VALUE!"}},{"$error":"#VALUE!"},null,null,null,null,null,3901,0,{"$f":"IF(R3902=\"\",\"\",LARGE(Q$1:Q3901,1)+1)","v":{"$error":"#NUM!"}},{"$error":"#NUM!"},null,null,null,null,null,null,0,{"$error":"#VALUE!"},3999,"","",null,null,null,null,{"$error":"#VALUE!"},{"$error":"#VALUE!"},{"$f":"COUNTIF('Standards LOOKUP'!B:B,AI3902)","v":0},{"$f":"IFERROR(INDEX('Standards LOOKUP'!C:C,MATCH(AI3902,'Standards LOOKUP'!B:B,0),0),0)","v":0},{"$f":"IFERROR(INDEX('Current Standards'!P:P,MATCH('Sheet Counter'!AI3902,'Current Standards'!O:O,0),0),\"\")","v":""}]
[null,null,0,"","",{"$error":"#VALUE!"},"",{"$f":"IF(I3903=\"\",\"\",LARGE(H$1:H3902,1)+1)","v":{"$error":"#VALUE!"}},{"$error":"#VALUE!"},null,null,null,null,null,3902,0,{"$f":"IF(R3903=\"\",\"\",LARGE(Q$1:Q3902,1)+1)","v":{"$error":"#NUM!"}},{"$error":"#NUM!"},null,null,null,null,null,null,0,{"$error":"#VALUE!"},3999,"","",null,null,null,null,{"$error":"#VALUE!"},{"$error":"#VALUE!"},{"$f":"COUNTIF('Standards LOOKUP'!B:B,AI3903)","v":0},{"$f":"IFERROR(INDEX('Standards LOOKUP'!C:C,MATCH(AI3903,'Standards LOOKUP'!B:B,0),0),0)","v":0},{"$f":"IFERROR(INDEX('Current Standards'!P:P,MATCH('Sheet Counter'!AI3903,'Current Standards'!O:O,0),0),\"\")","v":""}]
[null,null,0,"","",{"$error":"#VALUE!"},"",{"$f":"IF(I3904=\"\",\"\",LARGE(H$1:H3903,1)+1)","v":{"$error":"#VALUE!"}},{"$error":"#VALUE!"},null,null,null,null,null,3903,0,{"$f":"IF(R3904=\"\",\"\",LARGE(Q$1:Q3903,1)+1)","v":{"$error":"#NUM!"}},{"$error":"#NUM!"},null,null,null,null,null,null,0,{"$error":"#VALUE!"},3999,"","",null,null,null,null,{"$error":"#VALUE!"},{"$error":"#VALUE!"},{"$f":"COUNTIF('Standards LOOKUP'!B:B,AI3904)","v":0},{"$f":"IFERROR(INDEX('Standards LOOKUP'!C:C,MATCH(AI3904,'Standards LOOKUP'!B:B,0),0),0)","v":0},{"$f":"IFERROR(INDEX('Current Standards'!P:P,MATCH('Sheet Counter'!AI3904,'Current Standards'!O:O,0),0),\"\")","v":""}]
[null,null,0,"","",{"$error":"#VALUE!"},"",{"$f":"IF(I3905=\"\",\"\",LARGE(H$1:H3904,1)+1)","v":{"$error":"#VALUE!"}},{"$error":"#VALUE!"},null,null,null,null,null,3904,0,{"$f":"IF(R3905=\"\",\"\",LARGE(Q$1:Q3904,1)+1)","v":{"$error":"#NUM!"}},{"$error":"#NUM!"},null,null,null,null,null,null,0,{"$error":"#VALUE!"},3999,"","",null,null,null,null,{"$error":"#VALUE!"},{"$error":"#VALUE!"},{"$f":"COUNTIF('Standards LOOKUP'!B:B,AI3905)","v":0},{"$f":"IFERROR(INDEX('Standards LOOKUP'!C:C,MATCH(AI3905,'Standards LOOKUP'!B:B,0),0),0)","v":0},{"$f":"IFERROR(INDEX('Current Standards'!P:P,MATCH('Sheet Counter'!AI3905,'Current Standards'!O:O,0),0),\"\")","v":""}]
[null,null,0,"","",{"$error":"#VALUE!"},"",{"$f":"IF(I3906=\"\",\"\",LARGE(H$1:H3905,1)+1)","v":{"$error":"#VALUE!"}},{"$error":"#VALUE!"},null,null,null,null,null,3905,0,{"$f":"IF(R3906=\"\",\"\",LARGE(Q$1:Q3905,1)+1)","v":{"$error":"#NUM!"}},{"$error":"#NUM!"},null,null,null,null,null,null,0,{"$error":"#VALUE!"},3999,"","",null,null,null,null,{"$error":"#VALUE!"},{"$error":"#VALUE!"},{"$f":"COUNTIF('Standards LOOKUP'!B:B,AI3906)","v":0},{"$f":"IFERROR(INDEX('Standards LOOKUP'!C:C,MATCH(AI3906,'Standards LOOKUP'!B:B,0),0),0)","v":0},{"$f":"IFERROR(INDEX('Current Standards'!P:P,MATCH('Sheet Counter'!AI3906,'Current Standards'!O:O,0),0),\"\")","v":""}]
[null,null,0,{"$f":"IF(AL3907=\"\",\"\",AL3907)","v":""},"",{"$error":"#VALUE!"},"",{"$f":"IF(I3907=\"\",\"\",LARGE(H$1:H3906,1)+1)","v":{"$error":"#VALUE!"}},{"$error":"#VALUE!"},null,null,null,null,null,3906,0,{"$f":"IF(R3907=\"\",\"\",LARGE(Q$1:Q3906,1)+1)","v":{"$error":"#NUM!"}},{"$error":"#NUM!"},null,null,null,null,null,null,0,{"$error":"#VALUE!"},3999,"",{"$f":"IF(AA3907=0,\"New Sheet\",IF(EXACT(UPPER(Y3907),UPPER(AB3907)),\"Match\",\"\"))","v":""},null,null,null,null,{"$f":"IF(C3907=\"\",\"\",LEFT(RIGHT(C3907,LEN(C3907)-SEARCH(\" \",C3907,1)),LEN(RIGHT(C3907,LEN(C3907)-SEARCH(\" \",C3907,1)))-4))","v":{"$error":"#VALUE!"}},{"$f":"TRIM(SUBSTITUTE(SUBSTITUTE(SUBSTITUTE(SUBSTITUTE(SUBSTITUTE(SUBSTITUTE(AH3907,\"(\",\"\"),\")\",\"\"),\"-\",\"\"),\"&\",\"\"),\" \",\"\",1),\" \",\"\",1))","v":{"$error":"#VALUE!"}},{"$f":"COUNTIF('Standards LOOKUP'!B:B,AI3907)","v":0},{"$f":"IFERROR(INDEX('Standards LOOKUP'!C:C,MATCH(AI3907,'Standards LOOKUP'!B:B,0),0),0)","v":0},{"$f":"IFERROR(INDEX('Current Standards'!P:P,MATCH('Sheet Counter'!AI3907,'Current Standards'!O:O,0),0),\"\")","v":""}]
[null,null,0,"","",{"$error":"#VALUE!"},"",{"$f":"IF(I3908=\"\",\"\",LARGE(H$1:H3907,1)+1)","v":{"$error":"#VALUE!"}},{"$error":"#VALUE!"},null,null,null,null,null,3907,0,{"$f":"IF(R3908=\"\",\"\",LARGE(Q$1:Q3907,1)+1)","v":{"$error":"#NUM!"}},{"$f":"IF(AND(P3908<>1,O3908<=LARGE(G:G,1),O3908>=SMALL(G:G,1)),O3908,\"\")","v":{"$error":"#NUM!"}},null,null,null,null,null,null,0,{"$error":"#VALUE!"},3999,"","",null,null,null,null,{"$error":"#VALUE!"},{"$error":"#VALUE!"},{"$f":"COUNTIF('Standards LOOKUP'!B:B,AI3908)","v":0},{"$f":"IFERROR(INDEX('Standards LOOKUP'!C:C,MATCH(AI3908,'Standards LOOKUP'!B:B,0),0),0)","v":0},{"$f":"IFERROR(INDEX('Current Standards'!P:P,MATCH('Sheet Counter'!AI3908,'Current Standards'!O:O,0),0),\"\")","v":""}]
[null,null,0,"","",{"$error":"#VALUE!"},"",{"$f":"IF(I3909=\"\",\"\",LARGE(H$1:H3908,1)+1)","v":{"$error":"#VALUE!"}},{"$error":"#VALUE!"},null,null,null,null,null,3908,0,{"$f":"IF(R3909=\"\",\"\",LARGE(Q$1:Q3908,1)+1)","v":{"$error":"#NUM!"}},{"$error":"#NUM!"},null,null,null,null,null,null,0,{"$error":"#VALUE!"},3999,"","",null,null,null,null,{"$error":"#VALUE!"},{"$error":"#VALUE!"},{"$f":"COUNTIF('Standards LOOKUP'!B:B,AI3909)","v":0},{"$f":"IFERROR(INDEX('Standards LOOKUP'!C:C,MATCH(AI3909,'Standards LOOKUP'!B:B,0),0),0)","v":0},{"$f":"IFERROR(INDEX('Current Standards'!P:P,MATCH('Sheet Counter'!AI3909,'Current Standards'!O:O,0),0),\"\")","v":""}]
[null,null,0,"","",{"$error":"#VALUE!"},"",{"$f":"IF(I3910=\"\",\"\",LARGE(H$1:H3909,1)+1)","v":{"$error":"#VALUE!"}},{"$error":"#VALUE!"},null,null,null,null,null,3909,0,{"$f":"IF(R3910=\"\",\"\",LARGE(Q$1:Q3909,1)+1)","v":{"$error":"#NUM!"}},{"$error":"#NUM!"},null,null,null,null,null,null,0,{"$error":"#VALUE!"},3999,"","",null,null,null,null,{"$error":"#VALUE!"},{"$error":"#VALUE!"},{"$f":"COUNTIF('Standards LOOKUP'!B:B,AI3910)","v":0},{"$f":"IFERROR(INDEX('Standards LOOKUP'!C:C,MATCH(AI3910,'Standards LOOKUP'!B:B,0),0),0)","v":0},{"$f":"IFERROR(INDEX('Current Standards'!P:P,MATCH('Sheet Counter'!AI3910,'Current Standards'!O:O,0),0),\"\")","v":""}]
[null,null,0,"","",{"$error":"#VALUE!"},"",{"$f":"IF(I3911=\"\",\"\",LARGE(H$1:H3910,1)+1)","v":{"$error":"#VALUE!"}},{"$error":"#VALUE!"},null,null,null,null,null,3910,0,{"$f":"IF(R3911=\"\",\"\",LARGE(Q$1:Q3910,1)+1)","v":{"$error":"#NUM!"}},{"$error":"#NUM!"},null,null,null,null,null,null,0,{"$error":"#VALUE!"},3999,"","",null,null,null,null,{"$error":"#VALUE!"},{"$error":"#VALUE!"},{"$f":"COUNTIF('Standards LOOKUP'!B:B,AI3911)","v":0},{"$f":"IFERROR(INDEX('Standards LOOKUP'!C:C,MATCH(AI3911,'Standards LOOKUP'!B:B,0),0),0)","v":0},{"$f":"IFERROR(INDEX('Current Standards'!P:P,MATCH('Sheet Counter'!AI3911,'Current Standards'!O:O,0),0),\"\")","v":""}]
[null,null,0,"","",{"$error":"#VALUE!"},"",{"$f":"IF(I3912=\"\",\"\",LARGE(H$1:H3911,1)+1)","v":{"$error":"#VALUE!"}},{"$error":"#VALUE!"},null,null,null,null,null,3911,0,{"$f":"IF(R3912=\"\",\"\",LARGE(Q$1:Q3911,1)+1)","v":{"$error":"#NUM!"}},{"$error":"#NUM!"},null,null,null,null,null,null,0,{"$error":"#VALUE!"},3999,"","",null,null,null,null,{"$error":"#VALUE!"},{"$error":"#VALUE!"},{"$f":"COUNTIF('Standards LOOKUP'!B:B,AI3912)","v":0},{"$f":"IFERROR(INDEX('Standards LOOKUP'!C:C,MATCH(AI3912,'Standards LOOKUP'!B:B,0),0),0)","v":0},{"$f":"IFERROR(INDEX('Current Standards'!P:P,MATCH('Sheet Counter'!AI3912,'Current Standards'!O:O,0),0),\"\")","v":""}]
[null,null,0,"","",{"$error":"#VALUE!"},"",{"$f":"IF(I3913=\"\",\"\",LARGE(H$1:H3912,1)+1)","v":{"$error":"#VALUE!"}},{"$error":"#VALUE!"},null,null,null,null,null,3912,0,{"$f":"IF(R3913=\"\",\"\",LARGE(Q$1:Q3912,1)+1)","v":{"$error":"#NUM!"}},{"$error":"#NUM!"},null,null,null,null,null,null,0,{"$error":"#VALUE!"},3999,"","",null,null,null,null,{"$error":"#VALUE!"},{"$error":"#VALUE!"},{"$f":"COUNTIF('Standards LOOKUP'!B:B,AI3913)","v":0},{"$f":"IFERROR(INDEX('Standards LOOKUP'!C:C,MATCH(AI3913,'Standards LOOKUP'!B:B,0),0),0)","v":0},{"$f":"IFERROR(INDEX('Current Standards'!P:P,MATCH('Sheet Counter'!AI3913,'Current Standards'!O:O,0),0),\"\")","v":""}]
[null,null,0,"","",{"$error":"#VALUE!"},"",{"$f":"IF(I3914=\"\",\"\",LARGE(H$1:H3913,1)+1)","v":{"$error":"#VALUE!"}},{"$error":"#VALUE!"},null,null,null,null,null,3913,0,{"$f":"IF(R3914=\"\",\"\",LARGE(Q$1:Q3913,1)+1)","v":{"$error":"#NUM!"}},{"$error":"#NUM!"},null,null,null,null,null,null,0,{"$error":"#VALUE!"},3999,"","",null,null,null,null,{"$error":"#VALUE!"},{"$error":"#VALUE!"},{"$f":"COUNTIF('Standards LOOKUP'!B:B,AI3914)","v":0},{"$f":"IFERROR(INDEX('Standards LOOKUP'!C:C,MATCH(AI3914,'Standards LOOKUP'!B:B,0),0),0)","v":0},{"$f":"IFERROR(INDEX('Current Standards'!P:P,MATCH('Sheet Counter'!AI3914,'Current Standards'!O:O,0),0),\"\")","v":""}]
[null,null,0,"","",{"$error":"#VALUE!"},"",{"$f":"IF(I3915=\"\",\"\",LARGE(H$1:H3914,1)+1)","v":{"$error":"#VALUE!"}},{"$error":"#VALUE!"},null,null,null,null,null,3914,0,{"$f":"IF(R3915=\"\",\"\",LARGE(Q$1:Q3914,1)+1)","v":{"$error":"#NUM!"}},{"$error":"#NUM!"},null,null,null,null,null,null,0,{"$error":"#VALUE!"},3999,"","",null,null,null,null,{"$error":"#VALUE!"},{"$error":"#VALUE!"},{"$f":"COUNTIF('Standards LOOKUP'!B:B,AI3915)","v":0},{"$f":"IFERROR(INDEX('Standards LOOKUP'!C:C,MATCH(AI3915,'Standards LOOKUP'!B:B,0),0),0)","v":0},{"$f":"IFERROR(INDEX('Current Standards'!P:P,MATCH('Sheet Counter'!AI3915,'Current Standards'!O:O,0),0),\"\")","v":""}]
[null,null,0,"","",{"$error":"#VALUE!"},"",{"$f":"IF(I3916=\"\",\"\",LARGE(H$1:H3915,1)+1)","v":{"$error":"#VALUE!"}},{"$error":"#VALUE!"},null,null,null,null,null,3915,0,{"$f":"IF(R3916=\"\",\"\",LARGE(Q$1:Q3915,1)+1)","v":{"$error":"#NUM!"}},{"$error":"#NUM!"},null,null,null,null,null,null,0,{"$error":"#VALUE!"},3999,"","",null,null,null,null,{"$error":"#VALUE!"},{"$error":"#VALUE!"},{"$f":"COUNTIF('Standards LOOKUP'!B:B,AI3916)","v":0},{"$f":"IFERROR(INDEX('Standards LOOKUP'!C:C,MATCH(AI3916,'Standards LOOKUP'!B:B,0),0),0)","v":0},{"$f":"IFERROR(INDEX('Current Standards'!P:P,MATCH('Sheet Counter'!AI3916,'Current Standards'!O:O,0),0),\"\")","v":""}]
[null,null,0,"","",{"$error":"#VALUE!"},"",{"$f":"IF(I3917=\"\",\"\",LARGE(H$1:H3916,1)+1)","v":{"$error":"#VALUE!"}},{"$error":"#VALUE!"},null,null,null,null,null,3916,0,{"$f":"IF(R3917=\"\",\"\",LARGE(Q$1:Q3916,1)+1)","v":{"$error":"#NUM!"}},{"$error":"#NUM!"},null,null,null,null,null,null,0,{"$error":"#VALUE!"},3999,"","",null,null,null,null,{"$error":"#VALUE!"},{"$error":"#VALUE!"},{"$f":"COUNTIF('Standards LOOKUP'!B:B,AI3917)","v":0},{"$f":"IFERROR(INDEX('Standards LOOKUP'!C:C,MATCH(AI3917,'Standards LOOKUP'!B:B,0),0),0)","v":0},{"$f":"IFERROR(INDEX('Current Standards'!P:P,MATCH('Sheet Counter'!AI3917,'Current Standards'!O:O,0),0),\"\")","v":""}]
[null,null,0,"","",{"$error":"#VALUE!"},"",{"$f":"IF(I3918=\"\",\"\",LARGE(H$1:H3917,1)+1)","v":{"$error":"#VALUE!"}},{"$error":"#VALUE!"},null,null,null,null,null,3917,0,{"$f":"IF(R3918=\"\",\"\",LARGE(Q$1:Q3917,1)+1)","v":{"$error":"#NUM!"}},{"$error":"#NUM!"},null,null,null,null,null,null,0,{"$error":"#VALUE!"},3999,"","",null,null,null,null,{"$error":"#VALUE!"},{"$error":"#VALUE!"},{"$f":"COUNTIF('Standards LOOKUP'!B:B,AI3918)","v":0},{"$f":"IFERROR(INDEX('Standards LOOKUP'!C:C,MATCH(AI3918,'Standards LOOKUP'!B:B,0),0),0)","v":0},{"$f":"IFERROR(INDEX('Current Standards'!P:P,MATCH('Sheet Counter'!AI3918,'Current Standards'!O:O,0),0),\"\")","v":""}]
[null,null,0,"","",{"$error":"#VALUE!"},"",{"$f":"IF(I3919=\"\",\"\",LARGE(H$1:H3918,1)+1)","v":{"$error":"#VALUE!"}},{"$error":"#VALUE!"},null,null,null,null,null,3918,0,{"$f":"IF(R3919=\"\",\"\",LARGE(Q$1:Q3918,1)+1)","v":{"$error":"#NUM!"}},{"$error":"#NUM!"},null,null,null,null,null,null,0,{"$error":"#VALUE!"},3999,"","",null,null,null,null,{"$error":"#VALUE!"},{"$error":"#VALUE!"},{"$f":"COUNTIF('Standards LOOKUP'!B:B,AI3919)","v":0},{"$f":"IFERROR(INDEX('Standards LOOKUP'!C:C,MATCH(AI3919,'Standards LOOKUP'!B:B,0),0),0)","v":0},{"$f":"IFERROR(INDEX('Current Standards'!P:P,MATCH('Sheet Counter'!AI3919,'Current Standards'!O:O,0),0),\"\")","v":""}]
[null,null,0,"","",{"$error":"#VALUE!"},"",{"$f":"IF(I3920=\"\",\"\",LARGE(H$1:H3919,1)+1)","v":{"$error":"#VALUE!"}},{"$error":"#VALUE!"},null,null,null,null,null,3919,0,{"$f":"IF(R3920=\"\",\"\",LARGE(Q$1:Q3919,1)+1)","v":{"$error":"#NUM!"}},{"$error":"#NUM!"},null,null,null,null,null,null,0,{"$error":"#VALUE!"},3999,"","",null,null,null,null,{"$error":"#VALUE!"},{"$error":"#VALUE!"},{"$f":"COUNTIF('Standards LOOKUP'!B:B,AI3920)","v":0},{"$f":"IFERROR(INDEX('Standards LOOKUP'!C:C,MATCH(AI3920,'Standards LOOKUP'!B:B,0),0),0)","v":0},{"$f":"IFERROR(INDEX('Current Standards'!P:P,MATCH('Sheet Counter'!AI3920,'Current Standards'!O:O,0),0),\"\")","v":""}]
[null,null,0,"","",{"$error":"#VALUE!"},"",{"$f":"IF(I3921=\"\",\"\",LARGE(H$1:H3920,1)+1)","v":{"$error":"#VALUE!"}},{"$error":"#VALUE!"},null,null,null,null,null,3920,0,{"$f":"IF(R3921=\"\",\"\",LARGE(Q$1:Q3920,1)+1)","v":{"$error":"#NUM!"}},{"$error":"#NUM!"},null,null,null,null,null,null,0,{"$error":"#VALUE!"},3999,"","",null,null,null,null,{"$error":"#VALUE!"},{"$error":"#VALUE!"},{"$f":"COUNTIF('Standards LOOKUP'!B:B,AI3921)","v":0},{"$f":"IFERROR(INDEX('Standards LOOKUP'!C:C,MATCH(AI3921,'Standards LOOKUP'!B:B,0),0),0)","v":0},{"$f":"IFERROR(INDEX('Current Standards'!P:P,MATCH('Sheet Counter'!AI3921,'Current Standards'!O:O,0),0),\"\")","v":""}]
[null,null,0,"","",{"$error":"#VALUE!"},"",{"$f":"IF(I3922=\"\",\"\",LARGE(H$1:H3921,1)+1)","v":{"$error":"#VALUE!"}},{"$error":"#VALUE!"},null,null,null,null,null,3921,0,{"$f":"IF(R3922=\"\",\"\",LARGE(Q$1:Q3921,1)+1)","v":{"$error":"#NUM!"}},{"$error":"#NUM!"},null,null,null,null,null,null,0,{"$error":"#VALUE!"},3999,"","",null,null,null,null,{"$error":"#VALUE!"},{"$error":"#VALUE!"},{"$f":"COUNTIF('Standards LOOKUP'!B:B,AI3922)","v":0},{"$f":"IFERROR(INDEX('Standards LOOKUP'!C:C,MATCH(AI3922,'Standards LOOKUP'!B:B,0),0),0)","v":0},{"$f":"IFERROR(INDEX('Current Standards'!P:P,MATCH('Sheet Counter'!AI3922,'Current Standards'!O:O,0),0),\"\")","v":""}]
[null,null,0,"","",{"$error":"#VALUE!"},"",{"$f":"IF(I3923=\"\",\"\",LARGE(H$1:H3922,1)+1)","v":{"$error":"#VALUE!"}},{"$error":"#VALUE!"},null,null,null,null,null,3922,0,{"$f":"IF(R3923=\"\",\"\",LARGE(Q$1:Q3922,1)+1)","v":{"$error":"#NUM!"}},{"$error":"#NUM!"},null,null,null,null,null,null,0,{"$error":"#VALUE!"},3999,"","",null,null,null,null,{"$error":"#VALUE!"},{"$error":"#VALUE!"},{"$f":"COUNTIF('Standards LOOKUP'!B:B,AI3923)","v":0},{"$f":"IFERROR(INDEX('Standards LOOKUP'!C:C,MATCH(AI3923,'Standards LOOKUP'!B:B,0),0),0)","v":0},{"$f":"IFERROR(INDEX('Current Standards'!P:P,MATCH('Sheet Counter'!AI3923,'Current Standards'!O:O,0),0),\"\")","v":""}]
[null,null,0,"","",{"$error":"#VALUE!"},"",{"$f":"IF(I3924=\"\",\"\",LARGE(H$1:H3923,1)+1)","v":{"$error":"#VALUE!"}},{"$error":"#VALUE!"},null,null,null,null,null,3923,0,{"$f":"IF(R3924=\"\",\"\",LARGE(Q$1:Q3923,1)+1)","v":{"$error":"#NUM!"}},{"$error":"#NUM!"},null,null,null,null,null,null,0,{"$error":"#VALUE!"},3999,"","",null,null,null,null,{"$error":"#VALUE!"},{"$error":"#VALUE!"},{"$f":"COUNTIF('Standards LOOKUP'!B:B,AI3924)","v":0},{"$f":"IFERROR(INDEX('Standards LOOKUP'!C:C,MATCH(AI3924,'Standards LOOKUP'!B:B,0),0),0)","v":0},{"$f":"IFERROR(INDEX('Current Standards'!P:P,MATCH('Sheet Counter'!AI3924,'Current Standards'!O:O,0),0),\"\")","v":""}]
[null,null,0,"","",{"$error":"#VALUE!"},"",{"$f":"IF(I3925=\"\",\"\",LARGE(H$1:H3924,1)+1)","v":{"$error":"#VALUE!"}},{"$error":"#VALUE!"},null,null,null,null,null,3924,0,{"$f":"IF(R3925=\"\",\"\",LARGE(Q$1:Q3924,1)+1)","v":{"$error":"#NUM!"}},{"$error":"#NUM!"},null,null,null,null,null,null,0,{"$error":"#VALUE!"},3999,"","",null,null,null,null,{"$error":"#VALUE!"},{"$error":"#VALUE!"},{"$f":"COUNTIF('Standards LOOKUP'!B:B,AI3925)","v":0},{"$f":"IFERROR(INDEX('Standards LOOKUP'!C:C,MATCH(AI3925,'Standards LOOKUP'!B:B,0),0),0)","v":0},{"$f":"IFERROR(INDEX('Current Standards'!P:P,MATCH('Sheet Counter'!AI3925,'Current Standards'!O:O,0),0),\"\")","v":""}]
[null,null,0,"","",{"$error":"#VALUE!"},"",{"$f":"IF(I3926=\"\",\"\",LARGE(H$1:H3925,1)+1)","v":{"$error":"#VALUE!"}},{"$error":"#VALUE!"},null,null,null,null,null,3925,0,{"$f":"IF(R3926=\"\",\"\",LARGE(Q$1:Q3925,1)+1)","v":{"$error":"#NUM!"}},{"$error":"#NUM!"},null,null,null,null,null,null,0,{"$error":"#VALUE!"},3999,"","",null,null,null,null,{"$error":"#VALUE!"},{"$error":"#VALUE!"},{"$f":"COUNTIF('Standards LOOKUP'!B:B,AI3926)","v":0},{"$f":"IFERROR(INDEX('Standards LOOKUP'!C:C,MATCH(AI3926,'Standards LOOKUP'!B:B,0),0),0)","v":0},{"$f":"IFERROR(INDEX('Current Standards'!P:P,MATCH('Sheet Counter'!AI3926,'Current Standards'!O:O,0),0),\"\")","v":""}]
[null,null,0,"","",{"$error":"#VALUE!"},"",{"$f":"IF(I3927=\"\",\"\",LARGE(H$1:H3926,1)+1)","v":{"$error":"#VALUE!"}},{"$error":"#VALUE!"},null,null,null,null,null,3926,0,{"$f":"IF(R3927=\"\",\"\",LARGE(Q$1:Q3926,1)+1)","v":{"$error":"#NUM!"}},{"$error":"#NUM!"},null,null,null,null,null,null,0,{"$error":"#VALUE!"},3999,"","",null,null,null,null,{"$error":"#VALUE!"},{"$error":"#VALUE!"},{"$f":"COUNTIF('Standards LOOKUP'!B:B,AI3927)","v":0},{"$f":"IFERROR(INDEX('Standards LOOKUP'!C:C,MATCH(AI3927,'Standards LOOKUP'!B:B,0),0),0)","v":0},{"$f":"IFERROR(INDEX('Current Standards'!P:P,MATCH('Sheet Counter'!AI3927,'Current Standards'!O:O,0),0),\"\")","v":""}]
[null,null,0,"","",{"$error":"#VALUE!"},"",{"$f":"IF(I3928=\"\",\"\",LARGE(H$1:H3927,1)+1)","v":{"$error":"#VALUE!"}},{"$error":"#VALUE!"},null,null,null,null,null,3927,0,{"$f":"IF(R3928=\"\",\"\",LARGE(Q$1:Q3927,1)+1)","v":{"$error":"#NUM!"}},{"$error":"#NUM!"},null,null,null,null,null,null,0,{"$error":"#VALUE!"},3999,"","",null,null,null,null,{"$error":"#VALUE!"},{"$error":"#VALUE!"},{"$f":"COUNTIF('Standards LOOKUP'!B:B,AI3928)","v":0},{"$f":"IFERROR(INDEX('Standards LOOKUP'!C:C,MATCH(AI3928,'Standards LOOKUP'!B:B,0),0),0)","v":0},{"$f":"IFERROR(INDEX('Current Standards'!P:P,MATCH('Sheet Counter'!AI3928,'Current Standards'!O:O,0),0),\"\")","v":""}]
[null,null,0,"","",{"$error":"#VALUE!"},"",{"$f":"IF(I3929=\"\",\"\",LARGE(H$1:H3928,1)+1)","v":{"$error":"#VALUE!"}},{"$error":"#VALUE!"},null,null,null,null,null,3928,0,{"$f":"IF(R3929=\"\",\"\",LARGE(Q$1:Q3928,1)+1)","v":{"$error":"#NUM!"}},{"$error":"#NUM!"},null,null,null,null,null,null,0,{"$error":"#VALUE!"},3999,"","",null,null,null,null,{"$error":"#VALUE!"},{"$error":"#VALUE!"},{"$f":"COUNTIF('Standards LOOKUP'!B:B,AI3929)","v":0},{"$f":"IFERROR(INDEX('Standards LOOKUP'!C:C,MATCH(AI3929,'Standards LOOKUP'!B:B,0),0),0)","v":0},{"$f":"IFERROR(INDEX('Current Standards'!P:P,MATCH('Sheet Counter'!AI3929,'Current Standards'!O:O,0),0),\"\")","v":""}]
[null,null,0,"","",{"$error":"#VALUE!"},"",{"$f":"IF(I3930=\"\",\"\",LARGE(H$1:H3929,1)+1)","v":{"$error":"#VALUE!"}},{"$error":"#VALUE!"},null,null,null,null,null,3929,0,{"$f":"IF(R3930=\"\",\"\",LARGE(Q$1:Q3929,1)+1)","v":{"$error":"#NUM!"}},{"$error":"#NUM!"},null,null,null,null,null,null,0,{"$error":"#VALUE!"},3999,"","",null,null,null,null,{"$error":"#VALUE!"},{"$error":"#VALUE!"},{"$f":"COUNTIF('Standards LOOKUP'!B:B,AI3930)","v":0},{"$f":"IFERROR(INDEX('Standards LOOKUP'!C:C,MATCH(AI3930,'Standards LOOKUP'!B:B,0),0),0)","v":0},{"$f":"IFERROR(INDEX('Current Standards'!P:P,MATCH('Sheet Counter'!AI3930,'Current Standards'!O:O,0),0),\"\")","v":""}]
[null,null,0,"","",{"$error":"#VALUE!"},"",{"$f":"IF(I3931=\"\",\"\",LARGE(H$1:H3930,1)+1)","v":{"$error":"#VALUE!"}},{"$error":"#VALUE!"},null,null,null,null,null,3930,0,{"$f":"IF(R3931=\"\",\"\",LARGE(Q$1:Q3930,1)+1)","v":{"$error":"#NUM!"}},{"$error":"#NUM!"},null,null,null,null,null,null,0,{"$error":"#VALUE!"},3999,"","",null,null,null,null,{"$error":"#VALUE!"},{"$error":"#VALUE!"},{"$f":"COUNTIF('Standards LOOKUP'!B:B,AI3931)","v":0},{"$f":"IFERROR(INDEX('Standards LOOKUP'!C:C,MATCH(AI3931,'Standards LOOKUP'!B:B,0),0),0)","v":0},{"$f":"IFERROR(INDEX('Current Standards'!P:P,MATCH('Sheet Counter'!AI3931,'Current Standards'!O:O,0),0),\"\")","v":""}]
[null,null,0,"","",{"$error":"#VALUE!"},"",{"$f":"IF(I3932=\"\",\"\",LARGE(H$1:H3931,1)+1)","v":{"$error":"#VALUE!"}},{"$error":"#VALUE!"},null,null,null,null,null,3931,0,{"$f":"IF(R3932=\"\",\"\",LARGE(Q$1:Q3931,1)+1)","v":{"$error":"#NUM!"}},{"$error":"#NUM!"},null,null,null,null,null,null,0,{"$error":"#VALUE!"},3999,"","",null,null,null,null,{"$error":"#VALUE!"},{"$error":"#VALUE!"},{"$f":"COUNTIF('Standards LOOKUP'!B:B,AI3932)","v":0},{"$f":"IFERROR(INDEX('Standards LOOKUP'!C:C,MATCH(AI3932,'Standards LOOKUP'!B:B,0),0),0)","v":0},{"$f":"IFERROR(INDEX('Current Standards'!P:P,MATCH('Sheet Counter'!AI3932,'Current Standards'!O:O,0),0),\"\")","v":""}]
[null,null,0,"","",{"$error":"#VALUE!"},"",{"$f":"IF(I3933=\"\",\"\",LARGE(H$1:H3932,1)+1)","v":{"$error":"#VALUE!"}},{"$error":"#VALUE!"},null,null,null,null,null,3932,0,{"$f":"IF(R3933=\"\",\"\",LARGE(Q$1:Q3932,1)+1)","v":{"$error":"#NUM!"}},{"$error":"#NUM!"},null,null,null,null,null,null,0,{"$error":"#VALUE!"},3999,"","",null,null,null,null,{"$error":"#VALUE!"},{"$error":"#VALUE!"},{"$f":"COUNTIF('Standards LOOKUP'!B:B,AI3933)","v":0},{"$f":"IFERROR(INDEX('Standards LOOKUP'!C:C,MATCH(AI3933,'Standards LOOKUP'!B:B,0),0),0)","v":0},{"$f":"IFERROR(INDEX('Current Standards'!P:P,MATCH('Sheet Counter'!AI3933,'Current Standards'!O:O,0),0),\"\")","v":""}]
[null,null,0,"","",{"$error":"#VALUE!"},"",{"$f":"IF(I3934=\"\",\"\",LARGE(H$1:H3933,1)+1)","v":{"$error":"#VALUE!"}},{"$error":"#VALUE!"},null,null,null,null,null,3933,0,{"$f":"IF(R3934=\"\",\"\",LARGE(Q$1:Q3933,1)+1)","v":{"$error":"#NUM!"}},{"$error":"#NUM!"},null,null,null,null,null,null,0,{"$error":"#VALUE!"},3999,"","",null,null,null,null,{"$error":"#VALUE!"},{"$error":"#VALUE!"},{"$f":"COUNTIF('Standards LOOKUP'!B:B,AI3934)","v":0},{"$f":"IFERROR(INDEX('Standards LOOKUP'!C:C,MATCH(AI3934,'Standards LOOKUP'!B:B,0),0),0)","v":0},{"$f":"IFERROR(INDEX('Current Standards'!P:P,MATCH('Sheet Counter'!AI3934,'Current Standards'!O:O,0),0),\"\")","v":""}]
[null,null,0,"","",{"$error":"#VALUE!"},"",{"$f":"IF(I3935=\"\",\"\",LARGE(H$1:H3934,1)+1)","v":{"$error":"#VALUE!"}},{"$error":"#VALUE!"},null,null,null,null,null,3934,0,{"$f":"IF(R3935=\"\",\"\",LARGE(Q$1:Q3934,1)+1)","v":{"$error":"#NUM!"}},{"$error":"#NUM!"},null,null,null,null,null,null,0,{"$error":"#VALUE!"},3999,"","",null,null,null,null,{"$error":"#VALUE!"},{"$error":"#VALUE!"},{"$f":"COUNTIF('Standards LOOKUP'!B:B,AI3935)","v":0},{"$f":"IFERROR(INDEX('Standards LOOKUP'!C:C,MATCH(AI3935,'Standards LOOKUP'!B:B,0),0),0)","v":0},{"$f":"IFERROR(INDEX('Current Standards'!P:P,MATCH('Sheet Counter'!AI3935,'Current Standards'!O:O,0),0),\"\")","v":""}]
[null,null,0,"","",{"$error":"#VALUE!"},"",{"$f":"IF(I3936=\"\",\"\",LARGE(H$1:H3935,1)+1)","v":{"$error":"#VALUE!"}},{"$error":"#VALUE!"},null,null,null,null,null,3935,0,{"$f":"IF(R3936=\"\",\"\",LARGE(Q$1:Q3935,1)+1)","v":{"$error":"#NUM!"}},{"$error":"#NUM!"},null,null,null,null,null,null,0,{"$error":"#VALUE!"},3999,"","",null,null,null,null,{"$error":"#VALUE!"},{"$error":"#VALUE!"},{"$f":"COUNTIF('Standards LOOKUP'!B:B,AI3936)","v":0},{"$f":"IFERROR(INDEX('Standards LOOKUP'!C:C,MATCH(AI3936,'Standards LOOKUP'!B:B,0),0),0)","v":0},{"$f":"IFERROR(INDEX('Current Standards'!P:P,MATCH('Sheet Counter'!AI3936,'Current Standards'!O:O,0),0),\"\")","v":""}]
[null,null,0,"","",{"$error":"#VALUE!"},"",{"$f":"IF(I3937=\"\",\"\",LARGE(H$1:H3936,1)+1)","v":{"$error":"#VALUE!"}},{"$error":"#VALUE!"},null,null,null,null,null,3936,0,{"$f":"IF(R3937=\"\",\"\",LARGE(Q$1:Q3936,1)+1)","v":{"$error":"#NUM!"}},{"$error":"#NUM!"},null,null,null,null,null,null,0,{"$error":"#VALUE!"},3999,"","",null,null,null,null,{"$error":"#VALUE!"},{"$error":"#VALUE!"},{"$f":"COUNTIF('Standards LOOKUP'!B:B,AI3937)","v":0},{"$f":"IFERROR(INDEX('Standards LOOKUP'!C:C,MATCH(AI3937,'Standards LOOKUP'!B:B,0),0),0)","v":0},{"$f":"IFERROR(INDEX('Current Standards'!P:P,MATCH('Sheet Counter'!AI3937,'Current Standards'!O:O,0),0),\"\")","v":""}]
[null,null,0,"","",{"$error":"#VALUE!"},"",{"$f":"IF(I3938=\"\",\"\",LARGE(H$1:H3937,1)+1)","v":{"$error":"#VALUE!"}},{"$error":"#VALUE!"},null,null,null,null,null,3937,0,{"$f":"IF(R3938=\"\",\"\",LARGE(Q$1:Q3937,1)+1)","v":{"$error":"#NUM!"}},{"$error":"#NUM!"},null,null,null,null,null,null,0,{"$error":"#VALUE!"},3999,"","",null,null,null,null,{"$error":"#VALUE!"},{"$error":"#VALUE!"},{"$f":"COUNTIF('Standards LOOKUP'!B:B,AI3938)","v":0},{"$f":"IFERROR(INDEX('Standards LOOKUP'!C:C,MATCH(AI3938,'Standards LOOKUP'!B:B,0),0),0)","v":0},{"$f":"IFERROR(INDEX('Current Standards'!P:P,MATCH('Sheet Counter'!AI3938,'Current Standards'!O:O,0),0),\"\")","v":""}]
[null,null,0,"","",{"$error":"#VALUE!"},"",{"$f":"IF(I3939=\"\",\"\",LARGE(H$1:H3938,1)+1)","v":{"$error":"#VALUE!"}},{"$error":"#VALUE!"},null,null,null,null,null,3938,0,{"$f":"IF(R3939=\"\",\"\",LARGE(Q$1:Q3938,1)+1)","v":{"$error":"#NUM!"}},{"$error":"#NUM!"},null,null,null,null,null,null,0,{"$error":"#VALUE!"},3999,"","",null,null,null,null,{"$error":"#VALUE!"},{"$error":"#VALUE!"},{"$f":"COUNTIF('Standards LOOKUP'!B:B,AI3939)","v":0},{"$f":"IFERROR(INDEX('Standards LOOKUP'!C:C,MATCH(AI3939,'Standards LOOKUP'!B:B,0),0),0)","v":0},{"$f":"IFERROR(INDEX('Current Standards'!P:P,MATCH('Sheet Counter'!AI3939,'Current Standards'!O:O,0),0),\"\")","v":""}]
[null,null,0,"","",{"$error":"#VALUE!"},"",{"$f":"IF(I3940=\"\",\"\",LARGE(H$1:H3939,1)+1)","v":{"$error":"#VALUE!"}},{"$error":"#VALUE!"},null,null,null,null,null,3939,0,{"$f":"IF(R3940=\"\",\"\",LARGE(Q$1:Q3939,1)+1)","v":{"$error":"#NUM!"}},{"$error":"#NUM!"},null,null,null,null,null,null,0,{"$error":"#VALUE!"},3999,"","",null,null,null,null,{"$error":"#VALUE!"},{"$error":"#VALUE!"},{"$f":"COUNTIF('Standards LOOKUP'!B:B,AI3940)","v":0},{"$f":"IFERROR(INDEX('Standards LOOKUP'!C:C,MATCH(AI3940,'Standards LOOKUP'!B:B,0),0),0)","v":0},{"$f":"IFERROR(INDEX('Current Standards'!P:P,MATCH('Sheet Counter'!AI3940,'Current Standards'!O:O,0),0),\"\")","v":""}]
[null,null,0,"","",{"$error":"#VALUE!"},"",{"$f":"IF(I3941=\"\",\"\",LARGE(H$1:H3940,1)+1)","v":{"$error":"#VALUE!"}},{"$error":"#VALUE!"},null,null,null,null,null,3940,0,{"$f":"IF(R3941=\"\",\"\",LARGE(Q$1:Q3940,1)+1)","v":{"$error":"#NUM!"}},{"$error":"#NUM!"},null,null,null,null,null,null,0,{"$error":"#VALUE!"},3999,"","",null,null,null,null,{"$error":"#VALUE!"},{"$error":"#VALUE!"},{"$f":"COUNTIF('Standards LOOKUP'!B:B,AI3941)","v":0},{"$f":"IFERROR(INDEX('Standards LOOKUP'!C:C,MATCH(AI3941,'Standards LOOKUP'!B:B,0),0),0)","v":0},{"$f":"IFERROR(INDEX('Current Standards'!P:P,MATCH('Sheet Counter'!AI3941,'Current Standards'!O:O,0),0),\"\")","v":""}]
[null,null,0,"","",{"$error":"#VALUE!"},"",{"$f":"IF(I3942=\"\",\"\",LARGE(H$1:H3941,1)+1)","v":{"$error":"#VALUE!"}},{"$error":"#VALUE!"},null,null,null,null,null,3941,0,{"$f":"IF(R3942=\"\",\"\",LARGE(Q$1:Q3941,1)+1)","v":{"$error":"#NUM!"}},{"$error":"#NUM!"},null,null,null,null,null,null,0,{"$error":"#VALUE!"},3999,"","",null,null,null,null,{"$error":"#VALUE!"},{"$error":"#VALUE!"},{"$f":"COUNTIF('Standards LOOKUP'!B:B,AI3942)","v":0},{"$f":"IFERROR(INDEX('Standards LOOKUP'!C:C,MATCH(AI3942,'Standards LOOKUP'!B:B,0),0),0)","v":0},{"$f":"IFERROR(INDEX('Current Standards'!P:P,MATCH('Sheet Counter'!AI3942,'Current Standards'!O:O,0),0),\"\")","v":""}]
[null,null,0,"","",{"$error":"#VALUE!"},"",{"$f":"IF(I3943=\"\",\"\",LARGE(H$1:H3942,1)+1)","v":{"$error":"#VALUE!"}},{"$error":"#VALUE!"},null,null,null,null,null,3942,0,{"$f":"IF(R3943=\"\",\"\",LARGE(Q$1:Q3942,1)+1)","v":{"$error":"#NUM!"}},{"$error":"#NUM!"},null,null,null,null,null,null,0,{"$error":"#VALUE!"},3999,"","",null,null,null,null,{"$error":"#VALUE!"},{"$error":"#VALUE!"},{"$f":"COUNTIF('Standards LOOKUP'!B:B,AI3943)","v":0},{"$f":"IFERROR(INDEX('Standards LOOKUP'!C:C,MATCH(AI3943,'Standards LOOKUP'!B:B,0),0),0)","v":0},{"$f":"IFERROR(INDEX('Current Standards'!P:P,MATCH('Sheet Counter'!AI3943,'Current Standards'!O:O,0),0),\"\")","v":""}]
[null,null,0,"","",{"$error":"#VALUE!"},"",{"$f":"IF(I3944=\"\",\"\",LARGE(H$1:H3943,1)+1)","v":{"$error":"#VALUE!"}},{"$error":"#VALUE!"},null,null,null,null,null,3943,0,{"$f":"IF(R3944=\"\",\"\",LARGE(Q$1:Q3943,1)+1)","v":{"$error":"#NUM!"}},{"$error":"#NUM!"},null,null,null,null,null,null,0,{"$error":"#VALUE!"},3999,"","",null,null,null,null,{"$error":"#VALUE!"},{"$error":"#VALUE!"},{"$f":"COUNTIF('Standards LOOKUP'!B:B,AI3944)","v":0},{"$f":"IFERROR(INDEX('Standards LOOKUP'!C:C,MATCH(AI3944,'Standards LOOKUP'!B:B,0),0),0)","v":0},{"$f":"IFERROR(INDEX('Current Standards'!P:P,MATCH('Sheet Counter'!AI3944,'Current Standards'!O:O,0),0),\"\")","v":""}]
[null,null,0,"","",{"$error":"#VALUE!"},"",{"$f":"IF(I3945=\"\",\"\",LARGE(H$1:H3944,1)+1)","v":{"$error":"#VALUE!"}},{"$error":"#VALUE!"},null,null,null,null,null,3944,0,{"$f":"IF(R3945=\"\",\"\",LARGE(Q$1:Q3944,1)+1)","v":{"$error":"#NUM!"}},{"$error":"#NUM!"},null,null,null,null,null,null,0,{"$error":"#VALUE!"},3999,"","",null,null,null,null,{"$error":"#VALUE!"},{"$error":"#VALUE!"},{"$f":"COUNTIF('Standards LOOKUP'!B:B,AI3945)","v":0},{"$f":"IFERROR(INDEX('Standards LOOKUP'!C:C,MATCH(AI3945,'Standards LOOKUP'!B:B,0),0),0)","v":0},{"$f":"IFERROR(INDEX('Current Standards'!P:P,MATCH('Sheet Counter'!AI3945,'Current Standards'!O:O,0),0),\"\")","v":""}]
[null,null,0,"","",{"$error":"#VALUE!"},"",{"$f":"IF(I3946=\"\",\"\",LARGE(H$1:H3945,1)+1)","v":{"$error":"#VALUE!"}},{"$error":"#VALUE!"},null,null,null,null,null,3945,0,{"$f":"IF(R3946=\"\",\"\",LARGE(Q$1:Q3945,1)+1)","v":{"$error":"#NUM!"}},{"$error":"#NUM!"},null,null,null,null,null,null,0,{"$error":"#VALUE!"},3999,"","",null,null,null,null,{"$error":"#VALUE!"},{"$error":"#VALUE!"},{"$f":"COUNTIF('Standards LOOKUP'!B:B,AI3946)","v":0},{"$f":"IFERROR(INDEX('Standards LOOKUP'!C:C,MATCH(AI3946,'Standards LOOKUP'!B:B,0),0),0)","v":0},{"$f":"IFERROR(INDEX('Current Standards'!P:P,MATCH('Sheet Counter'!AI3946,'Current Standards'!O:O,0),0),\"\")","v":""}]
[null,null,0,"","",{"$error":"#VALUE!"},"",{"$f":"IF(I3947=\"\",\"\",LARGE(H$1:H3946,1)+1)","v":{"$error":"#VALUE!"}},{"$error":"#VALUE!"},null,null,null,null,null,3946,0,{"$f":"IF(R3947=\"\",\"\",LARGE(Q$1:Q3946,1)+1)","v":{"$error":"#NUM!"}},{"$error":"#NUM!"},null,null,null,null,null,null,0,{"$error":"#VALUE!"},3999,"","",null,null,null,null,{"$error":"#VALUE!"},{"$error":"#VALUE!"},{"$f":"COUNTIF('Standards LOOKUP'!B:B,AI3947)","v":0},{"$f":"IFERROR(INDEX('Standards LOOKUP'!C:C,MATCH(AI3947,'Standards LOOKUP'!B:B,0),0),0)","v":0},{"$f":"IFERROR(INDEX('Current Standards'!P:P,MATCH('Sheet Counter'!AI3947,'Current Standards'!O:O,0),0),\"\")","v":""}]
[null,null,0,"","",{"$error":"#VALUE!"},"",{"$f":"IF(I3948=\"\",\"\",LARGE(H$1:H3947,1)+1)","v":{"$error":"#VALUE!"}},{"$error":"#VALUE!"},null,null,null,null,null,3947,0,{"$f":"IF(R3948=\"\",\"\",LARGE(Q$1:Q3947,1)+1)","v":{"$error":"#NUM!"}},{"$error":"#NUM!"},null,null,null,null,null,null,0,{"$error":"#VALUE!"},3999,"","",null,null,null,null,{"$error":"#VALUE!"},{"$error":"#VALUE!"},{"$f":"COUNTIF('Standards LOOKUP'!B:B,AI3948)","v":0},{"$f":"IFERROR(INDEX('Standards LOOKUP'!C:C,MATCH(AI3948,'Standards LOOKUP'!B:B,0),0),0)","v":0},{"$f":"IFERROR(INDEX('Current Standards'!P:P,MATCH('Sheet Counter'!AI3948,'Current Standards'!O:O,0),0),\"\")","v":""}]
[null,null,0,"","",{"$error":"#VALUE!"},"",{"$f":"IF(I3949=\"\",\"\",LARGE(H$1:H3948,1)+1)","v":{"$error":"#VALUE!"}},{"$error":"#VALUE!"},null,null,null,null,null,3948,0,{"$f":"IF(R3949=\"\",\"\",LARGE(Q$1:Q3948,1)+1)","v":{"$error":"#NUM!"}},{"$error":"#NUM!"},null,null,null,null,null,null,0,{"$error":"#VALUE!"},3999,"","",null,null,null,null,{"$error":"#VALUE!"},{"$error":"#VALUE!"},{"$f":"COUNTIF('Standards LOOKUP'!B:B,AI3949)","v":0},{"$f":"IFERROR(INDEX('Standards LOOKUP'!C:C,MATCH(AI3949,'Standards LOOKUP'!B:B,0),0),0)","v":0},{"$f":"IFERROR(INDEX('Current Standards'!P:P,MATCH('Sheet Counter'!AI3949,'Current Standards'!O:O,0),0),\"\")","v":""}]
[null,null,0,"","",{"$error":"#VALUE!"},"",{"$f":"IF(I3950=\"\",\"\",LARGE(H$1:H3949,1)+1)","v":{"$error":"#VALUE!"}},{"$error":"#VALUE!"},null,null,null,null,null,3949,0,{"$f":"IF(R3950=\"\",\"\",LARGE(Q$1:Q3949,1)+1)","v":{"$error":"#NUM!"}},{"$error":"#NUM!"},null,null,null,null,null,null,0,{"$error":"#VALUE!"},3999,"","",null,null,null,null,{"$error":"#VALUE!"},{"$error":"#VALUE!"},{"$f":"COUNTIF('Standards LOOKUP'!B:B,AI3950)","v":0},{"$f":"IFERROR(INDEX('Standards LOOKUP'!C:C,MATCH(AI3950,'Standards LOOKUP'!B:B,0),0),0)","v":0},{"$f":"IFERROR(INDEX('Current Standards'!P:P,MATCH('Sheet Counter'!AI3950,'Current Standards'!O:O,0),0),\"\")","v":""}]
[null,null,0,"","",{"$error":"#VALUE!"},"",{"$f":"IF(I3951=\"\",\"\",LARGE(H$1:H3950,1)+1)","v":{"$error":"#VALUE!"}},{"$error":"#VALUE!"},null,null,null,null,null,3950,0,{"$f":"IF(R3951=\"\",\"\",LARGE(Q$1:Q3950,1)+1)","v":{"$error":"#NUM!"}},{"$error":"#NUM!"},null,null,null,null,null,null,0,{"$error":"#VALUE!"},3999,"","",null,null,null,null,{"$error":"#VALUE!"},{"$error":"#VALUE!"},{"$f":"COUNTIF('Standards LOOKUP'!B:B,AI3951)","v":0},{"$f":"IFERROR(INDEX('Standards LOOKUP'!C:C,MATCH(AI3951,'Standards LOOKUP'!B:B,0),0),0)","v":0},{"$f":"IFERROR(INDEX('Current Standards'!P:P,MATCH('Sheet Counter'!AI3951,'Current Standards'!O:O,0),0),\"\")","v":""}]
[null,null,0,"","",{"$error":"#VALUE!"},"",{"$f":"IF(I3952=\"\",\"\",LARGE(H$1:H3951,1)+1)","v":{"$error":"#VALUE!"}},{"$error":"#VALUE!"},null,null,null,null,null,3951,0,{"$f":"IF(R3952=\"\",\"\",LARGE(Q$1:Q3951,1)+1)","v":{"$error":"#NUM!"}},{"$error":"#NUM!"},null,null,null,null,null,null,0,{"$error":"#VALUE!"},3999,"","",null,null,null,null,{"$error":"#VALUE!"},{"$error":"#VALUE!"},{"$f":"COUNTIF('Standards LOOKUP'!B:B,AI3952)","v":0},{"$f":"IFERROR(INDEX('Standards LOOKUP'!C:C,MATCH(AI3952,'Standards LOOKUP'!B:B,0),0),0)","v":0},{"$f":"IFERROR(INDEX('Current Standards'!P:P,MATCH('Sheet Counter'!AI3952,'Current Standards'!O:O,0),0),\"\")","v":""}]
[null,null,0,"","",{"$error":"#VALUE!"},"",{"$f":"IF(I3953=\"\",\"\",LARGE(H$1:H3952,1)+1)","v":{"$error":"#VALUE!"}},{"$error":"#VALUE!"},null,null,null,null,null,3952,0,{"$f":"IF(R3953=\"\",\"\",LARGE(Q$1:Q3952,1)+1)","v":{"$error":"#NUM!"}},{"$error":"#NUM!"},null,null,null,null,null,null,0,{"$error":"#VALUE!"},3999,"","",null,null,null,null,{"$error":"#VALUE!"},{"$error":"#VALUE!"},{"$f":"COUNTIF('Standards LOOKUP'!B:B,AI3953)","v":0},{"$f":"IFERROR(INDEX('Standards LOOKUP'!C:C,MATCH(AI3953,'Standards LOOKUP'!B:B,0),0),0)","v":0},{"$f":"IFERROR(INDEX('Current Standards'!P:P,MATCH('Sheet Counter'!AI3953,'Current Standards'!O:O,0),0),\"\")","v":""}]
[null,null,0,"","",{"$error":"#VALUE!"},"",{"$f":"IF(I3954=\"\",\"\",LARGE(H$1:H3953,1)+1)","v":{"$error":"#VALUE!"}},{"$error":"#VALUE!"},null,null,null,null,null,3953,0,{"$f":"IF(R3954=\"\",\"\",LARGE(Q$1:Q3953,1)+1)","v":{"$error":"#NUM!"}},{"$error":"#NUM!"},null,null,null,null,null,null,0,{"$error":"#VALUE!"},3999,"","",null,null,null,null,{"$error":"#VALUE!"},{"$error":"#VALUE!"},{"$f":"COUNTIF('Standards LOOKUP'!B:B,AI3954)","v":0},{"$f":"IFERROR(INDEX('Standards LOOKUP'!C:C,MATCH(AI3954,'Standards LOOKUP'!B:B,0),0),0)","v":0},{"$f":"IFERROR(INDEX('Current Standards'!P:P,MATCH('Sheet Counter'!AI3954,'Current Standards'!O:O,0),0),\"\")","v":""}]
[null,null,0,"","",{"$error":"#VALUE!"},"",{"$f":"IF(I3955=\"\",\"\",LARGE(H$1:H3954,1)+1)","v":{"$error":"#VALUE!"}},{"$error":"#VALUE!"},null,null,null,null,null,3954,0,{"$f":"IF(R3955=\"\",\"\",LARGE(Q$1:Q3954,1)+1)","v":{"$error":"#NUM!"}},{"$error":"#NUM!"},null,null,null,null,null,null,0,{"$error":"#VALUE!"},3999,"","",null,null,null,null,{"$error":"#VALUE!"},{"$error":"#VALUE!"},{"$f":"COUNTIF('Standards LOOKUP'!B:B,AI3955)","v":0},{"$f":"IFERROR(INDEX('Standards LOOKUP'!C:C,MATCH(AI3955,'Standards LOOKUP'!B:B,0),0),0)","v":0},{"$f":"IFERROR(INDEX('Current Standards'!P:P,MATCH('Sheet Counter'!AI3955,'Current Standards'!O:O,0),0),\"\")","v":""}]
[null,null,0,"","",{"$error":"#VALUE!"},"",{"$f":"IF(I3956=\"\",\"\",LARGE(H$1:H3955,1)+1)","v":{"$error":"#VALUE!"}},{"$error":"#VALUE!"},null,null,null,null,null,3955,0,{"$f":"IF(R3956=\"\",\"\",LARGE(Q$1:Q3955,1)+1)","v":{"$error":"#NUM!"}},{"$error":"#NUM!"},null,null,null,null,null,null,0,{"$error":"#VALUE!"},3999,"","",null,null,null,null,{"$error":"#VALUE!"},{"$error":"#VALUE!"},{"$f":"COUNTIF('Standards LOOKUP'!B:B,AI3956)","v":0},{"$f":"IFERROR(INDEX('Standards LOOKUP'!C:C,MATCH(AI3956,'Standards LOOKUP'!B:B,0),0),0)","v":0},{"$f":"IFERROR(INDEX('Current Standards'!P:P,MATCH('Sheet Counter'!AI3956,'Current Standards'!O:O,0),0),\"\")","v":""}]
[null,null,0,"","",{"$error":"#VALUE!"},"",{"$f":"IF(I3957=\"\",\"\",LARGE(H$1:H3956,1)+1)","v":{"$error":"#VALUE!"}},{"$error":"#VALUE!"},null,null,null,null,null,3956,0,{"$f":"IF(R3957=\"\",\"\",LARGE(Q$1:Q3956,1)+1)","v":{"$error":"#NUM!"}},{"$error":"#NUM!"},null,null,null,null,null,null,0,{"$error":"#VALUE!"},3999,"","",null,null,null,null,{"$error":"#VALUE!"},{"$error":"#VALUE!"},{"$f":"COUNTIF('Standards LOOKUP'!B:B,AI3957)","v":0},{"$f":"IFERROR(INDEX('Standards LOOKUP'!C:C,MATCH(AI3957,'Standards LOOKUP'!B:B,0),0),0)","v":0},{"$f":"IFERROR(INDEX('Current Standards'!P:P,MATCH('Sheet Counter'!AI3957,'Current Standards'!O:O,0),0),\"\")","v":""}]
[null,null,0,"","",{"$error":"#VALUE!"},"",{"$f":"IF(I3958=\"\",\"\",LARGE(H$1:H3957,1)+1)","v":{"$error":"#VALUE!"}},{"$error":"#VALUE!"},null,null,null,null,null,3957,0,{"$f":"IF(R3958=\"\",\"\",LARGE(Q$1:Q3957,1)+1)","v":{"$error":"#NUM!"}},{"$error":"#NUM!"},null,null,null,null,null,null,0,{"$error":"#VALUE!"},3999,"","",null,null,null,null,{"$error":"#VALUE!"},{"$error":"#VALUE!"},{"$f":"COUNTIF('Standards LOOKUP'!B:B,AI3958)","v":0},{"$f":"IFERROR(INDEX('Standards LOOKUP'!C:C,MATCH(AI3958,'Standards LOOKUP'!B:B,0),0),0)","v":0},{"$f":"IFERROR(INDEX('Current Standards'!P:P,MATCH('Sheet Counter'!AI3958,'Current Standards'!O:O,0),0),\"\")","v":""}]
[null,null,0,"","",{"$error":"#VALUE!"},"",{"$f":"IF(I3959=\"\",\"\",LARGE(H$1:H3958,1)+1)","v":{"$error":"#VALUE!"}},{"$error":"#VALUE!"},null,null,null,null,null,3958,0,{"$f":"IF(R3959=\"\",\"\",LARGE(Q$1:Q3958,1)+1)","v":{"$error":"#NUM!"}},{"$error":"#NUM!"},null,null,null,null,null,null,0,{"$error":"#VALUE!"},3999,"","",null,null,null,null,{"$error":"#VALUE!"},{"$error":"#VALUE!"},{"$f":"COUNTIF('Standards LOOKUP'!B:B,AI3959)","v":0},{"$f":"IFERROR(INDEX('Standards LOOKUP'!C:C,MATCH(AI3959,'Standards LOOKUP'!B:B,0),0),0)","v":0},{"$f":"IFERROR(INDEX('Current Standards'!P:P,MATCH('Sheet Counter'!AI3959,'Current Standards'!O:O,0),0),\"\")","v":""}]
[null,null,0,"","",{"$error":"#VALUE!"},"",{"$f":"IF(I3960=\"\",\"\",LARGE(H$1:H3959,1)+1)","v":{"$error":"#VALUE!"}},{"$error":"#VALUE!"},null,null,null,null,null,3959,0,{"$f":"IF(R3960=\"\",\"\",LARGE(Q$1:Q3959,1)+1)","v":{"$error":"#NUM!"}},{"$error":"#NUM!"},null,null,null,null,null,null,0,{"$error":"#VALUE!"},3999,"","",null,null,null,null,{"$error":"#VALUE!"},{"$error":"#VALUE!"},{"$f":"COUNTIF('Standards LOOKUP'!B:B,AI3960)","v":0},{"$f":"IFERROR(INDEX('Standards LOOKUP'!C:C,MATCH(AI3960,'Standards LOOKUP'!B:B,0),0),0)","v":0},{"$f":"IFERROR(INDEX('Current Standards'!P:P,MATCH('Sheet Counter'!AI3960,'Current Standards'!O:O,0),0),\"\")","v":""}]
[null,null,0,"","",{"$error":"#VALUE!"},"",{"$f":"IF(I3961=\"\",\"\",LARGE(H$1:H3960,1)+1)","v":{"$error":"#VALUE!"}},{"$error":"#VALUE!"},null,null,null,null,null,3960,0,{"$f":"IF(R3961=\"\",\"\",LARGE(Q$1:Q3960,1)+1)","v":{"$error":"#NUM!"}},{"$error":"#NUM!"},null,null,null,null,null,null,0,{"$error":"#VALUE!"},3999,"","",null,null,null,null,{"$error":"#VALUE!"},{"$error":"#VALUE!"},{"$f":"COUNTIF('Standards LOOKUP'!B:B,AI3961)","v":0},{"$f":"IFERROR(INDEX('Standards LOOKUP'!C:C,MATCH(AI3961,'Standards LOOKUP'!B:B,0),0),0)","v":0},{"$f":"IFERROR(INDEX('Current Standards'!P:P,MATCH('Sheet Counter'!AI3961,'Current Standards'!O:O,0),0),\"\")","v":""}]
[null,null,{"$f":"IF(ISERROR(FIND(\"\\\",A3962)),A3962,RIGHT(A3962,LEN(A3962)-FIND(\"~\",SUBSTITUTE(A3962,\"\\\",\"~\",LEN(A3962)-LEN(SUBSTITUTE(A3962,\"\\\",\"\"))))))","v":0},"","",{"$f":"LEFT(C3962,FIND(\"-\",SUBSTITUTE(SUBSTITUTE(C3962,\"_\",\"-\"),\" \",\"-\"))-1)","v":{"$error":"#VALUE!"}},{"$f":"IF(ISNUMBER(F3962*1),F3962*1,\"\")","v":""},{"$f":"IF(I3962=\"\",\"\",LARGE(H$1:H3961,1)+1)","v":{"$error":"#VALUE!"}},{"$f":"IF(G3962=\"\",F3962,\"\")","v":{"$error":"#VALUE!"}},null,null,null,null,null,3961,{"$f":"COUNTIF(G:G,O3962)","v":0},{"$f":"IF(R3962=\"\",\"\",LARGE(Q$1:Q3961,1)+1)","v":{"$error":"#NUM!"}},{"$error":"#NUM!"},null,null,null,null,null,null,{"$f":"IF(ISERROR(FIND(\"\\\",X3962)),X3962,RIGHT(X3962,LEN(X3962)-FIND(\"~\",SUBSTITUTE(X3962,\"\\\",\"~\",LEN(X3962)-LEN(SUBSTITUTE(X3962,\"\\\",\"\"))))))","v":0},{"$f":"LEFT(Y3962,FIND(\"-\",SUBSTITUTE(SUBSTITUTE(Y3962,\"_\",\"-\"),\" \",\"-\"))-1)","v":{"$error":"#VALUE!"}},{"$f":"COUNTIF(F:F,Z3962)","v":3999},{"$f":"IF(OR(AA3962<1,ISERROR(Z3962)),\"\",INDEX(C:C,MATCH(Z3962,F:F)))","v":""},"",null,null,null,null,{"$error":"#VALUE!"},{"$error":"#VALUE!"},{"$f":"COUNTIF('Standards LOOKUP'!B:B,AI3962)","v":0},{"$f":"IFERROR(INDEX('Standards LOOKUP'!C:C,MATCH(AI3962,'Standards LOOKUP'!B:B,0),0),0)","v":0},{"$f":"IFERROR(INDEX('Current Standards'!P:P,MATCH('Sheet Counter'!AI3962,'Current Standards'!O:O,0),0),\"\")","v":""}]
[null,null,0,"","",{"$error":"#VALUE!"},"",{"$f":"IF(I3963=\"\",\"\",LARGE(H$1:H3962,1)+1)","v":{"$error":"#VALUE!"}},{"$error":"#VALUE!"},null,null,null,null,null,3962,0,{"$f":"IF(R3963=\"\",\"\",LARGE(Q$1:Q3962,1)+1)","v":{"$error":"#NUM!"}},{"$error":"#NUM!"},null,null,null,null,null,null,0,{"$error":"#VALUE!"},3999,"","",null,null,null,null,{"$error":"#VALUE!"},{"$error":"#VALUE!"},{"$f":"COUNTIF('Standards LOOKUP'!B:B,AI3963)","v":0},{"$f":"IFERROR(INDEX('Standards LOOKUP'!C:C,MATCH(AI3963,'Standards LOOKUP'!B:B,0),0),0)","v":0},{"$f":"IFERROR(INDEX('Current Standards'!P:P,MATCH('Sheet Counter'!AI3963,'Current Standards'!O:O,0),0),\"\")","v":""}]
[null,null,0,"","",{"$error":"#VALUE!"},"",{"$f":"IF(I3964=\"\",\"\",LARGE(H$1:H3963,1)+1)","v":{"$error":"#VALUE!"}},{"$error":"#VALUE!"},null,null,null,null,null,3963,0,{"$f":"IF(R3964=\"\",\"\",LARGE(Q$1:Q3963,1)+1)","v":{"$error":"#NUM!"}},{"$error":"#NUM!"},null,null,null,null,null,null,0,{"$error":"#VALUE!"},3999,"","",null,null,null,null,{"$error":"#VALUE!"},{"$error":"#VALUE!"},{"$f":"COUNTIF('Standards LOOKUP'!B:B,AI3964)","v":0},{"$f":"IFERROR(INDEX('Standards LOOKUP'!C:C,MATCH(AI3964,'Standards LOOKUP'!B:B,0),0),0)","v":0},{"$f":"IFERROR(INDEX('Current Standards'!P:P,MATCH('Sheet Counter'!AI3964,'Current Standards'!O:O,0),0),\"\")","v":""}]
[null,null,0,"","",{"$error":"#VALUE!"},"",{"$f":"IF(I3965=\"\",\"\",LARGE(H$1:H3964,1)+1)","v":{"$error":"#VALUE!"}},{"$error":"#VALUE!"},null,null,null,null,null,3964,0,{"$f":"IF(R3965=\"\",\"\",LARGE(Q$1:Q3964,1)+1)","v":{"$error":"#NUM!"}},{"$error":"#NUM!"},null,null,null,null,null,null,0,{"$error":"#VALUE!"},3999,"","",null,null,null,null,{"$error":"#VALUE!"},{"$error":"#VALUE!"},{"$f":"COUNTIF('Standards LOOKUP'!B:B,AI3965)","v":0},{"$f":"IFERROR(INDEX('Standards LOOKUP'!C:C,MATCH(AI3965,'Standards LOOKUP'!B:B,0),0),0)","v":0},{"$f":"IFERROR(INDEX('Current Standards'!P:P,MATCH('Sheet Counter'!AI3965,'Current Standards'!O:O,0),0),\"\")","v":""}]
[null,null,0,"","",{"$error":"#VALUE!"},"",{"$f":"IF(I3966=\"\",\"\",LARGE(H$1:H3965,1)+1)","v":{"$error":"#VALUE!"}},{"$error":"#VALUE!"},null,null,null,null,null,3965,0,{"$f":"IF(R3966=\"\",\"\",LARGE(Q$1:Q3965,1)+1)","v":{"$error":"#NUM!"}},{"$error":"#NUM!"},null,null,null,null,null,null,0,{"$error":"#VALUE!"},3999,"","",null,null,null,null,{"$error":"#VALUE!"},{"$error":"#VALUE!"},{"$f":"COUNTIF('Standards LOOKUP'!B:B,AI3966)","v":0},{"$f":"IFERROR(INDEX('Standards LOOKUP'!C:C,MATCH(AI3966,'Standards LOOKUP'!B:B,0),0),0)","v":0},{"$f":"IFERROR(INDEX('Current Standards'!P:P,MATCH('Sheet Counter'!AI3966,'Current Standards'!O:O,0),0),\"\")","v":""}]
[null,null,0,"","",{"$error":"#VALUE!"},"",{"$f":"IF(I3967=\"\",\"\",LARGE(H$1:H3966,1)+1)","v":{"$error":"#VALUE!"}},{"$error":"#VALUE!"},null,null,null,null,null,3966,0,{"$f":"IF(R3967=\"\",\"\",LARGE(Q$1:Q3966,1)+1)","v":{"$error":"#NUM!"}},{"$error":"#NUM!"},null,null,null,null,null,null,0,{"$error":"#VALUE!"},3999,"","",null,null,null,null,{"$error":"#VALUE!"},{"$error":"#VALUE!"},{"$f":"COUNTIF('Standards LOOKUP'!B:B,AI3967)","v":0},{"$f":"IFERROR(INDEX('Standards LOOKUP'!C:C,MATCH(AI3967,'Standards LOOKUP'!B:B,0),0),0)","v":0},{"$f":"IFERROR(INDEX('Current Standards'!P:P,MATCH('Sheet Counter'!AI3967,'Current Standards'!O:O,0),0),\"\")","v":""}]
[null,null,0,"","",{"$error":"#VALUE!"},"",{"$f":"IF(I3968=\"\",\"\",LARGE(H$1:H3967,1)+1)","v":{"$error":"#VALUE!"}},{"$error":"#VALUE!"},null,null,null,null,null,3967,0,{"$f":"IF(R3968=\"\",\"\",LARGE(Q$1:Q3967,1)+1)","v":{"$error":"#NUM!"}},{"$error":"#NUM!"},null,null,null,null,null,null,0,{"$error":"#VALUE!"},3999,"","",null,null,null,null,{"$error":"#VALUE!"},{"$error":"#VALUE!"},{"$f":"COUNTIF('Standards LOOKUP'!B:B,AI3968)","v":0},{"$f":"IFERROR(INDEX('Standards LOOKUP'!C:C,MATCH(AI3968,'Standards LOOKUP'!B:B,0),0),0)","v":0},{"$f":"IFERROR(INDEX('Current Standards'!P:P,MATCH('Sheet Counter'!AI3968,'Current Standards'!O:O,0),0),\"\")","v":""}]
[null,null,0,"","",{"$error":"#VALUE!"},"",{"$f":"IF(I3969=\"\",\"\",LARGE(H$1:H3968,1)+1)","v":{"$error":"#VALUE!"}},{"$error":"#VALUE!"},null,null,null,null,null,3968,0,{"$f":"IF(R3969=\"\",\"\",LARGE(Q$1:Q3968,1)+1)","v":{"$error":"#NUM!"}},{"$error":"#NUM!"},null,null,null,null,null,null,0,{"$error":"#VALUE!"},3999,"","",null,null,null,null,{"$error":"#VALUE!"},{"$error":"#VALUE!"},{"$f":"COUNTIF('Standards LOOKUP'!B:B,AI3969)","v":0},{"$f":"IFERROR(INDEX('Standards LOOKUP'!C:C,MATCH(AI3969,'Standards LOOKUP'!B:B,0),0),0)","v":0},{"$f":"IFERROR(INDEX('Current Standards'!P:P,MATCH('Sheet Counter'!AI3969,'Current Standards'!O:O,0),0),\"\")","v":""}]
[null,null,0,"","",{"$error":"#VALUE!"},"",{"$f":"IF(I3970=\"\",\"\",LARGE(H$1:H3969,1)+1)","v":{"$error":"#VALUE!"}},{"$error":"#VALUE!"},null,null,null,null,null,3969,0,{"$f":"IF(R3970=\"\",\"\",LARGE(Q$1:Q3969,1)+1)","v":{"$error":"#NUM!"}},{"$error":"#NUM!"},null,null,null,null,null,null,0,{"$error":"#VALUE!"},3999,"","",null,null,null,null,{"$error":"#VALUE!"},{"$error":"#VALUE!"},{"$f":"COUNTIF('Standards LOOKUP'!B:B,AI3970)","v":0},{"$f":"IFERROR(INDEX('Standards LOOKUP'!C:C,MATCH(AI3970,'Standards LOOKUP'!B:B,0),0),0)","v":0},{"$f":"IFERROR(INDEX('Current Standards'!P:P,MATCH('Sheet Counter'!AI3970,'Current Standards'!O:O,0),0),\"\")","v":""}]
[null,null,0,{"$f":"IF(AL3971=\"\",\"\",AL3971)","v":""},"",{"$error":"#VALUE!"},"",{"$f":"IF(I3971=\"\",\"\",LARGE(H$1:H3970,1)+1)","v":{"$error":"#VALUE!"}},{"$error":"#VALUE!"},null,null,null,null,null,3970,0,{"$f":"IF(R3971=\"\",\"\",LARGE(Q$1:Q3970,1)+1)","v":{"$error":"#NUM!"}},{"$error":"#NUM!"},null,null,null,null,null,null,0,{"$error":"#VALUE!"},3999,"",{"$f":"IF(AA3971=0,\"New Sheet\",IF(EXACT(UPPER(Y3971),UPPER(AB3971)),\"Match\",\"\"))","v":""},null,null,null,null,{"$f":"IF(C3971=\"\",\"\",LEFT(RIGHT(C3971,LEN(C3971)-SEARCH(\" \",C3971,1)),LEN(RIGHT(C3971,LEN(C3971)-SEARCH(\" \",C3971,1)))-4))","v":{"$error":"#VALUE!"}},{"$f":"TRIM(SUBSTITUTE(SUBSTITUTE(SUBSTITUTE(SUBSTITUTE(SUBSTITUTE(SUBSTITUTE(AH3971,\"(\",\"\"),\")\",\"\"),\"-\",\"\"),\"&\",\"\"),\" \",\"\",1),\" \",\"\",1))","v":{"$error":"#VALUE!"}},{"$f":"COUNTIF('Standards LOOKUP'!B:B,AI3971)","v":0},{"$f":"IFERROR(INDEX('Standards LOOKUP'!C:C,MATCH(AI3971,'Standards LOOKUP'!B:B,0),0),0)","v":0},{"$f":"IFERROR(INDEX('Current Standards'!P:P,MATCH('Sheet Counter'!AI3971,'Current Standards'!O:O,0),0),\"\")","v":""}]
[null,null,0,"","",{"$error":"#VALUE!"},"",{"$f":"IF(I3972=\"\",\"\",LARGE(H$1:H3971,1)+1)","v":{"$error":"#VALUE!"}},{"$error":"#VALUE!"},null,null,null,null,null,3971,0,{"$f":"IF(R3972=\"\",\"\",LARGE(Q$1:Q3971,1)+1)","v":{"$error":"#NUM!"}},{"$f":"IF(AND(P3972<>1,O3972<=LARGE(G:G,1),O3972>=SMALL(G:G,1)),O3972,\"\")","v":{"$error":"#NUM!"}},null,null,null,null,null,null,0,{"$error":"#VALUE!"},3999,"","",null,null,null,null,{"$error":"#VALUE!"},{"$error":"#VALUE!"},{"$f":"COUNTIF('Standards LOOKUP'!B:B,AI3972)","v":0},{"$f":"IFERROR(INDEX('Standards LOOKUP'!C:C,MATCH(AI3972,'Standards LOOKUP'!B:B,0),0),0)","v":0},{"$f":"IFERROR(INDEX('Current Standards'!P:P,MATCH('Sheet Counter'!AI3972,'Current Standards'!O:O,0),0),\"\")","v":""}]
[null,null,0,"","",{"$error":"#VALUE!"},"",{"$f":"IF(I3973=\"\",\"\",LARGE(H$1:H3972,1)+1)","v":{"$error":"#VALUE!"}},{"$error":"#VALUE!"},null,null,null,null,null,3972,0,{"$f":"IF(R3973=\"\",\"\",LARGE(Q$1:Q3972,1)+1)","v":{"$error":"#NUM!"}},{"$error":"#NUM!"},null,null,null,null,null,null,0,{"$error":"#VALUE!"},3999,"","",null,null,null,null,{"$error":"#VALUE!"},{"$error":"#VALUE!"},{"$f":"COUNTIF('Standards LOOKUP'!B:B,AI3973)","v":0},{"$f":"IFERROR(INDEX('Standards LOOKUP'!C:C,MATCH(AI3973,'Standards LOOKUP'!B:B,0),0),0)","v":0},{"$f":"IFERROR(INDEX('Current Standards'!P:P,MATCH('Sheet Counter'!AI3973,'Current Standards'!O:O,0),0),\"\")","v":""}]
[null,null,0,"","",{"$error":"#VALUE!"},"",{"$f":"IF(I3974=\"\",\"\",LARGE(H$1:H3973,1)+1)","v":{"$error":"#VALUE!"}},{"$error":"#VALUE!"},null,null,null,null,null,3973,0,{"$f":"IF(R3974=\"\",\"\",LARGE(Q$1:Q3973,1)+1)","v":{"$error":"#NUM!"}},{"$error":"#NUM!"},null,null,null,null,null,null,0,{"$error":"#VALUE!"},3999,"","",null,null,null,null,{"$error":"#VALUE!"},{"$error":"#VALUE!"},{"$f":"COUNTIF('Standards LOOKUP'!B:B,AI3974)","v":0},{"$f":"IFERROR(INDEX('Standards LOOKUP'!C:C,MATCH(AI3974,'Standards LOOKUP'!B:B,0),0),0)","v":0},{"$f":"IFERROR(INDEX('Current Standards'!P:P,MATCH('Sheet Counter'!AI3974,'Current Standards'!O:O,0),0),\"\")","v":""}]
[null,null,0,"","",{"$error":"#VALUE!"},"",{"$f":"IF(I3975=\"\",\"\",LARGE(H$1:H3974,1)+1)","v":{"$error":"#VALUE!"}},{"$error":"#VALUE!"},null,null,null,null,null,3974,0,{"$f":"IF(R3975=\"\",\"\",LARGE(Q$1:Q3974,1)+1)","v":{"$error":"#NUM!"}},{"$error":"#NUM!"},null,null,null,null,null,null,0,{"$error":"#VALUE!"},3999,"","",null,null,null,null,{"$error":"#VALUE!"},{"$error":"#VALUE!"},{"$f":"COUNTIF('Standards LOOKUP'!B:B,AI3975)","v":0},{"$f":"IFERROR(INDEX('Standards LOOKUP'!C:C,MATCH(AI3975,'Standards LOOKUP'!B:B,0),0),0)","v":0},{"$f":"IFERROR(INDEX('Current Standards'!P:P,MATCH('Sheet Counter'!AI3975,'Current Standards'!O:O,0),0),\"\")","v":""}]
[null,null,0,"","",{"$error":"#VALUE!"},"",{"$f":"IF(I3976=\"\",\"\",LARGE(H$1:H3975,1)+1)","v":{"$error":"#VALUE!"}},{"$error":"#VALUE!"},null,null,null,null,null,3975,0,{"$f":"IF(R3976=\"\",\"\",LARGE(Q$1:Q3975,1)+1)","v":{"$error":"#NUM!"}},{"$error":"#NUM!"},null,null,null,null,null,null,0,{"$error":"#VALUE!"},3999,"","",null,null,null,null,{"$error":"#VALUE!"},{"$error":"#VALUE!"},{"$f":"COUNTIF('Standards LOOKUP'!B:B,AI3976)","v":0},{"$f":"IFERROR(INDEX('Standards LOOKUP'!C:C,MATCH(AI3976,'Standards LOOKUP'!B:B,0),0),0)","v":0},{"$f":"IFERROR(INDEX('Current Standards'!P:P,MATCH('Sheet Counter'!AI3976,'Current Standards'!O:O,0),0),\"\")","v":""}]
[null,null,0,"","",{"$error":"#VALUE!"},"",{"$f":"IF(I3977=\"\",\"\",LARGE(H$1:H3976,1)+1)","v":{"$error":"#VALUE!"}},{"$error":"#VALUE!"},null,null,null,null,null,3976,0,{"$f":"IF(R3977=\"\",\"\",LARGE(Q$1:Q3976,1)+1)","v":{"$error":"#NUM!"}},{"$error":"#NUM!"},null,null,null,null,null,null,0,{"$error":"#VALUE!"},3999,"","",null,null,null,null,{"$error":"#VALUE!"},{"$error":"#VALUE!"},{"$f":"COUNTIF('Standards LOOKUP'!B:B,AI3977)","v":0},{"$f":"IFERROR(INDEX('Standards LOOKUP'!C:C,MATCH(AI3977,'Standards LOOKUP'!B:B,0),0),0)","v":0},{"$f":"IFERROR(INDEX('Current Standards'!P:P,MATCH('Sheet Counter'!AI3977,'Current Standards'!O:O,0),0),\"\")","v":""}]
[null,null,0,"","",{"$error":"#VALUE!"},"",{"$f":"IF(I3978=\"\",\"\",LARGE(H$1:H3977,1)+1)","v":{"$error":"#VALUE!"}},{"$error":"#VALUE!"},null,null,null,null,null,3977,0,{"$f":"IF(R3978=\"\",\"\",LARGE(Q$1:Q3977,1)+1)","v":{"$error":"#NUM!"}},{"$error":"#NUM!"},null,null,null,null,null,null,0,{"$error":"#VALUE!"},3999,"","",null,null,null,null,{"$error":"#VALUE!"},{"$error":"#VALUE!"},{"$f":"COUNTIF('Standards LOOKUP'!B:B,AI3978)","v":0},{"$f":"IFERROR(INDEX('Standards LOOKUP'!C:C,MATCH(AI3978,'Standards LOOKUP'!B:B,0),0),0)","v":0},{"$f":"IFERROR(INDEX('Current Standards'!P:P,MATCH('Sheet Counter'!AI3978,'Current Standards'!O:O,0),0),\"\")","v":""}]
[null,null,0,"","",{"$error":"#VALUE!"},"",{"$f":"IF(I3979=\"\",\"\",LARGE(H$1:H3978,1)+1)","v":{"$error":"#VALUE!"}},{"$error":"#VALUE!"},null,null,null,null,null,3978,0,{"$f":"IF(R3979=\"\",\"\",LARGE(Q$1:Q3978,1)+1)","v":{"$error":"#NUM!"}},{"$error":"#NUM!"},null,null,null,null,null,null,0,{"$error":"#VALUE!"},3999,"","",null,null,null,null,{"$error":"#VALUE!"},{"$error":"#VALUE!"},{"$f":"COUNTIF('Standards LOOKUP'!B:B,AI3979)","v":0},{"$f":"IFERROR(INDEX('Standards LOOKUP'!C:C,MATCH(AI3979,'Standards LOOKUP'!B:B,0),0),0)","v":0},{"$f":"IFERROR(INDEX('Current Standards'!P:P,MATCH('Sheet Counter'!AI3979,'Current Standards'!O:O,0),0),\"\")","v":""}]
[null,null,0,"","",{"$error":"#VALUE!"},"",{"$f":"IF(I3980=\"\",\"\",LARGE(H$1:H3979,1)+1)","v":{"$error":"#VALUE!"}},{"$error":"#VALUE!"},null,null,null,null,null,3979,0,{"$f":"IF(R3980=\"\",\"\",LARGE(Q$1:Q3979,1)+1)","v":{"$error":"#NUM!"}},{"$error":"#NUM!"},null,null,null,null,null,null,0,{"$error":"#VALUE!"},3999,"","",null,null,null,null,{"$error":"#VALUE!"},{"$error":"#VALUE!"},{"$f":"COUNTIF('Standards LOOKUP'!B:B,AI3980)","v":0},{"$f":"IFERROR(INDEX('Standards LOOKUP'!C:C,MATCH(AI3980,'Standards LOOKUP'!B:B,0),0),0)","v":0},{"$f":"IFERROR(INDEX('Current Standards'!P:P,MATCH('Sheet Counter'!AI3980,'Current Standards'!O:O,0),0),\"\")","v":""}]
[null,null,0,"","",{"$error":"#VALUE!"},"",{"$f":"IF(I3981=\"\",\"\",LARGE(H$1:H3980,1)+1)","v":{"$error":"#VALUE!"}},{"$error":"#VALUE!"},null,null,null,null,null,3980,0,{"$f":"IF(R3981=\"\",\"\",LARGE(Q$1:Q3980,1)+1)","v":{"$error":"#NUM!"}},{"$error":"#NUM!"},null,null,null,null,null,null,0,{"$error":"#VALUE!"},3999,"","",null,null,null,null,{"$error":"#VALUE!"},{"$error":"#VALUE!"},{"$f":"COUNTIF('Standards LOOKUP'!B:B,AI3981)","v":0},{"$f":"IFERROR(INDEX('Standards LOOKUP'!C:C,MATCH(AI3981,'Standards LOOKUP'!B:B,0),0),0)","v":0},{"$f":"IFERROR(INDEX('Current Standards'!P:P,MATCH('Sheet Counter'!AI3981,'Current Standards'!O:O,0),0),\"\")","v":""}]
[null,null,0,"","",{"$error":"#VALUE!"},"",{"$f":"IF(I3982=\"\",\"\",LARGE(H$1:H3981,1)+1)","v":{"$error":"#VALUE!"}},{"$error":"#VALUE!"},null,null,null,null,null,3981,0,{"$f":"IF(R3982=\"\",\"\",LARGE(Q$1:Q3981,1)+1)","v":{"$error":"#NUM!"}},{"$error":"#NUM!"},null,null,null,null,null,null,0,{"$error":"#VALUE!"},3999,"","",null,null,null,null,{"$error":"#VALUE!"},{"$error":"#VALUE!"},{"$f":"COUNTIF('Standards LOOKUP'!B:B,AI3982)","v":0},{"$f":"IFERROR(INDEX('Standards LOOKUP'!C:C,MATCH(AI3982,'Standards LOOKUP'!B:B,0),0),0)","v":0},{"$f":"IFERROR(INDEX('Current Standards'!P:P,MATCH('Sheet Counter'!AI3982,'Current Standards'!O:O,0),0),\"\")","v":""}]
[null,null,0,"","",{"$error":"#VALUE!"},"",{"$f":"IF(I3983=\"\",\"\",LARGE(H$1:H3982,1)+1)","v":{"$error":"#VALUE!"}},{"$error":"#VALUE!"},null,null,null,null,null,3982,0,{"$f":"IF(R3983=\"\",\"\",LARGE(Q$1:Q3982,1)+1)","v":{"$error":"#NUM!"}},{"$error":"#NUM!"},null,null,null,null,null,null,0,{"$error":"#VALUE!"},3999,"","",null,null,null,null,{"$error":"#VALUE!"},{"$error":"#VALUE!"},{"$f":"COUNTIF('Standards LOOKUP'!B:B,AI3983)","v":0},{"$f":"IFERROR(INDEX('Standards LOOKUP'!C:C,MATCH(AI3983,'Standards LOOKUP'!B:B,0),0),0)","v":0},{"$f":"IFERROR(INDEX('Current Standards'!P:P,MATCH('Sheet Counter'!AI3983,'Current Standards'!O:O,0),0),\"\")","v":""}]
[null,null,0,"","",{"$error":"#VALUE!"},"",{"$f":"IF(I3984=\"\",\"\",LARGE(H$1:H3983,1)+1)","v":{"$error":"#VALUE!"}},{"$error":"#VALUE!"},null,null,null,null,null,3983,0,{"$f":"IF(R3984=\"\",\"\",LARGE(Q$1:Q3983,1)+1)","v":{"$error":"#NUM!"}},{"$error":"#NUM!"},null,null,null,null,null,null,0,{"$error":"#VALUE!"},3999,"","",null,null,null,null,{"$error":"#VALUE!"},{"$error":"#VALUE!"},{"$f":"COUNTIF('Standards LOOKUP'!B:B,AI3984)","v":0},{"$f":"IFERROR(INDEX('Standards LOOKUP'!C:C,MATCH(AI3984,'Standards LOOKUP'!B:B,0),0),0)","v":0},{"$f":"IFERROR(INDEX('Current Standards'!P:P,MATCH('Sheet Counter'!AI3984,'Current Standards'!O:O,0),0),\"\")","v":""}]
[null,null,0,"","",{"$error":"#VALUE!"},"",{"$f":"IF(I3985=\"\",\"\",LARGE(H$1:H3984,1)+1)","v":{"$error":"#VALUE!"}},{"$error":"#VALUE!"},null,null,null,null,null,3984,0,{"$f":"IF(R3985=\"\",\"\",LARGE(Q$1:Q3984,1)+1)","v":{"$error":"#NUM!"}},{"$error":"#NUM!"},null,null,null,null,null,null,0,{"$error":"#VALUE!"},3999,"","",null,null,null,null,{"$error":"#VALUE!"},{"$error":"#VALUE!"},{"$f":"COUNTIF('Standards LOOKUP'!B:B,AI3985)","v":0},{"$f":"IFERROR(INDEX('Standards LOOKUP'!C:C,MATCH(AI3985,'Standards LOOKUP'!B:B,0),0),0)","v":0},{"$f":"IFERROR(INDEX('Current Standards'!P:P,MATCH('Sheet Counter'!AI3985,'Current Standards'!O:O,0),0),\"\")","v":""}]
[null,null,0,"","",{"$error":"#VALUE!"},"",{"$f":"IF(I3986=\"\",\"\",LARGE(H$1:H3985,1)+1)","v":{"$error":"#VALUE!"}},{"$error":"#VALUE!"},null,null,null,null,null,3985,0,{"$f":"IF(R3986=\"\",\"\",LARGE(Q$1:Q3985,1)+1)","v":{"$error":"#NUM!"}},{"$error":"#NUM!"},null,null,null,null,null,null,0,{"$error":"#VALUE!"},3999,"","",null,null,null,null,{"$error":"#VALUE!"},{"$error":"#VALUE!"},{"$f":"COUNTIF('Standards LOOKUP'!B:B,AI3986)","v":0},{"$f":"IFERROR(INDEX('Standards LOOKUP'!C:C,MATCH(AI3986,'Standards LOOKUP'!B:B,0),0),0)","v":0},{"$f":"IFERROR(INDEX('Current Standards'!P:P,MATCH('Sheet Counter'!AI3986,'Current Standards'!O:O,0),0),\"\")","v":""}]
[null,null,0,"","",{"$error":"#VALUE!"},"",{"$f":"IF(I3987=\"\",\"\",LARGE(H$1:H3986,1)+1)","v":{"$error":"#VALUE!"}},{"$error":"#VALUE!"},null,null,null,null,null,3986,0,{"$f":"IF(R3987=\"\",\"\",LARGE(Q$1:Q3986,1)+1)","v":{"$error":"#NUM!"}},{"$error":"#NUM!"},null,null,null,null,null,null,0,{"$error":"#VALUE!"},3999,"","",null,null,null,null,{"$error":"#VALUE!"},{"$error":"#VALUE!"},{"$f":"COUNTIF('Standards LOOKUP'!B:B,AI3987)","v":0},{"$f":"IFERROR(INDEX('Standards LOOKUP'!C:C,MATCH(AI3987,'Standards LOOKUP'!B:B,0),0),0)","v":0},{"$f":"IFERROR(INDEX('Current Standards'!P:P,MATCH('Sheet Counter'!AI3987,'Current Standards'!O:O,0),0),\"\")","v":""}]
[null,null,0,"","",{"$error":"#VALUE!"},"",{"$f":"IF(I3988=\"\",\"\",LARGE(H$1:H3987,1)+1)","v":{"$error":"#VALUE!"}},{"$error":"#VALUE!"},null,null,null,null,null,3987,0,{"$f":"IF(R3988=\"\",\"\",LARGE(Q$1:Q3987,1)+1)","v":{"$error":"#NUM!"}},{"$error":"#NUM!"},null,null,null,null,null,null,0,{"$error":"#VALUE!"},3999,"","",null,null,null,null,{"$error":"#VALUE!"},{"$error":"#VALUE!"},{"$f":"COUNTIF('Standards LOOKUP'!B:B,AI3988)","v":0},{"$f":"IFERROR(INDEX('Standards LOOKUP'!C:C,MATCH(AI3988,'Standards LOOKUP'!B:B,0),0),0)","v":0},{"$f":"IFERROR(INDEX('Current Standards'!P:P,MATCH('Sheet Counter'!AI3988,'Current Standards'!O:O,0),0),\"\")","v":""}]
[null,null,0,"","",{"$error":"#VALUE!"},"",{"$f":"IF(I3989=\"\",\"\",LARGE(H$1:H3988,1)+1)","v":{"$error":"#VALUE!"}},{"$error":"#VALUE!"},null,null,null,null,null,3988,0,{"$f":"IF(R3989=\"\",\"\",LARGE(Q$1:Q3988,1)+1)","v":{"$error":"#NUM!"}},{"$error":"#NUM!"},null,null,null,null,null,null,0,{"$error":"#VALUE!"},3999,"","",null,null,null,null,{"$error":"#VALUE!"},{"$error":"#VALUE!"},{"$f":"COUNTIF('Standards LOOKUP'!B:B,AI3989)","v":0},{"$f":"IFERROR(INDEX('Standards LOOKUP'!C:C,MATCH(AI3989,'Standards LOOKUP'!B:B,0),0),0)","v":0},{"$f":"IFERROR(INDEX('Current Standards'!P:P,MATCH('Sheet Counter'!AI3989,'Current Standards'!O:O,0),0),\"\")","v":""}]
[null,null,0,"","",{"$error":"#VALUE!"},"",{"$f":"IF(I3990=\"\",\"\",LARGE(H$1:H3989,1)+1)","v":{"$error":"#VALUE!"}},{"$error":"#VALUE!"},null,null,null,null,null,3989,0,{"$f":"IF(R3990=\"\",\"\",LARGE(Q$1:Q3989,1)+1)","v":{"$error":"#NUM!"}},{"$error":"#NUM!"},null,null,null,null,null,null,0,{"$error":"#VALUE!"},3999,"","",null,null,null,null,{"$error":"#VALUE!"},{"$error":"#VALUE!"},{"$f":"COUNTIF('Standards LOOKUP'!B:B,AI3990)","v":0},{"$f":"IFERROR(INDEX('Standards LOOKUP'!C:C,MATCH(AI3990,'Standards LOOKUP'!B:B,0),0),0)","v":0},{"$f":"IFERROR(INDEX('Current Standards'!P:P,MATCH('Sheet Counter'!AI3990,'Current Standards'!O:O,0),0),\"\")","v":""}]
[null,null,0,"","",{"$error":"#VALUE!"},"",{"$f":"IF(I3991=\"\",\"\",LARGE(H$1:H3990,1)+1)","v":{"$error":"#VALUE!"}},{"$error":"#VALUE!"},null,null,null,null,null,3990,0,{"$f":"IF(R3991=\"\",\"\",LARGE(Q$1:Q3990,1)+1)","v":{"$error":"#NUM!"}},{"$error":"#NUM!"},null,null,null,null,null,null,0,{"$error":"#VALUE!"},3999,"","",null,null,null,null,{"$error":"#VALUE!"},{"$error":"#VALUE!"},{"$f":"COUNTIF('Standards LOOKUP'!B:B,AI3991)","v":0},{"$f":"IFERROR(INDEX('Standards LOOKUP'!C:C,MATCH(AI3991,'Standards LOOKUP'!B:B,0),0),0)","v":0},{"$f":"IFERROR(INDEX('Current Standards'!P:P,MATCH('Sheet Counter'!AI3991,'Current Standards'!O:O,0),0),\"\")","v":""}]
[null,null,0,"","",{"$error":"#VALUE!"},"",{"$f":"IF(I3992=\"\",\"\",LARGE(H$1:H3991,1)+1)","v":{"$error":"#VALUE!"}},{"$error":"#VALUE!"},null,null,null,null,null,3991,0,{"$f":"IF(R3992=\"\",\"\",LARGE(Q$1:Q3991,1)+1)","v":{"$error":"#NUM!"}},{"$error":"#NUM!"},null,null,null,null,null,null,0,{"$error":"#VALUE!"},3999,"","",null,null,null,null,{"$error":"#VALUE!"},{"$error":"#VALUE!"},{"$f":"COUNTIF('Standards LOOKUP'!B:B,AI3992)","v":0},{"$f":"IFERROR(INDEX('Standards LOOKUP'!C:C,MATCH(AI3992,'Standards LOOKUP'!B:B,0),0),0)","v":0},{"$f":"IFERROR(INDEX('Current Standards'!P:P,MATCH('Sheet Counter'!AI3992,'Current Standards'!O:O,0),0),\"\")","v":""}]
[null,null,0,"","",{"$error":"#VALUE!"},"",{"$f":"IF(I3993=\"\",\"\",LARGE(H$1:H3992,1)+1)","v":{"$error":"#VALUE!"}},{"$error":"#VALUE!"},null,null,null,null,null,3992,0,{"$f":"IF(R3993=\"\",\"\",LARGE(Q$1:Q3992,1)+1)","v":{"$error":"#NUM!"}},{"$error":"#NUM!"},null,null,null,null,null,null,0,{"$error":"#VALUE!"},3999,"","",null,null,null,null,{"$error":"#VALUE!"},{"$error":"#VALUE!"},{"$f":"COUNTIF('Standards LOOKUP'!B:B,AI3993)","v":0},{"$f":"IFERROR(INDEX('Standards LOOKUP'!C:C,MATCH(AI3993,'Standards LOOKUP'!B:B,0),0),0)","v":0},{"$f":"IFERROR(INDEX('Current Standards'!P:P,MATCH('Sheet Counter'!AI3993,'Current Standards'!O:O,0),0),\"\")","v":""}]
[null,null,0,"","",{"$error":"#VALUE!"},"",{"$f":"IF(I3994=\"\",\"\",LARGE(H$1:H3993,1)+1)","v":{"$error":"#VALUE!"}},{"$error":"#VALUE!"},null,null,null,null,null,3993,0,{"$f":"IF(R3994=\"\",\"\",LARGE(Q$1:Q3993,1)+1)","v":{"$error":"#NUM!"}},{"$error":"#NUM!"},null,null,null,null,null,null,0,{"$error":"#VALUE!"},3999,"","",null,null,null,null,{"$error":"#VALUE!"},{"$error":"#VALUE!"},{"$f":"COUNTIF('Standards LOOKUP'!B:B,AI3994)","v":0},{"$f":"IFERROR(INDEX('Standards LOOKUP'!C:C,MATCH(AI3994,'Standards LOOKUP'!B:B,0),0),0)","v":0},{"$f":"IFERROR(INDEX('Current Standards'!P:P,MATCH('Sheet Counter'!AI3994,'Current Standards'!O:O,0),0),\"\")","v":""}]
[null,null,0,"","",{"$error":"#VALUE!"},"",{"$f":"IF(I3995=\"\",\"\",LARGE(H$1:H3994,1)+1)","v":{"$error":"#VALUE!"}},{"$error":"#VALUE!"},null,null,null,null,null,3994,0,{"$f":"IF(R3995=\"\",\"\",LARGE(Q$1:Q3994,1)+1)","v":{"$error":"#NUM!"}},{"$error":"#NUM!"},null,null,null,null,null,null,0,{"$error":"#VALUE!"},3999,"","",null,null,null,null,{"$error":"#VALUE!"},{"$error":"#VALUE!"},{"$f":"COUNTIF('Standards LOOKUP'!B:B,AI3995)","v":0},{"$f":"IFERROR(INDEX('Standards LOOKUP'!C:C,MATCH(AI3995,'Standards LOOKUP'!B:B,0),0),0)","v":0},{"$f":"IFERROR(INDEX('Current Standards'!P:P,MATCH('Sheet Counter'!AI3995,'Current Standards'!O:O,0),0),\"\")","v":""}]
[null,null,0,"","",{"$error":"#VALUE!"},"",{"$f":"IF(I3996=\"\",\"\",LARGE(H$1:H3995,1)+1)","v":{"$error":"#VALUE!"}},{"$error":"#VALUE!"},null,null,null,null,null,3995,0,{"$f":"IF(R3996=\"\",\"\",LARGE(Q$1:Q3995,1)+1)","v":{"$error":"#NUM!"}},{"$error":"#NUM!"},null,null,null,null,null,null,0,{"$error":"#VALUE!"},3999,"","",null,null,null,null,{"$error":"#VALUE!"},{"$error":"#VALUE!"},{"$f":"COUNTIF('Standards LOOKUP'!B:B,AI3996)","v":0},{"$f":"IFERROR(INDEX('Standards LOOKUP'!C:C,MATCH(AI3996,'Standards LOOKUP'!B:B,0),0),0)","v":0},{"$f":"IFERROR(INDEX('Current Standards'!P:P,MATCH('Sheet Counter'!AI3996,'Current Standards'!O:O,0),0),\"\")","v":""}]
[null,null,0,"","",{"$error":"#VALUE!"},"",{"$f":"IF(I3997=\"\",\"\",LARGE(H$1:H3996,1)+1)","v":{"$error":"#VALUE!"}},{"$error":"#VALUE!"},null,null,null,null,null,3996,0,{"$f":"IF(R3997=\"\",\"\",LARGE(Q$1:Q3996,1)+1)","v":{"$error":"#NUM!"}},{"$error":"#NUM!"},null,null,null,null,null,null,0,{"$error":"#VALUE!"},3999,"","",null,null,null,null,{"$error":"#VALUE!"},{"$error":"#VALUE!"},{"$f":"COUNTIF('Standards LOOKUP'!B:B,AI3997)","v":0},{"$f":"IFERROR(INDEX('Standards LOOKUP'!C:C,MATCH(AI3997,'Standards LOOKUP'!B:B,0),0),0)","v":0},{"$f":"IFERROR(INDEX('Current Standards'!P:P,MATCH('Sheet Counter'!AI3997,'Current Standards'!O:O,0),0),\"\")","v":""}]
[null,null,0,"","",{"$error":"#VALUE!"},"",{"$f":"IF(I3998=\"\",\"\",LARGE(H$1:H3997,1)+1)","v":{"$error":"#VALUE!"}},{"$error":"#VALUE!"},null,null,null,null,null,3997,0,{"$f":"IF(R3998=\"\",\"\",LARGE(Q$1:Q3997,1)+1)","v":{"$error":"#NUM!"}},{"$error":"#NUM!"},null,null,null,null,null,null,0,{"$error":"#VALUE!"},3999,"","",null,null,null,null,{"$error":"#VALUE!"},{"$error":"#VALUE!"},{"$f":"COUNTIF('Standards LOOKUP'!B:B,AI3998)","v":0},{"$f":"IFERROR(INDEX('Standards LOOKUP'!C:C,MATCH(AI3998,'Standards LOOKUP'!B:B,0),0),0)","v":0},{"$f":"IFERROR(INDEX('Current Standards'!P:P,MATCH('Sheet Counter'!AI3998,'Current Standards'!O:O,0),0),\"\")","v":""}]
[null,null,0,"","",{"$error":"#VALUE!"},"",{"$f":"IF(I3999=\"\",\"\",LARGE(H$1:H3998,1)+1)","v":{"$error":"#VALUE!"}},{"$error":"#VALUE!"},null,null,null,null,null,3998,0,{"$f":"IF(R3999=\"\",\"\",LARGE(Q$1:Q3998,1)+1)","v":{"$error":"#NUM!"}},{"$error":"#NUM!"},null,null,null,null,null,null,0,{"$error":"#VALUE!"},3999,"","",null,null,null,null,{"$error":"#VALUE!"},{"$error":"#VALUE!"},{"$f":"COUNTIF('Standards LOOKUP'!B:B,AI3999)","v":0},{"$f":"IFERROR(INDEX('Standards LOOKUP'!C:C,MATCH(AI3999,'Standards LOOKUP'!B:B,0),0),0)","v":0},{"$f":"IFERROR(INDEX('Current Standards'!P:P,MATCH('Sheet Counter'!AI3999,'Current Standards'!O:O,0),0),\"\")","v":""}]
[null,null,0,"","",{"$error":"#VALUE!"},"",{"$f":"IF(I4000=\"\",\"\",LARGE(H$1:H3999,1)+1)","v":{"$error":"#VALUE!"}},{"$error":"#VALUE!"},null,null,null,null,null,3999,0,{"$f":"IF(R4000=\"\",\"\",LARGE(Q$1:Q3999,1)+1)","v":{"$error":"#NUM!"}},{"$error":"#NUM!"},null,null,null,null,null,null,0,{"$error":"#VALUE!"},3999,"","",null,null,null,null,{"$error":"#VALUE!"},{"$error":"#VALUE!"},{"$f":"COUNTIF('Standards LOOKUP'!B:B,AI4000)","v":0},{"$f":"IFERROR(INDEX('Standards LOOKUP'!C:C,MATCH(AI4000,'Standards LOOKUP'!B:B,0),0),0)","v":0},{"$f":"IFERROR(INDEX('Current Standards'!P:P,MATCH('Sheet Counter'!AI4000,'Current Standards'!O:O,0),0),\"\")","v":""}]

{"sheet":"Current Standards","index":2,"n_rows":664,"n_cols":26,"rows_kept":664,"cut":false,"hidden":false,"merged":[[0,1,0,3],[0,6,0,12],[0,13,0,25]]}
["REVISED","ROADWAY STANDARDS",null,null,null,null,"TRAFFIC STANDARDS",null,null,null,null,null,null,"BRIDGE STANDARDS (2019+)"]
["2025-08-08","ABSORB(M)-19",1,"MBGF-19",null,null,"BC(1)-21","HMID(1)-24","ITS(45)-16",null,"TCP(2-2)-18",null,null,"ACS-24",{"$f":"TRIM(SUBSTITUTE(SUBSTITUTE(SUBSTITUTE(SUBSTITUTE(SUBSTITUTE(SUBSTITUTE(N2,\"(\",\"\"),\")\",\"\"),\"-\",\"\"),\"&\",\"\"),\" \",\"\",1),\" \",\"\",1))","v":"ACS24"},"2021-07-01","BDSB-24-30","2020-08-01","CS-75-24","2021-07-01","MC-6-23","2020-02-01","SCP-10","2020-02-01","SIG-62-24","2019-10-01"]
[null,"AREF-21",null,"NU-CABLE(TL3)-14",1,null,"BC(10)-21","HMID(2)-25","ITS(4A)-15","RID(2)-20","TCP(2-3)-23",null,null,"ACS-24-15",{"$f":"TRIM(SUBSTITUTE(SUBSTITUTE(SUBSTITUTE(SUBSTITUTE(SUBSTITUTE(SUBSTITUTE(N3,\"(\",\"\"),\")\",\"\"),\"-\",\"\"),\"&\",\"\"),\" \",\"\",1),\" \",\"\",1))","v":"ACS2415"},"2021-07-01","BDSB-28","2020-08-01","CS-75-24-15","2021-07-01","MC-7-10","2020-02-01","SCP-11","2020-02-01","SIG-62-24-15","2019-10-01"]
[null,"BARRIERGUARD-19",1,"NU-CABLE(TL4)-14",1,null,"BC(11)-21","HMID(3)-24","ITS(5)-15","RID(3)-20","TCP(2-4)-18",null,null,"ACSD-24-30","ACSD2430","2021-07-01","BDSB-28-15","2020-08-01","CS-75-24-30","2021-07-01","MC-7-16","2020-02-01","SCP-12","2020-02-01","SIG-62-24-30","2019-10-01"]
[null,"BED(28)-19",null,"PCF-05",null,null,"BC(12)-21","HMID(4)-24","ITS(6)-15","RIP(1)-19","TCP(2-5)-18",null,null,"ACSD-28","ACSD28","2021-07-01","BDSB-28-30","2020-08-01","CS-75-28","2021-07-01","MC-7-20","2020-02-01","SCP-3","2020-02-01","SIG-62-24-45","2019-10-01"]
[null,"BED-14",null,"PED-18",null,null,"BC(2)-21","HMID(5)-24","ITS(7)-15","RIP(2)-19","TCP(2-6)-18",null,null,"ACSD-28-15","ACSD2815","2021-07-01","BDSB-30","2020-08-01","CS-75-28-15","2021-07-01","MC-7-23","2020-02-01","SCP-4","2020-02-01","SIG-62-28","2019-10-01"]
[null,"BG-11",null,"PRD-13",null,null,"BC(3)-21","HMID(6)-24","ITS(8)-15","RIP(3)-19","TCP(2-7)-23",null,null,"ACSD-28-30","ACSD2830","2021-07-01","BDSB-30-15","2020-08-01","CS-75-28-30","2021-07-01","MC-8-13","2020-02-01","SCP-5","2020-02-01","SIG-62-28-15","2019-10-01"]
[null,"BRIFEN(TL4)-14",1,"QGELITE(M10)(N)-20",1,null,"BC(4)-21","HMID(7)-24","ITS(9)-15","RIP(4)-19","TCP(2-8)-23",null,null,"ACSD-30","ACSD30","2021-07-01","BDSB-30-30","2020-08-01","CS-75-30","2021-07-01","MC-8-16","2020-02-01","SCP-6","2020-02-01","SIG-62-28-30","2019-10-01"]
[null,"CASS(TL3)-14",1,"QGELITE(M10)(W)-20",1,null,"BC(5)-21",null,"LD(1)-03","RRPM-24","TCP(3-1)-13",null,null,"ACSD-30-15","ACSD3015","2021-07-01","BL","2024-10-24","CS-75-30-15","2021-07-01","MC-8-20","2020-02-01","SCP-7","2020-02-01","SIG-62-28-45","2019-10-01"]
[null,"CASS(TL4)-14",1,"QGUARD(M10)(N)-20",1,null,"BC(6)-21",null,"LD(2)-03","RS(1)-23","TCP(3-2)-13",null,null,"ACSD-30-30","ACSD3030","2021-07-01","BL-D","2024-10-24","CS-75-30-30","2021-07-01","MC-8-23","2020-02-01","SCP-8","2020-02-01","SIG-62-30","2019-10-01"]
[null,"CATCB(1)-17",1,"QG(M)(W)-21",1,null,"BC(7)-21","HMIF(1)-98","LMA(1)-12","RS(2)-23","TCP(3-3)-14",null,null,"ACSD-38","ACSD38","2021-07-01","BL-L","2024-10-24","CS-75-38","2021-07-01","MC-9-10","2020-02-01","SCP-9","2020-02-01","SIG-62-30-15","2019-10-01"]
[null,null,1,"RAIL-ADJ(A)-19",null,null,"BC(8)-21","HMIF(2)-98","LMA(2)-12","RS(3)-23","TCP(3-4)-13",null,null,"ACSD-38-15","ACSD3815","2021-07-01","BMCS","2024-10-01","CS-75-38-15","2021-07-01","MC-9-13","2020-02-01","SCP-MD","2020-02-01","SIG-62-30-30","2019-10-01"]
[null,"CCCG-22",null,"RAIL-ADJ(B)-19",null,null,"BC(9)-21","HMIP(1)-16","LMA(3)-12","RS(4)-23","TCP(3-5)-18",null,null,"ACSD-38-30","ACSD3830","2021-07-01","BPBW","2021-12-01","CS-75-38-30","2021-07-01","MC-9-16","2020-02-01","SD","2020-02-01","SIG-62-30-45","2019-10-01"]
[null,"CLF-10",null,"REACT(M)-21",1,null,"BLPM-10","HMIP(2)-16","LMA(4)-12","RS(5)-23","TCP(5-1)-18",null,null,"ACSD-44","ACSD44","2021-07-01","BRSM","2024-10-01","CS-75-44","2021-07-01","MC-9-20","2020-02-01","SD-EBR","2024-10-01","SIG-62-32","2019-10-01"]
[null,"CPCD-24",null,"REACT(W)-16",1,null,"CFA-12","HOSB-Z1","LMA(5)-12","RSE(1)-21","TCP(6-1)-12",null,null,"ACSD-44-15","ACSD4415","2021-07-01","BSB-24","2021-11-01","CS-75-44-15","2021-07-01","MC-9-23","2020-02-01","SDSB-24","2020-08-01","SIG-62-32-15","2019-10-01"]
[null,"CRCP(1)-24",null,"REPCP-14",null,null,"CLB(1)-23","HOSB-Z1-21","LUM-A-12","RSE(2)-21","TCP(6-2)-12",null,null,"ACSD-44-30","ACSD4430","2021-07-01","BSB-24-15","2021-11-01","CS-75-44-30","2021-07-01","MC-MD","2020-02-01","SDSB-24-15","2020-08-01","SIG-62-32-30","2019-10-01"]
[null,"CRCP(2)-24",null,"RSTCP-05",null,null,"CLB(2)-23","HOSB-Z1L","MA-C(ILSN)-12","RSE(3)-21","TCP(6-3)-12",null,null,"ACSP-24-30","ACSP2430","2021-07-01","BSB-24-30","2021-11-01","CS-80-24","2021-07-01","MEBR(S)","2024-10-01","SDSB-24-30","2020-08-01","SIG-62-32-45","2019-10-01"]
[null,"CSB(1)-10",null,"SGT(10S)31-16",1,null,"CMV(SD)-19","HOSB-Z2I","MA-C-12","RSE(4)-21","TCP(6-4)-12",null,null,"ACSP-28","ACSP28","2021-07-01","BSB-28","2021-11-01","CS-80-24-15","2021-07-01","MN","2019-09-01","SDSB-28","2020-08-01","SIG-62-38","2019-10-01"]
[null,"CSB(2)-13",null,"SGT(11S)31-18",1,null,"CMV-19","HOSB-Z3","MA-D-12","RSE(5)-21","TCP(6-5)-12",null,null,"ACSP-28-15","ACSP2815","2021-07-01","BSB-28-15","2021-11-01","CS-80-24-30","2021-07-01","NBIS","2024-10-01","SDSB-28-15","2020-08-01","SIG-62-38-15","2019-10-01"]
[null,"CSB(3)-16",null,"SGT(12S)31-18",1,null,"COSS & OSB-SZ","HOSB-Z3I","MA-DPD-20",null,"TCP(6-6)-12",null,null,"ACSP-28-30","ACSP2830","2021-07-01","BSB-28-30","2021-11-01","CS-80-28","2021-07-01","PAZD","2020-02-01","SDSB-28-30","2020-08-01","SIG-62-38-30","2019-10-01"]
[null,"CSB(4)-19",null,"SGT(13S)31-18",1,null,"COSS & OSB-SZ-21","HOSB-Z3I","MC(1)-22",null,"TCP(6-7)-12",null,null,"ACSP-30","ACSP30","2021-07-01","BSB-30","2021-11-01","CS-80-28-15","2021-07-01","PAZD-CZ","2020-02-01","SDSB-30","2020-08-01","SIG-62-38-45","2019-10-01"]
[null,"CSB(6)-10",null,"SGT(14W)31-18",1,null,"COSSD","HOSB-Z4","MC(2)-22","SMA-100(1)-12","TCP(6-8)-14",null,null,"ACSP-30-15","ACSP3015","2021-07-01","BSB-30-15","2021-11-01","CS-80-28-30","2021-07-01","PB","2020-02-01","SDSB-30-15","2020-08-01","SIG-62-40","2019-10-01"]
[null,"CSB(7)-10",null,"SGT(15)31-20",1,null,"COSSF","HOSB-Z4",null,"SMA-100(2)-12","TCP(6-9)-14",null,null,"ACSP-30-30","ACSP3030","2021-07-01","BSB-30-30","2021-11-01","CS-80-30","2021-07-01","PBC-P","2024-10-01","SDSB-30-30","2020-08-01","SIG-62-40-15","2019-10-01"]
[null,"CSB(8)-10",null,"SLED-19",1,null,"COSSF-21","HOSB-Z4I","MC(4)-22","SMA-80(1)-12","TCP(7-1)-13",null,null,"ACSP-38","ACSP38","2021-07-01","BS-EJCP","2024-10-01","CS-80-30-15","2021-07-01","PBC-RC","2024-10-01","SEJ-B","2024-10-01","SIG-62-40-30","2019-10-01"]
[null,"DELTACC-22",null,"SLEDMINI-19",1,null,"COSS-FD","ISSC-20","MC(5)-22","SMA-80(2)-12","TCP(S-1)-08A",null,null,"ACSP-38-15","ACSP3815","2021-07-01","C1W","2019-09-01","CS-80-30-30","2021-07-01","PBGC","2024-06-24","SEJ-M","2024-10-01","SIG-62-40-45","2019-10-01"]
[null,"EC(1)-16",null,"SMOWD-04",null,null,"COSS-SE","ISSD-20","MC(6)-22","SMD(2-1)-24","TCP(S-2)-08A",null,null,"ACSP-38-30","ACSP3830","2021-07-01","C221","2019-09-01","CS-80-38","2021-07-01","PCO","2020-02-01","SEJ-S(O)","2024-10-01","SIG-62-44","2019-10-01"]
[null,"EC(2)-16",null,"SMOWND-04",null,null,"COSS-Z1-10","ISSU-20","MC(7)-22","SMD(2-2)-24","TCP(S-2c)-10",null,null,"ACSP-44","ACSP44","2021-07-01","C223","2019-09-01","CS-80-38-15","2021-07-01","PCA-SUP","2024-10-01","SETB-CD","2020-02-01","SIG-62-44-15","2019-10-01"]
[null,"EC(3)-16",null,"SMTC(N)-16",1,null,"COSS-Z2I-10","ITS(1)-15","MDM(1)-07","SMD(2-3)-24","TCP(S-3)-08",null,null,"ACSP-44-15","ACSP4415","2021-07-01","C2P","2019-09-01","CS-80-38-30","2021-07-01","PCA-SUB","2024-10-01","SETB-FW-0","2020-02-01","SIG-62-44-30","2019-10-01"]
[null,"EC(4)-16",null,"SMTC(W)-16",1,null,"COSS-Z3&Z3I-10","ITS(10)-15","MDM(2)-07","SMD(2-4)-24","TCP(S-4)-08A",null,null,"ACSP-44-30","ACSP4430","2021-07-01","C402","2019-09-01","CS-80-44","2021-07-01","PCP","2024-10-01","SETB-FW-S","2020-02-01","SIG-62-44-45","2019-10-01"]
[null,"EC(5)-16",null,"SSCB(1)-16",null,null,"COSS-Z4&Z4I-10","ITS(11)-15","MDM(3)-07","SMD(2-5)-24","TCP(S-5)-08",null,null,"ADSB-24","ADSB24","2020-08-01","C411","2020-07-01","CS-80-44-15","2021-07-01","PCP-FAB","2024-10-01","SETB-PD","2022-06-01","SP","2020-02-01"]
[null,"EC(6)-16",null,"SSCB(1F)-10",null,null,"CPM(1)-23","ITS(12)-15","MS(1)-22","SMD(2-6)-24","TCP(SC-1)-22",null,null,"ADSB-24-15","ADSB2415","2020-08-01","C412","2019-09-01","CS-80-44-30","2021-07-01","PCSP","2024-10-01","SETBR","2020-02-01","SRR","2024-10-01"]
[null,"EC(7)-16",null,"SSCB(2)-10",null,null,"D&OM(1)-25","ITS(13)-15","MS(2)-22","SMD(2-7)-24","TCP(SC-2)-22",null,null,"ADSB-24-30","ADSB2430","2020-08-01","C66","2019-09-01","CSAB","2024-10-01","PCU","2020-02-01","SETB-SW-0","2020-02-01","SSB-24","2021-11-01"]
[null,"EC(8)-16",null,"SSCB(3)-10",null,null,"D&OM(2)-25","ITS(14)-15",null,"SMD(BR-1)-14","TCP(SC-3)-22",null,null,"ADSB-28","ADSB28","2020-08-01","CCO","2020-02-01","CS-MD","2021-07-01","PDD","2020-02-01","SETP-CD","2020-02-01","SSB-24-15","2021-11-01"]
[null,"EC(9)-16",null,"SSCB(4)-19",null,null,"D&OM(3)-25","ITS(15)-15","MS(4)-22","SMD(BR-2)-14","TCP(SC-4)-22",null,null,"ADSB-28-15","ADSB2815","2020-08-01","CC-RAIL-R","2024-06-01","DSBD","2020-08-01","PJB","2020-02-01","SETP-CD-A","2020-02-01","SSB-24-30","2021-11-01"]
[null,"FSHEBSS(TR)-21",null,"SSCB(5)-10",null,null,"D&OM(4)-25","ITS(16)-15","MS(5)-22","SMD(BR-3)-14","TCP(SC-5)-22",null,null,"ADSB-28-30","ADSB2830","2020-08-01","CD-CCO","2023-06-01","DSBEB","2020-08-01","PMBD","2020-02-01","SETP-FW-0","2020-02-01","SSB-28","2021-11-01"]
[null,"FSHEBSS(TR2)-21",null,"SSCB-P(XB1)-20",null,null,"D&OM(5)-25","ITS(17)-15","MS(6)-22","SMD(CPS-1)-23","TCP(SC-6)-22",null,null,"ADSB-30","ADSB30","2020-08-01","CD-PCO","2023-06-01","DSBND","2020-08-01","PMDF","2024-10-01","SETP-FW-15","2020-02-01","SSB-28-15","2021-11-01"]
[null,"FSLP(TR)-10",1,"SSCB-P(XB2)-20",null,null,"D&OM(6)-25","ITS(18)-15","MS(7)-22","SMD(CPS-2)-23","TCP(SC-7)-22",null,null,"ADSB-30-15","ADSB3015","2020-08-01","CD-CGT-PCO","2023-06-01","DSBRA","2020-08-01","POD","2020-02-01","SETP-FW-30","2020-02-01","SSB-28-30","2021-11-01"]
[null,"GBRLTR(TL3)-14",1,"SSCC-16",1,null,"D&OM(VIA)-25","ITS(19)-17","OSBC","SMD(CPS-3)-23","TCP(SC-8)-22",null,null,"ADSB-30-30","ADSB3030","2020-08-01","CD-PCU","2023-06-01","DSBSD-24","2020-08-01","PPBC-RC","2024-10-01","SETP-FW-A-15","2020-02-01","SSB-30","2021-11-01"]
[null,"GBRLTR(TL4)-14",null,"SSCHEB-21",null,null,"D&OM(SIGN)-25","ITS(2)-15","OSBC-SC-Z1","SMD(CPS-4)-23","TCP-RCP-15",null,null,"AJ","AJ","2024-10-01","CD-CGT-PCU","2023-06-01","DSBSD-28","2020-08-01","PR11","2019-09-01","SETP-FW-A-30","2020-02-01","SSB-30-15","2021-11-01"]
[null,"GF(31)-19",null,"SSCHEB2-21",null,null,"DMA-100(1)-12","ITS(20)-15","OSBC-SC-Z2","SMD(FRP)-08","TLRS(1)-17",null,null,"ASB-24","ASB24","2021-11-01","CGT-PCO","2020-02-01","DSBSD-30","2020-08-01","PR22","2019-09-01","SETP-FW-A-O","2020-02-01","SSB-30-30","2021-11-01"]
[null,"GF(31)DAT-19",null,"SRG(TL-2)-21",null,null,"DMA-100(2)-12","ITS(21)-15","OSBC-SC-Z3","SMD(GEN)-08","TLRS(2)-17",null,null,"ASB-24-15","ASB2415","2021-11-01","CGT-PCU","2020-02-01","ECD","2020-02-01","PR3","2019-09-01","SETP-PD","2020-02-01","SSPC","2024-10-01"]
[null,"GF(31)LS-19",null,"SRG(TL-3)-21",null,null,"DMA-100(3)-12","ITS(22)-15","OSBC-SC-Z4","SMD(LRSS-1)-24","TLRS(3)-17",null,null,"ASB-24-30","ASB2430","2021-11-01","CH-FW-0","2020-02-01","FD","2024-10-24","PR3-HD","2019-09-01","SETP-PD-A","2020-02-01","SSTR","2019-09-01"]
[null,"GF(31)MS-19",null,"SWEEP-04",null,null,"DMA-80(1)-12","ITS(23)-15","OSB-FD","SMD(LRSS-2)-24","TLRS(4)-17",null,null,"ASB-28","ASB28","2021-11-01","CH-FW-15","2020-02-01","FDN","2024-10-24","PRM","2023-03-01","SGEB","2024-10-01","SW-0","2020-02-01"]
[null,"GF(31)T101-19",null,"SWP3A-23",1,null,"DMA-80(2)-12","ITS(24)-15","OSB-FD-SC","SMD(LRSS-3)-24","TREATMENT FOR VARIOUS EDGE CONDITIONS",null,null,"ASB-28-15","ASB2815","2021-11-01","CH-FW-30","2020-02-01","FW-0","2020-02-01","PSBSD","2021-01-01","SGMD","2024-10-01","T131RC","2019-09-01"]
[null,"GF(31)T6-19",null,"SWP3B-23",1,null,"DMA-80(3)-12","ITS(25)-15","OSB-SE","SMD(LRSS-4)-24","TS2(PL-1)-23",null,null,"ASB-28-30","ASB2830","2021-11-01","CH-FW-45","2020-02-01","FW-S","2020-02-01","PSET-RC","2020-02-01","SGMS","2024-10-01","T1F","2019-09-01"]
[null,"GF(31)TRTL2-19",null,"TAU(M)(N)-19",1,null,"DMS(HZ-1)-21","ITS(26)-15","OSBS-SC","SMD(SLIP-1)-08","TS2(PL-2)-23",null,null,"ASB-30","ASB30","2021-11-01","CH-FW-A-0","2020-02-01","GS-ES-CD","2020-02-01","PSET-RP","2020-02-01","SGTS","2024-10-01","T1W","2019-09-01"]
[null,"GF(31)TRTL3-20",1,"TAU-II(W)-16",1,null,"DMS(HZ-2)-21","ITS(27)-16","OSBT","SMD(SLIP-2)-08","TS-BP-20",null,null,"ASB-30-15","ASB3015","2021-11-01","CH-FW-A-15","2020-02-01","GS-ES-PD","2020-02-01","PSET-RR","2020-02-01","SIG-24","2019-10-01","T2/T201TR","2019-09-01"]
[null,null,1,null,null,null,"DMS(TM-1)-16","ITS(28)-16","OSBT-21","SMD(SLIP-3)-08","TS-CD-22",null,null,"ASB-30-30","ASB3030","2021-11-01","CH-FW-A-30","2020-02-01","IGCS","2019-10-01","PSET-SC","2021-12-01","SIG-24-15","2019-10-01","T202TR","2019-09-01"]
[null,"HIGHWAYGUARD-21",1,"TAU-II-R(W)-16",1,null,"DMS(TM-2)-16","ITS(29)-22","OSB-Z1","SMD(TWT)-08","TS-CF-21",null,null,"BAS-A","BASA","2024-10-01","CH-FW-A-45","2020-02-01","IGD","2019-10-01","PSET-SP","2021-12-01","SIG-24-30","2019-10-01","TYPE T221","2019-09-01"]
[null,"HV2BARRIER-21",null,"TAU-XR(N)-24",null,null,"DMS(TM-3)-16","ITS(3)-16","OSB-Z2I","SNS-95","TS-FD-12",null,null,"BAS-C","BASC","2024-10-01","CH-PW-0","2020-02-01","IGFRP","2019-10-01","PSL","2020-02-01","SIG-24-45","2019-10-01","TYPE T221P","2019-09-01"]
[null,"JS-14",null,"TE(HMAC)-11",null,null,"ED(1)-25","ITS(30)-16","OSB-Z3","SOLS","TSR(1)-13",null,null,"BCS","BCS","2020-02-01","CH-PW-A-0","2020-02-01","IGMS","2019-10-01","PW","2020-02-01","SIG-28","2019-10-01","TYPE T222","2019-09-01"]
[null,"LPCB-13",null,"TRACC(W)-16",null,null,"ED(10)-25","ITS(31)-16","OSB-Z3","SOLS(TY G)","TSR(2)-13",null,null,"BCS-24","BCS24","2021-07-01","CH-PW-A-S","2020-02-01","IGND","2022-03-01","RAC","2020-02-01","SIG-28-15","2019-10-01","TYPE T223","2019-09-01"]
[null,"LPTB-22",null,"TRANS-20",null,null,"ED(11)-25","ITS(32)-16","OSB-Z3I","SOLS(TY O)","TSR(3)-13",null,null,"BCS-24-15","BCS2415","2021-07-01","CH-PW-S","2020-02-01","IGSD-24","2021-01-01","RAC-R","2020-02-01","SIG-28-30","2019-10-01","TYPE T224","2019-09-01"]
[null,"M-10",null,"TRB-24 (1)",1,null,"ED(12)-25","ITS(33)-16","OSB-Z4","SOLSR","TSR(4)-13",null,null,"BCS-24-30","BCS2430","2021-07-01","CLF-RO","2019-09-01","IGSD-28","2021-01-01","RW(CB)DD","2022-06-01","SIG-28-45","2019-10-01","TYPE T2P","2019-09-01"]
[null,"MATT(1)-23",null,"TRB-15 (2)",null,null,"ED(2)-25","ITS(34)-16","OSB-Z4I","SOSS","TSR(5)-13",null,null,"BCS-28","BCS28","2021-07-01","CP","2024-10-01","IGSD-30","2021-01-01","RW(LB)","2022-06-01","SIG-30","2019-10-01","TYPE T402","2019-09-01"]
[null,"MB-14 (2)",null,"TWT-04",null,null,"ED(3)-25","ITS(35)-16","OSB-Z4I","SP-100(1)-12","WV & IZ(LTS2013)-14",null,null,"BCS-28-15","BCS2815","2021-07-01","C-RAIL-R","2020-07-01","IGSD-32","2021-01-01","RW(SF)","2022-08-22","SIG-30-15","2019-10-01","TYPE T411","2020-07-01"]
[null,"MB(1)-21",null,"VIA(SFPM)-19",1,null,"ED(4)-25","ITS(36)-16","PM(1)-22","SP-100(2)-12","WV & IZ-14",null,null,"BCS-28-30","BCS2830","2021-07-01","CRJ-ITB","2020-07-01","IGSD-38","2021-01-01","RW(SFA)","2022-08-22","SIG-30-30","2019-10-01","T5/T501/T502TR","2019-09-01"]
[null,"MB(2)-21",null,"WF(1)-10",null,null,"ED(5)-25","ITS(37)-22","PM(2)-22","SP-80(1)-12","WZ(BRK)-13",null,null,"BCS-30","BCS30","2021-07-01","CRR","2024-10-01","IGSD-40","2021-01-01","RW(SFB)","2022-08-22","SIG-30-45","2019-10-01","TYPE T551","2019-09-01"]
[null,"MB(3)-21",null,"WF(2)-10",null,null,"ED(6)-25","ITS(38)-17","PM(3)-22","SP-80(2)-12","WZ(BTS-1)-13",null,null,"BCS-30-15","BCS3015","2021-07-01","CS-25-24","2021-07-01","IGSD-44","2021-01-01","RW(SFC)","2022-08-22","SIG-32","2019-10-01","TYPE T552","2019-09-01"]
[null,"MB(4)-21",null,"WMED-23",null,null,"ED(7)-25","ITS(39)-16","PM(4)-22A","SPRFBA(1)-13","WZ(BTS-2)-13",null,null,"BCS-30-30","BCS3030","2021-07-01","CS-25-28","2021-07-01","IGSK","2017-08-01","RW(MSE)","2022-06-01","SIG-32-15","2019-10-01","TYPE T631","2020-07-01"]
[null,"MBGF(MS)-19",null,"ZONEGUARD-19",null,null,"ED(8)-25","ITS(4)-15","PM(5)-22","SPRFBA(2)-13","WZ(RCD)-13",null,null,"BCS-38","BCS38","2021-07-01","CS-25-30","2021-07-01","IGTS","2024-11-01","RW(MSE)DD","2022-06-01","SIG-32-30","2019-10-01","TYPE T631-CM","2020-02-01"]
[null,"MBGF(SR)-19",null,null,null,null,"ED(9)-25","ITS(40)-17","PM(AP)-21","SPRFBA(3)-13","WZ(RS)-22",null,null,"BCS-38-15","BCS3815","2021-07-01","CS-25-38","2021-07-01","IL-S","2020-02-01","RW(TRF)","2022-06-01","SIG-32-45","2019-10-01","TYPE T631LS","2020-07-01"]
[null,"MBGF(T101)-19",null,null,null,null,"FGA-15","ITS(41)-16","RCD(1)-25",null,"WZ(STPM)-23",null,null,"BCS-38-30","BCS3830","2021-07-01","CS-25-44","2021-07-01","MC-10-10","2020-02-01","SBBR","2021-11-01","SIG-38","2019-10-01","TYPE T66","2019-09-01"]
[null,"MBGF(TL2)-19",null,null,null,null,"FPM(1)-22","ITS(42)-16","RCD(2)-25","TCP(1-1)-18","WZ(TD)-17",null,null,"BCS-44","BCS44","2021-07-01","CS-50-24","2021-07-01","MC-10-13","2020-02-01","SBCS","2021-11-01","SIG-38-15","2019-10-01","TYPE T80HT","2019-09-01"]
[null,"MBGF(TR)-19",null,null,null,null,"FPM(2)-22","ITS(43)-16","RFBA-13","TCP(1-2)-18","WZ(UL)-13",null,null,"BCS-44-15","BCS4415","2021-07-01","CS-50-24-15","2021-07-01","MC-10-16","2020-02-01","SBEB","2021-11-01","SIG-38-30","2019-10-01","TYPE T80PP-RF","2020-07-01"]
[null,null,null,null,null,null,"FPM(3)-22","ITS(44)-16","RID (1)-20","TCP(1-3)-18","WZ-ITS(1)-19",null,null,"BCS-44-30","BCS4430","2021-07-01","CS-50-24-30","2021-07-01","MC-10-20","2020-02-01","SBMD","2021-11-01","SIG-38-45","2019-10-01","TYPE T80PP-TS","2020-07-01"]
[null,null,null,null,null,null,"FPM(4)-22",null,null,"TCP(1-4)-18","WZ-ITS(2)-19",null,null,"BD-1",{"$f":"TRIM(SUBSTITUTE(SUBSTITUTE(SUBSTITUTE(SUBSTITUTE(SUBSTITUTE(SUBSTITUTE(N67,\"(\",\"\"),\")\",\"\"),\"-\",\"\"),\"&\",\"\"),\" \",\"\",1),\" \",\"\",1))","v":"BD1"},"2020-02-01","CS-50-28","2021-07-01","MC-10-23","2020-02-01","SBMS","2021-11-01","SIG-40","2019-10-01","TYPE T80SS","2019-09-01"]
[null,null,null,null,null,null,"FPM(5)-22",null,null,"TCP(1-5)-18","WZ-ITS(3)-19",null,null,"BD-2","BD2","2020-02-01","CS-50-28-15","2021-07-01","MC-10-7","2020-02-01","SBSD-24","2021-11-01","SIG-40-15","2019-10-01","TRDS","2020-07-01"]
[null,null,null,null,null,null,"FPM(6)-22",null,null,"TCP(1-6)-18",null,null,null,"BD-3","BD3","2020-02-01","CS-50-28-30","2021-07-01","MC-3-23","2020-02-01","SBSD-28","2021-11-01","SIG-40-30","2019-10-01","TRF","2020-07-01"]
[null,null,null,null,null,null,"HCOSS-Z1-10",null,null,"TCP(2-1)-18",null,null,null,"BDSB-24","BDSB24","2020-08-01","CS-50-30","2021-07-01","MC-4-23","2020-02-01","SBSD-30","2021-11-01","SIG-40-45","2019-10-01","TRF80","2020-07-01"]
[null,null,null,null,null,null,null,null,null,null,null,null,null,"BDSB-24-15","BDSB2415","2020-08-01","CS-50-30-15","2021-07-01","MC-5-20","2020-02-01","SBTS","2021-11-01","SIG-44","2019-10-01","AXB-32","2022-08-22"]
[null,null,null,null,null,null,null,null,null,null,null,null,null,null,{"$f":"TRIM(SUBSTITUTE(SUBSTITUTE(SUBSTITUTE(SUBSTITUTE(SUBSTITUTE(SUBSTITUTE(N72,\"(\",\"\"),\")\",\"\"),\"-\",\"\"),\"&\",\"\"),\" \",\"\",1),\" \",\"\",1))","v":""},null,"CS-50-30-30","2021-07-01","MC-5-23","2020-02-01","SCC-10","2021-04-01","SIG-44-15","2019-10-01","AXB-32-15","2022-08-22"]
[null,null,null,null,null,null,null,null,null,null,null,null,null,null,{"$f":"TRIM(SUBSTITUTE(SUBSTITUTE(SUBSTITUTE(SUBSTITUTE(SUBSTITUTE(SUBSTITUTE(N73,\"(\",\"\"),\")\",\"\"),\"-\",\"\"),\"&\",\"\"),\" \",\"\",1),\" \",\"\",1))","v":""},null,"CS-50-38","2021-07-01","MC-6-16","2020-02-01","SCC-3 & 4","2021-04-01","SIG-44-30","2019-10-01","AXB-32-30","2022-08-22"]
[null,null,null,null,null,null,null,null,null,null,null,null,null,null,"",null,"CS-50-38-15","2021-07-01","MC-6-20","2020-02-01","SCC-5 & 6","2021-04-01","SIG-44-45","2019-10-01","AXB-38","2022-08-22"]
[null,null,null,null,null,null,null,null,null,null,null,null,null,null,"",null,"CS-50-38-30","2021-07-01",null,null,"SCC-7","2021-04-01",null,null,"AXB-38-15","2022-08-22"]
[null,null,null,null,null,null,null,null,null,null,null,null,null,null,"",null,"CS-50-44","2021-07-01",null,null,"SCC-8","2021-04-01",null,null,"AXB-38-30","2022-08-22"]
[null,null,null,null,null,null,null,null,null,null,null,null,null,null,"",null,"CS-50-44-15","2021-07-01",null,null,"SCC-9","2021-04-01",null,null,"AXB-40","2022-08-22"]
[null,null,null,null,null,null,null,null,null,null,null,null,null,null,"",null,"CS-50-44-30","2021-07-01",null,null,"SCC-MD","2020-02-01",null,null,"AXB-40-15","2022-08-22"]
[null,null,null,null,null,null,null,null,null,null,null,null,null,null,"",null,null,null,null,null,null,null,null,null,"AXB-40-30","2022-08-22"]
[null,null,null,null,null,null,null,null,null,null,null,null,null,null,"",null,null,null,null,null,null,null,null,null,"BTXB-32","2022-08-22"]
[null,null,null,null,null,null,null,null,null,null,null,null,null,{"$f":"Q2","v":"BDSB-24-30"},"BDSB2430",{"$f":"R2","v":"2020-08-01"},null,null,null,null,null,null,null,null,"BTXB-32-15","2022-08-22"]
[null,null,null,null,null,null,null,null,null,null,null,null,null,{"$f":"Q3","v":"BDSB-28"},"BDSB28",{"$f":"R3","v":"2020-08-01"},null,null,null,null,null,null,null,null,"BTXB-32-30","2022-08-22"]
[null,null,null,null,null,null,null,null,null,null,null,null,null,"BDSB-28-15","BDSB2815","2020-08-01",null,null,null,null,null,null,null,null,"BTXB-38","2022-08-22"]
[null,null,null,null,null,null,null,null,null,null,null,null,null,"BDSB-28-30","BDSB2830","2020-08-01",null,null,null,null,null,null,null,null,"BTXB-38-15","2022-08-22"]
[null,null,null,null,null,null,null,null,null,null,null,null,null,"BDSB-30","BDSB30","2020-08-01",null,null,null,null,null,null,null,null,"BTXB-38-30","2022-08-22"]
[null,null,null,null,null,null,null,null,null,null,null,null,null,"BDSB-30-15","BDSB3015","2020-08-01",null,null,null,null,null,null,null,null,"BTXB-40","2022-08-22"]
[null,null,null,null,null,null,null,null,null,null,null,null,null,"BDSB-30-30","BDSB3030","2020-08-01",null,null,null,null,null,null,null,null,"BTXB-40-15","2022-08-22"]
[null,null,null,null,null,null,null,null,null,null,null,null,null,"BL","BL","2024-10-24",null,null,null,null,null,null,null,null,"BTXB-40-30","2022-08-22"]
[null,null,null,null,null,null,null,null,null,null,null,null,null,{"$f":"Q10","v":"BL-D"},{"$f":"TRIM(SUBSTITUTE(SUBSTITUTE(SUBSTITUTE(SUBSTITUTE(SUBSTITUTE(SUBSTITUTE(N89,\"(\",\"\"),\")\",\"\"),\"-\",\"\"),\"&\",\"\"),\" \",\"\",1),\" \",\"\",1))","v":"BLD"},{"$f":"R10","v":"2024-10-24"},null,null,null,null,null,null,null,null,"BXB-32","2022-08-22"]
[null,null,null,null,null,null,null,null,null,null,null,null,null,"BL-L","BLL","2024-10-24",null,null,null,null,null,null,null,null,"BXB-32-15","2022-08-22"]
[null,null,null,null,null,null,null,null,null,null,null,null,null,"BMCS","BMCS","2024-10-01",null,null,null,null,null,null,null,null,"BXB-32-30","2022-08-22"]
[null,null,null,null,null,null,null,null,null,null,null,null,null,"BPBW","BPBW","2021-12-01",null,null,null,null,null,null,null,null,"BXB-38","2022-08-22"]
[null,null,null,null,null,null,null,null,null,null,null,null,null,"BRSM","BRSM","2024-10-01",null,null,null,null,null,null,null,null,"BXB-38-15","2022-08-22"]
[null,null,null,null,null,null,null,null,null,null,null,null,null,"BSB-24","BSB24","2021-11-01",null,null,null,null,null,null,null,null,"BXB-38-30","2022-08-22"]
[null,null,null,null,null,null,null,null,null,null,null,null,null,"BSB-24-15","BSB2415","2021-11-01",null,null,null,null,null,null,null,null,"BXB-40","2022-08-22"]
[null,null,null,null,null,null,null,null,null,null,null,null,null,"BSB-24-30","BSB2430","2021-11-01",null,null,null,null,null,null,null,null,"BXB-40-15","2022-08-22"]
[null,null,null,null,null,null,null,null,null,null,null,null,null,"BSB-28","BSB28","2021-11-01",null,null,null,null,null,null,null,null,"BXB-40-30","2022-08-22"]
[null,null,null,null,null,null,null,null,null,null,null,null,null,"BSB-28-15","BSB2815","2021-11-01",null,null,null,null,null,null,null,null,"SXB-32","2022-08-22"]
[null,null,null,null,null,null,null,null,null,null,null,null,null,"BSB-28-30","BSB2830","2021-11-01",null,null,null,null,null,null,null,null,"SXB-32-15","2022-08-22"]
[null,null,null,null,null,null,null,null,null,null,null,null,null,"BSB-30","BSB30","2021-11-01",null,null,null,null,null,null,null,null,"SXB-32-30","2022-08-22"]
[null,null,null,null,null,null,null,null,null,null,null,null,null,"BSB-30-15","BSB3015","2021-11-01",null,null,null,null,null,null,null,null,"SXB-38","2022-08-22"]
[null,null,null,null,null,null,null,null,null,null,null,null,null,"BSB-30-30","BSB3030","2021-11-01",null,null,null,null,null,null,null,null,"SXB-38-15","2022-08-22"]
[null,null,null,null,null,null,null,null,null,null,null,null,null,"BS-EJCP","BSEJCP","2024-10-01",null,null,null,null,null,null,null,null,"SXB-38-30","2022-08-22"]
[null,null,null,null,null,null,null,null,null,null,null,null,null,"C1W","C1W","2019-09-01",null,null,null,null,null,null,null,null,"SXB-40","2022-08-22"]
[null,null,null,null,null,null,null,null,null,null,null,null,null,"C221","C221","2019-09-01",null,null,null,null,null,null,null,null,"SXB-40-15","2022-08-22"]
[null,null,null,null,null,null,null,null,null,null,null,null,null,"C223","C223","2019-09-01",null,null,null,null,null,null,null,null,"XB20","2022-08-22"]
[null,null,null,null,null,null,null,null,null,null,null,null,null,"C2P","C2P","2019-09-01",null,null,null,null,null,null,null,null,"XB28","2022-08-22"]
[null,null,null,null,null,null,null,null,null,null,null,null,null,"C402","C402","2019-09-01",null,null,null,null,null,null,null,null,"XB34","2022-08-22"]
[null,null,null,null,null,null,null,null,null,null,null,null,null,"C411","C411","2020-07-01",null,null,null,null,null,null,null,null,"XB40","2022-08-22"]
[null,null,null,null,null,null,null,null,null,null,null,null,null,"C412","C412","2019-09-01",null,null,null,null,null,null,null,null,"XBBR-MS","2022-08-22"]
[null,null,null,null,null,null,null,null,null,null,null,null,null,"C66","C66","2019-09-01",null,null,null,null,null,null,null,null,"XBCS","2022-08-22"]
[null,null,null,null,null,null,null,null,null,null,null,null,null,"CCO","CCO","2020-02-01"]
[null,null,null,null,null,null,null,null,null,null,null,null,null,"CC-RAIL-R","CCRAILR","2024-06-01"]
[null,null,null,null,null,null,null,null,null,null,null,null,null,"CD-CCO","CDCCO","2023-06-01"]
[null,null,null,null,null,null,null,null,null,null,null,null,null,"CD-PCO","CDPCO","2023-06-01"]
[null,null,null,null,null,null,null,null,null,null,null,null,null,"CD-CGT-PCO","CDCGTPCO","2023-06-01"]
[null,null,null,null,null,null,null,null,null,null,null,null,null,"CD-PCU","CDPCU","2023-06-01",null,null,null,null,null,null,null,null,"XBEB","2022-08-22"]
[null,null,null,null,null,null,null,null,null,null,null,null,null,"CD-CGT-PCU","CDCGTPCU","2023-06-01",null,null,null,null,null,null,null,null,"XBND","2022-08-22"]
[null,null,null,null,null,null,null,null,null,null,null,null,null,"CGT-PCO","CGTPCO","2020-02-01",null,null,null,null,null,null,null,null,"XBSD-32","2022-08-22"]
[null,null,null,null,null,null,null,null,null,null,null,null,null,"CGT-PCU","CGTPCU","2020-02-01",null,null,null,null,null,null,null,null,"XBSD-38","2022-08-22"]
[null,null,null,null,null,null,null,null,null,null,null,null,null,"CH-FW-0","CHFW0","2020-02-01",null,null,null,null,null,null,null,null,"XBSD-40","2022-08-22"]
[null,null,null,null,null,null,null,null,null,null,null,null,null,"CH-FW-15","CHFW15","2020-02-01",null,null,null,null,null,null,null,null,"XBSK","2022-08-22"]
[null,null,null,null,null,null,null,null,null,null,null,null,null,"CH-FW-30","CHFW30","2020-02-01",null,null,null,null,null,null,null,null,"XBTS","2022-08-22"]
[null,null,null,null,null,null,null,null,null,null,null,null,null,"CH-FW-45","CHFW45","2020-02-01",null,null,null,null,null,null,null,null,"SXB-40-30","2022-08-22"]
[null,null,null,null,null,null,null,null,null,null,null,null,null,"CH-FW-A-0","CHFWA0","2020-02-01",null,null,null,null,null,null,null,null,"XBSD-44","2022-08-22"]
[null,null,null,null,null,null,null,null,null,null,null,null,null,"CH-FW-A-15","CHFWA15","2020-02-01",null,null,null,null,null,null,null,null,"AXB-44","2022-08-22"]
[null,null,null,null,null,null,null,null,null,null,null,null,null,"CH-FW-A-30","CHFWA30","2020-02-01",null,null,null,null,null,null,null,null,"AXB-44-15","2022-08-22"]
[null,null,null,null,null,null,null,null,null,null,null,null,null,"CH-FW-A-45","CHFWA45","2020-02-01",null,null,null,null,null,null,null,null,"AXB-44-30","2022-08-22"]
[null,null,null,null,null,null,null,null,null,null,null,null,null,"CH-PW-0","CHPW0","2020-02-01",null,null,null,null,null,null,null,null,"BXB-44","2022-08-22"]
[null,null,null,null,null,null,null,null,null,null,null,null,null,"CH-PW-A-0","CHPWA0","2020-02-01",null,null,null,null,null,null,null,null,"BXB-44-15","2022-08-22"]
[null,null,null,null,null,null,null,null,null,null,null,null,null,"CH-PW-A-S","CHPWAS","2020-02-01",null,null,null,null,null,null,null,null,"BXB-44-30","2022-08-22"]
[null,null,null,null,null,null,null,null,null,null,null,null,null,"CH-PW-S","CHPWS","2020-02-01",null,null,null,null,null,null,null,null,"BTXB-44","2022-08-22"]
[null,null,null,null,null,null,null,null,null,null,null,null,null,"CLF-RO","CLFRO","2019-09-01",null,null,null,null,null,null,null,null,"BTXB-44-15","2022-08-22"]
[null,null,null,null,null,null,null,null,null,null,null,null,null,"CP","CP","2024-10-01",null,null,null,null,null,null,null,null,"BTXB-44-30","2022-08-22"]
[null,null,null,null,null,null,null,null,null,null,null,null,null,"C-RAIL-R","CRAILR","2020-07-01",null,null,null,null,null,null,null,null,"SXB-44","2022-08-22"]
[null,null,null,null,null,null,null,null,null,null,null,null,null,"CRJ-ITB","CRJITB","2020-07-01",null,null,null,null,null,null,null,null,"SXB-44-15","2022-08-22"]
[null,null,null,null,null,null,null,null,null,null,null,null,null,"CRR","CRR","2024-10-01",null,null,null,null,null,null,null,null,"SXB-44-30","2022-08-22"]
[null,null,null,null,null,null,null,null,null,null,null,null,null,"CS-25-24","CS2524","2021-07-01",null,null,null,null,null,null,null,null,"AIG-62-24 ","2023-10-01"]
[null,null,null,null,null,null,null,null,null,null,null,null,null,"CS-25-28","CS2528","2021-07-01",null,null,null,null,null,null,null,null,"AIG-62-24-15 ","2023-10-01"]
[null,null,null,null,null,null,null,null,null,null,null,null,null,"CS-25-30","CS2530","2021-07-01",null,null,null,null,null,null,null,null,"AIG-24-30 ","2023-10-01"]
[null,null,null,null,null,null,null,null,null,null,null,null,null,"CS-25-38","CS2538","2021-07-01",null,null,null,null,null,null,null,null,"AIG-62-24-30 ","2023-10-01"]
[null,null,null,null,null,null,null,null,null,null,null,null,null,"CS-25-44","CS2544","2021-07-01",null,null,null,null,null,null,null,null,"AIG-24-45 ","2023-10-01"]
[null,null,null,null,null,null,null,null,null,null,null,null,null,"CS-50-24","CS5024","2021-07-01",null,null,null,null,null,null,null,null,"AIG-28 ","2023-10-01"]
[null,null,null,null,null,null,null,null,null,null,null,null,null,"CS-50-24-15","CS502415","2021-07-01",null,null,null,null,null,null,null,null,"AIG-62-28 ","2023-10-01"]
[null,null,null,null,null,null,null,null,null,null,null,null,null,"CS-50-24-30","CS502430","2021-07-01",null,null,null,null,null,null,null,null,"AIG-62-32-30 ","2023-10-01"]
[null,null,null,null,null,null,null,null,null,null,null,null,null,"CS-50-28","CS5028","2021-07-01",null,null,null,null,null,null,null,null,"AIG-62-32-45 ","2023-10-01"]
[null,null,null,null,null,null,null,null,null,null,null,null,null,"CS-50-28-15","CS502815","2021-07-01",null,null,null,null,null,null,null,null,"AIG-34 ","2023-10-01"]
[null,null,null,null,null,null,null,null,null,null,null,null,null,"CS-50-28-30","CS502830","2021-07-01",null,null,null,null,null,null,null,null,"AIG-34-15 ","2023-10-01"]
[null,null,null,null,null,null,null,null,null,null,null,null,null,"CS-50-30","CS5030","2021-07-01",null,null,null,null,null,null,null,null,"AIG-34-30","2023-10-01"]
[null,null,null,null,null,null,null,null,null,null,null,null,null,"CS-50-30-15","CS503015","2021-07-01",null,null,null,null,null,null,null,null,"AIG-38 ","2023-10-01"]
[null,null,null,null,null,null,null,null,null,null,null,null,null,"CS-50-30-30","CS503030","2021-07-01",null,null,null,null,null,null,null,null,"AIG-62-38 ","2023-10-01"]
[null,null,null,null,null,null,null,null,null,null,null,null,null,"CS-50-38","CS5038","2021-07-01",null,null,null,null,null,null,null,null,"AIG-38-15 ","2023-10-01"]
[null,null,null,null,null,null,null,null,null,null,null,null,null,{"$f":"Q74","v":"CS-50-38-15"},{"$f":"TRIM(SUBSTITUTE(SUBSTITUTE(SUBSTITUTE(SUBSTITUTE(SUBSTITUTE(SUBSTITUTE(N153,\"(\",\"\"),\")\",\"\"),\"-\",\"\"),\"&\",\"\"),\" \",\"\",1),\" \",\"\",1))","v":"CS503815"},{"$f":"R74","v":"2021-07-01"},null,null,null,null,null,null,null,null,"AIG-62-38-15 ","2023-10-01"]
[null,null,null,null,null,null,null,null,null,null,null,null,null,"CS-50-38-30","CS503830","2021-07-01",null,null,null,null,null,null,null,null,"AIG-40-45 ","2023-10-01"]
[null,null,null,null,null,null,null,null,null,null,null,null,null,"CS-50-44","CS5044","2021-07-01",null,null,null,null,null,null,null,null,"AIG-44 ","2023-10-01"]
[null,null,null,null,null,null,null,null,null,null,null,null,null,"CS-50-44-15","CS504415","2021-07-01",null,null,null,null,null,null,null,null,"AIG-62-44 ","2023-10-01"]
[null,null,null,null,null,null,null,null,null,null,null,null,null,"CS-50-44-30","CS504430","2021-07-01",null,null,null,null,null,null,null,null,"AIG-44-15 ","2023-10-01"]
[null,null,null,null,null,null,null,null,null,null,null,null,null,{"$f":"Q79","v":0},{"$f":"TRIM(SUBSTITUTE(SUBSTITUTE(SUBSTITUTE(SUBSTITUTE(SUBSTITUTE(SUBSTITUTE(N158,\"(\",\"\"),\")\",\"\"),\"-\",\"\"),\"&\",\"\"),\" \",\"\",1),\" \",\"\",1))","v":"0"},{"$f":"R79","v":"00:00:00"},null,null,null,null,null,null,null,null,"AIG-62-44-15 ","2023-10-01"]
[null,null,null,null,null,null,null,null,null,null,null,null,null,0,"0","00:00:00",null,null,null,null,null,null,null,null,"AIG-44-30 ","2023-10-01"]
[null,null,null,null,null,null,null,null,null,null,null,null,null,{"$f":"S2","v":"CS-75-24"},"CS7524",{"$f":"T2","v":"2021-07-01"},null,null,null,null,null,null,null,null,"AIH-62-44-30 ","2023-10-01"]
[null,null,null,null,null,null,null,null,null,null,null,null,null,"CS-75-24-15","CS752415","2021-07-01",null,null,null,null,null,null,null,null,"AIG-62-44-45","2023-10-01"]
[null,null,null,null,null,null,null,null,null,null,null,null,null,"CS-75-24-30","CS752430","2021-07-01",null,null,null,null,null,null,null,null,"SRR-WL","2024-06-01"]
[null,null,null,null,null,null,null,null,null,null,null,null,null,"CS-75-28","CS7528","2021-07-01",null,null,null,null,null,null,null,null,"WSBC","2024-06-01"]
[null,null,null,null,null,null,null,null,null,null,null,null,null,"CS-75-28-15","CS752815","2021-07-01",null,null,null,null,null,null,null,null,"BES","2024-06-01"]
[null,null,null,null,null,null,null,null,null,null,null,null,null,"CS-75-28-30","CS752830","2021-07-01",null,null,null,null,null,null,null,null,"CLF-CRO","2024-06-02"]
[null,null,null,null,null,null,null,null,null,null,null,null,null,"CS-75-30","CS7530","2021-07-01",null,null,null,null,null,null,null,null,"TC411-R","2024-06-03"]
[null,null,null,null,null,null,null,null,null,null,null,null,null,"CS-75-30-15","CS753015","2021-07-01",null,null,null,null,null,null,null,null,"HSS-R","2024-06-04"]
[null,null,null,null,null,null,null,null,null,null,null,null,null,"CS-75-30-30","CS753030","2021-07-01",null,null,null,null,null,null,null,null,"WF-IGD","2024-08-01"]
[null,null,null,null,null,null,null,null,null,null,null,null,null,"CS-75-38","CS7538","2021-07-01",null,null,null,null,null,null,null,null,"WF-IGDN","2024-08-01"]
[null,null,null,null,null,null,null,null,null,null,null,null,null,"CS-75-38-15","CS753815","2021-07-01",null,null,null,null,null,null,null,null,"BL-R","2024-10-24"]
[null,null,null,null,null,null,null,null,null,null,null,null,null,"CS-75-38-30","CS753830","2021-07-01",null,null,null,null,null,null,null,null,"PCA-SUP","2024-10-25"]
[null,null,null,null,null,null,null,null,null,null,null,null,null,"CS-75-44","CS7544","2021-07-01",null,null,null,null,null,null,null,null,"PCS-SUB","2024-10-26"]
[null,null,null,null,null,null,null,null,null,null,null,null,null,"CS-75-44-15","CS754415","2021-07-01"]
[null,null,null,null,null,null,null,null,null,null,null,null,null,"CS-75-44-30","CS754430","2021-07-01"]
[null,null,null,null,null,null,null,null,null,null,null,null,null,"CS-80-24","CS8024","2021-07-01"]
[null,null,null,null,null,null,null,null,null,null,null,null,null,"CS-80-24-15","CS802415","2021-07-01"]
[null,null,null,null,null,null,null,null,null,null,null,null,null,"CS-80-24-30","CS802430","2021-07-01"]
[null,null,null,null,null,null,null,null,null,null,null,null,null,"CS-80-28","CS8028","2021-07-01"]
[null,null,null,null,null,null,null,null,null,null,null,null,null,"CS-80-28-15","CS802815","2021-07-01"]
[null,null,null,null,null,null,null,null,null,null,null,null,null,"CS-80-28-30","CS802830","2021-07-01"]
[null,null,null,null,null,null,null,null,null,null,null,null,null,"CS-80-30","CS8030","2021-07-01"]
[null,null,null,null,null,null,null,null,null,null,null,null,null,"CS-80-30-15","CS803015","2021-07-01"]
[null,null,null,null,null,null,null,null,null,null,null,null,null,"CS-80-30-30","CS803030","2021-07-01"]
[null,null,null,null,null,null,null,null,null,null,null,null,null,"CS-80-38","CS8038","2021-07-01"]
[null,null,null,null,null,null,null,null,null,null,null,null,null,"CS-80-38-15","CS803815","2021-07-01"]
[null,null,null,null,null,null,null,null,null,null,null,null,null,"CS-80-38-30","CS803830","2021-07-01"]
[null,null,null,null,null,null,null,null,null,null,null,null,null,"CS-80-44","CS8044","2021-07-01"]
[null,null,null,null,null,null,null,null,null,null,null,null,null,"CS-80-44-15","CS804415","2021-07-01"]
[null,null,null,null,null,null,null,null,null,null,null,null,null,"CS-80-44-30","CS804430","2021-07-01"]
[null,null,null,null,null,null,null,null,null,null,null,null,null,"CSAB","CSAB","2024-10-01"]
[null,null,null,null,null,null,null,null,null,null,null,null,null,"CS-MD","CSMD","2021-07-01"]
[null,null,null,null,null,null,null,null,null,null,null,null,null,{"$f":"S34","v":"DSBD"},"DSBD",{"$f":"T34","v":"2020-08-01"}]
[null,null,null,null,null,null,null,null,null,null,null,null,null,"DSBEB","DSBEB","2020-08-01"]
[null,null,null,null,null,null,null,null,null,null,null,null,null,"DSBND","DSBND","2020-08-01"]
[null,null,null,null,null,null,null,null,null,null,null,null,null,"DSBRA","DSBRA","2020-08-01"]
[null,null,null,null,null,null,null,null,null,null,null,null,null,"DSBSD-24","DSBSD24","2020-08-01"]
[null,null,null,null,null,null,null,null,null,null,null,null,null,"DSBSD-28","DSBSD28","2020-08-01"]
[null,null,null,null,null,null,null,null,null,null,null,null,null,"DSBSD-30","DSBSD30","2020-08-01"]
[null,null,null,null,null,null,null,null,null,null,null,null,null,"ECD","ECD","2020-02-01"]
[null,null,null,null,null,null,null,null,null,null,null,null,null,"FD","FD","2024-10-24"]
[null,null,null,null,null,null,null,null,null,null,null,null,null,"FDN","FDN","2024-10-24"]
[null,null,null,null,null,null,null,null,null,null,null,null,null,"FW-0",{"$f":"TRIM(SUBSTITUTE(SUBSTITUTE(SUBSTITUTE(SUBSTITUTE(SUBSTITUTE(SUBSTITUTE(N202,\"(\",\"\"),\")\",\"\"),\"-\",\"\"),\"&\",\"\"),\" \",\"\",1),\" \",\"\",1))","v":"FW0"},"2020-02-01"]
[null,null,null,null,null,null,null,null,null,null,null,null,null,"FW-S","FWS","2020-02-01"]
[null,null,null,null,null,null,null,null,null,null,null,null,null,"GS-ES-CD","GSESCD","2020-02-01"]
[null,null,null,null,null,null,null,null,null,null,null,null,null,"GS-ES-PD","GSESPD","2020-02-01"]
[null,null,null,null,null,null,null,null,null,null,null,null,null,"IGCS","IGCS","2019-10-01"]
[null,null,null,null,null,null,null,null,null,null,null,null,null,"IGD","IGD","2019-10-01"]
[null,null,null,null,null,null,null,null,null,null,null,null,null,"IGFRP","IGFRP","2019-10-01"]
[null,null,null,null,null,null,null,null,null,null,null,null,null,"IGMS","IGMS","2019-10-01"]
[null,null,null,null,null,null,null,null,null,null,null,null,null,"IGND","IGND","2022-03-01"]
[null,null,null,null,null,null,null,null,null,null,null,null,null,"IGSD-24","IGSD24","2021-01-01"]
[null,null,null,null,null,null,null,null,null,null,null,null,null,"IGSD-28","IGSD28","2021-01-01"]
[null,null,null,null,null,null,null,null,null,null,null,null,null,"IGSD-30","IGSD30","2021-01-01"]
[null,null,null,null,null,null,null,null,null,null,null,null,null,"IGSD-32","IGSD32","2021-01-01"]
[null,null,null,null,null,null,null,null,null,null,null,null,null,"IGSD-38","IGSD38","2021-01-01"]
[null,null,null,null,null,null,null,null,null,null,null,null,null,"IGSD-40","IGSD40","2021-01-01"]
[null,null,null,null,null,null,null,null,null,null,null,null,null,"IGSD-44","IGSD44","2021-01-01"]
[null,null,null,null,null,null,null,null,null,null,null,null,null,"IGSK","IGSK","2017-08-01"]
[null,null,null,null,null,null,null,null,null,null,null,null,null,"IGTS","IGTS","2024-11-01"]
[null,null,null,null,null,null,null,null,null,null,null,null,null,"IL-S","ILS","2020-02-01"]
[null,null,null,null,null,null,null,null,null,null,null,null,null,"MC-10-10","MC1010","2020-02-01"]
[null,null,null,null,null,null,null,null,null,null,null,null,null,"MC-10-13","MC1013","2020-02-01"]
[null,null,null,null,null,null,null,null,null,null,null,null,null,"MC-10-16","MC1016","2020-02-01"]
[null,null,null,null,null,null,null,null,null,null,null,null,null,{"$f":"S66","v":"MC-10-20"},"MC1020",{"$f":"T66","v":"2020-02-01"}]
[null,null,null,null,null,null,null,null,null,null,null,null,null,"MC-10-23","MC1023","2020-02-01"]
[null,null,null,null,null,null,null,null,null,null,null,null,null,"MC-10-7","MC107","2020-02-01"]
[null,null,null,null,null,null,null,null,null,null,null,null,null,"MC-3-23","MC323","2020-02-01"]
[null,null,null,null,null,null,null,null,null,null,null,null,null,"MC-4-23","MC423","2020-02-01"]
[null,null,null,null,null,null,null,null,null,null,null,null,null,"MC-5-20","MC520","2020-02-01"]
[null,null,null,null,null,null,null,null,null,null,null,null,null,"MC-5-23","MC523","2020-02-01"]
[null,null,null,null,null,null,null,null,null,null,null,null,null,{"$f":"S73","v":"MC-6-16"},{"$f":"TRIM(SUBSTITUTE(SUBSTITUTE(SUBSTITUTE(SUBSTITUTE(SUBSTITUTE(SUBSTITUTE(N231,\"(\",\"\"),\")\",\"\"),\"-\",\"\"),\"&\",\"\"),\" \",\"\",1),\" \",\"\",1))","v":"MC616"},{"$f":"T73","v":"2020-02-01"}]
[null,null,null,null,null,null,null,null,null,null,null,null,null,"MC-6-20","MC620","2020-02-01"]
[null,null,null,null,null,null,null,null,null,null,null,null,null,0,"0","00:00:00"]
[null,null,null,null,null,null,null,null,null,null,null,null,null,0,"0","00:00:00"]
[null,null,null,null,null,null,null,null,null,null,null,null,null,0,"0","00:00:00"]
[null,null,null,null,null,null,null,null,null,null,null,null,null,0,"0","00:00:00"]
[null,null,null,null,null,null,null,null,null,null,null,null,null,0,"0","00:00:00"]
[null,null,null,null,null,null,null,null,null,null,null,null,null,0,"0","00:00:00"]
[null,null,null,null,null,null,null,null,null,null,null,null,null,0,"0","00:00:00"]
[null,null,null,null,null,null,null,null,null,null,null,null,null,0,"0","00:00:00"]
[null,null,null,null,null,null,null,null,null,null,null,null,null,{"$f":"U2","v":"MC-6-23"},"MC623",{"$f":"V2","v":"2020-02-01"}]
[null,null,null,null,null,null,null,null,null,null,null,null,null,"MC-7-10","MC710","2020-02-01"]
[null,null,null,null,null,null,null,null,null,null,null,null,null,"MC-7-16","MC716","2020-02-01"]
[null,null,null,null,null,null,null,null,null,null,null,null,null,"MC-7-20","MC720","2020-02-01"]
[null,null,null,null,null,null,null,null,null,null,null,null,null,"MC-7-23","MC723","2020-02-01"]
[null,null,null,null,null,null,null,null,null,null,null,null,null,"MC-8-13","MC813","2020-02-01"]
[null,null,null,null,null,null,null,null,null,null,null,null,null,"MC-8-16","MC816","2020-02-01"]
[null,null,null,null,null,null,null,null,null,null,null,null,null,"MC-8-20","MC820","2020-02-01"]
[null,null,null,null,null,null,null,null,null,null,null,null,null,"MC-8-23","MC823","2020-02-01"]
[null,null,null,null,null,null,null,null,null,null,null,null,null,"MC-9-10","MC910","2020-02-01"]
[null,null,null,null,null,null,null,null,null,null,null,null,null,"MC-9-13","MC913","2020-02-01"]
[null,null,null,null,null,null,null,null,null,null,null,null,null,"MC-9-16","MC916","2020-02-01"]
[null,null,null,null,null,null,null,null,null,null,null,null,null,"MC-9-20","MC920","2020-02-01"]
[null,null,null,null,null,null,null,null,null,null,null,null,null,"MC-9-23","MC923","2020-02-01"]
[null,null,null,null,null,null,null,null,null,null,null,null,null,"MC-MD","MCMD","2020-02-01"]
[null,null,null,null,null,null,null,null,null,null,null,null,null,"MEBR(S)","MEBRS","2024-10-01"]
[null,null,null,null,null,null,null,null,null,null,null,null,null,"MN","MN","2019-09-01"]
[null,null,null,null,null,null,null,null,null,null,null,null,null,"NBIS",{"$f":"TRIM(SUBSTITUTE(SUBSTITUTE(SUBSTITUTE(SUBSTITUTE(SUBSTITUTE(SUBSTITUTE(N258,\"(\",\"\"),\")\",\"\"),\"-\",\"\"),\"&\",\"\"),\" \",\"\",1),\" \",\"\",1))","v":"NBIS"},"2024-10-01"]
[null,null,null,null,null,null,null,null,null,null,null,null,null,"PAZD","PAZD","2020-02-01"]
[null,null,null,null,null,null,null,null,null,null,null,null,null,"PAZD-CZ","PAZDCZ","2020-02-01"]
[null,null,null,null,null,null,null,null,null,null,null,null,null,"PB","PB","2020-02-01"]
[null,null,null,null,null,null,null,null,null,null,null,null,null,"PBC-P","PBCP","2024-10-01"]
[null,null,null,null,null,null,null,null,null,null,null,null,null,"PBC-RC","PBCRC","2024-10-01"]
[null,null,null,null,null,null,null,null,null,null,null,null,null,"PBGC","PBGC","2024-06-24"]
[null,null,null,null,null,null,null,null,null,null,null,null,null,"PCO","PCO","2020-02-01"]
[null,null,null,null,null,null,null,null,null,null,null,null,null,"PCA-SUP","PCASUP","2024-10-01"]
[null,null,null,null,null,null,null,null,null,null,null,null,null,"PCA-SUB",{"$f":"TRIM(SUBSTITUTE(SUBSTITUTE(SUBSTITUTE(SUBSTITUTE(SUBSTITUTE(SUBSTITUTE(N267,\"(\",\"\"),\")\",\"\"),\"-\",\"\"),\"&\",\"\"),\" \",\"\",1),\" \",\"\",1))","v":"PCASUB"},"2024-10-01"]
[null,null,null,null,null,null,null,null,null,null,null,null,null,"PCP","PCP","2024-10-01"]
[null,null,null,null,null,null,null,null,null,null,null,null,null,"PCP-FAB","PCPFAB","2024-10-01"]
[null,null,null,null,null,null,null,null,null,null,null,null,null,"PCSP","PCSP","2024-10-01"]
[null,null,null,null,null,null,null,null,null,null,null,null,null,"PCU","PCU","2020-02-01"]
[null,null,null,null,null,null,null,null,null,null,null,null,null,"PDD","PDD","2020-02-01"]
[null,null,null,null,null,null,null,null,null,null,null,null,null,{"$f":"U34","v":"PJB"},"PJB",{"$f":"V34","v":"2020-02-01"}]
[null,null,null,null,null,null,null,null,null,null,null,null,null,"PMBD","PMBD","2020-02-01"]
[null,null,null,null,null,null,null,null,null,null,null,null,null,"PMDF","PMDF","2024-10-01"]
[null,null,null,null,null,null,null,null,null,null,null,null,null,"POD","POD","2020-02-01"]
[null,null,null,null,null,null,null,null,null,null,null,null,null,"PPBC-RC","PPBCRC","2024-10-01"]
[null,null,null,null,null,null,null,null,null,null,null,null,null,"PR11","PR11","2019-09-01"]
[null,null,null,null,null,null,null,null,null,null,null,null,null,"PR22","PR22","2019-09-01"]
[null,null,null,null,null,null,null,null,null,null,null,null,null,"PR3","PR3","2019-09-01"]
[null,null,null,null,null,null,null,null,null,null,null,null,null,"PR3-HD","PR3HD","2019-09-01"]
[null,null,null,null,null,null,null,null,null,null,null,null,null,"PRM","PRM","2023-03-01"]
[null,null,null,null,null,null,null,null,null,null,null,null,null,"PSBSD","PSBSD","2021-01-01"]
[null,null,null,null,null,null,null,null,null,null,null,null,null,"PSET-RC","PSETRC","2020-02-01"]
[null,null,null,null,null,null,null,null,null,null,null,null,null,"PSET-RP","PSETRP","2020-02-01"]
[null,null,null,null,null,null,null,null,null,null,null,null,null,"PSET-RR","PSETRR","2020-02-01"]
[null,null,null,null,null,null,null,null,null,null,null,null,null,"PSET-SC","PSETSC","2021-12-01"]
[null,null,null,null,null,null,null,null,null,null,null,null,null,"PSET-SP","PSETSP","2021-12-01"]
[null,null,null,null,null,null,null,null,null,null,null,null,null,"PSL","PSL","2020-02-01"]
[null,null,null,null,null,null,null,null,null,null,null,null,null,"PW","PW","2020-02-01"]
[null,null,null,null,null,null,null,null,null,null,null,null,null,"RAC",{"$f":"TRIM(SUBSTITUTE(SUBSTITUTE(SUBSTITUTE(SUBSTITUTE(SUBSTITUTE(SUBSTITUTE(N291,\"(\",\"\"),\")\",\"\"),\"-\",\"\"),\"&\",\"\"),\" \",\"\",1),\" \",\"\",1))","v":"RAC"},"2020-02-01"]
[null,null,null,null,null,null,null,null,null,null,null,null,null,"RAC-R","RACR","2020-02-01"]
[null,null,null,null,null,null,null,null,null,null,null,null,null,"RW(CB)DD","RWCBDD","2022-06-01"]
[null,null,null,null,null,null,null,null,null,null,null,null,null,"RW(LB)","RWLB","2022-06-01"]
[null,null,null,null,null,null,null,null,null,null,null,null,null,"RW(SF)","RWSF","2022-08-22"]
[null,null,null,null,null,null,null,null,null,null,null,null,null,"RW(SFA)","RWSFA","2022-08-22"]
[null,null,null,null,null,null,null,null,null,null,null,null,null,"RW(SFB)",{"$f":"TRIM(SUBSTITUTE(SUBSTITUTE(SUBSTITUTE(SUBSTITUTE(SUBSTITUTE(SUBSTITUTE(N297,\"(\",\"\"),\")\",\"\"),\"-\",\"\"),\"&\",\"\"),\" \",\"\",1),\" \",\"\",1))","v":"RWSFB"},"2022-08-22"]
[null,null,null,null,null,null,null,null,null,null,null,null,null,"RW(SFC)","RWSFC","2022-08-22"]
[null,null,null,null,null,null,null,null,null,null,null,null,null,"RW(MSE)","RWMSE","2022-06-01"]
[null,null,null,null,null,null,null,null,null,null,null,null,null,"RW(MSE)DD","RWMSEDD","2022-06-01"]
[null,null,null,null,null,null,null,null,null,null,null,null,null,"RW(TRF)","RWTRF","2022-06-01"]
[null,null,null,null,null,null,null,null,null,null,null,null,null,"SBBR","SBBR","2021-11-01"]
[null,null,null,null,null,null,null,null,null,null,null,null,null,"SBCS","SBCS","2021-11-01"]
[null,null,null,null,null,null,null,null,null,null,null,null,null,"SBEB","SBEB","2021-11-01"]
[null,null,null,null,null,null,null,null,null,null,null,null,null,{"$f":"U66","v":"SBMD"},"SBMD",{"$f":"V66","v":"2021-11-01"}]
[null,null,null,null,null,null,null,null,null,null,null,null,null,"SBMS","SBMS","2021-11-01"]
[null,null,null,null,null,null,null,null,null,null,null,null,null,"SBSD-24","SBSD24","2021-11-01"]
[null,null,null,null,null,null,null,null,null,null,null,null,null,"SBSD-28","SBSD28","2021-11-01"]
[null,null,null,null,null,null,null,null,null,null,null,null,null,"SBSD-30","SBSD30","2021-11-01"]
[null,null,null,null,null,null,null,null,null,null,null,null,null,"SBTS","SBTS","2021-11-01"]
[null,null,null,null,null,null,null,null,null,null,null,null,null,"SCC-10","SCC10","2021-04-01"]
[null,null,null,null,null,null,null,null,null,null,null,null,null,"SCC-3 & 4","SCC34","2021-04-01"]
[null,null,null,null,null,null,null,null,null,null,null,null,null,"SCC-5 & 6","SCC56","2021-04-01"]
[null,null,null,null,null,null,null,null,null,null,null,null,null,"SCC-7","SCC7","2021-04-01"]
[null,null,null,null,null,null,null,null,null,null,null,null,null,"SCC-8",{"$f":"TRIM(SUBSTITUTE(SUBSTITUTE(SUBSTITUTE(SUBSTITUTE(SUBSTITUTE(SUBSTITUTE(N315,\"(\",\"\"),\")\",\"\"),\"-\",\"\"),\"&\",\"\"),\" \",\"\",1),\" \",\"\",1))","v":"SCC8"},"2021-04-01"]
[null,null,null,null,null,null,null,null,null,null,null,null,null,"SCC-9","SCC9","2021-04-01"]
[null,null,null,null,null,null,null,null,null,null,null,null,null,"SCC-MD","SCCMD","2020-02-01"]
[null,null,null,null,null,null,null,null,null,null,null,null,null,0,"0","00:00:00"]
[null,null,null,null,null,null,null,null,null,null,null,null,null,{"$f":"U79","v":0},"0",{"$f":"V79","v":"00:00:00"}]
[null,null,null,null,null,null,null,null,null,null,null,null,null,0,{"$f":"TRIM(SUBSTITUTE(SUBSTITUTE(SUBSTITUTE(SUBSTITUTE(SUBSTITUTE(SUBSTITUTE(N320,\"(\",\"\"),\")\",\"\"),\"-\",\"\"),\"&\",\"\"),\" \",\"\",1),\" \",\"\",1))","v":"0"},"00:00:00"]
[null,null,null,null,null,null,null,null,null,null,null,null,null,0,"0","00:00:00"]
[null,null,null,null,null,null,null,null,null,null,null,null,null,0,"0","00:00:00"]
[null,null,null,null,null,null,null,null,null,null,null,null,null,0,"0","00:00:00"]
[null,null,null,null,null,null,null,null,null,null,null,null,null,0,"0","00:00:00"]
[null,null,null,null,null,null,null,null,null,null,null,null,null,{"$f":"W2","v":"SCP-10"},"SCP10",{"$f":"X2","v":"2020-02-01"}]
[null,null,null,null,null,null,null,null,null,null,null,null,null,"SCP-11","SCP11","2020-02-01"]
[null,null,null,null,null,null,null,null,null,null,null,null,null,"SCP-12","SCP12","2020-02-01"]
[null,null,null,null,null,null,null,null,null,null,null,null,null,"SCP-3","SCP3","2020-02-01"]
[null,null,null,null,null,null,null,null,null,null,null,null,null,"SCP-4","SCP4","2020-02-01"]
[null,null,null,null,null,null,null,null,null,null,null,null,null,"SCP-5","SCP5","2020-02-01"]
[null,null,null,null,null,null,null,null,null,null,null,null,null,"SCP-6","SCP6","2020-02-01"]
[null,null,null,null,null,null,null,null,null,null,null,null,null,"SCP-7","SCP7","2020-02-01"]
[null,null,null,null,null,null,null,null,null,null,null,null,null,"SCP-8","SCP8","2020-02-01"]
[null,null,null,null,null,null,null,null,null,null,null,null,null,"SCP-9",{"$f":"TRIM(SUBSTITUTE(SUBSTITUTE(SUBSTITUTE(SUBSTITUTE(SUBSTITUTE(SUBSTITUTE(N334,\"(\",\"\"),\")\",\"\"),\"-\",\"\"),\"&\",\"\"),\" \",\"\",1),\" \",\"\",1))","v":"SCP9"},"2020-02-01"]
[null,null,null,null,null,null,null,null,null,null,null,null,null,"SCP-MD","SCPMD","2020-02-01"]
[null,null,null,null,null,null,null,null,null,null,null,null,null,"SD","SD","2020-02-01"]
[null,null,null,null,null,null,null,null,null,null,null,null,null,"SD-EBR","SDEBR","2024-10-01"]
[null,null,null,null,null,null,null,null,null,null,null,null,null,"SDSB-24","SDSB24","2020-08-01"]
[null,null,null,null,null,null,null,null,null,null,null,null,null,"SDSB-24-15","SDSB2415","2020-08-01"]
[null,null,null,null,null,null,null,null,null,null,null,null,null,"SDSB-24-30","SDSB2430","2020-08-01"]
[null,null,null,null,null,null,null,null,null,null,null,null,null,"SDSB-28","SDSB28","2020-08-01"]
[null,null,null,null,null,null,null,null,null,null,null,null,null,"SDSB-28-15","SDSB2815","2020-08-01"]
[null,null,null,null,null,null,null,null,null,null,null,null,null,"SDSB-28-30","SDSB2830","2020-08-01"]
[null,null,null,null,null,null,null,null,null,null,null,null,null,"SDSB-30","SDSB30","2020-08-01"]
[null,null,null,null,null,null,null,null,null,null,null,null,null,"SDSB-30-15","SDSB3015","2020-08-01"]
[null,null,null,null,null,null,null,null,null,null,null,null,null,"SDSB-30-30","SDSB3030","2020-08-01"]
[null,null,null,null,null,null,null,null,null,null,null,null,null,"SEJ-B","SEJB","2024-10-01"]
[null,null,null,null,null,null,null,null,null,null,null,null,null,"SEJ-M","SEJM","2024-10-01"]
[null,null,null,null,null,null,null,null,null,null,null,null,null,"SEJ-S(O)","SEJSO","2024-10-01"]
[null,null,null,null,null,null,null,null,null,null,null,null,null,"SETB-CD","SETBCD","2020-02-01"]
[null,null,null,null,null,null,null,null,null,null,null,null,null,"SETB-FW-0","SETBFW0","2020-02-01"]
[null,null,null,null,null,null,null,null,null,null,null,null,null,"SETB-FW-S","SETBFWS","2020-02-01"]
[null,null,null,null,null,null,null,null,null,null,null,null,null,"SETB-PD","SETBPD","2022-06-01"]
[null,null,null,null,null,null,null,null,null,null,null,null,null,"SETBR","SETBR","2020-02-01"]
[null,null,null,null,null,null,null,null,null,null,null,null,null,"SETB-SW-0","SETBSW0","2020-02-01"]
[null,null,null,null,null,null,null,null,null,null,null,null,null,"SETP-CD","SETPCD","2020-02-01"]
[null,null,null,null,null,null,null,null,null,null,null,null,null,{"$f":"W34","v":"SETP-CD-A"},"SETPCDA",{"$f":"X34","v":"2020-02-01"}]
[null,null,null,null,null,null,null,null,null,null,null,null,null,"SETP-FW-0","SETPFW0","2020-02-01"]
[null,null,null,null,null,null,null,null,null,null,null,null,null,"SETP-FW-15","SETPFW15","2020-02-01"]
[null,null,null,null,null,null,null,null,null,null,null,null,null,"SETP-FW-30","SETPFW30","2020-02-01"]
[null,null,null,null,null,null,null,null,null,null,null,null,null,"SETP-FW-A-15","SETPFWA15","2020-02-01"]
[null,null,null,null,null,null,null,null,null,null,null,null,null,"SETP-FW-A-30","SETPFWA30","2020-02-01"]
[null,null,null,null,null,null,null,null,null,null,null,null,null,"SETP-FW-A-O","SETPFWAO","2020-02-01"]
[null,null,null,null,null,null,null,null,null,null,null,null,null,"SETP-PD","SETPPD","2020-02-01"]
[null,null,null,null,null,null,null,null,null,null,null,null,null,"SETP-PD-A","SETPPDA","2020-02-01"]
[null,null,null,null,null,null,null,null,null,null,null,null,null,"SGEB","SGEB","2024-10-01"]
[null,null,null,null,null,null,null,null,null,null,null,null,null,"SGMD","SGMD","2024-10-01"]
[null,null,null,null,null,null,null,null,null,null,null,null,null,"SGMS","SGMS","2024-10-01"]
[null,null,null,null,null,null,null,null,null,null,null,null,null,"SGTS","SGTS","2024-10-01"]
[null,null,null,null,null,null,null,null,null,null,null,null,null,"SIG-24","SIG24","2019-10-01"]
[null,null,null,null,null,null,null,null,null,null,null,null,null,"SIG-24-15","SIG2415","2019-10-01"]
[null,null,null,null,null,null,null,null,null,null,null,null,null,"SIG-24-30","SIG2430","2019-10-01"]
[null,null,null,null,null,null,null,null,null,null,null,null,null,"SIG-24-45","SIG2445","2019-10-01"]
[null,null,null,null,null,null,null,null,null,null,null,null,null,"SIG-28","SIG28","2019-10-01"]
[null,null,null,null,null,null,null,null,null,null,null,null,null,"SIG-28-15","SIG2815","2019-10-01"]
[null,null,null,null,null,null,null,null,null,null,null,null,null,"SIG-28-30","SIG2830","2019-10-01"]
[null,null,null,null,null,null,null,null,null,null,null,null,null,"SIG-28-45","SIG2845","2019-10-01"]
[null,null,null,null,null,null,null,null,null,null,null,null,null,"SIG-30","SIG30","2019-10-01"]
[null,null,null,null,null,null,null,null,null,null,null,null,null,"SIG-30-15","SIG3015","2019-10-01"]
[null,null,null,null,null,null,null,null,null,null,null,null,null,"SIG-30-30","SIG3030","2019-10-01"]
[null,null,null,null,null,null,null,null,null,null,null,null,null,"SIG-30-45","SIG3045","2019-10-01"]
[null,null,null,null,null,null,null,null,null,null,null,null,null,"SIG-32","SIG32","2019-10-01"]
[null,null,null,null,null,null,null,null,null,null,null,null,null,"SIG-32-15","SIG3215","2019-10-01"]
[null,null,null,null,null,null,null,null,null,null,null,null,null,"SIG-32-30","SIG3230","2019-10-01"]
[null,null,null,null,null,null,null,null,null,null,null,null,null,"SIG-32-45","SIG3245","2019-10-01"]
[null,null,null,null,null,null,null,null,null,null,null,null,null,"SIG-38","SIG38","2019-10-01"]
[null,null,null,null,null,null,null,null,null,null,null,null,null,"SIG-38-15","SIG3815","2019-10-01"]
[null,null,null,null,null,null,null,null,null,null,null,null,null,"SIG-38-30","SIG3830","2019-10-01"]
[null,null,null,null,null,null,null,null,null,null,null,null,null,{"$f":"W66","v":"SIG-38-45"},"SIG3845",{"$f":"X66","v":"2019-10-01"}]
[null,null,null,null,null,null,null,null,null,null,null,null,null,"SIG-40","SIG40","2019-10-01"]
[null,null,null,null,null,null,null,null,null,null,null,null,null,"SIG-40-15","SIG4015","2019-10-01"]
[null,null,null,null,null,null,null,null,null,null,null,null,null,"SIG-40-30","SIG4030","2019-10-01"]
[null,null,null,null,null,null,null,null,null,null,null,null,null,"SIG-40-45","SIG4045","2019-10-01"]
[null,null,null,null,null,null,null,null,null,null,null,null,null,"SIG-44","SIG44","2019-10-01"]
[null,null,null,null,null,null,null,null,null,null,null,null,null,"SIG-44-15","SIG4415","2019-10-01"]
[null,null,null,null,null,null,null,null,null,null,null,null,null,"SIG-44-30","SIG4430","2019-10-01"]
[null,null,null,null,null,null,null,null,null,null,null,null,null,"SIG-44-45","SIG4445","2019-10-01"]
[null,null,null,null,null,null,null,null,null,null,null,null,null,0,{"$f":"TRIM(SUBSTITUTE(SUBSTITUTE(SUBSTITUTE(SUBSTITUTE(SUBSTITUTE(SUBSTITUTE(N398,\"(\",\"\"),\")\",\"\"),\"-\",\"\"),\"&\",\"\"),\" \",\"\",1),\" \",\"\",1))","v":"0"},"00:00:00"]
[null,null,null,null,null,null,null,null,null,null,null,null,null,0,"0","00:00:00"]
[null,null,null,null,null,null,null,null,null,null,null,null,null,0,"0","00:00:00"]
[null,null,null,null,null,null,null,null,null,null,null,null,null,0,"0","00:00:00"]
[null,null,null,null,null,null,null,null,null,null,null,null,null,0,"0","00:00:00"]
[null,null,null,null,null,null,null,null,null,null,null,null,null,0,"0","00:00:00"]
[null,null,null,null,null,null,null,null,null,null,null,null,null,0,"0","00:00:00"]
[null,null,null,null,null,null,null,null,null,null,null,null,null,{"$f":"Y2","v":"SIG-62-24"},"SIG6224",{"$f":"Z2","v":"2019-10-01"}]
[null,null,null,null,null,null,null,null,null,null,null,null,null,"SIG-62-24-15","SIG622415","2019-10-01"]
[null,null,null,null,null,null,null,null,null,null,null,null,null,"SIG-62-24-30","SIG622430","2019-10-01"]
[null,null,null,null,null,null,null,null,null,null,null,null,null,"SIG-62-24-45","SIG622445","2019-10-01"]
[null,null,null,null,null,null,null,null,null,null,null,null,null,"SIG-62-28","SIG6228","2019-10-01"]
[null,null,null,null,null,null,null,null,null,null,null,null,null,"SIG-62-28-15","SIG622815","2019-10-01"]
[null,null,null,null,null,null,null,null,null,null,null,null,null,"SIG-62-28-30","SIG622830","2019-10-01"]
[null,null,null,null,null,null,null,null,null,null,null,null,null,"SIG-62-28-45","SIG622845","2019-10-01"]
[null,null,null,null,null,null,null,null,null,null,null,null,null,"SIG-62-30","SIG6230","2019-10-01"]
[null,null,null,null,null,null,null,null,null,null,null,null,null,"SIG-62-30-15","SIG623015","2019-10-01"]
[null,null,null,null,null,null,null,null,null,null,null,null,null,"SIG-62-30-30","SIG623030","2019-10-01"]
[null,null,null,null,null,null,null,null,null,null,null,null,null,"SIG-62-30-45","SIG623045","2019-10-01"]
[null,null,null,null,null,null,null,null,null,null,null,null,null,"SIG-62-32","SIG6232","2019-10-01"]
[null,null,null,null,null,null,null,null,null,null,null,null,null,"SIG-62-32-15","SIG623215","2019-10-01"]
[null,null,null,null,null,null,null,null,null,null,null,null,null,"SIG-62-32-30","SIG623230","2019-10-01"]
[null,null,null,null,null,null,null,null,null,null,null,null,null,"SIG-62-32-45","SIG623245","2019-10-01"]
[null,null,null,null,null,null,null,null,null,null,null,null,null,"SIG-62-38","SIG6238","2019-10-01"]
[null,null,null,null,null,null,null,null,null,null,null,null,null,"SIG-62-38-15","SIG623815","2019-10-01"]
[null,null,null,null,null,null,null,null,null,null,null,null,null,"SIG-62-38-30","SIG623830","2019-10-01"]
[null,null,null,null,null,null,null,null,null,null,null,null,null,"SIG-62-38-45","SIG623845","2019-10-01"]
[null,null,null,null,null,null,null,null,null,null,null,null,null,"SIG-62-40","SIG6240","2019-10-01"]
[null,null,null,null,null,null,null,null,null,null,null,null,null,"SIG-62-40-15","SIG624015","2019-10-01"]
[null,null,null,null,null,null,null,null,null,null,null,null,null,"SIG-62-40-30","SIG624030","2019-10-01"]
[null,null,null,null,null,null,null,null,null,null,null,null,null,"SIG-62-40-45","SIG624045","2019-10-01"]
[null,null,null,null,null,null,null,null,null,null,null,null,null,"SIG-62-44","SIG6244","2019-10-01"]
[null,null,null,null,null,null,null,null,null,null,null,null,null,"SIG-62-44-15","SIG624415","2019-10-01"]
[null,null,null,null,null,null,null,null,null,null,null,null,null,"SIG-62-44-30","SIG624430","2019-10-01"]
[null,null,null,null,null,null,null,null,null,null,null,null,null,"SIG-62-44-45","SIG624445","2019-10-01"]
[null,null,null,null,null,null,null,null,null,null,null,null,null,"SP","SP","2020-02-01"]
[null,null,null,null,null,null,null,null,null,null,null,null,null,"SRR","SRR","2024-10-01"]
[null,null,null,null,null,null,null,null,null,null,null,null,null,"SSB-24","SSB24","2021-11-01"]
[null,null,null,null,null,null,null,null,null,null,null,null,null,"SSB-24-15","SSB2415","2021-11-01"]
[null,null,null,null,null,null,null,null,null,null,null,null,null,{"$f":"Y34","v":"SSB-24-30"},"SSB2430",{"$f":"Z34","v":"2021-11-01"}]
[null,null,null,null,null,null,null,null,null,null,null,null,null,"SSB-28","SSB28","2021-11-01"]
[null,null,null,null,null,null,null,null,null,null,null,null,null,"SSB-28-15","SSB2815","2021-11-01"]
[null,null,null,null,null,null,null,null,null,null,null,null,null,"SSB-28-30","SSB2830","2021-11-01"]
[null,null,null,null,null,null,null,null,null,null,null,null,null,"SSB-30","SSB30","2021-11-01"]
[null,null,null,null,null,null,null,null,null,null,null,null,null,"SSB-30-15","SSB3015","2021-11-01"]
[null,null,null,null,null,null,null,null,null,null,null,null,null,"SSB-30-30","SSB3030","2021-11-01"]
[null,null,null,null,null,null,null,null,null,null,null,null,null,"SSPC","SSPC","2024-10-01"]
[null,null,null,null,null,null,null,null,null,null,null,null,null,"SSTR","SSTR","2019-09-01"]
[null,null,null,null,null,null,null,null,null,null,null,null,null,"SW-0","SW0","2020-02-01"]
[null,null,null,null,null,null,null,null,null,null,null,null,null,"T131RC","T131RC","2019-09-01"]
[null,null,null,null,null,null,null,null,null,null,null,null,null,"T1F","T1F","2019-09-01"]
[null,null,null,null,null,null,null,null,null,null,null,null,null,"T1W","T1W","2019-09-01"]
[null,null,null,null,null,null,null,null,null,null,null,null,null,"T2/T201TR","T2/T201TR","2019-09-01"]
[null,null,null,null,null,null,null,null,null,null,null,null,null,"T202TR","T202TR","2019-09-01"]
[null,null,null,null,null,null,null,null,null,null,null,null,null,"TYPE T221","TYPET221","2019-09-01"]
[null,null,null,null,null,null,null,null,null,null,null,null,null,"TYPE T221P","TYPET221P","2019-09-01"]
[null,null,null,null,null,null,null,null,null,null,null,null,null,"TYPE T222","TYPET222","2019-09-01"]
[null,null,null,null,null,null,null,null,null,null,null,null,null,"TYPE T223","TYPET223","2019-09-01"]
[null,null,null,null,null,null,null,null,null,null,null,null,null,"TYPE T224","TYPET224","2019-09-01"]
[null,null,null,null,null,null,null,null,null,null,null,null,null,"TYPE T2P","TYPET2P","2019-09-01"]
[null,null,null,null,null,null,null,null,null,null,null,null,null,"TYPE T402","TYPET402","2019-09-01"]
[null,null,null,null,null,null,null,null,null,null,null,null,null,"TYPE T411","TYPET411","2020-07-01"]
[null,null,null,null,null,null,null,null,null,null,null,null,null,"T5/T501/T502TR","T5/T501/T502TR","2019-09-01"]
[null,null,null,null,null,null,null,null,null,null,null,null,null,"TYPE T551","TYPET551","2019-09-01"]
[null,null,null,null,null,null,null,null,null,null,null,null,null,"TYPE T552",{"$f":"TRIM(SUBSTITUTE(SUBSTITUTE(SUBSTITUTE(SUBSTITUTE(SUBSTITUTE(SUBSTITUTE(N462,\"(\",\"\"),\")\",\"\"),\"-\",\"\"),\"&\",\"\"),\" \",\"\",1),\" \",\"\",1))","v":"TYPET552"},"2019-09-01"]
[null,null,null,null,null,null,null,null,null,null,null,null,null,"TYPE T631","TYPET631","2020-07-01"]
[null,null,null,null,null,null,null,null,null,null,null,null,null,"TYPE T631-CM","TYPET631CM","2020-02-01"]
[null,null,null,null,null,null,null,null,null,null,null,null,null,"TYPE T631LS","TYPET631LS","2020-07-01"]
[null,null,null,null,null,null,null,null,null,null,null,null,null,"TYPE T66","TYPET66","2019-09-01"]
[null,null,null,null,null,null,null,null,null,null,null,null,null,"TYPE T80HT","TYPET80HT","2019-09-01"]
[null,null,null,null,null,null,null,null,null,null,null,null,null,"TYPE T80PP-RF","TYPET80PPRF","2020-07-01"]
[null,null,null,null,null,null,null,null,null,null,null,null,null,{"$f":"Y66","v":"TYPE T80PP-TS"},"TYPET80PPTS",{"$f":"Z66","v":"2020-07-01"}]
[null,null,null,null,null,null,null,null,null,null,null,null,null,"TYPE T80SS","TYPET80SS","2019-09-01"]
[null,null,null,null,null,null,null,null,null,null,null,null,null,"TRDS","TRDS","2020-07-01"]
[null,null,null,null,null,null,null,null,null,null,null,null,null,"TRF","TRF","2020-07-01"]
[null,null,null,null,null,null,null,null,null,null,null,null,null,"TRF80","TRF80","2020-07-01"]
[null,null,null,null,null,null,null,null,null,null,null,null,null,"AXB-32","AXB32","2022-08-22"]
[null,null,null,null,null,null,null,null,null,null,null,null,null,"AXB-32-15","AXB3215","2022-08-22"]
[null,null,null,null,null,null,null,null,null,null,null,null,null,"AXB-32-30","AXB3230","2022-08-22"]
[null,null,null,null,null,null,null,null,null,null,null,null,null,"AXB-38","AXB38","2022-08-22"]
[null,null,null,null,null,null,null,null,null,null,null,null,null,"AXB-38-15","AXB3815","2022-08-22"]
[null,null,null,null,null,null,null,null,null,null,null,null,null,"AXB-38-30","AXB3830","2022-08-22"]
[null,null,null,null,null,null,null,null,null,null,null,null,null,"AXB-40","AXB40","2022-08-22"]
[null,null,null,null,null,null,null,null,null,null,null,null,null,"AXB-40-15","AXB4015","2022-08-22"]
[null,null,null,null,null,null,null,null,null,null,null,null,null,"AXB-40-30","AXB4030","2022-08-22"]
[null,null,null,null,null,null,null,null,null,null,null,null,null,"BTXB-32","BTXB32","2022-08-22"]
[null,null,null,null,null,null,null,null,null,null,null,null,null,"BTXB-32-15","BTXB3215","2022-08-22"]
[null,null,null,null,null,null,null,null,null,null,null,null,null,"BTXB-32-30",{"$f":"TRIM(SUBSTITUTE(SUBSTITUTE(SUBSTITUTE(SUBSTITUTE(SUBSTITUTE(SUBSTITUTE(N485,\"(\",\"\"),\")\",\"\"),\"-\",\"\"),\"&\",\"\"),\" \",\"\",1),\" \",\"\",1))","v":"BTXB3230"},"2022-08-22"]
[null,null,null,null,null,null,null,null,null,null,null,null,null,"BTXB-38","BTXB38","2022-08-22"]
[null,null,null,null,null,null,null,null,null,null,null,null,null,"BTXB-38-15","BTXB3815","2022-08-22"]
[null,null,null,null,null,null,null,null,null,null,null,null,null,"BTXB-38-30","BTXB3830","2022-08-22"]
[null,null,null,null,null,null,null,null,null,null,null,null,null,"BTXB-40","BTXB40","2022-08-22"]
[null,null,null,null,null,null,null,null,null,null,null,null,null,"BTXB-40-15","BTXB4015","2022-08-22"]
[null,null,null,null,null,null,null,null,null,null,null,null,null,"BTXB-40-30","BTXB4030","2022-08-22"]
[null,null,null,null,null,null,null,null,null,null,null,null,null,"BXB-32","BXB32","2022-08-22"]
[null,null,null,null,null,null,null,null,null,null,null,null,null,"BXB-32-15","BXB3215","2022-08-22"]
[null,null,null,null,null,null,null,null,null,null,null,null,null,"BXB-32-30","BXB3230","2022-08-22"]
[null,null,null,null,null,null,null,null,null,null,null,null,null,"BXB-38","BXB38","2022-08-22"]
[null,null,null,null,null,null,null,null,null,null,null,null,null,"BXB-38-15","BXB3815","2022-08-22"]
[null,null,null,null,null,null,null,null,null,null,null,null,null,"BXB-38-30","BXB3830","2022-08-22"]
[null,null,null,null,null,null,null,null,null,null,null,null,null,"BXB-40","BXB40","2022-08-22"]
[null,null,null,null,null,null,null,null,null,null,null,null,null,"BXB-40-15","BXB4015","2022-08-22"]
[null,null,null,null,null,null,null,null,null,null,null,null,null,"BXB-40-30","BXB4030","2022-08-22"]
[null,null,null,null,null,null,null,null,null,null,null,null,null,{"$f":"Y98","v":"SXB-32"},"SXB32",{"$f":"Z98","v":"2022-08-22"}]
[null,null,null,null,null,null,null,null,null,null,null,null,null,"SXB-32-15","SXB3215","2022-08-22"]
[null,null,null,null,null,null,null,null,null,null,null,null,null,"SXB-32-30","SXB3230","2022-08-22"]
[null,null,null,null,null,null,null,null,null,null,null,null,null,"SXB-38","SXB38","2022-08-22"]
[null,null,null,null,null,null,null,null,null,null,null,null,null,"SXB-38-15","SXB3815","2022-08-22"]
[null,null,null,null,null,null,null,null,null,null,null,null,null,"SXB-38-30","SXB3830","2022-08-22"]
[null,null,null,null,null,null,null,null,null,null,null,null,null,"SXB-40","SXB40","2022-08-22"]
[null,null,null,null,null,null,null,null,null,null,null,null,null,"SXB-40-15","SXB4015","2022-08-22"]
[null,null,null,null,null,null,null,null,null,null,null,null,null,"XB20","XB20","2022-08-22"]
[null,null,null,null,null,null,null,null,null,null,null,null,null,"XB28","XB28","2022-08-22"]
[null,null,null,null,null,null,null,null,null,null,null,null,null,"XB34","XB34","2022-08-22"]
[null,null,null,null,null,null,null,null,null,null,null,null,null,"XB40","XB40","2022-08-22"]
[null,null,null,null,null,null,null,null,null,null,null,null,null,"XBBR-MS","XBBRMS","2022-08-22"]
[null,null,null,null,null,null,null,null,null,null,null,null,null,"XBCS","XBCS","2022-08-22"]
[null,null,null,null,null,null,null,null,null,null,null,null,null,{"$f":"Y117","v":"XBEB"},"XBEB",{"$f":"Z117","v":"2022-08-22"}]
[null,null,null,null,null,null,null,null,null,null,null,null,null,"XBND","XBND","2022-08-22"]
[null,null,null,null,null,null,null,null,null,null,null,null,null,"XBSD-32","XBSD32","2022-08-22"]
[null,null,null,null,null,null,null,null,null,null,null,null,null,"XBSD-38","XBSD38","2022-08-22"]
[null,null,null,null,null,null,null,null,null,null,null,null,null,"XBSD-40","XBSD40","2022-08-22"]
[null,null,null,null,null,null,null,null,null,null,null,null,null,"XBSK","XBSK","2022-08-22"]
[null,null,null,null,null,null,null,null,null,null,null,null,null,"XBTS","XBTS","2022-08-22"]
[null,null,null,null,null,null,null,null,null,null,null,null,null,"SXB-40-30","SXB4030","2022-08-22"]
[null,null,null,null,null,null,null,null,null,null,null,null,null,"XBSD-44","XBSD44","2022-08-22"]
[null,null,null,null,null,null,null,null,null,null,null,null,null,"AXB-44","AXB44","2022-08-22"]
[null,null,null,null,null,null,null,null,null,null,null,null,null,"AXB-44-15","AXB4415","2022-08-22"]
[null,null,null,null,null,null,null,null,null,null,null,null,null,"AXB-44-30","AXB4430","2022-08-22"]
[null,null,null,null,null,null,null,null,null,null,null,null,null,"BXB-44","BXB44","2022-08-22"]
[null,null,null,null,null,null,null,null,null,null,null,null,null,"BXB-44-15","BXB4415","2022-08-22"]
[null,null,null,null,null,null,null,null,null,null,null,null,null,"BXB-44-30","BXB4430","2022-08-22"]
[null,null,null,null,null,null,null,null,null,null,null,null,null,"BTXB-44","BTXB44","2022-08-22"]
[null,null,null,null,null,null,null,null,null,null,null,null,null,"BTXB-44-15","BTXB4415","2022-08-22"]
[null,null,null,null,null,null,null,null,null,null,null,null,null,"BTXB-44-30","BTXB4430","2022-08-22"]
[null,null,null,null,null,null,null,null,null,null,null,null,null,"SXB-44","SXB44","2022-08-22"]
[null,null,null,null,null,null,null,null,null,null,null,null,null,"SXB-44-15","SXB4415","2022-08-22"]
[null,null,null,null,null,null,null,null,null,null,null,null,null,"SXB-44-30","SXB4430","2022-08-22"]
[null,null,null,null,null,null,null,null,null,null,null,null,null,"AIG-62-24 ","AIG6224","2023-10-01"]
[null,null,null,null,null,null,null,null,null,null,null,null,null,"AIG-62-24-15 ","AIG622415","2023-10-01"]
[null,null,null,null,null,null,null,null,null,null,null,null,null,"AIG-24-30 ","AIG2430","2023-10-01"]
[null,null,null,null,null,null,null,null,null,null,null,null,null,"AIG-62-24-30 ","AIG622430","2023-10-01"]
[null,null,null,null,null,null,null,null,null,null,null,null,null,"AIG-24-45 ","AIG2445","2023-10-01"]
[null,null,null,null,null,null,null,null,null,null,null,null,null,"AIG-28 ","AIG28","2023-10-01"]
[null,null,null,null,null,null,null,null,null,null,null,null,null,"AIG-62-28 ","AIG6228","2023-10-01"]
[null,null,null,null,null,null,null,null,null,null,null,null,null,"AIG-62-32-30 ","AIG623230","2023-10-01"]
[null,null,null,null,null,null,null,null,null,null,null,null,null,"AIG-62-32-45 ","AIG623245","2023-10-01"]
[null,null,null,null,null,null,null,null,null,null,null,null,null,"AIG-34 ","AIG34","2023-10-01"]
[null,null,null,null,null,null,null,null,null,null,null,null,null,"AIG-34-15 ","AIG3415","2023-10-01"]
[null,null,null,null,null,null,null,null,null,null,null,null,null,{"$f":"Y149","v":"AIG-34-30"},"AIG3430",{"$f":"Z149","v":"2023-10-01"}]
[null,null,null,null,null,null,null,null,null,null,null,null,null,"AIG-38 ","AIG38","2023-10-01"]
[null,null,null,null,null,null,null,null,null,null,null,null,null,"AIG-62-38 ",{"$f":"TRIM(SUBSTITUTE(SUBSTITUTE(SUBSTITUTE(SUBSTITUTE(SUBSTITUTE(SUBSTITUTE(N549,\"(\",\"\"),\")\",\"\"),\"-\",\"\"),\"&\",\"\"),\" \",\"\",1),\" \",\"\",1))","v":"AIG6238"},"2023-10-01"]
[null,null,null,null,null,null,null,null,null,null,null,null,null,"AIG-38-15 ","AIG3815","2023-10-01"]
[null,null,null,null,null,null,null,null,null,null,null,null,null,"AIG-62-38-15 ","AIG623815","2023-10-01"]
[null,null,null,null,null,null,null,null,null,null,null,null,null,"AIG-40-45 ","AIG4045","2023-10-01"]
[null,null,null,null,null,null,null,null,null,null,null,null,null,"AIG-44 ","AIG44","2023-10-01"]
[null,null,null,null,null,null,null,null,null,null,null,null,null,"AIG-62-44 ","AIG6244","2023-10-01"]
[null,null,null,null,null,null,null,null,null,null,null,null,null,"AIG-44-15 ","AIG4415","2023-10-01"]
[null,null,null,null,null,null,null,null,null,null,null,null,null,"AIG-62-44-15 ","AIG624415","2023-10-01"]
[null,null,null,null,null,null,null,null,null,null,null,null,null,"AIG-44-30 ","AIG4430","2023-10-01"]
[null,null,null,null,null,null,null,null,null,null,null,null,null,"AIH-62-44-30 ","AIH624430","2023-10-01"]
[null,null,null,null,null,null,null,null,null,null,null,null,null,"AIG-62-44-45","AIG624445","2023-10-01"]
[null,null,null,null,null,null,null,null,null,null,null,null,null,"SRR-WL","SRRWL","2024-06-01"]
[null,null,null,null,null,null,null,null,null,null,null,null,null,"WSBC","WSBC","2024-06-01"]
[null,null,null,null,null,null,null,null,null,null,null,null,null,"BES","BES","2024-06-01"]
[null,null,null,null,null,null,null,null,null,null,null,null,null,"CLF-CRO","CLFCRO","2024-06-02"]
[null,null,null,null,null,null,null,null,null,null,null,null,null,"TC411-R","TC411R","2024-06-03"]
[null,null,null,null,null,null,null,null,null,null,null,null,null,"HSS-R","HSSR","2024-06-04"]
[null,null,null,null,null,null,null,null,null,null,null,null,null,"WF-IGD","WFIGD","2024-08-01"]
[null,null,null,null,null,null,null,null,null,null,null,null,null,"WF-IGDN","WFIGDN","2024-08-01"]
[null,null,null,null,null,null,null,null,null,null,null,null,null,"BL-R","BLR","2024-10-24"]
[null,null,null,null,null,null,null,null,null,null,null,null,null,"PCA-SUP","PCASUP","2024-10-25"]
[null,null,null,null,null,null,null,null,null,null,null,null,null,"PCS-SUB","PCSSUB","2024-10-26"]
[null,null,null,null,null,null,null,null,null,null,null,null,null,0,"0","00:00:00"]
[null,null,null,null,null,null,null,null,null,null,null,null,null,0,"0","00:00:00"]
[null,null,null,null,null,null,null,null,null,null,null,null,null,0,"0","00:00:00"]
[null,null,null,null,null,null,null,null,null,null,null,null,null,0,"0","00:00:00"]
[null,null,null,null,null,null,null,null,null,null,null,null,null,0,"0","00:00:00"]
[null,null,null,null,null,null,null,null,null,null,null,null,null,0,"0","00:00:00"]
[null,null,null,null,null,null,null,null,null,null,null,null,null,0,"0","00:00:00"]
[null,null,null,null,null,null,null,null,null,null,null,null,null,0,"0","00:00:00"]
[null,null,null,null,null,null,null,null,null,null,null,null,null,{"$f":"Y181","v":0},"0",{"$f":"Z181","v":"00:00:00"}]
[null,null,null,null,null,null,null,null,null,null,null,null,null,0,"0","00:00:00"]
[null,null,null,null,null,null,null,null,null,null,null,null,null,0,"0","00:00:00"]
[null,null,null,null,null,null,null,null,null,null,null,null,null,0,"0","00:00:00"]
[null,null,null,null,null,null,null,null,null,null,null,null,null,0,"0","00:00:00"]
[null,null,null,null,null,null,null,null,null,null,null,null,null,0,"0","00:00:00"]
[null,null,null,null,null,null,null,null,null,null,null,null,null,0,"0","00:00:00"]
[null,null,null,null,null,null,null,null,null,null,null,null,null,0,"0","00:00:00"]
[null,null,null,null,null,null,null,null,null,null,null,null,null,0,"0","00:00:00"]
[null,null,null,null,null,null,null,null,null,null,null,null,null,0,"0","00:00:00"]
[null,null,null,null,null,null,null,null,null,null,null,null,null,0,"0","00:00:00"]
[null,null,null,null,null,null,null,null,null,null,null,null,null,0,"0","00:00:00"]
[null,null,null,null,null,null,null,null,null,null,null,null,null,0,"0","00:00:00"]
[null,null,null,null,null,null,null,null,null,null,null,null,null,0,"0","00:00:00"]
[null,null,null,null,null,null,null,null,null,null,null,null,null,0,"0","00:00:00"]
[null,null,null,null,null,null,null,null,null,null,null,null,null,0,"0","00:00:00"]
[null,null,null,null,null,null,null,null,null,null,null,null,null,0,"0","00:00:00"]
[null,null,null,null,null,null,null,null,null,null,null,null,null,0,"0","00:00:00"]
[null,null,null,null,null,null,null,null,null,null,null,null,null,0,"0","00:00:00"]
[null,null,null,null,null,null,null,null,null,null,null,null,null,0,"0","00:00:00"]
[null,null,null,null,null,null,null,null,null,null,null,null,null,{"$f":"Y202","v":0},"0",{"$f":"Z202","v":"00:00:00"}]
[null,null,null,null,null,null,null,null,null,null,null,null,null,0,"0","00:00:00"]
[null,null,null,null,null,null,null,null,null,null,null,null,null,0,"0","00:00:00"]
[null,null,null,null,null,null,null,null,null,null,null,null,null,0,"0","00:00:00"]
[null,null,null,null,null,null,null,null,null,null,null,null,null,0,"0","00:00:00"]
[null,null,null,null,null,null,null,null,null,null,null,null,null,0,"0","00:00:00"]
[null,null,null,null,null,null,null,null,null,null,null,null,null,0,"0","00:00:00"]
[null,null,null,null,null,null,null,null,null,null,null,null,null,0,"0","00:00:00"]
[null,null,null,null,null,null,null,null,null,null,null,null,null,0,"0","00:00:00"]
[null,null,null,null,null,null,null,null,null,null,null,null,null,0,"0","00:00:00"]
[null,null,null,null,null,null,null,null,null,null,null,null,null,0,"0","00:00:00"]
[null,null,null,null,null,null,null,null,null,null,null,null,null,0,"0","00:00:00"]
[null,null,null,null,null,null,null,null,null,null,null,null,null,0,"0","00:00:00"]
[null,null,null,null,null,null,null,null,null,null,null,null,null,0,"0","00:00:00"]
[null,null,null,null,null,null,null,null,null,null,null,null,null,0,{"$f":"TRIM(SUBSTITUTE(SUBSTITUTE(SUBSTITUTE(SUBSTITUTE(SUBSTITUTE(SUBSTITUTE(N613,\"(\",\"\"),\")\",\"\"),\"-\",\"\"),\"&\",\"\"),\" \",\"\",1),\" \",\"\",1))","v":"0"},"00:00:00"]
[null,null,null,null,null,null,null,null,null,null,null,null,null,0,"0","00:00:00"]
[null,null,null,null,null,null,null,null,null,null,null,null,null,0,"0","00:00:00"]
[null,null,null,null,null,null,null,null,null,null,null,null,null,0,"0","00:00:00"]
[null,null,null,null,null,null,null,null,null,null,null,null,null,0,"0","00:00:00"]
[null,null,null,null,null,null,null,null,null,null,null,null,null,0,"0","00:00:00"]
[null,null,null,null,null,null,null,null,null,null,null,null,null,0,"0","00:00:00"]
[null,null,null,null,null,null,null,null,null,null,null,null,null,0,"0","00:00:00"]
[null,null,null,null,null,null,null,null,null,null,null,null,null,0,"0","00:00:00"]
[null,null,null,null,null,null,null,null,null,null,null,null,null,0,"0","00:00:00"]
[null,null,null,null,null,null,null,null,null,null,null,null,null,0,"0","00:00:00"]
[null,null,null,null,null,null,null,null,null,null,null,null,null,0,"0","00:00:00"]
[null,null,null,null,null,null,null,null,null,null,null,null,null,0,"0","00:00:00"]
[null,null,null,null,null,null,null,null,null,null,null,null,null,0,"0","00:00:00"]
[null,null,null,null,null,null,null,null,null,null,null,null,null,0,"0","00:00:00"]
[null,null,null,null,null,null,null,null,null,null,null,null,null,0,"0","00:00:00"]
[null,null,null,null,null,null,null,null,null,null,null,null,null,0,"0","00:00:00"]
[null,null,null,null,null,null,null,null,null,null,null,null,null,0,"0","00:00:00"]
[null,null,null,null,null,null,null,null,null,null,null,null,null,{"$f":"Y234","v":0},"0",{"$f":"Z234","v":"00:00:00"}]
[null,null,null,null,null,null,null,null,null,null,null,null,null,0,"0","00:00:00"]
[null,null,null,null,null,null,null,null,null,null,null,null,null,0,"0","00:00:00"]
[null,null,null,null,null,null,null,null,null,null,null,null,null,0,"0","00:00:00"]
[null,null,null,null,null,null,null,null,null,null,null,null,null,0,"0","00:00:00"]
[null,null,null,null,null,null,null,null,null,null,null,null,null,0,"0","00:00:00"]
[null,null,null,null,null,null,null,null,null,null,null,null,null,0,"0","00:00:00"]
[null,null,null,null,null,null,null,null,null,null,null,null,null,0,"0","00:00:00"]
[null,null,null,null,null,null,null,null,null,null,null,null,null,0,"0","00:00:00"]
[null,null,null,null,null,null,null,null,null,null,null,null,null,0,"0","00:00:00"]
[null,null,null,null,null,null,null,null,null,null,null,null,null,0,"0","00:00:00"]
[null,null,null,null,null,null,null,null,null,null,null,null,null,0,"0","00:00:00"]
[null,null,null,null,null,null,null,null,null,null,null,null,null,0,"0","00:00:00"]
[null,null,null,null,null,null,null,null,null,null,null,null,null,0,"0","00:00:00"]
[null,null,null,null,null,null,null,null,null,null,null,null,null,0,"0","00:00:00"]
[null,null,null,null,null,null,null,null,null,null,null,null,null,0,"0","00:00:00"]
[null,null,null,null,null,null,null,null,null,null,null,null,null,0,"0","00:00:00"]
[null,null,null,null,null,null,null,null,null,null,null,null,null,0,"0","00:00:00"]
[null,null,null,null,null,null,null,null,null,null,null,null,null,0,"0","00:00:00"]
[null,null,null,null,null,null,null,null,null,null,null,null,null,0,"0","00:00:00"]
[null,null,null,null,null,null,null,null,null,null,null,null,null,0,"0","00:00:00"]
[null,null,null,null,null,null,null,null,null,null,null,null,null,0,"0","00:00:00"]
[null,null,null,null,null,null,null,null,null,null,null,null,null,0,"0","00:00:00"]
[null,null,null,null,null,null,null,null,null,null,null,null,null,0,"0","00:00:00"]
[null,null,null,null,null,null,null,null,null,null,null,null,null,0,"0","00:00:00"]
[null,null,null,null,null,null,null,null,null,null,null,null,null,0,"0","00:00:00"]
[null,null,null,null,null,null,null,null,null,null,null,null,null,0,"0","00:00:00"]
[null,null,null,null,null,null,null,null,null,null,null,null,null,0,"0","00:00:00"]
[null,null,null,null,null,null,null,null,null,null,null,null,null,0,"0","00:00:00"]
[null,null,null,null,null,null,null,null,null,null,null,null,null,{"$f":"Y264","v":0},"0",{"$f":"Z264","v":"00:00:00"}]
[null,null,null,null,null,null,null,null,null,null,null,null,null,{"$f":"Y265","v":0},"0",{"$f":"Z265","v":"00:00:00"}]
[null,null,null,null,null,null,null,null,null,null,null,null,null,{"$f":"Y266","v":0},"0",{"$f":"Z266","v":"00:00:00"}]
[null,null,null,null,null,null,null,null,null,null,null,null,null,{"$f":"Y267","v":0},"0",{"$f":"Z267","v":"00:00:00"}]
[null,null,null,null,null,null,null,null,null,null,null,null,null,{"$f":"Y268","v":0},"0",{"$f":"Z268","v":"00:00:00"}]

{"sheet":"Standards LOOKUP","index":3,"n_rows":1089,"n_cols":5,"rows_kept":1089,"cut":false,"hidden":true,"merged":[[567,3,568,3],[1,3,2,3],[163,3,164,3]]}
["ROADWAY"]
[{"$f":"'Current Standards'!B2","v":"ABSORB(M)-19"},{"$f":"TRIM(SUBSTITUTE(SUBSTITUTE(SUBSTITUTE(SUBSTITUTE(SUBSTITUTE(SUBSTITUTE(A2,\"(\",\"\"),\")\",\"\"),\"-\",\"\"),\"&\",\"\"),\" \",\"\",1),\" \",\"\",1))","v":"ABSORBM19"},{"$f":"'Current Standards'!C2","v":1},"DESIGN"]
[{"$f":"'Current Standards'!B3","v":"AREF-21"},{"$f":"TRIM(SUBSTITUTE(SUBSTITUTE(SUBSTITUTE(SUBSTITUTE(SUBSTITUTE(SUBSTITUTE(A3,\"(\",\"\"),\")\",\"\"),\"-\",\"\"),\"&\",\"\"),\" \",\"\",1),\" \",\"\",1))","v":"AREF21"},{"$f":"'Current Standards'!C3","v":0}]
[{"$f":"'Current Standards'!B4","v":"BARRIERGUARD-19"},"BARRIERGUARD19",{"$f":"'Current Standards'!C4","v":1}]
[{"$f":"'Current Standards'!B5","v":"BED(28)-19"},"BED2819",{"$f":"'Current Standards'!C5","v":0}]
[{"$f":"'Current Standards'!B6","v":"BED-14"},"BED14",{"$f":"'Current Standards'!C6","v":0}]
[{"$f":"'Current Standards'!B7","v":"BG-11"},"BG11",{"$f":"'Current Standards'!C7","v":0}]
[{"$f":"'Current Standards'!B8","v":"BRIFEN(TL4)-14"},"BRIFENTL414",{"$f":"'Current Standards'!C8","v":1}]
[{"$f":"'Current Standards'!B9","v":"CASS(TL3)-14"},"CASSTL314",{"$f":"'Current Standards'!C9","v":1}]
[{"$f":"'Current Standards'!B10","v":"CASS(TL4)-14"},"CASSTL414",{"$f":"'Current Standards'!C10","v":1}]
[{"$f":"'Current Standards'!B11","v":"CATCB(1)-17"},"CATCB117",{"$f":"'Current Standards'!C11","v":1}]
[{"$f":"'Current Standards'!B12","v":0},"0",{"$f":"'Current Standards'!C12","v":1}]
[{"$f":"'Current Standards'!#REF!","v":{"$error":"#REF!"}},{"$error":"#REF!"},{"$f":"'Current Standards'!C13","v":0}]
[{"$f":"'Current Standards'!B13","v":"CCCG-22"},{"$f":"TRIM(SUBSTITUTE(SUBSTITUTE(SUBSTITUTE(SUBSTITUTE(SUBSTITUTE(SUBSTITUTE(A14,\"(\",\"\"),\")\",\"\"),\"-\",\"\"),\"&\",\"\"),\" \",\"\",1),\" \",\"\",1))","v":"CCCG22"},{"$f":"'Current Standards'!C14","v":0}]
[{"$f":"'Current Standards'!B14","v":"CLF-10"},"CLF10",{"$f":"'Current Standards'!C14","v":0}]
[{"$f":"'Current Standards'!B15","v":"CPCD-24"},"CPCD24",{"$f":"'Current Standards'!C15","v":0}]
[{"$f":"'Current Standards'!B16","v":"CRCP(1)-24"},"CRCP124",{"$f":"'Current Standards'!C16","v":0}]
[{"$f":"'Current Standards'!B17","v":"CRCP(2)-24"},"CRCP224",{"$f":"'Current Standards'!C17","v":0}]
[{"$f":"'Current Standards'!B18","v":"CSB(1)-10"},"CSB110",{"$f":"'Current Standards'!C18","v":0}]
[{"$f":"'Current Standards'!B19","v":"CSB(2)-13"},"CSB213",{"$f":"'Current Standards'!C19","v":0}]
[{"$f":"'Current Standards'!B20","v":"CSB(3)-16"},"CSB316",{"$f":"'Current Standards'!C20","v":0}]
[{"$f":"'Current Standards'!B21","v":"CSB(4)-19"},"CSB419",{"$f":"'Current Standards'!C21","v":0}]
[{"$f":"'Current Standards'!B22","v":"CSB(6)-10"},"CSB610",{"$f":"'Current Standards'!C22","v":0}]
[{"$f":"'Current Standards'!B23","v":"CSB(7)-10"},"CSB710",{"$f":"'Current Standards'!C23","v":0}]
[{"$f":"'Current Standards'!B24","v":"CSB(8)-10"},"CSB810",{"$f":"'Current Standards'!C24","v":0}]
[{"$f":"'Current Standards'!B25","v":"DELTACC-22"},"DELTACC22",{"$f":"'Current Standards'!C25","v":0}]
[{"$f":"'Current Standards'!B26","v":"EC(1)-16"},"EC116",{"$f":"'Current Standards'!C25","v":0}]
[{"$f":"'Current Standards'!B27","v":"EC(2)-16"},"EC216",{"$f":"'Current Standards'!C26","v":0}]
[{"$f":"'Current Standards'!B28","v":"EC(3)-16"},"EC316",{"$f":"'Current Standards'!C27","v":0}]
[{"$f":"'Current Standards'!B29","v":"EC(4)-16"},"EC416",{"$f":"'Current Standards'!C28","v":0}]
[{"$f":"'Current Standards'!B30","v":"EC(5)-16"},"EC516",{"$f":"'Current Standards'!C29","v":0}]
[{"$f":"'Current Standards'!B31","v":"EC(6)-16"},"EC616",{"$f":"'Current Standards'!C30","v":0}]
[{"$f":"'Current Standards'!B32","v":"EC(7)-16"},"EC716",{"$f":"'Current Standards'!C31","v":0}]
[{"$f":"'Current Standards'!B33","v":"EC(8)-16"},"EC816",{"$f":"'Current Standards'!C32","v":0}]
[{"$f":"'Current Standards'!B34","v":"EC(9)-16"},"EC916",{"$f":"'Current Standards'!C33","v":0}]
[{"$f":"'Current Standards'!B35","v":"FSHEBSS(TR)-21"},"FSHEBSSTR21",{"$f":"'Current Standards'!C34","v":0}]
[{"$f":"'Current Standards'!B36","v":"FSHEBSS(TR2)-21"},"FSHEBSSTR221",{"$f":"'Current Standards'!C35","v":0}]
[{"$f":"'Current Standards'!B37","v":"FSLP(TR)-10"},"FSLPTR10",{"$f":"'Current Standards'!C36","v":0}]
[{"$f":"'Current Standards'!B38","v":"GBRLTR(TL3)-14"},"GBRLTRTL314",{"$f":"'Current Standards'!C37","v":1}]
[{"$f":"'Current Standards'!B39","v":"GBRLTR(TL4)-14"},"GBRLTRTL414",{"$f":"'Current Standards'!C38","v":1}]
[{"$f":"'Current Standards'!B40","v":"GF(31)-19"},"GF3119",{"$f":"'Current Standards'!C39","v":0}]
[{"$f":"'Current Standards'!B41","v":"GF(31)DAT-19"},"GF31DAT19",{"$f":"'Current Standards'!C40","v":0}]
[{"$f":"'Current Standards'!B42","v":"GF(31)LS-19"},"GF31LS19",{"$f":"'Current Standards'!C41","v":0}]
[{"$f":"'Current Standards'!B43","v":"GF(31)MS-19"},"GF31MS19",{"$f":"'Current Standards'!C42","v":0}]
[{"$f":"'Current Standards'!B44","v":"GF(31)T101-19"},"GF31T10119",{"$f":"'Current Standards'!C43","v":0}]
[{"$f":"'Current Standards'!B45","v":"GF(31)T6-19"},"GF31T619",{"$f":"'Current Standards'!C44","v":0}]
[{"$f":"'Current Standards'!B46","v":"GF(31)TRTL2-19"},"GF31TRTL219",{"$f":"'Current Standards'!C45","v":0}]
[{"$f":"'Current Standards'!B47","v":"GF(31)TRTL3-20"},"GF31TRTL320",{"$f":"'Current Standards'!C46","v":0}]
[{"$f":"'Current Standards'!B48","v":0},"0",{"$f":"'Current Standards'!C47","v":1}]
[{"$f":"'Current Standards'!B49","v":"HIGHWAYGUARD-21"},{"$f":"TRIM(SUBSTITUTE(SUBSTITUTE(SUBSTITUTE(SUBSTITUTE(SUBSTITUTE(SUBSTITUTE(A50,\"(\",\"\"),\")\",\"\"),\"-\",\"\"),\"&\",\"\"),\" \",\"\",1),\" \",\"\",1))","v":"HIGHWAYGUARD21"},{"$f":"'Current Standards'!C48","v":1}]
[{"$f":"'Current Standards'!B50","v":"HV2BARRIER-21"},"HV2BARRIER21",{"$f":"'Current Standards'!C49","v":1}]
[{"$f":"'Current Standards'!B51","v":"JS-14"},"JS14",{"$f":"'Current Standards'!C50","v":0}]
[{"$f":"'Current Standards'!B52","v":"LPCB-13"},"LPCB13",{"$f":"'Current Standards'!C51","v":0}]
[{"$f":"'Current Standards'!B53","v":"LPTB-22"},{"$f":"TRIM(SUBSTITUTE(SUBSTITUTE(SUBSTITUTE(SUBSTITUTE(SUBSTITUTE(SUBSTITUTE(A54,\"(\",\"\"),\")\",\"\"),\"-\",\"\"),\"&\",\"\"),\" \",\"\",1),\" \",\"\",1))","v":"LPTB22"},{"$f":"'Current Standards'!C52","v":0}]
[{"$f":"'Current Standards'!B54","v":"M-10"},"M10",{"$f":"'Current Standards'!C52","v":0}]
[{"$f":"'Current Standards'!B55","v":"MATT(1)-23"},"MATT123",{"$f":"'Current Standards'!C53","v":0}]
[{"$f":"'Current Standards'!B56","v":"MB-14 (2)"},"MB142",{"$f":"'Current Standards'!C54","v":0}]
[{"$f":"'Current Standards'!B57","v":"MB(1)-21"},"MB121",{"$f":"'Current Standards'!C55","v":0}]
[{"$f":"'Current Standards'!B58","v":"MB(2)-21"},"MB221",{"$f":"'Current Standards'!C56","v":0}]
[{"$f":"'Current Standards'!B59","v":"MB(3)-21"},"MB321",{"$f":"'Current Standards'!C57","v":0}]
[{"$f":"'Current Standards'!B60","v":"MB(4)-21"},"MB421",{"$f":"'Current Standards'!C58","v":0}]
[{"$f":"'Current Standards'!B61","v":"MBGF(MS)-19"},"MBGFMS19",{"$f":"'Current Standards'!C59","v":0}]
[{"$f":"'Current Standards'!B62","v":"MBGF(SR)-19"},"MBGFSR19",{"$f":"'Current Standards'!C60","v":0}]
[{"$f":"'Current Standards'!B63","v":"MBGF(T101)-19"},"MBGFT10119",{"$f":"'Current Standards'!C61","v":0}]
[{"$f":"'Current Standards'!B64","v":"MBGF(TL2)-19"},"MBGFTL219",{"$f":"'Current Standards'!C62","v":0}]
[{"$f":"'Current Standards'!#REF!","v":{"$error":"#REF!"}},{"$error":"#REF!"},{"$f":"'Current Standards'!C63","v":0}]
[{"$f":"'Current Standards'!#REF!","v":{"$error":"#REF!"}},{"$error":"#REF!"},{"$f":"'Current Standards'!C64","v":0}]
[{"$f":"'Current Standards'!#REF!","v":{"$error":"#REF!"}},{"$error":"#REF!"},{"$f":"'Current Standards'!C65","v":0}]
[{"$f":"'Current Standards'!B66","v":0},"0",{"$f":"'Current Standards'!C66","v":0}]
[{"$f":"'Current Standards'!B67","v":0},"0",{"$f":"'Current Standards'!C67","v":0}]
[{"$f":"'Current Standards'!B68","v":0},"0",{"$f":"'Current Standards'!C68","v":0}]
[{"$f":"'Current Standards'!B69","v":0},{"$f":"TRIM(SUBSTITUTE(SUBSTITUTE(SUBSTITUTE(SUBSTITUTE(SUBSTITUTE(SUBSTITUTE(A72,\"(\",\"\"),\")\",\"\"),\"-\",\"\"),\"&\",\"\"),\" \",\"\",1),\" \",\"\",1))","v":"0"},{"$f":"'Current Standards'!C69","v":0}]
[{"$f":"'Current Standards'!B70","v":0},"0",{"$f":"'Current Standards'!C70","v":0}]
[{"$f":"'Current Standards'!B71","v":0},"0",{"$f":"'Current Standards'!C71","v":0}]
[{"$f":"'Current Standards'!B72","v":0},"0",{"$f":"'Current Standards'!C72","v":0}]
[{"$f":"'Current Standards'!B73","v":0},"0",{"$f":"'Current Standards'!C73","v":0}]
[{"$f":"'Current Standards'!B74","v":0},"0",{"$f":"'Current Standards'!C74","v":0}]
[{"$f":"'Current Standards'!B75","v":0},"0",{"$f":"'Current Standards'!C75","v":0}]
[{"$f":"'Current Standards'!B76","v":0},"0",{"$f":"'Current Standards'!C76","v":0}]
[{"$f":"'Current Standards'!B77","v":0},"0",{"$f":"'Current Standards'!C77","v":0}]
[{"$f":"'Current Standards'!B78","v":0},"0",{"$f":"'Current Standards'!C78","v":0}]
[{"$f":"'Current Standards'!B79","v":0},"0",{"$f":"'Current Standards'!C79","v":0}]
[{"$f":"'Current Standards'!B80","v":0},"0",{"$f":"'Current Standards'!C80","v":0}]
[{"$f":"'Current Standards'!D2","v":"MBGF-19"},"MBGF19",{"$f":"'Current Standards'!E2","v":0}]
[{"$f":"'Current Standards'!D3","v":"NU-CABLE(TL3)-14"},"NUCABLETL314",{"$f":"'Current Standards'!E3","v":1}]
[{"$f":"'Current Standards'!D4","v":"NU-CABLE(TL4)-14"},"NUCABLETL414",{"$f":"'Current Standards'!E4","v":1}]
[{"$f":"'Current Standards'!D5","v":"PCF-05"},"PCF05",{"$f":"'Current Standards'!E5","v":0}]
[{"$f":"'Current Standards'!D6","v":"PED-18"},"PED18",{"$f":"'Current Standards'!E6","v":0}]
[{"$f":"'Current Standards'!D7","v":"PRD-13"},"PRD13",{"$f":"'Current Standards'!E7","v":0}]
[{"$f":"'Current Standards'!D8","v":"QGELITE(M10)(N)-20"},"QGELITEM10N20",{"$f":"'Current Standards'!E8","v":1}]
[{"$f":"'Current Standards'!D9","v":"QGELITE(M10)(W)-20"},"QGELITEM10W20",{"$f":"'Current Standards'!E9","v":1}]
[{"$f":"'Current Standards'!D10","v":"QGUARD(M10)(N)-20"},"QGUARDM10N20",{"$f":"'Current Standards'!E10","v":1}]
[{"$f":"'Current Standards'!D11","v":"QG(M)(W)-21"},"QGMW21",{"$f":"'Current Standards'!E11","v":1}]
[{"$f":"'Current Standards'!D12","v":"RAIL-ADJ(A)-19"},"RAILADJA19",{"$f":"'Current Standards'!E12","v":0}]
[{"$f":"'Current Standards'!D13","v":"RAIL-ADJ(B)-19"},"RAILADJB19",{"$f":"'Current Standards'!E13","v":0}]
[{"$f":"'Current Standards'!D14","v":"REACT(M)-21"},"REACTM21",{"$f":"'Current Standards'!E14","v":1}]
[{"$f":"'Current Standards'!D15","v":"REACT(W)-16"},"REACTW16",{"$f":"'Current Standards'!E15","v":1}]
[{"$f":"'Current Standards'!D16","v":"REPCP-14"},"REPCP14",{"$f":"'Current Standards'!E16","v":0}]
[{"$f":"'Current Standards'!D17","v":"RSTCP-05"},"RSTCP05",{"$f":"'Current Standards'!E17","v":0}]
[{"$f":"'Current Standards'!D18","v":"SGT(10S)31-16"},"SGT10S3116",{"$f":"'Current Standards'!E18","v":1}]
[{"$f":"'Current Standards'!D19","v":"SGT(11S)31-18"},"SGT11S3118",{"$f":"'Current Standards'!E19","v":1}]
[{"$f":"'Current Standards'!D20","v":"SGT(12S)31-18"},"SGT12S3118",{"$f":"'Current Standards'!E20","v":1}]
[{"$f":"'Current Standards'!D21","v":"SGT(13S)31-18"},"SGT13S3118",{"$f":"'Current Standards'!E21","v":1}]
[{"$f":"'Current Standards'!D22","v":"SGT(14W)31-18"},"SGT14W3118",{"$f":"'Current Standards'!E22","v":1}]
[{"$f":"'Current Standards'!D23","v":"SGT(15)31-20"},"SGT153120",{"$f":"'Current Standards'!E23","v":1}]
[{"$f":"'Current Standards'!D24","v":"SLED-19"},"SLED19",{"$f":"'Current Standards'!E24","v":1}]
[{"$f":"'Current Standards'!D25","v":"SLEDMINI-19"},"SLEDMINI19",{"$f":"'Current Standards'!E25","v":1}]
[{"$f":"'Current Standards'!D26","v":"SMOWD-04"},"SMOWD04",{"$f":"'Current Standards'!E26","v":0}]
[{"$f":"'Current Standards'!D27","v":"SMOWND-04"},"SMOWND04",{"$f":"'Current Standards'!E27","v":0}]
[{"$f":"'Current Standards'!D28","v":"SMTC(N)-16"},"SMTCN16",{"$f":"'Current Standards'!E28","v":1}]
[{"$f":"'Current Standards'!D29","v":"SMTC(W)-16"},"SMTCW16",{"$f":"'Current Standards'!E29","v":1}]
[{"$f":"'Current Standards'!D30","v":"SSCB(1)-16"},"SSCB116",{"$f":"'Current Standards'!E30","v":0}]
[{"$f":"'Current Standards'!D31","v":"SSCB(1F)-10"},"SSCB1F10",{"$f":"'Current Standards'!E31","v":0}]
[{"$f":"'Current Standards'!D32","v":"SSCB(2)-10"},"SSCB210",{"$f":"'Current Standards'!E32","v":0}]
[{"$f":"'Current Standards'!D33","v":"SSCB(3)-10"},"SSCB310",{"$f":"'Current Standards'!E33","v":0}]
[{"$f":"'Current Standards'!D34","v":"SSCB(4)-19"},"SSCB419",{"$f":"'Current Standards'!E34","v":0}]
[{"$f":"'Current Standards'!D35","v":"SSCB(5)-10"},"SSCB510",{"$f":"'Current Standards'!E35","v":0}]
[{"$f":"'Current Standards'!D36","v":"SSCB-P(XB1)-20"},"SSCBPXB120",{"$f":"'Current Standards'!E36","v":0}]
[{"$f":"'Current Standards'!D37","v":"SSCB-P(XB2)-20"},"SSCBPXB220",{"$f":"'Current Standards'!E37","v":0}]
[{"$f":"'Current Standards'!D38","v":"SSCC-16"},"SSCC16",{"$f":"'Current Standards'!E38","v":1}]
[{"$f":"'Current Standards'!D39","v":"SSCHEB-21"},"SSCHEB21",{"$f":"'Current Standards'!E39","v":0}]
[{"$f":"'Current Standards'!D40","v":"SSCHEB2-21"},"SSCHEB221",{"$f":"'Current Standards'!E40","v":0}]
[{"$f":"'Current Standards'!D41","v":"SRG(TL-2)-21"},"SRGTL221",{"$f":"'Current Standards'!E41","v":0}]
[{"$f":"'Current Standards'!D42","v":"SRG(TL-3)-21"},"SRGTL321",{"$f":"'Current Standards'!E42","v":0}]
[{"$f":"'Current Standards'!D43","v":"SWEEP-04"},"SWEEP04",{"$f":"'Current Standards'!E43","v":0}]
[{"$f":"'Current Standards'!D44","v":"SWP3A-23"},"SWP3A23",{"$f":"'Current Standards'!E44","v":1}]
[{"$f":"'Current Standards'!D45","v":"SWP3B-23"},"SWP3B23",{"$f":"'Current Standards'!E45","v":1}]
[{"$f":"'Current Standards'!D46","v":"TAU(M)(N)-19"},"TAUMN19",{"$f":"'Current Standards'!E46","v":1}]
[{"$f":"'Current Standards'!D47","v":"TAU-II(W)-16"},"TAUIIW16",{"$f":"'Current Standards'!E47","v":1}]
[{"$f":"'Current Standards'!D48","v":0},"0",{"$f":"'Current Standards'!E48","v":0}]
[{"$f":"'Current Standards'!D49","v":"TAU-II-R(W)-16"},"TAUIIRW16",{"$f":"'Current Standards'!E49","v":1}]
[{"$f":"'Current Standards'!D50","v":"TAU-XR(N)-24"},"TAUXRN24",{"$f":"'Current Standards'!E50","v":0}]
[{"$f":"'Current Standards'!D51","v":"TE(HMAC)-11"},"TEHMAC11",{"$f":"'Current Standards'!E51","v":0}]
[{"$f":"'Current Standards'!D52","v":"TRACC(W)-16"},"TRACCW16",{"$f":"'Current Standards'!E52","v":0}]
[{"$f":"'Current Standards'!D53","v":"TRANS-20"},"TRANS20",{"$f":"'Current Standards'!E53","v":0}]
[{"$f":"'Current Standards'!D54","v":"TRB-24 (1)"},"TRB241",{"$f":"'Current Standards'!E54","v":1}]
[{"$f":"'Current Standards'!D55","v":"TRB-15 (2)"},"TRB152",{"$f":"'Current Standards'!E55","v":0}]
[{"$f":"'Current Standards'!D56","v":"TWT-04"},"TWT04",{"$f":"'Current Standards'!E56","v":0}]
[{"$f":"'Current Standards'!D57","v":"VIA(SFPM)-19"},"VIASFPM19",{"$f":"'Current Standards'!E57","v":1}]
[{"$f":"'Current Standards'!D58","v":"WF(1)-10"},"WF110",{"$f":"'Current Standards'!E58","v":0}]
[{"$f":"'Current Standards'!D59","v":"WF(2)-10"},"WF210",{"$f":"'Current Standards'!E59","v":0}]
[{"$f":"'Current Standards'!D60","v":"WMED-23"},{"$f":"TRIM(SUBSTITUTE(SUBSTITUTE(SUBSTITUTE(SUBSTITUTE(SUBSTITUTE(SUBSTITUTE(A142,\"(\",\"\"),\")\",\"\"),\"-\",\"\"),\"&\",\"\"),\" \",\"\",1),\" \",\"\",1))","v":"WMED23"},{"$f":"'Current Standards'!E60","v":0}]
[{"$f":"'Current Standards'!D61","v":"ZONEGUARD-19"},"ZONEGUARD19",{"$f":"'Current Standards'!E61","v":0}]
[{"$f":"'Current Standards'!D62","v":0},"0",{"$f":"'Current Standards'!E62","v":0}]
[{"$f":"'Current Standards'!D63","v":0},"0",{"$f":"'Current Standards'!E63","v":0}]
[{"$f":"'Current Standards'!D64","v":0},"0",{"$f":"'Current Standards'!E64","v":0}]
[{"$f":"'Current Standards'!D65","v":0},"0",{"$f":"'Current Standards'!E65","v":0}]
[{"$f":"'Current Standards'!D66","v":0},"0",{"$f":"'Current Standards'!E66","v":0}]
[{"$f":"'Current Standards'!D67","v":0},"0",{"$f":"'Current Standards'!E67","v":0}]
[{"$f":"'Current Standards'!D68","v":0},"0",{"$f":"'Current Standards'!E68","v":0}]
[{"$f":"'Current Standards'!D69","v":0},"0",{"$f":"'Current Standards'!E69","v":0}]
[{"$f":"'Current Standards'!D70","v":0},"0",{"$f":"'Current Standards'!E70","v":0}]
[{"$f":"'Current Standards'!D71","v":0},"0",{"$f":"'Current Standards'!E71","v":0}]
[{"$f":"'Current Standards'!D72","v":0},"0",{"$f":"'Current Standards'!E72","v":0}]
[{"$f":"'Current Standards'!D73","v":0},"0",{"$f":"'Current Standards'!E73","v":0}]
[{"$f":"'Current Standards'!D74","v":0},"0",{"$f":"'Current Standards'!E74","v":0}]
[{"$f":"'Current Standards'!D75","v":0},"0",{"$f":"'Current Standards'!E75","v":0}]
[{"$f":"'Current Standards'!D76","v":0},"0",{"$f":"'Current Standards'!E76","v":0}]
[{"$f":"'Current Standards'!D77","v":0},"0",{"$f":"'Current Standards'!E77","v":0}]
[{"$f":"'Current Standards'!D78","v":0},"0",{"$f":"'Current Standards'!E78","v":0}]
[{"$f":"'Current Standards'!D79","v":0},"0",{"$f":"'Current Standards'!E79","v":0}]
[{"$f":"'Current Standards'!D80","v":0},"0",{"$f":"'Current Standards'!E80","v":0}]
[{"$f":"'Current Standards'!D81","v":0},"0",{"$f":"'Current Standards'!E81","v":0}]
[{"$f":"'Current Standards'!G2","v":"BC(1)-21"},"BC121",null,"TRAFFIC"]
[{"$f":"'Current Standards'!G3","v":"BC(10)-21"},"BC1021"]
[{"$f":"'Current Standards'!G4","v":"BC(11)-21"},"BC1121"]
[{"$f":"'Current Standards'!G5","v":"BC(12)-21"},"BC1221"]
[{"$f":"'Current Standards'!G6","v":"BC(2)-21"},"BC221"]
[{"$f":"'Current Standards'!G7","v":"BC(3)-21"},"BC321"]
[{"$f":"'Current Standards'!G8","v":"BC(4)-21"},"BC421"]
[{"$f":"'Current Standards'!G9","v":"BC(5)-21"},"BC521"]
[{"$f":"'Current Standards'!G10","v":"BC(6)-21"},"BC621"]
[{"$f":"'Current Standards'!G11","v":"BC(7)-21"},"BC721"]
[{"$f":"'Current Standards'!G12","v":"BC(8)-21"},"BC821"]
[{"$f":"'Current Standards'!G13","v":"BC(9)-21"},"BC921"]
[{"$f":"'Current Standards'!G14","v":"BLPM-10"},"BLPM10"]
[{"$f":"'Current Standards'!G15","v":"CFA-12"},"CFA12"]
[{"$f":"'Current Standards'!G16","v":"CLB(1)-23"},"CLB123"]
[{"$f":"'Current Standards'!G17","v":"CLB(2)-23"},"CLB223"]
[{"$f":"'Current Standards'!G18","v":"CMV(SD)-19"},"CMVSD19"]
[{"$f":"'Current Standards'!G19","v":"CMV-19"},"CMV19"]
[{"$f":"'Current Standards'!G20","v":"COSS & OSB-SZ"},"COSSOSBSZ"]
[{"$f":"'Current Standards'!G21","v":"COSS & OSB-SZ-21"},"COSSOSBSZ21"]
[{"$f":"'Current Standards'!G22","v":"COSSD"},"COSSD"]
[{"$f":"'Current Standards'!G23","v":"COSSF"},"COSSF"]
[{"$f":"'Current Standards'!G24","v":"COSSF-21"},"COSSF21"]
[{"$f":"'Current Standards'!G25","v":"COSS-FD"},"COSSFD"]
[{"$f":"'Current Standards'!G26","v":"COSS-SE"},"COSSSE"]
[{"$f":"'Current Standards'!G27","v":"COSS-Z1-10"},"COSSZ110"]
[{"$f":"'Current Standards'!G28","v":"COSS-Z2I-10"},"COSSZ2I10"]
[{"$f":"'Current Standards'!G29","v":"COSS-Z3&Z3I-10"},"COSSZ3Z3I10"]
[{"$f":"'Current Standards'!G30","v":"COSS-Z4&Z4I-10"},"COSSZ4Z4I10"]
[{"$f":"'Current Standards'!G31","v":"CPM(1)-23"},"CPM123"]
[{"$f":"'Current Standards'!G32","v":"D&OM(1)-25"},"DOM125"]
[{"$f":"'Current Standards'!G33","v":"D&OM(2)-25"},"DOM225"]
[{"$f":"'Current Standards'!G34","v":"D&OM(3)-25"},"DOM325"]
[{"$f":"'Current Standards'!G35","v":"D&OM(4)-25"},"DOM425"]
[{"$f":"'Current Standards'!G36","v":"D&OM(5)-25"},"DOM525"]
[{"$f":"'Current Standards'!G37","v":"D&OM(6)-25"},"DOM625"]
[{"$f":"'Current Standards'!G38","v":"D&OM(VIA)-25"},"DOMVIA25"]
[{"$f":"'Current Standards'!G39","v":"D&OM(SIGN)-25"},{"$f":"TRIM(SUBSTITUTE(SUBSTITUTE(SUBSTITUTE(SUBSTITUTE(SUBSTITUTE(SUBSTITUTE(A201,\"(\",\"\"),\")\",\"\"),\"-\",\"\"),\"&\",\"\"),\" \",\"\",1),\" \",\"\",1))","v":"DOMSIGN25"}]
[{"$f":"'Current Standards'!G40","v":"DMA-100(1)-12"},"DMA100112"]
[{"$f":"'Current Standards'!G41","v":"DMA-100(2)-12"},"DMA100212"]
[{"$f":"'Current Standards'!G42","v":"DMA-100(3)-12"},"DMA100312"]
[{"$f":"'Current Standards'!G43","v":"DMA-80(1)-12"},"DMA80112"]
[{"$f":"'Current Standards'!G44","v":"DMA-80(2)-12"},"DMA80212"]
[{"$f":"'Current Standards'!G45","v":"DMA-80(3)-12"},"DMA80312"]
[{"$f":"'Current Standards'!G46","v":"DMS(HZ-1)-21"},"DMSHZ121"]
[{"$f":"'Current Standards'!G47","v":"DMS(HZ-2)-21"},"DMSHZ221"]
[{"$f":"'Current Standards'!G48","v":"DMS(TM-1)-16"},"DMSTM116"]
[{"$f":"'Current Standards'!G49","v":"DMS(TM-2)-16"},"DMSTM216"]
[{"$f":"'Current Standards'!G50","v":"DMS(TM-3)-16"},"DMSTM316"]
[{"$f":"'Current Standards'!G51","v":"ED(1)-25"},"ED125"]
[{"$f":"'Current Standards'!G52","v":"ED(10)-25"},"ED1025"]
[{"$f":"'Current Standards'!G53","v":"ED(11)-25"},"ED1125"]
[{"$f":"'Current Standards'!G54","v":"ED(12)-25"},"ED1225"]
[{"$f":"'Current Standards'!G55","v":"ED(2)-25"},"ED225"]
[{"$f":"'Current Standards'!G56","v":"ED(3)-25"},"ED325"]
[{"$f":"'Current Standards'!G57","v":"ED(4)-25"},"ED425"]
[{"$f":"'Current Standards'!G58","v":"ED(5)-25"},"ED525"]
[{"$f":"'Current Standards'!G59","v":"ED(6)-25"},"ED625"]
[{"$f":"'Current Standards'!G60","v":"ED(7)-25"},"ED725"]
[{"$f":"'Current Standards'!G61","v":"ED(8)-25"},"ED825"]
[{"$f":"'Current Standards'!G62","v":"ED(9)-25"},"ED925"]
[{"$f":"'Current Standards'!G63","v":"FGA-15"},"FGA15"]
[{"$f":"'Current Standards'!G64","v":"FPM(1)-22"},"FPM122"]
[{"$f":"'Current Standards'!G65","v":"FPM(2)-22"},"FPM222"]
[{"$f":"'Current Standards'!G66","v":"FPM(3)-22"},"FPM322"]
[{"$f":"'Current Standards'!G67","v":"FPM(4)-22"},"FPM422"]
[{"$f":"'Current Standards'!G68","v":"FPM(5)-22"},"FPM522"]
[{"$f":"'Current Standards'!G69","v":"FPM(6)-22"},"FPM622"]
[{"$f":"'Current Standards'!G70","v":"HCOSS-Z1-10"},"HCOSSZ110"]
[{"$f":"'Current Standards'!G71","v":0},"0"]
[{"$f":"'Current Standards'!G72","v":0},"0"]
[{"$f":"'Current Standards'!G73","v":0},"0"]
[{"$f":"'Current Standards'!G74","v":0},"0"]
[{"$f":"'Current Standards'!G75","v":0},"0"]
[{"$f":"'Current Standards'!G76","v":0},"0"]
[{"$f":"'Current Standards'!G77","v":0},"0"]
[{"$f":"'Current Standards'!G77","v":0},{"$f":"TRIM(SUBSTITUTE(SUBSTITUTE(SUBSTITUTE(SUBSTITUTE(SUBSTITUTE(SUBSTITUTE(A240,\"(\",\"\"),\")\",\"\"),\"-\",\"\"),\"&\",\"\"),\" \",\"\",1),\" \",\"\",1))","v":"0"}]
[{"$f":"'Current Standards'!G78","v":0},"0"]
[{"$f":"'Current Standards'!G79","v":0},"0"]
[{"$f":"'Current Standards'!G80","v":0},"0"]
[{"$f":"'Current Standards'!G81","v":0},"0"]
[{"$f":"'Current Standards'!H2","v":"HMID(1)-24"},"HMID124"]
[{"$f":"'Current Standards'!H3","v":"HMID(2)-25"},"HMID225"]
[{"$f":"'Current Standards'!H4","v":"HMID(3)-24"},"HMID324"]
[{"$f":"'Current Standards'!H5","v":"HMID(4)-24"},"HMID424"]
[{"$f":"'Current Standards'!H6","v":"HMID(5)-24"},"HMID524"]
[{"$f":"'Current Standards'!H7","v":"HMID(6)-24"},"HMID624"]
[{"$f":"'Current Standards'!H8","v":"HMID(7)-24"},"HMID724"]
[{"$f":"'Current Standards'!H9","v":0},"0"]
[{"$f":"'Current Standards'!H10","v":0},"0"]
[{"$f":"'Current Standards'!H11","v":"HMIF(1)-98"},"HMIF198"]
[{"$f":"'Current Standards'!H12","v":"HMIF(2)-98"},"HMIF298"]
[{"$f":"'Current Standards'!H13","v":"HMIP(1)-16"},"HMIP116"]
[{"$f":"'Current Standards'!H14","v":"HMIP(2)-16"},"HMIP216"]
[{"$f":"'Current Standards'!H15","v":"HOSB-Z1"},"HOSBZ1"]
[{"$f":"'Current Standards'!H16","v":"HOSB-Z1-21"},"HOSBZ121"]
[{"$f":"'Current Standards'!H17","v":"HOSB-Z1L"},"HOSBZ1L"]
[{"$f":"'Current Standards'!H18","v":"HOSB-Z2I"},"HOSBZ2I"]
[{"$f":"'Current Standards'!H19","v":"HOSB-Z3"},"HOSBZ3"]
[{"$f":"'Current Standards'!H20","v":"HOSB-Z3I"},"HOSBZ3I"]
[{"$f":"'Current Standards'!H21","v":"HOSB-Z3I"},"HOSBZ3I"]
[{"$f":"'Current Standards'!H22","v":"HOSB-Z4"},"HOSBZ4"]
[{"$f":"'Current Standards'!H23","v":"HOSB-Z4"},"HOSBZ4"]
[{"$f":"'Current Standards'!H24","v":"HOSB-Z4I"},"HOSBZ4I"]
[{"$f":"'Current Standards'!H25","v":"ISSC-20"},"ISSC20"]
[{"$f":"'Current Standards'!H26","v":"ISSD-20"},"ISSD20"]
[{"$f":"'Current Standards'!H27","v":"ISSU-20"},"ISSU20"]
[{"$f":"'Current Standards'!H28","v":"ITS(1)-15"},{"$f":"TRIM(SUBSTITUTE(SUBSTITUTE(SUBSTITUTE(SUBSTITUTE(SUBSTITUTE(SUBSTITUTE(A271,\"(\",\"\"),\")\",\"\"),\"-\",\"\"),\"&\",\"\"),\" \",\"\",1),\" \",\"\",1))","v":"ITS115"}]
[{"$f":"'Current Standards'!H29","v":"ITS(10)-15"},"ITS1015"]
[{"$f":"'Current Standards'!H30","v":"ITS(11)-15"},"ITS1115"]
[{"$f":"'Current Standards'!H31","v":"ITS(12)-15"},"ITS1215"]
[{"$f":"'Current Standards'!H32","v":"ITS(13)-15"},"ITS1315"]
[{"$f":"'Current Standards'!H33","v":"ITS(14)-15"},"ITS1415"]
[{"$f":"'Current Standards'!H34","v":"ITS(15)-15"},"ITS1515"]
[{"$f":"'Current Standards'!H35","v":"ITS(16)-15"},"ITS1615"]
[{"$f":"'Current Standards'!H36","v":"ITS(17)-15"},"ITS1715"]
[{"$f":"'Current Standards'!H37","v":"ITS(18)-15"},"ITS1815"]
[{"$f":"'Current Standards'!H38","v":"ITS(19)-17"},"ITS1917"]
[{"$f":"'Current Standards'!H39","v":"ITS(2)-15"},"ITS215"]
[{"$f":"'Current Standards'!H40","v":"ITS(20)-15"},"ITS2015"]
[{"$f":"'Current Standards'!H41","v":"ITS(21)-15"},"ITS2115"]
[{"$f":"'Current Standards'!H42","v":"ITS(22)-15"},"ITS2215"]
[{"$f":"'Current Standards'!H43","v":"ITS(23)-15"},"ITS2315"]
[{"$f":"'Current Standards'!H44","v":"ITS(24)-15"},"ITS2415"]
[{"$f":"'Current Standards'!H45","v":"ITS(25)-15"},"ITS2515"]
[{"$f":"'Current Standards'!H46","v":"ITS(26)-15"},"ITS2615"]
[{"$f":"'Current Standards'!H47","v":"ITS(27)-16"},"ITS2716"]
[{"$f":"'Current Standards'!H48","v":"ITS(28)-16"},"ITS2816"]
[{"$f":"'Current Standards'!H49","v":"ITS(29)-22"},"ITS2922"]
[{"$f":"'Current Standards'!H50","v":"ITS(3)-16"},"ITS316"]
[{"$f":"'Current Standards'!H51","v":"ITS(30)-16"},"ITS3016"]
[{"$f":"'Current Standards'!H52","v":"ITS(31)-16"},"ITS3116"]
[{"$f":"'Current Standards'!H53","v":"ITS(32)-16"},"ITS3216"]
[{"$f":"'Current Standards'!H54","v":"ITS(33)-16"},"ITS3316"]
[{"$f":"'Current Standards'!H55","v":"ITS(34)-16"},"ITS3416"]
[{"$f":"'Current Standards'!H56","v":"ITS(35)-16"},"ITS3516"]
[{"$f":"'Current Standards'!H57","v":"ITS(36)-16"},"ITS3616"]
[{"$f":"'Current Standards'!H58","v":"ITS(37)-22"},"ITS3722"]
[{"$f":"'Current Standards'!H59","v":"ITS(38)-17"},"ITS3817"]
[{"$f":"'Current Standards'!H60","v":"ITS(39)-16"},"ITS3916"]
[{"$f":"'Current Standards'!H61","v":"ITS(4)-15"},"ITS415"]
[{"$f":"'Current Standards'!H62","v":"ITS(40)-17"},"ITS4017"]
[{"$f":"'Current Standards'!H63","v":"ITS(41)-16"},"ITS4116"]
[{"$f":"'Current Standards'!H64","v":"ITS(42)-16"},"ITS4216"]
[{"$f":"'Current Standards'!H65","v":"ITS(43)-16"},"ITS4316"]
[{"$f":"'Current Standards'!H66","v":"ITS(44)-16"},"ITS4416"]
[{"$f":"'Current Standards'!H67","v":0},"0"]
[{"$f":"'Current Standards'!H68","v":0},"0"]
[{"$f":"'Current Standards'!H69","v":0},"0"]
[{"$f":"'Current Standards'!H70","v":0},"0"]
[{"$f":"'Current Standards'!H71","v":0},"0"]
[{"$f":"'Current Standards'!H72","v":0},"0"]
[{"$f":"'Current Standards'!H73","v":0},"0"]
[{"$f":"'Current Standards'!H74","v":0},"0"]
[{"$f":"'Current Standards'!H75","v":0},"0"]
[{"$f":"'Current Standards'!H76","v":0},"0"]
[{"$f":"'Current Standards'!H77","v":0},"0"]
[{"$f":"'Current Standards'!H78","v":0},"0"]
[{"$f":"'Current Standards'!H79","v":0},"0"]
[{"$f":"'Current Standards'!H80","v":0},"0"]
[{"$f":"'Current Standards'!H81","v":0},"0"]
[{"$f":"'Current Standards'!I2","v":"ITS(45)-16"},"ITS4516"]
[{"$f":"'Current Standards'!I3","v":"ITS(4A)-15"},"ITS4A15"]
[{"$f":"'Current Standards'!I4","v":"ITS(5)-15"},"ITS515"]
[{"$f":"'Current Standards'!I5","v":"ITS(6)-15"},"ITS615"]
[{"$f":"'Current Standards'!I6","v":"ITS(7)-15"},"ITS715"]
[{"$f":"'Current Standards'!I7","v":"ITS(8)-15"},"ITS815"]
[{"$f":"'Current Standards'!I8","v":"ITS(9)-15"},"ITS915"]
[{"$f":"'Current Standards'!I9","v":"LD(1)-03"},"LD103"]
[{"$f":"'Current Standards'!I10","v":"LD(2)-03"},"LD203"]
[{"$f":"'Current Standards'!I11","v":"LMA(1)-12"},"LMA112"]
[{"$f":"'Current Standards'!I12","v":"LMA(2)-12"},{"$f":"TRIM(SUBSTITUTE(SUBSTITUTE(SUBSTITUTE(SUBSTITUTE(SUBSTITUTE(SUBSTITUTE(A335,\"(\",\"\"),\")\",\"\"),\"-\",\"\"),\"&\",\"\"),\" \",\"\",1),\" \",\"\",1))","v":"LMA212"}]
[{"$f":"'Current Standards'!I13","v":"LMA(3)-12"},"LMA312"]
[{"$f":"'Current Standards'!I14","v":"LMA(4)-12"},"LMA412"]
[{"$f":"'Current Standards'!I15","v":"LMA(5)-12"},"LMA512"]
[{"$f":"'Current Standards'!I16","v":"LUM-A-12"},"LUMA12"]
[{"$f":"'Current Standards'!I17","v":"MA-C(ILSN)-12"},"MACILSN12"]
[{"$f":"'Current Standards'!I18","v":"MA-C-12"},"MAC12"]
[{"$f":"'Current Standards'!I19","v":"MA-D-12"},"MAD12"]
[{"$f":"'Current Standards'!I20","v":"MA-DPD-20"},"MADPD20"]
[{"$f":"'Current Standards'!I21","v":"MC(1)-22"},"MC122"]
[{"$f":"'Current Standards'!I22","v":"MC(2)-22"},"MC222"]
[{"$f":"'Current Standards'!I23","v":0},"0"]
[{"$f":"'Current Standards'!I24","v":"MC(4)-22"},"MC422"]
[{"$f":"'Current Standards'!I25","v":"MC(5)-22"},"MC522"]
[{"$f":"'Current Standards'!I26","v":"MC(6)-22"},"MC622"]
[{"$f":"'Current Standards'!I27","v":"MC(7)-22"},"MC722"]
[{"$f":"'Current Standards'!I28","v":"MDM(1)-07"},"MDM107"]
[{"$f":"'Current Standards'!I29","v":"MDM(2)-07"},"MDM207"]
[{"$f":"'Current Standards'!I30","v":"MDM(3)-07"},"MDM307"]
[{"$f":"'Current Standards'!I31","v":"MS(1)-22"},"MS122"]
[{"$f":"'Current Standards'!I32","v":"MS(2)-22"},"MS222"]
[{"$f":"'Current Standards'!I33","v":0},"0"]
[{"$f":"'Current Standards'!I34","v":"MS(4)-22"},"MS422"]
[{"$f":"'Current Standards'!I35","v":"MS(5)-22"},"MS522"]
[{"$f":"'Current Standards'!I36","v":"MS(6)-22"},"MS622"]
[{"$f":"'Current Standards'!I37","v":"MS(7)-22"},"MS722"]
[{"$f":"'Current Standards'!I38","v":"OSBC"},"OSBC"]
[{"$f":"'Current Standards'!I39","v":"OSBC-SC-Z1"},"OSBCSCZ1"]
[{"$f":"'Current Standards'!I40","v":"OSBC-SC-Z2"},"OSBCSCZ2"]
[{"$f":"'Current Standards'!I41","v":"OSBC-SC-Z3"},"OSBCSCZ3"]
[{"$f":"'Current Standards'!I42","v":"OSBC-SC-Z4"},"OSBCSCZ4"]
[{"$f":"'Current Standards'!I43","v":"OSB-FD"},"OSBFD"]
[{"$f":"'Current Standards'!I44","v":"OSB-FD-SC"},"OSBFDSC"]
[{"$f":"'Current Standards'!I45","v":"OSB-SE"},"OSBSE"]
[{"$f":"'Current Standards'!I46","v":"OSBS-SC"},"OSBSSC"]
[{"$f":"'Current Standards'!I47","v":"OSBT"},"OSBT"]
[{"$f":"'Current Standards'!I48","v":"OSBT-21"},"OSBT21"]
[{"$f":"'Current Standards'!I49","v":"OSB-Z1"},"OSBZ1"]
[{"$f":"'Current Standards'!I50","v":"OSB-Z2I"},"OSBZ2I"]
[{"$f":"'Current Standards'!I51","v":"OSB-Z3"},"OSBZ3"]
[{"$f":"'Current Standards'!I52","v":"OSB-Z3"},"OSBZ3"]
[{"$f":"'Current Standards'!I53","v":"OSB-Z3I"},"OSBZ3I"]
[{"$f":"'Current Standards'!I54","v":"OSB-Z4"},"OSBZ4"]
[{"$f":"'Current Standards'!I55","v":"OSB-Z4I"},"OSBZ4I"]
[{"$f":"'Current Standards'!I56","v":"OSB-Z4I"},"OSBZ4I"]
[{"$f":"'Current Standards'!I57","v":"PM(1)-22"},"PM122"]
[{"$f":"'Current Standards'!I58","v":"PM(2)-22"},"PM222"]
[{"$f":"'Current Standards'!I59","v":"PM(3)-22"},"PM322"]
[{"$f":"'Current Standards'!I60","v":"PM(4)-22A"},"PM422A"]
[{"$f":"'Current Standards'!I61","v":"PM(5)-22"},{"$f":"TRIM(SUBSTITUTE(SUBSTITUTE(SUBSTITUTE(SUBSTITUTE(SUBSTITUTE(SUBSTITUTE(A384,\"(\",\"\"),\")\",\"\"),\"-\",\"\"),\"&\",\"\"),\" \",\"\",1),\" \",\"\",1))","v":"PM522"}]
[{"$f":"'Current Standards'!I62","v":"PM(AP)-21"},"PMAP21"]
[{"$f":"'Current Standards'!I63","v":"RCD(1)-25"},"RCD125"]
[{"$f":"'Current Standards'!I64","v":"RCD(2)-25"},"RCD225"]
[{"$f":"'Current Standards'!I65","v":"RFBA-13"},"RFBA13"]
[{"$f":"'Current Standards'!I66","v":"RID (1)-20"},"RID120"]
[{"$f":"'Current Standards'!I67","v":0},"0"]
[{"$f":"'Current Standards'!I67","v":0},"0"]
[{"$f":"'Current Standards'!I68","v":0},"0"]
[{"$f":"'Current Standards'!I69","v":0},"0"]
[{"$f":"'Current Standards'!I70","v":0},"0"]
[{"$f":"'Current Standards'!I71","v":0},"0"]
[{"$f":"'Current Standards'!I72","v":0},"0"]
[{"$f":"'Current Standards'!I73","v":0},"0"]
[{"$f":"'Current Standards'!I74","v":0},"0"]
[{"$f":"'Current Standards'!I75","v":0},"0"]
[{"$f":"'Current Standards'!I76","v":0},{"$f":"TRIM(SUBSTITUTE(SUBSTITUTE(SUBSTITUTE(SUBSTITUTE(SUBSTITUTE(SUBSTITUTE(A400,\"(\",\"\"),\")\",\"\"),\"-\",\"\"),\"&\",\"\"),\" \",\"\",1),\" \",\"\",1))","v":"0"}]
[{"$f":"'Current Standards'!I77","v":0},"0"]
[{"$f":"'Current Standards'!I78","v":0},"0"]
[{"$f":"'Current Standards'!I79","v":0},"0"]
[{"$f":"'Current Standards'!I80","v":0},"0"]
[{"$f":"'Current Standards'!I81","v":0},"0"]
[{"$f":"'Current Standards'!J2","v":0},"0"]
[{"$f":"'Current Standards'!J3","v":"RID(2)-20"},"RID220"]
[{"$f":"'Current Standards'!J4","v":"RID(3)-20"},{"$f":"TRIM(SUBSTITUTE(SUBSTITUTE(SUBSTITUTE(SUBSTITUTE(SUBSTITUTE(SUBSTITUTE(A408,\"(\",\"\"),\")\",\"\"),\"-\",\"\"),\"&\",\"\"),\" \",\"\",1),\" \",\"\",1))","v":"RID320"}]
[{"$f":"'Current Standards'!J5","v":"RIP(1)-19"},"RIP119"]
[{"$f":"'Current Standards'!J6","v":"RIP(2)-19"},"RIP219"]
[{"$f":"'Current Standards'!J7","v":"RIP(3)-19"},"RIP319"]
[{"$f":"'Current Standards'!J8","v":"RIP(4)-19"},"RIP419"]
[{"$f":"'Current Standards'!J9","v":"RRPM-24"},"RRPM24"]
[{"$f":"'Current Standards'!J10","v":"RS(1)-23"},{"$f":"TRIM(SUBSTITUTE(SUBSTITUTE(SUBSTITUTE(SUBSTITUTE(SUBSTITUTE(SUBSTITUTE(A414,\"(\",\"\"),\")\",\"\"),\"-\",\"\"),\"&\",\"\"),\" \",\"\",1),\" \",\"\",1))","v":"RS123"}]
[{"$f":"'Current Standards'!J11","v":"RS(2)-23"},"RS223"]
[{"$f":"'Current Standards'!J12","v":"RS(3)-23"},"RS323"]
[{"$f":"'Current Standards'!J13","v":"RS(4)-23"},"RS423"]
[{"$f":"'Current Standards'!J14","v":"RS(5)-23"},"RS523"]
[{"$f":"'Current Standards'!J15","v":"RSE(1)-21"},"RSE121"]
[{"$f":"'Current Standards'!J16","v":"RSE(2)-21"},"RSE221"]
[{"$f":"'Current Standards'!J17","v":"RSE(3)-21"},"RSE321"]
[{"$f":"'Current Standards'!J18","v":"RSE(4)-21"},"RSE421"]
[{"$f":"'Current Standards'!J19","v":"RSE(5)-21"},"RSE521"]
[{"$f":"'Current Standards'!J20","v":0},"0"]
[{"$f":"'Current Standards'!J21","v":0},"0"]
[{"$f":"'Current Standards'!J22","v":"SMA-100(1)-12"},"SMA100112"]
[{"$f":"'Current Standards'!J23","v":"SMA-100(2)-12"},"SMA100212"]
[{"$f":"'Current Standards'!J24","v":"SMA-80(1)-12"},"SMA80112"]
[{"$f":"'Current Standards'!J25","v":"SMA-80(2)-12"},"SMA80212"]
[{"$f":"'Current Standards'!J26","v":"SMD(2-1)-24"},"SMD2124"]
[{"$f":"'Current Standards'!J27","v":"SMD(2-2)-24"},"SMD2224"]
[{"$f":"'Current Standards'!J28","v":"SMD(2-3)-24"},"SMD2324"]
[{"$f":"'Current Standards'!J29","v":"SMD(2-4)-24"},"SMD2424"]
[{"$f":"'Current Standards'!J30","v":"SMD(2-5)-24"},"SMD2524"]
[{"$f":"'Current Standards'!J31","v":"SMD(2-6)-24"},"SMD2624"]
[{"$f":"'Current Standards'!J32","v":"SMD(2-7)-24"},"SMD2724"]
[{"$f":"'Current Standards'!J33","v":"SMD(BR-1)-14"},"SMDBR114"]
[{"$f":"'Current Standards'!J34","v":"SMD(BR-2)-14"},"SMDBR214"]
[{"$f":"'Current Standards'!J35","v":"SMD(BR-3)-14"},"SMDBR314"]
[{"$f":"'Current Standards'!J36","v":"SMD(CPS-1)-23"},"SMDCPS123"]
[{"$f":"'Current Standards'!J37","v":"SMD(CPS-2)-23"},"SMDCPS223"]
[{"$f":"'Current Standards'!J38","v":"SMD(CPS-3)-23"},"SMDCPS323"]
[{"$f":"'Current Standards'!J39","v":"SMD(CPS-4)-23"},"SMDCPS423"]
[{"$f":"'Current Standards'!J40","v":"SMD(FRP)-08"},"SMDFRP08"]
[{"$f":"'Current Standards'!J41","v":"SMD(GEN)-08"},"SMDGEN08"]
[{"$f":"'Current Standards'!J42","v":"SMD(LRSS-1)-24"},"SMDLRSS124"]
[{"$f":"'Current Standards'!J43","v":"SMD(LRSS-2)-24"},"SMDLRSS224"]
[{"$f":"'Current Standards'!J44","v":"SMD(LRSS-3)-24"},"SMDLRSS324"]
[{"$f":"'Current Standards'!J45","v":"SMD(LRSS-4)-24"},"SMDLRSS424"]
[{"$f":"'Current Standards'!J46","v":"SMD(SLIP-1)-08"},"SMDSLIP108"]
[{"$f":"'Current Standards'!J47","v":"SMD(SLIP-2)-08"},"SMDSLIP208"]
[{"$f":"'Current Standards'!J48","v":"SMD(SLIP-3)-08"},"SMDSLIP308"]
[{"$f":"'Current Standards'!J49","v":"SMD(TWT)-08"},"SMDTWT08"]
[{"$f":"'Current Standards'!J50","v":"SNS-95"},"SNS95"]
[{"$f":"'Current Standards'!J51","v":"SOLS"},"SOLS"]
[{"$f":"'Current Standards'!J52","v":"SOLS(TY G)"},"SOLSTYG"]
[{"$f":"'Current Standards'!J53","v":"SOLS(TY O)"},"SOLSTYO"]
[{"$f":"'Current Standards'!J54","v":"SOLSR"},"SOLSR"]
[{"$f":"'Current Standards'!J55","v":"SOSS"},"SOSS"]
[{"$f":"'Current Standards'!J56","v":"SP-100(1)-12"},"SP100112"]
[{"$f":"'Current Standards'!J57","v":"SP-100(2)-12"},"SP100212"]
[{"$f":"'Current Standards'!J58","v":"SP-80(1)-12"},"SP80112"]
[{"$f":"'Current Standards'!J59","v":"SP-80(2)-12"},"SP80212"]
[{"$f":"'Current Standards'!J60","v":"SPRFBA(1)-13"},"SPRFBA113"]
[{"$f":"'Current Standards'!J61","v":"SPRFBA(2)-13"},"SPRFBA213"]
[{"$f":"'Current Standards'!J62","v":"SPRFBA(3)-13"},"SPRFBA313"]
[{"$f":"'Current Standards'!J63","v":0},"0"]
[{"$f":"'Current Standards'!J64","v":"TCP(1-1)-18"},"TCP1118"]
[{"$f":"'Current Standards'!J65","v":"TCP(1-2)-18"},"TCP1218"]
[{"$f":"'Current Standards'!J66","v":"TCP(1-3)-18"},"TCP1318"]
[{"$f":"'Current Standards'!J67","v":"TCP(1-4)-18"},"TCP1418"]
[{"$f":"'Current Standards'!J68","v":"TCP(1-5)-18"},{"$f":"TRIM(SUBSTITUTE(SUBSTITUTE(SUBSTITUTE(SUBSTITUTE(SUBSTITUTE(SUBSTITUTE(A472,\"(\",\"\"),\")\",\"\"),\"-\",\"\"),\"&\",\"\"),\" \",\"\",1),\" \",\"\",1))","v":"TCP1518"}]
[{"$f":"'Current Standards'!J69","v":"TCP(1-6)-18"},"TCP1618"]
[{"$f":"'Current Standards'!J70","v":"TCP(2-1)-18"},"TCP2118"]
[{"$f":"'Current Standards'!J71","v":0},"0"]
[{"$f":"'Current Standards'!J72","v":0},"0"]
[{"$f":"'Current Standards'!J73","v":0},"0"]
[{"$f":"'Current Standards'!J74","v":0},"0"]
[{"$f":"'Current Standards'!J75","v":0},"0"]
[{"$f":"'Current Standards'!J76","v":0},"0"]
[{"$f":"'Current Standards'!J77","v":0},"0"]
[{"$f":"'Current Standards'!J78","v":0},"0"]
[{"$f":"'Current Standards'!J79","v":0},"0"]
[{"$f":"'Current Standards'!J80","v":0},"0"]
[{"$f":"'Current Standards'!J81","v":0},"0"]
[{"$f":"'Current Standards'!K2","v":"TCP(2-2)-18"},"TCP2218"]
[{"$f":"'Current Standards'!K3","v":"TCP(2-3)-23"},"TCP2323"]
[{"$f":"'Current Standards'!K4","v":"TCP(2-4)-18"},"TCP2418"]
[{"$f":"'Current Standards'!K5","v":"TCP(2-5)-18"},"TCP2518"]
[{"$f":"'Current Standards'!K6","v":"TCP(2-6)-18"},"TCP2618"]
[{"$f":"'Current Standards'!K7","v":"TCP(2-7)-23"},"TCP2723"]
[{"$f":"'Current Standards'!K8","v":"TCP(2-8)-23"},"TCP2823"]
[{"$f":"'Current Standards'!K9","v":"TCP(3-1)-13"},"TCP3113"]
[{"$f":"'Current Standards'!K10","v":"TCP(3-2)-13"},"TCP3213"]
[{"$f":"'Current Standards'!K11","v":"TCP(3-3)-14"},"TCP3314"]
[{"$f":"'Current Standards'!K12","v":"TCP(3-4)-13"},"TCP3413"]
[{"$f":"'Current Standards'!K13","v":"TCP(3-5)-18"},"TCP3518"]
[{"$f":"'Current Standards'!K14","v":"TCP(5-1)-18"},"TCP5118"]
[{"$f":"'Current Standards'!K15","v":"TCP(6-1)-12"},"TCP6112"]
[{"$f":"'Current Standards'!K16","v":"TCP(6-2)-12"},"TCP6212"]
[{"$f":"'Current Standards'!K17","v":"TCP(6-3)-12"},"TCP6312"]
[{"$f":"'Current Standards'!K18","v":"TCP(6-4)-12"},"TCP6412"]
[{"$f":"'Current Standards'!K19","v":"TCP(6-5)-12"},"TCP6512"]
[{"$f":"'Current Standards'!K20","v":"TCP(6-6)-12"},"TCP6612"]
[{"$f":"'Current Standards'!K21","v":"TCP(6-7)-12"},"TCP6712"]
[{"$f":"'Current Standards'!K22","v":"TCP(6-8)-14"},"TCP6814"]
[{"$f":"'Current Standards'!K23","v":"TCP(6-9)-14"},"TCP6914"]
[{"$f":"'Current Standards'!K24","v":"TCP(7-1)-13"},"TCP7113"]
[{"$f":"'Current Standards'!K25","v":"TCP(S-1)-08A"},"TCPS108A"]
[{"$f":"'Current Standards'!K26","v":"TCP(S-2)-08A"},"TCPS208A"]
[{"$f":"'Current Standards'!K27","v":"TCP(S-2c)-10"},"TCPS2c10"]
[{"$f":"'Current Standards'!K28","v":"TCP(S-3)-08"},"TCPS308"]
[{"$f":"'Current Standards'!K29","v":"TCP(S-4)-08A"},"TCPS408A"]
[{"$f":"'Current Standards'!K30","v":"TCP(S-5)-08"},"TCPS508"]
[{"$f":"'Current Standards'!K31","v":"TCP(SC-1)-22"},"TCPSC122"]
[{"$f":"'Current Standards'!K32","v":"TCP(SC-2)-22"},"TCPSC222"]
[{"$f":"'Current Standards'!K33","v":"TCP(SC-3)-22"},"TCPSC322"]
[{"$f":"'Current Standards'!K34","v":"TCP(SC-4)-22"},"TCPSC422"]
[{"$f":"'Current Standards'!K35","v":"TCP(SC-5)-22"},"TCPSC522"]
[{"$f":"'Current Standards'!K36","v":"TCP(SC-6)-22"},"TCPSC622"]
[{"$f":"'Current Standards'!K37","v":"TCP(SC-7)-22"},"TCPSC722"]
[{"$f":"'Current Standards'!K38","v":"TCP(SC-8)-22"},{"$f":"TRIM(SUBSTITUTE(SUBSTITUTE(SUBSTITUTE(SUBSTITUTE(SUBSTITUTE(SUBSTITUTE(A522,\"(\",\"\"),\")\",\"\"),\"-\",\"\"),\"&\",\"\"),\" \",\"\",1),\" \",\"\",1))","v":"TCPSC822"}]
[{"$f":"'Current Standards'!K39","v":"TCP-RCP-15"},"TCPRCP15"]
[{"$f":"'Current Standards'!K40","v":"TLRS(1)-17"},"TLRS117"]
[{"$f":"'Current Standards'!K41","v":"TLRS(2)-17"},"TLRS217"]
[{"$f":"'Current Standards'!K42","v":"TLRS(3)-17"},"TLRS317"]
[{"$f":"'Current Standards'!K43","v":"TLRS(4)-17"},"TLRS417"]
[{"$f":"'Current Standards'!K45","v":"TS2(PL-1)-23"},"TS2PL123"]
[{"$f":"'Current Standards'!K46","v":"TS2(PL-2)-23"},"TS2PL223"]
[{"$f":"'Current Standards'!K47","v":"TS-BP-20"},"TSBP20"]
[{"$f":"'Current Standards'!K48","v":"TS-CD-22"},"TSCD22"]
[{"$f":"'Current Standards'!K49","v":"TS-CF-21"},"TSCF21"]
[{"$f":"'Current Standards'!K50","v":"TS-FD-12"},"TSFD12"]
["TREATMENT FOR VARIOUS EDGE CONDITIONS","TREATMENTFORVARIOUS EDGE CONDITIONS"]
[{"$f":"'Current Standards'!K51","v":"TSR(1)-13"},"TSR113"]
[{"$f":"'Current Standards'!K52","v":"TSR(2)-13"},{"$f":"TRIM(SUBSTITUTE(SUBSTITUTE(SUBSTITUTE(SUBSTITUTE(SUBSTITUTE(SUBSTITUTE(A536,\"(\",\"\"),\")\",\"\"),\"-\",\"\"),\"&\",\"\"),\" \",\"\",1),\" \",\"\",1))","v":"TSR213"}]
[{"$f":"'Current Standards'!K53","v":"TSR(3)-13"},"TSR313"]
[{"$f":"'Current Standards'!K54","v":"TSR(4)-13"},"TSR413"]
[{"$f":"'Current Standards'!K55","v":"TSR(5)-13"},"TSR513"]
[{"$f":"'Current Standards'!K56","v":"WV & IZ(LTS2013)-14"},"WVIZLTS201314"]
[{"$f":"'Current Standards'!K57","v":"WV & IZ-14"},"WVIZ14"]
[{"$f":"'Current Standards'!K58","v":"WZ(BRK)-13"},"WZBRK13"]
[{"$f":"'Current Standards'!K59","v":"WZ(BTS-1)-13"},"WZBTS113"]
[{"$f":"'Current Standards'!K60","v":"WZ(BTS-2)-13"},"WZBTS213"]
[{"$f":"'Current Standards'!K61","v":"WZ(RCD)-13"},{"$f":"TRIM(SUBSTITUTE(SUBSTITUTE(SUBSTITUTE(SUBSTITUTE(SUBSTITUTE(SUBSTITUTE(A545,\"(\",\"\"),\")\",\"\"),\"-\",\"\"),\"&\",\"\"),\" \",\"\",1),\" \",\"\",1))","v":"WZRCD13"}]
[{"$f":"'Current Standards'!K62","v":"WZ(RS)-22"},"WZRS22"]
[{"$f":"'Current Standards'!K63","v":"WZ(STPM)-23"},"WZSTPM23"]
[{"$f":"'Current Standards'!K64","v":"WZ(TD)-17"},"WZTD17"]
[{"$f":"'Current Standards'!K65","v":"WZ(UL)-13"},"WZUL13"]
[{"$f":"'Current Standards'!K66","v":"WZ-ITS(1)-19"},"WZITS119"]
[{"$f":"'Current Standards'!K67","v":"WZ-ITS(2)-19"},"WZITS219"]
[{"$f":"'Current Standards'!K68","v":"WZ-ITS(3)-19"},"WZITS319"]
[{"$f":"'Current Standards'!K69","v":0},{"$f":"TRIM(SUBSTITUTE(SUBSTITUTE(SUBSTITUTE(SUBSTITUTE(SUBSTITUTE(SUBSTITUTE(A553,\"(\",\"\"),\")\",\"\"),\"-\",\"\"),\"&\",\"\"),\" \",\"\",1),\" \",\"\",1))","v":"0"}]
[{"$f":"'Current Standards'!K70","v":0},"0"]
[{"$f":"'Current Standards'!K69","v":0},"0"]
[{"$f":"'Current Standards'!K70","v":0},"0"]
[{"$f":"'Current Standards'!K71","v":0},"0"]
[{"$f":"'Current Standards'!K72","v":0},"0"]
[{"$f":"'Current Standards'!K73","v":0},"0"]
[{"$f":"'Current Standards'!K74","v":0},"0"]
[{"$f":"'Current Standards'!K75","v":0},"0"]
[{"$f":"'Current Standards'!K76","v":0},"0"]
[{"$f":"'Current Standards'!K77","v":0},"0"]
[{"$f":"'Current Standards'!K78","v":0},"0"]
[{"$f":"'Current Standards'!K79","v":0},"0"]
[{"$f":"'Current Standards'!K80","v":0},"0"]
[{"$f":"'Current Standards'!K81","v":0},"0"]
["ABB-24","ABB24",null,"BRIDGE","BEFORE"]
["ABB-28","ABB28",null,null,2019]
["ABB-30","ABB30"]
["ACG-30-24","ACG3024"]
["ACG-30-24(1402)","ACG30241402"]
["ACG-40-24","ACG4024"]
["ACG-40-24(1402)","ACG40241402"]
["ACGD-30-24(2634)","ACGD30242634"]
["ACGD-30-24(3652)","ACGD30243652"]
["ACGD-30-24(4500)","ACGD30244500"]
["ACGD-40-24(2634)","ACGD40242634"]
["ACGD-40-24(3652)","ACGD40243652"]
["ACGD-40-24(4500)","ACGD40244500"]
["ACGP-30-24(2634)","ACGP30242634"]
["ACGP-30-24(3652)","ACGP30243652"]
["ACGP-30-24(4500)","ACGP30244500"]
["ACGP-40-24(2634)","ACGP40242634"]
["ACGP-40-24(3652)","ACGP40243652"]
["ACGP-40-24(4500)","ACGP40244500"]
["AIG-24","AIG24"]
["AIG-24-15","AIG2415"]
["AIG-24-30",{"$f":"TRIM(SUBSTITUTE(SUBSTITUTE(SUBSTITUTE(SUBSTITUTE(SUBSTITUTE(SUBSTITUTE(A589,\"(\",\"\"),\")\",\"\"),\"-\",\"\"),\"&\",\"\"),\" \",\"\",1),\" \",\"\",1))","v":"AIG2430"}]
["AIG-24-45","AIG2445"]
["AIG-28","AIG28"]
["AIG-28-15","AIG2815"]
["AIG-28-30","AIG2830"]
["AIG-28-45","AIG2845"]
["AIG-30","AIG30"]
["AIG-30-15","AIG3015"]
["AIG-30-30","AIG3030"]
["AIG-30-45","AIG3045"]
["AIG-32","AIG32"]
["AIG-32-15","AIG3215"]
["AIG-32-30","AIG3230"]
["AIG-32-45","AIG3245"]
["AIG-38","AIG38"]
["AIG-38-15","AIG3815"]
["AIG-38-30","AIG3830"]
["AIG-38-45","AIG3845"]
["AIG-40","AIG40"]
["AIG-40-15","AIG4015"]
["AIG-40-30","AIG4030"]
["AIG-40-45",{"$f":"TRIM(SUBSTITUTE(SUBSTITUTE(SUBSTITUTE(SUBSTITUTE(SUBSTITUTE(SUBSTITUTE(A610,\"(\",\"\"),\")\",\"\"),\"-\",\"\"),\"&\",\"\"),\" \",\"\",1),\" \",\"\",1))","v":"AIG4045"}]
["AIG-44","AIG44"]
["AIG-44-15","AIG4415"]
["AIG-44-30","AIG4430"]
["AIG-44-45","AIG4445"]
["AIG-62-24","AIG6224"]
["AIG-62-24-15","AIG622415"]
["AIG-62-24-30","AIG622430"]
["AIG-62-24-45","AIG622445"]
["AIG-62-28","AIG6228"]
["AIG-62-28-15","AIG622815"]
["AIG-62-28-30","AIG622830"]
["AIG-62-28-45","AIG622845"]
["AIG-62-30","AIG6230"]
["AIG-62-30-15","AIG623015"]
["AIG-62-30-30","AIG623030"]
["AIG-62-30-45","AIG623045"]
["AIG-62-32","AIG6232"]
["AIG-62-32-15","AIG623215"]
["AIG-62-32-30","AIG623230"]
["AIG-62-32-45","AIG623245"]
["AIG-62-38","AIG6238"]
["AIG-62-38-15","AIG623815"]
["AIG-62-38-30","AIG623830"]
["AIG-62-38-45","AIG623845"]
["AIG-62-40","AIG6240"]
["AIG-62-40-15","AIG624015"]
["AIG-62-40-30","AIG624030"]
["AIG-62-40-45","AIG624045"]
["AIG-62-44","AIG6244"]
["AIG-62-44-15","AIG624415"]
["AIG-62-44-30","AIG624430"]
["AIG-62-44-45","AIG624445"]
["APSB-24","APSB24"]
["APSB-24-15","APSB2415"]
["APSB-28","APSB28"]
["APSB-28-15","APSB2815"]
["APSB-30","APSB30"]
["APSB-30-15","APSB3015"]
["APSBD-24-30","APSBD2430"]
["APSBD-28-30","APSBD2830"]
["APSBD-30-30","APSBD3030"]
["APSBP-24-30","APSBP2430"]
["APSBP-28-30","APSBP2830"]
["APSBP-30-30","APSBP3030"]
["AXB-32","AXB32"]
["AXB-32-15","AXB3215"]
["AXB-32-30","AXB3230"]
["AXB-38","AXB38"]
["AXB-38-15","AXB3815"]
["AXB-38-30","AXB3830"]
["AXB-40","AXB40"]
["AXB-40-15","AXB4015"]
["AXB-40-30","AXB4030"]
["AXB-44","AXB44"]
["AXB-44-15","AXB4415"]
["AXB-44-30","AXB4430"]
["BB-B20","BBB20"]
["BBB-24","BBB24"]
["BBB-28","BBB28"]
["BB-B28","BBB28"]
["BBB-30","BBB30"]
["BB-B34","BBB34"]
["BB-B40","BBB40"]
["BBEB",{"$f":"TRIM(SUBSTITUTE(SUBSTITUTE(SUBSTITUTE(SUBSTITUTE(SUBSTITUTE(SUBSTITUTE(A674,\"(\",\"\"),\")\",\"\"),\"-\",\"\"),\"&\",\"\"),\" \",\"\",1),\" \",\"\",1))","v":"BBEB"}]
["BBND","BBND"]
["BBRAS","BBRAS"]
["BBSDS-B20-24","BBSDSB2024"]
["BBSDS-B20-28","BBSDSB2028"]
["BBSDS-B20-30","BBSDSB2030"]
["BBSDS-B28-24","BBSDSB2824"]
["BBSDS-B28-28","BBSDSB2828"]
["BBSDS-B28-30","BBSDSB2830"]
["BBSDS-B34-24","BBSDSB3424"]
["BBSDS-B34-28","BBSDSB3428"]
["BBSDS-B34-30","BBSDSB3430"]
["BCG-24","BCG24"]
["BCG-24(1402)","BCG241402"]
["BCG-24(2634)","BCG242634"]
["BCG-24(3652)","BCG243652"]
["BCG-24(4500)","BCG244500"]
["BCGT","BCGT"]
["BIG-24","BIG24"]
["BIG-24-15","BIG2415"]
["BIG-24-30","BIG2430"]
["BIG-24-45","BIG2445"]
["BIG-28","BIG28"]
["BIG-28-15","BIG2815"]
["BIG-28-30","BIG2830"]
["BIG-28-45","BIG2845"]
["BIG-30","BIG30"]
["BIG-30-15","BIG3015"]
["BIG-30-30","BIG3030"]
["BIG-30-45","BIG3045"]
["BIG-32","BIG32"]
["BIG-32-15","BIG3215"]
["BIG-32-30","BIG3230"]
["BIG-32-45","BIG3245"]
["BIG-38","BIG38"]
["BIG-38-15","BIG3815"]
["BIG-38-30","BIG3830"]
["BIG-38-45","BIG3845"]
["BIG-40","BIG40"]
["BIG-40-15","BIG4015"]
["BIG-40-30","BIG4030"]
["BIG-40-45","BIG4045"]
["BIG-44","BIG44"]
["BIG-44-15","BIG4415"]
["BIG-44-30","BIG4430"]
["BIG-44-45","BIG4445"]
["BIG-62-24","BIG6224"]
["BIG-62-24-15","BIG622415"]
["BIG-62-24-30","BIG622430"]
["BIG-62-24-45","BIG622445"]
["BIG-62-28","BIG6228"]
["BIG-62-28-15","BIG622815"]
["BIG-62-28-30","BIG622830"]
["BIG-62-28-45","BIG622845"]
["BIG-62-30","BIG6230"]
["BIG-62-30-15","BIG623015"]
["BIG-62-30-30","BIG623030"]
["BIG-62-30-45","BIG623045"]
["BIG-62-32","BIG6232"]
["BIG-62-32-15","BIG623215"]
["BIG-62-32-30","BIG623230"]
["BIG-62-32-45","BIG623245"]
["BIG-62-38","BIG6238"]
["BIG-62-38-15","BIG623815"]
["BIG-62-38-30",{"$f":"TRIM(SUBSTITUTE(SUBSTITUTE(SUBSTITUTE(SUBSTITUTE(SUBSTITUTE(SUBSTITUTE(A738,\"(\",\"\"),\")\",\"\"),\"-\",\"\"),\"&\",\"\"),\" \",\"\",1),\" \",\"\",1))","v":"BIG623830"}]
["BIG-62-38-45","BIG623845"]
["BIG-62-40","BIG6240"]
["BIG-62-40-15","BIG624015"]
["BIG-62-40-30","BIG624030"]
["BIG-62-40-45","BIG624045"]
["BIG-62-44","BIG6244"]
["BIG-62-44-15","BIG624415"]
["BIG-62-44-30","BIG624430"]
["BIG-62-44-45","BIG624445"]
["BPSB-24","BPSB24"]
["BPSB-24-15","BPSB2415"]
["BPSB-24-30","BPSB2430"]
["BPSB-28","BPSB28"]
["BPSB-28-15","BPSB2815"]
["BPSB-28-30","BPSB2830"]
["BPSB-30","BPSB30"]
["BPSB-30-15","BPSB3015"]
["BPSB-30-30","BPSB3030"]
["BTIG-24","BTIG24"]
["BTIG-24-15","BTIG2415"]
["BTIG-24-30","BTIG2430"]
["BTIG-24-45","BTIG2445"]
["BTIG-28","BTIG28"]
["BTIG-28-15","BTIG2815"]
["BTIG-28-30","BTIG2830"]
["BTIG-28-45","BTIG2845"]
["BTIG-30","BTIG30"]
["BTIG-30-15","BTIG3015"]
["BTIG-30-30","BTIG3030"]
["BTIG-30-45","BTIG3045"]
["BTIG-32","BTIG32"]
["BTIG-32-15","BTIG3215"]
["BTIG-32-30","BTIG3230"]
["BTIG-32-45","BTIG3245"]
["BTIG-38","BTIG38"]
["BTIG-38-15","BTIG3815"]
["BTIG-38-30","BTIG3830"]
["BTIG-38-45","BTIG3845"]
["BTIG-40","BTIG40"]
["BTIG-40-15","BTIG4015"]
["BTIG-40-30","BTIG4030"]
["BTIG-40-45","BTIG4045"]
["BTIG-44","BTIG44"]
["BTIG-44-15","BTIG4415"]
["BTIG-44-30","BTIG4430"]
["BTIG-44-45","BTIG4445"]
["BTXB-32","BTXB32"]
["BTXB-32-15","BTXB3215"]
["BTXB-32-30","BTXB3230"]
["BTXB-38","BTXB38"]
["BTXB-38-15","BTXB3815"]
["BTXB-38-30","BTXB3830"]
["BTXB-40","BTXB40"]
["BTXB-40-15","BTXB4015"]
["BTXB-40-30","BTXB4030"]
["BTXB-44","BTXB44"]
["BTXB-44-15","BTXB4415"]
["BTXB-44-30","BTXB4430"]
["BXB-32","BXB32"]
["BXB-32-15","BXB3215"]
["BXB-32-30","BXB3230"]
["BXB-38","BXB38"]
["BXB-38-15","BXB3815"]
["BXB-38-30",{"$f":"TRIM(SUBSTITUTE(SUBSTITUTE(SUBSTITUTE(SUBSTITUTE(SUBSTITUTE(SUBSTITUTE(A802,\"(\",\"\"),\")\",\"\"),\"-\",\"\"),\"&\",\"\"),\" \",\"\",1),\" \",\"\",1))","v":"BXB3830"}]
["BXB-40","BXB40"]
["BXB-40-15","BXB4015"]
["BXB-40-30","BXB4030"]
["BXB-44","BXB44"]
["BXB-44-15","BXB4415"]
["BXB-44-30","BXB4430"]
["CG-30-24","CG3024"]
["CG-40-24","CG4024"]
["CG-MD","CGMD"]
["CGRAD","CGRAD"]
["IGEB","IGEB"]
["IGSK","IGSK"]
["IGTS","IGTS"]
["MEBR(C)","MEBRC"]
["MEBR(U)","MEBRU"]
["PCP(O)","PCPO"]
["PCP(O)FAB","PCPOFAB"]
["PSB-4SB12","PSB4SB12"]
["PSB-4SB15","PSB4SB15"]
["PSB-5SB12","PSB5SB12"]
["PSB-5SB15","PSB5SB15"]
["PSBEB","PSBEB"]
["PSBND","PSBND"]
["PSBRA","PSBRA"]
["RW 1(H)A","RW1HA"]
["RW 1(H)B","RW1HB"]
["RW 1(H)C","RW1HC"]
["RW 1(L)A","RW1LA"]
["RW 1(L)B","RW1LB"]
["RW 1(L)C","RW1LC"]
["RW(SFA)","RWSFA"]
["RW(SFB)","RWSFB"]
["RW(SFC)","RWSFC"]
["RW 2","RW2"]
["RW(BTR)","RWBTR"]
["RW(CB)","RWCB"]
["RW(CB)DD","RWCBDD"]
["RW(EM)","RWEM"]
["RW(MSE)","RWMSE"]
["RW(MSE)DD","RWMSEDD"]
["RW(RI)","RWRI"]
["RW(TEW)","RWTEW"]
["SBBS-B20-24","SBBSB2024"]
["SBBS-B20-28","SBBSB2028"]
["SBBS-B20-30","SBBSB2030"]
["SBBS-B28-24","SBBSB2824"]
["SBBS-B28-28","SBBSB2828"]
["SBBS-B28-30","SBBSB2830"]
["SBBS-B34-24","SBBSB3424"]
["SBBS-B34-28","SBBSB3428"]
["SBBS-B34-30","SBBSB3430"]
["SPSB-24","SPSB24"]
["SPSB-24-15","SPSB2415"]
["SPSB-24-30","SPSB2430"]
["SPSB-28","SPSB28"]
["SPSB-28-15","SPSB2815"]
["SPSB-28-30","SPSB2830"]
["SPSB-30","SPSB30"]
["SPSB-30-15","SPSB3015"]
["SPSB-30-30","SPSB3030"]
["SXB-32","SXB32"]
["SXB-32-15","SXB3215"]
["SXB-32-30","SXB3230"]
["SXB-38","SXB38"]
["SXB-38-15","SXB3815"]
["SXB-38-30","SXB3830"]
["SXB-40","SXB40"]
["SXB-40-15",{"$f":"TRIM(SUBSTITUTE(SUBSTITUTE(SUBSTITUTE(SUBSTITUTE(SUBSTITUTE(SUBSTITUTE(A870,\"(\",\"\"),\")\",\"\"),\"-\",\"\"),\"&\",\"\"),\" \",\"\",1),\" \",\"\",1))","v":"SXB4015"}]
["SXB-40-30","SXB4030"]
["SXB-44","SXB44"]
["SXB-44-15","SXB4415"]
["SXB-44-30","SXB4430"]
["UBD","UBD"]
["UBEB","UBEB"]
["UBMS","UBMS"]
["UBND","UBND"]
["UBTS","UBTS"]
["XB20","XB20"]
["XB28","XB28"]
["XB34","XB34"]
["XB40","XB40"]
["XBBR-MS","XBBRMS"]
["XBCS","XBCS"]
["XBEB","XBEB"]
["XBND","XBND"]
["XBSD-32","XBSD32"]
["XBSD-38","XBSD38"]
["XBSD-40","XBSD40"]
["XBSD-44","XBSD44"]
["XBSK","XBSK"]
["XBTS","XBTS"]
[null,""]
[null,""]
[null,""]
[null,""]
[null,""]
[null,""]
[null,""]
[null,""]
[null,""]
[null,""]
[null,""]
[null,""]
[null,""]
[null,""]
[null,""]
[null,""]
[null,""]
[null,""]
[null,""]
[null,""]
[null,""]
[null,""]
[null,""]
[null,""]
[null,""]
[null,""]
[null,""]
[null,""]
[null,""]
[null,""]
[null,""]
[null,""]
[null,""]
[null,""]
[null,""]
[null,""]
[null,""]
[null,""]
[null,""]
[null,""]
[null,{"$f":"TRIM(SUBSTITUTE(SUBSTITUTE(SUBSTITUTE(SUBSTITUTE(SUBSTITUTE(SUBSTITUTE(A934,\"(\",\"\"),\")\",\"\"),\"-\",\"\"),\"&\",\"\"),\" \",\"\",1),\" \",\"\",1))","v":""}]
[null,""]
[null,""]
[null,""]
[null,""]
[null,""]
[null,""]
[null,""]
[null,""]
[null,""]
[null,""]
[null,""]
[null,""]
[null,""]
[null,""]
[null,""]
[null,""]
[null,""]
[null,""]
[null,""]
[null,""]
[null,""]
[null,""]
[null,""]
[null,""]
[null,""]
[null,""]
[null,""]
[null,""]
[null,""]
[null,""]
[null,""]
[null,""]
[null,""]
[null,""]
[null,""]
[null,""]
[null,""]
[null,""]
[null,""]
[null,""]
[null,""]
[null,""]
[null,""]
[null,""]
[null,""]
[null,""]
[null,""]
[null,""]
[null,""]
[null,""]
[null,""]
[null,""]
[null,""]
[null,""]
[null,""]
[null,""]
[null,""]
[null,""]
[null,""]
[null,""]
[null,""]
[null,""]
[null,""]
[null,{"$f":"TRIM(SUBSTITUTE(SUBSTITUTE(SUBSTITUTE(SUBSTITUTE(SUBSTITUTE(SUBSTITUTE(A998,\"(\",\"\"),\")\",\"\"),\"-\",\"\"),\"&\",\"\"),\" \",\"\",1),\" \",\"\",1))","v":""}]
[null,""]
[null,""]
[null,""]
[null,""]
[null,""]
[null,""]
[null,""]
[null,""]
[null,""]
[null,""]
[null,""]
[null,""]
[null,""]
[null,""]
[null,""]
[null,""]
[null,""]
[null,""]
[null,""]
[null,""]
[null,""]
[null,""]
[null,""]
[null,""]
[null,""]
[null,""]
[null,""]
[null,""]
[null,""]
[null,""]
[null,""]
[null,""]
[null,""]
[null,""]
[null,""]
[null,""]
[null,""]
[null,""]
[null,""]
[null,""]
[null,""]
[null,""]
[null,""]
[null,""]
[null,""]
[null,""]
[null,""]
[null,""]
[null,""]
[null,""]
[null,""]
[null,""]
[null,""]
[]
[null,"EXTRA"]
[null,"TITLESHEET"]
[null,"INDEXOFSHEETS"]
[null,"SUPPLEMENTALINDEXOFSHEETS"]
[null,"PROJECTLAYOUT"]
[null,"PROJECTLAYOUTS"]
[null,"TYPICALSECTIONS"]
[null,"EXISTINGTYPICALSECTIONS"]
[null,"PROPOSEDTYPICALSECTIONS"]
[null,"GENERALNOTES"]
[null,"ESTIMATEQUANTITY"]
[null,"ESTIMATEANDQUANTITY"]
[null,"ESTIMATEQUANTITIES"]
[null,"ESTIMATEANDQUANTITIES"]
[null,"QUANTITYSUMMARIES"]
[null,"QUANTITYSUMMARY"]
[null,"TCPNARRATIVE"]
[null,"DETOURLAYOUT"]
[null,"DETOURLAYOUTS"]
[null,"SUMMARYOFQUANTITIES"]
[null,"TCPTYPICALSECTIONS"]
[null,"ESTIMATESQUANTITY"]
[null,"ESTIMATESANDQUANTITY"]
[null,"ESTIMATESQUANTITIES"]
[null,"ESTIMATESANDQUANTITIES"]
[null,"TCPADVANCEWARNINGSIGNS"]
[null,"ESTIMATEQUANTITYSHEET"]
[null,"ESTIMATEANDQUANTITYSHEET"]
[null,"ESTIMATEQUANTITIESSHEET"]
[null,"ESTIMATEANDQUANTITIESSHEET"]
[null,"TRAFFICCONTROLNARRATIVE"]
[null,"TRAFFICCONTROLDETOURLAYOUT"]
[null,"TITLE"]
[null,"INDEX"]
[null,"TYPICALSECTIONSEXISTING"]
[null,"TYPICALSECTIONSPROPOSED"]
[null,"QUANTITYSHEET"]