{"text_format":"1","workbook":"xlsx","n_sheets":11,"sheets":["Instructions","FC List","Master Template Set-up","Invoice","Signature Authority","WA Financial Status Summary","Summary of Total Amt Invoiced","Labor Summary (Office)","Labor Summary (Field)","ODE","TE Summary"],"not_rendered":{"charts":0,"images":2,"macros":1,"external_links":0,"defined_names":36,"comments":1,"pivot_tables":0},"unopened":[],"bounds":{"document_bytes":16777216,"sheet_cells":100000,"rows_first":2000,"rows_last":500,"rows_between":2000,"halvings":0,"cell_chars":16384,"cell_head_chars":4096},"cells_cut":0,"cells_raw":0,"read":"whole","date_system":"1900"}

{"sheet":"Instructions","index":0,"n_rows":222,"n_cols":3,"rows_kept":222,"cut":false,"hidden":false,"merged":[[58,0,58,1],[0,0,0,1],[1,0,1,1],[2,0,2,1],[3,0,3,1],[4,0,4,1],[10,0,10,1],[12,0,12,1],[19,0,19,1],[36,0,36,1],[40,0,40,1],[50,0,50,1],[5,0,5,1],[51,1,57,1],[86,0,86,1],[87,0,87,1],[89,1,94,1],[95,0,95,1],[111,0,111,1],[60,1,65,1],[66,0,66,1],[72,0,72,1],[78,0,78,1],[85,0,85,1],[166,0,166,1],[178,0,178,1],[180,1,185,1],[128,1,133,1],[103,0,103,1],[127,0,127,1],[140,0,140,1],[142,1,147,1],[148,0,148,1],[158,0,158,1],[160,1,165,1],[195,0,195,1],[200,0,200,1],[204,0,204,1],[208,0,208,1],[186,0,186,1]]}
["Invoice Template Instructions for Cost Plus Fixed Fee Payment Method\n\nSetup and Submittal Instructions:\n\nMaster File Setup:  Enter data into cells highlighted in blue in the Master Template Setup and the Invoice tabs.  Save the Master File with the following:  Prime Provider Firm Name-Legacy Contract Number-WA Number-Master File (ex:  3rd Rock Engineering-18-2IDP5001-WA1-Master File)\n\nMonthly Invoice Completion:  Open the Master File, do a \"save as\" with the following:  Prime Provider Firm Name-Legacy Contract Number-WA Number-Invoice Date (ex:  3rd Rock Engeineering-18-2IDP5001-WA1- 12-10-2020).  Enter data into all cells that are highlighted in yellow for each tab, starting with the Labor Summary (Office) and remaining tabs to the right.  The white cells will be automatically populated from data that is entered into the linked tabs in the invoice template. Go back and complete the remaining yellow cells in the Invoice, Signature Authority and WA Financial Status Summary tabs. Once the yellow cells have been populated in each tab, follow the instructions for completing the invoice by rolling up unused rows, checking that all totals have carried forward correctly, and checking the print setup to ensure that the margins are adjusted and the blank pages are deleted.  \n\n(Note:  Check totals.  If there is a rounding error, line through the total, make correction and initial next to the change prior to submitting the invoice package to TxDOT.  After TxDOT receives the invoice package, the procedures allow limited internal adjustments to round the total amount payable down, but not up, not even for a one cent rounding error.  In that case, the invoice package will be returned to the provider for correction and resubmission)\n\nFinal Invoice Preparation:  Hide the Instructions, FC List and Master File Template Setup tabs. Go to File, Print and make final adjustment to delete any blank pages, and adjust margins as needed.  Save the completed invoice template as a pdf and add supporting documentation. If this is a TxDOT District contract, email to peps_invoice_center_district@inboundna11.springcm.com. If this is a TxDOT Division contract, email to peps_invoice_center_division@inboundna11.springcm.com.\n\nDO NOT MAKE ANY MODIFICATIONS TO THE PROGRAMMING OR FORMAT OF THE INVOICE TEMPLATE (OTHER THAN LINING THROUGH AND CORRECTING A ROUNDING ERROR, IF APPLICABLE).  MODIFICATIONS MAY RESULT IN A REJECTION OF THE INVOICE PACKAGE. \n",null," "]
["FUNCTION CODE (FC) LIST - FOR INORMATIONAL PURPOSES ONLY"]
["For reference only:  This document showing the \"New\" and the \"Legacy\" FCs has been included for reference.  The Legacy FCs will be used when invoicing, and then will automatically be converted to the New FCs and shown on the Chart of Accounts (COA) Invoice Conversion sheet that will be used by TxDOT to enter the invoice into TxDOT's electronic billing system for voucher processing.\n\n\n"]
["CHART OF ACCOUNTS (COA) INVOICE CONVERSION SHEET - FOR TxDOT USE ONLY"]
["TxDOT Use Only. This page is setup to automatically convert Legacy TxDOT COA codes for voucher processing. If applicable, verify against the Invoice Conversion page provided with the executed Work Authorization.   The COA conversion page is setup to \"roll up\" the Legacy FCs into the New FCs so the amount of line items that you see on the conversion tab will not match the same amount of line items shown on the Invoice tab.  Click on the drop down menu in Cell B9 to roll up unused rows prior to saving the invoice template as a pdf.\n\nThe COA includes a summary line that does not include a total in the \"Amount\" column.  Disregard that summary line as it is part of the conversion program."]
["MASTER TEMPLATE SET-UP",null,"Link to Master Template Set-up Tab"]
["Project (CSJ or Detail No.)","Enter all of the Project (CSJ/Detail No.) that have been provided by the TxDOT Project Manager (PM) for the particular Work Authorization (WA) or Specific Deliverable (SD) without WA contract. Additional Project (CSJ or Detail No's) can be added to this list, as needed.  This list will auto populate the drop down menu for the Project (CSJ or Detail No) that is found in column A of the Labor Summary (Office), starting with A42, A73, etc.  \n\nNote:  Labor Summary (Office) is the master list where the Project (CSJ or Detail No.) and the Source Function Codes (FC)  for the particular billing, and will auto populate the corresponding tabs in the Invoice Template.  The Legacy FCs are already setup in the drop down menu that is found in column B of the Labor Summary (Office), starting with B42, B73, etc.)   "]
["Master List of Employees","Enter the full name of each employee who will be performing services on the particular WA or SD contract without WAs.  Additional Employee Names can be added to this list, as needed.  This list will auto populate the Employee Names in the drop down menu found in Column C of the Labor Summary (Office), Labor Summary (cell) and TE Summary tabs."]
["Master List of Staffing Categories and Rates","Enter all of the Staffing Categories, along with the Contract Max Rate that have been approved and included as part of the WA or SD contract without WAs.  (Note:  For CPFF, the MAX Rate is the highest rate in the range shown in Exhvbit H-1 of the contract, although the actual rate uis reimbursed up top the macimum amount shown in the range.  The Max Rate may be used for caculating the level of effort for the WA, even though the actual rate is the reimbursable rate at the time of the services to be performed.  \n\nIf additional Staffing Categories and rates are needed that are not part of the contract, then a Supplemental Agreement (SA) to the contract must be executed prior to a SWA before a new Staffing Category can be added to the list and then used.Additional Staffing Categories will require a Supplemental Work Authorization (SWA) to add staffing categories that are already part of the contract, but not part of the WA.  This list will auto populate the Employee Staffing Categories and will limit the rates to the maximum in the drop down menu found in Column D of the Labor Summary (Office) and Labor Summary (cell)  tabs. \n\n"]
["Master List of Other Direct Expenses","Enter all of the Other Direct Expenses (ODEs), and the Fixed Rate (as applicable) that have been approved as part of the WA or SD Contract without WAs (ODEs must be part of Attachment E in the contract) and Exhibit D of the WA.. If the ODE rate  is an actual rate (not a fixed rate), then leave the Expense Cost (Fixed Rate) column for the particular ODE blank. Additional ODEs and Rates will require a SWA to add ODEs and Rates that are already part of the contract, but not part of the WA.  If an ODE and Rate is needed that is not part of the contract, then an SA to the contract must be executed prior to a SWA before a new ODE can be added to the list, and then used.  This list will auto populate the Type of Expense in the drop down menu found in Column C and the Fixed Rate in Column E of the ODE tab.    "]
["INVOICE TAB",null,"Link to Invoice Tab"]
["Cell Heading\n\n"]
["INVOICE HEADER SECTION (TOP RIGHT)"]
["Provider Invoice Date\n\n","Automatically populated by cell B30 of the Signature Authority tab, and is a write protected cell.  Verify cell has been populated correctly. "]
["Provider Invoice No.\n\n","Enter a unique number (assigned by the provider).  The number can be up to  eight (8)  (alpha and numeric with dashes only).  Do not duplicate invoice numbers.  It is preferred that the invoice number begins with one (1) and that it is in sequence for each Work Authorization (WA) to ensure proper tracking."]
["Combined Invoice Template\nLog No.","Default is 1 (primary invoice). Used to identify the primary and supplementary invoice tabs.  If multiple combined invoice tabs are used, click on Cell G2, and a drop down menu will appear.  If no supplementary tabs are added, select N/A.  \n\nA combined invoice template package includes more than one invoice template (for example when using more than one payment method). See guidance and instructions for the Signature Authority tab and reference the Template Description Categories on the Signature Authority tab for more information)."]
["PeopleSoft (PS) Contract No.","Enter the PS Contract number for the executed contract.  "]
["PS Work Authorization (WA) \nPO No.","Enter the PS WA PO number for the executed WA.  "]
["TxDOT Invoice No.","Enter the number provided by the TxDOT Professional Engineering Procurement Services (PEPS) Division Service Center.  If you do not have the number, then this cell can be left blank and will be added by the PEPS SC."]
["INVOICE"]
["Provider Name\n\n","Enter provider name.  This must exactly match the name shown on the contract, and must be a complete legal name as shown on the Comptroller’s website.\n"]
["Provider ID No.","Enter complete VID number (14 digits).  This number must correspond to correct remittance address.  If applicable, the last 3 digits correspond to a particular mail code to show where the payment is being mailed or if it is direct deposit.   \n"]
["Remittance Address\n\n","Enter the address where correspondence and documentation for this particular WA should be sent. This may be a different address than the one shown on the contract."]
["Begin Service Date\n\n","Enter a beginning service date for the particular bling period. \n\n\n"]
["End Service Date\n\n","Enter an end service date.  The invoice end service date will be for the date that shows the last activity for this particular billing period.\n(Note:  Do not cross FiscalAppropriation Years (FY/AY) with your invoice.  TxDOT's FY/AY is September 1st through August 31st.  (ex:  September billing in 2020 would be FY 2021.)"]
["WA Project Manager (Provider)\n\n","Enter the name of the prime provider PM. \n\n"]
["DBE/HUB Goal Assignment and Percentage (for contract)","Select the goal assignment for the contract by clicking on the drop down menu to select one of the following:  DBE (for federal funded contracts) or HUB (for state funded contracts.  Enter the assigned goal percentage for the contract.  (The assigned goal percentage is found  in the top section of Exhibit H-1 of the contract.)"]
["Legacy Contract No.","Enter the contract number exactly as shown on the executed contract document.    Contact the TxDOT PM for this Work Authorization (WA) if you do not know the number."]
["Contract Amount","Enter the current contract amount.  (The amount entered in this cell is for the contract (not the WA).  This  is the authorized contract amount at the time the invoice is being submitted even if an SA is being processed for additional funds.)\n"]
["Contract Expiration Date\n\n","Enter the current contract expiration date.  Use MM/DD/YY formatting.  Enter the date of the current contract expiration at the time the invoice is being submitted, even if a SA is being processed for a time extension.  The contract expiration date is found on the fully executed contract.\n\n"]
["Legacy WA No.\n\n","Enter the legacy WA number shown on the fully executed WA document (top right hand corner).  A separate invoice package must be submitted for each WA.  (For older, specific deliverable contracts without WAs, insert N/A. An N/A shown here will apply to all corresponding WA information cells.)\n"]
["WA Amount\n\n","Enter the exact amount shown in Part II of  the WA, including any additional amounts that have been added by a fully executed SWA.  The WA amount will be the total WA amount at the time the invoice is being submitted even if a SWA is being processed (but has not been executed) for a different amount."]
["WA Execution Date","Enter the date that the WA was fully executed.  This will be the date that the WA was signed by the TxDOT signature authority as shown in the fully executed WA under the title \"The State of Texas\"."]
["WA Expiration Date\n\n","Enter the current expiration date for the executed WA.   This will be the expiration date shown in Part IV of the fully executed WA.  This date will be the WA expiration date at the time the invoice is being submitted even if a SWA is being processed (but has not been fully executed) for a time extension.\n"]
["WA Payment Type(s)\n\n","Enter payment type (or types) as shown on Part IV of the executed WA.  The method of payment to the primary provider will be entered in this cell, although various methods of payment may have been used for calculation purposes."]
["WA Project Manager (TxDOT)\n\n","Enter the name of the TxDOT PM for this specific WA. \n"]
["INVOICE SUMMARY SECTION"]
["AY (Appropriation/Fiscal Year)\n\n","Use four (4)  digit appropriation year (fiscal year - ex: 2018).  TxDOT's AY is 9/1/YY to 8/31/YY.  The invoice must not cross Ayes.  A separate invoice must be submitted for invoices that are split across appropriation years."]
["DEPT\n(Budget Acct Source Unit)","Enter six (6) numeric digits that will be provided by the TxDOT PM. This will be the number for the DIST/DIV budget account that has been setup in PeopleSoft to fund the project. \n\nNote the question to the right of this section: \"Is this a Consultant Engineering Contract (CEC)?\". If \"Yes\" is selected, additional instructions will appear to allow the inclusion of multiple DEPT values to be entered. Otherwise (for all other contract types), only one DEPT value will be permitted."]
["Project Description\n\n","Enter a short description of the project.  The description will closely match that shown on the 1st page of the WA.  Both alpha and numeric characters can be used, and the cell can be expanded to fit a general description.\n\n\n"]
["INVOICE DETAIL SECTION"]
["Line No.\n\n","No entry required.  The line indicator directly corresponds to the total amount invoiced by CSJ and FC shown in the Summary of Total Amount Invoiced tab and for each subtotal line number entered into the corresponding tabs.  \n   \nThe line indicator also directly corresponds to the Highway Maintenance Detail line No. in the next section. Detailed information will be provided by the TxDOT PM when there is no CSJ/Detail number associated with the project.  "]
["DD (DIST/DIV Budget No.)","Enter the district or division number that is provided by the TxDOT PM."]
["PCBU \n","Enter the two (2) digit Segment ID (ONLY) which will be provided by the TxDOT PM.  The leading 601 will automatically be added when the line item rolls over to the COA Inv Conv tab. "]
["Project\n(CSJ or Detail No.)\n\n\n","Automatically populated and is a write protected cell.  Verify that this cell has been populated correctly. Once each line number has been populated, click on the drop down menu button (Cell D20) by clicking on \"blanks\" from the drop down list to remove the checkmark, and the tab will roll up to remove unused rows."]
["Amount\n\n","Automatically populated and is a write protected cell.  Verify that the amount has been populated correctly by line number.  "]
["Source \n(Legacy Function Code)\n\n","Automatically populated from Source (Legacy FC) that was selected using the Labor Summary (Office) for the particular billing, and is a write protected cell.  Verify that this cell has been populated correctly. \n\nThe provider will submit their monthly invoice by the CSJ/Detail number and Legacy FC detail as provided by the TxDOT PM.  The Legacy FC will automatically be converted to the PeopleSoft FC in the COA Invoice Conversion tab. The Function Code is based on the scope of work in the WA or the Contract.   Reference and use the FC List  Legacy Function Code (FC) from the list of FCs, along with a descriptions of work as indicted in the FC List tab .  The TxDOT PM will assist to ensure that the correct FCs are used.)"]
["ACCT \n(Object of Expenditure)\n\n","Enter the ACCT (Object of Expenditure) number provided by the TxDOT PM for this WA."]
["(TxDOT Use Only)  \nSpecial Funding Indicator/SFI Code  TxDOT Use Only","Do not enter any data in this cell.  This code will be entered by the PEPS SC (if applicable)."]
["Total\n","Automatically calculated.  Verify that the totals reconcile with the totals for the Summary of Total Amount Invoiced, and the WA Financial Status Summary tabs."]
["HIGHWAY MAINTENANCE DETAIL SECTION\n(This section is only applicable for special projects (e.g. specific lab or surveying projects) that do not have an assigned CSJ/Detail number.)"]
["Line No.\n\n","Detailed information will be provided by the TxDOT PM (if applicable). Data for this Line No. will directly correspond with the Line No. under the Invoice Detail subheading in this tab.  The TxDOT PM will provide additional information on utilizing the Line No. cell when there is no CSJ/Detail number associated with the project, and the Highway Maintenance Detail information will be necessary to correctly identify the project.\n"]
["Task/Work Order\n\n"]
["County\n\n"]
["System\n\n"]
["Highway No.\n\n"]
["Suffix\n\n"]
["Class\n\n"]
["SIGNATURE AUTHORITYTAB",null,"Link to Signature Authority Tab"]
["Cell Heading"]
["Provider Invoice No.\n\n","This group of cells will automatically be populated from the data entered into the Invoice and Signature Authority tabs.  Reference instructions for these cells under the sections for Invoice and Signature Authority."]
["Combined Invoice Template Log No."]
["Legacy Contract No."]
["Legacy WA No."]
["Provider Name\n\n"]
["Provider ID No."]
["COMBINED INVOICE SUMMARY"]
["Combined Invoice Templates","These cells are write protected and are used to describe supplemental invoice tabs included in addition to the primary invoice tab, where necessary, to calculate the combined total amount of this invoice. \n\n"]
["Invoice Template Log No.","These cells are write protected and are used to describe supplemental invoice tabs included in addition to the primary invoice tab, where necessary, to calculate the combined total amount of this invoice. \n\n"]
["Reason for Combined Invoice Template Package","Combined Invoices are used to combine more than one invoice template since the terms of the contract allow only one invoice to be submitted monthly. If using a supplementary invoice template that will be attached to the primary invoice template, use the drop-down menu starting with Cell D15 to select a reason from the drop down menu for using the additional invoice template (for a supplemental invoice) . Descriptions for reasons to combine invoice templates are listed in Cells I14 - I19)of this tab.\n\nWhen using a Combined Invoice (additional/supplemental invoice template), the entire supplementary invoice template package must be included with the primary invoice package (including a signed Signature Authority tab). The Signature Authority tab  of the primary invoice will show the Invoice Template Amount including the supplemental invoice amount, if applicable.  \n\nExample:  A separate \"supplemental Invoice\" should be used and attached to the provider invoice for \"straggler” invoices from previous billing periods that may include subproviders invoices or Other Direct Expenses (ODEs) that fall under a previous billing period.  The supplemental invoice amount will be entered on the Signature Authority Tab in the Combined Invoice Summary Section (Cell E15, 16, etc.), and the amount entered will carry forward to the WA Financial Status Summary tab (Cell E14 and E15), but will not be included in the overall total for the prime provider invoice for the month.  A separate template will be used and labeled on the Invoice tab  as Log No.2 in the top right corner (Cell G2).  All supporting documentation should be attached to the supplemental invoice.  \n\nIf submitting a supplemental invoice for a previous billing period, then use the \"Supplementary Invoice for Previous Billing Period\" option from the drop down menu on the Signature Authority tab (Cell D15, D16, etc.).  The provider should use the same invoice number associated with the \"straggler billing period\", and use a \"placeholder indicator such as SUP\" to identify that the invoice is a supplement to a previous invoice for costs incurred during a previous billing period.  (ex:  The supplemental invoice for additional costs to be billed under previous invoice No.16, may be labeled 16-SUP to indicate that this billing is a supplement to a previous billing period)."]
["Invoice Template Amount\n","Enter the total amount for each supplementary invoice tab where applicable.  This amount should match the Total found on the Invoice tab page for each supplementary invoice and should also correspond with the Combined Invoice tab Log No. listed for that supplementary invoice. "]
["Total Combined Invoice Amount","This cell is automatically calculated. (Sum of the Combined Invoice tabs Log No. 1-5, for the primary invoice tab and any supplementary invoice tab totals entered.)"]
["PROVIDER USE ONLY\nInvoice Certification "]
["Prompt Payment (PP) Certification"]
["Provider Invoice No. for PP Verification\n\n","The provider invoice number for PP verification will be the particular invoice that has been submitted and payment has been received from TxDOT by the provider (normally within last 60 days).  Read the certification statement regarding prompt payment to subproviders for the invoice indicated in this section. Follow the instructions as stated."]
["Date Provider Received Payment \n(for PP Verification)","Enter the date that the payment for the specific invoice indicated was received from TxDOT."]
["Begin Service Date \n(for PP Verification)","Enter the begin service date for the billing period."]
["End Service Date \n(for PP Verification)","Enter the end service date for the billing period."]
["PROVIDER SIGNATURE BLOCK"]
["Provider Authorized Signature\n\n","It is the provider’s discretion as to who signs the certification for  this invoice package.   A certified electronic signature (such as DocuSign) is acceptable.\n\nThe providers representative that signs the invoice will be used as a starting point if there are questions regarding the invoice package, and will be considered as  the person accountable for the allowable invoice amount being billed  for the specific work authorization (WA) and  for the Prompt Payment  certification statement according to the terms of the contract.  Additionally,  the provider’s PM should be contacted if there are issues regarding the invoice package. \n\n"]
["Name\n\n","Enter name of person signing the invoice.  Signature and Printed Name must be the same person. \n"]
["Title","Enter the title of the individual who signed the invoice."]
["Phone No.\n\n\n","Enter the phone number for the individual who signed the form.  "]
["Email Address\n\n","Enter the email address for the person that is signing the invoice and responsible for the certification of the invoice package, and will be the person that can answer any questions regarding the invoice or prompt payment."]
["Provider Invoice Date\n\n","Enter the date that the invoice is being submitted to TxDOT. Note:  Make sure that the date entered is the same date that the invoice package is emailed to the PEPS Invoice Center for processing."]
["TxDOT USE ONLY"]
["This section will be completed by TxDOT.  \n\n\n"]
["WORK AUTHORIZATION FINANCIAL STATUS SUMMARY",null,"Link to WA Financial Status Summary Tab"]
["Cell Heading\n"]
["Provider Invoice No.\n\n","This group of cells will automatically be populated from the data entered into the Invoice and Signature Authority tabs.  Reference instructions for these cells under the sections for Invoice and Signature Authority."]
["Combined Invoice Template Log No."]
["Provider Name\n\n"]
["Provider ID"]
["Legacy Contract No."]
["Legacy WA No."]
["WORK AUTHORIZATION FINANCIALSUMMARY"]
["WA Authorized Amount  ","Automatically populated from the Invoice tab WA Authorized Amount (cell E11).  "]
["Previous Invoiced Amount\n(Required cell)","Enter the accumulative total amount invoiced to date for this WA.  Include the total amount for all invoices that have been submitted to TxDOT for processing, including any supplementary invoices.\n"]
["Amount of this Invoice","Automatically populated cell.  This amount is populated from the Signature Authority tab.  "]
["Total Combined Invoice Amount \n(Including any supplemental invoices, if applicable.)","Automatically populated cell.  This amount is populated from the Signature Authority tab.  "]
["Total Invoiced to Date (Including this Invoice and any supplements, if applicable.)","Automatically populated cell by formula.  Note:  This amount will be a total of Previous Invoiced Amount and Total Combined Invoice Amount.  \n"]
["Balance Remaining","Automatically populated cell by formula.  This amount will be the Authorized Amount minus Total Invoiced to Date (including this invoice and any supplements).  \n"]
["Fixed Fee Adjustment","Enter the fixed fee adjustment as a positive value to increase the amount of fixed fee included in the invoice. Enter as a negative number to reduce the amount of fixed fee on the invoice. Supporting documentation is required when utilizing this field to explain why the fixed fee amount needed to be adjusted.\n"]
["FIXED FEE (FF) SUMMARY (Applicable to Prime Provider Only)"]
["Fixed Fee (FF) Authorized Amount (for this WA or SD contract without WA)","Enter the total fixed fee percentage as indicated in the Attachment E Rate Schedule template of the contract or Work Authorization (WA).  The FF total payable amount is based upon the percentage of labor, plus overhead rate as indicated and authorized in your particular WA or SD contract without WA.  "]
["Previous Fixed Fee Invoiced","Enter the total amount of FF billed to date."]
["FF Balance Remiaing \n(Prior to this Invoice)","Automatic populated cell, by formula."]
["Amount of FF for This Invoice","Automatic populated cell, by formula."]
["Total FF Invoiced to Date \n(including this invoice)","Automatic populated cell, by formula."]
["Total FF Invoiced to Date (including this invoice)","Automatic populated cell, by formula."]
["Fixed Fee Balance Remaining","Automatic populated cell, by formula."]
["INVOICE SUMMARY"]
["Total Labor (Office)","Automatically populated cell.  Must equal the total shown in the Labor Summary (Office) tab. "]
["Total Labor (Field)","Automatically populated cell.  Must equal the total shown in the  Labor Summary (Field) tab.. "]
["Indirect Cost Rate (Office)","Enter the indirect cost rate used for employees performing services from the \"office location\" as shown in Attachment E of the contract."]
["Indirect Cost Rate  (Field)","Enter the indirect cost rate used for employees performing services from the \"field location\" as shown in Attachment E of the contract. (This is a different OH rate from the office rate.)"]
["Prrime Provder Labor Subtotal","Automatically populated cell."]
["Fixed Fee \n(Applies to Prime Provider only.)","Enter the negotiated FF into Cell C32 for the prime provider for the particular WA.  The rate is shown Attachment E of the contract or Exhibit D of the WA.  (Note:  The FF is based upon percentage of labor, plus overhead.)"]
["Subtotal","Automatically calculated. Verify calculations."]
["Prime Provider Labor + Fiex Fee Subtotal","Automatically  populated call by formula."]
["Total Other Direct Expenses (ODEs)","Automatically populated cell by formula from the total shown in the ODE tab."]
["Total Travel Expenses","Automatically populated cell by formula from the Summary of Total Amount Invoiced tab."]
["Total FCCM. ","Automatically populated cell by formula from the Summary of Total Amount Invoiced tab."]
["Prime Provider Labor + FF + ODE + TE + FCCM Subtotal","Automatically  populated call by formula."]
["Subprovider Name  \n\n","Select the subprovider name the drop down many in cell A38, 39, etc.that is submitting billing for the particular billing cycle.\n\n*Once each line number has been populated, click on the drop down menu button (Cell A37), and uncheck the (Blanks) box, and then click OK to remove unused rows."]
["Subprovider Amount","Automatically populated cell by formula from the Summary of Total Amount Invoiced tab."]
["Total Invoice Amount","Automatically populated cell by formula..   Verify calculations."]
["SUMMARY OF TOTAL AMOUNT INVOICED",null,"Link to Summary of Total Amount Invoice Tab"]
["Provider Invoice No.\n\n","This group of cells will automatically be populated from the data entered into the Invoice and Signature Authority tabs.  Reference instructions for these cells under the sections for Invoice and Signature Authority."]
["Combined Invoice Template Log No."]
["Provider Name"]
["Provider ID No."]
["Legacy Contract No."]
["Legacy WA No."]
["Line#","The line number directly corresponds with the line number, by Project - (CSJ or Detail No.) and the Source (Legacy FC)  in each of the tabs, and directly populates to each line number shown in the Invoice template in the Amount column shown under the Invoice Detail subheading.\n\nVerify that the amounts shown for each line number correspond with the line number amounts shown in the Invoice tab as indicated above.\n"]
["FCCM","Facilities Capital Cost of Money (FCCM)\nThis will only apply to federal funded contracts and to specific calculations.\n \nFacilities capital cost of money (FCCM) is the method government agencies use to keep track of the estimated cost of contractors using their own company's money or property to invest in facilities and equipment that benefit the government. For federal agencies, it is governed by 48 Code of Federal Regulations (CFR) 9904.414.  Additional information can be found at:\nhttps://ecfr.io/Title-48/pt48.7.9904#se48.7.9904_1414\n\nBackup documentation in an Excel spreadsheet must be attached to support the fees charged for each Project (CSJ or Detail No.) and Source (FC) in the same order as that shown in the Summary of Total Amount Invoiced."]
["Provider Labor (Office)\nProvider Labor (cell)\nUnit Cost Summary\nOther Direct Expenses (ODE)\nTravel Expense (TE) Summary\nProject CSJ/Detail\nSource (Legacy Function Code (FC)\n\n","This cell is automatically populated from the tabs as indicated in the titles of each column,  and is a write protected cell.  The amount for each line # will correspond to each subtotal line number in each of the tabs.  Check entry to ensure that the line # corresponds, and that all cells have been populated correctly.  \n\nOnce each line number has been populated, click on the drop down menu button (Cell A40) and uncheck  the \"blanks\", and then the \"ok\"  button to   remove unused rows.\n"]
["Subprovide List","These are write protected cells that are automatically populated with the Subprovider Acronym that has been set up, and selected as an active Subprovider for this billing cycle from the drop down menu in the WA Financial Status Summary tab (Cell A38, A39, etc.).  Verify that the correct subprovider has been selected that has performed services, and who has submitted an invoice during this billing cycle.  \n\nEnter the individual total amount billed (Labor and Other Direct Expenses) in Cell H13, H14, etc. for each Subprovider shown, this will directly correspond to the line # for each Source (CSJ/Detail) and Legacy (FC).   Note: The same CSJ can be associated with multiple function codes. The total amount entered for each Subprovider will populate the WA Financial Status Summary tab with the dollar amount for each subprovider (that is selected to submit billing for this invoice) under the Invoice Summary subheading in Cell E39, E40, etc. for each Subprovider. Detailed backup documentation must be provided to support the amount shown for each Subprovider. \n\nOnce you have entered the amounts for each Subprovider, right click to hide/unhide unused columns.\n"]
["Total ","Automatically populated cell by formula.  Verify.\n"]
["Total Amount","Automatically populated cell by formula. Verify.\n"]
["Labor Summary (Office) and Labor Summary (Field)",null,"Link to Labor Summary (Office) Tab"]
["Cell Heading\n",null,"Link to Labor Summary (cell) Tab"]
["Provider Invoice No.\n\n","This group of cells will automatically be populated from the data entered into the Invoice and Signature Authority tabs.  Reference instructions for these cells under the sections for Invoice and Signature Authority."]
["Combined Invoice Template Log No."]
["Legacy Contract No."]
["Legacy WA No."]
["Provider Name"]
["Provider ID No."]
["Labor Breakdown by Project (CSJ or Detail No.) and Source (FC)"]
["Project\n(CSJ/Detail number)\n\nMaster Setup Tab - All Project (CSJ/Detail No.) for this billing period will be setup using this tab, even if there will not be labor charges for \"Office\".","Laabor Summary (Office) iis the master setup for the CSJ and will populate the other tabs in the template.\n\nSelect the appropriate Project (CSJ or Detail No.) from the drop down menu for each subtotal line (Ex:  Cell A42, A73, etc.) that is applicable to the services being provided for the particular billing period. The provider will submit their monthly invoice by the Project (CSJ/Detail) number and Source (Legacy FC) detail as provided by the TxDOT PM.  (The Source (Legacy FC) used will automatically be converted to the New \"PeopleSoft\" FC in the Chart of Accounts (COA) Invoice Conversion tab. The function code are  based on the scope of work in the WA or the Contract.   The line items by Project (CSJ/Detail) number will automatically populate corresponding subtotal  line numbers in other tabs (Labor Summary (Field), Unit Cost Summary, and TE Summary)  in this workbook.  If the information is not correct here, it will not be correct throughout the invoice package. \n\nNote:  Modifications to the drop down menu must be entered into the table in the Master Template Set-Up tab.\n\n"]
["Source\n(Legacy Function Code)","Labor Summary (Offic) is the master setup for the FC and will populate the other tabs in the template.\n\nSelect the appropriate Source (Legacy FC) from the drop down menu for each subtotal line (Ex:  Cell B42, B73...).  The provider will submit their monthly invoice by the Project (CSJ/Detail) number and Source (Legacy FC) detail as provided by the TxDOT PM.  (The Source (Legacy FC) used will automatically be converted to the New \"PeopleSoft\" FC in the Chart of Accounts (COA) Invoice Conversion tab. The function code are  based on the scope of work in the WA or the Contract.   \n\nReference the Source (Legacy FC) from the list of FCs, along with a description of work as indicted in the FC List tab tab.  The TxDOT PM will assist to ensure that the correct FCs are used.  "]
["Employee Name\n","Select the employee (from the drop down menu) who will be performing services on this WA in column M, starting with cell M13 Row 1.  This list will be all inclusive for the WA, but all employees shown on this list may not be active for every billing cycle.   Employees can be added or removed from this list as needed.  \n\nNote:  This table will auto populate the table in columns M and N of the Labor Summary (cell)  and columns V and W of the TE Summary tabs.  Use the drop down menus in each tab to select the employee name and staffing category for the particular billing period.  Any updates to the list MUST be updated using the list in the Labor Summary (Office) tab.\n\n"]
["Employee Staffing Category\n","Select the appropriate Employee Staffing Category from the drop down menu ( Cell D12,D13, etc.)  for each Project (CSJ or Detail No) and  Source (Legacy FC) where the employee provided services for the billing period. Repeat this action to select Employee Staffing Category used for this billing cycle by dropping down to the next set of Project (CSJ or Detail No) and Source (Legacy FC) for the billing period.  Once each line number has been populated, click on the drop down menu button (Cell D11 and uncheck  the \"blanks\", and then the \"ok\"  button to remove unused rows.\n"]
["# of Hours","Enter the number of hours shown for each employee that performed services on this WA during the particular billing period.  The data must be shown as separate line items for each separate Project (CSJ/Detail)number and Source (Legacy FC)."]
["Actual Hourly Rate","Enter actual hourly rate negotiated and billed for this WA for the specific Employee Staffing Category. (For work performed \"in office\", use the Labor Summary (Office) tab, for work performed \"in cell\", use the Labor Summary (cell) tab."]
["Total Direct Labor","Automatically populated cell by formula.  Verify calculations.  Note:  This amount will be cell F12*D12, etc.  \n"]
["Total Labor by FC","Auto populated by formula.  Total for particular Project (CSF or Detail No.) and Source (Legacy FC) will be total by Subtotal Line 1 (Cell C42, Subtotal Line 2 (Cell 73), etc."]
["Total Labor Including OH & FF by FC","Auto populated by formula in Cell J42, J73, etc..  Total for particular Project (CSF or Detail No.) and Source (Legacy FC) will be populated by Subtotal Line 1 (Cell C42, Subtotal Line 2 (Cell 73), etc."]
["OTHER DIRECT EXPENSE (ODE) SUMMARY",null,"Link to ODE Summary Tab"]
["Cell Heading\n"]
["Provider Invoice No.\n\n","This group of cells will automatically be populated from the data entered into the Invoice and Signature Authority tabs.  Reference instructions for these cells under the sections for Invoice and Signature Authority."]
["Combined Invoice Template Log No."]
["Provider Name"]
["Provider ID No."]
["Legacy Contract No."]
["Legacy WA No."]
["Labor Breakdown by Project (CS or /Detail No) and by Source (Legacy Function Code)"]
["Project (CSJ or Detail No.)\nCSJ/Detail number","Auto populated with the same Project and Source that was entered by subtotal line number in the Labor Summary (Office) tab."]
["Source\n(Legacy Function Code)","Auto populated with the same Project and Source that was entered by subtotal line number in the Labor Summary (Office) tab."]
["Type of Expense \n\n","Select the Type of Expense from the drop down menu in Cell C12, C13, etc.  Scroll up or down the list to select the type of expense that is being billed for this particular invoice.   All types of expenses will not always be utilized for each billing cycle.  Only expenses incurred during this billing cycle will be selected from the list of approved expenses for this WA.  Repeat this action to select the acronym associated with the expense by dropping down to the next row.  Once each line number has been populated, click on the drop down menu button (Cell C11)  to remove unused rows by unchecking the (Blanks) box,  then click OK to remove unused rows.\n\nNote:  Modifications to the drop down menu must be entered into the table in the Master Template Set-Up tab."]
["Quantity","Enter the quantity of units for each Type of Expense incurred.  \n(Ex:  20, 2000, etc.)\n\n"]
["Actual Rate (Not to Exceed Contract Max Rate)","Enter the actual cost rate associated with the expense. There will be either an actual rate, not to exceed the maximum amount, or a fixed rate.  Enter N/A if this cell is not applicable.\n"]
["Fixed Rate (As shown in contract)","Enter the fixed rate associated with the expense.  (Ex: Copies @ .10 ea. are normally a fixed cost.)  \nNote:  There will be either an actual rate, not to exceed the maximum amount, or a fixed rate.  Enter N/A if this cell is not applicable.\n"]
["Total Amount Billed","Automatically populated by formula.  Verify calculations.  The amount will be Quantity times Actual Rate or Fixed Rate. \n"]
["Line Total by Project/Source ","Automatically populated by formula.  Verify calculations.  \n\n"]
["Receipt or Usage Log Attached","Select the appropriate box from the drop down menu beginning with cell J12, J13, etc.  It will be Yes, No, or N/A.  If you are not sure what receipts are required to be attached to every invoice, then contact the PEPS SC and/or the TxDOT PM for the WA."]
["Subtotal by Line No. ","Auto populated by formula in Cell I42, I73, etc..  Total for particular Project (CSF or Detail No.) and Source (Legacy FC) will be populated by Subtotal Line 1, 2, etc. (Cell C42, Subtotal Line 2 (Cell 73), etc."]
["Total Providers ODE Summary\n(Cell 1562)","Automatically populated by formula.  This is a total of all Subtotal line numbers as indicated in column I.  Verify calculations.\n\n\n"]
["TRAVEL EXPENSE SUMMARY",null,"Link to TE Summary Tab"]
["Cell Heading\n"]
["Provider Invoice No.\n\n","This group of cells will automatically be populated from the data entered into the Invoice and Signature Authority tabs.  Reference instructions for these cells under the sections for Invoice and Signature Authority."]
["Combined Invoice Template Log No."]
["Provider Name\n\n"]
["Provider ID"]
["Legacy Contract No."]
["Legacy WA No."]
["Travel and Unit Description"]
["Travel Expense Summary\nOverview","Enter the date according to the following instructions for each travel expense.  Travel expenses will be populated either as a \"Per Trip\" amount, or a \"Per Day\" amount.  Travel expenses that are billed \"Per Trip\" extend more than one day.  Travel expenses that are billed \"Per Day\" must be shown on a separate line item, even if they are associated with a trip. \n\nExample: \nJohn Doe has billable air fare for a trip from June 1-3 and stays two nights in a hotel from June 1-2.  John's air fare will be billed as a trip and can be entered on one line item and will have a start date of June 1st and an end date of June 3rd.  John Doe's, hotel/lodging however, will be entered on separate lines with the first night's start and end date being June 1, and the second night's start and end date (on a separate line) being June 2nd."]
["Project (CSJ/Detail)","Auto populated with the same Project and Source that was entered by subtotal line number in the Labor Summary (Office) tab."]
["Source (Legacy FC) ","Auto populated with the same Project and Source number that was entered by subtotal line number in the Labor Summary (Office) tab."]
["Employee Name\n*use this cell (A10) to remove unused rows\n","Click on Cell C11, and a drop down menu will appear.  Scroll up or down the menu bar to select the acronym associated with the Employee Name that has performed services and who has submitted billing for travel expenses during this billing cycle.  \n\nRepeat this action to select the applicable Employee acronyms by dropping down to the next row.\n\nNote:  Travel expenses may be billed although there are no corresponding labor charges for the billing cycle.  The travel expenses are sometimes billed at a later date due to billing cycle overlaps.  If travel expenses are received, but there is no corresponding labor charge for the employee, then the PM will need to verify that the travel dates and expenses were approved for the specific dates, and a cross check against the prior labor billing will need to be performed, as applicable.)\n\n\n*Once each line number has been populated, click on the drop down menu button (Cell C11 ) to remove unused rows by unchecking the (Blanks) box, and then click OK to remove unused rows."]
["Setup for:\nEmployee Names and Employee Name Acronym\n(Cell V10 and V11)","Automatically populated from the Acronym list from the Labor Summary (Office) tab.  Verify that the employee names shown have transferred over correctly. "]
["Start Date\n \n","Enter the first date of travel as the start date.  \n\n"]
["End Date","Enter the last date of travel as the end date.\n\nSee **general instructions above.  "]
["Air Travel\n(Round Trip Per Person)\n","Enter the actual amount charged (within the approved maximum amount negotiated for the WA) for the round trip air fare  for each employee.  Each individual employee's travel must be listed separately in order to provide an adequate cross-reference to verify approved travel expenses.\n"]
["Lodging (Per Night Per Person)"]
["Lodging/Hotel\nPer Night/Person\n","Enter the actual amount for each night of stay on a separate line item (start/end date will be the same for each night of stay).  If associated with another travel expense entered as a trip (more than one day), such as \"Air Travel\", the lodging nights must fall within the range of the trip dates  \n\nThe base rate for each night of stay must be within the approved maximum as shown in the WA, and will exclude state and local taxes.\n\n(Note:  The state and local taxes for lodging is shown as a separate charge.)\n"]
["Amount\n","Enter the actual amount of state and local taxes paid for each night of stay.  The taxes and fees must be shown on the same line item as the lodging amount billed.  "]
["Taxes/Fees","This cell is automatically populated to add the amount entered for the lodging/hotel expense, and the taxes and fees for the state and local hotel taxes. \n"]
["Total","Automatically populated by formula.  Verify calculations.\n\n"]
["Meals (Per Diem)"]
["Meals/Per Diem\nPer Day/Person\n","Enter the day number for the per diem.  For example, if the billable amount of per diem is for 3 days of travel, then each day would be entered as a separate line item.    \n\nOn the first and last day of travel, enter actual meal expenses up to 75% of the meal per diem rate for the city of travel. For days between the first and last day, enter the actual meal expenses up to the meal per diem rate."]
["Day No.","Enter the actual per diem amount spent for each day, not to exceed the maximum amount allowable for the city of travel, and as approved in this WA.  The 81st Texas Legislature set the State Per Diem rate to the Federal Per Diem rate, which can be found on the US General Services Administration website:  (http://www.gsa.gov/portal/category/21287).\n\nNote: The federal per diem rates include $5.00 in incidental costs. This $5.00 must be deducted from the rate to determine the maximum amount allowable.  Allowable incidental costs, such as parking, are shown as separate line items, and will not be included with the allowable per diem rates."]
["Amount\n","Enter the actual amount of the allowable per diem (not to exceed the amount allowed for the day and city of travel)."]
["Mileage (Per Trip or Per Day)"]
["Mileage\nPer Day/Trip/Person","Enter the number of miles associated with travel \"Per Day\" or \"Per Trip\".  Enter the current state rate applicable for the invoice time period in Cell A214 to calculate the total mileage.\n\nNote:  The mileage rate is a fixed rate and will be used to calculate the reimbursable amount for the actual number of documented miles driven for the project as indicated in the work authorization.  The current state mileage rate can be found at the following web address:  \nhttp://www.gsa.gov/portal/content/100715"]
["Number of Miles\n&\nMileage Rate\n(Cell A214)","This cell is automatically populated to calculate number of miles times the current allowable state rate.  \n\nNote:  If the allowable mileage rate is different than the allowable state rate, please contact your PM to receive and update the rate to reflect the actual allowable rate for your WA.\n"]
["Amount","Enter the state mileage rate that is applicable to the travel dates."]
["Other Travel Expenses"]
["Rental Car\nPer Day/Trip/Person\n(Texas and Insurance Included)","Enter the amount billed for actual costs as either \"Per Trip\", or \"Per Day\" for all reimbursable charges.  The amount billed must be within the allowable rate as shown in the WA."]
["Amount","Enter the amount billed for actual costs as either \"Per Trip\", or \"Per Day\" for all reimbursable charges.  The amount billed must be within the allowable rate as shown in the WA."]
["Parking Fees\nPer Trip/Day\n","Enter the amount billed for actual costs as either \"Per Trip\", or \"Per Day\" for all reimbursable charges.  The amount billed must be within the allowable rate as shown in the WA."]
["Amount","Enter the amount billed for actual costs as either \"Per Trip\", or \"Per Day\" for all reimbursable charges.  The amount billed must be within the allowable rate as shown in the WA."]
["Rental Car\nPer Trip/Day\n","Enter the amount billed for actual costs as either \"Per Trip\", or \"Per Day\" for all reimbursable charges.  The amount billed must be within the allowable rate as shown in the WA."]
["Amount","Enter the amount billed for actual costs as either \"Per Trip\", or \"Per Day\" for all reimbursable charges.  The amount billed must be within the allowable rate as shown in the WA."]
["Toll Charges\nPer Trip/Day\n","Enter the amount billed for actual costs as either \"Per Trip\", or \"Per Day\" for all reimbursable charges.  The amount billed must be within the allowable rate as shown in the WA."]
["Amount","Automatically populated by formula.  Verify calculations.\n\n"]
["Taxi/Cab Fare\nPer Trip/Day\n","Enter the number of times taxi/cab fare services were used for each trip.  (Ex:  for one trip a taxi was used three times, enter \"3\" for the number of times)."]
["# of Fares","Enter the amount billed for actual costs as either \"Per Trip\", or \"Per Day\" for all reimbursable charges.  The amount billed must be within the allowable rate as shown in the WA."]
["Amount","Automatically populated by formula.  Verify calculations.\n\n"]
["Line Totals","Automatically populated by formula.  Verify calculations.\n\n"]
["Total TE Billed\n(Cell T1562)","Automatically populated by formula.  This is the amount that will populate the Summary of Total Amount Invoiced.  Verify calculations.\n\n"]

{"sheet":"FC List","index":1,"n_rows":40,"n_cols":5,"rows_kept":40,"cut":false,"hidden":false,"merged":[[2,1,2,2],[2,3,2,4],[2,0,3,0],[1,0,1,4],[0,0,0,4],[6,0,8,0],[9,0,15,0],[19,0,20,0],[21,0,29,0],[32,0,39,0],[6,2,8,2],[6,1,8,1],[9,1,15,1],[9,2,15,2],[21,2,29,2],[32,2,39,2],[32,1,39,1],[21,1,29,1],[19,2,20,2],[19,1,20,1]]}
["Professional Engineering Procurement Services (PEPS) Division"]
["Eleven FCs have been consolidated from the legacy Thirty Three (33) FCs, as shown below.  "]
["PC Bus Unit","New Function Codes (ERP Function Codes)",null,"Legacy Function Codes"]
[null,"FC ","Description ","FC ","Description "]
[72,"000","General","000","General"]
[72,100,"General PE",100,"General PE"]
[76,100,"Pre-DES Funding Agreement Work ",180,"District Design Review and Processing"]
[null,null,null,181,"Austin Office Processing (State prepared PS& E)"]
[null,null,null,182,"Austin Office Processing (Consultant Prepared PS& E)"]
[76,102,"Feasibility Studies",102,"Feasibility Studies"]
[null,null,null,110,"Route and Design Studies"]
[null,null,null,126,"Donated Items or Services"]
[null,null,null,146,"Rework by TxDOT of complete consultant plans on advance PE projects. Advance PE are activities in function codes 102 through 150."]
[null,null,null,169,"Donated Items or Services"]
[null,null,null,191,"Toll Feasibility Studies"]
[null,null,null,195,"Rail Division - PE"]
[76,120,"Social/Econ/Environ Studies",120,"Social, Economic and Environmental Studies and Public Involvement"]
[76,130,"Right-of-Way Survey",130,"Right of Way Survey (State or Contract Provided)"]
[76,135,"Right-of-Way Utility Activities",135,"Right of Way Data Utility Engineering Investigation along with Utility Coordination and Accommodation"]
[76,145,"Managing Contracted/Donated PE",145,"Managing Contracted or Donated Advance PE Services. "]
[null,null,null,164,"Managing Contracted or Donated PS&E PE Services.  "]
[76,160,"Roadway Design",150,"Field Surveying and Photogrammetry"]
[null,null,null,160,"Roadway Design Controls (Computations and Drafting)"]
[null,null,null,161,"Drainage"]
[null,null,null,162,"Signing, Pavement Markings, Signalization (Permanent)"]
[null,null,null,163,"Miscellaneous (Roadway)"]
[null,null,null,165,"Traffic Management Systems (Permanent)"]
[null,null,null,166,"Rework By TxDOT Of Completed Consultant Plans on PE & E projects. \nPS&E PE are activities in Function Codes 160 through 190. \nRework Segment 76 FCs 160-190 for metric conversion. \nRework existing PS&E to metric units on projects already into plan preparation."]
[null,null,null,170,"Bridge Design"]
[null,null,null,190,"Other pre-letting date charges, not otherwise classified. "]
[76,192,"District and Division CDA",192,"Comprehensive Development Agreement Procurement"]
[76,193,"Toll Collection Planning",193,"Toll Collection "]
[76,300,"General Function",310,"Project Supervision"]
[null,null,null,320,"Inspection of Work in Progress and Project Records"]
[null,null,null,330,"Job Control"]
[null,null,null,340,"Post Letting Date Construction Surveys for Construction Contracts. "]
[null,null,null,350,"Design Verification, Changes and Alterations (State prepared plans only)"]
[null,null,null,351,"Design Verification, Changes and Alterations (Consultant prepared plans only)\nReview of plans to verify applicability to actual conditions and for errors; checking Shop Drawings, Field Change Requests, Extra Work Orders, Memorandum Agreements and Supplement Agreements. \nIncludes such activities at both residency and district headquarters. \nIncludes all costs to acquire and manage consultant contracts and services applicable to Construction Engineering (CE)."]
[null,null,null,352,"Final Plan Preparation"]
[null,null,null,390,"Construction Engineering not Otherwise Classified"]

{"sheet":"Master Template Set-up","index":2,"n_rows":156,"n_cols":18,"rows_kept":156,"cut":false,"hidden":false,"merged":[[4,0,4,1],[1,0,1,12],[4,9,4,10],[4,13,4,14]]}
[null,null,null,null,null,null,null,null,null,"Instructions","Click link to see instructions for this tab"]
["This TAB shall be used for entering in the Master Lists for CSJs or Detail No., Employees, Staffing Categories, Unit Cost Items, Other Direct Expenses, and Subproviders."]
[]
[]
["Master List of Project (CSJ or Detail No.)\n\nThe approved Project (CSJ or Detail No's.) will be provided by the TxDOT Project Manager (PM) for the particular Work Authorization (WA).  \n\nThe Project (CSJ or Detail No's) shown below will auto populate the drop down menu of the Labor Summary (Office) worksheet of this Invoice Template.  \n\nAll corresponding worksheets in the Invoice Template will be auto populated with corresponding Subtotal Line No's that have been selected using the drop down menu in the Labor Summary (Office) worksheet for the particular billing period.  \n\nNote:  Not all Project (CSJ or Detail No.'s) n this list will be used for every billing period.  ",null,null,null,null,null,"Master List of Employees",null,null,"Master List of Staffing Categories and rates",null,null,null,"Master List of Other Direct Expenses\n\n\nNOTE: Since Actual Rates vary, they will need to entered on the ODE TAB and assoicated with the appropriate Expense",null,null,null,"Master List of Subproviders"]
["Subtotal Line No.","Project (CSJ or Detail No.)",null,null,null,null,"Employee Name",null,null,"Staffing Category","Contract Max Rate",null,null,"Expenses","Expense Cost (FIXED RATES)",null,null,"Subproviders"]
[1,null,null,null,"000",1,null,null,1,null,null,null,1,null,null,null,1]
[2,null,null,null,"100",2,null,null,2,null,null,null,2,null,null,null,2]
[3,null,null,null,102,3,null,null,3,null,null,null,3,null,null,null,3]
[4,null,null,null,110,4,null,null,4,null,null,null,4,null,null,null,4]
[5,null,null,null,120,5,null,null,5,null,null,null,5,null,null,null,5]
[6,null,null,null,126,6,null,null,6,null,null,null,6,null,null,null,6]
[7,null,null,null,130,7,null,null,7,null,null,null,7,null,null,null,7]
[8,null,null,null,"135",8,null,null,8,null,null,null,8,null,null,null,8]
[9,null,null,null,145,9,null,null,9,null,null,null,9,null,null,null,9]
[10,null,null,null,146,10,null,null,10,null,null,null,10,null,null,null,10]
[11,null,null,null,150,11,null,null,11,null,null,null,11,null,null,null,11]
[12,null,null,null,160,12,null,null,12,null,null,null,12,null,null,null,12]
[13,null,null,null,161,13,null,null,13,null,null,null,13,null,null,null,13]
[14,null,null,null,162,14,null,null,14,null,null,null,14,null,null,null,14]
[15,null,null,null,163,15,null,null,15,null,null,null,15,null,null,null,15]
[16,null,null,null,164,16,null,null,16,null,null,null,16,null,null,null,16]
[17,null,null,null,165,17,null,null,17,null,null,null,17,null,null,null,17]
[18,null,null,null,166,18,null,null,18,null,null,null,18,null,null,null,18]
[19,null,null,null,169,19,null,null,19,null,null,null,19,null,null,null,19]
[20,null,null,null,170,20,null,null,20,null,null,null,20,null,null,null,20]
[21,null,null,null,180,21,null,null,21,null,null,null,21,null,null,null,21]
[22,null,null,null,181,22,null,null,22,null,null,null,22,null,null,null,22]
[23,null,null,null,182,23,null,null,23,null,null,null,23,null,null,null,23]
[24,null,null,null,190,24,null,null,24,null,null,null,24,null,null,null,24]
[25,null,null,null,191,25,null,null,25,null,null,null,25,null,null,null,25]
[26,null,null,null,192,26,null,null,26,null,null,null,26,null,null,null,26]
[27,null,null,null,193,27,null,null,27,null,null,null,27,null,null,null,27]
[28,null,null,null,195,28,null,null,28,null,null,null,28,null,null,null,28]
[29,null,null,null,310,29,null,null,29,null,null,null,29,null,null,null,29]
[30,null,null,null,320,30,null,null,30,null,null,null,30,null,null,null,30]
[31,null,null,null,330,31,null,null,31,null,null,null,31,null,null,null,31]
[32,null,null,null,340,32,null,null,32,null,null,null,32,null,null,null,32]
[33,null,null,null,350,33,null,null,33,null,null,null,33,null,null,null,33]
[34,null,null,null,351,34,null,null,34,null,null,null,34,null,null,null,34]
[35,null,null,null,"352",35,null,null,35,null,null,null,35,null,null,null,35]
[36,null,null,null,"390",36,null,null,36,null,null,null,36,null,null,null,36]
[37,null,null,null,null,37,null,null,37,null,null,null,37,null,null,null,37]
[38,null,null,null,null,38,null,null,38,null,null,null,38,null,null,null,38]
[39,null,null,null,null,39,null,null,39,null,null,null,39,null,null,null,39]
[40,null,null,null,null,40,null,null,40,null,null,null,40,null,null,null,40]
[41,null,null,null,null,41,null,null,41,null,null,null,41,null,null,null,41]
[42,null,null,null,null,42,null,null,42,null,null,null,42,null,null,null,42]
[43,null,null,null,null,43,null,null,43,null,null,null,43,null,null,null,43]
[44,null,null,null,null,44,null,null,44,null,null,null,44,null,null,null,44]
[45,null,null,null,null,45,null,null,45,null,null,null,45,null,null,null,45]
[46,null,null,null,null,46,null,null,46,null,null,null,46,null,null,null,46]
[47,null,null,null,null,47,null,null,47,null,null,null,47,null,null,null,47]
[48,null,null,null,null,48,null,null,48,null,null,null,48,null,null,null,48]
[49,null,null,null,null,49,null,null,49,null,null,null,49,null,null,null,49]
[50,null,null,null,null,50,null,null,50,null,null,null,50,null,null,null,50]
[null,null,null,null,null,51,null,null,51,null,null,null,51]
[null,null,null,null,null,52,null,null,52,null,null,null,52]
[null,null,null,null,null,53,null,null,53,null,null,null,53]
[null,null,null,null,null,54,null,null,54,null,null,null,54]
[null,null,null,null,null,55,null,null,55,null,null,null,55]
[null,null,null,null,null,56,null,null,56,null,null,null,56]
[null,null,null,null,null,57,null,null,57,null,null,null,57]
[null,null,null,null,"Yes",58,null,null,58,null,null,null,58]
[null,null,null,null,"No",59,null,null,59,null,null,null,59]
[null,null,null,null,null,60,null,null,60,null,null,null,60]
[null,null,null,null,null,61,null,null,61,null,null,null,61]
[null,null,null,null,null,62,null,null,62,null,null,null,62]
[null,null,null,null,null,63,null,null,63,null,null,null,63]
[null,null,null,null,null,64,null,null,64,null,null,null,64]
[null,null,null,null,null,65,null,null,65,null,null,null,65]
[null,null,null,null,null,66,null,null,66,null,null,null,66]
[null,null,null,null,null,67,null,null,67,null,null,null,67]
[null,null,null,null,null,68,null,null,68,null,null,null,68]
[null,null,null,null,null,69,null,null,69,null,null,null,69]
[null,null,null,null,null,70,null,null,70,null,null,null,70]
[null,null,null,null,null,71,null,null,71,null,null,null,71]
[null,null,null,null,null,72,null,null,72,null,null,null,72]
[null,null,null,null,null,73,null,null,73,null,null,null,73]
[null,null,null,null,null,74,null,null,74,null,null,null,74]
[null,null,null,null,null,75,null,null,75,null,null,null,75]
[null,null,null,null,null,76,null,null,76,null,null,null,76]
[null,null,null,null,null,77,null,null,77,null,null,null,77]
[null,null,null,null,null,78,null,null,78,null,null,null,78]
[null,null,null,null,null,79,null,null,79,null,null,null,79]
[null,null,null,null,null,80,null,null,80,null,null,null,80]
[null,null,null,null,null,81,null,null,81,null,null,null,81]
[null,null,null,null,null,82,null,null,82,null,null,null,82]
[null,null,null,null,null,83,null,null,83,null,null,null,83]
[null,null,null,null,null,84,null,null,84,null,null,null,84]
[null,null,null,null,null,85,null,null,85,null,null,null,85]
[null,null,null,null,null,86,null,null,86,null,null,null,86]
[null,null,null,null,null,87,null,null,87,null,null,null,87]
[null,null,null,null,null,88,null,null,88,null,null,null,88]
[null,null,null,null,null,89,null,null,89,null,null,null,89]
[null,null,null,null,null,90,null,null,90,null,null,null,90]
[null,null,null,null,null,91,null,null,91,null,null,null,91]
[null,null,null,null,null,92,null,null,92,null,null,null,92]
[null,null,null,null,null,93,null,null,93,null,null,null,93]
[null,null,null,null,null,94,null,null,94,null,null,null,94]
[null,null,null,null,null,95,null,null,95,null,null,null,95]
[null,null,null,null,null,96,null,null,96,null,null,null,96]
[null,null,null,null,null,97,null,null,97,null,null,null,97]
[null,null,null,null,null,98,null,null,98,null,null,null,98]
[null,null,null,null,null,99,null,null,99,null,null,null,99]
[null,null,null,null,null,100,null,null,100,null,null,null,100]
[null,null,null,null,null,101,null,null,101,null,null,null,101]
[null,null,null,null,null,102,null,null,102,null,null,null,102]
[null,null,null,null,null,103,null,null,103,null,null,null,103]
[null,null,null,null,null,104,null,null,104,null,null,null,104]
[null,null,null,null,null,105,null,null,105,null,null,null,105]
[null,null,null,null,null,106,null,null,106,null,null,null,106]
[null,null,null,null,null,107,null,null,107,null,null,null,107]
[null,null,null,null,null,108,null,null,108,null,null,null,108]
[null,null,null,null,null,109,null,null,109,null,null,null,109]
[null,null,null,null,null,110,null,null,110,null,null,null,110]
[null,null,null,null,null,111,null,null,111,null,null,null,111]
[null,null,null,null,null,112,null,null,112,null,null,null,112]
[null,null,null,null,null,113,null,null,113,null,null,null,113]
[null,null,null,null,null,114,null,null,114,null,null,null,114]
[null,null,null,null,null,115,null,null,115,null,null,null,115]
[null,null,null,null,null,116,null,null,116,null,null,null,116]
[null,null,null,null,null,117,null,null,117,null,null,null,117]
[null,null,null,null,null,118,null,null,118,null,null,null,118]
[null,null,null,null,null,119,null,null,119,null,null,null,119]
[null,null,null,null,null,120,null,null,120,null,null,null,120]
[null,null,null,null,null,121,null,null,121,null,null,null,121]
[null,null,null,null,null,122,null,null,122,null,null,null,122]
[null,null,null,null,null,123,null,null,123,null,null,null,123]
[null,null,null,null,null,124,null,null,124,null,null,null,124]
[null,null,null,null,null,125,null,null,125,null,null,null,125]
[null,null,null,null,null,126,null,null,126,null,null,null,126]
[null,null,null,null,null,127,null,null,127,null,null,null,127]
[null,null,null,null,null,128,null,null,128,null,null,null,128]
[null,null,null,null,null,129,null,null,129,null,null,null,129]
[null,null,null,null,null,130,null,null,130,null,null,null,130]
[null,null,null,null,null,131,null,null,131,null,null,null,131]
[null,null,null,null,null,132,null,null,132,null,null,null,132]
[null,null,null,null,null,133,null,null,133,null,null,null,133]
[null,null,null,null,null,134,null,null,134,null,null,null,134]
[null,null,null,null,null,135,null,null,135,null,null,null,135]
[null,null,null,null,null,136,null,null,136,null,null,null,136]
[null,null,null,null,null,137,null,null,137,null,null,null,137]
[null,null,null,null,null,138,null,null,138,null,null,null,138]
[null,null,null,null,null,139,null,null,139,null,null,null,139]
[null,null,null,null,null,140,null,null,140,null,null,null,140]
[null,null,null,null,null,141,null,null,141,null,null,null,141]
[null,null,null,null,null,142,null,null,142,null,null,null,142]
[null,null,null,null,null,143,null,null,143,null,null,null,143]
[null,null,null,null,null,144,null,null,144,null,null,null,144]
[null,null,null,null,null,145,null,null,145,null,null,null,145]
[null,null,null,null,null,146,null,null,146,null,null,null,146]
[null,null,null,null,null,147,null,null,147,null,null,null,147]
[null,null,null,null,null,148,null,null,148,null,null,null,148]
[null,null,null,null,null,149,null,null,149,null,null,null,149]
[null,null,null,null,null,150,null,null,150,null,null,null,150]

{"sheet":"Invoice","index":3,"n_rows":136,"n_cols":32,"rows_kept":136,"cut":false,"hidden":false,"merged":[[0,2,0,3],[3,2,4,2],[4,6,4,7],[13,5,13,6],[0,6,0,7],[1,6,1,7],[2,6,2,7],[3,6,3,7],[3,3,4,3],[7,2,7,3],[9,0,9,3],[7,5,7,7],[8,5,8,7],[10,0,10,3],[8,0,8,1],[5,0,5,7],[6,0,6,1],[7,0,7,1],[6,2,6,3],[8,2,8,3],[6,5,6,7],[9,5,9,7],[10,5,10,7],[135,4,135,5],[131,4,131,5],[132,4,132,5],[130,4,130,5],[134,4,134,5],[100,4,100,5],[116,4,116,5],[115,4,115,5],[103,4,103,5],[104,4,104,5],[105,4,105,5],[112,4,112,5],[118,4,118,5],[119,4,119,5],[120,4,120,5],[123,4,123,5],[124,4,124,5],[121,4,121,5],[122,4,122,5],[126,4,126,5],[133,4,133,5],[125,4,125,5],[128,4,128,5],[129,4,129,5],[127,4,127,5],[117,4,117,5],[99,4,99,5],[85,4,85,5],[86,4,86,5],[87,4,87,5],[113,4,113,5],[98,4,98,5],[106,4,106,5],[107,4,107,5],[111,4,111,5],[108,4,108,5],[114,4,114,5],[101,4,101,5],[102,4,102,5],[109,4,109,5],[110,4,110,5],[96,4,96,5],[97,4,97,5],[91,4,91,5],[92,4,92,5],[93,4,93,5],[94,4,94,5],[88,4,88,5],[22,2,22,7],[23,2,23,7],[24,2,24,7],[16,0,17,0],[84,4,84,6],[15,0,15,7],[11,0,11,1],[13,0,13,1],[12,2,12,3],[14,5,14,7],[11,2,11,3],[14,0,14,1],[11,5,11,7],[12,0,12,1],[13,2,13,3],[12,5,12,7],[95,4,95,5],[16,30,17,30],[19,2,19,7],[29,8,30,8],[28,30,29,31],[25,2,25,7],[26,2,26,7],[27,2,27,7],[28,0,28,7],[18,2,18,7],[29,0,30,0],[29,1,30,1],[29,2,30,2],[29,3,30,3],[29,4,30,4],[29,5,30,5],[29,6,30,6],[29,7,30,7],[16,1,17,1],[16,2,17,7],[89,4,89,5],[90,4,90,5],[20,2,20,7],[21,2,21,7]]}
[null,null,"Template Updated: Sept 2023 - Ver 16",null,"Provider Invoice No.",null,null,null,null,null,1,null,null,null,null,null,null,null,null,null,null,null,null,null,null,null,null,null,null,null,null,"Master Template Cell"]
[null,null,null,null,"Combined Invoice Template Log No.",null,null,null,null,null,2,null,null,null,null,null,null,null,null,null,null,null,null,null,null,null,null,null,null,null,null,"Monthly Submittal Cell"]
[null,null,null,null,"PeopleSoft (PS) Contract No.",null,null,null,null,null,3,null,null,null,null,null,null,null,null,null,null,null,null,null,null,null,null,null,null,null,"Instructions","Click link to see instructions for this tab"]
[null,null,"Provider Invoice Date",{"$f":"'Signature Authority'!B31","v":"00:00:00"},"PS Work Authorization (WA) PO No.",null,null,null,null,null,4]
[null,null,null,null,"TxDOT Invoice No.",null,null,null,null,null,5]
["INVOICE"]
["Provider Name:  ",null,null,null,"Legacy Contract No.  ",null,null,null,null,null,"Cost Plus Fixed Fee",null,null,null,null,null,null,null,null,null,null,null,null,null,null,null,null,null,null,"DBE"]
["Provider ID No.  ",null,null,null,"Contract Amount:  ",null,null,null,null,null,"Lump Sum",null,null,null,null,null,null,null,null,null,null,null,null,null,null,null,null,null,null,"HUB"]
["Remittance Address:",null,null,null,"Contract Expiration Date: ",null,null,null,null,null,"Specified Rate"]
[null,null,null,null,"Legacy WA No.",null,null,null,null,null,"Specified Rate/Unit Cost"]
[null,null,null,null,"WA  Authorized Amount:  ",null,null,null,null,{"$f":"IF(F11=\"\",\"For SD Contracts without WAs, enter contract amount for WA Authorized Amount.\",\"\")","v":"For SD Contracts without WAs, enter contract amount for WA Authorized Amount."}]
["Begin Service Date:  ",null,null,null,"WA Execution Date:",null,null,null,null,{"$f":"IF(F12=\"\",\"For SD Contracts without WAs, enter Contract Execution Date in WA Execution Date.\",\"\")","v":"For SD Contracts without WAs, enter Contract Execution Date in WA Execution Date."}]
["End Service Date:  ",null,null,null,"WA Expiration Date: ",null,null,null,null,{"$f":"IF(F13=\"\",\"For SD Contracts without WAs, enter Contract Expiration Date in WA Expiration Date.\",\"\")","v":"For SD Contracts without WAs, enter Contract Expiration Date in WA Expiration Date."}]
["WA Project Manager (Provider):",null,null,null,"WA Payment Type(s) for this WA:  ",null,null,null,null,{"$f":"IF(F14=\"\",\"For SD Contracts WA Payment Type(s) is the same as the Contract Payment type(s)\",\"\")","v":"For SD Contracts WA Payment Type(s) is the same as the Contract Payment type(s)"}]
["DBE/HUB Goal Assignment for Contract and %:",null,null,0,"WA Project Manager (TxDOT):  "]
["INVOICE SUMMARY"]
["AY\n(App/Fiscal Yr)\n4 digit","DEPT\n(Budget Acct\nSource Unit)","Project Description",null,null,null,null,null,null,null,null,null,null,null,null,null,null,null,null,null,null,null,null,null,null,null,null,null,null,null,"Is this a Consultant Engineering Contract (CEC)?","No"]
[null,null,null,null,null,null,null,null,null,null,null,"FC,DDO,CSJ,Account,PCBU",null,null,null,null,null,null,null,null,null,null,null,null,null,null,null,null,null,null,null,{"$f":"IF(AF17=\"Yes\",\"push: \nctrl a\",\"\")","v":""}]
[]
[]
[]
[]
[]
[]
[]
[]
[]
[]
["INVOICE DETAIL",null,null,null,null,null,null,null,null,null,null,null,null,null,null,null,null,null,null,null,null,null,null,null,null,null,null,null,null,null,"FC to ACCT (Object of Expenditure) Conversion"]
["Line No.","DD\n(DIST/DIV \nBudget No.)","PCBU\n(Enter 2 Digit Seg ID  No. Only)","PROJECT\n(CSJ or Detail No.)","AMOUNT","SOURCE\n(Legacy Function Code)","ACCT\n(Object of Expenditure)","(TxDOT Use Only) SFI Code","DEPT \n(Budget Acct Source Unit)"]
[null,null,null,null,null,null,null,null,null,null,"Helper","Concat","Amount","Source Type","Account","Approp","PC Business ","Unique Concats","Sum","Account","Approp","Fund","PC Bus","Project","Activity",null,null,null,null,null,"FC (Legacy FC)","ACCT"]
[1,null,null,{"$f":"IF('Labor Summary (Office)'!A42=0,\"\",'Labor Summary (Office)'!A42)","v":""},{"$f":"ROUND(IF('WA Financial Status Summary'!$E$25=\"\",'Summary of Total Amt Invoiced'!AH15,'Summary of Total Amt Invoiced'!AH15+('Summary of Total Amt Invoiced'!AH15*('WA Financial Status Summary'!$E$25/'Summary of Total Amt Invoiced'!$AH$65))),2)","v":0},{"$f":"'Labor Summary (Office)'!B42","v":0},null,{"$f":"IF(C32>0,Y32,\"\")","v":""},null,null,1,{"$f":"IF(N32>0,CONCATENATE(N32,X32,O32,C32),\"\")","v":""},{"$f":"IF(E32> 0,E32,\"\")","v":""},{"$f":"IF(OR(F32=180,F32=181,F32=182),100,IF(OR(F32=102,F32=110,F32=126,F32=146,F32=169,F32=191,F32=195),102,IF(F32=120,120,IF(F32=130,130,IF(OR(F32=145,F32=164),145,IF(OR(F32=150,F32=160,F32=161,F32=162,F32=163,F32=165,F32=166,F32=170,F32=190),160,IF(F32=192,192,IF(F32=193,193,IF(OR(F32=310,F32=320,F32=330,F32=340,F32=350,F32=351,F32=352,F32=390),300,\"\")))))))))","v":""},{"$f":"IF(G32=\"\",\"\",IF(OR(G32=421,G32=7253),7253,IF(G32=437,7223,7256)))","v":""},{"$f":"IF(N32=\"\",\"\",IF(N32=\"130\",13020,13035))","v":""},{"$f":"IF(C32>0,CONCATENATE(\"601\", C32),\"\")","v":""},{"$f":"IFERROR(VLOOKUP(ROW()-20,$K$32:$Q$81,2,FALSE),\"\")","v":""},{"$f":"SUMIF($L$32:L81,R32,$M$32:$M$81)","v":0},{"$f":"VLOOKUP(R32,$L$32:$Q$81,4,FALSE)","v":""},{"$f":"VLOOKUP(R32,$L$32:$Q$81,5,FALSE)","v":""},{"$f":" IF(R32<>\"\",\"0006\",\"\")","v":""},{"$f":"VLOOKUP(R32,$L$32:$Q$81,6,FALSE)","v":""},{"$f":"CONCATENATE(B32,SUBSTITUTE(D32,\"-\",\"\"))","v":""},{"$f":"IF(N32=\"\",\"PE\",IF(N32<=192,\"PE\",IF(N32=300,\"CE\",\"PE\")))","v":"PE"},null,null,null,null,null,"100 (180)",7256]
[2,null,null,{"$f":"IF('Labor Summary (Office)'!A73=0,\"\",'Labor Summary (Office)'!A73)","v":""},{"$f":"ROUND(IF('WA Financial Status Summary'!$E$25=\"\",'Summary of Total Amt Invoiced'!AH16,'Summary of Total Amt Invoiced'!AH16+('Summary of Total Amt Invoiced'!AH16*('WA Financial Status Summary'!$E$25/'Summary of Total Amt Invoiced'!$AH$65))),2)","v":0},{"$f":"'Labor Summary (Office)'!B73","v":0},null,"",null,null,{"$f":"IF(COUNTIF($L$32:L33,L33)=1,K32+1,K32)","v":1},"","",{"$f":"IF(OR(F33=180,F33=181,F33=182),100,IF(OR(F33=102,F33=110,F33=126,F33=146,F33=169,F33=191,F33=195),102,IF(F33=120,120,IF(F33=130,130,IF(OR(F33=145,F33=164),145,IF(OR(F33=150,F33=160,F33=161,F33=162,F33=163,F33=165,F33=166,F33=170,F33=190),160,IF(F33=192,192,IF(F33=193,193,IF(OR(F33=310,F33=320,F33=330,F33=340,F33=350,F33=351,F33=352,F33=390),300,\"\")))))))))","v":""},{"$f":"IF(G33=\"\",\"\",IF(OR(G33=421,G33=7253),7253,IF(G33=437,7223,7256)))","v":""},"","","",{"$f":"SUMIF($L$32:L83,R33,$M$32:$M$81)","v":0},{"$f":"VLOOKUP(R33,$L$32:$Q$81,4,FALSE)","v":""},{"$f":"VLOOKUP(R33,$L$32:$Q$81,5,FALSE)","v":""},"",{"$f":"VLOOKUP(R33,$L$32:$Q$81,6,FALSE)","v":""},"",{"$f":"IF(N33=\"\",\"PE\",IF(N33<=192,\"PE\",IF(N33=300,\"CE\",\"PE\")))","v":"PE"},null,null,null,null,null,"100 (181)",7256]
[3,null,null,{"$f":"IF('Labor Summary (Office)'!A104=0,\"\",'Labor Summary (Office)'!A104)","v":""},{"$f":"ROUND(IF('WA Financial Status Summary'!$E$25=\"\",'Summary of Total Amt Invoiced'!AH17,'Summary of Total Amt Invoiced'!AH17+('Summary of Total Amt Invoiced'!AH17*('WA Financial Status Summary'!$E$25/'Summary of Total Amt Invoiced'!$AH$65))),2)","v":0},{"$f":"'Labor Summary (Office)'!B104","v":0},null,"",null,null,{"$f":"IF(COUNTIF($L$32:L34,L34)=1,K33+1,K33)","v":1},"","","","","","","",{"$f":"SUMIF($L$32:L84,R34,$M$32:$M$81)","v":0},"","","","","","PE",null,null,null,null,null,"100 (182)",7256]
[4,null,null,{"$f":"IF('Labor Summary (Office)'!A135=0,\"\",'Labor Summary (Office)'!A135)","v":""},{"$f":"ROUND(IF('WA Financial Status Summary'!$E$25=\"\",'Summary of Total Amt Invoiced'!AH18,'Summary of Total Amt Invoiced'!AH18+('Summary of Total Amt Invoiced'!AH18*('WA Financial Status Summary'!$E$25/'Summary of Total Amt Invoiced'!$AH$65))),2)","v":0},{"$f":"'Labor Summary (Office)'!B135","v":0},null,"",null,null,{"$f":"IF(COUNTIF($L$32:L35,L35)=1,K34+1,K34)","v":1},"","","","","","","",{"$f":"SUMIF($L$32:L85,R35,$M$32:$M$81)","v":0},"","","","","","PE",null,null,null,null,null,"102 (102)",7256]
[5,null,null,{"$f":"IF('Labor Summary (Office)'!A166=0,\"\",'Labor Summary (Office)'!A166)","v":""},{"$f":"ROUND(IF('WA Financial Status Summary'!$E$25=\"\",'Summary of Total Amt Invoiced'!AH19,'Summary of Total Amt Invoiced'!AH19+('Summary of Total Amt Invoiced'!AH19*('WA Financial Status Summary'!$E$25/'Summary of Total Amt Invoiced'!$AH$65))),2)","v":0},{"$f":"'Labor Summary (Office)'!B166","v":0},null,"",null,null,{"$f":"IF(COUNTIF($L$32:L36,L36)=1,K35+1,K35)","v":1},"","","","","","",{"$f":"IFERROR(VLOOKUP(ROW()-20,$K$32:$Q$81,2,FALSE),\"\")","v":""},{"$f":"SUMIF($L$32:L86,R36,$M$32:$M$81)","v":0},{"$f":"VLOOKUP(R36,$L$32:$Q$81,4,FALSE)","v":""},{"$f":"VLOOKUP(R36,$L$32:$Q$81,5,FALSE)","v":""},{"$f":" IF(R36<>\"\",\"0006\",\"\")","v":""},{"$f":"VLOOKUP(R36,$L$32:$Q$81,6,FALSE)","v":""},"","PE",null,null,null,null,null,"102 (110)",7256]
[6,null,null,{"$f":"IF('Labor Summary (Office)'!A197=0,\"\",'Labor Summary (Office)'!A197)","v":""},{"$f":"ROUND(IF('WA Financial Status Summary'!$E$25=\"\",'Summary of Total Amt Invoiced'!AH20,'Summary of Total Amt Invoiced'!AH20+('Summary of Total Amt Invoiced'!AH20*('WA Financial Status Summary'!$E$25/'Summary of Total Amt Invoiced'!$AH$65))),2)","v":0},{"$f":"'Labor Summary (Office)'!B197","v":0},null,"",null,null,{"$f":"IF(COUNTIF($L$32:L37,L37)=1,K36+1,K36)","v":1},"","","","","","","",{"$f":"SUMIF($L$32:L87,R37,$M$32:$M$81)","v":0},"","","","","","PE",null,null,null,null,null,"102 (126)",7256]
[7,null,null,{"$f":"IF('Labor Summary (Office)'!A228=0,\"\",'Labor Summary (Office)'!A228)","v":""},{"$f":"ROUND(IF('WA Financial Status Summary'!$E$25=\"\",'Summary of Total Amt Invoiced'!AH21,'Summary of Total Amt Invoiced'!AH21+('Summary of Total Amt Invoiced'!AH21*('WA Financial Status Summary'!$E$25/'Summary of Total Amt Invoiced'!$AH$65))),2)","v":0},{"$f":"'Labor Summary (Office)'!B228","v":0},null,"",null,null,{"$f":"IF(COUNTIF($L$32:L38,L38)=1,K37+1,K37)","v":1},"","","","","","","",{"$f":"SUMIF($L$32:L88,R38,$M$32:$M$81)","v":0},"","","","","","PE",null,null,null,null,null,"102 (146)",7256]
[8,null,null,{"$f":"IF('Labor Summary (Office)'!A259=0,\"\",'Labor Summary (Office)'!A259)","v":""},{"$f":"ROUND(IF('WA Financial Status Summary'!$E$25=\"\",'Summary of Total Amt Invoiced'!AH22,'Summary of Total Amt Invoiced'!AH22+('Summary of Total Amt Invoiced'!AH22*('WA Financial Status Summary'!$E$25/'Summary of Total Amt Invoiced'!$AH$65))),2)","v":0},{"$f":"'Labor Summary (Office)'!B259","v":0},null,"",null,null,{"$f":"IF(COUNTIF($L$32:L39,L39)=1,K38+1,K38)","v":1},"","","","","","","",{"$f":"SUMIF($L$32:L89,R39,$M$32:$M$81)","v":0},"","","","","","PE",null,null,null,null,null,"102 (169)",7256]
[9,null,null,{"$f":"IF('Labor Summary (Office)'!A290=0,\"\",'Labor Summary (Office)'!A290)","v":""},{"$f":"ROUND(IF('WA Financial Status Summary'!$E$25=\"\",'Summary of Total Amt Invoiced'!AH23,'Summary of Total Amt Invoiced'!AH23+('Summary of Total Amt Invoiced'!AH23*('WA Financial Status Summary'!$E$25/'Summary of Total Amt Invoiced'!$AH$65))),2)","v":0},{"$f":"'Labor Summary (Office)'!B290","v":0},null,"",null,null,{"$f":"IF(COUNTIF($L$32:L40,L40)=1,K39+1,K39)","v":1},"","","","","","","",{"$f":"SUMIF($L$32:L90,R40,$M$32:$M$81)","v":0},"","","","","","PE",null,null,null,null,null,"102 (191)",7256]
[10,null,null,{"$f":"IF('Labor Summary (Office)'!A321=0,\"\",'Labor Summary (Office)'!A321)","v":""},{"$f":"ROUND(IF('WA Financial Status Summary'!$E$25=\"\",'Summary of Total Amt Invoiced'!AH24,'Summary of Total Amt Invoiced'!AH24+('Summary of Total Amt Invoiced'!AH24*('WA Financial Status Summary'!$E$25/'Summary of Total Amt Invoiced'!$AH$65))),2)","v":0},{"$f":"'Labor Summary (Office)'!B321","v":0},null,"",null,null,{"$f":"IF(COUNTIF($L$32:L41,L41)=1,K40+1,K40)","v":1},"","","","","","","",{"$f":"SUMIF($L$32:L91,R41,$M$32:$M$81)","v":0},"","","","","","PE",null,null,null,null,null,"102 (195)",7256]
[11,null,null,{"$f":"IF('Labor Summary (Office)'!A352=0,\"\",'Labor Summary (Office)'!A352)","v":""},{"$f":"ROUND(IF('WA Financial Status Summary'!$E$25=\"\",'Summary of Total Amt Invoiced'!AH25,'Summary of Total Amt Invoiced'!AH25+('Summary of Total Amt Invoiced'!AH25*('WA Financial Status Summary'!$E$25/'Summary of Total Amt Invoiced'!$AH$65))),2)","v":0},{"$f":"'Labor Summary (Office)'!B352","v":0},null,"",null,null,{"$f":"IF(COUNTIF($L$32:L42,L42)=1,K41+1,K41)","v":1},"","","","","","","",{"$f":"SUMIF($L$32:L92,R42,$M$32:$M$81)","v":0},"","","","","","PE",null,null,null,null,null,"120 (120)",7256]
[12,null,null,{"$f":"IF('Labor Summary (Office)'!A383=0,\"\",'Labor Summary (Office)'!A383)","v":""},{"$f":"ROUND(IF('WA Financial Status Summary'!$E$25=\"\",'Summary of Total Amt Invoiced'!AH26,'Summary of Total Amt Invoiced'!AH26+('Summary of Total Amt Invoiced'!AH26*('WA Financial Status Summary'!$E$25/'Summary of Total Amt Invoiced'!$AH$65))),2)","v":0},{"$f":"'Labor Summary (Office)'!B383","v":0},null,"",null,null,{"$f":"IF(COUNTIF($L$32:L43,L43)=1,K42+1,K42)","v":1},"","","","","","","",{"$f":"SUMIF($L$32:L93,R43,$M$32:$M$81)","v":0},"","","","","","PE",null,null,null,null,null,"130 (130)",7253]
[13,null,null,{"$f":"IF('Labor Summary (Office)'!A414=0,\"\", 'Labor Summary (Office)'!A414)","v":""},{"$f":"ROUND(IF('WA Financial Status Summary'!$E$25=\"\",'Summary of Total Amt Invoiced'!AH27,'Summary of Total Amt Invoiced'!AH27+('Summary of Total Amt Invoiced'!AH27*('WA Financial Status Summary'!$E$25/'Summary of Total Amt Invoiced'!$AH$65))),2)","v":0},{"$f":"'Labor Summary (Office)'!B414","v":0},null,"",null,null,{"$f":"IF(COUNTIF($L$32:L44,L44)=1,K43+1,K43)","v":1},"","","","","","","",{"$f":"SUMIF($L$32:L94,R44,$M$32:$M$81)","v":0},"","","","","","PE",null,null,null,null,null,"135 (135)",7256]
[14,null,null,{"$f":"IF('Labor Summary (Office)'!A445=0,\"\",'Labor Summary (Office)'!A445)","v":""},{"$f":"ROUND(IF('WA Financial Status Summary'!$E$25=\"\",'Summary of Total Amt Invoiced'!AH28,'Summary of Total Amt Invoiced'!AH28+('Summary of Total Amt Invoiced'!AH28*('WA Financial Status Summary'!$E$25/'Summary of Total Amt Invoiced'!$AH$65))),2)","v":0},{"$f":"'Labor Summary (Office)'!B445","v":0},null,"",null,null,{"$f":"IF(COUNTIF($L$32:L45,L45)=1,K44+1,K44)","v":1},"","","","","","","",{"$f":"SUMIF($L$32:L95,R45,$M$32:$M$81)","v":0},"","","","","","PE",null,null,null,null,null,"145 (145)",7256]
[15,null,null,{"$f":"IF('Labor Summary (Office)'!A476=0,\"\",'Labor Summary (Office)'!A476)","v":""},{"$f":"ROUND(IF('WA Financial Status Summary'!$E$25=\"\",'Summary of Total Amt Invoiced'!AH29,'Summary of Total Amt Invoiced'!AH29+('Summary of Total Amt Invoiced'!AH29*('WA Financial Status Summary'!$E$25/'Summary of Total Amt Invoiced'!$AH$65))),2)","v":0},{"$f":"'Labor Summary (Office)'!B476","v":0},null,"",null,null,{"$f":"IF(COUNTIF($L$32:L46,L46)=1,K45+1,K45)","v":1},"","","","","","","",{"$f":"SUMIF($L$32:L96,R46,$M$32:$M$81)","v":0},"","","","","","PE",null,null,null,null,null,"145 (164)",7256]
[16,null,null,{"$f":"IF('Labor Summary (Office)'!A507=0,\"\",'Labor Summary (Office)'!A507)","v":""},{"$f":"ROUND(IF('WA Financial Status Summary'!$E$25=\"\",'Summary of Total Amt Invoiced'!AH30,'Summary of Total Amt Invoiced'!AH30+('Summary of Total Amt Invoiced'!AH30*('WA Financial Status Summary'!$E$25/'Summary of Total Amt Invoiced'!$AH$65))),2)","v":0},{"$f":"'Labor Summary (Office)'!B507","v":0},null,"",null,null,{"$f":"IF(COUNTIF($L$32:L47,L47)=1,K46+1,K46)","v":1},"","","","","","","",{"$f":"SUMIF($L$32:L97,R47,$M$32:$M$81)","v":0},"","","","","","PE",null,null,null,null,null,"160 (150)",7253]
[17,null,null,{"$f":"IF('Labor Summary (Office)'!A538=0,\"\",'Labor Summary (Office)'!A538)","v":""},{"$f":"ROUND(IF('WA Financial Status Summary'!$E$25=\"\",'Summary of Total Amt Invoiced'!AH31,'Summary of Total Amt Invoiced'!AH31+('Summary of Total Amt Invoiced'!AH31*('WA Financial Status Summary'!$E$25/'Summary of Total Amt Invoiced'!$AH$65))),2)","v":0},{"$f":"'Labor Summary (Office)'!B538","v":0},null,"",null,null,{"$f":"IF(COUNTIF($L$32:L48,L48)=1,K47+1,K47)","v":1},"","","","","","","",{"$f":"SUMIF($L$32:L98,R48,$M$32:$M$81)","v":0},"","","","","","PE",null,null,null,null,null,"160 (160)",7256]
[18,null,null,{"$f":"IF('Labor Summary (Office)'!A569=0,\"\",'Labor Summary (Office)'!A569)","v":""},{"$f":"ROUND(IF('WA Financial Status Summary'!$E$25=\"\",'Summary of Total Amt Invoiced'!AH32,'Summary of Total Amt Invoiced'!AH32+('Summary of Total Amt Invoiced'!AH32*('WA Financial Status Summary'!$E$25/'Summary of Total Amt Invoiced'!$AH$65))),2)","v":0},{"$f":"'Labor Summary (Office)'!B569","v":0},null,"",null,null,{"$f":"IF(COUNTIF($L$32:L49,L49)=1,K48+1,K48)","v":1},"","","","","","","",{"$f":"SUMIF($L$32:L99,R49,$M$32:$M$81)","v":0},"","","","","","PE",null,null,null,null,null,"160 (161)",7256]
[19,null,null,{"$f":"IF('Labor Summary (Office)'!A600=0,\"\",'Labor Summary (Office)'!A600)","v":""},{"$f":"ROUND(IF('WA Financial Status Summary'!$E$25=\"\",'Summary of Total Amt Invoiced'!AH33,'Summary of Total Amt Invoiced'!AH33+('Summary of Total Amt Invoiced'!AH33*('WA Financial Status Summary'!$E$25/'Summary of Total Amt Invoiced'!$AH$65))),2)","v":0},{"$f":"'Labor Summary (Office)'!B600","v":0},null,"",null,null,{"$f":"IF(COUNTIF($L$32:L50,L50)=1,K49+1,K49)","v":1},"","","","","","","",{"$f":"SUMIF($L$32:L100,R50,$M$32:$M$81)","v":0},"","","","","","PE",null,null,null,null,null,"160 (162)",7256]
[20,null,null,{"$f":"IF('Labor Summary (Office)'!A631=0,\"\",'Labor Summary (Office)'!A631)","v":""},{"$f":"ROUND(IF('WA Financial Status Summary'!$E$25=\"\",'Summary of Total Amt Invoiced'!AH34,'Summary of Total Amt Invoiced'!AH34+('Summary of Total Amt Invoiced'!AH34*('WA Financial Status Summary'!$E$25/'Summary of Total Amt Invoiced'!$AH$65))),2)","v":0},{"$f":"'Labor Summary (Office)'!B631","v":0},null,"",null,null,{"$f":"IF(COUNTIF($L$32:L51,L51)=1,K50+1,K50)","v":1},"","","","","","","",{"$f":"SUMIF($L$32:L101,R51,$M$32:$M$81)","v":0},"","","","","","PE",null,null,null,null,null,"160 (163)",7256]
[21,null,null,{"$f":"IF('Labor Summary (Office)'!A662=0,\"\",'Labor Summary (Office)'!A662)","v":""},{"$f":"ROUND(IF('WA Financial Status Summary'!$E$25=\"\",'Summary of Total Amt Invoiced'!AH35,'Summary of Total Amt Invoiced'!AH35+('Summary of Total Amt Invoiced'!AH35*('WA Financial Status Summary'!$E$25/'Summary of Total Amt Invoiced'!$AH$65))),2)","v":0},{"$f":"'Labor Summary (Office)'!B662","v":0},null,"",null,null,{"$f":"IF(COUNTIF($L$32:L52,L52)=1,K51+1,K51)","v":1},"","","","","","","",{"$f":"SUMIF($L$32:L102,R52,$M$32:$M$81)","v":0},"","","","","","PE",null,null,null,null,null,"160 (165)",7256]
[22,null,null,{"$f":"IF('Labor Summary (Office)'!A693=0,\"\",'Labor Summary (Office)'!A693)","v":""},{"$f":"ROUND(IF('WA Financial Status Summary'!$E$25=\"\",'Summary of Total Amt Invoiced'!AH36,'Summary of Total Amt Invoiced'!AH36+('Summary of Total Amt Invoiced'!AH36*('WA Financial Status Summary'!$E$25/'Summary of Total Amt Invoiced'!$AH$65))),2)","v":0},{"$f":"'Labor Summary (Office)'!B693","v":0},null,"",null,null,{"$f":"IF(COUNTIF($L$32:L53,L53)=1,K52+1,K52)","v":1},"","","","","","","",{"$f":"SUMIF($L$32:L103,R53,$M$32:$M$81)","v":0},"","","","","","PE",null,null,null,null,null,"160 (166)",7256]
[23,null,null,{"$f":"IF('Labor Summary (Office)'!A724=0,\"\",'Labor Summary (Office)'!A724)","v":""},{"$f":"ROUND(IF('WA Financial Status Summary'!$E$25=\"\",'Summary of Total Amt Invoiced'!AH37,'Summary of Total Amt Invoiced'!AH37+('Summary of Total Amt Invoiced'!AH37*('WA Financial Status Summary'!$E$25/'Summary of Total Amt Invoiced'!$AH$65))),2)","v":0},{"$f":"'Labor Summary (Office)'!B724","v":0},null,"",null,null,{"$f":"IF(COUNTIF($L$32:L54,L54)=1,K53+1,K53)","v":1},"","","","","","","",{"$f":"SUMIF($L$32:L104,R54,$M$32:$M$81)","v":0},"","","","","","PE",null,null,null,null,null,"160 (170)",7256]
[24,null,null,{"$f":"IF('Labor Summary (Office)'!A755=0,\"\",'Labor Summary (Office)'!A755)","v":""},{"$f":"ROUND(IF('WA Financial Status Summary'!$E$25=\"\",'Summary of Total Amt Invoiced'!AH38,'Summary of Total Amt Invoiced'!AH38+('Summary of Total Amt Invoiced'!AH38*('WA Financial Status Summary'!$E$25/'Summary of Total Amt Invoiced'!$AH$65))),2)","v":0},{"$f":"'Labor Summary (Office)'!B755","v":0},null,"",null,null,{"$f":"IF(COUNTIF($L$32:L55,L55)=1,K54+1,K54)","v":1},"","","","","","","",{"$f":"SUMIF($L$32:L105,R55,$M$32:$M$81)","v":0},"","","","","","PE",null,null,null,null,null,"160 (190)",7256]
[25,null,null,{"$f":"IF('Labor Summary (Office)'!A786=0,\"\",'Labor Summary (Office)'!A786)","v":""},{"$f":"ROUND(IF('WA Financial Status Summary'!$E$25=\"\",'Summary of Total Amt Invoiced'!AH39,'Summary of Total Amt Invoiced'!AH39+('Summary of Total Amt Invoiced'!AH39*('WA Financial Status Summary'!$E$25/'Summary of Total Amt Invoiced'!$AH$65))),2)","v":0},{"$f":"'Labor Summary (Office)'!B786","v":0},null,"",null,null,{"$f":"IF(COUNTIF($L$32:L56,L56)=1,K55+1,K55)","v":1},"","","","","","","",{"$f":"SUMIF($L$32:L106,R56,$M$32:$M$81)","v":0},"","","","","","PE",null,null,null,null,null,"192 (192)",7256]
[26,null,null,{"$f":"IF('Labor Summary (Office)'!A817=0,\"\",'Labor Summary (Office)'!A817)","v":""},{"$f":"ROUND(IF('WA Financial Status Summary'!$E$25=\"\",'Summary of Total Amt Invoiced'!AH40,'Summary of Total Amt Invoiced'!AH40+('Summary of Total Amt Invoiced'!AH40*('WA Financial Status Summary'!$E$25/'Summary of Total Amt Invoiced'!$AH$65))),2)","v":0},{"$f":"'Labor Summary (Office)'!B817","v":0},null,"",null,null,{"$f":"IF(COUNTIF($L$32:L57,L57)=1,K56+1,K56)","v":1},"","","","","","","",{"$f":"SUMIF($L$32:L107,R57,$M$32:$M$81)","v":0},"","","","","","PE",null,null,null,null,null,"193 (193)",7256]
[27,null,null,{"$f":"IF('Labor Summary (Office)'!A848=0,\"\",'Labor Summary (Office)'!A848)","v":""},{"$f":"ROUND(IF('WA Financial Status Summary'!$E$25=\"\",'Summary of Total Amt Invoiced'!AH41,'Summary of Total Amt Invoiced'!AH41+('Summary of Total Amt Invoiced'!AH41*('WA Financial Status Summary'!$E$25/'Summary of Total Amt Invoiced'!$AH$65))),2)","v":0},{"$f":"'Labor Summary (Office)'!B848","v":0},null,"",null,null,{"$f":"IF(COUNTIF($L$32:L58,L58)=1,K57+1,K57)","v":1},"","","","","","","",{"$f":"SUMIF($L$32:L108,R58,$M$32:$M$81)","v":0},"","","","","","PE",null,null,null,null,null,"300 (310)",7256]
[28,null,null,{"$f":"IF('Labor Summary (Office)'!A879=0,\"\",'Labor Summary (Office)'!A879)","v":""},{"$f":"ROUND(IF('WA Financial Status Summary'!$E$25=\"\",'Summary of Total Amt Invoiced'!AH42,'Summary of Total Amt Invoiced'!AH42+('Summary of Total Amt Invoiced'!AH42*('WA Financial Status Summary'!$E$25/'Summary of Total Amt Invoiced'!$AH$65))),2)","v":0},{"$f":"'Labor Summary (Office)'!B879","v":0},null,"",null,null,{"$f":"IF(COUNTIF($L$32:L59,L59)=1,K58+1,K58)","v":1},"","","","","","","",{"$f":"SUMIF($L$32:L109,R59,$M$32:$M$81)","v":0},"","","","","","PE",null,null,null,null,null,"300 (320)",7256]
[29,null,null,{"$f":"IF('Labor Summary (Office)'!A910=0,\"\",'Labor Summary (Office)'!A910)","v":""},{"$f":"ROUND(IF('WA Financial Status Summary'!$E$25=\"\",'Summary of Total Amt Invoiced'!AH43,'Summary of Total Amt Invoiced'!AH43+('Summary of Total Amt Invoiced'!AH43*('WA Financial Status Summary'!$E$25/'Summary of Total Amt Invoiced'!$AH$65))),2)","v":0},{"$f":"'Labor Summary (Office)'!B910","v":0},null,"",null,null,{"$f":"IF(COUNTIF($L$32:L60,L60)=1,K59+1,K59)","v":1},"","","","","","","",{"$f":"SUMIF($L$32:L110,R60,$M$32:$M$81)","v":0},"","","","","","PE",null,null,null,null,null,"300 (330)",7256]
[30,null,null,{"$f":"IF('Labor Summary (Office)'!A941=0,\"\",'Labor Summary (Office)'!A941)","v":""},{"$f":"ROUND(IF('WA Financial Status Summary'!$E$25=\"\",'Summary of Total Amt Invoiced'!AH44,'Summary of Total Amt Invoiced'!AH44+('Summary of Total Amt Invoiced'!AH44*('WA Financial Status Summary'!$E$25/'Summary of Total Amt Invoiced'!$AH$65))),2)","v":0},{"$f":"'Labor Summary (Office)'!B941","v":0},null,"",null,null,{"$f":"IF(COUNTIF($L$32:L61,L61)=1,K60+1,K60)","v":1},"","","","","","","",{"$f":"SUMIF($L$32:L111,R61,$M$32:$M$81)","v":0},"","","","","","PE",null,null,null,null,null,"300 (340)",7256]
[31,null,null,{"$f":"IF('Labor Summary (Office)'!A972=0,\"\",'Labor Summary (Office)'!A972)","v":""},{"$f":"ROUND(IF('WA Financial Status Summary'!$E$25=\"\",'Summary of Total Amt Invoiced'!AH45,'Summary of Total Amt Invoiced'!AH45+('Summary of Total Amt Invoiced'!AH45*('WA Financial Status Summary'!$E$25/'Summary of Total Amt Invoiced'!$AH$65))),2)","v":0},{"$f":"'Labor Summary (Office)'!B972","v":0},null,"",null,null,{"$f":"IF(COUNTIF($L$32:L62,L62)=1,K61+1,K61)","v":1},"","","","","","","",{"$f":"SUMIF($L$32:L112,R62,$M$32:$M$81)","v":0},"","","","","","PE",null,null,null,null,null,"300 (350)",7256]
[32,null,null,{"$f":"IF('Labor Summary (Office)'!A1003=0,\"\",'Labor Summary (Office)'!A1003)","v":""},{"$f":"ROUND(IF('WA Financial Status Summary'!$E$25=\"\",'Summary of Total Amt Invoiced'!AH46,'Summary of Total Amt Invoiced'!AH46+('Summary of Total Amt Invoiced'!AH46*('WA Financial Status Summary'!$E$25/'Summary of Total Amt Invoiced'!$AH$65))),2)","v":0},{"$f":"'Labor Summary (Office)'!B1003","v":0},null,"",null,null,{"$f":"IF(COUNTIF($L$32:L63,L63)=1,K62+1,K62)","v":1},"","","","","","","",{"$f":"SUMIF($L$32:L113,R63,$M$32:$M$81)","v":0},"","","","","","PE",null,null,null,null,null,"300 (351)",7256]
[33,null,null,{"$f":"IF('Labor Summary (Office)'!A1034=0,\"\",'Labor Summary (Office)'!A1034)","v":""},{"$f":"ROUND(IF('WA Financial Status Summary'!$E$25=\"\",'Summary of Total Amt Invoiced'!AH47,'Summary of Total Amt Invoiced'!AH47+('Summary of Total Amt Invoiced'!AH47*('WA Financial Status Summary'!$E$25/'Summary of Total Amt Invoiced'!$AH$65))),2)","v":0},{"$f":"'Labor Summary (Office)'!B1034","v":0},null,{"$f":"IF(C64>0,Y64,\"\")","v":""},null,null,{"$f":"IF(COUNTIF($L$32:L64,L64)=1,K63+1,K63)","v":1},{"$f":"IF(N64>0,CONCATENATE(N64,X64,O64,C64),\"\")","v":""},{"$f":"IF(E64> 0,E64,\"\")","v":""},"","","",{"$f":"IF(C64>0,CONCATENATE(\"601\", C64),\"\")","v":""},{"$f":"IFERROR(VLOOKUP(ROW()-20,$K$32:$Q$81,2,FALSE),\"\")","v":""},{"$f":"SUMIF($L$32:L114,R64,$M$32:$M$81)","v":0},"","",{"$f":" IF(R64<>\"\",\"0006\",\"\")","v":""},"",{"$f":"CONCATENATE(B64,SUBSTITUTE(D64,\"-\",\"\"))","v":""},"PE",null,null,null,null,null,"300 (352)",7256]
[34,null,null,{"$f":"IF('Labor Summary (Office)'!A1065=0,\"\",'Labor Summary (Office)'!A1065)","v":""},{"$f":"ROUND(IF('WA Financial Status Summary'!$E$25=\"\",'Summary of Total Amt Invoiced'!AH48,'Summary of Total Amt Invoiced'!AH48+('Summary of Total Amt Invoiced'!AH48*('WA Financial Status Summary'!$E$25/'Summary of Total Amt Invoiced'!$AH$65))),2)","v":0},{"$f":"'Labor Summary (Office)'!B1065","v":0},null,"",null,null,{"$f":"IF(COUNTIF($L$32:L65,L65)=1,K64+1,K64)","v":1},"","","","","","","",{"$f":"SUMIF($L$32:L115,R65,$M$32:$M$81)","v":0},"","","","","","PE",null,null,null,null,null,"300 (390)",7256]
[35,null,null,{"$f":"IF('Labor Summary (Office)'!A1096=0,\"\",'Labor Summary (Office)'!A1096)","v":""},{"$f":"ROUND(IF('WA Financial Status Summary'!$E$25=\"\",'Summary of Total Amt Invoiced'!AH49,'Summary of Total Amt Invoiced'!AH49+('Summary of Total Amt Invoiced'!AH49*('WA Financial Status Summary'!$E$25/'Summary of Total Amt Invoiced'!$AH$65))),2)","v":0},{"$f":"'Labor Summary (Office)'!B1096","v":0},null,"",null,null,{"$f":"IF(COUNTIF($L$32:L66,L66)=1,K65+1,K65)","v":1},"","","","","","","",{"$f":"SUMIF($L$32:L116,R66,$M$32:$M$81)","v":0},"","","","","","PE"]
[36,null,null,{"$f":"IF('Labor Summary (Office)'!A1127=0,\"\",'Labor Summary (Office)'!A1127)","v":""},{"$f":"ROUND(IF('WA Financial Status Summary'!$E$25=\"\",'Summary of Total Amt Invoiced'!AH50,'Summary of Total Amt Invoiced'!AH50+('Summary of Total Amt Invoiced'!AH50*('WA Financial Status Summary'!$E$25/'Summary of Total Amt Invoiced'!$AH$65))),2)","v":0},{"$f":"'Labor Summary (Office)'!B1127","v":0},null,"",null,null,{"$f":"IF(COUNTIF($L$32:L67,L67)=1,K66+1,K66)","v":1},"","","","","","","",{"$f":"SUMIF($L$32:L117,R67,$M$32:$M$81)","v":0},"","","","","","PE"]
[37,null,null,{"$f":"IF('Labor Summary (Office)'!A1158=0,\"\",'Labor Summary (Office)'!A1158)","v":""},{"$f":"ROUND(IF('WA Financial Status Summary'!$E$25=\"\",'Summary of Total Amt Invoiced'!AH51,'Summary of Total Amt Invoiced'!AH51+('Summary of Total Amt Invoiced'!AH51*('WA Financial Status Summary'!$E$25/'Summary of Total Amt Invoiced'!$AH$65))),2)","v":0},{"$f":"'Labor Summary (Office)'!B1158","v":0},null,"",null,null,{"$f":"IF(COUNTIF($L$32:L68,L68)=1,K67+1,K67)","v":1},"","","","","","","",{"$f":"SUMIF($L$32:L118,R68,$M$32:$M$81)","v":0},"","","","","","PE"]
[38,null,null,{"$f":"IF('Labor Summary (Office)'!A1189=0,\"\",'Labor Summary (Office)'!A1189)","v":""},{"$f":"ROUND(IF('WA Financial Status Summary'!$E$25=\"\",'Summary of Total Amt Invoiced'!AH52,'Summary of Total Amt Invoiced'!AH52+('Summary of Total Amt Invoiced'!AH52*('WA Financial Status Summary'!$E$25/'Summary of Total Amt Invoiced'!$AH$65))),2)","v":0},{"$f":"'Labor Summary (Office)'!B1189","v":0},null,"",null,null,{"$f":"IF(COUNTIF($L$32:L69,L69)=1,K68+1,K68)","v":1},"","","","","","","",{"$f":"SUMIF($L$32:L119,R69,$M$32:$M$81)","v":0},"","","","","","PE"]
[39,null,null,{"$f":"IF('Labor Summary (Office)'!A1220=0,\"\",'Labor Summary (Office)'!A1220)","v":""},{"$f":"ROUND(IF('WA Financial Status Summary'!$E$25=\"\",'Summary of Total Amt Invoiced'!AH53,'Summary of Total Amt Invoiced'!AH53+('Summary of Total Amt Invoiced'!AH53*('WA Financial Status Summary'!$E$25/'Summary of Total Amt Invoiced'!$AH$65))),2)","v":0},{"$f":"'Labor Summary (Office)'!B1220","v":0},null,"",null,null,{"$f":"IF(COUNTIF($L$32:L70,L70)=1,K69+1,K69)","v":1},"","","","","","","",{"$f":"SUMIF($L$32:L120,R70,$M$32:$M$81)","v":0},"","","","","","PE"]
[40,null,null,{"$f":"IF('Labor Summary (Office)'!A1251=0,\"\",'Labor Summary (Office)'!A1251)","v":""},{"$f":"ROUND(IF('WA Financial Status Summary'!$E$25=\"\",'Summary of Total Amt Invoiced'!AH54,'Summary of Total Amt Invoiced'!AH54+('Summary of Total Amt Invoiced'!AH54*('WA Financial Status Summary'!$E$25/'Summary of Total Amt Invoiced'!$AH$65))),2)","v":0},{"$f":"'Labor Summary (Office)'!B1251","v":0},null,"",null,null,{"$f":"IF(COUNTIF($L$32:L71,L71)=1,K70+1,K70)","v":1},"","","","","","","",{"$f":"SUMIF($L$32:L121,R71,$M$32:$M$81)","v":0},"","","","","","PE"]
[41,null,null,{"$f":"IF('Labor Summary (Office)'!A1282=0,\"\",'Labor Summary (Office)'!A1282)","v":""},{"$f":"ROUND(IF('WA Financial Status Summary'!$E$25=\"\",'Summary of Total Amt Invoiced'!AH55,'Summary of Total Amt Invoiced'!AH55+('Summary of Total Amt Invoiced'!AH55*('WA Financial Status Summary'!$E$25/'Summary of Total Amt Invoiced'!$AH$65))),2)","v":0},{"$f":"'Labor Summary (Office)'!B1282","v":0},null,"",null,null,{"$f":"IF(COUNTIF($L$32:L72,L72)=1,K71+1,K71)","v":1},"","","","","","","",{"$f":"SUMIF($L$32:L122,R72,$M$32:$M$81)","v":0},"","","","","","PE"]
[42,null,null,{"$f":"IF('Labor Summary (Office)'!A1313=0,\"\",'Labor Summary (Office)'!A1313)","v":""},{"$f":"ROUND(IF('WA Financial Status Summary'!$E$25=\"\",'Summary of Total Amt Invoiced'!AH56,'Summary of Total Amt Invoiced'!AH56+('Summary of Total Amt Invoiced'!AH56*('WA Financial Status Summary'!$E$25/'Summary of Total Amt Invoiced'!$AH$65))),2)","v":0},{"$f":"'Labor Summary (Office)'!B1313","v":0},null,"",null,null,{"$f":"IF(COUNTIF($L$32:L73,L73)=1,K72+1,K72)","v":1},"","","","","","","",{"$f":"SUMIF($L$32:L123,R73,$M$32:$M$81)","v":0},"","","","","","PE"]
[43,null,null,{"$f":"IF('Labor Summary (Office)'!A1344=0,\"\",'Labor Summary (Office)'!A1344)","v":""},{"$f":"ROUND(IF('WA Financial Status Summary'!$E$25=\"\",'Summary of Total Amt Invoiced'!AH57,'Summary of Total Amt Invoiced'!AH57+('Summary of Total Amt Invoiced'!AH57*('WA Financial Status Summary'!$E$25/'Summary of Total Amt Invoiced'!$AH$65))),2)","v":0},{"$f":"'Labor Summary (Office)'!B1344","v":0},null,"",null,null,{"$f":"IF(COUNTIF($L$32:L74,L74)=1,K73+1,K73)","v":1},"","","","","","","",{"$f":"SUMIF($L$32:L124,R74,$M$32:$M$81)","v":0},"","","","","","PE"]
[44,null,null,{"$f":"IF('Labor Summary (Office)'!A1375=0,\"\",'Labor Summary (Office)'!A1375)","v":""},{"$f":"ROUND(IF('WA Financial Status Summary'!$E$25=\"\",'Summary of Total Amt Invoiced'!AH58,'Summary of Total Amt Invoiced'!AH58+('Summary of Total Amt Invoiced'!AH58*('WA Financial Status Summary'!$E$25/'Summary of Total Amt Invoiced'!$AH$65))),2)","v":0},{"$f":"'Labor Summary (Office)'!B1375","v":0},null,"",null,null,{"$f":"IF(COUNTIF($L$32:L75,L75)=1,K74+1,K74)","v":1},"","","","","","","",{"$f":"SUMIF($L$32:L125,R75,$M$32:$M$81)","v":0},"","","","","",{"$f":"IF(N75=\"\",\"PE\",IF(N75<=192,\"PE\",IF(N75=300,\"CE\",\"PE\")))","v":"PE"}]
[45,null,null,{"$f":"IF('Labor Summary (Office)'!A1406=0,\"\",'Labor Summary (Office)'!A1406)","v":""},{"$f":"ROUND(IF('WA Financial Status Summary'!$E$25=\"\",'Summary of Total Amt Invoiced'!AH59,'Summary of Total Amt Invoiced'!AH59+('Summary of Total Amt Invoiced'!AH59*('WA Financial Status Summary'!$E$25/'Summary of Total Amt Invoiced'!$AH$65))),2)","v":0},{"$f":"'Labor Summary (Office)'!B1406","v":0},null,"",null,null,{"$f":"IF(COUNTIF($L$32:L76,L76)=1,K75+1,K75)","v":1},"","","","","","","",{"$f":"SUMIF($L$32:L126,R76,$M$32:$M$81)","v":0},"","","","","","PE"]
[46,null,null,{"$f":"IF('Labor Summary (Office)'!A1437=0,\"\",'Labor Summary (Office)'!A1437)","v":""},{"$f":"ROUND(IF('WA Financial Status Summary'!$E$25=\"\",'Summary of Total Amt Invoiced'!AH60,'Summary of Total Amt Invoiced'!AH60+('Summary of Total Amt Invoiced'!AH60*('WA Financial Status Summary'!$E$25/'Summary of Total Amt Invoiced'!$AH$65))),2)","v":0},{"$f":"'Labor Summary (Office)'!B1437","v":0},null,"",null,null,{"$f":"IF(COUNTIF($L$32:L77,L77)=1,K76+1,K76)","v":1},"","","","","","","",{"$f":"SUMIF($L$32:L127,R77,$M$32:$M$81)","v":0},"","","","","","PE"]
[47,null,null,{"$f":"IF('Labor Summary (Office)'!A1468=0,\"\",'Labor Summary (Office)'!A1468)","v":""},{"$f":"ROUND(IF('WA Financial Status Summary'!$E$25=\"\",'Summary of Total Amt Invoiced'!AH61,'Summary of Total Amt Invoiced'!AH61+('Summary of Total Amt Invoiced'!AH61*('WA Financial Status Summary'!$E$25/'Summary of Total Amt Invoiced'!$AH$65))),2)","v":0},{"$f":"'Labor Summary (Office)'!B1468","v":0},null,"",null,null,{"$f":"IF(COUNTIF($L$32:L78,L78)=1,K77+1,K77)","v":1},"","","","","","","",{"$f":"SUMIF($L$32:L128,R78,$M$32:$M$81)","v":0},"","","","","","PE"]
[48,null,null,{"$f":"IF('Labor Summary (Office)'!A1499=0,\"\",'Labor Summary (Office)'!A1499)","v":""},{"$f":"ROUND(IF('WA Financial Status Summary'!$E$25=\"\",'Summary of Total Amt Invoiced'!AH62,'Summary of Total Amt Invoiced'!AH62+('Summary of Total Amt Invoiced'!AH62*('WA Financial Status Summary'!$E$25/'Summary of Total Amt Invoiced'!$AH$65))),2)","v":0},{"$f":"'Labor Summary (Office)'!B1499","v":0},null,"",null,null,{"$f":"IF(COUNTIF($L$32:L79,L79)=1,K78+1,K78)","v":1},"","","","","","","",{"$f":"SUMIF($L$32:L129,R79,$M$32:$M$81)","v":0},"","","","","","PE"]
[49,null,null,{"$f":"IF('Labor Summary (Office)'!A1530=0,\"\",'Labor Summary (Office)'!A1530)","v":""},{"$f":"ROUND(IF('WA Financial Status Summary'!$E$25=\"\",'Summary of Total Amt Invoiced'!AH63,'Summary of Total Amt Invoiced'!AH63+('Summary of Total Amt Invoiced'!AH63*('WA Financial Status Summary'!$E$25/'Summary of Total Amt Invoiced'!$AH$65))),2)","v":0},{"$f":"'Labor Summary (Office)'!B1530","v":0},null,"",null,null,{"$f":"IF(COUNTIF($L$32:L80,L80)=1,K79+1,K79)","v":1},"","","","","","","",{"$f":"SUMIF($L$32:L130,R80,$M$32:$M$81)","v":0},"","","","","","PE"]
[50,null,null,{"$f":"IF('Labor Summary (Office)'!A1561=0,\"\",'Labor Summary (Office)'!A1561)","v":""},{"$f":"ROUND(IF('WA Financial Status Summary'!$E$25=\"\",'Summary of Total Amt Invoiced'!AH64,'Summary of Total Amt Invoiced'!AH64+('Summary of Total Amt Invoiced'!AH64*('WA Financial Status Summary'!$E$25/'Summary of Total Amt Invoiced'!$AH$65))),2)","v":0},{"$f":"'Labor Summary (Office)'!B1561","v":0},null,"",null,null,{"$f":"IF(COUNTIF($L$32:L81,L81)=1,K80+1,K80)","v":1},"","","","",{"$f":"IF(N81=\"\",\"\",IF(N81=\"130\",13020,13035))","v":""},"","",{"$f":"SUMIF($L$32:L131,R81,$M$32:$M$81)","v":0},"","","","","","PE"]
[null,null,null,"Fixed Fee Adjustment (included in adjusted values above):",{"$f":"'WA Financial Status Summary'!E25","v":0}]
[null,null,null,"Total:",{"$f":"ROUND(SUM(E32:E81),2)","v":0}]
[null,"\"\"","\"\"","\"\"","\"\"","\"\"","\"\"","\"\""]
[null,null,null,null,"Highway Maintenance Detail"]
["Line #","Task/Work Order","County","System","Highway #",null,"Suffix","Class"]
[1]
[2]
[3]
[4]
[5]
[6]
[7]
[8]
[9]
[10]
[11]
[12]
[13]
[14]
[15]
[16]
[17]
[18]
[19]
[20]
[21]
[22]
[23]
[24]
[25]
[26]
[27]
[28]
[29]
[30]
[31]
[32]
[33]
[34]
[35]
[36]
[37]
[38]
[39]
[40]
[41]
[42]
[43]
[44]
[45]
[46]
[47]
[48]
[49]
[50]

{"sheet":"Signature Authority","index":4,"n_rows":39,"n_cols":10,"rows_kept":39,"cut":false,"hidden":false,"merged":[[18,0,18,3],[35,1,35,6],[21,0,21,6],[37,0,37,6],[25,1,25,6],[30,1,30,6],[33,0,33,6],[26,1,26,6],[28,1,28,6],[27,1,27,6],[29,1,29,6],[36,1,36,6],[38,1,38,6],[10,0,10,3],[8,0,8,1],[24,0,24,2],[24,5,24,6],[23,0,23,2],[23,5,23,6],[22,0,22,6],[20,0,20,6],[19,0,19,6],[15,0,15,1],[16,0,16,1],[34,1,34,6],[32,0,32,6],[17,0,17,1],[15,4,15,6],[1,4,1,5],[10,5,10,6],[2,4,2,5],[2,6,2,7],[7,0,7,1],[9,0,9,1],[9,2,9,6],[29,8,30,9],[11,0,11,6],[5,0,5,6],[6,2,6,6],[7,2,7,6],[8,2,8,6],[6,0,6,1],[13,0,13,1],[14,0,14,1],[12,0,12,1],[14,4,14,6],[13,4,13,6],[12,4,12,6],[16,4,16,6],[17,4,17,6],[18,4,18,6]]}
[null,null,null,null,null,"Provider Invoice No.  ",{"$f":"Invoice!G1","v":0}]
[null,null,null,null,"Combined Invoice Template Log No.  ",null,{"$f":"Invoice!G2","v":0},null,null,"Monthly Submittal Cell"]
[null,null,null,null,null,null,null,null,"Instructions","Click link to see instructions for this tab"]
[]
[]
["SIGNATURE AUTHORITY PAGE "]
["Legacy Contract No.",null,{"$f":"Invoice!F7","v":0}]
["Legacy WA No.",null,{"$f":"Invoice!F10","v":0}]
["Provider Name:  ",null,{"$f":"Invoice!C7","v":0}]
["Provider ID No. ",null,{"$f":"Invoice!C8","v":0}]
[]
["COMBINED INVOICE SUMMARY \n(Populate Supplementary Template information 2-5 below if using multiple invoice templates to complete this invoice)"]
["Combined Invoice Templates",null,"Invoice Template Log No.","Reason for Combined Invoice Template Package","Invoice Template Amount",null,null,null,"Supplementary  Invoice Template"]
["Primary Invoice Template ",null,1,"Primary Invoice Template",{"$f":"Invoice!E83","v":0},null,null,null,"Supplementary Invoice to Previous Billing"]
["Supplementary Invoice Template ",null,2,null,null,null,null,null,"Add 'l Pmt Method-Lump Sum"]
["Supplementary Invoice Template ",null,3,null,null,null,null,null,"Add 'l Pmt Method-Specified Rate"]
["Supplementary Invoice Template ",null,4,null,null,null,null,null,"Add 'l Pmt Method-Unit Cost"]
["Supplementary Invoice Template ",null,5,null,null,null,null,null,"Add 'l Pmt Method-Cost Plus Fixed Fee"]
["TOTAL COMBINED INVOICE AMOUNT",null,null,null,{"$f":"SUM(E14:G18)","v":0},null,null,null,"Add 'l Template - Adjustment"]
["PROVIDER USE ONLY",null,null,null,null,null,null,null,"Add 'l Template - Add 'l Line Items Necessary"]
["I am duly authorized to certify this invoice on behalf of the above named provider.  I further certify that the claim is correct and is not duplicated on any paid or pending invoice."]
["PROMPT PAYMENT VERIFICATION"]
["I certify that all subproviders, except for any listed on the attached Prompt Payment (PP) Certification form (if applicable) have been paid according to PP law according to the Articles of the contract (within 10 days of receipt of payment) for the billing period indicated below.   I understand that the state will  perform a periodic verification of PP by requesting supporting documentation such as cancelled checks or electronic bank transfers to support PP. (If any subproviders were not paid in accordance with PP, then a completed PP form shall be attached.)"]
["Provider Invoice No. for PP Verification",null,null,"Date Provider Received Payment MM/DD/YY\n(for PP Verification)","Begin Service Date\nMM/DD/YY\n(for PP Verification)","End Service Date\nMM/DD/YY\n(for PP Verification)"]
[]
["Provider Authorized Signature"]
["Name"]
["Title"]
["Phone # "]
["Email",null,null,null,null,null,null,null,"This date must be the same date that the invoice is emailed to the PEPS Invoice Center for processing. Verify correct date is auto populated on the Invoice tab - Cell D4."]
["Provider Invoice Date"]
[]
["TxDOT USE ONLY"]
["Reviewed By: "]
["Reviewer Signature\nTitle\nDate"]
["Reviewer Signature\nTitle\nDate"]
["Reviewer Signature\nTitle\nDate"]
["Approved By:"]
["Approver Signature\nTitle\nDate"]

{"sheet":"WA Financial Status Summary","index":5,"n_rows":308,"n_cols":8,"rows_kept":308,"cut":false,"hidden":false,"merged":[[10,0,10,3],[11,0,11,3],[12,0,12,3],[14,0,14,3],[15,0,15,3],[13,0,13,3],[2,0,2,4],[3,0,3,4],[4,0,4,4],[9,0,9,4],[6,1,6,2],[7,1,7,2],[5,0,5,4],[39,3,39,4],[40,3,40,4],[41,3,41,4],[27,3,27,4],[21,5,22,9],[16,0,16,4],[27,0,27,2],[17,0,17,3],[26,0,26,4],[21,0,21,3],[22,0,22,3],[23,0,23,3],[18,0,18,3],[20,0,20,3],[19,0,19,1],[24,0,24,3],[44,0,44,2],[49,0,49,2],[59,0,59,2],[60,0,60,2],[61,0,61,2],[47,3,47,4],[48,3,48,4],[49,3,49,4],[50,3,50,4],[36,0,36,2],[36,3,36,4],[42,3,42,4],[43,3,43,4],[44,3,44,4],[45,3,45,4],[46,3,46,4],[50,0,50,2],[45,0,45,2],[46,0,46,2],[47,0,47,2],[48,0,48,2],[32,0,32,1],[28,0,28,2],[29,0,29,1],[30,0,30,1],[38,3,38,4],[35,3,35,4],[37,3,37,4],[38,0,38,2],[34,0,34,2],[35,0,35,2],[37,0,37,2],[34,3,34,4],[28,3,28,4],[29,3,29,4],[30,3,30,4],[32,3,32,4],[31,0,31,2],[33,0,33,2],[31,3,31,4],[33,3,33,4],[61,3,61,4],[39,0,39,2],[40,0,40,2],[41,0,41,2],[42,0,42,2],[43,0,43,2],[51,0,51,2],[56,3,56,4],[57,3,57,4],[58,3,58,4],[53,0,53,2],[54,0,54,2],[63,0,63,2],[64,0,64,2],[64,3,64,4],[62,3,62,4],[63,3,63,4],[62,0,62,2],[59,3,59,4],[60,3,60,4],[51,3,51,4],[52,3,52,4],[55,0,55,2],[56,0,56,2],[57,0,57,2],[58,0,58,2],[52,0,52,2],[53,3,53,4],[54,3,54,4],[55,3,55,4]]}
[null,null,null,"Provider Invoice No.  ",{"$f":"Invoice!G1","v":0}]
[null,null,null,"Combined Invoice Template Log No.  ",{"$f":"Invoice!G2","v":0},null,null,"Monthly Submittal Cell"]
[null,null,null,null,null,null,"Instructions","Click link to see instructions for this tab"]
["WORK AUTHORIZATION "]
["FINANCIAL STATUS SUMMARY"]
["Cost Plus Fixed Fee Payment Method"]
[{"$f":"Invoice!A7","v":"Provider Name:  "},{"$f":"Invoice!C7","v":0},null,{"$f":"Invoice!E7","v":"Legacy Contract No.  "},{"$f":"Invoice!F7","v":0}]
[{"$f":"Invoice!A8","v":"Provider ID No.  "},{"$f":"Invoice!C8","v":0},null,{"$f":"Invoice!E10","v":"Legacy WA No."},{"$f":"Invoice!F10","v":0}]
[]
["Work Authorization Financial Summary"]
["WA Authorized Amount",null,null,null,{"$f":"Invoice!F11","v":0}]
["Previous Invoiced Amount"]
["Amount of this Invoice",null,null,null,{"$f":"D65","v":0}]
["Total Combined Invoice Amount",null,null,null,{"$f":"'Signature Authority'!E19","v":0}]
["Total Invoiced to Date (including this any supplemental invoices, if applicable).",null,null,null,{"$f":"E14+E12","v":0}]
["Balance Remaining",null,null,null,{"$f":"SUM(E11-E15)","v":0}]
["Fixed Fee Summary (Applicable to Prime Only)"]
["Fixed Fee (FF) Authorized Amount (for this WA or SD contract without WA)"]
["Previous Fixed Fee Invoiced "]
["FF Balance Remaining (prior to this invoice)",null,"% of FF available =",{"$f":"IF(E18=\"\",\"\",1-((E18-E20)/E18))","v":""},{"$f":"ROUND((E18-E19),2)","v":0}]
[]
["Amount of FF for this Invoice",null,null,null,{"$f":"D33","v":0},{"$f":"IF(OR(C33=\"\",C33=0),\"\",IF($D$33<=$E$20,\"\",\"FF amount calculated exceeds remaining balance; FF is capped at the amount shown in Cell E20. Adjust value utilizing Cell E25 (Fixed Fee Adjustment).\"))","v":""}]
["Total FF Invoiced to Date (Including this invoice)",null,null,null,{"$f":"ROUND((E19+E22),2)","v":0}]
["Fixed Fee Balance Remaining",null,null,null,{"$f":"IF(E18-E23<0,\"GUARANTEED FIXED FEE EXCEEDED\",E18-E23)","v":0}]
["Fixed Fee Adjustment (if applicable; documentation required)  "]
[]
["Invoice Summary"]
["Total Labor (Office)",null,null,{"$f":"'Labor Summary (Office)'!H1562","v":0}]
["Total Labor (Field)",null,null,{"$f":"'Labor Summary (Field)'!H1562","v":0}]
["Indirect Cost Rate (Office)",null,null,{"$f":"ROUND(D28*C30,2)","v":0}]
["Indirect Cost Rate  (Field)",null,null,{"$f":"ROUND(D29*C31,2)","v":0}]
["Prime Provider Labor Subtotal",null,null,{"$f":"ROUND(SUM(D28:E31),2)","v":0}]
["Fixed Fee (FF) Percentage \n(Includes \"Fixed Fee Adjustment\")\n(Applies to prime labor only. See Instructions)",null,null,{"$f":"ROUND(SUM(('Labor Summary (Office)'!I1563+'Labor Summary (Field)'!I1563-D32),E25),2)","v":0}]
["Prime Provider Labor + FF Subtotal",null,null,{"$f":"ROUND(SUM(D32:E33),2)","v":0}]
["Total Other Direct Expenses",null,null,{"$f":"ROUND(ODE!H1562,2)","v":0}]
["Total Travel Expenses",null,null,{"$f":"ROUND('Summary of Total Amt Invoiced'!E65,2)","v":0}]
["Total FCCM",null,null,{"$f":"ROUND('Summary of Total Amt Invoiced'!F65,2)","v":0}]
["Prime Provider Labor + FF + ODE + TE + FCCM Subtotal",null,null,{"$f":"ROUND(SUM(D34:E37),2)","v":0}]
["Subprovider Name",null,null,"Subprovider Amount"]
[null,null,null,{"$f":"'Summary of Total Amt Invoiced'!I$65","v":0},null,"Subprovider Amounts must entered on Summary of Total Amt Invoice TAB"]
[null,null,null,{"$f":"'Summary of Total Amt Invoiced'!J$65","v":0}]
[null,null,null,{"$f":"'Summary of Total Amt Invoiced'!K$65","v":0}]
[null,null,null,{"$f":"'Summary of Total Amt Invoiced'!L$65","v":0}]
[null,null,null,{"$f":"'Summary of Total Amt Invoiced'!M$65","v":0}]
[null,null,null,{"$f":"'Summary of Total Amt Invoiced'!N$65","v":0}]
[null,null,null,{"$f":"'Summary of Total Amt Invoiced'!O$65","v":0}]
[null,null,null,{"$f":"'Summary of Total Amt Invoiced'!P$65","v":0}]
[null,null,null,{"$f":"'Summary of Total Amt Invoiced'!Q$65","v":0}]
[null,null,null,{"$f":"'Summary of Total Amt Invoiced'!R$65","v":0}]
[null,null,null,{"$f":"'Summary of Total Amt Invoiced'!S$65","v":0}]
[null,null,null,{"$f":"'Summary of Total Amt Invoiced'!T$65","v":0}]
[null,null,null,{"$f":"'Summary of Total Amt Invoiced'!U$65","v":0}]
[null,null,null,{"$f":"'Summary of Total Amt Invoiced'!V$65","v":0}]
[null,null,null,{"$f":"'Summary of Total Amt Invoiced'!W$65","v":0}]
[null,null,null,{"$f":"'Summary of Total Amt Invoiced'!X$65","v":0}]
[null,null,null,{"$f":"'Summary of Total Amt Invoiced'!Y$65","v":0}]
[null,null,null,{"$f":"'Summary of Total Amt Invoiced'!Z$65","v":0}]
[null,null,null,{"$f":"'Summary of Total Amt Invoiced'!AA$65","v":0}]
[null,null,null,{"$f":"'Summary of Total Amt Invoiced'!AB$65","v":0}]
[null,null,null,{"$f":"'Summary of Total Amt Invoiced'!AC$65","v":0}]
[null,null,null,{"$f":"'Summary of Total Amt Invoiced'!AD$65","v":0}]
[null,null,null,{"$f":"'Summary of Total Amt Invoiced'!AE$65","v":0}]
[null,null,null,{"$f":"'Summary of Total Amt Invoiced'!AF$65","v":0}]
[null,null,null,{"$f":"'Summary of Total Amt Invoiced'!AG$65","v":0}]
["Total Invoice Amount:",null,null,{"$f":"ROUND((SUM(D40:E64)+D38),2)","v":0}]
[]
[]
[]
[]
[]
[]
[]
[]
[]
[]
[]
[]
[]
[]
[]
[]
[]
[]
[]
[]
[]
[]
[]
[]
[]
[]
[]
[]
[]
[]
[]
[]
[]
[]
[]
[]
[]
[]
[]
[]
[]
[]
[]
[]
[]
[]
[]
[]
[]
[]
[]
[]
[]
[]
[]
[]
[]
[]
[]
[]
[]
[]
[]
[]
[]
[]
[]
[]
[]
[]
[]
[]
[]
[]
[]
[]
[]
[]
[]
[]
[]
[]
[]
[]
[]
[]
[]
[]
[]
[]
[]
[]
[]
[]
[]
[]
[]
[]
[]
[]
[]
[]
[]
[]
[]
[]
[]
[]
[]
[]
[]
[]
[]
[]
[]
[]
[]
[]
[]
[]
[]
[]
[]
[]
[]
[]
[]
[]
[]
[]
[]
[]
[]
[]
[]
[]
[]
[]
[]
[]
[]
[]
[]
[]
[]
[]
[]
[]
[]
[]
[]
[]
[]
[]
[]
[]
[]
[]
[]
[]
[]
[]
[]
[]
[]
[]
[]
[]
[]
[]
[]
[]
[]
[]
[]
[]
[]
[]
[]
[]
[]
[]
[]
[]
[]
[]
[]
[]
[]
[]
[]
[]
[]
[]
[]
[]
[]
[]
[]
[]
[]
[]
[]
[]
[]
[]
[]
[]
[]
[]
[]
[]
[]
[]
[]
[]
[]
[]
[]
[]
[]
[]
[]
[]
[]
[]
[]
[]
[]
[]
[]
[]
[]
[]
[]
[]
[]
[]
[]
[]
[]
[]
[{"$f":"'Summary of Total Amt Invoiced'!AH65","v":0}]

{"sheet":"Summary of Total Amt Invoiced","index":6,"n_rows":65,"n_cols":34,"rows_kept":65,"cut":false,"hidden":false,"merged":[[7,0,7,7],[6,0,6,7],[12,0,12,7],[12,8,12,33],[11,0,11,1],[10,0,10,1],[8,0,8,1],[9,0,9,1],[8,2,8,7],[9,2,9,7],[10,2,10,7],[11,2,11,7]]}
[null,null,null,null,null,null,null,null,null,null,"Monthly Submittal Cell"]
[null,null,null,null,null,null,null,null,null,"Instructions","Click link to see instructions for this tab"]
[null,null,null,null,null,null,"Provider Invoice No.  ",{"$f":"Invoice!G1","v":0}]
[null,null,null,null,null,null,"Combined Invoice Template Log No.  ",{"$f":"Invoice!G2","v":0}]
[]
[]
["SUMMARY OF TOTAL AMOUNT INVOICED"]
["COST PLUS FIXED FEE PAYMENT METHOD"]
["Legacy Contract No.  ",null,{"$f":"Invoice!F7","v":0}]
["Legacy WA No. ",null,{"$f":"Invoice!F10","v":0}]
["Provider Name:  ",null,{"$f":"Invoice!C7","v":0}]
["Provider ID No.  ",null,{"$f":"Invoice!C8","v":0}]
["Project CSJ or Detail No.) and Source (Legacy /FC) must all match same Project and Source (Per subtotal line number) for Labor Summary (Office), Labor Summary (Field), Provider ODE and Travel Expense (TE) Summary).",null,null,null,null,null,null,null,"Subprovider List - Billing (subprover acronym populated from list in WA Financial Status Summary)  \nEnter the amount billed for the particular subprovider by Source (CSJ/Detail) and Source (Legacy FC) for the line number that corresponds to the type of services provided by the subprovder during this billing cycle."]
["Line No.","Provider Labor\n(Office)","Provider Labor\n(Field)","Provider ODE","TE Summary","FCCM","Project \n(CSJ/Detail)","Source \n(Legacy FC)",{"$f":"'WA Financial Status Summary'!$A40","v":0},{"$f":"'WA Financial Status Summary'!$A41","v":0},{"$f":"'WA Financial Status Summary'!$A42","v":0},{"$f":"'WA Financial Status Summary'!$A43","v":0},{"$f":"'WA Financial Status Summary'!$A44","v":0},{"$f":"'WA Financial Status Summary'!$A45","v":0},{"$f":"'WA Financial Status Summary'!$A46","v":0},{"$f":"'WA Financial Status Summary'!$A47","v":0},{"$f":"'WA Financial Status Summary'!$A48","v":0},{"$f":"'WA Financial Status Summary'!$A49","v":0},{"$f":"'WA Financial Status Summary'!$A50","v":0},{"$f":"'WA Financial Status Summary'!$A51","v":0},{"$f":"'WA Financial Status Summary'!$A52","v":0},{"$f":"'WA Financial Status Summary'!$A53","v":0},{"$f":"'WA Financial Status Summary'!$A54","v":0},{"$f":"'WA Financial Status Summary'!$A55","v":0},{"$f":"'WA Financial Status Summary'!$A56","v":0},{"$f":"'WA Financial Status Summary'!$A57","v":0},{"$f":"'WA Financial Status Summary'!$A58","v":0},{"$f":"'WA Financial Status Summary'!$A59","v":0},{"$f":"'WA Financial Status Summary'!$A60","v":0},{"$f":"'WA Financial Status Summary'!$A61","v":0},{"$f":"'WA Financial Status Summary'!$A62","v":0},{"$f":"'WA Financial Status Summary'!$A63","v":0},{"$f":"'WA Financial Status Summary'!$A64","v":0},"Total Amount"]
[1,{"$f":"ROUND('Labor Summary (Office)'!I42,2)","v":0},{"$f":"ROUND('Labor Summary (Field)'!I42,2)","v":0},{"$f":"ROUND(ODE!H42,2)","v":0},{"$f":"ROUND('TE Summary'!T44,2)","v":0},null,{"$f":"IF('Labor Summary (Office)'!A42=0,\"\",'Labor Summary (Office)'!A42)","v":""},{"$f":"OFFSET('Labor Summary (Office)'!B$42,ROWS(H$15:H15)*31-31,0)","v":0},null,null,null,null,null,null,null,null,null,null,null,null,null,null,null,null,null,null,null,null,null,null,null,null,null,{"$f":"ROUND((SUM(B15+C15+D15+E15+F15)+SUM(I15:AG15)),2)","v":0}]
[2,{"$f":"ROUND('Labor Summary (Office)'!I73,2)","v":0},{"$f":"ROUND('Labor Summary (Field)'!I73,2)","v":0},{"$f":"ROUND(ODE!H73,2)","v":0},{"$f":"ROUND('TE Summary'!T75,2)","v":0},null,{"$f":"IF('Labor Summary (Office)'!A73=0,\"\",'Labor Summary (Office)'!A73)","v":""},{"$f":"OFFSET('Labor Summary (Office)'!B$42,ROWS(H$15:H16)*31-31,0)","v":0},null,null,null,null,null,null,null,null,null,null,null,null,null,null,null,null,null,null,null,null,null,null,null,null,null,{"$f":"ROUND((SUM(B16+C16+D16+E16+F16)+SUM(I16:AG16)),2)","v":0}]
[3,{"$f":"ROUND('Labor Summary (Office)'!I104,2)","v":0},{"$f":"ROUND('Labor Summary (Field)'!I104,2)","v":0},{"$f":"ROUND(ODE!H104,2)","v":0},{"$f":"ROUND('TE Summary'!T106,2)","v":0},null,{"$f":"IF('Labor Summary (Office)'!A104=0,\"\",'Labor Summary (Office)'!A104)","v":""},{"$f":"OFFSET('Labor Summary (Office)'!B$42,ROWS(H$15:H17)*31-31,0)","v":0},null,null,null,null,null,null,null,null,null,null,null,null,null,null,null,null,null,null,null,null,null,null,null,null,null,0]
[4,{"$f":"ROUND('Labor Summary (Office)'!I135,2)","v":0},{"$f":"ROUND('Labor Summary (Field)'!I135,2)","v":0},{"$f":"ROUND(ODE!H135,2)","v":0},{"$f":"ROUND('TE Summary'!T137,2)","v":0},null,{"$f":"IF('Labor Summary (Office)'!A135=0,\"\",'Labor Summary (Office)'!A135)","v":""},{"$f":"OFFSET('Labor Summary (Office)'!B$42,ROWS(H$15:H18)*31-31,0)","v":0},null,null,null,null,null,null,null,null,null,null,null,null,null,null,null,null,null,null,null,null,null,null,null,null,null,0]
[5,{"$f":"ROUND('Labor Summary (Office)'!I166,2)","v":0},{"$f":"ROUND('Labor Summary (Field)'!I166,2)","v":0},{"$f":"ROUND(ODE!H166,2)","v":0},{"$f":"ROUND('TE Summary'!T168,2)","v":0},null,{"$f":"IF('Labor Summary (Office)'!A166=0,\"\",'Labor Summary (Office)'!A166)","v":""},{"$f":"OFFSET('Labor Summary (Office)'!B$42,ROWS(H$15:H19)*31-31,0)","v":0},null,null,null,null,null,null,null,null,null,null,null,null,null,null,null,null,null,null,null,null,null,null,null,null,null,0]
[6,{"$f":"ROUND('Labor Summary (Office)'!I197,2)","v":0},{"$f":"ROUND('Labor Summary (Field)'!I197,2)","v":0},{"$f":"ROUND(ODE!H197,2)","v":0},{"$f":"ROUND('TE Summary'!T199,2)","v":0},null,{"$f":"IF('Labor Summary (Office)'!A197=0,\"\",'Labor Summary (Office)'!A197)","v":""},{"$f":"OFFSET('Labor Summary (Office)'!B$42,ROWS(H$15:H20)*31-31,0)","v":0},null,null,null,null,null,null,null,null,null,null,null,null,null,null,null,null,null,null,null,null,null,null,null,null,null,0]
[7,{"$f":"ROUND('Labor Summary (Office)'!I228,2)","v":0},{"$f":"ROUND('Labor Summary (Field)'!I228,2)","v":0},{"$f":"ROUND(ODE!H228,2)","v":0},{"$f":"ROUND('TE Summary'!T230,2)","v":0},null,{"$f":"IF('Labor Summary (Office)'!A228=0,\"\",'Labor Summary (Office)'!A228)","v":""},{"$f":"OFFSET('Labor Summary (Office)'!B$42,ROWS(H$15:H21)*31-31,0)","v":0},null,null,null,null,null,null,null,null,null,null,null,null,null,null,null,null,null,null,null,null,null,null,null,null,null,0]
[8,{"$f":"ROUND('Labor Summary (Office)'!I259,2)","v":0},{"$f":"ROUND('Labor Summary (Field)'!I259,2)","v":0},{"$f":"ROUND(ODE!H259,2)","v":0},{"$f":"ROUND('TE Summary'!T261,2)","v":0},null,{"$f":"IF('Labor Summary (Office)'!A259=0,\"\",'Labor Summary (Office)'!A259)","v":""},{"$f":"OFFSET('Labor Summary (Office)'!B$42,ROWS(H$15:H22)*31-31,0)","v":0},null,null,null,null,null,null,null,null,null,null,null,null,null,null,null,null,null,null,null,null,null,null,null,null,null,0]
[9,{"$f":"ROUND('Labor Summary (Office)'!I290,2)","v":0},{"$f":"ROUND('Labor Summary (Field)'!I290,2)","v":0},{"$f":"ROUND(ODE!H290,2)","v":0},{"$f":"ROUND('TE Summary'!T292,2)","v":0},null,{"$f":"IF('Labor Summary (Office)'!A290=0,\"\",'Labor Summary (Office)'!A290)","v":""},{"$f":"OFFSET('Labor Summary (Office)'!B$42,ROWS(H$15:H23)*31-31,0)","v":0},null,null,null,null,null,null,null,null,null,null,null,null,null,null,null,null,null,null,null,null,null,null,null,null,null,0]
[10,{"$f":"ROUND('Labor Summary (Office)'!I321,2)","v":0},{"$f":"ROUND('Labor Summary (Field)'!I321,2)","v":0},{"$f":"ROUND(ODE!H321,2)","v":0},{"$f":"ROUND('TE Summary'!T323,2)","v":0},null,{"$f":"IF('Labor Summary (Office)'!A321=0,\"\",'Labor Summary (Office)'!A321)","v":""},{"$f":"OFFSET('Labor Summary (Office)'!B$42,ROWS(H$15:H24)*31-31,0)","v":0},null,null,null,null,null,null,null,null,null,null,null,null,null,null,null,null,null,null,null,null,null,null,null,null,null,0]
[11,{"$f":"ROUND('Labor Summary (Office)'!I352,2)","v":0},{"$f":"ROUND('Labor Summary (Field)'!I352,2)","v":0},{"$f":"ROUND(ODE!H352,2)","v":0},{"$f":"ROUND('TE Summary'!T354,2)","v":0},null,{"$f":"IF('Labor Summary (Office)'!A352=0,\"\",'Labor Summary (Office)'!A352)","v":""},{"$f":"OFFSET('Labor Summary (Office)'!B$42,ROWS(H$15:H25)*31-31,0)","v":0},null,null,null,null,null,null,null,null,null,null,null,null,null,null,null,null,null,null,null,null,null,null,null,null,null,0]
[12,{"$f":"ROUND('Labor Summary (Office)'!I383,2)","v":0},{"$f":"ROUND('Labor Summary (Field)'!I383,2)","v":0},{"$f":"ROUND(ODE!H383,2)","v":0},{"$f":"ROUND('TE Summary'!T385,2)","v":0},null,{"$f":"IF('Labor Summary (Office)'!A383=0,\"\",'Labor Summary (Office)'!A383)","v":""},{"$f":"OFFSET('Labor Summary (Office)'!B$42,ROWS(H$15:H26)*31-31,0)","v":0},null,null,null,null,null,null,null,null,null,null,null,null,null,null,null,null,null,null,null,null,null,null,null,null,null,0]
[13,{"$f":"ROUND('Labor Summary (Office)'!I414,2)","v":0},{"$f":"ROUND('Labor Summary (Field)'!I414,2)","v":0},{"$f":"ROUND(ODE!H414,2)","v":0},{"$f":"ROUND('TE Summary'!T416,2)","v":0},null,{"$f":"IF('Labor Summary (Office)'!A414=0,\"\",'Labor Summary (Office)'!A414)","v":""},{"$f":"OFFSET('Labor Summary (Office)'!B$42,ROWS(H$15:H27)*31-31,0)","v":0},null,null,null,null,null,null,null,null,null,null,null,null,null,null,null,null,null,null,null,null,null,null,null,null,null,0]
[14,{"$f":"ROUND('Labor Summary (Office)'!I445,2)","v":0},{"$f":"ROUND('Labor Summary (Field)'!I445,2)","v":0},{"$f":"ROUND(ODE!H445,2)","v":0},{"$f":"ROUND('TE Summary'!T447,2)","v":0},null,{"$f":"IF('Labor Summary (Office)'!A445=0,\"\",'Labor Summary (Office)'!A445)","v":""},{"$f":"OFFSET('Labor Summary (Office)'!B$42,ROWS(H$15:H28)*31-31,0)","v":0},null,null,null,null,null,null,null,null,null,null,null,null,null,null,null,null,null,null,null,null,null,null,null,null,null,0]
[15,{"$f":"ROUND('Labor Summary (Office)'!I476,2)","v":0},{"$f":"ROUND('Labor Summary (Field)'!I476,2)","v":0},{"$f":"ROUND(ODE!H476,2)","v":0},{"$f":"ROUND('TE Summary'!T478,2)","v":0},null,{"$f":"IF('Labor Summary (Office)'!A476=0,\"\",'Labor Summary (Office)'!A476)","v":""},{"$f":"OFFSET('Labor Summary (Office)'!B$42,ROWS(H$15:H29)*31-31,0)","v":0},null,null,null,null,null,null,null,null,null,null,null,null,null,null,null,null,null,null,null,null,null,null,null,null,null,0]
[16,{"$f":"ROUND('Labor Summary (Office)'!I507,2)","v":0},{"$f":"ROUND('Labor Summary (Field)'!I507,2)","v":0},{"$f":"ROUND(ODE!H507,2)","v":0},{"$f":"ROUND('TE Summary'!T509,2)","v":0},null,{"$f":"IF('Labor Summary (Office)'!A507=0,\"\",'Labor Summary (Office)'!A507)","v":""},{"$f":"OFFSET('Labor Summary (Office)'!B$42,ROWS(H$15:H30)*31-31,0)","v":0},null,null,null,null,null,null,null,null,null,null,null,null,null,null,null,null,null,null,null,null,null,null,null,null,null,0]
[17,{"$f":"ROUND('Labor Summary (Office)'!I538,2)","v":0},{"$f":"ROUND('Labor Summary (Field)'!I538,2)","v":0},{"$f":"ROUND(ODE!H538,2)","v":0},{"$f":"ROUND('TE Summary'!T540,2)","v":0},null,{"$f":"IF('Labor Summary (Office)'!A538=0,\"\",'Labor Summary (Office)'!A538)","v":""},{"$f":"OFFSET('Labor Summary (Office)'!B$42,ROWS(H$15:H31)*31-31,0)","v":0},null,null,null,null,null,null,null,null,null,null,null,null,null,null,null,null,null,null,null,null,null,null,null,null,null,0]
[18,{"$f":"ROUND('Labor Summary (Office)'!I569,2)","v":0},{"$f":"ROUND('Labor Summary (Field)'!I569,2)","v":0},{"$f":"ROUND(ODE!H569,2)","v":0},{"$f":"ROUND('TE Summary'!T571,2)","v":0},null,{"$f":"IF('Labor Summary (Office)'!A569=0,\"\",'Labor Summary (Office)'!A569)","v":""},{"$f":"OFFSET('Labor Summary (Office)'!B$42,ROWS(H$15:H32)*31-31,0)","v":0},null,null,null,null,null,null,null,null,null,null,null,null,null,null,null,null,null,null,null,null,null,null,null,null,null,0]
[19,{"$f":"ROUND('Labor Summary (Office)'!I600,2)","v":0},{"$f":"ROUND('Labor Summary (Field)'!I600,2)","v":0},{"$f":"ROUND(ODE!H600,2)","v":0},{"$f":"ROUND('TE Summary'!T602,2)","v":0},null,{"$f":"IF('Labor Summary (Office)'!A600=0,\"\",'Labor Summary (Office)'!A600)","v":""},{"$f":"OFFSET('Labor Summary (Office)'!B$42,ROWS(H$15:H33)*31-31,0)","v":0},null,null,null,null,null,null,null,null,null,null,null,null,null,null,null,null,null,null,null,null,null,null,null,null,null,0]
[20,{"$f":"ROUND('Labor Summary (Office)'!I631,2)","v":0},{"$f":"ROUND('Labor Summary (Field)'!I631,2)","v":0},{"$f":"ROUND(ODE!H631,2)","v":0},{"$f":"ROUND('TE Summary'!T633,2)","v":0},null,{"$f":"IF('Labor Summary (Office)'!A631=0,\"\",'Labor Summary (Office)'!A631)","v":""},{"$f":"OFFSET('Labor Summary (Office)'!B$42,ROWS(H$15:H34)*31-31,0)","v":0},null,null,null,null,null,null,null,null,null,null,null,null,null,null,null,null,null,null,null,null,null,null,null,null,null,0]
[21,{"$f":"ROUND('Labor Summary (Office)'!I662,2)","v":0},{"$f":"ROUND('Labor Summary (Field)'!I662,2)","v":0},{"$f":"ROUND(ODE!H662,2)","v":0},{"$f":"ROUND('TE Summary'!T664,2)","v":0},null,{"$f":"IF('Labor Summary (Office)'!A662=0,\"\",'Labor Summary (Office)'!A662)","v":""},{"$f":"OFFSET('Labor Summary (Office)'!B$42,ROWS(H$15:H35)*31-31,0)","v":0},null,null,null,null,null,null,null,null,null,null,null,null,null,null,null,null,null,null,null,null,null,null,null,null,null,0]
[22,{"$f":"ROUND('Labor Summary (Office)'!I693,2)","v":0},{"$f":"ROUND('Labor Summary (Field)'!I693,2)","v":0},{"$f":"ROUND(ODE!H693,2)","v":0},{"$f":"ROUND('TE Summary'!T695,2)","v":0},null,{"$f":"IF('Labor Summary (Office)'!A693=0,\"\",'Labor Summary (Office)'!A693)","v":""},{"$f":"OFFSET('Labor Summary (Office)'!B$42,ROWS(H$15:H36)*31-31,0)","v":0},null,null,null,null,null,null,null,null,null,null,null,null,null,null,null,null,null,null,null,null,null,null,null,null,null,0]
[23,{"$f":"ROUND('Labor Summary (Office)'!I724,2)","v":0},{"$f":"ROUND('Labor Summary (Field)'!I724,2)","v":0},{"$f":"ROUND(ODE!H724,2)","v":0},{"$f":"ROUND('TE Summary'!T726,2)","v":0},null,{"$f":"IF('Labor Summary (Office)'!A724=0,\"\",'Labor Summary (Office)'!A724)","v":""},{"$f":"OFFSET('Labor Summary (Office)'!B$42,ROWS(H$15:H37)*31-31,0)","v":0},null,null,null,null,null,null,null,null,null,null,null,null,null,null,null,null,null,null,null,null,null,null,null,null,null,0]
[24,{"$f":"ROUND('Labor Summary (Office)'!I755,2)","v":0},{"$f":"ROUND('Labor Summary (Field)'!I755,2)","v":0},{"$f":"ROUND(ODE!H755,2)","v":0},{"$f":"ROUND('TE Summary'!T757,2)","v":0},null,{"$f":"IF('Labor Summary (Office)'!A755=0,\"\",'Labor Summary (Office)'!A755)","v":""},{"$f":"OFFSET('Labor Summary (Office)'!B$42,ROWS(H$15:H38)*31-31,0)","v":0},null,null,null,null,null,null,null,null,null,null,null,null,null,null,null,null,null,null,null,null,null,null,null,null,null,0]
[25,{"$f":"ROUND('Labor Summary (Office)'!I786,2)","v":0},{"$f":"ROUND('Labor Summary (Field)'!I786,2)","v":0},{"$f":"ROUND(ODE!H786,2)","v":0},{"$f":"ROUND('TE Summary'!T788,2)","v":0},null,{"$f":"IF('Labor Summary (Office)'!A786=0,\"\",'Labor Summary (Office)'!A786)","v":""},{"$f":"OFFSET('Labor Summary (Office)'!B$42,ROWS(H$15:H39)*31-31,0)","v":0},null,null,null,null,null,null,null,null,null,null,null,null,null,null,null,null,null,null,null,null,null,null,null,null,null,0]
[26,{"$f":"ROUND('Labor Summary (Office)'!I817,2)","v":0},{"$f":"ROUND('Labor Summary (Field)'!I817,2)","v":0},{"$f":"ROUND(ODE!H817,2)","v":0},{"$f":"ROUND('TE Summary'!T819,2)","v":0},null,{"$f":"IF('Labor Summary (Office)'!A817=0,\"\",'Labor Summary (Office)'!A817)","v":""},{"$f":"OFFSET('Labor Summary (Office)'!B$42,ROWS(H$15:H40)*31-31,0)","v":0},null,null,null,null,null,null,null,null,null,null,null,null,null,null,null,null,null,null,null,null,null,null,null,null,null,0]
[27,{"$f":"ROUND('Labor Summary (Office)'!I848,2)","v":0},{"$f":"ROUND('Labor Summary (Field)'!I848,2)","v":0},{"$f":"ROUND(ODE!H848,2)","v":0},{"$f":"ROUND('TE Summary'!T850,2)","v":0},null,{"$f":"IF('Labor Summary (Office)'!A848=0,\"\",'Labor Summary (Office)'!A848)","v":""},{"$f":"OFFSET('Labor Summary (Office)'!B$42,ROWS(H$15:H41)*31-31,0)","v":0},null,null,null,null,null,null,null,null,null,null,null,null,null,null,null,null,null,null,null,null,null,null,null,null,null,0]
[28,{"$f":"ROUND('Labor Summary (Office)'!I879,2)","v":0},{"$f":"ROUND('Labor Summary (Field)'!I879,2)","v":0},{"$f":"ROUND(ODE!H879,2)","v":0},{"$f":"ROUND('TE Summary'!T881,2)","v":0},null,{"$f":"IF('Labor Summary (Office)'!A879=0,\"\",'Labor Summary (Office)'!A879)","v":""},{"$f":"OFFSET('Labor Summary (Office)'!B$42,ROWS(H$15:H42)*31-31,0)","v":0},null,null,null,null,null,null,null,null,null,null,null,null,null,null,null,null,null,null,null,null,null,null,null,null,null,0]
[29,{"$f":"ROUND('Labor Summary (Office)'!I910,2)","v":0},{"$f":"ROUND('Labor Summary (Field)'!I910,2)","v":0},{"$f":"ROUND(ODE!H910,2)","v":0},{"$f":"ROUND('TE Summary'!T912,2)","v":0},null,{"$f":"IF('Labor Summary (Office)'!A910=0,\"\",'Labor Summary (Office)'!A910)","v":""},{"$f":"OFFSET('Labor Summary (Office)'!B$42,ROWS(H$15:H43)*31-31,0)","v":0},null,null,null,null,null,null,null,null,null,null,null,null,null,null,null,null,null,null,null,null,null,null,null,null,null,0]
[30,{"$f":"ROUND('Labor Summary (Office)'!I941,2)","v":0},{"$f":"ROUND('Labor Summary (Field)'!I941,2)","v":0},{"$f":"ROUND(ODE!H941,2)","v":0},{"$f":"ROUND('TE Summary'!T943,2)","v":0},null,{"$f":"IF('Labor Summary (Office)'!A941=0,\"\",'Labor Summary (Office)'!A941)","v":""},{"$f":"OFFSET('Labor Summary (Office)'!B$42,ROWS(H$15:H44)*31-31,0)","v":0},null,null,null,null,null,null,null,null,null,null,null,null,null,null,null,null,null,null,null,null,null,null,null,null,null,0]
[31,{"$f":"ROUND('Labor Summary (Office)'!I972,2)","v":0},{"$f":"ROUND('Labor Summary (Field)'!I972,2)","v":0},{"$f":"ROUND(ODE!H972,2)","v":0},{"$f":"ROUND('TE Summary'!T974,2)","v":0},null,{"$f":"IF('Labor Summary (Office)'!A972=0,\"\",'Labor Summary (Office)'!A972)","v":""},{"$f":"OFFSET('Labor Summary (Office)'!B$42,ROWS(H$15:H45)*31-31,0)","v":0},null,null,null,null,null,null,null,null,null,null,null,null,null,null,null,null,null,null,null,null,null,null,null,null,null,0]
[32,{"$f":"ROUND('Labor Summary (Office)'!I1003,2)","v":0},{"$f":"ROUND('Labor Summary (Field)'!I1003,2)","v":0},{"$f":"ROUND(ODE!H1003,2)","v":0},{"$f":"ROUND('TE Summary'!T1005,2)","v":0},null,{"$f":"IF('Labor Summary (Office)'!A1003=0,\"\",'Labor Summary (Office)'!A1003)","v":""},{"$f":"OFFSET('Labor Summary (Office)'!B$42,ROWS(H$15:H46)*31-31,0)","v":0},null,null,null,null,null,null,null,null,null,null,null,null,null,null,null,null,null,null,null,null,null,null,null,null,null,0]
[33,{"$f":"ROUND('Labor Summary (Office)'!I1034,2)","v":0},{"$f":"ROUND('Labor Summary (Field)'!I1034,2)","v":0},{"$f":"ROUND(ODE!H1034,2)","v":0},{"$f":"ROUND('TE Summary'!T1036,2)","v":0},null,{"$f":"IF('Labor Summary (Office)'!A1034=0,\"\",'Labor Summary (Office)'!A1034)","v":""},{"$f":"OFFSET('Labor Summary (Office)'!B$42,ROWS(H$15:H47)*31-31,0)","v":0},null,null,null,null,null,null,null,null,null,null,null,null,null,null,null,null,null,null,null,null,null,null,null,null,null,0]
[34,{"$f":"ROUND('Labor Summary (Office)'!I1065,2)","v":0},{"$f":"ROUND('Labor Summary (Field)'!I1065,2)","v":0},{"$f":"ROUND(ODE!H1065,2)","v":0},{"$f":"ROUND('TE Summary'!T1067,2)","v":0},null,{"$f":"IF('Labor Summary (Office)'!A1065=0,\"\",'Labor Summary (Office)'!A1065)","v":""},{"$f":"OFFSET('Labor Summary (Office)'!B$42,ROWS(H$15:H48)*31-31,0)","v":0},null,null,null,null,null,null,null,null,null,null,null,null,null,null,null,null,null,null,null,null,null,null,null,null,null,0]
[35,{"$f":"ROUND('Labor Summary (Office)'!I1096,2)","v":0},{"$f":"ROUND('Labor Summary (Field)'!I1096,2)","v":0},{"$f":"ROUND(ODE!H1096,2)","v":0},{"$f":"ROUND('TE Summary'!T1098,2)","v":0},null,{"$f":"IF('Labor Summary (Office)'!A1096=0,\"\",'Labor Summary (Office)'!A1096)","v":""},{"$f":"OFFSET('Labor Summary (Office)'!B$42,ROWS(H$15:H49)*31-31,0)","v":0},null,null,null,null,null,null,null,null,null,null,null,null,null,null,null,null,null,null,null,null,null,null,null,null,null,0]
[36,{"$f":"ROUND('Labor Summary (Office)'!I1127,2)","v":0},{"$f":"ROUND('Labor Summary (Field)'!I1127,2)","v":0},{"$f":"ROUND(ODE!H1127,2)","v":0},{"$f":"ROUND('TE Summary'!T1129,2)","v":0},null,{"$f":"IF('Labor Summary (Office)'!A1127=0,\"\",'Labor Summary (Office)'!A1127)","v":""},{"$f":"OFFSET('Labor Summary (Office)'!B$42,ROWS(H$15:H50)*31-31,0)","v":0},null,null,null,null,null,null,null,null,null,null,null,null,null,null,null,null,null,null,null,null,null,null,null,null,null,0]
[37,{"$f":"ROUND('Labor Summary (Office)'!I1158,2)","v":0},{"$f":"ROUND('Labor Summary (Field)'!I1158,2)","v":0},{"$f":"ROUND(ODE!H1158,2)","v":0},{"$f":"ROUND('TE Summary'!T1160,2)","v":0},null,{"$f":"IF('Labor Summary (Office)'!A1158=0,\"\",'Labor Summary (Office)'!A1158)","v":""},{"$f":"OFFSET('Labor Summary (Office)'!B$42,ROWS(H$15:H51)*31-31,0)","v":0},null,null,null,null,null,null,null,null,null,null,null,null,null,null,null,null,null,null,null,null,null,null,null,null,null,0]
[38,{"$f":"ROUND('Labor Summary (Office)'!I1189,2)","v":0},{"$f":"ROUND('Labor Summary (Field)'!I1189,2)","v":0},{"$f":"ROUND(ODE!H1189,2)","v":0},{"$f":"ROUND('TE Summary'!T1191,2)","v":0},null,{"$f":"IF('Labor Summary (Office)'!A1189=0,\"\",'Labor Summary (Office)'!A1189)","v":""},{"$f":"OFFSET('Labor Summary (Office)'!B$42,ROWS(H$15:H52)*31-31,0)","v":0},null,null,null,null,null,null,null,null,null,null,null,null,null,null,null,null,null,null,null,null,null,null,null,null,null,0]
[39,{"$f":"ROUND('Labor Summary (Office)'!I1220,2)","v":0},{"$f":"ROUND('Labor Summary (Field)'!I1220,2)","v":0},{"$f":"ROUND(ODE!H1220,2)","v":0},{"$f":"ROUND('TE Summary'!T1222,2)","v":0},null,{"$f":"IF('Labor Summary (Office)'!A1220=0,\"\",'Labor Summary (Office)'!A1220)","v":""},{"$f":"OFFSET('Labor Summary (Office)'!B$42,ROWS(H$15:H53)*31-31,0)","v":0},null,null,null,null,null,null,null,null,null,null,null,null,null,null,null,null,null,null,null,null,null,null,null,null,null,0]
[40,{"$f":"ROUND('Labor Summary (Office)'!I1251,2)","v":0},{"$f":"ROUND('Labor Summary (Field)'!I1251,2)","v":0},{"$f":"ROUND(ODE!H1251,2)","v":0},{"$f":"ROUND('TE Summary'!T1253,2)","v":0},null,{"$f":"IF('Labor Summary (Office)'!A1251=0,\"\",'Labor Summary (Office)'!A1251)","v":""},{"$f":"OFFSET('Labor Summary (Office)'!B$42,ROWS(H$15:H54)*31-31,0)","v":0},null,null,null,null,null,null,null,null,null,null,null,null,null,null,null,null,null,null,null,null,null,null,null,null,null,0]
[41,{"$f":"ROUND('Labor Summary (Office)'!I1282,2)","v":0},{"$f":"ROUND('Labor Summary (Field)'!I1282,2)","v":0},{"$f":"ROUND(ODE!H1282,2)","v":0},{"$f":"ROUND('TE Summary'!T1284,2)","v":0},null,{"$f":"IF('Labor Summary (Office)'!A1282=0,\"\",'Labor Summary (Office)'!A1282)","v":""},{"$f":"OFFSET('Labor Summary (Office)'!B$42,ROWS(H$15:H55)*31-31,0)","v":0},null,null,null,null,null,null,null,null,null,null,null,null,null,null,null,null,null,null,null,null,null,null,null,null,null,0]
[42,{"$f":"ROUND('Labor Summary (Office)'!I1313,2)","v":0},{"$f":"ROUND('Labor Summary (Field)'!I1313,2)","v":0},{"$f":"ROUND(ODE!H1313,2)","v":0},{"$f":"ROUND('TE Summary'!T1315,2)","v":0},null,{"$f":"IF('Labor Summary (Office)'!A1313=0,\"\",'Labor Summary (Office)'!A1313)","v":""},{"$f":"OFFSET('Labor Summary (Office)'!B$42,ROWS(H$15:H56)*31-31,0)","v":0},null,null,null,null,null,null,null,null,null,null,null,null,null,null,null,null,null,null,null,null,null,null,null,null,null,0]
[43,{"$f":"ROUND('Labor Summary (Office)'!I1344,2)","v":0},{"$f":"ROUND('Labor Summary (Field)'!I1344,2)","v":0},{"$f":"ROUND(ODE!H1344,2)","v":0},{"$f":"ROUND('TE Summary'!T1346,2)","v":0},null,{"$f":"IF('Labor Summary (Office)'!A1344=0,\"\",'Labor Summary (Office)'!A1344)","v":""},{"$f":"OFFSET('Labor Summary (Office)'!B$42,ROWS(H$15:H57)*31-31,0)","v":0},null,null,null,null,null,null,null,null,null,null,null,null,null,null,null,null,null,null,null,null,null,null,null,null,null,0]
[44,{"$f":"ROUND('Labor Summary (Office)'!I1375,2)","v":0},{"$f":"ROUND('Labor Summary (Field)'!I1375,2)","v":0},{"$f":"ROUND(ODE!H1375,2)","v":0},{"$f":"ROUND('TE Summary'!T1377,2)","v":0},null,{"$f":"IF('Labor Summary (Office)'!A1375=0,\"\",'Labor Summary (Office)'!A1375)","v":""},{"$f":"OFFSET('Labor Summary (Office)'!B$42,ROWS(H$15:H58)*31-31,0)","v":0},null,null,null,null,null,null,null,null,null,null,null,null,null,null,null,null,null,null,null,null,null,null,null,null,null,0]
[45,{"$f":"ROUND('Labor Summary (Office)'!I1406,2)","v":0},{"$f":"ROUND('Labor Summary (Field)'!I1406,2)","v":0},{"$f":"ROUND(ODE!H1406,2)","v":0},{"$f":"ROUND('TE Summary'!T1408,2)","v":0},null,{"$f":"IF('Labor Summary (Office)'!A1406=0,\"\",'Labor Summary (Office)'!A1406)","v":""},{"$f":"OFFSET('Labor Summary (Office)'!B$42,ROWS(H$15:H59)*31-31,0)","v":0},null,null,null,null,null,null,null,null,null,null,null,null,null,null,null,null,null,null,null,null,null,null,null,null,null,0]
[46,{"$f":"ROUND('Labor Summary (Office)'!I1437,2)","v":0},{"$f":"ROUND('Labor Summary (Field)'!I1437,2)","v":0},{"$f":"ROUND(ODE!H1437,2)","v":0},{"$f":"ROUND('TE Summary'!T1439,2)","v":0},null,{"$f":"IF('Labor Summary (Office)'!A1437=0,\"\",'Labor Summary (Office)'!A1437)","v":""},{"$f":"OFFSET('Labor Summary (Office)'!B$42,ROWS(H$15:H60)*31-31,0)","v":0},null,null,null,null,null,null,null,null,null,null,null,null,null,null,null,null,null,null,null,null,null,null,null,null,null,0]
[47,{"$f":"ROUND('Labor Summary (Office)'!I1468,2)","v":0},{"$f":"ROUND('Labor Summary (Field)'!I1468,2)","v":0},{"$f":"ROUND(ODE!H1468,2)","v":0},{"$f":"ROUND('TE Summary'!T1470,2)","v":0},null,{"$f":"IF('Labor Summary (Office)'!A1468=0,\"\",'Labor Summary (Office)'!A1468)","v":""},{"$f":"OFFSET('Labor Summary (Office)'!B$42,ROWS(H$15:H61)*31-31,0)","v":0},null,null,null,null,null,null,null,null,null,null,null,null,null,null,null,null,null,null,null,null,null,null,null,null,null,0]
[48,{"$f":"ROUND('Labor Summary (Office)'!I1499,2)","v":0},{"$f":"ROUND('Labor Summary (Field)'!I1499,2)","v":0},{"$f":"ROUND(ODE!H1499,2)","v":0},{"$f":"ROUND('TE Summary'!T1501,2)","v":0},null,{"$f":"IF('Labor Summary (Office)'!A1499=0,\"\",'Labor Summary (Office)'!A1499)","v":""},{"$f":"OFFSET('Labor Summary (Office)'!B$42,ROWS(H$15:H62)*31-31,0)","v":0},null,null,null,null,null,null,null,null,null,null,null,null,null,null,null,null,null,null,null,null,null,null,null,null,null,0]
[49,{"$f":"ROUND('Labor Summary (Office)'!I1530,2)","v":0},{"$f":"ROUND('Labor Summary (Field)'!I1530,2)","v":0},{"$f":"ROUND(ODE!H1530,2)","v":0},{"$f":"ROUND('TE Summary'!T1532,2)","v":0},null,{"$f":"IF('Labor Summary (Office)'!A1530=0,\"\",'Labor Summary (Office)'!A1530)","v":""},{"$f":"OFFSET('Labor Summary (Office)'!B$42,ROWS(H$15:H63)*31-31,0)","v":0},null,null,null,null,null,null,null,null,null,null,null,null,null,null,null,null,null,null,null,null,null,null,null,null,null,0]
[50,{"$f":"ROUND('Labor Summary (Office)'!I1561,2)","v":0},{"$f":"ROUND('Labor Summary (Field)'!I1561,2)","v":0},{"$f":"ROUND(ODE!H1561,2)","v":0},{"$f":"ROUND('TE Summary'!T1563,2)","v":0},null,{"$f":"IF('Labor Summary (Office)'!A1561=0,\"\",'Labor Summary (Office)'!A1561)","v":""},{"$f":"OFFSET('Labor Summary (Office)'!B$42,ROWS(H$15:H64)*31-31,0)","v":0},null,null,null,null,null,null,null,null,null,null,null,null,null,null,null,null,null,null,null,null,null,null,null,null,null,0]
["Totals",{"$f":"SUM(B15:B64)","v":0},0,{"$f":"SUM(D15:D64)","v":0},{"$f":"SUM(E15:E64)","v":0},{"$f":"SUM(F15:F64)","v":0},"Total",null,{"$f":"SUM(I15:I64)","v":0},0,0,{"$f":"SUM(L15:L64)","v":0},0,0,0,0,0,0,0,0,0,0,0,0,0,0,0,0,0,0,0,0,0,{"$f":"ROUND(SUM(AH15:AH64),2)","v":0}]

{"sheet":"Labor Summary (Office)","index":7,"n_rows":1563,"n_cols":12,"rows_kept":1563,"cut":false,"hidden":false,"merged":[[41,5,41,6],[72,5,72,6],[103,5,103,6],[5,0,5,8],[7,0,7,1],[6,4,6,5],[7,4,7,5],[7,2,7,3],[9,0,9,8],[7,6,7,8],[2,0,2,8],[3,0,3,8],[4,0,4,8],[6,6,6,8],[6,0,6,1],[6,2,6,3],[1312,5,1312,6],[1436,5,1436,6],[1405,5,1405,6],[1374,5,1374,6],[1343,5,1343,6],[1281,5,1281,6],[1064,5,1064,6],[1095,5,1095,6],[1250,5,1250,6],[1126,5,1126,6],[1157,5,1157,6],[1188,5,1188,6],[1219,5,1219,6],[909,5,909,6],[940,5,940,6],[971,5,971,6],[1002,5,1002,6],[1033,5,1033,6],[506,5,506,6],[537,5,537,6],[568,5,568,6],[599,5,599,6],[878,5,878,6],[630,5,630,6],[661,5,661,6],[692,5,692,6],[723,5,723,6],[754,5,754,6],[785,5,785,6],[816,5,816,6],[847,5,847,6],[1467,5,1467,6],[1529,5,1529,6],[1560,5,1560,6],[1498,5,1498,6],[134,5,134,6],[165,5,165,6],[196,5,196,6],[227,5,227,6],[258,5,258,6],[289,5,289,6],[320,5,320,6],[351,5,351,6],[382,5,382,6],[413,5,413,6],[444,5,444,6],[475,5,475,6]]}
[null,null,null,null,null,null,null,"Provider Invoice No.  ",{"$f":"Invoice!G1","v":0},null,null,"Monthly Submittal Cell"]
[null,null,null,null,null,null,null,"Combined Invoice Template Log No.  ",{"$f":"Invoice!G2","v":0},null,"Instructions","Click link to see instructions for this tab"]
[]
[]
["LABOR SUMMARY (OFFICE)"]
["Cost Plus Fixed Fee Payment Method"]
[{"$f":"Invoice!A7","v":"Provider Name:  "},null,{"$f":"Invoice!C7","v":0},null,{"$f":"Invoice!E7","v":"Legacy Contract No.  "},null,{"$f":"Invoice!F7","v":0}]
[{"$f":"Invoice!A8","v":"Provider ID No.  "},null,{"$f":"Invoice!C8","v":0},null,{"$f":"Invoice!E10","v":"Legacy WA No."},null,{"$f":"Invoice!F10","v":0}]
[]
["Labor Breakdown (Office):"]
["Project CSJ/Detail No.","Source (FC)","Emp Name\n(Acronym)","Employee Staffing Category (Acronym)","No. of Hours","Actual Hourly Rate","Total Direct Labor","Total Labor by FC","Total Labor Including OH & FF by FC"]
[{"$f":"A$42","v":0},{"$f":"B$42","v":0},null,null,null,null,{"$f":"IFERROR(ROUND(E12*K12,2),\"\")","v":""},null,null,{"$f":"IF(D12=\"\",\"\",VLOOKUP(D12,Staffing_Table,2,FALSE))","v":""},{"$f":"IF(F12<J12,F12,J12)","v":""}]
[{"$f":"A$42","v":0},0,null,null,null,null,"",null,null,"",{"$f":"IF(F13<J13,F13,J13)","v":""}]
[0,0,null,null,null,null,"",null,null,"",""]
[0,0,null,null,null,null,"",null,null,"",""]
[0,0,null,null,null,null,"",null,null,"",""]
[0,0,null,null,null,null,"",null,null,"",""]
[0,0,null,null,null,null,"",null,null,"",""]
[0,0,null,null,null,null,"",null,null,"",""]
[0,0,null,null,null,null,"",null,null,"",""]
[0,0,null,null,null,null,"",null,null,"",""]
[0,0,null,null,null,null,"",null,null,"",""]
[0,0,null,null,null,null,"",null,null,"",""]
[0,0,null,null,null,null,"",null,null,"",""]
[0,0,null,null,null,null,"",null,null,"",""]
[0,0,null,null,null,null,"",null,null,"",""]
[{"$f":"A$42","v":0},{"$f":"B$42","v":0},null,null,null,null,"",null,null,"",""]
[0,0,null,null,null,null,"",null,null,"",""]
[{"$f":"A$42","v":0},0,null,null,null,null,"",null,null,"",""]
[0,0,null,null,null,null,"",null,null,"",""]
[0,0,null,null,null,null,"",null,null,"",""]
[0,0,null,null,null,null,"",null,null,"",""]
[0,0,null,null,null,null,"",null,null,"",""]
[0,0,null,null,null,null,"",null,null,"",""]
[0,0,null,null,null,null,"",null,null,"",""]
[0,0,null,null,null,null,"",null,null,"",""]
[0,0,null,null,null,null,"",null,null,"",""]
[0,0,null,null,null,null,"",null,null,"",""]
[0,0,null,null,null,null,"",null,null,"",""]
[0,0,null,null,null,null,"",null,null,"",""]
[0,0,null,null,null,null,"",null,null,"",""]
[null,null,null,{"$f":"IF(A42=0,\"\",A42)","v":""},null,"Subtotal Line 1",null,{"$f":"ROUND(SUM(G12:G41),2)","v":0},{"$f":"(H42+ROUND((H42*'WA Financial Status Summary'!$C$30),2))*ROUND((1+'WA Financial Status Summary'!$C$33),4)","v":0}]
[{"$f":"A$73","v":0},{"$f":"B$73","v":0},null,null,null,null,"",null,null,{"$f":"IF(D43=\"\",\"\",VLOOKUP(D43,Staffing_Table,2,FALSE))","v":""},""]
[{"$f":"A$73","v":0},0,null,null,null,null,"",null,null,"",""]
[0,0,null,null,null,null,"",null,null,"",""]
[0,0,null,null,null,null,"",null,null,"",""]
[0,0,null,null,null,null,"",null,null,"",""]
[0,0,null,null,null,null,"",null,null,"",""]
[0,0,null,null,null,null,"",null,null,"",""]
[0,0,null,null,null,null,"",null,null,"",""]
[0,0,null,null,null,null,"",null,null,"",""]
[0,0,null,null,null,null,"",null,null,"",""]
[0,0,null,null,null,null,"",null,null,"",""]
[0,0,null,null,null,null,"",null,null,"",""]
[0,0,null,null,null,null,"",null,null,"",""]
[0,0,null,null,null,null,"",null,null,"",""]
[0,0,null,null,null,null,"",null,null,"",""]
[{"$f":"A$73","v":0},{"$f":"B$73","v":0},null,null,null,null,"",null,null,"",""]
[0,0,null,null,null,null,"",null,null,"",""]
[{"$f":"A$73","v":0},0,null,null,null,null,"",null,null,"",""]
[0,0,null,null,null,null,"",null,null,"",""]
[0,0,null,null,null,null,"",null,null,"",""]
[0,0,null,null,null,null,"",null,null,"",""]
[0,0,null,null,null,null,"",null,null,"",""]
[0,0,null,null,null,null,"",null,null,"",""]
[0,0,null,null,null,null,"",null,null,"",""]
[0,0,null,null,null,null,"",null,null,"",""]
[0,0,null,null,null,null,"",null,null,"",""]
[0,0,null,null,null,null,"",null,null,"",""]
[0,0,null,null,null,null,"",null,null,"",""]
[0,0,null,null,null,null,"",null,null,"",""]
[0,0,null,null,null,null,"",null,null,"",""]
[null,null,null,{"$f":"IF(A73=0,\"\",A73)","v":""},null,"Subtotal Line 2",null,{"$f":"ROUND(SUM(G43:G72),2)","v":0},{"$f":"(H73+ROUND((H73*'WA Financial Status Summary'!$C$30),2))*ROUND((1+'WA Financial Status Summary'!$C$33),4)","v":0}]
[{"$f":"A$104","v":0},{"$f":"B$104","v":0},null,null,null,null,{"$f":"IFERROR(ROUND(E74*K74,2),\"\")","v":""},null,null,{"$f":"IF(D74=\"\",\"\",VLOOKUP(D74,Staffing_Table,2,FALSE))","v":""},""]
[{"$f":"A$104","v":0},0,null,null,null,null,{"$f":"IFERROR(ROUND(E75*K75,2),\"\")","v":""},null,null,"",""]
[0,0,null,null,null,null,"",null,null,"",""]
[0,0,null,null,null,null,"",null,null,"",{"$f":"IF(F77<J77,F77,J77)","v":""}]
[0,0,null,null,null,null,"",null,null,"",""]
[0,0,null,null,null,null,"",null,null,"",""]
[0,0,null,null,null,null,"",null,null,"",""]
[0,0,null,null,null,null,"",null,null,"",""]
[0,0,null,null,null,null,"",null,null,"",""]
[0,0,null,null,null,null,"",null,null,"",""]
[0,0,null,null,null,null,"",null,null,"",""]
[0,0,null,null,null,null,"",null,null,"",""]
[0,0,null,null,null,null,"",null,null,"",""]
[0,0,null,null,null,null,"",null,null,"",""]
[0,0,null,null,null,null,"",null,null,"",""]
[{"$f":"A$104","v":0},{"$f":"B$104","v":0},null,null,null,null,"",null,null,"",""]
[0,0,null,null,null,null,"",null,null,"",""]
[{"$f":"A$104","v":0},0,null,null,null,null,"",null,null,"",""]
[0,0,null,null,null,null,"",null,null,"",""]
[0,0,null,null,null,null,"",null,null,"",""]
[0,0,null,null,null,null,"",null,null,"",""]
[0,0,null,null,null,null,"",null,null,"",""]
[0,0,null,null,null,null,"",null,null,"",""]
[0,0,null,null,null,null,"",null,null,"",""]
[0,0,null,null,null,null,"",null,null,"",""]
[0,0,null,null,null,null,"",null,null,"",""]
[0,0,null,null,null,null,"",null,null,"",""]
[0,0,null,null,null,null,"",null,null,"",""]
[0,0,null,null,null,null,"",null,null,"",""]
[0,0,null,null,null,null,"",null,null,"",""]
[null,null,null,{"$f":"IF(A104=0,\"\",A104)","v":""},null,"Subtotal Line 3",null,{"$f":"ROUND(SUM(G74:G103),2)","v":0},{"$f":"(H104+ROUND((H104*'WA Financial Status Summary'!$C$30),2))*ROUND((1+'WA Financial Status Summary'!$C$33),4)","v":0}]
[{"$f":"A$135","v":0},{"$f":"B$135","v":0},null,null,null,null,{"$f":"IFERROR(ROUND(E105*K105,2),\"\")","v":""},null,null,{"$f":"IF(D105=\"\",\"\",VLOOKUP(D105,Staffing_Table,2,FALSE))","v":""},""]
[{"$f":"A$135","v":0},0,null,null,null,null,{"$f":"IFERROR(ROUND(E106*K106,2),\"\")","v":""},null,null,"",""]
[0,0,null,null,null,null,"",null,null,"",""]
[0,0,null,null,null,null,"",null,null,"",""]
[0,0,null,null,null,null,"",null,null,"",""]
[0,0,null,null,null,null,"",null,null,"",""]
[0,0,null,null,null,null,"",null,null,"",""]
[0,0,null,null,null,null,"",null,null,"",""]
[0,0,null,null,null,null,"",null,null,"",""]
[0,0,null,null,null,null,"",null,null,"",""]
[0,0,null,null,null,null,"",null,null,"",""]
[0,0,null,null,null,null,"",null,null,"",""]
[0,0,null,null,null,null,"",null,null,"",""]
[0,0,null,null,null,null,"",null,null,"",""]
[0,0,null,null,null,null,"",null,null,"",""]
[{"$f":"A$135","v":0},{"$f":"B$135","v":0},null,null,null,null,"",null,null,"",""]
[0,0,null,null,null,null,"",null,null,"",""]
[{"$f":"A$135","v":0},0,null,null,null,null,"",null,null,"",""]
[0,0,null,null,null,null,"",null,null,"",""]
[0,0,null,null,null,null,"",null,null,"",""]
[0,0,null,null,null,null,"",null,null,"",""]
[0,0,null,null,null,null,"",null,null,"",""]
[0,0,null,null,null,null,"",null,null,"",""]
[0,0,null,null,null,null,"",null,null,"",""]
[0,0,null,null,null,null,"",null,null,"",""]
[0,0,null,null,null,null,"",null,null,"",""]
[0,0,null,null,null,null,"",null,null,"",""]
[0,0,null,null,null,null,"",null,null,"",""]
[0,0,null,null,null,null,"",null,null,"",""]
[0,0,null,null,null,null,"",null,null,"",""]
[null,null,null,{"$f":"IF(A135=0,\"\",A135)","v":""},null,"Subtotal Line 4",null,{"$f":"ROUND(SUM(G105:G134),2)","v":0},{"$f":"(H135+ROUND((H135*'WA Financial Status Summary'!$C$30),2))*ROUND((1+'WA Financial Status Summary'!$C$33),4)","v":0}]
[{"$f":"A$166","v":0},{"$f":"B$166","v":0},null,null,null,null,{"$f":"IFERROR(ROUND(E136*K136,2),\"\")","v":""},null,null,{"$f":"IF(D136=\"\",\"\",VLOOKUP(D136,Staffing_Table,2,FALSE))","v":""},""]
[{"$f":"A$166","v":0},0,null,null,null,null,{"$f":"IFERROR(ROUND(E137*K137,2),\"\")","v":""},null,null,"",""]
[0,0,null,null,null,null,"",null,null,"",""]
[0,0,null,null,null,null,"",null,null,"",""]
[0,0,null,null,null,null,"",null,null,"",""]
[0,0,null,null,null,null,"",null,null,"",{"$f":"IF(F141<J141,F141,J141)","v":""}]
[0,0,null,null,null,null,"",null,null,"",""]
[0,0,null,null,null,null,"",null,null,"",""]
[0,0,null,null,null,null,"",null,null,"",""]
[0,0,null,null,null,null,"",null,null,"",""]
[0,0,null,null,null,null,"",null,null,"",""]
[0,0,null,null,null,null,"",null,null,"",""]
[0,0,null,null,null,null,"",null,null,"",""]
[0,0,null,null,null,null,"",null,null,"",""]
[0,0,null,null,null,null,"",null,null,"",""]
[{"$f":"A$166","v":0},{"$f":"B$166","v":0},null,null,null,null,"",null,null,"",""]
[0,0,null,null,null,null,"",null,null,"",""]
[{"$f":"A$166","v":0},0,null,null,null,null,"",null,null,"",""]
[0,0,null,null,null,null,"",null,null,"",""]
[0,0,null,null,null,null,"",null,null,"",""]
[0,0,null,null,null,null,"",null,null,"",""]
[0,0,null,null,null,null,"",null,null,"",""]
[0,0,null,null,null,null,"",null,null,"",""]
[0,0,null,null,null,null,"",null,null,"",""]
[0,0,null,null,null,null,"",null,null,"",""]
[0,0,null,null,null,null,"",null,null,"",""]
[0,0,null,null,null,null,"",null,null,"",""]
[0,0,null,null,null,null,"",null,null,"",""]
[0,0,null,null,null,null,"",null,null,"",""]
[0,0,null,null,null,null,"",null,null,"",""]
[null,null,null,{"$f":"IF(A166=0,\"\",A166)","v":""},null,"Subtotal Line 5",null,{"$f":"ROUND(SUM(G136:G165),2)","v":0},{"$f":"(H166+ROUND((H166*'WA Financial Status Summary'!$C$30),2))*ROUND((1+'WA Financial Status Summary'!$C$33),4)","v":0}]
[{"$f":"A$197","v":0},{"$f":"B$197","v":0},null,null,null,null,{"$f":"IFERROR(ROUND(E167*K167,2),\"\")","v":""},null,null,{"$f":"IF(D167=\"\",\"\",VLOOKUP(D167,Staffing_Table,2,FALSE))","v":""},""]
[{"$f":"A$197","v":0},0,null,null,null,null,{"$f":"IFERROR(ROUND(E168*K168,2),\"\")","v":""},null,null,"",""]
[0,0,null,null,null,null,"",null,null,"",""]
[0,0,null,null,null,null,"",null,null,"",""]
[0,0,null,null,null,null,"",null,null,"",""]
[0,0,null,null,null,null,"",null,null,"",""]
[0,0,null,null,null,null,"",null,null,"",""]
[0,0,null,null,null,null,"",null,null,"",""]
[0,0,null,null,null,null,"",null,null,"",""]
[0,0,null,null,null,null,"",null,null,"",""]
[0,0,null,null,null,null,"",null,null,"",""]
[0,0,null,null,null,null,"",null,null,"",""]
[0,0,null,null,null,null,"",null,null,"",""]
[0,0,null,null,null,null,"",null,null,"",""]
[0,0,null,null,null,null,"",null,null,"",""]
[{"$f":"A$197","v":0},{"$f":"B$197","v":0},null,null,null,null,"",null,null,"",""]
[0,0,null,null,null,null,"",null,null,"",""]
[{"$f":"A$197","v":0},0,null,null,null,null,"",null,null,"",""]
[0,0,null,null,null,null,"",null,null,"",""]
[0,0,null,null,null,null,"",null,null,"",""]
[0,0,null,null,null,null,"",null,null,"",""]
[0,0,null,null,null,null,"",null,null,"",""]
[0,0,null,null,null,null,"",null,null,"",""]
[0,0,null,null,null,null,"",null,null,"",""]
[0,0,null,null,null,null,"",null,null,"",""]
[0,0,null,null,null,null,"",null,null,"",""]
[0,0,null,null,null,null,"",null,null,"",""]
[0,0,null,null,null,null,"",null,null,"",""]
[0,0,null,null,null,null,"",null,null,"",""]
[0,0,null,null,null,null,"",null,null,"",""]
[null,null,null,{"$f":"IF(A197=0,\"\",A197)","v":""},null,"Subtotal Line 6",null,{"$f":"ROUND(SUM(G167:G196),2)","v":0},{"$f":"(H197+ROUND((H197*'WA Financial Status Summary'!$C$30),2))*ROUND((1+'WA Financial Status Summary'!$C$33),4)","v":0}]
[{"$f":"A$228","v":0},{"$f":"B$228","v":0},null,null,null,null,{"$f":"IFERROR(ROUND(E198*K198,2),\"\")","v":""},null,null,{"$f":"IF(D198=\"\",\"\",VLOOKUP(D198,Staffing_Table,2,FALSE))","v":""},""]
[{"$f":"A$228","v":0},0,null,null,null,null,{"$f":"IFERROR(ROUND(E199*K199,2),\"\")","v":""},null,null,"",""]
[0,0,null,null,null,null,"",null,null,"",""]
[0,0,null,null,null,null,"",null,null,"",""]
[0,0,null,null,null,null,"",null,null,"",""]
[0,0,null,null,null,null,"",null,null,"",""]
[0,0,null,null,null,null,"",null,null,"",""]
[0,0,null,null,null,null,"",null,null,"",{"$f":"IF(F205<J205,F205,J205)","v":""}]
[0,0,null,null,null,null,"",null,null,"",""]
[0,0,null,null,null,null,"",null,null,"",""]
[0,0,null,null,null,null,"",null,null,"",""]
[0,0,null,null,null,null,"",null,null,"",""]
[0,0,null,null,null,null,"",null,null,"",""]
[0,0,null,null,null,null,"",null,null,"",""]
[0,0,null,null,null,null,"",null,null,"",""]
[{"$f":"A$228","v":0},{"$f":"B$228","v":0},null,null,null,null,"",null,null,"",""]
[0,0,null,null,null,null,"",null,null,"",""]
[{"$f":"A$228","v":0},0,null,null,null,null,"",null,null,"",""]
[0,0,null,null,null,null,"",null,null,"",""]
[0,0,null,null,null,null,"",null,null,"",""]
[0,0,null,null,null,null,"",null,null,"",""]
[0,0,null,null,null,null,"",null,null,"",""]
[0,0,null,null,null,null,"",null,null,"",""]
[0,0,null,null,null,null,"",null,null,"",""]
[0,0,null,null,null,null,"",null,null,"",""]
[0,0,null,null,null,null,"",null,null,"",""]
[0,0,null,null,null,null,"",null,null,"",""]
[0,0,null,null,null,null,"",null,null,"",""]
[0,0,null,null,null,null,"",null,null,"",""]
[0,0,null,null,null,null,"",null,null,"",""]
[null,null,null,{"$f":"IF(A228=0,\"\",A228)","v":""},null,"Subtotal Line 7",null,{"$f":"ROUND(SUM(G198:G227),2)","v":0},{"$f":"(H228+ROUND((H228*'WA Financial Status Summary'!$C$30),2))*ROUND((1+'WA Financial Status Summary'!$C$33),4)","v":0}]
[{"$f":"A$259","v":0},{"$f":"B$259","v":0},null,null,null,null,{"$f":"IFERROR(ROUND(E229*K229,2),\"\")","v":""},null,null,{"$f":"IF(D229=\"\",\"\",VLOOKUP(D229,Staffing_Table,2,FALSE))","v":""},""]
[{"$f":"A$259","v":0},0,null,null,null,null,{"$f":"IFERROR(ROUND(E230*K230,2),\"\")","v":""},null,null,"",""]
[0,0,null,null,null,null,"",null,null,"",""]
[0,0,null,null,null,null,"",null,null,"",""]
[0,0,null,null,null,null,"",null,null,"",""]
[0,0,null,null,null,null,"",null,null,"",""]
[0,0,null,null,null,null,"",null,null,"",""]
[0,0,null,null,null,null,"",null,null,"",""]
[0,0,null,null,null,null,"",null,null,"",""]
[0,0,null,null,null,null,"",null,null,"",""]
[0,0,null,null,null,null,"",null,null,"",""]
[0,0,null,null,null,null,"",null,null,"",""]
[0,0,null,null,null,null,"",null,null,"",""]
[0,0,null,null,null,null,"",null,null,"",""]
[0,0,null,null,null,null,"",null,null,"",""]
[{"$f":"A$259","v":0},{"$f":"B$259","v":0},null,null,null,null,"",null,null,"",""]
[0,0,null,null,null,null,"",null,null,"",""]
[{"$f":"A$259","v":0},0,null,null,null,null,"",null,null,"",""]
[0,0,null,null,null,null,"",null,null,"",""]
[0,0,null,null,null,null,"",null,null,"",""]
[0,0,null,null,null,null,"",null,null,"",""]
[0,0,null,null,null,null,"",null,null,"",""]
[0,0,null,null,null,null,"",null,null,"",""]
[0,0,null,null,null,null,"",null,null,"",""]
[0,0,null,null,null,null,"",null,null,"",""]
[0,0,null,null,null,null,"",null,null,"",""]
[0,0,null,null,null,null,"",null,null,"",""]
[0,0,null,null,null,null,"",null,null,"",""]
[0,0,null,null,null,null,"",null,null,"",""]
[0,0,null,null,null,null,"",null,null,"",""]
[null,null,null,{"$f":"IF(A259=0,\"\",A259)","v":""},null,"Subtotal Line 8",null,{"$f":"ROUND(SUM(G229:G258),2)","v":0},{"$f":"(H259+ROUND((H259*'WA Financial Status Summary'!$C$30),2))*ROUND((1+'WA Financial Status Summary'!$C$33),4)","v":0}]
[{"$f":"A$290","v":0},{"$f":"B$290","v":0},null,null,null,null,{"$f":"IFERROR(ROUND(E260*K260,2),\"\")","v":""},null,null,{"$f":"IF(D260=\"\",\"\",VLOOKUP(D260,Staffing_Table,2,FALSE))","v":""},""]
[{"$f":"A$290","v":0},0,null,null,null,null,{"$f":"IFERROR(ROUND(E261*K261,2),\"\")","v":""},null,null,"",""]
[0,0,null,null,null,null,"",null,null,"",""]
[0,0,null,null,null,null,"",null,null,"",""]
[0,0,null,null,null,null,"",null,null,"",""]
[0,0,null,null,null,null,"",null,null,"",""]
[0,0,null,null,null,null,"",null,null,"",""]
[0,0,null,null,null,null,"",null,null,"",""]
[0,0,null,null,null,null,"",null,null,"",""]
[0,0,null,null,null,null,"",null,null,"",{"$f":"IF(F269<J269,F269,J269)","v":""}]
[0,0,null,null,null,null,"",null,null,"",""]
[0,0,null,null,null,null,"",null,null,"",""]
[0,0,null,null,null,null,"",null,null,"",""]
[0,0,null,null,null,null,"",null,null,"",""]
[0,0,null,null,null,null,"",null,null,"",""]
[{"$f":"A$290","v":0},{"$f":"B$290","v":0},null,null,null,null,"",null,null,"",""]
[0,0,null,null,null,null,"",null,null,"",""]
[{"$f":"A$290","v":0},0,null,null,null,null,"",null,null,"",""]
[0,0,null,null,null,null,"",null,null,"",""]
[0,0,null,null,null,null,"",null,null,"",""]
[0,0,null,null,null,null,"",null,null,"",""]
[0,0,null,null,null,null,"",null,null,"",""]
[0,0,null,null,null,null,"",null,null,"",""]
[0,0,null,null,null,null,"",null,null,"",""]
[0,0,null,null,null,null,"",null,null,"",""]
[0,0,null,null,null,null,"",null,null,"",""]
[0,0,null,null,null,null,"",null,null,"",""]
[0,0,null,null,null,null,"",null,null,"",""]
[0,0,null,null,null,null,"",null,null,"",""]
[0,0,null,null,null,null,"",null,null,"",""]
[null,null,null,{"$f":"IF(A290=0,\"\",A290)","v":""},null,"Subtotal Line 9",null,{"$f":"ROUND(SUM(G260:G289),2)","v":0},{"$f":"(H290+ROUND((H290*'WA Financial Status Summary'!$C$30),2))*ROUND((1+'WA Financial Status Summary'!$C$33),4)","v":0}]
[{"$f":"A$321","v":0},{"$f":"B$321","v":0},null,null,null,null,{"$f":"IFERROR(ROUND(E291*K291,2),\"\")","v":""},null,null,{"$f":"IF(D291=\"\",\"\",VLOOKUP(D291,Staffing_Table,2,FALSE))","v":""},""]
[{"$f":"A$321","v":0},0,null,null,null,null,{"$f":"IFERROR(ROUND(E292*K292,2),\"\")","v":""},null,null,"",""]
[0,0,null,null,null,null,"",null,null,"",""]
[0,0,null,null,null,null,"",null,null,"",""]
[0,0,null,null,null,null,"",null,null,"",""]
[0,0,null,null,null,null,"",null,null,"",""]
[0,0,null,null,null,null,"",null,null,"",""]
[0,0,null,null,null,null,"",null,null,"",""]
[0,0,null,null,null,null,"",null,null,"",""]
[0,0,null,null,null,null,"",null,null,"",""]
[0,0,null,null,null,null,"",null,null,"",""]
[0,0,null,null,null,null,"",null,null,"",""]
[0,0,null,null,null,null,"",null,null,"",""]
[0,0,null,null,null,null,"",null,null,"",""]
[0,0,null,null,null,null,"",null,null,"",""]
[{"$f":"A$321","v":0},{"$f":"B$321","v":0},null,null,null,null,"",null,null,"",""]
[0,0,null,null,null,null,"",null,null,"",""]
[{"$f":"A$321","v":0},0,null,null,null,null,"",null,null,"",""]
[0,0,null,null,null,null,"",null,null,"",""]
[0,0,null,null,null,null,"",null,null,"",""]
[0,0,null,null,null,null,"",null,null,"",""]
[0,0,null,null,null,null,"",null,null,"",""]
[0,0,null,null,null,null,"",null,null,"",""]
[0,0,null,null,null,null,"",null,null,"",""]
[0,0,null,null,null,null,"",null,null,"",""]
[0,0,null,null,null,null,"",null,null,"",""]
[0,0,null,null,null,null,"",null,null,"",""]
[0,0,null,null,null,null,"",null,null,"",""]
[0,0,null,null,null,null,"",null,null,"",""]
[0,0,null,null,null,null,"",null,null,"",""]
[null,null,null,{"$f":"IF(A321=0,\"\",A321)","v":""},null,"Subtotal Line 10",null,{"$f":"ROUND(SUM(G291:G320),2)","v":0},{"$f":"(H321+ROUND((H321*'WA Financial Status Summary'!$C$30),2))*ROUND((1+'WA Financial Status Summary'!$C$33),4)","v":0}]
[{"$f":"A$352","v":0},{"$f":"B$352","v":0},null,null,null,null,{"$f":"IFERROR(ROUND(E322*K322,2),\"\")","v":""},null,null,{"$f":"IF(D322=\"\",\"\",VLOOKUP(D322,Staffing_Table,2,FALSE))","v":""},""]
[{"$f":"A$352","v":0},0,null,null,null,null,{"$f":"IFERROR(ROUND(E323*K323,2),\"\")","v":""},null,null,"",""]
[0,0,null,null,null,null,"",null,null,"",""]
[0,0,null,null,null,null,"",null,null,"",""]
[0,0,null,null,null,null,"",null,null,"",""]
[0,0,null,null,null,null,"",null,null,"",""]
[0,0,null,null,null,null,"",null,null,"",""]
[0,0,null,null,null,null,"",null,null,"",""]
[0,0,null,null,null,null,"",null,null,"",""]
[0,0,null,null,null,null,"",null,null,"",""]
[0,0,null,null,null,null,"",null,null,"",""]
[0,0,null,null,null,null,"",null,null,"",{"$f":"IF(F333<J333,F333,J333)","v":""}]
[0,0,null,null,null,null,"",null,null,"",""]
[0,0,null,null,null,null,"",null,null,"",""]
[0,0,null,null,null,null,"",null,null,"",""]
[{"$f":"A$352","v":0},{"$f":"B$352","v":0},null,null,null,null,"",null,null,"",""]
[0,0,null,null,null,null,"",null,null,"",""]
[{"$f":"A$352","v":0},0,null,null,null,null,"",null,null,"",""]
[0,0,null,null,null,null,"",null,null,"",""]
[0,0,null,null,null,null,"",null,null,"",""]
[0,0,null,null,null,null,"",null,null,"",""]
[0,0,null,null,null,null,"",null,null,"",""]
[0,0,null,null,null,null,"",null,null,"",""]
[0,0,null,null,null,null,"",null,null,"",""]
[0,0,null,null,null,null,"",null,null,"",""]
[0,0,null,null,null,null,"",null,null,"",""]
[0,0,null,null,null,null,"",null,null,"",""]
[0,0,null,null,null,null,"",null,null,"",""]
[0,0,null,null,null,null,"",null,null,"",""]
[0,0,null,null,null,null,"",null,null,"",""]
[null,null,null,{"$f":"IF(A352=0,\"\",A352)","v":""},null,"Subtotal Line 11",null,{"$f":"ROUND(SUM(G322:G351),2)","v":0},{"$f":"(H352+ROUND((H352*'WA Financial Status Summary'!$C$30),2))*ROUND((1+'WA Financial Status Summary'!$C$33),4)","v":0}]
[{"$f":"A$383","v":0},{"$f":"B$383","v":0},null,null,null,null,{"$f":"IFERROR(ROUND(E353*K353,2),\"\")","v":""},null,null,{"$f":"IF(D353=\"\",\"\",VLOOKUP(D353,Staffing_Table,2,FALSE))","v":""},""]
[{"$f":"A$383","v":0},0,null,null,null,null,{"$f":"IFERROR(ROUND(E354*K354,2),\"\")","v":""},null,null,"",""]
[0,0,null,null,null,null,"",null,null,"",""]
[0,0,null,null,null,null,"",null,null,"",""]
[0,0,null,null,null,null,"",null,null,"",""]
[0,0,null,null,null,null,"",null,null,"",""]
[0,0,null,null,null,null,"",null,null,"",""]
[0,0,null,null,null,null,"",null,null,"",""]
[0,0,null,null,null,null,"",null,null,"",""]
[0,0,null,null,null,null,"",null,null,"",""]
[0,0,null,null,null,null,"",null,null,"",""]
[0,0,null,null,null,null,"",null,null,"",""]
[0,0,null,null,null,null,"",null,null,"",""]
[0,0,null,null,null,null,"",null,null,"",""]
[0,0,null,null,null,null,"",null,null,"",""]
[{"$f":"A$383","v":0},{"$f":"B$383","v":0},null,null,null,null,"",null,null,"",""]
[0,0,null,null,null,null,"",null,null,"",""]
[{"$f":"A$383","v":0},0,null,null,null,null,"",null,null,"",""]
[0,0,null,null,null,null,"",null,null,"",""]
[0,0,null,null,null,null,"",null,null,"",""]
[0,0,null,null,null,null,"",null,null,"",""]
[0,0,null,null,null,null,"",null,null,"",""]
[0,0,null,null,null,null,"",null,null,"",""]
[0,0,null,null,null,null,"",null,null,"",""]
[0,0,null,null,null,null,"",null,null,"",""]
[0,0,null,null,null,null,"",null,null,"",""]
[0,0,null,null,null,null,"",null,null,"",""]
[0,0,null,null,null,null,"",null,null,"",""]
[0,0,null,null,null,null,"",null,null,"",""]
[0,0,null,null,null,null,"",null,null,"",""]
[null,null,null,{"$f":"IF(A383=0,\"\",A383)","v":""},null,"Subtotal Line 12",null,{"$f":"ROUND(SUM(G353:G382),2)","v":0},{"$f":"(H383+ROUND((H383*'WA Financial Status Summary'!$C$30),2))*ROUND((1+'WA Financial Status Summary'!$C$33),4)","v":0}]
[{"$f":"A$414","v":0},{"$f":"B$414","v":0},null,null,null,null,{"$f":"IFERROR(ROUND(E384*K384,2),\"\")","v":""},null,null,{"$f":"IF(D384=\"\",\"\",VLOOKUP(D384,Staffing_Table,2,FALSE))","v":""},""]
[{"$f":"A$414","v":0},0,null,null,null,null,{"$f":"IFERROR(ROUND(E385*K385,2),\"\")","v":""},null,null,"",""]
[0,0,null,null,null,null,"",null,null,"",""]
[0,0,null,null,null,null,"",null,null,"",""]
[0,0,null,null,null,null,"",null,null,"",""]
[0,0,null,null,null,null,"",null,null,"",""]
[0,0,null,null,null,null,"",null,null,"",""]
[0,0,null,null,null,null,"",null,null,"",""]
[0,0,null,null,null,null,"",null,null,"",""]
[0,0,null,null,null,null,"",null,null,"",""]
[0,0,null,null,null,null,"",null,null,"",""]
[0,0,null,null,null,null,"",null,null,"",""]
[0,0,null,null,null,null,"",null,null,"",""]
[0,0,null,null,null,null,"",null,null,"",{"$f":"IF(F397<J397,F397,J397)","v":""}]
[0,0,null,null,null,null,"",null,null,"",""]
[{"$f":"A$414","v":0},{"$f":"B$414","v":0},null,null,null,null,"",null,null,"",""]
[0,0,null,null,null,null,"",null,null,"",""]
[{"$f":"A$414","v":0},0,null,null,null,null,"",null,null,"",""]
[0,0,null,null,null,null,"",null,null,"",""]
[0,0,null,null,null,null,"",null,null,"",""]
[0,0,null,null,null,null,"",null,null,"",""]
[0,0,null,null,null,null,"",null,null,"",""]
[0,0,null,null,null,null,"",null,null,"",""]
[0,0,null,null,null,null,"",null,null,"",""]
[0,0,null,null,null,null,"",null,null,"",""]
[0,0,null,null,null,null,"",null,null,"",""]
[0,0,null,null,null,null,"",null,null,"",""]
[0,0,null,null,null,null,"",null,null,"",""]
[0,0,null,null,null,null,"",null,null,"",""]
[0,0,null,null,null,null,"",null,null,"",""]
[null,null,null,{"$f":"IF(A414=0,\"\",A414)","v":""},null,"Subtotal Line 13",null,{"$f":"ROUND(SUM(G384:G413),2)","v":0},{"$f":"(H414+ROUND((H414*'WA Financial Status Summary'!$C$30),2))*ROUND((1+'WA Financial Status Summary'!$C$33),4)","v":0}]
[{"$f":"A$445","v":0},{"$f":"B$445","v":0},null,null,null,null,{"$f":"IFERROR(ROUND(E415*K415,2),\"\")","v":""},null,null,{"$f":"IF(D415=\"\",\"\",VLOOKUP(D415,Staffing_Table,2,FALSE))","v":""},""]
[{"$f":"A$445","v":0},0,null,null,null,null,{"$f":"IFERROR(ROUND(E416*K416,2),\"\")","v":""},null,null,"",""]
[0,0,null,null,null,null,"",null,null,"",""]
[0,0,null,null,null,null,"",null,null,"",""]
[0,0,null,null,null,null,"",null,null,"",""]
[0,0,null,null,null,null,"",null,null,"",""]
[0,0,null,null,null,null,"",null,null,"",""]
[0,0,null,null,null,null,"",null,null,"",""]
[0,0,null,null,null,null,"",null,null,"",""]
[0,0,null,null,null,null,"",null,null,"",""]
[0,0,null,null,null,null,"",null,null,"",""]
[0,0,null,null,null,null,"",null,null,"",""]
[0,0,null,null,null,null,"",null,null,"",""]
[0,0,null,null,null,null,"",null,null,"",""]
[0,0,null,null,null,null,"",null,null,"",""]
[{"$f":"A$445","v":0},{"$f":"B$445","v":0},null,null,null,null,"",null,null,"",""]
[0,0,null,null,null,null,"",null,null,"",""]
[{"$f":"A$445","v":0},0,null,null,null,null,"",null,null,"",""]
[0,0,null,null,null,null,"",null,null,"",""]
[0,0,null,null,null,null,"",null,null,"",""]
[0,0,null,null,null,null,"",null,null,"",""]
[0,0,null,null,null,null,"",null,null,"",""]
[0,0,null,null,null,null,"",null,null,"",""]
[0,0,null,null,null,null,"",null,null,"",""]
[0,0,null,null,null,null,"",null,null,"",""]
[0,0,null,null,null,null,"",null,null,"",""]
[0,0,null,null,null,null,"",null,null,"",""]
[0,0,null,null,null,null,"",null,null,"",""]
[0,0,null,null,null,null,"",null,null,"",""]
[0,0,null,null,null,null,"",null,null,"",""]
[null,null,null,{"$f":"IF(A445=0,\"\",A445)","v":""},null,"Subtotal Line 14",null,{"$f":"ROUND(SUM(G415:G444),2)","v":0},{"$f":"(H445+ROUND((H445*'WA Financial Status Summary'!$C$30),2))*ROUND((1+'WA Financial Status Summary'!$C$33),4)","v":0}]
[{"$f":"A$476","v":0},{"$f":"B$476","v":0},null,null,null,null,{"$f":"IFERROR(ROUND(E446*K446,2),\"\")","v":""},null,null,{"$f":"IF(D446=\"\",\"\",VLOOKUP(D446,Staffing_Table,2,FALSE))","v":""},""]
[{"$f":"A$476","v":0},0,null,null,null,null,{"$f":"IFERROR(ROUND(E447*K447,2),\"\")","v":""},null,null,"",""]
[0,0,null,null,null,null,"",null,null,"",""]
[0,0,null,null,null,null,"",null,null,"",""]
[0,0,null,null,null,null,"",null,null,"",""]
[0,0,null,null,null,null,"",null,null,"",""]
[0,0,null,null,null,null,"",null,null,"",""]
[0,0,null,null,null,null,"",null,null,"",""]
[0,0,null,null,null,null,"",null,null,"",""]
[0,0,null,null,null,null,"",null,null,"",""]
[0,0,null,null,null,null,"",null,null,"",""]
[0,0,null,null,null,null,"",null,null,"",""]
[0,0,null,null,null,null,"",null,null,"",""]
[0,0,null,null,null,null,"",null,null,"",""]
[0,0,null,null,null,null,"",null,null,"",""]
[{"$f":"A$476","v":0},{"$f":"B$476","v":0},null,null,null,null,"",null,null,"",{"$f":"IF(F461<J461,F461,J461)","v":""}]
[0,0,null,null,null,null,"",null,null,"",""]
[{"$f":"A$476","v":0},0,null,null,null,null,"",null,null,"",""]
[0,0,null,null,null,null,"",null,null,"",""]
[0,0,null,null,null,null,"",null,null,"",""]
[0,0,null,null,null,null,"",null,null,"",""]
[0,0,null,null,null,null,"",null,null,"",""]
[0,0,null,null,null,null,"",null,null,"",""]
[0,0,null,null,null,null,"",null,null,"",""]
[0,0,null,null,null,null,"",null,null,"",""]
[0,0,null,null,null,null,"",null,null,"",""]
[0,0,null,null,null,null,"",null,null,"",""]
[0,0,null,null,null,null,"",null,null,"",""]
[0,0,null,null,null,null,"",null,null,"",""]
[0,0,null,null,null,null,"",null,null,"",""]
[null,null,null,{"$f":"IF(A476=0,\"\",A476)","v":""},null,"Subtotal Line 15",null,{"$f":"ROUND(SUM(G446:G475),2)","v":0},{"$f":"(H476+ROUND((H476*'WA Financial Status Summary'!$C$30),2))*ROUND((1+'WA Financial Status Summary'!$C$33),4)","v":0}]
[{"$f":"A$507","v":0},{"$f":"B$507","v":0},null,null,null,null,{"$f":"IFERROR(ROUND(E477*K477,2),\"\")","v":""},null,null,{"$f":"IF(D477=\"\",\"\",VLOOKUP(D477,Staffing_Table,2,FALSE))","v":""},""]
[{"$f":"A$507","v":0},0,null,null,null,null,{"$f":"IFERROR(ROUND(E478*K478,2),\"\")","v":""},null,null,"",""]
[0,0,null,null,null,null,"",null,null,"",""]
[0,0,null,null,null,null,"",null,null,"",""]
[0,0,null,null,null,null,"",null,null,"",""]
[0,0,null,null,null,null,"",null,null,"",""]
[0,0,null,null,null,null,"",null,null,"",""]
[0,0,null,null,null,null,"",null,null,"",""]
[0,0,null,null,null,null,"",null,null,"",""]
[0,0,null,null,null,null,"",null,null,"",""]
[0,0,null,null,null,null,"",null,null,"",""]
[0,0,null,null,null,null,"",null,null,"",""]
[0,0,null,null,null,null,"",null,null,"",""]
[0,0,null,null,null,null,"",null,null,"",""]
[0,0,null,null,null,null,"",null,null,"",""]
[{"$f":"A$507","v":0},{"$f":"B$507","v":0},null,null,null,null,"",null,null,"",""]
[0,0,null,null,null,null,"",null,null,"",""]
[{"$f":"A$507","v":0},0,null,null,null,null,"",null,null,"",""]
[0,0,null,null,null,null,"",null,null,"",""]
[0,0,null,null,null,null,"",null,null,"",""]
[0,0,null,null,null,null,"",null,null,"",""]
[0,0,null,null,null,null,"",null,null,"",""]
[0,0,null,null,null,null,"",null,null,"",""]
[0,0,null,null,null,null,"",null,null,"",""]
[0,0,null,null,null,null,"",null,null,"",""]
[0,0,null,null,null,null,"",null,null,"",""]
[0,0,null,null,null,null,"",null,null,"",""]
[0,0,null,null,null,null,"",null,null,"",""]
[0,0,null,null,null,null,"",null,null,"",""]
[0,0,null,null,null,null,"",null,null,"",""]
[null,null,null,{"$f":"IF(A507=0,\"\",A507)","v":""},null,"Subtotal Line 16",null,{"$f":"ROUND(SUM(G477:G506),2)","v":0},{"$f":"(H507+ROUND((H507*'WA Financial Status Summary'!$C$30),2))*ROUND((1+'WA Financial Status Summary'!$C$33),4)","v":0}]
[{"$f":"A$538","v":0},{"$f":"B$538","v":0},null,null,null,null,{"$f":"IFERROR(ROUND(E508*K508,2),\"\")","v":""},null,null,{"$f":"IF(D508=\"\",\"\",VLOOKUP(D508,Staffing_Table,2,FALSE))","v":""},""]
[{"$f":"A$538","v":0},0,null,null,null,null,{"$f":"IFERROR(ROUND(E509*K509,2),\"\")","v":""},null,null,"",""]
[0,0,null,null,null,null,"",null,null,"",""]
[0,0,null,null,null,null,"",null,null,"",""]
[0,0,null,null,null,null,"",null,null,"",""]
[0,0,null,null,null,null,"",null,null,"",""]
[0,0,null,null,null,null,"",null,null,"",""]
[0,0,null,null,null,null,"",null,null,"",""]
[0,0,null,null,null,null,"",null,null,"",""]
[0,0,null,null,null,null,"",null,null,"",""]
[0,0,null,null,null,null,"",null,null,"",""]
[0,0,null,null,null,null,"",null,null,"",""]
[0,0,null,null,null,null,"",null,null,"",""]
[0,0,null,null,null,null,"",null,null,"",""]
[0,0,null,null,null,null,"",null,null,"",""]
[{"$f":"A$538","v":0},{"$f":"B$538","v":0},null,null,null,null,"",null,null,"",""]
[0,0,null,null,null,null,"",null,null,"",""]
[{"$f":"A$538","v":0},0,null,null,null,null,"",null,null,"",{"$f":"IF(F525<J525,F525,J525)","v":""}]
[0,0,null,null,null,null,"",null,null,"",""]
[0,0,null,null,null,null,"",null,null,"",""]
[0,0,null,null,null,null,"",null,null,"",""]
[0,0,null,null,null,null,"",null,null,"",""]
[0,0,null,null,null,null,"",null,null,"",""]
[0,0,null,null,null,null,"",null,null,"",""]
[0,0,null,null,null,null,"",null,null,"",""]
[0,0,null,null,null,null,"",null,null,"",""]
[0,0,null,null,null,null,"",null,null,"",""]
[0,0,null,null,null,null,"",null,null,"",""]
[0,0,null,null,null,null,"",null,null,"",""]
[0,0,null,null,null,null,"",null,null,"",""]
[null,null,null,{"$f":"IF(A538=0,\"\",A538)","v":""},null,"Subtotal Line 17",null,{"$f":"ROUND(SUM(G508:G537),2)","v":0},{"$f":"(H538+ROUND((H538*'WA Financial Status Summary'!$C$30),2))*ROUND((1+'WA Financial Status Summary'!$C$33),4)","v":0}]
[{"$f":"A$569","v":0},{"$f":"B$569","v":0},null,null,null,null,{"$f":"IFERROR(ROUND(E539*K539,2),\"\")","v":""},null,null,{"$f":"IF(D539=\"\",\"\",VLOOKUP(D539,Staffing_Table,2,FALSE))","v":""},""]
[{"$f":"A$569","v":0},0,null,null,null,null,{"$f":"IFERROR(ROUND(E540*K540,2),\"\")","v":""},null,null,"",""]
[0,0,null,null,null,null,"",null,null,"",""]
[0,0,null,null,null,null,"",null,null,"",""]
[0,0,null,null,null,null,"",null,null,"",""]
[0,0,null,null,null,null,"",null,null,"",""]
[0,0,null,null,null,null,"",null,null,"",""]
[0,0,null,null,null,null,"",null,null,"",""]
[0,0,null,null,null,null,"",null,null,"",""]
[0,0,null,null,null,null,"",null,null,"",""]
[0,0,null,null,null,null,"",null,null,"",""]
[0,0,null,null,null,null,"",null,null,"",""]
[0,0,null,null,null,null,"",null,null,"",""]
[0,0,null,null,null,null,"",null,null,"",""]
[0,0,null,null,null,null,"",null,null,"",""]
[{"$f":"A$569","v":0},{"$f":"B$569","v":0},null,null,null,null,"",null,null,"",""]
[0,0,null,null,null,null,"",null,null,"",""]
[{"$f":"A$569","v":0},0,null,null,null,null,"",null,null,"",""]
[0,0,null,null,null,null,"",null,null,"",""]
[0,0,null,null,null,null,"",null,null,"",""]
[0,0,null,null,null,null,"",null,null,"",""]
[0,0,null,null,null,null,"",null,null,"",""]
[0,0,null,null,null,null,"",null,null,"",""]
[0,0,null,null,null,null,"",null,null,"",""]
[0,0,null,null,null,null,"",null,null,"",""]
[0,0,null,null,null,null,"",null,null,"",""]
[0,0,null,null,null,null,"",null,null,"",""]
[0,0,null,null,null,null,"",null,null,"",""]
[0,0,null,null,null,null,"",null,null,"",""]
[0,0,null,null,null,null,"",null,null,"",""]
[null,null,null,{"$f":"IF(A569=0,\"\",A569)","v":""},null,"Subtotal Line 18",null,{"$f":"ROUND(SUM(G539:G568),2)","v":0},{"$f":"(H569+ROUND((H569*'WA Financial Status Summary'!$C$30),2))*ROUND((1+'WA Financial Status Summary'!$C$33),4)","v":0}]
[{"$f":"A$600","v":0},{"$f":"B$600","v":0},null,null,null,null,{"$f":"IFERROR(ROUND(E570*K570,2),\"\")","v":""},null,null,{"$f":"IF(D570=\"\",\"\",VLOOKUP(D570,Staffing_Table,2,FALSE))","v":""},""]
[{"$f":"A$600","v":0},0,null,null,null,null,{"$f":"IFERROR(ROUND(E571*K571,2),\"\")","v":""},null,null,"",""]
[0,0,null,null,null,null,"",null,null,"",""]
[0,0,null,null,null,null,"",null,null,"",""]
[0,0,null,null,null,null,"",null,null,"",""]
[0,0,null,null,null,null,"",null,null,"",""]
[0,0,null,null,null,null,"",null,null,"",""]
[0,0,null,null,null,null,"",null,null,"",""]
[0,0,null,null,null,null,"",null,null,"",""]
[0,0,null,null,null,null,"",null,null,"",""]
[0,0,null,null,null,null,"",null,null,"",""]
[0,0,null,null,null,null,"",null,null,"",""]
[0,0,null,null,null,null,"",null,null,"",""]
[0,0,null,null,null,null,"",null,null,"",""]
[0,0,null,null,null,null,"",null,null,"",""]
[{"$f":"A$600","v":0},{"$f":"B$600","v":0},null,null,null,null,"",null,null,"",""]
[0,0,null,null,null,null,"",null,null,"",""]
[{"$f":"A$600","v":0},0,null,null,null,null,"",null,null,"",""]
[0,0,null,null,null,null,"",null,null,"",""]
[0,0,null,null,null,null,"",null,null,"",{"$f":"IF(F589<J589,F589,J589)","v":""}]
[0,0,null,null,null,null,"",null,null,"",""]
[0,0,null,null,null,null,"",null,null,"",""]
[0,0,null,null,null,null,"",null,null,"",""]
[0,0,null,null,null,null,"",null,null,"",""]
[0,0,null,null,null,null,"",null,null,"",""]
[0,0,null,null,null,null,"",null,null,"",""]
[0,0,null,null,null,null,"",null,null,"",""]
[0,0,null,null,null,null,"",null,null,"",""]
[0,0,null,null,null,null,"",null,null,"",""]
[0,0,null,null,null,null,"",null,null,"",""]
[null,null,null,{"$f":"IF(A600=0,\"\",A600)","v":""},null,"Subtotal Line 19",null,{"$f":"ROUND(SUM(G570:G599),2)","v":0},{"$f":"(H600+ROUND((H600*'WA Financial Status Summary'!$C$30),2))*ROUND((1+'WA Financial Status Summary'!$C$33),4)","v":0}]
[{"$f":"A$631","v":0},{"$f":"B$631","v":0},null,null,null,null,{"$f":"IFERROR(ROUND(E601*K601,2),\"\")","v":""},null,null,{"$f":"IF(D601=\"\",\"\",VLOOKUP(D601,Staffing_Table,2,FALSE))","v":""},""]
[{"$f":"A$631","v":0},0,null,null,null,null,{"$f":"IFERROR(ROUND(E602*K602,2),\"\")","v":""},null,null,"",""]
[0,0,null,null,null,null,"",null,null,"",""]
[0,0,null,null,null,null,"",null,null,"",""]
[0,0,null,null,null,null,"",null,null,"",""]
[0,0,null,null,null,null,"",null,null,"",""]
[0,0,null,null,null,null,"",null,null,"",""]
[0,0,null,null,null,null,"",null,null,"",""]
[0,0,null,null,null,null,"",null,null,"",""]
[0,0,null,null,null,null,"",null,null,"",""]
[0,0,null,null,null,null,"",null,null,"",""]
[0,0,null,null,null,null,"",null,null,"",""]
[0,0,null,null,null,null,"",null,null,"",""]
[0,0,null,null,null,null,"",null,null,"",""]
[0,0,null,null,null,null,"",null,null,"",""]
[{"$f":"A$631","v":0},{"$f":"B$631","v":0},null,null,null,null,"",null,null,"",""]
[0,0,null,null,null,null,"",null,null,"",""]
[{"$f":"A$631","v":0},0,null,null,null,null,"",null,null,"",""]
[0,0,null,null,null,null,"",null,null,"",""]
[0,0,null,null,null,null,"",null,null,"",""]
[0,0,null,null,null,null,"",null,null,"",""]
[0,0,null,null,null,null,"",null,null,"",""]
[0,0,null,null,null,null,"",null,null,"",""]
[0,0,null,null,null,null,"",null,null,"",""]
[0,0,null,null,null,null,"",null,null,"",""]
[0,0,null,null,null,null,"",null,null,"",""]
[0,0,null,null,null,null,"",null,null,"",""]
[0,0,null,null,null,null,"",null,null,"",""]
[0,0,null,null,null,null,"",null,null,"",""]
[0,0,null,null,null,null,"",null,null,"",""]
[null,null,null,{"$f":"IF(A631=0,\"\",A631)","v":""},null,"Subtotal Line 20",null,{"$f":"ROUND(SUM(G601:G630),2)","v":0},{"$f":"(H631+ROUND((H631*'WA Financial Status Summary'!$C$30),2))*ROUND((1+'WA Financial Status Summary'!$C$33),4)","v":0}]
[{"$f":"A$662","v":0},{"$f":"B$662","v":0},null,null,null,null,{"$f":"IFERROR(ROUND(E632*K632,2),\"\")","v":""},null,null,{"$f":"IF(D632=\"\",\"\",VLOOKUP(D632,Staffing_Table,2,FALSE))","v":""},""]
[{"$f":"A$662","v":0},0,null,null,null,null,{"$f":"IFERROR(ROUND(E633*K633,2),\"\")","v":""},null,null,"",""]
[0,0,null,null,null,null,"",null,null,"",""]
[0,0,null,null,null,null,"",null,null,"",""]
[0,0,null,null,null,null,"",null,null,"",""]
[0,0,null,null,null,null,"",null,null,"",""]
[0,0,null,null,null,null,"",null,null,"",""]
[0,0,null,null,null,null,"",null,null,"",""]
[0,0,null,null,null,null,"",null,null,"",""]
[0,0,null,null,null,null,"",null,null,"",""]
[0,0,null,null,null,null,"",null,null,"",""]
[0,0,null,null,null,null,"",null,null,"",""]
[0,0,null,null,null,null,"",null,null,"",""]
[0,0,null,null,null,null,"",null,null,"",""]
[0,0,null,null,null,null,"",null,null,"",""]
[{"$f":"A$662","v":0},{"$f":"B$662","v":0},null,null,null,null,"",null,null,"",""]
[0,0,null,null,null,null,"",null,null,"",""]
[{"$f":"A$662","v":0},0,null,null,null,null,"",null,null,"",""]
[0,0,null,null,null,null,"",null,null,"",""]
[0,0,null,null,null,null,"",null,null,"",""]
[0,0,null,null,null,null,"",null,null,"",""]
[0,0,null,null,null,null,"",null,null,"",{"$f":"IF(F653<J653,F653,J653)","v":""}]
[0,0,null,null,null,null,"",null,null,"",""]
[0,0,null,null,null,null,"",null,null,"",""]
[0,0,null,null,null,null,"",null,null,"",""]
[0,0,null,null,null,null,"",null,null,"",""]
[0,0,null,null,null,null,"",null,null,"",""]
[0,0,null,null,null,null,"",null,null,"",""]
[0,0,null,null,null,null,"",null,null,"",""]
[0,0,null,null,null,null,"",null,null,"",""]
[null,null,null,{"$f":"IF(A662=0,\"\",A662)","v":""},null,"Subtotal Line 21",null,{"$f":"ROUND(SUM(G632:G661),2)","v":0},{"$f":"(H662+ROUND((H662*'WA Financial Status Summary'!$C$30),2))*ROUND((1+'WA Financial Status Summary'!$C$33),4)","v":0}]
[{"$f":"A$693","v":0},{"$f":"B$693","v":0},null,null,null,null,{"$f":"IFERROR(ROUND(E663*K663,2),\"\")","v":""},null,null,{"$f":"IF(D663=\"\",\"\",VLOOKUP(D663,Staffing_Table,2,FALSE))","v":""},""]
[{"$f":"A$693","v":0},0,null,null,null,null,{"$f":"IFERROR(ROUND(E664*K664,2),\"\")","v":""},null,null,"",""]
[0,0,null,null,null,null,"",null,null,"",""]
[0,0,null,null,null,null,"",null,null,"",""]
[0,0,null,null,null,null,"",null,null,"",""]
[0,0,null,null,null,null,"",null,null,"",""]
[0,0,null,null,null,null,"",null,null,"",""]
[0,0,null,null,null,null,"",null,null,"",""]
[0,0,null,null,null,null,"",null,null,"",""]
[0,0,null,null,null,null,"",null,null,"",""]
[0,0,null,null,null,null,"",null,null,"",""]
[0,0,null,null,null,null,"",null,null,"",""]
[0,0,null,null,null,null,"",null,null,"",""]
[0,0,null,null,null,null,"",null,null,"",""]
[0,0,null,null,null,null,"",null,null,"",""]
[{"$f":"A$693","v":0},{"$f":"B$693","v":0},null,null,null,null,"",null,null,"",""]
[0,0,null,null,null,null,"",null,null,"",""]
[{"$f":"A$693","v":0},0,null,null,null,null,"",null,null,"",""]
[0,0,null,null,null,null,"",null,null,"",""]
[0,0,null,null,null,null,"",null,null,"",""]
[0,0,null,null,null,null,"",null,null,"",""]
[0,0,null,null,null,null,"",null,null,"",""]
[0,0,null,null,null,null,"",null,null,"",""]
[0,0,null,null,null,null,"",null,null,"",""]
[0,0,null,null,null,null,"",null,null,"",""]
[0,0,null,null,null,null,"",null,null,"",""]
[0,0,null,null,null,null,"",null,null,"",""]
[0,0,null,null,null,null,"",null,null,"",""]
[0,0,null,null,null,null,"",null,null,"",""]
[0,0,null,null,null,null,"",null,null,"",""]
[null,null,null,{"$f":"IF(A693=0,\"\",A693)","v":""},null,"Subtotal Line 22",null,{"$f":"ROUND(SUM(G663:G692),2)","v":0},{"$f":"(H693+ROUND((H693*'WA Financial Status Summary'!$C$30),2))*ROUND((1+'WA Financial Status Summary'!$C$33),4)","v":0}]
[{"$f":"A$724","v":0},{"$f":"B$724","v":0},null,null,null,null,{"$f":"IFERROR(ROUND(E694*K694,2),\"\")","v":""},null,null,{"$f":"IF(D694=\"\",\"\",VLOOKUP(D694,Staffing_Table,2,FALSE))","v":""},""]
[{"$f":"A$724","v":0},0,null,null,null,null,{"$f":"IFERROR(ROUND(E695*K695,2),\"\")","v":""},null,null,"",""]
[0,0,null,null,null,null,"",null,null,"",""]
[0,0,null,null,null,null,"",null,null,"",""]
[0,0,null,null,null,null,"",null,null,"",""]
[0,0,null,null,null,null,"",null,null,"",""]
[0,0,null,null,null,null,"",null,null,"",""]
[0,0,null,null,null,null,"",null,null,"",""]
[0,0,null,null,null,null,"",null,null,"",""]
[0,0,null,null,null,null,"",null,null,"",""]
[0,0,null,null,null,null,"",null,null,"",""]
[0,0,null,null,null,null,"",null,null,"",""]
[0,0,null,null,null,null,"",null,null,"",""]
[0,0,null,null,null,null,"",null,null,"",""]
[0,0,null,null,null,null,"",null,null,"",""]
[{"$f":"A$724","v":0},{"$f":"B$724","v":0},null,null,null,null,"",null,null,"",""]
[0,0,null,null,null,null,"",null,null,"",""]
[{"$f":"A$724","v":0},0,null,null,null,null,"",null,null,"",""]
[0,0,null,null,null,null,"",null,null,"",""]
[0,0,null,null,null,null,"",null,null,"",""]
[0,0,null,null,null,null,"",null,null,"",""]
[0,0,null,null,null,null,"",null,null,"",""]
[0,0,null,null,null,null,"",null,null,"",""]
[0,0,null,null,null,null,"",null,null,"",{"$f":"IF(F717<J717,F717,J717)","v":""}]
[0,0,null,null,null,null,"",null,null,"",""]
[0,0,null,null,null,null,"",null,null,"",""]
[0,0,null,null,null,null,"",null,null,"",""]
[0,0,null,null,null,null,"",null,null,"",""]
[0,0,null,null,null,null,"",null,null,"",""]
[0,0,null,null,null,null,"",null,null,"",""]
[null,null,null,{"$f":"IF(A724=0,\"\",A724)","v":""},null,"Subtotal Line 23",null,{"$f":"ROUND(SUM(G694:G723),2)","v":0},{"$f":"(H724+ROUND((H724*'WA Financial Status Summary'!$C$30),2))*ROUND((1+'WA Financial Status Summary'!$C$33),4)","v":0}]
[{"$f":"A$755","v":0},{"$f":"B$755","v":0},null,null,null,null,{"$f":"IFERROR(ROUND(E725*K725,2),\"\")","v":""},null,null,{"$f":"IF(D725=\"\",\"\",VLOOKUP(D725,Staffing_Table,2,FALSE))","v":""},""]
[{"$f":"A$755","v":0},0,null,null,null,null,{"$f":"IFERROR(ROUND(E726*K726,2),\"\")","v":""},null,null,"",""]
[0,0,null,null,null,null,"",null,null,"",""]
[0,0,null,null,null,null,"",null,null,"",""]
[0,0,null,null,null,null,"",null,null,"",""]
[0,0,null,null,null,null,"",null,null,"",""]
[0,0,null,null,null,null,"",null,null,"",""]
[0,0,null,null,null,null,"",null,null,"",""]
[0,0,null,null,null,null,"",null,null,"",""]
[0,0,null,null,null,null,"",null,null,"",""]
[0,0,null,null,null,null,"",null,null,"",""]
[0,0,null,null,null,null,"",null,null,"",""]
[0,0,null,null,null,null,"",null,null,"",""]
[0,0,null,null,null,null,"",null,null,"",""]
[0,0,null,null,null,null,"",null,null,"",""]
[{"$f":"A$755","v":0},{"$f":"B$755","v":0},null,null,null,null,"",null,null,"",""]
[0,0,null,null,null,null,"",null,null,"",""]
[{"$f":"A$755","v":0},0,null,null,null,null,"",null,null,"",""]
[0,0,null,null,null,null,"",null,null,"",""]
[0,0,null,null,null,null,"",null,null,"",""]
[0,0,null,null,null,null,"",null,null,"",""]
[0,0,null,null,null,null,"",null,null,"",""]
[0,0,null,null,null,null,"",null,null,"",""]
[0,0,null,null,null,null,"",null,null,"",""]
[0,0,null,null,null,null,"",null,null,"",""]
[0,0,null,null,null,null,"",null,null,"",""]
[0,0,null,null,null,null,"",null,null,"",""]
[0,0,null,null,null,null,"",null,null,"",""]
[0,0,null,null,null,null,"",null,null,"",""]
[0,0,null,null,null,null,"",null,null,"",""]
[null,null,null,{"$f":"IF(A755=0,\"\",A755)","v":""},null,"Subtotal Line 24",null,{"$f":"ROUND(SUM(G725:G754),2)","v":0},{"$f":"(H755+ROUND((H755*'WA Financial Status Summary'!$C$30),2))*ROUND((1+'WA Financial Status Summary'!$C$33),4)","v":0}]
[{"$f":"A$786","v":0},{"$f":"B$786","v":0},null,null,null,null,{"$f":"IFERROR(ROUND(E756*K756,2),\"\")","v":""},null,null,{"$f":"IF(D756=\"\",\"\",VLOOKUP(D756,Staffing_Table,2,FALSE))","v":""},""]
[{"$f":"A$786","v":0},0,null,null,null,null,{"$f":"IFERROR(ROUND(E757*K757,2),\"\")","v":""},null,null,"",""]
[0,0,null,null,null,null,"",null,null,"",""]
[0,0,null,null,null,null,"",null,null,"",""]
[0,0,null,null,null,null,"",null,null,"",""]
[0,0,null,null,null,null,"",null,null,"",""]
[0,0,null,null,null,null,"",null,null,"",""]
[0,0,null,null,null,null,"",null,null,"",""]
[0,0,null,null,null,null,"",null,null,"",""]
[0,0,null,null,null,null,"",null,null,"",""]
[0,0,null,null,null,null,"",null,null,"",""]
[0,0,null,null,null,null,"",null,null,"",""]
[0,0,null,null,null,null,"",null,null,"",""]
[0,0,null,null,null,null,"",null,null,"",""]
[0,0,null,null,null,null,"",null,null,"",""]
[{"$f":"A$786","v":0},{"$f":"B$786","v":0},null,null,null,null,"",null,null,"",""]
[0,0,null,null,null,null,"",null,null,"",""]
[{"$f":"A$786","v":0},0,null,null,null,null,"",null,null,"",""]
[0,0,null,null,null,null,"",null,null,"",""]
[0,0,null,null,null,null,"",null,null,"",""]
[0,0,null,null,null,null,"",null,null,"",""]
[0,0,null,null,null,null,"",null,null,"",""]
[0,0,null,null,null,null,"",null,null,"",""]
[0,0,null,null,null,null,"",null,null,"",""]
[0,0,null,null,null,null,"",null,null,"",""]
[0,0,null,null,null,null,"",null,null,"",{"$f":"IF(F781<J781,F781,J781)","v":""}]
[0,0,null,null,null,null,"",null,null,"",""]
[0,0,null,null,null,null,"",null,null,"",""]
[0,0,null,null,null,null,"",null,null,"",""]
[0,0,null,null,null,null,"",null,null,"",""]
[null,null,null,{"$f":"IF(A786=0,\"\",A786)","v":""},null,"Subtotal Line 25",null,{"$f":"ROUND(SUM(G756:G785),2)","v":0},{"$f":"(H786+ROUND((H786*'WA Financial Status Summary'!$C$30),2))*ROUND((1+'WA Financial Status Summary'!$C$33),4)","v":0}]
[{"$f":"A$817","v":0},{"$f":"B$817","v":0},null,null,null,null,{"$f":"IFERROR(ROUND(E787*K787,2),\"\")","v":""},null,null,{"$f":"IF(D787=\"\",\"\",VLOOKUP(D787,Staffing_Table,2,FALSE))","v":""},""]
[{"$f":"A$817","v":0},0,null,null,null,null,{"$f":"IFERROR(ROUND(E788*K788,2),\"\")","v":""},null,null,"",""]
[0,0,null,null,null,null,"",null,null,"",""]
[0,0,null,null,null,null,"",null,null,"",""]
[0,0,null,null,null,null,"",null,null,"",""]
[0,0,null,null,null,null,"",null,null,"",""]
[0,0,null,null,null,null,"",null,null,"",""]
[0,0,null,null,null,null,"",null,null,"",""]
[0,0,null,null,null,null,"",null,null,"",""]
[0,0,null,null,null,null,"",null,null,"",""]
[0,0,null,null,null,null,"",null,null,"",""]
[0,0,null,null,null,null,"",null,null,"",""]
[0,0,null,null,null,null,"",null,null,"",""]
[0,0,null,null,null,null,"",null,null,"",""]
[0,0,null,null,null,null,"",null,null,"",""]
[{"$f":"A$817","v":0},{"$f":"B$817","v":0},null,null,null,null,"",null,null,"",""]
[0,0,null,null,null,null,"",null,null,"",""]
[{"$f":"A$817","v":0},0,null,null,null,null,"",null,null,"",""]
[0,0,null,null,null,null,"",null,null,"",""]
[0,0,null,null,null,null,"",null,null,"",""]
[0,0,null,null,null,null,"",null,null,"",""]
[0,0,null,null,null,null,"",null,null,"",""]
[0,0,null,null,null,null,"",null,null,"",""]
[0,0,null,null,null,null,"",null,null,"",""]
[0,0,null,null,null,null,"",null,null,"",""]
[0,0,null,null,null,null,"",null,null,"",""]
[0,0,null,null,null,null,"",null,null,"",""]
[0,0,null,null,null,null,"",null,null,"",""]
[0,0,null,null,null,null,"",null,null,"",""]
[0,0,null,null,null,null,"",null,null,"",""]
[null,null,null,{"$f":"IF(A817=0,\"\",A817)","v":""},null,"Subtotal Line 26",null,{"$f":"ROUND(SUM(G787:G816),2)","v":0},{"$f":"(H817+ROUND((H817*'WA Financial Status Summary'!$C$30),2))*ROUND((1+'WA Financial Status Summary'!$C$33),4)","v":0}]
[{"$f":"A$848","v":0},{"$f":"B$848","v":0},null,null,null,null,{"$f":"IFERROR(ROUND(E818*K818,2),\"\")","v":""},null,null,{"$f":"IF(D818=\"\",\"\",VLOOKUP(D818,Staffing_Table,2,FALSE))","v":""},""]
[{"$f":"A$848","v":0},0,null,null,null,null,{"$f":"IFERROR(ROUND(E819*K819,2),\"\")","v":""},null,null,"",""]
[0,0,null,null,null,null,"",null,null,"",""]
[0,0,null,null,null,null,"",null,null,"",""]
[0,0,null,null,null,null,"",null,null,"",""]
[0,0,null,null,null,null,"",null,null,"",""]
[0,0,null,null,null,null,"",null,null,"",""]
[0,0,null,null,null,null,"",null,null,"",""]
[0,0,null,null,null,null,"",null,null,"",""]
[0,0,null,null,null,null,"",null,null,"",""]
[0,0,null,null,null,null,"",null,null,"",""]
[0,0,null,null,null,null,"",null,null,"",""]
[0,0,null,null,null,null,"",null,null,"",""]
[0,0,null,null,null,null,"",null,null,"",""]
[0,0,null,null,null,null,"",null,null,"",""]
[{"$f":"A$848","v":0},{"$f":"B$848","v":0},null,null,null,null,"",null,null,"",""]
[0,0,null,null,null,null,"",null,null,"",""]
[{"$f":"A$848","v":0},0,null,null,null,null,"",null,null,"",""]
[0,0,null,null,null,null,"",null,null,"",""]
[0,0,null,null,null,null,"",null,null,"",""]
[0,0,null,null,null,null,"",null,null,"",""]
[0,0,null,null,null,null,"",null,null,"",""]
[0,0,null,null,null,null,"",null,null,"",""]
[0,0,null,null,null,null,"",null,null,"",""]
[0,0,null,null,null,null,"",null,null,"",""]
[0,0,null,null,null,null,"",null,null,"",""]
[0,0,null,null,null,null,"",null,null,"",""]
[0,0,null,null,null,null,"",null,null,"",{"$f":"IF(F845<J845,F845,J845)","v":""}]
[0,0,null,null,null,null,"",null,null,"",""]
[0,0,null,null,null,null,"",null,null,"",""]
[null,null,null,{"$f":"IF(A848=0,\"\",A848)","v":""},null,"Subtotal Line 27",null,{"$f":"ROUND(SUM(G818:G847),2)","v":0},{"$f":"(H848+ROUND((H848*'WA Financial Status Summary'!$C$30),2))*ROUND((1+'WA Financial Status Summary'!$C$33),4)","v":0}]
[{"$f":"A$879","v":0},{"$f":"B$879","v":0},null,null,null,null,{"$f":"IFERROR(ROUND(E849*K849,2),\"\")","v":""},null,null,{"$f":"IF(D849=\"\",\"\",VLOOKUP(D849,Staffing_Table,2,FALSE))","v":""},""]
[{"$f":"A$879","v":0},0,null,null,null,null,{"$f":"IFERROR(ROUND(E850*K850,2),\"\")","v":""},null,null,"",""]
[0,0,null,null,null,null,"",null,null,"",""]
[0,0,null,null,null,null,"",null,null,"",""]
[0,0,null,null,null,null,"",null,null,"",""]
[0,0,null,null,null,null,"",null,null,"",""]
[0,0,null,null,null,null,"",null,null,"",""]
[0,0,null,null,null,null,"",null,null,"",""]
[0,0,null,null,null,null,"",null,null,"",""]
[0,0,null,null,null,null,"",null,null,"",""]
[0,0,null,null,null,null,"",null,null,"",""]
[0,0,null,null,null,null,"",null,null,"",""]
[0,0,null,null,null,null,"",null,null,"",""]
[0,0,null,null,null,null,"",null,null,"",""]
[0,0,null,null,null,null,"",null,null,"",""]
[{"$f":"A$879","v":0},{"$f":"B$879","v":0},null,null,null,null,"",null,null,"",""]
[0,0,null,null,null,null,"",null,null,"",""]
[{"$f":"A$879","v":0},0,null,null,null,null,"",null,null,"",""]
[0,0,null,null,null,null,"",null,null,"",""]
[0,0,null,null,null,null,"",null,null,"",""]
[0,0,null,null,null,null,"",null,null,"",""]
[0,0,null,null,null,null,"",null,null,"",""]
[0,0,null,null,null,null,"",null,null,"",""]
[0,0,null,null,null,null,"",null,null,"",""]
[0,0,null,null,null,null,"",null,null,"",""]
[0,0,null,null,null,null,"",null,null,"",""]
[0,0,null,null,null,null,"",null,null,"",""]
[0,0,null,null,null,null,"",null,null,"",""]
[0,0,null,null,null,null,"",null,null,"",""]
[0,0,null,null,null,null,"",null,null,"",""]
[null,null,null,{"$f":"IF(A879=0,\"\",A879)","v":""},null,"Subtotal Line 28",null,{"$f":"ROUND(SUM(G849:G878),2)","v":0},{"$f":"(H879+ROUND((H879*'WA Financial Status Summary'!$C$30),2))*ROUND((1+'WA Financial Status Summary'!$C$33),4)","v":0}]
[{"$f":"A$910","v":0},0,null,null,null,null,{"$f":"IFERROR(ROUND(E880*K880,2),\"\")","v":""},null,null,{"$f":"IF(D880=\"\",\"\",VLOOKUP(D880,Staffing_Table,2,FALSE))","v":""},""]
[0,0,null,null,null,null,{"$f":"IFERROR(ROUND(E881*K881,2),\"\")","v":""},null,null,"",""]
[0,0,null,null,null,null,"",null,null,"",""]
[0,0,null,null,null,null,"",null,null,"",""]
[0,0,null,null,null,null,"",null,null,"",""]
[0,0,null,null,null,null,"",null,null,"",""]
[0,0,null,null,null,null,"",null,null,"",""]
[0,0,null,null,null,null,"",null,null,"",""]
[0,0,null,null,null,null,"",null,null,"",""]
[0,0,null,null,null,null,"",null,null,"",""]
[0,0,null,null,null,null,"",null,null,"",""]
[0,0,null,null,null,null,"",null,null,"",""]
[0,0,null,null,null,null,"",null,null,"",""]
[0,0,null,null,null,null,"",null,null,"",""]
[0,0,null,null,null,null,"",null,null,"",""]
[0,0,null,null,null,null,"",null,null,"",""]
[0,0,null,null,null,null,"",null,null,"",""]
[0,0,null,null,null,null,"",null,null,"",""]
[0,0,null,null,null,null,"",null,null,"",""]
[0,0,null,null,null,null,"",null,null,"",""]
[0,0,null,null,null,null,"",null,null,"",""]
[0,0,null,null,null,null,"",null,null,"",""]
[0,0,null,null,null,null,"",null,null,"",""]
[0,0,null,null,null,null,"",null,null,"",""]
[0,0,null,null,null,null,"",null,null,"",""]
[0,0,null,null,null,null,"",null,null,"",""]
[0,0,null,null,null,null,"",null,null,"",""]
[0,0,null,null,null,null,"",null,null,"",""]
[0,0,null,null,null,null,"",null,null,"",""]
[0,0,null,null,null,null,"",null,null,"",{"$f":"IF(F909<J909,F909,J909)","v":""}]
[null,null,null,{"$f":"IF(A910=0,\"\",A910)","v":""},null,"Subtotal Line 29",null,{"$f":"ROUND(SUM(G880:G909),2)","v":0},{"$f":"(H910+ROUND((H910*'WA Financial Status Summary'!$C$30),2))*ROUND((1+'WA Financial Status Summary'!$C$33),4)","v":0}]
[{"$f":"A$941","v":0},{"$f":"B$941","v":0},null,null,null,null,{"$f":"IFERROR(ROUND(E911*K911,2),\"\")","v":""},null,null,{"$f":"IF(D911=\"\",\"\",VLOOKUP(D911,Staffing_Table,2,FALSE))","v":""},""]
[{"$f":"A$941","v":0},0,null,null,null,null,{"$f":"IFERROR(ROUND(E912*K912,2),\"\")","v":""},null,null,"",""]
[0,0,null,null,null,null,"",null,null,"",""]
[0,0,null,null,null,null,"",null,null,"",""]
[0,0,null,null,null,null,"",null,null,"",""]
[0,0,null,null,null,null,"",null,null,"",""]
[0,0,null,null,null,null,"",null,null,"",""]
[0,0,null,null,null,null,"",null,null,"",""]
[0,0,null,null,null,null,"",null,null,"",""]
[0,0,null,null,null,null,"",null,null,"",""]
[0,0,null,null,null,null,"",null,null,"",""]
[0,0,null,null,null,null,"",null,null,"",""]
[0,0,null,null,null,null,"",null,null,"",""]
[0,0,null,null,null,null,"",null,null,"",""]
[0,0,null,null,null,null,"",null,null,"",""]
[{"$f":"A$941","v":0},{"$f":"B$941","v":0},null,null,null,null,"",null,null,"",""]
[0,0,null,null,null,null,"",null,null,"",""]
[{"$f":"A$941","v":0},0,null,null,null,null,"",null,null,"",""]
[0,0,null,null,null,null,"",null,null,"",""]
[0,0,null,null,null,null,"",null,null,"",""]
[0,0,null,null,null,null,"",null,null,"",""]
[0,0,null,null,null,null,"",null,null,"",""]
[0,0,null,null,null,null,"",null,null,"",""]
[0,0,null,null,null,null,"",null,null,"",""]
[0,0,null,null,null,null,"",null,null,"",""]
[0,0,null,null,null,null,"",null,null,"",""]
[0,0,null,null,null,null,"",null,null,"",""]
[0,0,null,null,null,null,"",null,null,"",""]
[0,0,null,null,null,null,"",null,null,"",""]
[0,0,null,null,null,null,"",null,null,"",""]
[null,null,null,{"$f":"IF(A941=0,\"\",A941)","v":""},null,"Subtotal Line 30",null,{"$f":"ROUND(SUM(G911:G940),2)","v":0},{"$f":"(H941+ROUND((H941*'WA Financial Status Summary'!$C$30),2))*ROUND((1+'WA Financial Status Summary'!$C$33),4)","v":0}]
[{"$f":"A$972","v":0},{"$f":"B$972","v":0},null,null,null,null,{"$f":"IFERROR(ROUND(E942*K942,2),\"\")","v":""},null,null,{"$f":"IF(D942=\"\",\"\",VLOOKUP(D942,Staffing_Table,2,FALSE))","v":""},""]
[{"$f":"A$972","v":0},0,null,null,null,null,{"$f":"IFERROR(ROUND(E943*K943,2),\"\")","v":""},null,null,"",""]
[0,0,null,null,null,null,"",null,null,"",""]
[0,0,null,null,null,null,"",null,null,"",""]
[0,0,null,null,null,null,"",null,null,"",""]
[0,0,null,null,null,null,"",null,null,"",""]
[0,0,null,null,null,null,"",null,null,"",""]
[0,0,null,null,null,null,"",null,null,"",""]
[0,0,null,null,null,null,"",null,null,"",""]
[0,0,null,null,null,null,"",null,null,"",""]
[0,0,null,null,null,null,"",null,null,"",""]
[0,0,null,null,null,null,"",null,null,"",""]
[0,0,null,null,null,null,"",null,null,"",""]
[0,0,null,null,null,null,"",null,null,"",""]
[0,0,null,null,null,null,"",null,null,"",""]
[{"$f":"A$972","v":0},{"$f":"B$972","v":0},null,null,null,null,"",null,null,"",""]
[0,0,null,null,null,null,"",null,null,"",""]
[{"$f":"A$972","v":0},0,null,null,null,null,"",null,null,"",""]
[0,0,null,null,null,null,"",null,null,"",""]
[0,0,null,null,null,null,"",null,null,"",""]
[0,0,null,null,null,null,"",null,null,"",""]
[0,0,null,null,null,null,"",null,null,"",""]
[0,0,null,null,null,null,"",null,null,"",""]
[0,0,null,null,null,null,"",null,null,"",""]
[0,0,null,null,null,null,"",null,null,"",""]
[0,0,null,null,null,null,"",null,null,"",""]
[0,0,null,null,null,null,"",null,null,"",""]
[0,0,null,null,null,null,"",null,null,"",""]
[0,0,null,null,null,null,"",null,null,"",""]
[0,0,null,null,null,null,"",null,null,"",""]
[null,null,null,{"$f":"IF(A972=0,\"\",A972)","v":""},null,"Subtotal Line 31",null,{"$f":"ROUND(SUM(G942:G971),2)","v":0},{"$f":"(H972+ROUND((H972*'WA Financial Status Summary'!$C$30),2))*ROUND((1+'WA Financial Status Summary'!$C$33),4)","v":0}]
[{"$f":"A$1003","v":0},{"$f":"B$1003","v":0},null,null,null,null,{"$f":"IFERROR(ROUND(E973*K973,2),\"\")","v":""},null,null,{"$f":"IF(D973=\"\",\"\",VLOOKUP(D973,Staffing_Table,2,FALSE))","v":""},{"$f":"IF(F973<J973,F973,J973)","v":""}]
[{"$f":"A$1003","v":0},0,null,null,null,null,{"$f":"IFERROR(ROUND(E974*K974,2),\"\")","v":""},null,null,"",""]
[0,0,null,null,null,null,"",null,null,"",""]
[0,0,null,null,null,null,"",null,null,"",""]
[0,0,null,null,null,null,"",null,null,"",""]
[0,0,null,null,null,null,"",null,null,"",""]
[0,0,null,null,null,null,"",null,null,"",""]
[0,0,null,null,null,null,"",null,null,"",""]
[0,0,null,null,null,null,"",null,null,"",""]
[0,0,null,null,null,null,"",null,null,"",""]
[0,0,null,null,null,null,"",null,null,"",""]
[0,0,null,null,null,null,"",null,null,"",""]
[0,0,null,null,null,null,"",null,null,"",""]
[0,0,null,null,null,null,"",null,null,"",""]
[0,0,null,null,null,null,"",null,null,"",""]
[{"$f":"A$1003","v":0},{"$f":"B$1003","v":0},null,null,null,null,"",null,null,"",""]
[0,0,null,null,null,null,"",null,null,"",""]
[{"$f":"A$1003","v":0},0,null,null,null,null,"",null,null,"",""]
[0,0,null,null,null,null,"",null,null,"",""]
[0,0,null,null,null,null,"",null,null,"",""]
[0,0,null,null,null,null,"",null,null,"",""]
[0,0,null,null,null,null,"",null,null,"",""]
[0,0,null,null,null,null,"",null,null,"",""]
[0,0,null,null,null,null,"",null,null,"",""]
[0,0,null,null,null,null,"",null,null,"",""]
[0,0,null,null,null,null,"",null,null,"",""]
[0,0,null,null,null,null,"",null,null,"",""]
[0,0,null,null,null,null,"",null,null,"",""]
[0,0,null,null,null,null,"",null,null,"",""]
[0,0,null,null,null,null,"",null,null,"",""]
[null,null,null,{"$f":"IF(A1003=0,\"\",A1003)","v":""},null,"Subtotal Line 32",null,{"$f":"ROUND(SUM(G973:G1002),2)","v":0},{"$f":"(H1003+ROUND((H1003*'WA Financial Status Summary'!$C$30),2))*ROUND((1+'WA Financial Status Summary'!$C$33),4)","v":0}]
[{"$f":"A$1034","v":0},{"$f":"B$1034","v":0},null,null,null,null,{"$f":"IFERROR(ROUND(E1004*K1004,2),\"\")","v":""},null,null,{"$f":"IF(D1004=\"\",\"\",VLOOKUP(D1004,Staffing_Table,2,FALSE))","v":""},""]
[{"$f":"A$1034","v":0},0,null,null,null,null,{"$f":"IFERROR(ROUND(E1005*K1005,2),\"\")","v":""},null,null,"",""]
[0,0,null,null,null,null,"",null,null,"",""]
[0,0,null,null,null,null,"",null,null,"",""]
[0,0,null,null,null,null,"",null,null,"",""]
[0,0,null,null,null,null,"",null,null,"",""]
[0,0,null,null,null,null,"",null,null,"",""]
[0,0,null,null,null,null,"",null,null,"",""]
[0,0,null,null,null,null,"",null,null,"",""]
[0,0,null,null,null,null,"",null,null,"",""]
[0,0,null,null,null,null,"",null,null,"",""]
[0,0,null,null,null,null,"",null,null,"",""]
[0,0,null,null,null,null,"",null,null,"",""]
[0,0,null,null,null,null,"",null,null,"",""]
[0,0,null,null,null,null,"",null,null,"",""]
[{"$f":"A$1034","v":0},{"$f":"B$1034","v":0},null,null,null,null,"",null,null,"",""]
[0,0,null,null,null,null,"",null,null,"",""]
[{"$f":"A$1034","v":0},0,null,null,null,null,"",null,null,"",""]
[0,0,null,null,null,null,"",null,null,"",""]
[0,0,null,null,null,null,"",null,null,"",""]
[0,0,null,null,null,null,"",null,null,"",""]
[0,0,null,null,null,null,"",null,null,"",""]
[0,0,null,null,null,null,"",null,null,"",""]
[0,0,null,null,null,null,"",null,null,"",""]
[0,0,null,null,null,null,"",null,null,"",""]
[0,0,null,null,null,null,"",null,null,"",""]
[0,0,null,null,null,null,"",null,null,"",""]
[0,0,null,null,null,null,"",null,null,"",""]
[0,0,null,null,null,null,"",null,null,"",""]
[0,0,null,null,null,null,"",null,null,"",""]
[null,null,null,{"$f":"IF(A1034=0,\"\",A1034)","v":""},null,"Subtotal Line 33",null,{"$f":"ROUND(SUM(G1004:G1033),2)","v":0},{"$f":"(H1034+ROUND((H1034*'WA Financial Status Summary'!$C$30),2))*ROUND((1+'WA Financial Status Summary'!$C$33),4)","v":0}]
[{"$f":"A$1065","v":0},{"$f":"B$1065","v":0},null,null,null,null,{"$f":"IFERROR(ROUND(E1035*K1035,2),\"\")","v":""},null,null,{"$f":"IF(D1035=\"\",\"\",VLOOKUP(D1035,Staffing_Table,2,FALSE))","v":""},""]
[{"$f":"A$1065","v":0},0,null,null,null,null,{"$f":"IFERROR(ROUND(E1036*K1036,2),\"\")","v":""},null,null,"",""]
[0,0,null,null,null,null,"",null,null,"",{"$f":"IF(F1037<J1037,F1037,J1037)","v":""}]
[0,0,null,null,null,null,"",null,null,"",""]
[0,0,null,null,null,null,"",null,null,"",""]
[0,0,null,null,null,null,"",null,null,"",""]
[0,0,null,null,null,null,"",null,null,"",""]
[0,0,null,null,null,null,"",null,null,"",""]
[0,0,null,null,null,null,"",null,null,"",""]
[0,0,null,null,null,null,"",null,null,"",""]
[0,0,null,null,null,null,"",null,null,"",""]
[0,0,null,null,null,null,"",null,null,"",""]
[0,0,null,null,null,null,"",null,null,"",""]
[0,0,null,null,null,null,"",null,null,"",""]
[0,0,null,null,null,null,"",null,null,"",""]
[{"$f":"A$1065","v":0},{"$f":"B$1065","v":0},null,null,null,null,"",null,null,"",""]
[0,0,null,null,null,null,"",null,null,"",""]
[{"$f":"A$1065","v":0},0,null,null,null,null,"",null,null,"",""]
[0,0,null,null,null,null,"",null,null,"",""]
[0,0,null,null,null,null,"",null,null,"",""]
[0,0,null,null,null,null,"",null,null,"",""]
[0,0,null,null,null,null,"",null,null,"",""]
[0,0,null,null,null,null,"",null,null,"",""]
[0,0,null,null,null,null,"",null,null,"",""]
[0,0,null,null,null,null,"",null,null,"",""]
[0,0,null,null,null,null,"",null,null,"",""]
[0,0,null,null,null,null,"",null,null,"",""]
[0,0,null,null,null,null,"",null,null,"",""]
[0,0,null,null,null,null,"",null,null,"",""]
[0,0,null,null,null,null,"",null,null,"",""]
[null,null,null,{"$f":"IF(A1065=0,\"\",A1065)","v":""},null,"Subtotal Line 34",null,{"$f":"ROUND(SUM(G1035:G1064),2)","v":0},{"$f":"(H1065+ROUND((H1065*'WA Financial Status Summary'!$C$30),2))*ROUND((1+'WA Financial Status Summary'!$C$33),4)","v":0}]
[{"$f":"A$1096","v":0},{"$f":"B$1096","v":0},null,null,null,null,{"$f":"IFERROR(ROUND(E1066*K1066,2),\"\")","v":""},null,null,{"$f":"IF(D1066=\"\",\"\",VLOOKUP(D1066,Staffing_Table,2,FALSE))","v":""},""]
[{"$f":"A$1096","v":0},0,null,null,null,null,{"$f":"IFERROR(ROUND(E1067*K1067,2),\"\")","v":""},null,null,"",""]
[0,0,null,null,null,null,"",null,null,"",""]
[0,0,null,null,null,null,"",null,null,"",""]
[0,0,null,null,null,null,"",null,null,"",""]
[0,0,null,null,null,null,"",null,null,"",""]
[0,0,null,null,null,null,"",null,null,"",""]
[0,0,null,null,null,null,"",null,null,"",""]
[0,0,null,null,null,null,"",null,null,"",""]
[0,0,null,null,null,null,"",null,null,"",""]
[0,0,null,null,null,null,"",null,null,"",""]
[0,0,null,null,null,null,"",null,null,"",""]
[0,0,null,null,null,null,"",null,null,"",""]
[0,0,null,null,null,null,"",null,null,"",""]
[0,0,null,null,null,null,"",null,null,"",""]
[{"$f":"A$1096","v":0},{"$f":"B$1096","v":0},null,null,null,null,"",null,null,"",""]
[0,0,null,null,null,null,"",null,null,"",""]
[{"$f":"A$1096","v":0},0,null,null,null,null,"",null,null,"",""]
[0,0,null,null,null,null,"",null,null,"",""]
[0,0,null,null,null,null,"",null,null,"",""]
[0,0,null,null,null,null,"",null,null,"",""]
[0,0,null,null,null,null,"",null,null,"",""]
[0,0,null,null,null,null,"",null,null,"",""]
[0,0,null,null,null,null,"",null,null,"",""]
[0,0,null,null,null,null,"",null,null,"",""]
[0,0,null,null,null,null,"",null,null,"",""]
[0,0,null,null,null,null,"",null,null,"",""]
[0,0,null,null,null,null,"",null,null,"",""]
[0,0,null,null,null,null,"",null,null,"",""]
[0,0,null,null,null,null,"",null,null,"",""]
[null,null,null,{"$f":"IF(A1096=0,\"\",A1096)","v":""},null,"Subtotal Line 35",null,{"$f":"ROUND(SUM(G1066:G1095),2)","v":0},{"$f":"(H1096+ROUND((H1096*'WA Financial Status Summary'!$C$30),2))*ROUND((1+'WA Financial Status Summary'!$C$33),4)","v":0}]
[{"$f":"A$1127","v":0},{"$f":"B$1127","v":0},null,null,null,null,{"$f":"IFERROR(ROUND(E1097*K1097,2),\"\")","v":""},null,null,{"$f":"IF(D1097=\"\",\"\",VLOOKUP(D1097,Staffing_Table,2,FALSE))","v":""},""]
[{"$f":"A$1127","v":0},0,null,null,null,null,{"$f":"IFERROR(ROUND(E1098*K1098,2),\"\")","v":""},null,null,"",""]
[0,0,null,null,null,null,"",null,null,"",""]
[0,0,null,null,null,null,"",null,null,"",""]
[0,0,null,null,null,null,"",null,null,"",{"$f":"IF(F1101<J1101,F1101,J1101)","v":""}]
[0,0,null,null,null,null,"",null,null,"",""]
[0,0,null,null,null,null,"",null,null,"",""]
[0,0,null,null,null,null,"",null,null,"",""]
[0,0,null,null,null,null,"",null,null,"",""]
[0,0,null,null,null,null,"",null,null,"",""]
[0,0,null,null,null,null,"",null,null,"",""]
[0,0,null,null,null,null,"",null,null,"",""]
[0,0,null,null,null,null,"",null,null,"",""]
[0,0,null,null,null,null,"",null,null,"",""]
[0,0,null,null,null,null,"",null,null,"",""]
[{"$f":"A$1127","v":0},{"$f":"B$1127","v":0},null,null,null,null,"",null,null,"",""]
[0,0,null,null,null,null,"",null,null,"",""]
[{"$f":"A$1127","v":0},0,null,null,null,null,"",null,null,"",""]
[0,0,null,null,null,null,"",null,null,"",""]
[0,0,null,null,null,null,"",null,null,"",""]
[0,0,null,null,null,null,"",null,null,"",""]
[0,0,null,null,null,null,"",null,null,"",""]
[0,0,null,null,null,null,"",null,null,"",""]
[0,0,null,null,null,null,"",null,null,"",""]
[0,0,null,null,null,null,"",null,null,"",""]
[0,0,null,null,null,null,"",null,null,"",""]
[0,0,null,null,null,null,"",null,null,"",""]
[0,0,null,null,null,null,"",null,null,"",""]
[0,0,null,null,null,null,"",null,null,"",""]
[0,0,null,null,null,null,"",null,null,"",""]
[null,null,null,{"$f":"IF(A1127=0,\"\",A1127)","v":""},null,"Subtotal Line 36",null,{"$f":"ROUND(SUM(G1097:G1126),2)","v":0},{"$f":"(H1127+ROUND((H1127*'WA Financial Status Summary'!$C$30),2))*ROUND((1+'WA Financial Status Summary'!$C$33),4)","v":0}]
[{"$f":"A$1158","v":0},{"$f":"B$1158","v":0},null,null,null,null,{"$f":"IFERROR(ROUND(E1128*K1128,2),\"\")","v":""},null,null,{"$f":"IF(D1128=\"\",\"\",VLOOKUP(D1128,Staffing_Table,2,FALSE))","v":""},""]
[{"$f":"A$1158","v":0},0,null,null,null,null,{"$f":"IFERROR(ROUND(E1129*K1129,2),\"\")","v":""},null,null,"",""]
[0,0,null,null,null,null,"",null,null,"",""]
[0,0,null,null,null,null,"",null,null,"",""]
[0,0,null,null,null,null,"",null,null,"",""]
[0,0,null,null,null,null,"",null,null,"",""]
[0,0,null,null,null,null,"",null,null,"",""]
[0,0,null,null,null,null,"",null,null,"",""]
[0,0,null,null,null,null,"",null,null,"",""]
[0,0,null,null,null,null,"",null,null,"",""]
[0,0,null,null,null,null,"",null,null,"",""]
[0,0,null,null,null,null,"",null,null,"",""]
[0,0,null,null,null,null,"",null,null,"",""]
[0,0,null,null,null,null,"",null,null,"",""]
[0,0,null,null,null,null,"",null,null,"",""]
[{"$f":"A$1158","v":0},{"$f":"B$1158","v":0},null,null,null,null,"",null,null,"",""]
[0,0,null,null,null,null,"",null,null,"",""]
[{"$f":"A$1158","v":0},0,null,null,null,null,"",null,null,"",""]
[0,0,null,null,null,null,"",null,null,"",""]
[0,0,null,null,null,null,"",null,null,"",""]
[0,0,null,null,null,null,"",null,null,"",""]
[0,0,null,null,null,null,"",null,null,"",""]
[0,0,null,null,null,null,"",null,null,"",""]
[0,0,null,null,null,null,"",null,null,"",""]
[0,0,null,null,null,null,"",null,null,"",""]
[0,0,null,null,null,null,"",null,null,"",""]
[0,0,null,null,null,null,"",null,null,"",""]
[0,0,null,null,null,null,"",null,null,"",""]
[0,0,null,null,null,null,"",null,null,"",""]
[0,0,null,null,null,null,"",null,null,"",""]
[null,null,null,{"$f":"IF(A1158=0,\"\",A1158)","v":""},null,"Subtotal Line 37",null,{"$f":"ROUND(SUM(G1128:G1157),2)","v":0},{"$f":"(H1158+ROUND((H1158*'WA Financial Status Summary'!$C$30),2))*ROUND((1+'WA Financial Status Summary'!$C$33),4)","v":0}]
[{"$f":"A$1189","v":0},{"$f":"B$1189","v":0},null,null,null,null,{"$f":"IFERROR(ROUND(E1159*K1159,2),\"\")","v":""},null,null,{"$f":"IF(D1159=\"\",\"\",VLOOKUP(D1159,Staffing_Table,2,FALSE))","v":""},""]
[{"$f":"A$1189","v":0},0,null,null,null,null,{"$f":"IFERROR(ROUND(E1160*K1160,2),\"\")","v":""},null,null,"",""]
[0,0,null,null,null,null,"",null,null,"",""]
[0,0,null,null,null,null,"",null,null,"",""]
[0,0,null,null,null,null,"",null,null,"",""]
[0,0,null,null,null,null,"",null,null,"",""]
[0,0,null,null,null,null,"",null,null,"",{"$f":"IF(F1165<J1165,F1165,J1165)","v":""}]
[0,0,null,null,null,null,"",null,null,"",""]
[0,0,null,null,null,null,"",null,null,"",""]
[0,0,null,null,null,null,"",null,null,"",""]
[0,0,null,null,null,null,"",null,null,"",""]
[0,0,null,null,null,null,"",null,null,"",""]
[0,0,null,null,null,null,"",null,null,"",""]
[0,0,null,null,null,null,"",null,null,"",""]
[0,0,null,null,null,null,"",null,null,"",""]
[{"$f":"A$1189","v":0},{"$f":"B$1189","v":0},null,null,null,null,"",null,null,"",""]
[0,0,null,null,null,null,"",null,null,"",""]
[{"$f":"A$1189","v":0},0,null,null,null,null,"",null,null,"",""]
[0,0,null,null,null,null,"",null,null,"",""]
[0,0,null,null,null,null,"",null,null,"",""]
[0,0,null,null,null,null,"",null,null,"",""]
[0,0,null,null,null,null,"",null,null,"",""]
[0,0,null,null,null,null,"",null,null,"",""]
[0,0,null,null,null,null,"",null,null,"",""]
[0,0,null,null,null,null,"",null,null,"",""]
[0,0,null,null,null,null,"",null,null,"",""]
[0,0,null,null,null,null,"",null,null,"",""]
[0,0,null,null,null,null,"",null,null,"",""]
[0,0,null,null,null,null,"",null,null,"",""]
[0,0,null,null,null,null,"",null,null,"",""]
[null,null,null,{"$f":"IF(A1189=0,\"\",A1189)","v":""},null,"Subtotal Line 38",null,{"$f":"ROUND(SUM(G1159:G1188),2)","v":0},{"$f":"(H1189+ROUND((H1189*'WA Financial Status Summary'!$C$30),2))*ROUND((1+'WA Financial Status Summary'!$C$33),4)","v":0}]
[{"$f":"A$1220","v":0},{"$f":"B$1220","v":0},null,null,null,null,{"$f":"IFERROR(ROUND(E1190*K1190,2),\"\")","v":""},null,null,{"$f":"IF(D1190=\"\",\"\",VLOOKUP(D1190,Staffing_Table,2,FALSE))","v":""},""]
[{"$f":"A$1220","v":0},0,null,null,null,null,{"$f":"IFERROR(ROUND(E1191*K1191,2),\"\")","v":""},null,null,"",""]
[0,0,null,null,null,null,"",null,null,"",""]
[0,0,null,null,null,null,"",null,null,"",""]
[0,0,null,null,null,null,"",null,null,"",""]
[0,0,null,null,null,null,"",null,null,"",""]
[0,0,null,null,null,null,"",null,null,"",""]
[0,0,null,null,null,null,"",null,null,"",""]
[0,0,null,null,null,null,"",null,null,"",""]
[0,0,null,null,null,null,"",null,null,"",""]
[0,0,null,null,null,null,"",null,null,"",""]
[0,0,null,null,null,null,"",null,null,"",""]
[0,0,null,null,null,null,"",null,null,"",""]
[0,0,null,null,null,null,"",null,null,"",""]
[0,0,null,null,null,null,"",null,null,"",""]
[{"$f":"A$1220","v":0},{"$f":"B$1220","v":0},null,null,null,null,"",null,null,"",""]
[0,0,null,null,null,null,"",null,null,"",""]
[{"$f":"A$1220","v":0},0,null,null,null,null,"",null,null,"",""]
[0,0,null,null,null,null,"",null,null,"",""]
[0,0,null,null,null,null,"",null,null,"",""]
[0,0,null,null,null,null,"",null,null,"",""]
[0,0,null,null,null,null,"",null,null,"",""]
[0,0,null,null,null,null,"",null,null,"",""]
[0,0,null,null,null,null,"",null,null,"",""]
[0,0,null,null,null,null,"",null,null,"",""]
[0,0,null,null,null,null,"",null,null,"",""]
[0,0,null,null,null,null,"",null,null,"",""]
[0,0,null,null,null,null,"",null,null,"",""]
[0,0,null,null,null,null,"",null,null,"",""]
[0,0,null,null,null,null,"",null,null,"",""]
[null,null,null,{"$f":"IF(A1220=0,\"\",A1220)","v":""},null,"Subtotal Line 39",null,{"$f":"ROUND(SUM(G1190:G1219),2)","v":0},{"$f":"(H1220+ROUND((H1220*'WA Financial Status Summary'!$C$30),2))*ROUND((1+'WA Financial Status Summary'!$C$33),4)","v":0}]
[{"$f":"A$1251","v":0},{"$f":"B$1251","v":0},null,null,null,null,{"$f":"IFERROR(ROUND(E1221*K1221,2),\"\")","v":""},null,null,{"$f":"IF(D1221=\"\",\"\",VLOOKUP(D1221,Staffing_Table,2,FALSE))","v":""},""]
[{"$f":"A$1251","v":0},0,null,null,null,null,{"$f":"IFERROR(ROUND(E1222*K1222,2),\"\")","v":""},null,null,"",""]
[0,0,null,null,null,null,"",null,null,"",""]
[0,0,null,null,null,null,"",null,null,"",""]
[0,0,null,null,null,null,"",null,null,"",""]
[0,0,null,null,null,null,"",null,null,"",""]
[0,0,null,null,null,null,"",null,null,"",""]
[0,0,null,null,null,null,"",null,null,"",""]
[0,0,null,null,null,null,"",null,null,"",{"$f":"IF(F1229<J1229,F1229,J1229)","v":""}]
[0,0,null,null,null,null,"",null,null,"",""]
[0,0,null,null,null,null,"",null,null,"",""]
[0,0,null,null,null,null,"",null,null,"",""]
[0,0,null,null,null,null,"",null,null,"",""]
[0,0,null,null,null,null,"",null,null,"",""]
[0,0,null,null,null,null,"",null,null,"",""]
[{"$f":"A$1251","v":0},{"$f":"B$1251","v":0},null,null,null,null,"",null,null,"",""]
[0,0,null,null,null,null,"",null,null,"",""]
[{"$f":"A$1251","v":0},0,null,null,null,null,"",null,null,"",""]
[0,0,null,null,null,null,"",null,null,"",""]
[0,0,null,null,null,null,"",null,null,"",""]
[0,0,null,null,null,null,"",null,null,"",""]
[0,0,null,null,null,null,"",null,null,"",""]
[0,0,null,null,null,null,"",null,null,"",""]
[0,0,null,null,null,null,"",null,null,"",""]
[0,0,null,null,null,null,"",null,null,"",""]
[0,0,null,null,null,null,"",null,null,"",""]
[0,0,null,null,null,null,"",null,null,"",""]
[0,0,null,null,null,null,"",null,null,"",""]
[0,0,null,null,null,null,"",null,null,"",""]
[0,0,null,null,null,null,"",null,null,"",""]
[null,null,null,{"$f":"IF(A1251=0,\"\",A1251)","v":""},null,"Subtotal Line 40",null,{"$f":"ROUND(SUM(G1221:G1250),2)","v":0},{"$f":"(H1251+ROUND((H1251*'WA Financial Status Summary'!$C$30),2))*ROUND((1+'WA Financial Status Summary'!$C$33),4)","v":0}]
[{"$f":"A$1282","v":0},{"$f":"B$1282","v":0},null,null,null,null,{"$f":"IFERROR(ROUND(E1252*K1252,2),\"\")","v":""},null,null,{"$f":"IF(D1252=\"\",\"\",VLOOKUP(D1252,Staffing_Table,2,FALSE))","v":""},""]
[{"$f":"A$1282","v":0},0,null,null,null,null,{"$f":"IFERROR(ROUND(E1253*K1253,2),\"\")","v":""},null,null,"",""]
[0,0,null,null,null,null,"",null,null,"",""]
[0,0,null,null,null,null,"",null,null,"",""]
[0,0,null,null,null,null,"",null,null,"",""]
[0,0,null,null,null,null,"",null,null,"",""]
[0,0,null,null,null,null,"",null,null,"",""]
[0,0,null,null,null,null,"",null,null,"",""]
[0,0,null,null,null,null,"",null,null,"",""]
[0,0,null,null,null,null,"",null,null,"",""]
[0,0,null,null,null,null,"",null,null,"",""]
[0,0,null,null,null,null,"",null,null,"",""]
[0,0,null,null,null,null,"",null,null,"",""]
[0,0,null,null,null,null,"",null,null,"",""]
[0,0,null,null,null,null,"",null,null,"",""]
[{"$f":"A$1282","v":0},{"$f":"B$1282","v":0},null,null,null,null,"",null,null,"",""]
[0,0,null,null,null,null,"",null,null,"",""]
[{"$f":"A$1282","v":0},0,null,null,null,null,"",null,null,"",""]
[0,0,null,null,null,null,"",null,null,"",""]
[0,0,null,null,null,null,"",null,null,"",""]
[0,0,null,null,null,null,"",null,null,"",""]
[0,0,null,null,null,null,"",null,null,"",""]
[0,0,null,null,null,null,"",null,null,"",""]
[0,0,null,null,null,null,"",null,null,"",""]
[0,0,null,null,null,null,"",null,null,"",""]
[0,0,null,null,null,null,"",null,null,"",""]
[0,0,null,null,null,null,"",null,null,"",""]
[0,0,null,null,null,null,"",null,null,"",""]
[0,0,null,null,null,null,"",null,null,"",""]
[0,0,null,null,null,null,"",null,null,"",""]
[null,null,null,{"$f":"IF(A1282=0,\"\",A1282)","v":""},null,"Subtotal Line 41",null,{"$f":"ROUND(SUM(G1252:G1281),2)","v":0},{"$f":"(H1282+ROUND((H1282*'WA Financial Status Summary'!$C$30),2))*ROUND((1+'WA Financial Status Summary'!$C$33),4)","v":0}]
[{"$f":"A$1313","v":0},{"$f":"B$1313","v":0},null,null,null,null,{"$f":"IFERROR(ROUND(E1283*K1283,2),\"\")","v":""},null,null,{"$f":"IF(D1283=\"\",\"\",VLOOKUP(D1283,Staffing_Table,2,FALSE))","v":""},""]
[{"$f":"A$1313","v":0},0,null,null,null,null,{"$f":"IFERROR(ROUND(E1284*K1284,2),\"\")","v":""},null,null,"",""]
[0,0,null,null,null,null,"",null,null,"",""]
[0,0,null,null,null,null,"",null,null,"",""]
[0,0,null,null,null,null,"",null,null,"",""]
[0,0,null,null,null,null,"",null,null,"",""]
[0,0,null,null,null,null,"",null,null,"",""]
[0,0,null,null,null,null,"",null,null,"",""]
[0,0,null,null,null,null,"",null,null,"",""]
[0,0,null,null,null,null,"",null,null,"",""]
[0,0,null,null,null,null,"",null,null,"",{"$f":"IF(F1293<J1293,F1293,J1293)","v":""}]
[0,0,null,null,null,null,"",null,null,"",""]
[0,0,null,null,null,null,"",null,null,"",""]
[0,0,null,null,null,null,"",null,null,"",""]
[0,0,null,null,null,null,"",null,null,"",""]
[{"$f":"A$1313","v":0},{"$f":"B$1313","v":0},null,null,null,null,"",null,null,"",""]
[0,0,null,null,null,null,"",null,null,"",""]
[{"$f":"A$1313","v":0},0,null,null,null,null,"",null,null,"",""]
[0,0,null,null,null,null,"",null,null,"",""]
[0,0,null,null,null,null,"",null,null,"",""]
[0,0,null,null,null,null,"",null,null,"",""]
[0,0,null,null,null,null,"",null,null,"",""]
[0,0,null,null,null,null,"",null,null,"",""]
[0,0,null,null,null,null,"",null,null,"",""]
[0,0,null,null,null,null,"",null,null,"",""]
[0,0,null,null,null,null,"",null,null,"",""]
[0,0,null,null,null,null,"",null,null,"",""]
[0,0,null,null,null,null,"",null,null,"",""]
[0,0,null,null,null,null,"",null,null,"",""]
[0,0,null,null,null,null,"",null,null,"",""]
[null,null,null,{"$f":"IF(A1313=0,\"\",A1313)","v":""},null,"Subtotal Line 42",null,{"$f":"ROUND(SUM(G1283:G1312),2)","v":0},{"$f":"(H1313+ROUND((H1313*'WA Financial Status Summary'!$C$30),2))*ROUND((1+'WA Financial Status Summary'!$C$33),4)","v":0}]
[{"$f":"A$1344","v":0},{"$f":"B$1344","v":0},null,null,null,null,{"$f":"IFERROR(ROUND(E1314*K1314,2),\"\")","v":""},null,null,{"$f":"IF(D1314=\"\",\"\",VLOOKUP(D1314,Staffing_Table,2,FALSE))","v":""},""]
[{"$f":"A$1344","v":0},0,null,null,null,null,{"$f":"IFERROR(ROUND(E1315*K1315,2),\"\")","v":""},null,null,"",""]
[0,0,null,null,null,null,"",null,null,"",""]
[0,0,null,null,null,null,"",null,null,"",""]
[0,0,null,null,null,null,"",null,null,"",""]
[0,0,null,null,null,null,"",null,null,"",""]
[0,0,null,null,null,null,"",null,null,"",""]
[0,0,null,null,null,null,"",null,null,"",""]
[0,0,null,null,null,null,"",null,null,"",""]
[0,0,null,null,null,null,"",null,null,"",""]
[0,0,null,null,null,null,"",null,null,"",""]
[0,0,null,null,null,null,"",null,null,"",""]
[0,0,null,null,null,null,"",null,null,"",""]
[0,0,null,null,null,null,"",null,null,"",""]
[0,0,null,null,null,null,"",null,null,"",""]
[{"$f":"A$1344","v":0},{"$f":"B$1344","v":0},null,null,null,null,"",null,null,"",""]
[0,0,null,null,null,null,"",null,null,"",""]
[{"$f":"A$1344","v":0},0,null,null,null,null,"",null,null,"",""]
[0,0,null,null,null,null,"",null,null,"",""]
[0,0,null,null,null,null,"",null,null,"",""]
[0,0,null,null,null,null,"",null,null,"",""]
[0,0,null,null,null,null,"",null,null,"",""]
[0,0,null,null,null,null,"",null,null,"",""]
[0,0,null,null,null,null,"",null,null,"",""]
[0,0,null,null,null,null,"",null,null,"",""]
[0,0,null,null,null,null,"",null,null,"",""]
[0,0,null,null,null,null,"",null,null,"",""]
[0,0,null,null,null,null,"",null,null,"",""]
[0,0,null,null,null,null,"",null,null,"",""]
[0,0,null,null,null,null,"",null,null,"",""]
[null,null,null,{"$f":"IF(A1344=0,\"\",A1344)","v":""},null,"Subtotal Line 43",null,{"$f":"ROUND(SUM(G1314:G1343),2)","v":0},{"$f":"(H1344+ROUND((H1344*'WA Financial Status Summary'!$C$30),2))*ROUND((1+'WA Financial Status Summary'!$C$33),4)","v":0}]
[{"$f":"A$1375","v":0},{"$f":"B$1375","v":0},null,null,null,null,{"$f":"IFERROR(ROUND(E1345*K1345,2),\"\")","v":""},null,null,{"$f":"IF(D1345=\"\",\"\",VLOOKUP(D1345,Staffing_Table,2,FALSE))","v":""},""]
[{"$f":"A$1375","v":0},0,null,null,null,null,{"$f":"IFERROR(ROUND(E1346*K1346,2),\"\")","v":""},null,null,"",""]
[0,0,null,null,null,null,"",null,null,"",""]
[0,0,null,null,null,null,"",null,null,"",""]
[0,0,null,null,null,null,"",null,null,"",""]
[0,0,null,null,null,null,"",null,null,"",""]
[0,0,null,null,null,null,"",null,null,"",""]
[0,0,null,null,null,null,"",null,null,"",""]
[0,0,null,null,null,null,"",null,null,"",""]
[0,0,null,null,null,null,"",null,null,"",""]
[0,0,null,null,null,null,"",null,null,"",""]
[0,0,null,null,null,null,"",null,null,"",""]
[0,0,null,null,null,null,"",null,null,"",{"$f":"IF(F1357<J1357,F1357,J1357)","v":""}]
[0,0,null,null,null,null,"",null,null,"",""]
[0,0,null,null,null,null,"",null,null,"",""]
[{"$f":"A$1375","v":0},{"$f":"B$1375","v":0},null,null,null,null,"",null,null,"",""]
[0,0,null,null,null,null,"",null,null,"",""]
[{"$f":"A$1375","v":0},0,null,null,null,null,"",null,null,"",""]
[0,0,null,null,null,null,"",null,null,"",""]
[0,0,null,null,null,null,"",null,null,"",""]
[0,0,null,null,null,null,"",null,null,"",""]
[0,0,null,null,null,null,"",null,null,"",""]
[0,0,null,null,null,null,"",null,null,"",""]
[0,0,null,null,null,null,"",null,null,"",""]
[0,0,null,null,null,null,"",null,null,"",""]
[0,0,null,null,null,null,"",null,null,"",""]
[0,0,null,null,null,null,"",null,null,"",""]
[0,0,null,null,null,null,"",null,null,"",""]
[0,0,null,null,null,null,"",null,null,"",""]
[0,0,null,null,null,null,"",null,null,"",""]
[null,null,null,{"$f":"IF(A1375=0,\"\",A1375)","v":""},null,"Subtotal Line 44",null,{"$f":"ROUND(SUM(G1345:G1374),2)","v":0},{"$f":"(H1375+ROUND((H1375*'WA Financial Status Summary'!$C$30),2))*ROUND((1+'WA Financial Status Summary'!$C$33),4)","v":0}]
[{"$f":"A$1406","v":0},{"$f":"B$1406","v":0},null,null,null,null,{"$f":"IFERROR(ROUND(E1376*K1376,2),\"\")","v":""},null,null,{"$f":"IF(D1376=\"\",\"\",VLOOKUP(D1376,Staffing_Table,2,FALSE))","v":""},""]
[{"$f":"A$1406","v":0},0,null,null,null,null,{"$f":"IFERROR(ROUND(E1377*K1377,2),\"\")","v":""},null,null,"",""]
[0,0,null,null,null,null,"",null,null,"",""]
[0,0,null,null,null,null,"",null,null,"",""]
[0,0,null,null,null,null,"",null,null,"",""]
[0,0,null,null,null,null,"",null,null,"",""]
[0,0,null,null,null,null,"",null,null,"",""]
[0,0,null,null,null,null,"",null,null,"",""]
[0,0,null,null,null,null,"",null,null,"",""]
[0,0,null,null,null,null,"",null,null,"",""]
[0,0,null,null,null,null,"",null,null,"",""]
[0,0,null,null,null,null,"",null,null,"",""]
[0,0,null,null,null,null,"",null,null,"",""]
[0,0,null,null,null,null,"",null,null,"",""]
[0,0,null,null,null,null,"",null,null,"",""]
[{"$f":"A$1406","v":0},{"$f":"B$1406","v":0},null,null,null,null,"",null,null,"",""]
[0,0,null,null,null,null,"",null,null,"",""]
[{"$f":"A$1406","v":0},0,null,null,null,null,"",null,null,"",""]
[0,0,null,null,null,null,"",null,null,"",""]
[0,0,null,null,null,null,"",null,null,"",""]
[0,0,null,null,null,null,"",null,null,"",""]
[0,0,null,null,null,null,"",null,null,"",""]
[0,0,null,null,null,null,"",null,null,"",""]
[0,0,null,null,null,null,"",null,null,"",""]
[0,0,null,null,null,null,"",null,null,"",""]
[0,0,null,null,null,null,"",null,null,"",""]
[0,0,null,null,null,null,"",null,null,"",""]
[0,0,null,null,null,null,"",null,null,"",""]
[0,0,null,null,null,null,"",null,null,"",""]
[0,0,null,null,null,null,"",null,null,"",""]
[null,null,null,{"$f":"IF(A1406=0,\"\",A1406)","v":""},null,"Subtotal Line 45",null,{"$f":"ROUND(SUM(G1376:G1405),2)","v":0},{"$f":"(H1406+ROUND((H1406*'WA Financial Status Summary'!$C$30),2))*ROUND((1+'WA Financial Status Summary'!$C$33),4)","v":0}]
[{"$f":"A$1437","v":0},{"$f":"B$1437","v":0},null,null,null,null,{"$f":"IFERROR(ROUND(E1407*K1407,2),\"\")","v":""},null,null,{"$f":"IF(D1407=\"\",\"\",VLOOKUP(D1407,Staffing_Table,2,FALSE))","v":""},""]
[{"$f":"A$1437","v":0},0,null,null,null,null,{"$f":"IFERROR(ROUND(E1408*K1408,2),\"\")","v":""},null,null,"",""]
[0,0,null,null,null,null,"",null,null,"",""]
[0,0,null,null,null,null,"",null,null,"",""]
[0,0,null,null,null,null,"",null,null,"",""]
[0,0,null,null,null,null,"",null,null,"",""]
[0,0,null,null,null,null,"",null,null,"",""]
[0,0,null,null,null,null,"",null,null,"",""]
[0,0,null,null,null,null,"",null,null,"",""]
[0,0,null,null,null,null,"",null,null,"",""]
[0,0,null,null,null,null,"",null,null,"",""]
[0,0,null,null,null,null,"",null,null,"",""]
[0,0,null,null,null,null,"",null,null,"",""]
[0,0,null,null,null,null,"",null,null,"",""]
[0,0,null,null,null,null,"",null,null,"",{"$f":"IF(F1421<J1421,F1421,J1421)","v":""}]
[{"$f":"A$1437","v":0},{"$f":"B$1437","v":0},null,null,null,null,"",null,null,"",""]
[0,0,null,null,null,null,"",null,null,"",""]
[{"$f":"A$1437","v":0},0,null,null,null,null,"",null,null,"",""]
[0,0,null,null,null,null,"",null,null,"",""]
[0,0,null,null,null,null,"",null,null,"",""]
[0,0,null,null,null,null,"",null,null,"",""]
[0,0,null,null,null,null,"",null,null,"",""]
[0,0,null,null,null,null,"",null,null,"",""]
[0,0,null,null,null,null,"",null,null,"",""]
[0,0,null,null,null,null,"",null,null,"",""]
[0,0,null,null,null,null,"",null,null,"",""]
[0,0,null,null,null,null,"",null,null,"",""]
[0,0,null,null,null,null,"",null,null,"",""]
[0,0,null,null,null,null,"",null,null,"",""]
[0,0,null,null,null,null,"",null,null,"",""]
[null,null,null,{"$f":"IF(A1437=0,\"\",A1437)","v":""},null,"Subtotal Line 46",null,{"$f":"ROUND(SUM(G1407:G1436),2)","v":0},{"$f":"(H1437+ROUND((H1437*'WA Financial Status Summary'!$C$30),2))*ROUND((1+'WA Financial Status Summary'!$C$33),4)","v":0}]
[{"$f":"A$1468","v":0},{"$f":"B$1468","v":0},null,null,null,null,{"$f":"IFERROR(ROUND(E1438*K1438,2),\"\")","v":""},null,null,{"$f":"IF(D1438=\"\",\"\",VLOOKUP(D1438,Staffing_Table,2,FALSE))","v":""},""]
[{"$f":"A$1468","v":0},0,null,null,null,null,{"$f":"IFERROR(ROUND(E1439*K1439,2),\"\")","v":""},null,null,"",""]
[0,0,null,null,null,null,"",null,null,"",""]
[0,0,null,null,null,null,"",null,null,"",""]
[0,0,null,null,null,null,"",null,null,"",""]
[0,0,null,null,null,null,"",null,null,"",""]
[0,0,null,null,null,null,"",null,null,"",""]
[0,0,null,null,null,null,"",null,null,"",""]
[0,0,null,null,null,null,"",null,null,"",""]
[0,0,null,null,null,null,"",null,null,"",""]
[0,0,null,null,null,null,"",null,null,"",""]
[0,0,null,null,null,null,"",null,null,"",""]
[0,0,null,null,null,null,"",null,null,"",""]
[0,0,null,null,null,null,"",null,null,"",""]
[0,0,null,null,null,null,"",null,null,"",""]
[{"$f":"A$1468","v":0},{"$f":"B$1468","v":0},null,null,null,null,"",null,null,"",""]
[0,0,null,null,null,null,"",null,null,"",""]
[{"$f":"A$1468","v":0},0,null,null,null,null,"",null,null,"",""]
[0,0,null,null,null,null,"",null,null,"",""]
[0,0,null,null,null,null,"",null,null,"",""]
[0,0,null,null,null,null,"",null,null,"",""]
[0,0,null,null,null,null,"",null,null,"",""]
[0,0,null,null,null,null,"",null,null,"",""]
[0,0,null,null,null,null,"",null,null,"",""]
[0,0,null,null,null,null,"",null,null,"",""]
[0,0,null,null,null,null,"",null,null,"",""]
[0,0,null,null,null,null,"",null,null,"",""]
[0,0,null,null,null,null,"",null,null,"",""]
[0,0,null,null,null,null,"",null,null,"",""]
[0,0,null,null,null,null,"",null,null,"",""]
[null,null,null,{"$f":"IF(A1468=0,\"\",A1468)","v":""},null,"Subtotal Line 47",null,{"$f":"ROUND(SUM(G1438:G1467),2)","v":0},{"$f":"(H1468+ROUND((H1468*'WA Financial Status Summary'!$C$30),2))*ROUND((1+'WA Financial Status Summary'!$C$33),4)","v":0}]
[{"$f":"A$1499","v":0},{"$f":"B$1499","v":0},null,null,null,null,{"$f":"IFERROR(ROUND(E1469*K1469,2),\"\")","v":""},null,null,{"$f":"IF(D1469=\"\",\"\",VLOOKUP(D1469,Staffing_Table,2,FALSE))","v":""},""]
[{"$f":"A$1499","v":0},0,null,null,null,null,{"$f":"IFERROR(ROUND(E1470*K1470,2),\"\")","v":""},null,null,"",""]
[0,0,null,null,null,null,"",null,null,"",""]
[0,0,null,null,null,null,"",null,null,"",""]
[0,0,null,null,null,null,"",null,null,"",""]
[0,0,null,null,null,null,"",null,null,"",""]
[0,0,null,null,null,null,"",null,null,"",""]
[0,0,null,null,null,null,"",null,null,"",""]
[0,0,null,null,null,null,"",null,null,"",""]
[0,0,null,null,null,null,"",null,null,"",""]
[0,0,null,null,null,null,"",null,null,"",""]
[0,0,null,null,null,null,"",null,null,"",""]
[0,0,null,null,null,null,"",null,null,"",""]
[0,0,null,null,null,null,"",null,null,"",""]
[0,0,null,null,null,null,"",null,null,"",""]
[{"$f":"A$1499","v":0},{"$f":"B$1499","v":0},null,null,null,null,"",null,null,"",""]
[0,0,null,null,null,null,"",null,null,"",{"$f":"IF(F1485<J1485,F1485,J1485)","v":""}]
[{"$f":"A$1499","v":0},0,null,null,null,null,"",null,null,"",""]
[0,0,null,null,null,null,"",null,null,"",""]
[0,0,null,null,null,null,"",null,null,"",""]
[0,0,null,null,null,null,"",null,null,"",""]
[0,0,null,null,null,null,"",null,null,"",""]
[0,0,null,null,null,null,"",null,null,"",""]
[0,0,null,null,null,null,"",null,null,"",""]
[0,0,null,null,null,null,"",null,null,"",""]
[0,0,null,null,null,null,"",null,null,"",""]
[0,0,null,null,null,null,"",null,null,"",""]
[0,0,null,null,null,null,"",null,null,"",""]
[0,0,null,null,null,null,"",null,null,"",""]
[0,0,null,null,null,null,"",null,null,"",""]
[null,null,null,{"$f":"IF(A1499=0,\"\",A1499)","v":""},null,"Subtotal Line 48",null,{"$f":"ROUND(SUM(G1469:G1498),2)","v":0},{"$f":"(H1499+ROUND((H1499*'WA Financial Status Summary'!$C$30),2))*ROUND((1+'WA Financial Status Summary'!$C$33),4)","v":0}]
[{"$f":"A$1530","v":0},{"$f":"B$1530","v":0},null,null,null,null,{"$f":"IFERROR(ROUND(E1500*K1500,2),\"\")","v":""},null,null,{"$f":"IF(D1500=\"\",\"\",VLOOKUP(D1500,Staffing_Table,2,FALSE))","v":""},""]
[{"$f":"A$1530","v":0},0,null,null,null,null,{"$f":"IFERROR(ROUND(E1501*K1501,2),\"\")","v":""},null,null,"",""]
[0,0,null,null,null,null,"",null,null,"",""]
[0,0,null,null,null,null,"",null,null,"",""]
[0,0,null,null,null,null,"",null,null,"",""]
[0,0,null,null,null,null,"",null,null,"",""]
[0,0,null,null,null,null,"",null,null,"",""]
[0,0,null,null,null,null,"",null,null,"",""]
[0,0,null,null,null,null,"",null,null,"",""]
[0,0,null,null,null,null,"",null,null,"",""]
[0,0,null,null,null,null,"",null,null,"",""]
[0,0,null,null,null,null,"",null,null,"",""]
[0,0,null,null,null,null,"",null,null,"",""]
[0,0,null,null,null,null,"",null,null,"",""]
[0,0,null,null,null,null,"",null,null,"",""]
[{"$f":"A$1530","v":0},{"$f":"B$1530","v":0},null,null,null,null,"",null,null,"",""]
[0,0,null,null,null,null,"",null,null,"",""]
[{"$f":"A$1530","v":0},0,null,null,null,null,"",null,null,"",""]
[0,0,null,null,null,null,"",null,null,"",""]
[0,0,null,null,null,null,"",null,null,"",""]
[0,0,null,null,null,null,"",null,null,"",""]
[0,0,null,null,null,null,"",null,null,"",""]
[0,0,null,null,null,null,"",null,null,"",""]
[0,0,null,null,null,null,"",null,null,"",""]
[0,0,null,null,null,null,"",null,null,"",""]
[0,0,null,null,null,null,"",null,null,"",""]
[0,0,null,null,null,null,"",null,null,"",""]
[0,0,null,null,null,null,"",null,null,"",""]
[0,0,null,null,null,null,"",null,null,"",""]
[0,0,null,null,null,null,"",null,null,"",""]
[null,null,null,{"$f":"IF(A1530=0,\"\",A1530)","v":""},null,"Subtotal Line 49",null,{"$f":"ROUND(SUM(G1500:G1529),2)","v":0},{"$f":"(H1530+ROUND((H1530*'WA Financial Status Summary'!$C$30),2))*ROUND((1+'WA Financial Status Summary'!$C$33),4)","v":0}]
[{"$f":"A$1561","v":0},{"$f":"B$1561","v":0},null,null,null,null,{"$f":"IFERROR(ROUND(E1531*K1531,2),\"\")","v":""},null,null,{"$f":"IF(D1531=\"\",\"\",VLOOKUP(D1531,Staffing_Table,2,FALSE))","v":""},""]
[{"$f":"A$1561","v":0},0,null,null,null,null,{"$f":"IFERROR(ROUND(E1532*K1532,2),\"\")","v":""},null,null,"",""]
[0,0,null,null,null,null,"",null,null,"",""]
[0,0,null,null,null,null,"",null,null,"",""]
[0,0,null,null,null,null,"",null,null,"",""]
[0,0,null,null,null,null,"",null,null,"",""]
[0,0,null,null,null,null,"",null,null,"",""]
[0,0,null,null,null,null,"",null,null,"",""]
[0,0,null,null,null,null,"",null,null,"",""]
[0,0,null,null,null,null,"",null,null,"",""]
[0,0,null,null,null,null,"",null,null,"",""]
[0,0,null,null,null,null,"",null,null,"",""]
[0,0,null,null,null,null,"",null,null,"",""]
[0,0,null,null,null,null,"",null,null,"",""]
[0,0,null,null,null,null,"",null,null,"",""]
[{"$f":"A$1561","v":0},{"$f":"B$1561","v":0},null,null,null,null,"",null,null,"",""]
[0,0,null,null,null,null,"",null,null,"",""]
[{"$f":"A$1561","v":0},0,null,null,null,null,"",null,null,"",""]
[0,0,null,null,null,null,"",null,null,"",{"$f":"IF(F1549<J1549,F1549,J1549)","v":""}]
[0,0,null,null,null,null,"",null,null,"",""]
[0,0,null,null,null,null,"",null,null,"",""]
[0,0,null,null,null,null,"",null,null,"",""]
[0,0,null,null,null,null,"",null,null,"",""]
[0,0,null,null,null,null,"",null,null,"",""]
[0,0,null,null,null,null,"",null,null,"",""]
[0,0,null,null,null,null,"",null,null,"",""]
[0,0,null,null,null,null,"",null,null,"",""]
[0,0,null,null,null,null,"",null,null,"",""]
[0,0,null,null,null,null,"",null,null,"",""]
[0,0,null,null,null,null,"",null,null,"",""]
[null,null,null,{"$f":"IF(A1561=0,\"\",A1561)","v":""},null,"Subtotal Line 50",null,{"$f":"ROUND(SUM(G1531:G1560),2)","v":0},{"$f":"(H1561+ROUND((H1561*'WA Financial Status Summary'!$C$30),2))*ROUND((1+'WA Financial Status Summary'!$C$33),4)","v":0}]
["Total Labor Summary",null,null,"Total",null,null,null,{"$f":"ROUND(SUM(H12:H1561),2)","v":0}]
["Total Labor Including OH & FF",null,null,"Total",null,null,null,null,{"$f":"SUM(ROUND(I12:I1561,2))","v":0}]

{"sheet":"Labor Summary (Field)","index":8,"n_rows":1563,"n_cols":12,"rows_kept":1563,"cut":false,"hidden":false,"merged":[[2,0,2,8],[3,0,3,8],[4,0,4,8],[6,0,6,1],[6,2,6,3],[6,4,6,5],[6,6,6,8],[5,0,5,8],[7,0,7,1],[7,2,7,3],[7,4,7,5],[7,6,7,8],[9,0,9,8],[165,5,165,6],[134,5,134,6],[103,5,103,6],[72,5,72,6],[41,5,41,6],[320,5,320,6],[289,5,289,6],[258,5,258,6],[227,5,227,6],[196,5,196,6],[475,5,475,6],[444,5,444,6],[413,5,413,6],[382,5,382,6],[351,5,351,6],[630,5,630,6],[599,5,599,6],[568,5,568,6],[537,5,537,6],[506,5,506,6],[785,5,785,6],[754,5,754,6],[723,5,723,6],[692,5,692,6],[661,5,661,6],[940,5,940,6],[909,5,909,6],[878,5,878,6],[847,5,847,6],[816,5,816,6],[1095,5,1095,6],[1064,5,1064,6],[1033,5,1033,6],[1002,5,1002,6],[971,5,971,6],[1250,5,1250,6],[1219,5,1219,6],[1188,5,1188,6],[1157,5,1157,6],[1126,5,1126,6],[1405,5,1405,6],[1374,5,1374,6],[1343,5,1343,6],[1312,5,1312,6],[1281,5,1281,6],[1560,5,1560,6],[1529,5,1529,6],[1498,5,1498,6],[1467,5,1467,6],[1436,5,1436,6]]}
[null,null,null,null,null,null,null,"Provider Invoice No.  ",{"$f":"Invoice!G1","v":0},null,null,"Monthly Submittal Cell"]
[null,null,null,null,null,null,null,"Combined Invoice Template Log No.  ",{"$f":"Invoice!G2","v":0},null,"Instructions","Click link to see instructions for this tab"]
[]
[]
["LABOR SUMMARY (FIELD)"]
["Cost Plus Fixed Fee Payment Method"]
[{"$f":"Invoice!A7","v":"Provider Name:  "},null,{"$f":"Invoice!C7","v":0},null,{"$f":"Invoice!E7","v":"Legacy Contract No.  "},null,{"$f":"Invoice!F7","v":0}]
[{"$f":"Invoice!A8","v":"Provider ID No.  "},null,{"$f":"Invoice!C8","v":0},null,{"$f":"Invoice!E10","v":"Legacy WA No."},null,{"$f":"Invoice!F10","v":0}]
[]
["Labor Breakdown (Field):"]
["Project CSJ/Detail No.","Source (FC)","Emp Name\n(Acronym)","Employee Staffing Category (Acronym)","No. of Hours","Actual Hourly Rate","Total Direct Labor","Total Labor by FC","Total Labor Including OH & FF by FC"]
[{"$f":"A$42","v":0},{"$f":"B$42","v":0},null,null,null,null,{"$f":"IFERROR(ROUND(E12*K12,2),\"\")","v":""},null,null,{"$f":"IF(D12=\"\",\"\",VLOOKUP(D12,Staffing_Table,2,FALSE))","v":""},{"$f":"IF(F12<J12,F12,J12)","v":""}]
[{"$f":"A$42","v":0},0,null,null,null,null,{"$f":"IFERROR(ROUND(E13*K13,2),\"\")","v":""},null,null,"",{"$f":"IF(F13<J13,F13,J13)","v":""}]
[0,0,null,null,null,null,"",null,null,"",""]
[0,0,null,null,null,null,"",null,null,"",""]
[0,0,null,null,null,null,"",null,null,"",""]
[0,0,null,null,null,null,"",null,null,"",""]
[0,0,null,null,null,null,"",null,null,"",""]
[0,0,null,null,null,null,"",null,null,"",""]
[0,0,null,null,null,null,"",null,null,"",""]
[0,0,null,null,null,null,"",null,null,"",""]
[0,0,null,null,null,null,"",null,null,"",""]
[0,0,null,null,null,null,"",null,null,"",""]
[0,0,null,null,null,null,"",null,null,"",""]
[0,0,null,null,null,null,"",null,null,"",""]
[0,0,null,null,null,null,"",null,null,"",""]
[{"$f":"A$42","v":0},{"$f":"B$42","v":0},null,null,null,null,"",null,null,"",""]
[0,0,null,null,null,null,"",null,null,"",""]
[{"$f":"A$42","v":0},0,null,null,null,null,"",null,null,"",""]
[0,0,null,null,null,null,"",null,null,"",""]
[0,0,null,null,null,null,"",null,null,"",""]
[0,0,null,null,null,null,"",null,null,"",""]
[0,0,null,null,null,null,"",null,null,"",""]
[0,0,null,null,null,null,"",null,null,"",""]
[0,0,null,null,null,null,"",null,null,"",""]
[0,0,null,null,null,null,"",null,null,"",""]
[0,0,null,null,null,null,"",null,null,"",""]
[0,0,null,null,null,null,"",null,null,"",""]
[0,0,null,null,null,null,"",null,null,"",""]
[0,0,null,null,null,null,"",null,null,"",""]
[0,0,null,null,null,null,"",null,null,"",""]
[{"$f":"'Labor Summary (Office)'!A42","v":0},{"$f":"'Labor Summary (Office)'!B42","v":0},null,{"$f":"IF(A42=0,\"\",A42)","v":""},null,"Subtotal Line 1",null,{"$f":"ROUND(SUM(G12:G41),2)","v":0},{"$f":"(H42+ROUND((H42*'WA Financial Status Summary'!$C$31),2))*ROUND((1+'WA Financial Status Summary'!$C$33),4)","v":0}]
[{"$f":"A$73","v":0},{"$f":"B$73","v":0},null,null,null,null,{"$f":"IFERROR(ROUND(E43*K43,2),\"\")","v":""},null,null,{"$f":"IF(D43=\"\",\"\",VLOOKUP(D43,Staffing_Table,2,FALSE))","v":""},""]
[{"$f":"A$73","v":0},0,null,null,null,null,{"$f":"IFERROR(ROUND(E44*K44,2),\"\")","v":""},null,null,"",""]
[0,0,null,null,null,null,"",null,null,"",""]
[0,0,null,null,null,null,"",null,null,"",""]
[0,0,null,null,null,null,"",null,null,"",""]
[0,0,null,null,null,null,"",null,null,"",""]
[0,0,null,null,null,null,"",null,null,"",""]
[0,0,null,null,null,null,"",null,null,"",""]
[0,0,null,null,null,null,"",null,null,"",""]
[0,0,null,null,null,null,"",null,null,"",""]
[0,0,null,null,null,null,"",null,null,"",""]
[0,0,null,null,null,null,"",null,null,"",""]
[0,0,null,null,null,null,"",null,null,"",""]
[0,0,null,null,null,null,"",null,null,"",""]
[0,0,null,null,null,null,"",null,null,"",""]
[{"$f":"A$73","v":0},{"$f":"B$73","v":0},null,null,null,null,"",null,null,"",""]
[0,0,null,null,null,null,"",null,null,"",""]
[{"$f":"A$73","v":0},0,null,null,null,null,"",null,null,"",""]
[0,0,null,null,null,null,"",null,null,"",""]
[0,0,null,null,null,null,"",null,null,"",""]
[0,0,null,null,null,null,"",null,null,"",""]
[0,0,null,null,null,null,"",null,null,"",""]
[0,0,null,null,null,null,"",null,null,"",""]
[0,0,null,null,null,null,"",null,null,"",""]
[0,0,null,null,null,null,"",null,null,"",""]
[0,0,null,null,null,null,"",null,null,"",""]
[0,0,null,null,null,null,"",null,null,"",""]
[0,0,null,null,null,null,"",null,null,"",""]
[0,0,null,null,null,null,"",null,null,"",""]
[0,0,null,null,null,null,"",null,null,"",""]
[{"$f":"'Labor Summary (Office)'!A73","v":0},{"$f":"'Labor Summary (Office)'!B73","v":0},null,{"$f":"IF(A73=0,\"\",A73)","v":""},null,"Subtotal Line 2",null,{"$f":"ROUND(SUM(G43:G72),2)","v":0},{"$f":"(H73+ROUND((H73*'WA Financial Status Summary'!$C$31),2))*ROUND((1+'WA Financial Status Summary'!$C$33),4)","v":0}]
[{"$f":"A$104","v":0},{"$f":"B$104","v":0},null,null,null,null,{"$f":"IFERROR(ROUND(E74*K74,2),\"\")","v":""},null,null,{"$f":"IF(D74=\"\",\"\",VLOOKUP(D74,Staffing_Table,2,FALSE))","v":""},""]
[{"$f":"A$104","v":0},0,null,null,null,null,{"$f":"IFERROR(ROUND(E75*K75,2),\"\")","v":""},null,null,"",""]
[0,0,null,null,null,null,"",null,null,"",""]
[0,0,null,null,null,null,"",null,null,"",{"$f":"IF(F77<J77,F77,J77)","v":""}]
[0,0,null,null,null,null,"",null,null,"",""]
[0,0,null,null,null,null,"",null,null,"",""]
[0,0,null,null,null,null,"",null,null,"",""]
[0,0,null,null,null,null,"",null,null,"",""]
[0,0,null,null,null,null,"",null,null,"",""]
[0,0,null,null,null,null,"",null,null,"",""]
[0,0,null,null,null,null,"",null,null,"",""]
[0,0,null,null,null,null,"",null,null,"",""]
[0,0,null,null,null,null,"",null,null,"",""]
[0,0,null,null,null,null,"",null,null,"",""]
[0,0,null,null,null,null,"",null,null,"",""]
[{"$f":"A$104","v":0},{"$f":"B$104","v":0},null,null,null,null,"",null,null,"",""]
[0,0,null,null,null,null,"",null,null,"",""]
[{"$f":"A$104","v":0},0,null,null,null,null,"",null,null,"",""]
[0,0,null,null,null,null,"",null,null,"",""]
[0,0,null,null,null,null,"",null,null,"",""]
[0,0,null,null,null,null,"",null,null,"",""]
[0,0,null,null,null,null,"",null,null,"",""]
[0,0,null,null,null,null,"",null,null,"",""]
[0,0,null,null,null,null,"",null,null,"",""]
[0,0,null,null,null,null,"",null,null,"",""]
[0,0,null,null,null,null,"",null,null,"",""]
[0,0,null,null,null,null,"",null,null,"",""]
[0,0,null,null,null,null,"",null,null,"",""]
[0,0,null,null,null,null,"",null,null,"",""]
[0,0,null,null,null,null,"",null,null,"",""]
[{"$f":"'Labor Summary (Office)'!A104","v":0},{"$f":"'Labor Summary (Office)'!B104","v":0},null,{"$f":"IF(A104=0,\"\",A104)","v":""},null,"Subtotal Line 3",null,{"$f":"ROUND(SUM(G74:G103),2)","v":0},{"$f":"(H104+ROUND((H104*'WA Financial Status Summary'!$C$31),2))*ROUND((1+'WA Financial Status Summary'!$C$33),4)","v":0}]
[{"$f":"A$135","v":0},{"$f":"B$135","v":0},null,null,null,null,{"$f":"IFERROR(ROUND(E105*K105,2),\"\")","v":""},null,null,{"$f":"IF(D105=\"\",\"\",VLOOKUP(D105,Staffing_Table,2,FALSE))","v":""},""]
[{"$f":"A$135","v":0},0,null,null,null,null,{"$f":"IFERROR(ROUND(E106*K106,2),\"\")","v":""},null,null,"",""]
[0,0,null,null,null,null,"",null,null,"",""]
[0,0,null,null,null,null,"",null,null,"",""]
[0,0,null,null,null,null,"",null,null,"",""]
[0,0,null,null,null,null,"",null,null,"",""]
[0,0,null,null,null,null,"",null,null,"",""]
[0,0,null,null,null,null,"",null,null,"",""]
[0,0,null,null,null,null,"",null,null,"",""]
[0,0,null,null,null,null,"",null,null,"",""]
[0,0,null,null,null,null,"",null,null,"",""]
[0,0,null,null,null,null,"",null,null,"",""]
[0,0,null,null,null,null,"",null,null,"",""]
[0,0,null,null,null,null,"",null,null,"",""]
[0,0,null,null,null,null,"",null,null,"",""]
[{"$f":"A$135","v":0},{"$f":"B$135","v":0},null,null,null,null,"",null,null,"",""]
[0,0,null,null,null,null,"",null,null,"",""]
[{"$f":"A$135","v":0},0,null,null,null,null,"",null,null,"",""]
[0,0,null,null,null,null,"",null,null,"",""]
[0,0,null,null,null,null,"",null,null,"",""]
[0,0,null,null,null,null,"",null,null,"",""]
[0,0,null,null,null,null,"",null,null,"",""]
[0,0,null,null,null,null,"",null,null,"",""]
[0,0,null,null,null,null,"",null,null,"",""]
[0,0,null,null,null,null,"",null,null,"",""]
[0,0,null,null,null,null,"",null,null,"",""]
[0,0,null,null,null,null,"",null,null,"",""]
[0,0,null,null,null,null,"",null,null,"",""]
[0,0,null,null,null,null,"",null,null,"",""]
[0,0,null,null,null,null,"",null,null,"",""]
[{"$f":"'Labor Summary (Office)'!A135","v":0},{"$f":"'Labor Summary (Office)'!B135","v":0},null,{"$f":"IF(A135=0,\"\",A135)","v":""},null,"Subtotal Line 4",null,{"$f":"ROUND(SUM(G105:G134),2)","v":0},{"$f":"(H135+ROUND((H135*'WA Financial Status Summary'!$C$31),2))*ROUND((1+'WA Financial Status Summary'!$C$33),4)","v":0}]
[{"$f":"A$166","v":0},{"$f":"B$166","v":0},null,null,null,null,{"$f":"IFERROR(ROUND(E136*K136,2),\"\")","v":""},null,null,{"$f":"IF(D136=\"\",\"\",VLOOKUP(D136,Staffing_Table,2,FALSE))","v":""},""]
[{"$f":"A$166","v":0},0,null,null,null,null,{"$f":"IFERROR(ROUND(E137*K137,2),\"\")","v":""},null,null,"",""]
[0,0,null,null,null,null,"",null,null,"",""]
[0,0,null,null,null,null,"",null,null,"",""]
[0,0,null,null,null,null,"",null,null,"",""]
[0,0,null,null,null,null,"",null,null,"",{"$f":"IF(F141<J141,F141,J141)","v":""}]
[0,0,null,null,null,null,"",null,null,"",""]
[0,0,null,null,null,null,"",null,null,"",""]
[0,0,null,null,null,null,"",null,null,"",""]
[0,0,null,null,null,null,"",null,null,"",""]
[0,0,null,null,null,null,"",null,null,"",""]
[0,0,null,null,null,null,"",null,null,"",""]
[0,0,null,null,null,null,"",null,null,"",""]
[0,0,null,null,null,null,"",null,null,"",""]
[0,0,null,null,null,null,"",null,null,"",""]
[{"$f":"A$166","v":0},{"$f":"B$166","v":0},null,null,null,null,"",null,null,"",""]
[0,0,null,null,null,null,"",null,null,"",""]
[{"$f":"A$166","v":0},0,null,null,null,null,"",null,null,"",""]
[0,0,null,null,null,null,"",null,null,"",""]
[0,0,null,null,null,null,"",null,null,"",""]
[0,0,null,null,null,null,"",null,null,"",""]
[0,0,null,null,null,null,"",null,null,"",""]
[0,0,null,null,null,null,"",null,null,"",""]
[0,0,null,null,null,null,"",null,null,"",""]
[0,0,null,null,null,null,"",null,null,"",""]
[0,0,null,null,null,null,"",null,null,"",""]
[0,0,null,null,null,null,"",null,null,"",""]
[0,0,null,null,null,null,"",null,null,"",""]
[0,0,null,null,null,null,"",null,null,"",""]
[0,0,null,null,null,null,"",null,null,"",""]
[{"$f":"'Labor Summary (Office)'!A166","v":0},{"$f":"'Labor Summary (Office)'!B166","v":0},null,{"$f":"IF(A166=0,\"\",A166)","v":""},null,"Subtotal Line 5",null,{"$f":"ROUND(SUM(G136:G165),2)","v":0},{"$f":"(H166+ROUND((H166*'WA Financial Status Summary'!$C$31),2))*ROUND((1+'WA Financial Status Summary'!$C$33),4)","v":0}]
[{"$f":"A$197","v":0},{"$f":"B$197","v":0},null,null,null,null,{"$f":"IFERROR(ROUND(E167*K167,2),\"\")","v":""},null,null,{"$f":"IF(D167=\"\",\"\",VLOOKUP(D167,Staffing_Table,2,FALSE))","v":""},""]
[{"$f":"A$197","v":0},0,null,null,null,null,{"$f":"IFERROR(ROUND(E168*K168,2),\"\")","v":""},null,null,"",""]
[0,0,null,null,null,null,"",null,null,"",""]
[0,0,null,null,null,null,"",null,null,"",""]
[0,0,null,null,null,null,"",null,null,"",""]
[0,0,null,null,null,null,"",null,null,"",""]
[0,0,null,null,null,null,"",null,null,"",""]
[0,0,null,null,null,null,"",null,null,"",""]
[0,0,null,null,null,null,"",null,null,"",""]
[0,0,null,null,null,null,"",null,null,"",""]
[0,0,null,null,null,null,"",null,null,"",""]
[0,0,null,null,null,null,"",null,null,"",""]
[0,0,null,null,null,null,"",null,null,"",""]
[0,0,null,null,null,null,"",null,null,"",""]
[0,0,null,null,null,null,"",null,null,"",""]
[{"$f":"A$197","v":0},{"$f":"B$197","v":0},null,null,null,null,"",null,null,"",""]
[0,0,null,null,null,null,"",null,null,"",""]
[{"$f":"A$197","v":0},0,null,null,null,null,"",null,null,"",""]
[0,0,null,null,null,null,"",null,null,"",""]
[0,0,null,null,null,null,"",null,null,"",""]
[0,0,null,null,null,null,"",null,null,"",""]
[0,0,null,null,null,null,"",null,null,"",""]
[0,0,null,null,null,null,"",null,null,"",""]
[0,0,null,null,null,null,"",null,null,"",""]
[0,0,null,null,null,null,"",null,null,"",""]
[0,0,null,null,null,null,"",null,null,"",""]
[0,0,null,null,null,null,"",null,null,"",""]
[0,0,null,null,null,null,"",null,null,"",""]
[0,0,null,null,null,null,"",null,null,"",""]
[0,0,null,null,null,null,"",null,null,"",""]
[{"$f":"'Labor Summary (Office)'!A197","v":0},{"$f":"'Labor Summary (Office)'!B197","v":0},null,{"$f":"IF(A197=0,\"\",A197)","v":""},null,"Subtotal Line 6",null,{"$f":"ROUND(SUM(G167:G196),2)","v":0},{"$f":"(H197+ROUND((H197*'WA Financial Status Summary'!$C$31),2))*ROUND((1+'WA Financial Status Summary'!$C$33),4)","v":0}]
[{"$f":"A$228","v":0},{"$f":"B$228","v":0},null,null,null,null,{"$f":"IFERROR(ROUND(E198*K198,2),\"\")","v":""},null,null,{"$f":"IF(D198=\"\",\"\",VLOOKUP(D198,Staffing_Table,2,FALSE))","v":""},""]
[{"$f":"A$228","v":0},0,null,null,null,null,{"$f":"IFERROR(ROUND(E199*K199,2),\"\")","v":""},null,null,"",""]
[0,0,null,null,null,null,"",null,null,"",""]
[0,0,null,null,null,null,"",null,null,"",""]
[0,0,null,null,null,null,"",null,null,"",""]
[0,0,null,null,null,null,"",null,null,"",""]
[0,0,null,null,null,null,"",null,null,"",""]
[0,0,null,null,null,null,"",null,null,"",{"$f":"IF(F205<J205,F205,J205)","v":""}]
[0,0,null,null,null,null,"",null,null,"",""]
[0,0,null,null,null,null,"",null,null,"",""]
[0,0,null,null,null,null,"",null,null,"",""]
[0,0,null,null,null,null,"",null,null,"",""]
[0,0,null,null,null,null,"",null,null,"",""]
[0,0,null,null,null,null,"",null,null,"",""]
[0,0,null,null,null,null,"",null,null,"",""]
[{"$f":"A$228","v":0},{"$f":"B$228","v":0},null,null,null,null,"",null,null,"",""]
[0,0,null,null,null,null,"",null,null,"",""]
[{"$f":"A$228","v":0},0,null,null,null,null,"",null,null,"",""]
[0,0,null,null,null,null,"",null,null,"",""]
[0,0,null,null,null,null,"",null,null,"",""]
[0,0,null,null,null,null,"",null,null,"",""]
[0,0,null,null,null,null,"",null,null,"",""]
[0,0,null,null,null,null,"",null,null,"",""]
[0,0,null,null,null,null,"",null,null,"",""]
[0,0,null,null,null,null,"",null,null,"",""]
[0,0,null,null,null,null,"",null,null,"",""]
[0,0,null,null,null,null,"",null,null,"",""]
[0,0,null,null,null,null,"",null,null,"",""]
[0,0,null,null,null,null,"",null,null,"",""]
[0,0,null,null,null,null,"",null,null,"",""]
[{"$f":"'Labor Summary (Office)'!A228","v":0},{"$f":"'Labor Summary (Office)'!B228","v":0},null,{"$f":"IF(A228=0,\"\",A228)","v":""},null,"Subtotal Line 7",null,{"$f":"ROUND(SUM(G198:G227),2)","v":0},{"$f":"(H228+ROUND((H228*'WA Financial Status Summary'!$C$31),2))*ROUND((1+'WA Financial Status Summary'!$C$33),4)","v":0}]
[{"$f":"A$259","v":0},{"$f":"B$259","v":0},null,null,null,null,{"$f":"IFERROR(ROUND(E229*K229,2),\"\")","v":""},null,null,{"$f":"IF(D229=\"\",\"\",VLOOKUP(D229,Staffing_Table,2,FALSE))","v":""},""]
[{"$f":"A$259","v":0},0,null,null,null,null,{"$f":"IFERROR(ROUND(E230*K230,2),\"\")","v":""},null,null,"",""]
[0,0,null,null,null,null,"",null,null,"",""]
[0,0,null,null,null,null,"",null,null,"",""]
[0,0,null,null,null,null,"",null,null,"",""]
[0,0,null,null,null,null,"",null,null,"",""]
[0,0,null,null,null,null,"",null,null,"",""]
[0,0,null,null,null,null,"",null,null,"",""]
[0,0,null,null,null,null,"",null,null,"",""]
[0,0,null,null,null,null,"",null,null,"",""]
[0,0,null,null,null,null,"",null,null,"",""]
[0,0,null,null,null,null,"",null,null,"",""]
[0,0,null,null,null,null,"",null,null,"",""]
[0,0,null,null,null,null,"",null,null,"",""]
[0,0,null,null,null,null,"",null,null,"",""]
[{"$f":"A$259","v":0},{"$f":"B$259","v":0},null,null,null,null,"",null,null,"",""]
[0,0,null,null,null,null,"",null,null,"",""]
[{"$f":"A$259","v":0},0,null,null,null,null,"",null,null,"",""]
[0,0,null,null,null,null,"",null,null,"",""]
[0,0,null,null,null,null,"",null,null,"",""]
[0,0,null,null,null,null,"",null,null,"",""]
[0,0,null,null,null,null,"",null,null,"",""]
[0,0,null,null,null,null,"",null,null,"",""]
[0,0,null,null,null,null,"",null,null,"",""]
[0,0,null,null,null,null,"",null,null,"",""]
[0,0,null,null,null,null,"",null,null,"",""]
[0,0,null,null,null,null,"",null,null,"",""]
[0,0,null,null,null,null,"",null,null,"",""]
[0,0,null,null,null,null,"",null,null,"",""]
[0,0,null,null,null,null,"",null,null,"",""]
[{"$f":"'Labor Summary (Office)'!A259","v":0},{"$f":"'Labor Summary (Office)'!B259","v":0},null,{"$f":"IF(A259=0,\"\",A259)","v":""},null,"Subtotal Line 8",null,{"$f":"ROUND(SUM(G229:G258),2)","v":0},{"$f":"(H259+ROUND((H259*'WA Financial Status Summary'!$C$31),2))*ROUND((1+'WA Financial Status Summary'!$C$33),4)","v":0}]
[{"$f":"A$290","v":0},{"$f":"B$290","v":0},null,null,null,null,{"$f":"IFERROR(ROUND(E260*K260,2),\"\")","v":""},null,null,{"$f":"IF(D260=\"\",\"\",VLOOKUP(D260,Staffing_Table,2,FALSE))","v":""},""]
[{"$f":"A$290","v":0},0,null,null,null,null,{"$f":"IFERROR(ROUND(E261*K261,2),\"\")","v":""},null,null,"",""]
[0,0,null,null,null,null,"",null,null,"",""]
[0,0,null,null,null,null,"",null,null,"",""]
[0,0,null,null,null,null,"",null,null,"",""]
[0,0,null,null,null,null,"",null,null,"",""]
[0,0,null,null,null,null,"",null,null,"",""]
[0,0,null,null,null,null,"",null,null,"",""]
[0,0,null,null,null,null,"",null,null,"",""]
[0,0,null,null,null,null,"",null,null,"",{"$f":"IF(F269<J269,F269,J269)","v":""}]
[0,0,null,null,null,null,"",null,null,"",""]
[0,0,null,null,null,null,"",null,null,"",""]
[0,0,null,null,null,null,"",null,null,"",""]
[0,0,null,null,null,null,"",null,null,"",""]
[0,0,null,null,null,null,"",null,null,"",""]
[{"$f":"A$290","v":0},{"$f":"B$290","v":0},null,null,null,null,"",null,null,"",""]
[0,0,null,null,null,null,"",null,null,"",""]
[{"$f":"A$290","v":0},0,null,null,null,null,"",null,null,"",""]
[0,0,null,null,null,null,"",null,null,"",""]
[0,0,null,null,null,null,"",null,null,"",""]
[0,0,null,null,null,null,"",null,null,"",""]
[0,0,null,null,null,null,"",null,null,"",""]
[0,0,null,null,null,null,"",null,null,"",""]
[0,0,null,null,null,null,"",null,null,"",""]
[0,0,null,null,null,null,"",null,null,"",""]
[0,0,null,null,null,null,"",null,null,"",""]
[0,0,null,null,null,null,"",null,null,"",""]
[0,0,null,null,null,null,"",null,null,"",""]
[0,0,null,null,null,null,"",null,null,"",""]
[0,0,null,null,null,null,"",null,null,"",""]
[{"$f":"'Labor Summary (Office)'!A290","v":0},{"$f":"'Labor Summary (Office)'!B290","v":0},null,{"$f":"IF(A290=0,\"\",A290)","v":""},null,"Subtotal Line 9",null,{"$f":"ROUND(SUM(G260:G289),2)","v":0},{"$f":"(H290+ROUND((H290*'WA Financial Status Summary'!$C$31),2))*ROUND((1+'WA Financial Status Summary'!$C$33),4)","v":0}]
[{"$f":"A$321","v":0},{"$f":"B$321","v":0},null,null,null,null,{"$f":"IFERROR(ROUND(E291*K291,2),\"\")","v":""},null,null,{"$f":"IF(D291=\"\",\"\",VLOOKUP(D291,Staffing_Table,2,FALSE))","v":""},""]
[{"$f":"A$321","v":0},0,null,null,null,null,{"$f":"IFERROR(ROUND(E292*K292,2),\"\")","v":""},null,null,"",""]
[0,0,null,null,null,null,"",null,null,"",""]
[0,0,null,null,null,null,"",null,null,"",""]
[0,0,null,null,null,null,"",null,null,"",""]
[0,0,null,null,null,null,"",null,null,"",""]
[0,0,null,null,null,null,"",null,null,"",""]
[0,0,null,null,null,null,"",null,null,"",""]
[0,0,null,null,null,null,"",null,null,"",""]
[0,0,null,null,null,null,"",null,null,"",""]
[0,0,null,null,null,null,"",null,null,"",""]
[0,0,null,null,null,null,"",null,null,"",""]
[0,0,null,null,null,null,"",null,null,"",""]
[0,0,null,null,null,null,"",null,null,"",""]
[0,0,null,null,null,null,"",null,null,"",""]
[{"$f":"A$321","v":0},{"$f":"B$321","v":0},null,null,null,null,"",null,null,"",""]
[0,0,null,null,null,null,"",null,null,"",""]
[{"$f":"A$321","v":0},0,null,null,null,null,"",null,null,"",""]
[0,0,null,null,null,null,"",null,null,"",""]
[0,0,null,null,null,null,"",null,null,"",""]
[0,0,null,null,null,null,"",null,null,"",""]
[0,0,null,null,null,null,"",null,null,"",""]
[0,0,null,null,null,null,"",null,null,"",""]
[0,0,null,null,null,null,"",null,null,"",""]
[0,0,null,null,null,null,"",null,null,"",""]
[0,0,null,null,null,null,"",null,null,"",""]
[0,0,null,null,null,null,"",null,null,"",""]
[0,0,null,null,null,null,"",null,null,"",""]
[0,0,null,null,null,null,"",null,null,"",""]
[0,0,null,null,null,null,"",null,null,"",""]
[{"$f":"'Labor Summary (Office)'!A321","v":0},{"$f":"'Labor Summary (Office)'!B321","v":0},null,{"$f":"IF(A321=0,\"\",A321)","v":""},null,"Subtotal Line 10",null,{"$f":"ROUND(SUM(G291:G320),2)","v":0},{"$f":"(H321+ROUND((H321*'WA Financial Status Summary'!$C$31),2))*ROUND((1+'WA Financial Status Summary'!$C$33),4)","v":0}]
[{"$f":"A$352","v":0},{"$f":"B$352","v":0},null,null,null,null,{"$f":"IFERROR(ROUND(E322*K322,2),\"\")","v":""},null,null,{"$f":"IF(D322=\"\",\"\",VLOOKUP(D322,Staffing_Table,2,FALSE))","v":""},""]
[{"$f":"A$352","v":0},0,null,null,null,null,{"$f":"IFERROR(ROUND(E323*K323,2),\"\")","v":""},null,null,"",""]
[0,0,null,null,null,null,"",null,null,"",""]
[0,0,null,null,null,null,"",null,null,"",""]
[0,0,null,null,null,null,"",null,null,"",""]
[0,0,null,null,null,null,"",null,null,"",""]
[0,0,null,null,null,null,"",null,null,"",""]
[0,0,null,null,null,null,"",null,null,"",""]
[0,0,null,null,null,null,"",null,null,"",""]
[0,0,null,null,null,null,"",null,null,"",""]
[0,0,null,null,null,null,"",null,null,"",""]
[0,0,null,null,null,null,"",null,null,"",{"$f":"IF(F333<J333,F333,J333)","v":""}]
[0,0,null,null,null,null,"",null,null,"",""]
[0,0,null,null,null,null,"",null,null,"",""]
[0,0,null,null,null,null,"",null,null,"",""]
[{"$f":"A$352","v":0},{"$f":"B$352","v":0},null,null,null,null,"",null,null,"",""]
[0,0,null,null,null,null,"",null,null,"",""]
[{"$f":"A$352","v":0},0,null,null,null,null,"",null,null,"",""]
[0,0,null,null,null,null,"",null,null,"",""]
[0,0,null,null,null,null,"",null,null,"",""]
[0,0,null,null,null,null,"",null,null,"",""]
[0,0,null,null,null,null,"",null,null,"",""]
[0,0,null,null,null,null,"",null,null,"",""]
[0,0,null,null,null,null,"",null,null,"",""]
[0,0,null,null,null,null,"",null,null,"",""]
[0,0,null,null,null,null,"",null,null,"",""]
[0,0,null,null,null,null,"",null,null,"",""]
[0,0,null,null,null,null,"",null,null,"",""]
[0,0,null,null,null,null,"",null,null,"",""]
[0,0,null,null,null,null,"",null,null,"",""]
[{"$f":"'Labor Summary (Office)'!A352","v":0},{"$f":"'Labor Summary (Office)'!B352","v":0},null,{"$f":"IF(A352=0,\"\",A352)","v":""},null,"Subtotal Line 11",null,{"$f":"ROUND(SUM(G322:G351),2)","v":0},{"$f":"(H352+ROUND((H352*'WA Financial Status Summary'!$C$31),2))*ROUND((1+'WA Financial Status Summary'!$C$33),4)","v":0}]
[{"$f":"A$383","v":0},{"$f":"B$383","v":0},null,null,null,null,{"$f":"IFERROR(ROUND(E353*K353,2),\"\")","v":""},null,null,{"$f":"IF(D353=\"\",\"\",VLOOKUP(D353,Staffing_Table,2,FALSE))","v":""},""]
[{"$f":"A$383","v":0},0,null,null,null,null,{"$f":"IFERROR(ROUND(E354*K354,2),\"\")","v":""},null,null,"",""]
[0,0,null,null,null,null,"",null,null,"",""]
[0,0,null,null,null,null,"",null,null,"",""]
[0,0,null,null,null,null,"",null,null,"",""]
[0,0,null,null,null,null,"",null,null,"",""]
[0,0,null,null,null,null,"",null,null,"",""]
[0,0,null,null,null,null,"",null,null,"",""]
[0,0,null,null,null,null,"",null,null,"",""]
[0,0,null,null,null,null,"",null,null,"",""]
[0,0,null,null,null,null,"",null,null,"",""]
[0,0,null,null,null,null,"",null,null,"",""]
[0,0,null,null,null,null,"",null,null,"",""]
[0,0,null,null,null,null,"",null,null,"",""]
[0,0,null,null,null,null,"",null,null,"",""]
[{"$f":"A$383","v":0},{"$f":"B$383","v":0},null,null,null,null,"",null,null,"",""]
[0,0,null,null,null,null,"",null,null,"",""]
[{"$f":"A$383","v":0},0,null,null,null,null,"",null,null,"",""]
[0,0,null,null,null,null,"",null,null,"",""]
[0,0,null,null,null,null,"",null,null,"",""]
[0,0,null,null,null,null,"",null,null,"",""]
[0,0,null,null,null,null,"",null,null,"",""]
[0,0,null,null,null,null,"",null,null,"",""]
[0,0,null,null,null,null,"",null,null,"",""]
[0,0,null,null,null,null,"",null,null,"",""]
[0,0,null,null,null,null,"",null,null,"",""]
[0,0,null,null,null,null,"",null,null,"",""]
[0,0,null,null,null,null,"",null,null,"",""]
[0,0,null,null,null,null,"",null,null,"",""]
[0,0,null,null,null,null,"",null,null,"",""]
[{"$f":"'Labor Summary (Office)'!A383","v":0},{"$f":"'Labor Summary (Office)'!B383","v":0},null,{"$f":"IF(A383=0,\"\",A383)","v":""},null,"Subtotal Line 12",null,{"$f":"ROUND(SUM(G353:G382),2)","v":0},{"$f":"(H383+ROUND((H383*'WA Financial Status Summary'!$C$31),2))*ROUND((1+'WA Financial Status Summary'!$C$33),4)","v":0}]
[{"$f":"A$414","v":0},{"$f":"B$414","v":0},null,null,null,null,{"$f":"IFERROR(ROUND(E384*K384,2),\"\")","v":""},null,null,{"$f":"IF(D384=\"\",\"\",VLOOKUP(D384,Staffing_Table,2,FALSE))","v":""},""]
[{"$f":"A$414","v":0},0,null,null,null,null,{"$f":"IFERROR(ROUND(E385*K385,2),\"\")","v":""},null,null,"",""]
[0,0,null,null,null,null,"",null,null,"",""]
[0,0,null,null,null,null,"",null,null,"",""]
[0,0,null,null,null,null,"",null,null,"",""]
[0,0,null,null,null,null,"",null,null,"",""]
[0,0,null,null,null,null,"",null,null,"",""]
[0,0,null,null,null,null,"",null,null,"",""]
[0,0,null,null,null,null,"",null,null,"",""]
[0,0,null,null,null,null,"",null,null,"",""]
[0,0,null,null,null,null,"",null,null,"",""]
[0,0,null,null,null,null,"",null,null,"",""]
[0,0,null,null,null,null,"",null,null,"",""]
[0,0,null,null,null,null,"",null,null,"",{"$f":"IF(F397<J397,F397,J397)","v":""}]
[0,0,null,null,null,null,"",null,null,"",""]
[{"$f":"A$414","v":0},{"$f":"B$414","v":0},null,null,null,null,"",null,null,"",""]
[0,0,null,null,null,null,"",null,null,"",""]
[{"$f":"A$414","v":0},0,null,null,null,null,"",null,null,"",""]
[0,0,null,null,null,null,"",null,null,"",""]
[0,0,null,null,null,null,"",null,null,"",""]
[0,0,null,null,null,null,"",null,null,"",""]
[0,0,null,null,null,null,"",null,null,"",""]
[0,0,null,null,null,null,"",null,null,"",""]
[0,0,null,null,null,null,"",null,null,"",""]
[0,0,null,null,null,null,"",null,null,"",""]
[0,0,null,null,null,null,"",null,null,"",""]
[0,0,null,null,null,null,"",null,null,"",""]
[0,0,null,null,null,null,"",null,null,"",""]
[0,0,null,null,null,null,"",null,null,"",""]
[0,0,null,null,null,null,"",null,null,"",""]
[{"$f":"'Labor Summary (Office)'!A414","v":0},{"$f":"'Labor Summary (Office)'!B414","v":0},null,{"$f":"IF(A414=0,\"\",A414)","v":""},null,"Subtotal Line 13",null,{"$f":"ROUND(SUM(G384:G413),2)","v":0},{"$f":"(H414+ROUND((H414*'WA Financial Status Summary'!$C$31),2))*ROUND((1+'WA Financial Status Summary'!$C$33),4)","v":0}]
[{"$f":"A$445","v":0},{"$f":"B$445","v":0},null,null,null,null,{"$f":"IFERROR(ROUND(E415*K415,2),\"\")","v":""},null,null,{"$f":"IF(D415=\"\",\"\",VLOOKUP(D415,Staffing_Table,2,FALSE))","v":""},""]
[{"$f":"A$445","v":0},0,null,null,null,null,{"$f":"IFERROR(ROUND(E416*K416,2),\"\")","v":""},null,null,"",""]
[0,0,null,null,null,null,"",null,null,"",""]
[0,0,null,null,null,null,"",null,null,"",""]
[0,0,null,null,null,null,"",null,null,"",""]
[0,0,null,null,null,null,"",null,null,"",""]
[0,0,null,null,null,null,"",null,null,"",""]
[0,0,null,null,null,null,"",null,null,"",""]
[0,0,null,null,null,null,"",null,null,"",""]
[0,0,null,null,null,null,"",null,null,"",""]
[0,0,null,null,null,null,"",null,null,"",""]
[0,0,null,null,null,null,"",null,null,"",""]
[0,0,null,null,null,null,"",null,null,"",""]
[0,0,null,null,null,null,"",null,null,"",""]
[0,0,null,null,null,null,"",null,null,"",""]
[{"$f":"A$445","v":0},{"$f":"B$445","v":0},null,null,null,null,"",null,null,"",""]
[0,0,null,null,null,null,"",null,null,"",""]
[{"$f":"A$445","v":0},0,null,null,null,null,"",null,null,"",""]
[0,0,null,null,null,null,"",null,null,"",""]
[0,0,null,null,null,null,"",null,null,"",""]
[0,0,null,null,null,null,"",null,null,"",""]
[0,0,null,null,null,null,"",null,null,"",""]
[0,0,null,null,null,null,"",null,null,"",""]
[0,0,null,null,null,null,"",null,null,"",""]
[0,0,null,null,null,null,"",null,null,"",""]
[0,0,null,null,null,null,"",null,null,"",""]
[0,0,null,null,null,null,"",null,null,"",""]
[0,0,null,null,null,null,"",null,null,"",""]
[0,0,null,null,null,null,"",null,null,"",""]
[0,0,null,null,null,null,"",null,null,"",""]
[{"$f":"'Labor Summary (Office)'!A445","v":0},{"$f":"'Labor Summary (Office)'!B445","v":0},null,{"$f":"IF(A445=0,\"\",A445)","v":""},null,"Subtotal Line 14",null,{"$f":"ROUND(SUM(G415:G444),2)","v":0},{"$f":"(H445+ROUND((H445*'WA Financial Status Summary'!$C$31),2))*ROUND((1+'WA Financial Status Summary'!$C$33),4)","v":0}]
[{"$f":"A$476","v":0},{"$f":"B$476","v":0},null,null,null,null,{"$f":"IFERROR(ROUND(E446*K446,2),\"\")","v":""},null,null,{"$f":"IF(D446=\"\",\"\",VLOOKUP(D446,Staffing_Table,2,FALSE))","v":""},""]
[{"$f":"A$476","v":0},0,null,null,null,null,{"$f":"IFERROR(ROUND(E447*K447,2),\"\")","v":""},null,null,"",""]
[0,0,null,null,null,null,"",null,null,"",""]
[0,0,null,null,null,null,"",null,null,"",""]
[0,0,null,null,null,null,"",null,null,"",""]
[0,0,null,null,null,null,"",null,null,"",""]
[0,0,null,null,null,null,"",null,null,"",""]
[0,0,null,null,null,null,"",null,null,"",""]
[0,0,null,null,null,null,"",null,null,"",""]
[0,0,null,null,null,null,"",null,null,"",""]
[0,0,null,null,null,null,"",null,null,"",""]
[0,0,null,null,null,null,"",null,null,"",""]
[0,0,null,null,null,null,"",null,null,"",""]
[0,0,null,null,null,null,"",null,null,"",""]
[0,0,null,null,null,null,"",null,null,"",""]
[{"$f":"A$476","v":0},{"$f":"B$476","v":0},null,null,null,null,"",null,null,"",{"$f":"IF(F461<J461,F461,J461)","v":""}]
[0,0,null,null,null,null,"",null,null,"",""]
[{"$f":"A$476","v":0},0,null,null,null,null,"",null,null,"",""]
[0,0,null,null,null,null,"",null,null,"",""]
[0,0,null,null,null,null,"",null,null,"",""]
[0,0,null,null,null,null,"",null,null,"",""]
[0,0,null,null,null,null,"",null,null,"",""]
[0,0,null,null,null,null,"",null,null,"",""]
[0,0,null,null,null,null,"",null,null,"",""]
[0,0,null,null,null,null,"",null,null,"",""]
[0,0,null,null,null,null,"",null,null,"",""]
[0,0,null,null,null,null,"",null,null,"",""]
[0,0,null,null,null,null,"",null,null,"",""]
[0,0,null,null,null,null,"",null,null,"",""]
[0,0,null,null,null,null,"",null,null,"",""]
[{"$f":"'Labor Summary (Office)'!A476","v":0},{"$f":"'Labor Summary (Office)'!B476","v":0},null,{"$f":"IF(A476=0,\"\",A476)","v":""},null,"Subtotal Line 15",null,{"$f":"ROUND(SUM(G446:G475),2)","v":0},{"$f":"(H476+ROUND((H476*'WA Financial Status Summary'!$C$31),2))*ROUND((1+'WA Financial Status Summary'!$C$33),4)","v":0}]
[{"$f":"A$507","v":0},{"$f":"B$507","v":0},null,null,null,null,{"$f":"IFERROR(ROUND(E477*K477,2),\"\")","v":""},null,null,{"$f":"IF(D477=\"\",\"\",VLOOKUP(D477,Staffing_Table,2,FALSE))","v":""},""]
[{"$f":"A$507","v":0},0,null,null,null,null,{"$f":"IFERROR(ROUND(E478*K478,2),\"\")","v":""},null,null,"",""]
[0,0,null,null,null,null,"",null,null,"",""]
[0,0,null,null,null,null,"",null,null,"",""]
[0,0,null,null,null,null,"",null,null,"",""]
[0,0,null,null,null,null,"",null,null,"",""]
[0,0,null,null,null,null,"",null,null,"",""]
[0,0,null,null,null,null,"",null,null,"",""]
[0,0,null,null,null,null,"",null,null,"",""]
[0,0,null,null,null,null,"",null,null,"",""]
[0,0,null,null,null,null,"",null,null,"",""]
[0,0,null,null,null,null,"",null,null,"",""]
[0,0,null,null,null,null,"",null,null,"",""]
[0,0,null,null,null,null,"",null,null,"",""]
[0,0,null,null,null,null,"",null,null,"",""]
[{"$f":"A$507","v":0},{"$f":"B$507","v":0},null,null,null,null,"",null,null,"",""]
[0,0,null,null,null,null,"",null,null,"",""]
[{"$f":"A$507","v":0},0,null,null,null,null,"",null,null,"",""]
[0,0,null,null,null,null,"",null,null,"",""]
[0,0,null,null,null,null,"",null,null,"",""]
[0,0,null,null,null,null,"",null,null,"",""]
[0,0,null,null,null,null,"",null,null,"",""]
[0,0,null,null,null,null,"",null,null,"",""]
[0,0,null,null,null,null,"",null,null,"",""]
[0,0,null,null,null,null,"",null,null,"",""]
[0,0,null,null,null,null,"",null,null,"",""]
[0,0,null,null,null,null,"",null,null,"",""]
[0,0,null,null,null,null,"",null,null,"",""]
[0,0,null,null,null,null,"",null,null,"",""]
[0,0,null,null,null,null,"",null,null,"",""]
[{"$f":"'Labor Summary (Office)'!A507","v":0},{"$f":"'Labor Summary (Office)'!B507","v":0},null,{"$f":"IF(A507=0,\"\",A507)","v":""},null,"Subtotal Line 16",null,{"$f":"ROUND(SUM(G477:G506),2)","v":0},{"$f":"(H507+ROUND((H507*'WA Financial Status Summary'!$C$31),2))*ROUND((1+'WA Financial Status Summary'!$C$33),4)","v":0}]
[{"$f":"A$538","v":0},{"$f":"B$538","v":0},null,null,null,null,{"$f":"IFERROR(ROUND(E508*K508,2),\"\")","v":""},null,null,{"$f":"IF(D508=\"\",\"\",VLOOKUP(D508,Staffing_Table,2,FALSE))","v":""},""]
[{"$f":"A$538","v":0},0,null,null,null,null,{"$f":"IFERROR(ROUND(E509*K509,2),\"\")","v":""},null,null,"",""]
[0,0,null,null,null,null,"",null,null,"",""]
[0,0,null,null,null,null,"",null,null,"",""]
[0,0,null,null,null,null,"",null,null,"",""]
[0,0,null,null,null,null,"",null,null,"",""]
[0,0,null,null,null,null,"",null,null,"",""]
[0,0,null,null,null,null,"",null,null,"",""]
[0,0,null,null,null,null,"",null,null,"",""]
[0,0,null,null,null,null,"",null,null,"",""]
[0,0,null,null,null,null,"",null,null,"",""]
[0,0,null,null,null,null,"",null,null,"",""]
[0,0,null,null,null,null,"",null,null,"",""]
[0,0,null,null,null,null,"",null,null,"",""]
[0,0,null,null,null,null,"",null,null,"",""]
[{"$f":"A$538","v":0},{"$f":"B$538","v":0},null,null,null,null,"",null,null,"",""]
[0,0,null,null,null,null,"",null,null,"",""]
[{"$f":"A$538","v":0},0,null,null,null,null,"",null,null,"",{"$f":"IF(F525<J525,F525,J525)","v":""}]
[0,0,null,null,null,null,"",null,null,"",""]
[0,0,null,null,null,null,"",null,null,"",""]
[0,0,null,null,null,null,"",null,null,"",""]
[0,0,null,null,null,null,"",null,null,"",""]
[0,0,null,null,null,null,"",null,null,"",""]
[0,0,null,null,null,null,"",null,null,"",""]
[0,0,null,null,null,null,"",null,null,"",""]
[0,0,null,null,null,null,"",null,null,"",""]
[0,0,null,null,null,null,"",null,null,"",""]
[0,0,null,null,null,null,"",null,null,"",""]
[0,0,null,null,null,null,"",null,null,"",""]
[0,0,null,null,null,null,"",null,null,"",""]
[{"$f":"'Labor Summary (Office)'!A538","v":0},{"$f":"'Labor Summary (Office)'!B538","v":0},null,{"$f":"IF(A538=0,\"\",A538)","v":""},null,"Subtotal Line 17",null,{"$f":"ROUND(SUM(G508:G537),2)","v":0},{"$f":"(H538+ROUND((H538*'WA Financial Status Summary'!$C$31),2))*ROUND((1+'WA Financial Status Summary'!$C$33),4)","v":0}]
[{"$f":"A$569","v":0},{"$f":"B$569","v":0},null,null,null,null,{"$f":"IFERROR(ROUND(E539*K539,2),\"\")","v":""},null,null,{"$f":"IF(D539=\"\",\"\",VLOOKUP(D539,Staffing_Table,2,FALSE))","v":""},""]
[{"$f":"A$569","v":0},0,null,null,null,null,{"$f":"IFERROR(ROUND(E540*K540,2),\"\")","v":""},null,null,"",""]
[0,0,null,null,null,null,"",null,null,"",""]
[0,0,null,null,null,null,"",null,null,"",""]
[0,0,null,null,null,null,"",null,null,"",""]
[0,0,null,null,null,null,"",null,null,"",""]
[0,0,null,null,null,null,"",null,null,"",""]
[0,0,null,null,null,null,"",null,null,"",""]
[0,0,null,null,null,null,"",null,null,"",""]
[0,0,null,null,null,null,"",null,null,"",""]
[0,0,null,null,null,null,"",null,null,"",""]
[0,0,null,null,null,null,"",null,null,"",""]
[0,0,null,null,null,null,"",null,null,"",""]
[0,0,null,null,null,null,"",null,null,"",""]
[0,0,null,null,null,null,"",null,null,"",""]
[{"$f":"A$569","v":0},{"$f":"B$569","v":0},null,null,null,null,"",null,null,"",""]
[0,0,null,null,null,null,"",null,null,"",""]
[{"$f":"A$569","v":0},0,null,null,null,null,"",null,null,"",""]
[0,0,null,null,null,null,"",null,null,"",""]
[0,0,null,null,null,null,"",null,null,"",""]
[0,0,null,null,null,null,"",null,null,"",""]
[0,0,null,null,null,null,"",null,null,"",""]
[0,0,null,null,null,null,"",null,null,"",""]
[0,0,null,null,null,null,"",null,null,"",""]
[0,0,null,null,null,null,"",null,null,"",""]
[0,0,null,null,null,null,"",null,null,"",""]
[0,0,null,null,null,null,"",null,null,"",""]
[0,0,null,null,null,null,"",null,null,"",""]
[0,0,null,null,null,null,"",null,null,"",""]
[0,0,null,null,null,null,"",null,null,"",""]
[{"$f":"'Labor Summary (Office)'!A569","v":0},{"$f":"'Labor Summary (Office)'!B569","v":0},null,{"$f":"IF(A569=0,\"\",A569)","v":""},null,"Subtotal Line 18",null,{"$f":"ROUND(SUM(G539:G568),2)","v":0},{"$f":"(H569+ROUND((H569*'WA Financial Status Summary'!$C$31),2))*ROUND((1+'WA Financial Status Summary'!$C$33),4)","v":0}]
[{"$f":"A$600","v":0},{"$f":"B$600","v":0},null,null,null,null,{"$f":"IFERROR(ROUND(E570*K570,2),\"\")","v":""},null,null,{"$f":"IF(D570=\"\",\"\",VLOOKUP(D570,Staffing_Table,2,FALSE))","v":""},""]
[{"$f":"A$600","v":0},0,null,null,null,null,{"$f":"IFERROR(ROUND(E571*K571,2),\"\")","v":""},null,null,"",""]
[0,0,null,null,null,null,"",null,null,"",""]
[0,0,null,null,null,null,"",null,null,"",""]
[0,0,null,null,null,null,"",null,null,"",""]
[0,0,null,null,null,null,"",null,null,"",""]
[0,0,null,null,null,null,"",null,null,"",""]
[0,0,null,null,null,null,"",null,null,"",""]
[0,0,null,null,null,null,"",null,null,"",""]
[0,0,null,null,null,null,"",null,null,"",""]
[0,0,null,null,null,null,"",null,null,"",""]
[0,0,null,null,null,null,"",null,null,"",""]
[0,0,null,null,null,null,"",null,null,"",""]
[0,0,null,null,null,null,"",null,null,"",""]
[0,0,null,null,null,null,"",null,null,"",""]
[{"$f":"A$600","v":0},{"$f":"B$600","v":0},null,null,null,null,"",null,null,"",""]
[0,0,null,null,null,null,"",null,null,"",""]
[{"$f":"A$600","v":0},0,null,null,null,null,"",null,null,"",""]
[0,0,null,null,null,null,"",null,null,"",""]
[0,0,null,null,null,null,"",null,null,"",{"$f":"IF(F589<J589,F589,J589)","v":""}]
[0,0,null,null,null,null,"",null,null,"",""]
[0,0,null,null,null,null,"",null,null,"",""]
[0,0,null,null,null,null,"",null,null,"",""]
[0,0,null,null,null,null,"",null,null,"",""]
[0,0,null,null,null,null,"",null,null,"",""]
[0,0,null,null,null,null,"",null,null,"",""]
[0,0,null,null,null,null,"",null,null,"",""]
[0,0,null,null,null,null,"",null,null,"",""]
[0,0,null,null,null,null,"",null,null,"",""]
[0,0,null,null,null,null,"",null,null,"",""]
[{"$f":"'Labor Summary (Office)'!A600","v":0},{"$f":"'Labor Summary (Office)'!B600","v":0},null,{"$f":"IF(A600=0,\"\",A600)","v":""},null,"Subtotal Line 19",null,{"$f":"ROUND(SUM(G570:G599),2)","v":0},{"$f":"(H600+ROUND((H600*'WA Financial Status Summary'!$C$31),2))*ROUND((1+'WA Financial Status Summary'!$C$33),4)","v":0}]
[{"$f":"A$631","v":0},{"$f":"B$631","v":0},null,null,null,null,{"$f":"IFERROR(ROUND(E601*K601,2),\"\")","v":""},null,null,{"$f":"IF(D601=\"\",\"\",VLOOKUP(D601,Staffing_Table,2,FALSE))","v":""},""]
[{"$f":"A$631","v":0},0,null,null,null,null,{"$f":"IFERROR(ROUND(E602*K602,2),\"\")","v":""},null,null,"",""]
[0,0,null,null,null,null,"",null,null,"",""]
[0,0,null,null,null,null,"",null,null,"",""]
[0,0,null,null,null,null,"",null,null,"",""]
[0,0,null,null,null,null,"",null,null,"",""]
[0,0,null,null,null,null,"",null,null,"",""]
[0,0,null,null,null,null,"",null,null,"",""]
[0,0,null,null,null,null,"",null,null,"",""]
[0,0,null,null,null,null,"",null,null,"",""]
[0,0,null,null,null,null,"",null,null,"",""]
[0,0,null,null,null,null,"",null,null,"",""]
[0,0,null,null,null,null,"",null,null,"",""]
[0,0,null,null,null,null,"",null,null,"",""]
[0,0,null,null,null,null,"",null,null,"",""]
[{"$f":"A$631","v":0},{"$f":"B$631","v":0},null,null,null,null,"",null,null,"",""]
[0,0,null,null,null,null,"",null,null,"",""]
[{"$f":"A$631","v":0},0,null,null,null,null,"",null,null,"",""]
[0,0,null,null,null,null,"",null,null,"",""]
[0,0,null,null,null,null,"",null,null,"",""]
[0,0,null,null,null,null,"",null,null,"",""]
[0,0,null,null,null,null,"",null,null,"",""]
[0,0,null,null,null,null,"",null,null,"",""]
[0,0,null,null,null,null,"",null,null,"",""]
[0,0,null,null,null,null,"",null,null,"",""]
[0,0,null,null,null,null,"",null,null,"",""]
[0,0,null,null,null,null,"",null,null,"",""]
[0,0,null,null,null,null,"",null,null,"",""]
[0,0,null,null,null,null,"",null,null,"",""]
[0,0,null,null,null,null,"",null,null,"",""]
[{"$f":"'Labor Summary (Office)'!A631","v":0},{"$f":"'Labor Summary (Office)'!B631","v":0},null,{"$f":"IF(A631=0,\"\",A631)","v":""},null,"Subtotal Line 20",null,{"$f":"ROUND(SUM(G601:G630),2)","v":0},{"$f":"(H631+ROUND((H631*'WA Financial Status Summary'!$C$31),2))*ROUND((1+'WA Financial Status Summary'!$C$33),4)","v":0}]
[{"$f":"A$662","v":0},{"$f":"B$662","v":0},null,null,null,null,{"$f":"IFERROR(ROUND(E632*K632,2),\"\")","v":""},null,null,{"$f":"IF(D632=\"\",\"\",VLOOKUP(D632,Staffing_Table,2,FALSE))","v":""},""]
[{"$f":"A$662","v":0},0,null,null,null,null,{"$f":"IFERROR(ROUND(E633*K633,2),\"\")","v":""},null,null,"",""]
[0,0,null,null,null,null,"",null,null,"",""]
[0,0,null,null,null,null,"",null,null,"",""]
[0,0,null,null,null,null,"",null,null,"",""]
[0,0,null,null,null,null,"",null,null,"",""]
[0,0,null,null,null,null,"",null,null,"",""]
[0,0,null,null,null,null,"",null,null,"",""]
[0,0,null,null,null,null,"",null,null,"",""]
[0,0,null,null,null,null,"",null,null,"",""]
[0,0,null,null,null,null,"",null,null,"",""]
[0,0,null,null,null,null,"",null,null,"",""]
[0,0,null,null,null,null,"",null,null,"",""]
[0,0,null,null,null,null,"",null,null,"",""]
[0,0,null,null,null,null,"",null,null,"",""]
[{"$f":"A$662","v":0},{"$f":"B$662","v":0},null,null,null,null,"",null,null,"",""]
[0,0,null,null,null,null,"",null,null,"",""]
[{"$f":"A$662","v":0},0,null,null,null,null,"",null,null,"",""]
[0,0,null,null,null,null,"",null,null,"",""]
[0,0,null,null,null,null,"",null,null,"",""]
[0,0,null,null,null,null,"",null,null,"",""]
[0,0,null,null,null,null,"",null,null,"",{"$f":"IF(F653<J653,F653,J653)","v":""}]
[0,0,null,null,null,null,"",null,null,"",""]
[0,0,null,null,null,null,"",null,null,"",""]
[0,0,null,null,null,null,"",null,null,"",""]
[0,0,null,null,null,null,"",null,null,"",""]
[0,0,null,null,null,null,"",null,null,"",""]
[0,0,null,null,null,null,"",null,null,"",""]
[0,0,null,null,null,null,"",null,null,"",""]
[0,0,null,null,null,null,"",null,null,"",""]
[{"$f":"'Labor Summary (Office)'!A662","v":0},{"$f":"'Labor Summary (Office)'!B662","v":0},null,{"$f":"IF(A662=0,\"\",A662)","v":""},null,"Subtotal Line 21",null,{"$f":"ROUND(SUM(G632:G661),2)","v":0},{"$f":"(H662+ROUND((H662*'WA Financial Status Summary'!$C$31),2))*ROUND((1+'WA Financial Status Summary'!$C$33),4)","v":0}]
[{"$f":"A$693","v":0},{"$f":"B$693","v":0},null,null,null,null,{"$f":"IFERROR(ROUND(E663*K663,2),\"\")","v":""},null,null,{"$f":"IF(D663=\"\",\"\",VLOOKUP(D663,Staffing_Table,2,FALSE))","v":""},""]
[{"$f":"A$693","v":0},0,null,null,null,null,{"$f":"IFERROR(ROUND(E664*K664,2),\"\")","v":""},null,null,"",""]
[0,0,null,null,null,null,"",null,null,"",""]
[0,0,null,null,null,null,"",null,null,"",""]
[0,0,null,null,null,null,"",null,null,"",""]
[0,0,null,null,null,null,"",null,null,"",""]
[0,0,null,null,null,null,"",null,null,"",""]
[0,0,null,null,null,null,"",null,null,"",""]
[0,0,null,null,null,null,"",null,null,"",""]
[0,0,null,null,null,null,"",null,null,"",""]
[0,0,null,null,null,null,"",null,null,"",""]
[0,0,null,null,null,null,"",null,null,"",""]
[0,0,null,null,null,null,"",null,null,"",""]
[0,0,null,null,null,null,"",null,null,"",""]
[0,0,null,null,null,null,"",null,null,"",""]
[{"$f":"A$693","v":0},{"$f":"B$693","v":0},null,null,null,null,"",null,null,"",""]
[0,0,null,null,null,null,"",null,null,"",""]
[{"$f":"A$693","v":0},0,null,null,null,null,"",null,null,"",""]
[0,0,null,null,null,null,"",null,null,"",""]
[0,0,null,null,null,null,"",null,null,"",""]
[0,0,null,null,null,null,"",null,null,"",""]
[0,0,null,null,null,null,"",null,null,"",""]
[0,0,null,null,null,null,"",null,null,"",""]
[0,0,null,null,null,null,"",null,null,"",""]
[0,0,null,null,null,null,"",null,null,"",""]
[0,0,null,null,null,null,"",null,null,"",""]
[0,0,null,null,null,null,"",null,null,"",""]
[0,0,null,null,null,null,"",null,null,"",""]
[0,0,null,null,null,null,"",null,null,"",""]
[0,0,null,null,null,null,"",null,null,"",""]
[{"$f":"'Labor Summary (Office)'!A693","v":0},{"$f":"'Labor Summary (Office)'!B693","v":0},null,{"$f":"IF(A693=0,\"\",A693)","v":""},null,"Subtotal Line 22",null,{"$f":"ROUND(SUM(G663:G692),2)","v":0},{"$f":"(H693+ROUND((H693*'WA Financial Status Summary'!$C$31),2))*ROUND((1+'WA Financial Status Summary'!$C$33),4)","v":0}]
[{"$f":"A$724","v":0},{"$f":"B$724","v":0},null,null,null,null,{"$f":"IFERROR(ROUND(E694*K694,2),\"\")","v":""},null,null,{"$f":"IF(D694=\"\",\"\",VLOOKUP(D694,Staffing_Table,2,FALSE))","v":""},""]
[{"$f":"A$724","v":0},0,null,null,null,null,{"$f":"IFERROR(ROUND(E695*K695,2),\"\")","v":""},null,null,"",""]
[0,0,null,null,null,null,"",null,null,"",""]
[0,0,null,null,null,null,"",null,null,"",""]
[0,0,null,null,null,null,"",null,null,"",""]
[0,0,null,null,null,null,"",null,null,"",""]
[0,0,null,null,null,null,"",null,null,"",""]
[0,0,null,null,null,null,"",null,null,"",""]
[0,0,null,null,null,null,"",null,null,"",""]
[0,0,null,null,null,null,"",null,null,"",""]
[0,0,null,null,null,null,"",null,null,"",""]
[0,0,null,null,null,null,"",null,null,"",""]
[0,0,null,null,null,null,"",null,null,"",""]
[0,0,null,null,null,null,"",null,null,"",""]
[0,0,null,null,null,null,"",null,null,"",""]
[{"$f":"A$724","v":0},{"$f":"B$724","v":0},null,null,null,null,"",null,null,"",""]
[0,0,null,null,null,null,"",null,null,"",""]
[{"$f":"A$724","v":0},0,null,null,null,null,"",null,null,"",""]
[0,0,null,null,null,null,"",null,null,"",""]
[0,0,null,null,null,null,"",null,null,"",""]
[0,0,null,null,null,null,"",null,null,"",""]
[0,0,null,null,null,null,"",null,null,"",""]
[0,0,null,null,null,null,"",null,null,"",""]
[0,0,null,null,null,null,"",null,null,"",{"$f":"IF(F717<J717,F717,J717)","v":""}]
[0,0,null,null,null,null,"",null,null,"",""]
[0,0,null,null,null,null,"",null,null,"",""]
[0,0,null,null,null,null,"",null,null,"",""]
[0,0,null,null,null,null,"",null,null,"",""]
[0,0,null,null,null,null,"",null,null,"",""]
[0,0,null,null,null,null,"",null,null,"",""]
[{"$f":"'Labor Summary (Office)'!A724","v":0},{"$f":"'Labor Summary (Office)'!B724","v":0},null,{"$f":"IF(A724=0,\"\",A724)","v":""},null,"Subtotal Line 23",null,{"$f":"ROUND(SUM(G694:G723),2)","v":0},{"$f":"(H724+ROUND((H724*'WA Financial Status Summary'!$C$31),2))*ROUND((1+'WA Financial Status Summary'!$C$33),4)","v":0}]
[{"$f":"A$755","v":0},{"$f":"B$755","v":0},null,null,null,null,{"$f":"IFERROR(ROUND(E725*K725,2),\"\")","v":""},null,null,{"$f":"IF(D725=\"\",\"\",VLOOKUP(D725,Staffing_Table,2,FALSE))","v":""},""]
[{"$f":"A$755","v":0},0,null,null,null,null,{"$f":"IFERROR(ROUND(E726*K726,2),\"\")","v":""},null,null,"",""]
[0,0,null,null,null,null,"",null,null,"",""]
[0,0,null,null,null,null,"",null,null,"",""]
[0,0,null,null,null,null,"",null,null,"",""]
[0,0,null,null,null,null,"",null,null,"",""]
[0,0,null,null,null,null,"",null,null,"",""]
[0,0,null,null,null,null,"",null,null,"",""]
[0,0,null,null,null,null,"",null,null,"",""]
[0,0,null,null,null,null,"",null,null,"",""]
[0,0,null,null,null,null,"",null,null,"",""]
[0,0,null,null,null,null,"",null,null,"",""]
[0,0,null,null,null,null,"",null,null,"",""]
[0,0,null,null,null,null,"",null,null,"",""]
[0,0,null,null,null,null,"",null,null,"",""]
[{"$f":"A$755","v":0},{"$f":"B$755","v":0},null,null,null,null,"",null,null,"",""]
[0,0,null,null,null,null,"",null,null,"",""]
[{"$f":"A$755","v":0},0,null,null,null,null,"",null,null,"",""]
[0,0,null,null,null,null,"",null,null,"",""]
[0,0,null,null,null,null,"",null,null,"",""]
[0,0,null,null,null,null,"",null,null,"",""]
[0,0,null,null,null,null,"",null,null,"",""]
[0,0,null,null,null,null,"",null,null,"",""]
[0,0,null,null,null,null,"",null,null,"",""]
[0,0,null,null,null,null,"",null,null,"",""]
[0,0,null,null,null,null,"",null,null,"",""]
[0,0,null,null,null,null,"",null,null,"",""]
[0,0,null,null,null,null,"",null,null,"",""]
[0,0,null,null,null,null,"",null,null,"",""]
[0,0,null,null,null,null,"",null,null,"",""]
[{"$f":"'Labor Summary (Office)'!A755","v":0},{"$f":"'Labor Summary (Office)'!B755","v":0},null,{"$f":"IF(A755=0,\"\",A755)","v":""},null,"Subtotal Line 24",null,{"$f":"ROUND(SUM(G725:G754),2)","v":0},{"$f":"(H755+ROUND((H755*'WA Financial Status Summary'!$C$31),2))*ROUND((1+'WA Financial Status Summary'!$C$33),4)","v":0}]
[{"$f":"A$786","v":0},{"$f":"B$786","v":0},null,null,null,null,{"$f":"IFERROR(ROUND(E756*K756,2),\"\")","v":""},null,null,{"$f":"IF(D756=\"\",\"\",VLOOKUP(D756,Staffing_Table,2,FALSE))","v":""},""]
[{"$f":"A$786","v":0},0,null,null,null,null,{"$f":"IFERROR(ROUND(E757*K757,2),\"\")","v":""},null,null,"",""]
[0,0,null,null,null,null,"",null,null,"",""]
[0,0,null,null,null,null,"",null,null,"",""]
[0,0,null,null,null,null,"",null,null,"",""]
[0,0,null,null,null,null,"",null,null,"",""]
[0,0,null,null,null,null,"",null,null,"",""]
[0,0,null,null,null,null,"",null,null,"",""]
[0,0,null,null,null,null,"",null,null,"",""]
[0,0,null,null,null,null,"",null,null,"",""]
[0,0,null,null,null,null,"",null,null,"",""]
[0,0,null,null,null,null,"",null,null,"",""]
[0,0,null,null,null,null,"",null,null,"",""]
[0,0,null,null,null,null,"",null,null,"",""]
[0,0,null,null,null,null,"",null,null,"",""]
[{"$f":"A$786","v":0},{"$f":"B$786","v":0},null,null,null,null,"",null,null,"",""]
[0,0,null,null,null,null,"",null,null,"",""]
[{"$f":"A$786","v":0},0,null,null,null,null,"",null,null,"",""]
[0,0,null,null,null,null,"",null,null,"",""]
[0,0,null,null,null,null,"",null,null,"",""]
[0,0,null,null,null,null,"",null,null,"",""]
[0,0,null,null,null,null,"",null,null,"",""]
[0,0,null,null,null,null,"",null,null,"",""]
[0,0,null,null,null,null,"",null,null,"",""]
[0,0,null,null,null,null,"",null,null,"",""]
[0,0,null,null,null,null,"",null,null,"",{"$f":"IF(F781<J781,F781,J781)","v":""}]
[0,0,null,null,null,null,"",null,null,"",""]
[0,0,null,null,null,null,"",null,null,"",""]
[0,0,null,null,null,null,"",null,null,"",""]
[0,0,null,null,null,null,"",null,null,"",""]
[{"$f":"'Labor Summary (Office)'!A786","v":0},{"$f":"'Labor Summary (Office)'!B786","v":0},null,{"$f":"IF(A786=0,\"\",A786)","v":""},null,"Subtotal Line 25",null,{"$f":"ROUND(SUM(G756:G785),2)","v":0},{"$f":"(H786+ROUND((H786*'WA Financial Status Summary'!$C$31),2))*ROUND((1+'WA Financial Status Summary'!$C$33),4)","v":0}]
[{"$f":"A$817","v":0},{"$f":"B$817","v":0},null,null,null,null,{"$f":"IFERROR(ROUND(E787*K787,2),\"\")","v":""},null,null,{"$f":"IF(D787=\"\",\"\",VLOOKUP(D787,Staffing_Table,2,FALSE))","v":""},""]
[{"$f":"A$817","v":0},0,null,null,null,null,{"$f":"IFERROR(ROUND(E788*K788,2),\"\")","v":""},null,null,"",""]
[0,0,null,null,null,null,"",null,null,"",""]
[0,0,null,null,null,null,"",null,null,"",""]
[0,0,null,null,null,null,"",null,null,"",""]
[0,0,null,null,null,null,"",null,null,"",""]
[0,0,null,null,null,null,"",null,null,"",""]
[0,0,null,null,null,null,"",null,null,"",""]
[0,0,null,null,null,null,"",null,null,"",""]
[0,0,null,null,null,null,"",null,null,"",""]
[0,0,null,null,null,null,"",null,null,"",""]
[0,0,null,null,null,null,"",null,null,"",""]
[0,0,null,null,null,null,"",null,null,"",""]
[0,0,null,null,null,null,"",null,null,"",""]
[0,0,null,null,null,null,"",null,null,"",""]
[{"$f":"A$817","v":0},{"$f":"B$817","v":0},null,null,null,null,"",null,null,"",""]
[0,0,null,null,null,null,"",null,null,"",""]
[{"$f":"A$817","v":0},0,null,null,null,null,"",null,null,"",""]
[0,0,null,null,null,null,"",null,null,"",""]
[0,0,null,null,null,null,"",null,null,"",""]
[0,0,null,null,null,null,"",null,null,"",""]
[0,0,null,null,null,null,"",null,null,"",""]
[0,0,null,null,null,null,"",null,null,"",""]
[0,0,null,null,null,null,"",null,null,"",""]
[0,0,null,null,null,null,"",null,null,"",""]
[0,0,null,null,null,null,"",null,null,"",""]
[0,0,null,null,null,null,"",null,null,"",""]
[0,0,null,null,null,null,"",null,null,"",""]
[0,0,null,null,null,null,"",null,null,"",""]
[0,0,null,null,null,null,"",null,null,"",""]
[{"$f":"'Labor Summary (Office)'!A817","v":0},{"$f":"'Labor Summary (Office)'!B817","v":0},null,{"$f":"IF(A817=0,\"\",A817)","v":""},null,"Subtotal Line 26",null,{"$f":"ROUND(SUM(G787:G816),2)","v":0},{"$f":"(H817+ROUND((H817*'WA Financial Status Summary'!$C$31),2))*ROUND((1+'WA Financial Status Summary'!$C$33),4)","v":0}]
[{"$f":"A$848","v":0},{"$f":"B$848","v":0},null,null,null,null,{"$f":"IFERROR(ROUND(E818*K818,2),\"\")","v":""},null,null,{"$f":"IF(D818=\"\",\"\",VLOOKUP(D818,Staffing_Table,2,FALSE))","v":""},""]
[{"$f":"A$848","v":0},0,null,null,null,null,{"$f":"IFERROR(ROUND(E819*K819,2),\"\")","v":""},null,null,"",""]
[0,0,null,null,null,null,"",null,null,"",""]
[0,0,null,null,null,null,"",null,null,"",""]
[0,0,null,null,null,null,"",null,null,"",""]
[0,0,null,null,null,null,"",null,null,"",""]
[0,0,null,null,null,null,"",null,null,"",""]
[0,0,null,null,null,null,"",null,null,"",""]
[0,0,null,null,null,null,"",null,null,"",""]
[0,0,null,null,null,null,"",null,null,"",""]
[0,0,null,null,null,null,"",null,null,"",""]
[0,0,null,null,null,null,"",null,null,"",""]
[0,0,null,null,null,null,"",null,null,"",""]
[0,0,null,null,null,null,"",null,null,"",""]
[0,0,null,null,null,null,"",null,null,"",""]
[{"$f":"A$848","v":0},{"$f":"B$848","v":0},null,null,null,null,"",null,null,"",""]
[0,0,null,null,null,null,"",null,null,"",""]
[{"$f":"A$848","v":0},0,null,null,null,null,"",null,null,"",""]
[0,0,null,null,null,null,"",null,null,"",""]
[0,0,null,null,null,null,"",null,null,"",""]
[0,0,null,null,null,null,"",null,null,"",""]
[0,0,null,null,null,null,"",null,null,"",""]
[0,0,null,null,null,null,"",null,null,"",""]
[0,0,null,null,null,null,"",null,null,"",""]
[0,0,null,null,null,null,"",null,null,"",""]
[0,0,null,null,null,null,"",null,null,"",""]
[0,0,null,null,null,null,"",null,null,"",""]
[0,0,null,null,null,null,"",null,null,"",{"$f":"IF(F845<J845,F845,J845)","v":""}]
[0,0,null,null,null,null,"",null,null,"",""]
[0,0,null,null,null,null,"",null,null,"",""]
[{"$f":"'Labor Summary (Office)'!A848","v":0},{"$f":"'Labor Summary (Office)'!B848","v":0},null,{"$f":"IF(A848=0,\"\",A848)","v":""},null,"Subtotal Line 27",null,{"$f":"ROUND(SUM(G818:G847),2)","v":0},{"$f":"(H848+ROUND((H848*'WA Financial Status Summary'!$C$31),2))*ROUND((1+'WA Financial Status Summary'!$C$33),4)","v":0}]
[{"$f":"A$879","v":0},{"$f":"B$879","v":0},null,null,null,null,{"$f":"IFERROR(ROUND(E849*K849,2),\"\")","v":""},null,null,{"$f":"IF(D849=\"\",\"\",VLOOKUP(D849,Staffing_Table,2,FALSE))","v":""},""]
[{"$f":"A$879","v":0},0,null,null,null,null,{"$f":"IFERROR(ROUND(E850*K850,2),\"\")","v":""},null,null,"",""]
[0,0,null,null,null,null,"",null,null,"",""]
[0,0,null,null,null,null,"",null,null,"",""]
[0,0,null,null,null,null,"",null,null,"",""]
[0,0,null,null,null,null,"",null,null,"",""]
[0,0,null,null,null,null,"",null,null,"",""]
[0,0,null,null,null,null,"",null,null,"",""]
[0,0,null,null,null,null,"",null,null,"",""]
[0,0,null,null,null,null,"",null,null,"",""]
[0,0,null,null,null,null,"",null,null,"",""]
[0,0,null,null,null,null,"",null,null,"",""]
[0,0,null,null,null,null,"",null,null,"",""]
[0,0,null,null,null,null,"",null,null,"",""]
[0,0,null,null,null,null,"",null,null,"",""]
[{"$f":"A$879","v":0},{"$f":"B$879","v":0},null,null,null,null,"",null,null,"",""]
[0,0,null,null,null,null,"",null,null,"",""]
[{"$f":"A$879","v":0},0,null,null,null,null,"",null,null,"",""]
[0,0,null,null,null,null,"",null,null,"",""]
[0,0,null,null,null,null,"",null,null,"",""]
[0,0,null,null,null,null,"",null,null,"",""]
[0,0,null,null,null,null,"",null,null,"",""]
[0,0,null,null,null,null,"",null,null,"",""]
[0,0,null,null,null,null,"",null,null,"",""]
[0,0,null,null,null,null,"",null,null,"",""]
[0,0,null,null,null,null,"",null,null,"",""]
[0,0,null,null,null,null,"",null,null,"",""]
[0,0,null,null,null,null,"",null,null,"",""]
[0,0,null,null,null,null,"",null,null,"",""]
[0,0,null,null,null,null,"",null,null,"",""]
[{"$f":"'Labor Summary (Office)'!A879","v":0},{"$f":"'Labor Summary (Office)'!B879","v":0},null,{"$f":"IF(A879=0,\"\",A879)","v":""},null,"Subtotal Line 28",null,{"$f":"ROUND(SUM(G849:G878),2)","v":0},{"$f":"(H879+ROUND((H879*'WA Financial Status Summary'!$C$31),2))*ROUND((1+'WA Financial Status Summary'!$C$33),4)","v":0}]
[{"$f":"A$910","v":0},0,null,null,null,null,{"$f":"IFERROR(ROUND(E880*K880,2),\"\")","v":""},null,null,{"$f":"IF(D880=\"\",\"\",VLOOKUP(D880,Staffing_Table,2,FALSE))","v":""},""]
[0,0,null,null,null,null,{"$f":"IFERROR(ROUND(E881*K881,2),\"\")","v":""},null,null,"",""]
[0,0,null,null,null,null,"",null,null,"",""]
[0,0,null,null,null,null,"",null,null,"",""]
[0,0,null,null,null,null,"",null,null,"",""]
[0,0,null,null,null,null,"",null,null,"",""]
[0,0,null,null,null,null,"",null,null,"",""]
[0,0,null,null,null,null,"",null,null,"",""]
[0,0,null,null,null,null,"",null,null,"",""]
[0,0,null,null,null,null,"",null,null,"",""]
[0,0,null,null,null,null,"",null,null,"",""]
[0,0,null,null,null,null,"",null,null,"",""]
[0,0,null,null,null,null,"",null,null,"",""]
[0,0,null,null,null,null,"",null,null,"",""]
[0,0,null,null,null,null,"",null,null,"",""]
[0,0,null,null,null,null,"",null,null,"",""]
[0,0,null,null,null,null,"",null,null,"",""]
[0,0,null,null,null,null,"",null,null,"",""]
[0,0,null,null,null,null,"",null,null,"",""]
[0,0,null,null,null,null,"",null,null,"",""]
[0,0,null,null,null,null,"",null,null,"",""]
[0,0,null,null,null,null,"",null,null,"",""]
[0,0,null,null,null,null,"",null,null,"",""]
[0,0,null,null,null,null,"",null,null,"",""]
[0,0,null,null,null,null,"",null,null,"",""]
[0,0,null,null,null,null,"",null,null,"",""]
[0,0,null,null,null,null,"",null,null,"",""]
[0,0,null,null,null,null,"",null,null,"",""]
[0,0,null,null,null,null,"",null,null,"",""]
[0,0,null,null,null,null,"",null,null,"",{"$f":"IF(F909<J909,F909,J909)","v":""}]
[{"$f":"'Labor Summary (Office)'!A910","v":0},{"$f":"'Labor Summary (Office)'!B910","v":0},null,{"$f":"IF(A910=0,\"\",A910)","v":""},null,"Subtotal Line 29",null,{"$f":"ROUND(SUM(G880:G909),2)","v":0},{"$f":"(H910+ROUND((H910*'WA Financial Status Summary'!$C$31),2))*ROUND((1+'WA Financial Status Summary'!$C$33),4)","v":0}]
[{"$f":"A$941","v":0},{"$f":"B$941","v":0},null,null,null,null,{"$f":"IFERROR(ROUND(E911*K911,2),\"\")","v":""},null,null,{"$f":"IF(D911=\"\",\"\",VLOOKUP(D911,Staffing_Table,2,FALSE))","v":""},""]
[{"$f":"A$941","v":0},0,null,null,null,null,{"$f":"IFERROR(ROUND(E912*K912,2),\"\")","v":""},null,null,"",""]
[0,0,null,null,null,null,"",null,null,"",""]
[0,0,null,null,null,null,"",null,null,"",""]
[0,0,null,null,null,null,"",null,null,"",""]
[0,0,null,null,null,null,"",null,null,"",""]
[0,0,null,null,null,null,"",null,null,"",""]
[0,0,null,null,null,null,"",null,null,"",""]
[0,0,null,null,null,null,"",null,null,"",""]
[0,0,null,null,null,null,"",null,null,"",""]
[0,0,null,null,null,null,"",null,null,"",""]
[0,0,null,null,null,null,"",null,null,"",""]
[0,0,null,null,null,null,"",null,null,"",""]
[0,0,null,null,null,null,"",null,null,"",""]
[0,0,null,null,null,null,"",null,null,"",""]
[{"$f":"A$941","v":0},{"$f":"B$941","v":0},null,null,null,null,"",null,null,"",""]
[0,0,null,null,null,null,"",null,null,"",""]
[{"$f":"A$941","v":0},0,null,null,null,null,"",null,null,"",""]
[0,0,null,null,null,null,"",null,null,"",""]
[0,0,null,null,null,null,"",null,null,"",""]
[0,0,null,null,null,null,"",null,null,"",""]
[0,0,null,null,null,null,"",null,null,"",""]
[0,0,null,null,null,null,"",null,null,"",""]
[0,0,null,null,null,null,"",null,null,"",""]
[0,0,null,null,null,null,"",null,null,"",""]
[0,0,null,null,null,null,"",null,null,"",""]
[0,0,null,null,null,null,"",null,null,"",""]
[0,0,null,null,null,null,"",null,null,"",""]
[0,0,null,null,null,null,"",null,null,"",""]
[0,0,null,null,null,null,"",null,null,"",""]
[{"$f":"'Labor Summary (Office)'!A941","v":0},{"$f":"'Labor Summary (Office)'!B941","v":0},null,{"$f":"IF(A941=0,\"\",A941)","v":""},null,"Subtotal Line 30",null,{"$f":"ROUND(SUM(G911:G940),2)","v":0},{"$f":"(H941+ROUND((H941*'WA Financial Status Summary'!$C$31),2))*ROUND((1+'WA Financial Status Summary'!$C$33),4)","v":0}]
[{"$f":"A$972","v":0},{"$f":"B$972","v":0},null,null,null,null,{"$f":"IFERROR(ROUND(E942*K942,2),\"\")","v":""},null,null,{"$f":"IF(D942=\"\",\"\",VLOOKUP(D942,Staffing_Table,2,FALSE))","v":""},""]
[{"$f":"A$972","v":0},0,null,null,null,null,{"$f":"IFERROR(ROUND(E943*K943,2),\"\")","v":""},null,null,"",""]
[0,0,null,null,null,null,"",null,null,"",""]
[0,0,null,null,null,null,"",null,null,"",""]
[0,0,null,null,null,null,"",null,null,"",""]
[0,0,null,null,null,null,"",null,null,"",""]
[0,0,null,null,null,null,"",null,null,"",""]
[0,0,null,null,null,null,"",null,null,"",""]
[0,0,null,null,null,null,"",null,null,"",""]
[0,0,null,null,null,null,"",null,null,"",""]
[0,0,null,null,null,null,"",null,null,"",""]
[0,0,null,null,null,null,"",null,null,"",""]
[0,0,null,null,null,null,"",null,null,"",""]
[0,0,null,null,null,null,"",null,null,"",""]
[0,0,null,null,null,null,"",null,null,"",""]
[{"$f":"A$972","v":0},{"$f":"B$972","v":0},null,null,null,null,"",null,null,"",""]
[0,0,null,null,null,null,"",null,null,"",""]
[{"$f":"A$972","v":0},0,null,null,null,null,"",null,null,"",""]
[0,0,null,null,null,null,"",null,null,"",""]
[0,0,null,null,null,null,"",null,null,"",""]
[0,0,null,null,null,null,"",null,null,"",""]
[0,0,null,null,null,null,"",null,null,"",""]
[0,0,null,null,null,null,"",null,null,"",""]
[0,0,null,null,null,null,"",null,null,"",""]
[0,0,null,null,null,null,"",null,null,"",""]
[0,0,null,null,null,null,"",null,null,"",""]
[0,0,null,null,null,null,"",null,null,"",""]
[0,0,null,null,null,null,"",null,null,"",""]
[0,0,null,null,null,null,"",null,null,"",""]
[0,0,null,null,null,null,"",null,null,"",""]
[{"$f":"'Labor Summary (Office)'!A972","v":0},{"$f":"'Labor Summary (Office)'!B972","v":0},null,{"$f":"IF(A972=0,\"\",A972)","v":""},null,"Subtotal Line 31",null,{"$f":"ROUND(SUM(G942:G971),2)","v":0},{"$f":"(H972+ROUND((H972*'WA Financial Status Summary'!$C$31),2))*ROUND((1+'WA Financial Status Summary'!$C$33),4)","v":0}]
[{"$f":"A$1003","v":0},{"$f":"B$1003","v":0},null,null,null,null,{"$f":"IFERROR(ROUND(E973*K973,2),\"\")","v":""},null,null,{"$f":"IF(D973=\"\",\"\",VLOOKUP(D973,Staffing_Table,2,FALSE))","v":""},{"$f":"IF(F973<J973,F973,J973)","v":""}]
[{"$f":"A$1003","v":0},0,null,null,null,null,{"$f":"IFERROR(ROUND(E974*K974,2),\"\")","v":""},null,null,"",""]
[0,0,null,null,null,null,"",null,null,"",""]
[0,0,null,null,null,null,"",null,null,"",""]
[0,0,null,null,null,null,"",null,null,"",""]
[0,0,null,null,null,null,"",null,null,"",""]
[0,0,null,null,null,null,"",null,null,"",""]
[0,0,null,null,null,null,"",null,null,"",""]
[0,0,null,null,null,null,"",null,null,"",""]
[0,0,null,null,null,null,"",null,null,"",""]
[0,0,null,null,null,null,"",null,null,"",""]
[0,0,null,null,null,null,"",null,null,"",""]
[0,0,null,null,null,null,"",null,null,"",""]
[0,0,null,null,null,null,"",null,null,"",""]
[0,0,null,null,null,null,"",null,null,"",""]
[{"$f":"A$1003","v":0},{"$f":"B$1003","v":0},null,null,null,null,"",null,null,"",""]
[0,0,null,null,null,null,"",null,null,"",""]
[{"$f":"A$1003","v":0},0,null,null,null,null,"",null,null,"",""]
[0,0,null,null,null,null,"",null,null,"",""]
[0,0,null,null,null,null,"",null,null,"",""]
[0,0,null,null,null,null,"",null,null,"",""]
[0,0,null,null,null,null,"",null,null,"",""]
[0,0,null,null,null,null,"",null,null,"",""]
[0,0,null,null,null,null,"",null,null,"",""]
[0,0,null,null,null,null,"",null,null,"",""]
[0,0,null,null,null,null,"",null,null,"",""]
[0,0,null,null,null,null,"",null,null,"",""]
[0,0,null,null,null,null,"",null,null,"",""]
[0,0,null,null,null,null,"",null,null,"",""]
[0,0,null,null,null,null,"",null,null,"",""]
[{"$f":"'Labor Summary (Office)'!A1003","v":0},{"$f":"'Labor Summary (Office)'!B1003","v":0},null,{"$f":"IF(A1003=0,\"\",A1003)","v":""},null,"Subtotal Line 32",null,{"$f":"ROUND(SUM(G973:G1002),2)","v":0},{"$f":"(H1003+ROUND((H1003*'WA Financial Status Summary'!$C$31),2))*ROUND((1+'WA Financial Status Summary'!$C$33),4)","v":0}]
[{"$f":"A$1034","v":0},{"$f":"B$1034","v":0},null,null,null,null,{"$f":"IFERROR(ROUND(E1004*K1004,2),\"\")","v":""},null,null,{"$f":"IF(D1004=\"\",\"\",VLOOKUP(D1004,Staffing_Table,2,FALSE))","v":""},""]
[{"$f":"A$1034","v":0},0,null,null,null,null,{"$f":"IFERROR(ROUND(E1005*K1005,2),\"\")","v":""},null,null,"",""]
[0,0,null,null,null,null,"",null,null,"",""]
[0,0,null,null,null,null,"",null,null,"",""]
[0,0,null,null,null,null,"",null,null,"",""]
[0,0,null,null,null,null,"",null,null,"",""]
[0,0,null,null,null,null,"",null,null,"",""]
[0,0,null,null,null,null,"",null,null,"",""]
[0,0,null,null,null,null,"",null,null,"",""]
[0,0,null,null,null,null,"",null,null,"",""]
[0,0,null,null,null,null,"",null,null,"",""]
[0,0,null,null,null,null,"",null,null,"",""]
[0,0,null,null,null,null,"",null,null,"",""]
[0,0,null,null,null,null,"",null,null,"",""]
[0,0,null,null,null,null,"",null,null,"",""]
[{"$f":"A$1034","v":0},{"$f":"B$1034","v":0},null,null,null,null,"",null,null,"",""]
[0,0,null,null,null,null,"",null,null,"",""]
[{"$f":"A$1034","v":0},0,null,null,null,null,"",null,null,"",""]
[0,0,null,null,null,null,"",null,null,"",""]
[0,0,null,null,null,null,"",null,null,"",""]
[0,0,null,null,null,null,"",null,null,"",""]
[0,0,null,null,null,null,"",null,null,"",""]
[0,0,null,null,null,null,"",null,null,"",""]
[0,0,null,null,null,null,"",null,null,"",""]
[0,0,null,null,null,null,"",null,null,"",""]
[0,0,null,null,null,null,"",null,null,"",""]
[0,0,null,null,null,null,"",null,null,"",""]
[0,0,null,null,null,null,"",null,null,"",""]
[0,0,null,null,null,null,"",null,null,"",""]
[0,0,null,null,null,null,"",null,null,"",""]
[{"$f":"'Labor Summary (Office)'!A1034","v":0},{"$f":"'Labor Summary (Office)'!B1034","v":0},null,{"$f":"IF(A1034=0,\"\",A1034)","v":""},null,"Subtotal Line 33",null,{"$f":"ROUND(SUM(G1004:G1033),2)","v":0},{"$f":"(H1034+ROUND((H1034*'WA Financial Status Summary'!$C$31),2))*ROUND((1+'WA Financial Status Summary'!$C$33),4)","v":0}]
[{"$f":"A$1065","v":0},{"$f":"B$1065","v":0},null,null,null,null,{"$f":"IFERROR(ROUND(E1035*K1035,2),\"\")","v":""},null,null,{"$f":"IF(D1035=\"\",\"\",VLOOKUP(D1035,Staffing_Table,2,FALSE))","v":""},""]
[{"$f":"A$1065","v":0},0,null,null,null,null,{"$f":"IFERROR(ROUND(E1036*K1036,2),\"\")","v":""},null,null,"",""]
[0,0,null,null,null,null,"",null,null,"",{"$f":"IF(F1037<J1037,F1037,J1037)","v":""}]
[0,0,null,null,null,null,"",null,null,"",""]
[0,0,null,null,null,null,"",null,null,"",""]
[0,0,null,null,null,null,"",null,null,"",""]
[0,0,null,null,null,null,"",null,null,"",""]
[0,0,null,null,null,null,"",null,null,"",""]
[0,0,null,null,null,null,"",null,null,"",""]
[0,0,null,null,null,null,"",null,null,"",""]
[0,0,null,null,null,null,"",null,null,"",""]
[0,0,null,null,null,null,"",null,null,"",""]
[0,0,null,null,null,null,"",null,null,"",""]
[0,0,null,null,null,null,"",null,null,"",""]
[0,0,null,null,null,null,"",null,null,"",""]
[{"$f":"A$1065","v":0},{"$f":"B$1065","v":0},null,null,null,null,"",null,null,"",""]
[0,0,null,null,null,null,"",null,null,"",""]
[{"$f":"A$1065","v":0},0,null,null,null,null,"",null,null,"",""]
[0,0,null,null,null,null,"",null,null,"",""]
[0,0,null,null,null,null,"",null,null,"",""]
[0,0,null,null,null,null,"",null,null,"",""]
[0,0,null,null,null,null,"",null,null,"",""]
[0,0,null,null,null,null,"",null,null,"",""]
[0,0,null,null,null,null,"",null,null,"",""]
[0,0,null,null,null,null,"",null,null,"",""]
[0,0,null,null,null,null,"",null,null,"",""]
[0,0,null,null,null,null,"",null,null,"",""]
[0,0,null,null,null,null,"",null,null,"",""]
[0,0,null,null,null,null,"",null,null,"",""]
[0,0,null,null,null,null,"",null,null,"",""]
[{"$f":"'Labor Summary (Office)'!A1065","v":0},{"$f":"'Labor Summary (Office)'!B1065","v":0},null,{"$f":"IF(A1065=0,\"\",A1065)","v":""},null,"Subtotal Line 34",null,{"$f":"ROUND(SUM(G1035:G1064),2)","v":0},{"$f":"(H1065+ROUND((H1065*'WA Financial Status Summary'!$C$31),2))*ROUND((1+'WA Financial Status Summary'!$C$33),4)","v":0}]
[{"$f":"A$1096","v":0},{"$f":"B$1096","v":0},null,null,null,null,{"$f":"IFERROR(ROUND(E1066*K1066,2),\"\")","v":""},null,null,{"$f":"IF(D1066=\"\",\"\",VLOOKUP(D1066,Staffing_Table,2,FALSE))","v":""},""]
[{"$f":"A$1096","v":0},0,null,null,null,null,{"$f":"IFERROR(ROUND(E1067*K1067,2),\"\")","v":""},null,null,"",""]
[0,0,null,null,null,null,"",null,null,"",""]
[0,0,null,null,null,null,"",null,null,"",""]
[0,0,null,null,null,null,"",null,null,"",""]
[0,0,null,null,null,null,"",null,null,"",""]
[0,0,null,null,null,null,"",null,null,"",""]
[0,0,null,null,null,null,"",null,null,"",""]
[0,0,null,null,null,null,"",null,null,"",""]
[0,0,null,null,null,null,"",null,null,"",""]
[0,0,null,null,null,null,"",null,null,"",""]
[0,0,null,null,null,null,"",null,null,"",""]
[0,0,null,null,null,null,"",null,null,"",""]
[0,0,null,null,null,null,"",null,null,"",""]
[0,0,null,null,null,null,"",null,null,"",""]
[{"$f":"A$1096","v":0},{"$f":"B$1096","v":0},null,null,null,null,"",null,null,"",""]
[0,0,null,null,null,null,"",null,null,"",""]
[{"$f":"A$1096","v":0},0,null,null,null,null,"",null,null,"",""]
[0,0,null,null,null,null,"",null,null,"",""]
[0,0,null,null,null,null,"",null,null,"",""]
[0,0,null,null,null,null,"",null,null,"",""]
[0,0,null,null,null,null,"",null,null,"",""]
[0,0,null,null,null,null,"",null,null,"",""]
[0,0,null,null,null,null,"",null,null,"",""]
[0,0,null,null,null,null,"",null,null,"",""]
[0,0,null,null,null,null,"",null,null,"",""]
[0,0,null,null,null,null,"",null,null,"",""]
[0,0,null,null,null,null,"",null,null,"",""]
[0,0,null,null,null,null,"",null,null,"",""]
[0,0,null,null,null,null,"",null,null,"",""]
[{"$f":"'Labor Summary (Office)'!A1096","v":0},{"$f":"'Labor Summary (Office)'!B1096","v":0},null,{"$f":"IF(A1096=0,\"\",A1096)","v":""},null,"Subtotal Line 35",null,{"$f":"ROUND(SUM(G1066:G1095),2)","v":0},{"$f":"(H1096+ROUND((H1096*'WA Financial Status Summary'!$C$31),2))*ROUND((1+'WA Financial Status Summary'!$C$33),4)","v":0}]
[{"$f":"A$1127","v":0},{"$f":"B$1127","v":0},null,null,null,null,{"$f":"IFERROR(ROUND(E1097*K1097,2),\"\")","v":""},null,null,{"$f":"IF(D1097=\"\",\"\",VLOOKUP(D1097,Staffing_Table,2,FALSE))","v":""},""]
[{"$f":"A$1127","v":0},0,null,null,null,null,{"$f":"IFERROR(ROUND(E1098*K1098,2),\"\")","v":""},null,null,"",""]
[0,0,null,null,null,null,"",null,null,"",""]
[0,0,null,null,null,null,"",null,null,"",""]
[0,0,null,null,null,null,"",null,null,"",{"$f":"IF(F1101<J1101,F1101,J1101)","v":""}]
[0,0,null,null,null,null,"",null,null,"",""]
[0,0,null,null,null,null,"",null,null,"",""]
[0,0,null,null,null,null,"",null,null,"",""]
[0,0,null,null,null,null,"",null,null,"",""]
[0,0,null,null,null,null,"",null,null,"",""]
[0,0,null,null,null,null,"",null,null,"",""]
[0,0,null,null,null,null,"",null,null,"",""]
[0,0,null,null,null,null,"",null,null,"",""]
[0,0,null,null,null,null,"",null,null,"",""]
[0,0,null,null,null,null,"",null,null,"",""]
[{"$f":"A$1127","v":0},{"$f":"B$1127","v":0},null,null,null,null,"",null,null,"",""]
[0,0,null,null,null,null,"",null,null,"",""]
[{"$f":"A$1127","v":0},0,null,null,null,null,"",null,null,"",""]
[0,0,null,null,null,null,"",null,null,"",""]
[0,0,null,null,null,null,"",null,null,"",""]
[0,0,null,null,null,null,"",null,null,"",""]
[0,0,null,null,null,null,"",null,null,"",""]
[0,0,null,null,null,null,"",null,null,"",""]
[0,0,null,null,null,null,"",null,null,"",""]
[0,0,null,null,null,null,"",null,null,"",""]
[0,0,null,null,null,null,"",null,null,"",""]
[0,0,null,null,null,null,"",null,null,"",""]
[0,0,null,null,null,null,"",null,null,"",""]
[0,0,null,null,null,null,"",null,null,"",""]
[0,0,null,null,null,null,"",null,null,"",""]
[{"$f":"'Labor Summary (Office)'!A1127","v":0},{"$f":"'Labor Summary (Office)'!B1127","v":0},null,{"$f":"IF(A1127=0,\"\",A1127)","v":""},null,"Subtotal Line 36",null,{"$f":"ROUND(SUM(G1097:G1126),2)","v":0},{"$f":"(H1127+ROUND((H1127*'WA Financial Status Summary'!$C$31),2))*ROUND((1+'WA Financial Status Summary'!$C$33),4)","v":0}]
[{"$f":"A$1158","v":0},{"$f":"B$1158","v":0},null,null,null,null,{"$f":"IFERROR(ROUND(E1128*K1128,2),\"\")","v":""},null,null,{"$f":"IF(D1128=\"\",\"\",VLOOKUP(D1128,Staffing_Table,2,FALSE))","v":""},""]
[{"$f":"A$1158","v":0},0,null,null,null,null,{"$f":"IFERROR(ROUND(E1129*K1129,2),\"\")","v":""},null,null,"",""]
[0,0,null,null,null,null,"",null,null,"",""]
[0,0,null,null,null,null,"",null,null,"",""]
[0,0,null,null,null,null,"",null,null,"",""]
[0,0,null,null,null,null,"",null,null,"",""]
[0,0,null,null,null,null,"",null,null,"",""]
[0,0,null,null,null,null,"",null,null,"",""]
[0,0,null,null,null,null,"",null,null,"",""]
[0,0,null,null,null,null,"",null,null,"",""]
[0,0,null,null,null,null,"",null,null,"",""]
[0,0,null,null,null,null,"",null,null,"",""]
[0,0,null,null,null,null,"",null,null,"",""]
[0,0,null,null,null,null,"",null,null,"",""]
[0,0,null,null,null,null,"",null,null,"",""]
[{"$f":"A$1158","v":0},{"$f":"B$1158","v":0},null,null,null,null,"",null,null,"",""]
[0,0,null,null,null,null,"",null,null,"",""]
[{"$f":"A$1158","v":0},0,null,null,null,null,"",null,null,"",""]
[0,0,null,null,null,null,"",null,null,"",""]
[0,0,null,null,null,null,"",null,null,"",""]
[0,0,null,null,null,null,"",null,null,"",""]
[0,0,null,null,null,null,"",null,null,"",""]
[0,0,null,null,null,null,"",null,null,"",""]
[0,0,null,null,null,null,"",null,null,"",""]
[0,0,null,null,null,null,"",null,null,"",""]
[0,0,null,null,null,null,"",null,null,"",""]
[0,0,null,null,null,null,"",null,null,"",""]
[0,0,null,null,null,null,"",null,null,"",""]
[0,0,null,null,null,null,"",null,null,"",""]
[0,0,null,null,null,null,"",null,null,"",""]
[{"$f":"'Labor Summary (Office)'!A1158","v":0},{"$f":"'Labor Summary (Office)'!B1158","v":0},null,{"$f":"IF(A1158=0,\"\",A1158)","v":""},null,"Subtotal Line 37",null,{"$f":"ROUND(SUM(G1128:G1157),2)","v":0},{"$f":"(H1158+ROUND((H1158*'WA Financial Status Summary'!$C$31),2))*ROUND((1+'WA Financial Status Summary'!$C$33),4)","v":0}]
[{"$f":"A$1189","v":0},{"$f":"B$1189","v":0},null,null,null,null,{"$f":"IFERROR(ROUND(E1159*K1159,2),\"\")","v":""},null,null,{"$f":"IF(D1159=\"\",\"\",VLOOKUP(D1159,Staffing_Table,2,FALSE))","v":""},""]
[{"$f":"A$1189","v":0},0,null,null,null,null,{"$f":"IFERROR(ROUND(E1160*K1160,2),\"\")","v":""},null,null,"",""]
[0,0,null,null,null,null,"",null,null,"",""]
[0,0,null,null,null,null,"",null,null,"",""]
[0,0,null,null,null,null,"",null,null,"",""]
[0,0,null,null,null,null,"",null,null,"",""]
[0,0,null,null,null,null,"",null,null,"",{"$f":"IF(F1165<J1165,F1165,J1165)","v":""}]
[0,0,null,null,null,null,"",null,null,"",""]
[0,0,null,null,null,null,"",null,null,"",""]
[0,0,null,null,null,null,"",null,null,"",""]
[0,0,null,null,null,null,"",null,null,"",""]
[0,0,null,null,null,null,"",null,null,"",""]
[0,0,null,null,null,null,"",null,null,"",""]
[0,0,null,null,null,null,"",null,null,"",""]
[0,0,null,null,null,null,"",null,null,"",""]
[{"$f":"A$1189","v":0},{"$f":"B$1189","v":0},null,null,null,null,"",null,null,"",""]
[0,0,null,null,null,null,"",null,null,"",""]
[{"$f":"A$1189","v":0},0,null,null,null,null,"",null,null,"",""]
[0,0,null,null,null,null,"",null,null,"",""]
[0,0,null,null,null,null,"",null,null,"",""]
[0,0,null,null,null,null,"",null,null,"",""]
[0,0,null,null,null,null,"",null,null,"",""]
[0,0,null,null,null,null,"",null,null,"",""]
[0,0,null,null,null,null,"",null,null,"",""]
[0,0,null,null,null,null,"",null,null,"",""]
[0,0,null,null,null,null,"",null,null,"",""]
[0,0,null,null,null,null,"",null,null,"",""]
[0,0,null,null,null,null,"",null,null,"",""]
[0,0,null,null,null,null,"",null,null,"",""]
[0,0,null,null,null,null,"",null,null,"",""]
[{"$f":"'Labor Summary (Office)'!A1189","v":0},{"$f":"'Labor Summary (Office)'!B1189","v":0},null,{"$f":"IF(A1189=0,\"\",A1189)","v":""},null,"Subtotal Line 38",null,{"$f":"ROUND(SUM(G1159:G1188),2)","v":0},{"$f":"(H1189+ROUND((H1189*'WA Financial Status Summary'!$C$31),2))*ROUND((1+'WA Financial Status Summary'!$C$33),4)","v":0}]
[{"$f":"A$1220","v":0},{"$f":"B$1220","v":0},null,null,null,null,{"$f":"IFERROR(ROUND(E1190*K1190,2),\"\")","v":""},null,null,{"$f":"IF(D1190=\"\",\"\",VLOOKUP(D1190,Staffing_Table,2,FALSE))","v":""},""]
[{"$f":"A$1220","v":0},0,null,null,null,null,{"$f":"IFERROR(ROUND(E1191*K1191,2),\"\")","v":""},null,null,"",""]
[0,0,null,null,null,null,"",null,null,"",""]
[0,0,null,null,null,null,"",null,null,"",""]
[0,0,null,null,null,null,"",null,null,"",""]
[0,0,null,null,null,null,"",null,null,"",""]
[0,0,null,null,null,null,"",null,null,"",""]
[0,0,null,null,null,null,"",null,null,"",""]
[0,0,null,null,null,null,"",null,null,"",""]
[0,0,null,null,null,null,"",null,null,"",""]
[0,0,null,null,null,null,"",null,null,"",""]
[0,0,null,null,null,null,"",null,null,"",""]
[0,0,null,null,null,null,"",null,null,"",""]
[0,0,null,null,null,null,"",null,null,"",""]
[0,0,null,null,null,null,"",null,null,"",""]
[{"$f":"A$1220","v":0},{"$f":"B$1220","v":0},null,null,null,null,"",null,null,"",""]
[0,0,null,null,null,null,"",null,null,"",""]
[{"$f":"A$1220","v":0},0,null,null,null,null,"",null,null,"",""]
[0,0,null,null,null,null,"",null,null,"",""]
[0,0,null,null,null,null,"",null,null,"",""]
[0,0,null,null,null,null,"",null,null,"",""]
[0,0,null,null,null,null,"",null,null,"",""]
[0,0,null,null,null,null,"",null,null,"",""]
[0,0,null,null,null,null,"",null,null,"",""]
[0,0,null,null,null,null,"",null,null,"",""]
[0,0,null,null,null,null,"",null,null,"",""]
[0,0,null,null,null,null,"",null,null,"",""]
[0,0,null,null,null,null,"",null,null,"",""]
[0,0,null,null,null,null,"",null,null,"",""]
[0,0,null,null,null,null,"",null,null,"",""]
[{"$f":"'Labor Summary (Office)'!A1220","v":0},{"$f":"'Labor Summary (Office)'!B1220","v":0},null,{"$f":"IF(A1220=0,\"\",A1220)","v":""},null,"Subtotal Line 39",null,{"$f":"ROUND(SUM(G1190:G1219),2)","v":0},{"$f":"(H1220+ROUND((H1220*'WA Financial Status Summary'!$C$31),2))*ROUND((1+'WA Financial Status Summary'!$C$33),4)","v":0}]
[{"$f":"A$1251","v":0},{"$f":"B$1251","v":0},null,null,null,null,{"$f":"IFERROR(ROUND(E1221*K1221,2),\"\")","v":""},null,null,{"$f":"IF(D1221=\"\",\"\",VLOOKUP(D1221,Staffing_Table,2,FALSE))","v":""},""]
[{"$f":"A$1251","v":0},0,null,null,null,null,{"$f":"IFERROR(ROUND(E1222*K1222,2),\"\")","v":""},null,null,"",""]
[0,0,null,null,null,null,"",null,null,"",""]
[0,0,null,null,null,null,"",null,null,"",""]
[0,0,null,null,null,null,"",null,null,"",""]
[0,0,null,null,null,null,"",null,null,"",""]
[0,0,null,null,null,null,"",null,null,"",""]
[0,0,null,null,null,null,"",null,null,"",""]
[0,0,null,null,null,null,"",null,null,"",{"$f":"IF(F1229<J1229,F1229,J1229)","v":""}]
[0,0,null,null,null,null,"",null,null,"",""]
[0,0,null,null,null,null,"",null,null,"",""]
[0,0,null,null,null,null,"",null,null,"",""]
[0,0,null,null,null,null,"",null,null,"",""]
[0,0,null,null,null,null,"",null,null,"",""]
[0,0,null,null,null,null,"",null,null,"",""]
[{"$f":"A$1251","v":0},{"$f":"B$1251","v":0},null,null,null,null,"",null,null,"",""]
[0,0,null,null,null,null,"",null,null,"",""]
[{"$f":"A$1251","v":0},0,null,null,null,null,"",null,null,"",""]
[0,0,null,null,null,null,"",null,null,"",""]
[0,0,null,null,null,null,"",null,null,"",""]
[0,0,null,null,null,null,"",null,null,"",""]
[0,0,null,null,null,null,"",null,null,"",""]
[0,0,null,null,null,null,"",null,null,"",""]
[0,0,null,null,null,null,"",null,null,"",""]
[0,0,null,null,null,null,"",null,null,"",""]
[0,0,null,null,null,null,"",null,null,"",""]
[0,0,null,null,null,null,"",null,null,"",""]
[0,0,null,null,null,null,"",null,null,"",""]
[0,0,null,null,null,null,"",null,null,"",""]
[0,0,null,null,null,null,"",null,null,"",""]
[{"$f":"'Labor Summary (Office)'!A1251","v":0},{"$f":"'Labor Summary (Office)'!B1251","v":0},null,{"$f":"IF(A1251=0,\"\",A1251)","v":""},null,"Subtotal Line 40",null,{"$f":"ROUND(SUM(G1221:G1250),2)","v":0},{"$f":"(H1251+ROUND((H1251*'WA Financial Status Summary'!$C$31),2))*ROUND((1+'WA Financial Status Summary'!$C$33),4)","v":0}]
[{"$f":"A$1282","v":0},{"$f":"B$1282","v":0},null,null,null,null,{"$f":"IFERROR(ROUND(E1252*K1252,2),\"\")","v":""},null,null,{"$f":"IF(D1252=\"\",\"\",VLOOKUP(D1252,Staffing_Table,2,FALSE))","v":""},""]
[{"$f":"A$1282","v":0},0,null,null,null,null,{"$f":"IFERROR(ROUND(E1253*K1253,2),\"\")","v":""},null,null,"",""]
[0,0,null,null,null,null,"",null,null,"",""]
[0,0,null,null,null,null,"",null,null,"",""]
[0,0,null,null,null,null,"",null,null,"",""]
[0,0,null,null,null,null,"",null,null,"",""]
[0,0,null,null,null,null,"",null,null,"",""]
[0,0,null,null,null,null,"",null,null,"",""]
[0,0,null,null,null,null,"",null,null,"",""]
[0,0,null,null,null,null,"",null,null,"",""]
[0,0,null,null,null,null,"",null,null,"",""]
[0,0,null,null,null,null,"",null,null,"",""]
[0,0,null,null,null,null,"",null,null,"",""]
[0,0,null,null,null,null,"",null,null,"",""]
[0,0,null,null,null,null,"",null,null,"",""]
[{"$f":"A$1282","v":0},{"$f":"B$1282","v":0},null,null,null,null,"",null,null,"",""]
[0,0,null,null,null,null,"",null,null,"",""]
[{"$f":"A$1282","v":0},0,null,null,null,null,"",null,null,"",""]
[0,0,null,null,null,null,"",null,null,"",""]
[0,0,null,null,null,null,"",null,null,"",""]
[0,0,null,null,null,null,"",null,null,"",""]
[0,0,null,null,null,null,"",null,null,"",""]
[0,0,null,null,null,null,"",null,null,"",""]
[0,0,null,null,null,null,"",null,null,"",""]
[0,0,null,null,null,null,"",null,null,"",""]
[0,0,null,null,null,null,"",null,null,"",""]
[0,0,null,null,null,null,"",null,null,"",""]
[0,0,null,null,null,null,"",null,null,"",""]
[0,0,null,null,null,null,"",null,null,"",""]
[0,0,null,null,null,null,"",null,null,"",""]
[{"$f":"'Labor Summary (Office)'!A1282","v":0},{"$f":"'Labor Summary (Office)'!B1282","v":0},null,{"$f":"IF(A1282=0,\"\",A1282)","v":""},null,"Subtotal Line 41",null,{"$f":"ROUND(SUM(G1252:G1281),2)","v":0},{"$f":"(H1282+ROUND((H1282*'WA Financial Status Summary'!$C$31),2))*ROUND((1+'WA Financial Status Summary'!$C$33),4)","v":0}]
[{"$f":"A$1313","v":0},{"$f":"B$1313","v":0},null,null,null,null,{"$f":"IFERROR(ROUND(E1283*K1283,2),\"\")","v":""},null,null,{"$f":"IF(D1283=\"\",\"\",VLOOKUP(D1283,Staffing_Table,2,FALSE))","v":""},""]
[{"$f":"A$1313","v":0},0,null,null,null,null,{"$f":"IFERROR(ROUND(E1284*K1284,2),\"\")","v":""},null,null,"",""]
[0,0,null,null,null,null,"",null,null,"",""]
[0,0,null,null,null,null,"",null,null,"",""]
[0,0,null,null,null,null,"",null,null,"",""]
[0,0,null,null,null,null,"",null,null,"",""]
[0,0,null,null,null,null,"",null,null,"",""]
[0,0,null,null,null,null,"",null,null,"",""]
[0,0,null,null,null,null,"",null,null,"",""]
[0,0,null,null,null,null,"",null,null,"",""]
[0,0,null,null,null,null,"",null,null,"",{"$f":"IF(F1293<J1293,F1293,J1293)","v":""}]
[0,0,null,null,null,null,"",null,null,"",""]
[0,0,null,null,null,null,"",null,null,"",""]
[0,0,null,null,null,null,"",null,null,"",""]
[0,0,null,null,null,null,"",null,null,"",""]
[{"$f":"A$1313","v":0},{"$f":"B$1313","v":0},null,null,null,null,"",null,null,"",""]
[0,0,null,null,null,null,"",null,null,"",""]
[{"$f":"A$1313","v":0},0,null,null,null,null,"",null,null,"",""]
[0,0,null,null,null,null,"",null,null,"",""]
[0,0,null,null,null,null,"",null,null,"",""]
[0,0,null,null,null,null,"",null,null,"",""]
[0,0,null,null,null,null,"",null,null,"",""]
[0,0,null,null,null,null,"",null,null,"",""]
[0,0,null,null,null,null,"",null,null,"",""]
[0,0,null,null,null,null,"",null,null,"",""]
[0,0,null,null,null,null,"",null,null,"",""]
[0,0,null,null,null,null,"",null,null,"",""]
[0,0,null,null,null,null,"",null,null,"",""]
[0,0,null,null,null,null,"",null,null,"",""]
[0,0,null,null,null,null,"",null,null,"",""]
[{"$f":"'Labor Summary (Office)'!A1313","v":0},{"$f":"'Labor Summary (Office)'!B1313","v":0},null,{"$f":"IF(A1313=0,\"\",A1313)","v":""},null,"Subtotal Line 42",null,{"$f":"ROUND(SUM(G1283:G1312),2)","v":0},{"$f":"(H1313+ROUND((H1313*'WA Financial Status Summary'!$C$31),2))*ROUND((1+'WA Financial Status Summary'!$C$33),4)","v":0}]
[{"$f":"A$1344","v":0},{"$f":"B$1344","v":0},null,null,null,null,{"$f":"IFERROR(ROUND(E1314*K1314,2),\"\")","v":""},null,null,{"$f":"IF(D1314=\"\",\"\",VLOOKUP(D1314,Staffing_Table,2,FALSE))","v":""},""]
[{"$f":"A$1344","v":0},0,null,null,null,null,{"$f":"IFERROR(ROUND(E1315*K1315,2),\"\")","v":""},null,null,"",""]
[0,0,null,null,null,null,"",null,null,"",""]
[0,0,null,null,null,null,"",null,null,"",""]
[0,0,null,null,null,null,"",null,null,"",""]
[0,0,null,null,null,null,"",null,null,"",""]
[0,0,null,null,null,null,"",null,null,"",""]
[0,0,null,null,null,null,"",null,null,"",""]
[0,0,null,null,null,null,"",null,null,"",""]
[0,0,null,null,null,null,"",null,null,"",""]
[0,0,null,null,null,null,"",null,null,"",""]
[0,0,null,null,null,null,"",null,null,"",""]
[0,0,null,null,null,null,"",null,null,"",""]
[0,0,null,null,null,null,"",null,null,"",""]
[0,0,null,null,null,null,"",null,null,"",""]
[{"$f":"A$1344","v":0},{"$f":"B$1344","v":0},null,null,null,null,"",null,null,"",""]
[0,0,null,null,null,null,"",null,null,"",""]
[{"$f":"A$1344","v":0},0,null,null,null,null,"",null,null,"",""]
[0,0,null,null,null,null,"",null,null,"",""]
[0,0,null,null,null,null,"",null,null,"",""]
[0,0,null,null,null,null,"",null,null,"",""]
[0,0,null,null,null,null,"",null,null,"",""]
[0,0,null,null,null,null,"",null,null,"",""]
[0,0,null,null,null,null,"",null,null,"",""]
[0,0,null,null,null,null,"",null,null,"",""]
[0,0,null,null,null,null,"",null,null,"",""]
[0,0,null,null,null,null,"",null,null,"",""]
[0,0,null,null,null,null,"",null,null,"",""]
[0,0,null,null,null,null,"",null,null,"",""]
[0,0,null,null,null,null,"",null,null,"",""]
[{"$f":"'Labor Summary (Office)'!A1344","v":0},{"$f":"'Labor Summary (Office)'!B1344","v":0},null,{"$f":"IF(A1344=0,\"\",A1344)","v":""},null,"Subtotal Line 43",null,{"$f":"ROUND(SUM(G1314:G1343),2)","v":0},{"$f":"(H1344+ROUND((H1344*'WA Financial Status Summary'!$C$31),2))*ROUND((1+'WA Financial Status Summary'!$C$33),4)","v":0}]
[{"$f":"A$1375","v":0},{"$f":"B$1375","v":0},null,null,null,null,{"$f":"IFERROR(ROUND(E1345*K1345,2),\"\")","v":""},null,null,{"$f":"IF(D1345=\"\",\"\",VLOOKUP(D1345,Staffing_Table,2,FALSE))","v":""},""]
[{"$f":"A$1375","v":0},0,null,null,null,null,{"$f":"IFERROR(ROUND(E1346*K1346,2),\"\")","v":""},null,null,"",""]
[0,0,null,null,null,null,"",null,null,"",""]
[0,0,null,null,null,null,"",null,null,"",""]
[0,0,null,null,null,null,"",null,null,"",""]
[0,0,null,null,null,null,"",null,null,"",""]
[0,0,null,null,null,null,"",null,null,"",""]
[0,0,null,null,null,null,"",null,null,"",""]
[0,0,null,null,null,null,"",null,null,"",""]
[0,0,null,null,null,null,"",null,null,"",""]
[0,0,null,null,null,null,"",null,null,"",""]
[0,0,null,null,null,null,"",null,null,"",""]
[0,0,null,null,null,null,"",null,null,"",{"$f":"IF(F1357<J1357,F1357,J1357)","v":""}]
[0,0,null,null,null,null,"",null,null,"",""]
[0,0,null,null,null,null,"",null,null,"",""]
[{"$f":"A$1375","v":0},{"$f":"B$1375","v":0},null,null,null,null,"",null,null,"",""]
[0,0,null,null,null,null,"",null,null,"",""]
[{"$f":"A$1375","v":0},0,null,null,null,null,"",null,null,"",""]
[0,0,null,null,null,null,"",null,null,"",""]
[0,0,null,null,null,null,"",null,null,"",""]
[0,0,null,null,null,null,"",null,null,"",""]
[0,0,null,null,null,null,"",null,null,"",""]
[0,0,null,null,null,null,"",null,null,"",""]
[0,0,null,null,null,null,"",null,null,"",""]
[0,0,null,null,null,null,"",null,null,"",""]
[0,0,null,null,null,null,"",null,null,"",""]
[0,0,null,null,null,null,"",null,null,"",""]
[0,0,null,null,null,null,"",null,null,"",""]
[0,0,null,null,null,null,"",null,null,"",""]
[0,0,null,null,null,null,"",null,null,"",""]
[{"$f":"'Labor Summary (Office)'!A1375","v":0},{"$f":"'Labor Summary (Office)'!B1375","v":0},null,{"$f":"IF(A1375=0,\"\",A1375)","v":""},null,"Subtotal Line 44",null,{"$f":"ROUND(SUM(G1345:G1374),2)","v":0},{"$f":"(H1375+ROUND((H1375*'WA Financial Status Summary'!$C$31),2))*ROUND((1+'WA Financial Status Summary'!$C$33),4)","v":0}]
[{"$f":"A$1406","v":0},{"$f":"B$1406","v":0},null,null,null,null,{"$f":"IFERROR(ROUND(E1376*K1376,2),\"\")","v":""},null,null,{"$f":"IF(D1376=\"\",\"\",VLOOKUP(D1376,Staffing_Table,2,FALSE))","v":""},""]
[{"$f":"A$1406","v":0},0,null,null,null,null,{"$f":"IFERROR(ROUND(E1377*K1377,2),\"\")","v":""},null,null,"",""]
[0,0,null,null,null,null,"",null,null,"",""]
[0,0,null,null,null,null,"",null,null,"",""]
[0,0,null,null,null,null,"",null,null,"",""]
[0,0,null,null,null,null,"",null,null,"",""]
[0,0,null,null,null,null,"",null,null,"",""]
[0,0,null,null,null,null,"",null,null,"",""]
[0,0,null,null,null,null,"",null,null,"",""]
[0,0,null,null,null,null,"",null,null,"",""]
[0,0,null,null,null,null,"",null,null,"",""]
[0,0,null,null,null,null,"",null,null,"",""]
[0,0,null,null,null,null,"",null,null,"",""]
[0,0,null,null,null,null,"",null,null,"",""]
[0,0,null,null,null,null,"",null,null,"",""]
[{"$f":"A$1406","v":0},{"$f":"B$1406","v":0},null,null,null,null,"",null,null,"",""]
[0,0,null,null,null,null,"",null,null,"",""]
[{"$f":"A$1406","v":0},0,null,null,null,null,"",null,null,"",""]
[0,0,null,null,null,null,"",null,null,"",""]
[0,0,null,null,null,null,"",null,null,"",""]
[0,0,null,null,null,null,"",null,null,"",""]
[0,0,null,null,null,null,"",null,null,"",""]
[0,0,null,null,null,null,"",null,null,"",""]
[0,0,null,null,null,null,"",null,null,"",""]
[0,0,null,null,null,null,"",null,null,"",""]
[0,0,null,null,null,null,"",null,null,"",""]
[0,0,null,null,null,null,"",null,null,"",""]
[0,0,null,null,null,null,"",null,null,"",""]
[0,0,null,null,null,null,"",null,null,"",""]
[0,0,null,null,null,null,"",null,null,"",""]
[{"$f":"'Labor Summary (Office)'!A1406","v":0},{"$f":"'Labor Summary (Office)'!B1406","v":0},null,{"$f":"IF(A1406=0,\"\",A1406)","v":""},null,"Subtotal Line 45",null,{"$f":"ROUND(SUM(G1376:G1405),2)","v":0},{"$f":"(H1406+ROUND((H1406*'WA Financial Status Summary'!$C$31),2))*ROUND((1+'WA Financial Status Summary'!$C$33),4)","v":0}]
[{"$f":"A$1437","v":0},{"$f":"B$1437","v":0},null,null,null,null,{"$f":"IFERROR(ROUND(E1407*K1407,2),\"\")","v":""},null,null,{"$f":"IF(D1407=\"\",\"\",VLOOKUP(D1407,Staffing_Table,2,FALSE))","v":""},""]
[{"$f":"A$1437","v":0},0,null,null,null,null,{"$f":"IFERROR(ROUND(E1408*K1408,2),\"\")","v":""},null,null,"",""]
[0,0,null,null,null,null,"",null,null,"",""]
[0,0,null,null,null,null,"",null,null,"",""]
[0,0,null,null,null,null,"",null,null,"",""]
[0,0,null,null,null,null,"",null,null,"",""]
[0,0,null,null,null,null,"",null,null,"",""]
[0,0,null,null,null,null,"",null,null,"",""]
[0,0,null,null,null,null,"",null,null,"",""]
[0,0,null,null,null,null,"",null,null,"",""]
[0,0,null,null,null,null,"",null,null,"",""]
[0,0,null,null,null,null,"",null,null,"",""]
[0,0,null,null,null,null,"",null,null,"",""]
[0,0,null,null,null,null,"",null,null,"",""]
[0,0,null,null,null,null,"",null,null,"",{"$f":"IF(F1421<J1421,F1421,J1421)","v":""}]
[{"$f":"A$1437","v":0},{"$f":"B$1437","v":0},null,null,null,null,"",null,null,"",""]
[0,0,null,null,null,null,"",null,null,"",""]
[{"$f":"A$1437","v":0},0,null,null,null,null,"",null,null,"",""]
[0,0,null,null,null,null,"",null,null,"",""]
[0,0,null,null,null,null,"",null,null,"",""]
[0,0,null,null,null,null,"",null,null,"",""]
[0,0,null,null,null,null,"",null,null,"",""]
[0,0,null,null,null,null,"",null,null,"",""]
[0,0,null,null,null,null,"",null,null,"",""]
[0,0,null,null,null,null,"",null,null,"",""]
[0,0,null,null,null,null,"",null,null,"",""]
[0,0,null,null,null,null,"",null,null,"",""]
[0,0,null,null,null,null,"",null,null,"",""]
[0,0,null,null,null,null,"",null,null,"",""]
[0,0,null,null,null,null,"",null,null,"",""]
[{"$f":"'Labor Summary (Office)'!A1437","v":0},{"$f":"'Labor Summary (Office)'!B1437","v":0},null,{"$f":"IF(A1437=0,\"\",A1437)","v":""},null,"Subtotal Line 46",null,{"$f":"ROUND(SUM(G1407:G1436),2)","v":0},{"$f":"(H1437+ROUND((H1437*'WA Financial Status Summary'!$C$31),2))*ROUND((1+'WA Financial Status Summary'!$C$33),4)","v":0}]
[{"$f":"A$1468","v":0},{"$f":"B$1468","v":0},null,null,null,null,{"$f":"IFERROR(ROUND(E1438*K1438,2),\"\")","v":""},null,null,{"$f":"IF(D1438=\"\",\"\",VLOOKUP(D1438,Staffing_Table,2,FALSE))","v":""},""]
[{"$f":"A$1468","v":0},0,null,null,null,null,{"$f":"IFERROR(ROUND(E1439*K1439,2),\"\")","v":""},null,null,"",""]
[0,0,null,null,null,null,"",null,null,"",""]
[0,0,null,null,null,null,"",null,null,"",""]
[0,0,null,null,null,null,"",null,null,"",""]
[0,0,null,null,null,null,"",null,null,"",""]
[0,0,null,null,null,null,"",null,null,"",""]
[0,0,null,null,null,null,"",null,null,"",""]
[0,0,null,null,null,null,"",null,null,"",""]
[0,0,null,null,null,null,"",null,null,"",""]
[0,0,null,null,null,null,"",null,null,"",""]
[0,0,null,null,null,null,"",null,null,"",""]
[0,0,null,null,null,null,"",null,null,"",""]
[0,0,null,null,null,null,"",null,null,"",""]
[0,0,null,null,null,null,"",null,null,"",""]
[{"$f":"A$1468","v":0},{"$f":"B$1468","v":0},null,null,null,null,"",null,null,"",""]
[0,0,null,null,null,null,"",null,null,"",""]
[{"$f":"A$1468","v":0},0,null,null,null,null,"",null,null,"",""]
[0,0,null,null,null,null,"",null,null,"",""]
[0,0,null,null,null,null,"",null,null,"",""]
[0,0,null,null,null,null,"",null,null,"",""]
[0,0,null,null,null,null,"",null,null,"",""]
[0,0,null,null,null,null,"",null,null,"",""]
[0,0,null,null,null,null,"",null,null,"",""]
[0,0,null,null,null,null,"",null,null,"",""]
[0,0,null,null,null,null,"",null,null,"",""]
[0,0,null,null,null,null,"",null,null,"",""]
[0,0,null,null,null,null,"",null,null,"",""]
[0,0,null,null,null,null,"",null,null,"",""]
[0,0,null,null,null,null,"",null,null,"",""]
[{"$f":"'Labor Summary (Office)'!A1468","v":0},{"$f":"'Labor Summary (Office)'!B1468","v":0},null,{"$f":"IF(A1468=0,\"\",A1468)","v":""},null,"Subtotal Line 47",null,{"$f":"ROUND(SUM(G1438:G1467),2)","v":0},{"$f":"(H1468+ROUND((H1468*'WA Financial Status Summary'!$C$31),2))*ROUND((1+'WA Financial Status Summary'!$C$33),4)","v":0}]
[{"$f":"A$1499","v":0},{"$f":"B$1499","v":0},null,null,null,null,{"$f":"IFERROR(ROUND(E1469*K1469,2),\"\")","v":""},null,null,{"$f":"IF(D1469=\"\",\"\",VLOOKUP(D1469,Staffing_Table,2,FALSE))","v":""},""]
[{"$f":"A$1499","v":0},0,null,null,null,null,{"$f":"IFERROR(ROUND(E1470*K1470,2),\"\")","v":""},null,null,"",""]
[0,0,null,null,null,null,"",null,null,"",""]
[0,0,null,null,null,null,"",null,null,"",""]
[0,0,null,null,null,null,"",null,null,"",""]
[0,0,null,null,null,null,"",null,null,"",""]
[0,0,null,null,null,null,"",null,null,"",""]
[0,0,null,null,null,null,"",null,null,"",""]
[0,0,null,null,null,null,"",null,null,"",""]
[0,0,null,null,null,null,"",null,null,"",""]
[0,0,null,null,null,null,"",null,null,"",""]
[0,0,null,null,null,null,"",null,null,"",""]
[0,0,null,null,null,null,"",null,null,"",""]
[0,0,null,null,null,null,"",null,null,"",""]
[0,0,null,null,null,null,"",null,null,"",""]
[{"$f":"A$1499","v":0},{"$f":"B$1499","v":0},null,null,null,null,"",null,null,"",""]
[0,0,null,null,null,null,"",null,null,"",{"$f":"IF(F1485<J1485,F1485,J1485)","v":""}]
[{"$f":"A$1499","v":0},0,null,null,null,null,"",null,null,"",""]
[0,0,null,null,null,null,"",null,null,"",""]
[0,0,null,null,null,null,"",null,null,"",""]
[0,0,null,null,null,null,"",null,null,"",""]
[0,0,null,null,null,null,"",null,null,"",""]
[0,0,null,null,null,null,"",null,null,"",""]
[0,0,null,null,null,null,"",null,null,"",""]
[0,0,null,null,null,null,"",null,null,"",""]
[0,0,null,null,null,null,"",null,null,"",""]
[0,0,null,null,null,null,"",null,null,"",""]
[0,0,null,null,null,null,"",null,null,"",""]
[0,0,null,null,null,null,"",null,null,"",""]
[0,0,null,null,null,null,"",null,null,"",""]
[{"$f":"'Labor Summary (Office)'!A1499","v":0},{"$f":"'Labor Summary (Office)'!B1499","v":0},null,{"$f":"IF(A1499=0,\"\",A1499)","v":""},null,"Subtotal Line 48",null,{"$f":"ROUND(SUM(G1469:G1498),2)","v":0},{"$f":"(H1499+ROUND((H1499*'WA Financial Status Summary'!$C$31),2))*ROUND((1+'WA Financial Status Summary'!$C$33),4)","v":0}]
[{"$f":"A$1530","v":0},{"$f":"B$1530","v":0},null,null,null,null,{"$f":"IFERROR(ROUND(E1500*K1500,2),\"\")","v":""},null,null,{"$f":"IF(D1500=\"\",\"\",VLOOKUP(D1500,Staffing_Table,2,FALSE))","v":""},""]
[{"$f":"A$1530","v":0},0,null,null,null,null,{"$f":"IFERROR(ROUND(E1501*K1501,2),\"\")","v":""},null,null,"",""]
[0,0,null,null,null,null,"",null,null,"",""]
[0,0,null,null,null,null,"",null,null,"",""]
[0,0,null,null,null,null,"",null,null,"",""]
[0,0,null,null,null,null,"",null,null,"",""]
[0,0,null,null,null,null,"",null,null,"",""]
[0,0,null,null,null,null,"",null,null,"",""]
[0,0,null,null,null,null,"",null,null,"",""]
[0,0,null,null,null,null,"",null,null,"",""]
[0,0,null,null,null,null,"",null,null,"",""]
[0,0,null,null,null,null,"",null,null,"",""]
[0,0,null,null,null,null,"",null,null,"",""]
[0,0,null,null,null,null,"",null,null,"",""]
[0,0,null,null,null,null,"",null,null,"",""]
[{"$f":"A$1530","v":0},{"$f":"B$1530","v":0},null,null,null,null,"",null,null,"",""]
[0,0,null,null,null,null,"",null,null,"",""]
[{"$f":"A$1530","v":0},0,null,null,null,null,"",null,null,"",""]
[0,0,null,null,null,null,"",null,null,"",""]
[0,0,null,null,null,null,"",null,null,"",""]
[0,0,null,null,null,null,"",null,null,"",""]
[0,0,null,null,null,null,"",null,null,"",""]
[0,0,null,null,null,null,"",null,null,"",""]
[0,0,null,null,null,null,"",null,null,"",""]
[0,0,null,null,null,null,"",null,null,"",""]
[0,0,null,null,null,null,"",null,null,"",""]
[0,0,null,null,null,null,"",null,null,"",""]
[0,0,null,null,null,null,"",null,null,"",""]
[0,0,null,null,null,null,"",null,null,"",""]
[0,0,null,null,null,null,"",null,null,"",""]
[{"$f":"'Labor Summary (Office)'!A1530","v":0},{"$f":"'Labor Summary (Office)'!B1530","v":0},null,{"$f":"IF(A1530=0,\"\",A1530)","v":""},null,"Subtotal Line 49",null,{"$f":"SUM(G1500:G1529)","v":0},{"$f":"(H1530+ROUND((H1530*'WA Financial Status Summary'!$C$31),2))*ROUND((1+'WA Financial Status Summary'!$C$33),4)","v":0}]
[{"$f":"A$1561","v":0},{"$f":"B$1561","v":0},null,null,null,null,{"$f":"IFERROR(ROUND(E1531*K1531,2),\"\")","v":""},null,null,{"$f":"IF(D1531=\"\",\"\",VLOOKUP(D1531,Staffing_Table,2,FALSE))","v":""},""]
[{"$f":"A$1561","v":0},0,null,null,null,null,{"$f":"IFERROR(ROUND(E1532*K1532,2),\"\")","v":""},null,null,"",""]
[0,0,null,null,null,null,"",null,null,"",""]
[0,0,null,null,null,null,"",null,null,"",""]
[0,0,null,null,null,null,"",null,null,"",""]
[0,0,null,null,null,null,"",null,null,"",""]
[0,0,null,null,null,null,"",null,null,"",""]
[0,0,null,null,null,null,"",null,null,"",""]
[0,0,null,null,null,null,"",null,null,"",""]
[0,0,null,null,null,null,"",null,null,"",""]
[0,0,null,null,null,null,"",null,null,"",""]
[0,0,null,null,null,null,"",null,null,"",""]
[0,0,null,null,null,null,"",null,null,"",""]
[0,0,null,null,null,null,"",null,null,"",""]
[0,0,null,null,null,null,"",null,null,"",""]
[{"$f":"A$1561","v":0},{"$f":"B$1561","v":0},null,null,null,null,"",null,null,"",""]
[0,0,null,null,null,null,"",null,null,"",""]
[{"$f":"A$1561","v":0},0,null,null,null,null,"",null,null,"",""]
[0,0,null,null,null,null,"",null,null,"",{"$f":"IF(F1549<J1549,F1549,J1549)","v":""}]
[0,0,null,null,null,null,"",null,null,"",""]
[0,0,null,null,null,null,"",null,null,"",""]
[0,0,null,null,null,null,"",null,null,"",""]
[0,0,null,null,null,null,"",null,null,"",""]
[0,0,null,null,null,null,"",null,null,"",""]
[0,0,null,null,null,null,"",null,null,"",""]
[0,0,null,null,null,null,"",null,null,"",""]
[0,0,null,null,null,null,"",null,null,"",""]
[0,0,null,null,null,null,"",null,null,"",""]
[0,0,null,null,null,null,"",null,null,"",""]
[0,0,null,null,null,null,"",null,null,"",""]
[{"$f":"'Labor Summary (Office)'!A1561","v":0},{"$f":"'Labor Summary (Office)'!B1561","v":0},null,{"$f":"IF(A1561=0,\"\",A1561)","v":""},null,"Subtotal Line 50",null,{"$f":"ROUND(SUM(G1531:G1560),2)","v":0},{"$f":"(H1561+ROUND((H1561*'WA Financial Status Summary'!$C$31),2))*ROUND((1+'WA Financial Status Summary'!$C$33),4)","v":0}]
["Total  Labor Summary",null,null,"Total",null,null,null,{"$f":"ROUND(SUM(H12:H1561),2)","v":0}]
["Total Labor w/ OH & FF",null,null,"Total",null,null,null,null,{"$f":"SUM(ROUND(I12:I1562,2))","v":0}]

{"sheet":"ODE","index":9,"n_rows":1562,"n_cols":12,"rows_kept":1562,"cut":false,"hidden":false,"merged":[[289,3,289,6],[320,3,320,6],[506,3,506,6],[351,3,351,6],[382,3,382,6],[413,3,413,6],[444,3,444,6],[475,3,475,6],[1436,3,1436,6],[1467,3,1467,6],[1498,3,1498,6],[1529,3,1529,6],[1560,3,1560,6],[1281,3,1281,6],[1312,3,1312,6],[1343,3,1343,6],[1374,3,1374,6],[1405,3,1405,6],[1157,3,1157,6],[1126,3,1126,6],[1188,3,1188,6],[1219,3,1219,6],[1250,3,1250,6],[971,3,971,6],[1002,3,1002,6],[1033,3,1033,6],[1064,3,1064,6],[1095,3,1095,6],[816,3,816,6],[847,3,847,6],[878,3,878,6],[909,3,909,6],[940,3,940,6],[661,3,661,6],[692,3,692,6],[785,3,785,6],[723,3,723,6],[630,3,630,6],[754,3,754,6],[2,0,2,8],[4,0,4,8],[6,0,6,1],[6,2,6,3],[6,4,6,5],[6,6,6,8],[5,0,5,8],[537,3,537,6],[599,3,599,6],[7,0,7,1],[7,2,7,3],[7,4,7,5],[7,6,7,8],[9,0,9,8],[568,3,568,6],[41,3,41,6],[72,3,72,6],[103,3,103,6],[134,3,134,6],[165,3,165,6],[196,3,196,6],[227,3,227,6],[258,3,258,6]]}
[null,null,null,null,null,null,null,"Provider Invoice No.  ",{"$f":"Invoice!G1","v":0},null,null,"Monthly Submittal Cell"]
[null,null,null,null,null,null,null,"Combined Invoice Template Log No.  ",{"$f":"Invoice!G2","v":0},null,"Instructions","Click link to see instructions for this tab"]
[]
[]
["OTHER DIRECT EXPENSES"]
["Cost Plus Fixed Fee Payment Method"]
["Provider Name:",null,{"$f":"Invoice!C7","v":0},null,"Legacy Contract No.  ",null,{"$f":"Invoice!F7","v":0}]
["Provider ID No.  ",null,{"$f":"Invoice!C8","v":0},null,"Legacy WA No.",null,{"$f":"Invoice!F10","v":0}]
[]
["ODE Breakdown:"]
["Project\n(CSJ or Detail No.)","Source (Legacy FC)","Type of Expense\n(Acronym)","Quantity","Actual Rate","Fixed Rate","Total Amount \nBilled","Subtotals","Receipt Attached\nY/N"]
[{"$f":"A$42","v":0},{"$f":"B$42","v":0},null,null,null,{"$f":"(IFERROR(VLOOKUP(C12,Expenses_Table,2,FALSE),\"\"))","v":""},{"$f":"IFERROR(ROUND(IF(E12=0,F12*D12,IF(F12=0,D12*E12,)),2),\"\")","v":""}]
[{"$f":"A$42","v":0},0,null,null,null,"",{"$f":"IFERROR(ROUND(IF(E13=0,F13*D13,IF(F13=0,D13*E13,)),2),\"\")","v":""}]
[0,0,null,null,null,"",{"$f":"IFERROR(ROUND(IF(E14=0,F14*D14,IF(F14=0,D14*E14,)),2),\"\")","v":""}]
[0,0,null,null,null,"",""]
[0,0,null,null,null,"",""]
[0,0,null,null,null,"",""]
[0,0,null,null,null,"",""]
[0,0,null,null,null,"",""]
[0,0,null,null,null,"",""]
[0,0,null,null,null,"",""]
[0,0,null,null,null,"",""]
[0,0,null,null,null,"",""]
[0,0,null,null,null,"",""]
[0,0,null,null,null,"",""]
[0,0,null,null,null,"",""]
[{"$f":"A$42","v":0},{"$f":"B$42","v":0},null,null,null,"",""]
[0,0,null,null,null,"",{"$f":"IFERROR(ROUND(IF(E28=0,F28*D28,IF(F28=0,D28*E28,)),2),\"\")","v":""}]
[{"$f":"A$42","v":0},0,null,null,null,"",""]
[0,0,null,null,null,"",""]
[0,0,null,null,null,"",""]
[0,0,null,null,null,"",""]
[0,0,null,null,null,"",""]
[0,0,null,null,null,"",""]
[0,0,null,null,null,"",""]
[0,0,null,null,null,"",""]
[0,0,null,null,null,"",""]
[0,0,null,null,null,"",""]
[0,0,null,null,null,"",""]
[0,0,null,null,null,"",""]
[0,0,null,null,null,"",""]
[{"$f":"'Labor Summary (Office)'!A42","v":0},{"$f":"'Labor Summary (Office)'!B42","v":0},null,"Subtotal Line 1",null,null,null,{"$f":"ROUND(SUM(G12:G41),2)","v":0}]
[{"$f":"A$73","v":0},{"$f":"B$73","v":0},null,null,null,{"$f":"(IFERROR(VLOOKUP(C43,Expenses_Table,2,FALSE),\"\"))","v":""},{"$f":"IFERROR(ROUND(IF(E43=0,F43*D43,IF(F43=0,D43*E43,)),2),\"\")","v":""}]
[{"$f":"A$73","v":0},0,null,null,null,"",{"$f":"IFERROR(ROUND(IF(E44=0,F44*D44,IF(F44=0,D44*E44,)),2),\"\")","v":""}]
[0,0,null,null,null,"",""]
[0,0,null,null,null,"",""]
[0,0,null,null,null,"",""]
[0,0,null,null,null,"",""]
[0,0,null,null,null,"",""]
[0,0,null,null,null,"",""]
[0,0,null,null,null,"",""]
[0,0,null,null,null,"",""]
[0,0,null,null,null,"",""]
[0,0,null,null,null,"",""]
[0,0,null,null,null,"",""]
[0,0,null,null,null,"",""]
[0,0,null,null,null,"",""]
[{"$f":"A$73","v":0},{"$f":"B$73","v":0},null,null,null,"",""]
[0,0,null,null,null,"",""]
[{"$f":"A$73","v":0},0,null,null,null,"",""]
[0,0,null,null,null,"",""]
[0,0,null,null,null,"",""]
[0,0,null,null,null,"",""]
[0,0,null,null,null,"",""]
[0,0,null,null,null,"",""]
[0,0,null,null,null,"",""]
[0,0,null,null,null,"",""]
[0,0,null,null,null,"",""]
[0,0,null,null,null,"",""]
[0,0,null,null,null,"",""]
[0,0,null,null,null,"",""]
[0,0,null,null,null,"",""]
[{"$f":"'Labor Summary (Office)'!A73","v":0},{"$f":"'Labor Summary (Office)'!B73","v":0},null,"Subtotal Line 2",null,null,null,{"$f":"ROUND(SUM(G43:G72),2)","v":0}]
[{"$f":"A$104","v":0},{"$f":"B$104","v":0},null,null,null,{"$f":"(IFERROR(VLOOKUP(C74,Expenses_Table,2,FALSE),\"\"))","v":""},{"$f":"IFERROR(ROUND(IF(E74=0,F74*D74,IF(F74=0,D74*E74,)),2),\"\")","v":""}]
[{"$f":"A$104","v":0},0,null,null,null,"",{"$f":"IFERROR(ROUND(IF(E75=0,F75*D75,IF(F75=0,D75*E75,)),2),\"\")","v":""}]
[0,0,null,null,null,"",""]
[0,0,null,null,null,"",""]
[0,0,null,null,null,"",""]
[0,0,null,null,null,"",""]
[0,0,null,null,null,"",""]
[0,0,null,null,null,"",""]
[0,0,null,null,null,"",""]
[0,0,null,null,null,"",""]
[0,0,null,null,null,"",""]
[0,0,null,null,null,"",""]
[0,0,null,null,null,"",""]
[0,0,null,null,null,"",""]
[0,0,null,null,null,"",""]
[{"$f":"A$104","v":0},{"$f":"B$104","v":0},null,null,null,"",""]
[0,0,null,null,null,"",""]
[{"$f":"A$104","v":0},0,null,null,null,"",""]
[0,0,null,null,null,"",""]
[0,0,null,null,null,"",""]
[0,0,null,null,null,"",""]
[0,0,null,null,null,"",""]
[0,0,null,null,null,"",""]
[0,0,null,null,null,"",""]
[0,0,null,null,null,"",""]
[0,0,null,null,null,"",""]
[0,0,null,null,null,"",""]
[0,0,null,null,null,"",""]
[0,0,null,null,null,"",""]
[0,0,null,null,null,"",""]
[{"$f":"'Labor Summary (Office)'!A104","v":0},{"$f":"'Labor Summary (Office)'!B104","v":0},{"$f":"IF(A104=0,\"\",A104)","v":""},"Subtotal Line 3",null,null,null,{"$f":"ROUND(SUM(G74:G103),2)","v":0}]
[{"$f":"A$135","v":0},{"$f":"B$135","v":0},null,null,null,{"$f":"(IFERROR(VLOOKUP(C105,Expenses_Table,2,FALSE),\"\"))","v":""},{"$f":"IFERROR(ROUND(IF(E105=0,F105*D105,IF(F105=0,D105*E105,)),2),\"\")","v":""}]
[{"$f":"A$135","v":0},0,null,null,null,"",{"$f":"IFERROR(ROUND(IF(E106=0,F106*D106,IF(F106=0,D106*E106,)),2),\"\")","v":""}]
[0,0,null,null,null,"",""]
[0,0,null,null,null,"",""]
[0,0,null,null,null,"",""]
[0,0,null,null,null,"",""]
[0,0,null,null,null,"",""]
[0,0,null,null,null,"",""]
[0,0,null,null,null,"",""]
[0,0,null,null,null,"",""]
[0,0,null,null,null,"",""]
[0,0,null,null,null,"",""]
[0,0,null,null,null,"",""]
[0,0,null,null,null,"",""]
[0,0,null,null,null,"",""]
[{"$f":"A$135","v":0},{"$f":"B$135","v":0},null,null,null,"",""]
[0,0,null,null,null,"",""]
[{"$f":"A$135","v":0},0,null,null,null,"",""]
[0,0,null,null,null,"",""]
[0,0,null,null,null,"",""]
[0,0,null,null,null,"",""]
[0,0,null,null,null,"",""]
[0,0,null,null,null,"",""]
[0,0,null,null,null,"",""]
[0,0,null,null,null,"",""]
[0,0,null,null,null,"",""]
[0,0,null,null,null,"",""]
[0,0,null,null,null,"",""]
[0,0,null,null,null,"",""]
[0,0,null,null,null,"",""]
[{"$f":"'Labor Summary (Office)'!A135","v":0},{"$f":"'Labor Summary (Office)'!B135","v":0},{"$f":"IF(A135=0,\"\",A135)","v":""},"Subtotal Line 4",null,null,null,{"$f":"ROUND(SUM(G105:G134),2)","v":0}]
[{"$f":"A$166","v":0},{"$f":"B$166","v":0},null,null,null,{"$f":"(IFERROR(VLOOKUP(C136,Expenses_Table,2,FALSE),\"\"))","v":""},{"$f":"IFERROR(ROUND(IF(E136=0,F136*D136,IF(F136=0,D136*E136,)),2),\"\")","v":""}]
[{"$f":"A$166","v":0},0,null,null,null,"",{"$f":"IFERROR(ROUND(IF(E137=0,F137*D137,IF(F137=0,D137*E137,)),2),\"\")","v":""}]
[0,0,null,null,null,"",""]
[0,0,null,null,null,"",""]
[0,0,null,null,null,"",""]
[0,0,null,null,null,"",""]
[0,0,null,null,null,"",""]
[0,0,null,null,null,"",""]
[0,0,null,null,null,"",""]
[0,0,null,null,null,"",""]
[0,0,null,null,null,"",""]
[0,0,null,null,null,"",""]
[0,0,null,null,null,"",""]
[0,0,null,null,null,"",""]
[0,0,null,null,null,"",""]
[{"$f":"A$166","v":0},0,null,null,null,"",""]
[0,0,null,null,null,"",""]
[{"$f":"A$166","v":0},0,null,null,null,"",""]
[0,0,null,null,null,"",""]
[0,0,null,null,null,"",""]
[0,0,null,null,null,"",""]
[0,0,null,null,null,"",""]
[0,0,null,null,null,"",""]
[0,0,null,null,null,"",""]
[0,0,null,null,null,"",""]
[0,0,null,null,null,"",""]
[0,0,null,null,null,"",""]
[0,0,null,null,null,"",""]
[0,0,null,null,null,"",""]
[0,0,null,null,null,"",""]
[{"$f":"'Labor Summary (Office)'!A166","v":0},{"$f":"'Labor Summary (Office)'!B166","v":0},{"$f":"IF(A166=0,\"\",A166)","v":""},"Subtotal Line 5",null,null,null,{"$f":"ROUND(SUM(G136:G165),2)","v":0}]
[{"$f":"A$197","v":0},{"$f":"B$197","v":0},null,null,null,{"$f":"(IFERROR(VLOOKUP(C167,Expenses_Table,2,FALSE),\"\"))","v":""},{"$f":"IFERROR(ROUND(IF(E167=0,F167*D167,IF(F167=0,D167*E167,)),2),\"\")","v":""}]
[{"$f":"A$197","v":0},0,null,null,null,"",{"$f":"IFERROR(ROUND(IF(E168=0,F168*D168,IF(F168=0,D168*E168,)),2),\"\")","v":""}]
[0,0,null,null,null,"",""]
[0,0,null,null,null,"",""]
[0,0,null,null,null,"",""]
[0,0,null,null,null,"",""]
[0,0,null,null,null,"",""]
[0,0,null,null,null,"",""]
[0,0,null,null,null,"",""]
[0,0,null,null,null,"",""]
[0,0,null,null,null,"",""]
[0,0,null,null,null,"",""]
[0,0,null,null,null,"",""]
[0,0,null,null,null,"",""]
[0,0,null,null,null,"",""]
[{"$f":"A$197","v":0},0,null,null,null,"",""]
[0,0,null,null,null,"",""]
[{"$f":"A$197","v":0},0,null,null,null,"",""]
[0,0,null,null,null,"",""]
[0,0,null,null,null,"",""]
[0,0,null,null,null,"",""]
[0,0,null,null,null,"",""]
[0,0,null,null,null,"",""]
[0,0,null,null,null,"",""]
[0,0,null,null,null,"",""]
[0,0,null,null,null,"",""]
[0,0,null,null,null,"",""]
[0,0,null,null,null,"",""]
[0,0,null,null,null,"",""]
[0,0,null,null,null,"",""]
[{"$f":"'Labor Summary (Office)'!A197","v":0},{"$f":"'Labor Summary (Office)'!B197","v":0},{"$f":"IF(A197=0,\"\",A197)","v":""},"Subtotal Line 6",null,null,null,{"$f":"ROUND(SUM(G167:G196),2)","v":0}]
[{"$f":"A$228","v":0},{"$f":"B$228","v":0},null,null,null,{"$f":"(IFERROR(VLOOKUP(C198,Expenses_Table,2,FALSE),\"\"))","v":""},{"$f":"IFERROR(ROUND(IF(E198=0,F198*D198,IF(F198=0,D198*E198,)),2),\"\")","v":""}]
[{"$f":"A$228","v":0},0,null,null,null,"",{"$f":"IFERROR(ROUND(IF(E199=0,F199*D199,IF(F199=0,D199*E199,)),2),\"\")","v":""}]
[0,0,null,null,null,"",""]
[0,0,null,null,null,"",""]
[0,0,null,null,null,"",""]
[0,0,null,null,null,"",""]
[0,0,null,null,null,"",""]
[0,0,null,null,null,"",""]
[0,0,null,null,null,"",""]
[0,0,null,null,null,"",""]
[0,0,null,null,null,"",""]
[0,0,null,null,null,"",""]
[0,0,null,null,null,"",""]
[0,0,null,null,null,"",""]
[0,0,null,null,null,"",""]
[{"$f":"A$228","v":0},0,null,null,null,"",""]
[0,0,null,null,null,"",""]
[{"$f":"A$228","v":0},0,null,null,null,"",""]
[0,0,null,null,null,"",""]
[0,0,null,null,null,"",""]
[0,0,null,null,null,"",""]
[0,0,null,null,null,"",""]
[0,0,null,null,null,"",""]
[0,0,null,null,null,"",""]
[0,0,null,null,null,"",""]
[0,0,null,null,null,"",""]
[0,0,null,null,null,"",""]
[0,0,null,null,null,"",""]
[0,0,null,null,null,"",""]
[0,0,null,null,null,"",""]
[{"$f":"'Labor Summary (Office)'!A228","v":0},{"$f":"'Labor Summary (Office)'!B228","v":0},{"$f":"IF(A228=0,\"\",A228)","v":""},"Subtotal Line 7",null,null,null,{"$f":"ROUND(SUM(G198:G227),2)","v":0}]
[{"$f":"A$259","v":0},{"$f":"B$259","v":0},null,null,null,{"$f":"(IFERROR(VLOOKUP(C229,Expenses_Table,2,FALSE),\"\"))","v":""},{"$f":"IFERROR(ROUND(IF(E229=0,F229*D229,IF(F229=0,D229*E229,)),2),\"\")","v":""}]
[{"$f":"A$259","v":0},0,null,null,null,"",{"$f":"IFERROR(ROUND(IF(E230=0,F230*D230,IF(F230=0,D230*E230,)),2),\"\")","v":""}]
[0,0,null,null,null,"",""]
[0,0,null,null,null,"",""]
[0,0,null,null,null,"",""]
[0,0,null,null,null,"",""]
[0,0,null,null,null,"",""]
[0,0,null,null,null,"",""]
[0,0,null,null,null,"",""]
[0,0,null,null,null,"",""]
[0,0,null,null,null,"",""]
[0,0,null,null,null,"",""]
[0,0,null,null,null,"",""]
[0,0,null,null,null,"",""]
[0,0,null,null,null,"",""]
[{"$f":"A$259","v":0},0,null,null,null,"",""]
[0,0,null,null,null,"",""]
[{"$f":"A$259","v":0},0,null,null,null,"",""]
[0,0,null,null,null,"",""]
[0,0,null,null,null,"",""]
[0,0,null,null,null,"",""]
[0,0,null,null,null,"",""]
[0,0,null,null,null,"",""]
[0,0,null,null,null,"",""]
[0,0,null,null,null,"",""]
[0,0,null,null,null,"",""]
[0,0,null,null,null,"",""]
[0,0,null,null,null,"",""]
[0,0,null,null,null,"",""]
[0,0,null,null,null,"",""]
[{"$f":"'Labor Summary (Office)'!A259","v":0},{"$f":"'Labor Summary (Office)'!B259","v":0},{"$f":"IF(A259=0,\"\",A259)","v":""},"Subtotal Line 8",null,null,null,{"$f":"ROUND(SUM(G229:G258),2)","v":0}]
[{"$f":"A$290","v":0},{"$f":"B$290","v":0},null,null,null,{"$f":"(IFERROR(VLOOKUP(C260,Expenses_Table,2,FALSE),\"\"))","v":""},{"$f":"IFERROR(ROUND(IF(E260=0,F260*D260,IF(F260=0,D260*E260,)),2),\"\")","v":""}]
[{"$f":"A$290","v":0},0,null,null,null,"",{"$f":"IFERROR(ROUND(IF(E261=0,F261*D261,IF(F261=0,D261*E261,)),2),\"\")","v":""}]
[0,0,null,null,null,"",""]
[0,0,null,null,null,"",""]
[0,0,null,null,null,"",""]
[0,0,null,null,null,"",""]
[0,0,null,null,null,"",""]
[0,0,null,null,null,"",""]
[0,0,null,null,null,"",""]
[0,0,null,null,null,"",""]
[0,0,null,null,null,"",""]
[0,0,null,null,null,"",""]
[0,0,null,null,null,"",""]
[0,0,null,null,null,"",""]
[0,0,null,null,null,"",""]
[{"$f":"A$290","v":0},0,null,null,null,"",""]
[0,0,null,null,null,"",""]
[{"$f":"A$290","v":0},0,null,null,null,"",""]
[0,0,null,null,null,"",""]
[0,0,null,null,null,"",""]
[0,0,null,null,null,"",""]
[0,0,null,null,null,"",""]
[0,0,null,null,null,"",""]
[0,0,null,null,null,"",""]
[0,0,null,null,null,"",""]
[0,0,null,null,null,"",""]
[0,0,null,null,null,"",""]
[0,0,null,null,null,"",""]
[0,0,null,null,null,"",""]
[0,0,null,null,null,"",""]
[{"$f":"'Labor Summary (Office)'!A290","v":0},{"$f":"'Labor Summary (Office)'!B290","v":0},{"$f":"IF(A290=0,\"\",A290)","v":""},"Subtotal Line 9",null,null,null,{"$f":"ROUND(SUM(G260:G289),2)","v":0}]
[{"$f":"A$321","v":0},{"$f":"B$321","v":0},null,null,null,{"$f":"(IFERROR(VLOOKUP(C291,Expenses_Table,2,FALSE),\"\"))","v":""},{"$f":"IFERROR(ROUND(IF(E291=0,F291*D291,IF(F291=0,D291*E291,)),2),\"\")","v":""}]
[{"$f":"A$321","v":0},0,null,null,null,"",{"$f":"IFERROR(ROUND(IF(E292=0,F292*D292,IF(F292=0,D292*E292,)),2),\"\")","v":""}]
[0,0,null,null,null,"",""]
[0,0,null,null,null,"",""]
[0,0,null,null,null,"",""]
[0,0,null,null,null,"",""]
[0,0,null,null,null,"",""]
[0,0,null,null,null,"",""]
[0,0,null,null,null,"",""]
[0,0,null,null,null,"",""]
[0,0,null,null,null,"",""]
[0,0,null,null,null,"",""]
[0,0,null,null,null,"",""]
[0,0,null,null,null,"",""]
[0,0,null,null,null,"",""]
[{"$f":"A$321","v":0},0,null,null,null,"",""]
[0,0,null,null,null,"",""]
[{"$f":"A$321","v":0},0,null,null,null,"",""]
[0,0,null,null,null,"",""]
[0,0,null,null,null,"",""]
[0,0,null,null,null,"",""]
[0,0,null,null,null,"",""]
[0,0,null,null,null,"",""]
[0,0,null,null,null,"",""]
[0,0,null,null,null,"",""]
[0,0,null,null,null,"",""]
[0,0,null,null,null,"",""]
[0,0,null,null,null,"",""]
[0,0,null,null,null,"",""]
[0,0,null,null,null,"",""]
[{"$f":"'Labor Summary (Office)'!A321","v":0},{"$f":"'Labor Summary (Office)'!B321","v":0},{"$f":"IF(A321=0,\"\",A321)","v":""},"Subtotal Line 10",null,null,null,{"$f":"ROUND(SUM(G291:G320),2)","v":0}]
[{"$f":"A$352","v":0},{"$f":"B$352","v":0},null,null,null,{"$f":"(IFERROR(VLOOKUP(C322,Expenses_Table,2,FALSE),\"\"))","v":""},{"$f":"IFERROR(ROUND(IF(E322=0,F322*D322,IF(F322=0,D322*E322,)),2),\"\")","v":""}]
[{"$f":"A$352","v":0},0,null,null,null,"",{"$f":"IFERROR(ROUND(IF(E323=0,F323*D323,IF(F323=0,D323*E323,)),2),\"\")","v":""}]
[0,0,null,null,null,"",""]
[0,0,null,null,null,"",""]
[0,0,null,null,null,"",""]
[0,0,null,null,null,"",""]
[0,0,null,null,null,"",""]
[0,0,null,null,null,"",""]
[0,0,null,null,null,"",""]
[0,0,null,null,null,"",""]
[0,0,null,null,null,"",""]
[0,0,null,null,null,"",""]
[0,0,null,null,null,"",""]
[0,0,null,null,null,"",""]
[0,0,null,null,null,"",""]
[{"$f":"A$352","v":0},0,null,null,null,"",""]
[0,0,null,null,null,"",""]
[{"$f":"A$352","v":0},0,null,null,null,"",""]
[0,0,null,null,null,"",""]
[0,0,null,null,null,"",""]
[0,0,null,null,null,"",""]
[0,0,null,null,null,"",""]
[0,0,null,null,null,"",""]
[0,0,null,null,null,"",""]
[0,0,null,null,null,"",""]
[0,0,null,null,null,"",""]
[0,0,null,null,null,"",""]
[0,0,null,null,null,"",""]
[0,0,null,null,null,"",""]
[0,0,null,null,null,"",""]
[{"$f":"'Labor Summary (Office)'!A352","v":0},{"$f":"'Labor Summary (Office)'!B352","v":0},{"$f":"IF(A352=0,\"\",A352)","v":""},"Subtotal Line 11",null,null,null,{"$f":"ROUND(SUM(G322:G351),2)","v":0}]
[{"$f":"A$383","v":0},{"$f":"B$383","v":0},null,null,null,{"$f":"(IFERROR(VLOOKUP(C353,Expenses_Table,2,FALSE),\"\"))","v":""},{"$f":"IFERROR(ROUND(IF(E353=0,F353*D353,IF(F353=0,D353*E353,)),2),\"\")","v":""}]
[{"$f":"A$383","v":0},0,null,null,null,"",{"$f":"IFERROR(ROUND(IF(E354=0,F354*D354,IF(F354=0,D354*E354,)),2),\"\")","v":""}]
[0,0,null,null,null,"",""]
[0,0,null,null,null,"",""]
[0,0,null,null,null,"",""]
[0,0,null,null,null,"",""]
[0,0,null,null,null,"",""]
[0,0,null,null,null,"",""]
[0,0,null,null,null,"",""]
[0,0,null,null,null,"",""]
[0,0,null,null,null,"",""]
[0,0,null,null,null,"",""]
[0,0,null,null,null,"",""]
[0,0,null,null,null,"",""]
[0,0,null,null,null,"",""]
[{"$f":"A$383","v":0},0,null,null,null,"",""]
[0,0,null,null,null,"",""]
[{"$f":"A$383","v":0},0,null,null,null,"",""]
[0,0,null,null,null,"",""]
[0,0,null,null,null,"",""]
[0,0,null,null,null,"",""]
[0,0,null,null,null,"",""]
[0,0,null,null,null,"",""]
[0,0,null,null,null,"",""]
[0,0,null,null,null,"",""]
[0,0,null,null,null,"",""]
[0,0,null,null,null,"",""]
[0,0,null,null,null,"",""]
[0,0,null,null,null,"",""]
[0,0,null,null,null,"",""]
[{"$f":"'Labor Summary (Office)'!A383","v":0},{"$f":"'Labor Summary (Office)'!B383","v":0},{"$f":"IF(A383=0,\"\",A383)","v":""},"Subtotal Line 12",null,null,null,{"$f":"ROUND(SUM(G353:G382),2)","v":0}]
[{"$f":"A$414","v":0},{"$f":"B$414","v":0},null,null,null,{"$f":"(IFERROR(VLOOKUP(C384,Expenses_Table,2,FALSE),\"\"))","v":""},{"$f":"IFERROR(ROUND(IF(E384=0,F384*D384,IF(F384=0,D384*E384,)),2),\"\")","v":""}]
[{"$f":"A$414","v":0},0,null,null,null,"",{"$f":"IFERROR(ROUND(IF(E385=0,F385*D385,IF(F385=0,D385*E385,)),2),\"\")","v":""}]
[0,0,null,null,null,"",""]
[0,0,null,null,null,"",""]
[0,0,null,null,null,"",""]
[0,0,null,null,null,"",""]
[0,0,null,null,null,"",""]
[0,0,null,null,null,"",""]
[0,0,null,null,null,"",""]
[0,0,null,null,null,"",""]
[0,0,null,null,null,"",""]
[0,0,null,null,null,"",""]
[0,0,null,null,null,"",""]
[0,0,null,null,null,"",""]
[0,0,null,null,null,"",""]
[{"$f":"A$414","v":0},0,null,null,null,"",""]
[0,0,null,null,null,"",""]
[{"$f":"A$414","v":0},0,null,null,null,"",""]
[0,0,null,null,null,"",""]
[0,0,null,null,null,"",""]
[0,0,null,null,null,"",""]
[0,0,null,null,null,"",""]
[0,0,null,null,null,"",""]
[0,0,null,null,null,"",""]
[0,0,null,null,null,"",""]
[0,0,null,null,null,"",""]
[0,0,null,null,null,"",""]
[0,0,null,null,null,"",""]
[0,0,null,null,null,"",""]
[0,0,null,null,null,"",""]
[{"$f":"'Labor Summary (Office)'!A414","v":0},{"$f":"'Labor Summary (Office)'!B414","v":0},{"$f":"IF(A414=0,\"\",A414)","v":""},"Subtotal Line 13",null,null,null,{"$f":"ROUND(SUM(G384:G413),2)","v":0}]
[{"$f":"A$445","v":0},{"$f":"B$445","v":0},null,null,null,{"$f":"(IFERROR(VLOOKUP(C415,Expenses_Table,2,FALSE),\"\"))","v":""},{"$f":"IFERROR(ROUND(IF(E415=0,F415*D415,IF(F415=0,D415*E415,)),2),\"\")","v":""}]
[{"$f":"A$445","v":0},0,null,null,null,"",{"$f":"IFERROR(ROUND(IF(E416=0,F416*D416,IF(F416=0,D416*E416,)),2),\"\")","v":""}]
[0,0,null,null,null,"",""]
[0,0,null,null,null,"",""]
[0,0,null,null,null,"",""]
[0,0,null,null,null,"",""]
[0,0,null,null,null,"",""]
[0,0,null,null,null,"",""]
[0,0,null,null,null,"",""]
[0,0,null,null,null,"",""]
[0,0,null,null,null,"",""]
[0,0,null,null,null,"",""]
[0,0,null,null,null,"",""]
[0,0,null,null,null,"",""]
[0,0,null,null,null,"",""]
[{"$f":"A$445","v":0},0,null,null,null,"",""]
[0,0,null,null,null,"",""]
[{"$f":"A$445","v":0},0,null,null,null,"",""]
[0,0,null,null,null,"",""]
[0,0,null,null,null,"",""]
[0,0,null,null,null,"",""]
[0,0,null,null,null,"",""]
[0,0,null,null,null,"",""]
[0,0,null,null,null,"",""]
[0,0,null,null,null,"",""]
[0,0,null,null,null,"",""]
[0,0,null,null,null,"",""]
[0,0,null,null,null,"",""]
[0,0,null,null,null,"",""]
[0,0,null,null,null,"",""]
[{"$f":"'Labor Summary (Office)'!A445","v":0},{"$f":"'Labor Summary (Office)'!B445","v":0},{"$f":"IF(A445=0,\"\",A445)","v":""},"Subtotal Line 14",null,null,null,{"$f":"ROUND(SUM(G415:G444),2)","v":0}]
[{"$f":"A$476","v":0},{"$f":"B$476","v":0},null,null,null,{"$f":"(IFERROR(VLOOKUP(C446,Expenses_Table,2,FALSE),\"\"))","v":""},{"$f":"IFERROR(ROUND(IF(E446=0,F446*D446,IF(F446=0,D446*E446,)),2),\"\")","v":""}]
[{"$f":"A$476","v":0},0,null,null,null,"",{"$f":"IFERROR(ROUND(IF(E447=0,F447*D447,IF(F447=0,D447*E447,)),2),\"\")","v":""}]
[0,0,null,null,null,"",""]
[0,0,null,null,null,"",""]
[0,0,null,null,null,"",""]
[0,0,null,null,null,"",""]
[0,0,null,null,null,"",""]
[0,0,null,null,null,"",""]
[0,0,null,null,null,"",""]
[0,0,null,null,null,"",""]
[0,0,null,null,null,"",""]
[0,0,null,null,null,"",""]
[0,0,null,null,null,"",""]
[0,0,null,null,null,"",""]
[0,0,null,null,null,"",""]
[{"$f":"A$476","v":0},0,null,null,null,"",""]
[0,0,null,null,null,"",""]
[{"$f":"A$476","v":0},0,null,null,null,"",""]
[0,0,null,null,null,"",""]
[0,0,null,null,null,"",""]
[0,0,null,null,null,"",""]
[0,0,null,null,null,"",""]
[0,0,null,null,null,"",""]
[0,0,null,null,null,"",""]
[0,0,null,null,null,"",""]
[0,0,null,null,null,"",""]
[0,0,null,null,null,"",""]
[0,0,null,null,null,"",""]
[0,0,null,null,null,"",""]
[0,0,null,null,null,"",""]
[{"$f":"'Labor Summary (Office)'!A476","v":0},{"$f":"'Labor Summary (Office)'!B476","v":0},{"$f":"IF(A476=0,\"\",A476)","v":""},"Subtotal Line 15",null,null,null,{"$f":"ROUND(SUM(G446:G475),2)","v":0}]
[{"$f":"A$507","v":0},{"$f":"B$507","v":0},null,null,null,{"$f":"(IFERROR(VLOOKUP(C477,Expenses_Table,2,FALSE),\"\"))","v":""},{"$f":"IFERROR(ROUND(IF(E477=0,F477*D477,IF(F477=0,D477*E477,)),2),\"\")","v":""}]
[{"$f":"A$507","v":0},0,null,null,null,"",{"$f":"IFERROR(ROUND(IF(E478=0,F478*D478,IF(F478=0,D478*E478,)),2),\"\")","v":""}]
[0,0,null,null,null,"",""]
[0,0,null,null,null,"",""]
[0,0,null,null,null,"",""]
[0,0,null,null,null,"",""]
[0,0,null,null,null,"",""]
[0,0,null,null,null,"",""]
[0,0,null,null,null,"",""]
[0,0,null,null,null,"",""]
[0,0,null,null,null,"",""]
[0,0,null,null,null,"",""]
[0,0,null,null,null,"",""]
[0,0,null,null,null,"",""]
[0,0,null,null,null,"",""]
[{"$f":"A$507","v":0},0,null,null,null,"",""]
[0,0,null,null,null,"",""]
[{"$f":"A$507","v":0},0,null,null,null,"",""]
[0,0,null,null,null,"",""]
[0,0,null,null,null,"",""]
[0,0,null,null,null,"",""]
[0,0,null,null,null,"",""]
[0,0,null,null,null,"",""]
[0,0,null,null,null,"",""]
[0,0,null,null,null,"",""]
[0,0,null,null,null,"",""]
[0,0,null,null,null,"",""]
[0,0,null,null,null,"",""]
[0,0,null,null,null,"",""]
[0,0,null,null,null,"",""]
[{"$f":"'Labor Summary (Office)'!A507","v":0},{"$f":"'Labor Summary (Office)'!B507","v":0},{"$f":"IF(A507=0,\"\",A507)","v":""},"Subtotal Line 16",null,null,null,{"$f":"ROUND(SUM(G477:G506),2)","v":0}]
[{"$f":"A$538","v":0},{"$f":"B$538","v":0},null,null,null,{"$f":"(IFERROR(VLOOKUP(C508,Expenses_Table,2,FALSE),\"\"))","v":""},{"$f":"IFERROR(ROUND(IF(E508=0,F508*D508,IF(F508=0,D508*E508,)),2),\"\")","v":""}]
[{"$f":"A$538","v":0},0,null,null,null,"",{"$f":"IFERROR(ROUND(IF(E509=0,F509*D509,IF(F509=0,D509*E509,)),2),\"\")","v":""}]
[0,0,null,null,null,"",""]
[0,0,null,null,null,"",""]
[0,0,null,null,null,"",""]
[0,0,null,null,null,"",""]
[0,0,null,null,null,"",""]
[0,0,null,null,null,"",""]
[0,0,null,null,null,"",""]
[0,0,null,null,null,"",""]
[0,0,null,null,null,"",""]
[0,0,null,null,null,"",""]
[0,0,null,null,null,"",""]
[0,0,null,null,null,"",""]
[0,0,null,null,null,"",""]
[{"$f":"A$538","v":0},0,null,null,null,"",""]
[0,0,null,null,null,"",""]
[{"$f":"A$538","v":0},0,null,null,null,"",""]
[0,0,null,null,null,"",""]
[0,0,null,null,null,"",""]
[0,0,null,null,null,"",""]
[0,0,null,null,null,"",""]
[0,0,null,null,null,"",""]
[0,0,null,null,null,"",""]
[0,0,null,null,null,"",""]
[0,0,null,null,null,"",""]
[0,0,null,null,null,"",""]
[0,0,null,null,null,"",""]
[0,0,null,null,null,"",""]
[0,0,null,null,null,"",""]
[{"$f":"'Labor Summary (Office)'!A538","v":0},{"$f":"'Labor Summary (Office)'!B538","v":0},{"$f":"IF(A538=0,\"\",A538)","v":""},"Subtotal Line 17",null,null,null,{"$f":"ROUND(SUM(G508:G537),2)","v":0}]
[{"$f":"A$569","v":0},{"$f":"B$569","v":0},null,null,null,{"$f":"(IFERROR(VLOOKUP(C539,Expenses_Table,2,FALSE),\"\"))","v":""},{"$f":"IFERROR(ROUND(IF(E539=0,F539*D539,IF(F539=0,D539*E539,)),2),\"\")","v":""}]
[{"$f":"A$569","v":0},0,null,null,null,"",{"$f":"IFERROR(ROUND(IF(E540=0,F540*D540,IF(F540=0,D540*E540,)),2),\"\")","v":""}]
[0,0,null,null,null,"",""]
[0,0,null,null,null,"",""]
[0,0,null,null,null,"",""]
[0,0,null,null,null,"",""]
[0,0,null,null,null,"",""]
[0,0,null,null,null,"",""]
[0,0,null,null,null,"",""]
[0,0,null,null,null,"",""]
[0,0,null,null,null,"",""]
[0,0,null,null,null,"",""]
[0,0,null,null,null,"",""]
[0,0,null,null,null,"",""]
[0,0,null,null,null,"",""]
[{"$f":"A$569","v":0},0,null,null,null,"",""]
[0,0,null,null,null,"",""]
[{"$f":"A$569","v":0},0,null,null,null,"",""]
[0,0,null,null,null,"",""]
[0,0,null,null,null,"",""]
[0,0,null,null,null,"",""]
[0,0,null,null,null,"",""]
[0,0,null,null,null,"",""]
[0,0,null,null,null,"",""]
[0,0,null,null,null,"",""]
[0,0,null,null,null,"",""]
[0,0,null,null,null,"",""]
[0,0,null,null,null,"",""]
[0,0,null,null,null,"",""]
[0,0,null,null,null,"",""]
[{"$f":"'Labor Summary (Office)'!A569","v":0},{"$f":"'Labor Summary (Office)'!B569","v":0},{"$f":"IF(A569=0,\"\",A569)","v":""},"Subtotal Line 18",null,null,null,{"$f":"ROUND(SUM(G539:G568),2)","v":0}]
[{"$f":"A$600","v":0},{"$f":"B$600","v":0},null,null,null,{"$f":"(IFERROR(VLOOKUP(C570,Expenses_Table,2,FALSE),\"\"))","v":""},{"$f":"IFERROR(ROUND(IF(E570=0,F570*D570,IF(F570=0,D570*E570,)),2),\"\")","v":""}]
[{"$f":"A$600","v":0},0,null,null,null,"",{"$f":"IFERROR(ROUND(IF(E571=0,F571*D571,IF(F571=0,D571*E571,)),2),\"\")","v":""}]
[0,0,null,null,null,"",""]
[0,0,null,null,null,"",""]
[0,0,null,null,null,"",""]
[0,0,null,null,null,"",""]
[0,0,null,null,null,"",""]
[0,0,null,null,null,"",""]
[0,0,null,null,null,"",""]
[0,0,null,null,null,"",""]
[0,0,null,null,null,"",""]
[0,0,null,null,null,"",""]
[0,0,null,null,null,"",""]
[0,0,null,null,null,"",""]
[0,0,null,null,null,"",""]
[{"$f":"A$600","v":0},0,null,null,null,"",""]
[0,0,null,null,null,"",""]
[{"$f":"A$600","v":0},0,null,null,null,"",""]
[0,0,null,null,null,"",""]
[0,0,null,null,null,"",""]
[0,0,null,null,null,"",""]
[0,0,null,null,null,"",""]
[0,0,null,null,null,"",""]
[0,0,null,null,null,"",""]
[0,0,null,null,null,"",""]
[0,0,null,null,null,"",""]
[0,0,null,null,null,"",""]
[0,0,null,null,null,"",""]
[0,0,null,null,null,"",""]
[0,0,null,null,null,"",""]
[{"$f":"'Labor Summary (Office)'!A600","v":0},{"$f":"'Labor Summary (Office)'!B600","v":0},{"$f":"IF(A600=0,\"\",A600)","v":""},"Subtotal Line 19",null,null,null,{"$f":"ROUND(SUM(G570:G599),2)","v":0}]
[{"$f":"A$631","v":0},{"$f":"B$631","v":0},null,null,null,{"$f":"(IFERROR(VLOOKUP(C601,Expenses_Table,2,FALSE),\"\"))","v":""},{"$f":"IFERROR(ROUND(IF(E601=0,F601*D601,IF(F601=0,D601*E601,)),2),\"\")","v":""}]
[{"$f":"A$631","v":0},0,null,null,null,"",{"$f":"IFERROR(ROUND(IF(E602=0,F602*D602,IF(F602=0,D602*E602,)),2),\"\")","v":""}]
[0,0,null,null,null,"",""]
[0,0,null,null,null,"",""]
[0,0,null,null,null,"",""]
[0,0,null,null,null,"",""]
[0,0,null,null,null,"",""]
[0,0,null,null,null,"",""]
[0,0,null,null,null,"",""]
[0,0,null,null,null,"",""]
[0,0,null,null,null,"",""]
[0,0,null,null,null,"",""]
[0,0,null,null,null,"",""]
[0,0,null,null,null,"",""]
[0,0,null,null,null,"",""]
[{"$f":"A$631","v":0},0,null,null,null,"",""]
[0,0,null,null,null,"",""]
[{"$f":"A$631","v":0},0,null,null,null,"",""]
[0,0,null,null,null,"",""]
[0,0,null,null,null,"",""]
[0,0,null,null,null,"",""]
[0,0,null,null,null,"",""]
[0,0,null,null,null,"",""]
[0,0,null,null,null,"",""]
[0,0,null,null,null,"",""]
[0,0,null,null,null,"",""]
[0,0,null,null,null,"",""]
[0,0,null,null,null,"",""]
[0,0,null,null,null,"",""]
[0,0,null,null,null,"",""]
[{"$f":"'Labor Summary (Office)'!A631","v":0},{"$f":"'Labor Summary (Office)'!B631","v":0},{"$f":"IF(A631=0,\"\",A631)","v":""},"Subtotal Line 20",null,null,null,{"$f":"ROUND(SUM(G601:G630),2)","v":0}]
[{"$f":"A$662","v":0},{"$f":"B$662","v":0},null,null,null,{"$f":"(IFERROR(VLOOKUP(C632,Expenses_Table,2,FALSE),\"\"))","v":""},{"$f":"IFERROR(ROUND(IF(E632=0,F632*D632,IF(F632=0,D632*E632,)),2),\"\")","v":""}]
[{"$f":"A$662","v":0},0,null,null,null,"",{"$f":"IFERROR(ROUND(IF(E633=0,F633*D633,IF(F633=0,D633*E633,)),2),\"\")","v":""}]
[0,0,null,null,null,"",""]
[0,0,null,null,null,"",""]
[0,0,null,null,null,"",""]
[0,0,null,null,null,"",""]
[0,0,null,null,null,"",""]
[0,0,null,null,null,"",""]
[0,0,null,null,null,"",""]
[0,0,null,null,null,"",""]
[0,0,null,null,null,"",""]
[0,0,null,null,null,"",""]
[0,0,null,null,null,"",""]
[0,0,null,null,null,"",""]
[0,0,null,null,null,"",""]
[{"$f":"A$662","v":0},0,null,null,null,"",""]
[0,0,null,null,null,"",""]
[{"$f":"A$662","v":0},0,null,null,null,"",""]
[0,0,null,null,null,"",""]
[0,0,null,null,null,"",""]
[0,0,null,null,null,"",""]
[0,0,null,null,null,"",""]
[0,0,null,null,null,"",""]
[0,0,null,null,null,"",""]
[0,0,null,null,null,"",""]
[0,0,null,null,null,"",""]
[0,0,null,null,null,"",""]
[0,0,null,null,null,"",""]
[0,0,null,null,null,"",""]
[0,0,null,null,null,"",""]
[{"$f":"'Labor Summary (Office)'!A662","v":0},{"$f":"'Labor Summary (Office)'!B662","v":0},{"$f":"IF(A662=0,\"\",A662)","v":""},"Subtotal Line 21",null,null,null,{"$f":"ROUND(SUM(G632:G661),2)","v":0}]
[{"$f":"A$693","v":0},{"$f":"B$693","v":0},null,null,null,{"$f":"(IFERROR(VLOOKUP(C663,Expenses_Table,2,FALSE),\"\"))","v":""},{"$f":"IFERROR(ROUND(IF(E663=0,F663*D663,IF(F663=0,D663*E663,)),2),\"\")","v":""}]
[{"$f":"A$693","v":0},0,null,null,null,"",{"$f":"IFERROR(ROUND(IF(E664=0,F664*D664,IF(F664=0,D664*E664,)),2),\"\")","v":""}]
[0,0,null,null,null,"",""]
[0,0,null,null,null,"",""]
[0,0,null,null,null,"",""]
[0,0,null,null,null,"",""]
[0,0,null,null,null,"",""]
[0,0,null,null,null,"",""]
[0,0,null,null,null,"",""]
[0,0,null,null,null,"",""]
[0,0,null,null,null,"",""]
[0,0,null,null,null,"",""]
[0,0,null,null,null,"",""]
[0,0,null,null,null,"",""]
[0,0,null,null,null,"",""]
[{"$f":"A$693","v":0},0,null,null,null,"",""]
[0,0,null,null,null,"",""]
[{"$f":"A$693","v":0},0,null,null,null,"",""]
[0,0,null,null,null,"",""]
[0,0,null,null,null,"",""]
[0,0,null,null,null,"",""]
[0,0,null,null,null,"",""]
[0,0,null,null,null,"",""]
[0,0,null,null,null,"",""]
[0,0,null,null,null,"",""]
[0,0,null,null,null,"",""]
[0,0,null,null,null,"",""]
[0,0,null,null,null,"",""]
[0,0,null,null,null,"",""]
[0,0,null,null,null,"",""]
[{"$f":"'Labor Summary (Office)'!A693","v":0},{"$f":"'Labor Summary (Office)'!B693","v":0},{"$f":"IF(A693=0,\"\",A693)","v":""},"Subtotal Line 22",null,null,null,{"$f":"ROUND(SUM(G663:G692),2)","v":0}]
[{"$f":"A$724","v":0},{"$f":"B$724","v":0},null,null,null,{"$f":"(IFERROR(VLOOKUP(C694,Expenses_Table,2,FALSE),\"\"))","v":""},{"$f":"IFERROR(ROUND(IF(E694=0,F694*D694,IF(F694=0,D694*E694,)),2),\"\")","v":""}]
[{"$f":"A$724","v":0},0,null,null,null,"",{"$f":"IFERROR(ROUND(IF(E695=0,F695*D695,IF(F695=0,D695*E695,)),2),\"\")","v":""}]
[0,0,null,null,null,"",""]
[0,0,null,null,null,"",""]
[0,0,null,null,null,"",""]
[0,0,null,null,null,"",""]
[0,0,null,null,null,"",""]
[0,0,null,null,null,"",""]
[0,0,null,null,null,"",""]
[0,0,null,null,null,"",""]
[0,0,null,null,null,"",""]
[0,0,null,null,null,"",""]
[0,0,null,null,null,"",""]
[0,0,null,null,null,"",""]
[0,0,null,null,null,"",""]
[{"$f":"A$724","v":0},0,null,null,null,"",""]
[0,0,null,null,null,"",""]
[{"$f":"A$724","v":0},0,null,null,null,"",""]
[0,0,null,null,null,"",""]
[0,0,null,null,null,"",""]
[0,0,null,null,null,"",""]
[0,0,null,null,null,"",""]
[0,0,null,null,null,"",""]
[0,0,null,null,null,"",""]
[0,0,null,null,null,"",""]
[0,0,null,null,null,"",""]
[0,0,null,null,null,"",""]
[0,0,null,null,null,"",""]
[0,0,null,null,null,"",""]
[0,0,null,null,null,"",""]
[{"$f":"'Labor Summary (Office)'!A724","v":0},{"$f":"'Labor Summary (Office)'!B724","v":0},{"$f":"IF(A724=0,\"\",A724)","v":""},"Subtotal Line 23",null,null,null,{"$f":"ROUND(SUM(G694:G723),2)","v":0}]
[{"$f":"A$755","v":0},{"$f":"B$755","v":0},null,null,null,{"$f":"(IFERROR(VLOOKUP(C725,Expenses_Table,2,FALSE),\"\"))","v":""},{"$f":"IFERROR(ROUND(IF(E725=0,F725*D725,IF(F725=0,D725*E725,)),2),\"\")","v":""}]
[{"$f":"A$755","v":0},0,null,null,null,"",{"$f":"IFERROR(ROUND(IF(E726=0,F726*D726,IF(F726=0,D726*E726,)),2),\"\")","v":""}]
[0,0,null,null,null,"",""]
[0,0,null,null,null,"",""]
[0,0,null,null,null,"",""]
[0,0,null,null,null,"",""]
[0,0,null,null,null,"",""]
[0,0,null,null,null,"",""]
[0,0,null,null,null,"",""]
[0,0,null,null,null,"",""]
[0,0,null,null,null,"",""]
[0,0,null,null,null,"",""]
[0,0,null,null,null,"",""]
[0,0,null,null,null,"",""]
[0,0,null,null,null,"",""]
[{"$f":"A$755","v":0},0,null,null,null,"",""]
[0,0,null,null,null,"",""]
[{"$f":"A$755","v":0},0,null,null,null,"",""]
[0,0,null,null,null,"",""]
[0,0,null,null,null,"",""]
[0,0,null,null,null,"",""]
[0,0,null,null,null,"",""]
[0,0,null,null,null,"",""]
[0,0,null,null,null,"",""]
[0,0,null,null,null,"",""]
[0,0,null,null,null,"",""]
[0,0,null,null,null,"",""]
[0,0,null,null,null,"",""]
[0,0,null,null,null,"",""]
[0,0,null,null,null,"",""]
[{"$f":"'Labor Summary (Office)'!A755","v":0},{"$f":"'Labor Summary (Office)'!B755","v":0},{"$f":"IF(A755=0,\"\",A755)","v":""},"Subtotal Line 24",null,null,null,{"$f":"ROUND(SUM(G725:G754),2)","v":0}]
[{"$f":"A$786","v":0},{"$f":"B$786","v":0},null,null,null,{"$f":"(IFERROR(VLOOKUP(C756,Expenses_Table,2,FALSE),\"\"))","v":""},{"$f":"IFERROR(ROUND(IF(E756=0,F756*D756,IF(F756=0,D756*E756,)),2),\"\")","v":""}]
[{"$f":"A$786","v":0},0,null,null,null,"",{"$f":"IFERROR(ROUND(IF(E757=0,F757*D757,IF(F757=0,D757*E757,)),2),\"\")","v":""}]
[0,0,null,null,null,"",""]
[0,0,null,null,null,"",""]
[0,0,null,null,null,"",""]
[0,0,null,null,null,"",""]
[0,0,null,null,null,"",""]
[0,0,null,null,null,"",""]
[0,0,null,null,null,"",""]
[0,0,null,null,null,"",""]
[0,0,null,null,null,"",""]
[0,0,null,null,null,"",""]
[0,0,null,null,null,"",""]
[0,0,null,null,null,"",""]
[0,0,null,null,null,"",""]
[{"$f":"A$786","v":0},0,null,null,null,"",""]
[0,0,null,null,null,"",""]
[{"$f":"A$786","v":0},0,null,null,null,"",""]
[0,0,null,null,null,"",""]
[0,0,null,null,null,"",""]
[0,0,null,null,null,"",""]
[0,0,null,null,null,"",""]
[0,0,null,null,null,"",""]
[0,0,null,null,null,"",""]
[0,0,null,null,null,"",""]
[0,0,null,null,null,"",""]
[0,0,null,null,null,"",""]
[0,0,null,null,null,"",""]
[0,0,null,null,null,"",""]
[0,0,null,null,null,"",""]
[{"$f":"'Labor Summary (Office)'!A786","v":0},{"$f":"'Labor Summary (Office)'!B786","v":0},{"$f":"IF(A786=0,\"\",A786)","v":""},"Subtotal Line 25",null,null,null,{"$f":"ROUND(SUM(G756:G785),2)","v":0}]
[{"$f":"A$817","v":0},{"$f":"B$817","v":0},null,null,null,{"$f":"(IFERROR(VLOOKUP(C787,Expenses_Table,2,FALSE),\"\"))","v":""},{"$f":"IFERROR(ROUND(IF(E787=0,F787*D787,IF(F787=0,D787*E787,)),2),\"\")","v":""}]
[0,0,null,null,null,"",{"$f":"IFERROR(ROUND(IF(E788=0,F788*D788,IF(F788=0,D788*E788,)),2),\"\")","v":""}]
[0,0,null,null,null,"",""]
[0,0,null,null,null,"",""]
[0,0,null,null,null,"",""]
[0,0,null,null,null,"",""]
[0,0,null,null,null,"",""]
[0,0,null,null,null,"",""]
[0,0,null,null,null,"",""]
[0,0,null,null,null,"",""]
[0,0,null,null,null,"",""]
[0,0,null,null,null,"",""]
[0,0,null,null,null,"",""]
[0,0,null,null,null,"",""]
[0,0,null,null,null,"",""]
[{"$f":"A$817","v":0},{"$f":"B$817","v":0},null,null,null,"",""]
[0,0,null,null,null,"",""]
[{"$f":"A$817","v":0},0,null,null,null,"",""]
[0,0,null,null,null,"",""]
[0,0,null,null,null,"",""]
[0,0,null,null,null,"",""]
[0,0,null,null,null,"",""]
[0,0,null,null,null,"",""]
[0,0,null,null,null,"",""]
[0,0,null,null,null,"",""]
[0,0,null,null,null,"",""]
[0,0,null,null,null,"",""]
[0,0,null,null,null,"",""]
[0,0,null,null,null,"",""]
[0,0,null,null,null,"",""]
[{"$f":"'Labor Summary (Office)'!A817","v":0},{"$f":"'Labor Summary (Office)'!B817","v":0},{"$f":"IF(A817=0,\"\",A817)","v":""},"Subtotal Line 26",null,null,null,{"$f":"ROUND(SUM(G787:G816),2)","v":0}]
[{"$f":"A$848","v":0},{"$f":"B$848","v":0},null,null,null,{"$f":"(IFERROR(VLOOKUP(C818,Expenses_Table,2,FALSE),\"\"))","v":""},{"$f":"IFERROR(ROUND(IF(E818=0,F818*D818,IF(F818=0,D818*E818,)),2),\"\")","v":""}]
[{"$f":"A$848","v":0},0,null,null,null,"",{"$f":"IFERROR(ROUND(IF(E819=0,F819*D819,IF(F819=0,D819*E819,)),2),\"\")","v":""}]
[0,0,null,null,null,"",""]
[0,0,null,null,null,"",""]
[0,0,null,null,null,"",""]
[0,0,null,null,null,"",""]
[0,0,null,null,null,"",""]
[0,0,null,null,null,"",""]
[0,0,null,null,null,"",""]
[0,0,null,null,null,"",""]
[0,0,null,null,null,"",""]
[0,0,null,null,null,"",""]
[0,0,null,null,null,"",""]
[0,0,null,null,null,"",""]
[0,0,null,null,null,"",""]
[{"$f":"A$848","v":0},{"$f":"B$848","v":0},null,null,null,"",""]
[0,0,null,null,null,"",""]
[{"$f":"A$848","v":0},0,null,null,null,"",""]
[0,0,null,null,null,"",""]
[0,0,null,null,null,"",""]
[0,0,null,null,null,"",""]
[0,0,null,null,null,"",""]
[0,0,null,null,null,"",""]
[0,0,null,null,null,"",""]
[0,0,null,null,null,"",""]
[0,0,null,null,null,"",""]
[0,0,null,null,null,"",""]
[0,0,null,null,null,"",""]
[0,0,null,null,null,"",""]
[0,0,null,null,null,"",""]
[{"$f":"'Labor Summary (Office)'!A848","v":0},{"$f":"'Labor Summary (Office)'!B848","v":0},{"$f":"IF(A848=0,\"\",A848)","v":""},"Subtotal Line 27",null,null,null,{"$f":"ROUND(SUM(G818:G847),2)","v":0}]
[{"$f":"A$879","v":0},{"$f":"B$879","v":0},null,null,null,{"$f":"(IFERROR(VLOOKUP(C849,Expenses_Table,2,FALSE),\"\"))","v":""},{"$f":"IFERROR(ROUND(IF(E849=0,F849*D849,IF(F849=0,D849*E849,)),2),\"\")","v":""}]
[{"$f":"A$879","v":0},0,null,null,null,"",{"$f":"IFERROR(ROUND(IF(E850=0,F850*D850,IF(F850=0,D850*E850,)),2),\"\")","v":""}]
[0,0,null,null,null,"",""]
[0,0,null,null,null,"",""]
[0,0,null,null,null,"",""]
[0,0,null,null,null,"",""]
[0,0,null,null,null,"",""]
[0,0,null,null,null,"",""]
[0,0,null,null,null,"",""]
[0,0,null,null,null,"",""]
[0,0,null,null,null,"",""]
[0,0,null,null,null,"",""]
[0,0,null,null,null,"",""]
[0,0,null,null,null,"",""]
[0,0,null,null,null,"",""]
[{"$f":"A$879","v":0},{"$f":"B$879","v":0},null,null,null,"",""]
[0,0,null,null,null,"",""]
[{"$f":"A$879","v":0},0,null,null,null,"",""]
[0,0,null,null,null,"",""]
[0,0,null,null,null,"",""]
[0,0,null,null,null,"",""]
[0,0,null,null,null,"",""]
[0,0,null,null,null,"",""]
[0,0,null,null,null,"",""]
[0,0,null,null,null,"",""]
[0,0,null,null,null,"",""]
[0,0,null,null,null,"",""]
[0,0,null,null,null,"",""]
[0,0,null,null,null,"",""]
[0,0,null,null,null,"",""]
[{"$f":"'Labor Summary (Office)'!A879","v":0},{"$f":"'Labor Summary (Office)'!B879","v":0},{"$f":"IF(A879=0,\"\",A879)","v":""},"Subtotal Line 28",null,null,null,{"$f":"ROUND(SUM(G849:G878),2)","v":0}]
[{"$f":"A$910","v":0},0,null,null,null,{"$f":"(IFERROR(VLOOKUP(C880,Expenses_Table,2,FALSE),\"\"))","v":""},{"$f":"IFERROR(ROUND(IF(E880=0,F880*D880,IF(F880=0,D880*E880,)),2),\"\")","v":""}]
[0,0,null,null,null,"",{"$f":"IFERROR(ROUND(IF(E881=0,F881*D881,IF(F881=0,D881*E881,)),2),\"\")","v":""}]
[0,0,null,null,null,"",""]
[0,0,null,null,null,"",""]
[0,0,null,null,null,"",""]
[0,0,null,null,null,"",""]
[0,0,null,null,null,"",""]
[0,0,null,null,null,"",""]
[0,0,null,null,null,"",""]
[0,0,null,null,null,"",""]
[0,0,null,null,null,"",""]
[0,0,null,null,null,"",""]
[0,0,null,null,null,"",""]
[0,0,null,null,null,"",""]
[0,0,null,null,null,"",""]
[0,0,null,null,null,"",""]
[0,0,null,null,null,"",""]
[0,0,null,null,null,"",""]
[0,0,null,null,null,"",""]
[0,0,null,null,null,"",""]
[0,0,null,null,null,"",""]
[0,0,null,null,null,"",""]
[0,0,null,null,null,"",""]
[0,0,null,null,null,"",""]
[0,0,null,null,null,"",""]
[0,0,null,null,null,"",""]
[0,0,null,null,null,"",""]
[0,0,null,null,null,"",""]
[0,0,null,null,null,"",""]
[0,0,null,null,null,"",""]
[{"$f":"'Labor Summary (Office)'!A910","v":0},{"$f":"'Labor Summary (Office)'!B910","v":0},{"$f":"IF(A910=0,\"\",A910)","v":""},"Subtotal Line 29",null,null,null,{"$f":"ROUND(SUM(G880:G909),2)","v":0}]
[{"$f":"A$941","v":0},{"$f":"B$941","v":0},null,null,null,{"$f":"(IFERROR(VLOOKUP(C911,Expenses_Table,2,FALSE),\"\"))","v":""},{"$f":"IFERROR(ROUND(IF(E911=0,F911*D911,IF(F911=0,D911*E911,)),2),\"\")","v":""}]
[{"$f":"A$941","v":0},0,null,null,null,"",{"$f":"IFERROR(ROUND(IF(E912=0,F912*D912,IF(F912=0,D912*E912,)),2),\"\")","v":""}]
[0,0,null,null,null,"",""]
[0,0,null,null,null,"",""]
[0,0,null,null,null,"",""]
[0,0,null,null,null,"",""]
[0,0,null,null,null,"",""]
[0,0,null,null,null,"",""]
[0,0,null,null,null,"",""]
[0,0,null,null,null,"",""]
[0,0,null,null,null,"",""]
[0,0,null,null,null,"",""]
[0,0,null,null,null,"",""]
[0,0,null,null,null,"",""]
[0,0,null,null,null,"",""]
[{"$f":"A$941","v":0},{"$f":"B$941","v":0},null,null,null,"",""]
[0,0,null,null,null,"",""]
[{"$f":"A$941","v":0},0,null,null,null,"",""]
[0,0,null,null,null,"",""]
[0,0,null,null,null,"",""]
[0,0,null,null,null,"",""]
[0,0,null,null,null,"",""]
[0,0,null,null,null,"",""]
[0,0,null,null,null,"",""]
[0,0,null,null,null,"",""]
[0,0,null,null,null,"",""]
[0,0,null,null,null,"",""]
[0,0,null,null,null,"",""]
[0,0,null,null,null,"",""]
[0,0,null,null,null,"",""]
[{"$f":"'Labor Summary (Office)'!A941","v":0},{"$f":"'Labor Summary (Office)'!B941","v":0},{"$f":"IF(A941=0,\"\",A941)","v":""},"Subtotal Line 30",null,null,null,{"$f":"ROUND(SUM(G911:G940),2)","v":0}]
[{"$f":"A$972","v":0},{"$f":"B$972","v":0},null,null,null,{"$f":"(IFERROR(VLOOKUP(C942,Expenses_Table,2,FALSE),\"\"))","v":""},{"$f":"IFERROR(ROUND(IF(E942=0,F942*D942,IF(F942=0,D942*E942,)),2),\"\")","v":""}]
[{"$f":"A$972","v":0},0,null,null,null,"",{"$f":"IFERROR(ROUND(IF(E943=0,F943*D943,IF(F943=0,D943*E943,)),2),\"\")","v":""}]
[0,0,null,null,null,"",""]
[0,0,null,null,null,"",""]
[0,0,null,null,null,"",""]
[0,0,null,null,null,"",""]
[0,0,null,null,null,"",""]
[0,0,null,null,null,"",""]
[0,0,null,null,null,"",""]
[0,0,null,null,null,"",""]
[0,0,null,null,null,"",""]
[0,0,null,null,null,"",""]
[0,0,null,null,null,"",""]
[0,0,null,null,null,"",""]
[0,0,null,null,null,"",""]
[{"$f":"A$972","v":0},{"$f":"B$972","v":0},null,null,null,"",""]
[0,0,null,null,null,"",""]
[{"$f":"A$972","v":0},0,null,null,null,"",""]
[0,0,null,null,null,"",""]
[0,0,null,null,null,"",""]
[0,0,null,null,null,"",""]
[0,0,null,null,null,"",""]
[0,0,null,null,null,"",""]
[0,0,null,null,null,"",""]
[0,0,null,null,null,"",""]
[0,0,null,null,null,"",""]
[0,0,null,null,null,"",""]
[0,0,null,null,null,"",""]
[0,0,null,null,null,"",""]
[0,0,null,null,null,"",""]
[{"$f":"'Labor Summary (Office)'!A972","v":0},{"$f":"'Labor Summary (Office)'!B972","v":0},{"$f":"IF(A972=0,\"\",A972)","v":""},"Subtotal Line 31",null,null,null,{"$f":"ROUND(SUM(G942:G971),2)","v":0}]
[{"$f":"A$1003","v":0},{"$f":"B$1003","v":0},null,null,null,{"$f":"(IFERROR(VLOOKUP(C973,Expenses_Table,2,FALSE),\"\"))","v":""},{"$f":"IFERROR(ROUND(IF(E973=0,F973*D973,IF(F973=0,D973*E973,)),2),\"\")","v":""}]
[{"$f":"A$1003","v":0},0,null,null,null,"",{"$f":"IFERROR(ROUND(IF(E974=0,F974*D974,IF(F974=0,D974*E974,)),2),\"\")","v":""}]
[0,0,null,null,null,"",""]
[0,0,null,null,null,"",""]
[0,0,null,null,null,"",""]
[0,0,null,null,null,"",""]
[0,0,null,null,null,"",""]
[0,0,null,null,null,"",""]
[0,0,null,null,null,"",""]
[0,0,null,null,null,"",""]
[0,0,null,null,null,"",""]
[0,0,null,null,null,"",""]
[0,0,null,null,null,"",""]
[0,0,null,null,null,"",""]
[0,0,null,null,null,"",""]
[{"$f":"A$1003","v":0},{"$f":"B$1003","v":0},null,null,null,"",""]
[0,0,null,null,null,"",""]
[{"$f":"A$1003","v":0},0,null,null,null,"",""]
[0,0,null,null,null,"",""]
[0,0,null,null,null,"",""]
[0,0,null,null,null,"",""]
[0,0,null,null,null,"",""]
[0,0,null,null,null,"",""]
[0,0,null,null,null,"",""]
[0,0,null,null,null,"",""]
[0,0,null,null,null,"",""]
[0,0,null,null,null,"",""]
[0,0,null,null,null,"",""]
[0,0,null,null,null,"",""]
[0,0,null,null,null,"",""]
[{"$f":"'Labor Summary (Office)'!A1003","v":0},{"$f":"'Labor Summary (Office)'!B1003","v":0},{"$f":"IF(A1003=0,\"\",A1003)","v":""},"Subtotal Line 32",null,null,null,{"$f":"ROUND(SUM(G973:G1002),2)","v":0}]
[{"$f":"A$1034","v":0},{"$f":"B$1034","v":0},null,null,null,{"$f":"(IFERROR(VLOOKUP(C1004,Expenses_Table,2,FALSE),\"\"))","v":""},{"$f":"IFERROR(ROUND(IF(E1004=0,F1004*D1004,IF(F1004=0,D1004*E1004,)),2),\"\")","v":""}]
[{"$f":"A$1034","v":0},0,null,null,null,"",{"$f":"IFERROR(ROUND(IF(E1005=0,F1005*D1005,IF(F1005=0,D1005*E1005,)),2),\"\")","v":""}]
[0,0,null,null,null,"",""]
[0,0,null,null,null,"",""]
[0,0,null,null,null,"",""]
[0,0,null,null,null,"",""]
[0,0,null,null,null,"",""]
[0,0,null,null,null,"",""]
[0,0,null,null,null,"",""]
[0,0,null,null,null,"",""]
[0,0,null,null,null,"",""]
[0,0,null,null,null,"",""]
[0,0,null,null,null,"",""]
[0,0,null,null,null,"",""]
[0,0,null,null,null,"",""]
[{"$f":"A$1034","v":0},{"$f":"B$1034","v":0},null,null,null,"",""]
[0,0,null,null,null,"",""]
[{"$f":"A$1034","v":0},0,null,null,null,"",""]
[0,0,null,null,null,"",""]
[0,0,null,null,null,"",""]
[0,0,null,null,null,"",""]
[0,0,null,null,null,"",""]
[0,0,null,null,null,"",""]
[0,0,null,null,null,"",""]
[0,0,null,null,null,"",""]
[0,0,null,null,null,"",""]
[0,0,null,null,null,"",""]
[0,0,null,null,null,"",""]
[0,0,null,null,null,"",""]
[0,0,null,null,null,"",""]
[{"$f":"'Labor Summary (Office)'!A1034","v":0},{"$f":"'Labor Summary (Office)'!B1034","v":0},{"$f":"IF(A1034=0,\"\",A1034)","v":""},"Subtotal Line 33",null,null,null,{"$f":"ROUND(SUM(G1004:G1033),2)","v":0}]
[{"$f":"A$1065","v":0},{"$f":"B$1065","v":0},null,null,null,{"$f":"(IFERROR(VLOOKUP(C1035,Expenses_Table,2,FALSE),\"\"))","v":""},{"$f":"IFERROR(ROUND(IF(E1035=0,F1035*D1035,IF(F1035=0,D1035*E1035,)),2),\"\")","v":""}]
[{"$f":"A$1065","v":0},0,null,null,null,"",{"$f":"IFERROR(ROUND(IF(E1036=0,F1036*D1036,IF(F1036=0,D1036*E1036,)),2),\"\")","v":""}]
[0,0,null,null,null,"",""]
[0,0,null,null,null,"",""]
[0,0,null,null,null,"",""]
[0,0,null,null,null,"",""]
[0,0,null,null,null,"",""]
[0,0,null,null,null,"",""]
[0,0,null,null,null,"",""]
[0,0,null,null,null,"",""]
[0,0,null,null,null,"",""]
[0,0,null,null,null,"",""]
[0,0,null,null,null,"",""]
[0,0,null,null,null,"",""]
[0,0,null,null,null,"",""]
[{"$f":"A$1065","v":0},{"$f":"B$1065","v":0},null,null,null,"",""]
[0,0,null,null,null,"",""]
[{"$f":"A$1065","v":0},0,null,null,null,"",""]
[0,0,null,null,null,"",""]
[0,0,null,null,null,"",""]
[0,0,null,null,null,"",""]
[0,0,null,null,null,"",""]
[0,0,null,null,null,"",""]
[0,0,null,null,null,"",""]
[0,0,null,null,null,"",""]
[0,0,null,null,null,"",""]
[0,0,null,null,null,"",""]
[0,0,null,null,null,"",""]
[0,0,null,null,null,"",""]
[0,0,null,null,null,"",""]
[{"$f":"'Labor Summary (Office)'!A1065","v":0},{"$f":"'Labor Summary (Office)'!B1065","v":0},{"$f":"IF(A1065=0,\"\",A1065)","v":""},"Subtotal Line 34",null,null,null,{"$f":"ROUND(SUM(G1035:G1064),2)","v":0}]
[{"$f":"A$1096","v":0},{"$f":"B$1096","v":0},null,null,null,{"$f":"(IFERROR(VLOOKUP(C1066,Expenses_Table,2,FALSE),\"\"))","v":""},{"$f":"IFERROR(ROUND(IF(E1066=0,F1066*D1066,IF(F1066=0,D1066*E1066,)),2),\"\")","v":""}]
[{"$f":"A$1096","v":0},0,null,null,null,"",{"$f":"IFERROR(ROUND(IF(E1067=0,F1067*D1067,IF(F1067=0,D1067*E1067,)),2),\"\")","v":""}]
[0,0,null,null,null,"",""]
[0,0,null,null,null,"",""]
[0,0,null,null,null,"",""]
[0,0,null,null,null,"",""]
[0,0,null,null,null,"",""]
[0,0,null,null,null,"",""]
[0,0,null,null,null,"",""]
[0,0,null,null,null,"",""]
[0,0,null,null,null,"",""]
[0,0,null,null,null,"",""]
[0,0,null,null,null,"",""]
[0,0,null,null,null,"",""]
[0,0,null,null,null,"",""]
[{"$f":"A$1096","v":0},{"$f":"B$1096","v":0},null,null,null,"",""]
[0,0,null,null,null,"",""]
[{"$f":"A$1096","v":0},0,null,null,null,"",""]
[0,0,null,null,null,"",""]
[0,0,null,null,null,"",""]
[0,0,null,null,null,"",""]
[0,0,null,null,null,"",""]
[0,0,null,null,null,"",""]
[0,0,null,null,null,"",""]
[0,0,null,null,null,"",""]
[0,0,null,null,null,"",""]
[0,0,null,null,null,"",""]
[0,0,null,null,null,"",""]
[0,0,null,null,null,"",""]
[0,0,null,null,null,"",""]
[{"$f":"'Labor Summary (Office)'!A1096","v":0},{"$f":"'Labor Summary (Office)'!B1096","v":0},{"$f":"IF(A1096=0,\"\",A1096)","v":""},"Subtotal Line 35",null,null,null,{"$f":"ROUND(SUM(G1066:G1095),2)","v":0}]
[{"$f":"A$1127","v":0},{"$f":"B$1127","v":0},null,null,null,{"$f":"(IFERROR(VLOOKUP(C1097,Expenses_Table,2,FALSE),\"\"))","v":""},{"$f":"IFERROR(ROUND(IF(E1097=0,F1097*D1097,IF(F1097=0,D1097*E1097,)),2),\"\")","v":""}]
[{"$f":"A$1127","v":0},0,null,null,null,"",{"$f":"IFERROR(ROUND(IF(E1098=0,F1098*D1098,IF(F1098=0,D1098*E1098,)),2),\"\")","v":""}]
[0,0,null,null,null,"",""]
[0,0,null,null,null,"",""]
[0,0,null,null,null,"",""]
[0,0,null,null,null,"",""]
[0,0,null,null,null,"",""]
[0,0,null,null,null,"",""]
[0,0,null,null,null,"",""]
[0,0,null,null,null,"",""]
[0,0,null,null,null,"",""]
[0,0,null,null,null,"",""]
[0,0,null,null,null,"",""]
[0,0,null,null,null,"",""]
[0,0,null,null,null,"",""]
[{"$f":"A$1127","v":0},{"$f":"B$1127","v":0},null,null,null,"",""]
[0,0,null,null,null,"",""]
[{"$f":"A$1127","v":0},0,null,null,null,"",""]
[0,0,null,null,null,"",""]
[0,0,null,null,null,"",""]
[0,0,null,null,null,"",""]
[0,0,null,null,null,"",""]
[0,0,null,null,null,"",""]
[0,0,null,null,null,"",""]
[0,0,null,null,null,"",""]
[0,0,null,null,null,"",""]
[0,0,null,null,null,"",""]
[0,0,null,null,null,"",""]
[0,0,null,null,null,"",""]
[0,0,null,null,null,"",""]
[{"$f":"'Labor Summary (Office)'!A1127","v":0},{"$f":"'Labor Summary (Office)'!B1127","v":0},{"$f":"IF(A1127=0,\"\",A1127)","v":""},"Subtotal Line 36",null,null,null,{"$f":"ROUND(SUM(G1097:G1126),2)","v":0}]
[{"$f":"A$1158","v":0},{"$f":"B$1158","v":0},null,null,null,{"$f":"(IFERROR(VLOOKUP(C1128,Expenses_Table,2,FALSE),\"\"))","v":""},{"$f":"IFERROR(ROUND(IF(E1128=0,F1128*D1128,IF(F1128=0,D1128*E1128,)),2),\"\")","v":""}]
[{"$f":"A$1158","v":0},0,null,null,null,"",{"$f":"IFERROR(ROUND(IF(E1129=0,F1129*D1129,IF(F1129=0,D1129*E1129,)),2),\"\")","v":""}]
[0,0,null,null,null,"",""]
[0,0,null,null,null,"",""]
[0,0,null,null,null,"",""]
[0,0,null,null,null,"",""]
[0,0,null,null,null,"",""]
[0,0,null,null,null,"",""]
[0,0,null,null,null,"",""]
[0,0,null,null,null,"",""]
[0,0,null,null,null,"",""]
[0,0,null,null,null,"",""]
[0,0,null,null,null,"",""]
[0,0,null,null,null,"",""]
[0,0,null,null,null,"",""]
[{"$f":"A$1158","v":0},{"$f":"B$1158","v":0},null,null,null,"",""]
[0,0,null,null,null,"",""]
[{"$f":"A$1158","v":0},0,null,null,null,"",""]
[0,0,null,null,null,"",""]
[0,0,null,null,null,"",""]
[0,0,null,null,null,"",""]
[0,0,null,null,null,"",""]
[0,0,null,null,null,"",""]
[0,0,null,null,null,"",""]
[0,0,null,null,null,"",""]
[0,0,null,null,null,"",""]
[0,0,null,null,null,"",""]
[0,0,null,null,null,"",""]
[0,0,null,null,null,"",""]
[0,0,null,null,null,"",""]
[{"$f":"'Labor Summary (Office)'!A1158","v":0},{"$f":"'Labor Summary (Office)'!B1158","v":0},{"$f":"IF(A1158=0,\"\",A1158)","v":""},"Subtotal Line 37",null,null,null,{"$f":"ROUND(SUM(G1128:G1157),2)","v":0}]
[{"$f":"A$1189","v":0},{"$f":"B$1189","v":0},null,null,null,{"$f":"(IFERROR(VLOOKUP(C1159,Expenses_Table,2,FALSE),\"\"))","v":""},{"$f":"IFERROR(ROUND(IF(E1159=0,F1159*D1159,IF(F1159=0,D1159*E1159,)),2),\"\")","v":""}]
[{"$f":"A$1189","v":0},0,null,null,null,"",{"$f":"IFERROR(ROUND(IF(E1160=0,F1160*D1160,IF(F1160=0,D1160*E1160,)),2),\"\")","v":""}]
[0,0,null,null,null,"",""]
[0,0,null,null,null,"",""]
[0,0,null,null,null,"",""]
[0,0,null,null,null,"",""]
[0,0,null,null,null,"",""]
[0,0,null,null,null,"",""]
[0,0,null,null,null,"",""]
[0,0,null,null,null,"",""]
[0,0,null,null,null,"",""]
[0,0,null,null,null,"",""]
[0,0,null,null,null,"",""]
[0,0,null,null,null,"",""]
[0,0,null,null,null,"",""]
[{"$f":"A$1189","v":0},{"$f":"B$1189","v":0},null,null,null,"",""]
[0,0,null,null,null,"",""]
[{"$f":"A$1189","v":0},0,null,null,null,"",""]
[0,0,null,null,null,"",""]
[0,0,null,null,null,"",""]
[0,0,null,null,null,"",""]
[0,0,null,null,null,"",""]
[0,0,null,null,null,"",""]
[0,0,null,null,null,"",""]
[0,0,null,null,null,"",""]
[0,0,null,null,null,"",""]
[0,0,null,null,null,"",""]
[0,0,null,null,null,"",""]
[0,0,null,null,null,"",""]
[0,0,null,null,null,"",""]
[{"$f":"'Labor Summary (Office)'!A1189","v":0},{"$f":"'Labor Summary (Office)'!B1189","v":0},{"$f":"IF(A1189=0,\"\",A1189)","v":""},"Subtotal Line 38",null,null,null,{"$f":"ROUND(SUM(G1159:G1188),2)","v":0}]
[{"$f":"A$1220","v":0},{"$f":"B$1220","v":0},null,null,null,{"$f":"(IFERROR(VLOOKUP(C1190,Expenses_Table,2,FALSE),\"\"))","v":""},{"$f":"IFERROR(ROUND(IF(E1190=0,F1190*D1190,IF(F1190=0,D1190*E1190,)),2),\"\")","v":""}]
[{"$f":"A$1220","v":0},0,null,null,null,"",{"$f":"IFERROR(ROUND(IF(E1191=0,F1191*D1191,IF(F1191=0,D1191*E1191,)),2),\"\")","v":""}]
[0,0,null,null,null,"",""]
[0,0,null,null,null,"",""]
[0,0,null,null,null,"",""]
[0,0,null,null,null,"",""]
[0,0,null,null,null,"",""]
[0,0,null,null,null,"",""]
[0,0,null,null,null,"",""]
[0,0,null,null,null,"",""]
[0,0,null,null,null,"",""]
[0,0,null,null,null,"",""]
[0,0,null,null,null,"",""]
[0,0,null,null,null,"",""]
[0,0,null,null,null,"",""]
[{"$f":"A$1220","v":0},{"$f":"B$1220","v":0},null,null,null,"",""]
[0,0,null,null,null,"",""]
[{"$f":"A$1220","v":0},0,null,null,null,"",""]
[0,0,null,null,null,"",""]
[0,0,null,null,null,"",""]
[0,0,null,null,null,"",""]
[0,0,null,null,null,"",""]
[0,0,null,null,null,"",""]
[0,0,null,null,null,"",""]
[0,0,null,null,null,"",""]
[0,0,null,null,null,"",""]
[0,0,null,null,null,"",""]
[0,0,null,null,null,"",""]
[0,0,null,null,null,"",""]
[0,0,null,null,null,"",""]
[{"$f":"'Labor Summary (Office)'!A1220","v":0},{"$f":"'Labor Summary (Office)'!B1220","v":0},{"$f":"IF(A1220=0,\"\",A1220)","v":""},"Subtotal Line 39",null,null,null,{"$f":"ROUND(SUM(G1190:G1219),2)","v":0}]
[{"$f":"A$1251","v":0},{"$f":"B$1251","v":0},null,null,null,{"$f":"(IFERROR(VLOOKUP(C1221,Expenses_Table,2,FALSE),\"\"))","v":""},{"$f":"IFERROR(ROUND(IF(E1221=0,F1221*D1221,IF(F1221=0,D1221*E1221,)),2),\"\")","v":""}]
[{"$f":"A$1251","v":0},0,null,null,null,"",{"$f":"IFERROR(ROUND(IF(E1222=0,F1222*D1222,IF(F1222=0,D1222*E1222,)),2),\"\")","v":""}]
[0,0,null,null,null,"",""]
[0,0,null,null,null,"",""]
[0,0,null,null,null,"",""]
[0,0,null,null,null,"",""]
[0,0,null,null,null,"",""]
[0,0,null,null,null,"",""]
[0,0,null,null,null,"",""]
[0,0,null,null,null,"",""]
[0,0,null,null,null,"",""]
[0,0,null,null,null,"",""]
[0,0,null,null,null,"",""]
[0,0,null,null,null,"",""]
[0,0,null,null,null,"",""]
[{"$f":"A$1251","v":0},{"$f":"B$1251","v":0},null,null,null,"",""]
[0,0,null,null,null,"",""]
[{"$f":"A$1251","v":0},0,null,null,null,"",""]
[0,0,null,null,null,"",""]
[0,0,null,null,null,"",""]
[0,0,null,null,null,"",""]
[0,0,null,null,null,"",""]
[0,0,null,null,null,"",""]
[0,0,null,null,null,"",""]
[0,0,null,null,null,"",""]
[0,0,null,null,null,"",""]
[0,0,null,null,null,"",""]
[0,0,null,null,null,"",""]
[0,0,null,null,null,"",""]
[0,0,null,null,null,"",""]
[{"$f":"'Labor Summary (Office)'!A1251","v":0},{"$f":"'Labor Summary (Office)'!B1251","v":0},{"$f":"IF(A1251=0,\"\",A1251)","v":""},"Subtotal Line 40",null,null,null,{"$f":"ROUND(SUM(G1221:G1250),2)","v":0}]
[{"$f":"A$1282","v":0},{"$f":"B$1282","v":0},null,null,null,{"$f":"(IFERROR(VLOOKUP(C1252,Expenses_Table,2,FALSE),\"\"))","v":""},{"$f":"IFERROR(ROUND(IF(E1252=0,F1252*D1252,IF(F1252=0,D1252*E1252,)),2),\"\")","v":""}]
[{"$f":"A$1282","v":0},0,null,null,null,"",{"$f":"IFERROR(ROUND(IF(E1253=0,F1253*D1253,IF(F1253=0,D1253*E1253,)),2),\"\")","v":""}]
[0,0,null,null,null,"",""]
[0,0,null,null,null,"",""]
[0,0,null,null,null,"",""]
[0,0,null,null,null,"",""]
[0,0,null,null,null,"",""]
[0,0,null,null,null,"",""]
[0,0,null,null,null,"",""]
[0,0,null,null,null,"",""]
[0,0,null,null,null,"",""]
[0,0,null,null,null,"",""]
[0,0,null,null,null,"",""]
[0,0,null,null,null,"",""]
[0,0,null,null,null,"",""]
[{"$f":"A$1282","v":0},{"$f":"B$1282","v":0},null,null,null,"",""]
[0,0,null,null,null,"",""]
[{"$f":"A$1282","v":0},0,null,null,null,"",""]
[0,0,null,null,null,"",""]
[0,0,null,null,null,"",""]
[0,0,null,null,null,"",""]
[0,0,null,null,null,"",""]
[0,0,null,null,null,"",""]
[0,0,null,null,null,"",""]
[0,0,null,null,null,"",""]
[0,0,null,null,null,"",""]
[0,0,null,null,null,"",""]
[0,0,null,null,null,"",""]
[0,0,null,null,null,"",""]
[0,0,null,null,null,"",""]
[{"$f":"'Labor Summary (Office)'!A1282","v":0},{"$f":"'Labor Summary (Office)'!B1282","v":0},{"$f":"IF(A1282=0,\"\",A1282)","v":""},"Subtotal Line 41",null,null,null,{"$f":"ROUND(SUM(G1252:G1281),2)","v":0}]
[{"$f":"A$1313","v":0},{"$f":"B$1313","v":0},null,null,null,{"$f":"(IFERROR(VLOOKUP(C1283,Expenses_Table,2,FALSE),\"\"))","v":""},{"$f":"IFERROR(ROUND(IF(E1283=0,F1283*D1283,IF(F1283=0,D1283*E1283,)),2),\"\")","v":""}]
[{"$f":"A$1313","v":0},0,null,null,null,"",{"$f":"IFERROR(ROUND(IF(E1284=0,F1284*D1284,IF(F1284=0,D1284*E1284,)),2),\"\")","v":""}]
[0,0,null,null,null,"",""]
[0,0,null,null,null,"",""]
[0,0,null,null,null,"",""]
[0,0,null,null,null,"",""]
[0,0,null,null,null,"",""]
[0,0,null,null,null,"",""]
[0,0,null,null,null,"",""]
[0,0,null,null,null,"",""]
[0,0,null,null,null,"",""]
[0,0,null,null,null,"",""]
[0,0,null,null,null,"",""]
[0,0,null,null,null,"",""]
[0,0,null,null,null,"",""]
[{"$f":"A$1313","v":0},{"$f":"B$1313","v":0},null,null,null,"",""]
[0,0,null,null,null,"",""]
[{"$f":"A$1313","v":0},0,null,null,null,"",""]
[0,0,null,null,null,"",""]
[0,0,null,null,null,"",""]
[0,0,null,null,null,"",""]
[0,0,null,null,null,"",""]
[0,0,null,null,null,"",""]
[0,0,null,null,null,"",""]
[0,0,null,null,null,"",""]
[0,0,null,null,null,"",""]
[0,0,null,null,null,"",""]
[0,0,null,null,null,"",""]
[0,0,null,null,null,"",""]
[0,0,null,null,null,"",""]
[{"$f":"'Labor Summary (Office)'!A1313","v":0},{"$f":"'Labor Summary (Office)'!B1313","v":0},{"$f":"IF(A1313=0,\"\",A1313)","v":""},"Subtotal Line 42",null,null,null,{"$f":"ROUND(SUM(G1283:G1312),2)","v":0}]
[{"$f":"A$1344","v":0},{"$f":"B$1344","v":0},null,null,null,{"$f":"(IFERROR(VLOOKUP(C1314,Expenses_Table,2,FALSE),\"\"))","v":""},{"$f":"IFERROR(ROUND(IF(E1314=0,F1314*D1314,IF(F1314=0,D1314*E1314,)),2),\"\")","v":""}]
[{"$f":"A$1344","v":0},0,null,null,null,"",{"$f":"IFERROR(ROUND(IF(E1315=0,F1315*D1315,IF(F1315=0,D1315*E1315,)),2),\"\")","v":""}]
[0,0,null,null,null,"",""]
[0,0,null,null,null,"",""]
[0,0,null,null,null,"",""]
[0,0,null,null,null,"",""]
[0,0,null,null,null,"",""]
[0,0,null,null,null,"",""]
[0,0,null,null,null,"",""]
[0,0,null,null,null,"",""]
[0,0,null,null,null,"",""]
[0,0,null,null,null,"",""]
[0,0,null,null,null,"",""]
[0,0,null,null,null,"",""]
[0,0,null,null,null,"",""]
[{"$f":"A$1344","v":0},{"$f":"B$1344","v":0},null,null,null,"",""]
[0,0,null,null,null,"",""]
[{"$f":"A$1344","v":0},0,null,null,null,"",""]
[0,0,null,null,null,"",""]
[0,0,null,null,null,"",""]
[0,0,null,null,null,"",""]
[0,0,null,null,null,"",""]
[0,0,null,null,null,"",""]
[0,0,null,null,null,"",""]
[0,0,null,null,null,"",""]
[0,0,null,null,null,"",""]
[0,0,null,null,null,"",""]
[0,0,null,null,null,"",""]
[0,0,null,null,null,"",""]
[0,0,null,null,null,"",""]
[{"$f":"'Labor Summary (Office)'!A1344","v":0},{"$f":"'Labor Summary (Office)'!B1344","v":0},{"$f":"IF(A1344=0,\"\",A1344)","v":""},"Subtotal Line 43",null,null,null,{"$f":"ROUND(SUM(G1314:G1343),2)","v":0}]
[{"$f":"A$1375","v":0},{"$f":"B$1375","v":0},null,null,null,{"$f":"(IFERROR(VLOOKUP(C1345,Expenses_Table,2,FALSE),\"\"))","v":""},{"$f":"IFERROR(ROUND(IF(E1345=0,F1345*D1345,IF(F1345=0,D1345*E1345,)),2),\"\")","v":""}]
[{"$f":"A$1375","v":0},0,null,null,null,"",{"$f":"IFERROR(ROUND(IF(E1346=0,F1346*D1346,IF(F1346=0,D1346*E1346,)),2),\"\")","v":""}]
[0,0,null,null,null,"",""]
[0,0,null,null,null,"",""]
[0,0,null,null,null,"",""]
[0,0,null,null,null,"",""]
[0,0,null,null,null,"",""]
[0,0,null,null,null,"",""]
[0,0,null,null,null,"",""]
[0,0,null,null,null,"",""]
[0,0,null,null,null,"",""]
[0,0,null,null,null,"",""]
[0,0,null,null,null,"",""]
[0,0,null,null,null,"",""]
[0,0,null,null,null,"",""]
[{"$f":"A$1375","v":0},{"$f":"B$1375","v":0},null,null,null,"",""]
[0,0,null,null,null,"",""]
[{"$f":"A$1375","v":0},0,null,null,null,"",""]
[0,0,null,null,null,"",""]
[0,0,null,null,null,"",""]
[0,0,null,null,null,"",""]
[0,0,null,null,null,"",""]
[0,0,null,null,null,"",""]
[0,0,null,null,null,"",""]
[0,0,null,null,null,"",""]
[0,0,null,null,null,"",""]
[0,0,null,null,null,"",""]
[0,0,null,null,null,"",""]
[0,0,null,null,null,"",""]
[0,0,null,null,null,"",""]
[{"$f":"'Labor Summary (Office)'!A1375","v":0},{"$f":"'Labor Summary (Office)'!B1375","v":0},{"$f":"IF(A1375=0,\"\",A1375)","v":""},"Subtotal Line 44",null,null,null,{"$f":"ROUND(SUM(G1345:G1374),2)","v":0}]
[{"$f":"A$1406","v":0},{"$f":"B$1406","v":0},null,null,null,{"$f":"(IFERROR(VLOOKUP(C1376,Expenses_Table,2,FALSE),\"\"))","v":""},{"$f":"IFERROR(ROUND(IF(E1376=0,F1376*D1376,IF(F1376=0,D1376*E1376,)),2),\"\")","v":""}]
[{"$f":"A$1406","v":0},0,null,null,null,"",{"$f":"IFERROR(ROUND(IF(E1377=0,F1377*D1377,IF(F1377=0,D1377*E1377,)),2),\"\")","v":""}]
[0,0,null,null,null,"",""]
[0,0,null,null,null,"",""]
[0,0,null,null,null,"",""]
[0,0,null,null,null,"",""]
[0,0,null,null,null,"",""]
[0,0,null,null,null,"",""]
[0,0,null,null,null,"",""]
[0,0,null,null,null,"",""]
[0,0,null,null,null,"",""]
[0,0,null,null,null,"",""]
[0,0,null,null,null,"",""]
[0,0,null,null,null,"",""]
[0,0,null,null,null,"",""]
[{"$f":"A$1406","v":0},{"$f":"B$1406","v":0},null,null,null,"",""]
[0,0,null,null,null,"",""]
[{"$f":"A$1406","v":0},0,null,null,null,"",""]
[0,0,null,null,null,"",""]
[0,0,null,null,null,"",""]
[0,0,null,null,null,"",""]
[0,0,null,null,null,"",""]
[0,0,null,null,null,"",""]
[0,0,null,null,null,"",""]
[0,0,null,null,null,"",""]
[0,0,null,null,null,"",""]
[0,0,null,null,null,"",""]
[0,0,null,null,null,"",""]
[0,0,null,null,null,"",""]
[0,0,null,null,null,"",""]
[{"$f":"'Labor Summary (Office)'!A1406","v":0},{"$f":"'Labor Summary (Office)'!B1406","v":0},{"$f":"IF(A1406=0,\"\",A1406)","v":""},"Subtotal Line 45",null,null,null,{"$f":"ROUND(SUM(G1376:G1405),2)","v":0}]
[{"$f":"A$1437","v":0},{"$f":"B$1437","v":0},null,null,null,{"$f":"(IFERROR(VLOOKUP(C1407,Expenses_Table,2,FALSE),\"\"))","v":""},{"$f":"IFERROR(ROUND(IF(E1407=0,F1407*D1407,IF(F1407=0,D1407*E1407,)),2),\"\")","v":""}]
[{"$f":"A$1437","v":0},0,null,null,null,"",{"$f":"IFERROR(ROUND(IF(E1408=0,F1408*D1408,IF(F1408=0,D1408*E1408,)),2),\"\")","v":""}]
[0,0,null,null,null,"",""]
[0,0,null,null,null,"",""]
[0,0,null,null,null,"",""]
[0,0,null,null,null,"",""]
[0,0,null,null,null,"",""]
[0,0,null,null,null,"",""]
[0,0,null,null,null,"",""]
[0,0,null,null,null,"",""]
[0,0,null,null,null,"",""]
[0,0,null,null,null,"",""]
[0,0,null,null,null,"",""]
[0,0,null,null,null,"",""]
[0,0,null,null,null,"",""]
[{"$f":"A$1437","v":0},{"$f":"B$1437","v":0},null,null,null,"",""]
[0,0,null,null,null,"",""]
[{"$f":"A$1437","v":0},0,null,null,null,"",""]
[0,0,null,null,null,"",""]
[0,0,null,null,null,"",""]
[0,0,null,null,null,"",""]
[0,0,null,null,null,"",""]
[0,0,null,null,null,"",""]
[0,0,null,null,null,"",""]
[0,0,null,null,null,"",""]
[0,0,null,null,null,"",""]
[0,0,null,null,null,"",""]
[0,0,null,null,null,"",""]
[0,0,null,null,null,"",""]
[0,0,null,null,null,"",""]
[{"$f":"'Labor Summary (Office)'!A1437","v":0},{"$f":"'Labor Summary (Office)'!B1437","v":0},{"$f":"IF(A1437=0,\"\",A1437)","v":""},"Subtotal Line 46",null,null,null,{"$f":"ROUND(SUM(G1407:G1436),2)","v":0}]
[{"$f":"A$1468","v":0},{"$f":"B$1468","v":0},null,null,null,{"$f":"(IFERROR(VLOOKUP(C1438,Expenses_Table,2,FALSE),\"\"))","v":""},{"$f":"IFERROR(ROUND(IF(E1438=0,F1438*D1438,IF(F1438=0,D1438*E1438,)),2),\"\")","v":""}]
[{"$f":"A$1468","v":0},0,null,null,null,"",{"$f":"IFERROR(ROUND(IF(E1439=0,F1439*D1439,IF(F1439=0,D1439*E1439,)),2),\"\")","v":""}]
[0,0,null,null,null,"",""]
[0,0,null,null,null,"",""]
[0,0,null,null,null,"",""]
[0,0,null,null,null,"",""]
[0,0,null,null,null,"",""]
[0,0,null,null,null,"",""]
[0,0,null,null,null,"",""]
[0,0,null,null,null,"",""]
[0,0,null,null,null,"",""]
[0,0,null,null,null,"",""]
[0,0,null,null,null,"",""]
[0,0,null,null,null,"",""]
[0,0,null,null,null,"",""]
[{"$f":"A$1468","v":0},{"$f":"B$1468","v":0},null,null,null,"",""]
[0,0,null,null,null,"",""]
[{"$f":"A$1468","v":0},0,null,null,null,"",""]
[0,0,null,null,null,"",""]
[0,0,null,null,null,"",""]
[0,0,null,null,null,"",""]
[0,0,null,null,null,"",""]
[0,0,null,null,null,"",""]
[0,0,null,null,null,"",""]
[0,0,null,null,null,"",""]
[0,0,null,null,null,"",""]
[0,0,null,null,null,"",""]
[0,0,null,null,null,"",""]
[0,0,null,null,null,"",""]
[0,0,null,null,null,"",""]
[{"$f":"'Labor Summary (Office)'!A1468","v":0},{"$f":"'Labor Summary (Office)'!B1468","v":0},{"$f":"IF(A1468=0,\"\",A1468)","v":""},"Subtotal Line 47",null,null,null,{"$f":"ROUND(SUM(G1438:G1467),2)","v":0}]
[{"$f":"A$1499","v":0},{"$f":"B$1499","v":0},null,null,null,{"$f":"(IFERROR(VLOOKUP(C1469,Expenses_Table,2,FALSE),\"\"))","v":""},{"$f":"IFERROR(ROUND(IF(E1469=0,F1469*D1469,IF(F1469=0,D1469*E1469,)),2),\"\")","v":""}]
[{"$f":"A$1499","v":0},0,null,null,null,"",{"$f":"IFERROR(ROUND(IF(E1470=0,F1470*D1470,IF(F1470=0,D1470*E1470,)),2),\"\")","v":""}]
[0,0,null,null,null,"",""]
[0,0,null,null,null,"",""]
[0,0,null,null,null,"",""]
[0,0,null,null,null,"",""]
[0,0,null,null,null,"",""]
[0,0,null,null,null,"",""]
[0,0,null,null,null,"",""]
[0,0,null,null,null,"",""]
[0,0,null,null,null,"",""]
[0,0,null,null,null,"",""]
[0,0,null,null,null,"",""]
[0,0,null,null,null,"",""]
[0,0,null,null,null,"",""]
[{"$f":"A$1499","v":0},{"$f":"B$1499","v":0},null,null,null,"",""]
[0,0,null,null,null,"",""]
[{"$f":"A$1499","v":0},0,null,null,null,"",""]
[0,0,null,null,null,"",""]
[0,0,null,null,null,"",""]
[0,0,null,null,null,"",""]
[0,0,null,null,null,"",""]
[0,0,null,null,null,"",""]
[0,0,null,null,null,"",""]
[0,0,null,null,null,"",""]
[0,0,null,null,null,"",""]
[0,0,null,null,null,"",""]
[0,0,null,null,null,"",""]
[0,0,null,null,null,"",""]
[0,0,null,null,null,"",""]
[{"$f":"'Labor Summary (Office)'!A1499","v":0},{"$f":"'Labor Summary (Office)'!B1499","v":0},{"$f":"IF(A1499=0,\"\",A1499)","v":""},"Subtotal Line 48",null,null,null,{"$f":"ROUND(SUM(G1469:G1498),2)","v":0}]
[{"$f":"A$1530","v":0},{"$f":"B$1530","v":0},null,null,null,{"$f":"(IFERROR(VLOOKUP(C1500,Expenses_Table,2,FALSE),\"\"))","v":""},{"$f":"IFERROR(ROUND(IF(E1500=0,F1500*D1500,IF(F1500=0,D1500*E1500,)),2),\"\")","v":""}]
[{"$f":"A$1530","v":0},0,null,null,null,"",{"$f":"IFERROR(ROUND(IF(E1501=0,F1501*D1501,IF(F1501=0,D1501*E1501,)),2),\"\")","v":""}]
[0,0,null,null,null,"",""]
[0,0,null,null,null,"",""]
[0,0,null,null,null,"",""]
[0,0,null,null,null,"",""]
[0,0,null,null,null,"",""]
[0,0,null,null,null,"",""]
[0,0,null,null,null,"",""]
[0,0,null,null,null,"",""]
[0,0,null,null,null,"",""]
[0,0,null,null,null,"",""]
[0,0,null,null,null,"",""]
[0,0,null,null,null,"",""]
[0,0,null,null,null,"",""]
[{"$f":"A$1530","v":0},{"$f":"B$1530","v":0},null,null,null,"",""]
[0,0,null,null,null,"",""]
[{"$f":"A$1530","v":0},0,null,null,null,"",""]
[0,0,null,null,null,"",""]
[0,0,null,null,null,"",""]
[0,0,null,null,null,"",""]
[0,0,null,null,null,"",""]
[0,0,null,null,null,"",""]
[0,0,null,null,null,"",""]
[0,0,null,null,null,"",""]
[0,0,null,null,null,"",""]
[0,0,null,null,null,"",""]
[0,0,null,null,null,"",""]
[0,0,null,null,null,"",""]
[0,0,null,null,null,"",""]
[{"$f":"'Labor Summary (Office)'!A1530","v":0},{"$f":"'Labor Summary (Office)'!B1530","v":0},{"$f":"IF(A1530=0,\"\",A1530)","v":""},"Subtotal Line 49",null,null,null,{"$f":"ROUND(SUM(G1500:G1529),2)","v":0}]
[{"$f":"A$1561","v":0},{"$f":"B$1561","v":0},null,null,null,{"$f":"(IFERROR(VLOOKUP(C1531,Expenses_Table,2,FALSE),\"\"))","v":""},{"$f":"IFERROR(ROUND(IF(E1531=0,F1531*D1531,IF(F1531=0,D1531*E1531,)),2),\"\")","v":""}]
[{"$f":"A$1561","v":0},0,null,null,null,"",{"$f":"IFERROR(ROUND(IF(E1532=0,F1532*D1532,IF(F1532=0,D1532*E1532,)),2),\"\")","v":""}]
[0,0,null,null,null,"",""]
[0,0,null,null,null,"",""]
[0,0,null,null,null,"",""]
[0,0,null,null,null,"",""]
[0,0,null,null,null,"",""]
[0,0,null,null,null,"",""]
[0,0,null,null,null,"",""]
[0,0,null,null,null,"",""]
[0,0,null,null,null,"",""]
[0,0,null,null,null,"",""]
[0,0,null,null,null,"",""]
[0,0,null,null,null,"",""]
[0,0,null,null,null,"",""]
[{"$f":"A$1561","v":0},{"$f":"B$1561","v":0},null,null,null,"",""]
[0,0,null,null,null,"",""]
[{"$f":"A$1561","v":0},0,null,null,null,"",""]
[0,0,null,null,null,"",""]
[0,0,null,null,null,"",""]
[0,0,null,null,null,"",""]
[0,0,null,null,null,"",""]
[0,0,null,null,null,"",""]
[0,0,null,null,null,"",""]
[0,0,null,null,null,"",""]
[0,0,null,null,null,"",""]
[0,0,null,null,null,"",""]
[0,0,null,null,null,"",""]
[0,0,null,null,null,"",""]
[0,0,null,null,null,"",""]
[{"$f":"'Labor Summary (Office)'!A1561","v":0},{"$f":"'Labor Summary (Office)'!B1561","v":0},{"$f":"IF(A1561=0,\"\",A1561)","v":""},"Subtotal Line 50",null,null,null,{"$f":"ROUND(SUM(G1531:G1560),2)","v":0}]
["Total ODE Summary",null,"Total",null,null,null,null,{"$f":"SUM(H12:H1561)","v":0}]

{"sheet":"TE Summary","index":10,"n_rows":1567,"n_cols":20,"rows_kept":1567,"cut":false,"hidden":false,"merged":[[1183,3,1183,4],[1184,3,1184,4],[1185,3,1185,4],[1186,3,1186,4],[1187,3,1187,4],[1188,3,1188,4],[1177,3,1177,4],[1560,3,1560,4],[1561,3,1561,4],[1543,3,1543,4],[1544,3,1544,4],[1545,3,1545,4],[1546,3,1546,4],[1547,3,1547,4],[1548,3,1548,4],[1549,3,1549,4],[1550,3,1550,4],[1551,3,1551,4],[1552,3,1552,4],[1553,3,1553,4],[1554,3,1554,4],[1555,3,1555,4],[1556,3,1556,4],[1557,3,1557,4],[1558,3,1558,4],[1559,3,1559,4],[1537,3,1537,4],[1189,3,1189,4],[1207,3,1207,4],[1208,3,1208,4],[1209,3,1209,4],[1210,3,1210,4],[1148,3,1148,4],[1149,3,1149,4],[1150,3,1150,4],[1151,3,1151,4],[1152,3,1152,4],[1141,3,1141,4],[1142,3,1142,4],[1143,3,1143,4],[964,3,964,4],[965,3,965,4],[966,3,966,4],[967,3,967,4],[968,3,968,4],[969,3,969,4],[970,3,970,4],[971,3,971,4],[972,3,972,4],[974,3,974,4],[975,3,975,4],[976,3,976,4],[977,3,977,4],[978,3,978,4],[1009,3,1009,4],[1010,3,1010,4],[1123,3,1123,4],[1124,3,1124,4],[1125,3,1125,4],[1126,3,1126,4],[1127,3,1127,4],[1018,3,1018,4],[1019,3,1019,4],[1020,3,1020,4],[961,3,961,4],[962,3,962,4],[963,3,963,4],[595,3,595,4],[596,3,596,4],[597,3,597,4],[598,3,598,4],[599,3,599,4],[600,3,600,4],[589,3,589,4],[590,3,590,4],[591,3,591,4],[592,3,592,4],[593,3,593,4],[594,3,594,4],[583,3,583,4],[584,3,584,4],[585,3,585,4],[586,3,586,4],[587,3,587,4],[588,3,588,4],[613,3,613,4],[614,3,614,4],[615,3,615,4],[616,3,616,4],[617,3,617,4],[618,3,618,4],[607,3,607,4],[608,3,608,4],[609,3,609,4],[610,3,610,4],[611,3,611,4],[483,3,483,4],[484,3,484,4],[485,3,485,4],[486,3,486,4],[523,3,523,4],[524,3,524,4],[525,3,525,4],[526,3,526,4],[527,3,527,4],[528,3,528,4],[517,3,517,4],[518,3,518,4],[519,3,519,4],[520,3,520,4],[521,3,521,4],[522,3,522,4],[511,3,511,4],[512,3,512,4],[513,3,513,4],[514,3,514,4],[515,3,515,4],[516,3,516,4],[408,3,408,4],[409,3,409,4],[410,3,410,4],[411,3,411,4],[412,3,412,4],[413,3,413,4],[414,3,414,4],[416,3,416,4],[417,3,417,4],[418,3,418,4],[419,3,419,4],[420,3,420,4],[451,3,451,4],[452,3,452,4],[453,3,453,4],[454,3,454,4],[455,3,455,4],[445,3,445,4],[17,3,17,4],[18,3,18,4],[19,3,19,4],[20,3,20,4],[21,3,21,4],[22,3,22,4],[23,3,23,4],[24,3,24,4],[403,3,403,4],[404,3,404,4],[405,3,405,4],[406,3,406,4],[407,3,407,4],[40,3,40,4],[41,3,41,4],[42,3,42,4],[55,3,55,4],[56,3,56,4],[57,3,57,4],[58,3,58,4],[59,3,59,4],[60,3,60,4],[49,3,49,4],[50,3,50,4],[51,3,51,4],[52,3,52,4],[53,3,53,4],[54,3,54,4],[91,3,91,4],[92,3,92,4],[93,3,93,4],[94,3,94,4],[8,11,9,12],[4,0,4,9],[6,0,6,9],[8,0,8,1],[8,2,8,4],[8,5,8,6],[8,7,8,9],[9,0,9,1],[9,2,9,4],[9,5,9,6],[9,7,9,9],[10,0,10,9],[12,3,12,4],[37,3,37,4],[38,3,38,4],[39,3,39,4],[31,3,31,4],[32,3,32,4],[33,3,33,4],[34,3,34,4],[35,3,35,4],[36,3,36,4],[25,3,25,4],[26,3,26,4],[27,3,27,4],[28,3,28,4],[29,3,29,4],[30,3,30,4],[13,3,13,4],[14,3,14,4],[15,3,15,4],[16,3,16,4],[74,17,74,18],[44,3,44,4],[45,3,45,4],[46,3,46,4],[47,3,47,4],[48,3,48,4],[73,3,73,4],[75,3,75,4],[76,3,76,4],[77,3,77,4],[78,3,78,4],[67,3,67,4],[68,3,68,4],[69,3,69,4],[70,3,70,4],[71,3,71,4],[72,3,72,4],[61,3,61,4],[62,3,62,4],[63,3,63,4],[64,3,64,4],[65,3,65,4],[66,3,66,4],[95,3,95,4],[96,3,96,4],[85,3,85,4],[86,3,86,4],[87,3,87,4],[88,3,88,4],[89,3,89,4],[90,3,90,4],[79,3,79,4],[80,3,80,4],[81,3,81,4],[82,3,82,4],[83,3,83,4],[84,3,84,4],[109,3,109,4],[110,3,110,4],[111,3,111,4],[112,3,112,4],[113,3,113,4],[114,3,114,4],[103,3,103,4],[104,3,104,4],[105,17,105,18],[106,3,106,4],[107,3,107,4],[108,3,108,4],[97,3,97,4],[98,3,98,4],[99,3,99,4],[100,3,100,4],[101,3,101,4],[102,3,102,4],[127,3,127,4],[128,3,128,4],[129,3,129,4],[130,3,130,4],[131,3,131,4],[132,3,132,4],[121,3,121,4],[122,3,122,4],[123,3,123,4],[124,3,124,4],[125,3,125,4],[126,3,126,4],[115,3,115,4],[116,3,116,4],[117,3,117,4],[118,3,118,4],[119,3,119,4],[120,3,120,4],[145,3,145,4],[146,3,146,4],[147,3,147,4],[148,3,148,4],[149,3,149,4],[150,3,150,4],[139,3,139,4],[140,3,140,4],[141,3,141,4],[142,3,142,4],[143,3,143,4],[144,3,144,4],[133,3,133,4],[134,3,134,4],[135,3,135,4],[137,3,137,4],[138,3,138,4],[163,3,163,4],[164,3,164,4],[165,3,165,4],[166,3,166,4],[168,3,168,4],[157,3,157,4],[158,3,158,4],[159,3,159,4],[160,3,160,4],[161,3,161,4],[162,3,162,4],[151,3,151,4],[152,3,152,4],[153,3,153,4],[154,3,154,4],[155,3,155,4],[156,3,156,4],[181,3,181,4],[182,3,182,4],[183,3,183,4],[184,3,184,4],[185,3,185,4],[186,3,186,4],[175,3,175,4],[176,3,176,4],[177,3,177,4],[178,3,178,4],[179,3,179,4],[180,3,180,4],[169,3,169,4],[170,3,170,4],[171,3,171,4],[172,3,172,4],[173,3,173,4],[174,3,174,4],[199,3,199,4],[200,3,200,4],[201,3,201,4],[202,3,202,4],[203,3,203,4],[204,3,204,4],[193,3,193,4],[194,3,194,4],[195,3,195,4],[196,3,196,4],[197,3,197,4],[198,17,198,18],[187,3,187,4],[188,3,188,4],[189,3,189,4],[190,3,190,4],[191,3,191,4],[192,3,192,4],[217,3,217,4],[218,3,218,4],[219,3,219,4],[220,3,220,4],[221,3,221,4],[222,3,222,4],[211,3,211,4],[212,3,212,4],[213,3,213,4],[214,3,214,4],[215,3,215,4],[216,3,216,4],[205,3,205,4],[206,3,206,4],[207,3,207,4],[208,3,208,4],[209,3,209,4],[210,3,210,4],[235,3,235,4],[236,3,236,4],[237,3,237,4],[238,3,238,4],[239,3,239,4],[240,3,240,4],[229,17,229,18],[230,3,230,4],[231,3,231,4],[232,3,232,4],[233,3,233,4],[234,3,234,4],[223,3,223,4],[224,3,224,4],[225,3,225,4],[226,3,226,4],[227,3,227,4],[228,3,228,4],[253,3,253,4],[254,3,254,4],[255,3,255,4],[256,3,256,4],[257,3,257,4],[258,3,258,4],[247,3,247,4],[248,3,248,4],[249,3,249,4],[250,3,250,4],[251,3,251,4],[252,3,252,4],[241,3,241,4],[242,3,242,4],[243,3,243,4],[244,3,244,4],[245,3,245,4],[246,3,246,4],[271,3,271,4],[272,3,272,4],[273,3,273,4],[274,3,274,4],[275,3,275,4],[276,3,276,4],[265,3,265,4],[266,3,266,4],[267,3,267,4],[268,3,268,4],[269,3,269,4],[270,3,270,4],[259,3,259,4],[260,17,260,18],[261,3,261,4],[262,3,262,4],[263,3,263,4],[264,3,264,4],[289,3,289,4],[290,3,290,4],[291,17,291,18],[292,3,292,4],[293,3,293,4],[294,3,294,4],[283,3,283,4],[284,3,284,4],[285,3,285,4],[286,3,286,4],[287,3,287,4],[288,3,288,4],[277,3,277,4],[278,3,278,4],[279,3,279,4],[280,3,280,4],[281,3,281,4],[282,3,282,4],[307,3,307,4],[308,3,308,4],[309,3,309,4],[310,3,310,4],[311,3,311,4],[312,3,312,4],[301,3,301,4],[302,3,302,4],[303,3,303,4],[304,3,304,4],[305,3,305,4],[306,3,306,4],[295,3,295,4],[296,3,296,4],[297,3,297,4],[298,3,298,4],[299,3,299,4],[300,3,300,4],[325,3,325,4],[326,3,326,4],[327,3,327,4],[328,3,328,4],[329,3,329,4],[330,3,330,4],[319,3,319,4],[320,3,320,4],[321,3,321,4],[322,17,322,18],[323,3,323,4],[324,3,324,4],[313,3,313,4],[314,3,314,4],[315,3,315,4],[316,3,316,4],[317,3,317,4],[318,3,318,4],[343,3,343,4],[344,3,344,4],[345,3,345,4],[346,3,346,4],[347,3,347,4],[348,3,348,4],[337,3,337,4],[338,3,338,4],[339,3,339,4],[340,3,340,4],[341,3,341,4],[342,3,342,4],[331,3,331,4],[332,3,332,4],[333,3,333,4],[334,3,334,4],[335,3,335,4],[336,3,336,4],[361,3,361,4],[362,3,362,4],[363,3,363,4],[364,3,364,4],[365,3,365,4],[366,3,366,4],[355,3,355,4],[356,3,356,4],[357,3,357,4],[358,3,358,4],[359,3,359,4],[360,3,360,4],[349,3,349,4],[350,3,350,4],[351,3,351,4],[352,3,352,4],[353,17,353,18],[354,3,354,4],[379,3,379,4],[380,3,380,4],[381,3,381,4],[382,3,382,4],[383,3,383,4],[384,17,384,18],[373,3,373,4],[374,3,374,4],[375,3,375,4],[376,3,376,4],[377,3,377,4],[378,3,378,4],[367,3,367,4],[368,3,368,4],[369,3,369,4],[370,3,370,4],[371,3,371,4],[372,3,372,4],[397,3,397,4],[398,3,398,4],[399,3,399,4],[400,3,400,4],[401,3,401,4],[402,3,402,4],[391,3,391,4],[392,3,392,4],[393,3,393,4],[394,3,394,4],[395,3,395,4],[396,3,396,4],[385,3,385,4],[386,3,386,4],[387,3,387,4],[388,3,388,4],[389,3,389,4],[390,3,390,4],[415,17,415,18],[433,3,433,4],[434,3,434,4],[435,3,435,4],[436,3,436,4],[437,3,437,4],[438,3,438,4],[427,3,427,4],[428,3,428,4],[429,3,429,4],[430,3,430,4],[431,3,431,4],[432,3,432,4],[421,3,421,4],[422,3,422,4],[423,3,423,4],[424,3,424,4],[425,3,425,4],[426,3,426,4],[446,17,446,18],[447,3,447,4],[448,3,448,4],[449,3,449,4],[450,3,450,4],[439,3,439,4],[440,3,440,4],[441,3,441,4],[442,3,442,4],[443,3,443,4],[444,3,444,4],[469,3,469,4],[470,3,470,4],[471,3,471,4],[472,3,472,4],[473,3,473,4],[474,3,474,4],[463,3,463,4],[464,3,464,4],[465,3,465,4],[466,3,466,4],[467,3,467,4],[468,3,468,4],[457,3,457,4],[458,3,458,4],[459,3,459,4],[460,3,460,4],[461,3,461,4],[462,3,462,4],[456,3,456,4],[475,3,475,4],[476,3,476,4],[477,17,477,18],[478,3,478,4],[479,3,479,4],[480,3,480,4],[505,3,505,4],[506,3,506,4],[507,3,507,4],[508,17,508,18],[509,3,509,4],[510,3,510,4],[499,3,499,4],[500,3,500,4],[501,3,501,4],[502,3,502,4],[503,3,503,4],[504,3,504,4],[493,3,493,4],[494,3,494,4],[495,3,495,4],[496,3,496,4],[497,3,497,4],[498,3,498,4],[487,3,487,4],[488,3,488,4],[489,3,489,4],[490,3,490,4],[491,3,491,4],[492,3,492,4],[481,3,481,4],[482,3,482,4],[535,3,535,4],[536,3,536,4],[537,3,537,4],[538,3,538,4],[565,3,565,4],[539,17,539,18],[540,3,540,4],[529,3,529,4],[530,3,530,4],[531,3,531,4],[532,3,532,4],[533,3,533,4],[534,3,534,4],[560,3,560,4],[561,3,561,4],[562,3,562,4],[563,3,563,4],[564,3,564,4],[547,3,547,4],[548,3,548,4],[549,3,549,4],[550,3,550,4],[551,3,551,4],[552,3,552,4],[553,3,553,4],[554,3,554,4],[555,3,555,4],[556,3,556,4],[557,3,557,4],[558,3,558,4],[559,3,559,4],[541,3,541,4],[623,3,623,4],[624,3,624,4],[582,3,582,4],[571,3,571,4],[572,3,572,4],[573,3,573,4],[574,3,574,4],[575,3,575,4],[576,3,576,4],[566,3,566,4],[567,3,567,4],[568,3,568,4],[569,3,569,4],[542,3,542,4],[543,3,543,4],[544,3,544,4],[545,3,545,4],[546,3,546,4],[612,3,612,4],[601,17,601,18],[602,3,602,4],[603,3,603,4],[604,3,604,4],[605,3,605,4],[606,3,606,4],[570,17,570,18],[577,3,577,4],[578,3,578,4],[579,3,579,4],[580,3,580,4],[581,3,581,4],[649,3,649,4],[650,3,650,4],[651,3,651,4],[652,3,652,4],[631,3,631,4],[632,17,632,18],[633,3,633,4],[634,3,634,4],[635,3,635,4],[636,3,636,4],[625,3,625,4],[626,3,626,4],[627,3,627,4],[628,3,628,4],[629,3,629,4],[630,3,630,4],[619,3,619,4],[620,3,620,4],[621,3,621,4],[622,3,622,4],[653,3,653,4],[654,3,654,4],[643,3,643,4],[644,3,644,4],[645,3,645,4],[646,3,646,4],[647,3,647,4],[648,3,648,4],[637,3,637,4],[638,3,638,4],[639,3,639,4],[640,3,640,4],[641,3,641,4],[642,3,642,4],[667,3,667,4],[668,3,668,4],[669,3,669,4],[670,3,670,4],[671,3,671,4],[672,3,672,4],[661,3,661,4],[662,3,662,4],[663,17,663,18],[664,3,664,4],[665,3,665,4],[666,3,666,4],[655,3,655,4],[656,3,656,4],[657,3,657,4],[658,3,658,4],[659,3,659,4],[660,3,660,4],[685,3,685,4],[686,3,686,4],[687,3,687,4],[688,3,688,4],[689,3,689,4],[690,3,690,4],[679,3,679,4],[680,3,680,4],[681,3,681,4],[682,3,682,4],[683,3,683,4],[684,3,684,4],[673,3,673,4],[674,3,674,4],[675,3,675,4],[676,3,676,4],[677,3,677,4],[678,3,678,4],[703,3,703,4],[704,3,704,4],[705,3,705,4],[706,3,706,4],[707,3,707,4],[708,3,708,4],[697,3,697,4],[698,3,698,4],[699,3,699,4],[700,3,700,4],[701,3,701,4],[702,3,702,4],[691,3,691,4],[692,3,692,4],[693,3,693,4],[694,17,694,18],[695,3,695,4],[696,3,696,4],[721,3,721,4],[722,3,722,4],[723,3,723,4],[724,3,724,4],[725,17,725,18],[726,3,726,4],[715,3,715,4],[716,3,716,4],[717,3,717,4],[718,3,718,4],[719,3,719,4],[720,3,720,4],[709,3,709,4],[710,3,710,4],[711,3,711,4],[712,3,712,4],[713,3,713,4],[714,3,714,4],[739,3,739,4],[740,3,740,4],[741,3,741,4],[742,3,742,4],[743,3,743,4],[744,3,744,4],[733,3,733,4],[734,3,734,4],[735,3,735,4],[736,3,736,4],[737,3,737,4],[738,3,738,4],[727,3,727,4],[728,3,728,4],[729,3,729,4],[730,3,730,4],[731,3,731,4],[732,3,732,4],[757,3,757,4],[758,3,758,4],[759,3,759,4],[760,3,760,4],[761,3,761,4],[762,3,762,4],[751,3,751,4],[752,3,752,4],[753,3,753,4],[754,3,754,4],[755,3,755,4],[756,17,756,18],[745,3,745,4],[746,3,746,4],[747,3,747,4],[748,3,748,4],[749,3,749,4],[750,3,750,4],[775,3,775,4],[776,3,776,4],[777,3,777,4],[778,3,778,4],[779,3,779,4],[780,3,780,4],[769,3,769,4],[770,3,770,4],[771,3,771,4],[772,3,772,4],[773,3,773,4],[774,3,774,4],[763,3,763,4],[764,3,764,4],[765,3,765,4],[766,3,766,4],[767,3,767,4],[768,3,768,4],[793,3,793,4],[794,3,794,4],[795,3,795,4],[796,3,796,4],[797,3,797,4],[798,3,798,4],[787,17,787,18],[788,3,788,4],[789,3,789,4],[790,3,790,4],[791,3,791,4],[792,3,792,4],[781,3,781,4],[782,3,782,4],[783,3,783,4],[784,3,784,4],[785,3,785,4],[786,3,786,4],[811,3,811,4],[812,3,812,4],[813,3,813,4],[814,3,814,4],[815,3,815,4],[816,3,816,4],[805,3,805,4],[806,3,806,4],[807,3,807,4],[808,3,808,4],[809,3,809,4],[810,3,810,4],[799,3,799,4],[800,3,800,4],[801,3,801,4],[802,3,802,4],[803,3,803,4],[804,3,804,4],[829,3,829,4],[830,3,830,4],[831,3,831,4],[832,3,832,4],[833,3,833,4],[834,3,834,4],[823,3,823,4],[824,3,824,4],[825,3,825,4],[826,3,826,4],[827,3,827,4],[828,3,828,4],[817,3,817,4],[818,17,818,18],[819,3,819,4],[820,3,820,4],[821,3,821,4],[822,3,822,4],[847,3,847,4],[848,3,848,4],[849,17,849,18],[850,3,850,4],[851,3,851,4],[852,3,852,4],[841,3,841,4],[842,3,842,4],[843,3,843,4],[844,3,844,4],[845,3,845,4],[846,3,846,4],[835,3,835,4],[836,3,836,4],[837,3,837,4],[838,3,838,4],[839,3,839,4],[840,3,840,4],[865,3,865,4],[866,3,866,4],[867,3,867,4],[868,3,868,4],[869,3,869,4],[870,3,870,4],[859,3,859,4],[860,3,860,4],[861,3,861,4],[862,3,862,4],[863,3,863,4],[864,3,864,4],[853,3,853,4],[854,3,854,4],[855,3,855,4],[856,3,856,4],[857,3,857,4],[858,3,858,4],[883,3,883,4],[884,3,884,4],[885,3,885,4],[886,3,886,4],[887,3,887,4],[888,3,888,4],[877,3,877,4],[878,3,878,4],[879,3,879,4],[880,17,880,18],[881,3,881,4],[882,3,882,4],[871,3,871,4],[872,3,872,4],[873,3,873,4],[874,3,874,4],[875,3,875,4],[876,3,876,4],[901,3,901,4],[902,3,902,4],[903,3,903,4],[904,3,904,4],[905,3,905,4],[906,3,906,4],[895,3,895,4],[896,3,896,4],[897,3,897,4],[898,3,898,4],[899,3,899,4],[900,3,900,4],[889,3,889,4],[890,3,890,4],[891,3,891,4],[892,3,892,4],[893,3,893,4],[894,3,894,4],[919,3,919,4],[920,3,920,4],[921,3,921,4],[922,3,922,4],[923,3,923,4],[924,3,924,4],[913,3,913,4],[914,3,914,4],[915,3,915,4],[916,3,916,4],[917,3,917,4],[918,3,918,4],[907,3,907,4],[908,3,908,4],[909,3,909,4],[910,3,910,4],[911,17,911,18],[912,3,912,4],[937,3,937,4],[938,3,938,4],[939,3,939,4],[940,3,940,4],[941,3,941,4],[942,17,942,18],[931,3,931,4],[932,3,932,4],[933,3,933,4],[934,3,934,4],[935,3,935,4]],"merged_total":1570,"flags":["merged_cut"]}
[null,null,null,null,null,null,null,null,null,null,null,null,"Monthly Submittal Cell"]
[null,null,null,null,null,null,null,null,null,null,null,"Instructions","Click link to see instructions for this tab"]
[null,null,null,null,null,null,null,null,"Provider Invoice No.  ",{"$f":"Invoice!G1","v":0}]
[null,null,null,null,null,null,null,null,"Combined Invoice Template Log No.  ",{"$f":"Invoice!G2","v":0}]
[]
[]
["TRAVEL EXPENSE SUMMARY"]
["Cost Plus Fixed Fee Payment Method"]
["Provider Name:",null,{"$f":"Invoice!C7","v":0},null,null,"Legacy Contract No.  ",null,{"$f":"Invoice!F7","v":0},null,null,null,"Current State Mileage Reimbursement Rate ",null,0.57499999999999996]
["Provider ID No.  ",null,{"$f":"Invoice!C8","v":0},null,null,"Legacy WA No.",null,{"$f":"Invoice!F10","v":0}]
["Travel Expense Breakdown:"]
[null,null,null,null,null,null,null,"Lodging (Per Night Per Person)",null,null,"Meals (Per Diem)",null,"Mileage (Per Trip or Per Day)",null,"Rental Car","Rental Car Fuel","Parking Fees","Toll Charges","Taxi/Cab Fare"]
["Project\n(CSJ or Detail No.)","Source (Legacy FC) ","Emp Name\n(Acronym)","Start Date",null,"End Date","Air Travel (Round Trip Per Person)","Amount","Taxes","Total","Day No.","Amount","No. of Miles","Amount","Per Trip or Per Day (Tax, Fees Incl.)","Per Day or Per Trip","Per Day or Per Trip","Per Day or Per Trip","Amount","Line Total"]
[{"$f":"'Labor Summary (Office)'!A12","v":0},{"$f":"'Labor Summary (Office)'!B12","v":0},null,null,null,null,null,null,null,{"$f":"I14+H14","v":0},null,null,null,{"$f":"ROUND(M14*$N$9,2)","v":0},null,null,null,null,null,{"$f":"ROUND((G14+J14+L14+N14+O14+P14+Q14+R14+S14),2)","v":0}]
[{"$f":"'Labor Summary (Office)'!A13","v":0},{"$f":"'Labor Summary (Office)'!B13","v":0},null,null,null,null,null,null,null,{"$f":"I15+H15","v":0},null,null,null,{"$f":"ROUND(M15*$N$9,2)","v":0},null,null,null,null,null,{"$f":"ROUND((G15+J15+L15+N15+O15+P15+Q15+R15+S15),2)","v":0}]
[{"$f":"'Labor Summary (Office)'!A14","v":0},{"$f":"'Labor Summary (Office)'!B14","v":0},null,null,null,null,null,null,null,0,null,null,null,0,null,null,null,null,null,0]
[{"$f":"'Labor Summary (Office)'!A15","v":0},{"$f":"'Labor Summary (Office)'!B15","v":0},null,null,null,null,null,null,null,0,null,null,null,0,null,null,null,null,null,0]
[{"$f":"'Labor Summary (Office)'!A16","v":0},{"$f":"'Labor Summary (Office)'!B16","v":0},null,null,null,null,null,null,null,0,null,null,null,0,null,null,null,null,null,0]
[{"$f":"'Labor Summary (Office)'!A17","v":0},{"$f":"'Labor Summary (Office)'!B17","v":0},null,null,null,null,null,null,null,0,null,null,null,0,null,null,null,null,null,0]
[{"$f":"'Labor Summary (Office)'!A18","v":0},{"$f":"'Labor Summary (Office)'!B18","v":0},null,null,null,null,null,null,null,0,null,null,null,0,null,null,null,null,null,0]
[{"$f":"'Labor Summary (Office)'!A19","v":0},{"$f":"'Labor Summary (Office)'!B19","v":0},null,null,null,null,null,null,null,0,null,null,null,0,null,null,null,null,null,0]
[{"$f":"'Labor Summary (Office)'!A20","v":0},{"$f":"'Labor Summary (Office)'!B20","v":0},null,null,null,null,null,null,null,0,null,null,null,0,null,null,null,null,null,0]
[{"$f":"'Labor Summary (Office)'!A21","v":0},{"$f":"'Labor Summary (Office)'!B21","v":0},null,null,null,null,null,null,null,0,null,null,null,0,null,null,null,null,null,0]
[{"$f":"'Labor Summary (Office)'!A22","v":0},{"$f":"'Labor Summary (Office)'!B22","v":0},null,null,null,null,null,null,null,0,null,null,null,0,null,null,null,null,null,0]
[{"$f":"'Labor Summary (Office)'!A23","v":0},{"$f":"'Labor Summary (Office)'!B23","v":0},null,null,null,null,null,null,null,0,null,null,null,0,null,null,null,null,null,0]
[{"$f":"'Labor Summary (Office)'!A24","v":0},{"$f":"'Labor Summary (Office)'!B24","v":0},null,null,null,null,null,null,null,0,null,null,null,0,null,null,null,null,null,0]
[{"$f":"'Labor Summary (Office)'!A25","v":0},{"$f":"'Labor Summary (Office)'!B25","v":0},null,null,null,null,null,null,null,0,null,null,null,0,null,null,null,null,null,0]
[{"$f":"'Labor Summary (Office)'!A26","v":0},{"$f":"'Labor Summary (Office)'!B26","v":0},null,null,null,null,null,null,null,0,null,null,null,0,null,null,null,null,null,0]
[{"$f":"'Labor Summary (Office)'!A27","v":0},{"$f":"'Labor Summary (Office)'!B27","v":0},null,null,null,null,null,null,null,0,null,null,null,0,null,null,null,null,null,0]
[{"$f":"'Labor Summary (Office)'!A28","v":0},{"$f":"'Labor Summary (Office)'!B28","v":0},null,null,null,null,null,null,null,0,null,null,null,0,null,null,null,null,null,0]
[{"$f":"'Labor Summary (Office)'!A29","v":0},{"$f":"'Labor Summary (Office)'!B29","v":0},null,null,null,null,null,null,null,0,null,null,null,0,null,null,null,null,null,0]
[{"$f":"'Labor Summary (Office)'!A30","v":0},{"$f":"'Labor Summary (Office)'!B30","v":0},null,null,null,null,null,null,null,0,null,null,null,0,null,null,null,null,null,0]
[{"$f":"'Labor Summary (Office)'!A31","v":0},{"$f":"'Labor Summary (Office)'!B31","v":0},null,null,null,null,null,null,null,0,null,null,null,0,null,null,null,null,null,0]
[{"$f":"'Labor Summary (Office)'!A32","v":0},{"$f":"'Labor Summary (Office)'!B32","v":0},null,null,null,null,null,null,null,0,null,null,null,0,null,null,null,null,null,0]
[{"$f":"'Labor Summary (Office)'!A33","v":0},{"$f":"'Labor Summary (Office)'!B33","v":0},null,null,null,null,null,null,null,0,null,null,null,0,null,null,null,null,null,0]
[{"$f":"'Labor Summary (Office)'!A34","v":0},{"$f":"'Labor Summary (Office)'!B34","v":0},null,null,null,null,null,null,null,0,null,null,null,0,null,null,null,null,null,0]
[{"$f":"'Labor Summary (Office)'!A35","v":0},{"$f":"'Labor Summary (Office)'!B35","v":0},null,null,null,null,null,null,null,0,null,null,null,0,null,null,null,null,null,0]
[{"$f":"'Labor Summary (Office)'!A36","v":0},{"$f":"'Labor Summary (Office)'!B36","v":0},null,null,null,null,null,null,null,0,null,null,null,0,null,null,null,null,null,0]
[{"$f":"'Labor Summary (Office)'!A37","v":0},{"$f":"'Labor Summary (Office)'!B37","v":0},null,null,null,null,null,null,null,0,null,null,null,0,null,null,null,null,null,0]
[{"$f":"'Labor Summary (Office)'!A38","v":0},{"$f":"'Labor Summary (Office)'!B38","v":0},null,null,null,null,null,null,null,0,null,null,null,0,null,null,null,null,null,0]
[{"$f":"'Labor Summary (Office)'!A39","v":0},{"$f":"'Labor Summary (Office)'!B39","v":0},null,null,null,null,null,null,null,0,null,null,null,0,null,null,null,null,null,0]
[{"$f":"'Labor Summary (Office)'!A40","v":0},{"$f":"'Labor Summary (Office)'!B40","v":0},null,null,null,null,null,null,null,0,null,null,null,0,null,null,null,null,null,0]
[{"$f":"'Labor Summary (Office)'!A41","v":0},{"$f":"'Labor Summary (Office)'!B41","v":0},null,null,null,null,null,null,null,0,null,null,null,0,null,null,null,null,null,0]
[{"$f":"'Labor Summary (Office)'!A42","v":0},{"$f":"'Labor Summary (Office)'!B42","v":0},{"$f":"IF(A44=0,\"\",A44)","v":""},null,null,null,null,null,null,null,null,null,null,null,null,null,null,"Subtotal Line 1",null,{"$f":"ROUND(SUM(T14:T43),2)","v":0}]
[{"$f":"'Labor Summary (Office)'!A43","v":0},{"$f":"'Labor Summary (Office)'!B43","v":0},null,null,null,null,null,null,null,0,null,null,null,{"$f":"ROUND(M45*$N$9,2)","v":0},null,null,null,null,null,0]
[{"$f":"'Labor Summary (Office)'!A44","v":0},{"$f":"'Labor Summary (Office)'!B44","v":0},null,null,null,null,null,null,null,0,null,null,null,{"$f":"ROUND(M46*$N$9,2)","v":0},null,null,null,null,null,0]
[{"$f":"'Labor Summary (Office)'!A45","v":0},{"$f":"'Labor Summary (Office)'!B45","v":0},null,null,null,null,null,null,null,0,null,null,null,0,null,null,null,null,null,0]
[{"$f":"'Labor Summary (Office)'!A46","v":0},{"$f":"'Labor Summary (Office)'!B46","v":0},null,null,null,null,null,null,null,0,null,null,null,0,null,null,null,null,null,0]
[{"$f":"'Labor Summary (Office)'!A47","v":0},{"$f":"'Labor Summary (Office)'!B47","v":0},null,null,null,null,null,null,null,0,null,null,null,0,null,null,null,null,null,0]
[{"$f":"'Labor Summary (Office)'!A48","v":0},{"$f":"'Labor Summary (Office)'!B48","v":0},null,null,null,null,null,null,null,0,null,null,null,0,null,null,null,null,null,0]
[{"$f":"'Labor Summary (Office)'!A49","v":0},{"$f":"'Labor Summary (Office)'!B49","v":0},null,null,null,null,null,null,null,0,null,null,null,0,null,null,null,null,null,0]
[{"$f":"'Labor Summary (Office)'!A50","v":0},{"$f":"'Labor Summary (Office)'!B50","v":0},null,null,null,null,null,null,null,0,null,null,null,0,null,null,null,null,null,0]
[{"$f":"'Labor Summary (Office)'!A51","v":0},{"$f":"'Labor Summary (Office)'!B51","v":0},null,null,null,null,null,null,null,0,null,null,null,0,null,null,null,null,null,0]
[{"$f":"'Labor Summary (Office)'!A52","v":0},{"$f":"'Labor Summary (Office)'!B52","v":0},null,null,null,null,null,null,null,0,null,null,null,0,null,null,null,null,null,0]
[{"$f":"'Labor Summary (Office)'!A53","v":0},{"$f":"'Labor Summary (Office)'!B53","v":0},null,null,null,null,null,null,null,0,null,null,null,0,null,null,null,null,null,0]
[{"$f":"'Labor Summary (Office)'!A54","v":0},{"$f":"'Labor Summary (Office)'!B54","v":0},null,null,null,null,null,null,null,0,null,null,null,0,null,null,null,null,null,0]
[{"$f":"'Labor Summary (Office)'!A55","v":0},{"$f":"'Labor Summary (Office)'!B55","v":0},null,null,null,null,null,null,null,0,null,null,null,0,null,null,null,null,null,0]
[{"$f":"'Labor Summary (Office)'!A56","v":0},{"$f":"'Labor Summary (Office)'!B56","v":0},null,null,null,null,null,null,null,0,null,null,null,0,null,null,null,null,null,0]
[{"$f":"'Labor Summary (Office)'!A57","v":0},{"$f":"'Labor Summary (Office)'!B57","v":0},null,null,null,null,null,null,null,0,null,null,null,0,null,null,null,null,null,0]
[{"$f":"'Labor Summary (Office)'!A58","v":0},{"$f":"'Labor Summary (Office)'!B58","v":0},null,null,null,null,null,null,null,0,null,null,null,0,null,null,null,null,null,0]
[{"$f":"'Labor Summary (Office)'!A59","v":0},{"$f":"'Labor Summary (Office)'!B59","v":0},null,null,null,null,null,null,null,0,null,null,null,0,null,null,null,null,null,0]
[{"$f":"'Labor Summary (Office)'!A60","v":0},{"$f":"'Labor Summary (Office)'!B60","v":0},null,null,null,null,null,null,null,0,null,null,null,0,null,null,null,null,null,0]
[{"$f":"'Labor Summary (Office)'!A61","v":0},{"$f":"'Labor Summary (Office)'!B61","v":0},null,null,null,null,null,null,null,0,null,null,null,0,null,null,null,null,null,0]
[{"$f":"'Labor Summary (Office)'!A62","v":0},{"$f":"'Labor Summary (Office)'!B62","v":0},null,null,null,null,null,null,null,0,null,null,null,0,null,null,null,null,null,0]
[{"$f":"'Labor Summary (Office)'!A63","v":0},{"$f":"'Labor Summary (Office)'!B63","v":0},null,null,null,null,null,null,null,0,null,null,null,0,null,null,null,null,null,0]
[{"$f":"'Labor Summary (Office)'!A64","v":0},{"$f":"'Labor Summary (Office)'!B64","v":0},null,null,null,null,null,null,null,0,null,null,null,0,null,null,null,null,null,0]
[{"$f":"'Labor Summary (Office)'!A65","v":0},{"$f":"'Labor Summary (Office)'!B65","v":0},null,null,null,null,null,null,null,0,null,null,null,0,null,null,null,null,null,0]
[{"$f":"'Labor Summary (Office)'!A66","v":0},{"$f":"'Labor Summary (Office)'!B66","v":0},null,null,null,null,null,null,null,0,null,null,null,0,null,null,null,null,null,0]
[{"$f":"'Labor Summary (Office)'!A67","v":0},{"$f":"'Labor Summary (Office)'!B67","v":0},null,null,null,null,null,null,null,0,null,null,null,0,null,null,null,null,null,0]
[{"$f":"'Labor Summary (Office)'!A68","v":0},{"$f":"'Labor Summary (Office)'!B68","v":0},null,null,null,null,null,null,null,0,null,null,null,0,null,null,null,null,null,0]
[{"$f":"'Labor Summary (Office)'!A69","v":0},{"$f":"'Labor Summary (Office)'!B69","v":0},null,null,null,null,null,null,null,0,null,null,null,0,null,null,null,null,null,0]
[{"$f":"'Labor Summary (Office)'!A70","v":0},{"$f":"'Labor Summary (Office)'!B70","v":0},null,null,null,null,null,null,null,0,null,null,null,0,null,null,null,null,null,0]
[{"$f":"'Labor Summary (Office)'!A71","v":0},{"$f":"'Labor Summary (Office)'!B71","v":0},null,null,null,null,null,null,null,0,null,null,null,0,null,null,null,null,null,0]
[{"$f":"'Labor Summary (Office)'!A72","v":0},{"$f":"'Labor Summary (Office)'!B72","v":0},null,null,null,null,null,null,null,0,null,null,null,0,null,null,null,null,null,0]
[{"$f":"'Labor Summary (Office)'!A73","v":0},{"$f":"'Labor Summary (Office)'!B73","v":0},{"$f":"IF(A75=0,\"\",A75)","v":""},null,null,null,null,null,null,null,null,null,null,null,null,null,null,"Subtotal Line 2",null,{"$f":"ROUND(SUM(T45:T74),2)","v":0}]
[{"$f":"'Labor Summary (Office)'!A74","v":0},{"$f":"'Labor Summary (Office)'!B74","v":0},null,null,null,null,null,null,null,0,null,null,null,{"$f":"ROUND(M76*$N$9,2)","v":0},null,null,null,null,null,0]
[{"$f":"'Labor Summary (Office)'!A75","v":0},{"$f":"'Labor Summary (Office)'!B75","v":0},null,null,null,null,null,null,null,0,null,null,null,{"$f":"ROUND(M77*$N$9,2)","v":0},null,null,null,null,null,0]
[{"$f":"'Labor Summary (Office)'!A76","v":0},{"$f":"'Labor Summary (Office)'!B76","v":0},null,null,null,null,null,null,null,0,null,null,null,0,null,null,null,null,null,0]
[{"$f":"'Labor Summary (Office)'!A77","v":0},{"$f":"'Labor Summary (Office)'!B77","v":0},null,null,null,null,null,null,null,{"$f":"I79+H79","v":0},null,null,null,0,null,null,null,null,null,{"$f":"ROUND((G79+J79+L79+N79+O79+P79+Q79+R79+S79),2)","v":0}]
[{"$f":"'Labor Summary (Office)'!A78","v":0},{"$f":"'Labor Summary (Office)'!B78","v":0},null,null,null,null,null,null,null,0,null,null,null,0,null,null,null,null,null,0]
[{"$f":"'Labor Summary (Office)'!A79","v":0},{"$f":"'Labor Summary (Office)'!B79","v":0},null,null,null,null,null,null,null,0,null,null,null,0,null,null,null,null,null,0]
[{"$f":"'Labor Summary (Office)'!A80","v":0},{"$f":"'Labor Summary (Office)'!B80","v":0},null,null,null,null,null,null,null,0,null,null,null,0,null,null,null,null,null,0]
[{"$f":"'Labor Summary (Office)'!A81","v":0},{"$f":"'Labor Summary (Office)'!B81","v":0},null,null,null,null,null,null,null,0,null,null,null,0,null,null,null,null,null,0]
[{"$f":"'Labor Summary (Office)'!A82","v":0},{"$f":"'Labor Summary (Office)'!B82","v":0},null,null,null,null,null,null,null,0,null,null,null,0,null,null,null,null,null,0]
[{"$f":"'Labor Summary (Office)'!A83","v":0},{"$f":"'Labor Summary (Office)'!B83","v":0},null,null,null,null,null,null,null,0,null,null,null,0,null,null,null,null,null,0]
[{"$f":"'Labor Summary (Office)'!A84","v":0},{"$f":"'Labor Summary (Office)'!B84","v":0},null,null,null,null,null,null,null,0,null,null,null,0,null,null,null,null,null,0]
[{"$f":"'Labor Summary (Office)'!A85","v":0},{"$f":"'Labor Summary (Office)'!B85","v":0},null,null,null,null,null,null,null,0,null,null,null,0,null,null,null,null,null,0]
[{"$f":"'Labor Summary (Office)'!A86","v":0},{"$f":"'Labor Summary (Office)'!B86","v":0},null,null,null,null,null,null,null,0,null,null,null,0,null,null,null,null,null,0]
[{"$f":"'Labor Summary (Office)'!A87","v":0},{"$f":"'Labor Summary (Office)'!B87","v":0},null,null,null,null,null,null,null,0,null,null,null,0,null,null,null,null,null,0]
[{"$f":"'Labor Summary (Office)'!A88","v":0},{"$f":"'Labor Summary (Office)'!B88","v":0},null,null,null,null,null,null,null,0,null,null,null,0,null,null,null,null,null,0]
[{"$f":"'Labor Summary (Office)'!A89","v":0},{"$f":"'Labor Summary (Office)'!B89","v":0},null,null,null,null,null,null,null,0,null,null,null,0,null,null,null,null,null,0]
[{"$f":"'Labor Summary (Office)'!A90","v":0},{"$f":"'Labor Summary (Office)'!B90","v":0},null,null,null,null,null,null,null,0,null,null,null,0,null,null,null,null,null,0]
[{"$f":"'Labor Summary (Office)'!A91","v":0},{"$f":"'Labor Summary (Office)'!B91","v":0},null,null,null,null,null,null,null,0,null,null,null,0,null,null,null,null,null,0]
[{"$f":"'Labor Summary (Office)'!A92","v":0},{"$f":"'Labor Summary (Office)'!B92","v":0},null,null,null,null,null,null,null,0,null,null,null,0,null,null,null,null,null,0]
[{"$f":"'Labor Summary (Office)'!A93","v":0},{"$f":"'Labor Summary (Office)'!B93","v":0},null,null,null,null,null,null,null,0,null,null,null,0,null,null,null,null,null,0]
[{"$f":"'Labor Summary (Office)'!A94","v":0},{"$f":"'Labor Summary (Office)'!B94","v":0},null,null,null,null,null,null,null,0,null,null,null,0,null,null,null,null,null,0]
[{"$f":"'Labor Summary (Office)'!A95","v":0},{"$f":"'Labor Summary (Office)'!B95","v":0},null,null,null,null,null,null,null,0,null,null,null,0,null,null,null,null,null,0]
[{"$f":"'Labor Summary (Office)'!A96","v":0},{"$f":"'Labor Summary (Office)'!B96","v":0},null,null,null,null,null,null,null,0,null,null,null,0,null,null,null,null,null,0]
[{"$f":"'Labor Summary (Office)'!A97","v":0},{"$f":"'Labor Summary (Office)'!B97","v":0},null,null,null,null,null,null,null,0,null,null,null,0,null,null,null,null,null,0]
[{"$f":"'Labor Summary (Office)'!A98","v":0},{"$f":"'Labor Summary (Office)'!B98","v":0},null,null,null,null,null,null,null,0,null,null,null,0,null,null,null,null,null,0]
[{"$f":"'Labor Summary (Office)'!A99","v":0},{"$f":"'Labor Summary (Office)'!B99","v":0},null,null,null,null,null,null,null,0,null,null,null,0,null,null,null,null,null,0]
[{"$f":"'Labor Summary (Office)'!A100","v":0},{"$f":"'Labor Summary (Office)'!B100","v":0},null,null,null,null,null,null,null,0,null,null,null,0,null,null,null,null,null,0]
[{"$f":"'Labor Summary (Office)'!A101","v":0},{"$f":"'Labor Summary (Office)'!B101","v":0},null,null,null,null,null,null,null,0,null,null,null,0,null,null,null,null,null,0]
[{"$f":"'Labor Summary (Office)'!A102","v":0},{"$f":"'Labor Summary (Office)'!B102","v":0},null,null,null,null,null,null,null,0,null,null,null,0,null,null,null,null,null,0]
[{"$f":"'Labor Summary (Office)'!A103","v":0},{"$f":"'Labor Summary (Office)'!B103","v":0},null,null,null,null,null,null,null,0,null,null,null,0,null,null,null,null,null,0]
[{"$f":"'Labor Summary (Office)'!A104","v":0},{"$f":"'Labor Summary (Office)'!B104","v":0},{"$f":"IF(A106=0,\"\",A106)","v":""},null,null,null,null,null,null,null,null,null,null,null,null,null,null,"Subtotal Line 3",null,{"$f":"ROUND(SUM(T76:T105),2)","v":0}]
[{"$f":"'Labor Summary (Office)'!A105","v":0},{"$f":"'Labor Summary (Office)'!B105","v":0},null,null,null,null,null,null,null,0,null,null,null,{"$f":"ROUND(M107*$N$9,2)","v":0},null,null,null,null,null,{"$f":"ROUND((G107+J107+L107+N107+O107+P107+Q107+R107+S107),2)","v":0}]
[{"$f":"'Labor Summary (Office)'!A106","v":0},{"$f":"'Labor Summary (Office)'!B106","v":0},null,null,null,null,null,null,null,0,null,null,null,{"$f":"ROUND(M108*$N$9,2)","v":0},null,null,null,null,null,0]
[{"$f":"'Labor Summary (Office)'!A107","v":0},{"$f":"'Labor Summary (Office)'!B107","v":0},null,null,null,null,null,null,null,0,null,null,null,0,null,null,null,null,null,0]
[{"$f":"'Labor Summary (Office)'!A108","v":0},{"$f":"'Labor Summary (Office)'!B108","v":0},null,null,null,null,null,null,null,0,null,null,null,0,null,null,null,null,null,0]
[{"$f":"'Labor Summary (Office)'!A109","v":0},{"$f":"'Labor Summary (Office)'!B109","v":0},null,null,null,null,null,null,null,0,null,null,null,0,null,null,null,null,null,0]
[{"$f":"'Labor Summary (Office)'!A110","v":0},{"$f":"'Labor Summary (Office)'!B110","v":0},null,null,null,null,null,null,null,0,null,null,null,0,null,null,null,null,null,0]
[{"$f":"'Labor Summary (Office)'!A111","v":0},{"$f":"'Labor Summary (Office)'!B111","v":0},null,null,null,null,null,null,null,0,null,null,null,0,null,null,null,null,null,0]
[{"$f":"'Labor Summary (Office)'!A112","v":0},{"$f":"'Labor Summary (Office)'!B112","v":0},null,null,null,null,null,null,null,0,null,null,null,0,null,null,null,null,null,0]
[{"$f":"'Labor Summary (Office)'!A113","v":0},{"$f":"'Labor Summary (Office)'!B113","v":0},null,null,null,null,null,null,null,0,null,null,null,0,null,null,null,null,null,0]
[{"$f":"'Labor Summary (Office)'!A114","v":0},{"$f":"'Labor Summary (Office)'!B114","v":0},null,null,null,null,null,null,null,0,null,null,null,0,null,null,null,null,null,0]
[{"$f":"'Labor Summary (Office)'!A115","v":0},{"$f":"'Labor Summary (Office)'!B115","v":0},null,null,null,null,null,null,null,0,null,null,null,0,null,null,null,null,null,0]
[{"$f":"'Labor Summary (Office)'!A116","v":0},{"$f":"'Labor Summary (Office)'!B116","v":0},null,null,null,null,null,null,null,0,null,null,null,0,null,null,null,null,null,0]
[{"$f":"'Labor Summary (Office)'!A117","v":0},{"$f":"'Labor Summary (Office)'!B117","v":0},null,null,null,null,null,null,null,0,null,null,null,0,null,null,null,null,null,0]
[{"$f":"'Labor Summary (Office)'!A118","v":0},{"$f":"'Labor Summary (Office)'!B118","v":0},null,null,null,null,null,null,null,0,null,null,null,0,null,null,null,null,null,0]
[{"$f":"'Labor Summary (Office)'!A119","v":0},{"$f":"'Labor Summary (Office)'!B119","v":0},null,null,null,null,null,null,null,0,null,null,null,0,null,null,null,null,null,0]
[{"$f":"'Labor Summary (Office)'!A120","v":0},{"$f":"'Labor Summary (Office)'!B120","v":0},null,null,null,null,null,null,null,0,null,null,null,0,null,null,null,null,null,0]
[{"$f":"'Labor Summary (Office)'!A121","v":0},{"$f":"'Labor Summary (Office)'!B121","v":0},null,null,null,null,null,null,null,0,null,null,null,0,null,null,null,null,null,0]
[{"$f":"'Labor Summary (Office)'!A122","v":0},{"$f":"'Labor Summary (Office)'!B122","v":0},null,null,null,null,null,null,null,0,null,null,null,0,null,null,null,null,null,0]
[{"$f":"'Labor Summary (Office)'!A123","v":0},{"$f":"'Labor Summary (Office)'!B123","v":0},null,null,null,null,null,null,null,0,null,null,null,0,null,null,null,null,null,0]
[{"$f":"'Labor Summary (Office)'!A124","v":0},{"$f":"'Labor Summary (Office)'!B124","v":0},null,null,null,null,null,null,null,0,null,null,null,0,null,null,null,null,null,0]
[{"$f":"'Labor Summary (Office)'!A125","v":0},{"$f":"'Labor Summary (Office)'!B125","v":0},null,null,null,null,null,null,null,0,null,null,null,0,null,null,null,null,null,0]
[{"$f":"'Labor Summary (Office)'!A126","v":0},{"$f":"'Labor Summary (Office)'!B126","v":0},null,null,null,null,null,null,null,0,null,null,null,0,null,null,null,null,null,0]
[{"$f":"'Labor Summary (Office)'!A127","v":0},{"$f":"'Labor Summary (Office)'!B127","v":0},null,null,null,null,null,null,null,0,null,null,null,0,null,null,null,null,null,0]
[{"$f":"'Labor Summary (Office)'!A128","v":0},{"$f":"'Labor Summary (Office)'!B128","v":0},null,null,null,null,null,null,null,0,null,null,null,0,null,null,null,null,null,0]
[{"$f":"'Labor Summary (Office)'!A129","v":0},{"$f":"'Labor Summary (Office)'!B129","v":0},null,null,null,null,null,null,null,0,null,null,null,0,null,null,null,null,null,0]
[{"$f":"'Labor Summary (Office)'!A130","v":0},{"$f":"'Labor Summary (Office)'!B130","v":0},null,null,null,null,null,null,null,0,null,null,null,0,null,null,null,null,null,0]
[{"$f":"'Labor Summary (Office)'!A131","v":0},{"$f":"'Labor Summary (Office)'!B131","v":0},null,null,null,null,null,null,null,0,null,null,null,0,null,null,null,null,null,0]
[{"$f":"'Labor Summary (Office)'!A132","v":0},{"$f":"'Labor Summary (Office)'!B132","v":0},null,null,null,null,null,null,null,0,null,null,null,0,null,null,null,null,null,0]
[{"$f":"'Labor Summary (Office)'!A133","v":0},{"$f":"'Labor Summary (Office)'!B133","v":0},null,null,null,null,null,null,null,0,null,null,null,0,null,null,null,null,null,0]
[{"$f":"'Labor Summary (Office)'!A134","v":0},{"$f":"'Labor Summary (Office)'!B134","v":0},null,null,null,null,null,null,null,0,null,null,null,0,null,null,null,null,null,0]
[{"$f":"'Labor Summary (Office)'!A135","v":0},{"$f":"'Labor Summary (Office)'!B135","v":0},{"$f":"IF(A137=0,\"\",A137)","v":""},null,null,null,null,null,null,null,null,null,null,null,null,null,null,"Subtotal Line 4",null,{"$f":"ROUND(SUM(T107:T136),2)","v":0}]
[{"$f":"'Labor Summary (Office)'!A136","v":0},{"$f":"'Labor Summary (Office)'!B136","v":0},null,null,null,null,null,null,null,0,null,null,null,{"$f":"ROUND(M138*$N$9,2)","v":0},null,null,null,null,null,0]
[{"$f":"'Labor Summary (Office)'!A137","v":0},{"$f":"'Labor Summary (Office)'!B137","v":0},null,null,null,null,null,null,null,0,null,null,null,{"$f":"ROUND(M139*$N$9,2)","v":0},null,null,null,null,null,0]
[{"$f":"'Labor Summary (Office)'!A138","v":0},{"$f":"'Labor Summary (Office)'!B138","v":0},null,null,null,null,null,null,null,0,null,null,null,0,null,null,null,null,null,0]
[{"$f":"'Labor Summary (Office)'!A139","v":0},{"$f":"'Labor Summary (Office)'!B139","v":0},null,null,null,null,null,null,null,0,null,null,null,0,null,null,null,null,null,0]
[{"$f":"'Labor Summary (Office)'!A140","v":0},{"$f":"'Labor Summary (Office)'!B140","v":0},null,null,null,null,null,null,null,0,null,null,null,0,null,null,null,null,null,0]
[{"$f":"'Labor Summary (Office)'!A141","v":0},{"$f":"'Labor Summary (Office)'!B141","v":0},null,null,null,null,null,null,null,{"$f":"I143+H143","v":0},null,null,null,0,null,null,null,null,null,0]
[{"$f":"'Labor Summary (Office)'!A142","v":0},{"$f":"'Labor Summary (Office)'!B142","v":0},null,null,null,null,null,null,null,0,null,null,null,0,null,null,null,null,null,0]
[{"$f":"'Labor Summary (Office)'!A143","v":0},{"$f":"'Labor Summary (Office)'!B143","v":0},null,null,null,null,null,null,null,0,null,null,null,0,null,null,null,null,null,0]
[{"$f":"'Labor Summary (Office)'!A144","v":0},{"$f":"'Labor Summary (Office)'!B144","v":0},null,null,null,null,null,null,null,0,null,null,null,0,null,null,null,null,null,0]
[{"$f":"'Labor Summary (Office)'!A145","v":0},{"$f":"'Labor Summary (Office)'!B145","v":0},null,null,null,null,null,null,null,0,null,null,null,0,null,null,null,null,null,0]
[{"$f":"'Labor Summary (Office)'!A146","v":0},{"$f":"'Labor Summary (Office)'!B146","v":0},null,null,null,null,null,null,null,0,null,null,null,0,null,null,null,null,null,0]
[{"$f":"'Labor Summary (Office)'!A147","v":0},{"$f":"'Labor Summary (Office)'!B147","v":0},null,null,null,null,null,null,null,0,null,null,null,0,null,null,null,null,null,0]
[{"$f":"'Labor Summary (Office)'!A148","v":0},{"$f":"'Labor Summary (Office)'!B148","v":0},null,null,null,null,null,null,null,0,null,null,null,0,null,null,null,null,null,0]
[{"$f":"'Labor Summary (Office)'!A149","v":0},{"$f":"'Labor Summary (Office)'!B149","v":0},null,null,null,null,null,null,null,0,null,null,null,0,null,null,null,null,null,0]
[{"$f":"'Labor Summary (Office)'!A150","v":0},{"$f":"'Labor Summary (Office)'!B150","v":0},null,null,null,null,null,null,null,0,null,null,null,0,null,null,null,null,null,0]
[{"$f":"'Labor Summary (Office)'!A151","v":0},{"$f":"'Labor Summary (Office)'!B151","v":0},null,null,null,null,null,null,null,0,null,null,null,0,null,null,null,null,null,0]
[{"$f":"'Labor Summary (Office)'!A152","v":0},{"$f":"'Labor Summary (Office)'!B152","v":0},null,null,null,null,null,null,null,0,null,null,null,0,null,null,null,null,null,0]
[{"$f":"'Labor Summary (Office)'!A153","v":0},{"$f":"'Labor Summary (Office)'!B153","v":0},null,null,null,null,null,null,null,0,null,null,null,0,null,null,null,null,null,0]
[{"$f":"'Labor Summary (Office)'!A154","v":0},{"$f":"'Labor Summary (Office)'!B154","v":0},null,null,null,null,null,null,null,0,null,null,null,0,null,null,null,null,null,0]
[{"$f":"'Labor Summary (Office)'!A155","v":0},{"$f":"'Labor Summary (Office)'!B155","v":0},null,null,null,null,null,null,null,0,null,null,null,0,null,null,null,null,null,0]
[{"$f":"'Labor Summary (Office)'!A156","v":0},{"$f":"'Labor Summary (Office)'!B156","v":0},null,null,null,null,null,null,null,0,null,null,null,0,null,null,null,null,null,0]
[{"$f":"'Labor Summary (Office)'!A157","v":0},{"$f":"'Labor Summary (Office)'!B157","v":0},null,null,null,null,null,null,null,0,null,null,null,0,null,null,null,null,null,0]
[{"$f":"'Labor Summary (Office)'!A158","v":0},{"$f":"'Labor Summary (Office)'!B158","v":0},null,null,null,null,null,null,null,0,null,null,null,0,null,null,null,null,null,0]
[{"$f":"'Labor Summary (Office)'!A159","v":0},{"$f":"'Labor Summary (Office)'!B159","v":0},null,null,null,null,null,null,null,0,null,null,null,0,null,null,null,null,null,0]
[{"$f":"'Labor Summary (Office)'!A160","v":0},{"$f":"'Labor Summary (Office)'!B160","v":0},null,null,null,null,null,null,null,0,null,null,null,0,null,null,null,null,null,0]
[{"$f":"'Labor Summary (Office)'!A161","v":0},{"$f":"'Labor Summary (Office)'!B161","v":0},null,null,null,null,null,null,null,0,null,null,null,0,null,null,null,null,null,0]
[{"$f":"'Labor Summary (Office)'!A162","v":0},{"$f":"'Labor Summary (Office)'!B162","v":0},null,null,null,null,null,null,null,0,null,null,null,0,null,null,null,null,null,0]
[{"$f":"'Labor Summary (Office)'!A163","v":0},{"$f":"'Labor Summary (Office)'!B163","v":0},null,null,null,null,null,null,null,0,null,null,null,0,null,null,null,null,null,0]
[{"$f":"'Labor Summary (Office)'!A164","v":0},{"$f":"'Labor Summary (Office)'!B164","v":0},null,null,null,null,null,null,null,0,null,null,null,0,null,null,null,null,null,0]
[{"$f":"'Labor Summary (Office)'!A165","v":0},{"$f":"'Labor Summary (Office)'!B165","v":0},null,null,null,null,null,null,null,0,null,null,null,0,null,null,null,null,null,0]
[{"$f":"'Labor Summary (Office)'!A166","v":0},{"$f":"'Labor Summary (Office)'!B166","v":0},{"$f":"IF(A168=0,\"\",A168)","v":""},null,null,null,null,null,null,null,null,null,null,null,null,null,null,"Subtotal Line 5",null,{"$f":"ROUND(SUM(T138:T167),2)","v":0}]
[{"$f":"'Labor Summary (Office)'!A167","v":0},{"$f":"'Labor Summary (Office)'!B167","v":0},null,null,null,null,null,null,null,0,null,null,null,{"$f":"ROUND(M169*$N$9,2)","v":0},null,null,null,null,null,0]
[{"$f":"'Labor Summary (Office)'!A168","v":0},{"$f":"'Labor Summary (Office)'!B168","v":0},null,null,null,null,null,null,null,0,null,null,null,{"$f":"ROUND(M170*$N$9,2)","v":0},null,null,null,null,null,0]
[{"$f":"'Labor Summary (Office)'!A169","v":0},{"$f":"'Labor Summary (Office)'!B169","v":0},null,null,null,null,null,null,null,0,null,null,null,0,null,null,null,null,null,{"$f":"ROUND((G171+J171+L171+N171+O171+P171+Q171+R171+S171),2)","v":0}]
[{"$f":"'Labor Summary (Office)'!A170","v":0},{"$f":"'Labor Summary (Office)'!B170","v":0},null,null,null,null,null,null,null,0,null,null,null,0,null,null,null,null,null,0]
[{"$f":"'Labor Summary (Office)'!A171","v":0},{"$f":"'Labor Summary (Office)'!B171","v":0},null,null,null,null,null,null,null,0,null,null,null,0,null,null,null,null,null,0]
[{"$f":"'Labor Summary (Office)'!A172","v":0},{"$f":"'Labor Summary (Office)'!B172","v":0},null,null,null,null,null,null,null,0,null,null,null,0,null,null,null,null,null,0]
[{"$f":"'Labor Summary (Office)'!A173","v":0},{"$f":"'Labor Summary (Office)'!B173","v":0},null,null,null,null,null,null,null,0,null,null,null,0,null,null,null,null,null,0]
[{"$f":"'Labor Summary (Office)'!A174","v":0},{"$f":"'Labor Summary (Office)'!B174","v":0},null,null,null,null,null,null,null,0,null,null,null,0,null,null,null,null,null,0]
[{"$f":"'Labor Summary (Office)'!A175","v":0},{"$f":"'Labor Summary (Office)'!B175","v":0},null,null,null,null,null,null,null,0,null,null,null,0,null,null,null,null,null,0]
[{"$f":"'Labor Summary (Office)'!A176","v":0},{"$f":"'Labor Summary (Office)'!B176","v":0},null,null,null,null,null,null,null,0,null,null,null,0,null,null,null,null,null,0]
[{"$f":"'Labor Summary (Office)'!A177","v":0},{"$f":"'Labor Summary (Office)'!B177","v":0},null,null,null,null,null,null,null,0,null,null,null,0,null,null,null,null,null,0]
[{"$f":"'Labor Summary (Office)'!A178","v":0},{"$f":"'Labor Summary (Office)'!B178","v":0},null,null,null,null,null,null,null,0,null,null,null,0,null,null,null,null,null,0]
[{"$f":"'Labor Summary (Office)'!A179","v":0},{"$f":"'Labor Summary (Office)'!B179","v":0},null,null,null,null,null,null,null,0,null,null,null,0,null,null,null,null,null,0]
[{"$f":"'Labor Summary (Office)'!A180","v":0},{"$f":"'Labor Summary (Office)'!B180","v":0},null,null,null,null,null,null,null,0,null,null,null,0,null,null,null,null,null,0]
[{"$f":"'Labor Summary (Office)'!A181","v":0},{"$f":"'Labor Summary (Office)'!B181","v":0},null,null,null,null,null,null,null,0,null,null,null,0,null,null,null,null,null,0]
[{"$f":"'Labor Summary (Office)'!A182","v":0},{"$f":"'Labor Summary (Office)'!B182","v":0},null,null,null,null,null,null,null,0,null,null,null,0,null,null,null,null,null,0]
[{"$f":"'Labor Summary (Office)'!A183","v":0},{"$f":"'Labor Summary (Office)'!B183","v":0},null,null,null,null,null,null,null,0,null,null,null,0,null,null,null,null,null,0]
[{"$f":"'Labor Summary (Office)'!A184","v":0},{"$f":"'Labor Summary (Office)'!B184","v":0},null,null,null,null,null,null,null,0,null,null,null,0,null,null,null,null,null,0]
[{"$f":"'Labor Summary (Office)'!A185","v":0},{"$f":"'Labor Summary (Office)'!B185","v":0},null,null,null,null,null,null,null,0,null,null,null,0,null,null,null,null,null,0]
[{"$f":"'Labor Summary (Office)'!A186","v":0},{"$f":"'Labor Summary (Office)'!B186","v":0},null,null,null,null,null,null,null,0,null,null,null,0,null,null,null,null,null,0]
[{"$f":"'Labor Summary (Office)'!A187","v":0},{"$f":"'Labor Summary (Office)'!B187","v":0},null,null,null,null,null,null,null,0,null,null,null,0,null,null,null,null,null,0]
[{"$f":"'Labor Summary (Office)'!A188","v":0},{"$f":"'Labor Summary (Office)'!B188","v":0},null,null,null,null,null,null,null,0,null,null,null,0,null,null,null,null,null,0]
[{"$f":"'Labor Summary (Office)'!A189","v":0},{"$f":"'Labor Summary (Office)'!B189","v":0},null,null,null,null,null,null,null,0,null,null,null,0,null,null,null,null,null,0]
[{"$f":"'Labor Summary (Office)'!A190","v":0},{"$f":"'Labor Summary (Office)'!B190","v":0},null,null,null,null,null,null,null,0,null,null,null,0,null,null,null,null,null,0]
[{"$f":"'Labor Summary (Office)'!A191","v":0},{"$f":"'Labor Summary (Office)'!B191","v":0},null,null,null,null,null,null,null,0,null,null,null,0,null,null,null,null,null,0]
[{"$f":"'Labor Summary (Office)'!A192","v":0},{"$f":"'Labor Summary (Office)'!B192","v":0},null,null,null,null,null,null,null,0,null,null,null,0,null,null,null,null,null,0]
[{"$f":"'Labor Summary (Office)'!A193","v":0},{"$f":"'Labor Summary (Office)'!B193","v":0},null,null,null,null,null,null,null,0,null,null,null,0,null,null,null,null,null,0]
[{"$f":"'Labor Summary (Office)'!A194","v":0},{"$f":"'Labor Summary (Office)'!B194","v":0},null,null,null,null,null,null,null,0,null,null,null,0,null,null,null,null,null,0]
[{"$f":"'Labor Summary (Office)'!A195","v":0},{"$f":"'Labor Summary (Office)'!B195","v":0},null,null,null,null,null,null,null,0,null,null,null,0,null,null,null,null,null,0]
[{"$f":"'Labor Summary (Office)'!A196","v":0},{"$f":"'Labor Summary (Office)'!B196","v":0},null,null,null,null,null,null,null,0,null,null,null,0,null,null,null,null,null,0]
[{"$f":"'Labor Summary (Office)'!A197","v":0},{"$f":"'Labor Summary (Office)'!B197","v":0},{"$f":"IF(A199=0,\"\",A199)","v":""},null,null,null,null,null,null,null,null,null,null,null,null,null,null,"Subtotal Line 6",null,{"$f":"ROUND(SUM(T169:T198),2)","v":0}]
[{"$f":"'Labor Summary (Office)'!A198","v":0},{"$f":"'Labor Summary (Office)'!B198","v":0},null,null,null,null,null,null,null,0,null,null,null,{"$f":"ROUND(M200*$N$9,2)","v":0},null,null,null,null,null,{"$f":"ROUND((G200+J200+L200+N200+O200+P200+Q200+R200+S200),2)","v":0}]
[{"$f":"'Labor Summary (Office)'!A199","v":0},{"$f":"'Labor Summary (Office)'!B199","v":0},null,null,null,null,null,null,null,0,null,null,null,{"$f":"ROUND(M201*$N$9,2)","v":0},null,null,null,null,null,0]
[{"$f":"'Labor Summary (Office)'!A200","v":0},{"$f":"'Labor Summary (Office)'!B200","v":0},null,null,null,null,null,null,null,0,null,null,null,0,null,null,null,null,null,0]
[{"$f":"'Labor Summary (Office)'!A201","v":0},{"$f":"'Labor Summary (Office)'!B201","v":0},null,null,null,null,null,null,null,0,null,null,null,0,null,null,null,null,null,0]
[{"$f":"'Labor Summary (Office)'!A202","v":0},{"$f":"'Labor Summary (Office)'!B202","v":0},null,null,null,null,null,null,null,0,null,null,null,0,null,null,null,null,null,0]
[{"$f":"'Labor Summary (Office)'!A203","v":0},{"$f":"'Labor Summary (Office)'!B203","v":0},null,null,null,null,null,null,null,0,null,null,null,0,null,null,null,null,null,0]
[{"$f":"'Labor Summary (Office)'!A204","v":0},{"$f":"'Labor Summary (Office)'!B204","v":0},null,null,null,null,null,null,null,0,null,null,null,0,null,null,null,null,null,0]
[{"$f":"'Labor Summary (Office)'!A205","v":0},{"$f":"'Labor Summary (Office)'!B205","v":0},null,null,null,null,null,null,null,{"$f":"I207+H207","v":0},null,null,null,0,null,null,null,null,null,0]
[{"$f":"'Labor Summary (Office)'!A206","v":0},{"$f":"'Labor Summary (Office)'!B206","v":0},null,null,null,null,null,null,null,0,null,null,null,0,null,null,null,null,null,0]
[{"$f":"'Labor Summary (Office)'!A207","v":0},{"$f":"'Labor Summary (Office)'!B207","v":0},null,null,null,null,null,null,null,0,null,null,null,0,null,null,null,null,null,0]
[{"$f":"'Labor Summary (Office)'!A208","v":0},{"$f":"'Labor Summary (Office)'!B208","v":0},null,null,null,null,null,null,null,0,null,null,null,0,null,null,null,null,null,0]
[{"$f":"'Labor Summary (Office)'!A209","v":0},{"$f":"'Labor Summary (Office)'!B209","v":0},null,null,null,null,null,null,null,0,null,null,null,0,null,null,null,null,null,0]
[{"$f":"'Labor Summary (Office)'!A210","v":0},{"$f":"'Labor Summary (Office)'!B210","v":0},null,null,null,null,null,null,null,0,null,null,null,0,null,null,null,null,null,0]
[{"$f":"'Labor Summary (Office)'!A211","v":0},{"$f":"'Labor Summary (Office)'!B211","v":0},null,null,null,null,null,null,null,0,null,null,null,0,null,null,null,null,null,0]
[{"$f":"'Labor Summary (Office)'!A212","v":0},{"$f":"'Labor Summary (Office)'!B212","v":0},null,null,null,null,null,null,null,0,null,null,null,0,null,null,null,null,null,0]
[{"$f":"'Labor Summary (Office)'!A213","v":0},{"$f":"'Labor Summary (Office)'!B213","v":0},null,null,null,null,null,null,null,0,null,null,null,0,null,null,null,null,null,0]
[{"$f":"'Labor Summary (Office)'!A214","v":0},{"$f":"'Labor Summary (Office)'!B214","v":0},null,null,null,null,null,null,null,0,null,null,null,0,null,null,null,null,null,0]
[{"$f":"'Labor Summary (Office)'!A215","v":0},{"$f":"'Labor Summary (Office)'!B215","v":0},null,null,null,null,null,null,null,0,null,null,null,0,null,null,null,null,null,0]
[{"$f":"'Labor Summary (Office)'!A216","v":0},{"$f":"'Labor Summary (Office)'!B216","v":0},null,null,null,null,null,null,null,0,null,null,null,0,null,null,null,null,null,0]
[{"$f":"'Labor Summary (Office)'!A217","v":0},{"$f":"'Labor Summary (Office)'!B217","v":0},null,null,null,null,null,null,null,0,null,null,null,0,null,null,null,null,null,0]
[{"$f":"'Labor Summary (Office)'!A218","v":0},{"$f":"'Labor Summary (Office)'!B218","v":0},null,null,null,null,null,null,null,0,null,null,null,0,null,null,null,null,null,0]
[{"$f":"'Labor Summary (Office)'!A219","v":0},{"$f":"'Labor Summary (Office)'!B219","v":0},null,null,null,null,null,null,null,0,null,null,null,0,null,null,null,null,null,0]
[{"$f":"'Labor Summary (Office)'!A220","v":0},{"$f":"'Labor Summary (Office)'!B220","v":0},null,null,null,null,null,null,null,0,null,null,null,0,null,null,null,null,null,0]
[{"$f":"'Labor Summary (Office)'!A221","v":0},{"$f":"'Labor Summary (Office)'!B221","v":0},null,null,null,null,null,null,null,0,null,null,null,0,null,null,null,null,null,0]
[{"$f":"'Labor Summary (Office)'!A222","v":0},{"$f":"'Labor Summary (Office)'!B222","v":0},null,null,null,null,null,null,null,0,null,null,null,0,null,null,null,null,null,0]
[{"$f":"'Labor Summary (Office)'!A223","v":0},{"$f":"'Labor Summary (Office)'!B223","v":0},null,null,null,null,null,null,null,0,null,null,null,0,null,null,null,null,null,0]
[{"$f":"'Labor Summary (Office)'!A224","v":0},{"$f":"'Labor Summary (Office)'!B224","v":0},null,null,null,null,null,null,null,0,null,null,null,0,null,null,null,null,null,0]
[{"$f":"'Labor Summary (Office)'!A225","v":0},{"$f":"'Labor Summary (Office)'!B225","v":0},null,null,null,null,null,null,null,0,null,null,null,0,null,null,null,null,null,0]
[{"$f":"'Labor Summary (Office)'!A226","v":0},{"$f":"'Labor Summary (Office)'!B226","v":0},null,null,null,null,null,null,null,0,null,null,null,0,null,null,null,null,null,0]
[{"$f":"'Labor Summary (Office)'!A227","v":0},{"$f":"'Labor Summary (Office)'!B227","v":0},null,null,null,null,null,null,null,0,null,null,null,0,null,null,null,null,null,0]
[{"$f":"'Labor Summary (Office)'!A228","v":0},{"$f":"'Labor Summary (Office)'!B228","v":0},{"$f":"IF(A230=0,\"\",A230)","v":""},null,null,null,null,null,null,null,null,null,null,null,null,null,null,"Subtotal Line 7",null,{"$f":"ROUND(SUM(T200:T229),2)","v":0}]
[{"$f":"'Labor Summary (Office)'!A229","v":0},{"$f":"'Labor Summary (Office)'!B229","v":0},null,null,null,null,null,null,null,0,null,null,null,{"$f":"ROUND(M231*$N$9,2)","v":0},null,null,null,null,null,0]
[{"$f":"'Labor Summary (Office)'!A230","v":0},{"$f":"'Labor Summary (Office)'!B230","v":0},null,null,null,null,null,null,null,0,null,null,null,{"$f":"ROUND(M232*$N$9,2)","v":0},null,null,null,null,null,0]
[{"$f":"'Labor Summary (Office)'!A231","v":0},{"$f":"'Labor Summary (Office)'!B231","v":0},null,null,null,null,null,null,null,0,null,null,null,0,null,null,null,null,null,0]
[{"$f":"'Labor Summary (Office)'!A232","v":0},{"$f":"'Labor Summary (Office)'!B232","v":0},null,null,null,null,null,null,null,0,null,null,null,0,null,null,null,null,null,0]
[{"$f":"'Labor Summary (Office)'!A233","v":0},{"$f":"'Labor Summary (Office)'!B233","v":0},null,null,null,null,null,null,null,0,null,null,null,0,null,null,null,null,null,0]
[{"$f":"'Labor Summary (Office)'!A234","v":0},{"$f":"'Labor Summary (Office)'!B234","v":0},null,null,null,null,null,null,null,0,null,null,null,0,null,null,null,null,null,0]
[{"$f":"'Labor Summary (Office)'!A235","v":0},{"$f":"'Labor Summary (Office)'!B235","v":0},null,null,null,null,null,null,null,0,null,null,null,0,null,null,null,null,null,0]
[{"$f":"'Labor Summary (Office)'!A236","v":0},{"$f":"'Labor Summary (Office)'!B236","v":0},null,null,null,null,null,null,null,0,null,null,null,0,null,null,null,null,null,0]
[{"$f":"'Labor Summary (Office)'!A237","v":0},{"$f":"'Labor Summary (Office)'!B237","v":0},null,null,null,null,null,null,null,0,null,null,null,0,null,null,null,null,null,0]
[{"$f":"'Labor Summary (Office)'!A238","v":0},{"$f":"'Labor Summary (Office)'!B238","v":0},null,null,null,null,null,null,null,0,null,null,null,0,null,null,null,null,null,0]
[{"$f":"'Labor Summary (Office)'!A239","v":0},{"$f":"'Labor Summary (Office)'!B239","v":0},null,null,null,null,null,null,null,0,null,null,null,0,null,null,null,null,null,0]
[{"$f":"'Labor Summary (Office)'!A240","v":0},{"$f":"'Labor Summary (Office)'!B240","v":0},null,null,null,null,null,null,null,0,null,null,null,0,null,null,null,null,null,0]
[{"$f":"'Labor Summary (Office)'!A241","v":0},{"$f":"'Labor Summary (Office)'!B241","v":0},null,null,null,null,null,null,null,0,null,null,null,0,null,null,null,null,null,0]
[{"$f":"'Labor Summary (Office)'!A242","v":0},{"$f":"'Labor Summary (Office)'!B242","v":0},null,null,null,null,null,null,null,0,null,null,null,0,null,null,null,null,null,0]
[{"$f":"'Labor Summary (Office)'!A243","v":0},{"$f":"'Labor Summary (Office)'!B243","v":0},null,null,null,null,null,null,null,0,null,null,null,0,null,null,null,null,null,0]
[{"$f":"'Labor Summary (Office)'!A244","v":0},{"$f":"'Labor Summary (Office)'!B244","v":0},null,null,null,null,null,null,null,0,null,null,null,0,null,null,null,null,null,0]
[{"$f":"'Labor Summary (Office)'!A245","v":0},{"$f":"'Labor Summary (Office)'!B245","v":0},null,null,null,null,null,null,null,0,null,null,null,0,null,null,null,null,null,0]
[{"$f":"'Labor Summary (Office)'!A246","v":0},{"$f":"'Labor Summary (Office)'!B246","v":0},null,null,null,null,null,null,null,0,null,null,null,0,null,null,null,null,null,0]
[{"$f":"'Labor Summary (Office)'!A247","v":0},{"$f":"'Labor Summary (Office)'!B247","v":0},null,null,null,null,null,null,null,0,null,null,null,0,null,null,null,null,null,0]
[{"$f":"'Labor Summary (Office)'!A248","v":0},{"$f":"'Labor Summary (Office)'!B248","v":0},null,null,null,null,null,null,null,0,null,null,null,0,null,null,null,null,null,0]
[{"$f":"'Labor Summary (Office)'!A249","v":0},{"$f":"'Labor Summary (Office)'!B249","v":0},null,null,null,null,null,null,null,0,null,null,null,0,null,null,null,null,null,0]
[{"$f":"'Labor Summary (Office)'!A250","v":0},{"$f":"'Labor Summary (Office)'!B250","v":0},null,null,null,null,null,null,null,0,null,null,null,0,null,null,null,null,null,0]
[{"$f":"'Labor Summary (Office)'!A251","v":0},{"$f":"'Labor Summary (Office)'!B251","v":0},null,null,null,null,null,null,null,0,null,null,null,0,null,null,null,null,null,0]
[{"$f":"'Labor Summary (Office)'!A252","v":0},{"$f":"'Labor Summary (Office)'!B252","v":0},null,null,null,null,null,null,null,0,null,null,null,0,null,null,null,null,null,0]
[{"$f":"'Labor Summary (Office)'!A253","v":0},{"$f":"'Labor Summary (Office)'!B253","v":0},null,null,null,null,null,null,null,0,null,null,null,0,null,null,null,null,null,0]
[{"$f":"'Labor Summary (Office)'!A254","v":0},{"$f":"'Labor Summary (Office)'!B254","v":0},null,null,null,null,null,null,null,0,null,null,null,0,null,null,null,null,null,0]
[{"$f":"'Labor Summary (Office)'!A255","v":0},{"$f":"'Labor Summary (Office)'!B255","v":0},null,null,null,null,null,null,null,0,null,null,null,0,null,null,null,null,null,0]
[{"$f":"'Labor Summary (Office)'!A256","v":0},{"$f":"'Labor Summary (Office)'!B256","v":0},null,null,null,null,null,null,null,0,null,null,null,0,null,null,null,null,null,0]
[{"$f":"'Labor Summary (Office)'!A257","v":0},{"$f":"'Labor Summary (Office)'!B257","v":0},null,null,null,null,null,null,null,0,null,null,null,0,null,null,null,null,null,0]
[{"$f":"'Labor Summary (Office)'!A258","v":0},{"$f":"'Labor Summary (Office)'!B258","v":0},null,null,null,null,null,null,null,0,null,null,null,0,null,null,null,null,null,0]
[{"$f":"'Labor Summary (Office)'!A259","v":0},{"$f":"'Labor Summary (Office)'!B259","v":0},{"$f":"IF(A261=0,\"\",A261)","v":""},null,null,null,null,null,null,null,null,null,null,null,null,null,null,"Subtotal Line 8",null,{"$f":"ROUND(SUM(T231:T260),2)","v":0}]
[{"$f":"'Labor Summary (Office)'!A260","v":0},{"$f":"'Labor Summary (Office)'!B260","v":0},null,null,null,null,null,null,null,0,null,null,null,{"$f":"ROUND(M262*$N$9,2)","v":0},null,null,null,null,null,0]
[{"$f":"'Labor Summary (Office)'!A261","v":0},{"$f":"'Labor Summary (Office)'!B261","v":0},null,null,null,null,null,null,null,0,null,null,null,{"$f":"ROUND(M263*$N$9,2)","v":0},null,null,null,null,null,0]
[{"$f":"'Labor Summary (Office)'!A262","v":0},{"$f":"'Labor Summary (Office)'!B262","v":0},null,null,null,null,null,null,null,0,null,null,null,0,null,null,null,null,null,{"$f":"ROUND((G264+J264+L264+N264+O264+P264+Q264+R264+S264),2)","v":0}]
[{"$f":"'Labor Summary (Office)'!A263","v":0},{"$f":"'Labor Summary (Office)'!B263","v":0},null,null,null,null,null,null,null,0,null,null,null,0,null,null,null,null,null,0]
[{"$f":"'Labor Summary (Office)'!A264","v":0},{"$f":"'Labor Summary (Office)'!B264","v":0},null,null,null,null,null,null,null,0,null,null,null,0,null,null,null,null,null,0]
[{"$f":"'Labor Summary (Office)'!A265","v":0},{"$f":"'Labor Summary (Office)'!B265","v":0},null,null,null,null,null,null,null,0,null,null,null,0,null,null,null,null,null,0]
[{"$f":"'Labor Summary (Office)'!A266","v":0},{"$f":"'Labor Summary (Office)'!B266","v":0},null,null,null,null,null,null,null,0,null,null,null,0,null,null,null,null,null,0]
[{"$f":"'Labor Summary (Office)'!A267","v":0},{"$f":"'Labor Summary (Office)'!B267","v":0},null,null,null,null,null,null,null,0,null,null,null,0,null,null,null,null,null,0]
[{"$f":"'Labor Summary (Office)'!A268","v":0},{"$f":"'Labor Summary (Office)'!B268","v":0},null,null,null,null,null,null,null,0,null,null,null,0,null,null,null,null,null,0]
[{"$f":"'Labor Summary (Office)'!A269","v":0},{"$f":"'Labor Summary (Office)'!B269","v":0},null,null,null,null,null,null,null,{"$f":"I271+H271","v":0},null,null,null,0,null,null,null,null,null,0]
[{"$f":"'Labor Summary (Office)'!A270","v":0},{"$f":"'Labor Summary (Office)'!B270","v":0},null,null,null,null,null,null,null,0,null,null,null,0,null,null,null,null,null,0]
[{"$f":"'Labor Summary (Office)'!A271","v":0},{"$f":"'Labor Summary (Office)'!B271","v":0},null,null,null,null,null,null,null,0,null,null,null,0,null,null,null,null,null,0]
[{"$f":"'Labor Summary (Office)'!A272","v":0},{"$f":"'Labor Summary (Office)'!B272","v":0},null,null,null,null,null,null,null,0,null,null,null,0,null,null,null,null,null,0]
[{"$f":"'Labor Summary (Office)'!A273","v":0},{"$f":"'Labor Summary (Office)'!B273","v":0},null,null,null,null,null,null,null,0,null,null,null,0,null,null,null,null,null,0]
[{"$f":"'Labor Summary (Office)'!A274","v":0},{"$f":"'Labor Summary (Office)'!B274","v":0},null,null,null,null,null,null,null,0,null,null,null,0,null,null,null,null,null,0]
[{"$f":"'Labor Summary (Office)'!A275","v":0},{"$f":"'Labor Summary (Office)'!B275","v":0},null,null,null,null,null,null,null,0,null,null,null,0,null,null,null,null,null,0]
[{"$f":"'Labor Summary (Office)'!A276","v":0},{"$f":"'Labor Summary (Office)'!B276","v":0},null,null,null,null,null,null,null,0,null,null,null,0,null,null,null,null,null,0]
[{"$f":"'Labor Summary (Office)'!A277","v":0},{"$f":"'Labor Summary (Office)'!B277","v":0},null,null,null,null,null,null,null,0,null,null,null,0,null,null,null,null,null,0]
[{"$f":"'Labor Summary (Office)'!A278","v":0},{"$f":"'Labor Summary (Office)'!B278","v":0},null,null,null,null,null,null,null,0,null,null,null,0,null,null,null,null,null,0]
[{"$f":"'Labor Summary (Office)'!A279","v":0},{"$f":"'Labor Summary (Office)'!B279","v":0},null,null,null,null,null,null,null,0,null,null,null,0,null,null,null,null,null,0]
[{"$f":"'Labor Summary (Office)'!A280","v":0},{"$f":"'Labor Summary (Office)'!B280","v":0},null,null,null,null,null,null,null,0,null,null,null,0,null,null,null,null,null,0]
[{"$f":"'Labor Summary (Office)'!A281","v":0},{"$f":"'Labor Summary (Office)'!B281","v":0},null,null,null,null,null,null,null,0,null,null,null,0,null,null,null,null,null,0]
[{"$f":"'Labor Summary (Office)'!A282","v":0},{"$f":"'Labor Summary (Office)'!B282","v":0},null,null,null,null,null,null,null,0,null,null,null,0,null,null,null,null,null,0]
[{"$f":"'Labor Summary (Office)'!A283","v":0},{"$f":"'Labor Summary (Office)'!B283","v":0},null,null,null,null,null,null,null,0,null,null,null,0,null,null,null,null,null,0]
[{"$f":"'Labor Summary (Office)'!A284","v":0},{"$f":"'Labor Summary (Office)'!B284","v":0},null,null,null,null,null,null,null,0,null,null,null,0,null,null,null,null,null,0]
[{"$f":"'Labor Summary (Office)'!A285","v":0},{"$f":"'Labor Summary (Office)'!B285","v":0},null,null,null,null,null,null,null,0,null,null,null,0,null,null,null,null,null,0]
[{"$f":"'Labor Summary (Office)'!A286","v":0},{"$f":"'Labor Summary (Office)'!B286","v":0},null,null,null,null,null,null,null,0,null,null,null,0,null,null,null,null,null,0]
[{"$f":"'Labor Summary (Office)'!A287","v":0},{"$f":"'Labor Summary (Office)'!B287","v":0},null,null,null,null,null,null,null,0,null,null,null,0,null,null,null,null,null,0]
[{"$f":"'Labor Summary (Office)'!A288","v":0},{"$f":"'Labor Summary (Office)'!B288","v":0},null,null,null,null,null,null,null,0,null,null,null,0,null,null,null,null,null,0]
[{"$f":"'Labor Summary (Office)'!A289","v":0},{"$f":"'Labor Summary (Office)'!B289","v":0},null,null,null,null,null,null,null,0,null,null,null,0,null,null,null,null,null,0]
[{"$f":"'Labor Summary (Office)'!A290","v":0},{"$f":"'Labor Summary (Office)'!B290","v":0},{"$f":"IF(A292=0,\"\",A292)","v":""},null,null,null,null,null,null,null,null,null,null,null,null,null,null,"Subtotal Line 9",null,{"$f":"ROUND(SUM(T262:T291),2)","v":0}]
[{"$f":"'Labor Summary (Office)'!A291","v":0},{"$f":"'Labor Summary (Office)'!B291","v":0},null,null,null,null,null,null,null,0,null,null,null,{"$f":"ROUND(M293*$N$9,2)","v":0},null,null,null,null,null,{"$f":"ROUND((G293+J293+L293+N293+O293+P293+Q293+R293+S293),2)","v":0}]
[{"$f":"'Labor Summary (Office)'!A292","v":0},{"$f":"'Labor Summary (Office)'!B292","v":0},null,null,null,null,null,null,null,0,null,null,null,{"$f":"ROUND(M294*$N$9,2)","v":0},null,null,null,null,null,0]
[{"$f":"'Labor Summary (Office)'!A293","v":0},{"$f":"'Labor Summary (Office)'!B293","v":0},null,null,null,null,null,null,null,0,null,null,null,0,null,null,null,null,null,0]
[{"$f":"'Labor Summary (Office)'!A294","v":0},{"$f":"'Labor Summary (Office)'!B294","v":0},null,null,null,null,null,null,null,0,null,null,null,0,null,null,null,null,null,0]
[{"$f":"'Labor Summary (Office)'!A295","v":0},{"$f":"'Labor Summary (Office)'!B295","v":0},null,null,null,null,null,null,null,0,null,null,null,0,null,null,null,null,null,0]
[{"$f":"'Labor Summary (Office)'!A296","v":0},{"$f":"'Labor Summary (Office)'!B296","v":0},null,null,null,null,null,null,null,0,null,null,null,0,null,null,null,null,null,0]
[{"$f":"'Labor Summary (Office)'!A297","v":0},{"$f":"'Labor Summary (Office)'!B297","v":0},null,null,null,null,null,null,null,0,null,null,null,0,null,null,null,null,null,0]
[{"$f":"'Labor Summary (Office)'!A298","v":0},{"$f":"'Labor Summary (Office)'!B298","v":0},null,null,null,null,null,null,null,0,null,null,null,0,null,null,null,null,null,0]
[{"$f":"'Labor Summary (Office)'!A299","v":0},{"$f":"'Labor Summary (Office)'!B299","v":0},null,null,null,null,null,null,null,0,null,null,null,0,null,null,null,null,null,0]
[{"$f":"'Labor Summary (Office)'!A300","v":0},{"$f":"'Labor Summary (Office)'!B300","v":0},null,null,null,null,null,null,null,0,null,null,null,0,null,null,null,null,null,0]
[{"$f":"'Labor Summary (Office)'!A301","v":0},{"$f":"'Labor Summary (Office)'!B301","v":0},null,null,null,null,null,null,null,0,null,null,null,0,null,null,null,null,null,0]
[{"$f":"'Labor Summary (Office)'!A302","v":0},{"$f":"'Labor Summary (Office)'!B302","v":0},null,null,null,null,null,null,null,0,null,null,null,0,null,null,null,null,null,0]
[{"$f":"'Labor Summary (Office)'!A303","v":0},{"$f":"'Labor Summary (Office)'!B303","v":0},null,null,null,null,null,null,null,0,null,null,null,0,null,null,null,null,null,0]
[{"$f":"'Labor Summary (Office)'!A304","v":0},{"$f":"'Labor Summary (Office)'!B304","v":0},null,null,null,null,null,null,null,0,null,null,null,0,null,null,null,null,null,0]
[{"$f":"'Labor Summary (Office)'!A305","v":0},{"$f":"'Labor Summary (Office)'!B305","v":0},null,null,null,null,null,null,null,0,null,null,null,0,null,null,null,null,null,0]
[{"$f":"'Labor Summary (Office)'!A306","v":0},{"$f":"'Labor Summary (Office)'!B306","v":0},null,null,null,null,null,null,null,0,null,null,null,0,null,null,null,null,null,0]
[{"$f":"'Labor Summary (Office)'!A307","v":0},{"$f":"'Labor Summary (Office)'!B307","v":0},null,null,null,null,null,null,null,0,null,null,null,0,null,null,null,null,null,0]
[{"$f":"'Labor Summary (Office)'!A308","v":0},{"$f":"'Labor Summary (Office)'!B308","v":0},null,null,null,null,null,null,null,0,null,null,null,0,null,null,null,null,null,0]
[{"$f":"'Labor Summary (Office)'!A309","v":0},{"$f":"'Labor Summary (Office)'!B309","v":0},null,null,null,null,null,null,null,0,null,null,null,0,null,null,null,null,null,0]
[{"$f":"'Labor Summary (Office)'!A310","v":0},{"$f":"'Labor Summary (Office)'!B310","v":0},null,null,null,null,null,null,null,0,null,null,null,0,null,null,null,null,null,0]
[{"$f":"'Labor Summary (Office)'!A311","v":0},{"$f":"'Labor Summary (Office)'!B311","v":0},null,null,null,null,null,null,null,0,null,null,null,0,null,null,null,null,null,0]
[{"$f":"'Labor Summary (Office)'!A312","v":0},{"$f":"'Labor Summary (Office)'!B312","v":0},null,null,null,null,null,null,null,0,null,null,null,0,null,null,null,null,null,0]
[{"$f":"'Labor Summary (Office)'!A313","v":0},{"$f":"'Labor Summary (Office)'!B313","v":0},null,null,null,null,null,null,null,0,null,null,null,0,null,null,null,null,null,0]
[{"$f":"'Labor Summary (Office)'!A314","v":0},{"$f":"'Labor Summary (Office)'!B314","v":0},null,null,null,null,null,null,null,0,null,null,null,0,null,null,null,null,null,0]
[{"$f":"'Labor Summary (Office)'!A315","v":0},{"$f":"'Labor Summary (Office)'!B315","v":0},null,null,null,null,null,null,null,0,null,null,null,0,null,null,null,null,null,0]
[{"$f":"'Labor Summary (Office)'!A316","v":0},{"$f":"'Labor Summary (Office)'!B316","v":0},null,null,null,null,null,null,null,0,null,null,null,0,null,null,null,null,null,0]
[{"$f":"'Labor Summary (Office)'!A317","v":0},{"$f":"'Labor Summary (Office)'!B317","v":0},null,null,null,null,null,null,null,0,null,null,null,0,null,null,null,null,null,0]
[{"$f":"'Labor Summary (Office)'!A318","v":0},{"$f":"'Labor Summary (Office)'!B318","v":0},null,null,null,null,null,null,null,0,null,null,null,0,null,null,null,null,null,0]
[{"$f":"'Labor Summary (Office)'!A319","v":0},{"$f":"'Labor Summary (Office)'!B319","v":0},null,null,null,null,null,null,null,0,null,null,null,0,null,null,null,null,null,0]
[{"$f":"'Labor Summary (Office)'!A320","v":0},{"$f":"'Labor Summary (Office)'!B320","v":0},null,null,null,null,null,null,null,0,null,null,null,0,null,null,null,null,null,0]
[{"$f":"'Labor Summary (Office)'!A321","v":0},{"$f":"'Labor Summary (Office)'!B321","v":0},{"$f":"IF(A323=0,\"\",A323)","v":""},null,null,null,null,null,null,null,null,null,null,null,null,null,null,"Subtotal Line 10",null,{"$f":"ROUND(SUM(T293:T322),2)","v":0}]
[{"$f":"'Labor Summary (Office)'!A322","v":0},{"$f":"'Labor Summary (Office)'!B322","v":0},null,null,null,null,null,null,null,0,null,null,null,{"$f":"ROUND(M324*$N$9,2)","v":0},null,null,null,null,null,{"$f":"ROUND((G324+J324+L324+N324+O324+P324+Q324+R324+S324),2)","v":0}]
[{"$f":"'Labor Summary (Office)'!A323","v":0},{"$f":"'Labor Summary (Office)'!B323","v":0},null,null,null,null,null,null,null,0,null,null,null,{"$f":"ROUND(M325*$N$9,2)","v":0},null,null,null,null,null,0]
[{"$f":"'Labor Summary (Office)'!A324","v":0},{"$f":"'Labor Summary (Office)'!B324","v":0},null,null,null,null,null,null,null,0,null,null,null,0,null,null,null,null,null,0]
[{"$f":"'Labor Summary (Office)'!A325","v":0},{"$f":"'Labor Summary (Office)'!B325","v":0},null,null,null,null,null,null,null,0,null,null,null,0,null,null,null,null,null,0]
[{"$f":"'Labor Summary (Office)'!A326","v":0},{"$f":"'Labor Summary (Office)'!B326","v":0},null,null,null,null,null,null,null,0,null,null,null,0,null,null,null,null,null,0]
[{"$f":"'Labor Summary (Office)'!A327","v":0},{"$f":"'Labor Summary (Office)'!B327","v":0},null,null,null,null,null,null,null,0,null,null,null,0,null,null,null,null,null,0]
[{"$f":"'Labor Summary (Office)'!A328","v":0},{"$f":"'Labor Summary (Office)'!B328","v":0},null,null,null,null,null,null,null,0,null,null,null,0,null,null,null,null,null,0]
[{"$f":"'Labor Summary (Office)'!A329","v":0},{"$f":"'Labor Summary (Office)'!B329","v":0},null,null,null,null,null,null,null,0,null,null,null,0,null,null,null,null,null,0]
[{"$f":"'Labor Summary (Office)'!A330","v":0},{"$f":"'Labor Summary (Office)'!B330","v":0},null,null,null,null,null,null,null,0,null,null,null,0,null,null,null,null,null,0]
[{"$f":"'Labor Summary (Office)'!A331","v":0},{"$f":"'Labor Summary (Office)'!B331","v":0},null,null,null,null,null,null,null,0,null,null,null,0,null,null,null,null,null,0]
[{"$f":"'Labor Summary (Office)'!A332","v":0},{"$f":"'Labor Summary (Office)'!B332","v":0},null,null,null,null,null,null,null,0,null,null,null,0,null,null,null,null,null,0]
[{"$f":"'Labor Summary (Office)'!A333","v":0},{"$f":"'Labor Summary (Office)'!B333","v":0},null,null,null,null,null,null,null,{"$f":"I335+H335","v":0},null,null,null,0,null,null,null,null,null,0]
[{"$f":"'Labor Summary (Office)'!A334","v":0},{"$f":"'Labor Summary (Office)'!B334","v":0},null,null,null,null,null,null,null,0,null,null,null,0,null,null,null,null,null,0]
[{"$f":"'Labor Summary (Office)'!A335","v":0},{"$f":"'Labor Summary (Office)'!B335","v":0},null,null,null,null,null,null,null,0,null,null,null,0,null,null,null,null,null,0]
[{"$f":"'Labor Summary (Office)'!A336","v":0},{"$f":"'Labor Summary (Office)'!B336","v":0},null,null,null,null,null,null,null,0,null,null,null,0,null,null,null,null,null,0]
[{"$f":"'Labor Summary (Office)'!A337","v":0},{"$f":"'Labor Summary (Office)'!B337","v":0},null,null,null,null,null,null,null,0,null,null,null,0,null,null,null,null,null,0]
[{"$f":"'Labor Summary (Office)'!A338","v":0},{"$f":"'Labor Summary (Office)'!B338","v":0},null,null,null,null,null,null,null,0,null,null,null,0,null,null,null,null,null,0]
[{"$f":"'Labor Summary (Office)'!A339","v":0},{"$f":"'Labor Summary (Office)'!B339","v":0},null,null,null,null,null,null,null,0,null,null,null,0,null,null,null,null,null,0]
[{"$f":"'Labor Summary (Office)'!A340","v":0},{"$f":"'Labor Summary (Office)'!B340","v":0},null,null,null,null,null,null,null,0,null,null,null,0,null,null,null,null,null,0]
[{"$f":"'Labor Summary (Office)'!A341","v":0},{"$f":"'Labor Summary (Office)'!B341","v":0},null,null,null,null,null,null,null,0,null,null,null,0,null,null,null,null,null,0]
[{"$f":"'Labor Summary (Office)'!A342","v":0},{"$f":"'Labor Summary (Office)'!B342","v":0},null,null,null,null,null,null,null,0,null,null,null,0,null,null,null,null,null,0]
[{"$f":"'Labor Summary (Office)'!A343","v":0},{"$f":"'Labor Summary (Office)'!B343","v":0},null,null,null,null,null,null,null,0,null,null,null,0,null,null,null,null,null,0]
[{"$f":"'Labor Summary (Office)'!A344","v":0},{"$f":"'Labor Summary (Office)'!B344","v":0},null,null,null,null,null,null,null,0,null,null,null,0,null,null,null,null,null,0]
[{"$f":"'Labor Summary (Office)'!A345","v":0},{"$f":"'Labor Summary (Office)'!B345","v":0},null,null,null,null,null,null,null,0,null,null,null,0,null,null,null,null,null,0]
[{"$f":"'Labor Summary (Office)'!A346","v":0},{"$f":"'Labor Summary (Office)'!B346","v":0},null,null,null,null,null,null,null,0,null,null,null,0,null,null,null,null,null,0]
[{"$f":"'Labor Summary (Office)'!A347","v":0},{"$f":"'Labor Summary (Office)'!B347","v":0},null,null,null,null,null,null,null,0,null,null,null,0,null,null,null,null,null,0]
[{"$f":"'Labor Summary (Office)'!A348","v":0},{"$f":"'Labor Summary (Office)'!B348","v":0},null,null,null,null,null,null,null,0,null,null,null,0,null,null,null,null,null,0]
[{"$f":"'Labor Summary (Office)'!A349","v":0},{"$f":"'Labor Summary (Office)'!B349","v":0},null,null,null,null,null,null,null,0,null,null,null,0,null,null,null,null,null,0]
[{"$f":"'Labor Summary (Office)'!A350","v":0},{"$f":"'Labor Summary (Office)'!B350","v":0},null,null,null,null,null,null,null,0,null,null,null,0,null,null,null,null,null,0]
[{"$f":"'Labor Summary (Office)'!A351","v":0},{"$f":"'Labor Summary (Office)'!B351","v":0},null,null,null,null,null,null,null,0,null,null,null,0,null,null,null,null,null,0]
[{"$f":"'Labor Summary (Office)'!A352","v":0},{"$f":"'Labor Summary (Office)'!B352","v":0},{"$f":"IF(A354=0,\"\",A354)","v":""},null,null,null,null,null,null,null,null,null,null,null,null,null,null,"Subtotal Line 11",null,{"$f":"ROUND(SUM(T324:T353),2)","v":0}]
[{"$f":"'Labor Summary (Office)'!A353","v":0},{"$f":"'Labor Summary (Office)'!B353","v":0},null,null,null,null,null,null,null,0,null,null,null,{"$f":"ROUND(M355*$N$9,2)","v":0},null,null,null,null,null,{"$f":"ROUND((G355+J355+L355+N355+O355+P355+Q355+R355+S355),2)","v":0}]
[{"$f":"'Labor Summary (Office)'!A354","v":0},{"$f":"'Labor Summary (Office)'!B354","v":0},null,null,null,null,null,null,null,0,null,null,null,{"$f":"ROUND(M356*$N$9,2)","v":0},null,null,null,null,null,0]
[{"$f":"'Labor Summary (Office)'!A355","v":0},{"$f":"'Labor Summary (Office)'!B355","v":0},null,null,null,null,null,null,null,0,null,null,null,0,null,null,null,null,null,0]
[{"$f":"'Labor Summary (Office)'!A356","v":0},{"$f":"'Labor Summary (Office)'!B356","v":0},null,null,null,null,null,null,null,0,null,null,null,0,null,null,null,null,null,0]
[{"$f":"'Labor Summary (Office)'!A357","v":0},{"$f":"'Labor Summary (Office)'!B357","v":0},null,null,null,null,null,null,null,0,null,null,null,0,null,null,null,null,null,0]
[{"$f":"'Labor Summary (Office)'!A358","v":0},{"$f":"'Labor Summary (Office)'!B358","v":0},null,null,null,null,null,null,null,0,null,null,null,0,null,null,null,null,null,0]
[{"$f":"'Labor Summary (Office)'!A359","v":0},{"$f":"'Labor Summary (Office)'!B359","v":0},null,null,null,null,null,null,null,0,null,null,null,0,null,null,null,null,null,0]
[{"$f":"'Labor Summary (Office)'!A360","v":0},{"$f":"'Labor Summary (Office)'!B360","v":0},null,null,null,null,null,null,null,0,null,null,null,0,null,null,null,null,null,0]
[{"$f":"'Labor Summary (Office)'!A361","v":0},{"$f":"'Labor Summary (Office)'!B361","v":0},null,null,null,null,null,null,null,0,null,null,null,0,null,null,null,null,null,0]
[{"$f":"'Labor Summary (Office)'!A362","v":0},{"$f":"'Labor Summary (Office)'!B362","v":0},null,null,null,null,null,null,null,0,null,null,null,0,null,null,null,null,null,0]
[{"$f":"'Labor Summary (Office)'!A363","v":0},{"$f":"'Labor Summary (Office)'!B363","v":0},null,null,null,null,null,null,null,0,null,null,null,0,null,null,null,null,null,0]
[{"$f":"'Labor Summary (Office)'!A364","v":0},{"$f":"'Labor Summary (Office)'!B364","v":0},null,null,null,null,null,null,null,0,null,null,null,0,null,null,null,null,null,0]
[{"$f":"'Labor Summary (Office)'!A365","v":0},{"$f":"'Labor Summary (Office)'!B365","v":0},null,null,null,null,null,null,null,0,null,null,null,0,null,null,null,null,null,0]
[{"$f":"'Labor Summary (Office)'!A366","v":0},{"$f":"'Labor Summary (Office)'!B366","v":0},null,null,null,null,null,null,null,0,null,null,null,0,null,null,null,null,null,0]
[{"$f":"'Labor Summary (Office)'!A367","v":0},{"$f":"'Labor Summary (Office)'!B367","v":0},null,null,null,null,null,null,null,0,null,null,null,0,null,null,null,null,null,0]
[{"$f":"'Labor Summary (Office)'!A368","v":0},{"$f":"'Labor Summary (Office)'!B368","v":0},null,null,null,null,null,null,null,0,null,null,null,0,null,null,null,null,null,0]
[{"$f":"'Labor Summary (Office)'!A369","v":0},{"$f":"'Labor Summary (Office)'!B369","v":0},null,null,null,null,null,null,null,0,null,null,null,0,null,null,null,null,null,0]
[{"$f":"'Labor Summary (Office)'!A370","v":0},{"$f":"'Labor Summary (Office)'!B370","v":0},null,null,null,null,null,null,null,0,null,null,null,0,null,null,null,null,null,0]
[{"$f":"'Labor Summary (Office)'!A371","v":0},{"$f":"'Labor Summary (Office)'!B371","v":0},null,null,null,null,null,null,null,0,null,null,null,0,null,null,null,null,null,0]
[{"$f":"'Labor Summary (Office)'!A372","v":0},{"$f":"'Labor Summary (Office)'!B372","v":0},null,null,null,null,null,null,null,0,null,null,null,0,null,null,null,null,null,0]
[{"$f":"'Labor Summary (Office)'!A373","v":0},{"$f":"'Labor Summary (Office)'!B373","v":0},null,null,null,null,null,null,null,0,null,null,null,0,null,null,null,null,null,0]
[{"$f":"'Labor Summary (Office)'!A374","v":0},{"$f":"'Labor Summary (Office)'!B374","v":0},null,null,null,null,null,null,null,0,null,null,null,0,null,null,null,null,null,0]
[{"$f":"'Labor Summary (Office)'!A375","v":0},{"$f":"'Labor Summary (Office)'!B375","v":0},null,null,null,null,null,null,null,0,null,null,null,0,null,null,null,null,null,0]
[{"$f":"'Labor Summary (Office)'!A376","v":0},{"$f":"'Labor Summary (Office)'!B376","v":0},null,null,null,null,null,null,null,0,null,null,null,0,null,null,null,null,null,0]
[{"$f":"'Labor Summary (Office)'!A377","v":0},{"$f":"'Labor Summary (Office)'!B377","v":0},null,null,null,null,null,null,null,0,null,null,null,0,null,null,null,null,null,0]
[{"$f":"'Labor Summary (Office)'!A378","v":0},{"$f":"'Labor Summary (Office)'!B378","v":0},null,null,null,null,null,null,null,0,null,null,null,0,null,null,null,null,null,0]
[{"$f":"'Labor Summary (Office)'!A379","v":0},{"$f":"'Labor Summary (Office)'!B379","v":0},null,null,null,null,null,null,null,0,null,null,null,0,null,null,null,null,null,0]
[{"$f":"'Labor Summary (Office)'!A380","v":0},{"$f":"'Labor Summary (Office)'!B380","v":0},null,null,null,null,null,null,null,0,null,null,null,0,null,null,null,null,null,0]
[{"$f":"'Labor Summary (Office)'!A381","v":0},{"$f":"'Labor Summary (Office)'!B381","v":0},null,null,null,null,null,null,null,0,null,null,null,0,null,null,null,null,null,0]
[{"$f":"'Labor Summary (Office)'!A382","v":0},{"$f":"'Labor Summary (Office)'!B382","v":0},null,null,null,null,null,null,null,0,null,null,null,0,null,null,null,null,null,0]
[{"$f":"'Labor Summary (Office)'!A383","v":0},{"$f":"'Labor Summary (Office)'!B383","v":0},{"$f":"IF(A385=0,\"\",A385)","v":""},null,null,null,null,null,null,null,null,null,null,null,null,null,null,"Subtotal Line 12",null,{"$f":"ROUND(SUM(T355:T384),2)","v":0}]
[{"$f":"'Labor Summary (Office)'!A384","v":0},{"$f":"'Labor Summary (Office)'!B384","v":0},null,null,null,null,null,null,null,0,null,null,null,{"$f":"ROUND(M386*$N$9,2)","v":0},null,null,null,null,null,{"$f":"ROUND((G386+J386+L386+N386+O386+P386+Q386+R386+S386),2)","v":0}]
[{"$f":"'Labor Summary (Office)'!A385","v":0},{"$f":"'Labor Summary (Office)'!B385","v":0},null,null,null,null,null,null,null,0,null,null,null,{"$f":"ROUND(M387*$N$9,2)","v":0},null,null,null,null,null,0]
[{"$f":"'Labor Summary (Office)'!A386","v":0},{"$f":"'Labor Summary (Office)'!B386","v":0},null,null,null,null,null,null,null,0,null,null,null,0,null,null,null,null,null,0]
[{"$f":"'Labor Summary (Office)'!A387","v":0},{"$f":"'Labor Summary (Office)'!B387","v":0},null,null,null,null,null,null,null,0,null,null,null,0,null,null,null,null,null,0]
[{"$f":"'Labor Summary (Office)'!A388","v":0},{"$f":"'Labor Summary (Office)'!B388","v":0},null,null,null,null,null,null,null,0,null,null,null,0,null,null,null,null,null,0]
[{"$f":"'Labor Summary (Office)'!A389","v":0},{"$f":"'Labor Summary (Office)'!B389","v":0},null,null,null,null,null,null,null,0,null,null,null,0,null,null,null,null,null,0]
[{"$f":"'Labor Summary (Office)'!A390","v":0},{"$f":"'Labor Summary (Office)'!B390","v":0},null,null,null,null,null,null,null,0,null,null,null,0,null,null,null,null,null,0]
[{"$f":"'Labor Summary (Office)'!A391","v":0},{"$f":"'Labor Summary (Office)'!B391","v":0},null,null,null,null,null,null,null,0,null,null,null,0,null,null,null,null,null,0]
[{"$f":"'Labor Summary (Office)'!A392","v":0},{"$f":"'Labor Summary (Office)'!B392","v":0},null,null,null,null,null,null,null,0,null,null,null,0,null,null,null,null,null,0]
[{"$f":"'Labor Summary (Office)'!A393","v":0},{"$f":"'Labor Summary (Office)'!B393","v":0},null,null,null,null,null,null,null,0,null,null,null,0,null,null,null,null,null,0]
[{"$f":"'Labor Summary (Office)'!A394","v":0},{"$f":"'Labor Summary (Office)'!B394","v":0},null,null,null,null,null,null,null,0,null,null,null,0,null,null,null,null,null,0]
[{"$f":"'Labor Summary (Office)'!A395","v":0},{"$f":"'Labor Summary (Office)'!B395","v":0},null,null,null,null,null,null,null,0,null,null,null,0,null,null,null,null,null,0]
[{"$f":"'Labor Summary (Office)'!A396","v":0},{"$f":"'Labor Summary (Office)'!B396","v":0},null,null,null,null,null,null,null,0,null,null,null,0,null,null,null,null,null,0]
[{"$f":"'Labor Summary (Office)'!A397","v":0},{"$f":"'Labor Summary (Office)'!B397","v":0},null,null,null,null,null,null,null,{"$f":"I399+H399","v":0},null,null,null,0,null,null,null,null,null,0]
[{"$f":"'Labor Summary (Office)'!A398","v":0},{"$f":"'Labor Summary (Office)'!B398","v":0},null,null,null,null,null,null,null,0,null,null,null,0,null,null,null,null,null,0]
[{"$f":"'Labor Summary (Office)'!A399","v":0},{"$f":"'Labor Summary (Office)'!B399","v":0},null,null,null,null,null,null,null,0,null,null,null,0,null,null,null,null,null,0]
[{"$f":"'Labor Summary (Office)'!A400","v":0},{"$f":"'Labor Summary (Office)'!B400","v":0},null,null,null,null,null,null,null,0,null,null,null,0,null,null,null,null,null,0]
[{"$f":"'Labor Summary (Office)'!A401","v":0},{"$f":"'Labor Summary (Office)'!B401","v":0},null,null,null,null,null,null,null,0,null,null,null,0,null,null,null,null,null,0]
[{"$f":"'Labor Summary (Office)'!A402","v":0},{"$f":"'Labor Summary (Office)'!B402","v":0},null,null,null,null,null,null,null,0,null,null,null,0,null,null,null,null,null,0]
[{"$f":"'Labor Summary (Office)'!A403","v":0},{"$f":"'Labor Summary (Office)'!B403","v":0},null,null,null,null,null,null,null,0,null,null,null,0,null,null,null,null,null,0]
[{"$f":"'Labor Summary (Office)'!A404","v":0},{"$f":"'Labor Summary (Office)'!B404","v":0},null,null,null,null,null,null,null,0,null,null,null,0,null,null,null,null,null,0]
[{"$f":"'Labor Summary (Office)'!A405","v":0},{"$f":"'Labor Summary (Office)'!B405","v":0},null,null,null,null,null,null,null,0,null,null,null,0,null,null,null,null,null,0]
[{"$f":"'Labor Summary (Office)'!A406","v":0},{"$f":"'Labor Summary (Office)'!B406","v":0},null,null,null,null,null,null,null,0,null,null,null,0,null,null,null,null,null,0]
[{"$f":"'Labor Summary (Office)'!A407","v":0},{"$f":"'Labor Summary (Office)'!B407","v":0},null,null,null,null,null,null,null,0,null,null,null,0,null,null,null,null,null,0]
[{"$f":"'Labor Summary (Office)'!A408","v":0},{"$f":"'Labor Summary (Office)'!B408","v":0},null,null,null,null,null,null,null,0,null,null,null,0,null,null,null,null,null,0]
[{"$f":"'Labor Summary (Office)'!A409","v":0},{"$f":"'Labor Summary (Office)'!B409","v":0},null,null,null,null,null,null,null,0,null,null,null,0,null,null,null,null,null,0]
[{"$f":"'Labor Summary (Office)'!A410","v":0},{"$f":"'Labor Summary (Office)'!B410","v":0},null,null,null,null,null,null,null,0,null,null,null,0,null,null,null,null,null,0]
[{"$f":"'Labor Summary (Office)'!A411","v":0},{"$f":"'Labor Summary (Office)'!B411","v":0},null,null,null,null,null,null,null,0,null,null,null,0,null,null,null,null,null,0]
[{"$f":"'Labor Summary (Office)'!A412","v":0},{"$f":"'Labor Summary (Office)'!B412","v":0},null,null,null,null,null,null,null,0,null,null,null,0,null,null,null,null,null,0]
[{"$f":"'Labor Summary (Office)'!A413","v":0},{"$f":"'Labor Summary (Office)'!B413","v":0},null,null,null,null,null,null,null,0,null,null,null,0,null,null,null,null,null,0]
[{"$f":"'Labor Summary (Office)'!A414","v":0},{"$f":"'Labor Summary (Office)'!B414","v":0},{"$f":"IF(A416=0,\"\",A416)","v":""},null,null,null,null,null,null,null,null,null,null,null,null,null,null,"Subtotal Line 13",null,{"$f":"ROUND(SUM(T386:T415),2)","v":0}]
[{"$f":"'Labor Summary (Office)'!A415","v":0},{"$f":"'Labor Summary (Office)'!B415","v":0},null,null,null,null,null,null,null,0,null,null,null,{"$f":"ROUND(M417*$N$9,2)","v":0},null,null,null,null,null,{"$f":"ROUND((G417+J417+L417+N417+O417+P417+Q417+R417+S417),2)","v":0}]
[{"$f":"'Labor Summary (Office)'!A416","v":0},{"$f":"'Labor Summary (Office)'!B416","v":0},null,null,null,null,null,null,null,0,null,null,null,{"$f":"ROUND(M418*$N$9,2)","v":0},null,null,null,null,null,0]
[{"$f":"'Labor Summary (Office)'!A417","v":0},{"$f":"'Labor Summary (Office)'!B417","v":0},null,null,null,null,null,null,null,0,null,null,null,0,null,null,null,null,null,0]
[{"$f":"'Labor Summary (Office)'!A418","v":0},{"$f":"'Labor Summary (Office)'!B418","v":0},null,null,null,null,null,null,null,0,null,null,null,0,null,null,null,null,null,0]
[{"$f":"'Labor Summary (Office)'!A419","v":0},{"$f":"'Labor Summary (Office)'!B419","v":0},null,null,null,null,null,null,null,0,null,null,null,0,null,null,null,null,null,0]
[{"$f":"'Labor Summary (Office)'!A420","v":0},{"$f":"'Labor Summary (Office)'!B420","v":0},null,null,null,null,null,null,null,0,null,null,null,0,null,null,null,null,null,0]
[{"$f":"'Labor Summary (Office)'!A421","v":0},{"$f":"'Labor Summary (Office)'!B421","v":0},null,null,null,null,null,null,null,0,null,null,null,0,null,null,null,null,null,0]
[{"$f":"'Labor Summary (Office)'!A422","v":0},{"$f":"'Labor Summary (Office)'!B422","v":0},null,null,null,null,null,null,null,0,null,null,null,0,null,null,null,null,null,0]
[{"$f":"'Labor Summary (Office)'!A423","v":0},{"$f":"'Labor Summary (Office)'!B423","v":0},null,null,null,null,null,null,null,0,null,null,null,0,null,null,null,null,null,0]
[{"$f":"'Labor Summary (Office)'!A424","v":0},{"$f":"'Labor Summary (Office)'!B424","v":0},null,null,null,null,null,null,null,0,null,null,null,0,null,null,null,null,null,0]
[{"$f":"'Labor Summary (Office)'!A425","v":0},{"$f":"'Labor Summary (Office)'!B425","v":0},null,null,null,null,null,null,null,0,null,null,null,0,null,null,null,null,null,0]
[{"$f":"'Labor Summary (Office)'!A426","v":0},{"$f":"'Labor Summary (Office)'!B426","v":0},null,null,null,null,null,null,null,0,null,null,null,0,null,null,null,null,null,0]
[{"$f":"'Labor Summary (Office)'!A427","v":0},{"$f":"'Labor Summary (Office)'!B427","v":0},null,null,null,null,null,null,null,0,null,null,null,0,null,null,null,null,null,0]
[{"$f":"'Labor Summary (Office)'!A428","v":0},{"$f":"'Labor Summary (Office)'!B428","v":0},null,null,null,null,null,null,null,0,null,null,null,0,null,null,null,null,null,0]
[{"$f":"'Labor Summary (Office)'!A429","v":0},{"$f":"'Labor Summary (Office)'!B429","v":0},null,null,null,null,null,null,null,0,null,null,null,0,null,null,null,null,null,0]
[{"$f":"'Labor Summary (Office)'!A430","v":0},{"$f":"'Labor Summary (Office)'!B430","v":0},null,null,null,null,null,null,null,0,null,null,null,0,null,null,null,null,null,0]
[{"$f":"'Labor Summary (Office)'!A431","v":0},{"$f":"'Labor Summary (Office)'!B431","v":0},null,null,null,null,null,null,null,0,null,null,null,0,null,null,null,null,null,0]
[{"$f":"'Labor Summary (Office)'!A432","v":0},{"$f":"'Labor Summary (Office)'!B432","v":0},null,null,null,null,null,null,null,0,null,null,null,0,null,null,null,null,null,0]
[{"$f":"'Labor Summary (Office)'!A433","v":0},{"$f":"'Labor Summary (Office)'!B433","v":0},null,null,null,null,null,null,null,0,null,null,null,0,null,null,null,null,null,0]
[{"$f":"'Labor Summary (Office)'!A434","v":0},{"$f":"'Labor Summary (Office)'!B434","v":0},null,null,null,null,null,null,null,0,null,null,null,0,null,null,null,null,null,0]
[{"$f":"'Labor Summary (Office)'!A435","v":0},{"$f":"'Labor Summary (Office)'!B435","v":0},null,null,null,null,null,null,null,0,null,null,null,0,null,null,null,null,null,0]
[{"$f":"'Labor Summary (Office)'!A436","v":0},{"$f":"'Labor Summary (Office)'!B436","v":0},null,null,null,null,null,null,null,0,null,null,null,0,null,null,null,null,null,0]
[{"$f":"'Labor Summary (Office)'!A437","v":0},{"$f":"'Labor Summary (Office)'!B437","v":0},null,null,null,null,null,null,null,0,null,null,null,0,null,null,null,null,null,0]
[{"$f":"'Labor Summary (Office)'!A438","v":0},{"$f":"'Labor Summary (Office)'!B438","v":0},null,null,null,null,null,null,null,0,null,null,null,0,null,null,null,null,null,0]
[{"$f":"'Labor Summary (Office)'!A439","v":0},{"$f":"'Labor Summary (Office)'!B439","v":0},null,null,null,null,null,null,null,0,null,null,null,0,null,null,null,null,null,0]
[{"$f":"'Labor Summary (Office)'!A440","v":0},{"$f":"'Labor Summary (Office)'!B440","v":0},null,null,null,null,null,null,null,0,null,null,null,0,null,null,null,null,null,0]
[{"$f":"'Labor Summary (Office)'!A441","v":0},{"$f":"'Labor Summary (Office)'!B441","v":0},null,null,null,null,null,null,null,0,null,null,null,0,null,null,null,null,null,0]
[{"$f":"'Labor Summary (Office)'!A442","v":0},{"$f":"'Labor Summary (Office)'!B442","v":0},null,null,null,null,null,null,null,0,null,null,null,0,null,null,null,null,null,0]
[{"$f":"'Labor Summary (Office)'!A443","v":0},{"$f":"'Labor Summary (Office)'!B443","v":0},null,null,null,null,null,null,null,0,null,null,null,0,null,null,null,null,null,0]
[{"$f":"'Labor Summary (Office)'!A444","v":0},{"$f":"'Labor Summary (Office)'!B444","v":0},null,null,null,null,null,null,null,0,null,null,null,0,null,null,null,null,null,0]
[{"$f":"'Labor Summary (Office)'!A445","v":0},{"$f":"'Labor Summary (Office)'!B445","v":0},{"$f":"IF(A447=0,\"\",A447)","v":""},null,null,null,null,null,null,null,null,null,null,null,null,null,null,"Subtotal Line 14",null,{"$f":"ROUND(SUM(T417:T446),2)","v":0}]
[{"$f":"'Labor Summary (Office)'!A446","v":0},{"$f":"'Labor Summary (Office)'!B446","v":0},null,null,null,null,null,null,null,0,null,null,null,{"$f":"ROUND(M448*$N$9,2)","v":0},null,null,null,null,null,{"$f":"ROUND((G448+J448+L448+N448+O448+P448+Q448+R448+S448),2)","v":0}]
[{"$f":"'Labor Summary (Office)'!A447","v":0},{"$f":"'Labor Summary (Office)'!B447","v":0},null,null,null,null,null,null,null,0,null,null,null,{"$f":"ROUND(M449*$N$9,2)","v":0},null,null,null,null,null,0]
[{"$f":"'Labor Summary (Office)'!A448","v":0},{"$f":"'Labor Summary (Office)'!B448","v":0},null,null,null,null,null,null,null,0,null,null,null,0,null,null,null,null,null,0]
[{"$f":"'Labor Summary (Office)'!A449","v":0},{"$f":"'Labor Summary (Office)'!B449","v":0},null,null,null,null,null,null,null,0,null,null,null,0,null,null,null,null,null,0]
[{"$f":"'Labor Summary (Office)'!A450","v":0},{"$f":"'Labor Summary (Office)'!B450","v":0},null,null,null,null,null,null,null,0,null,null,null,0,null,null,null,null,null,0]
[{"$f":"'Labor Summary (Office)'!A451","v":0},{"$f":"'Labor Summary (Office)'!B451","v":0},null,null,null,null,null,null,null,0,null,null,null,0,null,null,null,null,null,0]
[{"$f":"'Labor Summary (Office)'!A452","v":0},{"$f":"'Labor Summary (Office)'!B452","v":0},null,null,null,null,null,null,null,0,null,null,null,0,null,null,null,null,null,0]
[{"$f":"'Labor Summary (Office)'!A453","v":0},{"$f":"'Labor Summary (Office)'!B453","v":0},null,null,null,null,null,null,null,0,null,null,null,0,null,null,null,null,null,0]
[{"$f":"'Labor Summary (Office)'!A454","v":0},{"$f":"'Labor Summary (Office)'!B454","v":0},null,null,null,null,null,null,null,0,null,null,null,0,null,null,null,null,null,0]
[{"$f":"'Labor Summary (Office)'!A455","v":0},{"$f":"'Labor Summary (Office)'!B455","v":0},null,null,null,null,null,null,null,0,null,null,null,0,null,null,null,null,null,0]
[{"$f":"'Labor Summary (Office)'!A456","v":0},{"$f":"'Labor Summary (Office)'!B456","v":0},null,null,null,null,null,null,null,0,null,null,null,0,null,null,null,null,null,0]
[{"$f":"'Labor Summary (Office)'!A457","v":0},{"$f":"'Labor Summary (Office)'!B457","v":0},null,null,null,null,null,null,null,0,null,null,null,0,null,null,null,null,null,0]
[{"$f":"'Labor Summary (Office)'!A458","v":0},{"$f":"'Labor Summary (Office)'!B458","v":0},null,null,null,null,null,null,null,0,null,null,null,0,null,null,null,null,null,0]
[{"$f":"'Labor Summary (Office)'!A459","v":0},{"$f":"'Labor Summary (Office)'!B459","v":0},null,null,null,null,null,null,null,0,null,null,null,0,null,null,null,null,null,0]
[{"$f":"'Labor Summary (Office)'!A460","v":0},{"$f":"'Labor Summary (Office)'!B460","v":0},null,null,null,null,null,null,null,0,null,null,null,0,null,null,null,null,null,0]
[{"$f":"'Labor Summary (Office)'!A461","v":0},{"$f":"'Labor Summary (Office)'!B461","v":0},null,null,null,null,null,null,null,{"$f":"I463+H463","v":0},null,null,null,0,null,null,null,null,null,0]
[{"$f":"'Labor Summary (Office)'!A462","v":0},{"$f":"'Labor Summary (Office)'!B462","v":0},null,null,null,null,null,null,null,0,null,null,null,0,null,null,null,null,null,0]
[{"$f":"'Labor Summary (Office)'!A463","v":0},{"$f":"'Labor Summary (Office)'!B463","v":0},null,null,null,null,null,null,null,0,null,null,null,0,null,null,null,null,null,0]
[{"$f":"'Labor Summary (Office)'!A464","v":0},{"$f":"'Labor Summary (Office)'!B464","v":0},null,null,null,null,null,null,null,0,null,null,null,0,null,null,null,null,null,0]
[{"$f":"'Labor Summary (Office)'!A465","v":0},{"$f":"'Labor Summary (Office)'!B465","v":0},null,null,null,null,null,null,null,0,null,null,null,0,null,null,null,null,null,0]
[{"$f":"'Labor Summary (Office)'!A466","v":0},{"$f":"'Labor Summary (Office)'!B466","v":0},null,null,null,null,null,null,null,0,null,null,null,0,null,null,null,null,null,0]
[{"$f":"'Labor Summary (Office)'!A467","v":0},{"$f":"'Labor Summary (Office)'!B467","v":0},null,null,null,null,null,null,null,0,null,null,null,0,null,null,null,null,null,0]
[{"$f":"'Labor Summary (Office)'!A468","v":0},{"$f":"'Labor Summary (Office)'!B468","v":0},null,null,null,null,null,null,null,0,null,null,null,0,null,null,null,null,null,0]
[{"$f":"'Labor Summary (Office)'!A469","v":0},{"$f":"'Labor Summary (Office)'!B469","v":0},null,null,null,null,null,null,null,0,null,null,null,0,null,null,null,null,null,0]
[{"$f":"'Labor Summary (Office)'!A470","v":0},{"$f":"'Labor Summary (Office)'!B470","v":0},null,null,null,null,null,null,null,0,null,null,null,0,null,null,null,null,null,0]
[{"$f":"'Labor Summary (Office)'!A471","v":0},{"$f":"'Labor Summary (Office)'!B471","v":0},null,null,null,null,null,null,null,0,null,null,null,0,null,null,null,null,null,0]
[{"$f":"'Labor Summary (Office)'!A472","v":0},{"$f":"'Labor Summary (Office)'!B472","v":0},null,null,null,null,null,null,null,0,null,null,null,0,null,null,null,null,null,0]
[{"$f":"'Labor Summary (Office)'!A473","v":0},{"$f":"'Labor Summary (Office)'!B473","v":0},null,null,null,null,null,null,null,0,null,null,null,0,null,null,null,null,null,0]
[{"$f":"'Labor Summary (Office)'!A474","v":0},{"$f":"'Labor Summary (Office)'!B474","v":0},null,null,null,null,null,null,null,0,null,null,null,0,null,null,null,null,null,0]
[{"$f":"'Labor Summary (Office)'!A475","v":0},{"$f":"'Labor Summary (Office)'!B475","v":0},null,null,null,null,null,null,null,0,null,null,null,0,null,null,null,null,null,0]
[{"$f":"'Labor Summary (Office)'!A476","v":0},{"$f":"'Labor Summary (Office)'!B476","v":0},{"$f":"IF(A478=0,\"\",A478)","v":""},null,null,null,null,null,null,null,null,null,null,null,null,null,null,"Subtotal Line 15",null,{"$f":"ROUND(SUM(T448:T477),2)","v":0}]
[{"$f":"'Labor Summary (Office)'!A477","v":0},{"$f":"'Labor Summary (Office)'!B477","v":0},null,null,null,null,null,null,null,0,null,null,null,{"$f":"ROUND(M479*$N$9,2)","v":0},null,null,null,null,null,{"$f":"ROUND((G479+J479+L479+N479+O479+P479+Q479+R479+S479),2)","v":0}]
[{"$f":"'Labor Summary (Office)'!A478","v":0},{"$f":"'Labor Summary (Office)'!B478","v":0},null,null,null,null,null,null,null,0,null,null,null,{"$f":"ROUND(M480*$N$9,2)","v":0},null,null,null,null,null,0]
[{"$f":"'Labor Summary (Office)'!A479","v":0},{"$f":"'Labor Summary (Office)'!B479","v":0},null,null,null,null,null,null,null,0,null,null,null,0,null,null,null,null,null,0]
[{"$f":"'Labor Summary (Office)'!A480","v":0},{"$f":"'Labor Summary (Office)'!B480","v":0},null,null,null,null,null,null,null,0,null,null,null,0,null,null,null,null,null,0]
[{"$f":"'Labor Summary (Office)'!A481","v":0},{"$f":"'Labor Summary (Office)'!B481","v":0},null,null,null,null,null,null,null,0,null,null,null,0,null,null,null,null,null,0]
[{"$f":"'Labor Summary (Office)'!A482","v":0},{"$f":"'Labor Summary (Office)'!B482","v":0},null,null,null,null,null,null,null,0,null,null,null,0,null,null,null,null,null,0]
[{"$f":"'Labor Summary (Office)'!A483","v":0},{"$f":"'Labor Summary (Office)'!B483","v":0},null,null,null,null,null,null,null,0,null,null,null,0,null,null,null,null,null,0]
[{"$f":"'Labor Summary (Office)'!A484","v":0},{"$f":"'Labor Summary (Office)'!B484","v":0},null,null,null,null,null,null,null,0,null,null,null,0,null,null,null,null,null,0]
[{"$f":"'Labor Summary (Office)'!A485","v":0},{"$f":"'Labor Summary (Office)'!B485","v":0},null,null,null,null,null,null,null,0,null,null,null,0,null,null,null,null,null,0]
[{"$f":"'Labor Summary (Office)'!A486","v":0},{"$f":"'Labor Summary (Office)'!B486","v":0},null,null,null,null,null,null,null,0,null,null,null,0,null,null,null,null,null,0]
[{"$f":"'Labor Summary (Office)'!A487","v":0},{"$f":"'Labor Summary (Office)'!B487","v":0},null,null,null,null,null,null,null,0,null,null,null,0,null,null,null,null,null,0]
[{"$f":"'Labor Summary (Office)'!A488","v":0},{"$f":"'Labor Summary (Office)'!B488","v":0},null,null,null,null,null,null,null,0,null,null,null,0,null,null,null,null,null,0]
[{"$f":"'Labor Summary (Office)'!A489","v":0},{"$f":"'Labor Summary (Office)'!B489","v":0},null,null,null,null,null,null,null,0,null,null,null,0,null,null,null,null,null,0]
[{"$f":"'Labor Summary (Office)'!A490","v":0},{"$f":"'Labor Summary (Office)'!B490","v":0},null,null,null,null,null,null,null,0,null,null,null,0,null,null,null,null,null,0]
[{"$f":"'Labor Summary (Office)'!A491","v":0},{"$f":"'Labor Summary (Office)'!B491","v":0},null,null,null,null,null,null,null,0,null,null,null,0,null,null,null,null,null,0]
[{"$f":"'Labor Summary (Office)'!A492","v":0},{"$f":"'Labor Summary (Office)'!B492","v":0},null,null,null,null,null,null,null,0,null,null,null,0,null,null,null,null,null,0]
[{"$f":"'Labor Summary (Office)'!A493","v":0},{"$f":"'Labor Summary (Office)'!B493","v":0},null,null,null,null,null,null,null,0,null,null,null,0,null,null,null,null,null,0]
[{"$f":"'Labor Summary (Office)'!A494","v":0},{"$f":"'Labor Summary (Office)'!B494","v":0},null,null,null,null,null,null,null,0,null,null,null,0,null,null,null,null,null,0]
[{"$f":"'Labor Summary (Office)'!A495","v":0},{"$f":"'Labor Summary (Office)'!B495","v":0},null,null,null,null,null,null,null,0,null,null,null,0,null,null,null,null,null,0]
[{"$f":"'Labor Summary (Office)'!A496","v":0},{"$f":"'Labor Summary (Office)'!B496","v":0},null,null,null,null,null,null,null,0,null,null,null,0,null,null,null,null,null,0]
[{"$f":"'Labor Summary (Office)'!A497","v":0},{"$f":"'Labor Summary (Office)'!B497","v":0},null,null,null,null,null,null,null,0,null,null,null,0,null,null,null,null,null,0]
[{"$f":"'Labor Summary (Office)'!A498","v":0},{"$f":"'Labor Summary (Office)'!B498","v":0},null,null,null,null,null,null,null,0,null,null,null,0,null,null,null,null,null,0]
[{"$f":"'Labor Summary (Office)'!A499","v":0},{"$f":"'Labor Summary (Office)'!B499","v":0},null,null,null,null,null,null,null,0,null,null,null,0,null,null,null,null,null,0]
[{"$f":"'Labor Summary (Office)'!A500","v":0},{"$f":"'Labor Summary (Office)'!B500","v":0},null,null,null,null,null,null,null,0,null,null,null,0,null,null,null,null,null,0]
[{"$f":"'Labor Summary (Office)'!A501","v":0},{"$f":"'Labor Summary (Office)'!B501","v":0},null,null,null,null,null,null,null,0,null,null,null,0,null,null,null,null,null,0]
[{"$f":"'Labor Summary (Office)'!A502","v":0},{"$f":"'Labor Summary (Office)'!B502","v":0},null,null,null,null,null,null,null,0,null,null,null,0,null,null,null,null,null,0]
[{"$f":"'Labor Summary (Office)'!A503","v":0},{"$f":"'Labor Summary (Office)'!B503","v":0},null,null,null,null,null,null,null,0,null,null,null,0,null,null,null,null,null,0]
[{"$f":"'Labor Summary (Office)'!A504","v":0},{"$f":"'Labor Summary (Office)'!B504","v":0},null,null,null,null,null,null,null,0,null,null,null,0,null,null,null,null,null,0]
[{"$f":"'Labor Summary (Office)'!A505","v":0},{"$f":"'Labor Summary (Office)'!B505","v":0},null,null,null,null,null,null,null,0,null,null,null,0,null,null,null,null,null,0]
[{"$f":"'Labor Summary (Office)'!A506","v":0},{"$f":"'Labor Summary (Office)'!B506","v":0},null,null,null,null,null,null,null,0,null,null,null,0,null,null,null,null,null,0]
[{"$f":"'Labor Summary (Office)'!A507","v":0},{"$f":"'Labor Summary (Office)'!B507","v":0},{"$f":"IF(A509=0,\"\",A509)","v":""},null,null,null,null,null,null,null,null,null,null,null,null,null,null,"Subtotal Line 16",null,{"$f":"ROUND(SUM(T479:T508),2)","v":0}]
[{"$f":"'Labor Summary (Office)'!A508","v":0},{"$f":"'Labor Summary (Office)'!B508","v":0},null,null,null,null,null,null,null,0,null,null,null,{"$f":"ROUND(M510*$N$9,2)","v":0},null,null,null,null,null,0]
[{"$f":"'Labor Summary (Office)'!A509","v":0},{"$f":"'Labor Summary (Office)'!B509","v":0},null,null,null,null,null,null,null,0,null,null,null,{"$f":"ROUND(M511*$N$9,2)","v":0},null,null,null,null,null,0]
[{"$f":"'Labor Summary (Office)'!A510","v":0},{"$f":"'Labor Summary (Office)'!B510","v":0},null,null,null,null,null,null,null,0,null,null,null,0,null,null,null,null,null,0]
[{"$f":"'Labor Summary (Office)'!A511","v":0},{"$f":"'Labor Summary (Office)'!B511","v":0},null,null,null,null,null,null,null,0,null,null,null,0,null,null,null,null,null,0]
[{"$f":"'Labor Summary (Office)'!A512","v":0},{"$f":"'Labor Summary (Office)'!B512","v":0},null,null,null,null,null,null,null,0,null,null,null,0,null,null,null,null,null,0]
[{"$f":"'Labor Summary (Office)'!A513","v":0},{"$f":"'Labor Summary (Office)'!B513","v":0},null,null,null,null,null,null,null,0,null,null,null,0,null,null,null,null,null,0]
[{"$f":"'Labor Summary (Office)'!A514","v":0},{"$f":"'Labor Summary (Office)'!B514","v":0},null,null,null,null,null,null,null,0,null,null,null,0,null,null,null,null,null,0]
[{"$f":"'Labor Summary (Office)'!A515","v":0},{"$f":"'Labor Summary (Office)'!B515","v":0},null,null,null,null,null,null,null,0,null,null,null,0,null,null,null,null,null,0]
[{"$f":"'Labor Summary (Office)'!A516","v":0},{"$f":"'Labor Summary (Office)'!B516","v":0},null,null,null,null,null,null,null,0,null,null,null,0,null,null,null,null,null,0]
[{"$f":"'Labor Summary (Office)'!A517","v":0},{"$f":"'Labor Summary (Office)'!B517","v":0},null,null,null,null,null,null,null,0,null,null,null,0,null,null,null,null,null,0]
[{"$f":"'Labor Summary (Office)'!A518","v":0},{"$f":"'Labor Summary (Office)'!B518","v":0},null,null,null,null,null,null,null,0,null,null,null,0,null,null,null,null,null,0]
[{"$f":"'Labor Summary (Office)'!A519","v":0},{"$f":"'Labor Summary (Office)'!B519","v":0},null,null,null,null,null,null,null,0,null,null,null,0,null,null,null,null,null,0]
[{"$f":"'Labor Summary (Office)'!A520","v":0},{"$f":"'Labor Summary (Office)'!B520","v":0},null,null,null,null,null,null,null,0,null,null,null,0,null,null,null,null,null,0]
[{"$f":"'Labor Summary (Office)'!A521","v":0},{"$f":"'Labor Summary (Office)'!B521","v":0},null,null,null,null,null,null,null,0,null,null,null,0,null,null,null,null,null,0]
[{"$f":"'Labor Summary (Office)'!A522","v":0},{"$f":"'Labor Summary (Office)'!B522","v":0},null,null,null,null,null,null,null,0,null,null,null,0,null,null,null,null,null,0]
[{"$f":"'Labor Summary (Office)'!A523","v":0},{"$f":"'Labor Summary (Office)'!B523","v":0},null,null,null,null,null,null,null,0,null,null,null,0,null,null,null,null,null,0]
[{"$f":"'Labor Summary (Office)'!A524","v":0},{"$f":"'Labor Summary (Office)'!B524","v":0},null,null,null,null,null,null,null,0,null,null,null,0,null,null,null,null,null,0]
[{"$f":"'Labor Summary (Office)'!A525","v":0},{"$f":"'Labor Summary (Office)'!B525","v":0},null,null,null,null,null,null,null,{"$f":"I527+H527","v":0},null,null,null,0,null,null,null,null,null,0]
[{"$f":"'Labor Summary (Office)'!A526","v":0},{"$f":"'Labor Summary (Office)'!B526","v":0},null,null,null,null,null,null,null,0,null,null,null,0,null,null,null,null,null,0]
[{"$f":"'Labor Summary (Office)'!A527","v":0},{"$f":"'Labor Summary (Office)'!B527","v":0},null,null,null,null,null,null,null,0,null,null,null,0,null,null,null,null,null,0]
[{"$f":"'Labor Summary (Office)'!A528","v":0},{"$f":"'Labor Summary (Office)'!B528","v":0},null,null,null,null,null,null,null,0,null,null,null,0,null,null,null,null,null,0]
[{"$f":"'Labor Summary (Office)'!A529","v":0},{"$f":"'Labor Summary (Office)'!B529","v":0},null,null,null,null,null,null,null,0,null,null,null,0,null,null,null,null,null,0]
[{"$f":"'Labor Summary (Office)'!A530","v":0},{"$f":"'Labor Summary (Office)'!B530","v":0},null,null,null,null,null,null,null,0,null,null,null,0,null,null,null,null,null,0]
[{"$f":"'Labor Summary (Office)'!A531","v":0},{"$f":"'Labor Summary (Office)'!B531","v":0},null,null,null,null,null,null,null,0,null,null,null,0,null,null,null,null,null,0]
[{"$f":"'Labor Summary (Office)'!A532","v":0},{"$f":"'Labor Summary (Office)'!B532","v":0},null,null,null,null,null,null,null,0,null,null,null,0,null,null,null,null,null,0]
[{"$f":"'Labor Summary (Office)'!A533","v":0},{"$f":"'Labor Summary (Office)'!B533","v":0},null,null,null,null,null,null,null,0,null,null,null,0,null,null,null,null,null,0]
[{"$f":"'Labor Summary (Office)'!A534","v":0},{"$f":"'Labor Summary (Office)'!B534","v":0},null,null,null,null,null,null,null,0,null,null,null,0,null,null,null,null,null,0]
[{"$f":"'Labor Summary (Office)'!A535","v":0},{"$f":"'Labor Summary (Office)'!B535","v":0},null,null,null,null,null,null,null,0,null,null,null,0,null,null,null,null,null,0]
[{"$f":"'Labor Summary (Office)'!A536","v":0},{"$f":"'Labor Summary (Office)'!B536","v":0},null,null,null,null,null,null,null,0,null,null,null,0,null,null,null,null,null,0]
[{"$f":"'Labor Summary (Office)'!A537","v":0},{"$f":"'Labor Summary (Office)'!B537","v":0},null,null,null,null,null,null,null,0,null,null,null,0,null,null,null,null,null,0]
[{"$f":"'Labor Summary (Office)'!A538","v":0},{"$f":"'Labor Summary (Office)'!B538","v":0},{"$f":"IF(A540=0,\"\",A540)","v":""},null,null,null,null,null,null,null,null,null,null,null,null,null,null,"Subtotal Line 17",null,{"$f":"ROUND(SUM(T510:T539),2)","v":0}]
[{"$f":"'Labor Summary (Office)'!A539","v":0},{"$f":"'Labor Summary (Office)'!B539","v":0},null,null,null,null,null,null,null,0,null,null,null,{"$f":"ROUND(M541*$N$9,2)","v":0},null,null,null,null,null,0]
[{"$f":"'Labor Summary (Office)'!A540","v":0},{"$f":"'Labor Summary (Office)'!B540","v":0},null,null,null,null,null,null,null,0,null,null,null,{"$f":"ROUND(M542*$N$9,2)","v":0},null,null,null,null,null,0]
[{"$f":"'Labor Summary (Office)'!A541","v":0},{"$f":"'Labor Summary (Office)'!B541","v":0},null,null,null,null,null,null,null,0,null,null,null,0,null,null,null,null,null,{"$f":"ROUND((G543+J543+L543+N543+O543+P543+Q543+R543+S543),2)","v":0}]
[{"$f":"'Labor Summary (Office)'!A542","v":0},{"$f":"'Labor Summary (Office)'!B542","v":0},null,null,null,null,null,null,null,0,null,null,null,0,null,null,null,null,null,0]
[{"$f":"'Labor Summary (Office)'!A543","v":0},{"$f":"'Labor Summary (Office)'!B543","v":0},null,null,null,null,null,null,null,0,null,null,null,0,null,null,null,null,null,0]
[{"$f":"'Labor Summary (Office)'!A544","v":0},{"$f":"'Labor Summary (Office)'!B544","v":0},null,null,null,null,null,null,null,0,null,null,null,0,null,null,null,null,null,0]
[{"$f":"'Labor Summary (Office)'!A545","v":0},{"$f":"'Labor Summary (Office)'!B545","v":0},null,null,null,null,null,null,null,0,null,null,null,0,null,null,null,null,null,0]
[{"$f":"'Labor Summary (Office)'!A546","v":0},{"$f":"'Labor Summary (Office)'!B546","v":0},null,null,null,null,null,null,null,0,null,null,null,0,null,null,null,null,null,0]
[{"$f":"'Labor Summary (Office)'!A547","v":0},{"$f":"'Labor Summary (Office)'!B547","v":0},null,null,null,null,null,null,null,0,null,null,null,0,null,null,null,null,null,0]
[{"$f":"'Labor Summary (Office)'!A548","v":0},{"$f":"'Labor Summary (Office)'!B548","v":0},null,null,null,null,null,null,null,0,null,null,null,0,null,null,null,null,null,0]
[{"$f":"'Labor Summary (Office)'!A549","v":0},{"$f":"'Labor Summary (Office)'!B549","v":0},null,null,null,null,null,null,null,0,null,null,null,0,null,null,null,null,null,0]
[{"$f":"'Labor Summary (Office)'!A550","v":0},{"$f":"'Labor Summary (Office)'!B550","v":0},null,null,null,null,null,null,null,0,null,null,null,0,null,null,null,null,null,0]
[{"$f":"'Labor Summary (Office)'!A551","v":0},{"$f":"'Labor Summary (Office)'!B551","v":0},null,null,null,null,null,null,null,0,null,null,null,0,null,null,null,null,null,0]
[{"$f":"'Labor Summary (Office)'!A552","v":0},{"$f":"'Labor Summary (Office)'!B552","v":0},null,null,null,null,null,null,null,0,null,null,null,0,null,null,null,null,null,0]
[{"$f":"'Labor Summary (Office)'!A553","v":0},{"$f":"'Labor Summary (Office)'!B553","v":0},null,null,null,null,null,null,null,0,null,null,null,0,null,null,null,null,null,0]
[{"$f":"'Labor Summary (Office)'!A554","v":0},{"$f":"'Labor Summary (Office)'!B554","v":0},null,null,null,null,null,null,null,0,null,null,null,0,null,null,null,null,null,0]
[{"$f":"'Labor Summary (Office)'!A555","v":0},{"$f":"'Labor Summary (Office)'!B555","v":0},null,null,null,null,null,null,null,0,null,null,null,0,null,null,null,null,null,0]
[{"$f":"'Labor Summary (Office)'!A556","v":0},{"$f":"'Labor Summary (Office)'!B556","v":0},null,null,null,null,null,null,null,0,null,null,null,0,null,null,null,null,null,0]
[{"$f":"'Labor Summary (Office)'!A557","v":0},{"$f":"'Labor Summary (Office)'!B557","v":0},null,null,null,null,null,null,null,0,null,null,null,0,null,null,null,null,null,0]
[{"$f":"'Labor Summary (Office)'!A558","v":0},{"$f":"'Labor Summary (Office)'!B558","v":0},null,null,null,null,null,null,null,0,null,null,null,0,null,null,null,null,null,0]
[{"$f":"'Labor Summary (Office)'!A559","v":0},{"$f":"'Labor Summary (Office)'!B559","v":0},null,null,null,null,null,null,null,0,null,null,null,0,null,null,null,null,null,0]
[{"$f":"'Labor Summary (Office)'!A560","v":0},{"$f":"'Labor Summary (Office)'!B560","v":0},null,null,null,null,null,null,null,0,null,null,null,0,null,null,null,null,null,0]
[{"$f":"'Labor Summary (Office)'!A561","v":0},{"$f":"'Labor Summary (Office)'!B561","v":0},null,null,null,null,null,null,null,0,null,null,null,0,null,null,null,null,null,0]
[{"$f":"'Labor Summary (Office)'!A562","v":0},{"$f":"'Labor Summary (Office)'!B562","v":0},null,null,null,null,null,null,null,0,null,null,null,0,null,null,null,null,null,0]
[{"$f":"'Labor Summary (Office)'!A563","v":0},{"$f":"'Labor Summary (Office)'!B563","v":0},null,null,null,null,null,null,null,0,null,null,null,0,null,null,null,null,null,0]
[{"$f":"'Labor Summary (Office)'!A564","v":0},{"$f":"'Labor Summary (Office)'!B564","v":0},null,null,null,null,null,null,null,0,null,null,null,0,null,null,null,null,null,0]
[{"$f":"'Labor Summary (Office)'!A565","v":0},{"$f":"'Labor Summary (Office)'!B565","v":0},null,null,null,null,null,null,null,0,null,null,null,0,null,null,null,null,null,0]
[{"$f":"'Labor Summary (Office)'!A566","v":0},{"$f":"'Labor Summary (Office)'!B566","v":0},null,null,null,null,null,null,null,0,null,null,null,0,null,null,null,null,null,0]
[{"$f":"'Labor Summary (Office)'!A567","v":0},{"$f":"'Labor Summary (Office)'!B567","v":0},null,null,null,null,null,null,null,0,null,null,null,0,null,null,null,null,null,0]
[{"$f":"'Labor Summary (Office)'!A568","v":0},{"$f":"'Labor Summary (Office)'!B568","v":0},null,null,null,null,null,null,null,0,null,null,null,0,null,null,null,null,null,0]
[{"$f":"'Labor Summary (Office)'!A569","v":0},{"$f":"'Labor Summary (Office)'!B569","v":0},{"$f":"IF(A571=0,\"\",A571)","v":""},null,null,null,null,null,null,null,null,null,null,null,null,null,null,"Subtotal Line 18",null,{"$f":"ROUND(SUM(T541:T570),2)","v":0}]
[{"$f":"'Labor Summary (Office)'!A570","v":0},{"$f":"'Labor Summary (Office)'!B570","v":0},null,null,null,null,null,null,null,0,null,null,null,{"$f":"ROUND(M572*$N$9,2)","v":0},null,null,null,null,null,{"$f":"ROUND((G572+J572+L572+N572+O572+P572+Q572+R572+S572),2)","v":0}]
[{"$f":"'Labor Summary (Office)'!A571","v":0},{"$f":"'Labor Summary (Office)'!B571","v":0},null,null,null,null,null,null,null,0,null,null,null,{"$f":"ROUND(M573*$N$9,2)","v":0},null,null,null,null,null,0]
[{"$f":"'Labor Summary (Office)'!A572","v":0},{"$f":"'Labor Summary (Office)'!B572","v":0},null,null,null,null,null,null,null,0,null,null,null,0,null,null,null,null,null,0]
[{"$f":"'Labor Summary (Office)'!A573","v":0},{"$f":"'Labor Summary (Office)'!B573","v":0},null,null,null,null,null,null,null,0,null,null,null,0,null,null,null,null,null,0]
[{"$f":"'Labor Summary (Office)'!A574","v":0},{"$f":"'Labor Summary (Office)'!B574","v":0},null,null,null,null,null,null,null,0,null,null,null,0,null,null,null,null,null,0]
[{"$f":"'Labor Summary (Office)'!A575","v":0},{"$f":"'Labor Summary (Office)'!B575","v":0},null,null,null,null,null,null,null,0,null,null,null,0,null,null,null,null,null,0]
[{"$f":"'Labor Summary (Office)'!A576","v":0},{"$f":"'Labor Summary (Office)'!B576","v":0},null,null,null,null,null,null,null,0,null,null,null,0,null,null,null,null,null,0]
[{"$f":"'Labor Summary (Office)'!A577","v":0},{"$f":"'Labor Summary (Office)'!B577","v":0},null,null,null,null,null,null,null,0,null,null,null,0,null,null,null,null,null,0]
[{"$f":"'Labor Summary (Office)'!A578","v":0},{"$f":"'Labor Summary (Office)'!B578","v":0},null,null,null,null,null,null,null,0,null,null,null,0,null,null,null,null,null,0]
[{"$f":"'Labor Summary (Office)'!A579","v":0},{"$f":"'Labor Summary (Office)'!B579","v":0},null,null,null,null,null,null,null,0,null,null,null,0,null,null,null,null,null,0]
[{"$f":"'Labor Summary (Office)'!A580","v":0},{"$f":"'Labor Summary (Office)'!B580","v":0},null,null,null,null,null,null,null,0,null,null,null,0,null,null,null,null,null,0]
[{"$f":"'Labor Summary (Office)'!A581","v":0},{"$f":"'Labor Summary (Office)'!B581","v":0},null,null,null,null,null,null,null,0,null,null,null,0,null,null,null,null,null,0]
[{"$f":"'Labor Summary (Office)'!A582","v":0},{"$f":"'Labor Summary (Office)'!B582","v":0},null,null,null,null,null,null,null,0,null,null,null,0,null,null,null,null,null,0]
[{"$f":"'Labor Summary (Office)'!A583","v":0},{"$f":"'Labor Summary (Office)'!B583","v":0},null,null,null,null,null,null,null,0,null,null,null,0,null,null,null,null,null,0]
[{"$f":"'Labor Summary (Office)'!A584","v":0},{"$f":"'Labor Summary (Office)'!B584","v":0},null,null,null,null,null,null,null,0,null,null,null,0,null,null,null,null,null,0]
[{"$f":"'Labor Summary (Office)'!A585","v":0},{"$f":"'Labor Summary (Office)'!B585","v":0},null,null,null,null,null,null,null,0,null,null,null,0,null,null,null,null,null,0]
[{"$f":"'Labor Summary (Office)'!A586","v":0},{"$f":"'Labor Summary (Office)'!B586","v":0},null,null,null,null,null,null,null,0,null,null,null,0,null,null,null,null,null,0]
[{"$f":"'Labor Summary (Office)'!A587","v":0},{"$f":"'Labor Summary (Office)'!B587","v":0},null,null,null,null,null,null,null,0,null,null,null,0,null,null,null,null,null,0]
[{"$f":"'Labor Summary (Office)'!A588","v":0},{"$f":"'Labor Summary (Office)'!B588","v":0},null,null,null,null,null,null,null,0,null,null,null,0,null,null,null,null,null,0]
[{"$f":"'Labor Summary (Office)'!A589","v":0},{"$f":"'Labor Summary (Office)'!B589","v":0},null,null,null,null,null,null,null,{"$f":"I591+H591","v":0},null,null,null,0,null,null,null,null,null,0]
[{"$f":"'Labor Summary (Office)'!A590","v":0},{"$f":"'Labor Summary (Office)'!B590","v":0},null,null,null,null,null,null,null,0,null,null,null,0,null,null,null,null,null,0]
[{"$f":"'Labor Summary (Office)'!A591","v":0},{"$f":"'Labor Summary (Office)'!B591","v":0},null,null,null,null,null,null,null,0,null,null,null,0,null,null,null,null,null,0]
[{"$f":"'Labor Summary (Office)'!A592","v":0},{"$f":"'Labor Summary (Office)'!B592","v":0},null,null,null,null,null,null,null,0,null,null,null,0,null,null,null,null,null,0]
[{"$f":"'Labor Summary (Office)'!A593","v":0},{"$f":"'Labor Summary (Office)'!B593","v":0},null,null,null,null,null,null,null,0,null,null,null,0,null,null,null,null,null,0]
[{"$f":"'Labor Summary (Office)'!A594","v":0},{"$f":"'Labor Summary (Office)'!B594","v":0},null,null,null,null,null,null,null,0,null,null,null,0,null,null,null,null,null,0]
[{"$f":"'Labor Summary (Office)'!A595","v":0},{"$f":"'Labor Summary (Office)'!B595","v":0},null,null,null,null,null,null,null,0,null,null,null,0,null,null,null,null,null,0]
[{"$f":"'Labor Summary (Office)'!A596","v":0},{"$f":"'Labor Summary (Office)'!B596","v":0},null,null,null,null,null,null,null,0,null,null,null,0,null,null,null,null,null,0]
[{"$f":"'Labor Summary (Office)'!A597","v":0},{"$f":"'Labor Summary (Office)'!B597","v":0},null,null,null,null,null,null,null,0,null,null,null,0,null,null,null,null,null,0]
[{"$f":"'Labor Summary (Office)'!A598","v":0},{"$f":"'Labor Summary (Office)'!B598","v":0},null,null,null,null,null,null,null,0,null,null,null,0,null,null,null,null,null,0]
[{"$f":"'Labor Summary (Office)'!A599","v":0},{"$f":"'Labor Summary (Office)'!B599","v":0},null,null,null,null,null,null,null,0,null,null,null,0,null,null,null,null,null,0]
[{"$f":"'Labor Summary (Office)'!A600","v":0},{"$f":"'Labor Summary (Office)'!B600","v":0},{"$f":"IF(A602=0,\"\",A602)","v":""},null,null,null,null,null,null,null,null,null,null,null,null,null,null,"Subtotal Line 19",null,{"$f":"ROUND(SUM(T572:T601),2)","v":0}]
[{"$f":"'Labor Summary (Office)'!A601","v":0},{"$f":"'Labor Summary (Office)'!B601","v":0},null,null,null,null,null,null,null,0,null,null,null,{"$f":"ROUND(M603*$N$9,2)","v":0},null,null,null,null,null,{"$f":"ROUND((G603+J603+L603+N603+O603+P603+Q603+R603+S603),2)","v":0}]
[{"$f":"'Labor Summary (Office)'!A602","v":0},{"$f":"'Labor Summary (Office)'!B602","v":0},null,null,null,null,null,null,null,0,null,null,null,{"$f":"ROUND(M604*$N$9,2)","v":0},null,null,null,null,null,0]
[{"$f":"'Labor Summary (Office)'!A603","v":0},{"$f":"'Labor Summary (Office)'!B603","v":0},null,null,null,null,null,null,null,0,null,null,null,0,null,null,null,null,null,0]
[{"$f":"'Labor Summary (Office)'!A604","v":0},{"$f":"'Labor Summary (Office)'!B604","v":0},null,null,null,null,null,null,null,0,null,null,null,0,null,null,null,null,null,0]
[{"$f":"'Labor Summary (Office)'!A605","v":0},{"$f":"'Labor Summary (Office)'!B605","v":0},null,null,null,null,null,null,null,0,null,null,null,0,null,null,null,null,null,0]
[{"$f":"'Labor Summary (Office)'!A606","v":0},{"$f":"'Labor Summary (Office)'!B606","v":0},null,null,null,null,null,null,null,0,null,null,null,0,null,null,null,null,null,0]
[{"$f":"'Labor Summary (Office)'!A607","v":0},{"$f":"'Labor Summary (Office)'!B607","v":0},null,null,null,null,null,null,null,0,null,null,null,0,null,null,null,null,null,0]
[{"$f":"'Labor Summary (Office)'!A608","v":0},{"$f":"'Labor Summary (Office)'!B608","v":0},null,null,null,null,null,null,null,0,null,null,null,0,null,null,null,null,null,0]
[{"$f":"'Labor Summary (Office)'!A609","v":0},{"$f":"'Labor Summary (Office)'!B609","v":0},null,null,null,null,null,null,null,0,null,null,null,0,null,null,null,null,null,0]
[{"$f":"'Labor Summary (Office)'!A610","v":0},{"$f":"'Labor Summary (Office)'!B610","v":0},null,null,null,null,null,null,null,0,null,null,null,0,null,null,null,null,null,0]
[{"$f":"'Labor Summary (Office)'!A611","v":0},{"$f":"'Labor Summary (Office)'!B611","v":0},null,null,null,null,null,null,null,0,null,null,null,0,null,null,null,null,null,0]
[{"$f":"'Labor Summary (Office)'!A612","v":0},{"$f":"'Labor Summary (Office)'!B612","v":0},null,null,null,null,null,null,null,0,null,null,null,0,null,null,null,null,null,0]
[{"$f":"'Labor Summary (Office)'!A613","v":0},{"$f":"'Labor Summary (Office)'!B613","v":0},null,null,null,null,null,null,null,0,null,null,null,0,null,null,null,null,null,0]
[{"$f":"'Labor Summary (Office)'!A614","v":0},{"$f":"'Labor Summary (Office)'!B614","v":0},null,null,null,null,null,null,null,0,null,null,null,0,null,null,null,null,null,0]
[{"$f":"'Labor Summary (Office)'!A615","v":0},{"$f":"'Labor Summary (Office)'!B615","v":0},null,null,null,null,null,null,null,0,null,null,null,0,null,null,null,null,null,0]
[{"$f":"'Labor Summary (Office)'!A616","v":0},{"$f":"'Labor Summary (Office)'!B616","v":0},null,null,null,null,null,null,null,0,null,null,null,0,null,null,null,null,null,0]
[{"$f":"'Labor Summary (Office)'!A617","v":0},{"$f":"'Labor Summary (Office)'!B617","v":0},null,null,null,null,null,null,null,0,null,null,null,0,null,null,null,null,null,0]
[{"$f":"'Labor Summary (Office)'!A618","v":0},{"$f":"'Labor Summary (Office)'!B618","v":0},null,null,null,null,null,null,null,0,null,null,null,0,null,null,null,null,null,0]
[{"$f":"'Labor Summary (Office)'!A619","v":0},{"$f":"'Labor Summary (Office)'!B619","v":0},null,null,null,null,null,null,null,0,null,null,null,0,null,null,null,null,null,0]
[{"$f":"'Labor Summary (Office)'!A620","v":0},{"$f":"'Labor Summary (Office)'!B620","v":0},null,null,null,null,null,null,null,0,null,null,null,0,null,null,null,null,null,0]
[{"$f":"'Labor Summary (Office)'!A621","v":0},{"$f":"'Labor Summary (Office)'!B621","v":0},null,null,null,null,null,null,null,0,null,null,null,0,null,null,null,null,null,0]
[{"$f":"'Labor Summary (Office)'!A622","v":0},{"$f":"'Labor Summary (Office)'!B622","v":0},null,null,null,null,null,null,null,0,null,null,null,0,null,null,null,null,null,0]
[{"$f":"'Labor Summary (Office)'!A623","v":0},{"$f":"'Labor Summary (Office)'!B623","v":0},null,null,null,null,null,null,null,0,null,null,null,0,null,null,null,null,null,0]
[{"$f":"'Labor Summary (Office)'!A624","v":0},{"$f":"'Labor Summary (Office)'!B624","v":0},null,null,null,null,null,null,null,0,null,null,null,0,null,null,null,null,null,0]
[{"$f":"'Labor Summary (Office)'!A625","v":0},{"$f":"'Labor Summary (Office)'!B625","v":0},null,null,null,null,null,null,null,0,null,null,null,0,null,null,null,null,null,0]
[{"$f":"'Labor Summary (Office)'!A626","v":0},{"$f":"'Labor Summary (Office)'!B626","v":0},null,null,null,null,null,null,null,0,null,null,null,0,null,null,null,null,null,0]
[{"$f":"'Labor Summary (Office)'!A627","v":0},{"$f":"'Labor Summary (Office)'!B627","v":0},null,null,null,null,null,null,null,0,null,null,null,0,null,null,null,null,null,0]
[{"$f":"'Labor Summary (Office)'!A628","v":0},{"$f":"'Labor Summary (Office)'!B628","v":0},null,null,null,null,null,null,null,0,null,null,null,0,null,null,null,null,null,0]
[{"$f":"'Labor Summary (Office)'!A629","v":0},{"$f":"'Labor Summary (Office)'!B629","v":0},null,null,null,null,null,null,null,0,null,null,null,0,null,null,null,null,null,0]
[{"$f":"'Labor Summary (Office)'!A630","v":0},{"$f":"'Labor Summary (Office)'!B630","v":0},null,null,null,null,null,null,null,0,null,null,null,0,null,null,null,null,null,0]
[{"$f":"'Labor Summary (Office)'!A631","v":0},{"$f":"'Labor Summary (Office)'!B631","v":0},{"$f":"IF(A633=0,\"\",A633)","v":""},null,null,null,null,null,null,null,null,null,null,null,null,null,null,"Subtotal Line 20",null,{"$f":"ROUND(SUM(T603:T632),2)","v":0}]
[{"$f":"'Labor Summary (Office)'!A632","v":0},{"$f":"'Labor Summary (Office)'!B632","v":0},null,null,null,null,null,null,null,0,null,null,null,{"$f":"ROUND(M634*$N$9,2)","v":0},null,null,null,null,null,{"$f":"ROUND((G634+J634+L634+N634+O634+P634+Q634+R634+S634),2)","v":0}]
[{"$f":"'Labor Summary (Office)'!A633","v":0},{"$f":"'Labor Summary (Office)'!B633","v":0},null,null,null,null,null,null,null,0,null,null,null,{"$f":"ROUND(M635*$N$9,2)","v":0},null,null,null,null,null,0]
[{"$f":"'Labor Summary (Office)'!A634","v":0},{"$f":"'Labor Summary (Office)'!B634","v":0},null,null,null,null,null,null,null,0,null,null,null,0,null,null,null,null,null,0]
[{"$f":"'Labor Summary (Office)'!A635","v":0},{"$f":"'Labor Summary (Office)'!B635","v":0},null,null,null,null,null,null,null,0,null,null,null,0,null,null,null,null,null,0]
[{"$f":"'Labor Summary (Office)'!A636","v":0},{"$f":"'Labor Summary (Office)'!B636","v":0},null,null,null,null,null,null,null,0,null,null,null,0,null,null,null,null,null,0]
[{"$f":"'Labor Summary (Office)'!A637","v":0},{"$f":"'Labor Summary (Office)'!B637","v":0},null,null,null,null,null,null,null,0,null,null,null,0,null,null,null,null,null,0]
[{"$f":"'Labor Summary (Office)'!A638","v":0},{"$f":"'Labor Summary (Office)'!B638","v":0},null,null,null,null,null,null,null,0,null,null,null,0,null,null,null,null,null,0]
[{"$f":"'Labor Summary (Office)'!A639","v":0},{"$f":"'Labor Summary (Office)'!B639","v":0},null,null,null,null,null,null,null,0,null,null,null,0,null,null,null,null,null,0]
[{"$f":"'Labor Summary (Office)'!A640","v":0},{"$f":"'Labor Summary (Office)'!B640","v":0},null,null,null,null,null,null,null,0,null,null,null,0,null,null,null,null,null,0]
[{"$f":"'Labor Summary (Office)'!A641","v":0},{"$f":"'Labor Summary (Office)'!B641","v":0},null,null,null,null,null,null,null,0,null,null,null,0,null,null,null,null,null,0]
[{"$f":"'Labor Summary (Office)'!A642","v":0},{"$f":"'Labor Summary (Office)'!B642","v":0},null,null,null,null,null,null,null,0,null,null,null,0,null,null,null,null,null,0]
[{"$f":"'Labor Summary (Office)'!A643","v":0},{"$f":"'Labor Summary (Office)'!B643","v":0},null,null,null,null,null,null,null,0,null,null,null,0,null,null,null,null,null,0]
[{"$f":"'Labor Summary (Office)'!A644","v":0},{"$f":"'Labor Summary (Office)'!B644","v":0},null,null,null,null,null,null,null,0,null,null,null,0,null,null,null,null,null,0]
[{"$f":"'Labor Summary (Office)'!A645","v":0},{"$f":"'Labor Summary (Office)'!B645","v":0},null,null,null,null,null,null,null,0,null,null,null,0,null,null,null,null,null,0]
[{"$f":"'Labor Summary (Office)'!A646","v":0},{"$f":"'Labor Summary (Office)'!B646","v":0},null,null,null,null,null,null,null,0,null,null,null,0,null,null,null,null,null,0]
[{"$f":"'Labor Summary (Office)'!A647","v":0},{"$f":"'Labor Summary (Office)'!B647","v":0},null,null,null,null,null,null,null,0,null,null,null,0,null,null,null,null,null,0]
[{"$f":"'Labor Summary (Office)'!A648","v":0},{"$f":"'Labor Summary (Office)'!B648","v":0},null,null,null,null,null,null,null,0,null,null,null,0,null,null,null,null,null,0]
[{"$f":"'Labor Summary (Office)'!A649","v":0},{"$f":"'Labor Summary (Office)'!B649","v":0},null,null,null,null,null,null,null,0,null,null,null,0,null,null,null,null,null,0]
[{"$f":"'Labor Summary (Office)'!A650","v":0},{"$f":"'Labor Summary (Office)'!B650","v":0},null,null,null,null,null,null,null,0,null,null,null,0,null,null,null,null,null,0]
[{"$f":"'Labor Summary (Office)'!A651","v":0},{"$f":"'Labor Summary (Office)'!B651","v":0},null,null,null,null,null,null,null,0,null,null,null,0,null,null,null,null,null,0]
[{"$f":"'Labor Summary (Office)'!A652","v":0},{"$f":"'Labor Summary (Office)'!B652","v":0},null,null,null,null,null,null,null,0,null,null,null,0,null,null,null,null,null,0]
[{"$f":"'Labor Summary (Office)'!A653","v":0},{"$f":"'Labor Summary (Office)'!B653","v":0},null,null,null,null,null,null,null,{"$f":"I655+H655","v":0},null,null,null,0,null,null,null,null,null,0]
[{"$f":"'Labor Summary (Office)'!A654","v":0},{"$f":"'Labor Summary (Office)'!B654","v":0},null,null,null,null,null,null,null,0,null,null,null,0,null,null,null,null,null,0]
[{"$f":"'Labor Summary (Office)'!A655","v":0},{"$f":"'Labor Summary (Office)'!B655","v":0},null,null,null,null,null,null,null,0,null,null,null,0,null,null,null,null,null,0]
[{"$f":"'Labor Summary (Office)'!A656","v":0},{"$f":"'Labor Summary (Office)'!B656","v":0},null,null,null,null,null,null,null,0,null,null,null,0,null,null,null,null,null,0]
[{"$f":"'Labor Summary (Office)'!A657","v":0},{"$f":"'Labor Summary (Office)'!B657","v":0},null,null,null,null,null,null,null,0,null,null,null,0,null,null,null,null,null,0]
[{"$f":"'Labor Summary (Office)'!A658","v":0},{"$f":"'Labor Summary (Office)'!B658","v":0},null,null,null,null,null,null,null,0,null,null,null,0,null,null,null,null,null,0]
[{"$f":"'Labor Summary (Office)'!A659","v":0},{"$f":"'Labor Summary (Office)'!B659","v":0},null,null,null,null,null,null,null,0,null,null,null,0,null,null,null,null,null,0]
[{"$f":"'Labor Summary (Office)'!A660","v":0},{"$f":"'Labor Summary (Office)'!B660","v":0},null,null,null,null,null,null,null,0,null,null,null,0,null,null,null,null,null,0]
[{"$f":"'Labor Summary (Office)'!A661","v":0},{"$f":"'Labor Summary (Office)'!B661","v":0},null,null,null,null,null,null,null,0,null,null,null,0,null,null,null,null,null,0]
[{"$f":"'Labor Summary (Office)'!A662","v":0},{"$f":"'Labor Summary (Office)'!B662","v":0},{"$f":"IF(A664=0,\"\",A664)","v":""},null,null,null,null,null,null,null,null,null,null,null,null,null,null,"Subtotal Line 21",null,{"$f":"ROUND(SUM(T634:T663),2)","v":0}]
[{"$f":"'Labor Summary (Office)'!A663","v":0},{"$f":"'Labor Summary (Office)'!B663","v":0},null,null,null,null,null,null,null,0,null,null,null,{"$f":"ROUND(M665*$N$9,2)","v":0},null,null,null,null,null,{"$f":"ROUND((G665+J665+L665+N665+O665+P665+Q665+R665+S665),2)","v":0}]
[{"$f":"'Labor Summary (Office)'!A664","v":0},{"$f":"'Labor Summary (Office)'!B664","v":0},null,null,null,null,null,null,null,0,null,null,null,{"$f":"ROUND(M666*$N$9,2)","v":0},null,null,null,null,null,0]
[{"$f":"'Labor Summary (Office)'!A665","v":0},{"$f":"'Labor Summary (Office)'!B665","v":0},null,null,null,null,null,null,null,0,null,null,null,0,null,null,null,null,null,0]
[{"$f":"'Labor Summary (Office)'!A666","v":0},{"$f":"'Labor Summary (Office)'!B666","v":0},null,null,null,null,null,null,null,0,null,null,null,0,null,null,null,null,null,0]
[{"$f":"'Labor Summary (Office)'!A667","v":0},{"$f":"'Labor Summary (Office)'!B667","v":0},null,null,null,null,null,null,null,0,null,null,null,0,null,null,null,null,null,0]
[{"$f":"'Labor Summary (Office)'!A668","v":0},{"$f":"'Labor Summary (Office)'!B668","v":0},null,null,null,null,null,null,null,0,null,null,null,0,null,null,null,null,null,0]
[{"$f":"'Labor Summary (Office)'!A669","v":0},{"$f":"'Labor Summary (Office)'!B669","v":0},null,null,null,null,null,null,null,0,null,null,null,0,null,null,null,null,null,0]
[{"$f":"'Labor Summary (Office)'!A670","v":0},{"$f":"'Labor Summary (Office)'!B670","v":0},null,null,null,null,null,null,null,0,null,null,null,0,null,null,null,null,null,0]
[{"$f":"'Labor Summary (Office)'!A671","v":0},{"$f":"'Labor Summary (Office)'!B671","v":0},null,null,null,null,null,null,null,0,null,null,null,0,null,null,null,null,null,0]
[{"$f":"'Labor Summary (Office)'!A672","v":0},{"$f":"'Labor Summary (Office)'!B672","v":0},null,null,null,null,null,null,null,0,null,null,null,0,null,null,null,null,null,0]
[{"$f":"'Labor Summary (Office)'!A673","v":0},{"$f":"'Labor Summary (Office)'!B673","v":0},null,null,null,null,null,null,null,0,null,null,null,0,null,null,null,null,null,0]
[{"$f":"'Labor Summary (Office)'!A674","v":0},{"$f":"'Labor Summary (Office)'!B674","v":0},null,null,null,null,null,null,null,0,null,null,null,0,null,null,null,null,null,0]
[{"$f":"'Labor Summary (Office)'!A675","v":0},{"$f":"'Labor Summary (Office)'!B675","v":0},null,null,null,null,null,null,null,0,null,null,null,0,null,null,null,null,null,0]
[{"$f":"'Labor Summary (Office)'!A676","v":0},{"$f":"'Labor Summary (Office)'!B676","v":0},null,null,null,null,null,null,null,0,null,null,null,0,null,null,null,null,null,0]
[{"$f":"'Labor Summary (Office)'!A677","v":0},{"$f":"'Labor Summary (Office)'!B677","v":0},null,null,null,null,null,null,null,0,null,null,null,0,null,null,null,null,null,0]
[{"$f":"'Labor Summary (Office)'!A678","v":0},{"$f":"'Labor Summary (Office)'!B678","v":0},null,null,null,null,null,null,null,0,null,null,null,0,null,null,null,null,null,0]
[{"$f":"'Labor Summary (Office)'!A679","v":0},{"$f":"'Labor Summary (Office)'!B679","v":0},null,null,null,null,null,null,null,0,null,null,null,0,null,null,null,null,null,0]
[{"$f":"'Labor Summary (Office)'!A680","v":0},{"$f":"'Labor Summary (Office)'!B680","v":0},null,null,null,null,null,null,null,0,null,null,null,0,null,null,null,null,null,0]
[{"$f":"'Labor Summary (Office)'!A681","v":0},{"$f":"'Labor Summary (Office)'!B681","v":0},null,null,null,null,null,null,null,0,null,null,null,0,null,null,null,null,null,0]
[{"$f":"'Labor Summary (Office)'!A682","v":0},{"$f":"'Labor Summary (Office)'!B682","v":0},null,null,null,null,null,null,null,0,null,null,null,0,null,null,null,null,null,0]
[{"$f":"'Labor Summary (Office)'!A683","v":0},{"$f":"'Labor Summary (Office)'!B683","v":0},null,null,null,null,null,null,null,0,null,null,null,0,null,null,null,null,null,0]
[{"$f":"'Labor Summary (Office)'!A684","v":0},{"$f":"'Labor Summary (Office)'!B684","v":0},null,null,null,null,null,null,null,0,null,null,null,0,null,null,null,null,null,0]
[{"$f":"'Labor Summary (Office)'!A685","v":0},{"$f":"'Labor Summary (Office)'!B685","v":0},null,null,null,null,null,null,null,0,null,null,null,0,null,null,null,null,null,0]
[{"$f":"'Labor Summary (Office)'!A686","v":0},{"$f":"'Labor Summary (Office)'!B686","v":0},null,null,null,null,null,null,null,0,null,null,null,0,null,null,null,null,null,0]
[{"$f":"'Labor Summary (Office)'!A687","v":0},{"$f":"'Labor Summary (Office)'!B687","v":0},null,null,null,null,null,null,null,0,null,null,null,0,null,null,null,null,null,0]
[{"$f":"'Labor Summary (Office)'!A688","v":0},{"$f":"'Labor Summary (Office)'!B688","v":0},null,null,null,null,null,null,null,0,null,null,null,0,null,null,null,null,null,0]
[{"$f":"'Labor Summary (Office)'!A689","v":0},{"$f":"'Labor Summary (Office)'!B689","v":0},null,null,null,null,null,null,null,0,null,null,null,0,null,null,null,null,null,0]
[{"$f":"'Labor Summary (Office)'!A690","v":0},{"$f":"'Labor Summary (Office)'!B690","v":0},null,null,null,null,null,null,null,0,null,null,null,0,null,null,null,null,null,0]
[{"$f":"'Labor Summary (Office)'!A691","v":0},{"$f":"'Labor Summary (Office)'!B691","v":0},null,null,null,null,null,null,null,0,null,null,null,0,null,null,null,null,null,0]
[{"$f":"'Labor Summary (Office)'!A692","v":0},{"$f":"'Labor Summary (Office)'!B692","v":0},null,null,null,null,null,null,null,0,null,null,null,0,null,null,null,null,null,0]
[{"$f":"'Labor Summary (Office)'!A693","v":0},{"$f":"'Labor Summary (Office)'!B693","v":0},{"$f":"IF(A695=0,\"\",A695)","v":""},null,null,null,null,null,null,null,null,null,null,null,null,null,null,"Subtotal Line 22",null,{"$f":"ROUND(SUM(T665:T694),2)","v":0}]
[{"$f":"'Labor Summary (Office)'!A694","v":0},{"$f":"'Labor Summary (Office)'!B694","v":0},null,null,null,null,null,null,null,0,null,null,null,{"$f":"ROUND(M696*$N$9,2)","v":0},null,null,null,null,null,{"$f":"ROUND((G696+J696+L696+N696+O696+P696+Q696+R696+S696),2)","v":0}]
[{"$f":"'Labor Summary (Office)'!A695","v":0},{"$f":"'Labor Summary (Office)'!B695","v":0},null,null,null,null,null,null,null,0,null,null,null,{"$f":"ROUND(M697*$N$9,2)","v":0},null,null,null,null,null,0]
[{"$f":"'Labor Summary (Office)'!A696","v":0},{"$f":"'Labor Summary (Office)'!B696","v":0},null,null,null,null,null,null,null,0,null,null,null,0,null,null,null,null,null,0]
[{"$f":"'Labor Summary (Office)'!A697","v":0},{"$f":"'Labor Summary (Office)'!B697","v":0},null,null,null,null,null,null,null,0,null,null,null,0,null,null,null,null,null,0]
[{"$f":"'Labor Summary (Office)'!A698","v":0},{"$f":"'Labor Summary (Office)'!B698","v":0},null,null,null,null,null,null,null,0,null,null,null,0,null,null,null,null,null,0]
[{"$f":"'Labor Summary (Office)'!A699","v":0},{"$f":"'Labor Summary (Office)'!B699","v":0},null,null,null,null,null,null,null,0,null,null,null,0,null,null,null,null,null,0]
[{"$f":"'Labor Summary (Office)'!A700","v":0},{"$f":"'Labor Summary (Office)'!B700","v":0},null,null,null,null,null,null,null,0,null,null,null,0,null,null,null,null,null,0]
[{"$f":"'Labor Summary (Office)'!A701","v":0},{"$f":"'Labor Summary (Office)'!B701","v":0},null,null,null,null,null,null,null,0,null,null,null,0,null,null,null,null,null,0]
[{"$f":"'Labor Summary (Office)'!A702","v":0},{"$f":"'Labor Summary (Office)'!B702","v":0},null,null,null,null,null,null,null,0,null,null,null,0,null,null,null,null,null,0]
[{"$f":"'Labor Summary (Office)'!A703","v":0},{"$f":"'Labor Summary (Office)'!B703","v":0},null,null,null,null,null,null,null,0,null,null,null,0,null,null,null,null,null,0]
[{"$f":"'Labor Summary (Office)'!A704","v":0},{"$f":"'Labor Summary (Office)'!B704","v":0},null,null,null,null,null,null,null,0,null,null,null,0,null,null,null,null,null,0]
[{"$f":"'Labor Summary (Office)'!A705","v":0},{"$f":"'Labor Summary (Office)'!B705","v":0},null,null,null,null,null,null,null,0,null,null,null,0,null,null,null,null,null,0]
[{"$f":"'Labor Summary (Office)'!A706","v":0},{"$f":"'Labor Summary (Office)'!B706","v":0},null,null,null,null,null,null,null,0,null,null,null,0,null,null,null,null,null,0]
[{"$f":"'Labor Summary (Office)'!A707","v":0},{"$f":"'Labor Summary (Office)'!B707","v":0},null,null,null,null,null,null,null,0,null,null,null,0,null,null,null,null,null,0]
[{"$f":"'Labor Summary (Office)'!A708","v":0},{"$f":"'Labor Summary (Office)'!B708","v":0},null,null,null,null,null,null,null,0,null,null,null,0,null,null,null,null,null,0]
[{"$f":"'Labor Summary (Office)'!A709","v":0},{"$f":"'Labor Summary (Office)'!B709","v":0},null,null,null,null,null,null,null,0,null,null,null,0,null,null,null,null,null,0]
[{"$f":"'Labor Summary (Office)'!A710","v":0},{"$f":"'Labor Summary (Office)'!B710","v":0},null,null,null,null,null,null,null,0,null,null,null,0,null,null,null,null,null,0]
[{"$f":"'Labor Summary (Office)'!A711","v":0},{"$f":"'Labor Summary (Office)'!B711","v":0},null,null,null,null,null,null,null,0,null,null,null,0,null,null,null,null,null,0]
[{"$f":"'Labor Summary (Office)'!A712","v":0},{"$f":"'Labor Summary (Office)'!B712","v":0},null,null,null,null,null,null,null,0,null,null,null,0,null,null,null,null,null,0]
[{"$f":"'Labor Summary (Office)'!A713","v":0},{"$f":"'Labor Summary (Office)'!B713","v":0},null,null,null,null,null,null,null,0,null,null,null,0,null,null,null,null,null,0]
[{"$f":"'Labor Summary (Office)'!A714","v":0},{"$f":"'Labor Summary (Office)'!B714","v":0},null,null,null,null,null,null,null,0,null,null,null,0,null,null,null,null,null,0]
[{"$f":"'Labor Summary (Office)'!A715","v":0},{"$f":"'Labor Summary (Office)'!B715","v":0},null,null,null,null,null,null,null,0,null,null,null,0,null,null,null,null,null,0]
[{"$f":"'Labor Summary (Office)'!A716","v":0},{"$f":"'Labor Summary (Office)'!B716","v":0},null,null,null,null,null,null,null,0,null,null,null,0,null,null,null,null,null,0]
[{"$f":"'Labor Summary (Office)'!A717","v":0},{"$f":"'Labor Summary (Office)'!B717","v":0},null,null,null,null,null,null,null,{"$f":"I719+H719","v":0},null,null,null,0,null,null,null,null,null,0]
[{"$f":"'Labor Summary (Office)'!A718","v":0},{"$f":"'Labor Summary (Office)'!B718","v":0},null,null,null,null,null,null,null,0,null,null,null,0,null,null,null,null,null,0]
[{"$f":"'Labor Summary (Office)'!A719","v":0},{"$f":"'Labor Summary (Office)'!B719","v":0},null,null,null,null,null,null,null,0,null,null,null,0,null,null,null,null,null,0]
[{"$f":"'Labor Summary (Office)'!A720","v":0},{"$f":"'Labor Summary (Office)'!B720","v":0},null,null,null,null,null,null,null,0,null,null,null,0,null,null,null,null,null,0]
[{"$f":"'Labor Summary (Office)'!A721","v":0},{"$f":"'Labor Summary (Office)'!B721","v":0},null,null,null,null,null,null,null,0,null,null,null,0,null,null,null,null,null,0]
[{"$f":"'Labor Summary (Office)'!A722","v":0},{"$f":"'Labor Summary (Office)'!B722","v":0},null,null,null,null,null,null,null,0,null,null,null,0,null,null,null,null,null,0]
[{"$f":"'Labor Summary (Office)'!A723","v":0},{"$f":"'Labor Summary (Office)'!B723","v":0},null,null,null,null,null,null,null,0,null,null,null,0,null,null,null,null,null,0]
[{"$f":"'Labor Summary (Office)'!A724","v":0},{"$f":"'Labor Summary (Office)'!B724","v":0},{"$f":"IF(A726=0,\"\",A726)","v":""},null,null,null,null,null,null,null,null,null,null,null,null,null,null,"Subtotal Line 23",null,{"$f":"ROUND(SUM(T696:T725),2)","v":0}]
[{"$f":"'Labor Summary (Office)'!A725","v":0},{"$f":"'Labor Summary (Office)'!B725","v":0},null,null,null,null,null,null,null,0,null,null,null,{"$f":"ROUND(M727*$N$9,2)","v":0},null,null,null,null,null,{"$f":"ROUND((G727+J727+L727+N727+O727+P727+Q727+R727+S727),2)","v":0}]
[{"$f":"'Labor Summary (Office)'!A726","v":0},{"$f":"'Labor Summary (Office)'!B726","v":0},null,null,null,null,null,null,null,0,null,null,null,{"$f":"ROUND(M728*$N$9,2)","v":0},null,null,null,null,null,0]
[{"$f":"'Labor Summary (Office)'!A727","v":0},{"$f":"'Labor Summary (Office)'!B727","v":0},null,null,null,null,null,null,null,0,null,null,null,0,null,null,null,null,null,0]
[{"$f":"'Labor Summary (Office)'!A728","v":0},{"$f":"'Labor Summary (Office)'!B728","v":0},null,null,null,null,null,null,null,0,null,null,null,0,null,null,null,null,null,0]
[{"$f":"'Labor Summary (Office)'!A729","v":0},{"$f":"'Labor Summary (Office)'!B729","v":0},null,null,null,null,null,null,null,0,null,null,null,0,null,null,null,null,null,0]
[{"$f":"'Labor Summary (Office)'!A730","v":0},{"$f":"'Labor Summary (Office)'!B730","v":0},null,null,null,null,null,null,null,0,null,null,null,0,null,null,null,null,null,0]
[{"$f":"'Labor Summary (Office)'!A731","v":0},{"$f":"'Labor Summary (Office)'!B731","v":0},null,null,null,null,null,null,null,0,null,null,null,0,null,null,null,null,null,0]
[{"$f":"'Labor Summary (Office)'!A732","v":0},{"$f":"'Labor Summary (Office)'!B732","v":0},null,null,null,null,null,null,null,0,null,null,null,0,null,null,null,null,null,0]
[{"$f":"'Labor Summary (Office)'!A733","v":0},{"$f":"'Labor Summary (Office)'!B733","v":0},null,null,null,null,null,null,null,0,null,null,null,0,null,null,null,null,null,0]
[{"$f":"'Labor Summary (Office)'!A734","v":0},{"$f":"'Labor Summary (Office)'!B734","v":0},null,null,null,null,null,null,null,0,null,null,null,0,null,null,null,null,null,0]
[{"$f":"'Labor Summary (Office)'!A735","v":0},{"$f":"'Labor Summary (Office)'!B735","v":0},null,null,null,null,null,null,null,0,null,null,null,0,null,null,null,null,null,0]
[{"$f":"'Labor Summary (Office)'!A736","v":0},{"$f":"'Labor Summary (Office)'!B736","v":0},null,null,null,null,null,null,null,0,null,null,null,0,null,null,null,null,null,0]
[{"$f":"'Labor Summary (Office)'!A737","v":0},{"$f":"'Labor Summary (Office)'!B737","v":0},null,null,null,null,null,null,null,0,null,null,null,0,null,null,null,null,null,0]
[{"$f":"'Labor Summary (Office)'!A738","v":0},{"$f":"'Labor Summary (Office)'!B738","v":0},null,null,null,null,null,null,null,0,null,null,null,0,null,null,null,null,null,0]
[{"$f":"'Labor Summary (Office)'!A739","v":0},{"$f":"'Labor Summary (Office)'!B739","v":0},null,null,null,null,null,null,null,0,null,null,null,0,null,null,null,null,null,0]
[{"$f":"'Labor Summary (Office)'!A740","v":0},{"$f":"'Labor Summary (Office)'!B740","v":0},null,null,null,null,null,null,null,0,null,null,null,0,null,null,null,null,null,0]
[{"$f":"'Labor Summary (Office)'!A741","v":0},{"$f":"'Labor Summary (Office)'!B741","v":0},null,null,null,null,null,null,null,0,null,null,null,0,null,null,null,null,null,0]
[{"$f":"'Labor Summary (Office)'!A742","v":0},{"$f":"'Labor Summary (Office)'!B742","v":0},null,null,null,null,null,null,null,0,null,null,null,0,null,null,null,null,null,0]
[{"$f":"'Labor Summary (Office)'!A743","v":0},{"$f":"'Labor Summary (Office)'!B743","v":0},null,null,null,null,null,null,null,0,null,null,null,0,null,null,null,null,null,0]
[{"$f":"'Labor Summary (Office)'!A744","v":0},{"$f":"'Labor Summary (Office)'!B744","v":0},null,null,null,null,null,null,null,0,null,null,null,0,null,null,null,null,null,0]
[{"$f":"'Labor Summary (Office)'!A745","v":0},{"$f":"'Labor Summary (Office)'!B745","v":0},null,null,null,null,null,null,null,0,null,null,null,0,null,null,null,null,null,0]
[{"$f":"'Labor Summary (Office)'!A746","v":0},{"$f":"'Labor Summary (Office)'!B746","v":0},null,null,null,null,null,null,null,0,null,null,null,0,null,null,null,null,null,0]
[{"$f":"'Labor Summary (Office)'!A747","v":0},{"$f":"'Labor Summary (Office)'!B747","v":0},null,null,null,null,null,null,null,0,null,null,null,0,null,null,null,null,null,0]
[{"$f":"'Labor Summary (Office)'!A748","v":0},{"$f":"'Labor Summary (Office)'!B748","v":0},null,null,null,null,null,null,null,0,null,null,null,0,null,null,null,null,null,0]
[{"$f":"'Labor Summary (Office)'!A749","v":0},{"$f":"'Labor Summary (Office)'!B749","v":0},null,null,null,null,null,null,null,0,null,null,null,0,null,null,null,null,null,0]
[{"$f":"'Labor Summary (Office)'!A750","v":0},{"$f":"'Labor Summary (Office)'!B750","v":0},null,null,null,null,null,null,null,0,null,null,null,0,null,null,null,null,null,0]
[{"$f":"'Labor Summary (Office)'!A751","v":0},{"$f":"'Labor Summary (Office)'!B751","v":0},null,null,null,null,null,null,null,0,null,null,null,0,null,null,null,null,null,0]
[{"$f":"'Labor Summary (Office)'!A752","v":0},{"$f":"'Labor Summary (Office)'!B752","v":0},null,null,null,null,null,null,null,0,null,null,null,0,null,null,null,null,null,0]
[{"$f":"'Labor Summary (Office)'!A753","v":0},{"$f":"'Labor Summary (Office)'!B753","v":0},null,null,null,null,null,null,null,0,null,null,null,0,null,null,null,null,null,0]
[{"$f":"'Labor Summary (Office)'!A754","v":0},{"$f":"'Labor Summary (Office)'!B754","v":0},null,null,null,null,null,null,null,0,null,null,null,0,null,null,null,null,null,0]
[{"$f":"'Labor Summary (Office)'!A755","v":0},{"$f":"'Labor Summary (Office)'!B755","v":0},{"$f":"IF(A757=0,\"\",A757)","v":""},null,null,null,null,null,null,null,null,null,null,null,null,null,null,"Subtotal Line 24",null,{"$f":"ROUND(SUM(T727:T756),2)","v":0}]
[{"$f":"'Labor Summary (Office)'!A756","v":0},{"$f":"'Labor Summary (Office)'!B756","v":0},null,null,null,null,null,null,null,0,null,null,null,{"$f":"ROUND(M758*$N$9,2)","v":0},null,null,null,null,null,{"$f":"ROUND((G758+J758+L758+N758+O758+P758+Q758+R758+S758),2)","v":0}]
[{"$f":"'Labor Summary (Office)'!A757","v":0},{"$f":"'Labor Summary (Office)'!B757","v":0},null,null,null,null,null,null,null,0,null,null,null,{"$f":"ROUND(M759*$N$9,2)","v":0},null,null,null,null,null,0]
[{"$f":"'Labor Summary (Office)'!A758","v":0},{"$f":"'Labor Summary (Office)'!B758","v":0},null,null,null,null,null,null,null,0,null,null,null,0,null,null,null,null,null,0]
[{"$f":"'Labor Summary (Office)'!A759","v":0},{"$f":"'Labor Summary (Office)'!B759","v":0},null,null,null,null,null,null,null,0,null,null,null,0,null,null,null,null,null,0]
[{"$f":"'Labor Summary (Office)'!A760","v":0},{"$f":"'Labor Summary (Office)'!B760","v":0},null,null,null,null,null,null,null,0,null,null,null,0,null,null,null,null,null,0]
[{"$f":"'Labor Summary (Office)'!A761","v":0},{"$f":"'Labor Summary (Office)'!B761","v":0},null,null,null,null,null,null,null,0,null,null,null,0,null,null,null,null,null,0]
[{"$f":"'Labor Summary (Office)'!A762","v":0},{"$f":"'Labor Summary (Office)'!B762","v":0},null,null,null,null,null,null,null,0,null,null,null,0,null,null,null,null,null,0]
[{"$f":"'Labor Summary (Office)'!A763","v":0},{"$f":"'Labor Summary (Office)'!B763","v":0},null,null,null,null,null,null,null,0,null,null,null,0,null,null,null,null,null,0]
[{"$f":"'Labor Summary (Office)'!A764","v":0},{"$f":"'Labor Summary (Office)'!B764","v":0},null,null,null,null,null,null,null,0,null,null,null,0,null,null,null,null,null,0]
[{"$f":"'Labor Summary (Office)'!A765","v":0},{"$f":"'Labor Summary (Office)'!B765","v":0},null,null,null,null,null,null,null,0,null,null,null,0,null,null,null,null,null,0]
[{"$f":"'Labor Summary (Office)'!A766","v":0},{"$f":"'Labor Summary (Office)'!B766","v":0},null,null,null,null,null,null,null,0,null,null,null,0,null,null,null,null,null,0]
[{"$f":"'Labor Summary (Office)'!A767","v":0},{"$f":"'Labor Summary (Office)'!B767","v":0},null,null,null,null,null,null,null,0,null,null,null,0,null,null,null,null,null,0]
[{"$f":"'Labor Summary (Office)'!A768","v":0},{"$f":"'Labor Summary (Office)'!B768","v":0},null,null,null,null,null,null,null,0,null,null,null,0,null,null,null,null,null,0]
[{"$f":"'Labor Summary (Office)'!A769","v":0},{"$f":"'Labor Summary (Office)'!B769","v":0},null,null,null,null,null,null,null,0,null,null,null,0,null,null,null,null,null,0]
[{"$f":"'Labor Summary (Office)'!A770","v":0},{"$f":"'Labor Summary (Office)'!B770","v":0},null,null,null,null,null,null,null,0,null,null,null,0,null,null,null,null,null,0]
[{"$f":"'Labor Summary (Office)'!A771","v":0},{"$f":"'Labor Summary (Office)'!B771","v":0},null,null,null,null,null,null,null,0,null,null,null,0,null,null,null,null,null,0]
[{"$f":"'Labor Summary (Office)'!A772","v":0},{"$f":"'Labor Summary (Office)'!B772","v":0},null,null,null,null,null,null,null,0,null,null,null,0,null,null,null,null,null,0]
[{"$f":"'Labor Summary (Office)'!A773","v":0},{"$f":"'Labor Summary (Office)'!B773","v":0},null,null,null,null,null,null,null,0,null,null,null,0,null,null,null,null,null,0]
[{"$f":"'Labor Summary (Office)'!A774","v":0},{"$f":"'Labor Summary (Office)'!B774","v":0},null,null,null,null,null,null,null,0,null,null,null,0,null,null,null,null,null,0]
[{"$f":"'Labor Summary (Office)'!A775","v":0},{"$f":"'Labor Summary (Office)'!B775","v":0},null,null,null,null,null,null,null,0,null,null,null,0,null,null,null,null,null,0]
[{"$f":"'Labor Summary (Office)'!A776","v":0},{"$f":"'Labor Summary (Office)'!B776","v":0},null,null,null,null,null,null,null,0,null,null,null,0,null,null,null,null,null,0]
[{"$f":"'Labor Summary (Office)'!A777","v":0},{"$f":"'Labor Summary (Office)'!B777","v":0},null,null,null,null,null,null,null,0,null,null,null,0,null,null,null,null,null,0]
[{"$f":"'Labor Summary (Office)'!A778","v":0},{"$f":"'Labor Summary (Office)'!B778","v":0},null,null,null,null,null,null,null,0,null,null,null,0,null,null,null,null,null,0]
[{"$f":"'Labor Summary (Office)'!A779","v":0},{"$f":"'Labor Summary (Office)'!B779","v":0},null,null,null,null,null,null,null,0,null,null,null,0,null,null,null,null,null,0]
[{"$f":"'Labor Summary (Office)'!A780","v":0},{"$f":"'Labor Summary (Office)'!B780","v":0},null,null,null,null,null,null,null,0,null,null,null,0,null,null,null,null,null,0]
[{"$f":"'Labor Summary (Office)'!A781","v":0},{"$f":"'Labor Summary (Office)'!B781","v":0},null,null,null,null,null,null,null,{"$f":"I783+H783","v":0},null,null,null,0,null,null,null,null,null,0]
[{"$f":"'Labor Summary (Office)'!A782","v":0},{"$f":"'Labor Summary (Office)'!B782","v":0},null,null,null,null,null,null,null,0,null,null,null,0,null,null,null,null,null,0]
[{"$f":"'Labor Summary (Office)'!A783","v":0},{"$f":"'Labor Summary (Office)'!B783","v":0},null,null,null,null,null,null,null,0,null,null,null,0,null,null,null,null,null,0]
[{"$f":"'Labor Summary (Office)'!A784","v":0},{"$f":"'Labor Summary (Office)'!B784","v":0},null,null,null,null,null,null,null,0,null,null,null,0,null,null,null,null,null,0]
[{"$f":"'Labor Summary (Office)'!A785","v":0},{"$f":"'Labor Summary (Office)'!B785","v":0},null,null,null,null,null,null,null,0,null,null,null,0,null,null,null,null,null,0]
[{"$f":"'Labor Summary (Office)'!A786","v":0},{"$f":"'Labor Summary (Office)'!B786","v":0},{"$f":"IF(A788=0,\"\",A788)","v":""},null,null,null,null,null,null,null,null,null,null,null,null,null,null,"Subtotal Line 25",null,{"$f":"ROUND(SUM(T758:T787),2)","v":0}]
[{"$f":"'Labor Summary (Office)'!A787","v":0},{"$f":"'Labor Summary (Office)'!B787","v":0},null,null,null,null,null,null,null,0,null,null,null,{"$f":"ROUND(M789*$N$9,2)","v":0},null,null,null,null,null,{"$f":"ROUND((G789+J789+L789+N789+O789+P789+Q789+R789+S789),2)","v":0}]
[{"$f":"'Labor Summary (Office)'!A788","v":0},{"$f":"'Labor Summary (Office)'!B788","v":0},null,null,null,null,null,null,null,0,null,null,null,{"$f":"ROUND(M790*$N$9,2)","v":0},null,null,null,null,null,0]
[{"$f":"'Labor Summary (Office)'!A789","v":0},{"$f":"'Labor Summary (Office)'!B789","v":0},null,null,null,null,null,null,null,0,null,null,null,0,null,null,null,null,null,0]
[{"$f":"'Labor Summary (Office)'!A790","v":0},{"$f":"'Labor Summary (Office)'!B790","v":0},null,null,null,null,null,null,null,0,null,null,null,0,null,null,null,null,null,0]
[{"$f":"'Labor Summary (Office)'!A791","v":0},{"$f":"'Labor Summary (Office)'!B791","v":0},null,null,null,null,null,null,null,0,null,null,null,0,null,null,null,null,null,0]
[{"$f":"'Labor Summary (Office)'!A792","v":0},{"$f":"'Labor Summary (Office)'!B792","v":0},null,null,null,null,null,null,null,0,null,null,null,0,null,null,null,null,null,0]
[{"$f":"'Labor Summary (Office)'!A793","v":0},{"$f":"'Labor Summary (Office)'!B793","v":0},null,null,null,null,null,null,null,0,null,null,null,0,null,null,null,null,null,0]
[{"$f":"'Labor Summary (Office)'!A794","v":0},{"$f":"'Labor Summary (Office)'!B794","v":0},null,null,null,null,null,null,null,0,null,null,null,0,null,null,null,null,null,0]
[{"$f":"'Labor Summary (Office)'!A795","v":0},{"$f":"'Labor Summary (Office)'!B795","v":0},null,null,null,null,null,null,null,0,null,null,null,0,null,null,null,null,null,0]
[{"$f":"'Labor Summary (Office)'!A796","v":0},{"$f":"'Labor Summary (Office)'!B796","v":0},null,null,null,null,null,null,null,0,null,null,null,0,null,null,null,null,null,0]
[{"$f":"'Labor Summary (Office)'!A797","v":0},{"$f":"'Labor Summary (Office)'!B797","v":0},null,null,null,null,null,null,null,0,null,null,null,0,null,null,null,null,null,0]
[{"$f":"'Labor Summary (Office)'!A798","v":0},{"$f":"'Labor Summary (Office)'!B798","v":0},null,null,null,null,null,null,null,0,null,null,null,0,null,null,null,null,null,0]
[{"$f":"'Labor Summary (Office)'!A799","v":0},{"$f":"'Labor Summary (Office)'!B799","v":0},null,null,null,null,null,null,null,0,null,null,null,0,null,null,null,null,null,0]
[{"$f":"'Labor Summary (Office)'!A800","v":0},{"$f":"'Labor Summary (Office)'!B800","v":0},null,null,null,null,null,null,null,0,null,null,null,0,null,null,null,null,null,0]
[{"$f":"'Labor Summary (Office)'!A801","v":0},{"$f":"'Labor Summary (Office)'!B801","v":0},null,null,null,null,null,null,null,0,null,null,null,0,null,null,null,null,null,0]
[{"$f":"'Labor Summary (Office)'!A802","v":0},{"$f":"'Labor Summary (Office)'!B802","v":0},null,null,null,null,null,null,null,0,null,null,null,0,null,null,null,null,null,0]
[{"$f":"'Labor Summary (Office)'!A803","v":0},{"$f":"'Labor Summary (Office)'!B803","v":0},null,null,null,null,null,null,null,0,null,null,null,0,null,null,null,null,null,0]
[{"$f":"'Labor Summary (Office)'!A804","v":0},{"$f":"'Labor Summary (Office)'!B804","v":0},null,null,null,null,null,null,null,0,null,null,null,0,null,null,null,null,null,0]
[{"$f":"'Labor Summary (Office)'!A805","v":0},{"$f":"'Labor Summary (Office)'!B805","v":0},null,null,null,null,null,null,null,0,null,null,null,0,null,null,null,null,null,0]
[{"$f":"'Labor Summary (Office)'!A806","v":0},{"$f":"'Labor Summary (Office)'!B806","v":0},null,null,null,null,null,null,null,0,null,null,null,0,null,null,null,null,null,0]
[{"$f":"'Labor Summary (Office)'!A807","v":0},{"$f":"'Labor Summary (Office)'!B807","v":0},null,null,null,null,null,null,null,0,null,null,null,0,null,null,null,null,null,0]
[{"$f":"'Labor Summary (Office)'!A808","v":0},{"$f":"'Labor Summary (Office)'!B808","v":0},null,null,null,null,null,null,null,0,null,null,null,0,null,null,null,null,null,0]
[{"$f":"'Labor Summary (Office)'!A809","v":0},{"$f":"'Labor Summary (Office)'!B809","v":0},null,null,null,null,null,null,null,0,null,null,null,0,null,null,null,null,null,0]
[{"$f":"'Labor Summary (Office)'!A810","v":0},{"$f":"'Labor Summary (Office)'!B810","v":0},null,null,null,null,null,null,null,0,null,null,null,0,null,null,null,null,null,0]
[{"$f":"'Labor Summary (Office)'!A811","v":0},{"$f":"'Labor Summary (Office)'!B811","v":0},null,null,null,null,null,null,null,0,null,null,null,0,null,null,null,null,null,0]
[{"$f":"'Labor Summary (Office)'!A812","v":0},{"$f":"'Labor Summary (Office)'!B812","v":0},null,null,null,null,null,null,null,0,null,null,null,0,null,null,null,null,null,0]
[{"$f":"'Labor Summary (Office)'!A813","v":0},{"$f":"'Labor Summary (Office)'!B813","v":0},null,null,null,null,null,null,null,0,null,null,null,0,null,null,null,null,null,0]
[{"$f":"'Labor Summary (Office)'!A814","v":0},{"$f":"'Labor Summary (Office)'!B814","v":0},null,null,null,null,null,null,null,0,null,null,null,0,null,null,null,null,null,0]
[{"$f":"'Labor Summary (Office)'!A815","v":0},{"$f":"'Labor Summary (Office)'!B815","v":0},null,null,null,null,null,null,null,0,null,null,null,0,null,null,null,null,null,0]
[{"$f":"'Labor Summary (Office)'!A816","v":0},{"$f":"'Labor Summary (Office)'!B816","v":0},null,null,null,null,null,null,null,0,null,null,null,0,null,null,null,null,null,0]
[{"$f":"'Labor Summary (Office)'!A817","v":0},{"$f":"'Labor Summary (Office)'!B817","v":0},{"$f":"IF(A819=0,\"\",A819)","v":""},null,null,null,null,null,null,null,null,null,null,null,null,null,null,"Subtotal Line 26",null,{"$f":"ROUND(SUM(T789:T818),2)","v":0}]
[{"$f":"'Labor Summary (Office)'!A818","v":0},{"$f":"'Labor Summary (Office)'!B818","v":0},null,null,null,null,null,null,null,0,null,null,null,{"$f":"ROUND(M820*$N$9,2)","v":0},null,null,null,null,null,{"$f":"ROUND((G820+J820+L820+N820+O820+P820+Q820+R820+S820),2)","v":0}]
[{"$f":"'Labor Summary (Office)'!A819","v":0},{"$f":"'Labor Summary (Office)'!B819","v":0},null,null,null,null,null,null,null,0,null,null,null,{"$f":"ROUND(M821*$N$9,2)","v":0},null,null,null,null,null,0]
[{"$f":"'Labor Summary (Office)'!A820","v":0},{"$f":"'Labor Summary (Office)'!B820","v":0},null,null,null,null,null,null,null,0,null,null,null,0,null,null,null,null,null,0]
[{"$f":"'Labor Summary (Office)'!A821","v":0},{"$f":"'Labor Summary (Office)'!B821","v":0},null,null,null,null,null,null,null,0,null,null,null,0,null,null,null,null,null,0]
[{"$f":"'Labor Summary (Office)'!A822","v":0},{"$f":"'Labor Summary (Office)'!B822","v":0},null,null,null,null,null,null,null,0,null,null,null,0,null,null,null,null,null,0]
[{"$f":"'Labor Summary (Office)'!A823","v":0},{"$f":"'Labor Summary (Office)'!B823","v":0},null,null,null,null,null,null,null,0,null,null,null,0,null,null,null,null,null,0]
[{"$f":"'Labor Summary (Office)'!A824","v":0},{"$f":"'Labor Summary (Office)'!B824","v":0},null,null,null,null,null,null,null,0,null,null,null,0,null,null,null,null,null,0]
[{"$f":"'Labor Summary (Office)'!A825","v":0},{"$f":"'Labor Summary (Office)'!B825","v":0},null,null,null,null,null,null,null,0,null,null,null,0,null,null,null,null,null,0]
[{"$f":"'Labor Summary (Office)'!A826","v":0},{"$f":"'Labor Summary (Office)'!B826","v":0},null,null,null,null,null,null,null,0,null,null,null,0,null,null,null,null,null,0]
[{"$f":"'Labor Summary (Office)'!A827","v":0},{"$f":"'Labor Summary (Office)'!B827","v":0},null,null,null,null,null,null,null,0,null,null,null,0,null,null,null,null,null,0]
[{"$f":"'Labor Summary (Office)'!A828","v":0},{"$f":"'Labor Summary (Office)'!B828","v":0},null,null,null,null,null,null,null,0,null,null,null,0,null,null,null,null,null,0]
[{"$f":"'Labor Summary (Office)'!A829","v":0},{"$f":"'Labor Summary (Office)'!B829","v":0},null,null,null,null,null,null,null,0,null,null,null,0,null,null,null,null,null,0]
[{"$f":"'Labor Summary (Office)'!A830","v":0},{"$f":"'Labor Summary (Office)'!B830","v":0},null,null,null,null,null,null,null,0,null,null,null,0,null,null,null,null,null,0]
[{"$f":"'Labor Summary (Office)'!A831","v":0},{"$f":"'Labor Summary (Office)'!B831","v":0},null,null,null,null,null,null,null,0,null,null,null,0,null,null,null,null,null,0]
[{"$f":"'Labor Summary (Office)'!A832","v":0},{"$f":"'Labor Summary (Office)'!B832","v":0},null,null,null,null,null,null,null,0,null,null,null,0,null,null,null,null,null,0]
[{"$f":"'Labor Summary (Office)'!A833","v":0},{"$f":"'Labor Summary (Office)'!B833","v":0},null,null,null,null,null,null,null,0,null,null,null,0,null,null,null,null,null,0]
[{"$f":"'Labor Summary (Office)'!A834","v":0},{"$f":"'Labor Summary (Office)'!B834","v":0},null,null,null,null,null,null,null,0,null,null,null,0,null,null,null,null,null,0]
[{"$f":"'Labor Summary (Office)'!A835","v":0},{"$f":"'Labor Summary (Office)'!B835","v":0},null,null,null,null,null,null,null,0,null,null,null,0,null,null,null,null,null,0]
[{"$f":"'Labor Summary (Office)'!A836","v":0},{"$f":"'Labor Summary (Office)'!B836","v":0},null,null,null,null,null,null,null,0,null,null,null,0,null,null,null,null,null,0]
[{"$f":"'Labor Summary (Office)'!A837","v":0},{"$f":"'Labor Summary (Office)'!B837","v":0},null,null,null,null,null,null,null,0,null,null,null,0,null,null,null,null,null,0]
[{"$f":"'Labor Summary (Office)'!A838","v":0},{"$f":"'Labor Summary (Office)'!B838","v":0},null,null,null,null,null,null,null,0,null,null,null,0,null,null,null,null,null,0]
[{"$f":"'Labor Summary (Office)'!A839","v":0},{"$f":"'Labor Summary (Office)'!B839","v":0},null,null,null,null,null,null,null,0,null,null,null,0,null,null,null,null,null,0]
[{"$f":"'Labor Summary (Office)'!A840","v":0},{"$f":"'Labor Summary (Office)'!B840","v":0},null,null,null,null,null,null,null,0,null,null,null,0,null,null,null,null,null,0]
[{"$f":"'Labor Summary (Office)'!A841","v":0},{"$f":"'Labor Summary (Office)'!B841","v":0},null,null,null,null,null,null,null,0,null,null,null,0,null,null,null,null,null,0]
[{"$f":"'Labor Summary (Office)'!A842","v":0},{"$f":"'Labor Summary (Office)'!B842","v":0},null,null,null,null,null,null,null,0,null,null,null,0,null,null,null,null,null,0]
[{"$f":"'Labor Summary (Office)'!A843","v":0},{"$f":"'Labor Summary (Office)'!B843","v":0},null,null,null,null,null,null,null,0,null,null,null,0,null,null,null,null,null,0]
[{"$f":"'Labor Summary (Office)'!A844","v":0},{"$f":"'Labor Summary (Office)'!B844","v":0},null,null,null,null,null,null,null,0,null,null,null,0,null,null,null,null,null,0]
[{"$f":"'Labor Summary (Office)'!A845","v":0},{"$f":"'Labor Summary (Office)'!B845","v":0},null,null,null,null,null,null,null,{"$f":"I847+H847","v":0},null,null,null,0,null,null,null,null,null,0]
[{"$f":"'Labor Summary (Office)'!A846","v":0},{"$f":"'Labor Summary (Office)'!B846","v":0},null,null,null,null,null,null,null,0,null,null,null,0,null,null,null,null,null,0]
[{"$f":"'Labor Summary (Office)'!A847","v":0},{"$f":"'Labor Summary (Office)'!B847","v":0},null,null,null,null,null,null,null,0,null,null,null,0,null,null,null,null,null,0]
[{"$f":"'Labor Summary (Office)'!A848","v":0},{"$f":"'Labor Summary (Office)'!B848","v":0},{"$f":"IF(A850=0,\"\",A850)","v":""},null,null,null,null,null,null,null,null,null,null,null,null,null,null,"Subtotal Line 27",null,{"$f":"ROUND(SUM(T820:T849),2)","v":0}]
[{"$f":"'Labor Summary (Office)'!A849","v":0},{"$f":"'Labor Summary (Office)'!B849","v":0},null,null,null,null,null,null,null,0,null,null,null,{"$f":"ROUND(M851*$N$9,2)","v":0},null,null,null,null,null,{"$f":"ROUND((G851+J851+L851+N851+O851+P851+Q851+R851+S851),2)","v":0}]
[{"$f":"'Labor Summary (Office)'!A850","v":0},{"$f":"'Labor Summary (Office)'!B850","v":0},null,null,null,null,null,null,null,0,null,null,null,{"$f":"ROUND(M852*$N$9,2)","v":0},null,null,null,null,null,0]
[{"$f":"'Labor Summary (Office)'!A851","v":0},{"$f":"'Labor Summary (Office)'!B851","v":0},null,null,null,null,null,null,null,0,null,null,null,0,null,null,null,null,null,0]
[{"$f":"'Labor Summary (Office)'!A852","v":0},{"$f":"'Labor Summary (Office)'!B852","v":0},null,null,null,null,null,null,null,0,null,null,null,0,null,null,null,null,null,0]
[{"$f":"'Labor Summary (Office)'!A853","v":0},{"$f":"'Labor Summary (Office)'!B853","v":0},null,null,null,null,null,null,null,0,null,null,null,0,null,null,null,null,null,0]
[{"$f":"'Labor Summary (Office)'!A854","v":0},{"$f":"'Labor Summary (Office)'!B854","v":0},null,null,null,null,null,null,null,0,null,null,null,0,null,null,null,null,null,0]
[{"$f":"'Labor Summary (Office)'!A855","v":0},{"$f":"'Labor Summary (Office)'!B855","v":0},null,null,null,null,null,null,null,0,null,null,null,0,null,null,null,null,null,0]
[{"$f":"'Labor Summary (Office)'!A856","v":0},{"$f":"'Labor Summary (Office)'!B856","v":0},null,null,null,null,null,null,null,0,null,null,null,0,null,null,null,null,null,0]
[{"$f":"'Labor Summary (Office)'!A857","v":0},{"$f":"'Labor Summary (Office)'!B857","v":0},null,null,null,null,null,null,null,0,null,null,null,0,null,null,null,null,null,0]
[{"$f":"'Labor Summary (Office)'!A858","v":0},{"$f":"'Labor Summary (Office)'!B858","v":0},null,null,null,null,null,null,null,0,null,null,null,0,null,null,null,null,null,0]
[{"$f":"'Labor Summary (Office)'!A859","v":0},{"$f":"'Labor Summary (Office)'!B859","v":0},null,null,null,null,null,null,null,0,null,null,null,0,null,null,null,null,null,0]
[{"$f":"'Labor Summary (Office)'!A860","v":0},{"$f":"'Labor Summary (Office)'!B860","v":0},null,null,null,null,null,null,null,0,null,null,null,0,null,null,null,null,null,0]
[{"$f":"'Labor Summary (Office)'!A861","v":0},{"$f":"'Labor Summary (Office)'!B861","v":0},null,null,null,null,null,null,null,0,null,null,null,0,null,null,null,null,null,0]
[{"$f":"'Labor Summary (Office)'!A862","v":0},{"$f":"'Labor Summary (Office)'!B862","v":0},null,null,null,null,null,null,null,0,null,null,null,0,null,null,null,null,null,0]
[{"$f":"'Labor Summary (Office)'!A863","v":0},{"$f":"'Labor Summary (Office)'!B863","v":0},null,null,null,null,null,null,null,0,null,null,null,0,null,null,null,null,null,0]
[{"$f":"'Labor Summary (Office)'!A864","v":0},{"$f":"'Labor Summary (Office)'!B864","v":0},null,null,null,null,null,null,null,0,null,null,null,0,null,null,null,null,null,0]
[{"$f":"'Labor Summary (Office)'!A865","v":0},{"$f":"'Labor Summary (Office)'!B865","v":0},null,null,null,null,null,null,null,0,null,null,null,0,null,null,null,null,null,0]
[{"$f":"'Labor Summary (Office)'!A866","v":0},{"$f":"'Labor Summary (Office)'!B866","v":0},null,null,null,null,null,null,null,0,null,null,null,0,null,null,null,null,null,0]
[{"$f":"'Labor Summary (Office)'!A867","v":0},{"$f":"'Labor Summary (Office)'!B867","v":0},null,null,null,null,null,null,null,0,null,null,null,0,null,null,null,null,null,0]
[{"$f":"'Labor Summary (Office)'!A868","v":0},{"$f":"'Labor Summary (Office)'!B868","v":0},null,null,null,null,null,null,null,0,null,null,null,0,null,null,null,null,null,0]
[{"$f":"'Labor Summary (Office)'!A869","v":0},{"$f":"'Labor Summary (Office)'!B869","v":0},null,null,null,null,null,null,null,0,null,null,null,0,null,null,null,null,null,0]
[{"$f":"'Labor Summary (Office)'!A870","v":0},{"$f":"'Labor Summary (Office)'!B870","v":0},null,null,null,null,null,null,null,0,null,null,null,0,null,null,null,null,null,0]
[{"$f":"'Labor Summary (Office)'!A871","v":0},{"$f":"'Labor Summary (Office)'!B871","v":0},null,null,null,null,null,null,null,0,null,null,null,0,null,null,null,null,null,0]
[{"$f":"'Labor Summary (Office)'!A872","v":0},{"$f":"'Labor Summary (Office)'!B872","v":0},null,null,null,null,null,null,null,0,null,null,null,0,null,null,null,null,null,0]
[{"$f":"'Labor Summary (Office)'!A873","v":0},{"$f":"'Labor Summary (Office)'!B873","v":0},null,null,null,null,null,null,null,0,null,null,null,0,null,null,null,null,null,0]
[{"$f":"'Labor Summary (Office)'!A874","v":0},{"$f":"'Labor Summary (Office)'!B874","v":0},null,null,null,null,null,null,null,0,null,null,null,0,null,null,null,null,null,0]
[{"$f":"'Labor Summary (Office)'!A875","v":0},{"$f":"'Labor Summary (Office)'!B875","v":0},null,null,null,null,null,null,null,0,null,null,null,0,null,null,null,null,null,0]
[{"$f":"'Labor Summary (Office)'!A876","v":0},{"$f":"'Labor Summary (Office)'!B876","v":0},null,null,null,null,null,null,null,0,null,null,null,0,null,null,null,null,null,0]
[{"$f":"'Labor Summary (Office)'!A877","v":0},{"$f":"'Labor Summary (Office)'!B877","v":0},null,null,null,null,null,null,null,0,null,null,null,0,null,null,null,null,null,0]
[{"$f":"'Labor Summary (Office)'!A878","v":0},{"$f":"'Labor Summary (Office)'!B878","v":0},null,null,null,null,null,null,null,0,null,null,null,0,null,null,null,null,null,0]
[{"$f":"'Labor Summary (Office)'!A879","v":0},{"$f":"'Labor Summary (Office)'!B879","v":0},{"$f":"IF(A881=0,\"\",A881)","v":""},null,null,null,null,null,null,null,null,null,null,null,null,null,null,"Subtotal Line 28",null,{"$f":"ROUND(SUM(T851:T880),2)","v":0}]
[{"$f":"'Labor Summary (Office)'!A880","v":0},{"$f":"'Labor Summary (Office)'!B880","v":0},null,null,null,null,null,null,null,0,null,null,null,{"$f":"ROUND(M882*$N$9,2)","v":0},null,null,null,null,null,{"$f":"ROUND((G882+J882+L882+N882+O882+P882+Q882+R882+S882),2)","v":0}]
[{"$f":"'Labor Summary (Office)'!A881","v":0},{"$f":"'Labor Summary (Office)'!B881","v":0},null,null,null,null,null,null,null,0,null,null,null,{"$f":"ROUND(M883*$N$9,2)","v":0},null,null,null,null,null,0]
[{"$f":"'Labor Summary (Office)'!A882","v":0},{"$f":"'Labor Summary (Office)'!B882","v":0},null,null,null,null,null,null,null,0,null,null,null,0,null,null,null,null,null,0]
[{"$f":"'Labor Summary (Office)'!A883","v":0},{"$f":"'Labor Summary (Office)'!B883","v":0},null,null,null,null,null,null,null,0,null,null,null,0,null,null,null,null,null,0]
[{"$f":"'Labor Summary (Office)'!A884","v":0},{"$f":"'Labor Summary (Office)'!B884","v":0},null,null,null,null,null,null,null,0,null,null,null,0,null,null,null,null,null,0]
[{"$f":"'Labor Summary (Office)'!A885","v":0},{"$f":"'Labor Summary (Office)'!B885","v":0},null,null,null,null,null,null,null,0,null,null,null,0,null,null,null,null,null,0]
[{"$f":"'Labor Summary (Office)'!A886","v":0},{"$f":"'Labor Summary (Office)'!B886","v":0},null,null,null,null,null,null,null,0,null,null,null,0,null,null,null,null,null,0]
[{"$f":"'Labor Summary (Office)'!A887","v":0},{"$f":"'Labor Summary (Office)'!B887","v":0},null,null,null,null,null,null,null,0,null,null,null,0,null,null,null,null,null,0]
[{"$f":"'Labor Summary (Office)'!A888","v":0},{"$f":"'Labor Summary (Office)'!B888","v":0},null,null,null,null,null,null,null,0,null,null,null,0,null,null,null,null,null,0]
[{"$f":"'Labor Summary (Office)'!A889","v":0},{"$f":"'Labor Summary (Office)'!B889","v":0},null,null,null,null,null,null,null,0,null,null,null,0,null,null,null,null,null,0]
[{"$f":"'Labor Summary (Office)'!A890","v":0},{"$f":"'Labor Summary (Office)'!B890","v":0},null,null,null,null,null,null,null,0,null,null,null,0,null,null,null,null,null,0]
[{"$f":"'Labor Summary (Office)'!A891","v":0},{"$f":"'Labor Summary (Office)'!B891","v":0},null,null,null,null,null,null,null,0,null,null,null,0,null,null,null,null,null,0]
[{"$f":"'Labor Summary (Office)'!A892","v":0},{"$f":"'Labor Summary (Office)'!B892","v":0},null,null,null,null,null,null,null,0,null,null,null,0,null,null,null,null,null,0]
[{"$f":"'Labor Summary (Office)'!A893","v":0},{"$f":"'Labor Summary (Office)'!B893","v":0},null,null,null,null,null,null,null,0,null,null,null,0,null,null,null,null,null,0]
[{"$f":"'Labor Summary (Office)'!A894","v":0},{"$f":"'Labor Summary (Office)'!B894","v":0},null,null,null,null,null,null,null,0,null,null,null,0,null,null,null,null,null,0]
[{"$f":"'Labor Summary (Office)'!A895","v":0},{"$f":"'Labor Summary (Office)'!B895","v":0},null,null,null,null,null,null,null,0,null,null,null,0,null,null,null,null,null,0]
[{"$f":"'Labor Summary (Office)'!A896","v":0},{"$f":"'Labor Summary (Office)'!B896","v":0},null,null,null,null,null,null,null,0,null,null,null,0,null,null,null,null,null,0]
[{"$f":"'Labor Summary (Office)'!A897","v":0},{"$f":"'Labor Summary (Office)'!B897","v":0},null,null,null,null,null,null,null,0,null,null,null,0,null,null,null,null,null,0]
[{"$f":"'Labor Summary (Office)'!A898","v":0},{"$f":"'Labor Summary (Office)'!B898","v":0},null,null,null,null,null,null,null,0,null,null,null,0,null,null,null,null,null,0]
[{"$f":"'Labor Summary (Office)'!A899","v":0},{"$f":"'Labor Summary (Office)'!B899","v":0},null,null,null,null,null,null,null,0,null,null,null,0,null,null,null,null,null,0]
[{"$f":"'Labor Summary (Office)'!A900","v":0},{"$f":"'Labor Summary (Office)'!B900","v":0},null,null,null,null,null,null,null,0,null,null,null,0,null,null,null,null,null,0]
[{"$f":"'Labor Summary (Office)'!A901","v":0},{"$f":"'Labor Summary (Office)'!B901","v":0},null,null,null,null,null,null,null,0,null,null,null,0,null,null,null,null,null,0]
[{"$f":"'Labor Summary (Office)'!A902","v":0},{"$f":"'Labor Summary (Office)'!B902","v":0},null,null,null,null,null,null,null,0,null,null,null,0,null,null,null,null,null,0]
[{"$f":"'Labor Summary (Office)'!A903","v":0},{"$f":"'Labor Summary (Office)'!B903","v":0},null,null,null,null,null,null,null,0,null,null,null,0,null,null,null,null,null,0]
[{"$f":"'Labor Summary (Office)'!A904","v":0},{"$f":"'Labor Summary (Office)'!B904","v":0},null,null,null,null,null,null,null,0,null,null,null,0,null,null,null,null,null,0]
[{"$f":"'Labor Summary (Office)'!A905","v":0},{"$f":"'Labor Summary (Office)'!B905","v":0},null,null,null,null,null,null,null,0,null,null,null,0,null,null,null,null,null,0]
[{"$f":"'Labor Summary (Office)'!A906","v":0},{"$f":"'Labor Summary (Office)'!B906","v":0},null,null,null,null,null,null,null,0,null,null,null,0,null,null,null,null,null,0]
[{"$f":"'Labor Summary (Office)'!A907","v":0},{"$f":"'Labor Summary (Office)'!B907","v":0},null,null,null,null,null,null,null,0,null,null,null,0,null,null,null,null,null,0]
[{"$f":"'Labor Summary (Office)'!A908","v":0},{"$f":"'Labor Summary (Office)'!B908","v":0},null,null,null,null,null,null,null,0,null,null,null,0,null,null,null,null,null,0]
[{"$f":"'Labor Summary (Office)'!A909","v":0},{"$f":"'Labor Summary (Office)'!B909","v":0},null,null,null,null,null,null,null,{"$f":"I911+H911","v":0},null,null,null,0,null,null,null,null,null,0]
[{"$f":"'Labor Summary (Office)'!A910","v":0},{"$f":"'Labor Summary (Office)'!B910","v":0},{"$f":"IF(A912=0,\"\",A912)","v":""},null,null,null,null,null,null,null,null,null,null,null,null,null,null,"Subtotal Line 29",null,{"$f":"ROUND(SUM(T882:T911),2)","v":0}]
[{"$f":"'Labor Summary (Office)'!A911","v":0},{"$f":"'Labor Summary (Office)'!B911","v":0},null,null,null,null,null,null,null,0,null,null,null,{"$f":"ROUND(M913*$N$9,2)","v":0},null,null,null,null,null,{"$f":"ROUND((G913+J913+L913+N913+O913+P913+Q913+R913+S913),2)","v":0}]
[{"$f":"'Labor Summary (Office)'!A912","v":0},{"$f":"'Labor Summary (Office)'!B912","v":0},null,null,null,null,null,null,null,0,null,null,null,{"$f":"ROUND(M914*$N$9,2)","v":0},null,null,null,null,null,0]
[{"$f":"'Labor Summary (Office)'!A913","v":0},{"$f":"'Labor Summary (Office)'!B913","v":0},null,null,null,null,null,null,null,0,null,null,null,0,null,null,null,null,null,0]
[{"$f":"'Labor Summary (Office)'!A914","v":0},{"$f":"'Labor Summary (Office)'!B914","v":0},null,null,null,null,null,null,null,0,null,null,null,0,null,null,null,null,null,0]
[{"$f":"'Labor Summary (Office)'!A915","v":0},{"$f":"'Labor Summary (Office)'!B915","v":0},null,null,null,null,null,null,null,0,null,null,null,0,null,null,null,null,null,0]
[{"$f":"'Labor Summary (Office)'!A916","v":0},{"$f":"'Labor Summary (Office)'!B916","v":0},null,null,null,null,null,null,null,0,null,null,null,0,null,null,null,null,null,0]
[{"$f":"'Labor Summary (Office)'!A917","v":0},{"$f":"'Labor Summary (Office)'!B917","v":0},null,null,null,null,null,null,null,0,null,null,null,0,null,null,null,null,null,0]
[{"$f":"'Labor Summary (Office)'!A918","v":0},{"$f":"'Labor Summary (Office)'!B918","v":0},null,null,null,null,null,null,null,0,null,null,null,0,null,null,null,null,null,0]
[{"$f":"'Labor Summary (Office)'!A919","v":0},{"$f":"'Labor Summary (Office)'!B919","v":0},null,null,null,null,null,null,null,0,null,null,null,0,null,null,null,null,null,0]
[{"$f":"'Labor Summary (Office)'!A920","v":0},{"$f":"'Labor Summary (Office)'!B920","v":0},null,null,null,null,null,null,null,0,null,null,null,0,null,null,null,null,null,0]
[{"$f":"'Labor Summary (Office)'!A921","v":0},{"$f":"'Labor Summary (Office)'!B921","v":0},null,null,null,null,null,null,null,0,null,null,null,0,null,null,null,null,null,0]
[{"$f":"'Labor Summary (Office)'!A922","v":0},{"$f":"'Labor Summary (Office)'!B922","v":0},null,null,null,null,null,null,null,0,null,null,null,0,null,null,null,null,null,0]
[{"$f":"'Labor Summary (Office)'!A923","v":0},{"$f":"'Labor Summary (Office)'!B923","v":0},null,null,null,null,null,null,null,0,null,null,null,0,null,null,null,null,null,0]
[{"$f":"'Labor Summary (Office)'!A924","v":0},{"$f":"'Labor Summary (Office)'!B924","v":0},null,null,null,null,null,null,null,0,null,null,null,0,null,null,null,null,null,0]
[{"$f":"'Labor Summary (Office)'!A925","v":0},{"$f":"'Labor Summary (Office)'!B925","v":0},null,null,null,null,null,null,null,0,null,null,null,0,null,null,null,null,null,0]
[{"$f":"'Labor Summary (Office)'!A926","v":0},{"$f":"'Labor Summary (Office)'!B926","v":0},null,null,null,null,null,null,null,0,null,null,null,0,null,null,null,null,null,0]
[{"$f":"'Labor Summary (Office)'!A927","v":0},{"$f":"'Labor Summary (Office)'!B927","v":0},null,null,null,null,null,null,null,0,null,null,null,0,null,null,null,null,null,0]
[{"$f":"'Labor Summary (Office)'!A928","v":0},{"$f":"'Labor Summary (Office)'!B928","v":0},null,null,null,null,null,null,null,0,null,null,null,0,null,null,null,null,null,0]
[{"$f":"'Labor Summary (Office)'!A929","v":0},{"$f":"'Labor Summary (Office)'!B929","v":0},null,null,null,null,null,null,null,0,null,null,null,0,null,null,null,null,null,0]
[{"$f":"'Labor Summary (Office)'!A930","v":0},{"$f":"'Labor Summary (Office)'!B930","v":0},null,null,null,null,null,null,null,0,null,null,null,0,null,null,null,null,null,0]
[{"$f":"'Labor Summary (Office)'!A931","v":0},{"$f":"'Labor Summary (Office)'!B931","v":0},null,null,null,null,null,null,null,0,null,null,null,0,null,null,null,null,null,0]
[{"$f":"'Labor Summary (Office)'!A932","v":0},{"$f":"'Labor Summary (Office)'!B932","v":0},null,null,null,null,null,null,null,0,null,null,null,0,null,null,null,null,null,0]
[{"$f":"'Labor Summary (Office)'!A933","v":0},{"$f":"'Labor Summary (Office)'!B933","v":0},null,null,null,null,null,null,null,0,null,null,null,0,null,null,null,null,null,0]
[{"$f":"'Labor Summary (Office)'!A934","v":0},{"$f":"'Labor Summary (Office)'!B934","v":0},null,null,null,null,null,null,null,0,null,null,null,0,null,null,null,null,null,0]
[{"$f":"'Labor Summary (Office)'!A935","v":0},{"$f":"'Labor Summary (Office)'!B935","v":0},null,null,null,null,null,null,null,0,null,null,null,0,null,null,null,null,null,0]
[{"$f":"'Labor Summary (Office)'!A936","v":0},{"$f":"'Labor Summary (Office)'!B936","v":0},null,null,null,null,null,null,null,0,null,null,null,0,null,null,null,null,null,0]
[{"$f":"'Labor Summary (Office)'!A937","v":0},{"$f":"'Labor Summary (Office)'!B937","v":0},null,null,null,null,null,null,null,0,null,null,null,0,null,null,null,null,null,0]
[{"$f":"'Labor Summary (Office)'!A938","v":0},{"$f":"'Labor Summary (Office)'!B938","v":0},null,null,null,null,null,null,null,0,null,null,null,0,null,null,null,null,null,0]
[{"$f":"'Labor Summary (Office)'!A939","v":0},{"$f":"'Labor Summary (Office)'!B939","v":0},null,null,null,null,null,null,null,0,null,null,null,0,null,null,null,null,null,0]
[{"$f":"'Labor Summary (Office)'!A940","v":0},{"$f":"'Labor Summary (Office)'!B940","v":0},null,null,null,null,null,null,null,0,null,null,null,0,null,null,null,null,null,0]
[{"$f":"'Labor Summary (Office)'!A941","v":0},{"$f":"'Labor Summary (Office)'!B941","v":0},{"$f":"IF(A943=0,\"\",A943)","v":""},null,null,null,null,null,null,null,null,null,null,null,null,null,null,"Subtotal Line 30",null,{"$f":"ROUND(SUM(T913:T942),2)","v":0}]
[{"$f":"'Labor Summary (Office)'!A942","v":0},{"$f":"'Labor Summary (Office)'!B942","v":0},null,null,null,null,null,null,null,0,null,null,null,{"$f":"ROUND(M944*$N$9,2)","v":0},null,null,null,null,null,{"$f":"ROUND((G944+J944+L944+N944+O944+P944+Q944+R944+S944),2)","v":0}]
[{"$f":"'Labor Summary (Office)'!A943","v":0},{"$f":"'Labor Summary (Office)'!B943","v":0},null,null,null,null,null,null,null,0,null,null,null,{"$f":"ROUND(M945*$N$9,2)","v":0},null,null,null,null,null,0]
[{"$f":"'Labor Summary (Office)'!A944","v":0},{"$f":"'Labor Summary (Office)'!B944","v":0},null,null,null,null,null,null,null,0,null,null,null,0,null,null,null,null,null,0]
[{"$f":"'Labor Summary (Office)'!A945","v":0},{"$f":"'Labor Summary (Office)'!B945","v":0},null,null,null,null,null,null,null,0,null,null,null,0,null,null,null,null,null,0]
[{"$f":"'Labor Summary (Office)'!A946","v":0},{"$f":"'Labor Summary (Office)'!B946","v":0},null,null,null,null,null,null,null,0,null,null,null,0,null,null,null,null,null,0]
[{"$f":"'Labor Summary (Office)'!A947","v":0},{"$f":"'Labor Summary (Office)'!B947","v":0},null,null,null,null,null,null,null,0,null,null,null,0,null,null,null,null,null,0]
[{"$f":"'Labor Summary (Office)'!A948","v":0},{"$f":"'Labor Summary (Office)'!B948","v":0},null,null,null,null,null,null,null,0,null,null,null,0,null,null,null,null,null,0]
[{"$f":"'Labor Summary (Office)'!A949","v":0},{"$f":"'Labor Summary (Office)'!B949","v":0},null,null,null,null,null,null,null,0,null,null,null,0,null,null,null,null,null,0]
[{"$f":"'Labor Summary (Office)'!A950","v":0},{"$f":"'Labor Summary (Office)'!B950","v":0},null,null,null,null,null,null,null,0,null,null,null,0,null,null,null,null,null,0]
[{"$f":"'Labor Summary (Office)'!A951","v":0},{"$f":"'Labor Summary (Office)'!B951","v":0},null,null,null,null,null,null,null,0,null,null,null,0,null,null,null,null,null,0]
[{"$f":"'Labor Summary (Office)'!A952","v":0},{"$f":"'Labor Summary (Office)'!B952","v":0},null,null,null,null,null,null,null,0,null,null,null,0,null,null,null,null,null,0]
[{"$f":"'Labor Summary (Office)'!A953","v":0},{"$f":"'Labor Summary (Office)'!B953","v":0},null,null,null,null,null,null,null,0,null,null,null,0,null,null,null,null,null,0]
[{"$f":"'Labor Summary (Office)'!A954","v":0},{"$f":"'Labor Summary (Office)'!B954","v":0},null,null,null,null,null,null,null,0,null,null,null,0,null,null,null,null,null,0]
[{"$f":"'Labor Summary (Office)'!A955","v":0},{"$f":"'Labor Summary (Office)'!B955","v":0},null,null,null,null,null,null,null,0,null,null,null,0,null,null,null,null,null,0]
[{"$f":"'Labor Summary (Office)'!A956","v":0},{"$f":"'Labor Summary (Office)'!B956","v":0},null,null,null,null,null,null,null,0,null,null,null,0,null,null,null,null,null,0]
[{"$f":"'Labor Summary (Office)'!A957","v":0},{"$f":"'Labor Summary (Office)'!B957","v":0},null,null,null,null,null,null,null,0,null,null,null,0,null,null,null,null,null,0]
[{"$f":"'Labor Summary (Office)'!A958","v":0},{"$f":"'Labor Summary (Office)'!B958","v":0},null,null,null,null,null,null,null,0,null,null,null,0,null,null,null,null,null,0]
[{"$f":"'Labor Summary (Office)'!A959","v":0},{"$f":"'Labor Summary (Office)'!B959","v":0},null,null,null,null,null,null,null,0,null,null,null,0,null,null,null,null,null,0]
[{"$f":"'Labor Summary (Office)'!A960","v":0},{"$f":"'Labor Summary (Office)'!B960","v":0},null,null,null,null,null,null,null,0,null,null,null,0,null,null,null,null,null,0]
[{"$f":"'Labor Summary (Office)'!A961","v":0},{"$f":"'Labor Summary (Office)'!B961","v":0},null,null,null,null,null,null,null,0,null,null,null,0,null,null,null,null,null,0]
[{"$f":"'Labor Summary (Office)'!A962","v":0},{"$f":"'Labor Summary (Office)'!B962","v":0},null,null,null,null,null,null,null,0,null,null,null,0,null,null,null,null,null,0]
[{"$f":"'Labor Summary (Office)'!A963","v":0},{"$f":"'Labor Summary (Office)'!B963","v":0},null,null,null,null,null,null,null,0,null,null,null,0,null,null,null,null,null,0]
[{"$f":"'Labor Summary (Office)'!A964","v":0},{"$f":"'Labor Summary (Office)'!B964","v":0},null,null,null,null,null,null,null,0,null,null,null,0,null,null,null,null,null,0]
[{"$f":"'Labor Summary (Office)'!A965","v":0},{"$f":"'Labor Summary (Office)'!B965","v":0},null,null,null,null,null,null,null,0,null,null,null,0,null,null,null,null,null,0]
[{"$f":"'Labor Summary (Office)'!A966","v":0},{"$f":"'Labor Summary (Office)'!B966","v":0},null,null,null,null,null,null,null,0,null,null,null,0,null,null,null,null,null,0]
[{"$f":"'Labor Summary (Office)'!A967","v":0},{"$f":"'Labor Summary (Office)'!B967","v":0},null,null,null,null,null,null,null,0,null,null,null,0,null,null,null,null,null,0]
[{"$f":"'Labor Summary (Office)'!A968","v":0},{"$f":"'Labor Summary (Office)'!B968","v":0},null,null,null,null,null,null,null,0,null,null,null,0,null,null,null,null,null,0]
[{"$f":"'Labor Summary (Office)'!A969","v":0},{"$f":"'Labor Summary (Office)'!B969","v":0},null,null,null,null,null,null,null,0,null,null,null,0,null,null,null,null,null,0]
[{"$f":"'Labor Summary (Office)'!A970","v":0},{"$f":"'Labor Summary (Office)'!B970","v":0},null,null,null,null,null,null,null,0,null,null,null,0,null,null,null,null,null,0]
[{"$f":"'Labor Summary (Office)'!A971","v":0},{"$f":"'Labor Summary (Office)'!B971","v":0},null,null,null,null,null,null,null,0,null,null,null,0,null,null,null,null,null,0]
[{"$f":"'Labor Summary (Office)'!A972","v":0},{"$f":"'Labor Summary (Office)'!B972","v":0},{"$f":"IF(A974=0,\"\",A974)","v":""},null,null,null,null,null,null,null,null,null,null,null,null,null,null,"Subtotal Line 31",null,{"$f":"ROUND(SUM(T944:T973),2)","v":0}]
[{"$f":"'Labor Summary (Office)'!A973","v":0},{"$f":"'Labor Summary (Office)'!B973","v":0},null,null,null,null,null,null,null,{"$f":"I975+H975","v":0},null,null,null,{"$f":"ROUND(M975*$N$9,2)","v":0},null,null,null,null,null,{"$f":"ROUND((G975+J975+L975+N975+O975+P975+Q975+R975+S975),2)","v":0}]
[{"$f":"'Labor Summary (Office)'!A974","v":0},{"$f":"'Labor Summary (Office)'!B974","v":0},null,null,null,null,null,null,null,0,null,null,null,{"$f":"ROUND(M976*$N$9,2)","v":0},null,null,null,null,null,0]
[{"$f":"'Labor Summary (Office)'!A975","v":0},{"$f":"'Labor Summary (Office)'!B975","v":0},null,null,null,null,null,null,null,0,null,null,null,0,null,null,null,null,null,0]
[{"$f":"'Labor Summary (Office)'!A976","v":0},{"$f":"'Labor Summary (Office)'!B976","v":0},null,null,null,null,null,null,null,0,null,null,null,0,null,null,null,null,null,0]
[{"$f":"'Labor Summary (Office)'!A977","v":0},{"$f":"'Labor Summary (Office)'!B977","v":0},null,null,null,null,null,null,null,0,null,null,null,0,null,null,null,null,null,0]
[{"$f":"'Labor Summary (Office)'!A978","v":0},{"$f":"'Labor Summary (Office)'!B978","v":0},null,null,null,null,null,null,null,0,null,null,null,0,null,null,null,null,null,0]
[{"$f":"'Labor Summary (Office)'!A979","v":0},{"$f":"'Labor Summary (Office)'!B979","v":0},null,null,null,null,null,null,null,0,null,null,null,0,null,null,null,null,null,0]
[{"$f":"'Labor Summary (Office)'!A980","v":0},{"$f":"'Labor Summary (Office)'!B980","v":0},null,null,null,null,null,null,null,0,null,null,null,0,null,null,null,null,null,0]
[{"$f":"'Labor Summary (Office)'!A981","v":0},{"$f":"'Labor Summary (Office)'!B981","v":0},null,null,null,null,null,null,null,0,null,null,null,0,null,null,null,null,null,0]
[{"$f":"'Labor Summary (Office)'!A982","v":0},{"$f":"'Labor Summary (Office)'!B982","v":0},null,null,null,null,null,null,null,0,null,null,null,0,null,null,null,null,null,0]
[{"$f":"'Labor Summary (Office)'!A983","v":0},{"$f":"'Labor Summary (Office)'!B983","v":0},null,null,null,null,null,null,null,0,null,null,null,0,null,null,null,null,null,0]
[{"$f":"'Labor Summary (Office)'!A984","v":0},{"$f":"'Labor Summary (Office)'!B984","v":0},null,null,null,null,null,null,null,0,null,null,null,0,null,null,null,null,null,0]
[{"$f":"'Labor Summary (Office)'!A985","v":0},{"$f":"'Labor Summary (Office)'!B985","v":0},null,null,null,null,null,null,null,0,null,null,null,0,null,null,null,null,null,0]
[{"$f":"'Labor Summary (Office)'!A986","v":0},{"$f":"'Labor Summary (Office)'!B986","v":0},null,null,null,null,null,null,null,0,null,null,null,0,null,null,null,null,null,0]
[{"$f":"'Labor Summary (Office)'!A987","v":0},{"$f":"'Labor Summary (Office)'!B987","v":0},null,null,null,null,null,null,null,0,null,null,null,0,null,null,null,null,null,0]
[{"$f":"'Labor Summary (Office)'!A988","v":0},{"$f":"'Labor Summary (Office)'!B988","v":0},null,null,null,null,null,null,null,0,null,null,null,0,null,null,null,null,null,0]
[{"$f":"'Labor Summary (Office)'!A989","v":0},{"$f":"'Labor Summary (Office)'!B989","v":0},null,null,null,null,null,null,null,0,null,null,null,0,null,null,null,null,null,0]
[{"$f":"'Labor Summary (Office)'!A990","v":0},{"$f":"'Labor Summary (Office)'!B990","v":0},null,null,null,null,null,null,null,0,null,null,null,0,null,null,null,null,null,0]
[{"$f":"'Labor Summary (Office)'!A991","v":0},{"$f":"'Labor Summary (Office)'!B991","v":0},null,null,null,null,null,null,null,0,null,null,null,0,null,null,null,null,null,0]
[{"$f":"'Labor Summary (Office)'!A992","v":0},{"$f":"'Labor Summary (Office)'!B992","v":0},null,null,null,null,null,null,null,0,null,null,null,0,null,null,null,null,null,0]
[{"$f":"'Labor Summary (Office)'!A993","v":0},{"$f":"'Labor Summary (Office)'!B993","v":0},null,null,null,null,null,null,null,0,null,null,null,0,null,null,null,null,null,0]
[{"$f":"'Labor Summary (Office)'!A994","v":0},{"$f":"'Labor Summary (Office)'!B994","v":0},null,null,null,null,null,null,null,0,null,null,null,0,null,null,null,null,null,0]
[{"$f":"'Labor Summary (Office)'!A995","v":0},{"$f":"'Labor Summary (Office)'!B995","v":0},null,null,null,null,null,null,null,0,null,null,null,0,null,null,null,null,null,0]
[{"$f":"'Labor Summary (Office)'!A996","v":0},{"$f":"'Labor Summary (Office)'!B996","v":0},null,null,null,null,null,null,null,0,null,null,null,0,null,null,null,null,null,0]
[{"$f":"'Labor Summary (Office)'!A997","v":0},{"$f":"'Labor Summary (Office)'!B997","v":0},null,null,null,null,null,null,null,0,null,null,null,0,null,null,null,null,null,0]
[{"$f":"'Labor Summary (Office)'!A998","v":0},{"$f":"'Labor Summary (Office)'!B998","v":0},null,null,null,null,null,null,null,0,null,null,null,0,null,null,null,null,null,0]
[{"$f":"'Labor Summary (Office)'!A999","v":0},{"$f":"'Labor Summary (Office)'!B999","v":0},null,null,null,null,null,null,null,0,null,null,null,0,null,null,null,null,null,0]
[{"$f":"'Labor Summary (Office)'!A1000","v":0},{"$f":"'Labor Summary (Office)'!B1000","v":0},null,null,null,null,null,null,null,0,null,null,null,0,null,null,null,null,null,0]
[{"$f":"'Labor Summary (Office)'!A1001","v":0},{"$f":"'Labor Summary (Office)'!B1001","v":0},null,null,null,null,null,null,null,0,null,null,null,0,null,null,null,null,null,0]
[{"$f":"'Labor Summary (Office)'!A1002","v":0},{"$f":"'Labor Summary (Office)'!B1002","v":0},null,null,null,null,null,null,null,0,null,null,null,0,null,null,null,null,null,0]
[{"$f":"'Labor Summary (Office)'!A1003","v":0},{"$f":"'Labor Summary (Office)'!B1003","v":0},{"$f":"IF(A1005=0,\"\",A1005)","v":""},null,null,null,null,null,null,null,null,null,null,null,null,null,null,"Subtotal Line 32",null,{"$f":"ROUND(SUM(T975:T1004),2)","v":0}]
[{"$f":"'Labor Summary (Office)'!A1004","v":0},{"$f":"'Labor Summary (Office)'!B1004","v":0},null,null,null,null,null,null,null,0,null,null,null,{"$f":"ROUND(M1006*$N$9,2)","v":0},null,null,null,null,null,{"$f":"ROUND((G1006+J1006+L1006+N1006+O1006+P1006+Q1006+R1006+S1006),2)","v":0}]
[{"$f":"'Labor Summary (Office)'!A1005","v":0},{"$f":"'Labor Summary (Office)'!B1005","v":0},null,null,null,null,null,null,null,0,null,null,null,{"$f":"ROUND(M1007*$N$9,2)","v":0},null,null,null,null,null,0]
[{"$f":"'Labor Summary (Office)'!A1006","v":0},{"$f":"'Labor Summary (Office)'!B1006","v":0},null,null,null,null,null,null,null,0,null,null,null,0,null,null,null,null,null,0]
[{"$f":"'Labor Summary (Office)'!A1007","v":0},{"$f":"'Labor Summary (Office)'!B1007","v":0},null,null,null,null,null,null,null,0,null,null,null,0,null,null,null,null,null,0]
[{"$f":"'Labor Summary (Office)'!A1008","v":0},{"$f":"'Labor Summary (Office)'!B1008","v":0},null,null,null,null,null,null,null,0,null,null,null,0,null,null,null,null,null,0]
[{"$f":"'Labor Summary (Office)'!A1009","v":0},{"$f":"'Labor Summary (Office)'!B1009","v":0},null,null,null,null,null,null,null,0,null,null,null,0,null,null,null,null,null,0]
[{"$f":"'Labor Summary (Office)'!A1010","v":0},{"$f":"'Labor Summary (Office)'!B1010","v":0},null,null,null,null,null,null,null,0,null,null,null,0,null,null,null,null,null,0]
[{"$f":"'Labor Summary (Office)'!A1011","v":0},{"$f":"'Labor Summary (Office)'!B1011","v":0},null,null,null,null,null,null,null,0,null,null,null,0,null,null,null,null,null,0]
[{"$f":"'Labor Summary (Office)'!A1012","v":0},{"$f":"'Labor Summary (Office)'!B1012","v":0},null,null,null,null,null,null,null,0,null,null,null,0,null,null,null,null,null,0]
[{"$f":"'Labor Summary (Office)'!A1013","v":0},{"$f":"'Labor Summary (Office)'!B1013","v":0},null,null,null,null,null,null,null,0,null,null,null,0,null,null,null,null,null,0]
[{"$f":"'Labor Summary (Office)'!A1014","v":0},{"$f":"'Labor Summary (Office)'!B1014","v":0},null,null,null,null,null,null,null,0,null,null,null,0,null,null,null,null,null,0]
[{"$f":"'Labor Summary (Office)'!A1015","v":0},{"$f":"'Labor Summary (Office)'!B1015","v":0},null,null,null,null,null,null,null,0,null,null,null,0,null,null,null,null,null,0]
[{"$f":"'Labor Summary (Office)'!A1016","v":0},{"$f":"'Labor Summary (Office)'!B1016","v":0},null,null,null,null,null,null,null,0,null,null,null,0,null,null,null,null,null,0]
[{"$f":"'Labor Summary (Office)'!A1017","v":0},{"$f":"'Labor Summary (Office)'!B1017","v":0},null,null,null,null,null,null,null,0,null,null,null,0,null,null,null,null,null,0]
[{"$f":"'Labor Summary (Office)'!A1018","v":0},{"$f":"'Labor Summary (Office)'!B1018","v":0},null,null,null,null,null,null,null,0,null,null,null,0,null,null,null,null,null,0]
[{"$f":"'Labor Summary (Office)'!A1019","v":0},{"$f":"'Labor Summary (Office)'!B1019","v":0},null,null,null,null,null,null,null,0,null,null,null,0,null,null,null,null,null,0]
[{"$f":"'Labor Summary (Office)'!A1020","v":0},{"$f":"'Labor Summary (Office)'!B1020","v":0},null,null,null,null,null,null,null,0,null,null,null,0,null,null,null,null,null,0]
[{"$f":"'Labor Summary (Office)'!A1021","v":0},{"$f":"'Labor Summary (Office)'!B1021","v":0},null,null,null,null,null,null,null,0,null,null,null,0,null,null,null,null,null,0]
[{"$f":"'Labor Summary (Office)'!A1022","v":0},{"$f":"'Labor Summary (Office)'!B1022","v":0},null,null,null,null,null,null,null,0,null,null,null,0,null,null,null,null,null,0]
[{"$f":"'Labor Summary (Office)'!A1023","v":0},{"$f":"'Labor Summary (Office)'!B1023","v":0},null,null,null,null,null,null,null,0,null,null,null,0,null,null,null,null,null,0]
[{"$f":"'Labor Summary (Office)'!A1024","v":0},{"$f":"'Labor Summary (Office)'!B1024","v":0},null,null,null,null,null,null,null,0,null,null,null,0,null,null,null,null,null,0]
[{"$f":"'Labor Summary (Office)'!A1025","v":0},{"$f":"'Labor Summary (Office)'!B1025","v":0},null,null,null,null,null,null,null,0,null,null,null,0,null,null,null,null,null,0]
[{"$f":"'Labor Summary (Office)'!A1026","v":0},{"$f":"'Labor Summary (Office)'!B1026","v":0},null,null,null,null,null,null,null,0,null,null,null,0,null,null,null,null,null,0]
[{"$f":"'Labor Summary (Office)'!A1027","v":0},{"$f":"'Labor Summary (Office)'!B1027","v":0},null,null,null,null,null,null,null,0,null,null,null,0,null,null,null,null,null,0]
[{"$f":"'Labor Summary (Office)'!A1028","v":0},{"$f":"'Labor Summary (Office)'!B1028","v":0},null,null,null,null,null,null,null,0,null,null,null,0,null,null,null,null,null,0]
[{"$f":"'Labor Summary (Office)'!A1029","v":0},{"$f":"'Labor Summary (Office)'!B1029","v":0},null,null,null,null,null,null,null,0,null,null,null,0,null,null,null,null,null,0]
[{"$f":"'Labor Summary (Office)'!A1030","v":0},{"$f":"'Labor Summary (Office)'!B1030","v":0},null,null,null,null,null,null,null,0,null,null,null,0,null,null,null,null,null,0]
[{"$f":"'Labor Summary (Office)'!A1031","v":0},{"$f":"'Labor Summary (Office)'!B1031","v":0},null,null,null,null,null,null,null,0,null,null,null,0,null,null,null,null,null,0]
[{"$f":"'Labor Summary (Office)'!A1032","v":0},{"$f":"'Labor Summary (Office)'!B1032","v":0},null,null,null,null,null,null,null,0,null,null,null,0,null,null,null,null,null,0]
[{"$f":"'Labor Summary (Office)'!A1033","v":0},{"$f":"'Labor Summary (Office)'!B1033","v":0},null,null,null,null,null,null,null,0,null,null,null,0,null,null,null,null,null,0]
[{"$f":"'Labor Summary (Office)'!A1034","v":0},{"$f":"'Labor Summary (Office)'!B1034","v":0},{"$f":"IF(A1036=0,\"\",A1036)","v":""},null,null,null,null,null,null,null,null,null,null,null,null,null,null,"Subtotal Line 33",null,{"$f":"ROUND(SUM(T1006:T1035),2)","v":0}]
[{"$f":"'Labor Summary (Office)'!A1035","v":0},{"$f":"'Labor Summary (Office)'!B1035","v":0},null,null,null,null,null,null,null,0,null,null,null,{"$f":"ROUND(M1037*$N$9,2)","v":0},null,null,null,null,null,{"$f":"ROUND((G1037+J1037+L1037+N1037+O1037+P1037+Q1037+R1037+S1037),2)","v":0}]
[{"$f":"'Labor Summary (Office)'!A1036","v":0},{"$f":"'Labor Summary (Office)'!B1036","v":0},null,null,null,null,null,null,null,0,null,null,null,{"$f":"ROUND(M1038*$N$9,2)","v":0},null,null,null,null,null,0]
[{"$f":"'Labor Summary (Office)'!A1037","v":0},{"$f":"'Labor Summary (Office)'!B1037","v":0},null,null,null,null,null,null,null,{"$f":"I1039+H1039","v":0},null,null,null,0,null,null,null,null,null,0]
[{"$f":"'Labor Summary (Office)'!A1038","v":0},{"$f":"'Labor Summary (Office)'!B1038","v":0},null,null,null,null,null,null,null,0,null,null,null,0,null,null,null,null,null,0]
[{"$f":"'Labor Summary (Office)'!A1039","v":0},{"$f":"'Labor Summary (Office)'!B1039","v":0},null,null,null,null,null,null,null,0,null,null,null,0,null,null,null,null,null,0]
[{"$f":"'Labor Summary (Office)'!A1040","v":0},{"$f":"'Labor Summary (Office)'!B1040","v":0},null,null,null,null,null,null,null,0,null,null,null,0,null,null,null,null,null,0]
[{"$f":"'Labor Summary (Office)'!A1041","v":0},{"$f":"'Labor Summary (Office)'!B1041","v":0},null,null,null,null,null,null,null,0,null,null,null,0,null,null,null,null,null,0]
[{"$f":"'Labor Summary (Office)'!A1042","v":0},{"$f":"'Labor Summary (Office)'!B1042","v":0},null,null,null,null,null,null,null,0,null,null,null,0,null,null,null,null,null,0]
[{"$f":"'Labor Summary (Office)'!A1043","v":0},{"$f":"'Labor Summary (Office)'!B1043","v":0},null,null,null,null,null,null,null,0,null,null,null,0,null,null,null,null,null,0]
[{"$f":"'Labor Summary (Office)'!A1044","v":0},{"$f":"'Labor Summary (Office)'!B1044","v":0},null,null,null,null,null,null,null,0,null,null,null,0,null,null,null,null,null,0]
[{"$f":"'Labor Summary (Office)'!A1045","v":0},{"$f":"'Labor Summary (Office)'!B1045","v":0},null,null,null,null,null,null,null,0,null,null,null,0,null,null,null,null,null,0]
[{"$f":"'Labor Summary (Office)'!A1046","v":0},{"$f":"'Labor Summary (Office)'!B1046","v":0},null,null,null,null,null,null,null,0,null,null,null,0,null,null,null,null,null,0]
[{"$f":"'Labor Summary (Office)'!A1047","v":0},{"$f":"'Labor Summary (Office)'!B1047","v":0},null,null,null,null,null,null,null,0,null,null,null,0,null,null,null,null,null,0]
[{"$f":"'Labor Summary (Office)'!A1048","v":0},{"$f":"'Labor Summary (Office)'!B1048","v":0},null,null,null,null,null,null,null,0,null,null,null,0,null,null,null,null,null,0]
[{"$f":"'Labor Summary (Office)'!A1049","v":0},{"$f":"'Labor Summary (Office)'!B1049","v":0},null,null,null,null,null,null,null,0,null,null,null,0,null,null,null,null,null,0]
[{"$f":"'Labor Summary (Office)'!A1050","v":0},{"$f":"'Labor Summary (Office)'!B1050","v":0},null,null,null,null,null,null,null,0,null,null,null,0,null,null,null,null,null,0]
[{"$f":"'Labor Summary (Office)'!A1051","v":0},{"$f":"'Labor Summary (Office)'!B1051","v":0},null,null,null,null,null,null,null,0,null,null,null,0,null,null,null,null,null,0]
[{"$f":"'Labor Summary (Office)'!A1052","v":0},{"$f":"'Labor Summary (Office)'!B1052","v":0},null,null,null,null,null,null,null,0,null,null,null,0,null,null,null,null,null,0]
[{"$f":"'Labor Summary (Office)'!A1053","v":0},{"$f":"'Labor Summary (Office)'!B1053","v":0},null,null,null,null,null,null,null,0,null,null,null,0,null,null,null,null,null,0]
[{"$f":"'Labor Summary (Office)'!A1054","v":0},{"$f":"'Labor Summary (Office)'!B1054","v":0},null,null,null,null,null,null,null,0,null,null,null,0,null,null,null,null,null,0]
[{"$f":"'Labor Summary (Office)'!A1055","v":0},{"$f":"'Labor Summary (Office)'!B1055","v":0},null,null,null,null,null,null,null,0,null,null,null,0,null,null,null,null,null,0]
[{"$f":"'Labor Summary (Office)'!A1056","v":0},{"$f":"'Labor Summary (Office)'!B1056","v":0},null,null,null,null,null,null,null,0,null,null,null,0,null,null,null,null,null,0]
[{"$f":"'Labor Summary (Office)'!A1057","v":0},{"$f":"'Labor Summary (Office)'!B1057","v":0},null,null,null,null,null,null,null,0,null,null,null,0,null,null,null,null,null,0]
[{"$f":"'Labor Summary (Office)'!A1058","v":0},{"$f":"'Labor Summary (Office)'!B1058","v":0},null,null,null,null,null,null,null,0,null,null,null,0,null,null,null,null,null,0]
[{"$f":"'Labor Summary (Office)'!A1059","v":0},{"$f":"'Labor Summary (Office)'!B1059","v":0},null,null,null,null,null,null,null,0,null,null,null,0,null,null,null,null,null,0]
[{"$f":"'Labor Summary (Office)'!A1060","v":0},{"$f":"'Labor Summary (Office)'!B1060","v":0},null,null,null,null,null,null,null,0,null,null,null,0,null,null,null,null,null,0]
[{"$f":"'Labor Summary (Office)'!A1061","v":0},{"$f":"'Labor Summary (Office)'!B1061","v":0},null,null,null,null,null,null,null,0,null,null,null,0,null,null,null,null,null,0]
[{"$f":"'Labor Summary (Office)'!A1062","v":0},{"$f":"'Labor Summary (Office)'!B1062","v":0},null,null,null,null,null,null,null,0,null,null,null,0,null,null,null,null,null,0]
[{"$f":"'Labor Summary (Office)'!A1063","v":0},{"$f":"'Labor Summary (Office)'!B1063","v":0},null,null,null,null,null,null,null,0,null,null,null,0,null,null,null,null,null,0]
[{"$f":"'Labor Summary (Office)'!A1064","v":0},{"$f":"'Labor Summary (Office)'!B1064","v":0},null,null,null,null,null,null,null,0,null,null,null,0,null,null,null,null,null,0]
[{"$f":"'Labor Summary (Office)'!A1065","v":0},{"$f":"'Labor Summary (Office)'!B1065","v":0},{"$f":"IF(A1067=0,\"\",A1067)","v":""},null,null,null,null,null,null,null,null,null,null,null,null,null,null,"Subtotal Line 34",null,{"$f":"ROUND(SUM(T1037:T1066),2)","v":0}]
[{"$f":"'Labor Summary (Office)'!A1066","v":0},{"$f":"'Labor Summary (Office)'!B1066","v":0},null,null,null,null,null,null,null,0,null,null,null,{"$f":"ROUND(M1068*$N$9,2)","v":0},null,null,null,null,null,{"$f":"ROUND((G1068+J1068+L1068+N1068+O1068+P1068+Q1068+R1068+S1068),2)","v":0}]
[{"$f":"'Labor Summary (Office)'!A1067","v":0},{"$f":"'Labor Summary (Office)'!B1067","v":0},null,null,null,null,null,null,null,0,null,null,null,{"$f":"ROUND(M1069*$N$9,2)","v":0},null,null,null,null,null,0]
[{"$f":"'Labor Summary (Office)'!A1068","v":0},{"$f":"'Labor Summary (Office)'!B1068","v":0},null,null,null,null,null,null,null,0,null,null,null,0,null,null,null,null,null,0]
[{"$f":"'Labor Summary (Office)'!A1069","v":0},{"$f":"'Labor Summary (Office)'!B1069","v":0},null,null,null,null,null,null,null,0,null,null,null,0,null,null,null,null,null,0]
[{"$f":"'Labor Summary (Office)'!A1070","v":0},{"$f":"'Labor Summary (Office)'!B1070","v":0},null,null,null,null,null,null,null,0,null,null,null,0,null,null,null,null,null,0]
[{"$f":"'Labor Summary (Office)'!A1071","v":0},{"$f":"'Labor Summary (Office)'!B1071","v":0},null,null,null,null,null,null,null,0,null,null,null,0,null,null,null,null,null,0]
[{"$f":"'Labor Summary (Office)'!A1072","v":0},{"$f":"'Labor Summary (Office)'!B1072","v":0},null,null,null,null,null,null,null,0,null,null,null,0,null,null,null,null,null,0]
[{"$f":"'Labor Summary (Office)'!A1073","v":0},{"$f":"'Labor Summary (Office)'!B1073","v":0},null,null,null,null,null,null,null,0,null,null,null,0,null,null,null,null,null,0]
[{"$f":"'Labor Summary (Office)'!A1074","v":0},{"$f":"'Labor Summary (Office)'!B1074","v":0},null,null,null,null,null,null,null,0,null,null,null,0,null,null,null,null,null,0]
[{"$f":"'Labor Summary (Office)'!A1075","v":0},{"$f":"'Labor Summary (Office)'!B1075","v":0},null,null,null,null,null,null,null,0,null,null,null,0,null,null,null,null,null,0]
[{"$f":"'Labor Summary (Office)'!A1076","v":0},{"$f":"'Labor Summary (Office)'!B1076","v":0},null,null,null,null,null,null,null,0,null,null,null,0,null,null,null,null,null,0]
[{"$f":"'Labor Summary (Office)'!A1077","v":0},{"$f":"'Labor Summary (Office)'!B1077","v":0},null,null,null,null,null,null,null,0,null,null,null,0,null,null,null,null,null,0]
[{"$f":"'Labor Summary (Office)'!A1078","v":0},{"$f":"'Labor Summary (Office)'!B1078","v":0},null,null,null,null,null,null,null,0,null,null,null,0,null,null,null,null,null,0]
[{"$f":"'Labor Summary (Office)'!A1079","v":0},{"$f":"'Labor Summary (Office)'!B1079","v":0},null,null,null,null,null,null,null,0,null,null,null,0,null,null,null,null,null,0]
[{"$f":"'Labor Summary (Office)'!A1080","v":0},{"$f":"'Labor Summary (Office)'!B1080","v":0},null,null,null,null,null,null,null,0,null,null,null,0,null,null,null,null,null,0]
[{"$f":"'Labor Summary (Office)'!A1081","v":0},{"$f":"'Labor Summary (Office)'!B1081","v":0},null,null,null,null,null,null,null,0,null,null,null,0,null,null,null,null,null,0]
[{"$f":"'Labor Summary (Office)'!A1082","v":0},{"$f":"'Labor Summary (Office)'!B1082","v":0},null,null,null,null,null,null,null,0,null,null,null,0,null,null,null,null,null,0]
[{"$f":"'Labor Summary (Office)'!A1083","v":0},{"$f":"'Labor Summary (Office)'!B1083","v":0},null,null,null,null,null,null,null,0,null,null,null,0,null,null,null,null,null,0]
[{"$f":"'Labor Summary (Office)'!A1084","v":0},{"$f":"'Labor Summary (Office)'!B1084","v":0},null,null,null,null,null,null,null,0,null,null,null,0,null,null,null,null,null,0]
[{"$f":"'Labor Summary (Office)'!A1085","v":0},{"$f":"'Labor Summary (Office)'!B1085","v":0},null,null,null,null,null,null,null,0,null,null,null,0,null,null,null,null,null,0]
[{"$f":"'Labor Summary (Office)'!A1086","v":0},{"$f":"'Labor Summary (Office)'!B1086","v":0},null,null,null,null,null,null,null,0,null,null,null,0,null,null,null,null,null,0]
[{"$f":"'Labor Summary (Office)'!A1087","v":0},{"$f":"'Labor Summary (Office)'!B1087","v":0},null,null,null,null,null,null,null,0,null,null,null,0,null,null,null,null,null,0]
[{"$f":"'Labor Summary (Office)'!A1088","v":0},{"$f":"'Labor Summary (Office)'!B1088","v":0},null,null,null,null,null,null,null,0,null,null,null,0,null,null,null,null,null,0]
[{"$f":"'Labor Summary (Office)'!A1089","v":0},{"$f":"'Labor Summary (Office)'!B1089","v":0},null,null,null,null,null,null,null,0,null,null,null,0,null,null,null,null,null,0]
[{"$f":"'Labor Summary (Office)'!A1090","v":0},{"$f":"'Labor Summary (Office)'!B1090","v":0},null,null,null,null,null,null,null,0,null,null,null,0,null,null,null,null,null,0]
[{"$f":"'Labor Summary (Office)'!A1091","v":0},{"$f":"'Labor Summary (Office)'!B1091","v":0},null,null,null,null,null,null,null,0,null,null,null,0,null,null,null,null,null,0]
[{"$f":"'Labor Summary (Office)'!A1092","v":0},{"$f":"'Labor Summary (Office)'!B1092","v":0},null,null,null,null,null,null,null,0,null,null,null,0,null,null,null,null,null,0]
[{"$f":"'Labor Summary (Office)'!A1093","v":0},{"$f":"'Labor Summary (Office)'!B1093","v":0},null,null,null,null,null,null,null,0,null,null,null,0,null,null,null,null,null,0]
[{"$f":"'Labor Summary (Office)'!A1094","v":0},{"$f":"'Labor Summary (Office)'!B1094","v":0},null,null,null,null,null,null,null,0,null,null,null,0,null,null,null,null,null,0]
[{"$f":"'Labor Summary (Office)'!A1095","v":0},{"$f":"'Labor Summary (Office)'!B1095","v":0},null,null,null,null,null,null,null,0,null,null,null,0,null,null,null,null,null,0]
[{"$f":"'Labor Summary (Office)'!A1096","v":0},{"$f":"'Labor Summary (Office)'!B1096","v":0},{"$f":"IF(A1098=0,\"\",A1098)","v":""},null,null,null,null,null,null,null,null,null,null,null,null,null,null,"Subtotal Line 35",null,{"$f":"ROUND(SUM(T1068:T1097),2)","v":0}]
[{"$f":"'Labor Summary (Office)'!A1097","v":0},{"$f":"'Labor Summary (Office)'!B1097","v":0},null,null,null,null,null,null,null,0,null,null,null,{"$f":"ROUND(M1099*$N$9,2)","v":0},null,null,null,null,null,{"$f":"ROUND((G1099+J1099+L1099+N1099+O1099+P1099+Q1099+R1099+S1099),2)","v":0}]
[{"$f":"'Labor Summary (Office)'!A1098","v":0},{"$f":"'Labor Summary (Office)'!B1098","v":0},null,null,null,null,null,null,null,0,null,null,null,{"$f":"ROUND(M1100*$N$9,2)","v":0},null,null,null,null,null,0]
[{"$f":"'Labor Summary (Office)'!A1099","v":0},{"$f":"'Labor Summary (Office)'!B1099","v":0},null,null,null,null,null,null,null,0,null,null,null,0,null,null,null,null,null,0]
[{"$f":"'Labor Summary (Office)'!A1100","v":0},{"$f":"'Labor Summary (Office)'!B1100","v":0},null,null,null,null,null,null,null,0,null,null,null,0,null,null,null,null,null,0]
[{"$f":"'Labor Summary (Office)'!A1101","v":0},{"$f":"'Labor Summary (Office)'!B1101","v":0},null,null,null,null,null,null,null,{"$f":"I1103+H1103","v":0},null,null,null,0,null,null,null,null,null,0]
[{"$f":"'Labor Summary (Office)'!A1102","v":0},{"$f":"'Labor Summary (Office)'!B1102","v":0},null,null,null,null,null,null,null,0,null,null,null,0,null,null,null,null,null,0]
[{"$f":"'Labor Summary (Office)'!A1103","v":0},{"$f":"'Labor Summary (Office)'!B1103","v":0},null,null,null,null,null,null,null,0,null,null,null,0,null,null,null,null,null,0]
[{"$f":"'Labor Summary (Office)'!A1104","v":0},{"$f":"'Labor Summary (Office)'!B1104","v":0},null,null,null,null,null,null,null,0,null,null,null,0,null,null,null,null,null,0]
[{"$f":"'Labor Summary (Office)'!A1105","v":0},{"$f":"'Labor Summary (Office)'!B1105","v":0},null,null,null,null,null,null,null,0,null,null,null,0,null,null,null,null,null,0]
[{"$f":"'Labor Summary (Office)'!A1106","v":0},{"$f":"'Labor Summary (Office)'!B1106","v":0},null,null,null,null,null,null,null,0,null,null,null,0,null,null,null,null,null,0]
[{"$f":"'Labor Summary (Office)'!A1107","v":0},{"$f":"'Labor Summary (Office)'!B1107","v":0},null,null,null,null,null,null,null,0,null,null,null,0,null,null,null,null,null,0]
[{"$f":"'Labor Summary (Office)'!A1108","v":0},{"$f":"'Labor Summary (Office)'!B1108","v":0},null,null,null,null,null,null,null,0,null,null,null,0,null,null,null,null,null,0]
[{"$f":"'Labor Summary (Office)'!A1109","v":0},{"$f":"'Labor Summary (Office)'!B1109","v":0},null,null,null,null,null,null,null,0,null,null,null,0,null,null,null,null,null,0]
[{"$f":"'Labor Summary (Office)'!A1110","v":0},{"$f":"'Labor Summary (Office)'!B1110","v":0},null,null,null,null,null,null,null,0,null,null,null,0,null,null,null,null,null,0]
[{"$f":"'Labor Summary (Office)'!A1111","v":0},{"$f":"'Labor Summary (Office)'!B1111","v":0},null,null,null,null,null,null,null,0,null,null,null,0,null,null,null,null,null,0]
[{"$f":"'Labor Summary (Office)'!A1112","v":0},{"$f":"'Labor Summary (Office)'!B1112","v":0},null,null,null,null,null,null,null,0,null,null,null,0,null,null,null,null,null,0]
[{"$f":"'Labor Summary (Office)'!A1113","v":0},{"$f":"'Labor Summary (Office)'!B1113","v":0},null,null,null,null,null,null,null,0,null,null,null,0,null,null,null,null,null,0]
[{"$f":"'Labor Summary (Office)'!A1114","v":0},{"$f":"'Labor Summary (Office)'!B1114","v":0},null,null,null,null,null,null,null,0,null,null,null,0,null,null,null,null,null,0]
[{"$f":"'Labor Summary (Office)'!A1115","v":0},{"$f":"'Labor Summary (Office)'!B1115","v":0},null,null,null,null,null,null,null,0,null,null,null,0,null,null,null,null,null,0]
[{"$f":"'Labor Summary (Office)'!A1116","v":0},{"$f":"'Labor Summary (Office)'!B1116","v":0},null,null,null,null,null,null,null,0,null,null,null,0,null,null,null,null,null,0]
[{"$f":"'Labor Summary (Office)'!A1117","v":0},{"$f":"'Labor Summary (Office)'!B1117","v":0},null,null,null,null,null,null,null,0,null,null,null,0,null,null,null,null,null,0]
[{"$f":"'Labor Summary (Office)'!A1118","v":0},{"$f":"'Labor Summary (Office)'!B1118","v":0},null,null,null,null,null,null,null,0,null,null,null,0,null,null,null,null,null,0]
[{"$f":"'Labor Summary (Office)'!A1119","v":0},{"$f":"'Labor Summary (Office)'!B1119","v":0},null,null,null,null,null,null,null,0,null,null,null,0,null,null,null,null,null,0]
[{"$f":"'Labor Summary (Office)'!A1120","v":0},{"$f":"'Labor Summary (Office)'!B1120","v":0},null,null,null,null,null,null,null,0,null,null,null,0,null,null,null,null,null,0]
[{"$f":"'Labor Summary (Office)'!A1121","v":0},{"$f":"'Labor Summary (Office)'!B1121","v":0},null,null,null,null,null,null,null,0,null,null,null,0,null,null,null,null,null,0]
[{"$f":"'Labor Summary (Office)'!A1122","v":0},{"$f":"'Labor Summary (Office)'!B1122","v":0},null,null,null,null,null,null,null,0,null,null,null,0,null,null,null,null,null,0]
[{"$f":"'Labor Summary (Office)'!A1123","v":0},{"$f":"'Labor Summary (Office)'!B1123","v":0},null,null,null,null,null,null,null,0,null,null,null,0,null,null,null,null,null,0]
[{"$f":"'Labor Summary (Office)'!A1124","v":0},{"$f":"'Labor Summary (Office)'!B1124","v":0},null,null,null,null,null,null,null,0,null,null,null,0,null,null,null,null,null,0]
[{"$f":"'Labor Summary (Office)'!A1125","v":0},{"$f":"'Labor Summary (Office)'!B1125","v":0},null,null,null,null,null,null,null,0,null,null,null,0,null,null,null,null,null,0]
[{"$f":"'Labor Summary (Office)'!A1126","v":0},{"$f":"'Labor Summary (Office)'!B1126","v":0},null,null,null,null,null,null,null,0,null,null,null,0,null,null,null,null,null,0]
[{"$f":"'Labor Summary (Office)'!A1127","v":0},{"$f":"'Labor Summary (Office)'!B1127","v":0},{"$f":"IF(A1129=0,\"\",A1129)","v":""},null,null,null,null,null,null,null,null,null,null,null,null,null,null,"Subtotal Line 36",null,{"$f":"ROUND(SUM(T1099:T1128),2)","v":0}]
[{"$f":"'Labor Summary (Office)'!A1128","v":0},{"$f":"'Labor Summary (Office)'!B1128","v":0},null,null,null,null,null,null,null,0,null,null,null,{"$f":"ROUND(M1130*$N$9,2)","v":0},null,null,null,null,null,{"$f":"ROUND((G1130+J1130+L1130+N1130+O1130+P1130+Q1130+R1130+S1130),2)","v":0}]
[{"$f":"'Labor Summary (Office)'!A1129","v":0},{"$f":"'Labor Summary (Office)'!B1129","v":0},null,null,null,null,null,null,null,0,null,null,null,{"$f":"ROUND(M1131*$N$9,2)","v":0},null,null,null,null,null,0]
[{"$f":"'Labor Summary (Office)'!A1130","v":0},{"$f":"'Labor Summary (Office)'!B1130","v":0},null,null,null,null,null,null,null,0,null,null,null,0,null,null,null,null,null,0]
[{"$f":"'Labor Summary (Office)'!A1131","v":0},{"$f":"'Labor Summary (Office)'!B1131","v":0},null,null,null,null,null,null,null,0,null,null,null,0,null,null,null,null,null,0]
[{"$f":"'Labor Summary (Office)'!A1132","v":0},{"$f":"'Labor Summary (Office)'!B1132","v":0},null,null,null,null,null,null,null,0,null,null,null,0,null,null,null,null,null,0]
[{"$f":"'Labor Summary (Office)'!A1133","v":0},{"$f":"'Labor Summary (Office)'!B1133","v":0},null,null,null,null,null,null,null,0,null,null,null,0,null,null,null,null,null,0]
[{"$f":"'Labor Summary (Office)'!A1134","v":0},{"$f":"'Labor Summary (Office)'!B1134","v":0},null,null,null,null,null,null,null,0,null,null,null,0,null,null,null,null,null,0]
[{"$f":"'Labor Summary (Office)'!A1135","v":0},{"$f":"'Labor Summary (Office)'!B1135","v":0},null,null,null,null,null,null,null,0,null,null,null,0,null,null,null,null,null,0]
[{"$f":"'Labor Summary (Office)'!A1136","v":0},{"$f":"'Labor Summary (Office)'!B1136","v":0},null,null,null,null,null,null,null,0,null,null,null,0,null,null,null,null,null,0]
[{"$f":"'Labor Summary (Office)'!A1137","v":0},{"$f":"'Labor Summary (Office)'!B1137","v":0},null,null,null,null,null,null,null,0,null,null,null,0,null,null,null,null,null,0]
[{"$f":"'Labor Summary (Office)'!A1138","v":0},{"$f":"'Labor Summary (Office)'!B1138","v":0},null,null,null,null,null,null,null,0,null,null,null,0,null,null,null,null,null,0]
[{"$f":"'Labor Summary (Office)'!A1139","v":0},{"$f":"'Labor Summary (Office)'!B1139","v":0},null,null,null,null,null,null,null,0,null,null,null,0,null,null,null,null,null,0]
[{"$f":"'Labor Summary (Office)'!A1140","v":0},{"$f":"'Labor Summary (Office)'!B1140","v":0},null,null,null,null,null,null,null,0,null,null,null,0,null,null,null,null,null,0]
[{"$f":"'Labor Summary (Office)'!A1141","v":0},{"$f":"'Labor Summary (Office)'!B1141","v":0},null,null,null,null,null,null,null,0,null,null,null,0,null,null,null,null,null,0]
[{"$f":"'Labor Summary (Office)'!A1142","v":0},{"$f":"'Labor Summary (Office)'!B1142","v":0},null,null,null,null,null,null,null,0,null,null,null,0,null,null,null,null,null,0]
[{"$f":"'Labor Summary (Office)'!A1143","v":0},{"$f":"'Labor Summary (Office)'!B1143","v":0},null,null,null,null,null,null,null,0,null,null,null,0,null,null,null,null,null,0]
[{"$f":"'Labor Summary (Office)'!A1144","v":0},{"$f":"'Labor Summary (Office)'!B1144","v":0},null,null,null,null,null,null,null,0,null,null,null,0,null,null,null,null,null,0]
[{"$f":"'Labor Summary (Office)'!A1145","v":0},{"$f":"'Labor Summary (Office)'!B1145","v":0},null,null,null,null,null,null,null,0,null,null,null,0,null,null,null,null,null,0]
[{"$f":"'Labor Summary (Office)'!A1146","v":0},{"$f":"'Labor Summary (Office)'!B1146","v":0},null,null,null,null,null,null,null,0,null,null,null,0,null,null,null,null,null,0]
[{"$f":"'Labor Summary (Office)'!A1147","v":0},{"$f":"'Labor Summary (Office)'!B1147","v":0},null,null,null,null,null,null,null,0,null,null,null,0,null,null,null,null,null,0]
[{"$f":"'Labor Summary (Office)'!A1148","v":0},{"$f":"'Labor Summary (Office)'!B1148","v":0},null,null,null,null,null,null,null,0,null,null,null,0,null,null,null,null,null,0]
[{"$f":"'Labor Summary (Office)'!A1149","v":0},{"$f":"'Labor Summary (Office)'!B1149","v":0},null,null,null,null,null,null,null,0,null,null,null,0,null,null,null,null,null,0]
[{"$f":"'Labor Summary (Office)'!A1150","v":0},{"$f":"'Labor Summary (Office)'!B1150","v":0},null,null,null,null,null,null,null,0,null,null,null,0,null,null,null,null,null,0]
[{"$f":"'Labor Summary (Office)'!A1151","v":0},{"$f":"'Labor Summary (Office)'!B1151","v":0},null,null,null,null,null,null,null,0,null,null,null,0,null,null,null,null,null,0]
[{"$f":"'Labor Summary (Office)'!A1152","v":0},{"$f":"'Labor Summary (Office)'!B1152","v":0},null,null,null,null,null,null,null,0,null,null,null,0,null,null,null,null,null,0]
[{"$f":"'Labor Summary (Office)'!A1153","v":0},{"$f":"'Labor Summary (Office)'!B1153","v":0},null,null,null,null,null,null,null,0,null,null,null,0,null,null,null,null,null,0]
[{"$f":"'Labor Summary (Office)'!A1154","v":0},{"$f":"'Labor Summary (Office)'!B1154","v":0},null,null,null,null,null,null,null,0,null,null,null,0,null,null,null,null,null,0]
[{"$f":"'Labor Summary (Office)'!A1155","v":0},{"$f":"'Labor Summary (Office)'!B1155","v":0},null,null,null,null,null,null,null,0,null,null,null,0,null,null,null,null,null,0]
[{"$f":"'Labor Summary (Office)'!A1156","v":0},{"$f":"'Labor Summary (Office)'!B1156","v":0},null,null,null,null,null,null,null,0,null,null,null,0,null,null,null,null,null,0]
[{"$f":"'Labor Summary (Office)'!A1157","v":0},{"$f":"'Labor Summary (Office)'!B1157","v":0},null,null,null,null,null,null,null,0,null,null,null,0,null,null,null,null,null,0]
[{"$f":"'Labor Summary (Office)'!A1158","v":0},{"$f":"'Labor Summary (Office)'!B1158","v":0},{"$f":"IF(A1160=0,\"\",A1160)","v":""},null,null,null,null,null,null,null,null,null,null,null,null,null,null,"Subtotal Line 37",null,{"$f":"ROUND(SUM(T1130:T1159),2)","v":0}]
[{"$f":"'Labor Summary (Office)'!A1159","v":0},{"$f":"'Labor Summary (Office)'!B1159","v":0},null,null,null,null,null,null,null,0,null,null,null,{"$f":"ROUND(M1161*$N$9,2)","v":0},null,null,null,null,null,{"$f":"ROUND((G1161+J1161+L1161+N1161+O1161+P1161+Q1161+R1161+S1161),2)","v":0}]
[{"$f":"'Labor Summary (Office)'!A1160","v":0},{"$f":"'Labor Summary (Office)'!B1160","v":0},null,null,null,null,null,null,null,0,null,null,null,{"$f":"ROUND(M1162*$N$9,2)","v":0},null,null,null,null,null,0]
[{"$f":"'Labor Summary (Office)'!A1161","v":0},{"$f":"'Labor Summary (Office)'!B1161","v":0},null,null,null,null,null,null,null,0,null,null,null,0,null,null,null,null,null,0]
[{"$f":"'Labor Summary (Office)'!A1162","v":0},{"$f":"'Labor Summary (Office)'!B1162","v":0},null,null,null,null,null,null,null,0,null,null,null,0,null,null,null,null,null,0]
[{"$f":"'Labor Summary (Office)'!A1163","v":0},{"$f":"'Labor Summary (Office)'!B1163","v":0},null,null,null,null,null,null,null,0,null,null,null,0,null,null,null,null,null,0]
[{"$f":"'Labor Summary (Office)'!A1164","v":0},{"$f":"'Labor Summary (Office)'!B1164","v":0},null,null,null,null,null,null,null,0,null,null,null,0,null,null,null,null,null,0]
[{"$f":"'Labor Summary (Office)'!A1165","v":0},{"$f":"'Labor Summary (Office)'!B1165","v":0},null,null,null,null,null,null,null,{"$f":"I1167+H1167","v":0},null,null,null,0,null,null,null,null,null,0]
[{"$f":"'Labor Summary (Office)'!A1166","v":0},{"$f":"'Labor Summary (Office)'!B1166","v":0},null,null,null,null,null,null,null,0,null,null,null,0,null,null,null,null,null,0]
[{"$f":"'Labor Summary (Office)'!A1167","v":0},{"$f":"'Labor Summary (Office)'!B1167","v":0},null,null,null,null,null,null,null,0,null,null,null,0,null,null,null,null,null,0]
[{"$f":"'Labor Summary (Office)'!A1168","v":0},{"$f":"'Labor Summary (Office)'!B1168","v":0},null,null,null,null,null,null,null,0,null,null,null,0,null,null,null,null,null,0]
[{"$f":"'Labor Summary (Office)'!A1169","v":0},{"$f":"'Labor Summary (Office)'!B1169","v":0},null,null,null,null,null,null,null,0,null,null,null,0,null,null,null,null,null,0]
[{"$f":"'Labor Summary (Office)'!A1170","v":0},{"$f":"'Labor Summary (Office)'!B1170","v":0},null,null,null,null,null,null,null,0,null,null,null,0,null,null,null,null,null,0]
[{"$f":"'Labor Summary (Office)'!A1171","v":0},{"$f":"'Labor Summary (Office)'!B1171","v":0},null,null,null,null,null,null,null,0,null,null,null,0,null,null,null,null,null,0]
[{"$f":"'Labor Summary (Office)'!A1172","v":0},{"$f":"'Labor Summary (Office)'!B1172","v":0},null,null,null,null,null,null,null,0,null,null,null,0,null,null,null,null,null,0]
[{"$f":"'Labor Summary (Office)'!A1173","v":0},{"$f":"'Labor Summary (Office)'!B1173","v":0},null,null,null,null,null,null,null,0,null,null,null,0,null,null,null,null,null,0]
[{"$f":"'Labor Summary (Office)'!A1174","v":0},{"$f":"'Labor Summary (Office)'!B1174","v":0},null,null,null,null,null,null,null,0,null,null,null,0,null,null,null,null,null,0]
[{"$f":"'Labor Summary (Office)'!A1175","v":0},{"$f":"'Labor Summary (Office)'!B1175","v":0},null,null,null,null,null,null,null,0,null,null,null,0,null,null,null,null,null,0]
[{"$f":"'Labor Summary (Office)'!A1176","v":0},{"$f":"'Labor Summary (Office)'!B1176","v":0},null,null,null,null,null,null,null,0,null,null,null,0,null,null,null,null,null,0]
[{"$f":"'Labor Summary (Office)'!A1177","v":0},{"$f":"'Labor Summary (Office)'!B1177","v":0},null,null,null,null,null,null,null,0,null,null,null,0,null,null,null,null,null,0]
[{"$f":"'Labor Summary (Office)'!A1178","v":0},{"$f":"'Labor Summary (Office)'!B1178","v":0},null,null,null,null,null,null,null,0,null,null,null,0,null,null,null,null,null,0]
[{"$f":"'Labor Summary (Office)'!A1179","v":0},{"$f":"'Labor Summary (Office)'!B1179","v":0},null,null,null,null,null,null,null,0,null,null,null,0,null,null,null,null,null,0]
[{"$f":"'Labor Summary (Office)'!A1180","v":0},{"$f":"'Labor Summary (Office)'!B1180","v":0},null,null,null,null,null,null,null,0,null,null,null,0,null,null,null,null,null,0]
[{"$f":"'Labor Summary (Office)'!A1181","v":0},{"$f":"'Labor Summary (Office)'!B1181","v":0},null,null,null,null,null,null,null,0,null,null,null,0,null,null,null,null,null,0]
[{"$f":"'Labor Summary (Office)'!A1182","v":0},{"$f":"'Labor Summary (Office)'!B1182","v":0},null,null,null,null,null,null,null,0,null,null,null,0,null,null,null,null,null,0]
[{"$f":"'Labor Summary (Office)'!A1183","v":0},{"$f":"'Labor Summary (Office)'!B1183","v":0},null,null,null,null,null,null,null,0,null,null,null,0,null,null,null,null,null,0]
[{"$f":"'Labor Summary (Office)'!A1184","v":0},{"$f":"'Labor Summary (Office)'!B1184","v":0},null,null,null,null,null,null,null,0,null,null,null,0,null,null,null,null,null,0]
[{"$f":"'Labor Summary (Office)'!A1185","v":0},{"$f":"'Labor Summary (Office)'!B1185","v":0},null,null,null,null,null,null,null,0,null,null,null,0,null,null,null,null,null,0]
[{"$f":"'Labor Summary (Office)'!A1186","v":0},{"$f":"'Labor Summary (Office)'!B1186","v":0},null,null,null,null,null,null,null,0,null,null,null,0,null,null,null,null,null,0]
[{"$f":"'Labor Summary (Office)'!A1187","v":0},{"$f":"'Labor Summary (Office)'!B1187","v":0},null,null,null,null,null,null,null,0,null,null,null,0,null,null,null,null,null,0]
[{"$f":"'Labor Summary (Office)'!A1188","v":0},{"$f":"'Labor Summary (Office)'!B1188","v":0},null,null,null,null,null,null,null,0,null,null,null,0,null,null,null,null,null,0]
[{"$f":"'Labor Summary (Office)'!A1189","v":0},{"$f":"'Labor Summary (Office)'!B1189","v":0},{"$f":"IF(A1191=0,\"\",A1191)","v":""},null,null,null,null,null,null,null,null,null,null,null,null,null,null,"Subtotal Line 38",null,{"$f":"ROUND(SUM(T1161:T1190),2)","v":0}]
[{"$f":"'Labor Summary (Office)'!A1190","v":0},{"$f":"'Labor Summary (Office)'!B1190","v":0},null,null,null,null,null,null,null,0,null,null,null,{"$f":"ROUND(M1192*$N$9,2)","v":0},null,null,null,null,null,{"$f":"ROUND((G1192+J1192+L1192+N1192+O1192+P1192+Q1192+R1192+S1192),2)","v":0}]
[{"$f":"'Labor Summary (Office)'!A1191","v":0},{"$f":"'Labor Summary (Office)'!B1191","v":0},null,null,null,null,null,null,null,0,null,null,null,{"$f":"ROUND(M1193*$N$9,2)","v":0},null,null,null,null,null,0]
[{"$f":"'Labor Summary (Office)'!A1192","v":0},{"$f":"'Labor Summary (Office)'!B1192","v":0},null,null,null,null,null,null,null,0,null,null,null,0,null,null,null,null,null,0]
[{"$f":"'Labor Summary (Office)'!A1193","v":0},{"$f":"'Labor Summary (Office)'!B1193","v":0},null,null,null,null,null,null,null,0,null,null,null,0,null,null,null,null,null,0]
[{"$f":"'Labor Summary (Office)'!A1194","v":0},{"$f":"'Labor Summary (Office)'!B1194","v":0},null,null,null,null,null,null,null,0,null,null,null,0,null,null,null,null,null,0]
[{"$f":"'Labor Summary (Office)'!A1195","v":0},{"$f":"'Labor Summary (Office)'!B1195","v":0},null,null,null,null,null,null,null,0,null,null,null,0,null,null,null,null,null,0]
[{"$f":"'Labor Summary (Office)'!A1196","v":0},{"$f":"'Labor Summary (Office)'!B1196","v":0},null,null,null,null,null,null,null,0,null,null,null,0,null,null,null,null,null,0]
[{"$f":"'Labor Summary (Office)'!A1197","v":0},{"$f":"'Labor Summary (Office)'!B1197","v":0},null,null,null,null,null,null,null,0,null,null,null,0,null,null,null,null,null,0]
[{"$f":"'Labor Summary (Office)'!A1198","v":0},{"$f":"'Labor Summary (Office)'!B1198","v":0},null,null,null,null,null,null,null,0,null,null,null,0,null,null,null,null,null,0]
[{"$f":"'Labor Summary (Office)'!A1199","v":0},{"$f":"'Labor Summary (Office)'!B1199","v":0},null,null,null,null,null,null,null,0,null,null,null,0,null,null,null,null,null,0]
[{"$f":"'Labor Summary (Office)'!A1200","v":0},{"$f":"'Labor Summary (Office)'!B1200","v":0},null,null,null,null,null,null,null,0,null,null,null,0,null,null,null,null,null,0]
[{"$f":"'Labor Summary (Office)'!A1201","v":0},{"$f":"'Labor Summary (Office)'!B1201","v":0},null,null,null,null,null,null,null,0,null,null,null,0,null,null,null,null,null,0]
[{"$f":"'Labor Summary (Office)'!A1202","v":0},{"$f":"'Labor Summary (Office)'!B1202","v":0},null,null,null,null,null,null,null,0,null,null,null,0,null,null,null,null,null,0]
[{"$f":"'Labor Summary (Office)'!A1203","v":0},{"$f":"'Labor Summary (Office)'!B1203","v":0},null,null,null,null,null,null,null,0,null,null,null,0,null,null,null,null,null,0]
[{"$f":"'Labor Summary (Office)'!A1204","v":0},{"$f":"'Labor Summary (Office)'!B1204","v":0},null,null,null,null,null,null,null,0,null,null,null,0,null,null,null,null,null,0]
[{"$f":"'Labor Summary (Office)'!A1205","v":0},{"$f":"'Labor Summary (Office)'!B1205","v":0},null,null,null,null,null,null,null,0,null,null,null,0,null,null,null,null,null,0]
[{"$f":"'Labor Summary (Office)'!A1206","v":0},{"$f":"'Labor Summary (Office)'!B1206","v":0},null,null,null,null,null,null,null,0,null,null,null,0,null,null,null,null,null,0]
[{"$f":"'Labor Summary (Office)'!A1207","v":0},{"$f":"'Labor Summary (Office)'!B1207","v":0},null,null,null,null,null,null,null,0,null,null,null,0,null,null,null,null,null,0]
[{"$f":"'Labor Summary (Office)'!A1208","v":0},{"$f":"'Labor Summary (Office)'!B1208","v":0},null,null,null,null,null,null,null,0,null,null,null,0,null,null,null,null,null,0]
[{"$f":"'Labor Summary (Office)'!A1209","v":0},{"$f":"'Labor Summary (Office)'!B1209","v":0},null,null,null,null,null,null,null,0,null,null,null,0,null,null,null,null,null,0]
[{"$f":"'Labor Summary (Office)'!A1210","v":0},{"$f":"'Labor Summary (Office)'!B1210","v":0},null,null,null,null,null,null,null,0,null,null,null,0,null,null,null,null,null,0]
[{"$f":"'Labor Summary (Office)'!A1211","v":0},{"$f":"'Labor Summary (Office)'!B1211","v":0},null,null,null,null,null,null,null,0,null,null,null,0,null,null,null,null,null,0]
[{"$f":"'Labor Summary (Office)'!A1212","v":0},{"$f":"'Labor Summary (Office)'!B1212","v":0},null,null,null,null,null,null,null,0,null,null,null,0,null,null,null,null,null,0]
[{"$f":"'Labor Summary (Office)'!A1213","v":0},{"$f":"'Labor Summary (Office)'!B1213","v":0},null,null,null,null,null,null,null,0,null,null,null,0,null,null,null,null,null,0]
[{"$f":"'Labor Summary (Office)'!A1214","v":0},{"$f":"'Labor Summary (Office)'!B1214","v":0},null,null,null,null,null,null,null,0,null,null,null,0,null,null,null,null,null,0]
[{"$f":"'Labor Summary (Office)'!A1215","v":0},{"$f":"'Labor Summary (Office)'!B1215","v":0},null,null,null,null,null,null,null,0,null,null,null,0,null,null,null,null,null,0]
[{"$f":"'Labor Summary (Office)'!A1216","v":0},{"$f":"'Labor Summary (Office)'!B1216","v":0},null,null,null,null,null,null,null,0,null,null,null,0,null,null,null,null,null,0]
[{"$f":"'Labor Summary (Office)'!A1217","v":0},{"$f":"'Labor Summary (Office)'!B1217","v":0},null,null,null,null,null,null,null,0,null,null,null,0,null,null,null,null,null,0]
[{"$f":"'Labor Summary (Office)'!A1218","v":0},{"$f":"'Labor Summary (Office)'!B1218","v":0},null,null,null,null,null,null,null,0,null,null,null,0,null,null,null,null,null,0]
[{"$f":"'Labor Summary (Office)'!A1219","v":0},{"$f":"'Labor Summary (Office)'!B1219","v":0},null,null,null,null,null,null,null,0,null,null,null,0,null,null,null,null,null,0]
[{"$f":"'Labor Summary (Office)'!A1220","v":0},{"$f":"'Labor Summary (Office)'!B1220","v":0},{"$f":"IF(A1222=0,\"\",A1222)","v":""},null,null,null,null,null,null,null,null,null,null,null,null,null,null,"Subtotal Line 39",null,{"$f":"ROUND(SUM(T1192:T1221),2)","v":0}]
[{"$f":"'Labor Summary (Office)'!A1221","v":0},{"$f":"'Labor Summary (Office)'!B1221","v":0},null,null,null,null,null,null,null,0,null,null,null,{"$f":"ROUND(M1223*$N$9,2)","v":0},null,null,null,null,null,{"$f":"ROUND((G1223+J1223+L1223+N1223+O1223+P1223+Q1223+R1223+S1223),2)","v":0}]
[{"$f":"'Labor Summary (Office)'!A1222","v":0},{"$f":"'Labor Summary (Office)'!B1222","v":0},null,null,null,null,null,null,null,0,null,null,null,{"$f":"ROUND(M1224*$N$9,2)","v":0},null,null,null,null,null,0]
[{"$f":"'Labor Summary (Office)'!A1223","v":0},{"$f":"'Labor Summary (Office)'!B1223","v":0},null,null,null,null,null,null,null,0,null,null,null,0,null,null,null,null,null,0]
[{"$f":"'Labor Summary (Office)'!A1224","v":0},{"$f":"'Labor Summary (Office)'!B1224","v":0},null,null,null,null,null,null,null,0,null,null,null,0,null,null,null,null,null,0]
[{"$f":"'Labor Summary (Office)'!A1225","v":0},{"$f":"'Labor Summary (Office)'!B1225","v":0},null,null,null,null,null,null,null,0,null,null,null,0,null,null,null,null,null,0]
[{"$f":"'Labor Summary (Office)'!A1226","v":0},{"$f":"'Labor Summary (Office)'!B1226","v":0},null,null,null,null,null,null,null,0,null,null,null,0,null,null,null,null,null,0]
[{"$f":"'Labor Summary (Office)'!A1227","v":0},{"$f":"'Labor Summary (Office)'!B1227","v":0},null,null,null,null,null,null,null,0,null,null,null,0,null,null,null,null,null,0]
[{"$f":"'Labor Summary (Office)'!A1228","v":0},{"$f":"'Labor Summary (Office)'!B1228","v":0},null,null,null,null,null,null,null,0,null,null,null,0,null,null,null,null,null,0]
[{"$f":"'Labor Summary (Office)'!A1229","v":0},{"$f":"'Labor Summary (Office)'!B1229","v":0},null,null,null,null,null,null,null,{"$f":"I1231+H1231","v":0},null,null,null,0,null,null,null,null,null,0]
[{"$f":"'Labor Summary (Office)'!A1230","v":0},{"$f":"'Labor Summary (Office)'!B1230","v":0},null,null,null,null,null,null,null,0,null,null,null,0,null,null,null,null,null,0]
[{"$f":"'Labor Summary (Office)'!A1231","v":0},{"$f":"'Labor Summary (Office)'!B1231","v":0},null,null,null,null,null,null,null,0,null,null,null,0,null,null,null,null,null,0]
[{"$f":"'Labor Summary (Office)'!A1232","v":0},{"$f":"'Labor Summary (Office)'!B1232","v":0},null,null,null,null,null,null,null,0,null,null,null,0,null,null,null,null,null,0]
[{"$f":"'Labor Summary (Office)'!A1233","v":0},{"$f":"'Labor Summary (Office)'!B1233","v":0},null,null,null,null,null,null,null,0,null,null,null,0,null,null,null,null,null,0]
[{"$f":"'Labor Summary (Office)'!A1234","v":0},{"$f":"'Labor Summary (Office)'!B1234","v":0},null,null,null,null,null,null,null,0,null,null,null,0,null,null,null,null,null,0]
[{"$f":"'Labor Summary (Office)'!A1235","v":0},{"$f":"'Labor Summary (Office)'!B1235","v":0},null,null,null,null,null,null,null,0,null,null,null,0,null,null,null,null,null,0]
[{"$f":"'Labor Summary (Office)'!A1236","v":0},{"$f":"'Labor Summary (Office)'!B1236","v":0},null,null,null,null,null,null,null,0,null,null,null,0,null,null,null,null,null,0]
[{"$f":"'Labor Summary (Office)'!A1237","v":0},{"$f":"'Labor Summary (Office)'!B1237","v":0},null,null,null,null,null,null,null,0,null,null,null,0,null,null,null,null,null,0]
[{"$f":"'Labor Summary (Office)'!A1238","v":0},{"$f":"'Labor Summary (Office)'!B1238","v":0},null,null,null,null,null,null,null,0,null,null,null,0,null,null,null,null,null,0]
[{"$f":"'Labor Summary (Office)'!A1239","v":0},{"$f":"'Labor Summary (Office)'!B1239","v":0},null,null,null,null,null,null,null,0,null,null,null,0,null,null,null,null,null,0]
[{"$f":"'Labor Summary (Office)'!A1240","v":0},{"$f":"'Labor Summary (Office)'!B1240","v":0},null,null,null,null,null,null,null,0,null,null,null,0,null,null,null,null,null,0]
[{"$f":"'Labor Summary (Office)'!A1241","v":0},{"$f":"'Labor Summary (Office)'!B1241","v":0},null,null,null,null,null,null,null,0,null,null,null,0,null,null,null,null,null,0]
[{"$f":"'Labor Summary (Office)'!A1242","v":0},{"$f":"'Labor Summary (Office)'!B1242","v":0},null,null,null,null,null,null,null,0,null,null,null,0,null,null,null,null,null,0]
[{"$f":"'Labor Summary (Office)'!A1243","v":0},{"$f":"'Labor Summary (Office)'!B1243","v":0},null,null,null,null,null,null,null,0,null,null,null,0,null,null,null,null,null,0]
[{"$f":"'Labor Summary (Office)'!A1244","v":0},{"$f":"'Labor Summary (Office)'!B1244","v":0},null,null,null,null,null,null,null,0,null,null,null,0,null,null,null,null,null,0]
[{"$f":"'Labor Summary (Office)'!A1245","v":0},{"$f":"'Labor Summary (Office)'!B1245","v":0},null,null,null,null,null,null,null,0,null,null,null,0,null,null,null,null,null,0]
[{"$f":"'Labor Summary (Office)'!A1246","v":0},{"$f":"'Labor Summary (Office)'!B1246","v":0},null,null,null,null,null,null,null,0,null,null,null,0,null,null,null,null,null,0]
[{"$f":"'Labor Summary (Office)'!A1247","v":0},{"$f":"'Labor Summary (Office)'!B1247","v":0},null,null,null,null,null,null,null,0,null,null,null,0,null,null,null,null,null,0]
[{"$f":"'Labor Summary (Office)'!A1248","v":0},{"$f":"'Labor Summary (Office)'!B1248","v":0},null,null,null,null,null,null,null,0,null,null,null,0,null,null,null,null,null,0]
[{"$f":"'Labor Summary (Office)'!A1249","v":0},{"$f":"'Labor Summary (Office)'!B1249","v":0},null,null,null,null,null,null,null,0,null,null,null,0,null,null,null,null,null,0]
[{"$f":"'Labor Summary (Office)'!A1250","v":0},{"$f":"'Labor Summary (Office)'!B1250","v":0},null,null,null,null,null,null,null,0,null,null,null,0,null,null,null,null,null,0]
[{"$f":"'Labor Summary (Office)'!A1251","v":0},{"$f":"'Labor Summary (Office)'!B1251","v":0},{"$f":"IF(A1253=0,\"\",A1253)","v":""},null,null,null,null,null,null,null,null,null,null,null,null,null,null,"Subtotal Line 40",null,{"$f":"ROUND(SUM(T1223:T1252),2)","v":0}]
[{"$f":"'Labor Summary (Office)'!A1252","v":0},{"$f":"'Labor Summary (Office)'!B1252","v":0},null,null,null,null,null,null,null,0,null,null,null,{"$f":"ROUND(M1254*$N$9,2)","v":0},null,null,null,null,null,{"$f":"ROUND((G1254+J1254+L1254+N1254+O1254+P1254+Q1254+R1254+S1254),2)","v":0}]
[{"$f":"'Labor Summary (Office)'!A1253","v":0},{"$f":"'Labor Summary (Office)'!B1253","v":0},null,null,null,null,null,null,null,0,null,null,null,{"$f":"ROUND(M1255*$N$9,2)","v":0},null,null,null,null,null,0]
[{"$f":"'Labor Summary (Office)'!A1254","v":0},{"$f":"'Labor Summary (Office)'!B1254","v":0},null,null,null,null,null,null,null,0,null,null,null,0,null,null,null,null,null,0]
[{"$f":"'Labor Summary (Office)'!A1255","v":0},{"$f":"'Labor Summary (Office)'!B1255","v":0},null,null,null,null,null,null,null,0,null,null,null,0,null,null,null,null,null,0]
[{"$f":"'Labor Summary (Office)'!A1256","v":0},{"$f":"'Labor Summary (Office)'!B1256","v":0},null,null,null,null,null,null,null,0,null,null,null,0,null,null,null,null,null,0]
[{"$f":"'Labor Summary (Office)'!A1257","v":0},{"$f":"'Labor Summary (Office)'!B1257","v":0},null,null,null,null,null,null,null,0,null,null,null,0,null,null,null,null,null,0]
[{"$f":"'Labor Summary (Office)'!A1258","v":0},{"$f":"'Labor Summary (Office)'!B1258","v":0},null,null,null,null,null,null,null,0,null,null,null,0,null,null,null,null,null,0]
[{"$f":"'Labor Summary (Office)'!A1259","v":0},{"$f":"'Labor Summary (Office)'!B1259","v":0},null,null,null,null,null,null,null,0,null,null,null,0,null,null,null,null,null,0]
[{"$f":"'Labor Summary (Office)'!A1260","v":0},{"$f":"'Labor Summary (Office)'!B1260","v":0},null,null,null,null,null,null,null,0,null,null,null,0,null,null,null,null,null,0]
[{"$f":"'Labor Summary (Office)'!A1261","v":0},{"$f":"'Labor Summary (Office)'!B1261","v":0},null,null,null,null,null,null,null,0,null,null,null,0,null,null,null,null,null,0]
[{"$f":"'Labor Summary (Office)'!A1262","v":0},{"$f":"'Labor Summary (Office)'!B1262","v":0},null,null,null,null,null,null,null,0,null,null,null,0,null,null,null,null,null,0]
[{"$f":"'Labor Summary (Office)'!A1263","v":0},{"$f":"'Labor Summary (Office)'!B1263","v":0},null,null,null,null,null,null,null,0,null,null,null,0,null,null,null,null,null,0]
[{"$f":"'Labor Summary (Office)'!A1264","v":0},{"$f":"'Labor Summary (Office)'!B1264","v":0},null,null,null,null,null,null,null,0,null,null,null,0,null,null,null,null,null,0]
[{"$f":"'Labor Summary (Office)'!A1265","v":0},{"$f":"'Labor Summary (Office)'!B1265","v":0},null,null,null,null,null,null,null,0,null,null,null,0,null,null,null,null,null,0]
[{"$f":"'Labor Summary (Office)'!A1266","v":0},{"$f":"'Labor Summary (Office)'!B1266","v":0},null,null,null,null,null,null,null,0,null,null,null,0,null,null,null,null,null,0]
[{"$f":"'Labor Summary (Office)'!A1267","v":0},{"$f":"'Labor Summary (Office)'!B1267","v":0},null,null,null,null,null,null,null,0,null,null,null,0,null,null,null,null,null,0]
[{"$f":"'Labor Summary (Office)'!A1268","v":0},{"$f":"'Labor Summary (Office)'!B1268","v":0},null,null,null,null,null,null,null,0,null,null,null,0,null,null,null,null,null,0]
[{"$f":"'Labor Summary (Office)'!A1269","v":0},{"$f":"'Labor Summary (Office)'!B1269","v":0},null,null,null,null,null,null,null,0,null,null,null,0,null,null,null,null,null,0]
[{"$f":"'Labor Summary (Office)'!A1270","v":0},{"$f":"'Labor Summary (Office)'!B1270","v":0},null,null,null,null,null,null,null,0,null,null,null,0,null,null,null,null,null,0]
[{"$f":"'Labor Summary (Office)'!A1271","v":0},{"$f":"'Labor Summary (Office)'!B1271","v":0},null,null,null,null,null,null,null,0,null,null,null,0,null,null,null,null,null,0]
[{"$f":"'Labor Summary (Office)'!A1272","v":0},{"$f":"'Labor Summary (Office)'!B1272","v":0},null,null,null,null,null,null,null,0,null,null,null,0,null,null,null,null,null,0]
[{"$f":"'Labor Summary (Office)'!A1273","v":0},{"$f":"'Labor Summary (Office)'!B1273","v":0},null,null,null,null,null,null,null,0,null,null,null,0,null,null,null,null,null,0]
[{"$f":"'Labor Summary (Office)'!A1274","v":0},{"$f":"'Labor Summary (Office)'!B1274","v":0},null,null,null,null,null,null,null,0,null,null,null,0,null,null,null,null,null,0]
[{"$f":"'Labor Summary (Office)'!A1275","v":0},{"$f":"'Labor Summary (Office)'!B1275","v":0},null,null,null,null,null,null,null,0,null,null,null,0,null,null,null,null,null,0]
[{"$f":"'Labor Summary (Office)'!A1276","v":0},{"$f":"'Labor Summary (Office)'!B1276","v":0},null,null,null,null,null,null,null,0,null,null,null,0,null,null,null,null,null,0]
[{"$f":"'Labor Summary (Office)'!A1277","v":0},{"$f":"'Labor Summary (Office)'!B1277","v":0},null,null,null,null,null,null,null,0,null,null,null,0,null,null,null,null,null,0]
[{"$f":"'Labor Summary (Office)'!A1278","v":0},{"$f":"'Labor Summary (Office)'!B1278","v":0},null,null,null,null,null,null,null,0,null,null,null,0,null,null,null,null,null,0]
[{"$f":"'Labor Summary (Office)'!A1279","v":0},{"$f":"'Labor Summary (Office)'!B1279","v":0},null,null,null,null,null,null,null,0,null,null,null,0,null,null,null,null,null,0]
[{"$f":"'Labor Summary (Office)'!A1280","v":0},{"$f":"'Labor Summary (Office)'!B1280","v":0},null,null,null,null,null,null,null,0,null,null,null,0,null,null,null,null,null,0]
[{"$f":"'Labor Summary (Office)'!A1281","v":0},{"$f":"'Labor Summary (Office)'!B1281","v":0},null,null,null,null,null,null,null,0,null,null,null,0,null,null,null,null,null,0]
[{"$f":"'Labor Summary (Office)'!A1282","v":0},{"$f":"'Labor Summary (Office)'!B1282","v":0},{"$f":"IF(A1284=0,\"\",A1284)","v":""},null,null,null,null,null,null,null,null,null,null,null,null,null,null,"Subtotal Line 41",null,{"$f":"ROUND(SUM(T1254:T1283),2)","v":0}]
[{"$f":"'Labor Summary (Office)'!A1283","v":0},{"$f":"'Labor Summary (Office)'!B1283","v":0},null,null,null,null,null,null,null,0,null,null,null,{"$f":"ROUND(M1285*$N$9,2)","v":0},null,null,null,null,null,{"$f":"ROUND((G1285+J1285+L1285+N1285+O1285+P1285+Q1285+R1285+S1285),2)","v":0}]
[{"$f":"'Labor Summary (Office)'!A1284","v":0},{"$f":"'Labor Summary (Office)'!B1284","v":0},null,null,null,null,null,null,null,0,null,null,null,{"$f":"ROUND(M1286*$N$9,2)","v":0},null,null,null,null,null,0]
[{"$f":"'Labor Summary (Office)'!A1285","v":0},{"$f":"'Labor Summary (Office)'!B1285","v":0},null,null,null,null,null,null,null,0,null,null,null,0,null,null,null,null,null,0]
[{"$f":"'Labor Summary (Office)'!A1286","v":0},{"$f":"'Labor Summary (Office)'!B1286","v":0},null,null,null,null,null,null,null,0,null,null,null,0,null,null,null,null,null,0]
[{"$f":"'Labor Summary (Office)'!A1287","v":0},{"$f":"'Labor Summary (Office)'!B1287","v":0},null,null,null,null,null,null,null,0,null,null,null,0,null,null,null,null,null,0]
[{"$f":"'Labor Summary (Office)'!A1288","v":0},{"$f":"'Labor Summary (Office)'!B1288","v":0},null,null,null,null,null,null,null,0,null,null,null,0,null,null,null,null,null,0]
[{"$f":"'Labor Summary (Office)'!A1289","v":0},{"$f":"'Labor Summary (Office)'!B1289","v":0},null,null,null,null,null,null,null,0,null,null,null,0,null,null,null,null,null,0]
[{"$f":"'Labor Summary (Office)'!A1290","v":0},{"$f":"'Labor Summary (Office)'!B1290","v":0},null,null,null,null,null,null,null,0,null,null,null,0,null,null,null,null,null,0]
[{"$f":"'Labor Summary (Office)'!A1291","v":0},{"$f":"'Labor Summary (Office)'!B1291","v":0},null,null,null,null,null,null,null,0,null,null,null,0,null,null,null,null,null,0]
[{"$f":"'Labor Summary (Office)'!A1292","v":0},{"$f":"'Labor Summary (Office)'!B1292","v":0},null,null,null,null,null,null,null,0,null,null,null,0,null,null,null,null,null,0]
[{"$f":"'Labor Summary (Office)'!A1293","v":0},{"$f":"'Labor Summary (Office)'!B1293","v":0},null,null,null,null,null,null,null,{"$f":"I1295+H1295","v":0},null,null,null,0,null,null,null,null,null,0]
[{"$f":"'Labor Summary (Office)'!A1294","v":0},{"$f":"'Labor Summary (Office)'!B1294","v":0},null,null,null,null,null,null,null,0,null,null,null,0,null,null,null,null,null,0]
[{"$f":"'Labor Summary (Office)'!A1295","v":0},{"$f":"'Labor Summary (Office)'!B1295","v":0},null,null,null,null,null,null,null,0,null,null,null,0,null,null,null,null,null,0]
[{"$f":"'Labor Summary (Office)'!A1296","v":0},{"$f":"'Labor Summary (Office)'!B1296","v":0},null,null,null,null,null,null,null,0,null,null,null,0,null,null,null,null,null,0]
[{"$f":"'Labor Summary (Office)'!A1297","v":0},{"$f":"'Labor Summary (Office)'!B1297","v":0},null,null,null,null,null,null,null,0,null,null,null,0,null,null,null,null,null,0]
[{"$f":"'Labor Summary (Office)'!A1298","v":0},{"$f":"'Labor Summary (Office)'!B1298","v":0},null,null,null,null,null,null,null,0,null,null,null,0,null,null,null,null,null,0]
[{"$f":"'Labor Summary (Office)'!A1299","v":0},{"$f":"'Labor Summary (Office)'!B1299","v":0},null,null,null,null,null,null,null,0,null,null,null,0,null,null,null,null,null,0]
[{"$f":"'Labor Summary (Office)'!A1300","v":0},{"$f":"'Labor Summary (Office)'!B1300","v":0},null,null,null,null,null,null,null,0,null,null,null,0,null,null,null,null,null,0]
[{"$f":"'Labor Summary (Office)'!A1301","v":0},{"$f":"'Labor Summary (Office)'!B1301","v":0},null,null,null,null,null,null,null,0,null,null,null,0,null,null,null,null,null,0]
[{"$f":"'Labor Summary (Office)'!A1302","v":0},{"$f":"'Labor Summary (Office)'!B1302","v":0},null,null,null,null,null,null,null,0,null,null,null,0,null,null,null,null,null,0]
[{"$f":"'Labor Summary (Office)'!A1303","v":0},{"$f":"'Labor Summary (Office)'!B1303","v":0},null,null,null,null,null,null,null,0,null,null,null,0,null,null,null,null,null,0]
[{"$f":"'Labor Summary (Office)'!A1304","v":0},{"$f":"'Labor Summary (Office)'!B1304","v":0},null,null,null,null,null,null,null,0,null,null,null,0,null,null,null,null,null,0]
[{"$f":"'Labor Summary (Office)'!A1305","v":0},{"$f":"'Labor Summary (Office)'!B1305","v":0},null,null,null,null,null,null,null,0,null,null,null,0,null,null,null,null,null,0]
[{"$f":"'Labor Summary (Office)'!A1306","v":0},{"$f":"'Labor Summary (Office)'!B1306","v":0},null,null,null,null,null,null,null,0,null,null,null,0,null,null,null,null,null,0]
[{"$f":"'Labor Summary (Office)'!A1307","v":0},{"$f":"'Labor Summary (Office)'!B1307","v":0},null,null,null,null,null,null,null,0,null,null,null,0,null,null,null,null,null,0]
[{"$f":"'Labor Summary (Office)'!A1308","v":0},{"$f":"'Labor Summary (Office)'!B1308","v":0},null,null,null,null,null,null,null,0,null,null,null,0,null,null,null,null,null,0]
[{"$f":"'Labor Summary (Office)'!A1309","v":0},{"$f":"'Labor Summary (Office)'!B1309","v":0},null,null,null,null,null,null,null,0,null,null,null,0,null,null,null,null,null,0]
[{"$f":"'Labor Summary (Office)'!A1310","v":0},{"$f":"'Labor Summary (Office)'!B1310","v":0},null,null,null,null,null,null,null,0,null,null,null,0,null,null,null,null,null,0]
[{"$f":"'Labor Summary (Office)'!A1311","v":0},{"$f":"'Labor Summary (Office)'!B1311","v":0},null,null,null,null,null,null,null,0,null,null,null,0,null,null,null,null,null,0]
[{"$f":"'Labor Summary (Office)'!A1312","v":0},{"$f":"'Labor Summary (Office)'!B1312","v":0},null,null,null,null,null,null,null,0,null,null,null,0,null,null,null,null,null,0]
[{"$f":"'Labor Summary (Office)'!A1313","v":0},{"$f":"'Labor Summary (Office)'!B1313","v":0},{"$f":"IF(A1315=0,\"\",A1315)","v":""},null,null,null,null,null,null,null,null,null,null,null,null,null,null,"Subtotal Line 42",null,{"$f":"ROUND(SUM(T1285:T1314),2)","v":0}]
[{"$f":"'Labor Summary (Office)'!A1314","v":0},{"$f":"'Labor Summary (Office)'!B1314","v":0},null,null,null,null,null,null,null,0,null,null,null,{"$f":"ROUND(M1316*$N$9,2)","v":0},null,null,null,null,null,{"$f":"ROUND((G1316+J1316+L1316+N1316+O1316+P1316+Q1316+R1316+S1316),2)","v":0}]
[{"$f":"'Labor Summary (Office)'!A1315","v":0},{"$f":"'Labor Summary (Office)'!B1315","v":0},null,null,null,null,null,null,null,0,null,null,null,{"$f":"ROUND(M1317*$N$9,2)","v":0},null,null,null,null,null,0]
[{"$f":"'Labor Summary (Office)'!A1316","v":0},{"$f":"'Labor Summary (Office)'!B1316","v":0},null,null,null,null,null,null,null,0,null,null,null,0,null,null,null,null,null,0]
[{"$f":"'Labor Summary (Office)'!A1317","v":0},{"$f":"'Labor Summary (Office)'!B1317","v":0},null,null,null,null,null,null,null,0,null,null,null,0,null,null,null,null,null,0]
[{"$f":"'Labor Summary (Office)'!A1318","v":0},{"$f":"'Labor Summary (Office)'!B1318","v":0},null,null,null,null,null,null,null,0,null,null,null,0,null,null,null,null,null,0]
[{"$f":"'Labor Summary (Office)'!A1319","v":0},{"$f":"'Labor Summary (Office)'!B1319","v":0},null,null,null,null,null,null,null,0,null,null,null,0,null,null,null,null,null,0]
[{"$f":"'Labor Summary (Office)'!A1320","v":0},{"$f":"'Labor Summary (Office)'!B1320","v":0},null,null,null,null,null,null,null,0,null,null,null,0,null,null,null,null,null,0]
[{"$f":"'Labor Summary (Office)'!A1321","v":0},{"$f":"'Labor Summary (Office)'!B1321","v":0},null,null,null,null,null,null,null,0,null,null,null,0,null,null,null,null,null,0]
[{"$f":"'Labor Summary (Office)'!A1322","v":0},{"$f":"'Labor Summary (Office)'!B1322","v":0},null,null,null,null,null,null,null,0,null,null,null,0,null,null,null,null,null,0]
[{"$f":"'Labor Summary (Office)'!A1323","v":0},{"$f":"'Labor Summary (Office)'!B1323","v":0},null,null,null,null,null,null,null,0,null,null,null,0,null,null,null,null,null,0]
[{"$f":"'Labor Summary (Office)'!A1324","v":0},{"$f":"'Labor Summary (Office)'!B1324","v":0},null,null,null,null,null,null,null,0,null,null,null,0,null,null,null,null,null,0]
[{"$f":"'Labor Summary (Office)'!A1325","v":0},{"$f":"'Labor Summary (Office)'!B1325","v":0},null,null,null,null,null,null,null,0,null,null,null,0,null,null,null,null,null,0]
[{"$f":"'Labor Summary (Office)'!A1326","v":0},{"$f":"'Labor Summary (Office)'!B1326","v":0},null,null,null,null,null,null,null,0,null,null,null,0,null,null,null,null,null,0]
[{"$f":"'Labor Summary (Office)'!A1327","v":0},{"$f":"'Labor Summary (Office)'!B1327","v":0},null,null,null,null,null,null,null,0,null,null,null,0,null,null,null,null,null,0]
[{"$f":"'Labor Summary (Office)'!A1328","v":0},{"$f":"'Labor Summary (Office)'!B1328","v":0},null,null,null,null,null,null,null,0,null,null,null,0,null,null,null,null,null,0]
[{"$f":"'Labor Summary (Office)'!A1329","v":0},{"$f":"'Labor Summary (Office)'!B1329","v":0},null,null,null,null,null,null,null,0,null,null,null,0,null,null,null,null,null,0]
[{"$f":"'Labor Summary (Office)'!A1330","v":0},{"$f":"'Labor Summary (Office)'!B1330","v":0},null,null,null,null,null,null,null,0,null,null,null,0,null,null,null,null,null,0]
[{"$f":"'Labor Summary (Office)'!A1331","v":0},{"$f":"'Labor Summary (Office)'!B1331","v":0},null,null,null,null,null,null,null,0,null,null,null,0,null,null,null,null,null,0]
[{"$f":"'Labor Summary (Office)'!A1332","v":0},{"$f":"'Labor Summary (Office)'!B1332","v":0},null,null,null,null,null,null,null,0,null,null,null,0,null,null,null,null,null,0]
[{"$f":"'Labor Summary (Office)'!A1333","v":0},{"$f":"'Labor Summary (Office)'!B1333","v":0},null,null,null,null,null,null,null,0,null,null,null,0,null,null,null,null,null,0]
[{"$f":"'Labor Summary (Office)'!A1334","v":0},{"$f":"'Labor Summary (Office)'!B1334","v":0},null,null,null,null,null,null,null,0,null,null,null,0,null,null,null,null,null,0]
[{"$f":"'Labor Summary (Office)'!A1335","v":0},{"$f":"'Labor Summary (Office)'!B1335","v":0},null,null,null,null,null,null,null,0,null,null,null,0,null,null,null,null,null,0]
[{"$f":"'Labor Summary (Office)'!A1336","v":0},{"$f":"'Labor Summary (Office)'!B1336","v":0},null,null,null,null,null,null,null,0,null,null,null,0,null,null,null,null,null,0]
[{"$f":"'Labor Summary (Office)'!A1337","v":0},{"$f":"'Labor Summary (Office)'!B1337","v":0},null,null,null,null,null,null,null,0,null,null,null,0,null,null,null,null,null,0]
[{"$f":"'Labor Summary (Office)'!A1338","v":0},{"$f":"'Labor Summary (Office)'!B1338","v":0},null,null,null,null,null,null,null,0,null,null,null,0,null,null,null,null,null,0]
[{"$f":"'Labor Summary (Office)'!A1339","v":0},{"$f":"'Labor Summary (Office)'!B1339","v":0},null,null,null,null,null,null,null,0,null,null,null,0,null,null,null,null,null,0]
[{"$f":"'Labor Summary (Office)'!A1340","v":0},{"$f":"'Labor Summary (Office)'!B1340","v":0},null,null,null,null,null,null,null,0,null,null,null,0,null,null,null,null,null,0]
[{"$f":"'Labor Summary (Office)'!A1341","v":0},{"$f":"'Labor Summary (Office)'!B1341","v":0},null,null,null,null,null,null,null,0,null,null,null,0,null,null,null,null,null,0]
[{"$f":"'Labor Summary (Office)'!A1342","v":0},{"$f":"'Labor Summary (Office)'!B1342","v":0},null,null,null,null,null,null,null,0,null,null,null,0,null,null,null,null,null,0]
[{"$f":"'Labor Summary (Office)'!A1343","v":0},{"$f":"'Labor Summary (Office)'!B1343","v":0},null,null,null,null,null,null,null,0,null,null,null,0,null,null,null,null,null,0]
[{"$f":"'Labor Summary (Office)'!A1344","v":0},{"$f":"'Labor Summary (Office)'!B1344","v":0},{"$f":"IF(A1346=0,\"\",A1346)","v":""},null,null,null,null,null,null,null,null,null,null,null,null,null,null,"Subtotal Line 43",null,{"$f":"ROUND(SUM(T1316:T1345),2)","v":0}]
[{"$f":"'Labor Summary (Office)'!A1345","v":0},{"$f":"'Labor Summary (Office)'!B1345","v":0},null,null,null,null,null,null,null,0,null,null,null,{"$f":"ROUND(M1347*$N$9,2)","v":0},null,null,null,null,null,{"$f":"ROUND((G1347+J1347+L1347+N1347+O1347+P1347+Q1347+R1347+S1347),2)","v":0}]
[{"$f":"'Labor Summary (Office)'!A1346","v":0},{"$f":"'Labor Summary (Office)'!B1346","v":0},null,null,null,null,null,null,null,0,null,null,null,{"$f":"ROUND(M1348*$N$9,2)","v":0},null,null,null,null,null,0]
[{"$f":"'Labor Summary (Office)'!A1347","v":0},{"$f":"'Labor Summary (Office)'!B1347","v":0},null,null,null,null,null,null,null,0,null,null,null,0,null,null,null,null,null,0]
[{"$f":"'Labor Summary (Office)'!A1348","v":0},{"$f":"'Labor Summary (Office)'!B1348","v":0},null,null,null,null,null,null,null,0,null,null,null,0,null,null,null,null,null,0]
[{"$f":"'Labor Summary (Office)'!A1349","v":0},{"$f":"'Labor Summary (Office)'!B1349","v":0},null,null,null,null,null,null,null,0,null,null,null,0,null,null,null,null,null,0]
[{"$f":"'Labor Summary (Office)'!A1350","v":0},{"$f":"'Labor Summary (Office)'!B1350","v":0},null,null,null,null,null,null,null,0,null,null,null,0,null,null,null,null,null,0]
[{"$f":"'Labor Summary (Office)'!A1351","v":0},{"$f":"'Labor Summary (Office)'!B1351","v":0},null,null,null,null,null,null,null,0,null,null,null,0,null,null,null,null,null,0]
[{"$f":"'Labor Summary (Office)'!A1352","v":0},{"$f":"'Labor Summary (Office)'!B1352","v":0},null,null,null,null,null,null,null,0,null,null,null,0,null,null,null,null,null,0]
[{"$f":"'Labor Summary (Office)'!A1353","v":0},{"$f":"'Labor Summary (Office)'!B1353","v":0},null,null,null,null,null,null,null,0,null,null,null,0,null,null,null,null,null,0]
[{"$f":"'Labor Summary (Office)'!A1354","v":0},{"$f":"'Labor Summary (Office)'!B1354","v":0},null,null,null,null,null,null,null,0,null,null,null,0,null,null,null,null,null,0]
[{"$f":"'Labor Summary (Office)'!A1355","v":0},{"$f":"'Labor Summary (Office)'!B1355","v":0},null,null,null,null,null,null,null,0,null,null,null,0,null,null,null,null,null,0]
[{"$f":"'Labor Summary (Office)'!A1356","v":0},{"$f":"'Labor Summary (Office)'!B1356","v":0},null,null,null,null,null,null,null,0,null,null,null,0,null,null,null,null,null,0]
[{"$f":"'Labor Summary (Office)'!A1357","v":0},{"$f":"'Labor Summary (Office)'!B1357","v":0},null,null,null,null,null,null,null,{"$f":"I1359+H1359","v":0},null,null,null,0,null,null,null,null,null,0]
[{"$f":"'Labor Summary (Office)'!A1358","v":0},{"$f":"'Labor Summary (Office)'!B1358","v":0},null,null,null,null,null,null,null,0,null,null,null,0,null,null,null,null,null,0]
[{"$f":"'Labor Summary (Office)'!A1359","v":0},{"$f":"'Labor Summary (Office)'!B1359","v":0},null,null,null,null,null,null,null,0,null,null,null,0,null,null,null,null,null,0]
[{"$f":"'Labor Summary (Office)'!A1360","v":0},{"$f":"'Labor Summary (Office)'!B1360","v":0},null,null,null,null,null,null,null,0,null,null,null,0,null,null,null,null,null,0]
[{"$f":"'Labor Summary (Office)'!A1361","v":0},{"$f":"'Labor Summary (Office)'!B1361","v":0},null,null,null,null,null,null,null,0,null,null,null,0,null,null,null,null,null,0]
[{"$f":"'Labor Summary (Office)'!A1362","v":0},{"$f":"'Labor Summary (Office)'!B1362","v":0},null,null,null,null,null,null,null,0,null,null,null,0,null,null,null,null,null,0]
[{"$f":"'Labor Summary (Office)'!A1363","v":0},{"$f":"'Labor Summary (Office)'!B1363","v":0},null,null,null,null,null,null,null,0,null,null,null,0,null,null,null,null,null,0]
[{"$f":"'Labor Summary (Office)'!A1364","v":0},{"$f":"'Labor Summary (Office)'!B1364","v":0},null,null,null,null,null,null,null,0,null,null,null,0,null,null,null,null,null,0]
[{"$f":"'Labor Summary (Office)'!A1365","v":0},{"$f":"'Labor Summary (Office)'!B1365","v":0},null,null,null,null,null,null,null,0,null,null,null,0,null,null,null,null,null,0]
[{"$f":"'Labor Summary (Office)'!A1366","v":0},{"$f":"'Labor Summary (Office)'!B1366","v":0},null,null,null,null,null,null,null,0,null,null,null,0,null,null,null,null,null,0]
[{"$f":"'Labor Summary (Office)'!A1367","v":0},{"$f":"'Labor Summary (Office)'!B1367","v":0},null,null,null,null,null,null,null,0,null,null,null,0,null,null,null,null,null,0]
[{"$f":"'Labor Summary (Office)'!A1368","v":0},{"$f":"'Labor Summary (Office)'!B1368","v":0},null,null,null,null,null,null,null,0,null,null,null,0,null,null,null,null,null,0]
[{"$f":"'Labor Summary (Office)'!A1369","v":0},{"$f":"'Labor Summary (Office)'!B1369","v":0},null,null,null,null,null,null,null,0,null,null,null,0,null,null,null,null,null,0]
[{"$f":"'Labor Summary (Office)'!A1370","v":0},{"$f":"'Labor Summary (Office)'!B1370","v":0},null,null,null,null,null,null,null,0,null,null,null,0,null,null,null,null,null,0]
[{"$f":"'Labor Summary (Office)'!A1371","v":0},{"$f":"'Labor Summary (Office)'!B1371","v":0},null,null,null,null,null,null,null,0,null,null,null,0,null,null,null,null,null,0]
[{"$f":"'Labor Summary (Office)'!A1372","v":0},{"$f":"'Labor Summary (Office)'!B1372","v":0},null,null,null,null,null,null,null,0,null,null,null,0,null,null,null,null,null,0]
[{"$f":"'Labor Summary (Office)'!A1373","v":0},{"$f":"'Labor Summary (Office)'!B1373","v":0},null,null,null,null,null,null,null,0,null,null,null,0,null,null,null,null,null,0]
[{"$f":"'Labor Summary (Office)'!A1374","v":0},{"$f":"'Labor Summary (Office)'!B1374","v":0},null,null,null,null,null,null,null,0,null,null,null,0,null,null,null,null,null,0]
[{"$f":"'Labor Summary (Office)'!A1375","v":0},{"$f":"'Labor Summary (Office)'!B1375","v":0},{"$f":"IF(A1377=0,\"\",A1377)","v":""},null,null,null,null,null,null,null,null,null,null,null,null,null,null,"Subtotal Line 44",null,{"$f":"ROUND(SUM(T1347:T1376),2)","v":0}]
[{"$f":"'Labor Summary (Office)'!A1376","v":0},{"$f":"'Labor Summary (Office)'!B1376","v":0},null,null,null,null,null,null,null,0,null,null,null,{"$f":"ROUND(M1378*$N$9,2)","v":0},null,null,null,null,null,0]
[{"$f":"'Labor Summary (Office)'!A1377","v":0},{"$f":"'Labor Summary (Office)'!B1377","v":0},null,null,null,null,null,null,null,0,null,null,null,{"$f":"ROUND(M1379*$N$9,2)","v":0},null,null,null,null,null,0]
[{"$f":"'Labor Summary (Office)'!A1378","v":0},{"$f":"'Labor Summary (Office)'!B1378","v":0},null,null,null,null,null,null,null,0,null,null,null,0,null,null,null,null,null,0]
[{"$f":"'Labor Summary (Office)'!A1379","v":0},{"$f":"'Labor Summary (Office)'!B1379","v":0},null,null,null,null,null,null,null,0,null,null,null,0,null,null,null,null,null,0]
[{"$f":"'Labor Summary (Office)'!A1380","v":0},{"$f":"'Labor Summary (Office)'!B1380","v":0},null,null,null,null,null,null,null,0,null,null,null,0,null,null,null,null,null,0]
[{"$f":"'Labor Summary (Office)'!A1381","v":0},{"$f":"'Labor Summary (Office)'!B1381","v":0},null,null,null,null,null,null,null,0,null,null,null,0,null,null,null,null,null,0]
[{"$f":"'Labor Summary (Office)'!A1382","v":0},{"$f":"'Labor Summary (Office)'!B1382","v":0},null,null,null,null,null,null,null,0,null,null,null,0,null,null,null,null,null,0]
[{"$f":"'Labor Summary (Office)'!A1383","v":0},{"$f":"'Labor Summary (Office)'!B1383","v":0},null,null,null,null,null,null,null,0,null,null,null,0,null,null,null,null,null,0]
[{"$f":"'Labor Summary (Office)'!A1384","v":0},{"$f":"'Labor Summary (Office)'!B1384","v":0},null,null,null,null,null,null,null,0,null,null,null,0,null,null,null,null,null,0]
[{"$f":"'Labor Summary (Office)'!A1385","v":0},{"$f":"'Labor Summary (Office)'!B1385","v":0},null,null,null,null,null,null,null,0,null,null,null,0,null,null,null,null,null,0]
[{"$f":"'Labor Summary (Office)'!A1386","v":0},{"$f":"'Labor Summary (Office)'!B1386","v":0},null,null,null,null,null,null,null,0,null,null,null,0,null,null,null,null,null,0]
[{"$f":"'Labor Summary (Office)'!A1387","v":0},{"$f":"'Labor Summary (Office)'!B1387","v":0},null,null,null,null,null,null,null,0,null,null,null,0,null,null,null,null,null,0]
[{"$f":"'Labor Summary (Office)'!A1388","v":0},{"$f":"'Labor Summary (Office)'!B1388","v":0},null,null,null,null,null,null,null,0,null,null,null,0,null,null,null,null,null,0]
[{"$f":"'Labor Summary (Office)'!A1389","v":0},{"$f":"'Labor Summary (Office)'!B1389","v":0},null,null,null,null,null,null,null,0,null,null,null,0,null,null,null,null,null,0]
[{"$f":"'Labor Summary (Office)'!A1390","v":0},{"$f":"'Labor Summary (Office)'!B1390","v":0},null,null,null,null,null,null,null,0,null,null,null,0,null,null,null,null,null,0]
[{"$f":"'Labor Summary (Office)'!A1391","v":0},{"$f":"'Labor Summary (Office)'!B1391","v":0},null,null,null,null,null,null,null,0,null,null,null,0,null,null,null,null,null,0]
[{"$f":"'Labor Summary (Office)'!A1392","v":0},{"$f":"'Labor Summary (Office)'!B1392","v":0},null,null,null,null,null,null,null,0,null,null,null,0,null,null,null,null,null,0]
[{"$f":"'Labor Summary (Office)'!A1393","v":0},{"$f":"'Labor Summary (Office)'!B1393","v":0},null,null,null,null,null,null,null,0,null,null,null,0,null,null,null,null,null,0]
[{"$f":"'Labor Summary (Office)'!A1394","v":0},{"$f":"'Labor Summary (Office)'!B1394","v":0},null,null,null,null,null,null,null,0,null,null,null,0,null,null,null,null,null,0]
[{"$f":"'Labor Summary (Office)'!A1395","v":0},{"$f":"'Labor Summary (Office)'!B1395","v":0},null,null,null,null,null,null,null,0,null,null,null,0,null,null,null,null,null,0]
[{"$f":"'Labor Summary (Office)'!A1396","v":0},{"$f":"'Labor Summary (Office)'!B1396","v":0},null,null,null,null,null,null,null,0,null,null,null,0,null,null,null,null,null,0]
[{"$f":"'Labor Summary (Office)'!A1397","v":0},{"$f":"'Labor Summary (Office)'!B1397","v":0},null,null,null,null,null,null,null,0,null,null,null,0,null,null,null,null,null,0]
[{"$f":"'Labor Summary (Office)'!A1398","v":0},{"$f":"'Labor Summary (Office)'!B1398","v":0},null,null,null,null,null,null,null,0,null,null,null,0,null,null,null,null,null,0]
[{"$f":"'Labor Summary (Office)'!A1399","v":0},{"$f":"'Labor Summary (Office)'!B1399","v":0},null,null,null,null,null,null,null,0,null,null,null,0,null,null,null,null,null,0]
[{"$f":"'Labor Summary (Office)'!A1400","v":0},{"$f":"'Labor Summary (Office)'!B1400","v":0},null,null,null,null,null,null,null,0,null,null,null,0,null,null,null,null,null,0]
[{"$f":"'Labor Summary (Office)'!A1401","v":0},{"$f":"'Labor Summary (Office)'!B1401","v":0},null,null,null,null,null,null,null,0,null,null,null,0,null,null,null,null,null,0]
[{"$f":"'Labor Summary (Office)'!A1402","v":0},{"$f":"'Labor Summary (Office)'!B1402","v":0},null,null,null,null,null,null,null,0,null,null,null,0,null,null,null,null,null,0]
[{"$f":"'Labor Summary (Office)'!A1403","v":0},{"$f":"'Labor Summary (Office)'!B1403","v":0},null,null,null,null,null,null,null,0,null,null,null,0,null,null,null,null,null,0]
[{"$f":"'Labor Summary (Office)'!A1404","v":0},{"$f":"'Labor Summary (Office)'!B1404","v":0},null,null,null,null,null,null,null,0,null,null,null,0,null,null,null,null,null,0]
[{"$f":"'Labor Summary (Office)'!A1405","v":0},{"$f":"'Labor Summary (Office)'!B1405","v":0},null,null,null,null,null,null,null,0,null,null,null,0,null,null,null,null,null,0]
[{"$f":"'Labor Summary (Office)'!A1406","v":0},{"$f":"'Labor Summary (Office)'!B1406","v":0},{"$f":"IF(A1408=0,\"\",A1408)","v":""},null,null,null,null,null,null,null,null,null,null,null,null,null,null,"Subtotal Line 45",null,{"$f":"ROUND(SUM(T1378:T1407),2)","v":0}]
[{"$f":"'Labor Summary (Office)'!A1407","v":0},{"$f":"'Labor Summary (Office)'!B1407","v":0},null,null,null,null,null,null,null,0,null,null,null,{"$f":"ROUND(M1409*$N$9,2)","v":0},null,null,null,null,null,0]
[{"$f":"'Labor Summary (Office)'!A1408","v":0},{"$f":"'Labor Summary (Office)'!B1408","v":0},null,null,null,null,null,null,null,0,null,null,null,{"$f":"ROUND(M1410*$N$9,2)","v":0},null,null,null,null,null,0]
[{"$f":"'Labor Summary (Office)'!A1409","v":0},{"$f":"'Labor Summary (Office)'!B1409","v":0},null,null,null,null,null,null,null,0,null,null,null,0,null,null,null,null,null,{"$f":"ROUND((G1411+J1411+L1411+N1411+O1411+P1411+Q1411+R1411+S1411),2)","v":0}]
[{"$f":"'Labor Summary (Office)'!A1410","v":0},{"$f":"'Labor Summary (Office)'!B1410","v":0},null,null,null,null,null,null,null,0,null,null,null,0,null,null,null,null,null,0]
[{"$f":"'Labor Summary (Office)'!A1411","v":0},{"$f":"'Labor Summary (Office)'!B1411","v":0},null,null,null,null,null,null,null,0,null,null,null,0,null,null,null,null,null,0]
[{"$f":"'Labor Summary (Office)'!A1412","v":0},{"$f":"'Labor Summary (Office)'!B1412","v":0},null,null,null,null,null,null,null,0,null,null,null,0,null,null,null,null,null,0]
[{"$f":"'Labor Summary (Office)'!A1413","v":0},{"$f":"'Labor Summary (Office)'!B1413","v":0},null,null,null,null,null,null,null,0,null,null,null,0,null,null,null,null,null,0]
[{"$f":"'Labor Summary (Office)'!A1414","v":0},{"$f":"'Labor Summary (Office)'!B1414","v":0},null,null,null,null,null,null,null,0,null,null,null,0,null,null,null,null,null,0]
[{"$f":"'Labor Summary (Office)'!A1415","v":0},{"$f":"'Labor Summary (Office)'!B1415","v":0},null,null,null,null,null,null,null,0,null,null,null,0,null,null,null,null,null,0]
[{"$f":"'Labor Summary (Office)'!A1416","v":0},{"$f":"'Labor Summary (Office)'!B1416","v":0},null,null,null,null,null,null,null,0,null,null,null,0,null,null,null,null,null,0]
[{"$f":"'Labor Summary (Office)'!A1417","v":0},{"$f":"'Labor Summary (Office)'!B1417","v":0},null,null,null,null,null,null,null,0,null,null,null,0,null,null,null,null,null,0]
[{"$f":"'Labor Summary (Office)'!A1418","v":0},{"$f":"'Labor Summary (Office)'!B1418","v":0},null,null,null,null,null,null,null,0,null,null,null,0,null,null,null,null,null,0]
[{"$f":"'Labor Summary (Office)'!A1419","v":0},{"$f":"'Labor Summary (Office)'!B1419","v":0},null,null,null,null,null,null,null,0,null,null,null,0,null,null,null,null,null,0]
[{"$f":"'Labor Summary (Office)'!A1420","v":0},{"$f":"'Labor Summary (Office)'!B1420","v":0},null,null,null,null,null,null,null,0,null,null,null,0,null,null,null,null,null,0]
[{"$f":"'Labor Summary (Office)'!A1421","v":0},{"$f":"'Labor Summary (Office)'!B1421","v":0},null,null,null,null,null,null,null,{"$f":"I1423+H1423","v":0},null,null,null,0,null,null,null,null,null,0]
[{"$f":"'Labor Summary (Office)'!A1422","v":0},{"$f":"'Labor Summary (Office)'!B1422","v":0},null,null,null,null,null,null,null,0,null,null,null,0,null,null,null,null,null,0]
[{"$f":"'Labor Summary (Office)'!A1423","v":0},{"$f":"'Labor Summary (Office)'!B1423","v":0},null,null,null,null,null,null,null,0,null,null,null,0,null,null,null,null,null,0]
[{"$f":"'Labor Summary (Office)'!A1424","v":0},{"$f":"'Labor Summary (Office)'!B1424","v":0},null,null,null,null,null,null,null,0,null,null,null,0,null,null,null,null,null,0]
[{"$f":"'Labor Summary (Office)'!A1425","v":0},{"$f":"'Labor Summary (Office)'!B1425","v":0},null,null,null,null,null,null,null,0,null,null,null,0,null,null,null,null,null,0]
[{"$f":"'Labor Summary (Office)'!A1426","v":0},{"$f":"'Labor Summary (Office)'!B1426","v":0},null,null,null,null,null,null,null,0,null,null,null,0,null,null,null,null,null,0]
[{"$f":"'Labor Summary (Office)'!A1427","v":0},{"$f":"'Labor Summary (Office)'!B1427","v":0},null,null,null,null,null,null,null,0,null,null,null,0,null,null,null,null,null,0]
[{"$f":"'Labor Summary (Office)'!A1428","v":0},{"$f":"'Labor Summary (Office)'!B1428","v":0},null,null,null,null,null,null,null,0,null,null,null,0,null,null,null,null,null,0]
[{"$f":"'Labor Summary (Office)'!A1429","v":0},{"$f":"'Labor Summary (Office)'!B1429","v":0},null,null,null,null,null,null,null,0,null,null,null,0,null,null,null,null,null,0]
[{"$f":"'Labor Summary (Office)'!A1430","v":0},{"$f":"'Labor Summary (Office)'!B1430","v":0},null,null,null,null,null,null,null,0,null,null,null,0,null,null,null,null,null,0]
[{"$f":"'Labor Summary (Office)'!A1431","v":0},{"$f":"'Labor Summary (Office)'!B1431","v":0},null,null,null,null,null,null,null,0,null,null,null,0,null,null,null,null,null,0]
[{"$f":"'Labor Summary (Office)'!A1432","v":0},{"$f":"'Labor Summary (Office)'!B1432","v":0},null,null,null,null,null,null,null,0,null,null,null,0,null,null,null,null,null,0]
[{"$f":"'Labor Summary (Office)'!A1433","v":0},{"$f":"'Labor Summary (Office)'!B1433","v":0},null,null,null,null,null,null,null,0,null,null,null,0,null,null,null,null,null,0]
[{"$f":"'Labor Summary (Office)'!A1434","v":0},{"$f":"'Labor Summary (Office)'!B1434","v":0},null,null,null,null,null,null,null,0,null,null,null,0,null,null,null,null,null,0]
[{"$f":"'Labor Summary (Office)'!A1435","v":0},{"$f":"'Labor Summary (Office)'!B1435","v":0},null,null,null,null,null,null,null,0,null,null,null,0,null,null,null,null,null,0]
[{"$f":"'Labor Summary (Office)'!A1436","v":0},{"$f":"'Labor Summary (Office)'!B1436","v":0},null,null,null,null,null,null,null,0,null,null,null,0,null,null,null,null,null,0]
[{"$f":"'Labor Summary (Office)'!A1437","v":0},{"$f":"'Labor Summary (Office)'!B1437","v":0},{"$f":"IF(A1439=0,\"\",A1439)","v":""},null,null,null,null,null,null,null,null,null,null,null,null,null,null,"Subtotal Line 46",null,{"$f":"ROUND(SUM(T1409:T1438),2)","v":0}]
[{"$f":"'Labor Summary (Office)'!A1438","v":0},{"$f":"'Labor Summary (Office)'!B1438","v":0},null,null,null,null,null,null,null,0,null,null,null,{"$f":"ROUND(M1440*$N$9,2)","v":0},null,null,null,null,null,{"$f":"ROUND((G1440+J1440+L1440+N1440+O1440+P1440+Q1440+R1440+S1440),2)","v":0}]
[{"$f":"'Labor Summary (Office)'!A1439","v":0},{"$f":"'Labor Summary (Office)'!B1439","v":0},null,null,null,null,null,null,null,0,null,null,null,{"$f":"ROUND(M1441*$N$9,2)","v":0},null,null,null,null,null,0]
[{"$f":"'Labor Summary (Office)'!A1440","v":0},{"$f":"'Labor Summary (Office)'!B1440","v":0},null,null,null,null,null,null,null,0,null,null,null,0,null,null,null,null,null,0]
[{"$f":"'Labor Summary (Office)'!A1441","v":0},{"$f":"'Labor Summary (Office)'!B1441","v":0},null,null,null,null,null,null,null,0,null,null,null,0,null,null,null,null,null,0]
[{"$f":"'Labor Summary (Office)'!A1442","v":0},{"$f":"'Labor Summary (Office)'!B1442","v":0},null,null,null,null,null,null,null,0,null,null,null,0,null,null,null,null,null,0]
[{"$f":"'Labor Summary (Office)'!A1443","v":0},{"$f":"'Labor Summary (Office)'!B1443","v":0},null,null,null,null,null,null,null,0,null,null,null,0,null,null,null,null,null,0]
[{"$f":"'Labor Summary (Office)'!A1444","v":0},{"$f":"'Labor Summary (Office)'!B1444","v":0},null,null,null,null,null,null,null,0,null,null,null,0,null,null,null,null,null,0]
[{"$f":"'Labor Summary (Office)'!A1445","v":0},{"$f":"'Labor Summary (Office)'!B1445","v":0},null,null,null,null,null,null,null,0,null,null,null,0,null,null,null,null,null,0]
[{"$f":"'Labor Summary (Office)'!A1446","v":0},{"$f":"'Labor Summary (Office)'!B1446","v":0},null,null,null,null,null,null,null,0,null,null,null,0,null,null,null,null,null,0]
[{"$f":"'Labor Summary (Office)'!A1447","v":0},{"$f":"'Labor Summary (Office)'!B1447","v":0},null,null,null,null,null,null,null,0,null,null,null,0,null,null,null,null,null,0]
[{"$f":"'Labor Summary (Office)'!A1448","v":0},{"$f":"'Labor Summary (Office)'!B1448","v":0},null,null,null,null,null,null,null,0,null,null,null,0,null,null,null,null,null,0]
[{"$f":"'Labor Summary (Office)'!A1449","v":0},{"$f":"'Labor Summary (Office)'!B1449","v":0},null,null,null,null,null,null,null,0,null,null,null,0,null,null,null,null,null,0]
[{"$f":"'Labor Summary (Office)'!A1450","v":0},{"$f":"'Labor Summary (Office)'!B1450","v":0},null,null,null,null,null,null,null,0,null,null,null,0,null,null,null,null,null,0]
[{"$f":"'Labor Summary (Office)'!A1451","v":0},{"$f":"'Labor Summary (Office)'!B1451","v":0},null,null,null,null,null,null,null,0,null,null,null,0,null,null,null,null,null,0]
[{"$f":"'Labor Summary (Office)'!A1452","v":0},{"$f":"'Labor Summary (Office)'!B1452","v":0},null,null,null,null,null,null,null,0,null,null,null,0,null,null,null,null,null,0]
[{"$f":"'Labor Summary (Office)'!A1453","v":0},{"$f":"'Labor Summary (Office)'!B1453","v":0},null,null,null,null,null,null,null,0,null,null,null,0,null,null,null,null,null,0]
[{"$f":"'Labor Summary (Office)'!A1454","v":0},{"$f":"'Labor Summary (Office)'!B1454","v":0},null,null,null,null,null,null,null,0,null,null,null,0,null,null,null,null,null,0]
[{"$f":"'Labor Summary (Office)'!A1455","v":0},{"$f":"'Labor Summary (Office)'!B1455","v":0},null,null,null,null,null,null,null,0,null,null,null,0,null,null,null,null,null,0]
[{"$f":"'Labor Summary (Office)'!A1456","v":0},{"$f":"'Labor Summary (Office)'!B1456","v":0},null,null,null,null,null,null,null,0,null,null,null,0,null,null,null,null,null,0]
[{"$f":"'Labor Summary (Office)'!A1457","v":0},{"$f":"'Labor Summary (Office)'!B1457","v":0},null,null,null,null,null,null,null,0,null,null,null,0,null,null,null,null,null,0]
[{"$f":"'Labor Summary (Office)'!A1458","v":0},{"$f":"'Labor Summary (Office)'!B1458","v":0},null,null,null,null,null,null,null,0,null,null,null,0,null,null,null,null,null,0]
[{"$f":"'Labor Summary (Office)'!A1459","v":0},{"$f":"'Labor Summary (Office)'!B1459","v":0},null,null,null,null,null,null,null,0,null,null,null,0,null,null,null,null,null,0]
[{"$f":"'Labor Summary (Office)'!A1460","v":0},{"$f":"'Labor Summary (Office)'!B1460","v":0},null,null,null,null,null,null,null,0,null,null,null,0,null,null,null,null,null,0]
[{"$f":"'Labor Summary (Office)'!A1461","v":0},{"$f":"'Labor Summary (Office)'!B1461","v":0},null,null,null,null,null,null,null,0,null,null,null,0,null,null,null,null,null,0]
[{"$f":"'Labor Summary (Office)'!A1462","v":0},{"$f":"'Labor Summary (Office)'!B1462","v":0},null,null,null,null,null,null,null,0,null,null,null,0,null,null,null,null,null,0]
[{"$f":"'Labor Summary (Office)'!A1463","v":0},{"$f":"'Labor Summary (Office)'!B1463","v":0},null,null,null,null,null,null,null,0,null,null,null,0,null,null,null,null,null,0]
[{"$f":"'Labor Summary (Office)'!A1464","v":0},{"$f":"'Labor Summary (Office)'!B1464","v":0},null,null,null,null,null,null,null,0,null,null,null,0,null,null,null,null,null,0]
[{"$f":"'Labor Summary (Office)'!A1465","v":0},{"$f":"'Labor Summary (Office)'!B1465","v":0},null,null,null,null,null,null,null,0,null,null,null,0,null,null,null,null,null,0]
[{"$f":"'Labor Summary (Office)'!A1466","v":0},{"$f":"'Labor Summary (Office)'!B1466","v":0},null,null,null,null,null,null,null,0,null,null,null,0,null,null,null,null,null,0]
[{"$f":"'Labor Summary (Office)'!A1467","v":0},{"$f":"'Labor Summary (Office)'!B1467","v":0},null,null,null,null,null,null,null,0,null,null,null,0,null,null,null,null,null,0]
[{"$f":"'Labor Summary (Office)'!A1468","v":0},{"$f":"'Labor Summary (Office)'!B1468","v":0},{"$f":"IF(A1470=0,\"\",A1470)","v":""},null,null,null,null,null,null,null,null,null,null,null,null,null,null,"Subtotal Line 47",null,{"$f":"ROUND(SUM(T1440:T1469),2)","v":0}]
[{"$f":"'Labor Summary (Office)'!A1469","v":0},{"$f":"'Labor Summary (Office)'!B1469","v":0},null,null,null,null,null,null,null,0,null,null,null,{"$f":"ROUND(M1471*$N$9,2)","v":0},null,null,null,null,null,{"$f":"ROUND((G1471+J1471+L1471+N1471+O1471+P1471+Q1471+R1471+S1471),2)","v":0}]
[{"$f":"'Labor Summary (Office)'!A1470","v":0},{"$f":"'Labor Summary (Office)'!B1470","v":0},null,null,null,null,null,null,null,0,null,null,null,{"$f":"ROUND(M1472*$N$9,2)","v":0},null,null,null,null,null,0]
[{"$f":"'Labor Summary (Office)'!A1471","v":0},{"$f":"'Labor Summary (Office)'!B1471","v":0},null,null,null,null,null,null,null,0,null,null,null,0,null,null,null,null,null,0]
[{"$f":"'Labor Summary (Office)'!A1472","v":0},{"$f":"'Labor Summary (Office)'!B1472","v":0},null,null,null,null,null,null,null,0,null,null,null,0,null,null,null,null,null,0]
[{"$f":"'Labor Summary (Office)'!A1473","v":0},{"$f":"'Labor Summary (Office)'!B1473","v":0},null,null,null,null,null,null,null,0,null,null,null,0,null,null,null,null,null,0]
[{"$f":"'Labor Summary (Office)'!A1474","v":0},{"$f":"'Labor Summary (Office)'!B1474","v":0},null,null,null,null,null,null,null,0,null,null,null,0,null,null,null,null,null,0]
[{"$f":"'Labor Summary (Office)'!A1475","v":0},{"$f":"'Labor Summary (Office)'!B1475","v":0},null,null,null,null,null,null,null,0,null,null,null,0,null,null,null,null,null,0]
[{"$f":"'Labor Summary (Office)'!A1476","v":0},{"$f":"'Labor Summary (Office)'!B1476","v":0},null,null,null,null,null,null,null,0,null,null,null,0,null,null,null,null,null,0]
[{"$f":"'Labor Summary (Office)'!A1477","v":0},{"$f":"'Labor Summary (Office)'!B1477","v":0},null,null,null,null,null,null,null,0,null,null,null,0,null,null,null,null,null,0]
[{"$f":"'Labor Summary (Office)'!A1478","v":0},{"$f":"'Labor Summary (Office)'!B1478","v":0},null,null,null,null,null,null,null,0,null,null,null,0,null,null,null,null,null,0]
[{"$f":"'Labor Summary (Office)'!A1479","v":0},{"$f":"'Labor Summary (Office)'!B1479","v":0},null,null,null,null,null,null,null,0,null,null,null,0,null,null,null,null,null,0]
[{"$f":"'Labor Summary (Office)'!A1480","v":0},{"$f":"'Labor Summary (Office)'!B1480","v":0},null,null,null,null,null,null,null,0,null,null,null,0,null,null,null,null,null,0]
[{"$f":"'Labor Summary (Office)'!A1481","v":0},{"$f":"'Labor Summary (Office)'!B1481","v":0},null,null,null,null,null,null,null,0,null,null,null,0,null,null,null,null,null,0]
[{"$f":"'Labor Summary (Office)'!A1482","v":0},{"$f":"'Labor Summary (Office)'!B1482","v":0},null,null,null,null,null,null,null,0,null,null,null,0,null,null,null,null,null,0]
[{"$f":"'Labor Summary (Office)'!A1483","v":0},{"$f":"'Labor Summary (Office)'!B1483","v":0},null,null,null,null,null,null,null,0,null,null,null,0,null,null,null,null,null,0]
[{"$f":"'Labor Summary (Office)'!A1484","v":0},{"$f":"'Labor Summary (Office)'!B1484","v":0},null,null,null,null,null,null,null,0,null,null,null,0,null,null,null,null,null,0]
[{"$f":"'Labor Summary (Office)'!A1485","v":0},{"$f":"'Labor Summary (Office)'!B1485","v":0},null,null,null,null,null,null,null,{"$f":"I1487+H1487","v":0},null,null,null,0,null,null,null,null,null,0]
[{"$f":"'Labor Summary (Office)'!A1486","v":0},{"$f":"'Labor Summary (Office)'!B1486","v":0},null,null,null,null,null,null,null,0,null,null,null,0,null,null,null,null,null,0]
[{"$f":"'Labor Summary (Office)'!A1487","v":0},{"$f":"'Labor Summary (Office)'!B1487","v":0},null,null,null,null,null,null,null,0,null,null,null,0,null,null,null,null,null,0]
[{"$f":"'Labor Summary (Office)'!A1488","v":0},{"$f":"'Labor Summary (Office)'!B1488","v":0},null,null,null,null,null,null,null,0,null,null,null,0,null,null,null,null,null,0]
[{"$f":"'Labor Summary (Office)'!A1489","v":0},{"$f":"'Labor Summary (Office)'!B1489","v":0},null,null,null,null,null,null,null,0,null,null,null,0,null,null,null,null,null,0]
[{"$f":"'Labor Summary (Office)'!A1490","v":0},{"$f":"'Labor Summary (Office)'!B1490","v":0},null,null,null,null,null,null,null,0,null,null,null,0,null,null,null,null,null,0]
[{"$f":"'Labor Summary (Office)'!A1491","v":0},{"$f":"'Labor Summary (Office)'!B1491","v":0},null,null,null,null,null,null,null,0,null,null,null,0,null,null,null,null,null,0]
[{"$f":"'Labor Summary (Office)'!A1492","v":0},{"$f":"'Labor Summary (Office)'!B1492","v":0},null,null,null,null,null,null,null,0,null,null,null,0,null,null,null,null,null,0]
[{"$f":"'Labor Summary (Office)'!A1493","v":0},{"$f":"'Labor Summary (Office)'!B1493","v":0},null,null,null,null,null,null,null,0,null,null,null,0,null,null,null,null,null,0]
[{"$f":"'Labor Summary (Office)'!A1494","v":0},{"$f":"'Labor Summary (Office)'!B1494","v":0},null,null,null,null,null,null,null,0,null,null,null,0,null,null,null,null,null,0]
[{"$f":"'Labor Summary (Office)'!A1495","v":0},{"$f":"'Labor Summary (Office)'!B1495","v":0},null,null,null,null,null,null,null,0,null,null,null,0,null,null,null,null,null,0]
[{"$f":"'Labor Summary (Office)'!A1496","v":0},{"$f":"'Labor Summary (Office)'!B1496","v":0},null,null,null,null,null,null,null,0,null,null,null,0,null,null,null,null,null,0]
[{"$f":"'Labor Summary (Office)'!A1497","v":0},{"$f":"'Labor Summary (Office)'!B1497","v":0},null,null,null,null,null,null,null,0,null,null,null,0,null,null,null,null,null,0]
[{"$f":"'Labor Summary (Office)'!A1498","v":0},{"$f":"'Labor Summary (Office)'!B1498","v":0},null,null,null,null,null,null,null,0,null,null,null,0,null,null,null,null,null,0]
[{"$f":"'Labor Summary (Office)'!A1499","v":0},{"$f":"'Labor Summary (Office)'!B1499","v":0},{"$f":"IF(A1501=0,\"\",A1501)","v":""},null,null,null,null,null,null,null,null,null,null,null,null,null,null,"Subtotal Line 48",null,{"$f":"ROUND(SUM(T1471:T1500),2)","v":0}]
[{"$f":"'Labor Summary (Office)'!A1500","v":0},{"$f":"'Labor Summary (Office)'!B1500","v":0},null,null,null,null,null,null,null,0,null,null,null,{"$f":"ROUND(M1502*$N$9,2)","v":0},null,null,null,null,null,{"$f":"ROUND((G1502+J1502+L1502+N1502+O1502+P1502+Q1502+R1502+S1502),2)","v":0}]
[{"$f":"'Labor Summary (Office)'!A1501","v":0},{"$f":"'Labor Summary (Office)'!B1501","v":0},null,null,null,null,null,null,null,0,null,null,null,{"$f":"ROUND(M1503*$N$9,2)","v":0},null,null,null,null,null,0]
[{"$f":"'Labor Summary (Office)'!A1502","v":0},{"$f":"'Labor Summary (Office)'!B1502","v":0},null,null,null,null,null,null,null,0,null,null,null,0,null,null,null,null,null,0]
[{"$f":"'Labor Summary (Office)'!A1503","v":0},{"$f":"'Labor Summary (Office)'!B1503","v":0},null,null,null,null,null,null,null,0,null,null,null,0,null,null,null,null,null,0]
[{"$f":"'Labor Summary (Office)'!A1504","v":0},{"$f":"'Labor Summary (Office)'!B1504","v":0},null,null,null,null,null,null,null,0,null,null,null,0,null,null,null,null,null,0]
[{"$f":"'Labor Summary (Office)'!A1505","v":0},{"$f":"'Labor Summary (Office)'!B1505","v":0},null,null,null,null,null,null,null,0,null,null,null,0,null,null,null,null,null,0]
[{"$f":"'Labor Summary (Office)'!A1506","v":0},{"$f":"'Labor Summary (Office)'!B1506","v":0},null,null,null,null,null,null,null,0,null,null,null,0,null,null,null,null,null,0]
[{"$f":"'Labor Summary (Office)'!A1507","v":0},{"$f":"'Labor Summary (Office)'!B1507","v":0},null,null,null,null,null,null,null,0,null,null,null,0,null,null,null,null,null,0]
[{"$f":"'Labor Summary (Office)'!A1508","v":0},{"$f":"'Labor Summary (Office)'!B1508","v":0},null,null,null,null,null,null,null,0,null,null,null,0,null,null,null,null,null,0]
[{"$f":"'Labor Summary (Office)'!A1509","v":0},{"$f":"'Labor Summary (Office)'!B1509","v":0},null,null,null,null,null,null,null,0,null,null,null,0,null,null,null,null,null,0]
[{"$f":"'Labor Summary (Office)'!A1510","v":0},{"$f":"'Labor Summary (Office)'!B1510","v":0},null,null,null,null,null,null,null,0,null,null,null,0,null,null,null,null,null,0]
[{"$f":"'Labor Summary (Office)'!A1511","v":0},{"$f":"'Labor Summary (Office)'!B1511","v":0},null,null,null,null,null,null,null,0,null,null,null,0,null,null,null,null,null,0]
[{"$f":"'Labor Summary (Office)'!A1512","v":0},{"$f":"'Labor Summary (Office)'!B1512","v":0},null,null,null,null,null,null,null,0,null,null,null,0,null,null,null,null,null,0]
[{"$f":"'Labor Summary (Office)'!A1513","v":0},{"$f":"'Labor Summary (Office)'!B1513","v":0},null,null,null,null,null,null,null,0,null,null,null,0,null,null,null,null,null,0]
[{"$f":"'Labor Summary (Office)'!A1514","v":0},{"$f":"'Labor Summary (Office)'!B1514","v":0},null,null,null,null,null,null,null,0,null,null,null,0,null,null,null,null,null,0]
[{"$f":"'Labor Summary (Office)'!A1515","v":0},{"$f":"'Labor Summary (Office)'!B1515","v":0},null,null,null,null,null,null,null,0,null,null,null,0,null,null,null,null,null,0]
[{"$f":"'Labor Summary (Office)'!A1516","v":0},{"$f":"'Labor Summary (Office)'!B1516","v":0},null,null,null,null,null,null,null,0,null,null,null,0,null,null,null,null,null,0]
[{"$f":"'Labor Summary (Office)'!A1517","v":0},{"$f":"'Labor Summary (Office)'!B1517","v":0},null,null,null,null,null,null,null,0,null,null,null,0,null,null,null,null,null,0]
[{"$f":"'Labor Summary (Office)'!A1518","v":0},{"$f":"'Labor Summary (Office)'!B1518","v":0},null,null,null,null,null,null,null,0,null,null,null,0,null,null,null,null,null,0]
[{"$f":"'Labor Summary (Office)'!A1519","v":0},{"$f":"'Labor Summary (Office)'!B1519","v":0},null,null,null,null,null,null,null,0,null,null,null,0,null,null,null,null,null,0]
[{"$f":"'Labor Summary (Office)'!A1520","v":0},{"$f":"'Labor Summary (Office)'!B1520","v":0},null,null,null,null,null,null,null,0,null,null,null,0,null,null,null,null,null,0]
[{"$f":"'Labor Summary (Office)'!A1521","v":0},{"$f":"'Labor Summary (Office)'!B1521","v":0},null,null,null,null,null,null,null,0,null,null,null,0,null,null,null,null,null,0]
[{"$f":"'Labor Summary (Office)'!A1522","v":0},{"$f":"'Labor Summary (Office)'!B1522","v":0},null,null,null,null,null,null,null,0,null,null,null,0,null,null,null,null,null,0]
[{"$f":"'Labor Summary (Office)'!A1523","v":0},{"$f":"'Labor Summary (Office)'!B1523","v":0},null,null,null,null,null,null,null,0,null,null,null,0,null,null,null,null,null,0]
[{"$f":"'Labor Summary (Office)'!A1524","v":0},{"$f":"'Labor Summary (Office)'!B1524","v":0},null,null,null,null,null,null,null,0,null,null,null,0,null,null,null,null,null,0]
[{"$f":"'Labor Summary (Office)'!A1525","v":0},{"$f":"'Labor Summary (Office)'!B1525","v":0},null,null,null,null,null,null,null,0,null,null,null,0,null,null,null,null,null,0]
[{"$f":"'Labor Summary (Office)'!A1526","v":0},{"$f":"'Labor Summary (Office)'!B1526","v":0},null,null,null,null,null,null,null,0,null,null,null,0,null,null,null,null,null,0]
[{"$f":"'Labor Summary (Office)'!A1527","v":0},{"$f":"'Labor Summary (Office)'!B1527","v":0},null,null,null,null,null,null,null,0,null,null,null,0,null,null,null,null,null,0]
[{"$f":"'Labor Summary (Office)'!A1528","v":0},{"$f":"'Labor Summary (Office)'!B1528","v":0},null,null,null,null,null,null,null,0,null,null,null,0,null,null,null,null,null,0]
[{"$f":"'Labor Summary (Office)'!A1529","v":0},{"$f":"'Labor Summary (Office)'!B1529","v":0},null,null,null,null,null,null,null,0,null,null,null,0,null,null,null,null,null,0]
[{"$f":"'Labor Summary (Office)'!A1530","v":0},{"$f":"'Labor Summary (Office)'!B1530","v":0},{"$f":"IF(A1532=0,\"\",A1532)","v":""},null,null,null,null,null,null,null,null,null,null,null,null,null,null,"Subtotal Line 49",null,{"$f":"ROUND(SUM(T1502:T1531),2)","v":0}]
[{"$f":"'Labor Summary (Office)'!A1531","v":0},{"$f":"'Labor Summary (Office)'!B1531","v":0},null,null,null,null,null,null,null,0,null,null,null,{"$f":"ROUND(M1533*$N$9,2)","v":0},null,null,null,null,null,{"$f":"ROUND((G1533+J1533+L1533+N1533+O1533+P1533+Q1533+R1533+S1533),2)","v":0}]
[{"$f":"'Labor Summary (Office)'!A1532","v":0},{"$f":"'Labor Summary (Office)'!B1532","v":0},null,null,null,null,null,null,null,0,null,null,null,{"$f":"ROUND(M1534*$N$9,2)","v":0},null,null,null,null,null,0]
[{"$f":"'Labor Summary (Office)'!A1533","v":0},{"$f":"'Labor Summary (Office)'!B1533","v":0},null,null,null,null,null,null,null,0,null,null,null,0,null,null,null,null,null,0]
[{"$f":"'Labor Summary (Office)'!A1534","v":0},{"$f":"'Labor Summary (Office)'!B1534","v":0},null,null,null,null,null,null,null,0,null,null,null,0,null,null,null,null,null,0]
[{"$f":"'Labor Summary (Office)'!A1535","v":0},{"$f":"'Labor Summary (Office)'!B1535","v":0},null,null,null,null,null,null,null,0,null,null,null,0,null,null,null,null,null,0]
[{"$f":"'Labor Summary (Office)'!A1536","v":0},{"$f":"'Labor Summary (Office)'!B1536","v":0},null,null,null,null,null,null,null,0,null,null,null,0,null,null,null,null,null,0]
[{"$f":"'Labor Summary (Office)'!A1537","v":0},{"$f":"'Labor Summary (Office)'!B1537","v":0},null,null,null,null,null,null,null,0,null,null,null,0,null,null,null,null,null,0]
[{"$f":"'Labor Summary (Office)'!A1538","v":0},{"$f":"'Labor Summary (Office)'!B1538","v":0},null,null,null,null,null,null,null,0,null,null,null,0,null,null,null,null,null,0]
[{"$f":"'Labor Summary (Office)'!A1539","v":0},{"$f":"'Labor Summary (Office)'!B1539","v":0},null,null,null,null,null,null,null,0,null,null,null,0,null,null,null,null,null,0]
[{"$f":"'Labor Summary (Office)'!A1540","v":0},{"$f":"'Labor Summary (Office)'!B1540","v":0},null,null,null,null,null,null,null,0,null,null,null,0,null,null,null,null,null,0]
[{"$f":"'Labor Summary (Office)'!A1541","v":0},{"$f":"'Labor Summary (Office)'!B1541","v":0},null,null,null,null,null,null,null,0,null,null,null,0,null,null,null,null,null,0]
[{"$f":"'Labor Summary (Office)'!A1542","v":0},{"$f":"'Labor Summary (Office)'!B1542","v":0},null,null,null,null,null,null,null,0,null,null,null,0,null,null,null,null,null,0]
[{"$f":"'Labor Summary (Office)'!A1543","v":0},{"$f":"'Labor Summary (Office)'!B1543","v":0},null,null,null,null,null,null,null,0,null,null,null,0,null,null,null,null,null,0]
[{"$f":"'Labor Summary (Office)'!A1544","v":0},{"$f":"'Labor Summary (Office)'!B1544","v":0},null,null,null,null,null,null,null,0,null,null,null,0,null,null,null,null,null,0]
[{"$f":"'Labor Summary (Office)'!A1545","v":0},{"$f":"'Labor Summary (Office)'!B1545","v":0},null,null,null,null,null,null,null,0,null,null,null,0,null,null,null,null,null,0]
[{"$f":"'Labor Summary (Office)'!A1546","v":0},{"$f":"'Labor Summary (Office)'!B1546","v":0},null,null,null,null,null,null,null,0,null,null,null,0,null,null,null,null,null,0]
[{"$f":"'Labor Summary (Office)'!A1547","v":0},{"$f":"'Labor Summary (Office)'!B1547","v":0},null,null,null,null,null,null,null,0,null,null,null,0,null,null,null,null,null,0]
[{"$f":"'Labor Summary (Office)'!A1548","v":0},{"$f":"'Labor Summary (Office)'!B1548","v":0},null,null,null,null,null,null,null,0,null,null,null,0,null,null,null,null,null,0]
[{"$f":"'Labor Summary (Office)'!A1549","v":0},{"$f":"'Labor Summary (Office)'!B1549","v":0},null,null,null,null,null,null,null,{"$f":"I1551+H1551","v":0},null,null,null,0,null,null,null,null,null,0]
[{"$f":"'Labor Summary (Office)'!A1550","v":0},{"$f":"'Labor Summary (Office)'!B1550","v":0},null,null,null,null,null,null,null,0,null,null,null,0,null,null,null,null,null,0]
[{"$f":"'Labor Summary (Office)'!A1551","v":0},{"$f":"'Labor Summary (Office)'!B1551","v":0},null,null,null,null,null,null,null,0,null,null,null,0,null,null,null,null,null,0]
[{"$f":"'Labor Summary (Office)'!A1552","v":0},{"$f":"'Labor Summary (Office)'!B1552","v":0},null,null,null,null,null,null,null,0,null,null,null,0,null,null,null,null,null,0]
[{"$f":"'Labor Summary (Office)'!A1553","v":0},{"$f":"'Labor Summary (Office)'!B1553","v":0},null,null,null,null,null,null,null,0,null,null,null,0,null,null,null,null,null,0]
[{"$f":"'Labor Summary (Office)'!A1554","v":0},{"$f":"'Labor Summary (Office)'!B1554","v":0},null,null,null,null,null,null,null,0,null,null,null,0,null,null,null,null,null,0]
[{"$f":"'Labor Summary (Office)'!A1555","v":0},{"$f":"'Labor Summary (Office)'!B1555","v":0},null,null,null,null,null,null,null,0,null,null,null,0,null,null,null,null,null,0]
[{"$f":"'Labor Summary (Office)'!A1556","v":0},{"$f":"'Labor Summary (Office)'!B1556","v":0},null,null,null,null,null,null,null,0,null,null,null,0,null,null,null,null,null,0]
[{"$f":"'Labor Summary (Office)'!A1557","v":0},{"$f":"'Labor Summary (Office)'!B1557","v":0},null,null,null,null,null,null,null,0,null,null,null,0,null,null,null,null,null,0]
[{"$f":"'Labor Summary (Office)'!A1558","v":0},{"$f":"'Labor Summary (Office)'!B1558","v":0},null,null,null,null,null,null,null,0,null,null,null,0,null,null,null,null,null,0]
[{"$f":"'Labor Summary (Office)'!A1559","v":0},{"$f":"'Labor Summary (Office)'!B1559","v":0},null,null,null,null,null,null,null,0,null,null,null,0,null,null,null,null,null,0]
[{"$f":"'Labor Summary (Office)'!A1560","v":0},{"$f":"'Labor Summary (Office)'!B1560","v":0},null,null,null,null,null,null,null,0,null,null,null,0,null,null,null,null,null,0]
[{"$f":"'Labor Summary (Office)'!A1561","v":0},{"$f":"'Labor Summary (Office)'!B1561","v":0},{"$f":"IF(A1563=0,\"\",A1563)","v":""},{"$f":"IF(A1563=0,\"\",A1563)","v":""},null,null,null,null,null,null,null,null,null,null,null,null,null,"Subtotal Line 50",null,{"$f":"ROUND(SUM(T1533:T1562),2)","v":0}]
["Total Travel Expenses",null,"Total",null,null,null,null,null,null,null,null,null,null,null,null,null,null,null,null,{"$f":"SUM(T1532+T1563+T1501+T1470+T1439+T1408+T1377+T1346+T1315+T1284+T1253+T1222+T1191+T1160+T1129+T1098+T1067+T1036+T1005+T974+T943+T912+T881+T850+T819+T788+T757+T726+T695+T664+T633+T602+T571+T540+T509+T478+T447+T416+T385+T354+T323+T292+T261+T230+T199+T168+T137+T106+T75+T44)","v":0}]
[]
[]
[null,null,null,"tout"]